{"text_format":"1","workbook":"xlsx","n_sheets":1,"sheets":["Sommer1"],"not_rendered":{"charts":0,"images":0,"macros":1,"external_links":0,"defined_names":0,"comments":1,"pivot_tables":0},"unopened":[],"bounds":{"document_bytes":16777216,"sheet_cells":100000,"rows_first":2000,"rows_last":500,"rows_between":2000,"halvings":0,"cell_chars":16384,"cell_head_chars":4096},"cells_cut":0,"cells_raw":0,"read":"whole","date_system":"1900"}

{"sheet":"Sommer1","index":0,"n_rows":106,"n_cols":8,"rows_kept":106,"cut":false,"hidden":false,"merged":[]}
["00.01.1900","Spalte1","Spalte 3","Spalte4","Spalte5","Spalte9","Spalte10",{"$f":"TODAY()","v":"2024-11-14"}]
[{"$f":"ROW(A1)","v":1},"Person A","2025-01-11","2025-01-13","2025-01-12",{"$f":"IF(#REF!>0,_xlfn.DAYS(#REF!,H$1),)","v":{"$error":"#REF!"}}]
[2]
[3]
[4]
[5]
[6]
[7]
[8]
[9,null,null,null,null,null,null,{"$f":"TODAY()","v":"2024-11-14"}]
[10,null,null,null,null,null,null,"2024-11-14"]
[11,null,null,null,null,null,null,"2024-11-14"]
[12,null,null,null,null,null,null,"2024-11-14"]
[13,null,null,null,null,null,null,"2024-11-14"]
[14,null,null,null,null,null,null,"2024-11-14"]
[15,null,null,null,null,null,null,"2024-11-14"]
[{"$f":"ROW(A16)","v":16},null,null,null,null,null,null,"2024-11-14"]
[{"$f":"ROW(A17)","v":17},null,null,null,null,null,null,"2024-11-14"]
[18,null,null,null,null,null,null,"2024-11-14"]
[19,null,null,null,null,null,null,"2024-11-14"]
[{"$f":"ROW(A20)","v":20},null,null,null,null,null,null,"2024-11-14"]
[{"$f":"ROW(A21)","v":21},null,null,null,null,null,null,"2024-11-14"]
[{"$f":"ROW(A22)","v":22},null,null,null,null,null,null,"2024-11-14"]
[23,null,null,null,null,null,null,"2024-11-14"]
[{"$f":"ROW(A24)","v":24},null,null,null,null,null,null,"2024-11-14"]
[{"$f":"ROW(A25)","v":25},null,null,null,null,null,null,"2024-11-14"]
[{"$f":"ROW(A26)","v":26},null,null,null,null,null,null,"2024-11-14"]
[27,null,null,null,null,null,null,"2024-11-14"]
[28,null,null,null,null,null,null,"2024-11-14"]
[29,null,null,null,null,null,null,"2024-11-14"]
[30,null,null,null,null,null,null,"2024-11-14"]
[{"$f":"ROW(A31)","v":31},null,null,null,null,null,null,"2024-11-14"]
[{"$f":"ROW(A32)","v":32},null,null,null,null,null,null,"2024-11-14"]
[33,null,null,null,null,null,null,"2024-11-14"]
[34,null,null,null,null,null,null,"2024-11-14"]
[{"$f":"ROW(A35)","v":35},null,null,null,null,null,null,"2024-11-14"]
[{"$f":"ROW(A36)","v":36},null,null,null,null,null,null,"2024-11-14"]
[37,null,null,null,null,null,null,"2024-11-14"]
[38,null,null,null,null,null,null,"2024-11-14"]
[39,null,null,null,null,null,null,"2024-11-14"]
[{"$f":"ROW(A40)","v":40},null,null,null,null,null,null,"2024-11-14"]
[{"$f":"ROW(A41)","v":41},null,null,null,null,null,null,"2024-11-14"]
[{"$f":"ROW(A42)","v":42},null,null,null,null,null,null,"2024-11-14"]
[{"$f":"ROW(A43)","v":43},null,null,null,null,null,null,"2024-11-14"]
[44,null,null,null,null,null,null,"2024-11-14"]
[{"$f":"ROW(A45)","v":45},null,null,null,null,null,null,"2024-11-14"]
[{"$f":"ROW(A46)","v":46},null,null,null,null,null,null,"2024-11-14"]
[{"$f":"ROW(A47)","v":47},null,null,null,null,null,null,"2024-11-14"]
[48,null,null,null,null,null,null,"2024-11-14"]
[49,null,null,null,null,null,null,"2024-11-14"]
[50,null,null,null,null,null,null,"2024-11-14"]
[51,null,null,null,null,null,null,"2024-11-14"]
[52,null,null,null,null,null,null,"2024-11-14"]
[53,null,null,null,null,null,null,"2024-11-14"]
[54,null,null,null,null,null,null,"2024-11-14"]
[55,null,null,null,null,null,null,"2024-11-14"]
[56]
[57,null,null,null,null,null,null,"2024-11-14"]
[{"$f":"ROW(A58)","v":58},null,null,null,null,null,null,"2024-11-14"]
[59,null,null,null,null,null,null,"2024-11-14"]
[60,null,null,null,null,null,null,"2024-11-14"]
[61,null,null,null,null,null,null,"2024-11-14"]
[62,null,null,null,null,null,null,"2024-11-14"]
[63]
[64,null,null,null,null,null,null,"2024-11-14"]
[{"$f":"ROW(A65)","v":65},null,null,null,null,null,null,"2024-11-14"]
[66,null,null,null,null,null,null,"2024-11-14"]
[67,null,null,null,null,null,null,"2024-11-14"]
[68,null,null,null,null,null,null,"2024-11-14"]
[69,null,null,null,null,null,null,"2024-11-14"]
[70,null,null,null,null,null,null,"2024-11-14"]
[71,null,null,null,null,null,null,"2024-11-14"]
[{"$f":"ROW(A72)","v":72},null,null,null,null,null,null,"2024-11-14"]
[{"$f":"ROW(A73)","v":73},null,null,null,null,null,null,{"$f":"TODAY()","v":"2024-11-14"}]
[{"$f":"ROW(A74)","v":74},null,null,null,null,null,null,"2024-11-14"]
[{"$f":"ROW(A75)","v":75},null,null,null,null,null,null,"2024-11-14"]
[76,null,null,null,null,null,null,"2024-11-14"]
[77,null,null,null,null,null,null,"2024-11-14"]
[78,null,null,null,null,null,null,"2024-11-14"]
[79,null,null,null,null,null,null,"2024-11-14"]
[80,null,null,null,null,null,null,"2024-11-14"]
[81,null,null,null,null,null,null,"2024-11-14"]
[82,null,null,null,null,null,null,"2024-11-14"]
[83,null,null,null,null,null,null,"2024-11-14"]
[84,null,null,null,null,null,null,"2024-11-14"]
[85,null,null,null,null,null,null,"2024-11-14"]
[86,null,null,null,null,null,null,"2024-11-14"]
[87,null,null,null,null,null,null,"2024-11-14"]
[88,null,null,null,null,null,null,"2024-11-14"]
[89,null,null,null,null,null,null,"2024-11-14"]
[90,null,null,null,null,null,null,"2024-11-14"]
[91,null,null,null,null,null,null,"2024-11-14"]
[92,null,null,null,null,null,null,"2024-11-14"]
[93,null,null,null,null,null,null,"2024-11-14"]
[94,null,null,null,null,null,null,"2024-11-14"]
[95,null,null,null,null,null,null,"2024-11-14"]
[96,null,null,null,null,null,null,"2024-11-14"]
[97,null,null,null,null,null,null,"2024-11-14"]
[98,null,null,null,null,null,null,"2024-11-14"]
[99,null,null,null,null,null,null,"2024-11-14"]
[100,null,null,null,null,null,null,"2024-11-14"]
[101,null,null,null,null,null,null,"2024-11-14"]
[102,null,null,null,null,null,null,"2024-11-14"]
[103,null,{"$f":"IF(#REF!>0,_xlfn.DAYS(#REF!,H$1),)","v":{"$error":"#REF!"}},{"$f":"IF(#REF!>0,_xlfn.DAYS(#REF!,H$1),)","v":{"$error":"#REF!"}},{"$f":"IF(#REF!>0,_xlfn.DAYS(#REF!,H$1),)","v":{"$error":"#REF!"}},{"$f":"IF(#REF!>0,_xlfn.DAYS(#REF!,H$1),)","v":{"$error":"#REF!"}},null,"2024-11-14"]
[104,null,{"$f":"IF(#REF!>0,_xlfn.DAYS(#REF!,H$1),)","v":{"$error":"#REF!"}},{"$f":"IF(#REF!>0,_xlfn.DAYS(#REF!,H$1),)","v":{"$error":"#REF!"}},{"$f":"IF(#REF!>0,_xlfn.DAYS(#REF!,H$1),)","v":{"$error":"#REF!"}},{"$f":"IF(#REF!>0,_xlfn.DAYS(#REF!,H$1),)","v":{"$error":"#REF!"}},null,"2024-11-14"]
[105,null,{"$f":"IF(#REF!>0,_xlfn.DAYS(#REF!,H$1),)","v":{"$error":"#REF!"}},{"$f":"IF(#REF!>0,_xlfn.DAYS(#REF!,H$1),)","v":{"$error":"#REF!"}},{"$f":"IF(#REF!>0,_xlfn.DAYS(#REF!,H$1),)","v":{"$error":"#REF!"}},{"$f":"IF(#REF!>0,_xlfn.DAYS(#REF!,H$1),)","v":{"$error":"#REF!"}},null,"2024-11-14"]