{"text_format":"1","workbook":"xlsx","n_sheets":24,"sheets":["Rd. 1","Rd. 2","Rd. 3","Rd. 4","Rd. 5","Rd. 6","Rd. 7","Rd. 8","Rd. 9","Rd. 10","Rd. 11","Rd. 12","Siegerliste","Runde1","Runde2","Runde3","Runde4","Runde5","Runde6","Runde7","Runde8","Runde9","Runde10","Namen"],"not_rendered":{"charts":0,"images":1,"macros":1,"external_links":0,"defined_names":9,"comments":0,"pivot_tables":0},"unopened":[],"bounds":{"document_bytes":16777216,"sheet_cells":100000,"rows_first":2000,"rows_last":500,"rows_between":2000,"halvings":0,"cell_chars":16384,"cell_head_chars":4096},"cells_cut":0,"cells_raw":0,"read":"whole","date_system":"1900"}

{"sheet":"Rd. 1","index":0,"n_rows":35,"n_cols":13,"rows_kept":35,"cut":false,"hidden":false,"merged":[[35,4,35,5],[10,4,11,5],[10,11,11,12],[12,4,15,5],[31,4,32,5],[31,11,32,12],[12,11,15,12],[16,4,21,5],[16,11,21,12],[22,4,30,5],[22,11,30,12],[0,3,0,4],[0,10,0,11],[7,4,7,5],[7,11,7,12],[8,4,9,5],[8,11,9,12]]}
[null,null,null,null,null,"Sp. 1",null,null,null,null,null,null,"Sp. 2"]
[null,null,null,"Punkte",501,"Start",null,null,null,null,"Punkte",501,"Start"]
[null,null,null,"Geworfen",{"$f":"SUM(D34)","v":501},"Punkte",null,null,null,null,"Geworfen",{"$f":"SUM(K34)","v":0},"Punkte"]
["RD 1",{"$f":"COUNT(D4)*1","v":1},{"$f":"COUNT(D4)*3","v":3},501,{"$f":"SUM(E2-E3)","v":0},"Rest",null,"RD 1",{"$f":"COUNT(K4)*1","v":0},{"$f":"COUNT(K4)*3","v":0},null,{"$f":"SUM(L2-L3)","v":501},"Rest"]
["RD 2",0,0,null,null,null,null,"RD 2",0,0]
["RD 3",0,0,null,"ø pro Spiel",{"$f":"SUM(E3)/B34","v":501},null,"RD 3",0,0,null,"ø pro Spiel",{"$f":"SUM(L3)/I34","v":{"$error":"#DIV/0!"}}]
["RD 4",0,0,null,"ø pro Pfeil",{"$f":"SUM(E3)/C34","v":167},null,"RD 4",0,0,null,"ø pro Pfeil",{"$f":"SUM(L3)/J34","v":{"$error":"#DIV/0!"}}]
["RD 5",0,0,null,"Average",null,null,"RD 5",0,0,null,"Average"]
["RD 6",0,0,null,{"$f":"SUM(F6)","v":501},null,null,"RD 6",0,0,null,{"$f":"SUM(M6)","v":{"$error":"#DIV/0!"}}]
["RD 7",0,0,null,null,null,null,"RD 7",0,0]
["RD 8",0,0,null,"Nicht Gut",null,null,"RD 8",0,0,null,"Nicht Gut"]
["RD 9",0,0,null,null,null,null,"RD 9",0,0]
["RD 10",0,0,null,"Gut",null,null,"RD 10",0,0,null,"Gut"]
["RD 11",0,0,null,null,null,null,"RD 11",0,0]
["RD 12",0,0,null,null,null,null,"RD 12",0,0]
["RD 13",0,0,null,null,null,null,"RD 13",0,0]
["RD 14",0,0,null,"Sehr  Gut",null,null,"RD 14",0,0,null,"Sehr  Gut"]
["RD 15",0,0,null,null,null,null,"RD 15",0,0]
["RD 16",0,0,null,null,null,null,"RD 16",0,0]
["RD 17",0,0,null,null,null,null,"RD 17",0,0]
["RD 18",0,0,null,null,null,null,"RD 18",0,0]
["RD 19",0,0,null,null,null,null,"RD 19",0,0]
["RD 20",0,0,null,null,null,null,"RD 20",0,0]
["RD 21",0,0,null,null,null,null,"RD 21",0,0]
["RD 22",0,0,null,null,null,null,"RD 22",0,0]
["RD 23",0,0,null,null,null,null,"RD 23",0,0]
["RD 24",0,0,null,null,null,null,"RD 24",0,0]
["RD 25",0,0,null,null,null,null,"RD 25",0,0]
["RD 26",0,0,null,null,null,null,"RD 26",0,0]
["RD 27",0,0,null,null,null,null,"RD 27",0,0]
["RD 28",0,0,null,null,null,null,"RD 28",0,0]
["RD 29",0,0,null,{"$f":"IF(E4=0,\"Sieg\",\"\")","v":"Sieg"},null,null,"RD 29",0,0,null,{"$f":"IF(L4=0,\"Sieg\",\"\")","v":""}]
["RD 30",0,0,null,null,null,null,"RD 30",0,0]
[null,{"$f":"SUM(B4:B33)","v":1},{"$f":"SUM(C4:C33)","v":3},{"$f":"SUM(D4:D33)","v":501},{"$f":"SUM(D4:D33)","v":501},null,null,null,{"$f":"SUM(I4:I33)","v":0},{"$f":"SUM(J4:J33)","v":0},{"$f":"SUM(K4:K33)","v":0},{"$f":"SUM(K4:K33)","v":0}]
[null,null,null,null,{"$f":"IF(E3 > L3, D1, IF(D2 > L3, K1, \"Unentschieden\"))","v":0}]

{"sheet":"Rd. 2","index":1,"n_rows":35,"n_cols":15,"rows_kept":35,"cut":false,"hidden":false,"merged":[[35,4,35,5],[31,4,32,5],[31,11,32,12],[22,4,30,5],[22,11,30,12],[16,4,21,5],[16,11,21,12],[10,4,11,5],[10,11,11,12],[12,4,15,5],[12,11,15,12],[0,3,0,4],[0,10,0,11],[7,4,7,5],[7,11,7,12],[8,4,9,5],[8,11,9,12]]}
[null,null,null,null,null,"Sp. 1",null,null,null,null,null,null,"Sp. 2"]
[null,null,null,"Punkte",501,"Start",null,null,null,null,"Punkte",501,"Start"]
[null,null,null,"Geworfen",{"$f":"SUM(D34)","v":0},"Punkte",null,null,null,null,"Geworfen",{"$f":"SUM(K34)","v":0},"Punkte"]
["RD 1",{"$f":"COUNT(D4)*1","v":1},{"$f":"COUNT(D4)*3","v":3},501,{"$f":"SUM(E2-E3)","v":501},"Rest",null,"RD 1",{"$f":"COUNT(K4)*1","v":0},{"$f":"COUNT(K4)*3","v":0},null,{"$f":"SUM(L2-L3)","v":501},"Rest"]
["RD 2",0,0,null,null,null,null,"RD 2",0,0]
["RD 3",0,0,null,"ø pro Spiel",{"$f":"SUM(E3)/B34","v":0},null,"RD 3",0,0,null,"ø pro Spiel",{"$f":"SUM(L3)/I34","v":{"$error":"#DIV/0!"}},null,"Leeren"]
["RD 4",0,0,null,"ø pro Pfeil",{"$f":"SUM(E3)/C34","v":0},null,"RD 4",0,0,null,"ø pro Pfeil",{"$f":"SUM(L3)/J34","v":{"$error":"#DIV/0!"}}]
["RD 5",0,0,null,"Average",null,null,"RD 5",0,0,null,"Average"]
["RD 6",0,0,null,{"$f":"SUM(F6)","v":0},null,null,"RD 6",0,0,null,{"$f":"SUM(M6)","v":{"$error":"#DIV/0!"}}]
["RD 7",0,0,null,null,null,null,"RD 7",0,0]
["RD 8",0,0,null,"Nicht Gut",null,null,"RD 8",0,0,null,"Nicht Gut"]
["RD 9",0,0,null,null,null,null,"RD 9",0,0]
["RD 10",0,0,null,"Gut",null,null,"RD 10",0,0,null,"Gut"]
["RD 11",0,0,null,null,null,null,"RD 11",0,0]
["RD 12",0,0,null,null,null,null,"RD 12",0,0]
["RD 13",0,0,null,null,null,null,"RD 13",0,0]
["RD 14",0,0,null,"Sehr  Gut",null,null,"RD 14",0,0,null,"Sehr  Gut"]
["RD 15",0,0,null,null,null,null,"RD 15",0,0]
["RD 16",0,0,null,null,null,null,"RD 16",0,0]
["RD 17",0,0,null,null,null,null,"RD 17",0,0]
["RD 18",0,0,null,null,null,null,"RD 18",0,0]
["RD 19",0,0,null,null,null,null,"RD 19",0,0]
["RD 20",0,0,null,null,null,null,"RD 20",0,0]
["RD 21",0,0,null,null,null,null,"RD 21",0,0]
["RD 22",0,0,null,null,null,null,"RD 22",0,0]
["RD 23",0,0,null,null,null,null,"RD 23",0,0]
["RD 24",0,0,null,null,null,null,"RD 24",0,0]
["RD 25",0,0,null,null,null,null,"RD 25",0,0]
["RD 26",0,0,null,null,null,null,"RD 26",0,0]
["RD 27",0,0,null,null,null,null,"RD 27",0,0]
["RD 28",0,0,null,null,null,null,"RD 28",0,0]
["RD 29",0,0,null,{"$f":"IF(E4=0,\"Sieg\",\"\")","v":""},null,null,"RD 29",0,0,null,{"$f":"IF(L4=0,\"Sieg\",\"\")","v":""}]
["RD 30",0,0,null,null,null,null,"RD 30",0,0]
[null,{"$f":"SUM(B4:B33)","v":1},{"$f":"SUM(C4:C33)","v":3},{"$f":"IF(COUNT(Runde1!B21:D21)=0,\"\",SUM(Runde1!B21:D21))","v":""},{"$f":"SUM(D4:D33)","v":501},null,null,null,{"$f":"SUM(I4:I33)","v":0},{"$f":"SUM(J4:J33)","v":0},{"$f":"IF(COUNT(Runde1!I21:K21)=0,\"\",SUM(Runde1!I21:K21))","v":0},{"$f":"SUM(K4:K32)","v":0}]
[null,null,null,null,{"$f":"IF(E3 > L3, D1, IF(D2 > L3, K1, \"Unentschieden\"))","v":0}]

{"sheet":"Rd. 3","index":2,"n_rows":35,"n_cols":15,"rows_kept":35,"cut":false,"hidden":false,"merged":[[31,4,32,5],[31,11,32,12],[16,4,21,5],[16,11,21,12],[10,4,11,5],[10,11,11,12],[12,4,15,5],[12,11,15,12],[22,4,30,5],[22,11,30,12],[0,3,0,4],[0,10,0,11],[7,4,7,5],[7,11,7,12],[8,4,9,5],[8,11,9,12]]}
[null,null,null,null,null,"Sp. 1",null,null,null,null,null,null,"Sp. 2"]
[null,null,null,"Punkte",501,"Start",null,null,null,null,"Punkte",501,"Start"]
[null,null,null,"Geworfen",{"$f":"SUM(D34)","v":0},"Punkte",null,null,null,null,"Geworfen",{"$f":"SUM(K34)","v":0},"Punkte"]
["RD 1",{"$f":"COUNT(D4)*1","v":0},{"$f":"COUNT(D4)*3","v":0},null,{"$f":"SUM(E2-E3)","v":501},"Rest",null,"RD 1",{"$f":"COUNT(K4)*1","v":0},{"$f":"COUNT(K4)*3","v":0},null,{"$f":"SUM(L2-L3)","v":501},"Rest"]
["RD 2",0,0,null,null,null,null,"RD 2",0,0]
["RD 3",0,0,null,"ø pro Spiel",{"$f":"SUM(E3)/B34","v":{"$error":"#DIV/0!"}},null,"RD 3",0,0,null,"ø pro Spiel",{"$f":"SUM(L3)/I34","v":{"$error":"#DIV/0!"}},null,"Leeren"]
["RD 4",0,0,null,"ø pro Pfeil",{"$f":"SUM(E3)/C34","v":{"$error":"#DIV/0!"}},null,"RD 4",0,0,null,"ø pro Pfeil",{"$f":"SUM(L3)/J34","v":{"$error":"#DIV/0!"}}]
["RD 5",0,0,null,"Average",null,null,"RD 5",0,0,null,"Average"]
["RD 6",0,0,null,{"$f":"SUM(F6)","v":{"$error":"#DIV/0!"}},null,null,"RD 6",0,0,null,{"$f":"SUM(M6)","v":{"$error":"#DIV/0!"}}]
["RD 7",0,0,null,null,null,null,"RD 7",0,0]
["RD 8",0,0,null,"Nicht Gut",null,null,"RD 8",0,0,null,"Nicht Gut"]
["RD 9",0,0,null,null,null,null,"RD 9",0,0]
["RD 10",0,0,null,"Gut",null,null,"RD 10",0,0,null,"Gut"]
["RD 11",0,0,null,null,null,null,"RD 11",0,0]
["RD 12",0,0,null,null,null,null,"RD 12",0,0]
["RD 13",0,0,null,null,null,null,"RD 13",0,0]
["RD 14",0,0,null,"Sehr  Gut",null,null,"RD 14",0,0,null,"Sehr  Gut"]
["RD 15",0,0,null,null,null,null,"RD 15",0,0]
["RD 16",0,0,null,null,null,null,"RD 16",0,0]
["RD 17",0,0,null,null,null,null,"RD 17",0,0]
["RD 18",0,0,null,null,null,null,"RD 18",0,0]
["RD 19",0,0,null,null,null,null,"RD 19",0,0]
["RD 20",0,0,null,null,null,null,"RD 20",0,0]
["RD 21",0,0,null,null,null,null,"RD 21",0,0]
["RD 22",0,0,null,null,null,null,"RD 22",0,0]
["RD 23",0,0,null,null,null,null,"RD 23",0,0]
["RD 24",0,0,null,null,null,null,"RD 24",0,0]
["RD 25",0,0,null,null,null,null,"RD 25",0,0]
["RD 26",0,0,null,null,null,null,"RD 26",0,0]
["RD 27",0,0,null,null,null,null,"RD 27",0,0]
["RD 28",0,0,null,null,null,null,"RD 28",0,0]
["RD 29",0,0,null,{"$f":"IF(E4=0,\"Sieg\",\"\")","v":""},null,null,"RD 29",0,0,null,{"$f":"IF(L4=0,\"Sieg\",\"\")","v":""}]
["RD 30",0,0,null,null,null,null,"RD 30",0,0]
[null,{"$f":"SUM(B4:B33)","v":0},{"$f":"SUM(C4:C33)","v":0},{"$f":"SUM(D4:D33)","v":0},{"$f":"SUM(D4:D32)","v":0},null,null,null,{"$f":"SUM(I4:I33)","v":0},{"$f":"SUM(J4:J33)","v":0},{"$f":"SUM(K4:K33)","v":0},{"$f":"SUM(K4:K32)","v":0}]
[null,null,null,null,{"$f":"IF(E3 > L3, D1, IF(D2 > L3, K1, \"Unentschieden\"))","v":0}]

{"sheet":"Rd. 4","index":3,"n_rows":35,"n_cols":15,"rows_kept":35,"cut":false,"hidden":false,"merged":[[31,4,32,5],[31,11,32,12],[16,4,21,5],[16,11,21,12],[10,4,11,5],[10,11,11,12],[12,4,15,5],[12,11,15,12],[22,4,30,5],[22,11,30,12],[0,3,0,4],[0,10,0,11],[7,4,7,5],[7,11,7,12],[8,4,9,5],[8,11,9,12]]}
[null,null,null,null,null,"Sp. 1",null,null,null,null,null,null,"Sp. 2"]
[null,null,null,"Punkte",501,"Start",null,null,null,null,"Punkte",501,"Start"]
[null,null,null,"Geworfen",{"$f":"SUM(D34)","v":0},"Punkte",null,null,null,null,"Geworfen",{"$f":"SUM(K34)","v":0},"Punkte"]
["RD 1",{"$f":"COUNT(D4)*1","v":0},{"$f":"COUNT(D4)*3","v":0},null,{"$f":"SUM(E2-E3)","v":501},"Rest",null,"RD 1",{"$f":"COUNT(K4)*1","v":0},{"$f":"COUNT(K4)*3","v":0},null,{"$f":"SUM(L2-L3)","v":501},"Rest"]
["RD 2",0,0,null,null,null,null,"RD 2",0,0,null,null,null,null,"Leeren"]
["RD 3",0,0,null,"ø pro Spiel",{"$f":"SUM(E3)/B34","v":{"$error":"#DIV/0!"}},null,"RD 3",0,0,null,"ø pro Spiel",{"$f":"SUM(L3)/I34","v":{"$error":"#DIV/0!"}}]
["RD 4",0,0,null,"ø pro Pfeil",{"$f":"SUM(E3)/C34","v":{"$error":"#DIV/0!"}},null,"RD 4",0,0,null,"ø pro Pfeil",{"$f":"SUM(L3)/J34","v":{"$error":"#DIV/0!"}}]
["RD 5",0,0,null,"Average",null,null,"RD 5",0,0,null,"Average"]
["RD 6",0,0,null,{"$f":"SUM(F6)","v":{"$error":"#DIV/0!"}},null,null,"RD 6",0,0,null,{"$f":"SUM(M6)","v":{"$error":"#DIV/0!"}}]
["RD 7",0,0,null,null,null,null,"RD 7",0,0]
["RD 8",0,0,null,"Nicht Gut",null,null,"RD 8",0,0,null,"Nicht Gut"]
["RD 9",0,0,null,null,null,null,"RD 9",0,0]
["RD 10",0,0,null,"Gut",null,null,"RD 10",0,0,null,"Gut"]
["RD 11",0,0,null,null,null,null,"RD 11",0,0]
["RD 12",0,0,null,null,null,null,"RD 12",0,0]
["RD 13",0,0,null,null,null,null,"RD 13",0,0]
["RD 14",0,0,null,"Sehr  Gut",null,null,"RD 14",0,0,null,"Sehr  Gut"]
["RD 15",0,0,null,null,null,null,"RD 15",0,0]
["RD 16",0,0,null,null,null,null,"RD 16",0,0]
["RD 17",0,0,null,null,null,null,"RD 17",0,0]
["RD 18",0,0,null,null,null,null,"RD 18",0,0]
["RD 19",0,0,null,null,null,null,"RD 19",0,0]
["RD 20",0,0,null,null,null,null,"RD 20",0,0]
["RD 21",0,0,null,null,null,null,"RD 21",0,0]
["RD 22",0,0,null,null,null,null,"RD 22",0,0]
["RD 23",0,0,null,null,null,null,"RD 23",0,0]
["RD 24",0,0,null,null,null,null,"RD 24",0,0]
["RD 25",0,0,null,null,null,null,"RD 25",0,0]
["RD 26",0,0,null,null,null,null,"RD 26",0,0]
["RD 27",0,0,null,null,null,null,"RD 27",0,0]
["RD 28",0,0,null,null,null,null,"RD 28",0,0]
["RD 29",0,0,null,{"$f":"IF(E4=0,\"Sieg\",\"\")","v":""},null,null,"RD 29",0,0,null,{"$f":"IF(L4=0,\"Sieg\",\"\")","v":""}]
["RD 30",0,0,null,null,null,null,"RD 30",0,0]
[null,{"$f":"SUM(B4:B33)","v":0},{"$f":"SUM(C4:C33)","v":0},{"$f":"SUM(D5:D33)","v":0},{"$f":"SUM(D4:D32)","v":0},null,null,null,{"$f":"SUM(I4:I33)","v":0},{"$f":"SUM(J4:J33)","v":0},{"$f":"SUM(K4:K33)","v":0},{"$f":"SUM(K4:K32)","v":0}]
[null,null,null,null,{"$f":"IF(E3 > L3, D1, IF(D2 > L3, K1, \"Unentschieden\"))","v":0}]

{"sheet":"Rd. 5","index":4,"n_rows":35,"n_cols":15,"rows_kept":35,"cut":false,"hidden":false,"merged":[[31,4,32,5],[31,11,32,12],[16,4,21,5],[16,11,21,12],[10,4,11,5],[10,11,11,12],[12,4,15,5],[12,11,15,12],[22,4,30,5],[22,11,30,12],[0,3,0,4],[0,10,0,11],[7,4,7,5],[7,11,7,12],[8,4,9,5],[8,11,9,12]]}
[null,null,null,null,null,"Sp. 1",null,null,null,null,null,null,"Sp. 2"]
[null,null,null,"Punkte",501,"Start",null,null,null,null,"Punkte",501,"Start"]
[null,null,null,"Geworfen",{"$f":"SUM(D34)","v":0},"Punkte",null,null,null,null,"Geworfen",{"$f":"SUM(K34)","v":0},"Punkte"]
["RD 1",{"$f":"COUNT(D4)*1","v":0},{"$f":"COUNT(D4)*3","v":0},null,{"$f":"SUM(E2-E3)","v":501},"Rest",null,"RD 1",{"$f":"COUNT(K4)*1","v":0},{"$f":"COUNT(K4)*3","v":0},null,{"$f":"SUM(L2-L3)","v":501},"Rest"]
["RD 2",0,0,null,null,null,null,"RD 2",0,0,null,null,null,null,"Leeren"]
["RD 3",0,0,null,"ø pro Spiel",{"$f":"SUM(E3)/B34","v":{"$error":"#DIV/0!"}},null,"RD 3",0,0,null,"ø pro Spiel",{"$f":"SUM(L3)/I34","v":{"$error":"#DIV/0!"}}]
["RD 4",0,0,null,"ø pro Pfeil",{"$f":"SUM(E3)/C34","v":{"$error":"#DIV/0!"}},null,"RD 4",0,0,null,"ø pro Pfeil",{"$f":"SUM(L3)/J34","v":{"$error":"#DIV/0!"}}]
["RD 5",0,0,null,"Average",null,null,"RD 5",0,0,null,"Average"]
["RD 6",0,0,null,{"$f":"SUM(F6)","v":{"$error":"#DIV/0!"}},null,null,"RD 6",0,0,null,{"$f":"SUM(M6)","v":{"$error":"#DIV/0!"}}]
["RD 7",0,0,null,null,null,null,"RD 7",0,0]
["RD 8",0,0,null,"Nicht Gut",null,null,"RD 8",0,0,null,"Nicht Gut"]
["RD 9",0,0,null,null,null,null,"RD 9",0,0]
["RD 10",0,0,null,"Gut",null,null,"RD 10",0,0,null,"Gut"]
["RD 11",0,0,null,null,null,null,"RD 11",0,0]
["RD 12",0,0,null,null,null,null,"RD 12",0,0]
["RD 13",0,0,null,null,null,null,"RD 13",0,0]
["RD 14",0,0,null,"Sehr  Gut",null,null,"RD 14",0,0,null,"Sehr  Gut"]
["RD 15",0,0,null,null,null,null,"RD 15",0,0]
["RD 16",0,0,null,null,null,null,"RD 16",0,0]
["RD 17",0,0,null,null,null,null,"RD 17",0,0]
["RD 18",0,0,null,null,null,null,"RD 18",0,0]
["RD 19",0,0,null,null,null,null,"RD 19",0,0]
["RD 20",0,0,null,null,null,null,"RD 20",0,0]
["RD 21",0,0,null,null,null,null,"RD 21",0,0]
["RD 22",0,0,null,null,null,null,"RD 22",0,0]
["RD 23",0,0,null,null,null,null,"RD 23",0,0]
["RD 24",0,0,null,null,null,null,"RD 24",0,0]
["RD 25",0,0,null,null,null,null,"RD 25",0,0]
["RD 26",0,0,null,null,null,null,"RD 26",0,0]
["RD 27",0,0,null,null,null,null,"RD 27",0,0]
["RD 28",0,0,null,null,null,null,"RD 28",0,0]
["RD 29",0,0,null,{"$f":"IF(E4=0,\"Sieg\",\"\")","v":""},null,null,"RD 29",0,0,null,{"$f":"IF(L4=0,\"Sieg\",\"\")","v":""}]
["RD 30",0,0,null,null,null,null,"RD 30",0,0]
[null,{"$f":"SUM(B4:B33)","v":0},{"$f":"SUM(C4:C33)","v":0},{"$f":"SUM(D4:D33)","v":0},{"$f":"SUM(D4:D32)","v":0},null,null,null,{"$f":"SUM(I4:I33)","v":0},{"$f":"SUM(J4:J33)","v":0},{"$f":"SUM(K4:K33)","v":0},{"$f":"SUM(K4:K32)","v":0}]
[null,null,null,null,{"$f":"IF(E3 > L3, D1, IF(D2 > L3, K1, \"Unentschieden\"))","v":0}]

{"sheet":"Rd. 6","index":5,"n_rows":35,"n_cols":15,"rows_kept":35,"cut":false,"hidden":false,"merged":[[31,4,32,5],[31,11,32,12],[16,4,21,5],[16,11,21,12],[10,4,11,5],[10,11,11,12],[12,4,15,5],[12,11,15,12],[22,4,30,5],[22,11,30,12],[0,3,0,4],[0,10,0,11],[7,4,7,5],[7,11,7,12],[8,4,9,5],[8,11,9,12]]}
[null,null,null,null,null,"Sp. 1",null,null,null,null,null,null,"Sp. 2"]
[null,null,null,"Punkte",501,"Start",null,null,null,null,"Punkte",501,"Start"]
[null,null,null,"Geworfen",{"$f":"SUM(D34)","v":0},"Punkte",null,null,null,null,"Geworfen",{"$f":"SUM(K34)","v":0},"Punkte"]
["RD 1",{"$f":"COUNT(D4)*1","v":0},{"$f":"COUNT(D4)*3","v":0},null,{"$f":"SUM(E2-E3)","v":501},"Rest",null,"RD 1",{"$f":"COUNT(K4)*1","v":0},{"$f":"COUNT(K4)*3","v":0},null,{"$f":"SUM(L2-L3)","v":501},"Rest"]
["RD 2",0,0,null,null,null,null,"RD 2",0,0,null,null,null,null,"Leeren"]
["RD 3",0,0,null,"ø pro Spiel",{"$f":"SUM(E3)/B34","v":{"$error":"#DIV/0!"}},null,"RD 3",0,0,null,"ø pro Spiel",{"$f":"SUM(L3)/I34","v":{"$error":"#DIV/0!"}}]
["RD 4",0,0,null,"ø pro Pfeil",{"$f":"SUM(E3)/C34","v":{"$error":"#DIV/0!"}},null,"RD 4",0,0,null,"ø pro Pfeil",{"$f":"SUM(L3)/J34","v":{"$error":"#DIV/0!"}}]
["RD 5",0,0,null,"Average",null,null,"RD 5",0,0,null,"Average"]
["RD 6",0,0,null,{"$f":"SUM(F6)","v":{"$error":"#DIV/0!"}},null,null,"RD 6",0,0,null,{"$f":"SUM(M6)","v":{"$error":"#DIV/0!"}}]
["RD 7",0,0,null,null,null,null,"RD 7",0,0]
["RD 8",0,0,null,"Nicht Gut",null,null,"RD 8",0,0,null,"Nicht Gut"]
["RD 9",0,0,null,null,null,null,"RD 9",0,0]
["RD 10",0,0,null,"Gut",null,null,"RD 10",0,0,null,"Gut"]
["RD 11",0,0,null,null,null,null,"RD 11",0,0]
["RD 12",0,0,null,null,null,null,"RD 12",0,0]
["RD 13",0,0,null,null,null,null,"RD 13",0,0]
["RD 14",0,0,null,"Sehr  Gut",null,null,"RD 14",0,0,null,"Sehr  Gut"]
["RD 15",0,0,null,null,null,null,"RD 15",0,0]
["RD 16",0,0,null,null,null,null,"RD 16",0,0]
["RD 17",0,0,null,null,null,null,"RD 17",0,0]
["RD 18",0,0,null,null,null,null,"RD 18",0,0]
["RD 19",0,0,null,null,null,null,"RD 19",0,0]
["RD 20",0,0,null,null,null,null,"RD 20",0,0]
["RD 21",0,0,null,null,null,null,"RD 21",0,0]
["RD 22",0,0,null,null,null,null,"RD 22",0,0]
["RD 23",0,0,null,null,null,null,"RD 23",0,0]
["RD 24",0,0,null,null,null,null,"RD 24",0,0]
["RD 25",0,0,null,null,null,null,"RD 25",0,0]
["RD 26",0,0,null,null,null,null,"RD 26",0,0]
["RD 27",0,0,null,null,null,null,"RD 27",0,0]
["RD 28",0,0,null,null,null,null,"RD 28",0,0]
["RD 29",0,0,null,{"$f":"IF(E4=0,\"Sieg\",\"\")","v":""},null,null,"RD 29",0,0,null,{"$f":"IF(L4=0,\"Sieg\",\"\")","v":""}]
["RD 30",0,0,null,null,null,null,"RD 30",0,0]
[null,{"$f":"SUM(B4:B33)","v":0},{"$f":"SUM(C4:C33)","v":0},{"$f":"SUM(D4:D33)","v":0},{"$f":"SUM(D4:D32)","v":0},null,null,null,{"$f":"SUM(I4:I33)","v":0},{"$f":"SUM(J4:J33)","v":0},{"$f":"SUM(K4:K33)","v":0},{"$f":"SUM(K4:K32)","v":0}]
[null,null,null,null,{"$f":"IF(E3 > L3, D1, IF(D2 > L3, K1, \"Unentschieden\"))","v":0}]

{"sheet":"Rd. 7","index":6,"n_rows":35,"n_cols":15,"rows_kept":35,"cut":false,"hidden":false,"merged":[[31,4,32,5],[31,11,32,12],[16,4,21,5],[16,11,21,12],[10,4,11,5],[10,11,11,12],[12,4,15,5],[12,11,15,12],[22,4,30,5],[22,11,30,12],[0,3,0,4],[0,10,0,11],[7,4,7,5],[7,11,7,12],[8,4,9,5],[8,11,9,12]]}
[null,null,null,null,null,"Sp. 1",null,null,null,null,null,null,"Sp. 2"]
[null,null,null,"Punkte",501,"Start",null,null,null,null,"Punkte",501,"Start"]
[null,null,null,"Geworfen",{"$f":"SUM(D34)","v":0},"Punkte",null,null,null,null,"Geworfen",{"$f":"SUM(K34)","v":0},"Punkte"]
["RD 1",{"$f":"COUNT(D4)*1","v":0},{"$f":"COUNT(D4)*3","v":0},null,{"$f":"SUM(E2-E3)","v":501},"Rest",null,"RD 1",{"$f":"COUNT(K4)*1","v":0},{"$f":"COUNT(K4)*3","v":0},null,{"$f":"SUM(L2-L3)","v":501},"Rest"]
["RD 2",0,0,null,null,null,null,"RD 2",0,0,null,null,null,null,"Leeren"]
["RD 3",0,0,null,"ø pro Spiel",{"$f":"SUM(E3)/B34","v":{"$error":"#DIV/0!"}},null,"RD 3",0,0,null,"ø pro Spiel",{"$f":"SUM(L3)/I34","v":{"$error":"#DIV/0!"}}]
["RD 4",0,0,null,"ø pro Pfeil",{"$f":"SUM(E3)/C34","v":{"$error":"#DIV/0!"}},null,"RD 4",0,0,null,"ø pro Pfeil",{"$f":"SUM(L3)/J34","v":{"$error":"#DIV/0!"}}]
["RD 5",0,0,null,"Average",null,null,"RD 5",0,0,null,"Average"]
["RD 6",0,0,null,{"$f":"SUM(F6)","v":{"$error":"#DIV/0!"}},null,null,"RD 6",0,0,null,{"$f":"SUM(M6)","v":{"$error":"#DIV/0!"}}]
["RD 7",0,0,null,null,null,null,"RD 7",0,0]
["RD 8",0,0,null,"Nicht Gut",null,null,"RD 8",0,0,null,"Nicht Gut"]
["RD 9",0,0,null,null,null,null,"RD 9",0,0]
["RD 10",0,0,null,"Gut",null,null,"RD 10",0,0,null,"Gut"]
["RD 11",0,0,null,null,null,null,"RD 11",0,0]
["RD 12",0,0,null,null,null,null,"RD 12",0,0]
["RD 13",0,0,null,null,null,null,"RD 13",0,0]
["RD 14",0,0,null,"Sehr  Gut",null,null,"RD 14",0,0,null,"Sehr  Gut"]
["RD 15",0,0,null,null,null,null,"RD 15",0,0]
["RD 16",0,0,null,null,null,null,"RD 16",0,0]
["RD 17",0,0,null,null,null,null,"RD 17",0,0]
["RD 18",0,0,null,null,null,null,"RD 18",0,0]
["RD 19",0,0,null,null,null,null,"RD 19",0,0]
["RD 20",0,0,null,null,null,null,"RD 20",0,0]
["RD 21",0,0,null,null,null,null,"RD 21",0,0]
["RD 22",0,0,null,null,null,null,"RD 22",0,0]
["RD 23",0,0,null,null,null,null,"RD 23",0,0]
["RD 24",0,0,null,null,null,null,"RD 24",0,0]
["RD 25",0,0,null,null,null,null,"RD 25",0,0]
["RD 26",0,0,null,null,null,null,"RD 26",0,0]
["RD 27",0,0,null,null,null,null,"RD 27",0,0]
["RD 28",0,0,null,null,null,null,"RD 28",0,0]
["RD 29",0,0,null,{"$f":"IF(E4=0,\"Sieg\",\"\")","v":""},null,null,"RD 29",0,0,null,{"$f":"IF(L4=0,\"Sieg\",\"\")","v":""}]
["RD 30",0,0,null,null,null,null,"RD 30",0,0]
[null,{"$f":"SUM(B4:B33)","v":0},{"$f":"SUM(C4:C33)","v":0},{"$f":"SUM(D4:D33)","v":0},{"$f":"SUM(D4:D32)","v":0},null,null,null,{"$f":"SUM(I4:I33)","v":0},{"$f":"SUM(J4:J33)","v":0},{"$f":"SUM(K4:K33)","v":0},{"$f":"SUM(K4:K32)","v":0}]
[null,null,null,null,{"$f":"IF(E3 > L3, D1, IF(D2 > L3, K1, \"Unentschieden\"))","v":0}]

{"sheet":"Rd. 8","index":7,"n_rows":35,"n_cols":15,"rows_kept":35,"cut":false,"hidden":false,"merged":[[31,4,32,5],[31,11,32,12],[16,4,21,5],[16,11,21,12],[10,4,11,5],[10,11,11,12],[12,4,15,5],[12,11,15,12],[22,4,30,5],[22,11,30,12],[0,3,0,4],[0,10,0,11],[7,4,7,5],[7,11,7,12],[8,4,9,5],[8,11,9,12]]}
[null,null,null,null,null,"Sp. 1",null,null,null,null,null,null,"Sp. 2"]
[null,null,null,"Punkte",501,"Start",null,null,null,null,"Punkte",501,"Start"]
[null,null,null,"Geworfen",{"$f":"SUM(D34)","v":0},"Punkte",null,null,null,null,"Geworfen",{"$f":"SUM(K34)","v":0},"Punkte"]
["RD 1",{"$f":"COUNT(D4)*1","v":0},{"$f":"COUNT(D4)*3","v":0},null,{"$f":"SUM(E2-E3)","v":501},"Rest",null,"RD 1",{"$f":"COUNT(K4)*1","v":0},{"$f":"COUNT(K4)*3","v":0},null,{"$f":"SUM(L2-L3)","v":501},"Rest"]
["RD 2",0,0,null,null,null,null,"RD 2",0,0,null,null,null,null,"Leeren"]
["RD 3",0,0,null,"ø pro Spiel",{"$f":"SUM(E3)/B34","v":{"$error":"#DIV/0!"}},null,"RD 3",0,0,null,"ø pro Spiel",{"$f":"SUM(L3)/I34","v":{"$error":"#DIV/0!"}}]
["RD 4",0,0,null,"ø pro Pfeil",{"$f":"SUM(E3)/C34","v":{"$error":"#DIV/0!"}},null,"RD 4",0,0,null,"ø pro Pfeil",{"$f":"SUM(L3)/J34","v":{"$error":"#DIV/0!"}}]
["RD 5",0,0,null,"Average",null,null,"RD 5",0,0,null,"Average"]
["RD 6",0,0,null,{"$f":"SUM(F6)","v":{"$error":"#DIV/0!"}},null,null,"RD 6",0,0,null,{"$f":"SUM(M6)","v":{"$error":"#DIV/0!"}}]
["RD 7",0,0,null,null,null,null,"RD 7",0,0]
["RD 8",0,0,null,"Nicht Gut",null,null,"RD 8",0,0,null,"Nicht Gut"]
["RD 9",0,0,null,null,null,null,"RD 9",0,0]
["RD 10",0,0,null,"Gut",null,null,"RD 10",0,0,null,"Gut"]
["RD 11",0,0,null,null,null,null,"RD 11",0,0]
["RD 12",0,0,null,null,null,null,"RD 12",0,0]
["RD 13",0,0,null,null,null,null,"RD 13",0,0]
["RD 14",0,0,null,"Sehr  Gut",null,null,"RD 14",0,0,null,"Sehr  Gut"]
["RD 15",0,0,null,null,null,null,"RD 15",0,0]
["RD 16",0,0,null,null,null,null,"RD 16",0,0]
["RD 17",0,0,null,null,null,null,"RD 17",0,0]
["RD 18",0,0,null,null,null,null,"RD 18",0,0]
["RD 19",0,0,null,null,null,null,"RD 19",0,0]
["RD 20",0,0,null,null,null,null,"RD 20",0,0]
["RD 21",0,0,null,null,null,null,"RD 21",0,0]
["RD 22",0,0,null,null,null,null,"RD 22",0,0]
["RD 23",0,0,null,null,null,null,"RD 23",0,0]
["RD 24",0,0,null,null,null,null,"RD 24",0,0]
["RD 25",0,0,null,null,null,null,"RD 25",0,0]
["RD 26",0,0,null,null,null,null,"RD 26",0,0]
["RD 27",0,0,null,null,null,null,"RD 27",0,0]
["RD 28",0,0,null,null,null,null,"RD 28",0,0]
["RD 29",0,0,null,{"$f":"IF(E4=0,\"Sieg\",\"\")","v":""},null,null,"RD 29",0,0,null,{"$f":"IF(L4=0,\"Sieg\",\"\")","v":""}]
["RD 30",0,0,null,null,null,null,"RD 30",0,0]
[null,{"$f":"SUM(B4:B33)","v":0},{"$f":"SUM(C4:C33)","v":0},{"$f":"SUM(D4:D33)","v":0},{"$f":"SUM(D4:D32)","v":0},null,null,null,{"$f":"SUM(I4:I33)","v":0},{"$f":"SUM(J4:J33)","v":0},{"$f":"SUM(K4:K33)","v":0},{"$f":"SUM(K4:K32)","v":0}]
[null,null,null,null,{"$f":"IF(E3 > L3, D1, IF(D2 > L3, K1, \"Unentschieden\"))","v":0}]

{"sheet":"Rd. 9","index":8,"n_rows":35,"n_cols":15,"rows_kept":35,"cut":false,"hidden":false,"merged":[[31,4,32,5],[31,11,32,12],[16,4,21,5],[16,11,21,12],[10,4,11,5],[10,11,11,12],[12,4,15,5],[12,11,15,12],[22,4,30,5],[22,11,30,12],[0,3,0,4],[0,10,0,11],[7,4,7,5],[7,11,7,12],[8,4,9,5],[8,11,9,12]]}
[null,null,null,null,null,"Sp. 1",null,null,null,null,null,null,"Sp. 2"]
[null,null,null,"Punkte",501,"Start",null,null,null,null,"Punkte",501,"Start"]
[null,null,null,"Geworfen",{"$f":"SUM(D34)","v":0},"Punkte",null,null,null,null,"Geworfen",{"$f":"SUM(K34)","v":0},"Punkte"]
["RD 1",{"$f":"COUNT(D4)*1","v":0},{"$f":"COUNT(D4)*3","v":0},null,{"$f":"SUM(E2-E3)","v":501},"Rest",null,"RD 1",{"$f":"COUNT(K4)*1","v":0},{"$f":"COUNT(K4)*3","v":0},null,{"$f":"SUM(L2-L3)","v":501},"Rest"]
["RD 2",0,0,null,null,null,null,"RD 2",0,0,null,null,null,null,"Leeren"]
["RD 3",0,0,null,"ø pro Spiel",{"$f":"SUM(E3)/B34","v":{"$error":"#DIV/0!"}},null,"RD 3",0,0,null,"ø pro Spiel",{"$f":"SUM(L3)/I34","v":{"$error":"#DIV/0!"}}]
["RD 4",0,0,null,"ø pro Pfeil",{"$f":"SUM(E3)/C34","v":{"$error":"#DIV/0!"}},null,"RD 4",0,0,null,"ø pro Pfeil",{"$f":"SUM(L3)/J34","v":{"$error":"#DIV/0!"}}]
["RD 5",0,0,null,"Average",null,null,"RD 5",0,0,null,"Average"]
["RD 6",0,0,null,{"$f":"SUM(F6)","v":{"$error":"#DIV/0!"}},null,null,"RD 6",0,0,null,{"$f":"SUM(M6)","v":{"$error":"#DIV/0!"}}]
["RD 7",0,0,null,null,null,null,"RD 7",0,0]
["RD 8",0,0,null,"Nicht Gut",null,null,"RD 8",0,0,null,"Nicht Gut"]
["RD 9",0,0,null,null,null,null,"RD 9",0,0]
["RD 10",0,0,null,"Gut",null,null,"RD 10",0,0,null,"Gut"]
["RD 11",0,0,null,null,null,null,"RD 11",0,0]
["RD 12",0,0,null,null,null,null,"RD 12",0,0]
["RD 13",0,0,null,null,null,null,"RD 13",0,0]
["RD 14",0,0,null,"Sehr  Gut",null,null,"RD 14",0,0,null,"Sehr  Gut"]
["RD 15",0,0,null,null,null,null,"RD 15",0,0]
["RD 16",0,0,null,null,null,null,"RD 16",0,0]
["RD 17",0,0,null,null,null,null,"RD 17",0,0]
["RD 18",0,0,null,null,null,null,"RD 18",0,0]
["RD 19",0,0,null,null,null,null,"RD 19",0,0]
["RD 20",0,0,null,null,null,null,"RD 20",0,0]
["RD 21",0,0,null,null,null,null,"RD 21",0,0]
["RD 22",0,0,null,null,null,null,"RD 22",0,0]
["RD 23",0,0,null,null,null,null,"RD 23",0,0]
["RD 24",0,0,null,null,null,null,"RD 24",0,0]
["RD 25",0,0,null,null,null,null,"RD 25",0,0]
["RD 26",0,0,null,null,null,null,"RD 26",0,0]
["RD 27",0,0,null,null,null,null,"RD 27",0,0]
["RD 28",0,0,null,null,null,null,"RD 28",0,0]
["RD 29",0,0,null,{"$f":"IF(E4=0,\"Sieg\",\"\")","v":""},null,null,"RD 29",0,0,null,{"$f":"IF(L4=0,\"Sieg\",\"\")","v":""}]
["RD 30",0,0,null,null,null,null,"RD 30",0,0]
[null,{"$f":"SUM(B4:B33)","v":0},{"$f":"SUM(C4:C33)","v":0},{"$f":"SUM(D4:D33)","v":0},{"$f":"SUM(D4:D32)","v":0},null,null,null,{"$f":"SUM(I4:I33)","v":0},{"$f":"SUM(J4:J33)","v":0},{"$f":"SUM(K4:K33)","v":0},{"$f":"SUM(K4:K32)","v":0}]
[null,null,null,null,{"$f":"IF(E3 > L3, D1, IF(D2 > L3, K1, \"Unentschieden\"))","v":0}]

{"sheet":"Rd. 10","index":9,"n_rows":35,"n_cols":15,"rows_kept":35,"cut":false,"hidden":false,"merged":[[31,4,32,5],[31,11,32,12],[16,4,21,5],[16,11,21,12],[10,4,11,5],[10,11,11,12],[12,4,15,5],[12,11,15,12],[22,4,30,5],[22,11,30,12],[0,3,0,4],[0,10,0,11],[7,4,7,5],[7,11,7,12],[8,4,9,5],[8,11,9,12]]}
[null,null,null,null,null,"Sp. 1",null,null,null,null,null,null,"Sp. 2"]
[null,null,null,"Punkte",501,"Start",null,null,null,null,"Punkte",501,"Start"]
[null,null,null,"Geworfen",{"$f":"SUM(D34)","v":0},"Punkte",null,null,null,null,"Geworfen",{"$f":"SUM(K34)","v":0},"Punkte"]
["RD 1",{"$f":"COUNT(D4)*1","v":0},{"$f":"COUNT(D4)*3","v":0},null,{"$f":"SUM(E2-E3)","v":501},"Rest",null,"RD 1",{"$f":"COUNT(K4)*1","v":0},{"$f":"COUNT(K4)*3","v":0},null,{"$f":"SUM(L2-L3)","v":501},"Rest"]
["RD 2",0,0,null,null,null,null,"RD 2",0,0,null,null,null,null,"Leeren"]
["RD 3",0,0,null,"ø pro Spiel",{"$f":"SUM(E3)/B34","v":{"$error":"#DIV/0!"}},null,"RD 3",0,0,null,"ø pro Spiel",{"$f":"SUM(L3)/I34","v":{"$error":"#DIV/0!"}}]
["RD 4",0,0,null,"ø pro Pfeil",{"$f":"SUM(E3)/C34","v":{"$error":"#DIV/0!"}},null,"RD 4",0,0,null,"ø pro Pfeil",{"$f":"SUM(L3)/J34","v":{"$error":"#DIV/0!"}}]
["RD 5",0,0,null,"Average",null,null,"RD 5",0,0,null,"Average"]
["RD 6",0,0,null,{"$f":"SUM(F6)","v":{"$error":"#DIV/0!"}},null,null,"RD 6",0,0,null,{"$f":"SUM(M6)","v":{"$error":"#DIV/0!"}}]
["RD 7",0,0,null,null,null,null,"RD 7",0,0]
["RD 8",0,0,null,"Nicht Gut",null,null,"RD 8",0,0,null,"Nicht Gut"]
["RD 9",0,0,null,null,null,null,"RD 9",0,0]
["RD 10",0,0,null,"Gut",null,null,"RD 10",0,0,null,"Gut"]
["RD 11",0,0,null,null,null,null,"RD 11",0,0]
["RD 12",0,0,null,null,null,null,"RD 12",0,0]
["RD 13",0,0,null,null,null,null,"RD 13",0,0]
["RD 14",0,0,null,"Sehr  Gut",null,null,"RD 14",0,0,null,"Sehr  Gut"]
["RD 15",0,0,null,null,null,null,"RD 15",0,0]
["RD 16",0,0,null,null,null,null,"RD 16",0,0]
["RD 17",0,0,null,null,null,null,"RD 17",0,0]
["RD 18",0,0,null,null,null,null,"RD 18",0,0]
["RD 19",0,0,null,null,null,null,"RD 19",0,0]
["RD 20",0,0,null,null,null,null,"RD 20",0,0]
["RD 21",0,0,null,null,null,null,"RD 21",0,0]
["RD 22",0,0,null,null,null,null,"RD 22",0,0]
["RD 23",0,0,null,null,null,null,"RD 23",0,0]
["RD 24",0,0,null,null,null,null,"RD 24",0,0]
["RD 25",0,0,null,null,null,null,"RD 25",0,0]
["RD 26",0,0,null,null,null,null,"RD 26",0,0]
["RD 27",0,0,null,null,null,null,"RD 27",0,0]
["RD 28",0,0,null,null,null,null,"RD 28",0,0]
["RD 29",0,0,null,{"$f":"IF(E4=0,\"Sieg\",\"\")","v":""},null,null,"RD 29",0,0,null,{"$f":"IF(L4=0,\"Sieg\",\"\")","v":""}]
["RD 30",0,0,null,null,null,null,"RD 30",0,0]
[null,{"$f":"SUM(B4:B33)","v":0},{"$f":"SUM(C4:C33)","v":0},{"$f":"SUM(D4:D33)","v":0},{"$f":"SUM(D4:D32)","v":0},null,null,null,{"$f":"SUM(I4:I33)","v":0},{"$f":"SUM(J4:J33)","v":0},{"$f":"SUM(K4:K33)","v":0},{"$f":"SUM(K4:K32)","v":0}]
[null,null,null,null,{"$f":"IF(E3 > L3, D1, IF(D2 > L3, K1, \"Unentschieden\"))","v":0}]

{"sheet":"Rd. 11","index":10,"n_rows":25,"n_cols":15,"rows_kept":25,"cut":false,"hidden":false,"merged":[[16,4,20,5],[16,11,20,12],[21,4,22,5],[21,11,22,12],[25,4,25,5],[10,4,10,5],[10,11,10,12],[11,4,12,5],[11,11,12,12],[13,4,15,5],[13,11,15,12],[0,3,0,4],[0,10,0,11],[7,4,7,5],[7,11,7,12],[8,4,9,5],[8,11,9,12]]}
[null,null,null,null,null,"Sp. 1",null,null,null,null,null,null,"Sp. 2"]
[null,null,null,"Punkte",501,"Start",null,null,null,null,"Punkte",501,"Start"]
[null,null,null,"Geworfen",{"$f":"SUM(D24)","v":0},"Punkte",null,null,null,null,"Geworfen",{"$f":"SUM(K24)","v":0},"Punkte",null,"Ergebnisse leeren"]
["RD 1",{"$f":"COUNT(D4)*1","v":0},{"$f":"COUNT(D4)*3","v":0},null,{"$f":"SUM(E2-E3)","v":501},"Rest",null,"RD 1",{"$f":"COUNT(K4)*1","v":0},{"$f":"COUNT(K4)*3","v":0},null,{"$f":"SUM(L2-L3)","v":501},"Rest"]
["RD 2",0,0,null,null,null,null,"RD 2",0,0]
["RD 3",0,0,null,"ø pro Spiel",{"$f":"SUM(E3)/B24","v":{"$error":"#DIV/0!"}},null,"RD 3",0,0,null,"ø pro Spiel",{"$f":"SUM(L3)/I24","v":{"$error":"#DIV/0!"}}]
["RD 4",0,0,null,"ø pro Pfeil",{"$f":"SUM(E3)/C24","v":{"$error":"#DIV/0!"}},null,"RD 4",0,0,null,"ø pro Pfeil",{"$f":"SUM(L3)/J24","v":{"$error":"#DIV/0!"}}]
["RD 5",0,0,null,"Average",null,null,"RD 5",0,0,null,"Average"]
["RD 6",0,0,null,{"$f":"SUM(F6)","v":{"$error":"#DIV/0!"}},null,null,"RD 6",0,0,null,{"$f":"SUM(M6)","v":{"$error":"#DIV/0!"}}]
["RD 7",0,0,null,null,null,null,"RD 7",0,0]
["RD 8",0,0,null,"Nicht Gut",null,null,"RD 8",0,0,null,"Nicht Gut"]
["RD 9",0,0,null,"Gut",null,null,"RD 9",0,0,null,"Gut"]
["RD 10",0,0,null,null,null,null,"RD 10",0,0]
["RD 11",0,0,null,"Sehr  Gut",null,null,"RD 11",0,0,null,"Sehr  Gut"]
["RD 12",0,0,null,null,null,null,"RD 12",0,0]
["RD 13",0,0,null,null,null,null,"RD 13",0,0]
["RD 14",0,0,null,null,null,null,"RD 14",0,0]
["RD 15",0,0,null,null,null,null,"RD 15",0,0]
["RD 16",0,0,null,null,null,null,"RD 16",0,0]
["RD 17",0,0,null,null,null,null,"RD 17",0,0]
["RD 18",0,0,null,null,null,null,"RD 18",0,0]
["RD 19",0,0,null,{"$f":"IF(E4=0,\"Sieg\",\"\")","v":""},null,null,"RD 19",0,0,null,{"$f":"IF(L4=0,\"Sieg\",\"\")","v":""}]
["RD 20",0,0,null,null,null,null,"RD 20",0,0]
[null,{"$f":"SUM(B4:B23)","v":0},{"$f":"SUM(C4:C23)","v":0},null,{"$f":"SUM(D4:D22)","v":0},null,null,null,{"$f":"SUM(I4:I23)","v":0},{"$f":"SUM(J4:J23)","v":0},null,{"$f":"SUM(K4:K22)","v":0}]
[null,null,null,null,{"$f":"IF(E3 > L3, D1, IF(D2 > L3, K1, \"Unentschieden\"))","v":0}]

{"sheet":"Rd. 12","index":11,"n_rows":25,"n_cols":15,"rows_kept":25,"cut":false,"hidden":false,"merged":[[16,4,20,5],[16,11,20,12],[21,4,22,5],[21,11,22,12],[10,4,10,5],[10,11,10,12],[11,4,12,5],[11,11,12,12],[13,4,15,5],[13,11,15,12],[0,3,0,4],[0,10,0,11],[7,4,7,5],[7,11,7,12],[8,4,9,5],[8,11,9,12]]}
[null,null,null,null,null,"Sp. 1",null,null,null,null,null,null,"Sp. 2"]
[null,null,null,"Punkte",501,"Start",null,null,null,null,"Punkte",501,"Start"]
[null,null,null,"Geworfen",{"$f":"SUM(D24)","v":0},"Punkte",null,null,null,null,"Geworfen",{"$f":"SUM(K24)","v":0},"Punkte",null,"Ergebnisse leeren"]
["RD 1",{"$f":"COUNT(D4)*1","v":0},{"$f":"COUNT(D4)*3","v":0},null,{"$f":"SUM(E2-E3)","v":501},"Rest",null,"RD 1",{"$f":"COUNT(K4)*1","v":0},{"$f":"COUNT(K4)*3","v":0},null,{"$f":"SUM(L2-L3)","v":501},"Rest"]
["RD 2",0,0,null,null,null,null,"RD 2",0,0]
["RD 3",0,0,null,"ø pro Spiel",{"$f":"SUM(E3)/B24","v":{"$error":"#DIV/0!"}},null,"RD 3",0,0,null,"ø pro Spiel",{"$f":"SUM(L3)/I24","v":{"$error":"#DIV/0!"}}]
["RD 4",0,0,null,"ø pro Pfeil",{"$f":"SUM(E3)/C24","v":{"$error":"#DIV/0!"}},null,"RD 4",0,0,null,"ø pro Pfeil",{"$f":"SUM(L3)/J24","v":{"$error":"#DIV/0!"}}]
["RD 5",0,0,null,"Average",null,null,"RD 5",0,0,null,"Average"]
["RD 6",0,0,null,{"$f":"SUM(F6)","v":{"$error":"#DIV/0!"}},null,null,"RD 6",0,0,null,{"$f":"SUM(M6)","v":{"$error":"#DIV/0!"}}]
["RD 7",0,0,null,null,null,null,"RD 7",0,0]
["RD 8",0,0,null,"Nicht Gut",null,null,"RD 8",0,0,null,"Nicht Gut"]
["RD 9",0,0,null,"Gut",null,null,"RD 9",0,0,null,"Gut"]
["RD 10",0,0,null,null,null,null,"RD 10",0,0]
["RD 11",0,0,null,"Sehr  Gut",null,null,"RD 11",0,0,null,"Sehr  Gut"]
["RD 12",0,0,null,null,null,null,"RD 12",0,0]
["RD 13",0,0,null,null,null,null,"RD 13",0,0]
["RD 14",0,0,null,null,null,null,"RD 14",0,0]
["RD 15",0,0,null,null,null,null,"RD 15",0,0]
["RD 16",0,0,null,null,null,null,"RD 16",0,0]
["RD 17",0,0,null,null,null,null,"RD 17",0,0]
["RD 18",0,0,null,null,null,null,"RD 18",0,0]
["RD 19",0,0,null,{"$f":"IF(E4=0,\"Sieg\",\"\")","v":""},null,null,"RD 19",0,0,null,{"$f":"IF(L4=0,\"Sieg\",\"\")","v":""}]
["RD 20",0,0,null,null,null,null,"RD 20",0,0]
[null,{"$f":"SUM(B4:B23)","v":0},{"$f":"SUM(C4:C23)","v":0},null,{"$f":"SUM(D4:D22)","v":0},null,null,null,{"$f":"SUM(I4:I23)","v":0},{"$f":"SUM(J4:J23)","v":0},null,{"$f":"SUM(K4:K22)","v":0}]
[null,null,null,null,{"$f":"IF(E3 > L3, D1, IF(D2 > L3, K1, \"Unentschieden\"))","v":0}]

{"sheet":"Siegerliste","index":12,"n_rows":13,"n_cols":2,"rows_kept":13,"cut":false,"hidden":false,"merged":[[12,1,12,2],[6,1,6,2],[7,1,7,2],[8,1,8,2],[9,1,9,2],[10,1,10,2],[11,1,11,2],[5,1,5,2],[0,1,0,2],[1,1,1,2],[2,1,2,2],[3,1,3,2],[4,1,4,2]]}
[null,"Sieger"]
["Rd.1",{"$f":"CONCATENATE('Rd. 1'!E35)","v":"0"}]
["Rd.2",{"$f":"CONCATENATE('Rd. 2'!E35)","v":"0"}]
["Rd.3",{"$f":"CONCATENATE('Rd. 3'!E35)","v":"0"}]
["Rd.4",{"$f":"CONCATENATE('Rd. 4'!E35)","v":"0"}]
["Rd.5",{"$f":"CONCATENATE('Rd. 5'!E35)","v":"0"}]
["Rd.6",{"$f":"CONCATENATE('Rd. 6'!E35)","v":"0"}]
["Rd.7",{"$f":"CONCATENATE('Rd. 7'!E35)","v":"0"}]
["Rd.8",{"$f":"CONCATENATE('Rd. 8'!E35)","v":"0"}]
["Rd.9",{"$f":"CONCATENATE('Rd. 9'!E35)","v":"0"}]
["Rd.10",{"$f":"CONCATENATE('Rd. 10'!E35)","v":"0"}]
["Rd.11",{"$f":"CONCATENATE('Rd. 11'!E25)","v":"0"}]
["Rd.12",{"$f":"CONCATENATE('Rd. 12'!E25)","v":"0"}]

{"sheet":"Runde1","index":13,"n_rows":31,"n_cols":12,"rows_kept":31,"cut":false,"hidden":false,"merged":[[0,0,0,4],[0,6,0,10]]}
[{"$f":"CONCATENATE('Rd. 1'!D1)","v":""},null,null,null,null,501,null,null,null,null,null,501]
["Rd.1",null,null,null,{"$f":"SUM(B2:D2)","v":0},{"$f":"SUM(F1)-E2","v":501},"Rd.1",null,null,null,{"$f":"SUM(H2:J2)","v":0},{"$f":"SUM(L1)-K2","v":501}]
["Rd.2",null,null,null,{"$f":"SUM(B3:D3)","v":0},{"$f":"SUM(F2)-E3","v":501},"Rd.2",null,null,null,{"$f":"SUM(H3:J3)","v":0},{"$f":"SUM(L2)-K3","v":501}]
["Rd.3",null,null,null,{"$f":"SUM(B4:D4)","v":0},{"$f":"SUM(F3)-E4","v":501},"Rd.3",null,null,null,0,{"$f":"SUM(L3)-K4","v":501}]
["Rd.4",null,null,null,{"$f":"SUM(B5:D5)","v":0},{"$f":"SUM(F4)-E5","v":501},"Rd.4",null,null,null,0,{"$f":"SUM(L4)-K5","v":501}]
["Rd.5",null,null,null,{"$f":"SUM(B6:D6)","v":0},501,"Rd.5",null,null,null,0,501]
["Rd.6",null,null,null,0,501,"Rd.6",null,null,null,0,501]
["Rd.7",null,null,null,0,501,"Rd.7",null,null,null,0,501]
["Rd.8",null,null,null,0,501,"Rd.8",null,null,null,0,501]
["Rd.9",null,null,null,0,501,"Rd.9",null,null,null,0,501]
["Rd.10",null,null,null,0,501,"Rd.10",null,null,null,0,501]
["Rd.11",null,null,null,0,501,"Rd.11",null,null,null,0,501]
["Rd.12",null,null,null,0,501,"Rd.12",null,null,null,0,501]
["Rd.13",null,null,null,0,501,"Rd.13",null,null,null,0,501]
["Rd.14",null,null,null,0,501,"Rd.14",null,null,null,0,501]
["Rd.15",null,null,null,0,501,"Rd.15",null,null,null,0,501]
["Rd.16",null,null,null,0,501,"Rd.16",null,null,null,0,501]
["Rd.17",null,null,null,0,501,"Rd.17",null,null,null,0,501]
["Rd.18",null,null,null,0,501,"Rd.18",null,null,null,0,501]
["Rd.19",null,null,null,0,501,"Rd.19",null,null,null,0,501]
["Rd.20",null,null,null,0,501,"Rd.20",null,null,null,0,501]
["Rd.21",null,null,null,0,501,"Rd.21",null,null,null,0,501]
["Rd.22",null,null,null,0,501,"Rd.22",null,null,null,0,501]
["Rd.23",null,null,null,0,501,"Rd.23",null,null,null,0,501]
["Rd.24",null,null,null,0,501,"Rd.24",null,null,null,0,501]
["Rd.25",null,null,null,0,501,"Rd.25",null,null,null,0,501]
["Rd.26",null,null,null,0,501,"Rd.26",null,null,null,0,501]
["Rd.27",null,null,null,0,501,"Rd.27",null,null,null,0,501]
["Rd.28",null,null,null,0,501,"Rd.28",null,null,null,0,501]
["Rd.29",null,null,null,0,501,"Rd.29",null,null,null,0,501]
["Rd.30",null,null,null,0,501,"Rd.30",null,null,null,0,501]

{"sheet":"Runde2","index":14,"n_rows":31,"n_cols":12,"rows_kept":31,"cut":false,"hidden":false,"merged":[[0,0,0,4],[0,6,0,10]]}
[{"$f":"CONCATENATE('Rd. 2'!D1)","v":""},null,null,null,null,501,{"$f":"CONCATENATE('Rd. 2'!K1)","v":""},null,null,null,null,501]
["Rd.1",null,null,null,{"$f":"SUM(B2:D2)","v":0},{"$f":"SUM(F1)-E2","v":501},"Rd.1",null,null,null,{"$f":"SUM(H2:J2)","v":0},{"$f":"SUM(L1)-K2","v":501}]
["Rd.2",null,null,null,{"$f":"SUM(B3:D3)","v":0},{"$f":"SUM(F2)-E3","v":501},"Rd.2",null,null,null,{"$f":"SUM(H3:J3)","v":0},{"$f":"SUM(L2)-K3","v":501}]
["Rd.3",null,null,null,{"$f":"SUM(B4:D4)","v":0},{"$f":"SUM(F3)-E4","v":501},"Rd.3",null,null,null,0,{"$f":"SUM(L3)-K4","v":501}]
["Rd.4",null,null,null,{"$f":"SUM(B5:D5)","v":0},{"$f":"SUM(F4)-E5","v":501},"Rd.4",null,null,null,0,{"$f":"SUM(L4)-K5","v":501}]
["Rd.5",null,null,null,{"$f":"SUM(B6:D6)","v":0},501,"Rd.5",null,null,null,0,501]
["Rd.6",null,null,null,0,501,"Rd.6",null,null,null,0,501]
["Rd.7",null,null,null,0,501,"Rd.7",null,null,null,0,501]
["Rd.8",null,null,null,0,501,"Rd.8",null,null,null,0,501]
["Rd.9",null,null,null,0,501,"Rd.9",null,null,null,0,501]
["Rd.10",null,null,null,0,501,"Rd.10",null,null,null,0,501]
["Rd.11",null,null,null,0,501,"Rd.11",null,null,null,0,501]
["Rd.12",null,null,null,0,501,"Rd.12",null,null,null,0,501]
["Rd.13",null,null,null,0,501,"Rd.13",null,null,null,0,501]
["Rd.14",null,null,null,0,501,"Rd.14",null,null,null,0,501]
["Rd.15",null,null,null,0,501,"Rd.15",null,null,null,0,501]
["Rd.16",null,null,null,0,501,"Rd.16",null,null,null,0,501]
["Rd.17",null,null,null,0,501,"Rd.17",null,null,null,0,501]
["Rd.18",null,null,null,0,501,"Rd.18",null,null,null,0,501]
["Rd.19",null,null,null,0,501,"Rd.19",null,null,null,0,501]
["Rd.20",null,null,null,0,501,"Rd.20",null,null,null,0,501]
["Rd.21",null,null,null,0,501,"Rd.21",null,null,null,0,501]
["Rd.22",null,null,null,0,501,"Rd.22",null,null,null,0,501]
["Rd.23",null,null,null,0,501,"Rd.23",null,null,null,0,501]
["Rd.24",null,null,null,0,501,"Rd.24",null,null,null,0,501]
["Rd.25",null,null,null,0,501,"Rd.25",null,null,null,0,501]
["Rd.26",null,null,null,0,501,"Rd.26",null,null,null,0,501]
["Rd.27",null,null,null,0,501,"Rd.27",null,null,null,0,501]
["Rd.28",null,null,null,0,501,"Rd.28",null,null,null,0,501]
["Rd.29",null,null,null,0,501,"Rd.29",null,null,null,0,501]
["Rd.30",null,null,null,0,501,"Rd.30",null,null,null,0,501]

{"sheet":"Runde3","index":15,"n_rows":31,"n_cols":12,"rows_kept":31,"cut":false,"hidden":false,"merged":[[0,0,0,4],[0,6,0,10]]}
[{"$f":"CONCATENATE('Rd. 3'!D1)","v":""},null,null,null,null,501,{"$f":"CONCATENATE('Rd. 3'!K1)","v":""},null,null,null,null,501]
["Rd.1",null,null,null,{"$f":"SUM(B2:D2)","v":0},{"$f":"SUM(F1)-E2","v":501},"Rd.1",null,null,null,{"$f":"SUM(H2:J2)","v":0},{"$f":"SUM(L1)-K2","v":501}]
["Rd.2",null,null,null,{"$f":"SUM(B3:D3)","v":0},{"$f":"SUM(F2)-E3","v":501},"Rd.2",null,null,null,{"$f":"SUM(H3:J3)","v":0},{"$f":"SUM(L2)-K3","v":501}]
["Rd.3",null,null,null,{"$f":"SUM(B4:D4)","v":0},{"$f":"SUM(F3)-E4","v":501},"Rd.3",null,null,null,0,{"$f":"SUM(L3)-K4","v":501}]
["Rd.4",null,null,null,{"$f":"SUM(B5:D5)","v":0},{"$f":"SUM(F4)-E5","v":501},"Rd.4",null,null,null,0,{"$f":"SUM(L4)-K5","v":501}]
["Rd.5",null,null,null,{"$f":"SUM(B6:D6)","v":0},501,"Rd.5",null,null,null,0,501]
["Rd.6",null,null,null,0,501,"Rd.6",null,null,null,0,501]
["Rd.7",null,null,null,0,501,"Rd.7",null,null,null,0,501]
["Rd.8",null,null,null,0,501,"Rd.8",null,null,null,0,501]
["Rd.9",null,null,null,0,501,"Rd.9",null,null,null,0,501]
["Rd.10",null,null,null,0,501,"Rd.10",null,null,null,0,501]
["Rd.11",null,null,null,0,501,"Rd.11",null,null,null,0,501]
["Rd.12",null,null,null,0,501,"Rd.12",null,null,null,0,501]
["Rd.13",null,null,null,0,501,"Rd.13",null,null,null,0,501]
["Rd.14",null,null,null,0,501,"Rd.14",null,null,null,0,501]
["Rd.15",null,null,null,0,501,"Rd.15",null,null,null,0,501]
["Rd.16",null,null,null,0,501,"Rd.16",null,null,null,0,501]
["Rd.17",null,null,null,0,501,"Rd.17",null,null,null,0,501]
["Rd.18",null,null,null,0,501,"Rd.18",null,null,null,0,501]
["Rd.19",null,null,null,0,501,"Rd.19",null,null,null,0,501]
["Rd.20",null,null,null,0,501,"Rd.20",null,null,null,0,501]
["Rd.21",null,null,null,0,501,"Rd.21",null,null,null,0,501]
["Rd.22",null,null,null,0,501,"Rd.22",null,null,null,0,501]
["Rd.23",null,null,null,0,501,"Rd.23",null,null,null,0,501]
["Rd.24",null,null,null,0,501,"Rd.24",null,null,null,0,501]
["Rd.25",null,null,null,0,501,"Rd.25",null,null,null,0,501]
["Rd.26",null,null,null,0,501,"Rd.26",null,null,null,0,501]
["Rd.27",null,null,null,0,501,"Rd.27",null,null,null,0,501]
["Rd.28",null,null,null,0,501,"Rd.28",null,null,null,0,501]
["Rd.29",null,null,null,0,501,"Rd.29",null,null,null,0,501]
["Rd.30",null,null,null,0,501,"Rd.30",null,null,null,0,501]

{"sheet":"Runde4","index":16,"n_rows":31,"n_cols":12,"rows_kept":31,"cut":false,"hidden":false,"merged":[[0,0,0,4],[0,6,0,10]]}
[{"$f":"CONCATENATE('Rd. 4'!D1)","v":""},null,null,null,null,501,{"$f":"CONCATENATE('Rd. 4'!K1)","v":""},null,null,null,null,501]
["Rd.1",null,null,null,{"$f":"SUM(B2:D2)","v":0},{"$f":"SUM(F1)-E2","v":501},"Rd.1",null,null,null,{"$f":"SUM(H2:J2)","v":0},{"$f":"SUM(L1)-K2","v":501}]
["Rd.2",null,null,null,{"$f":"SUM(B3:D3)","v":0},{"$f":"SUM(F2)-E3","v":501},"Rd.2",null,null,null,{"$f":"SUM(H3:J3)","v":0},{"$f":"SUM(L2)-K3","v":501}]
["Rd.3",null,null,null,{"$f":"SUM(B4:D4)","v":0},{"$f":"SUM(F3)-E4","v":501},"Rd.3",null,null,null,0,{"$f":"SUM(L3)-K4","v":501}]
["Rd.4",null,null,null,{"$f":"SUM(B5:D5)","v":0},{"$f":"SUM(F4)-E5","v":501},"Rd.4",null,null,null,0,{"$f":"SUM(L4)-K5","v":501}]
["Rd.5",null,null,null,{"$f":"SUM(B6:D6)","v":0},501,"Rd.5",null,null,null,0,501]
["Rd.6",null,null,null,0,501,"Rd.6",null,null,null,0,501]
["Rd.7",null,null,null,0,501,"Rd.7",null,null,null,0,501]
["Rd.8",null,null,null,0,501,"Rd.8",null,null,null,0,501]
["Rd.9",null,null,null,0,501,"Rd.9",null,null,null,0,501]
["Rd.10",null,null,null,0,501,"Rd.10",null,null,null,0,501]
["Rd.11",null,null,null,0,501,"Rd.11",null,null,null,0,501]
["Rd.12",null,null,null,0,501,"Rd.12",null,null,null,0,501]
["Rd.13",null,null,null,0,501,"Rd.13",null,null,null,0,501]
["Rd.14",null,null,null,0,501,"Rd.14",null,null,null,0,501]
["Rd.15",null,null,null,0,501,"Rd.15",null,null,null,0,501]
["Rd.16",null,null,null,0,501,"Rd.16",null,null,null,0,501]
["Rd.17",null,null,null,0,501,"Rd.17",null,null,null,0,501]
["Rd.18",null,null,null,0,501,"Rd.18",null,null,null,0,501]
["Rd.19",null,null,null,0,501,"Rd.19",null,null,null,0,501]
["Rd.20",null,null,null,0,501,"Rd.20",null,null,null,0,501]
["Rd.21",null,null,null,0,501,"Rd.21",null,null,null,0,501]
["Rd.22",null,null,null,0,501,"Rd.22",null,null,null,0,501]
["Rd.23",null,null,null,0,501,"Rd.23",null,null,null,0,501]
["Rd.24",null,null,null,0,501,"Rd.24",null,null,null,0,501]
["Rd.25",null,null,null,0,501,"Rd.25",null,null,null,0,501]
["Rd.26",null,null,null,0,501,"Rd.26",null,null,null,0,501]
["Rd.27",null,null,null,0,501,"Rd.27",null,null,null,0,501]
["Rd.28",null,null,null,0,501,"Rd.28",null,null,null,0,501]
["Rd.29",null,null,null,0,501,"Rd.29",null,null,null,0,501]
["Rd.30",null,null,null,0,501,"Rd.30",null,null,null,0,501]

{"sheet":"Runde5","index":17,"n_rows":31,"n_cols":12,"rows_kept":31,"cut":false,"hidden":false,"merged":[[0,0,0,4],[0,6,0,10]]}
[{"$f":"CONCATENATE('Rd. 5'!D1)","v":""},null,null,null,null,501,{"$f":"CONCATENATE('Rd. 5'!K1)","v":""},null,null,null,null,501]
["Rd.1",null,null,null,{"$f":"SUM(B2:D2)","v":0},{"$f":"SUM(F1)-E2","v":501},"Rd.1",null,null,null,{"$f":"SUM(H2:J2)","v":0},{"$f":"SUM(L1)-K2","v":501}]
["Rd.2",null,null,null,{"$f":"SUM(B3:D3)","v":0},{"$f":"SUM(F2)-E3","v":501},"Rd.2",null,null,null,{"$f":"SUM(H3:J3)","v":0},{"$f":"SUM(L2)-K3","v":501}]
["Rd.3",null,null,null,{"$f":"SUM(B4:D4)","v":0},{"$f":"SUM(F3)-E4","v":501},"Rd.3",null,null,null,0,{"$f":"SUM(L3)-K4","v":501}]
["Rd.4",null,null,null,{"$f":"SUM(B5:D5)","v":0},{"$f":"SUM(F4)-E5","v":501},"Rd.4",null,null,null,0,{"$f":"SUM(L4)-K5","v":501}]
["Rd.5",null,null,null,{"$f":"SUM(B6:D6)","v":0},501,"Rd.5",null,null,null,0,501]
["Rd.6",null,null,null,0,501,"Rd.6",null,null,null,0,501]
["Rd.7",null,null,null,0,501,"Rd.7",null,null,null,0,501]
["Rd.8",null,null,null,0,501,"Rd.8",null,null,null,0,501]
["Rd.9",null,null,null,0,501,"Rd.9",null,null,null,0,501]
["Rd.10",null,null,null,0,501,"Rd.10",null,null,null,0,501]
["Rd.11",null,null,null,0,501,"Rd.11",null,null,null,0,501]
["Rd.12",null,null,null,0,501,"Rd.12",null,null,null,0,501]
["Rd.13",null,null,null,0,501,"Rd.13",null,null,null,0,501]
["Rd.14",null,null,null,0,501,"Rd.14",null,null,null,0,501]
["Rd.15",null,null,null,0,501,"Rd.15",null,null,null,0,501]
["Rd.16",null,null,null,0,501,"Rd.16",null,null,null,0,501]
["Rd.17",null,null,null,0,501,"Rd.17",null,null,null,0,501]
["Rd.18",null,null,null,0,501,"Rd.18",null,null,null,0,501]
["Rd.19",null,null,null,0,501,"Rd.19",null,null,null,0,501]
["Rd.20",null,null,null,0,501,"Rd.20",null,null,null,0,501]
["Rd.21",null,null,null,0,501,"Rd.21",null,null,null,0,501]
["Rd.22",null,null,null,0,501,"Rd.22",null,null,null,0,501]
["Rd.23",null,null,null,0,501,"Rd.23",null,null,null,0,501]
["Rd.24",null,null,null,0,501,"Rd.24",null,null,null,0,501]
["Rd.25",null,null,null,0,501,"Rd.25",null,null,null,0,501]
["Rd.26",null,null,null,0,501,"Rd.26",null,null,null,0,501]
["Rd.27",null,null,null,0,501,"Rd.27",null,null,null,0,501]
["Rd.28",null,null,null,0,501,"Rd.28",null,null,null,0,501]
["Rd.29",null,null,null,0,501,"Rd.29",null,null,null,0,501]
["Rd.30",null,null,null,0,501,"Rd.30",null,null,null,0,501]

{"sheet":"Runde6","index":18,"n_rows":31,"n_cols":12,"rows_kept":31,"cut":false,"hidden":false,"merged":[[0,0,0,4],[0,6,0,10]]}
[{"$f":"CONCATENATE('Rd. 6'!D1)","v":""},null,null,null,null,null,{"$f":"CONCATENATE('Rd. 6'!K1)","v":""},null,null,null,null,501]
["Rd.1",null,null,null,{"$f":"SUM(B2:D2)","v":0},{"$f":"SUM(F1)-E2","v":0},"Rd.1",null,null,null,{"$f":"SUM(H2:J2)","v":0},{"$f":"SUM(L1)-K2","v":501}]
["Rd.2",null,null,null,{"$f":"SUM(B3:D3)","v":0},{"$f":"SUM(F2)-E3","v":0},"Rd.2",null,null,null,{"$f":"SUM(H3:J3)","v":0},{"$f":"SUM(L2)-K3","v":501}]
["Rd.3",null,null,null,{"$f":"SUM(B4:D4)","v":0},{"$f":"SUM(F3)-E4","v":0},"Rd.3",null,null,null,0,{"$f":"SUM(L3)-K4","v":501}]
["Rd.4",null,null,null,{"$f":"SUM(B5:D5)","v":0},{"$f":"SUM(F4)-E5","v":0},"Rd.4",null,null,null,0,{"$f":"SUM(L4)-K5","v":501}]
["Rd.5",null,null,null,{"$f":"SUM(B6:D6)","v":0},0,"Rd.5",null,null,null,0,501]
["Rd.6",null,null,null,0,0,"Rd.6",null,null,null,0,501]
["Rd.7",null,null,null,0,0,"Rd.7",null,null,null,0,501]
["Rd.8",null,null,null,0,0,"Rd.8",null,null,null,0,501]
["Rd.9",null,null,null,0,0,"Rd.9",null,null,null,0,501]
["Rd.10",null,null,null,0,0,"Rd.10",null,null,null,0,501]
["Rd.11",null,null,null,0,0,"Rd.11",null,null,null,0,501]
["Rd.12",null,null,null,0,0,"Rd.12",null,null,null,0,501]
["Rd.13",null,null,null,0,0,"Rd.13",null,null,null,0,501]
["Rd.14",null,null,null,0,0,"Rd.14",null,null,null,0,501]
["Rd.15",null,null,null,0,0,"Rd.15",null,null,null,0,501]
["Rd.16",null,null,null,0,0,"Rd.16",null,null,null,0,501]
["Rd.17",null,null,null,0,0,"Rd.17",null,null,null,0,501]
["Rd.18",null,null,null,0,0,"Rd.18",null,null,null,0,501]
["Rd.19",null,null,null,0,0,"Rd.19",null,null,null,0,501]
["Rd.20",null,null,null,0,0,"Rd.20",null,null,null,0,501]
["Rd.21",null,null,null,0,0,"Rd.21",null,null,null,0,501]
["Rd.22",null,null,null,0,0,"Rd.22",null,null,null,0,501]
["Rd.23",null,null,null,0,0,"Rd.23",null,null,null,0,501]
["Rd.24",null,null,null,0,0,"Rd.24",null,null,null,0,501]
["Rd.25",null,null,null,0,0,"Rd.25",null,null,null,0,501]
["Rd.26",null,null,null,0,0,"Rd.26",null,null,null,0,501]
["Rd.27",null,null,null,0,0,"Rd.27",null,null,null,0,501]
["Rd.28",null,null,null,0,0,"Rd.28",null,null,null,0,501]
["Rd.29",null,null,null,0,0,"Rd.29",null,null,null,0,501]
["Rd.30",null,null,null,0,0,"Rd.30",null,null,null,0,501]

{"sheet":"Runde7","index":19,"n_rows":31,"n_cols":12,"rows_kept":31,"cut":false,"hidden":false,"merged":[[0,0,0,4],[0,6,0,10]]}
[{"$f":"CONCATENATE('Rd. 7'!D1)","v":""},null,null,null,null,501,{"$f":"CONCATENATE('Rd. 7'!K1)","v":""},null,null,null,null,501]
["Rd.1",null,null,null,{"$f":"SUM(B2:D2)","v":0},{"$f":"SUM(F1)-E2","v":501},"Rd.1",null,null,null,{"$f":"SUM(H2:J2)","v":0},{"$f":"SUM(L1)-K2","v":501}]
["Rd.2",null,null,null,{"$f":"SUM(B3:D3)","v":0},{"$f":"SUM(F2)-E3","v":501},"Rd.2",null,null,null,{"$f":"SUM(H3:J3)","v":0},{"$f":"SUM(L2)-K3","v":501}]
["Rd.3",null,null,null,{"$f":"SUM(B4:D4)","v":0},{"$f":"SUM(F3)-E4","v":501},"Rd.3",null,null,null,{"$f":"SUM(H4:J4)","v":0},{"$f":"SUM(L3)-K4","v":501}]
["Rd.4",null,null,null,{"$f":"SUM(B5:D5)","v":0},{"$f":"SUM(F4)-E5","v":501},"Rd.4",null,null,null,{"$f":"SUM(H5:J5)","v":0},{"$f":"SUM(L4)-K5","v":501}]
["Rd.5",null,null,null,{"$f":"SUM(B6:D6)","v":0},501,"Rd.5",null,null,null,{"$f":"SUM(H6:J6)","v":0},501]
["Rd.6",null,null,null,0,501,"Rd.6",null,null,null,0,501]
["Rd.7",null,null,null,0,501,"Rd.7",null,null,null,0,501]
["Rd.8",null,null,null,0,501,"Rd.8",null,null,null,0,501]
["Rd.9",null,null,null,0,501,"Rd.9",null,null,null,0,501]
["Rd.10",null,null,null,0,501,"Rd.10",null,null,null,0,501]
["Rd.11",null,null,null,0,501,"Rd.11",null,null,null,0,501]
["Rd.12",null,null,null,0,501,"Rd.12",null,null,null,0,501]
["Rd.13",null,null,null,0,501,"Rd.13",null,null,null,0,501]
["Rd.14",null,null,null,0,501,"Rd.14",null,null,null,0,501]
["Rd.15",null,null,null,0,501,"Rd.15",null,null,null,0,501]
["Rd.16",null,null,null,0,501,"Rd.16",null,null,null,0,501]
["Rd.17",null,null,null,0,501,"Rd.17",null,null,null,0,501]
["Rd.18",null,null,null,0,501,"Rd.18",null,null,null,0,501]
["Rd.19",null,null,null,0,501,"Rd.19",null,null,null,0,501]
["Rd.20",null,null,null,0,501,"Rd.20",null,null,null,0,501]
["Rd.21",null,null,null,0,501,"Rd.21",null,null,null,0,501]
["Rd.22",null,null,null,0,501,"Rd.22",null,null,null,0,501]
["Rd.23",null,null,null,0,501,"Rd.23",null,null,null,0,501]
["Rd.24",null,null,null,0,501,"Rd.24",null,null,null,0,501]
["Rd.25",null,null,null,0,501,"Rd.25",null,null,null,0,501]
["Rd.26",null,null,null,0,501,"Rd.26",null,null,null,0,501]
["Rd.27",null,null,null,0,501,"Rd.27",null,null,null,0,501]
["Rd.28",null,null,null,0,501,"Rd.28",null,null,null,0,501]
["Rd.29",null,null,null,0,501,"Rd.29",null,null,null,0,501]
["Rd.30",null,null,null,0,501,"Rd.30",null,null,null,0,501]

{"sheet":"Runde8","index":20,"n_rows":31,"n_cols":12,"rows_kept":31,"cut":false,"hidden":false,"merged":[[0,0,0,4],[0,6,0,10]]}
[{"$f":"CONCATENATE('Rd. 8'!D1)","v":""},null,null,null,null,501,{"$f":"CONCATENATE('Rd. 8'!K1)","v":""},null,null,null,null,501]
["Rd.1",null,null,null,{"$f":"SUM(B2:D2)","v":0},{"$f":"SUM(F1)-E2","v":501},"Rd.1",null,null,null,{"$f":"SUM(H2:J2)","v":0},{"$f":"SUM(L1)-K2","v":501}]
["Rd.2",null,null,null,{"$f":"SUM(B3:D3)","v":0},{"$f":"SUM(F2)-E3","v":501},"Rd.2",null,null,null,{"$f":"SUM(H3:J3)","v":0},{"$f":"SUM(L2)-K3","v":501}]
["Rd.3",null,null,null,{"$f":"SUM(B4:D4)","v":0},{"$f":"SUM(F3)-E4","v":501},"Rd.3",null,null,null,{"$f":"SUM(H4:J4)","v":0},{"$f":"SUM(L3)-K4","v":501}]
["Rd.4",null,null,null,{"$f":"SUM(B5:D5)","v":0},{"$f":"SUM(F4)-E5","v":501},"Rd.4",null,null,null,{"$f":"SUM(H5:J5)","v":0},{"$f":"SUM(L4)-K5","v":501}]
["Rd.5",null,null,null,{"$f":"SUM(B6:D6)","v":0},501,"Rd.5",null,null,null,{"$f":"SUM(H6:J6)","v":0},501]
["Rd.6",null,null,null,0,501,"Rd.6",null,null,null,0,501]
["Rd.7",null,null,null,0,501,"Rd.7",null,null,null,0,501]
["Rd.8",null,null,null,0,501,"Rd.8",null,null,null,0,501]
["Rd.9",null,null,null,0,501,"Rd.9",null,null,null,0,501]
["Rd.10",null,null,null,0,501,"Rd.10",null,null,null,0,501]
["Rd.11",null,null,null,0,501,"Rd.11",null,null,null,0,501]
["Rd.12",null,null,null,0,501,"Rd.12",null,null,null,0,501]
["Rd.13",null,null,null,0,501,"Rd.13",null,null,null,0,501]
["Rd.14",null,null,null,0,501,"Rd.14",null,null,null,0,501]
["Rd.15",null,null,null,0,501,"Rd.15",null,null,null,0,501]
["Rd.16",null,null,null,0,501,"Rd.16",null,null,null,0,501]
["Rd.17",null,null,null,0,501,"Rd.17",null,null,null,0,501]
["Rd.18",null,null,null,0,501,"Rd.18",null,null,null,0,501]
["Rd.19",null,null,null,0,501,"Rd.19",null,null,null,0,501]
["Rd.20",null,null,null,0,501,"Rd.20",null,null,null,0,501]
["Rd.21",null,null,null,0,501,"Rd.21",null,null,null,0,501]
["Rd.22",null,null,null,0,501,"Rd.22",null,null,null,0,501]
["Rd.23",null,null,null,0,501,"Rd.23",null,null,null,0,501]
["Rd.24",null,null,null,0,501,"Rd.24",null,null,null,0,501]
["Rd.25",null,null,null,0,501,"Rd.25",null,null,null,0,501]
["Rd.26",null,null,null,0,501,"Rd.26",null,null,null,0,501]
["Rd.27",null,null,null,0,501,"Rd.27",null,null,null,0,501]
["Rd.28",null,null,null,0,501,"Rd.28",null,null,null,0,501]
["Rd.29",null,null,null,0,501,"Rd.29",null,null,null,0,501]
["Rd.30",null,null,null,0,501,"Rd.30",null,null,null,0,501]

{"sheet":"Runde9","index":21,"n_rows":31,"n_cols":12,"rows_kept":31,"cut":false,"hidden":false,"merged":[[0,0,0,4],[0,6,0,10]]}
[{"$f":"CONCATENATE('Rd. 9'!D1)","v":""},null,null,null,null,501,{"$f":"CONCATENATE('Rd. 9'!K1)","v":""},null,null,null,null,501]
["Rd.1",null,null,null,{"$f":"SUM(B2:D2)","v":0},{"$f":"SUM(F1)-E2","v":501},"Rd.1",null,null,null,{"$f":"SUM(H2:J2)","v":0},{"$f":"SUM(L1)-K2","v":501}]
["Rd.2",null,null,null,{"$f":"SUM(B3:D3)","v":0},{"$f":"SUM(F2)-E3","v":501},"Rd.2",null,null,null,{"$f":"SUM(H3:J3)","v":0},{"$f":"SUM(L2)-K3","v":501}]
["Rd.3",null,null,null,{"$f":"SUM(B4:D4)","v":0},{"$f":"SUM(F3)-E4","v":501},"Rd.3",null,null,null,{"$f":"SUM(H4:J4)","v":0},{"$f":"SUM(L3)-K4","v":501}]
["Rd.4",null,null,null,{"$f":"SUM(B5:D5)","v":0},{"$f":"SUM(F4)-E5","v":501},"Rd.4",null,null,null,{"$f":"SUM(H5:J5)","v":0},{"$f":"SUM(L4)-K5","v":501}]
["Rd.5",null,null,null,{"$f":"SUM(B6:D6)","v":0},501,"Rd.5",null,null,null,{"$f":"SUM(H6:J6)","v":0},501]
["Rd.6",null,null,null,0,501,"Rd.6",null,null,null,0,501]
["Rd.7",null,null,null,0,501,"Rd.7",null,null,null,0,501]
["Rd.8",null,null,null,0,501,"Rd.8",null,null,null,0,501]
["Rd.9",null,null,null,0,501,"Rd.9",null,null,null,0,501]
["Rd.10",null,null,null,0,501,"Rd.10",null,null,null,0,501]
["Rd.11",null,null,null,0,501,"Rd.11",null,null,null,0,501]
["Rd.12",null,null,null,0,501,"Rd.12",null,null,null,0,501]
["Rd.13",null,null,null,0,501,"Rd.13",null,null,null,0,501]
["Rd.14",null,null,null,0,501,"Rd.14",null,null,null,0,501]
["Rd.15",null,null,null,0,501,"Rd.15",null,null,null,0,501]
["Rd.16",null,null,null,0,501,"Rd.16",null,null,null,0,501]
["Rd.17",null,null,null,0,501,"Rd.17",null,null,null,0,501]
["Rd.18",null,null,null,0,501,"Rd.18",null,null,null,0,501]
["Rd.19",null,null,null,0,501,"Rd.19",null,null,null,0,501]
["Rd.20",null,null,null,0,501,"Rd.20",null,null,null,0,501]
["Rd.21",null,null,null,0,501,"Rd.21",null,null,null,0,501]
["Rd.22",null,null,null,0,501,"Rd.22",null,null,null,0,501]
["Rd.23",null,null,null,0,501,"Rd.23",null,null,null,0,501]
["Rd.24",null,null,null,0,501,"Rd.24",null,null,null,0,501]
["Rd.25",null,null,null,0,501,"Rd.25",null,null,null,0,501]
["Rd.26",null,null,null,0,501,"Rd.26",null,null,null,0,501]
["Rd.27",null,null,null,0,501,"Rd.27",null,null,null,0,501]
["Rd.28",null,null,null,0,501,"Rd.28",null,null,null,0,501]
["Rd.29",null,null,null,0,501,"Rd.29",null,null,null,0,501]
["Rd.30",null,null,null,0,501,"Rd.30",null,null,null,0,501]

{"sheet":"Runde10","index":22,"n_rows":31,"n_cols":12,"rows_kept":31,"cut":false,"hidden":false,"merged":[[0,0,0,4],[0,6,0,10]]}
[{"$f":"CONCATENATE('Rd. 10'!D1)","v":""},null,null,null,null,501,{"$f":"CONCATENATE('Rd. 10'!K1)","v":""},null,null,null,null,501]
["Rd.1",null,null,null,{"$f":"SUM(B2:D2)","v":0},{"$f":"SUM(F1)-E2","v":501},"Rd.1",null,null,null,{"$f":"SUM(H2:J2)","v":0},{"$f":"SUM(L1)-K2","v":501}]
["Rd.2",null,null,null,{"$f":"SUM(B3:D3)","v":0},{"$f":"SUM(F2)-E3","v":501},"Rd.2",null,null,null,{"$f":"SUM(H3:J3)","v":0},{"$f":"SUM(L2)-K3","v":501}]
["Rd.3",null,null,null,{"$f":"SUM(B4:D4)","v":0},{"$f":"SUM(F3)-E4","v":501},"Rd.3",null,null,null,{"$f":"SUM(H4:J4)","v":0},{"$f":"SUM(L3)-K4","v":501}]
["Rd.4",null,null,null,{"$f":"SUM(B5:D5)","v":0},{"$f":"SUM(F4)-E5","v":501},"Rd.4",null,null,null,{"$f":"SUM(H5:J5)","v":0},{"$f":"SUM(L4)-K5","v":501}]
["Rd.5",null,null,null,{"$f":"SUM(B6:D6)","v":0},501,"Rd.5",null,null,null,{"$f":"SUM(H6:J6)","v":0},501]
["Rd.6",null,null,null,0,501,"Rd.6",null,null,null,0,501]
["Rd.7",null,null,null,0,501,"Rd.7",null,null,null,0,501]
["Rd.8",null,null,null,0,501,"Rd.8",null,null,null,0,501]
["Rd.9",null,null,null,0,501,"Rd.9",null,null,null,0,501]
["Rd.10",null,null,null,0,501,"Rd.10",null,null,null,0,501]
["Rd.11",null,null,null,0,501,"Rd.11",null,null,null,0,501]
["Rd.12",null,null,null,0,501,"Rd.12",null,null,null,0,501]
["Rd.13",null,null,null,0,501,"Rd.13",null,null,null,0,501]
["Rd.14",null,null,null,0,501,"Rd.14",null,null,null,0,501]
["Rd.15",null,null,null,0,501,"Rd.15",null,null,null,0,501]
["Rd.16",null,null,null,0,501,"Rd.16",null,null,null,0,501]
["Rd.17",null,null,null,0,501,"Rd.17",null,null,null,0,501]
["Rd.18",null,null,null,0,501,"Rd.18",null,null,null,0,501]
["Rd.19",null,null,null,0,501,"Rd.19",null,null,null,0,501]
["Rd.20",null,null,null,0,501,"Rd.20",null,null,null,0,501]
["Rd.21",null,null,null,0,501,"Rd.21",null,null,null,0,501]
["Rd.22",null,null,null,0,501,"Rd.22",null,null,null,0,501]
["Rd.23",null,null,null,0,501,"Rd.23",null,null,null,0,501]
["Rd.24",null,null,null,0,501,"Rd.24",null,null,null,0,501]
["Rd.25",null,null,null,0,501,"Rd.25",null,null,null,0,501]
["Rd.26",null,null,null,0,501,"Rd.26",null,null,null,0,501]
["Rd.27",null,null,null,0,501,"Rd.27",null,null,null,0,501]
["Rd.28",null,null,null,0,501,"Rd.28",null,null,null,0,501]
["Rd.29",null,null,null,0,501,"Rd.29",null,null,null,0,501]
["Rd.30",null,null,null,0,501,"Rd.30",null,null,null,0,501]

{"sheet":"Namen","index":23,"n_rows":40,"n_cols":1,"rows_kept":40,"cut":false,"hidden":false,"merged":[]}
["Joker"]
["Anja/Erich"]
["Anja/Siggi"]
["Anja/Ralf M."]
["Anja/Ralf Kl."]
["Anja/Volker"]
["Anja/Rene"]
["Anja/Nicole"]
["Anja/Frank"]
["Erich/Siggi"]
["Erich/Ralf M."]
["Erich/Ralf Kl."]
["Erich/Volker"]
["Erich/Rene"]
["Erich/Nicole"]
["Erich/Frank"]
["Siggi/Ralf M."]
["Siggi/Ralf Kl."]
["Siggi/Volker"]
["Siggi/Rene"]
["Siggi/Nicole"]
["Siggi/Frank"]
["Ralf M./Ralf Kl."]
["Ralf M./Volker"]
["Ralf M./Rene"]
["Ralf M./Nicole"]
["Ralf M./Frank"]
["Joker"]
["Ralf Kl./Volker"]
["Ralf Kl./Rene"]
["Ralf Kl./Nicole"]
["Ralf Kl./Frank"]
["Volker/Rene"]
["Volker/Nicole"]
["Volker/Frank"]
["Rene/Nicole"]
["Rene/Frank"]
["Nicole/Frank"]
["Joker"]
["Gast"]