{"text_format":"1","workbook":"xlsx","n_sheets":24,"sheets":["Rd. 1","Rd. 2","Rd. 3","Rd. 4","Rd. 5","Rd. 6","Rd. 7","Rd. 8","Rd. 9","Rd. 10","Rd. 11","Rd. 12","Siegerliste","Runde1","Runde2","Runde3","Runde4","Runde5","Runde6","Runde7","Runde8","Runde9","Runde10","Namen"],"not_rendered":{"charts":0,"images":1,"macros":1,"external_links":0,"defined_names":9,"comments":0,"pivot_tables":0},"unopened":[],"bounds":{"document_bytes":16777216,"sheet_cells":100000,"rows_first":2000,"rows_last":500,"rows_between":2000,"halvings":0,"cell_chars":16384,"cell_head_chars":4096},"cells_cut":0,"cells_raw":0,"read":"whole","date_system":"1900"}

{"sheet":"Rd. 1","index":0,"n_rows":35,"n_cols":15,"rows_kept":35,"cut":false,"hidden":false,"merged":[[16,11,22,12],[35,4,35,5],[10,4,11,5],[10,11,11,12],[12,4,15,5],[23,4,30,5],[31,4,32,5],[23,11,30,12],[31,11,32,12],[12,11,15,12],[16,4,22,5],[0,3,0,4],[0,10,0,11],[7,4,7,5],[7,11,7,12],[8,4,9,5],[8,11,9,12]]}
[null,null,null,"Siggi",null,"Sp. 1",null,null,null,null,"Anja",null,"Sp. 2"]
[null,null,null,"Punkte",501,"Start",null,null,null,null,"Punkte",501,"Start"]
[null,null,null,"Geworfen",{"$f":"SUM(D34)","v":299},"Punkte",null,null,null,null,"Geworfen",{"$f":"SUM(K34)","v":0},"Punkte"]
["RD 1",{"$f":"COUNT(D4)*1","v":1},{"$f":"COUNT(D4)*3","v":3},100,{"$f":"SUM(E2-E3)","v":202},null,null,"RD 1",{"$f":"COUNT(K4)*1","v":0},{"$f":"COUNT(K4)*3","v":0},null,{"$f":"SUM(L2-L3)","v":501},"Rest"]
["RD 2",1,3,99,null,null,null,"RD 2",0,0,null,null,null,null,"Eintragen"]
["RD 3",1,3,100,"ø pro Spiel",{"$f":"SUM(E3)/B34","v":99.666666666666671},null,"RD 3",0,0,null,"ø pro Spiel",{"$f":"SUM(L3)/I34","v":{"$error":"#DIV/0!"}}]
["RD 4",0,0,null,"ø pro Pfeil",{"$f":"SUM(E3)/C34","v":33.222222222222221},null,"RD 4",0,0,null,"ø pro Pfeil",{"$f":"SUM(L3)/J34","v":{"$error":"#DIV/0!"}}]
["RD 5",0,0,null,"Average",null,null,"RD 5",0,0,{"$f":"IF(COUNT(Runde1!H6:J6)=0,\"\",SUM(Runde1!H6:J6))","v":""},"Average"]
["RD 6",0,0,{"$f":"IF(COUNT(Runde1!B7:D7)=0,\"\",SUM(Runde1!B7:D7))","v":""},{"$f":"SUM(F6)","v":99.666666666666671},null,null,"RD 6",0,0,{"$f":"IF(COUNT(Runde1!H7:J7)=0,\"\",SUM(Runde1!H7:J7))","v":""},{"$f":"SUM(M6)","v":{"$error":"#DIV/0!"}}]
["RD 7",0,0,{"$f":"IF(COUNT(Runde1!B8:D8)=0,\"\",SUM(Runde1!B8:D8))","v":""},null,null,null,"RD 7",0,0,{"$f":"IF(COUNT(Runde1!H8:J8)=0,\"\",SUM(Runde1!H8:J8))","v":""}]
["RD 8",0,0,null,"Nicht Gut",null,null,"RD 8",0,0,null,"Nicht Gut"]
["RD 9",0,0,null,null,null,null,"RD 9",0,0]
["RD 10",0,0,null,"Gut",null,null,"RD 10",0,0,null,"Gut"]
["RD 11",0,0,null,null,null,null,"RD 11",0,0]
["RD 12",0,0,{"$f":"IF(COUNT(Runde1!B9:D9)=0,\"\",SUM(Runde1!B9:D9))","v":""},null,null,null,"RD 12",0,0,{"$f":"IF(COUNT(Runde1!H9:J9)=0,\"\",SUM(Runde1!H9:J9))","v":""}]
["RD 13",0,0,{"$f":"IF(COUNT(Runde1!B10:D10)=0,\"\",SUM(Runde1!B10:D10))","v":""},null,null,null,"RD 13",0,0,{"$f":"IF(COUNT(Runde1!H10:J10)=0,\"\",SUM(Runde1!H10:J10))","v":""}]
["RD 14",0,0,{"$f":"IF(COUNT(Runde1!B11:D11)=0,\"\",SUM(Runde1!B11:D11))","v":""},"Sehr  Gut",null,null,"RD 14",0,0,{"$f":"IF(COUNT(Runde1!H11:J11)=0,\"\",SUM(Runde1!H11:J11))","v":""},"Sehr  Gut"]
["RD 15",0,0,null,null,null,null,"RD 15",0,0]
["RD 16",0,0,null,null,null,null,"RD 16",0,0]
["RD 17",0,0,null,null,null,null,"RD 17",0,0]
["RD 18",0,0,{"$f":"IF(COUNT(Runde1!B12:D12)=0,\"\",SUM(Runde1!B12:D12))","v":""},null,null,null,"RD 18",0,0,{"$f":"IF(COUNT(Runde1!H12:J12)=0,\"\",SUM(Runde1!H12:J12))","v":""}]
["RD 19",0,0,{"$f":"IF(COUNT(Runde1!B13:D13)=0,\"\",SUM(Runde1!B13:D13))","v":""},null,null,null,"RD 19",0,0,{"$f":"IF(COUNT(Runde1!H13:J13)=0,\"\",SUM(Runde1!H13:J13))","v":""}]
["RD 20",0,0,{"$f":"IF(COUNT(Runde1!B14:D14)=0,\"\",SUM(Runde1!B14:D14))","v":""},null,null,null,"RD 20",0,0,{"$f":"IF(COUNT(Runde1!H14:J14)=0,\"\",SUM(Runde1!H14:J14))","v":""}]
["RD 21",0,0,{"$f":"IF(COUNT(Runde1!B15:D15)=0,\"\",SUM(Runde1!B15:D15))","v":""},null,null,null,"RD 21",0,0,{"$f":"IF(COUNT(Runde1!H15:J15)=0,\"\",SUM(Runde1!H15:J15))","v":""}]
["RD 22",0,0,null,null,null,null,"RD 22",0,0]
["RD 23",0,0,{"$f":"IF(COUNT(Runde1!B16:D16)=0,\"\",SUM(Runde1!B16:D16))","v":""},null,null,null,"RD 23",0,0,{"$f":"IF(COUNT(Runde1!H16:J16)=0,\"\",SUM(Runde1!H16:J16))","v":""}]
["RD 24",0,0,{"$f":"IF(COUNT(Runde1!B17:D17)=0,\"\",SUM(Runde1!B17:D17))","v":""},null,null,null,"RD 24",0,0,{"$f":"IF(COUNT(Runde1!H17:J17)=0,\"\",SUM(Runde1!H17:J17))","v":""}]
["RD 25",0,0,{"$f":"IF(COUNT(Runde1!B18:D18)=0,\"\",SUM(Runde1!B18:D18))","v":""},null,null,null,"RD 25",0,0,{"$f":"IF(COUNT(Runde1!H18:J18)=0,\"\",SUM(Runde1!H18:J18))","v":""}]
["RD 26",0,0,null,null,null,null,"RD 26",0,0]
["RD 27",0,0,null,null,null,null,"RD 27",0,0]
["RD 28",0,0,null,null,null,null,"RD 28",0,0]
["RD 29",0,0,{"$f":"IF(COUNT(Runde1!B19:D19)=0,\"\",SUM(Runde1!B19:D19))","v":""},{"$f":"IF(E4=0,\"Sieg\",\"\")","v":""},null,null,"RD 29",0,0,{"$f":"IF(COUNT(Runde1!H19:J19)=0,\"\",SUM(Runde1!H19:J19))","v":""},{"$f":"IF(L4=0,\"Sieg\",\"\")","v":""}]
["RD 30",0,0,{"$f":"IF(COUNT(Runde1!B20:D20)=0,\"\",SUM(Runde1!B20:D20))","v":""},null,null,null,"RD 30",0,0,{"$f":"IF(COUNT(Runde1!H20:J20)=0,\"\",SUM(Runde1!H20:J20))","v":""}]
[null,{"$f":"SUM(B4:B33)","v":3},{"$f":"SUM(C4:C33)","v":9},{"$f":"SUM(D4:D33)","v":299},{"$f":"SUM(D4:D33)","v":299},null,null,null,{"$f":"SUM(I4:I33)","v":0},{"$f":"SUM(J4:J33)","v":0},{"$f":"SUM(K4:K33)","v":0},{"$f":"SUM(K4:K33)","v":0}]
[null,null,null,null,{"$f":"IF(E4 < L4, D1, IF(D2 < L4, K1, \"Unentschieden\"))","v":"Siggi"}]

{"sheet":"Rd. 2","index":1,"n_rows":35,"n_cols":15,"rows_kept":35,"cut":false,"hidden":false,"merged":[[35,4,35,5],[31,4,32,5],[31,11,32,12],[22,4,30,5],[22,11,30,12],[16,4,21,5],[16,11,21,12],[10,4,11,5],[10,11,11,12],[12,4,15,5],[12,11,15,12],[0,3,0,4],[0,10,0,11],[7,4,7,5],[7,11,7,12],[8,4,9,5],[8,11,9,12]]}
[null,null,null,null,null,"Sp. 1",null,null,null,null,null,null,"Sp. 2"]
[null,null,null,"Punkte",501,"Start",null,null,null,null,"Punkte",501,"Start"]
[null,null,null,"Geworfen",{"$f":"SUM(D34)","v":0},"Punkte",null,null,null,null,"Geworfen",{"$f":"SUM(K34)","v":0},"Punkte"]
["RD 1",{"$f":"COUNT(D4)*1","v":0},{"$f":"COUNT(D4)*3","v":0},{"$f":"IF(COUNT(Runde2!B2:D2)=0,\"\",SUM(Runde2!B2:D2))","v":""},{"$f":"SUM(E2-E3)","v":501},"Rest",null,"RD 1",{"$f":"COUNT(K4)*1","v":0},{"$f":"COUNT(K4)*3","v":0},{"$f":"IF(COUNT(Runde2!H2:J2)=0,\"\",SUM(Runde2!H2:J2))","v":""},{"$f":"SUM(L2-L3)","v":501},"Rest"]
["RD 2",0,0,{"$f":"IF(COUNT(Runde2!B3:D3)=0,\"\",SUM(Runde2!B3:D3))","v":""},null,null,null,"RD 2",0,0,{"$f":"IF(COUNT(Runde2!H3:J3)=0,\"\",SUM(Runde2!H3:J3))","v":""}]
["RD 3",0,0,{"$f":"IF(COUNT(Runde2!B4:D4)=0,\"\",SUM(Runde2!B4:D4))","v":""},"ø pro Spiel",{"$f":"SUM(E3)/B34","v":{"$error":"#DIV/0!"}},null,"RD 3",0,0,{"$f":"IF(COUNT(Runde2!H4:J4)=0,\"\",SUM(Runde2!H4:J4))","v":""},"ø pro Spiel",{"$f":"SUM(L3)/I34","v":{"$error":"#DIV/0!"}},null,"Eintragen"]
["RD 4",0,0,{"$f":"IF(COUNT(Runde2!B5:D5)=0,\"\",SUM(Runde2!B5:D5))","v":""},"ø pro Pfeil",{"$f":"SUM(E3)/C34","v":{"$error":"#DIV/0!"}},null,"RD 4",0,0,{"$f":"IF(COUNT(Runde2!H5:J5)=0,\"\",SUM(Runde2!H5:J5))","v":""},"ø pro Pfeil",{"$f":"SUM(L3)/J34","v":{"$error":"#DIV/0!"}}]
["RD 5",0,0,{"$f":"IF(COUNT(Runde2!B6:D6)=0,\"\",SUM(Runde2!B6:D6))","v":""},"Average",null,null,"RD 5",0,0,{"$f":"IF(COUNT(Runde2!H6:J6)=0,\"\",SUM(Runde2!H6:J6))","v":""},"Average"]
["RD 6",0,0,{"$f":"IF(COUNT(Runde2!B7:D7)=0,\"\",SUM(Runde2!B7:D7))","v":""},{"$f":"SUM(F6)","v":{"$error":"#DIV/0!"}},null,null,"RD 6",0,0,{"$f":"IF(COUNT(Runde2!H7:J7)=0,\"\",SUM(Runde2!H7:J7))","v":""},{"$f":"SUM(M6)","v":{"$error":"#DIV/0!"}}]
["RD 7",0,0,{"$f":"IF(COUNT(Runde2!B8:D8)=0,\"\",SUM(Runde2!B8:D8))","v":""},null,null,null,"RD 7",0,0,{"$f":"IF(COUNT(Runde2!H8:J8)=0,\"\",SUM(Runde2!H8:J8))","v":""}]
["RD 8",0,0,{"$f":"IF(COUNT(Runde2!B9:D9)=0,\"\",SUM(Runde2!B9:D9))","v":""},"Nicht Gut",null,null,"RD 8",0,0,null,"Nicht Gut"]
["RD 9",0,0,{"$f":"IF(COUNT(Runde2!B10:D10)=0,\"\",SUM(Runde2!B10:D10))","v":""},null,null,null,"RD 9",0,0,{"$f":"IF(COUNT(Runde2!H10:J10)=0,\"\",SUM(Runde2!H10:J10))","v":""}]
["RD 10",0,0,{"$f":"IF(COUNT(Runde2!B11:D11)=0,\"\",SUM(Runde2!B11:D11))","v":""},"Gut",null,null,"RD 10",0,0,{"$f":"IF(COUNT(Runde2!H11:J11)=0,\"\",SUM(Runde2!H11:J11))","v":""},"Gut"]
["RD 11",0,0,{"$f":"IF(COUNT(Runde2!B12:D12)=0,\"\",SUM(Runde2!B12:D12))","v":""},null,null,null,"RD 11",0,0,{"$f":"IF(COUNT(Runde2!H12:J12)=0,\"\",SUM(Runde2!H12:J12))","v":""}]
["RD 12",0,0,{"$f":"IF(COUNT(Runde2!B13:D13)=0,\"\",SUM(Runde2!B13:D13))","v":""},null,null,null,"RD 12",0,0,{"$f":"IF(COUNT(Runde2!H13:J13)=0,\"\",SUM(Runde2!H13:J13))","v":""}]
["RD 13",0,0,{"$f":"IF(COUNT(Runde2!B14:D14)=0,\"\",SUM(Runde2!B14:D14))","v":""},null,null,null,"RD 13",0,0,{"$f":"IF(COUNT(Runde2!H14:J14)=0,\"\",SUM(Runde2!H14:J14))","v":""}]
["RD 14",0,0,{"$f":"IF(COUNT(Runde2!B15:D15)=0,\"\",SUM(Runde2!B15:D15))","v":""},"Sehr  Gut",null,null,"RD 14",0,0,{"$f":"IF(COUNT(Runde2!H15:J15)=0,\"\",SUM(Runde2!H15:J15))","v":""},"Sehr  Gut"]
["RD 15",0,0,{"$f":"IF(COUNT(Runde2!B16:D16)=0,\"\",SUM(Runde2!B16:D16))","v":""},null,null,null,"RD 15",0,0,{"$f":"IF(COUNT(Runde2!H16:J16)=0,\"\",SUM(Runde2!H16:J16))","v":""}]
["RD 16",0,0,{"$f":"IF(COUNT(Runde2!B17:D17)=0,\"\",SUM(Runde2!B17:D17))","v":""},null,null,null,"RD 16",0,0,{"$f":"IF(COUNT(Runde2!H17:J17)=0,\"\",SUM(Runde2!H17:J17))","v":""}]
["RD 17",0,0,{"$f":"IF(COUNT(Runde2!B18:D18)=0,\"\",SUM(Runde2!B18:D18))","v":""},null,null,null,"RD 17",0,0,{"$f":"IF(COUNT(Runde2!H18:J18)=0,\"\",SUM(Runde2!H18:J18))","v":""}]
["RD 18",0,0,{"$f":"IF(COUNT(Runde2!B19:D19)=0,\"\",SUM(Runde2!B19:D19))","v":""},null,null,null,"RD 18",0,0,{"$f":"IF(COUNT(Runde2!H19:J19)=0,\"\",SUM(Runde2!H19:J19))","v":""}]
["RD 19",0,0,{"$f":"IF(COUNT(Runde2!B20:D20)=0,\"\",SUM(Runde2!B20:D20))","v":""},null,null,null,"RD 19",0,0,{"$f":"IF(COUNT(Runde2!H20:J20)=0,\"\",SUM(Runde2!H20:J20))","v":""}]
["RD 20",0,0,{"$f":"IF(COUNT(Runde2!B21:D21)=0,\"\",SUM(Runde2!B21:D21))","v":""},null,null,null,"RD 20",0,0,{"$f":"IF(COUNT(Runde2!H21:J21)=0,\"\",SUM(Runde2!H21:J21))","v":""}]
["RD 21",0,0,{"$f":"IF(COUNT(Runde2!B22:D22)=0,\"\",SUM(Runde2!B22:D22))","v":""},null,null,null,"RD 21",0,0,{"$f":"IF(COUNT(Runde2!H22:J22)=0,\"\",SUM(Runde2!H22:J22))","v":""}]
["RD 22",0,0,{"$f":"IF(COUNT(Runde2!B23:D23)=0,\"\",SUM(Runde2!B23:D23))","v":""},null,null,null,"RD 22",0,0,{"$f":"IF(COUNT(Runde2!H23:J23)=0,\"\",SUM(Runde2!H23:J23))","v":""}]
["RD 23",0,0,{"$f":"IF(COUNT(Runde2!B24:D24)=0,\"\",SUM(Runde2!B24:D24))","v":""},null,null,null,"RD 23",0,0,{"$f":"IF(COUNT(Runde2!H24:J24)=0,\"\",SUM(Runde2!H24:J24))","v":""}]
["RD 24",0,0,{"$f":"IF(COUNT(Runde2!B25:D25)=0,\"\",SUM(Runde2!B25:D25))","v":""},null,null,null,"RD 24",0,0,{"$f":"IF(COUNT(Runde2!H25:J25)=0,\"\",SUM(Runde2!H25:J25))","v":""}]
["RD 25",0,0,{"$f":"IF(COUNT(Runde2!B26:D26)=0,\"\",SUM(Runde2!B26:D26))","v":""},null,null,null,"RD 25",0,0,{"$f":"IF(COUNT(Runde2!H26:J26)=0,\"\",SUM(Runde2!H26:J26))","v":""}]
["RD 26",0,0,{"$f":"IF(COUNT(Runde2!B27:D27)=0,\"\",SUM(Runde2!B27:D27))","v":""},null,null,null,"RD 26",0,0,{"$f":"IF(COUNT(Runde2!H27:J27)=0,\"\",SUM(Runde2!H27:J27))","v":""}]
["RD 27",0,0,{"$f":"IF(COUNT(Runde2!B28:D28)=0,\"\",SUM(Runde2!B28:D28))","v":""},null,null,null,"RD 27",0,0,{"$f":"IF(COUNT(Runde2!H28:J28)=0,\"\",SUM(Runde2!H28:J28))","v":""}]
["RD 28",0,0,{"$f":"IF(COUNT(Runde2!B29:D29)=0,\"\",SUM(Runde2!B29:D29))","v":""},null,null,null,"RD 28",0,0,{"$f":"IF(COUNT(Runde2!H29:J29)=0,\"\",SUM(Runde2!H29:J29))","v":""}]
["RD 29",0,0,{"$f":"IF(COUNT(Runde2!B30:D30)=0,\"\",SUM(Runde2!B30:D30))","v":""},{"$f":"IF(E4=0,\"Sieg\",\"\")","v":""},null,null,"RD 29",0,0,{"$f":"IF(COUNT(Runde2!H30:J30)=0,\"\",SUM(Runde2!H30:J30))","v":""},{"$f":"IF(L4=0,\"Sieg\",\"\")","v":""}]
["RD 30",0,0,{"$f":"IF(COUNT(Runde2!B31:D31)=0,\"\",SUM(Runde2!B31:D31))","v":""},null,null,null,"RD 30",0,0,{"$f":"IF(COUNT(Runde2!H31:J31)=0,\"\",SUM(Runde2!H31:J31))","v":""}]
[null,{"$f":"SUM(B4:B33)","v":0},{"$f":"SUM(C4:C33)","v":0},{"$f":"IF(COUNT(Runde1!B21:D21)=0,\"\",SUM(Runde1!B21:D21))","v":""},{"$f":"SUM(D4:D33)","v":0},null,null,null,{"$f":"SUM(I4:I33)","v":0},{"$f":"SUM(J4:J33)","v":0},{"$f":"IF(COUNT(Runde1!I21:K21)=0,\"\",SUM(Runde1!I21:K21))","v":0},{"$f":"SUM(K4:K32)","v":0}]
[null,null,null,null,{"$f":"IF(E3 > L3, D1, IF(D2 > L3, K1, \"Unentschieden\"))","v":0}]

{"sheet":"Rd. 3","index":2,"n_rows":35,"n_cols":15,"rows_kept":35,"cut":false,"hidden":false,"merged":[[31,4,32,5],[31,11,32,12],[16,4,21,5],[16,11,21,12],[10,4,11,5],[10,11,11,12],[12,4,15,5],[12,11,15,12],[22,4,30,5],[22,11,30,12],[0,3,0,4],[0,10,0,11],[7,4,7,5],[7,11,7,12],[8,4,9,5],[8,11,9,12]]}
[null,null,null,null,null,"Sp. 1",null,null,null,null,null,null,"Sp. 2"]
[null,null,null,"Punkte",501,"Start",null,null,null,null,"Punkte",501,"Start"]
[null,null,null,"Geworfen",{"$f":"SUM(D34)","v":66},"Punkte",null,null,null,null,"Geworfen",{"$f":"SUM(K34)","v":99},"Punkte"]
["RD 1",{"$f":"COUNT(D4)*1","v":1},{"$f":"COUNT(D4)*3","v":3},{"$f":"IF(COUNT(Runde3!B2:D2)=0,\"\",SUM(Runde3!B2:D2))","v":66},{"$f":"SUM(E2-E3)","v":435},"Rest",null,"RD 1",{"$f":"COUNT(K4)*1","v":1},{"$f":"COUNT(K4)*3","v":3},{"$f":"IF(COUNT(Runde3!H2:J2)=0,\"\",SUM(Runde3!H2:J2))","v":99},{"$f":"SUM(L2-L3)","v":402},"Rest"]
["RD 2",0,0,{"$f":"IF(COUNT(Runde3!B3:D3)=0,\"\",SUM(Runde3!B3:D3))","v":""},null,null,null,"RD 2",0,0,{"$f":"IF(COUNT(Runde3!H3:J3)=0,\"\",SUM(Runde3!H3:J3))","v":""}]
["RD 3",0,0,{"$f":"IF(COUNT(Runde3!B4:D4)=0,\"\",SUM(Runde3!B4:D4))","v":""},"ø pro Spiel",{"$f":"SUM(E3)/B34","v":66},null,"RD 3",0,0,{"$f":"IF(COUNT(Runde3!H4:J4)=0,\"\",SUM(Runde3!H4:J4))","v":""},"ø pro Spiel",{"$f":"SUM(L3)/I34","v":99},null,"Eintragen"]
["RD 4",0,0,{"$f":"IF(COUNT(Runde3!B5:D5)=0,\"\",SUM(Runde3!B5:D5))","v":""},"ø pro Pfeil",{"$f":"SUM(E3)/C34","v":22},null,"RD 4",0,0,{"$f":"IF(COUNT(Runde3!H5:J5)=0,\"\",SUM(Runde3!H5:J5))","v":""},"ø pro Pfeil",{"$f":"SUM(L3)/J34","v":33}]
["RD 5",0,0,{"$f":"IF(COUNT(Runde3!B6:D6)=0,\"\",SUM(Runde3!B6:D6))","v":""},"Average",null,null,"RD 5",0,0,{"$f":"IF(COUNT(Runde3!H6:J6)=0,\"\",SUM(Runde3!H6:J6))","v":""},"Average"]
["RD 6",0,0,{"$f":"IF(COUNT(Runde3!B7:D7)=0,\"\",SUM(Runde3!B7:D7))","v":""},{"$f":"SUM(F6)","v":66},null,null,"RD 6",0,0,{"$f":"IF(COUNT(Runde3!H7:J7)=0,\"\",SUM(Runde3!H7:J7))","v":""},{"$f":"SUM(M6)","v":99}]
["RD 7",0,0,{"$f":"IF(COUNT(Runde3!B8:D8)=0,\"\",SUM(Runde3!B8:D8))","v":""},null,null,null,"RD 7",0,0,{"$f":"IF(COUNT(Runde3!H8:J8)=0,\"\",SUM(Runde3!H8:J8))","v":""}]
["RD 8",0,0,{"$f":"IF(COUNT(Runde3!B9:D9)=0,\"\",SUM(Runde3!B9:D9))","v":""},"Nicht Gut",null,null,"RD 8",0,0,{"$f":"IF(COUNT(Runde3!H9:J9)=0,\"\",SUM(Runde3!H9:J9))","v":""},"Nicht Gut"]
["RD 9",0,0,{"$f":"IF(COUNT(Runde3!B10:D10)=0,\"\",SUM(Runde3!B10:D10))","v":""},null,null,null,"RD 9",0,0,{"$f":"IF(COUNT(Runde3!H10:J10)=0,\"\",SUM(Runde3!H10:J10))","v":""}]
["RD 10",0,0,{"$f":"IF(COUNT(Runde3!B11:D11)=0,\"\",SUM(Runde3!B11:D11))","v":""},"Gut",null,null,"RD 10",0,0,{"$f":"IF(COUNT(Runde3!H11:J11)=0,\"\",SUM(Runde3!H11:J11))","v":""},"Gut"]
["RD 11",0,0,{"$f":"IF(COUNT(Runde3!B12:D12)=0,\"\",SUM(Runde3!B12:D12))","v":""},null,null,null,"RD 11",0,0,{"$f":"IF(COUNT(Runde3!H12:J12)=0,\"\",SUM(Runde3!H12:J12))","v":""}]
["RD 12",0,0,{"$f":"IF(COUNT(Runde3!B13:D13)=0,\"\",SUM(Runde3!B13:D13))","v":""},null,null,null,"RD 12",0,0,{"$f":"IF(COUNT(Runde3!H13:J13)=0,\"\",SUM(Runde3!H13:J13))","v":""}]
["RD 13",0,0,null,null,null,null,"RD 13",0,0,{"$f":"IF(COUNT(Runde3!H14:J14)=0,\"\",SUM(Runde3!H14:J14))","v":""}]
["RD 14",0,0,{"$f":"IF(COUNT(Runde3!B15:D15)=0,\"\",SUM(Runde3!B15:D15))","v":""},"Sehr  Gut",null,null,"RD 14",0,0,{"$f":"IF(COUNT(Runde3!H15:J15)=0,\"\",SUM(Runde3!H15:J15))","v":""},"Sehr  Gut"]
["RD 15",0,0,{"$f":"IF(COUNT(Runde3!B16:D16)=0,\"\",SUM(Runde3!B16:D16))","v":""},null,null,null,"RD 15",0,0,{"$f":"IF(COUNT(Runde3!H16:J16)=0,\"\",SUM(Runde3!H16:J16))","v":""}]
["RD 16",0,0,{"$f":"IF(COUNT(Runde3!B17:D17)=0,\"\",SUM(Runde3!B17:D17))","v":""},null,null,null,"RD 16",0,0,{"$f":"IF(COUNT(Runde3!H17:J17)=0,\"\",SUM(Runde3!H17:J17))","v":""}]
["RD 17",0,0,{"$f":"IF(COUNT(Runde3!B18:D18)=0,\"\",SUM(Runde3!B18:D18))","v":""},null,null,null,"RD 17",0,0,{"$f":"IF(COUNT(Runde3!H18:J18)=0,\"\",SUM(Runde3!H18:J18))","v":""}]
["RD 18",0,0,{"$f":"IF(COUNT(Runde3!B19:D19)=0,\"\",SUM(Runde3!B19:D19))","v":""},null,null,null,"RD 18",0,0,{"$f":"IF(COUNT(Runde3!H19:J19)=0,\"\",SUM(Runde3!H19:J19))","v":""}]
["RD 19",0,0,{"$f":"IF(COUNT(Runde3!B20:D20)=0,\"\",SUM(Runde3!B20:D20))","v":""},null,null,null,"RD 19",0,0,{"$f":"IF(COUNT(Runde3!H20:J20)=0,\"\",SUM(Runde3!H20:J20))","v":""}]
["RD 20",0,0,{"$f":"IF(COUNT(Runde3!B21:D21)=0,\"\",SUM(Runde3!B21:D21))","v":""},null,null,null,"RD 20",0,0,{"$f":"IF(COUNT(Runde3!H21:J21)=0,\"\",SUM(Runde3!H21:J21))","v":""}]
["RD 21",0,0,{"$f":"IF(COUNT(Runde3!B22:D22)=0,\"\",SUM(Runde3!B22:D22))","v":""},null,null,null,"RD 21",0,0,{"$f":"IF(COUNT(Runde3!H22:J22)=0,\"\",SUM(Runde3!H22:J22))","v":""}]
["RD 22",0,0,{"$f":"IF(COUNT(Runde3!B23:D23)=0,\"\",SUM(Runde3!B23:D23))","v":""},null,null,null,"RD 22",0,0,{"$f":"IF(COUNT(Runde3!H23:J23)=0,\"\",SUM(Runde3!H23:J23))","v":""}]
["RD 23",0,0,{"$f":"IF(COUNT(Runde3!B24:D24)=0,\"\",SUM(Runde3!B24:D24))","v":""},null,null,null,"RD 23",0,0,{"$f":"IF(COUNT(Runde3!H24:J24)=0,\"\",SUM(Runde3!H24:J24))","v":""}]
["RD 24",0,0,{"$f":"IF(COUNT(Runde3!B25:D25)=0,\"\",SUM(Runde3!B25:D25))","v":""},null,null,null,"RD 24",0,0,{"$f":"IF(COUNT(Runde3!H25:J25)=0,\"\",SUM(Runde3!H25:J25))","v":""}]
["RD 25",0,0,{"$f":"IF(COUNT(Runde3!B26:D26)=0,\"\",SUM(Runde3!B26:D26))","v":""},null,null,null,"RD 25",0,0,{"$f":"IF(COUNT(Runde3!H26:J26)=0,\"\",SUM(Runde3!H26:J26))","v":""}]
["RD 26",0,0,{"$f":"IF(COUNT(Runde3!B27:D27)=0,\"\",SUM(Runde3!B27:D27))","v":""},null,null,null,"RD 26",0,0,{"$f":"IF(COUNT(Runde3!H27:J27)=0,\"\",SUM(Runde3!H27:J27))","v":""}]
["RD 27",0,0,{"$f":"IF(COUNT(Runde3!B28:D28)=0,\"\",SUM(Runde3!B28:D28))","v":""},null,null,null,"RD 27",0,0,{"$f":"IF(COUNT(Runde3!H28:J28)=0,\"\",SUM(Runde3!H28:J28))","v":""}]
["RD 28",0,0,{"$f":"IF(COUNT(Runde3!B29:D29)=0,\"\",SUM(Runde3!B29:D29))","v":""},null,null,null,"RD 28",0,0,{"$f":"IF(COUNT(Runde3!H29:J29)=0,\"\",SUM(Runde3!H29:J29))","v":""}]
["RD 29",0,0,{"$f":"IF(COUNT(Runde3!B30:D30)=0,\"\",SUM(Runde3!B30:D30))","v":""},{"$f":"IF(E4=0,\"Sieg\",\"\")","v":""},null,null,"RD 29",0,0,{"$f":"IF(COUNT(Runde3!H30:J30)=0,\"\",SUM(Runde3!H30:J30))","v":""},{"$f":"IF(L4=0,\"Sieg\",\"\")","v":""}]
["RD 30",0,0,{"$f":"IF(COUNT(Runde3!B31:D31)=0,\"\",SUM(Runde3!B31:D31))","v":""},null,null,null,"RD 30",0,0,{"$f":"IF(COUNT(Runde3!H31:J31)=0,\"\",SUM(Runde3!H31:J31))","v":""}]
[null,{"$f":"SUM(B4:B33)","v":1},{"$f":"SUM(C4:C33)","v":3},{"$f":"SUM(D4:D33)","v":66},{"$f":"SUM(D4:D32)","v":66},null,null,null,{"$f":"SUM(I4:I33)","v":1},{"$f":"SUM(J4:J33)","v":3},{"$f":"SUM(K4:K33)","v":99},{"$f":"SUM(K4:K32)","v":99}]
[null,null,null,null,{"$f":"IF(E3 > L3, D1, IF(D2 > L3, K1, \"Unentschieden\"))","v":0}]

{"sheet":"Rd. 4","index":3,"n_rows":35,"n_cols":15,"rows_kept":35,"cut":false,"hidden":false,"merged":[[31,4,32,5],[31,11,32,12],[16,4,21,5],[16,11,21,12],[10,4,11,5],[10,11,11,12],[12,4,15,5],[12,11,15,12],[22,4,30,5],[22,11,30,12],[0,3,0,4],[0,10,0,11],[7,4,7,5],[7,11,7,12],[8,4,9,5],[8,11,9,12]]}
[null,null,null,null,null,"Sp. 1",null,null,null,null,null,null,"Sp. 2"]
[null,null,null,"Punkte",501,"Start",null,null,null,null,"Punkte",501,"Start"]
[null,null,null,"Geworfen",{"$f":"SUM(D34)","v":0},"Punkte",null,null,null,null,"Geworfen",{"$f":"SUM(K34)","v":105},"Punkte"]
["RD 1",{"$f":"COUNT(D4)*1","v":1},{"$f":"COUNT(D4)*3","v":3},{"$f":"IF(COUNT(Runde4!B2:D2)=0,\"\",SUM(Runde4!B2:D2))","v":64},{"$f":"SUM(E2-E3)","v":501},"Rest",null,"RD 1",{"$f":"COUNT(K4)*1","v":1},{"$f":"COUNT(K4)*3","v":3},{"$f":"IF(COUNT(Runde4!H2:J2)=0,\"\",SUM(Runde4!H2:J2))","v":105},{"$f":"SUM(L2-L3)","v":396},"Rest"]
["RD 2",0,0,{"$f":"IF(COUNT(Runde4!B3:D3)=0,\"\",SUM(Runde4!B3:D3))","v":""},null,null,null,"RD 2",0,0,{"$f":"IF(COUNT(Runde4!H3:J3)=0,\"\",SUM(Runde4!H3:J3))","v":""},null,null,null,"Eintragen"]
["RD 3",0,0,{"$f":"IF(COUNT(Runde4!B4:D4)=0,\"\",SUM(Runde4!B4:D4))","v":""},"ø pro Spiel",{"$f":"SUM(E3)/B34","v":0},null,"RD 3",0,0,{"$f":"IF(COUNT(Runde4!H4:J4)=0,\"\",SUM(Runde4!H4:J4))","v":""},"ø pro Spiel",{"$f":"SUM(L3)/I34","v":105}]
["RD 4",0,0,{"$f":"IF(COUNT(Runde4!B5:D5)=0,\"\",SUM(Runde4!B5:D5))","v":""},"ø pro Pfeil",{"$f":"SUM(E3)/C34","v":0},null,"RD 4",0,0,{"$f":"IF(COUNT(Runde4!H5:J5)=0,\"\",SUM(Runde4!H5:J5))","v":""},"ø pro Pfeil",{"$f":"SUM(L3)/J34","v":35}]
["RD 5",0,0,{"$f":"IF(COUNT(Runde4!B6:D6)=0,\"\",SUM(Runde4!B6:D6))","v":""},"Average",null,null,"RD 5",0,0,{"$f":"IF(COUNT(Runde4!H6:J6)=0,\"\",SUM(Runde4!H6:J6))","v":""},"Average"]
["RD 6",0,0,{"$f":"IF(COUNT(Runde4!B7:D7)=0,\"\",SUM(Runde4!B7:D7))","v":""},{"$f":"SUM(F6)","v":0},null,null,"RD 6",0,0,{"$f":"IF(COUNT(Runde4!H7:J7)=0,\"\",SUM(Runde4!H7:J7))","v":""},{"$f":"SUM(M6)","v":105}]
["RD 7",0,0,{"$f":"IF(COUNT(Runde4!B8:D8)=0,\"\",SUM(Runde4!B8:D8))","v":""},null,null,null,"RD 7",0,0,{"$f":"IF(COUNT(Runde4!H8:J8)=0,\"\",SUM(Runde4!H8:J8))","v":""}]
["RD 8",0,0,{"$f":"IF(COUNT(Runde4!B9:D9)=0,\"\",SUM(Runde4!B9:D9))","v":""},"Nicht Gut",null,null,"RD 8",0,0,null,"Nicht Gut"]
["RD 9",0,0,{"$f":"IF(COUNT(Runde4!B10:D10)=0,\"\",SUM(Runde4!B10:D10))","v":""},null,null,null,"RD 9",0,0,{"$f":"IF(COUNT(Runde4!H9:J9)=0,\"\",SUM(Runde4!H9:J9))","v":""}]
["RD 10",0,0,{"$f":"IF(COUNT(Runde4!B11:D11)=0,\"\",SUM(Runde4!B11:D11))","v":""},"Gut",null,null,"RD 10",0,0,null,"Gut"]
["RD 11",0,0,{"$f":"IF(COUNT(Runde4!B12:D12)=0,\"\",SUM(Runde4!B12:D12))","v":""},null,null,null,"RD 11",0,0]
["RD 12",0,0,{"$f":"IF(COUNT(Runde4!B13:D13)=0,\"\",SUM(Runde4!B13:D13))","v":""},null,null,null,"RD 12",0,0,{"$f":"IF(COUNT(Runde4!H10:J10)=0,\"\",SUM(Runde4!H10:J10))","v":""}]
["RD 13",0,0,{"$f":"IF(COUNT(Runde4!B14:D14)=0,\"\",SUM(Runde4!B14:D14))","v":""},null,null,null,"RD 13",0,0,{"$f":"IF(COUNT(Runde4!H11:J11)=0,\"\",SUM(Runde4!H11:J11))","v":""}]
["RD 14",0,0,{"$f":"IF(COUNT(Runde4!B15:D15)=0,\"\",SUM(Runde4!B15:D15))","v":""},"Sehr  Gut",null,null,"RD 14",0,0,{"$f":"IF(COUNT(Runde4!H12:J12)=0,\"\",SUM(Runde4!H12:J12))","v":""},"Sehr  Gut"]
["RD 15",0,0,{"$f":"IF(COUNT(Runde4!B16:D16)=0,\"\",SUM(Runde4!B16:D16))","v":""},null,null,null,"RD 15",0,0]
["RD 16",0,0,{"$f":"IF(COUNT(Runde4!B17:D17)=0,\"\",SUM(Runde4!B17:D17))","v":""},null,null,null,"RD 16",0,0]
["RD 17",0,0,{"$f":"IF(COUNT(Runde4!B18:D18)=0,\"\",SUM(Runde4!B18:D18))","v":""},null,null,null,"RD 17",0,0]
["RD 18",0,0,{"$f":"IF(COUNT(Runde4!B19:D19)=0,\"\",SUM(Runde4!B19:D19))","v":""},null,null,null,"RD 18",0,0,{"$f":"IF(COUNT(Runde4!H13:J13)=0,\"\",SUM(Runde4!H13:J13))","v":""}]
["RD 19",0,0,{"$f":"IF(COUNT(Runde4!B20:D20)=0,\"\",SUM(Runde4!B20:D20))","v":""},null,null,null,"RD 19",0,0,{"$f":"IF(COUNT(Runde4!H14:J14)=0,\"\",SUM(Runde4!H14:J14))","v":""}]
["RD 20",0,0,{"$f":"IF(COUNT(Runde4!B21:D21)=0,\"\",SUM(Runde4!B21:D21))","v":""},null,null,null,"RD 20",0,0,{"$f":"IF(COUNT(Runde4!H15:J15)=0,\"\",SUM(Runde4!H15:J15))","v":""}]
["RD 21",0,0,{"$f":"IF(COUNT(Runde4!B22:D22)=0,\"\",SUM(Runde4!B22:D22))","v":""},null,null,null,"RD 21",0,0,{"$f":"IF(COUNT(Runde4!H16:J16)=0,\"\",SUM(Runde4!H16:J16))","v":""}]
["RD 22",0,0,{"$f":"IF(COUNT(Runde4!B23:D23)=0,\"\",SUM(Runde4!B23:D23))","v":""},null,null,null,"RD 22",0,0]
["RD 23",0,0,{"$f":"IF(COUNT(Runde4!B24:D24)=0,\"\",SUM(Runde4!B24:D24))","v":""},null,null,null,"RD 23",0,0,{"$f":"IF(COUNT(Runde4!H17:J17)=0,\"\",SUM(Runde4!H17:J17))","v":""}]
["RD 24",0,0,{"$f":"IF(COUNT(Runde4!B25:D25)=0,\"\",SUM(Runde4!B25:D25))","v":""},null,null,null,"RD 24",0,0,{"$f":"IF(COUNT(Runde4!H18:J18)=0,\"\",SUM(Runde4!H18:J18))","v":""}]
["RD 25",0,0,{"$f":"IF(COUNT(Runde4!B26:D26)=0,\"\",SUM(Runde4!B26:D26))","v":""},null,null,null,"RD 25",0,0,{"$f":"IF(COUNT(Runde4!H19:J19)=0,\"\",SUM(Runde4!H19:J19))","v":""}]
["RD 26",0,0,{"$f":"IF(COUNT(Runde4!B27:D27)=0,\"\",SUM(Runde4!B27:D27))","v":""},null,null,null,"RD 26",0,0]
["RD 27",0,0,{"$f":"IF(COUNT(Runde4!B28:D28)=0,\"\",SUM(Runde4!B28:D28))","v":""},null,null,null,"RD 27",0,0]
["RD 28",0,0,{"$f":"IF(COUNT(Runde4!B29:D29)=0,\"\",SUM(Runde4!B29:D29))","v":""},null,null,null,"RD 28",0,0]
["RD 29",0,0,{"$f":"IF(COUNT(Runde4!B30:D30)=0,\"\",SUM(Runde4!B30:D30))","v":""},{"$f":"IF(E4=0,\"Sieg\",\"\")","v":""},null,null,"RD 29",0,0,{"$f":"IF(COUNT(Runde4!H20:J20)=0,\"\",SUM(Runde4!H20:J20))","v":""},{"$f":"IF(L4=0,\"Sieg\",\"\")","v":""}]
["RD 30",0,0,{"$f":"IF(COUNT(Runde4!B31:D31)=0,\"\",SUM(Runde4!B31:D31))","v":""},null,null,null,"RD 30",0,0,{"$f":"IF(COUNT(Runde4!H21:J21)=0,\"\",SUM(Runde4!H21:J21))","v":""}]
[null,{"$f":"SUM(B4:B33)","v":1},{"$f":"SUM(C4:C33)","v":3},{"$f":"SUM(D5:D33)","v":0},{"$f":"SUM(D4:D32)","v":64},null,null,null,{"$f":"SUM(I4:I33)","v":1},{"$f":"SUM(J4:J33)","v":3},{"$f":"SUM(K4:K33)","v":105},{"$f":"SUM(K4:K32)","v":105}]
[null,null,null,null,{"$f":"IF(E3 > L3, D1, IF(D2 > L3, K1, \"Unentschieden\"))","v":0}]

{"sheet":"Rd. 5","index":4,"n_rows":35,"n_cols":15,"rows_kept":35,"cut":false,"hidden":false,"merged":[[31,4,32,5],[31,11,32,12],[16,4,21,5],[16,11,21,12],[10,4,11,5],[10,11,11,12],[12,4,15,5],[12,11,15,12],[22,4,30,5],[22,11,30,12],[0,3,0,4],[0,10,0,11],[7,4,7,5],[7,11,7,12],[8,4,9,5],[8,11,9,12]]}
[null,null,null,null,null,"Sp. 1",null,null,null,null,null,null,"Sp. 2"]
[null,null,null,"Punkte",501,"Start",null,null,null,null,"Punkte",501,"Start"]
[null,null,null,"Geworfen",{"$f":"SUM(D34)","v":0},"Punkte",null,null,null,null,"Geworfen",{"$f":"SUM(K34)","v":0},"Punkte"]
["RD 1",{"$f":"COUNT(D4)*1","v":0},{"$f":"COUNT(D4)*3","v":0},{"$f":"IF(COUNT(Runde5!B2:D2)=0,\"\",SUM(Runde5!B2:D2))","v":""},{"$f":"SUM(E2-E3)","v":501},"Rest",null,"RD 1",{"$f":"COUNT(K4)*1","v":0},{"$f":"COUNT(K4)*3","v":0},{"$f":"IF(COUNT(Runde5!H2:J2)=0,\"\",SUM(Runde5!H2:J2))","v":""},{"$f":"SUM(L2-L3)","v":501},"Rest"]
["RD 2",0,0,{"$f":"IF(COUNT(Runde5!B3:D3)=0,\"\",SUM(Runde5!B3:D3))","v":""},null,null,null,"RD 2",0,0,{"$f":"IF(COUNT(Runde5!H3:J3)=0,\"\",SUM(Runde5!H3:J3))","v":""},null,null,null,"Eintragen"]
["RD 3",0,0,{"$f":"IF(COUNT(Runde5!B4:D4)=0,\"\",SUM(Runde5!B4:D4))","v":""},"ø pro Spiel",{"$f":"SUM(E3)/B34","v":{"$error":"#DIV/0!"}},null,"RD 3",0,0,{"$f":"IF(COUNT(Runde5!H4:J4)=0,\"\",SUM(Runde5!H4:J4))","v":""},"ø pro Spiel",{"$f":"SUM(L3)/I34","v":{"$error":"#DIV/0!"}}]
["RD 4",0,0,{"$f":"IF(COUNT(Runde5!B5:D5)=0,\"\",SUM(Runde5!B5:D5))","v":""},"ø pro Pfeil",{"$f":"SUM(E3)/C34","v":{"$error":"#DIV/0!"}},null,"RD 4",0,0,{"$f":"IF(COUNT(Runde5!H5:J5)=0,\"\",SUM(Runde5!H5:J5))","v":""},"ø pro Pfeil",{"$f":"SUM(L3)/J34","v":{"$error":"#DIV/0!"}}]
["RD 5",0,0,{"$f":"IF(COUNT(Runde5!B6:D6)=0,\"\",SUM(Runde5!B6:D6))","v":""},"Average",null,null,"RD 5",0,0,{"$f":"IF(COUNT(Runde5!H6:J6)=0,\"\",SUM(Runde5!H6:J6))","v":""},"Average"]
["RD 6",0,0,{"$f":"IF(COUNT(Runde5!B7:D7)=0,\"\",SUM(Runde5!B7:D7))","v":""},{"$f":"SUM(F6)","v":{"$error":"#DIV/0!"}},null,null,"RD 6",0,0,{"$f":"IF(COUNT(Runde5!H7:J7)=0,\"\",SUM(Runde5!H7:J7))","v":""},{"$f":"SUM(M6)","v":{"$error":"#DIV/0!"}}]
["RD 7",0,0,{"$f":"IF(COUNT(Runde5!B8:D8)=0,\"\",SUM(Runde5!B8:D8))","v":""},null,null,null,"RD 7",0,0,{"$f":"IF(COUNT(Runde5!H8:J8)=0,\"\",SUM(Runde5!H8:J8))","v":""}]
["RD 8",0,0,null,"Nicht Gut",null,null,"RD 8",0,0,null,"Nicht Gut"]
["RD 9",0,0,{"$f":"IF(COUNT(Runde5!B9:D9)=0,\"\",SUM(Runde5!B9:D9))","v":""},null,null,null,"RD 9",0,0,{"$f":"IF(COUNT(Runde5!H9:J9)=0,\"\",SUM(Runde5!H9:J9))","v":""}]
["RD 10",0,0,null,"Gut",null,null,"RD 10",0,0,null,"Gut"]
["RD 11",0,0,null,null,null,null,"RD 11",0,0]
["RD 12",0,0,{"$f":"IF(COUNT(Runde5!B10:D10)=0,\"\",SUM(Runde5!B10:D10))","v":""},null,null,null,"RD 12",0,0,{"$f":"IF(COUNT(Runde5!H10:J10)=0,\"\",SUM(Runde5!H10:J10))","v":""}]
["RD 13",0,0,{"$f":"IF(COUNT(Runde5!B11:D11)=0,\"\",SUM(Runde5!B11:D11))","v":""},null,null,null,"RD 13",0,0,{"$f":"IF(COUNT(Runde5!H11:J11)=0,\"\",SUM(Runde5!H11:J11))","v":""}]
["RD 14",0,0,{"$f":"IF(COUNT(Runde5!B12:D12)=0,\"\",SUM(Runde5!B12:D12))","v":""},"Sehr  Gut",null,null,"RD 14",0,0,{"$f":"IF(COUNT(Runde5!H12:J12)=0,\"\",SUM(Runde5!H12:J12))","v":""},"Sehr  Gut"]
["RD 15",0,0,null,null,null,null,"RD 15",0,0]
["RD 16",0,0,null,null,null,null,"RD 16",0,0]
["RD 17",0,0,null,null,null,null,"RD 17",0,0]
["RD 18",0,0,{"$f":"IF(COUNT(Runde5!B13:D13)=0,\"\",SUM(Runde5!B13:D13))","v":""},null,null,null,"RD 18",0,0,{"$f":"IF(COUNT(Runde5!H13:J13)=0,\"\",SUM(Runde5!H13:J13))","v":""}]
["RD 19",0,0,{"$f":"IF(COUNT(Runde5!B14:D14)=0,\"\",SUM(Runde5!B14:D14))","v":""},null,null,null,"RD 19",0,0,{"$f":"IF(COUNT(Runde5!H14:J14)=0,\"\",SUM(Runde5!H14:J14))","v":""}]
["RD 20",0,0,{"$f":"IF(COUNT(Runde5!B15:D15)=0,\"\",SUM(Runde5!B15:D15))","v":""},null,null,null,"RD 20",0,0,{"$f":"IF(COUNT(Runde5!H15:J15)=0,\"\",SUM(Runde5!H15:J15))","v":""}]
["RD 21",0,0,{"$f":"IF(COUNT(Runde5!B16:D16)=0,\"\",SUM(Runde5!B16:D16))","v":""},null,null,null,"RD 21",0,0,{"$f":"IF(COUNT(Runde5!H16:J16)=0,\"\",SUM(Runde5!H16:J16))","v":""}]
["RD 22",0,0,null,null,null,null,"RD 22",0,0]
["RD 23",0,0,{"$f":"IF(COUNT(Runde5!B17:D17)=0,\"\",SUM(Runde5!B17:D17))","v":""},null,null,null,"RD 23",0,0,{"$f":"IF(COUNT(Runde5!H17:J17)=0,\"\",SUM(Runde5!H17:J17))","v":""}]
["RD 24",0,0,{"$f":"IF(COUNT(Runde5!B18:D18)=0,\"\",SUM(Runde5!B18:D18))","v":""},null,null,null,"RD 24",0,0,{"$f":"IF(COUNT(Runde5!H18:J18)=0,\"\",SUM(Runde5!H18:J18))","v":""}]
["RD 25",0,0,{"$f":"IF(COUNT(Runde5!B19:D19)=0,\"\",SUM(Runde5!B19:D19))","v":""},null,null,null,"RD 25",0,0,{"$f":"IF(COUNT(Runde5!H19:J19)=0,\"\",SUM(Runde5!H19:J19))","v":""}]
["RD 26",0,0,null,null,null,null,"RD 26",0,0]
["RD 27",0,0,null,null,null,null,"RD 27",0,0]
["RD 28",0,0,null,null,null,null,"RD 28",0,0]
["RD 29",0,0,{"$f":"IF(COUNT(Runde5!B20:D20)=0,\"\",SUM(Runde5!B20:D20))","v":""},{"$f":"IF(E4=0,\"Sieg\",\"\")","v":""},null,null,"RD 29",0,0,{"$f":"IF(COUNT(Runde5!H20:J20)=0,\"\",SUM(Runde5!H20:J20))","v":""},{"$f":"IF(L4=0,\"Sieg\",\"\")","v":""}]
["RD 30",0,0,{"$f":"IF(COUNT(Runde5!B21:D21)=0,\"\",SUM(Runde5!B21:D21))","v":""},null,null,null,"RD 30",0,0,{"$f":"IF(COUNT(Runde5!H21:J21)=0,\"\",SUM(Runde5!H21:J21))","v":""}]
[null,{"$f":"SUM(B4:B33)","v":0},{"$f":"SUM(C4:C33)","v":0},{"$f":"SUM(D4:D33)","v":0},{"$f":"SUM(D4:D32)","v":0},null,null,null,{"$f":"SUM(I4:I33)","v":0},{"$f":"SUM(J4:J33)","v":0},{"$f":"SUM(K4:K33)","v":0},{"$f":"SUM(K4:K32)","v":0}]
[null,null,null,null,{"$f":"IF(E3 > L3, D1, IF(D2 > L3, K1, \"Unentschieden\"))","v":0}]

{"sheet":"Rd. 6","index":5,"n_rows":35,"n_cols":15,"rows_kept":35,"cut":false,"hidden":false,"merged":[[31,4,32,5],[31,11,32,12],[16,4,21,5],[16,11,21,12],[10,4,11,5],[10,11,11,12],[12,4,15,5],[12,11,15,12],[22,4,30,5],[22,11,30,12],[0,3,0,4],[0,10,0,11],[7,4,7,5],[7,11,7,12],[8,4,9,5],[8,11,9,12]]}
[null,null,null,null,null,"Sp. 1",null,null,null,null,null,null,"Sp. 2"]
[null,null,null,"Punkte",501,"Start",null,null,null,null,"Punkte",501,"Start"]
[null,null,null,"Geworfen",{"$f":"SUM(D34)","v":0},"Punkte",null,null,null,null,"Geworfen",{"$f":"SUM(K34)","v":0},"Punkte"]
["RD 1",{"$f":"COUNT(D4)*1","v":0},{"$f":"COUNT(D4)*3","v":0},{"$f":"IF(COUNT(Runde6!B2:D2)=0,\"\",SUM(Runde6!B2:D2))","v":""},{"$f":"SUM(E2-E3)","v":501},"Rest",null,"RD 1",{"$f":"COUNT(K4)*1","v":0},{"$f":"COUNT(K4)*3","v":0},{"$f":"IF(COUNT(Runde6!H2:J2)=0,\"\",SUM(Runde6!H2:J2))","v":""},{"$f":"SUM(L2-L3)","v":501},"Rest"]
["RD 2",0,0,{"$f":"IF(COUNT(Runde6!B3:D3)=0,\"\",SUM(Runde6!B3:D3))","v":""},null,null,null,"RD 2",0,0,{"$f":"IF(COUNT(Runde6!H3:J3)=0,\"\",SUM(Runde6!H3:J3))","v":""},null,null,null,"Eintragen"]
["RD 3",0,0,{"$f":"IF(COUNT(Runde6!B4:D4)=0,\"\",SUM(Runde6!B4:D4))","v":""},"ø pro Spiel",{"$f":"SUM(E3)/B34","v":{"$error":"#DIV/0!"}},null,"RD 3",0,0,{"$f":"IF(COUNT(Runde6!H4:J4)=0,\"\",SUM(Runde6!H4:J4))","v":""},"ø pro Spiel",{"$f":"SUM(L3)/I34","v":{"$error":"#DIV/0!"}}]
["RD 4",0,0,{"$f":"IF(COUNT(Runde6!B5:D5)=0,\"\",SUM(Runde6!B5:D5))","v":""},"ø pro Pfeil",{"$f":"SUM(E3)/C34","v":{"$error":"#DIV/0!"}},null,"RD 4",{"$f":"COUNT(K7)*1","v":0},0,{"$f":"IF(COUNT(Runde6!H5:J5)=0,\"\",SUM(Runde6!H5:J5))","v":""},"ø pro Pfeil",{"$f":"SUM(L3)/J34","v":{"$error":"#DIV/0!"}}]
["RD 5",0,0,{"$f":"IF(COUNT(Runde6!B6:D6)=0,\"\",SUM(Runde6!B6:D6))","v":""},"Average",null,null,"RD 5",0,0,{"$f":"IF(COUNT(Runde6!H6:J6)=0,\"\",SUM(Runde6!H6:J6))","v":""},"Average"]
["RD 6",0,0,{"$f":"IF(COUNT(Runde6!B7:D7)=0,\"\",SUM(Runde6!B7:D7))","v":""},{"$f":"SUM(F6)","v":{"$error":"#DIV/0!"}},null,null,"RD 6",0,0,{"$f":"IF(COUNT(Runde6!H7:J7)=0,\"\",SUM(Runde6!H7:J7))","v":""},{"$f":"SUM(M6)","v":{"$error":"#DIV/0!"}}]
["RD 7",0,0,{"$f":"IF(COUNT(Runde6!B8:D8)=0,\"\",SUM(Runde6!B8:D8))","v":""},null,null,null,"RD 7",0,0,{"$f":"IF(COUNT(Runde6!H8:J8)=0,\"\",SUM(Runde6!H8:J8))","v":""}]
["RD 8",0,0,null,"Nicht Gut",null,null,"RD 8",0,0,null,"Nicht Gut"]
["RD 9",0,0,{"$f":"IF(COUNT(Runde6!B9:D9)=0,\"\",SUM(Runde6!B9:D9))","v":""},null,null,null,"RD 9",0,0,{"$f":"IF(COUNT(Runde6!H9:J9)=0,\"\",SUM(Runde6!H9:J9))","v":""}]
["RD 10",0,0,null,"Gut",null,null,"RD 10",0,0,null,"Gut"]
["RD 11",0,0,null,null,null,null,"RD 11",0,0]
["RD 12",0,0,{"$f":"IF(COUNT(Runde6!B10:D10)=0,\"\",SUM(Runde6!B10:D10))","v":""},null,null,null,"RD 12",0,0,{"$f":"IF(COUNT(Runde6!H10:J10)=0,\"\",SUM(Runde6!H10:J10))","v":""}]
["RD 13",0,0,{"$f":"IF(COUNT(Runde6!B11:D11)=0,\"\",SUM(Runde6!B11:D11))","v":""},null,null,null,"RD 13",0,0,{"$f":"IF(COUNT(Runde6!H11:J11)=0,\"\",SUM(Runde6!H11:J11))","v":""}]
["RD 14",0,0,{"$f":"IF(COUNT(Runde6!B12:D12)=0,\"\",SUM(Runde6!B12:D12))","v":""},"Sehr  Gut",null,null,"RD 14",0,0,{"$f":"IF(COUNT(Runde6!H12:J12)=0,\"\",SUM(Runde6!H12:J12))","v":""},"Sehr  Gut"]
["RD 15",0,0,null,null,null,null,"RD 15",0,0]
["RD 16",0,0,null,null,null,null,"RD 16",0,0]
["RD 17",0,0,null,null,null,null,"RD 17",0,0]
["RD 18",0,0,{"$f":"IF(COUNT(Runde6!B13:D13)=0,\"\",SUM(Runde6!B13:D13))","v":""},null,null,null,"RD 18",0,0,{"$f":"IF(COUNT(Runde6!H13:J13)=0,\"\",SUM(Runde6!H13:J13))","v":""}]
["RD 19",0,0,{"$f":"IF(COUNT(Runde6!B14:D14)=0,\"\",SUM(Runde6!B14:D14))","v":""},null,null,null,"RD 19",0,0,{"$f":"IF(COUNT(Runde6!H14:J14)=0,\"\",SUM(Runde6!H14:J14))","v":""}]
["RD 20",0,0,{"$f":"IF(COUNT(Runde6!B15:D15)=0,\"\",SUM(Runde6!B15:D15))","v":""},null,null,null,"RD 20",0,0,{"$f":"IF(COUNT(Runde6!H15:J15)=0,\"\",SUM(Runde6!H15:J15))","v":""}]
["RD 21",0,0,{"$f":"IF(COUNT(Runde6!B16:D16)=0,\"\",SUM(Runde6!B16:D16))","v":""},null,null,null,"RD 21",0,0,{"$f":"IF(COUNT(Runde6!H16:J16)=0,\"\",SUM(Runde6!H16:J16))","v":""}]
["RD 22",0,0,null,null,null,null,"RD 22",0,0]
["RD 23",0,0,{"$f":"IF(COUNT(Runde6!B17:D17)=0,\"\",SUM(Runde6!B17:D17))","v":""},null,null,null,"RD 23",0,0,{"$f":"IF(COUNT(Runde6!H17:J17)=0,\"\",SUM(Runde6!H17:J17))","v":""}]
["RD 24",0,0,{"$f":"IF(COUNT(Runde6!B18:D18)=0,\"\",SUM(Runde6!B18:D18))","v":""},null,null,null,"RD 24",0,0,{"$f":"IF(COUNT(Runde6!H18:J18)=0,\"\",SUM(Runde6!H18:J18))","v":""}]
["RD 25",0,0,{"$f":"IF(COUNT(Runde6!B19:D19)=0,\"\",SUM(Runde6!B19:D19))","v":""},null,null,null,"RD 25",0,0,{"$f":"IF(COUNT(Runde6!H19:J19)=0,\"\",SUM(Runde6!H19:J19))","v":""}]
["RD 26",0,0,null,null,null,null,"RD 26",0,0]
["RD 27",0,0,null,null,null,null,"RD 27",0,0]
["RD 28",0,0,null,null,null,null,"RD 28",0,0]
["RD 29",0,0,{"$f":"IF(COUNT(Runde6!B20:D20)=0,\"\",SUM(Runde6!B20:D20))","v":""},{"$f":"IF(E4=0,\"Sieg\",\"\")","v":""},null,null,"RD 29",0,0,{"$f":"IF(COUNT(Runde6!H20:J20)=0,\"\",SUM(Runde6!H20:J20))","v":""},{"$f":"IF(L4=0,\"Sieg\",\"\")","v":""}]
["RD 30",0,0,{"$f":"IF(COUNT(Runde6!B21:D21)=0,\"\",SUM(Runde6!B21:D21))","v":""},null,null,null,"RD 30",0,0,{"$f":"IF(COUNT(Runde6!H21:J21)=0,\"\",SUM(Runde6!H21:J21))","v":""}]
[null,{"$f":"SUM(B4:B33)","v":0},{"$f":"SUM(C4:C33)","v":0},{"$f":"SUM(D4:D33)","v":0},{"$f":"SUM(D4:D32)","v":0},null,null,null,{"$f":"SUM(I4:I33)","v":0},{"$f":"SUM(J4:J33)","v":0},{"$f":"SUM(K4:K33)","v":0},{"$f":"SUM(K4:K32)","v":0}]
[null,null,null,null,{"$f":"IF(E3 > L3, D1, IF(D2 > L3, K1, \"Unentschieden\"))","v":0}]

{"sheet":"Rd. 7","index":6,"n_rows":35,"n_cols":15,"rows_kept":35,"cut":false,"hidden":false,"merged":[[31,4,32,5],[31,11,32,12],[16,4,21,5],[16,11,21,12],[10,4,11,5],[10,11,11,12],[12,4,15,5],[12,11,15,12],[22,4,30,5],[22,11,30,12],[0,3,0,4],[0,10,0,11],[7,4,7,5],[7,11,7,12],[8,4,9,5],[8,11,9,12]]}
[null,null,null,null,null,"Sp. 1",null,null,null,null,null,null,"Sp. 2"]
[null,null,null,"Punkte",501,"Start",null,null,null,null,"Punkte",501,"Start"]
[null,null,null,"Geworfen",{"$f":"SUM(D34)","v":0},"Punkte",null,null,null,null,"Geworfen",{"$f":"SUM(K34)","v":0},"Punkte"]
["RD 1",{"$f":"COUNT(D4)*1","v":0},{"$f":"COUNT(D4)*3","v":0},{"$f":"IF(COUNT(Runde7!B2:D2)=0,\"\",SUM(Runde7!B2:D2))","v":""},{"$f":"SUM(E2-E3)","v":501},"Rest",null,"RD 1",{"$f":"COUNT(K4)*1","v":0},{"$f":"COUNT(K4)*3","v":0},{"$f":"IF(COUNT(Runde7!H2:J2)=0,\"\",SUM(Runde7!H2:J2))","v":""},{"$f":"SUM(L2-L3)","v":501},"Rest"]
["RD 2",0,0,{"$f":"IF(COUNT(Runde7!B3:D3)=0,\"\",SUM(Runde7!B3:D3))","v":""},null,null,null,"RD 2",0,0,{"$f":"IF(COUNT(Runde7!H3:J3)=0,\"\",SUM(Runde7!H3:J3))","v":""},null,null,null,"Eintragen"]
["RD 3",0,0,{"$f":"IF(COUNT(Runde7!B4:D4)=0,\"\",SUM(Runde7!B4:D4))","v":""},"ø pro Spiel",{"$f":"SUM(E3)/B34","v":{"$error":"#DIV/0!"}},null,"RD 3",0,0,{"$f":"IF(COUNT(Runde7!H4:J4)=0,\"\",SUM(Runde7!H4:J4))","v":""},"ø pro Spiel",{"$f":"SUM(L3)/I34","v":{"$error":"#DIV/0!"}}]
["RD 4",0,0,{"$f":"IF(COUNT(Runde7!B5:D5)=0,\"\",SUM(Runde7!B5:D5))","v":""},"ø pro Pfeil",{"$f":"SUM(E3)/C34","v":{"$error":"#DIV/0!"}},null,"RD 4",0,0,{"$f":"IF(COUNT(Runde7!H5:J5)=0,\"\",SUM(Runde7!H5:J5))","v":""},"ø pro Pfeil",{"$f":"SUM(L3)/J34","v":{"$error":"#DIV/0!"}}]
["RD 5",0,0,{"$f":"IF(COUNT(Runde7!B6:D6)=0,\"\",SUM(Runde7!B6:D6))","v":""},"Average",null,null,"RD 5",0,0,{"$f":"IF(COUNT(Runde7!H6:J6)=0,\"\",SUM(Runde7!H6:J6))","v":""},"Average"]
["RD 6",0,0,{"$f":"IF(COUNT(Runde7!B7:D7)=0,\"\",SUM(Runde7!B7:D7))","v":""},{"$f":"SUM(F6)","v":{"$error":"#DIV/0!"}},null,null,"RD 6",0,0,{"$f":"IF(COUNT(Runde7!H7:J7)=0,\"\",SUM(Runde7!H7:J7))","v":""},{"$f":"SUM(M6)","v":{"$error":"#DIV/0!"}}]
["RD 7",0,0,{"$f":"IF(COUNT(Runde7!B8:D8)=0,\"\",SUM(Runde7!B8:D8))","v":""},null,null,null,"RD 7",0,0,{"$f":"IF(COUNT(Runde7!H8:J8)=0,\"\",SUM(Runde7!H8:J8))","v":""}]
["RD 8",0,0,null,"Nicht Gut",null,null,"RD 8",0,0,null,"Nicht Gut"]
["RD 9",0,0,{"$f":"IF(COUNT(Runde7!B9:D9)=0,\"\",SUM(Runde7!B9:D9))","v":""},null,null,null,"RD 9",0,0,{"$f":"IF(COUNT(Runde7!H9:J9)=0,\"\",SUM(Runde7!H9:J9))","v":""}]
["RD 10",0,0,null,"Gut",null,null,"RD 10",0,0,null,"Gut"]
["RD 11",0,0,null,null,null,null,"RD 11",0,0]
["RD 12",0,0,{"$f":"IF(COUNT(Runde7!B10:D10)=0,\"\",SUM(Runde7!B10:D10))","v":""},null,null,null,"RD 12",0,0,{"$f":"IF(COUNT(Runde7!H10:J10)=0,\"\",SUM(Runde7!H10:J10))","v":""}]
["RD 13",0,0,{"$f":"IF(COUNT(Runde7!B11:D11)=0,\"\",SUM(Runde7!B11:D11))","v":""},null,null,null,"RD 13",0,0,{"$f":"IF(COUNT(Runde7!H11:J11)=0,\"\",SUM(Runde7!H11:J11))","v":""}]
["RD 14",0,0,{"$f":"IF(COUNT(Runde7!B12:D12)=0,\"\",SUM(Runde7!B12:D12))","v":""},"Sehr  Gut",null,null,"RD 14",0,0,{"$f":"IF(COUNT(Runde7!H12:J12)=0,\"\",SUM(Runde7!H12:J12))","v":""},"Sehr  Gut"]
["RD 15",0,0,null,null,null,null,"RD 15",0,0]
["RD 16",0,0,null,null,null,null,"RD 16",0,0]
["RD 17",0,0,null,null,null,null,"RD 17",0,0]
["RD 18",0,0,{"$f":"IF(COUNT(Runde7!B13:D13)=0,\"\",SUM(Runde7!B13:D13))","v":""},null,null,null,"RD 18",0,0,{"$f":"IF(COUNT(Runde7!H13:J13)=0,\"\",SUM(Runde7!H13:J13))","v":""}]
["RD 19",0,0,{"$f":"IF(COUNT(Runde7!B14:D14)=0,\"\",SUM(Runde7!B14:D14))","v":""},null,null,null,"RD 19",0,0,{"$f":"IF(COUNT(Runde7!H14:J14)=0,\"\",SUM(Runde7!H14:J14))","v":""}]
["RD 20",0,0,{"$f":"IF(COUNT(Runde7!B15:D15)=0,\"\",SUM(Runde7!B15:D15))","v":""},null,null,null,"RD 20",0,0,{"$f":"IF(COUNT(Runde7!H15:J15)=0,\"\",SUM(Runde7!H15:J15))","v":""}]
["RD 21",0,0,{"$f":"IF(COUNT(Runde7!B16:D16)=0,\"\",SUM(Runde7!B16:D16))","v":""},null,null,null,"RD 21",0,0,{"$f":"IF(COUNT(Runde7!H16:J16)=0,\"\",SUM(Runde7!H16:J16))","v":""}]
["RD 22",0,0,null,null,null,null,"RD 22",0,0]
["RD 23",0,0,{"$f":"IF(COUNT(Runde7!B17:D17)=0,\"\",SUM(Runde7!B17:D17))","v":""},null,null,null,"RD 23",0,0,{"$f":"IF(COUNT(Runde7!H17:J17)=0,\"\",SUM(Runde7!H17:J17))","v":""}]
["RD 24",0,0,{"$f":"IF(COUNT(Runde7!B18:D18)=0,\"\",SUM(Runde7!B18:D18))","v":""},null,null,null,"RD 24",0,0,{"$f":"IF(COUNT(Runde7!H18:J18)=0,\"\",SUM(Runde7!H18:J18))","v":""}]
["RD 25",0,0,{"$f":"IF(COUNT(Runde7!B19:D19)=0,\"\",SUM(Runde7!B19:D19))","v":""},null,null,null,"RD 25",0,0,{"$f":"IF(COUNT(Runde7!H19:J19)=0,\"\",SUM(Runde7!H19:J19))","v":""}]
["RD 26",0,0,null,null,null,null,"RD 26",0,0]
["RD 27",0,0,null,null,null,null,"RD 27",0,0]
["RD 28",0,0,null,null,null,null,"RD 28",0,0]
["RD 29",0,0,{"$f":"IF(COUNT(Runde7!B20:D20)=0,\"\",SUM(Runde7!B20:D20))","v":""},{"$f":"IF(E4=0,\"Sieg\",\"\")","v":""},null,null,"RD 29",0,0,{"$f":"IF(COUNT(Runde7!H20:J20)=0,\"\",SUM(Runde7!H20:J20))","v":""},{"$f":"IF(L4=0,\"Sieg\",\"\")","v":""}]
["RD 30",0,0,{"$f":"IF(COUNT(Runde7!B21:D21)=0,\"\",SUM(Runde7!B21:D21))","v":""},null,null,null,"RD 30",0,0,{"$f":"IF(COUNT(Runde7!H21:J21)=0,\"\",SUM(Runde7!H21:J21))","v":""}]
[null,{"$f":"SUM(B4:B33)","v":0},{"$f":"SUM(C4:C33)","v":0},{"$f":"SUM(D4:D33)","v":0},{"$f":"SUM(D4:D32)","v":0},null,null,null,{"$f":"SUM(I4:I33)","v":0},{"$f":"SUM(J4:J33)","v":0},{"$f":"SUM(K4:K33)","v":0},{"$f":"SUM(K4:K32)","v":0}]
[null,null,null,null,{"$f":"IF(E3 > L3, D1, IF(D2 > L3, K1, \"Unentschieden\"))","v":0}]

{"sheet":"Rd. 8","index":7,"n_rows":35,"n_cols":15,"rows_kept":35,"cut":false,"hidden":false,"merged":[[31,4,32,5],[31,11,32,12],[16,4,21,5],[16,11,21,12],[10,4,11,5],[10,11,11,12],[12,4,15,5],[12,11,15,12],[22,4,30,5],[22,11,30,12],[0,3,0,4],[0,10,0,11],[7,4,7,5],[7,11,7,12],[8,4,9,5],[8,11,9,12]]}
[null,null,null,null,null,"Sp. 1",null,null,null,null,null,null,"Sp. 2"]
[null,null,null,"Punkte",501,"Start",null,null,null,null,"Punkte",501,"Start"]
[null,null,null,"Geworfen",{"$f":"SUM(D34)","v":0},"Punkte",null,null,null,null,"Geworfen",{"$f":"SUM(K34)","v":0},"Punkte"]
["RD 1",{"$f":"COUNT(D4)*1","v":0},{"$f":"COUNT(D4)*3","v":0},{"$f":"IF(COUNT(Runde8!B2:D2)=0,\"\",SUM(Runde8!B2:D2))","v":""},{"$f":"SUM(E2-E3)","v":501},"Rest",null,"RD 1",{"$f":"COUNT(K4)*1","v":0},{"$f":"COUNT(K4)*3","v":0},{"$f":"IF(COUNT(Runde8!H2:J2)=0,\"\",SUM(Runde8!H2:J2))","v":""},{"$f":"SUM(L2-L3)","v":501},"Rest"]
["RD 2",0,0,{"$f":"IF(COUNT(Runde8!B3:D3)=0,\"\",SUM(Runde8!B3:D3))","v":""},null,null,null,"RD 2",0,0,{"$f":"IF(COUNT(Runde8!H3:J3)=0,\"\",SUM(Runde8!H3:J3))","v":""},null,null,null,"Eintragen"]
["RD 3",0,0,{"$f":"IF(COUNT(Runde8!B4:D4)=0,\"\",SUM(Runde8!B4:D4))","v":""},"ø pro Spiel",{"$f":"SUM(E3)/B34","v":{"$error":"#DIV/0!"}},null,"RD 3",0,0,{"$f":"IF(COUNT(Runde8!H4:J4)=0,\"\",SUM(Runde8!H4:J4))","v":""},"ø pro Spiel",{"$f":"SUM(L3)/I34","v":{"$error":"#DIV/0!"}}]
["RD 4",0,0,{"$f":"IF(COUNT(Runde8!B5:D5)=0,\"\",SUM(Runde8!B5:D5))","v":""},"ø pro Pfeil",{"$f":"SUM(E3)/C34","v":{"$error":"#DIV/0!"}},null,"RD 4",0,0,{"$f":"IF(COUNT(Runde8!H5:J5)=0,\"\",SUM(Runde8!H5:J5))","v":""},"ø pro Pfeil",{"$f":"SUM(L3)/J34","v":{"$error":"#DIV/0!"}}]
["RD 5",0,0,{"$f":"IF(COUNT(Runde8!B6:D6)=0,\"\",SUM(Runde8!B6:D6))","v":""},"Average",null,null,"RD 5",0,0,{"$f":"IF(COUNT(Runde8!H6:J6)=0,\"\",SUM(Runde8!H6:J6))","v":""},"Average"]
["RD 6",0,0,{"$f":"IF(COUNT(Runde8!B7:D7)=0,\"\",SUM(Runde8!B7:D7))","v":""},{"$f":"SUM(F6)","v":{"$error":"#DIV/0!"}},null,null,"RD 6",0,0,{"$f":"IF(COUNT(Runde8!H7:J7)=0,\"\",SUM(Runde8!H7:J7))","v":""},{"$f":"SUM(M6)","v":{"$error":"#DIV/0!"}}]
["RD 7",0,0,{"$f":"IF(COUNT(Runde8!B8:D8)=0,\"\",SUM(Runde8!B8:D8))","v":""},null,null,null,"RD 7",0,0,{"$f":"IF(COUNT(Runde8!H8:J8)=0,\"\",SUM(Runde8!H8:J8))","v":""}]
["RD 8",0,0,null,"Nicht Gut",null,null,"RD 8",0,0,null,"Nicht Gut"]
["RD 9",0,0,{"$f":"IF(COUNT(Runde8!B9:D9)=0,\"\",SUM(Runde8!B9:D9))","v":""},null,null,null,"RD 9",0,0,{"$f":"IF(COUNT(Runde8!H9:J9)=0,\"\",SUM(Runde8!H9:J9))","v":""}]
["RD 10",0,0,null,"Gut",null,null,"RD 10",0,0,null,"Gut"]
["RD 11",0,0,null,null,null,null,"RD 11",0,0]
["RD 12",0,0,{"$f":"IF(COUNT(Runde8!B10:D10)=0,\"\",SUM(Runde8!B10:D10))","v":""},null,null,null,"RD 12",0,0,{"$f":"IF(COUNT(Runde8!H10:J10)=0,\"\",SUM(Runde8!H10:J10))","v":""}]
["RD 13",0,0,{"$f":"IF(COUNT(Runde8!B11:D11)=0,\"\",SUM(Runde8!B11:D11))","v":""},null,null,null,"RD 13",0,0,{"$f":"IF(COUNT(Runde8!H11:J11)=0,\"\",SUM(Runde8!H11:J11))","v":""}]
["RD 14",0,0,{"$f":"IF(COUNT(Runde8!B12:D12)=0,\"\",SUM(Runde8!B12:D12))","v":""},"Sehr  Gut",null,null,"RD 14",0,0,{"$f":"IF(COUNT(Runde8!H12:J12)=0,\"\",SUM(Runde8!H12:J12))","v":""},"Sehr  Gut"]
["RD 15",0,0,null,null,null,null,"RD 15",0,0]
["RD 16",0,0,null,null,null,null,"RD 16",0,0]
["RD 17",0,0,null,null,null,null,"RD 17",0,0]
["RD 18",0,0,{"$f":"IF(COUNT(Runde8!B13:D13)=0,\"\",SUM(Runde8!B13:D13))","v":""},null,null,null,"RD 18",0,0,{"$f":"IF(COUNT(Runde8!H13:J13)=0,\"\",SUM(Runde8!H13:J13))","v":""}]
["RD 19",0,0,{"$f":"IF(COUNT(Runde8!B14:D14)=0,\"\",SUM(Runde8!B14:D14))","v":""},null,null,null,"RD 19",0,0,{"$f":"IF(COUNT(Runde8!H14:J14)=0,\"\",SUM(Runde8!H14:J14))","v":""}]
["RD 20",0,0,{"$f":"IF(COUNT(Runde8!B15:D15)=0,\"\",SUM(Runde8!B15:D15))","v":""},null,null,null,"RD 20",0,0,{"$f":"IF(COUNT(Runde8!H15:J15)=0,\"\",SUM(Runde8!H15:J15))","v":""}]
["RD 21",0,0,{"$f":"IF(COUNT(Runde8!B16:D16)=0,\"\",SUM(Runde8!B16:D16))","v":""},null,null,null,"RD 21",0,0,{"$f":"IF(COUNT(Runde8!H16:J16)=0,\"\",SUM(Runde8!H16:J16))","v":""}]
["RD 22",0,0,null,null,null,null,"RD 22",0,0]
["RD 23",0,0,{"$f":"IF(COUNT(Runde8!B17:D17)=0,\"\",SUM(Runde8!B17:D17))","v":""},null,null,null,"RD 23",0,0,{"$f":"IF(COUNT(Runde8!H17:J17)=0,\"\",SUM(Runde8!H17:J17))","v":""}]
["RD 24",0,0,{"$f":"IF(COUNT(Runde8!B18:D18)=0,\"\",SUM(Runde8!B18:D18))","v":""},null,null,null,"RD 24",0,0,{"$f":"IF(COUNT(Runde8!H18:J18)=0,\"\",SUM(Runde8!H18:J18))","v":""}]
["RD 25",0,0,{"$f":"IF(COUNT(Runde8!B19:D19)=0,\"\",SUM(Runde8!B19:D19))","v":""},null,null,null,"RD 25",0,0,{"$f":"IF(COUNT(Runde8!H19:J19)=0,\"\",SUM(Runde8!H19:J19))","v":""}]
["RD 26",0,0,null,null,null,null,"RD 26",0,0]
["RD 27",0,0,null,null,null,null,"RD 27",0,0]
["RD 28",0,0,null,null,null,null,"RD 28",0,0]
["RD 29",0,0,{"$f":"IF(COUNT(Runde8!B20:D20)=0,\"\",SUM(Runde8!B20:D20))","v":""},{"$f":"IF(E4=0,\"Sieg\",\"\")","v":""},null,null,"RD 29",0,0,{"$f":"IF(COUNT(Runde8!H20:J20)=0,\"\",SUM(Runde8!H20:J20))","v":""},{"$f":"IF(L4=0,\"Sieg\",\"\")","v":""}]
["RD 30",0,0,null,null,null,null,"RD 30",0,0,{"$f":"IF(COUNT(Runde8!H21:J21)=0,\"\",SUM(Runde8!H21:J21))","v":""}]
[null,{"$f":"SUM(B4:B33)","v":0},{"$f":"SUM(C4:C33)","v":0},{"$f":"SUM(D4:D33)","v":0},{"$f":"SUM(D4:D32)","v":0},null,null,null,{"$f":"SUM(I4:I33)","v":0},{"$f":"SUM(J4:J33)","v":0},{"$f":"SUM(K4:K33)","v":0},{"$f":"SUM(K4:K32)","v":0}]
[null,null,null,null,{"$f":"IF(E3 > L3, D1, IF(D2 > L3, K1, \"Unentschieden\"))","v":0}]

{"sheet":"Rd. 9","index":8,"n_rows":35,"n_cols":15,"rows_kept":35,"cut":false,"hidden":false,"merged":[[31,4,32,5],[31,11,32,12],[16,4,21,5],[16,11,21,12],[10,4,11,5],[10,11,11,12],[12,4,15,5],[12,11,15,12],[22,4,30,5],[22,11,30,12],[0,3,0,4],[0,10,0,11],[7,4,7,5],[7,11,7,12],[8,4,9,5],[8,11,9,12]]}
[null,null,null,null,null,"Sp. 1",null,null,null,null,null,null,"Sp. 2"]
[null,null,null,"Punkte",501,"Start",null,null,null,null,"Punkte",501,"Start"]
[null,null,null,"Geworfen",{"$f":"SUM(D34)","v":0},"Punkte",null,null,null,null,"Geworfen",{"$f":"SUM(K34)","v":0},"Punkte"]
["RD 1",{"$f":"COUNT(D4)*1","v":0},{"$f":"COUNT(D4)*3","v":0},{"$f":"IF(COUNT(Runde9!B2:D2)=0,\"\",SUM(Runde9!B2:D2))","v":""},{"$f":"SUM(E2-E3)","v":501},"Rest",null,"RD 1",{"$f":"COUNT(K4)*1","v":0},{"$f":"COUNT(K4)*3","v":0},{"$f":"IF(COUNT(Runde9!H2:J2)=0,\"\",SUM(Runde9!H2:J2))","v":""},{"$f":"SUM(L2-L3)","v":501},"Rest"]
["RD 2",0,0,{"$f":"IF(COUNT(Runde9!B3:D3)=0,\"\",SUM(Runde9!B3:D3))","v":""},null,null,null,"RD 2",0,0,{"$f":"IF(COUNT(Runde9!H3:J3)=0,\"\",SUM(Runde9!H3:J3))","v":""},null,null,null,"Eintragen"]
["RD 3",0,0,{"$f":"IF(COUNT(Runde9!B4:D4)=0,\"\",SUM(Runde9!B4:D4))","v":""},"ø pro Spiel",{"$f":"SUM(E3)/B34","v":{"$error":"#DIV/0!"}},null,"RD 3",0,0,{"$f":"IF(COUNT(Runde9!H4:J4)=0,\"\",SUM(Runde9!H4:J4))","v":""},"ø pro Spiel",{"$f":"SUM(L3)/I34","v":{"$error":"#DIV/0!"}}]
["RD 4",0,0,{"$f":"IF(COUNT(Runde9!B5:D5)=0,\"\",SUM(Runde9!B5:D5))","v":""},"ø pro Pfeil",{"$f":"SUM(E3)/C34","v":{"$error":"#DIV/0!"}},null,"RD 4",0,0,{"$f":"IF(COUNT(Runde9!H5:J5)=0,\"\",SUM(Runde9!H5:J5))","v":""},"ø pro Pfeil",{"$f":"SUM(L3)/J34","v":{"$error":"#DIV/0!"}}]
["RD 5",0,0,{"$f":"IF(COUNT(Runde9!B6:D6)=0,\"\",SUM(Runde9!B6:D6))","v":""},"Average",null,null,"RD 5",0,0,{"$f":"IF(COUNT(Runde9!H6:J6)=0,\"\",SUM(Runde9!H6:J6))","v":""},"Average"]
["RD 6",0,0,{"$f":"IF(COUNT(Runde9!B7:D7)=0,\"\",SUM(Runde9!B7:D7))","v":""},{"$f":"SUM(F6)","v":{"$error":"#DIV/0!"}},null,null,"RD 6",0,0,{"$f":"IF(COUNT(Runde9!H7:J7)=0,\"\",SUM(Runde9!H7:J7))","v":""},{"$f":"SUM(M6)","v":{"$error":"#DIV/0!"}}]
["RD 7",0,0,{"$f":"IF(COUNT(Runde9!B8:D8)=0,\"\",SUM(Runde9!B8:D8))","v":""},null,null,null,"RD 7",0,0,{"$f":"IF(COUNT(Runde9!H8:J8)=0,\"\",SUM(Runde9!H8:J8))","v":""}]
["RD 8",0,0,null,"Nicht Gut",null,null,"RD 8",0,0,null,"Nicht Gut"]
["RD 9",0,0,{"$f":"IF(COUNT(Runde9!B9:D9)=0,\"\",SUM(Runde9!B9:D9))","v":""},null,null,null,"RD 9",0,0,{"$f":"IF(COUNT(Runde9!H9:J9)=0,\"\",SUM(Runde9!H9:J9))","v":""}]
["RD 10",0,0,null,"Gut",null,null,"RD 10",0,0,null,"Gut"]
["RD 11",0,0,null,null,null,null,"RD 11",0,0]
["RD 12",0,0,{"$f":"IF(COUNT(Runde9!B10:D10)=0,\"\",SUM(Runde9!B10:D10))","v":""},null,null,null,"RD 12",0,0,{"$f":"IF(COUNT(Runde9!H10:J10)=0,\"\",SUM(Runde9!H10:J10))","v":""}]
["RD 13",0,0,{"$f":"IF(COUNT(Runde9!B11:D11)=0,\"\",SUM(Runde9!B11:D11))","v":""},null,null,null,"RD 13",0,0,{"$f":"IF(COUNT(Runde9!H11:J11)=0,\"\",SUM(Runde9!H11:J11))","v":""}]
["RD 14",0,0,{"$f":"IF(COUNT(Runde9!B12:D12)=0,\"\",SUM(Runde9!B12:D12))","v":""},"Sehr  Gut",null,null,"RD 14",0,0,{"$f":"IF(COUNT(Runde9!H12:J12)=0,\"\",SUM(Runde9!H12:J12))","v":""},"Sehr  Gut"]
["RD 15",0,0,null,null,null,null,"RD 15",0,0]
["RD 16",0,0,null,null,null,null,"RD 16",0,0]
["RD 17",0,0,null,null,null,null,"RD 17",0,0]
["RD 18",0,0,{"$f":"IF(COUNT(Runde9!B13:D13)=0,\"\",SUM(Runde9!B13:D13))","v":""},null,null,null,"RD 18",0,0,{"$f":"IF(COUNT(Runde9!H13:J13)=0,\"\",SUM(Runde9!H13:J13))","v":""}]
["RD 19",0,0,{"$f":"IF(COUNT(Runde9!B14:D14)=0,\"\",SUM(Runde9!B14:D14))","v":""},null,null,null,"RD 19",0,0,{"$f":"IF(COUNT(Runde9!H14:J14)=0,\"\",SUM(Runde9!H14:J14))","v":""}]
["RD 20",0,0,{"$f":"IF(COUNT(Runde9!B15:D15)=0,\"\",SUM(Runde9!B15:D15))","v":""},null,null,null,"RD 20",0,0,{"$f":"IF(COUNT(Runde9!H15:J15)=0,\"\",SUM(Runde9!H15:J15))","v":""}]
["RD 21",0,0,{"$f":"IF(COUNT(Runde9!B16:D16)=0,\"\",SUM(Runde9!B16:D16))","v":""},null,null,null,"RD 21",0,0,{"$f":"IF(COUNT(Runde9!H16:J16)=0,\"\",SUM(Runde9!H16:J16))","v":""}]
["RD 22",0,0,null,null,null,null,"RD 22",0,0]
["RD 23",0,0,{"$f":"IF(COUNT(Runde9!B17:D17)=0,\"\",SUM(Runde9!B17:D17))","v":""},null,null,null,"RD 23",0,0,{"$f":"IF(COUNT(Runde9!H17:J17)=0,\"\",SUM(Runde9!H17:J17))","v":""}]
["RD 24",0,0,{"$f":"IF(COUNT(Runde9!B18:D18)=0,\"\",SUM(Runde9!B18:D18))","v":""},null,null,null,"RD 24",0,0,{"$f":"IF(COUNT(Runde9!H18:J18)=0,\"\",SUM(Runde9!H18:J18))","v":""}]
["RD 25",0,0,{"$f":"IF(COUNT(Runde9!B19:D19)=0,\"\",SUM(Runde9!B19:D19))","v":""},null,null,null,"RD 25",0,0,{"$f":"IF(COUNT(Runde9!H19:J19)=0,\"\",SUM(Runde9!H19:J19))","v":""}]
["RD 26",0,0,null,null,null,null,"RD 26",0,0]
["RD 27",0,0,null,null,null,null,"RD 27",0,0]
["RD 28",0,0,null,null,null,null,"RD 28",0,0]
["RD 29",0,0,{"$f":"IF(COUNT(Runde9!B20:D20)=0,\"\",SUM(Runde9!B20:D20))","v":""},{"$f":"IF(E4=0,\"Sieg\",\"\")","v":""},null,null,"RD 29",0,0,{"$f":"IF(COUNT(Runde9!H20:J20)=0,\"\",SUM(Runde9!H20:J20))","v":""},{"$f":"IF(L4=0,\"Sieg\",\"\")","v":""}]
["RD 30",0,0,{"$f":"IF(COUNT(Runde9!B21:D21)=0,\"\",SUM(Runde9!B21:D21))","v":""},null,null,null,"RD 30",0,0,{"$f":"IF(COUNT(Runde9!H21:J21)=0,\"\",SUM(Runde9!H21:J21))","v":""}]
[null,{"$f":"SUM(B4:B33)","v":0},{"$f":"SUM(C4:C33)","v":0},{"$f":"SUM(D4:D33)","v":0},{"$f":"SUM(D4:D32)","v":0},null,null,null,{"$f":"SUM(I4:I33)","v":0},{"$f":"SUM(J4:J33)","v":0},{"$f":"SUM(K4:K33)","v":0},{"$f":"SUM(K4:K32)","v":0}]
[null,null,null,null,{"$f":"IF(E3 > L3, D1, IF(D2 > L3, K1, \"Unentschieden\"))","v":0}]

{"sheet":"Rd. 10","index":9,"n_rows":35,"n_cols":15,"rows_kept":35,"cut":false,"hidden":false,"merged":[[31,4,32,5],[31,11,32,12],[16,4,21,5],[16,11,21,12],[10,4,11,5],[10,11,11,12],[12,4,15,5],[12,11,15,12],[22,4,30,5],[22,11,30,12],[0,3,0,4],[0,10,0,11],[7,4,7,5],[7,11,7,12],[8,4,9,5],[8,11,9,12]]}
[null,null,null,null,null,"Sp. 1",null,null,null,null,null,null,"Sp. 2"]
[null,null,null,"Punkte",501,"Start",null,null,null,null,"Punkte",501,"Start"]
[null,null,null,"Geworfen",{"$f":"SUM(D34)","v":82},"Punkte",null,null,null,null,"Geworfen",{"$f":"SUM(K34)","v":68},"Punkte"]
["RD 1",{"$f":"COUNT(D4)*1","v":1},{"$f":"COUNT(D4)*3","v":3},{"$f":"IF(COUNT(Runde10!B2:D2)=0,\"\",SUM(Runde10!B2:D2))","v":82},{"$f":"SUM(E2-E3)","v":419},"Rest",null,"RD 1",{"$f":"COUNT(K4)*1","v":1},{"$f":"COUNT(K4)*3","v":3},{"$f":"IF(COUNT(Runde10!H2:J2)=0,\"\",SUM(Runde10!H2:J2))","v":68},{"$f":"SUM(L2-L3)","v":433},"Rest"]
["RD 2",0,0,{"$f":"IF(COUNT(Runde10!B3:D3)=0,\"\",SUM(Runde10!B3:D3))","v":""},null,null,null,"RD 2",0,0,{"$f":"IF(COUNT(Runde10!H3:J3)=0,\"\",SUM(Runde10!H3:J3))","v":""},null,null,null,"Eintragen"]
["RD 3",0,0,{"$f":"IF(COUNT(Runde10!B4:D4)=0,\"\",SUM(Runde10!B4:D4))","v":""},"ø pro Spiel",{"$f":"SUM(E3)/B34","v":82},null,"RD 3",0,0,{"$f":"IF(COUNT(Runde10!H4:J4)=0,\"\",SUM(Runde10!H4:J4))","v":""},"ø pro Spiel",{"$f":"SUM(L3)/I34","v":68}]
["RD 4",0,0,{"$f":"IF(COUNT(Runde10!B5:D5)=0,\"\",SUM(Runde10!B5:D5))","v":""},"ø pro Pfeil",{"$f":"SUM(E3)/C34","v":27.333333333333332},null,"RD 4",0,0,{"$f":"IF(COUNT(Runde10!H5:J5)=0,\"\",SUM(Runde10!H5:J5))","v":""},"ø pro Pfeil",{"$f":"SUM(L3)/J34","v":22.666666666666668}]
["RD 5",0,0,{"$f":"IF(COUNT(Runde10!B6:D6)=0,\"\",SUM(Runde10!B6:D6))","v":""},"Average",null,null,"RD 5",0,0,{"$f":"IF(COUNT(Runde10!H6:J6)=0,\"\",SUM(Runde10!H6:J6))","v":""},"Average"]
["RD 6",0,0,{"$f":"IF(COUNT(Runde10!B7:D7)=0,\"\",SUM(Runde10!B7:D7))","v":""},{"$f":"SUM(F6)","v":82},null,null,"RD 6",0,0,{"$f":"IF(COUNT(Runde10!H7:J7)=0,\"\",SUM(Runde10!H7:J7))","v":""},{"$f":"SUM(M6)","v":68}]
["RD 7",0,0,{"$f":"IF(COUNT(Runde10!B8:D8)=0,\"\",SUM(Runde10!B8:D8))","v":""},null,null,null,"RD 7",0,0,{"$f":"IF(COUNT(Runde10!H8:J8)=0,\"\",SUM(Runde10!H8:J8))","v":""}]
["RD 8",0,0,null,"Nicht Gut",null,null,"RD 8",0,0,null,"Nicht Gut"]
["RD 9",0,0,{"$f":"IF(COUNT(Runde10!B9:D9)=0,\"\",SUM(Runde10!B9:D9))","v":""},null,null,null,"RD 9",0,0,{"$f":"IF(COUNT(Runde10!H9:J9)=0,\"\",SUM(Runde10!H9:J9))","v":""}]
["RD 10",0,0,null,"Gut",null,null,"RD 10",0,0,null,"Gut"]
["RD 11",0,0,null,null,null,null,"RD 11",0,0]
["RD 12",0,0,{"$f":"IF(COUNT(Runde10!B10:D10)=0,\"\",SUM(Runde10!B10:D10))","v":""},null,null,null,"RD 12",0,0,{"$f":"IF(COUNT(Runde10!H10:J10)=0,\"\",SUM(Runde10!H10:J10))","v":""}]
["RD 13",0,0,{"$f":"IF(COUNT(Runde10!B11:D11)=0,\"\",SUM(Runde10!B11:D11))","v":""},null,null,null,"RD 13",0,0,{"$f":"IF(COUNT(Runde10!H11:J11)=0,\"\",SUM(Runde10!H11:J11))","v":""}]
["RD 14",0,0,{"$f":"IF(COUNT(Runde10!B12:D12)=0,\"\",SUM(Runde10!B12:D12))","v":""},"Sehr  Gut",null,null,"RD 14",0,0,{"$f":"IF(COUNT(Runde10!H12:J12)=0,\"\",SUM(Runde10!H12:J12))","v":""},"Sehr  Gut"]
["RD 15",0,0,null,null,null,null,"RD 15",0,0]
["RD 16",0,0,null,null,null,null,"RD 16",0,0]
["RD 17",0,0,null,null,null,null,"RD 17",0,0]
["RD 18",0,0,{"$f":"IF(COUNT(Runde10!B13:D13)=0,\"\",SUM(Runde10!B13:D13))","v":""},null,null,null,"RD 18",0,0,{"$f":"IF(COUNT(Runde10!H13:J13)=0,\"\",SUM(Runde10!H13:J13))","v":""}]
["RD 19",0,0,{"$f":"IF(COUNT(Runde10!B14:D14)=0,\"\",SUM(Runde10!B14:D14))","v":""},null,null,null,"RD 19",0,0,{"$f":"IF(COUNT(Runde10!H14:J14)=0,\"\",SUM(Runde10!H14:J14))","v":""}]
["RD 20",0,0,{"$f":"IF(COUNT(Runde10!B15:D15)=0,\"\",SUM(Runde10!B15:D15))","v":""},null,null,null,"RD 20",0,0,{"$f":"IF(COUNT(Runde10!H15:J15)=0,\"\",SUM(Runde10!H15:J15))","v":""}]
["RD 21",0,0,{"$f":"IF(COUNT(Runde10!B16:D16)=0,\"\",SUM(Runde10!B16:D16))","v":""},null,null,null,"RD 21",0,0,{"$f":"IF(COUNT(Runde10!H16:J16)=0,\"\",SUM(Runde10!H16:J16))","v":""}]
["RD 22",0,0,null,null,null,null,"RD 22",0,0]
["RD 23",0,0,{"$f":"IF(COUNT(Runde10!B17:D17)=0,\"\",SUM(Runde10!B17:D17))","v":""},null,null,null,"RD 23",0,0,{"$f":"IF(COUNT(Runde10!H17:J17)=0,\"\",SUM(Runde10!H17:J17))","v":""}]
["RD 24",0,0,{"$f":"IF(COUNT(Runde10!B18:D18)=0,\"\",SUM(Runde10!B18:D18))","v":""},null,null,null,"RD 24",0,0,{"$f":"IF(COUNT(Runde10!H18:J18)=0,\"\",SUM(Runde10!H18:J18))","v":""}]
["RD 25",0,0,{"$f":"IF(COUNT(Runde10!B19:D19)=0,\"\",SUM(Runde10!B19:D19))","v":""},null,null,null,"RD 25",0,0,{"$f":"IF(COUNT(Runde10!H19:J19)=0,\"\",SUM(Runde10!H19:J19))","v":""}]
["RD 26",0,0,null,null,null,null,"RD 26",0,0]
["RD 27",0,0,null,null,null,null,"RD 27",0,0]
["RD 28",0,0,null,null,null,null,"RD 28",0,0]
["RD 29",0,0,{"$f":"IF(COUNT(Runde10!B20:D20)=0,\"\",SUM(Runde10!B20:D20))","v":""},{"$f":"IF(E4=0,\"Sieg\",\"\")","v":""},null,null,"RD 29",0,0,{"$f":"IF(COUNT(Runde10!H20:J20)=0,\"\",SUM(Runde10!H20:J20))","v":""},{"$f":"IF(L4=0,\"Sieg\",\"\")","v":""}]
["RD 30",0,0,{"$f":"IF(COUNT(Runde10!B21:D21)=0,\"\",SUM(Runde10!B21:D21))","v":""},null,null,null,"RD 30",0,0,{"$f":"IF(COUNT(Runde10!H21:J21)=0,\"\",SUM(Runde10!H21:J21))","v":""}]
[null,{"$f":"SUM(B4:B33)","v":1},{"$f":"SUM(C4:C33)","v":3},{"$f":"SUM(D4:D33)","v":82},{"$f":"SUM(D4:D32)","v":82},null,null,null,{"$f":"SUM(I4:I33)","v":1},{"$f":"SUM(J4:J33)","v":3},{"$f":"SUM(K4:K33)","v":68},{"$f":"SUM(K4:K32)","v":68}]
[null,null,null,null,{"$f":"IF(E3 > L3, D1, IF(D2 > L3, K1, \"Unentschieden\"))","v":0}]

{"sheet":"Rd. 11","index":10,"n_rows":25,"n_cols":15,"rows_kept":25,"cut":false,"hidden":false,"merged":[[16,4,20,5],[16,11,20,12],[21,4,22,5],[21,11,22,12],[25,4,25,5],[10,4,10,5],[10,11,10,12],[11,4,12,5],[11,11,12,12],[13,4,15,5],[13,11,15,12],[0,3,0,4],[0,10,0,11],[7,4,7,5],[7,11,7,12],[8,4,9,5],[8,11,9,12]]}
[null,null,null,null,null,"Sp. 1",null,null,null,null,null,null,"Sp. 2"]
[null,null,null,"Punkte",501,"Start",null,null,null,null,"Punkte",501,"Start"]
[null,null,null,"Geworfen",{"$f":"SUM(D24)","v":0},"Punkte",null,null,null,null,"Geworfen",{"$f":"SUM(K24)","v":0},"Punkte",null,"Ergebnisse leeren"]
["RD 1",{"$f":"COUNT(D4)*1","v":0},{"$f":"COUNT(D4)*3","v":0},null,{"$f":"SUM(E2-E3)","v":501},"Rest",null,"RD 1",{"$f":"COUNT(K4)*1","v":0},{"$f":"COUNT(K4)*3","v":0},null,{"$f":"SUM(L2-L3)","v":501},"Rest"]
["RD 2",0,0,null,null,null,null,"RD 2",0,0]
["RD 3",0,0,null,"ø pro Spiel",{"$f":"SUM(E3)/B24","v":{"$error":"#DIV/0!"}},null,"RD 3",0,0,null,"ø pro Spiel",{"$f":"SUM(L3)/I24","v":{"$error":"#DIV/0!"}}]
["RD 4",0,0,null,"ø pro Pfeil",{"$f":"SUM(E3)/C24","v":{"$error":"#DIV/0!"}},null,"RD 4",0,0,null,"ø pro Pfeil",{"$f":"SUM(L3)/J24","v":{"$error":"#DIV/0!"}}]
["RD 5",0,0,null,"Average",null,null,"RD 5",0,0,null,"Average"]
["RD 6",0,0,null,{"$f":"SUM(F6)","v":{"$error":"#DIV/0!"}},null,null,"RD 6",0,0,null,{"$f":"SUM(M6)","v":{"$error":"#DIV/0!"}}]
["RD 7",0,0,null,null,null,null,"RD 7",0,0]
["RD 8",0,0,null,"Nicht Gut",null,null,"RD 8",0,0,null,"Nicht Gut"]
["RD 9",0,0,null,"Gut",null,null,"RD 9",0,0,null,"Gut"]
["RD 10",0,0,null,null,null,null,"RD 10",0,0]
["RD 11",0,0,null,"Sehr  Gut",null,null,"RD 11",0,0,null,"Sehr  Gut"]
["RD 12",0,0,null,null,null,null,"RD 12",0,0]
["RD 13",0,0,null,null,null,null,"RD 13",0,0]
["RD 14",0,0,null,null,null,null,"RD 14",0,0]
["RD 15",0,0,null,null,null,null,"RD 15",0,0]
["RD 16",0,0,null,null,null,null,"RD 16",0,0]
["RD 17",0,0,null,null,null,null,"RD 17",0,0]
["RD 18",0,0,null,null,null,null,"RD 18",0,0]
["RD 19",0,0,null,{"$f":"IF(E4=0,\"Sieg\",\"\")","v":""},null,null,"RD 19",0,0,null,{"$f":"IF(L4=0,\"Sieg\",\"\")","v":""}]
["RD 20",0,0,null,null,null,null,"RD 20",0,0]
[null,{"$f":"SUM(B4:B23)","v":0},{"$f":"SUM(C4:C23)","v":0},{"$f":"SUM(D4:D23)","v":0},{"$f":"SUM(D4:D22)","v":0},null,null,null,{"$f":"SUM(I4:I23)","v":0},{"$f":"SUM(J4:J23)","v":0},{"$f":"SUM(K4:K23)","v":0},{"$f":"SUM(K4:K22)","v":0}]
[null,null,null,null,{"$f":"IF(E3 > L3, D1, IF(D2 > L3, K1, \"Unentschieden\"))","v":0}]

{"sheet":"Rd. 12","index":11,"n_rows":25,"n_cols":15,"rows_kept":25,"cut":false,"hidden":false,"merged":[[16,4,20,5],[16,11,20,12],[21,4,22,5],[21,11,22,12],[10,4,10,5],[10,11,10,12],[11,4,12,5],[11,11,12,12],[13,4,15,5],[13,11,15,12],[0,3,0,4],[0,10,0,11],[7,4,7,5],[7,11,7,12],[8,4,9,5],[8,11,9,12]]}
[null,null,null,null,null,"Sp. 1",null,null,null,null,null,null,"Sp. 2"]
[null,null,null,"Punkte",501,"Start",null,null,null,null,"Punkte",501,"Start"]
[null,null,null,"Geworfen",{"$f":"SUM(D24)","v":0},"Punkte",null,null,null,null,"Geworfen",{"$f":"SUM(K24)","v":0},"Punkte",null,"Ergebnisse leeren"]
["RD 1",{"$f":"COUNT(D4)*1","v":0},{"$f":"COUNT(D4)*3","v":0},null,{"$f":"SUM(E2-E3)","v":501},"Rest",null,"RD 1",{"$f":"COUNT(K4)*1","v":0},{"$f":"COUNT(K4)*3","v":0},null,{"$f":"SUM(L2-L3)","v":501},"Rest"]
["RD 2",0,0,null,null,null,null,"RD 2",0,0]
["RD 3",0,0,null,"ø pro Spiel",{"$f":"SUM(E3)/B24","v":{"$error":"#DIV/0!"}},null,"RD 3",0,0,null,"ø pro Spiel",{"$f":"SUM(L3)/I24","v":{"$error":"#DIV/0!"}}]
["RD 4",0,0,null,"ø pro Pfeil",{"$f":"SUM(E3)/C24","v":{"$error":"#DIV/0!"}},null,"RD 4",0,0,null,"ø pro Pfeil",{"$f":"SUM(L3)/J24","v":{"$error":"#DIV/0!"}}]
["RD 5",0,0,null,"Average",null,null,"RD 5",0,0,null,"Average"]
["RD 6",0,0,null,{"$f":"SUM(F6)","v":{"$error":"#DIV/0!"}},null,null,"RD 6",0,0,null,{"$f":"SUM(M6)","v":{"$error":"#DIV/0!"}}]
["RD 7",0,0,null,null,null,null,"RD 7",0,0]
["RD 8",0,0,null,"Nicht Gut",null,null,"RD 8",0,0,null,"Nicht Gut"]
["RD 9",0,0,null,"Gut",null,null,"RD 9",0,0,null,"Gut"]
["RD 10",0,0,null,null,null,null,"RD 10",0,0]
["RD 11",0,0,null,"Sehr  Gut",null,null,"RD 11",0,0,null,"Sehr  Gut"]
["RD 12",0,0,null,null,null,null,"RD 12",0,0]
["RD 13",0,0,null,null,null,null,"RD 13",0,0]
["RD 14",0,0,null,null,null,null,"RD 14",0,0]
["RD 15",0,0,null,null,null,null,"RD 15",0,0]
["RD 16",0,0,null,null,null,null,"RD 16",0,0]
["RD 17",0,0,null,null,null,null,"RD 17",0,0]
["RD 18",0,0,null,null,null,null,"RD 18",0,0]
["RD 19",0,0,null,{"$f":"IF(E4=0,\"Sieg\",\"\")","v":""},null,null,"RD 19",0,0,null,{"$f":"IF(L4=0,\"Sieg\",\"\")","v":""}]
["RD 20",0,0,null,null,null,null,"RD 20",0,0]
[null,{"$f":"SUM(B4:B23)","v":0},{"$f":"SUM(C4:C23)","v":0},{"$f":"SUM(D4:D23)","v":0},{"$f":"SUM(D4:D22)","v":0},null,null,null,{"$f":"SUM(I4:I23)","v":0},{"$f":"SUM(J4:J23)","v":0},{"$f":"SUM(K4:K23)","v":0},{"$f":"SUM(K4:K22)","v":0}]
[null,null,null,null,{"$f":"IF(E3 > L3, D1, IF(D2 > L3, K1, \"Unentschieden\"))","v":0}]

{"sheet":"Siegerliste","index":12,"n_rows":13,"n_cols":2,"rows_kept":13,"cut":false,"hidden":false,"merged":[[12,1,12,2],[6,1,6,2],[7,1,7,2],[8,1,8,2],[9,1,9,2],[10,1,10,2],[11,1,11,2],[5,1,5,2],[0,1,0,2],[1,1,1,2],[2,1,2,2],[3,1,3,2],[4,1,4,2]]}
[null,"Sieger"]
["Rd.1",{"$f":"CONCATENATE('Rd. 1'!E35)","v":"Siggi"}]
["Rd.2",{"$f":"CONCATENATE('Rd. 2'!E35)","v":"0"}]
["Rd.3",{"$f":"CONCATENATE('Rd. 3'!E35)","v":"0"}]
["Rd.4",{"$f":"CONCATENATE('Rd. 4'!E35)","v":"0"}]
["Rd.5",{"$f":"CONCATENATE('Rd. 5'!E35)","v":"0"}]
["Rd.6",{"$f":"CONCATENATE('Rd. 6'!E35)","v":"0"}]
["Rd.7",{"$f":"CONCATENATE('Rd. 7'!E35)","v":"0"}]
["Rd.8",{"$f":"CONCATENATE('Rd. 8'!E35)","v":"0"}]
["Rd.9",{"$f":"CONCATENATE('Rd. 9'!E35)","v":"0"}]
["Rd.10",{"$f":"CONCATENATE('Rd. 10'!E35)","v":"0"}]
["Rd.11",{"$f":"CONCATENATE('Rd. 11'!E25)","v":"0"}]
["Rd.12",{"$f":"CONCATENATE('Rd. 12'!E25)","v":"0"}]

{"sheet":"Runde1","index":13,"n_rows":31,"n_cols":12,"rows_kept":31,"cut":false,"hidden":false,"merged":[[0,0,0,4],[0,6,0,10]]}
[{"$f":"CONCATENATE('Rd. 1'!D1)","v":"Siggi"},null,null,null,null,501,{"$f":"CONCATENATE('Rd. 1'!K1)","v":"Anja"},null,null,null,null,501]
["Rd.1",33,60,12,{"$f":"SUM(B2:D2)","v":105},{"$f":"SUM(F1)-E2","v":396},"Rd.1",20,60,26,{"$f":"SUM(H2:J2)","v":106},{"$f":"SUM(L1)-K2","v":395}]
["Rd.2",12,25,30,{"$f":"SUM(B3:D3)","v":67},{"$f":"SUM(F2)-E3","v":329},"Rd.2",12,19,20,{"$f":"SUM(H3:J3)","v":51},{"$f":"SUM(L2)-K3","v":344}]
["Rd.3",3,25,4,{"$f":"SUM(B4:D4)","v":32},{"$f":"SUM(F3)-E4","v":297},"Rd.3",11,19,3,33,{"$f":"SUM(L3)-K4","v":311}]
["Rd.4",null,null,null,{"$f":"SUM(B5:D5)","v":0},{"$f":"SUM(F4)-E5","v":297},"Rd.4",null,null,null,0,{"$f":"SUM(L4)-K5","v":311}]
["Rd.5",null,null,null,{"$f":"SUM(B6:D6)","v":0},297,"Rd.5",null,null,null,0,311]
["Rd.6",null,null,null,0,297,"Rd.6",null,null,null,0,311]
["Rd.7",null,null,null,0,297,"Rd.7",null,null,null,0,311]
["Rd.8",null,null,null,0,297,"Rd.8",null,null,null,0,311]
["Rd.9",null,null,null,0,297,"Rd.9",null,null,null,0,311]
["Rd.10",null,null,null,0,297,"Rd.10",null,null,null,0,311]
["Rd.11",null,null,null,0,297,"Rd.11",null,null,null,0,311]
["Rd.12",null,null,null,0,297,"Rd.12",null,null,null,0,311]
["Rd.13",null,null,null,0,297,"Rd.13",null,null,null,0,311]
["Rd.14",null,null,null,0,297,"Rd.14",null,null,null,0,311]
["Rd.15",null,null,null,0,297,"Rd.15",null,null,null,0,311]
["Rd.16",null,null,null,0,297,"Rd.16",null,null,null,0,311]
["Rd.17",null,null,null,0,297,"Rd.17",null,null,null,0,311]
["Rd.18",null,null,null,0,297,"Rd.18",null,null,null,0,311]
["Rd.19",null,null,null,0,297,"Rd.19",null,null,null,0,311]
["Rd.20",null,null,null,0,297,"Rd.20",null,null,null,0,311]
["Rd.21",null,null,null,0,297,"Rd.21",null,null,null,0,311]
["Rd.22",null,null,null,0,297,"Rd.22",null,null,null,0,311]
["Rd.23",null,null,null,0,297,"Rd.23",null,null,null,0,311]
["Rd.24",null,null,null,0,297,"Rd.24",null,null,null,0,311]
["Rd.25",null,null,null,0,297,"Rd.25",null,null,null,0,311]
["Rd.26",null,null,null,0,297,"Rd.26",null,null,null,0,311]
["Rd.27",null,null,null,0,297,"Rd.27",null,null,null,0,311]
["Rd.28",null,null,null,0,297,"Rd.28",null,null,null,0,311]
["Rd.29",null,null,null,0,297,"Rd.29",null,null,null,0,311]
["Rd.30",null,null,null,0,297,"Rd.30",null,null,null,0,311]

{"sheet":"Runde2","index":14,"n_rows":31,"n_cols":12,"rows_kept":31,"cut":false,"hidden":false,"merged":[[0,0,0,4],[0,6,0,10]]}
[{"$f":"CONCATENATE('Rd. 2'!D1)","v":""},null,null,null,null,501,{"$f":"CONCATENATE('Rd. 2'!K1)","v":""},null,null,null,null,501]
["Rd.1",null,null,null,{"$f":"SUM(B2:D2)","v":0},{"$f":"SUM(F1)-E2","v":501},"Rd.1",null,null,null,{"$f":"SUM(H2:J2)","v":0},{"$f":"SUM(L1)-K2","v":501}]
["Rd.2",null,null,null,{"$f":"SUM(B3:D3)","v":0},{"$f":"SUM(F2)-E3","v":501},"Rd.2",null,null,null,{"$f":"SUM(H3:J3)","v":0},{"$f":"SUM(L2)-K3","v":501}]
["Rd.3",null,null,null,{"$f":"SUM(B4:D4)","v":0},{"$f":"SUM(F3)-E4","v":501},"Rd.3",null,null,null,0,{"$f":"SUM(L3)-K4","v":501}]
["Rd.4",null,null,null,{"$f":"SUM(B5:D5)","v":0},{"$f":"SUM(F4)-E5","v":501},"Rd.4",null,null,null,0,{"$f":"SUM(L4)-K5","v":501}]
["Rd.5",null,null,null,{"$f":"SUM(B6:D6)","v":0},501,"Rd.5",null,null,null,0,501]
["Rd.6",null,null,null,0,501,"Rd.6",null,null,null,0,501]
["Rd.7",null,null,null,0,501,"Rd.7",null,null,null,0,501]
["Rd.8",null,null,null,0,501,"Rd.8",null,null,null,0,501]
["Rd.9",null,null,null,0,501,"Rd.9",null,null,null,0,501]
["Rd.10",null,null,null,0,501,"Rd.10",null,null,null,0,501]
["Rd.11",null,null,null,0,501,"Rd.11",null,null,null,0,501]
["Rd.12",null,null,null,0,501,"Rd.12",null,null,null,0,501]
["Rd.13",null,null,null,0,501,"Rd.13",null,null,null,0,501]
["Rd.14",null,null,null,0,501,"Rd.14",null,null,null,0,501]
["Rd.15",null,null,null,0,501,"Rd.15",null,null,null,0,501]
["Rd.16",null,null,null,0,501,"Rd.16",null,null,null,0,501]
["Rd.17",null,null,null,0,501,"Rd.17",null,null,null,0,501]
["Rd.18",null,null,null,0,501,"Rd.18",null,null,null,0,501]
["Rd.19",null,null,null,0,501,"Rd.19",null,null,null,0,501]
["Rd.20",null,null,null,0,501,"Rd.20",null,null,null,0,501]
["Rd.21",null,null,null,0,501,"Rd.21",null,null,null,0,501]
["Rd.22",null,null,null,0,501,"Rd.22",null,null,null,0,501]
["Rd.23",null,null,null,0,501,"Rd.23",null,null,null,0,501]
["Rd.24",null,null,null,0,501,"Rd.24",null,null,null,0,501]
["Rd.25",null,null,null,0,501,"Rd.25",null,null,null,0,501]
["Rd.26",null,null,null,0,501,"Rd.26",null,null,null,0,501]
["Rd.27",null,null,null,0,501,"Rd.27",null,null,null,0,501]
["Rd.28",null,null,null,0,501,"Rd.28",null,null,null,0,501]
["Rd.29",null,null,null,0,501,"Rd.29",null,null,null,0,501]
["Rd.30",null,null,null,0,501,"Rd.30",null,null,null,0,501]

{"sheet":"Runde3","index":15,"n_rows":31,"n_cols":12,"rows_kept":31,"cut":false,"hidden":false,"merged":[[0,0,0,4],[0,6,0,10]]}
[{"$f":"CONCATENATE('Rd. 3'!D1)","v":""},null,null,null,null,501,{"$f":"CONCATENATE('Rd. 3'!K1)","v":""},null,null,null,null,501]
["Rd.1",66,null,null,{"$f":"SUM(B2:D2)","v":66},{"$f":"SUM(F1)-E2","v":435},"Rd.1",99,null,null,{"$f":"SUM(H2:J2)","v":99},{"$f":"SUM(L1)-K2","v":402}]
["Rd.2",null,null,null,{"$f":"SUM(B3:D3)","v":0},{"$f":"SUM(F2)-E3","v":435},"Rd.2",null,null,null,{"$f":"SUM(H3:J3)","v":0},{"$f":"SUM(L2)-K3","v":402}]
["Rd.3",null,null,null,{"$f":"SUM(B4:D4)","v":0},{"$f":"SUM(F3)-E4","v":435},"Rd.3",null,null,null,0,{"$f":"SUM(L3)-K4","v":402}]
["Rd.4",null,null,null,{"$f":"SUM(B5:D5)","v":0},{"$f":"SUM(F4)-E5","v":435},"Rd.4",null,null,null,0,{"$f":"SUM(L4)-K5","v":402}]
["Rd.5",null,null,null,{"$f":"SUM(B6:D6)","v":0},435,"Rd.5",null,null,null,0,402]
["Rd.6",null,null,null,0,435,"Rd.6",null,null,null,0,402]
["Rd.7",null,null,null,0,435,"Rd.7",null,null,null,0,402]
["Rd.8",null,null,null,0,435,"Rd.8",null,null,null,0,402]
["Rd.9",null,null,null,0,435,"Rd.9",null,null,null,0,402]
["Rd.10",null,null,null,0,435,"Rd.10",null,null,null,0,402]
["Rd.11",null,null,null,0,435,"Rd.11",null,null,null,0,402]
["Rd.12",null,null,null,0,435,"Rd.12",null,null,null,0,402]
["Rd.13",null,null,null,0,435,"Rd.13",null,null,null,0,402]
["Rd.14",null,null,null,0,435,"Rd.14",null,null,null,0,402]
["Rd.15",null,null,null,0,435,"Rd.15",null,null,null,0,402]
["Rd.16",null,null,null,0,435,"Rd.16",null,null,null,0,402]
["Rd.17",null,null,null,0,435,"Rd.17",null,null,null,0,402]
["Rd.18",null,null,null,0,435,"Rd.18",null,null,null,0,402]
["Rd.19",null,null,null,0,435,"Rd.19",null,null,null,0,402]
["Rd.20",null,null,null,0,435,"Rd.20",null,null,null,0,402]
["Rd.21",null,null,null,0,435,"Rd.21",null,null,null,0,402]
["Rd.22",null,null,null,0,435,"Rd.22",null,null,null,0,402]
["Rd.23",null,null,null,0,435,"Rd.23",null,null,null,0,402]
["Rd.24",null,null,null,0,435,"Rd.24",null,null,null,0,402]
["Rd.25",null,null,null,0,435,"Rd.25",null,null,null,0,402]
["Rd.26",null,null,null,0,435,"Rd.26",null,null,null,0,402]
["Rd.27",null,null,null,0,435,"Rd.27",null,null,null,0,402]
["Rd.28",null,null,null,0,435,"Rd.28",null,null,null,0,402]
["Rd.29",null,null,null,0,435,"Rd.29",null,null,null,0,402]
["Rd.30",null,null,null,0,435,"Rd.30",null,null,null,0,402]

{"sheet":"Runde4","index":16,"n_rows":31,"n_cols":12,"rows_kept":31,"cut":false,"hidden":false,"merged":[[0,0,0,4],[0,6,0,10]]}
[{"$f":"CONCATENATE('Rd. 4'!D1)","v":""},null,null,null,null,501,{"$f":"CONCATENATE('Rd. 4'!K1)","v":""},null,null,null,null,501]
["Rd.1",33,12,19,{"$f":"SUM(B2:D2)","v":64},{"$f":"SUM(F1)-E2","v":437},"Rd.1",33,22,50,{"$f":"SUM(H2:J2)","v":105},{"$f":"SUM(L1)-K2","v":396}]
["Rd.2",null,null,null,{"$f":"SUM(B3:D3)","v":0},{"$f":"SUM(F2)-E3","v":437},"Rd.2",null,null,null,{"$f":"SUM(H3:J3)","v":0},{"$f":"SUM(L2)-K3","v":396}]
["Rd.3",null,null,null,{"$f":"SUM(B4:D4)","v":0},{"$f":"SUM(F3)-E4","v":437},"Rd.3",null,null,null,0,{"$f":"SUM(L3)-K4","v":396}]
["Rd.4",null,null,null,{"$f":"SUM(B5:D5)","v":0},{"$f":"SUM(F4)-E5","v":437},"Rd.4",null,null,null,0,{"$f":"SUM(L4)-K5","v":396}]
["Rd.5",null,null,null,{"$f":"SUM(B6:D6)","v":0},437,"Rd.5",null,null,null,0,396]
["Rd.6",null,null,null,0,437,"Rd.6",null,null,null,0,396]
["Rd.7",null,null,null,0,437,"Rd.7",null,null,null,0,396]
["Rd.8",null,null,null,0,437,"Rd.8",null,null,null,0,396]
["Rd.9",null,null,null,0,437,"Rd.9",null,null,null,0,396]
["Rd.10",null,null,null,0,437,"Rd.10",null,null,null,0,396]
["Rd.11",null,null,null,0,437,"Rd.11",null,null,null,0,396]
["Rd.12",null,null,null,0,437,"Rd.12",null,null,null,0,396]
["Rd.13",null,null,null,0,437,"Rd.13",null,null,null,0,396]
["Rd.14",null,null,null,0,437,"Rd.14",null,null,null,0,396]
["Rd.15",null,null,null,0,437,"Rd.15",null,null,null,0,396]
["Rd.16",null,null,null,0,437,"Rd.16",null,null,null,0,396]
["Rd.17",null,null,null,0,437,"Rd.17",null,null,null,0,396]
["Rd.18",null,null,null,0,437,"Rd.18",null,null,null,0,396]
["Rd.19",null,null,null,0,437,"Rd.19",null,null,null,0,396]
["Rd.20",null,null,null,0,437,"Rd.20",null,null,null,0,396]
["Rd.21",null,null,null,0,437,"Rd.21",null,null,null,0,396]
["Rd.22",null,null,null,0,437,"Rd.22",null,null,null,0,396]
["Rd.23",null,null,null,0,437,"Rd.23",null,null,null,0,396]
["Rd.24",null,null,null,0,437,"Rd.24",null,null,null,0,396]
["Rd.25",null,null,null,0,437,"Rd.25",null,null,null,0,396]
["Rd.26",null,null,null,0,437,"Rd.26",null,null,null,0,396]
["Rd.27",null,null,null,0,437,"Rd.27",null,null,null,0,396]
["Rd.28",null,null,null,0,437,"Rd.28",null,null,null,0,396]
["Rd.29",null,null,null,0,437,"Rd.29",null,null,null,0,396]
["Rd.30",null,null,null,0,437,"Rd.30",null,null,null,0,396]

{"sheet":"Runde5","index":17,"n_rows":31,"n_cols":12,"rows_kept":31,"cut":false,"hidden":false,"merged":[[0,0,0,4],[0,6,0,10]]}
[{"$f":"CONCATENATE('Rd. 5'!D1)","v":""},null,null,null,null,501,{"$f":"CONCATENATE('Rd. 5'!K1)","v":""},null,null,null,null,501]
["Rd.1",null,null,null,{"$f":"SUM(B2:D2)","v":0},{"$f":"SUM(F1)-E2","v":501},"Rd.1",null,null,null,{"$f":"SUM(H2:J2)","v":0},{"$f":"SUM(L1)-K2","v":501}]
["Rd.2",null,null,null,{"$f":"SUM(B3:D3)","v":0},{"$f":"SUM(F2)-E3","v":501},"Rd.2",null,null,null,{"$f":"SUM(H3:J3)","v":0},{"$f":"SUM(L2)-K3","v":501}]
["Rd.3",null,null,null,{"$f":"SUM(B4:D4)","v":0},{"$f":"SUM(F3)-E4","v":501},"Rd.3",null,null,null,0,{"$f":"SUM(L3)-K4","v":501}]
["Rd.4",null,null,null,{"$f":"SUM(B5:D5)","v":0},{"$f":"SUM(F4)-E5","v":501},"Rd.4",null,null,null,0,{"$f":"SUM(L4)-K5","v":501}]
["Rd.5",null,null,null,{"$f":"SUM(B6:D6)","v":0},501,"Rd.5",null,null,null,0,501]
["Rd.6",null,null,null,0,501,"Rd.6",null,null,null,0,501]
["Rd.7",null,null,null,0,501,"Rd.7",null,null,null,0,501]
["Rd.8",null,null,null,0,501,"Rd.8",null,null,null,0,501]
["Rd.9",null,null,null,0,501,"Rd.9",null,null,null,0,501]
["Rd.10",null,null,null,0,501,"Rd.10",null,null,null,0,501]
["Rd.11",null,null,null,0,501,"Rd.11",null,null,null,0,501]
["Rd.12",null,null,null,0,501,"Rd.12",null,null,null,0,501]
["Rd.13",null,null,null,0,501,"Rd.13",null,null,null,0,501]
["Rd.14",null,null,null,0,501,"Rd.14",null,null,null,0,501]
["Rd.15",null,null,null,0,501,"Rd.15",null,null,null,0,501]
["Rd.16",null,null,null,0,501,"Rd.16",null,null,null,0,501]
["Rd.17",null,null,null,0,501,"Rd.17",null,null,null,0,501]
["Rd.18",null,null,null,0,501,"Rd.18",null,null,null,0,501]
["Rd.19",null,null,null,0,501,"Rd.19",null,null,null,0,501]
["Rd.20",null,null,null,0,501,"Rd.20",null,null,null,0,501]
["Rd.21",null,null,null,0,501,"Rd.21",null,null,null,0,501]
["Rd.22",null,null,null,0,501,"Rd.22",null,null,null,0,501]
["Rd.23",null,null,null,0,501,"Rd.23",null,null,null,0,501]
["Rd.24",null,null,null,0,501,"Rd.24",null,null,null,0,501]
["Rd.25",null,null,null,0,501,"Rd.25",null,null,null,0,501]
["Rd.26",null,null,null,0,501,"Rd.26",null,null,null,0,501]
["Rd.27",null,null,null,0,501,"Rd.27",null,null,null,0,501]
["Rd.28",null,null,null,0,501,"Rd.28",null,null,null,0,501]
["Rd.29",null,null,null,0,501,"Rd.29",null,null,null,0,501]
["Rd.30",null,null,null,0,501,"Rd.30",null,null,null,0,501]

{"sheet":"Runde6","index":18,"n_rows":31,"n_cols":12,"rows_kept":31,"cut":false,"hidden":false,"merged":[[0,0,0,4],[0,6,0,10]]}
[{"$f":"CONCATENATE('Rd. 6'!D1)","v":""},null,null,null,null,null,{"$f":"CONCATENATE('Rd. 6'!K1)","v":""},null,null,null,null,501]
["Rd.1",null,null,null,{"$f":"SUM(B2:D2)","v":0},{"$f":"SUM(F1)-E2","v":0},"Rd.1",null,null,null,{"$f":"SUM(H2:J2)","v":0},{"$f":"SUM(L1)-K2","v":501}]
["Rd.2",null,null,null,{"$f":"SUM(B3:D3)","v":0},{"$f":"SUM(F2)-E3","v":0},"Rd.2",null,null,null,{"$f":"SUM(H3:J3)","v":0},{"$f":"SUM(L2)-K3","v":501}]
["Rd.3",null,null,null,{"$f":"SUM(B4:D4)","v":0},{"$f":"SUM(F3)-E4","v":0},"Rd.3",null,null,null,0,{"$f":"SUM(L3)-K4","v":501}]
["Rd.4",null,null,null,{"$f":"SUM(B5:D5)","v":0},{"$f":"SUM(F4)-E5","v":0},"Rd.4",null,null,null,0,{"$f":"SUM(L4)-K5","v":501}]
["Rd.5",null,null,null,{"$f":"SUM(B6:D6)","v":0},0,"Rd.5",null,null,null,0,501]
["Rd.6",null,null,null,0,0,"Rd.6",null,null,null,0,501]
["Rd.7",null,null,null,0,0,"Rd.7",null,null,null,0,501]
["Rd.8",null,null,null,0,0,"Rd.8",null,null,null,0,501]
["Rd.9",null,null,null,0,0,"Rd.9",null,null,null,0,501]
["Rd.10",null,null,null,0,0,"Rd.10",null,null,null,0,501]
["Rd.11",null,null,null,0,0,"Rd.11",null,null,null,0,501]
["Rd.12",null,null,null,0,0,"Rd.12",null,null,null,0,501]
["Rd.13",null,null,null,0,0,"Rd.13",null,null,null,0,501]
["Rd.14",null,null,null,0,0,"Rd.14",null,null,null,0,501]
["Rd.15",null,null,null,0,0,"Rd.15",null,null,null,0,501]
["Rd.16",null,null,null,0,0,"Rd.16",null,null,null,0,501]
["Rd.17",null,null,null,0,0,"Rd.17",null,null,null,0,501]
["Rd.18",null,null,null,0,0,"Rd.18",null,null,null,0,501]
["Rd.19",null,null,null,0,0,"Rd.19",null,null,null,0,501]
["Rd.20",null,null,null,0,0,"Rd.20",null,null,null,0,501]
["Rd.21",null,null,null,0,0,"Rd.21",null,null,null,0,501]
["Rd.22",null,null,null,0,0,"Rd.22",null,null,null,0,501]
["Rd.23",null,null,null,0,0,"Rd.23",null,null,null,0,501]
["Rd.24",null,null,null,0,0,"Rd.24",null,null,null,0,501]
["Rd.25",null,null,null,0,0,"Rd.25",null,null,null,0,501]
["Rd.26",null,null,null,0,0,"Rd.26",null,null,null,0,501]
["Rd.27",null,null,null,0,0,"Rd.27",null,null,null,0,501]
["Rd.28",null,null,null,0,0,"Rd.28",null,null,null,0,501]
["Rd.29",null,null,null,0,0,"Rd.29",null,null,null,0,501]
["Rd.30",null,null,null,0,0,"Rd.30",null,null,null,0,501]

{"sheet":"Runde7","index":19,"n_rows":31,"n_cols":12,"rows_kept":31,"cut":false,"hidden":false,"merged":[[0,0,0,4],[0,6,0,10]]}
[{"$f":"CONCATENATE('Rd. 7'!D1)","v":""},null,null,null,null,501,{"$f":"CONCATENATE('Rd. 7'!K1)","v":""},null,null,null,null,501]
["Rd.1",null,null,null,{"$f":"SUM(B2:D2)","v":0},{"$f":"SUM(F1)-E2","v":501},"Rd.1",null,null,null,{"$f":"SUM(H2:J2)","v":0},{"$f":"SUM(L1)-K2","v":501}]
["Rd.2",null,null,null,{"$f":"SUM(B3:D3)","v":0},{"$f":"SUM(F2)-E3","v":501},"Rd.2",null,null,null,{"$f":"SUM(H3:J3)","v":0},{"$f":"SUM(L2)-K3","v":501}]
["Rd.3",null,null,null,{"$f":"SUM(B4:D4)","v":0},{"$f":"SUM(F3)-E4","v":501},"Rd.3",null,null,null,{"$f":"SUM(H4:J4)","v":0},{"$f":"SUM(L3)-K4","v":501}]
["Rd.4",null,null,null,{"$f":"SUM(B5:D5)","v":0},{"$f":"SUM(F4)-E5","v":501},"Rd.4",null,null,null,{"$f":"SUM(H5:J5)","v":0},{"$f":"SUM(L4)-K5","v":501}]
["Rd.5",null,null,null,{"$f":"SUM(B6:D6)","v":0},501,"Rd.5",null,null,null,{"$f":"SUM(H6:J6)","v":0},501]
["Rd.6",null,null,null,0,501,"Rd.6",null,null,null,0,501]
["Rd.7",null,null,null,0,501,"Rd.7",null,null,null,0,501]
["Rd.8",null,null,null,0,501,"Rd.8",null,null,null,0,501]
["Rd.9",null,null,null,0,501,"Rd.9",null,null,null,0,501]
["Rd.10",null,null,null,0,501,"Rd.10",null,null,null,0,501]
["Rd.11",null,null,null,0,501,"Rd.11",null,null,null,0,501]
["Rd.12",null,null,null,0,501,"Rd.12",null,null,null,0,501]
["Rd.13",null,null,null,0,501,"Rd.13",null,null,null,0,501]
["Rd.14",null,null,null,0,501,"Rd.14",null,null,null,0,501]
["Rd.15",null,null,null,0,501,"Rd.15",null,null,null,0,501]
["Rd.16",null,null,null,0,501,"Rd.16",null,null,null,0,501]
["Rd.17",null,null,null,0,501,"Rd.17",null,null,null,0,501]
["Rd.18",null,null,null,0,501,"Rd.18",null,null,null,0,501]
["Rd.19",null,null,null,0,501,"Rd.19",null,null,null,0,501]
["Rd.20",null,null,null,0,501,"Rd.20",null,null,null,0,501]
["Rd.21",null,null,null,0,501,"Rd.21",null,null,null,0,501]
["Rd.22",null,null,null,0,501,"Rd.22",null,null,null,0,501]
["Rd.23",null,null,null,0,501,"Rd.23",null,null,null,0,501]
["Rd.24",null,null,null,0,501,"Rd.24",null,null,null,0,501]
["Rd.25",null,null,null,0,501,"Rd.25",null,null,null,0,501]
["Rd.26",null,null,null,0,501,"Rd.26",null,null,null,0,501]
["Rd.27",null,null,null,0,501,"Rd.27",null,null,null,0,501]
["Rd.28",null,null,null,0,501,"Rd.28",null,null,null,0,501]
["Rd.29",null,null,null,0,501,"Rd.29",null,null,null,0,501]
["Rd.30",null,null,null,0,501,"Rd.30",null,null,null,0,501]

{"sheet":"Runde8","index":20,"n_rows":31,"n_cols":12,"rows_kept":31,"cut":false,"hidden":false,"merged":[[0,0,0,4],[0,6,0,10]]}
[{"$f":"CONCATENATE('Rd. 8'!D1)","v":""},null,null,null,null,501,{"$f":"CONCATENATE('Rd. 8'!K1)","v":""},null,null,null,null,501]
["Rd.1",null,null,null,{"$f":"SUM(B2:D2)","v":0},{"$f":"SUM(F1)-E2","v":501},"Rd.1",null,null,null,{"$f":"SUM(H2:J2)","v":0},{"$f":"SUM(L1)-K2","v":501}]
["Rd.2",null,null,null,{"$f":"SUM(B3:D3)","v":0},{"$f":"SUM(F2)-E3","v":501},"Rd.2",null,null,null,{"$f":"SUM(H3:J3)","v":0},{"$f":"SUM(L2)-K3","v":501}]
["Rd.3",null,null,null,{"$f":"SUM(B4:D4)","v":0},{"$f":"SUM(F3)-E4","v":501},"Rd.3",null,null,null,{"$f":"SUM(H4:J4)","v":0},{"$f":"SUM(L3)-K4","v":501}]
["Rd.4",null,null,null,{"$f":"SUM(B5:D5)","v":0},{"$f":"SUM(F4)-E5","v":501},"Rd.4",null,null,null,{"$f":"SUM(H5:J5)","v":0},{"$f":"SUM(L4)-K5","v":501}]
["Rd.5",null,null,null,{"$f":"SUM(B6:D6)","v":0},501,"Rd.5",null,null,null,{"$f":"SUM(H6:J6)","v":0},501]
["Rd.6",null,null,null,0,501,"Rd.6",null,null,null,0,501]
["Rd.7",null,null,null,0,501,"Rd.7",null,null,null,0,501]
["Rd.8",null,null,null,0,501,"Rd.8",null,null,null,0,501]
["Rd.9",null,null,null,0,501,"Rd.9",null,null,null,0,501]
["Rd.10",null,null,null,0,501,"Rd.10",null,null,null,0,501]
["Rd.11",null,null,null,0,501,"Rd.11",null,null,null,0,501]
["Rd.12",null,null,null,0,501,"Rd.12",null,null,null,0,501]
["Rd.13",null,null,null,0,501,"Rd.13",null,null,null,0,501]
["Rd.14",null,null,null,0,501,"Rd.14",null,null,null,0,501]
["Rd.15",null,null,null,0,501,"Rd.15",null,null,null,0,501]
["Rd.16",null,null,null,0,501,"Rd.16",null,null,null,0,501]
["Rd.17",null,null,null,0,501,"Rd.17",null,null,null,0,501]
["Rd.18",null,null,null,0,501,"Rd.18",null,null,null,0,501]
["Rd.19",null,null,null,0,501,"Rd.19",null,null,null,0,501]
["Rd.20",null,null,null,0,501,"Rd.20",null,null,null,0,501]
["Rd.21",null,null,null,0,501,"Rd.21",null,null,null,0,501]
["Rd.22",null,null,null,0,501,"Rd.22",null,null,null,0,501]
["Rd.23",null,null,null,0,501,"Rd.23",null,null,null,0,501]
["Rd.24",null,null,null,0,501,"Rd.24",null,null,null,0,501]
["Rd.25",null,null,null,0,501,"Rd.25",null,null,null,0,501]
["Rd.26",null,null,null,0,501,"Rd.26",null,null,null,0,501]
["Rd.27",null,null,null,0,501,"Rd.27",null,null,null,0,501]
["Rd.28",null,null,null,0,501,"Rd.28",null,null,null,0,501]
["Rd.29",null,null,null,0,501,"Rd.29",null,null,null,0,501]
["Rd.30",null,null,null,0,501,"Rd.30",null,null,null,0,501]

{"sheet":"Runde9","index":21,"n_rows":31,"n_cols":12,"rows_kept":31,"cut":false,"hidden":false,"merged":[[0,0,0,4],[0,6,0,10]]}
[{"$f":"CONCATENATE('Rd. 9'!D1)","v":""},null,null,null,null,501,{"$f":"CONCATENATE('Rd. 9'!K1)","v":""},null,null,null,null,501]
["Rd.1",null,null,null,{"$f":"SUM(B2:D2)","v":0},{"$f":"SUM(F1)-E2","v":501},"Rd.1",null,null,null,{"$f":"SUM(H2:J2)","v":0},{"$f":"SUM(L1)-K2","v":501}]
["Rd.2",null,null,null,{"$f":"SUM(B3:D3)","v":0},{"$f":"SUM(F2)-E3","v":501},"Rd.2",null,null,null,{"$f":"SUM(H3:J3)","v":0},{"$f":"SUM(L2)-K3","v":501}]
["Rd.3",null,null,null,{"$f":"SUM(B4:D4)","v":0},{"$f":"SUM(F3)-E4","v":501},"Rd.3",null,null,null,{"$f":"SUM(H4:J4)","v":0},{"$f":"SUM(L3)-K4","v":501}]
["Rd.4",null,null,null,{"$f":"SUM(B5:D5)","v":0},{"$f":"SUM(F4)-E5","v":501},"Rd.4",null,null,null,{"$f":"SUM(H5:J5)","v":0},{"$f":"SUM(L4)-K5","v":501}]
["Rd.5",null,null,null,{"$f":"SUM(B6:D6)","v":0},501,"Rd.5",null,null,null,{"$f":"SUM(H6:J6)","v":0},501]
["Rd.6",null,null,null,0,501,"Rd.6",null,null,null,0,501]
["Rd.7",null,null,null,0,501,"Rd.7",null,null,null,0,501]
["Rd.8",null,null,null,0,501,"Rd.8",null,null,null,0,501]
["Rd.9",null,null,null,0,501,"Rd.9",null,null,null,0,501]
["Rd.10",null,null,null,0,501,"Rd.10",null,null,null,0,501]
["Rd.11",null,null,null,0,501,"Rd.11",null,null,null,0,501]
["Rd.12",null,null,null,0,501,"Rd.12",null,null,null,0,501]
["Rd.13",null,null,null,0,501,"Rd.13",null,null,null,0,501]
["Rd.14",null,null,null,0,501,"Rd.14",null,null,null,0,501]
["Rd.15",null,null,null,0,501,"Rd.15",null,null,null,0,501]
["Rd.16",null,null,null,0,501,"Rd.16",null,null,null,0,501]
["Rd.17",null,null,null,0,501,"Rd.17",null,null,null,0,501]
["Rd.18",null,null,null,0,501,"Rd.18",null,null,null,0,501]
["Rd.19",null,null,null,0,501,"Rd.19",null,null,null,0,501]
["Rd.20",null,null,null,0,501,"Rd.20",null,null,null,0,501]
["Rd.21",null,null,null,0,501,"Rd.21",null,null,null,0,501]
["Rd.22",null,null,null,0,501,"Rd.22",null,null,null,0,501]
["Rd.23",null,null,null,0,501,"Rd.23",null,null,null,0,501]
["Rd.24",null,null,null,0,501,"Rd.24",null,null,null,0,501]
["Rd.25",null,null,null,0,501,"Rd.25",null,null,null,0,501]
["Rd.26",null,null,null,0,501,"Rd.26",null,null,null,0,501]
["Rd.27",null,null,null,0,501,"Rd.27",null,null,null,0,501]
["Rd.28",null,null,null,0,501,"Rd.28",null,null,null,0,501]
["Rd.29",null,null,null,0,501,"Rd.29",null,null,null,0,501]
["Rd.30",null,null,null,0,501,"Rd.30",null,null,null,0,501]

{"sheet":"Runde10","index":22,"n_rows":31,"n_cols":12,"rows_kept":31,"cut":false,"hidden":false,"merged":[[0,0,0,4],[0,6,0,10]]}
[{"$f":"CONCATENATE('Rd. 10'!D1)","v":""},null,null,null,null,501,{"$f":"CONCATENATE('Rd. 10'!K1)","v":""},null,null,null,null,501]
["Rd.1",50,20,12,{"$f":"SUM(B2:D2)","v":82},{"$f":"SUM(F1)-E2","v":419},"Rd.1",17,18,33,{"$f":"SUM(H2:J2)","v":68},{"$f":"SUM(L1)-K2","v":433}]
["Rd.2",null,null,null,{"$f":"SUM(B3:D3)","v":0},{"$f":"SUM(F2)-E3","v":419},"Rd.2",null,null,null,{"$f":"SUM(H3:J3)","v":0},{"$f":"SUM(L2)-K3","v":433}]
["Rd.3",null,null,null,{"$f":"SUM(B4:D4)","v":0},{"$f":"SUM(F3)-E4","v":419},"Rd.3",null,null,null,{"$f":"SUM(H4:J4)","v":0},{"$f":"SUM(L3)-K4","v":433}]
["Rd.4",null,null,null,{"$f":"SUM(B5:D5)","v":0},{"$f":"SUM(F4)-E5","v":419},"Rd.4",null,null,null,{"$f":"SUM(H5:J5)","v":0},{"$f":"SUM(L4)-K5","v":433}]
["Rd.5",null,null,null,{"$f":"SUM(B6:D6)","v":0},419,"Rd.5",null,null,null,{"$f":"SUM(H6:J6)","v":0},433]
["Rd.6",null,null,null,0,419,"Rd.6",null,null,null,0,433]
["Rd.7",null,null,null,0,419,"Rd.7",null,null,null,0,433]
["Rd.8",null,null,null,0,419,"Rd.8",null,null,null,0,433]
["Rd.9",null,null,null,0,419,"Rd.9",null,null,null,0,433]
["Rd.10",null,null,null,0,419,"Rd.10",null,null,null,0,433]
["Rd.11",null,null,null,0,419,"Rd.11",null,null,null,0,433]
["Rd.12",null,null,null,0,419,"Rd.12",null,null,null,0,433]
["Rd.13",null,null,null,0,419,"Rd.13",null,null,null,0,433]
["Rd.14",null,null,null,0,419,"Rd.14",null,null,null,0,433]
["Rd.15",null,null,null,0,419,"Rd.15",null,null,null,0,433]
["Rd.16",null,null,null,0,419,"Rd.16",null,null,null,0,433]
["Rd.17",null,null,null,0,419,"Rd.17",null,null,null,0,433]
["Rd.18",null,null,null,0,419,"Rd.18",null,null,null,0,433]
["Rd.19",null,null,null,0,419,"Rd.19",null,null,null,0,433]
["Rd.20",null,null,null,0,419,"Rd.20",null,null,null,0,433]
["Rd.21",null,null,null,0,419,"Rd.21",null,null,null,0,433]
["Rd.22",null,null,null,0,419,"Rd.22",null,null,null,0,433]
["Rd.23",null,null,null,0,419,"Rd.23",null,null,null,0,433]
["Rd.24",null,null,null,0,419,"Rd.24",null,null,null,0,433]
["Rd.25",null,null,null,0,419,"Rd.25",null,null,null,0,433]
["Rd.26",null,null,null,0,419,"Rd.26",null,null,null,0,433]
["Rd.27",null,null,null,0,419,"Rd.27",null,null,null,0,433]
["Rd.28",null,null,null,0,419,"Rd.28",null,null,null,0,433]
["Rd.29",null,null,null,0,419,"Rd.29",null,null,null,0,433]
["Rd.30",null,null,null,0,419,"Rd.30",null,null,null,0,433]

{"sheet":"Namen","index":23,"n_rows":11,"n_cols":1,"rows_kept":11,"cut":false,"hidden":false,"merged":[]}
[]
["Anja"]
["Erich"]
["Siggi"]
["Ralf M."]
["Ralf Kl."]
["Volker"]
["Rene"]
["Nicole"]
["Frank"]
["Gast"]