{"text_format":"1","workbook":"xlsx","n_sheets":3,"sheets":["Liste","Filme","Leute"],"not_rendered":{"charts":0,"images":0,"macros":1,"external_links":0,"defined_names":2,"comments":0,"pivot_tables":0},"unopened":[],"bounds":{"document_bytes":16777216,"sheet_cells":100000,"rows_first":2000,"rows_last":500,"rows_between":2000,"halvings":0,"cell_chars":16384,"cell_head_chars":4096},"cells_cut":0,"cells_raw":0,"read":"whole","date_system":"1900"}

{"sheet":"Liste","index":0,"n_rows":765,"n_cols":11,"rows_kept":765,"cut":false,"hidden":false,"merged":[]}
["tt0108169","nm0000097",{"$f":"_xlfn.XLOOKUP($A1,_xlfn.CHOOSECOLS(_xlfn.ANCHORARRAY(Filme!$G$1),2),_xlfn.CHOOSECOLS(_xlfn.ANCHORARRAY(Filme!$G$1),3),\"\",0,2)","v":"Snapdragon"},{"$f":"_xlfn.XLOOKUP($A1,_xlfn.CHOOSECOLS(_xlfn.ANCHORARRAY(Filme!$G$1),2),_xlfn.CHOOSECOLS(_xlfn.ANCHORARRAY(Filme!$G$1),4),\"\",0,2)","v":"1993-12-01"},{"$f":"_xlfn.XLOOKUP($B1,_xlfn.CHOOSECOLS(_xlfn.ANCHORARRAY(Leute!$F$1),2),_xlfn.CHOOSECOLS(_xlfn.ANCHORARRAY(Leute!$F$1),3),\"x\",0,2)","v":"Pamela Anderson"},{"$f":"_xlfn.XLOOKUP($B1,_xlfn.CHOOSECOLS(_xlfn.ANCHORARRAY(Leute!$F$1),2),_xlfn.CHOOSECOLS(_xlfn.ANCHORARRAY(Leute!$F$1),4),\"x\",0,2)","v":"1967-07-01"},{"$f":"RANK(F1,F$1:F1,0)","v":1},{"$f":"DATEDIF(F1,D1,\"Y\")","v":26},{"$f":"DATEDIF(F1,D1,\"YD\")","v":153},{"$f":"D1-F1","v":9650},{"$f":"\"MRS \"&TEXT(J1,\"00000\")&\" \"&SUBSTITUTE(C1,\":\",\"\")&\" (\"&TEXT(D1,\"TT.MM.JJJJ\")&\") - \"&E1&\" (\"&TEXT(F1,\"TT.MM.JJJJ\")&\") \"&H1&\"-\"&I1","v":"MRS 09650 Snapdragon (01.12.1993) - Pamela Anderson (01.07.1967) 26-153"}]
["tt0110948","nm0000097",{"$f":"_xlfn.XLOOKUP($A2,_xlfn.CHOOSECOLS(_xlfn.ANCHORARRAY(Filme!$G$1),2),_xlfn.CHOOSECOLS(_xlfn.ANCHORARRAY(Filme!$G$1),3),\"\",0,2)","v":"Raw Justice"},{"$f":"_xlfn.XLOOKUP($A2,_xlfn.CHOOSECOLS(_xlfn.ANCHORARRAY(Filme!$G$1),2),_xlfn.CHOOSECOLS(_xlfn.ANCHORARRAY(Filme!$G$1),4),\"\",0,2)","v":"1994-05-31"},{"$f":"_xlfn.XLOOKUP($B2,_xlfn.CHOOSECOLS(_xlfn.ANCHORARRAY(Leute!$F$1),2),_xlfn.CHOOSECOLS(_xlfn.ANCHORARRAY(Leute!$F$1),3),\"x\",0,2)","v":"Pamela Anderson"},{"$f":"_xlfn.XLOOKUP($B2,_xlfn.CHOOSECOLS(_xlfn.ANCHORARRAY(Leute!$F$1),2),_xlfn.CHOOSECOLS(_xlfn.ANCHORARRAY(Leute!$F$1),4),\"x\",0,2)","v":"1967-07-01"},{"$f":"RANK(F2,F$1:F2,0)","v":1},{"$f":"DATEDIF(F2,D2,\"Y\")","v":26},{"$f":"DATEDIF(F2,D2,\"YD\")","v":335},{"$f":"D2-F2","v":9831},{"$f":"\"MRS \"&TEXT(J2,\"00000\")&\" \"&SUBSTITUTE(C2,\":\",\"\")&\" (\"&TEXT(D2,\"TT.MM.JJJJ\")&\") - \"&E2&\" (\"&TEXT(F2,\"TT.MM.JJJJ\")&\") \"&H2&\"-\"&I2","v":"MRS 09831 Raw Justice (31.05.1994) - Pamela Anderson (01.07.1967) 26-335"}]
["tt0113926","nm0000097",{"$f":"_xlfn.XLOOKUP($A3,_xlfn.CHOOSECOLS(_xlfn.ANCHORARRAY(Filme!$G$1),2),_xlfn.CHOOSECOLS(_xlfn.ANCHORARRAY(Filme!$G$1),3),\"\",0,2)","v":"Naked Souls"},{"$f":"_xlfn.XLOOKUP($A3,_xlfn.CHOOSECOLS(_xlfn.ANCHORARRAY(Filme!$G$1),2),_xlfn.CHOOSECOLS(_xlfn.ANCHORARRAY(Filme!$G$1),4),\"\",0,2)","v":"1996-05-18"},{"$f":"_xlfn.XLOOKUP($B3,_xlfn.CHOOSECOLS(_xlfn.ANCHORARRAY(Leute!$F$1),2),_xlfn.CHOOSECOLS(_xlfn.ANCHORARRAY(Leute!$F$1),3),\"x\",0,2)","v":"Pamela Anderson"},{"$f":"_xlfn.XLOOKUP($B3,_xlfn.CHOOSECOLS(_xlfn.ANCHORARRAY(Leute!$F$1),2),_xlfn.CHOOSECOLS(_xlfn.ANCHORARRAY(Leute!$F$1),4),\"x\",0,2)","v":"1967-07-01"},{"$f":"RANK(F3,F$1:F3,0)","v":1},{"$f":"DATEDIF(F3,D3,\"Y\")","v":28},{"$f":"DATEDIF(F3,D3,\"YD\")","v":322},{"$f":"D3-F3","v":10549},{"$f":"\"MRS \"&TEXT(J3,\"00000\")&\" \"&SUBSTITUTE(C3,\":\",\"\")&\" (\"&TEXT(D3,\"TT.MM.JJJJ\")&\") - \"&E3&\" (\"&TEXT(F3,\"TT.MM.JJJJ\")&\") \"&H3&\"-\"&I3","v":"MRS 10549 Naked Souls (18.05.1996) - Pamela Anderson (01.07.1967) 28-322"}]
["tt0115624","nm0000097",{"$f":"_xlfn.XLOOKUP($A4,_xlfn.CHOOSECOLS(_xlfn.ANCHORARRAY(Filme!$G$1),2),_xlfn.CHOOSECOLS(_xlfn.ANCHORARRAY(Filme!$G$1),3),\"\",0,2)","v":"Barb Wire"},{"$f":"_xlfn.XLOOKUP($A4,_xlfn.CHOOSECOLS(_xlfn.ANCHORARRAY(Filme!$G$1),2),_xlfn.CHOOSECOLS(_xlfn.ANCHORARRAY(Filme!$G$1),4),\"\",0,2)","v":"1996-10-24"},{"$f":"_xlfn.XLOOKUP($B4,_xlfn.CHOOSECOLS(_xlfn.ANCHORARRAY(Leute!$F$1),2),_xlfn.CHOOSECOLS(_xlfn.ANCHORARRAY(Leute!$F$1),3),\"x\",0,2)","v":"Pamela Anderson"},{"$f":"_xlfn.XLOOKUP($B4,_xlfn.CHOOSECOLS(_xlfn.ANCHORARRAY(Leute!$F$1),2),_xlfn.CHOOSECOLS(_xlfn.ANCHORARRAY(Leute!$F$1),4),\"x\",0,2)","v":"1967-07-01"},{"$f":"RANK(F4,F$1:F4,0)","v":1},{"$f":"DATEDIF(F4,D4,\"Y\")","v":29},{"$f":"DATEDIF(F4,D4,\"YD\")","v":115},{"$f":"D4-F4","v":10708},{"$f":"\"MRS \"&TEXT(J4,\"00000\")&\" \"&SUBSTITUTE(C4,\":\",\"\")&\" (\"&TEXT(D4,\"TT.MM.JJJJ\")&\") - \"&E4&\" (\"&TEXT(F4,\"TT.MM.JJJJ\")&\") \"&H4&\"-\"&I4","v":"MRS 10708 Barb Wire (24.10.1996) - Pamela Anderson (01.07.1967) 29-115"}]
["tt0158062","nm0000097",{"$f":"_xlfn.XLOOKUP($A5,_xlfn.CHOOSECOLS(_xlfn.ANCHORARRAY(Filme!$G$1),2),_xlfn.CHOOSECOLS(_xlfn.ANCHORARRAY(Filme!$G$1),3),\"\",0,2)","v":"Pam & Tommy Lee: Stolen Honeymoon"},{"$f":"_xlfn.XLOOKUP($A5,_xlfn.CHOOSECOLS(_xlfn.ANCHORARRAY(Filme!$G$1),2),_xlfn.CHOOSECOLS(_xlfn.ANCHORARRAY(Filme!$G$1),4),\"\",0,2)","v":"1998-12-31"},{"$f":"_xlfn.XLOOKUP($B5,_xlfn.CHOOSECOLS(_xlfn.ANCHORARRAY(Leute!$F$1),2),_xlfn.CHOOSECOLS(_xlfn.ANCHORARRAY(Leute!$F$1),3),\"x\",0,2)","v":"Pamela Anderson"},{"$f":"_xlfn.XLOOKUP($B5,_xlfn.CHOOSECOLS(_xlfn.ANCHORARRAY(Leute!$F$1),2),_xlfn.CHOOSECOLS(_xlfn.ANCHORARRAY(Leute!$F$1),4),\"x\",0,2)","v":"1967-07-01"},{"$f":"RANK(F5,F$1:F5,0)","v":1},{"$f":"DATEDIF(F5,D5,\"Y\")","v":31},{"$f":"DATEDIF(F5,D5,\"YD\")","v":183},{"$f":"D5-F5","v":11506},{"$f":"\"MRS \"&TEXT(J5,\"00000\")&\" \"&SUBSTITUTE(C5,\":\",\"\")&\" (\"&TEXT(D5,\"TT.MM.JJJJ\")&\") - \"&E5&\" (\"&TEXT(F5,\"TT.MM.JJJJ\")&\") \"&H5&\"-\"&I5","v":"MRS 11506 Pam & Tommy Lee Stolen Honeymoon (31.12.1998) - Pamela Anderson (01.07.1967) 31-183"}]
["tt0306047","nm0000097",{"$f":"_xlfn.XLOOKUP($A6,_xlfn.CHOOSECOLS(_xlfn.ANCHORARRAY(Filme!$G$1),2),_xlfn.CHOOSECOLS(_xlfn.ANCHORARRAY(Filme!$G$1),3),\"\",0,2)","v":"Scary Movie 3"},{"$f":"_xlfn.XLOOKUP($A6,_xlfn.CHOOSECOLS(_xlfn.ANCHORARRAY(Filme!$G$1),2),_xlfn.CHOOSECOLS(_xlfn.ANCHORARRAY(Filme!$G$1),4),\"\",0,2)","v":"2004-02-26"},{"$f":"_xlfn.XLOOKUP($B6,_xlfn.CHOOSECOLS(_xlfn.ANCHORARRAY(Leute!$F$1),2),_xlfn.CHOOSECOLS(_xlfn.ANCHORARRAY(Leute!$F$1),3),\"x\",0,2)","v":"Pamela Anderson"},{"$f":"_xlfn.XLOOKUP($B6,_xlfn.CHOOSECOLS(_xlfn.ANCHORARRAY(Leute!$F$1),2),_xlfn.CHOOSECOLS(_xlfn.ANCHORARRAY(Leute!$F$1),4),\"x\",0,2)","v":"1967-07-01"},{"$f":"RANK(F6,F$1:F6,0)","v":1},{"$f":"DATEDIF(F6,D6,\"Y\")","v":36},{"$f":"DATEDIF(F6,D6,\"YD\")","v":240},{"$f":"D6-F6","v":13389},{"$f":"\"MRS \"&TEXT(J6,\"00000\")&\" \"&SUBSTITUTE(C6,\":\",\"\")&\" (\"&TEXT(D6,\"TT.MM.JJJJ\")&\") - \"&E6&\" (\"&TEXT(F6,\"TT.MM.JJJJ\")&\") \"&H6&\"-\"&I6","v":"MRS 13389 Scary Movie 3 (26.02.2004) - Pamela Anderson (01.07.1967) 36-240"}]
["tt0356569","nm0000097",{"$f":"_xlfn.XLOOKUP($A7,_xlfn.CHOOSECOLS(_xlfn.ANCHORARRAY(Filme!$G$1),2),_xlfn.CHOOSECOLS(_xlfn.ANCHORARRAY(Filme!$G$1),3),\"\",0,2)","v":"Edenquest: Pamela Anderson"},{"$f":"_xlfn.XLOOKUP($A7,_xlfn.CHOOSECOLS(_xlfn.ANCHORARRAY(Filme!$G$1),2),_xlfn.CHOOSECOLS(_xlfn.ANCHORARRAY(Filme!$G$1),4),\"\",0,2)","v":"00:00:00"},{"$f":"_xlfn.XLOOKUP($B7,_xlfn.CHOOSECOLS(_xlfn.ANCHORARRAY(Leute!$F$1),2),_xlfn.CHOOSECOLS(_xlfn.ANCHORARRAY(Leute!$F$1),3),\"x\",0,2)","v":"Pamela Anderson"},{"$f":"_xlfn.XLOOKUP($B7,_xlfn.CHOOSECOLS(_xlfn.ANCHORARRAY(Leute!$F$1),2),_xlfn.CHOOSECOLS(_xlfn.ANCHORARRAY(Leute!$F$1),4),\"x\",0,2)","v":"1967-07-01"},{"$f":"RANK(F7,F$1:F7,0)","v":1},{"$f":"DATEDIF(F7,D7,\"Y\")","v":{"$error":"#NUM!"}},{"$f":"DATEDIF(F7,D7,\"YD\")","v":{"$error":"#NUM!"}},{"$f":"D7-F7","v":-24654},{"$f":"\"MRS \"&TEXT(J7,\"00000\")&\" \"&SUBSTITUTE(C7,\":\",\"\")&\" (\"&TEXT(D7,\"TT.MM.JJJJ\")&\") - \"&E7&\" (\"&TEXT(F7,\"TT.MM.JJJJ\")&\") \"&H7&\"-\"&I7","v":{"$error":"#NUM!"}}]
["tt1284760","nm0000097",{"$f":"_xlfn.XLOOKUP($A8,_xlfn.CHOOSECOLS(_xlfn.ANCHORARRAY(Filme!$G$1),2),_xlfn.CHOOSECOLS(_xlfn.ANCHORARRAY(Filme!$G$1),3),\"\",0,2)","v":"The Girls Next Door"},{"$f":"_xlfn.XLOOKUP($A8,_xlfn.CHOOSECOLS(_xlfn.ANCHORARRAY(Filme!$G$1),2),_xlfn.CHOOSECOLS(_xlfn.ANCHORARRAY(Filme!$G$1),4),\"\",0,2)","v":"2008-08-18"},{"$f":"_xlfn.XLOOKUP($B8,_xlfn.CHOOSECOLS(_xlfn.ANCHORARRAY(Leute!$F$1),2),_xlfn.CHOOSECOLS(_xlfn.ANCHORARRAY(Leute!$F$1),3),\"x\",0,2)","v":"Pamela Anderson"},{"$f":"_xlfn.XLOOKUP($B8,_xlfn.CHOOSECOLS(_xlfn.ANCHORARRAY(Leute!$F$1),2),_xlfn.CHOOSECOLS(_xlfn.ANCHORARRAY(Leute!$F$1),4),\"x\",0,2)","v":"1967-07-01"},{"$f":"RANK(F8,F$1:F8,0)","v":1},{"$f":"DATEDIF(F8,D8,\"Y\")","v":41},{"$f":"DATEDIF(F8,D8,\"YD\")","v":48},{"$f":"D8-F8","v":15024},{"$f":"\"MRS \"&TEXT(J8,\"00000\")&\" \"&SUBSTITUTE(C8,\":\",\"\")&\" (\"&TEXT(D8,\"TT.MM.JJJJ\")&\") - \"&E8&\" (\"&TEXT(F8,\"TT.MM.JJJJ\")&\") \"&H8&\"-\"&I8","v":"MRS 15024 The Girls Next Door (18.08.2008) - Pamela Anderson (01.07.1967) 41-48"}]
["tt18376122","nm0000097",{"$f":"_xlfn.XLOOKUP($A9,_xlfn.CHOOSECOLS(_xlfn.ANCHORARRAY(Filme!$G$1),2),_xlfn.CHOOSECOLS(_xlfn.ANCHORARRAY(Filme!$G$1),3),\"\",0,2)","v":"Pamela, a Love Story"},{"$f":"_xlfn.XLOOKUP($A9,_xlfn.CHOOSECOLS(_xlfn.ANCHORARRAY(Filme!$G$1),2),_xlfn.CHOOSECOLS(_xlfn.ANCHORARRAY(Filme!$G$1),4),\"\",0,2)","v":"2023-01-31"},{"$f":"_xlfn.XLOOKUP($B9,_xlfn.CHOOSECOLS(_xlfn.ANCHORARRAY(Leute!$F$1),2),_xlfn.CHOOSECOLS(_xlfn.ANCHORARRAY(Leute!$F$1),3),\"x\",0,2)","v":"Pamela Anderson"},{"$f":"_xlfn.XLOOKUP($B9,_xlfn.CHOOSECOLS(_xlfn.ANCHORARRAY(Leute!$F$1),2),_xlfn.CHOOSECOLS(_xlfn.ANCHORARRAY(Leute!$F$1),4),\"x\",0,2)","v":"1967-07-01"},{"$f":"RANK(F9,F$1:F9,0)","v":1},{"$f":"DATEDIF(F9,D9,\"Y\")","v":55},{"$f":"DATEDIF(F9,D9,\"YD\")","v":214},{"$f":"D9-F9","v":20303},{"$f":"\"MRS \"&TEXT(J9,\"00000\")&\" \"&SUBSTITUTE(C9,\":\",\"\")&\" (\"&TEXT(D9,\"TT.MM.JJJJ\")&\") - \"&E9&\" (\"&TEXT(F9,\"TT.MM.JJJJ\")&\") \"&H9&\"-\"&I9","v":"MRS 20303 Pamela, a Love Story (31.01.2023) - Pamela Anderson (01.07.1967) 55-214"}]
["tt4254562","nm0000097",{"$f":"_xlfn.XLOOKUP($A10,_xlfn.CHOOSECOLS(_xlfn.ANCHORARRAY(Filme!$G$1),2),_xlfn.CHOOSECOLS(_xlfn.ANCHORARRAY(Filme!$G$1),3),\"\",0,2)","v":"The People Garden"},{"$f":"_xlfn.XLOOKUP($A10,_xlfn.CHOOSECOLS(_xlfn.ANCHORARRAY(Filme!$G$1),2),_xlfn.CHOOSECOLS(_xlfn.ANCHORARRAY(Filme!$G$1),4),\"\",0,2)","v":"2016-09-12"},{"$f":"_xlfn.XLOOKUP($B10,_xlfn.CHOOSECOLS(_xlfn.ANCHORARRAY(Leute!$F$1),2),_xlfn.CHOOSECOLS(_xlfn.ANCHORARRAY(Leute!$F$1),3),\"x\",0,2)","v":"Pamela Anderson"},{"$f":"_xlfn.XLOOKUP($B10,_xlfn.CHOOSECOLS(_xlfn.ANCHORARRAY(Leute!$F$1),2),_xlfn.CHOOSECOLS(_xlfn.ANCHORARRAY(Leute!$F$1),4),\"x\",0,2)","v":"1967-07-01"},{"$f":"RANK(F10,F$1:F10,0)","v":1},{"$f":"DATEDIF(F10,D10,\"Y\")","v":49},{"$f":"DATEDIF(F10,D10,\"YD\")","v":73},{"$f":"D10-F10","v":17971},{"$f":"\"MRS \"&TEXT(J10,\"00000\")&\" \"&SUBSTITUTE(C10,\":\",\"\")&\" (\"&TEXT(D10,\"TT.MM.JJJJ\")&\") - \"&E10&\" (\"&TEXT(F10,\"TT.MM.JJJJ\")&\") \"&H10&\"-\"&I10","v":"MRS 17971 The People Garden (12.09.2016) - Pamela Anderson (01.07.1967) 49-73"}]
["tt4696764","nm0000097",{"$f":"_xlfn.XLOOKUP($A11,_xlfn.CHOOSECOLS(_xlfn.ANCHORARRAY(Filme!$G$1),2),_xlfn.CHOOSECOLS(_xlfn.ANCHORARRAY(Filme!$G$1),3),\"\",0,2)","v":"Connected"},{"$f":"_xlfn.XLOOKUP($A11,_xlfn.CHOOSECOLS(_xlfn.ANCHORARRAY(Filme!$G$1),2),_xlfn.CHOOSECOLS(_xlfn.ANCHORARRAY(Filme!$G$1),4),\"\",0,2)","v":"00:00:00"},{"$f":"_xlfn.XLOOKUP($B11,_xlfn.CHOOSECOLS(_xlfn.ANCHORARRAY(Leute!$F$1),2),_xlfn.CHOOSECOLS(_xlfn.ANCHORARRAY(Leute!$F$1),3),\"x\",0,2)","v":"Pamela Anderson"},{"$f":"_xlfn.XLOOKUP($B11,_xlfn.CHOOSECOLS(_xlfn.ANCHORARRAY(Leute!$F$1),2),_xlfn.CHOOSECOLS(_xlfn.ANCHORARRAY(Leute!$F$1),4),\"x\",0,2)","v":"1967-07-01"},{"$f":"RANK(F11,F$1:F11,0)","v":1},{"$f":"DATEDIF(F11,D11,\"Y\")","v":{"$error":"#NUM!"}},{"$f":"DATEDIF(F11,D11,\"YD\")","v":{"$error":"#NUM!"}},{"$f":"D11-F11","v":-24654},{"$f":"\"MRS \"&TEXT(J11,\"00000\")&\" \"&SUBSTITUTE(C11,\":\",\"\")&\" (\"&TEXT(D11,\"TT.MM.JJJJ\")&\") - \"&E11&\" (\"&TEXT(F11,\"TT.MM.JJJJ\")&\") \"&H11&\"-\"&I11","v":{"$error":"#NUM!"}}]
["tt0279113","nm0000098",{"$f":"_xlfn.XLOOKUP($A12,_xlfn.CHOOSECOLS(_xlfn.ANCHORARRAY(Filme!$G$1),2),_xlfn.CHOOSECOLS(_xlfn.ANCHORARRAY(Filme!$G$1),3),\"\",0,2)","v":"The Good Girl"},{"$f":"_xlfn.XLOOKUP($A12,_xlfn.CHOOSECOLS(_xlfn.ANCHORARRAY(Filme!$G$1),2),_xlfn.CHOOSECOLS(_xlfn.ANCHORARRAY(Filme!$G$1),4),\"\",0,2)","v":"2002-08-30"},{"$f":"_xlfn.XLOOKUP($B12,_xlfn.CHOOSECOLS(_xlfn.ANCHORARRAY(Leute!$F$1),2),_xlfn.CHOOSECOLS(_xlfn.ANCHORARRAY(Leute!$F$1),3),\"x\",0,2)","v":"Jennifer Aniston"},{"$f":"_xlfn.XLOOKUP($B12,_xlfn.CHOOSECOLS(_xlfn.ANCHORARRAY(Leute!$F$1),2),_xlfn.CHOOSECOLS(_xlfn.ANCHORARRAY(Leute!$F$1),4),\"x\",0,2)","v":"1969-02-11"},{"$f":"RANK(F12,F$1:F12,0)","v":1},{"$f":"DATEDIF(F12,D12,\"Y\")","v":33},{"$f":"DATEDIF(F12,D12,\"YD\")","v":200},{"$f":"D12-F12","v":12253},{"$f":"\"MRS \"&TEXT(J12,\"00000\")&\" \"&SUBSTITUTE(C12,\":\",\"\")&\" (\"&TEXT(D12,\"TT.MM.JJJJ\")&\") - \"&E12&\" (\"&TEXT(F12,\"TT.MM.JJJJ\")&\") \"&H12&\"-\"&I12","v":"MRS 12253 The Good Girl (30.08.2002) - Jennifer Aniston (11.02.1969) 33-200"}]
["tt0452594","nm0000098",{"$f":"_xlfn.XLOOKUP($A13,_xlfn.CHOOSECOLS(_xlfn.ANCHORARRAY(Filme!$G$1),2),_xlfn.CHOOSECOLS(_xlfn.ANCHORARRAY(Filme!$G$1),3),\"\",0,2)","v":"The Break-Up"},{"$f":"_xlfn.XLOOKUP($A13,_xlfn.CHOOSECOLS(_xlfn.ANCHORARRAY(Filme!$G$1),2),_xlfn.CHOOSECOLS(_xlfn.ANCHORARRAY(Filme!$G$1),4),\"\",0,2)","v":"2006-08-10"},{"$f":"_xlfn.XLOOKUP($B13,_xlfn.CHOOSECOLS(_xlfn.ANCHORARRAY(Leute!$F$1),2),_xlfn.CHOOSECOLS(_xlfn.ANCHORARRAY(Leute!$F$1),3),\"x\",0,2)","v":"Jennifer Aniston"},{"$f":"_xlfn.XLOOKUP($B13,_xlfn.CHOOSECOLS(_xlfn.ANCHORARRAY(Leute!$F$1),2),_xlfn.CHOOSECOLS(_xlfn.ANCHORARRAY(Leute!$F$1),4),\"x\",0,2)","v":"1969-02-11"},{"$f":"RANK(F13,F$1:F13,0)","v":1},{"$f":"DATEDIF(F13,D13,\"Y\")","v":37},{"$f":"DATEDIF(F13,D13,\"YD\")","v":180},{"$f":"D13-F13","v":13694},{"$f":"\"MRS \"&TEXT(J13,\"00000\")&\" \"&SUBSTITUTE(C13,\":\",\"\")&\" (\"&TEXT(D13,\"TT.MM.JJJJ\")&\") - \"&E13&\" (\"&TEXT(F13,\"TT.MM.JJJJ\")&\") \"&H13&\"-\"&I13","v":"MRS 13694 The Break-Up (10.08.2006) - Jennifer Aniston (11.02.1969) 37-180"}]
["tt26921534","nm0000098",{"$f":"_xlfn.XLOOKUP($A14,_xlfn.CHOOSECOLS(_xlfn.ANCHORARRAY(Filme!$G$1),2),_xlfn.CHOOSECOLS(_xlfn.ANCHORARRAY(Filme!$G$1),3),\"\",0,2)","v":"The Morning Show"},{"$f":"_xlfn.XLOOKUP($A14,_xlfn.CHOOSECOLS(_xlfn.ANCHORARRAY(Filme!$G$1),2),_xlfn.CHOOSECOLS(_xlfn.ANCHORARRAY(Filme!$G$1),4),\"\",0,2)","v":"2023-10-11"},{"$f":"_xlfn.XLOOKUP($B14,_xlfn.CHOOSECOLS(_xlfn.ANCHORARRAY(Leute!$F$1),2),_xlfn.CHOOSECOLS(_xlfn.ANCHORARRAY(Leute!$F$1),3),\"x\",0,2)","v":"Jennifer Aniston"},{"$f":"_xlfn.XLOOKUP($B14,_xlfn.CHOOSECOLS(_xlfn.ANCHORARRAY(Leute!$F$1),2),_xlfn.CHOOSECOLS(_xlfn.ANCHORARRAY(Leute!$F$1),4),\"x\",0,2)","v":"1969-02-11"},{"$f":"RANK(F14,F$1:F14,0)","v":1},{"$f":"DATEDIF(F14,D14,\"Y\")","v":54},{"$f":"DATEDIF(F14,D14,\"YD\")","v":242},{"$f":"D14-F14","v":19965},{"$f":"\"MRS \"&TEXT(J14,\"00000\")&\" \"&SUBSTITUTE(C14,\":\",\"\")&\" (\"&TEXT(D14,\"TT.MM.JJJJ\")&\") - \"&E14&\" (\"&TEXT(F14,\"TT.MM.JJJJ\")&\") \"&H14&\"-\"&I14","v":"MRS 19965 The Morning Show (11.10.2023) - Jennifer Aniston (11.02.1969) 54-242"}]
["tt0096270","nm0000099",{"$f":"_xlfn.XLOOKUP($A15,_xlfn.CHOOSECOLS(_xlfn.ANCHORARRAY(Filme!$G$1),2),_xlfn.CHOOSECOLS(_xlfn.ANCHORARRAY(Filme!$G$1),3),\"\",0,2)","v":"Time Out"},{"$f":"_xlfn.XLOOKUP($A15,_xlfn.CHOOSECOLS(_xlfn.ANCHORARRAY(Filme!$G$1),2),_xlfn.CHOOSECOLS(_xlfn.ANCHORARRAY(Filme!$G$1),4),\"\",0,2)","v":"1988-02-12"},{"$f":"_xlfn.XLOOKUP($B15,_xlfn.CHOOSECOLS(_xlfn.ANCHORARRAY(Leute!$F$1),2),_xlfn.CHOOSECOLS(_xlfn.ANCHORARRAY(Leute!$F$1),3),\"x\",0,2)","v":"Patricia Arquette"},{"$f":"_xlfn.XLOOKUP($B15,_xlfn.CHOOSECOLS(_xlfn.ANCHORARRAY(Leute!$F$1),2),_xlfn.CHOOSECOLS(_xlfn.ANCHORARRAY(Leute!$F$1),4),\"x\",0,2)","v":"1968-04-08"},{"$f":"RANK(F15,F$1:F15,0)","v":4},{"$f":"DATEDIF(F15,D15,\"Y\")","v":19},{"$f":"DATEDIF(F15,D15,\"YD\")","v":310},{"$f":"D15-F15","v":7249},{"$f":"\"MRS \"&TEXT(J15,\"00000\")&\" \"&SUBSTITUTE(C15,\":\",\"\")&\" (\"&TEXT(D15,\"TT.MM.JJJJ\")&\") - \"&E15&\" (\"&TEXT(F15,\"TT.MM.JJJJ\")&\") \"&H15&\"-\"&I15","v":"MRS 07249 Time Out (12.02.1988) - Patricia Arquette (08.04.1968) 19-310"}]
["tt0103266","nm0000099",{"$f":"_xlfn.XLOOKUP($A16,_xlfn.CHOOSECOLS(_xlfn.ANCHORARRAY(Filme!$G$1),2),_xlfn.CHOOSECOLS(_xlfn.ANCHORARRAY(Filme!$G$1),3),\"\",0,2)","v":"Wildflower"},{"$f":"_xlfn.XLOOKUP($A16,_xlfn.CHOOSECOLS(_xlfn.ANCHORARRAY(Filme!$G$1),2),_xlfn.CHOOSECOLS(_xlfn.ANCHORARRAY(Filme!$G$1),4),\"\",0,2)","v":"1996-06-04"},{"$f":"_xlfn.XLOOKUP($B16,_xlfn.CHOOSECOLS(_xlfn.ANCHORARRAY(Leute!$F$1),2),_xlfn.CHOOSECOLS(_xlfn.ANCHORARRAY(Leute!$F$1),3),\"x\",0,2)","v":"Patricia Arquette"},{"$f":"_xlfn.XLOOKUP($B16,_xlfn.CHOOSECOLS(_xlfn.ANCHORARRAY(Leute!$F$1),2),_xlfn.CHOOSECOLS(_xlfn.ANCHORARRAY(Leute!$F$1),4),\"x\",0,2)","v":"1968-04-08"},{"$f":"RANK(F16,F$1:F16,0)","v":4},{"$f":"DATEDIF(F16,D16,\"Y\")","v":28},{"$f":"DATEDIF(F16,D16,\"YD\")","v":57},{"$f":"D16-F16","v":10284},{"$f":"\"MRS \"&TEXT(J16,\"00000\")&\" \"&SUBSTITUTE(C16,\":\",\"\")&\" (\"&TEXT(D16,\"TT.MM.JJJJ\")&\") - \"&E16&\" (\"&TEXT(F16,\"TT.MM.JJJJ\")&\") \"&H16&\"-\"&I16","v":"MRS 10284 Wildflower (04.06.1996) - Patricia Arquette (08.04.1968) 28-57"}]
["tt0108399","nm0000099",{"$f":"_xlfn.XLOOKUP($A17,_xlfn.CHOOSECOLS(_xlfn.ANCHORARRAY(Filme!$G$1),2),_xlfn.CHOOSECOLS(_xlfn.ANCHORARRAY(Filme!$G$1),3),\"\",0,2)","v":"True Romance"},{"$f":"_xlfn.XLOOKUP($A17,_xlfn.CHOOSECOLS(_xlfn.ANCHORARRAY(Filme!$G$1),2),_xlfn.CHOOSECOLS(_xlfn.ANCHORARRAY(Filme!$G$1),4),\"\",0,2)","v":"1994-01-27"},{"$f":"_xlfn.XLOOKUP($B17,_xlfn.CHOOSECOLS(_xlfn.ANCHORARRAY(Leute!$F$1),2),_xlfn.CHOOSECOLS(_xlfn.ANCHORARRAY(Leute!$F$1),3),\"x\",0,2)","v":"Patricia Arquette"},{"$f":"_xlfn.XLOOKUP($B17,_xlfn.CHOOSECOLS(_xlfn.ANCHORARRAY(Leute!$F$1),2),_xlfn.CHOOSECOLS(_xlfn.ANCHORARRAY(Leute!$F$1),4),\"x\",0,2)","v":"1968-04-08"},{"$f":"RANK(F17,F$1:F17,0)","v":4},{"$f":"DATEDIF(F17,D17,\"Y\")","v":25},{"$f":"DATEDIF(F17,D17,\"YD\")","v":294},{"$f":"D17-F17","v":9425},{"$f":"\"MRS \"&TEXT(J17,\"00000\")&\" \"&SUBSTITUTE(C17,\":\",\"\")&\" (\"&TEXT(D17,\"TT.MM.JJJJ\")&\") - \"&E17&\" (\"&TEXT(F17,\"TT.MM.JJJJ\")&\") \"&H17&\"-\"&I17","v":"MRS 09425 True Romance (27.01.1994) - Patricia Arquette (08.04.1968) 25-294"}]
["tt0116922","nm0000099",{"$f":"_xlfn.XLOOKUP($A18,_xlfn.CHOOSECOLS(_xlfn.ANCHORARRAY(Filme!$G$1),2),_xlfn.CHOOSECOLS(_xlfn.ANCHORARRAY(Filme!$G$1),3),\"\",0,2)","v":"Lost Highway"},{"$f":"_xlfn.XLOOKUP($A18,_xlfn.CHOOSECOLS(_xlfn.ANCHORARRAY(Filme!$G$1),2),_xlfn.CHOOSECOLS(_xlfn.ANCHORARRAY(Filme!$G$1),4),\"\",0,2)","v":"1997-04-10"},{"$f":"_xlfn.XLOOKUP($B18,_xlfn.CHOOSECOLS(_xlfn.ANCHORARRAY(Leute!$F$1),2),_xlfn.CHOOSECOLS(_xlfn.ANCHORARRAY(Leute!$F$1),3),\"x\",0,2)","v":"Patricia Arquette"},{"$f":"_xlfn.XLOOKUP($B18,_xlfn.CHOOSECOLS(_xlfn.ANCHORARRAY(Leute!$F$1),2),_xlfn.CHOOSECOLS(_xlfn.ANCHORARRAY(Leute!$F$1),4),\"x\",0,2)","v":"1968-04-08"},{"$f":"RANK(F18,F$1:F18,0)","v":4},{"$f":"DATEDIF(F18,D18,\"Y\")","v":29},{"$f":"DATEDIF(F18,D18,\"YD\")","v":2},{"$f":"D18-F18","v":10594},{"$f":"\"MRS \"&TEXT(J18,\"00000\")&\" \"&SUBSTITUTE(C18,\":\",\"\")&\" (\"&TEXT(D18,\"TT.MM.JJJJ\")&\") - \"&E18&\" (\"&TEXT(F18,\"TT.MM.JJJJ\")&\") \"&H18&\"-\"&I18","v":"MRS 10594 Lost Highway (10.04.1997) - Patricia Arquette (08.04.1968) 29-2"}]
["tt0145531","nm0000099",{"$f":"_xlfn.XLOOKUP($A19,_xlfn.CHOOSECOLS(_xlfn.ANCHORARRAY(Filme!$G$1),2),_xlfn.CHOOSECOLS(_xlfn.ANCHORARRAY(Filme!$G$1),3),\"\",0,2)","v":"Stigmata"},{"$f":"_xlfn.XLOOKUP($A19,_xlfn.CHOOSECOLS(_xlfn.ANCHORARRAY(Filme!$G$1),2),_xlfn.CHOOSECOLS(_xlfn.ANCHORARRAY(Filme!$G$1),4),\"\",0,2)","v":"2000-01-13"},{"$f":"_xlfn.XLOOKUP($B19,_xlfn.CHOOSECOLS(_xlfn.ANCHORARRAY(Leute!$F$1),2),_xlfn.CHOOSECOLS(_xlfn.ANCHORARRAY(Leute!$F$1),3),\"x\",0,2)","v":"Patricia Arquette"},{"$f":"_xlfn.XLOOKUP($B19,_xlfn.CHOOSECOLS(_xlfn.ANCHORARRAY(Leute!$F$1),2),_xlfn.CHOOSECOLS(_xlfn.ANCHORARRAY(Leute!$F$1),4),\"x\",0,2)","v":"1968-04-08"},{"$f":"RANK(F19,F$1:F19,0)","v":4},{"$f":"DATEDIF(F19,D19,\"Y\")","v":31},{"$f":"DATEDIF(F19,D19,\"YD\")","v":280},{"$f":"D19-F19","v":11602},{"$f":"\"MRS \"&TEXT(J19,\"00000\")&\" \"&SUBSTITUTE(C19,\":\",\"\")&\" (\"&TEXT(D19,\"TT.MM.JJJJ\")&\") - \"&E19&\" (\"&TEXT(F19,\"TT.MM.JJJJ\")&\") \"&H19&\"-\"&I19","v":"MRS 11602 Stigmata (13.01.2000) - Patricia Arquette (08.04.1968) 31-280"}]
["tt0219822","nm0000099",{"$f":"_xlfn.XLOOKUP($A20,_xlfn.CHOOSECOLS(_xlfn.ANCHORARRAY(Filme!$G$1),2),_xlfn.CHOOSECOLS(_xlfn.ANCHORARRAY(Filme!$G$1),3),\"\",0,2)","v":"Human Nature"},{"$f":"_xlfn.XLOOKUP($A20,_xlfn.CHOOSECOLS(_xlfn.ANCHORARRAY(Filme!$G$1),2),_xlfn.CHOOSECOLS(_xlfn.ANCHORARRAY(Filme!$G$1),4),\"\",0,2)","v":"2004-06-10"},{"$f":"_xlfn.XLOOKUP($B20,_xlfn.CHOOSECOLS(_xlfn.ANCHORARRAY(Leute!$F$1),2),_xlfn.CHOOSECOLS(_xlfn.ANCHORARRAY(Leute!$F$1),3),\"x\",0,2)","v":"Patricia Arquette"},{"$f":"_xlfn.XLOOKUP($B20,_xlfn.CHOOSECOLS(_xlfn.ANCHORARRAY(Leute!$F$1),2),_xlfn.CHOOSECOLS(_xlfn.ANCHORARRAY(Leute!$F$1),4),\"x\",0,2)","v":"1968-04-08"},{"$f":"RANK(F20,F$1:F20,0)","v":4},{"$f":"DATEDIF(F20,D20,\"Y\")","v":36},{"$f":"DATEDIF(F20,D20,\"YD\")","v":63},{"$f":"D20-F20","v":13212},{"$f":"\"MRS \"&TEXT(J20,\"00000\")&\" \"&SUBSTITUTE(C20,\":\",\"\")&\" (\"&TEXT(D20,\"TT.MM.JJJJ\")&\") - \"&E20&\" (\"&TEXT(F20,\"TT.MM.JJJJ\")&\") \"&H20&\"-\"&I20","v":"MRS 13212 Human Nature (10.06.2004) - Patricia Arquette (08.04.1968) 36-63"}]
["tt6967186","nm0000099",{"$f":"_xlfn.XLOOKUP($A21,_xlfn.CHOOSECOLS(_xlfn.ANCHORARRAY(Filme!$G$1),2),_xlfn.CHOOSECOLS(_xlfn.ANCHORARRAY(Filme!$G$1),3),\"\",0,2)","v":"Escape at Dannemora"},{"$f":"_xlfn.XLOOKUP($A21,_xlfn.CHOOSECOLS(_xlfn.ANCHORARRAY(Filme!$G$1),2),_xlfn.CHOOSECOLS(_xlfn.ANCHORARRAY(Filme!$G$1),4),\"\",0,2)","v":"2018-12-19"},{"$f":"_xlfn.XLOOKUP($B21,_xlfn.CHOOSECOLS(_xlfn.ANCHORARRAY(Leute!$F$1),2),_xlfn.CHOOSECOLS(_xlfn.ANCHORARRAY(Leute!$F$1),3),\"x\",0,2)","v":"Patricia Arquette"},{"$f":"_xlfn.XLOOKUP($B21,_xlfn.CHOOSECOLS(_xlfn.ANCHORARRAY(Leute!$F$1),2),_xlfn.CHOOSECOLS(_xlfn.ANCHORARRAY(Leute!$F$1),4),\"x\",0,2)","v":"1968-04-08"},{"$f":"RANK(F21,F$1:F21,0)","v":4},{"$f":"DATEDIF(F21,D21,\"Y\")","v":50},{"$f":"DATEDIF(F21,D21,\"YD\")","v":255},{"$f":"D21-F21","v":18517},{"$f":"\"MRS \"&TEXT(J21,\"00000\")&\" \"&SUBSTITUTE(C21,\":\",\"\")&\" (\"&TEXT(D21,\"TT.MM.JJJJ\")&\") - \"&E21&\" (\"&TEXT(F21,\"TT.MM.JJJJ\")&\") \"&H21&\"-\"&I21","v":"MRS 18517 Escape at Dannemora (19.12.2018) - Patricia Arquette (08.04.1968) 50-255"}]
["tt0396271","nm0000117",{"$f":"_xlfn.XLOOKUP($A22,_xlfn.CHOOSECOLS(_xlfn.ANCHORARRAY(Filme!$G$1),2),_xlfn.CHOOSECOLS(_xlfn.ANCHORARRAY(Filme!$G$1),3),\"\",0,2)","v":"When Will I Be Loved"},{"$f":"_xlfn.XLOOKUP($A22,_xlfn.CHOOSECOLS(_xlfn.ANCHORARRAY(Filme!$G$1),2),_xlfn.CHOOSECOLS(_xlfn.ANCHORARRAY(Filme!$G$1),4),\"\",0,2)","v":"2005-06-24"},{"$f":"_xlfn.XLOOKUP($B22,_xlfn.CHOOSECOLS(_xlfn.ANCHORARRAY(Leute!$F$1),2),_xlfn.CHOOSECOLS(_xlfn.ANCHORARRAY(Leute!$F$1),3),\"x\",0,2)","v":"Neve Campbell"},{"$f":"_xlfn.XLOOKUP($B22,_xlfn.CHOOSECOLS(_xlfn.ANCHORARRAY(Leute!$F$1),2),_xlfn.CHOOSECOLS(_xlfn.ANCHORARRAY(Leute!$F$1),4),\"x\",0,2)","v":"1973-10-03"},{"$f":"RANK(F22,F$1:F22,0)","v":1},{"$f":"DATEDIF(F22,D22,\"Y\")","v":31},{"$f":"DATEDIF(F22,D22,\"YD\")","v":264},{"$f":"D22-F22","v":11587},{"$f":"\"MRS \"&TEXT(J22,\"00000\")&\" \"&SUBSTITUTE(C22,\":\",\"\")&\" (\"&TEXT(D22,\"TT.MM.JJJJ\")&\") - \"&E22&\" (\"&TEXT(F22,\"TT.MM.JJJJ\")&\") \"&H22&\"-\"&I22","v":"MRS 11587 When Will I Be Loved (24.06.2005) - Neve Campbell (03.10.1973) 31-264"}]
["tt0831299","nm0000117",{"$f":"_xlfn.XLOOKUP($A23,_xlfn.CHOOSECOLS(_xlfn.ANCHORARRAY(Filme!$G$1),2),_xlfn.CHOOSECOLS(_xlfn.ANCHORARRAY(Filme!$G$1),3),\"\",0,2)","v":"I Really Hate My Job"},{"$f":"_xlfn.XLOOKUP($A23,_xlfn.CHOOSECOLS(_xlfn.ANCHORARRAY(Filme!$G$1),2),_xlfn.CHOOSECOLS(_xlfn.ANCHORARRAY(Filme!$G$1),4),\"\",0,2)","v":"2007-09-21"},{"$f":"_xlfn.XLOOKUP($B23,_xlfn.CHOOSECOLS(_xlfn.ANCHORARRAY(Leute!$F$1),2),_xlfn.CHOOSECOLS(_xlfn.ANCHORARRAY(Leute!$F$1),3),\"x\",0,2)","v":"Neve Campbell"},{"$f":"_xlfn.XLOOKUP($B23,_xlfn.CHOOSECOLS(_xlfn.ANCHORARRAY(Leute!$F$1),2),_xlfn.CHOOSECOLS(_xlfn.ANCHORARRAY(Leute!$F$1),4),\"x\",0,2)","v":"1973-10-03"},{"$f":"RANK(F23,F$1:F23,0)","v":1},{"$f":"DATEDIF(F23,D23,\"Y\")","v":33},{"$f":"DATEDIF(F23,D23,\"YD\")","v":353},{"$f":"D23-F23","v":12406},{"$f":"\"MRS \"&TEXT(J23,\"00000\")&\" \"&SUBSTITUTE(C23,\":\",\"\")&\" (\"&TEXT(D23,\"TT.MM.JJJJ\")&\") - \"&E23&\" (\"&TEXT(F23,\"TT.MM.JJJJ\")&\") \"&H23&\"-\"&I23","v":"MRS 12406 I Really Hate My Job (21.09.2007) - Neve Campbell (03.10.1973) 33-353"}]
["tt0099797","nm0000124",{"$f":"_xlfn.XLOOKUP($A24,_xlfn.CHOOSECOLS(_xlfn.ANCHORARRAY(Filme!$G$1),2),_xlfn.CHOOSECOLS(_xlfn.ANCHORARRAY(Filme!$G$1),3),\"\",0,2)","v":"The Hot Spot"},{"$f":"_xlfn.XLOOKUP($A24,_xlfn.CHOOSECOLS(_xlfn.ANCHORARRAY(Filme!$G$1),2),_xlfn.CHOOSECOLS(_xlfn.ANCHORARRAY(Filme!$G$1),4),\"\",0,2)","v":"1991-01-17"},{"$f":"_xlfn.XLOOKUP($B24,_xlfn.CHOOSECOLS(_xlfn.ANCHORARRAY(Leute!$F$1),2),_xlfn.CHOOSECOLS(_xlfn.ANCHORARRAY(Leute!$F$1),3),\"x\",0,2)","v":"Jennifer Connelly"},{"$f":"_xlfn.XLOOKUP($B24,_xlfn.CHOOSECOLS(_xlfn.ANCHORARRAY(Leute!$F$1),2),_xlfn.CHOOSECOLS(_xlfn.ANCHORARRAY(Leute!$F$1),4),\"x\",0,2)","v":"1970-12-12"},{"$f":"RANK(F24,F$1:F24,0)","v":3},{"$f":"DATEDIF(F24,D24,\"Y\")","v":20},{"$f":"DATEDIF(F24,D24,\"YD\")","v":36},{"$f":"D24-F24","v":7341},{"$f":"\"MRS \"&TEXT(J24,\"00000\")&\" \"&SUBSTITUTE(C24,\":\",\"\")&\" (\"&TEXT(D24,\"TT.MM.JJJJ\")&\") - \"&E24&\" (\"&TEXT(F24,\"TT.MM.JJJJ\")&\") \"&H24&\"-\"&I24","v":"MRS 07341 The Hot Spot (17.01.1991) - Jennifer Connelly (12.12.1970) 20-36"}]
["tt0110712","nm0000124",{"$f":"_xlfn.XLOOKUP($A25,_xlfn.CHOOSECOLS(_xlfn.ANCHORARRAY(Filme!$G$1),2),_xlfn.CHOOSECOLS(_xlfn.ANCHORARRAY(Filme!$G$1),3),\"\",0,2)","v":"Of Love and Shadows"},{"$f":"_xlfn.XLOOKUP($A25,_xlfn.CHOOSECOLS(_xlfn.ANCHORARRAY(Filme!$G$1),2),_xlfn.CHOOSECOLS(_xlfn.ANCHORARRAY(Filme!$G$1),4),\"\",0,2)","v":"1994-10-06"},{"$f":"_xlfn.XLOOKUP($B25,_xlfn.CHOOSECOLS(_xlfn.ANCHORARRAY(Leute!$F$1),2),_xlfn.CHOOSECOLS(_xlfn.ANCHORARRAY(Leute!$F$1),3),\"x\",0,2)","v":"Jennifer Connelly"},{"$f":"_xlfn.XLOOKUP($B25,_xlfn.CHOOSECOLS(_xlfn.ANCHORARRAY(Leute!$F$1),2),_xlfn.CHOOSECOLS(_xlfn.ANCHORARRAY(Leute!$F$1),4),\"x\",0,2)","v":"1970-12-12"},{"$f":"RANK(F25,F$1:F25,0)","v":3},{"$f":"DATEDIF(F25,D25,\"Y\")","v":23},{"$f":"DATEDIF(F25,D25,\"YD\")","v":298},{"$f":"D25-F25","v":8699},{"$f":"\"MRS \"&TEXT(J25,\"00000\")&\" \"&SUBSTITUTE(C25,\":\",\"\")&\" (\"&TEXT(D25,\"TT.MM.JJJJ\")&\") - \"&E25&\" (\"&TEXT(F25,\"TT.MM.JJJJ\")&\") \"&H25&\"-\"&I25","v":"MRS 08699 Of Love and Shadows (06.10.1994) - Jennifer Connelly (12.12.1970) 23-298"}]
["tt0117107","nm0000124",{"$f":"_xlfn.XLOOKUP($A26,_xlfn.CHOOSECOLS(_xlfn.ANCHORARRAY(Filme!$G$1),2),_xlfn.CHOOSECOLS(_xlfn.ANCHORARRAY(Filme!$G$1),3),\"\",0,2)","v":"Mulholland Falls"},{"$f":"_xlfn.XLOOKUP($A26,_xlfn.CHOOSECOLS(_xlfn.ANCHORARRAY(Filme!$G$1),2),_xlfn.CHOOSECOLS(_xlfn.ANCHORARRAY(Filme!$G$1),4),\"\",0,2)","v":"1996-10-17"},{"$f":"_xlfn.XLOOKUP($B26,_xlfn.CHOOSECOLS(_xlfn.ANCHORARRAY(Leute!$F$1),2),_xlfn.CHOOSECOLS(_xlfn.ANCHORARRAY(Leute!$F$1),3),\"x\",0,2)","v":"Jennifer Connelly"},{"$f":"_xlfn.XLOOKUP($B26,_xlfn.CHOOSECOLS(_xlfn.ANCHORARRAY(Leute!$F$1),2),_xlfn.CHOOSECOLS(_xlfn.ANCHORARRAY(Leute!$F$1),4),\"x\",0,2)","v":"1970-12-12"},{"$f":"RANK(F26,F$1:F26,0)","v":3},{"$f":"DATEDIF(F26,D26,\"Y\")","v":25},{"$f":"DATEDIF(F26,D26,\"YD\")","v":309},{"$f":"D26-F26","v":9441},{"$f":"\"MRS \"&TEXT(J26,\"00000\")&\" \"&SUBSTITUTE(C26,\":\",\"\")&\" (\"&TEXT(D26,\"TT.MM.JJJJ\")&\") - \"&E26&\" (\"&TEXT(F26,\"TT.MM.JJJJ\")&\") \"&H26&\"-\"&I26","v":"MRS 09441 Mulholland Falls (17.10.1996) - Jennifer Connelly (12.12.1970) 25-309"}]
["tt0119381","nm0000124",{"$f":"_xlfn.XLOOKUP($A27,_xlfn.CHOOSECOLS(_xlfn.ANCHORARRAY(Filme!$G$1),2),_xlfn.CHOOSECOLS(_xlfn.ANCHORARRAY(Filme!$G$1),3),\"\",0,2)","v":"Inventing the Abbotts"},{"$f":"_xlfn.XLOOKUP($A27,_xlfn.CHOOSECOLS(_xlfn.ANCHORARRAY(Filme!$G$1),2),_xlfn.CHOOSECOLS(_xlfn.ANCHORARRAY(Filme!$G$1),4),\"\",0,2)","v":"1999-04-05"},{"$f":"_xlfn.XLOOKUP($B27,_xlfn.CHOOSECOLS(_xlfn.ANCHORARRAY(Leute!$F$1),2),_xlfn.CHOOSECOLS(_xlfn.ANCHORARRAY(Leute!$F$1),3),\"x\",0,2)","v":"Jennifer Connelly"},{"$f":"_xlfn.XLOOKUP($B27,_xlfn.CHOOSECOLS(_xlfn.ANCHORARRAY(Leute!$F$1),2),_xlfn.CHOOSECOLS(_xlfn.ANCHORARRAY(Leute!$F$1),4),\"x\",0,2)","v":"1970-12-12"},{"$f":"RANK(F27,F$1:F27,0)","v":3},{"$f":"DATEDIF(F27,D27,\"Y\")","v":28},{"$f":"DATEDIF(F27,D27,\"YD\")","v":114},{"$f":"D27-F27","v":10341},{"$f":"\"MRS \"&TEXT(J27,\"00000\")&\" \"&SUBSTITUTE(C27,\":\",\"\")&\" (\"&TEXT(D27,\"TT.MM.JJJJ\")&\") - \"&E27&\" (\"&TEXT(F27,\"TT.MM.JJJJ\")&\") \"&H27&\"-\"&I27","v":"MRS 10341 Inventing the Abbotts (05.04.1999) - Jennifer Connelly (12.12.1970) 28-114"}]
["tt0127349","nm0000124",{"$f":"_xlfn.XLOOKUP($A28,_xlfn.CHOOSECOLS(_xlfn.ANCHORARRAY(Filme!$G$1),2),_xlfn.CHOOSECOLS(_xlfn.ANCHORARRAY(Filme!$G$1),3),\"\",0,2)","v":"Waking the Dead"},{"$f":"_xlfn.XLOOKUP($A28,_xlfn.CHOOSECOLS(_xlfn.ANCHORARRAY(Filme!$G$1),2),_xlfn.CHOOSECOLS(_xlfn.ANCHORARRAY(Filme!$G$1),4),\"\",0,2)","v":"2000-03-24"},{"$f":"_xlfn.XLOOKUP($B28,_xlfn.CHOOSECOLS(_xlfn.ANCHORARRAY(Leute!$F$1),2),_xlfn.CHOOSECOLS(_xlfn.ANCHORARRAY(Leute!$F$1),3),\"x\",0,2)","v":"Jennifer Connelly"},{"$f":"_xlfn.XLOOKUP($B28,_xlfn.CHOOSECOLS(_xlfn.ANCHORARRAY(Leute!$F$1),2),_xlfn.CHOOSECOLS(_xlfn.ANCHORARRAY(Leute!$F$1),4),\"x\",0,2)","v":"1970-12-12"},{"$f":"RANK(F28,F$1:F28,0)","v":3},{"$f":"DATEDIF(F28,D28,\"Y\")","v":29},{"$f":"DATEDIF(F28,D28,\"YD\")","v":102},{"$f":"D28-F28","v":10695},{"$f":"\"MRS \"&TEXT(J28,\"00000\")&\" \"&SUBSTITUTE(C28,\":\",\"\")&\" (\"&TEXT(D28,\"TT.MM.JJJJ\")&\") - \"&E28&\" (\"&TEXT(F28,\"TT.MM.JJJJ\")&\") \"&H28&\"-\"&I28","v":"MRS 10695 Waking the Dead (24.03.2000) - Jennifer Connelly (12.12.1970) 29-102"}]
["tt0180093","nm0000124",{"$f":"_xlfn.XLOOKUP($A29,_xlfn.CHOOSECOLS(_xlfn.ANCHORARRAY(Filme!$G$1),2),_xlfn.CHOOSECOLS(_xlfn.ANCHORARRAY(Filme!$G$1),3),\"\",0,2)","v":"Requiem for a Dream"},{"$f":"_xlfn.XLOOKUP($A29,_xlfn.CHOOSECOLS(_xlfn.ANCHORARRAY(Filme!$G$1),2),_xlfn.CHOOSECOLS(_xlfn.ANCHORARRAY(Filme!$G$1),4),\"\",0,2)","v":"2002-01-03"},{"$f":"_xlfn.XLOOKUP($B29,_xlfn.CHOOSECOLS(_xlfn.ANCHORARRAY(Leute!$F$1),2),_xlfn.CHOOSECOLS(_xlfn.ANCHORARRAY(Leute!$F$1),3),\"x\",0,2)","v":"Jennifer Connelly"},{"$f":"_xlfn.XLOOKUP($B29,_xlfn.CHOOSECOLS(_xlfn.ANCHORARRAY(Leute!$F$1),2),_xlfn.CHOOSECOLS(_xlfn.ANCHORARRAY(Leute!$F$1),4),\"x\",0,2)","v":"1970-12-12"},{"$f":"RANK(F29,F$1:F29,0)","v":3},{"$f":"DATEDIF(F29,D29,\"Y\")","v":31},{"$f":"DATEDIF(F29,D29,\"YD\")","v":22},{"$f":"D29-F29","v":11345},{"$f":"\"MRS \"&TEXT(J29,\"00000\")&\" \"&SUBSTITUTE(C29,\":\",\"\")&\" (\"&TEXT(D29,\"TT.MM.JJJJ\")&\") - \"&E29&\" (\"&TEXT(F29,\"TT.MM.JJJJ\")&\") \"&H29&\"-\"&I29","v":"MRS 11345 Requiem for a Dream (03.01.2002) - Jennifer Connelly (12.12.1970) 31-22"}]
["tt0315983","nm0000124",{"$f":"_xlfn.XLOOKUP($A30,_xlfn.CHOOSECOLS(_xlfn.ANCHORARRAY(Filme!$G$1),2),_xlfn.CHOOSECOLS(_xlfn.ANCHORARRAY(Filme!$G$1),3),\"\",0,2)","v":"House of Sand and Fog"},{"$f":"_xlfn.XLOOKUP($A30,_xlfn.CHOOSECOLS(_xlfn.ANCHORARRAY(Filme!$G$1),2),_xlfn.CHOOSECOLS(_xlfn.ANCHORARRAY(Filme!$G$1),4),\"\",0,2)","v":"2005-02-17"},{"$f":"_xlfn.XLOOKUP($B30,_xlfn.CHOOSECOLS(_xlfn.ANCHORARRAY(Leute!$F$1),2),_xlfn.CHOOSECOLS(_xlfn.ANCHORARRAY(Leute!$F$1),3),\"x\",0,2)","v":"Jennifer Connelly"},{"$f":"_xlfn.XLOOKUP($B30,_xlfn.CHOOSECOLS(_xlfn.ANCHORARRAY(Leute!$F$1),2),_xlfn.CHOOSECOLS(_xlfn.ANCHORARRAY(Leute!$F$1),4),\"x\",0,2)","v":"1970-12-12"},{"$f":"RANK(F30,F$1:F30,0)","v":3},{"$f":"DATEDIF(F30,D30,\"Y\")","v":34},{"$f":"DATEDIF(F30,D30,\"YD\")","v":67},{"$f":"D30-F30","v":12486},{"$f":"\"MRS \"&TEXT(J30,\"00000\")&\" \"&SUBSTITUTE(C30,\":\",\"\")&\" (\"&TEXT(D30,\"TT.MM.JJJJ\")&\") - \"&E30&\" (\"&TEXT(F30,\"TT.MM.JJJJ\")&\") \"&H30&\"-\"&I30","v":"MRS 12486 House of Sand and Fog (17.02.2005) - Jennifer Connelly (12.12.1970) 34-67"}]
["tt0376479","nm0000124",{"$f":"_xlfn.XLOOKUP($A31,_xlfn.CHOOSECOLS(_xlfn.ANCHORARRAY(Filme!$G$1),2),_xlfn.CHOOSECOLS(_xlfn.ANCHORARRAY(Filme!$G$1),3),\"\",0,2)","v":"American Pastoral"},{"$f":"_xlfn.XLOOKUP($A31,_xlfn.CHOOSECOLS(_xlfn.ANCHORARRAY(Filme!$G$1),2),_xlfn.CHOOSECOLS(_xlfn.ANCHORARRAY(Filme!$G$1),4),\"\",0,2)","v":"2016-11-17"},{"$f":"_xlfn.XLOOKUP($B31,_xlfn.CHOOSECOLS(_xlfn.ANCHORARRAY(Leute!$F$1),2),_xlfn.CHOOSECOLS(_xlfn.ANCHORARRAY(Leute!$F$1),3),\"x\",0,2)","v":"Jennifer Connelly"},{"$f":"_xlfn.XLOOKUP($B31,_xlfn.CHOOSECOLS(_xlfn.ANCHORARRAY(Leute!$F$1),2),_xlfn.CHOOSECOLS(_xlfn.ANCHORARRAY(Leute!$F$1),4),\"x\",0,2)","v":"1970-12-12"},{"$f":"RANK(F31,F$1:F31,0)","v":3},{"$f":"DATEDIF(F31,D31,\"Y\")","v":45},{"$f":"DATEDIF(F31,D31,\"YD\")","v":340},{"$f":"D31-F31","v":16777},{"$f":"\"MRS \"&TEXT(J31,\"00000\")&\" \"&SUBSTITUTE(C31,\":\",\"\")&\" (\"&TEXT(D31,\"TT.MM.JJJJ\")&\") - \"&E31&\" (\"&TEXT(F31,\"TT.MM.JJJJ\")&\") \"&H31&\"-\"&I31","v":"MRS 16777 American Pastoral (17.11.2016) - Jennifer Connelly (12.12.1970) 45-340"}]
["tt3136112","nm0000124",{"$f":"_xlfn.XLOOKUP($A32,_xlfn.CHOOSECOLS(_xlfn.ANCHORARRAY(Filme!$G$1),2),_xlfn.CHOOSECOLS(_xlfn.ANCHORARRAY(Filme!$G$1),3),\"\",0,2)","v":"Shelter"},{"$f":"_xlfn.XLOOKUP($A32,_xlfn.CHOOSECOLS(_xlfn.ANCHORARRAY(Filme!$G$1),2),_xlfn.CHOOSECOLS(_xlfn.ANCHORARRAY(Filme!$G$1),4),\"\",0,2)","v":"2015-12-11"},{"$f":"_xlfn.XLOOKUP($B32,_xlfn.CHOOSECOLS(_xlfn.ANCHORARRAY(Leute!$F$1),2),_xlfn.CHOOSECOLS(_xlfn.ANCHORARRAY(Leute!$F$1),3),\"x\",0,2)","v":"Jennifer Connelly"},{"$f":"_xlfn.XLOOKUP($B32,_xlfn.CHOOSECOLS(_xlfn.ANCHORARRAY(Leute!$F$1),2),_xlfn.CHOOSECOLS(_xlfn.ANCHORARRAY(Leute!$F$1),4),\"x\",0,2)","v":"1970-12-12"},{"$f":"RANK(F32,F$1:F32,0)","v":3},{"$f":"DATEDIF(F32,D32,\"Y\")","v":44},{"$f":"DATEDIF(F32,D32,\"YD\")","v":364},{"$f":"D32-F32","v":16435},{"$f":"\"MRS \"&TEXT(J32,\"00000\")&\" \"&SUBSTITUTE(C32,\":\",\"\")&\" (\"&TEXT(D32,\"TT.MM.JJJJ\")&\") - \"&E32&\" (\"&TEXT(F32,\"TT.MM.JJJJ\")&\") \"&H32&\"-\"&I32","v":"MRS 16435 Shelter (11.12.2015) - Jennifer Connelly (12.12.1970) 44-364"}]
["tt0116289","nm0000139",{"$f":"_xlfn.XLOOKUP($A33,_xlfn.CHOOSECOLS(_xlfn.ANCHORARRAY(Filme!$G$1),2),_xlfn.CHOOSECOLS(_xlfn.ANCHORARRAY(Filme!$G$1),3),\"\",0,2)","v":"Feeling Minnesota"},{"$f":"_xlfn.XLOOKUP($A33,_xlfn.CHOOSECOLS(_xlfn.ANCHORARRAY(Filme!$G$1),2),_xlfn.CHOOSECOLS(_xlfn.ANCHORARRAY(Filme!$G$1),4),\"\",0,2)","v":"1996-09-13"},{"$f":"_xlfn.XLOOKUP($B33,_xlfn.CHOOSECOLS(_xlfn.ANCHORARRAY(Leute!$F$1),2),_xlfn.CHOOSECOLS(_xlfn.ANCHORARRAY(Leute!$F$1),3),\"x\",0,2)","v":"Cameron Diaz"},{"$f":"_xlfn.XLOOKUP($B33,_xlfn.CHOOSECOLS(_xlfn.ANCHORARRAY(Leute!$F$1),2),_xlfn.CHOOSECOLS(_xlfn.ANCHORARRAY(Leute!$F$1),4),\"x\",0,2)","v":"1972-08-30"},{"$f":"RANK(F33,F$1:F33,0)","v":3},{"$f":"DATEDIF(F33,D33,\"Y\")","v":24},{"$f":"DATEDIF(F33,D33,\"YD\")","v":14},{"$f":"D33-F33","v":8780},{"$f":"\"MRS \"&TEXT(J33,\"00000\")&\" \"&SUBSTITUTE(C33,\":\",\"\")&\" (\"&TEXT(D33,\"TT.MM.JJJJ\")&\") - \"&E33&\" (\"&TEXT(F33,\"TT.MM.JJJJ\")&\") \"&H33&\"-\"&I33","v":"MRS 08780 Feeling Minnesota (13.09.1996) - Cameron Diaz (30.08.1972) 24-14"}]
["tt0217505","nm0000139",{"$f":"_xlfn.XLOOKUP($A34,_xlfn.CHOOSECOLS(_xlfn.ANCHORARRAY(Filme!$G$1),2),_xlfn.CHOOSECOLS(_xlfn.ANCHORARRAY(Filme!$G$1),3),\"\",0,2)","v":"Gangs of New York"},{"$f":"_xlfn.XLOOKUP($A34,_xlfn.CHOOSECOLS(_xlfn.ANCHORARRAY(Filme!$G$1),2),_xlfn.CHOOSECOLS(_xlfn.ANCHORARRAY(Filme!$G$1),4),\"\",0,2)","v":"2003-02-20"},{"$f":"_xlfn.XLOOKUP($B34,_xlfn.CHOOSECOLS(_xlfn.ANCHORARRAY(Leute!$F$1),2),_xlfn.CHOOSECOLS(_xlfn.ANCHORARRAY(Leute!$F$1),3),\"x\",0,2)","v":"Cameron Diaz"},{"$f":"_xlfn.XLOOKUP($B34,_xlfn.CHOOSECOLS(_xlfn.ANCHORARRAY(Leute!$F$1),2),_xlfn.CHOOSECOLS(_xlfn.ANCHORARRAY(Leute!$F$1),4),\"x\",0,2)","v":"1972-08-30"},{"$f":"RANK(F34,F$1:F34,0)","v":3},{"$f":"DATEDIF(F34,D34,\"Y\")","v":30},{"$f":"DATEDIF(F34,D34,\"YD\")","v":174},{"$f":"D34-F34","v":11131},{"$f":"\"MRS \"&TEXT(J34,\"00000\")&\" \"&SUBSTITUTE(C34,\":\",\"\")&\" (\"&TEXT(D34,\"TT.MM.JJJJ\")&\") - \"&E34&\" (\"&TEXT(F34,\"TT.MM.JJJJ\")&\") \"&H34&\"-\"&I34","v":"MRS 11131 Gangs of New York (20.02.2003) - Cameron Diaz (30.08.1972) 30-174"}]
["tt0259711","nm0000139",{"$f":"_xlfn.XLOOKUP($A35,_xlfn.CHOOSECOLS(_xlfn.ANCHORARRAY(Filme!$G$1),2),_xlfn.CHOOSECOLS(_xlfn.ANCHORARRAY(Filme!$G$1),3),\"\",0,2)","v":"Vanilla Sky"},{"$f":"_xlfn.XLOOKUP($A35,_xlfn.CHOOSECOLS(_xlfn.ANCHORARRAY(Filme!$G$1),2),_xlfn.CHOOSECOLS(_xlfn.ANCHORARRAY(Filme!$G$1),4),\"\",0,2)","v":"2002-01-24"},{"$f":"_xlfn.XLOOKUP($B35,_xlfn.CHOOSECOLS(_xlfn.ANCHORARRAY(Leute!$F$1),2),_xlfn.CHOOSECOLS(_xlfn.ANCHORARRAY(Leute!$F$1),3),\"x\",0,2)","v":"Cameron Diaz"},{"$f":"_xlfn.XLOOKUP($B35,_xlfn.CHOOSECOLS(_xlfn.ANCHORARRAY(Leute!$F$1),2),_xlfn.CHOOSECOLS(_xlfn.ANCHORARRAY(Leute!$F$1),4),\"x\",0,2)","v":"1972-08-30"},{"$f":"RANK(F35,F$1:F35,0)","v":3},{"$f":"DATEDIF(F35,D35,\"Y\")","v":29},{"$f":"DATEDIF(F35,D35,\"YD\")","v":147},{"$f":"D35-F35","v":10739},{"$f":"\"MRS \"&TEXT(J35,\"00000\")&\" \"&SUBSTITUTE(C35,\":\",\"\")&\" (\"&TEXT(D35,\"TT.MM.JJJJ\")&\") - \"&E35&\" (\"&TEXT(F35,\"TT.MM.JJJJ\")&\") \"&H35&\"-\"&I35","v":"MRS 10739 Vanilla Sky (24.01.2002) - Cameron Diaz (30.08.1972) 29-147"}]
["tt1956620","nm0000139",{"$f":"_xlfn.XLOOKUP($A36,_xlfn.CHOOSECOLS(_xlfn.ANCHORARRAY(Filme!$G$1),2),_xlfn.CHOOSECOLS(_xlfn.ANCHORARRAY(Filme!$G$1),3),\"\",0,2)","v":"Sex Tape"},{"$f":"_xlfn.XLOOKUP($A36,_xlfn.CHOOSECOLS(_xlfn.ANCHORARRAY(Filme!$G$1),2),_xlfn.CHOOSECOLS(_xlfn.ANCHORARRAY(Filme!$G$1),4),\"\",0,2)","v":"2014-09-11"},{"$f":"_xlfn.XLOOKUP($B36,_xlfn.CHOOSECOLS(_xlfn.ANCHORARRAY(Leute!$F$1),2),_xlfn.CHOOSECOLS(_xlfn.ANCHORARRAY(Leute!$F$1),3),\"x\",0,2)","v":"Cameron Diaz"},{"$f":"_xlfn.XLOOKUP($B36,_xlfn.CHOOSECOLS(_xlfn.ANCHORARRAY(Leute!$F$1),2),_xlfn.CHOOSECOLS(_xlfn.ANCHORARRAY(Leute!$F$1),4),\"x\",0,2)","v":"1972-08-30"},{"$f":"RANK(F36,F$1:F36,0)","v":3},{"$f":"DATEDIF(F36,D36,\"Y\")","v":42},{"$f":"DATEDIF(F36,D36,\"YD\")","v":12},{"$f":"D36-F36","v":15352},{"$f":"\"MRS \"&TEXT(J36,\"00000\")&\" \"&SUBSTITUTE(C36,\":\",\"\")&\" (\"&TEXT(D36,\"TT.MM.JJJJ\")&\") - \"&E36&\" (\"&TEXT(F36,\"TT.MM.JJJJ\")&\") \"&H36&\"-\"&I36","v":"MRS 15352 Sex Tape (11.09.2014) - Cameron Diaz (30.08.1972) 42-12"}]
["tt2193215","nm0000139",{"$f":"_xlfn.XLOOKUP($A37,_xlfn.CHOOSECOLS(_xlfn.ANCHORARRAY(Filme!$G$1),2),_xlfn.CHOOSECOLS(_xlfn.ANCHORARRAY(Filme!$G$1),3),\"\",0,2)","v":"The Counselor"},{"$f":"_xlfn.XLOOKUP($A37,_xlfn.CHOOSECOLS(_xlfn.ANCHORARRAY(Filme!$G$1),2),_xlfn.CHOOSECOLS(_xlfn.ANCHORARRAY(Filme!$G$1),4),\"\",0,2)","v":"2013-11-28"},{"$f":"_xlfn.XLOOKUP($B37,_xlfn.CHOOSECOLS(_xlfn.ANCHORARRAY(Leute!$F$1),2),_xlfn.CHOOSECOLS(_xlfn.ANCHORARRAY(Leute!$F$1),3),\"x\",0,2)","v":"Cameron Diaz"},{"$f":"_xlfn.XLOOKUP($B37,_xlfn.CHOOSECOLS(_xlfn.ANCHORARRAY(Leute!$F$1),2),_xlfn.CHOOSECOLS(_xlfn.ANCHORARRAY(Leute!$F$1),4),\"x\",0,2)","v":"1972-08-30"},{"$f":"RANK(F37,F$1:F37,0)","v":3},{"$f":"DATEDIF(F37,D37,\"Y\")","v":41},{"$f":"DATEDIF(F37,D37,\"YD\")","v":90},{"$f":"D37-F37","v":15065},{"$f":"\"MRS \"&TEXT(J37,\"00000\")&\" \"&SUBSTITUTE(C37,\":\",\"\")&\" (\"&TEXT(D37,\"TT.MM.JJJJ\")&\") - \"&E37&\" (\"&TEXT(F37,\"TT.MM.JJJJ\")&\") \"&H37&\"-\"&I37","v":"MRS 15065 The Counselor (28.11.2013) - Cameron Diaz (30.08.1972) 41-90"}]
["tt0094087","nm0000153",{"$f":"_xlfn.XLOOKUP($A38,_xlfn.CHOOSECOLS(_xlfn.ANCHORARRAY(Filme!$G$1),2),_xlfn.CHOOSECOLS(_xlfn.ANCHORARRAY(Filme!$G$1),3),\"\",0,2)","v":"Sweet Revenge"},{"$f":"_xlfn.XLOOKUP($A38,_xlfn.CHOOSECOLS(_xlfn.ANCHORARRAY(Filme!$G$1),2),_xlfn.CHOOSECOLS(_xlfn.ANCHORARRAY(Filme!$G$1),4),\"\",0,2)","v":"1987-02-28"},{"$f":"_xlfn.XLOOKUP($B38,_xlfn.CHOOSECOLS(_xlfn.ANCHORARRAY(Leute!$F$1),2),_xlfn.CHOOSECOLS(_xlfn.ANCHORARRAY(Leute!$F$1),3),\"x\",0,2)","v":"Gina Gershon"},{"$f":"_xlfn.XLOOKUP($B38,_xlfn.CHOOSECOLS(_xlfn.ANCHORARRAY(Leute!$F$1),2),_xlfn.CHOOSECOLS(_xlfn.ANCHORARRAY(Leute!$F$1),4),\"x\",0,2)","v":"1962-06-10"},{"$f":"RANK(F38,F$1:F38,0)","v":38},{"$f":"DATEDIF(F38,D38,\"Y\")","v":24},{"$f":"DATEDIF(F38,D38,\"YD\")","v":263},{"$f":"D38-F38","v":9029},{"$f":"\"MRS \"&TEXT(J38,\"00000\")&\" \"&SUBSTITUTE(C38,\":\",\"\")&\" (\"&TEXT(D38,\"TT.MM.JJJJ\")&\") - \"&E38&\" (\"&TEXT(F38,\"TT.MM.JJJJ\")&\") \"&H38&\"-\"&I38","v":"MRS 09029 Sweet Revenge (28.02.1987) - Gina Gershon (10.06.1962) 24-263"}]
["tt0094889","nm0000153",{"$f":"_xlfn.XLOOKUP($A39,_xlfn.CHOOSECOLS(_xlfn.ANCHORARRAY(Filme!$G$1),2),_xlfn.CHOOSECOLS(_xlfn.ANCHORARRAY(Filme!$G$1),3),\"\",0,2)","v":"Cocktail"},{"$f":"_xlfn.XLOOKUP($A39,_xlfn.CHOOSECOLS(_xlfn.ANCHORARRAY(Filme!$G$1),2),_xlfn.CHOOSECOLS(_xlfn.ANCHORARRAY(Filme!$G$1),4),\"\",0,2)","v":"1989-01-12"},{"$f":"_xlfn.XLOOKUP($B39,_xlfn.CHOOSECOLS(_xlfn.ANCHORARRAY(Leute!$F$1),2),_xlfn.CHOOSECOLS(_xlfn.ANCHORARRAY(Leute!$F$1),3),\"x\",0,2)","v":"Gina Gershon"},{"$f":"_xlfn.XLOOKUP($B39,_xlfn.CHOOSECOLS(_xlfn.ANCHORARRAY(Leute!$F$1),2),_xlfn.CHOOSECOLS(_xlfn.ANCHORARRAY(Leute!$F$1),4),\"x\",0,2)","v":"1962-06-10"},{"$f":"RANK(F39,F$1:F39,0)","v":38},{"$f":"DATEDIF(F39,D39,\"Y\")","v":26},{"$f":"DATEDIF(F39,D39,\"YD\")","v":216},{"$f":"D39-F39","v":9713},{"$f":"\"MRS \"&TEXT(J39,\"00000\")&\" \"&SUBSTITUTE(C39,\":\",\"\")&\" (\"&TEXT(D39,\"TT.MM.JJJJ\")&\") - \"&E39&\" (\"&TEXT(F39,\"TT.MM.JJJJ\")&\") \"&H39&\"-\"&I39","v":"MRS 09713 Cocktail (12.01.1989) - Gina Gershon (10.06.1962) 26-216"}]
["tt0107449","nm0000153",{"$f":"_xlfn.XLOOKUP($A40,_xlfn.CHOOSECOLS(_xlfn.ANCHORARRAY(Filme!$G$1),2),_xlfn.CHOOSECOLS(_xlfn.ANCHORARRAY(Filme!$G$1),3),\"\",0,2)","v":"Love Matters"},{"$f":"_xlfn.XLOOKUP($A40,_xlfn.CHOOSECOLS(_xlfn.ANCHORARRAY(Filme!$G$1),2),_xlfn.CHOOSECOLS(_xlfn.ANCHORARRAY(Filme!$G$1),4),\"\",0,2)","v":"1993-10-03"},{"$f":"_xlfn.XLOOKUP($B40,_xlfn.CHOOSECOLS(_xlfn.ANCHORARRAY(Leute!$F$1),2),_xlfn.CHOOSECOLS(_xlfn.ANCHORARRAY(Leute!$F$1),3),\"x\",0,2)","v":"Gina Gershon"},{"$f":"_xlfn.XLOOKUP($B40,_xlfn.CHOOSECOLS(_xlfn.ANCHORARRAY(Leute!$F$1),2),_xlfn.CHOOSECOLS(_xlfn.ANCHORARRAY(Leute!$F$1),4),\"x\",0,2)","v":"1962-06-10"},{"$f":"RANK(F40,F$1:F40,0)","v":38},{"$f":"DATEDIF(F40,D40,\"Y\")","v":31},{"$f":"DATEDIF(F40,D40,\"YD\")","v":115},{"$f":"D40-F40","v":11438},{"$f":"\"MRS \"&TEXT(J40,\"00000\")&\" \"&SUBSTITUTE(C40,\":\",\"\")&\" (\"&TEXT(D40,\"TT.MM.JJJJ\")&\") - \"&E40&\" (\"&TEXT(F40,\"TT.MM.JJJJ\")&\") \"&H40&\"-\"&I40","v":"MRS 11438 Love Matters (03.10.1993) - Gina Gershon (10.06.1962) 31-115"}]
["tt0114436","nm0000153",{"$f":"_xlfn.XLOOKUP($A41,_xlfn.CHOOSECOLS(_xlfn.ANCHORARRAY(Filme!$G$1),2),_xlfn.CHOOSECOLS(_xlfn.ANCHORARRAY(Filme!$G$1),3),\"\",0,2)","v":"Showgirls"},{"$f":"_xlfn.XLOOKUP($A41,_xlfn.CHOOSECOLS(_xlfn.ANCHORARRAY(Filme!$G$1),2),_xlfn.CHOOSECOLS(_xlfn.ANCHORARRAY(Filme!$G$1),4),\"\",0,2)","v":"1996-01-25"},{"$f":"_xlfn.XLOOKUP($B41,_xlfn.CHOOSECOLS(_xlfn.ANCHORARRAY(Leute!$F$1),2),_xlfn.CHOOSECOLS(_xlfn.ANCHORARRAY(Leute!$F$1),3),\"x\",0,2)","v":"Gina Gershon"},{"$f":"_xlfn.XLOOKUP($B41,_xlfn.CHOOSECOLS(_xlfn.ANCHORARRAY(Leute!$F$1),2),_xlfn.CHOOSECOLS(_xlfn.ANCHORARRAY(Leute!$F$1),4),\"x\",0,2)","v":"1962-06-10"},{"$f":"RANK(F41,F$1:F41,0)","v":38},{"$f":"DATEDIF(F41,D41,\"Y\")","v":33},{"$f":"DATEDIF(F41,D41,\"YD\")","v":229},{"$f":"D41-F41","v":12282},{"$f":"\"MRS \"&TEXT(J41,\"00000\")&\" \"&SUBSTITUTE(C41,\":\",\"\")&\" (\"&TEXT(D41,\"TT.MM.JJJJ\")&\") - \"&E41&\" (\"&TEXT(F41,\"TT.MM.JJJJ\")&\") \"&H41&\"-\"&I41","v":"MRS 12282 Showgirls (25.01.1996) - Gina Gershon (10.06.1962) 33-229"}]
["tt0115736","nm0000153",{"$f":"_xlfn.XLOOKUP($A42,_xlfn.CHOOSECOLS(_xlfn.ANCHORARRAY(Filme!$G$1),2),_xlfn.CHOOSECOLS(_xlfn.ANCHORARRAY(Filme!$G$1),3),\"\",0,2)","v":"Bound"},{"$f":"_xlfn.XLOOKUP($A42,_xlfn.CHOOSECOLS(_xlfn.ANCHORARRAY(Filme!$G$1),2),_xlfn.CHOOSECOLS(_xlfn.ANCHORARRAY(Filme!$G$1),4),\"\",0,2)","v":"1996-10-31"},{"$f":"_xlfn.XLOOKUP($B42,_xlfn.CHOOSECOLS(_xlfn.ANCHORARRAY(Leute!$F$1),2),_xlfn.CHOOSECOLS(_xlfn.ANCHORARRAY(Leute!$F$1),3),\"x\",0,2)","v":"Gina Gershon"},{"$f":"_xlfn.XLOOKUP($B42,_xlfn.CHOOSECOLS(_xlfn.ANCHORARRAY(Leute!$F$1),2),_xlfn.CHOOSECOLS(_xlfn.ANCHORARRAY(Leute!$F$1),4),\"x\",0,2)","v":"1962-06-10"},{"$f":"RANK(F42,F$1:F42,0)","v":38},{"$f":"DATEDIF(F42,D42,\"Y\")","v":34},{"$f":"DATEDIF(F42,D42,\"YD\")","v":143},{"$f":"D42-F42","v":12562},{"$f":"\"MRS \"&TEXT(J42,\"00000\")&\" \"&SUBSTITUTE(C42,\":\",\"\")&\" (\"&TEXT(D42,\"TT.MM.JJJJ\")&\") - \"&E42&\" (\"&TEXT(F42,\"TT.MM.JJJJ\")&\") \"&H42&\"-\"&I42","v":"MRS 12562 Bound (31.10.1996) - Gina Gershon (10.06.1962) 34-143"}]
["tt0117898","nm0000153",{"$f":"_xlfn.XLOOKUP($A43,_xlfn.CHOOSECOLS(_xlfn.ANCHORARRAY(Filme!$G$1),2),_xlfn.CHOOSECOLS(_xlfn.ANCHORARRAY(Filme!$G$1),3),\"\",0,2)","v":"This World, Then the Fireworks"},{"$f":"_xlfn.XLOOKUP($A43,_xlfn.CHOOSECOLS(_xlfn.ANCHORARRAY(Filme!$G$1),2),_xlfn.CHOOSECOLS(_xlfn.ANCHORARRAY(Filme!$G$1),4),\"\",0,2)","v":"1997-07-11"},{"$f":"_xlfn.XLOOKUP($B43,_xlfn.CHOOSECOLS(_xlfn.ANCHORARRAY(Leute!$F$1),2),_xlfn.CHOOSECOLS(_xlfn.ANCHORARRAY(Leute!$F$1),3),\"x\",0,2)","v":"Gina Gershon"},{"$f":"_xlfn.XLOOKUP($B43,_xlfn.CHOOSECOLS(_xlfn.ANCHORARRAY(Leute!$F$1),2),_xlfn.CHOOSECOLS(_xlfn.ANCHORARRAY(Leute!$F$1),4),\"x\",0,2)","v":"1962-06-10"},{"$f":"RANK(F43,F$1:F43,0)","v":38},{"$f":"DATEDIF(F43,D43,\"Y\")","v":35},{"$f":"DATEDIF(F43,D43,\"YD\")","v":31},{"$f":"D43-F43","v":12815},{"$f":"\"MRS \"&TEXT(J43,\"00000\")&\" \"&SUBSTITUTE(C43,\":\",\"\")&\" (\"&TEXT(D43,\"TT.MM.JJJJ\")&\") - \"&E43&\" (\"&TEXT(F43,\"TT.MM.JJJJ\")&\") \"&H43&\"-\"&I43","v":"MRS 12815 This World, Then the Fireworks (11.07.1997) - Gina Gershon (10.06.1962) 35-31"}]
["tt0149898","nm0000153",{"$f":"_xlfn.XLOOKUP($A44,_xlfn.CHOOSECOLS(_xlfn.ANCHORARRAY(Filme!$G$1),2),_xlfn.CHOOSECOLS(_xlfn.ANCHORARRAY(Filme!$G$1),3),\"\",0,2)","v":"Black and White"},{"$f":"_xlfn.XLOOKUP($A44,_xlfn.CHOOSECOLS(_xlfn.ANCHORARRAY(Filme!$G$1),2),_xlfn.CHOOSECOLS(_xlfn.ANCHORARRAY(Filme!$G$1),4),\"\",0,2)","v":"2001-04-25"},{"$f":"_xlfn.XLOOKUP($B44,_xlfn.CHOOSECOLS(_xlfn.ANCHORARRAY(Leute!$F$1),2),_xlfn.CHOOSECOLS(_xlfn.ANCHORARRAY(Leute!$F$1),3),\"x\",0,2)","v":"Gina Gershon"},{"$f":"_xlfn.XLOOKUP($B44,_xlfn.CHOOSECOLS(_xlfn.ANCHORARRAY(Leute!$F$1),2),_xlfn.CHOOSECOLS(_xlfn.ANCHORARRAY(Leute!$F$1),4),\"x\",0,2)","v":"1962-06-10"},{"$f":"RANK(F44,F$1:F44,0)","v":38},{"$f":"DATEDIF(F44,D44,\"Y\")","v":38},{"$f":"DATEDIF(F44,D44,\"YD\")","v":319},{"$f":"D44-F44","v":14199},{"$f":"\"MRS \"&TEXT(J44,\"00000\")&\" \"&SUBSTITUTE(C44,\":\",\"\")&\" (\"&TEXT(D44,\"TT.MM.JJJJ\")&\") - \"&E44&\" (\"&TEXT(F44,\"TT.MM.JJJJ\")&\") \"&H44&\"-\"&I44","v":"MRS 14199 Black and White (25.04.2001) - Gina Gershon (10.06.1962) 38-319"}]
["tt1726669","nm0000153",{"$f":"_xlfn.XLOOKUP($A45,_xlfn.CHOOSECOLS(_xlfn.ANCHORARRAY(Filme!$G$1),2),_xlfn.CHOOSECOLS(_xlfn.ANCHORARRAY(Filme!$G$1),3),\"\",0,2)","v":"Killer Joe"},{"$f":"_xlfn.XLOOKUP($A45,_xlfn.CHOOSECOLS(_xlfn.ANCHORARRAY(Filme!$G$1),2),_xlfn.CHOOSECOLS(_xlfn.ANCHORARRAY(Filme!$G$1),4),\"\",0,2)","v":"2012-06-29"},{"$f":"_xlfn.XLOOKUP($B45,_xlfn.CHOOSECOLS(_xlfn.ANCHORARRAY(Leute!$F$1),2),_xlfn.CHOOSECOLS(_xlfn.ANCHORARRAY(Leute!$F$1),3),\"x\",0,2)","v":"Gina Gershon"},{"$f":"_xlfn.XLOOKUP($B45,_xlfn.CHOOSECOLS(_xlfn.ANCHORARRAY(Leute!$F$1),2),_xlfn.CHOOSECOLS(_xlfn.ANCHORARRAY(Leute!$F$1),4),\"x\",0,2)","v":"1962-06-10"},{"$f":"RANK(F45,F$1:F45,0)","v":38},{"$f":"DATEDIF(F45,D45,\"Y\")","v":50},{"$f":"DATEDIF(F45,D45,\"YD\")","v":19},{"$f":"D45-F45","v":18282},{"$f":"\"MRS \"&TEXT(J45,\"00000\")&\" \"&SUBSTITUTE(C45,\":\",\"\")&\" (\"&TEXT(D45,\"TT.MM.JJJJ\")&\") - \"&E45&\" (\"&TEXT(F45,\"TT.MM.JJJJ\")&\") \"&H45&\"-\"&I45","v":"MRS 18282 Killer Joe (29.06.2012) - Gina Gershon (10.06.1962) 50-19"}]
["tt2531344","nm0000153",{"$f":"_xlfn.XLOOKUP($A46,_xlfn.CHOOSECOLS(_xlfn.ANCHORARRAY(Filme!$G$1),2),_xlfn.CHOOSECOLS(_xlfn.ANCHORARRAY(Filme!$G$1),3),\"\",0,2)","v":"Blockers"},{"$f":"_xlfn.XLOOKUP($A46,_xlfn.CHOOSECOLS(_xlfn.ANCHORARRAY(Filme!$G$1),2),_xlfn.CHOOSECOLS(_xlfn.ANCHORARRAY(Filme!$G$1),4),\"\",0,2)","v":"2018-04-12"},{"$f":"_xlfn.XLOOKUP($B46,_xlfn.CHOOSECOLS(_xlfn.ANCHORARRAY(Leute!$F$1),2),_xlfn.CHOOSECOLS(_xlfn.ANCHORARRAY(Leute!$F$1),3),\"x\",0,2)","v":"Gina Gershon"},{"$f":"_xlfn.XLOOKUP($B46,_xlfn.CHOOSECOLS(_xlfn.ANCHORARRAY(Leute!$F$1),2),_xlfn.CHOOSECOLS(_xlfn.ANCHORARRAY(Leute!$F$1),4),\"x\",0,2)","v":"1962-06-10"},{"$f":"RANK(F46,F$1:F46,0)","v":38},{"$f":"DATEDIF(F46,D46,\"Y\")","v":55},{"$f":"DATEDIF(F46,D46,\"YD\")","v":306},{"$f":"D46-F46","v":20395},{"$f":"\"MRS \"&TEXT(J46,\"00000\")&\" \"&SUBSTITUTE(C46,\":\",\"\")&\" (\"&TEXT(D46,\"TT.MM.JJJJ\")&\") - \"&E46&\" (\"&TEXT(F46,\"TT.MM.JJJJ\")&\") \"&H46&\"-\"&I46","v":"MRS 20395 Blockers (12.04.2018) - Gina Gershon (10.06.1962) 55-306"}]
["tt0092220","nm0000173",{"$f":"_xlfn.XLOOKUP($A47,_xlfn.CHOOSECOLS(_xlfn.ANCHORARRAY(Filme!$G$1),2),_xlfn.CHOOSECOLS(_xlfn.ANCHORARRAY(Filme!$G$1),3),\"\",0,2)","v":"Windrider"},{"$f":"_xlfn.XLOOKUP($A47,_xlfn.CHOOSECOLS(_xlfn.ANCHORARRAY(Filme!$G$1),2),_xlfn.CHOOSECOLS(_xlfn.ANCHORARRAY(Filme!$G$1),4),\"\",0,2)","v":"1986-12-26"},{"$f":"_xlfn.XLOOKUP($B47,_xlfn.CHOOSECOLS(_xlfn.ANCHORARRAY(Leute!$F$1),2),_xlfn.CHOOSECOLS(_xlfn.ANCHORARRAY(Leute!$F$1),3),\"x\",0,2)","v":"Nicole Kidman"},{"$f":"_xlfn.XLOOKUP($B47,_xlfn.CHOOSECOLS(_xlfn.ANCHORARRAY(Leute!$F$1),2),_xlfn.CHOOSECOLS(_xlfn.ANCHORARRAY(Leute!$F$1),4),\"x\",0,2)","v":"1967-06-20"},{"$f":"RANK(F47,F$1:F47,0)","v":38},{"$f":"DATEDIF(F47,D47,\"Y\")","v":19},{"$f":"DATEDIF(F47,D47,\"YD\")","v":189},{"$f":"D47-F47","v":7129},{"$f":"\"MRS \"&TEXT(J47,\"00000\")&\" \"&SUBSTITUTE(C47,\":\",\"\")&\" (\"&TEXT(D47,\"TT.MM.JJJJ\")&\") - \"&E47&\" (\"&TEXT(F47,\"TT.MM.JJJJ\")&\") \"&H47&\"-\"&I47","v":"MRS 07129 Windrider (26.12.1986) - Nicole Kidman (20.06.1967) 19-189"}]
["tt0097162","nm0000173",{"$f":"_xlfn.XLOOKUP($A48,_xlfn.CHOOSECOLS(_xlfn.ANCHORARRAY(Filme!$G$1),2),_xlfn.CHOOSECOLS(_xlfn.ANCHORARRAY(Filme!$G$1),3),\"\",0,2)","v":"Dead Calm"},{"$f":"_xlfn.XLOOKUP($A48,_xlfn.CHOOSECOLS(_xlfn.ANCHORARRAY(Filme!$G$1),2),_xlfn.CHOOSECOLS(_xlfn.ANCHORARRAY(Filme!$G$1),4),\"\",0,2)","v":"1989-07-27"},{"$f":"_xlfn.XLOOKUP($B48,_xlfn.CHOOSECOLS(_xlfn.ANCHORARRAY(Leute!$F$1),2),_xlfn.CHOOSECOLS(_xlfn.ANCHORARRAY(Leute!$F$1),3),\"x\",0,2)","v":"Nicole Kidman"},{"$f":"_xlfn.XLOOKUP($B48,_xlfn.CHOOSECOLS(_xlfn.ANCHORARRAY(Leute!$F$1),2),_xlfn.CHOOSECOLS(_xlfn.ANCHORARRAY(Leute!$F$1),4),\"x\",0,2)","v":"1967-06-20"},{"$f":"RANK(F48,F$1:F48,0)","v":38},{"$f":"DATEDIF(F48,D48,\"Y\")","v":22},{"$f":"DATEDIF(F48,D48,\"YD\")","v":37},{"$f":"D48-F48","v":8073},{"$f":"\"MRS \"&TEXT(J48,\"00000\")&\" \"&SUBSTITUTE(C48,\":\",\"\")&\" (\"&TEXT(D48,\"TT.MM.JJJJ\")&\") - \"&E48&\" (\"&TEXT(F48,\"TT.MM.JJJJ\")&\") \"&H48&\"-\"&I48","v":"MRS 08073 Dead Calm (27.07.1989) - Nicole Kidman (20.06.1967) 22-37"}]
["tt0101453","nm0000173",{"$f":"_xlfn.XLOOKUP($A49,_xlfn.CHOOSECOLS(_xlfn.ANCHORARRAY(Filme!$G$1),2),_xlfn.CHOOSECOLS(_xlfn.ANCHORARRAY(Filme!$G$1),3),\"\",0,2)","v":"Billy Bathgate"},{"$f":"_xlfn.XLOOKUP($A49,_xlfn.CHOOSECOLS(_xlfn.ANCHORARRAY(Filme!$G$1),2),_xlfn.CHOOSECOLS(_xlfn.ANCHORARRAY(Filme!$G$1),4),\"\",0,2)","v":"1992-02-20"},{"$f":"_xlfn.XLOOKUP($B49,_xlfn.CHOOSECOLS(_xlfn.ANCHORARRAY(Leute!$F$1),2),_xlfn.CHOOSECOLS(_xlfn.ANCHORARRAY(Leute!$F$1),3),\"x\",0,2)","v":"Nicole Kidman"},{"$f":"_xlfn.XLOOKUP($B49,_xlfn.CHOOSECOLS(_xlfn.ANCHORARRAY(Leute!$F$1),2),_xlfn.CHOOSECOLS(_xlfn.ANCHORARRAY(Leute!$F$1),4),\"x\",0,2)","v":"1967-06-20"},{"$f":"RANK(F49,F$1:F49,0)","v":38},{"$f":"DATEDIF(F49,D49,\"Y\")","v":24},{"$f":"DATEDIF(F49,D49,\"YD\")","v":245},{"$f":"D49-F49","v":9011},{"$f":"\"MRS \"&TEXT(J49,\"00000\")&\" \"&SUBSTITUTE(C49,\":\",\"\")&\" (\"&TEXT(D49,\"TT.MM.JJJJ\")&\") - \"&E49&\" (\"&TEXT(F49,\"TT.MM.JJJJ\")&\") \"&H49&\"-\"&I49","v":"MRS 09011 Billy Bathgate (20.02.1992) - Nicole Kidman (20.06.1967) 24-245"}]
["tt0107497","nm0000173",{"$f":"_xlfn.XLOOKUP($A50,_xlfn.CHOOSECOLS(_xlfn.ANCHORARRAY(Filme!$G$1),2),_xlfn.CHOOSECOLS(_xlfn.ANCHORARRAY(Filme!$G$1),3),\"\",0,2)","v":"Malice"},{"$f":"_xlfn.XLOOKUP($A50,_xlfn.CHOOSECOLS(_xlfn.ANCHORARRAY(Filme!$G$1),2),_xlfn.CHOOSECOLS(_xlfn.ANCHORARRAY(Filme!$G$1),4),\"\",0,2)","v":"1994-05-19"},{"$f":"_xlfn.XLOOKUP($B50,_xlfn.CHOOSECOLS(_xlfn.ANCHORARRAY(Leute!$F$1),2),_xlfn.CHOOSECOLS(_xlfn.ANCHORARRAY(Leute!$F$1),3),\"x\",0,2)","v":"Nicole Kidman"},{"$f":"_xlfn.XLOOKUP($B50,_xlfn.CHOOSECOLS(_xlfn.ANCHORARRAY(Leute!$F$1),2),_xlfn.CHOOSECOLS(_xlfn.ANCHORARRAY(Leute!$F$1),4),\"x\",0,2)","v":"1967-06-20"},{"$f":"RANK(F50,F$1:F50,0)","v":38},{"$f":"DATEDIF(F50,D50,\"Y\")","v":26},{"$f":"DATEDIF(F50,D50,\"YD\")","v":334},{"$f":"D50-F50","v":9830},{"$f":"\"MRS \"&TEXT(J50,\"00000\")&\" \"&SUBSTITUTE(C50,\":\",\"\")&\" (\"&TEXT(D50,\"TT.MM.JJJJ\")&\") - \"&E50&\" (\"&TEXT(F50,\"TT.MM.JJJJ\")&\") \"&H50&\"-\"&I50","v":"MRS 09830 Malice (19.05.1994) - Nicole Kidman (20.06.1967) 26-334"}]
["tt0117364","nm0000173",{"$f":"_xlfn.XLOOKUP($A51,_xlfn.CHOOSECOLS(_xlfn.ANCHORARRAY(Filme!$G$1),2),_xlfn.CHOOSECOLS(_xlfn.ANCHORARRAY(Filme!$G$1),3),\"\",0,2)","v":"The Portrait of a Lady"},{"$f":"_xlfn.XLOOKUP($A51,_xlfn.CHOOSECOLS(_xlfn.ANCHORARRAY(Filme!$G$1),2),_xlfn.CHOOSECOLS(_xlfn.ANCHORARRAY(Filme!$G$1),4),\"\",0,2)","v":"1997-01-09"},{"$f":"_xlfn.XLOOKUP($B51,_xlfn.CHOOSECOLS(_xlfn.ANCHORARRAY(Leute!$F$1),2),_xlfn.CHOOSECOLS(_xlfn.ANCHORARRAY(Leute!$F$1),3),\"x\",0,2)","v":"Nicole Kidman"},{"$f":"_xlfn.XLOOKUP($B51,_xlfn.CHOOSECOLS(_xlfn.ANCHORARRAY(Leute!$F$1),2),_xlfn.CHOOSECOLS(_xlfn.ANCHORARRAY(Leute!$F$1),4),\"x\",0,2)","v":"1967-06-20"},{"$f":"RANK(F51,F$1:F51,0)","v":38},{"$f":"DATEDIF(F51,D51,\"Y\")","v":29},{"$f":"DATEDIF(F51,D51,\"YD\")","v":203},{"$f":"D51-F51","v":10796},{"$f":"\"MRS \"&TEXT(J51,\"00000\")&\" \"&SUBSTITUTE(C51,\":\",\"\")&\" (\"&TEXT(D51,\"TT.MM.JJJJ\")&\") - \"&E51&\" (\"&TEXT(F51,\"TT.MM.JJJJ\")&\") \"&H51&\"-\"&I51","v":"MRS 10796 The Portrait of a Lady (09.01.1997) - Nicole Kidman (20.06.1967) 29-203"}]
["tt0120663","nm0000173",{"$f":"_xlfn.XLOOKUP($A52,_xlfn.CHOOSECOLS(_xlfn.ANCHORARRAY(Filme!$G$1),2),_xlfn.CHOOSECOLS(_xlfn.ANCHORARRAY(Filme!$G$1),3),\"\",0,2)","v":"Eyes Wide Shut"},{"$f":"_xlfn.XLOOKUP($A52,_xlfn.CHOOSECOLS(_xlfn.ANCHORARRAY(Filme!$G$1),2),_xlfn.CHOOSECOLS(_xlfn.ANCHORARRAY(Filme!$G$1),4),\"\",0,2)","v":"1999-09-09"},{"$f":"_xlfn.XLOOKUP($B52,_xlfn.CHOOSECOLS(_xlfn.ANCHORARRAY(Leute!$F$1),2),_xlfn.CHOOSECOLS(_xlfn.ANCHORARRAY(Leute!$F$1),3),\"x\",0,2)","v":"Nicole Kidman"},{"$f":"_xlfn.XLOOKUP($B52,_xlfn.CHOOSECOLS(_xlfn.ANCHORARRAY(Leute!$F$1),2),_xlfn.CHOOSECOLS(_xlfn.ANCHORARRAY(Leute!$F$1),4),\"x\",0,2)","v":"1967-06-20"},{"$f":"RANK(F52,F$1:F52,0)","v":38},{"$f":"DATEDIF(F52,D52,\"Y\")","v":32},{"$f":"DATEDIF(F52,D52,\"YD\")","v":81},{"$f":"D52-F52","v":11769},{"$f":"\"MRS \"&TEXT(J52,\"00000\")&\" \"&SUBSTITUTE(C52,\":\",\"\")&\" (\"&TEXT(D52,\"TT.MM.JJJJ\")&\") - \"&E52&\" (\"&TEXT(F52,\"TT.MM.JJJJ\")&\") \"&H52&\"-\"&I52","v":"MRS 11769 Eyes Wide Shut (09.09.1999) - Nicole Kidman (20.06.1967) 32-81"}]
["tt0159365","nm0000173",{"$f":"_xlfn.XLOOKUP($A53,_xlfn.CHOOSECOLS(_xlfn.ANCHORARRAY(Filme!$G$1),2),_xlfn.CHOOSECOLS(_xlfn.ANCHORARRAY(Filme!$G$1),3),\"\",0,2)","v":"Cold Mountain"},{"$f":"_xlfn.XLOOKUP($A53,_xlfn.CHOOSECOLS(_xlfn.ANCHORARRAY(Filme!$G$1),2),_xlfn.CHOOSECOLS(_xlfn.ANCHORARRAY(Filme!$G$1),4),\"\",0,2)","v":"2004-02-19"},{"$f":"_xlfn.XLOOKUP($B53,_xlfn.CHOOSECOLS(_xlfn.ANCHORARRAY(Leute!$F$1),2),_xlfn.CHOOSECOLS(_xlfn.ANCHORARRAY(Leute!$F$1),3),\"x\",0,2)","v":"Nicole Kidman"},{"$f":"_xlfn.XLOOKUP($B53,_xlfn.CHOOSECOLS(_xlfn.ANCHORARRAY(Leute!$F$1),2),_xlfn.CHOOSECOLS(_xlfn.ANCHORARRAY(Leute!$F$1),4),\"x\",0,2)","v":"1967-06-20"},{"$f":"RANK(F53,F$1:F53,0)","v":38},{"$f":"DATEDIF(F53,D53,\"Y\")","v":36},{"$f":"DATEDIF(F53,D53,\"YD\")","v":244},{"$f":"D53-F53","v":13393},{"$f":"\"MRS \"&TEXT(J53,\"00000\")&\" \"&SUBSTITUTE(C53,\":\",\"\")&\" (\"&TEXT(D53,\"TT.MM.JJJJ\")&\") - \"&E53&\" (\"&TEXT(F53,\"TT.MM.JJJJ\")&\") \"&H53&\"-\"&I53","v":"MRS 13393 Cold Mountain (19.02.2004) - Nicole Kidman (20.06.1967) 36-244"}]
["tt0188453","nm0000173",{"$f":"_xlfn.XLOOKUP($A54,_xlfn.CHOOSECOLS(_xlfn.ANCHORARRAY(Filme!$G$1),2),_xlfn.CHOOSECOLS(_xlfn.ANCHORARRAY(Filme!$G$1),3),\"\",0,2)","v":"Birthday Girl"},{"$f":"_xlfn.XLOOKUP($A54,_xlfn.CHOOSECOLS(_xlfn.ANCHORARRAY(Filme!$G$1),2),_xlfn.CHOOSECOLS(_xlfn.ANCHORARRAY(Filme!$G$1),4),\"\",0,2)","v":"2002-08-29"},{"$f":"_xlfn.XLOOKUP($B54,_xlfn.CHOOSECOLS(_xlfn.ANCHORARRAY(Leute!$F$1),2),_xlfn.CHOOSECOLS(_xlfn.ANCHORARRAY(Leute!$F$1),3),\"x\",0,2)","v":"Nicole Kidman"},{"$f":"_xlfn.XLOOKUP($B54,_xlfn.CHOOSECOLS(_xlfn.ANCHORARRAY(Leute!$F$1),2),_xlfn.CHOOSECOLS(_xlfn.ANCHORARRAY(Leute!$F$1),4),\"x\",0,2)","v":"1967-06-20"},{"$f":"RANK(F54,F$1:F54,0)","v":38},{"$f":"DATEDIF(F54,D54,\"Y\")","v":35},{"$f":"DATEDIF(F54,D54,\"YD\")","v":70},{"$f":"D54-F54","v":12854},{"$f":"\"MRS \"&TEXT(J54,\"00000\")&\" \"&SUBSTITUTE(C54,\":\",\"\")&\" (\"&TEXT(D54,\"TT.MM.JJJJ\")&\") - \"&E54&\" (\"&TEXT(F54,\"TT.MM.JJJJ\")&\") \"&H54&\"-\"&I54","v":"MRS 12854 Birthday Girl (29.08.2002) - Nicole Kidman (20.06.1967) 35-70"}]
["tt0203009","nm0000173",{"$f":"_xlfn.XLOOKUP($A55,_xlfn.CHOOSECOLS(_xlfn.ANCHORARRAY(Filme!$G$1),2),_xlfn.CHOOSECOLS(_xlfn.ANCHORARRAY(Filme!$G$1),3),\"\",0,2)","v":"Moulin Rouge!"},{"$f":"_xlfn.XLOOKUP($A55,_xlfn.CHOOSECOLS(_xlfn.ANCHORARRAY(Filme!$G$1),2),_xlfn.CHOOSECOLS(_xlfn.ANCHORARRAY(Filme!$G$1),4),\"\",0,2)","v":"2001-10-18"},{"$f":"_xlfn.XLOOKUP($B55,_xlfn.CHOOSECOLS(_xlfn.ANCHORARRAY(Leute!$F$1),2),_xlfn.CHOOSECOLS(_xlfn.ANCHORARRAY(Leute!$F$1),3),\"x\",0,2)","v":"Nicole Kidman"},{"$f":"_xlfn.XLOOKUP($B55,_xlfn.CHOOSECOLS(_xlfn.ANCHORARRAY(Leute!$F$1),2),_xlfn.CHOOSECOLS(_xlfn.ANCHORARRAY(Leute!$F$1),4),\"x\",0,2)","v":"1967-06-20"},{"$f":"RANK(F55,F$1:F55,0)","v":38},{"$f":"DATEDIF(F55,D55,\"Y\")","v":34},{"$f":"DATEDIF(F55,D55,\"YD\")","v":120},{"$f":"D55-F55","v":12539},{"$f":"\"MRS \"&TEXT(J55,\"00000\")&\" \"&SUBSTITUTE(C55,\":\",\"\")&\" (\"&TEXT(D55,\"TT.MM.JJJJ\")&\") - \"&E55&\" (\"&TEXT(F55,\"TT.MM.JJJJ\")&\") \"&H55&\"-\"&I55","v":"MRS 12539 Moulin Rouge! (18.10.2001) - Nicole Kidman (20.06.1967) 34-120"}]
["tt0308383","nm0000173",{"$f":"_xlfn.XLOOKUP($A56,_xlfn.CHOOSECOLS(_xlfn.ANCHORARRAY(Filme!$G$1),2),_xlfn.CHOOSECOLS(_xlfn.ANCHORARRAY(Filme!$G$1),3),\"\",0,2)","v":"The Human Stain"},{"$f":"_xlfn.XLOOKUP($A56,_xlfn.CHOOSECOLS(_xlfn.ANCHORARRAY(Filme!$G$1),2),_xlfn.CHOOSECOLS(_xlfn.ANCHORARRAY(Filme!$G$1),4),\"\",0,2)","v":"2003-12-18"},{"$f":"_xlfn.XLOOKUP($B56,_xlfn.CHOOSECOLS(_xlfn.ANCHORARRAY(Leute!$F$1),2),_xlfn.CHOOSECOLS(_xlfn.ANCHORARRAY(Leute!$F$1),3),\"x\",0,2)","v":"Nicole Kidman"},{"$f":"_xlfn.XLOOKUP($B56,_xlfn.CHOOSECOLS(_xlfn.ANCHORARRAY(Leute!$F$1),2),_xlfn.CHOOSECOLS(_xlfn.ANCHORARRAY(Leute!$F$1),4),\"x\",0,2)","v":"1967-06-20"},{"$f":"RANK(F56,F$1:F56,0)","v":38},{"$f":"DATEDIF(F56,D56,\"Y\")","v":36},{"$f":"DATEDIF(F56,D56,\"YD\")","v":181},{"$f":"D56-F56","v":13330},{"$f":"\"MRS \"&TEXT(J56,\"00000\")&\" \"&SUBSTITUTE(C56,\":\",\"\")&\" (\"&TEXT(D56,\"TT.MM.JJJJ\")&\") - \"&E56&\" (\"&TEXT(F56,\"TT.MM.JJJJ\")&\") \"&H56&\"-\"&I56","v":"MRS 13330 The Human Stain (18.12.2003) - Nicole Kidman (20.06.1967) 36-181"}]
["tt0337876","nm0000173",{"$f":"_xlfn.XLOOKUP($A57,_xlfn.CHOOSECOLS(_xlfn.ANCHORARRAY(Filme!$G$1),2),_xlfn.CHOOSECOLS(_xlfn.ANCHORARRAY(Filme!$G$1),3),\"\",0,2)","v":"Birth"},{"$f":"_xlfn.XLOOKUP($A57,_xlfn.CHOOSECOLS(_xlfn.ANCHORARRAY(Filme!$G$1),2),_xlfn.CHOOSECOLS(_xlfn.ANCHORARRAY(Filme!$G$1),4),\"\",0,2)","v":"2004-12-23"},{"$f":"_xlfn.XLOOKUP($B57,_xlfn.CHOOSECOLS(_xlfn.ANCHORARRAY(Leute!$F$1),2),_xlfn.CHOOSECOLS(_xlfn.ANCHORARRAY(Leute!$F$1),3),\"x\",0,2)","v":"Nicole Kidman"},{"$f":"_xlfn.XLOOKUP($B57,_xlfn.CHOOSECOLS(_xlfn.ANCHORARRAY(Leute!$F$1),2),_xlfn.CHOOSECOLS(_xlfn.ANCHORARRAY(Leute!$F$1),4),\"x\",0,2)","v":"1967-06-20"},{"$f":"RANK(F57,F$1:F57,0)","v":38},{"$f":"DATEDIF(F57,D57,\"Y\")","v":37},{"$f":"DATEDIF(F57,D57,\"YD\")","v":186},{"$f":"D57-F57","v":13701},{"$f":"\"MRS \"&TEXT(J57,\"00000\")&\" \"&SUBSTITUTE(C57,\":\",\"\")&\" (\"&TEXT(D57,\"TT.MM.JJJJ\")&\") - \"&E57&\" (\"&TEXT(F57,\"TT.MM.JJJJ\")&\") \"&H57&\"-\"&I57","v":"MRS 13701 Birth (23.12.2004) - Nicole Kidman (20.06.1967) 37-186"}]
["tt0422295","nm0000173",{"$f":"_xlfn.XLOOKUP($A58,_xlfn.CHOOSECOLS(_xlfn.ANCHORARRAY(Filme!$G$1),2),_xlfn.CHOOSECOLS(_xlfn.ANCHORARRAY(Filme!$G$1),3),\"\",0,2)","v":"Fur: An Imaginary Portrait of Diane Arbus"},{"$f":"_xlfn.XLOOKUP($A58,_xlfn.CHOOSECOLS(_xlfn.ANCHORARRAY(Filme!$G$1),2),_xlfn.CHOOSECOLS(_xlfn.ANCHORARRAY(Filme!$G$1),4),\"\",0,2)","v":"2006-10-20"},{"$f":"_xlfn.XLOOKUP($B58,_xlfn.CHOOSECOLS(_xlfn.ANCHORARRAY(Leute!$F$1),2),_xlfn.CHOOSECOLS(_xlfn.ANCHORARRAY(Leute!$F$1),3),\"x\",0,2)","v":"Nicole Kidman"},{"$f":"_xlfn.XLOOKUP($B58,_xlfn.CHOOSECOLS(_xlfn.ANCHORARRAY(Leute!$F$1),2),_xlfn.CHOOSECOLS(_xlfn.ANCHORARRAY(Leute!$F$1),4),\"x\",0,2)","v":"1967-06-20"},{"$f":"RANK(F58,F$1:F58,0)","v":38},{"$f":"DATEDIF(F58,D58,\"Y\")","v":39},{"$f":"DATEDIF(F58,D58,\"YD\")","v":122},{"$f":"D58-F58","v":14367},{"$f":"\"MRS \"&TEXT(J58,\"00000\")&\" \"&SUBSTITUTE(C58,\":\",\"\")&\" (\"&TEXT(D58,\"TT.MM.JJJJ\")&\") - \"&E58&\" (\"&TEXT(F58,\"TT.MM.JJJJ\")&\") \"&H58&\"-\"&I58","v":"MRS 14367 Fur An Imaginary Portrait of Diane Arbus (20.10.2006) - Nicole Kidman (20.06.1967) 39-122"}]
["tt0423455","nm0000173",{"$f":"_xlfn.XLOOKUP($A59,_xlfn.CHOOSECOLS(_xlfn.ANCHORARRAY(Filme!$G$1),2),_xlfn.CHOOSECOLS(_xlfn.ANCHORARRAY(Filme!$G$1),3),\"\",0,2)","v":"Hemingway & Gellhorn"},{"$f":"_xlfn.XLOOKUP($A59,_xlfn.CHOOSECOLS(_xlfn.ANCHORARRAY(Filme!$G$1),2),_xlfn.CHOOSECOLS(_xlfn.ANCHORARRAY(Filme!$G$1),4),\"\",0,2)","v":"2012-12-21"},{"$f":"_xlfn.XLOOKUP($B59,_xlfn.CHOOSECOLS(_xlfn.ANCHORARRAY(Leute!$F$1),2),_xlfn.CHOOSECOLS(_xlfn.ANCHORARRAY(Leute!$F$1),3),\"x\",0,2)","v":"Nicole Kidman"},{"$f":"_xlfn.XLOOKUP($B59,_xlfn.CHOOSECOLS(_xlfn.ANCHORARRAY(Leute!$F$1),2),_xlfn.CHOOSECOLS(_xlfn.ANCHORARRAY(Leute!$F$1),4),\"x\",0,2)","v":"1967-06-20"},{"$f":"RANK(F59,F$1:F59,0)","v":38},{"$f":"DATEDIF(F59,D59,\"Y\")","v":45},{"$f":"DATEDIF(F59,D59,\"YD\")","v":184},{"$f":"D59-F59","v":16621},{"$f":"\"MRS \"&TEXT(J59,\"00000\")&\" \"&SUBSTITUTE(C59,\":\",\"\")&\" (\"&TEXT(D59,\"TT.MM.JJJJ\")&\") - \"&E59&\" (\"&TEXT(F59,\"TT.MM.JJJJ\")&\") \"&H59&\"-\"&I59","v":"MRS 16621 Hemingway & Gellhorn (21.12.2012) - Nicole Kidman (20.06.1967) 45-184"}]
["tt0455824","nm0000173",{"$f":"_xlfn.XLOOKUP($A60,_xlfn.CHOOSECOLS(_xlfn.ANCHORARRAY(Filme!$G$1),2),_xlfn.CHOOSECOLS(_xlfn.ANCHORARRAY(Filme!$G$1),3),\"\",0,2)","v":"Australia"},{"$f":"_xlfn.XLOOKUP($A60,_xlfn.CHOOSECOLS(_xlfn.ANCHORARRAY(Filme!$G$1),2),_xlfn.CHOOSECOLS(_xlfn.ANCHORARRAY(Filme!$G$1),4),\"\",0,2)","v":"2008-12-25"},{"$f":"_xlfn.XLOOKUP($B60,_xlfn.CHOOSECOLS(_xlfn.ANCHORARRAY(Leute!$F$1),2),_xlfn.CHOOSECOLS(_xlfn.ANCHORARRAY(Leute!$F$1),3),\"x\",0,2)","v":"Nicole Kidman"},{"$f":"_xlfn.XLOOKUP($B60,_xlfn.CHOOSECOLS(_xlfn.ANCHORARRAY(Leute!$F$1),2),_xlfn.CHOOSECOLS(_xlfn.ANCHORARRAY(Leute!$F$1),4),\"x\",0,2)","v":"1967-06-20"},{"$f":"RANK(F60,F$1:F60,0)","v":38},{"$f":"DATEDIF(F60,D60,\"Y\")","v":41},{"$f":"DATEDIF(F60,D60,\"YD\")","v":188},{"$f":"D60-F60","v":15164},{"$f":"\"MRS \"&TEXT(J60,\"00000\")&\" \"&SUBSTITUTE(C60,\":\",\"\")&\" (\"&TEXT(D60,\"TT.MM.JJJJ\")&\") - \"&E60&\" (\"&TEXT(F60,\"TT.MM.JJJJ\")&\") \"&H60&\"-\"&I60","v":"MRS 15164 Australia (25.12.2008) - Nicole Kidman (20.06.1967) 41-188"}]
["tt12758346","nm0000173",{"$f":"_xlfn.XLOOKUP($A61,_xlfn.CHOOSECOLS(_xlfn.ANCHORARRAY(Filme!$G$1),2),_xlfn.CHOOSECOLS(_xlfn.ANCHORARRAY(Filme!$G$1),3),\"\",0,2)","v":"Nine Perfect Strangers"},{"$f":"_xlfn.XLOOKUP($A61,_xlfn.CHOOSECOLS(_xlfn.ANCHORARRAY(Filme!$G$1),2),_xlfn.CHOOSECOLS(_xlfn.ANCHORARRAY(Filme!$G$1),4),\"\",0,2)","v":"2021-08-25"},{"$f":"_xlfn.XLOOKUP($B61,_xlfn.CHOOSECOLS(_xlfn.ANCHORARRAY(Leute!$F$1),2),_xlfn.CHOOSECOLS(_xlfn.ANCHORARRAY(Leute!$F$1),3),\"x\",0,2)","v":"Nicole Kidman"},{"$f":"_xlfn.XLOOKUP($B61,_xlfn.CHOOSECOLS(_xlfn.ANCHORARRAY(Leute!$F$1),2),_xlfn.CHOOSECOLS(_xlfn.ANCHORARRAY(Leute!$F$1),4),\"x\",0,2)","v":"1967-06-20"},{"$f":"RANK(F61,F$1:F61,0)","v":38},{"$f":"DATEDIF(F61,D61,\"Y\")","v":54},{"$f":"DATEDIF(F61,D61,\"YD\")","v":66},{"$f":"D61-F61","v":19790},{"$f":"\"MRS \"&TEXT(J61,\"00000\")&\" \"&SUBSTITUTE(C61,\":\",\"\")&\" (\"&TEXT(D61,\"TT.MM.JJJJ\")&\") - \"&E61&\" (\"&TEXT(F61,\"TT.MM.JJJJ\")&\") \"&H61&\"-\"&I61","v":"MRS 19790 Nine Perfect Strangers (25.08.2021) - Nicole Kidman (20.06.1967) 54-66"}]
["tt2325977","nm0000173",{"$f":"_xlfn.XLOOKUP($A62,_xlfn.CHOOSECOLS(_xlfn.ANCHORARRAY(Filme!$G$1),2),_xlfn.CHOOSECOLS(_xlfn.ANCHORARRAY(Filme!$G$1),3),\"\",0,2)","v":"Strangerland"},{"$f":"_xlfn.XLOOKUP($A62,_xlfn.CHOOSECOLS(_xlfn.ANCHORARRAY(Filme!$G$1),2),_xlfn.CHOOSECOLS(_xlfn.ANCHORARRAY(Filme!$G$1),4),\"\",0,2)","v":"2016-02-05"},{"$f":"_xlfn.XLOOKUP($B62,_xlfn.CHOOSECOLS(_xlfn.ANCHORARRAY(Leute!$F$1),2),_xlfn.CHOOSECOLS(_xlfn.ANCHORARRAY(Leute!$F$1),3),\"x\",0,2)","v":"Nicole Kidman"},{"$f":"_xlfn.XLOOKUP($B62,_xlfn.CHOOSECOLS(_xlfn.ANCHORARRAY(Leute!$F$1),2),_xlfn.CHOOSECOLS(_xlfn.ANCHORARRAY(Leute!$F$1),4),\"x\",0,2)","v":"1967-06-20"},{"$f":"RANK(F62,F$1:F62,0)","v":38},{"$f":"DATEDIF(F62,D62,\"Y\")","v":48},{"$f":"DATEDIF(F62,D62,\"YD\")","v":230},{"$f":"D62-F62","v":17762},{"$f":"\"MRS \"&TEXT(J62,\"00000\")&\" \"&SUBSTITUTE(C62,\":\",\"\")&\" (\"&TEXT(D62,\"TT.MM.JJJJ\")&\") - \"&E62&\" (\"&TEXT(F62,\"TT.MM.JJJJ\")&\") \"&H62&\"-\"&I62","v":"MRS 17762 Strangerland (05.02.2016) - Nicole Kidman (20.06.1967) 48-230"}]
["tt4817386","nm0000173",{"$f":"_xlfn.XLOOKUP($A63,_xlfn.CHOOSECOLS(_xlfn.ANCHORARRAY(Filme!$G$1),2),_xlfn.CHOOSECOLS(_xlfn.ANCHORARRAY(Filme!$G$1),3),\"\",0,2)","v":"Big Little Lies"},{"$f":"_xlfn.XLOOKUP($A63,_xlfn.CHOOSECOLS(_xlfn.ANCHORARRAY(Filme!$G$1),2),_xlfn.CHOOSECOLS(_xlfn.ANCHORARRAY(Filme!$G$1),4),\"\",0,2)","v":"2017-04-13"},{"$f":"_xlfn.XLOOKUP($B63,_xlfn.CHOOSECOLS(_xlfn.ANCHORARRAY(Leute!$F$1),2),_xlfn.CHOOSECOLS(_xlfn.ANCHORARRAY(Leute!$F$1),3),\"x\",0,2)","v":"Nicole Kidman"},{"$f":"_xlfn.XLOOKUP($B63,_xlfn.CHOOSECOLS(_xlfn.ANCHORARRAY(Leute!$F$1),2),_xlfn.CHOOSECOLS(_xlfn.ANCHORARRAY(Leute!$F$1),4),\"x\",0,2)","v":"1967-06-20"},{"$f":"RANK(F63,F$1:F63,0)","v":38},{"$f":"DATEDIF(F63,D63,\"Y\")","v":49},{"$f":"DATEDIF(F63,D63,\"YD\")","v":298},{"$f":"D63-F63","v":18195},{"$f":"\"MRS \"&TEXT(J63,\"00000\")&\" \"&SUBSTITUTE(C63,\":\",\"\")&\" (\"&TEXT(D63,\"TT.MM.JJJJ\")&\") - \"&E63&\" (\"&TEXT(F63,\"TT.MM.JJJJ\")&\") \"&H63&\"-\"&I63","v":"MRS 18195 Big Little Lies (13.04.2017) - Nicole Kidman (20.06.1967) 49-298"}]
["tt5715874","nm0000173",{"$f":"_xlfn.XLOOKUP($A64,_xlfn.CHOOSECOLS(_xlfn.ANCHORARRAY(Filme!$G$1),2),_xlfn.CHOOSECOLS(_xlfn.ANCHORARRAY(Filme!$G$1),3),\"\",0,2)","v":"The Killing of a Sacred Deer"},{"$f":"_xlfn.XLOOKUP($A64,_xlfn.CHOOSECOLS(_xlfn.ANCHORARRAY(Filme!$G$1),2),_xlfn.CHOOSECOLS(_xlfn.ANCHORARRAY(Filme!$G$1),4),\"\",0,2)","v":"2017-12-28"},{"$f":"_xlfn.XLOOKUP($B64,_xlfn.CHOOSECOLS(_xlfn.ANCHORARRAY(Leute!$F$1),2),_xlfn.CHOOSECOLS(_xlfn.ANCHORARRAY(Leute!$F$1),3),\"x\",0,2)","v":"Nicole Kidman"},{"$f":"_xlfn.XLOOKUP($B64,_xlfn.CHOOSECOLS(_xlfn.ANCHORARRAY(Leute!$F$1),2),_xlfn.CHOOSECOLS(_xlfn.ANCHORARRAY(Leute!$F$1),4),\"x\",0,2)","v":"1967-06-20"},{"$f":"RANK(F64,F$1:F64,0)","v":38},{"$f":"DATEDIF(F64,D64,\"Y\")","v":50},{"$f":"DATEDIF(F64,D64,\"YD\")","v":191},{"$f":"D64-F64","v":18454},{"$f":"\"MRS \"&TEXT(J64,\"00000\")&\" \"&SUBSTITUTE(C64,\":\",\"\")&\" (\"&TEXT(D64,\"TT.MM.JJJJ\")&\") - \"&E64&\" (\"&TEXT(F64,\"TT.MM.JJJJ\")&\") \"&H64&\"-\"&I64","v":"MRS 18454 The Killing of a Sacred Deer (28.12.2017) - Nicole Kidman (20.06.1967) 50-191"}]
["tt0086973","nm0000193",{"$f":"_xlfn.XLOOKUP($A65,_xlfn.CHOOSECOLS(_xlfn.ANCHORARRAY(Filme!$G$1),2),_xlfn.CHOOSECOLS(_xlfn.ANCHORARRAY(Filme!$G$1),3),\"\",0,2)","v":"Blame It on Rio"},{"$f":"_xlfn.XLOOKUP($A65,_xlfn.CHOOSECOLS(_xlfn.ANCHORARRAY(Filme!$G$1),2),_xlfn.CHOOSECOLS(_xlfn.ANCHORARRAY(Filme!$G$1),4),\"\",0,2)","v":"1985-03-01"},{"$f":"_xlfn.XLOOKUP($B65,_xlfn.CHOOSECOLS(_xlfn.ANCHORARRAY(Leute!$F$1),2),_xlfn.CHOOSECOLS(_xlfn.ANCHORARRAY(Leute!$F$1),3),\"x\",0,2)","v":"Demi Moore"},{"$f":"_xlfn.XLOOKUP($B65,_xlfn.CHOOSECOLS(_xlfn.ANCHORARRAY(Leute!$F$1),2),_xlfn.CHOOSECOLS(_xlfn.ANCHORARRAY(Leute!$F$1),4),\"x\",0,2)","v":"1962-11-11"},{"$f":"RANK(F65,F$1:F65,0)","v":56},{"$f":"DATEDIF(F65,D65,\"Y\")","v":22},{"$f":"DATEDIF(F65,D65,\"YD\")","v":110},{"$f":"D65-F65","v":8146},{"$f":"\"MRS \"&TEXT(J65,\"00000\")&\" \"&SUBSTITUTE(C65,\":\",\"\")&\" (\"&TEXT(D65,\"TT.MM.JJJJ\")&\") - \"&E65&\" (\"&TEXT(F65,\"TT.MM.JJJJ\")&\") \"&H65&\"-\"&I65","v":"MRS 08146 Blame It on Rio (01.03.1985) - Demi Moore (11.11.1962) 22-110"}]
["tt0087810","nm0000193",{"$f":"_xlfn.XLOOKUP($A66,_xlfn.CHOOSECOLS(_xlfn.ANCHORARRAY(Filme!$G$1),2),_xlfn.CHOOSECOLS(_xlfn.ANCHORARRAY(Filme!$G$1),3),\"\",0,2)","v":"No Small Affair"},{"$f":"_xlfn.XLOOKUP($A66,_xlfn.CHOOSECOLS(_xlfn.ANCHORARRAY(Filme!$G$1),2),_xlfn.CHOOSECOLS(_xlfn.ANCHORARRAY(Filme!$G$1),4),\"\",0,2)","v":"1985-05-17"},{"$f":"_xlfn.XLOOKUP($B66,_xlfn.CHOOSECOLS(_xlfn.ANCHORARRAY(Leute!$F$1),2),_xlfn.CHOOSECOLS(_xlfn.ANCHORARRAY(Leute!$F$1),3),\"x\",0,2)","v":"Demi Moore"},{"$f":"_xlfn.XLOOKUP($B66,_xlfn.CHOOSECOLS(_xlfn.ANCHORARRAY(Leute!$F$1),2),_xlfn.CHOOSECOLS(_xlfn.ANCHORARRAY(Leute!$F$1),4),\"x\",0,2)","v":"1962-11-11"},{"$f":"RANK(F66,F$1:F66,0)","v":56},{"$f":"DATEDIF(F66,D66,\"Y\")","v":22},{"$f":"DATEDIF(F66,D66,\"YD\")","v":187},{"$f":"D66-F66","v":8223},{"$f":"\"MRS \"&TEXT(J66,\"00000\")&\" \"&SUBSTITUTE(C66,\":\",\"\")&\" (\"&TEXT(D66,\"TT.MM.JJJJ\")&\") - \"&E66&\" (\"&TEXT(F66,\"TT.MM.JJJJ\")&\") \"&H66&\"-\"&I66","v":"MRS 08223 No Small Affair (17.05.1985) - Demi Moore (11.11.1962) 22-187"}]
["tt0090583","nm0000193",{"$f":"_xlfn.XLOOKUP($A67,_xlfn.CHOOSECOLS(_xlfn.ANCHORARRAY(Filme!$G$1),2),_xlfn.CHOOSECOLS(_xlfn.ANCHORARRAY(Filme!$G$1),3),\"\",0,2)","v":"About Last Night..."},{"$f":"_xlfn.XLOOKUP($A67,_xlfn.CHOOSECOLS(_xlfn.ANCHORARRAY(Filme!$G$1),2),_xlfn.CHOOSECOLS(_xlfn.ANCHORARRAY(Filme!$G$1),4),\"\",0,2)","v":"1986-09-25"},{"$f":"_xlfn.XLOOKUP($B67,_xlfn.CHOOSECOLS(_xlfn.ANCHORARRAY(Leute!$F$1),2),_xlfn.CHOOSECOLS(_xlfn.ANCHORARRAY(Leute!$F$1),3),\"x\",0,2)","v":"Demi Moore"},{"$f":"_xlfn.XLOOKUP($B67,_xlfn.CHOOSECOLS(_xlfn.ANCHORARRAY(Leute!$F$1),2),_xlfn.CHOOSECOLS(_xlfn.ANCHORARRAY(Leute!$F$1),4),\"x\",0,2)","v":"1962-11-11"},{"$f":"RANK(F67,F$1:F67,0)","v":56},{"$f":"DATEDIF(F67,D67,\"Y\")","v":23},{"$f":"DATEDIF(F67,D67,\"YD\")","v":318},{"$f":"D67-F67","v":8719},{"$f":"\"MRS \"&TEXT(J67,\"00000\")&\" \"&SUBSTITUTE(C67,\":\",\"\")&\" (\"&TEXT(D67,\"TT.MM.JJJJ\")&\") - \"&E67&\" (\"&TEXT(F67,\"TT.MM.JJJJ\")&\") \"&H67&\"-\"&I67","v":"MRS 08719 About Last Night... (25.09.1986) - Demi Moore (11.11.1962) 23-318"}]
["tt0098625","nm0000193",{"$f":"_xlfn.XLOOKUP($A68,_xlfn.CHOOSECOLS(_xlfn.ANCHORARRAY(Filme!$G$1),2),_xlfn.CHOOSECOLS(_xlfn.ANCHORARRAY(Filme!$G$1),3),\"\",0,2)","v":"We're No Angels"},{"$f":"_xlfn.XLOOKUP($A68,_xlfn.CHOOSECOLS(_xlfn.ANCHORARRAY(Filme!$G$1),2),_xlfn.CHOOSECOLS(_xlfn.ANCHORARRAY(Filme!$G$1),4),\"\",0,2)","v":"1989-12-15"},{"$f":"_xlfn.XLOOKUP($B68,_xlfn.CHOOSECOLS(_xlfn.ANCHORARRAY(Leute!$F$1),2),_xlfn.CHOOSECOLS(_xlfn.ANCHORARRAY(Leute!$F$1),3),\"x\",0,2)","v":"Demi Moore"},{"$f":"_xlfn.XLOOKUP($B68,_xlfn.CHOOSECOLS(_xlfn.ANCHORARRAY(Leute!$F$1),2),_xlfn.CHOOSECOLS(_xlfn.ANCHORARRAY(Leute!$F$1),4),\"x\",0,2)","v":"1962-11-11"},{"$f":"RANK(F68,F$1:F68,0)","v":56},{"$f":"DATEDIF(F68,D68,\"Y\")","v":27},{"$f":"DATEDIF(F68,D68,\"YD\")","v":34},{"$f":"D68-F68","v":9896},{"$f":"\"MRS \"&TEXT(J68,\"00000\")&\" \"&SUBSTITUTE(C68,\":\",\"\")&\" (\"&TEXT(D68,\"TT.MM.JJJJ\")&\") - \"&E68&\" (\"&TEXT(F68,\"TT.MM.JJJJ\")&\") \"&H68&\"-\"&I68","v":"MRS 09896 We're No Angels (15.12.1989) - Demi Moore (11.11.1962) 27-34"}]
["tt0107211","nm0000193",{"$f":"_xlfn.XLOOKUP($A69,_xlfn.CHOOSECOLS(_xlfn.ANCHORARRAY(Filme!$G$1),2),_xlfn.CHOOSECOLS(_xlfn.ANCHORARRAY(Filme!$G$1),3),\"\",0,2)","v":"Indecent Proposal"},{"$f":"_xlfn.XLOOKUP($A69,_xlfn.CHOOSECOLS(_xlfn.ANCHORARRAY(Filme!$G$1),2),_xlfn.CHOOSECOLS(_xlfn.ANCHORARRAY(Filme!$G$1),4),\"\",0,2)","v":"1993-05-20"},{"$f":"_xlfn.XLOOKUP($B69,_xlfn.CHOOSECOLS(_xlfn.ANCHORARRAY(Leute!$F$1),2),_xlfn.CHOOSECOLS(_xlfn.ANCHORARRAY(Leute!$F$1),3),\"x\",0,2)","v":"Demi Moore"},{"$f":"_xlfn.XLOOKUP($B69,_xlfn.CHOOSECOLS(_xlfn.ANCHORARRAY(Leute!$F$1),2),_xlfn.CHOOSECOLS(_xlfn.ANCHORARRAY(Leute!$F$1),4),\"x\",0,2)","v":"1962-11-11"},{"$f":"RANK(F69,F$1:F69,0)","v":56},{"$f":"DATEDIF(F69,D69,\"Y\")","v":30},{"$f":"DATEDIF(F69,D69,\"YD\")","v":190},{"$f":"D69-F69","v":11148},{"$f":"\"MRS \"&TEXT(J69,\"00000\")&\" \"&SUBSTITUTE(C69,\":\",\"\")&\" (\"&TEXT(D69,\"TT.MM.JJJJ\")&\") - \"&E69&\" (\"&TEXT(F69,\"TT.MM.JJJJ\")&\") \"&H69&\"-\"&I69","v":"MRS 11148 Indecent Proposal (20.05.1993) - Demi Moore (11.11.1962) 30-190"}]
["tt0114345","nm0000193",{"$f":"_xlfn.XLOOKUP($A70,_xlfn.CHOOSECOLS(_xlfn.ANCHORARRAY(Filme!$G$1),2),_xlfn.CHOOSECOLS(_xlfn.ANCHORARRAY(Filme!$G$1),3),\"\",0,2)","v":"The Scarlet Letter"},{"$f":"_xlfn.XLOOKUP($A70,_xlfn.CHOOSECOLS(_xlfn.ANCHORARRAY(Filme!$G$1),2),_xlfn.CHOOSECOLS(_xlfn.ANCHORARRAY(Filme!$G$1),4),\"\",0,2)","v":"1996-04-18"},{"$f":"_xlfn.XLOOKUP($B70,_xlfn.CHOOSECOLS(_xlfn.ANCHORARRAY(Leute!$F$1),2),_xlfn.CHOOSECOLS(_xlfn.ANCHORARRAY(Leute!$F$1),3),\"x\",0,2)","v":"Demi Moore"},{"$f":"_xlfn.XLOOKUP($B70,_xlfn.CHOOSECOLS(_xlfn.ANCHORARRAY(Leute!$F$1),2),_xlfn.CHOOSECOLS(_xlfn.ANCHORARRAY(Leute!$F$1),4),\"x\",0,2)","v":"1962-11-11"},{"$f":"RANK(F70,F$1:F70,0)","v":56},{"$f":"DATEDIF(F70,D70,\"Y\")","v":33},{"$f":"DATEDIF(F70,D70,\"YD\")","v":158},{"$f":"D70-F70","v":12212},{"$f":"\"MRS \"&TEXT(J70,\"00000\")&\" \"&SUBSTITUTE(C70,\":\",\"\")&\" (\"&TEXT(D70,\"TT.MM.JJJJ\")&\") - \"&E70&\" (\"&TEXT(F70,\"TT.MM.JJJJ\")&\") \"&H70&\"-\"&I70","v":"MRS 12212 The Scarlet Letter (18.04.1996) - Demi Moore (11.11.1962) 33-158"}]
["tt0117765","nm0000193",{"$f":"_xlfn.XLOOKUP($A71,_xlfn.CHOOSECOLS(_xlfn.ANCHORARRAY(Filme!$G$1),2),_xlfn.CHOOSECOLS(_xlfn.ANCHORARRAY(Filme!$G$1),3),\"\",0,2)","v":"Striptease"},{"$f":"_xlfn.XLOOKUP($A71,_xlfn.CHOOSECOLS(_xlfn.ANCHORARRAY(Filme!$G$1),2),_xlfn.CHOOSECOLS(_xlfn.ANCHORARRAY(Filme!$G$1),4),\"\",0,2)","v":"1996-08-15"},{"$f":"_xlfn.XLOOKUP($B71,_xlfn.CHOOSECOLS(_xlfn.ANCHORARRAY(Leute!$F$1),2),_xlfn.CHOOSECOLS(_xlfn.ANCHORARRAY(Leute!$F$1),3),\"x\",0,2)","v":"Demi Moore"},{"$f":"_xlfn.XLOOKUP($B71,_xlfn.CHOOSECOLS(_xlfn.ANCHORARRAY(Leute!$F$1),2),_xlfn.CHOOSECOLS(_xlfn.ANCHORARRAY(Leute!$F$1),4),\"x\",0,2)","v":"1962-11-11"},{"$f":"RANK(F71,F$1:F71,0)","v":56},{"$f":"DATEDIF(F71,D71,\"Y\")","v":33},{"$f":"DATEDIF(F71,D71,\"YD\")","v":277},{"$f":"D71-F71","v":12331},{"$f":"\"MRS \"&TEXT(J71,\"00000\")&\" \"&SUBSTITUTE(C71,\":\",\"\")&\" (\"&TEXT(D71,\"TT.MM.JJJJ\")&\") - \"&E71&\" (\"&TEXT(F71,\"TT.MM.JJJJ\")&\") \"&H71&\"-\"&I71","v":"MRS 12331 Striptease (15.08.1996) - Demi Moore (11.11.1962) 33-277"}]
["tt0119173","nm0000193",{"$f":"_xlfn.XLOOKUP($A72,_xlfn.CHOOSECOLS(_xlfn.ANCHORARRAY(Filme!$G$1),2),_xlfn.CHOOSECOLS(_xlfn.ANCHORARRAY(Filme!$G$1),3),\"\",0,2)","v":"G.I. Jane"},{"$f":"_xlfn.XLOOKUP($A72,_xlfn.CHOOSECOLS(_xlfn.ANCHORARRAY(Filme!$G$1),2),_xlfn.CHOOSECOLS(_xlfn.ANCHORARRAY(Filme!$G$1),4),\"\",0,2)","v":"1998-02-26"},{"$f":"_xlfn.XLOOKUP($B72,_xlfn.CHOOSECOLS(_xlfn.ANCHORARRAY(Leute!$F$1),2),_xlfn.CHOOSECOLS(_xlfn.ANCHORARRAY(Leute!$F$1),3),\"x\",0,2)","v":"Demi Moore"},{"$f":"_xlfn.XLOOKUP($B72,_xlfn.CHOOSECOLS(_xlfn.ANCHORARRAY(Leute!$F$1),2),_xlfn.CHOOSECOLS(_xlfn.ANCHORARRAY(Leute!$F$1),4),\"x\",0,2)","v":"1962-11-11"},{"$f":"RANK(F72,F$1:F72,0)","v":56},{"$f":"DATEDIF(F72,D72,\"Y\")","v":35},{"$f":"DATEDIF(F72,D72,\"YD\")","v":107},{"$f":"D72-F72","v":12891},{"$f":"\"MRS \"&TEXT(J72,\"00000\")&\" \"&SUBSTITUTE(C72,\":\",\"\")&\" (\"&TEXT(D72,\"TT.MM.JJJJ\")&\") - \"&E72&\" (\"&TEXT(F72,\"TT.MM.JJJJ\")&\") \"&H72&\"-\"&I72","v":"MRS 12891 G.I. Jane (26.02.1998) - Demi Moore (11.11.1962) 35-107"}]
["tt17526714","nm0000193",{"$f":"_xlfn.XLOOKUP($A73,_xlfn.CHOOSECOLS(_xlfn.ANCHORARRAY(Filme!$G$1),2),_xlfn.CHOOSECOLS(_xlfn.ANCHORARRAY(Filme!$G$1),3),\"\",0,2)","v":"The Substance"},{"$f":"_xlfn.XLOOKUP($A73,_xlfn.CHOOSECOLS(_xlfn.ANCHORARRAY(Filme!$G$1),2),_xlfn.CHOOSECOLS(_xlfn.ANCHORARRAY(Filme!$G$1),4),\"\",0,2)","v":"2024-09-19"},{"$f":"_xlfn.XLOOKUP($B73,_xlfn.CHOOSECOLS(_xlfn.ANCHORARRAY(Leute!$F$1),2),_xlfn.CHOOSECOLS(_xlfn.ANCHORARRAY(Leute!$F$1),3),\"x\",0,2)","v":"Demi Moore"},{"$f":"_xlfn.XLOOKUP($B73,_xlfn.CHOOSECOLS(_xlfn.ANCHORARRAY(Leute!$F$1),2),_xlfn.CHOOSECOLS(_xlfn.ANCHORARRAY(Leute!$F$1),4),\"x\",0,2)","v":"1962-11-11"},{"$f":"RANK(F73,F$1:F73,0)","v":56},{"$f":"DATEDIF(F73,D73,\"Y\")","v":61},{"$f":"DATEDIF(F73,D73,\"YD\")","v":312},{"$f":"D73-F73","v":22593},{"$f":"\"MRS \"&TEXT(J73,\"00000\")&\" \"&SUBSTITUTE(C73,\":\",\"\")&\" (\"&TEXT(D73,\"TT.MM.JJJJ\")&\") - \"&E73&\" (\"&TEXT(F73,\"TT.MM.JJJJ\")&\") \"&H73&\"-\"&I73","v":"MRS 22593 The Substance (19.09.2024) - Demi Moore (11.11.1962) 61-312"}]
["tt0376541","nm0000204",{"$f":"_xlfn.XLOOKUP($A74,_xlfn.CHOOSECOLS(_xlfn.ANCHORARRAY(Filme!$G$1),2),_xlfn.CHOOSECOLS(_xlfn.ANCHORARRAY(Filme!$G$1),3),\"\",0,2)","v":"Closer"},{"$f":"_xlfn.XLOOKUP($A74,_xlfn.CHOOSECOLS(_xlfn.ANCHORARRAY(Filme!$G$1),2),_xlfn.CHOOSECOLS(_xlfn.ANCHORARRAY(Filme!$G$1),4),\"\",0,2)","v":"2005-01-13"},{"$f":"_xlfn.XLOOKUP($B74,_xlfn.CHOOSECOLS(_xlfn.ANCHORARRAY(Leute!$F$1),2),_xlfn.CHOOSECOLS(_xlfn.ANCHORARRAY(Leute!$F$1),3),\"x\",0,2)","v":"Natalie Portman"},{"$f":"_xlfn.XLOOKUP($B74,_xlfn.CHOOSECOLS(_xlfn.ANCHORARRAY(Leute!$F$1),2),_xlfn.CHOOSECOLS(_xlfn.ANCHORARRAY(Leute!$F$1),4),\"x\",0,2)","v":"1981-06-09"},{"$f":"RANK(F74,F$1:F74,0)","v":1},{"$f":"DATEDIF(F74,D74,\"Y\")","v":23},{"$f":"DATEDIF(F74,D74,\"YD\")","v":218},{"$f":"D74-F74","v":8619},{"$f":"\"MRS \"&TEXT(J74,\"00000\")&\" \"&SUBSTITUTE(C74,\":\",\"\")&\" (\"&TEXT(D74,\"TT.MM.JJJJ\")&\") - \"&E74&\" (\"&TEXT(F74,\"TT.MM.JJJJ\")&\") \"&H74&\"-\"&I74","v":"MRS 08619 Closer (13.01.2005) - Natalie Portman (09.06.1981) 23-218"}]
["tt0434409","nm0000204",{"$f":"_xlfn.XLOOKUP($A75,_xlfn.CHOOSECOLS(_xlfn.ANCHORARRAY(Filme!$G$1),2),_xlfn.CHOOSECOLS(_xlfn.ANCHORARRAY(Filme!$G$1),3),\"\",0,2)","v":"V for Vendetta"},{"$f":"_xlfn.XLOOKUP($A75,_xlfn.CHOOSECOLS(_xlfn.ANCHORARRAY(Filme!$G$1),2),_xlfn.CHOOSECOLS(_xlfn.ANCHORARRAY(Filme!$G$1),4),\"\",0,2)","v":"2006-03-16"},{"$f":"_xlfn.XLOOKUP($B75,_xlfn.CHOOSECOLS(_xlfn.ANCHORARRAY(Leute!$F$1),2),_xlfn.CHOOSECOLS(_xlfn.ANCHORARRAY(Leute!$F$1),3),\"x\",0,2)","v":"Natalie Portman"},{"$f":"_xlfn.XLOOKUP($B75,_xlfn.CHOOSECOLS(_xlfn.ANCHORARRAY(Leute!$F$1),2),_xlfn.CHOOSECOLS(_xlfn.ANCHORARRAY(Leute!$F$1),4),\"x\",0,2)","v":"1981-06-09"},{"$f":"RANK(F75,F$1:F75,0)","v":1},{"$f":"DATEDIF(F75,D75,\"Y\")","v":24},{"$f":"DATEDIF(F75,D75,\"YD\")","v":280},{"$f":"D75-F75","v":9046},{"$f":"\"MRS \"&TEXT(J75,\"00000\")&\" \"&SUBSTITUTE(C75,\":\",\"\")&\" (\"&TEXT(D75,\"TT.MM.JJJJ\")&\") - \"&E75&\" (\"&TEXT(F75,\"TT.MM.JJJJ\")&\") \"&H75&\"-\"&I75","v":"MRS 09046 V for Vendetta (16.03.2006) - Natalie Portman (09.06.1981) 24-280"}]
["tt0455957","nm0000204",{"$f":"_xlfn.XLOOKUP($A76,_xlfn.CHOOSECOLS(_xlfn.ANCHORARRAY(Filme!$G$1),2),_xlfn.CHOOSECOLS(_xlfn.ANCHORARRAY(Filme!$G$1),3),\"\",0,2)","v":"Goya's Ghosts"},{"$f":"_xlfn.XLOOKUP($A76,_xlfn.CHOOSECOLS(_xlfn.ANCHORARRAY(Filme!$G$1),2),_xlfn.CHOOSECOLS(_xlfn.ANCHORARRAY(Filme!$G$1),4),\"\",0,2)","v":"2006-11-23"},{"$f":"_xlfn.XLOOKUP($B76,_xlfn.CHOOSECOLS(_xlfn.ANCHORARRAY(Leute!$F$1),2),_xlfn.CHOOSECOLS(_xlfn.ANCHORARRAY(Leute!$F$1),3),\"x\",0,2)","v":"Natalie Portman"},{"$f":"_xlfn.XLOOKUP($B76,_xlfn.CHOOSECOLS(_xlfn.ANCHORARRAY(Leute!$F$1),2),_xlfn.CHOOSECOLS(_xlfn.ANCHORARRAY(Leute!$F$1),4),\"x\",0,2)","v":"1981-06-09"},{"$f":"RANK(F76,F$1:F76,0)","v":1},{"$f":"DATEDIF(F76,D76,\"Y\")","v":25},{"$f":"DATEDIF(F76,D76,\"YD\")","v":167},{"$f":"D76-F76","v":9298},{"$f":"\"MRS \"&TEXT(J76,\"00000\")&\" \"&SUBSTITUTE(C76,\":\",\"\")&\" (\"&TEXT(D76,\"TT.MM.JJJJ\")&\") - \"&E76&\" (\"&TEXT(F76,\"TT.MM.JJJJ\")&\") \"&H76&\"-\"&I76","v":"MRS 09298 Goya's Ghosts (23.11.2006) - Natalie Portman (09.06.1981) 25-167"}]
["tt1094249","nm0000204",{"$f":"_xlfn.XLOOKUP($A77,_xlfn.CHOOSECOLS(_xlfn.ANCHORARRAY(Filme!$G$1),2),_xlfn.CHOOSECOLS(_xlfn.ANCHORARRAY(Filme!$G$1),3),\"\",0,2)","v":"Hotel Chevalier"},{"$f":"_xlfn.XLOOKUP($A77,_xlfn.CHOOSECOLS(_xlfn.ANCHORARRAY(Filme!$G$1),2),_xlfn.CHOOSECOLS(_xlfn.ANCHORARRAY(Filme!$G$1),4),\"\",0,2)","v":"2008-01-03"},{"$f":"_xlfn.XLOOKUP($B77,_xlfn.CHOOSECOLS(_xlfn.ANCHORARRAY(Leute!$F$1),2),_xlfn.CHOOSECOLS(_xlfn.ANCHORARRAY(Leute!$F$1),3),\"x\",0,2)","v":"Natalie Portman"},{"$f":"_xlfn.XLOOKUP($B77,_xlfn.CHOOSECOLS(_xlfn.ANCHORARRAY(Leute!$F$1),2),_xlfn.CHOOSECOLS(_xlfn.ANCHORARRAY(Leute!$F$1),4),\"x\",0,2)","v":"1981-06-09"},{"$f":"RANK(F77,F$1:F77,0)","v":1},{"$f":"DATEDIF(F77,D77,\"Y\")","v":26},{"$f":"DATEDIF(F77,D77,\"YD\")","v":208},{"$f":"D77-F77","v":9704},{"$f":"\"MRS \"&TEXT(J77,\"00000\")&\" \"&SUBSTITUTE(C77,\":\",\"\")&\" (\"&TEXT(D77,\"TT.MM.JJJJ\")&\") - \"&E77&\" (\"&TEXT(F77,\"TT.MM.JJJJ\")&\") \"&H77&\"-\"&I77","v":"MRS 09704 Hotel Chevalier (03.01.2008) - Natalie Portman (09.06.1981) 26-208"}]
["tt13651794","nm0000204",{"$f":"_xlfn.XLOOKUP($A78,_xlfn.CHOOSECOLS(_xlfn.ANCHORARRAY(Filme!$G$1),2),_xlfn.CHOOSECOLS(_xlfn.ANCHORARRAY(Filme!$G$1),3),\"\",0,2)","v":"May December"},{"$f":"_xlfn.XLOOKUP($A78,_xlfn.CHOOSECOLS(_xlfn.ANCHORARRAY(Filme!$G$1),2),_xlfn.CHOOSECOLS(_xlfn.ANCHORARRAY(Filme!$G$1),4),\"\",0,2)","v":"2024-05-30"},{"$f":"_xlfn.XLOOKUP($B78,_xlfn.CHOOSECOLS(_xlfn.ANCHORARRAY(Leute!$F$1),2),_xlfn.CHOOSECOLS(_xlfn.ANCHORARRAY(Leute!$F$1),3),\"x\",0,2)","v":"Natalie Portman"},{"$f":"_xlfn.XLOOKUP($B78,_xlfn.CHOOSECOLS(_xlfn.ANCHORARRAY(Leute!$F$1),2),_xlfn.CHOOSECOLS(_xlfn.ANCHORARRAY(Leute!$F$1),4),\"x\",0,2)","v":"1981-06-09"},{"$f":"RANK(F78,F$1:F78,0)","v":1},{"$f":"DATEDIF(F78,D78,\"Y\")","v":42},{"$f":"DATEDIF(F78,D78,\"YD\")","v":355},{"$f":"D78-F78","v":15696},{"$f":"\"MRS \"&TEXT(J78,\"00000\")&\" \"&SUBSTITUTE(C78,\":\",\"\")&\" (\"&TEXT(D78,\"TT.MM.JJJJ\")&\") - \"&E78&\" (\"&TEXT(F78,\"TT.MM.JJJJ\")&\") \"&H78&\"-\"&I78","v":"MRS 15696 May December (30.05.2024) - Natalie Portman (09.06.1981) 42-355"}]
["tt1411238","nm0000204",{"$f":"_xlfn.XLOOKUP($A79,_xlfn.CHOOSECOLS(_xlfn.ANCHORARRAY(Filme!$G$1),2),_xlfn.CHOOSECOLS(_xlfn.ANCHORARRAY(Filme!$G$1),3),\"\",0,2)","v":"No Strings Attached"},{"$f":"_xlfn.XLOOKUP($A79,_xlfn.CHOOSECOLS(_xlfn.ANCHORARRAY(Filme!$G$1),2),_xlfn.CHOOSECOLS(_xlfn.ANCHORARRAY(Filme!$G$1),4),\"\",0,2)","v":"2011-02-17"},{"$f":"_xlfn.XLOOKUP($B79,_xlfn.CHOOSECOLS(_xlfn.ANCHORARRAY(Leute!$F$1),2),_xlfn.CHOOSECOLS(_xlfn.ANCHORARRAY(Leute!$F$1),3),\"x\",0,2)","v":"Natalie Portman"},{"$f":"_xlfn.XLOOKUP($B79,_xlfn.CHOOSECOLS(_xlfn.ANCHORARRAY(Leute!$F$1),2),_xlfn.CHOOSECOLS(_xlfn.ANCHORARRAY(Leute!$F$1),4),\"x\",0,2)","v":"1981-06-09"},{"$f":"RANK(F79,F$1:F79,0)","v":1},{"$f":"DATEDIF(F79,D79,\"Y\")","v":29},{"$f":"DATEDIF(F79,D79,\"YD\")","v":253},{"$f":"D79-F79","v":10845},{"$f":"\"MRS \"&TEXT(J79,\"00000\")&\" \"&SUBSTITUTE(C79,\":\",\"\")&\" (\"&TEXT(D79,\"TT.MM.JJJJ\")&\") - \"&E79&\" (\"&TEXT(F79,\"TT.MM.JJJJ\")&\") \"&H79&\"-\"&I79","v":"MRS 10845 No Strings Attached (17.02.2011) - Natalie Portman (09.06.1981) 29-253"}]
["tt4680196","nm0000204",{"$f":"_xlfn.XLOOKUP($A80,_xlfn.CHOOSECOLS(_xlfn.ANCHORARRAY(Filme!$G$1),2),_xlfn.CHOOSECOLS(_xlfn.ANCHORARRAY(Filme!$G$1),3),\"\",0,2)","v":"Planetarium"},{"$f":"_xlfn.XLOOKUP($A80,_xlfn.CHOOSECOLS(_xlfn.ANCHORARRAY(Filme!$G$1),2),_xlfn.CHOOSECOLS(_xlfn.ANCHORARRAY(Filme!$G$1),4),\"\",0,2)","v":"2016-11-16"},{"$f":"_xlfn.XLOOKUP($B80,_xlfn.CHOOSECOLS(_xlfn.ANCHORARRAY(Leute!$F$1),2),_xlfn.CHOOSECOLS(_xlfn.ANCHORARRAY(Leute!$F$1),3),\"x\",0,2)","v":"Natalie Portman"},{"$f":"_xlfn.XLOOKUP($B80,_xlfn.CHOOSECOLS(_xlfn.ANCHORARRAY(Leute!$F$1),2),_xlfn.CHOOSECOLS(_xlfn.ANCHORARRAY(Leute!$F$1),4),\"x\",0,2)","v":"1981-06-09"},{"$f":"RANK(F80,F$1:F80,0)","v":1},{"$f":"DATEDIF(F80,D80,\"Y\")","v":35},{"$f":"DATEDIF(F80,D80,\"YD\")","v":160},{"$f":"D80-F80","v":12944},{"$f":"\"MRS \"&TEXT(J80,\"00000\")&\" \"&SUBSTITUTE(C80,\":\",\"\")&\" (\"&TEXT(D80,\"TT.MM.JJJJ\")&\") - \"&E80&\" (\"&TEXT(F80,\"TT.MM.JJJJ\")&\") \"&H80&\"-\"&I80","v":"MRS 12944 Planetarium (16.11.2016) - Natalie Portman (09.06.1981) 35-160"}]
["tt0236640","nm0000207",{"$f":"_xlfn.XLOOKUP($A81,_xlfn.CHOOSECOLS(_xlfn.ANCHORARRAY(Filme!$G$1),2),_xlfn.CHOOSECOLS(_xlfn.ANCHORARRAY(Filme!$G$1),3),\"\",0,2)","v":"Prozac Nation"},{"$f":"_xlfn.XLOOKUP($A81,_xlfn.CHOOSECOLS(_xlfn.ANCHORARRAY(Filme!$G$1),2),_xlfn.CHOOSECOLS(_xlfn.ANCHORARRAY(Filme!$G$1),4),\"\",0,2)","v":"2003-06-13"},{"$f":"_xlfn.XLOOKUP($B81,_xlfn.CHOOSECOLS(_xlfn.ANCHORARRAY(Leute!$F$1),2),_xlfn.CHOOSECOLS(_xlfn.ANCHORARRAY(Leute!$F$1),3),\"x\",0,2)","v":"Christina Ricci"},{"$f":"_xlfn.XLOOKUP($B81,_xlfn.CHOOSECOLS(_xlfn.ANCHORARRAY(Leute!$F$1),2),_xlfn.CHOOSECOLS(_xlfn.ANCHORARRAY(Leute!$F$1),4),\"x\",0,2)","v":"1980-02-12"},{"$f":"RANK(F81,F$1:F81,0)","v":8},{"$f":"DATEDIF(F81,D81,\"Y\")","v":23},{"$f":"DATEDIF(F81,D81,\"YD\")","v":122},{"$f":"D81-F81","v":8522},{"$f":"\"MRS \"&TEXT(J81,\"00000\")&\" \"&SUBSTITUTE(C81,\":\",\"\")&\" (\"&TEXT(D81,\"TT.MM.JJJJ\")&\") - \"&E81&\" (\"&TEXT(F81,\"TT.MM.JJJJ\")&\") \"&H81&\"-\"&I81","v":"MRS 08522 Prozac Nation (13.06.2003) - Christina Ricci (12.02.1980) 23-122"}]
["tt0340855","nm0000207",{"$f":"_xlfn.XLOOKUP($A82,_xlfn.CHOOSECOLS(_xlfn.ANCHORARRAY(Filme!$G$1),2),_xlfn.CHOOSECOLS(_xlfn.ANCHORARRAY(Filme!$G$1),3),\"\",0,2)","v":"Monster"},{"$f":"_xlfn.XLOOKUP($A82,_xlfn.CHOOSECOLS(_xlfn.ANCHORARRAY(Filme!$G$1),2),_xlfn.CHOOSECOLS(_xlfn.ANCHORARRAY(Filme!$G$1),4),\"\",0,2)","v":"2004-04-15"},{"$f":"_xlfn.XLOOKUP($B82,_xlfn.CHOOSECOLS(_xlfn.ANCHORARRAY(Leute!$F$1),2),_xlfn.CHOOSECOLS(_xlfn.ANCHORARRAY(Leute!$F$1),3),\"x\",0,2)","v":"Christina Ricci"},{"$f":"_xlfn.XLOOKUP($B82,_xlfn.CHOOSECOLS(_xlfn.ANCHORARRAY(Leute!$F$1),2),_xlfn.CHOOSECOLS(_xlfn.ANCHORARRAY(Leute!$F$1),4),\"x\",0,2)","v":"1980-02-12"},{"$f":"RANK(F82,F$1:F82,0)","v":8},{"$f":"DATEDIF(F82,D82,\"Y\")","v":24},{"$f":"DATEDIF(F82,D82,\"YD\")","v":63},{"$f":"D82-F82","v":8829},{"$f":"\"MRS \"&TEXT(J82,\"00000\")&\" \"&SUBSTITUTE(C82,\":\",\"\")&\" (\"&TEXT(D82,\"TT.MM.JJJJ\")&\") - \"&E82&\" (\"&TEXT(F82,\"TT.MM.JJJJ\")&\") \"&H82&\"-\"&I82","v":"MRS 08829 Monster (15.04.2004) - Christina Ricci (12.02.1980) 24-63"}]
["tt0462200","nm0000207",{"$f":"_xlfn.XLOOKUP($A83,_xlfn.CHOOSECOLS(_xlfn.ANCHORARRAY(Filme!$G$1),2),_xlfn.CHOOSECOLS(_xlfn.ANCHORARRAY(Filme!$G$1),3),\"\",0,2)","v":"Black Snake Moan"},{"$f":"_xlfn.XLOOKUP($A83,_xlfn.CHOOSECOLS(_xlfn.ANCHORARRAY(Filme!$G$1),2),_xlfn.CHOOSECOLS(_xlfn.ANCHORARRAY(Filme!$G$1),4),\"\",0,2)","v":"2007-07-05"},{"$f":"_xlfn.XLOOKUP($B83,_xlfn.CHOOSECOLS(_xlfn.ANCHORARRAY(Leute!$F$1),2),_xlfn.CHOOSECOLS(_xlfn.ANCHORARRAY(Leute!$F$1),3),\"x\",0,2)","v":"Christina Ricci"},{"$f":"_xlfn.XLOOKUP($B83,_xlfn.CHOOSECOLS(_xlfn.ANCHORARRAY(Leute!$F$1),2),_xlfn.CHOOSECOLS(_xlfn.ANCHORARRAY(Leute!$F$1),4),\"x\",0,2)","v":"1980-02-12"},{"$f":"RANK(F83,F$1:F83,0)","v":8},{"$f":"DATEDIF(F83,D83,\"Y\")","v":27},{"$f":"DATEDIF(F83,D83,\"YD\")","v":144},{"$f":"D83-F83","v":10005},{"$f":"\"MRS \"&TEXT(J83,\"00000\")&\" \"&SUBSTITUTE(C83,\":\",\"\")&\" (\"&TEXT(D83,\"TT.MM.JJJJ\")&\") - \"&E83&\" (\"&TEXT(F83,\"TT.MM.JJJJ\")&\") \"&H83&\"-\"&I83","v":"MRS 10005 Black Snake Moan (05.07.2007) - Christina Ricci (12.02.1980) 27-144"}]
["tt0838247","nm0000207",{"$f":"_xlfn.XLOOKUP($A84,_xlfn.CHOOSECOLS(_xlfn.ANCHORARRAY(Filme!$G$1),2),_xlfn.CHOOSECOLS(_xlfn.ANCHORARRAY(Filme!$G$1),3),\"\",0,2)","v":"After.Life"},{"$f":"_xlfn.XLOOKUP($A84,_xlfn.CHOOSECOLS(_xlfn.ANCHORARRAY(Filme!$G$1),2),_xlfn.CHOOSECOLS(_xlfn.ANCHORARRAY(Filme!$G$1),4),\"\",0,2)","v":"2009-12-16"},{"$f":"_xlfn.XLOOKUP($B84,_xlfn.CHOOSECOLS(_xlfn.ANCHORARRAY(Leute!$F$1),2),_xlfn.CHOOSECOLS(_xlfn.ANCHORARRAY(Leute!$F$1),3),\"x\",0,2)","v":"Christina Ricci"},{"$f":"_xlfn.XLOOKUP($B84,_xlfn.CHOOSECOLS(_xlfn.ANCHORARRAY(Leute!$F$1),2),_xlfn.CHOOSECOLS(_xlfn.ANCHORARRAY(Leute!$F$1),4),\"x\",0,2)","v":"1980-02-12"},{"$f":"RANK(F84,F$1:F84,0)","v":8},{"$f":"DATEDIF(F84,D84,\"Y\")","v":29},{"$f":"DATEDIF(F84,D84,\"YD\")","v":308},{"$f":"D84-F84","v":10900},{"$f":"\"MRS \"&TEXT(J84,\"00000\")&\" \"&SUBSTITUTE(C84,\":\",\"\")&\" (\"&TEXT(D84,\"TT.MM.JJJJ\")&\") - \"&E84&\" (\"&TEXT(F84,\"TT.MM.JJJJ\")&\") \"&H84&\"-\"&I84","v":"MRS 10900 After.Life (16.12.2009) - Christina Ricci (12.02.1980) 29-308"}]
["tt1440732","nm0000207",{"$f":"_xlfn.XLOOKUP($A85,_xlfn.CHOOSECOLS(_xlfn.ANCHORARRAY(Filme!$G$1),2),_xlfn.CHOOSECOLS(_xlfn.ANCHORARRAY(Filme!$G$1),3),\"\",0,2)","v":"Bel Ami"},{"$f":"_xlfn.XLOOKUP($A85,_xlfn.CHOOSECOLS(_xlfn.ANCHORARRAY(Filme!$G$1),2),_xlfn.CHOOSECOLS(_xlfn.ANCHORARRAY(Filme!$G$1),4),\"\",0,2)","v":"2012-05-03"},{"$f":"_xlfn.XLOOKUP($B85,_xlfn.CHOOSECOLS(_xlfn.ANCHORARRAY(Leute!$F$1),2),_xlfn.CHOOSECOLS(_xlfn.ANCHORARRAY(Leute!$F$1),3),\"x\",0,2)","v":"Christina Ricci"},{"$f":"_xlfn.XLOOKUP($B85,_xlfn.CHOOSECOLS(_xlfn.ANCHORARRAY(Leute!$F$1),2),_xlfn.CHOOSECOLS(_xlfn.ANCHORARRAY(Leute!$F$1),4),\"x\",0,2)","v":"1980-02-12"},{"$f":"RANK(F85,F$1:F85,0)","v":8},{"$f":"DATEDIF(F85,D85,\"Y\")","v":32},{"$f":"DATEDIF(F85,D85,\"YD\")","v":81},{"$f":"D85-F85","v":11769},{"$f":"\"MRS \"&TEXT(J85,\"00000\")&\" \"&SUBSTITUTE(C85,\":\",\"\")&\" (\"&TEXT(D85,\"TT.MM.JJJJ\")&\") - \"&E85&\" (\"&TEXT(F85,\"TT.MM.JJJJ\")&\") \"&H85&\"-\"&I85","v":"MRS 11769 Bel Ami (03.05.2012) - Christina Ricci (12.02.1980) 32-81"}]
["tt5313894","nm0000207",{"$f":"_xlfn.XLOOKUP($A86,_xlfn.CHOOSECOLS(_xlfn.ANCHORARRAY(Filme!$G$1),2),_xlfn.CHOOSECOLS(_xlfn.ANCHORARRAY(Filme!$G$1),3),\"\",0,2)","v":"Z"},{"$f":"_xlfn.XLOOKUP($A86,_xlfn.CHOOSECOLS(_xlfn.ANCHORARRAY(Filme!$G$1),2),_xlfn.CHOOSECOLS(_xlfn.ANCHORARRAY(Filme!$G$1),4),\"\",0,2)","v":"2017-03-03"},{"$f":"_xlfn.XLOOKUP($B86,_xlfn.CHOOSECOLS(_xlfn.ANCHORARRAY(Leute!$F$1),2),_xlfn.CHOOSECOLS(_xlfn.ANCHORARRAY(Leute!$F$1),3),\"x\",0,2)","v":"Christina Ricci"},{"$f":"_xlfn.XLOOKUP($B86,_xlfn.CHOOSECOLS(_xlfn.ANCHORARRAY(Leute!$F$1),2),_xlfn.CHOOSECOLS(_xlfn.ANCHORARRAY(Leute!$F$1),4),\"x\",0,2)","v":"1980-02-12"},{"$f":"RANK(F86,F$1:F86,0)","v":8},{"$f":"DATEDIF(F86,D86,\"Y\")","v":37},{"$f":"DATEDIF(F86,D86,\"YD\")","v":19},{"$f":"D86-F86","v":13534},{"$f":"\"MRS \"&TEXT(J86,\"00000\")&\" \"&SUBSTITUTE(C86,\":\",\"\")&\" (\"&TEXT(D86,\"TT.MM.JJJJ\")&\") - \"&E86&\" (\"&TEXT(F86,\"TT.MM.JJJJ\")&\") \"&H86&\"-\"&I86","v":"MRS 13534 Z (03.03.2017) - Christina Ricci (12.02.1980) 37-19"}]
["tt0174480","nm0000213",{"$f":"_xlfn.XLOOKUP($A87,_xlfn.CHOOSECOLS(_xlfn.ANCHORARRAY(Filme!$G$1),2),_xlfn.CHOOSECOLS(_xlfn.ANCHORARRAY(Filme!$G$1),3),\"\",0,2)","v":"Autumn in New York"},{"$f":"_xlfn.XLOOKUP($A87,_xlfn.CHOOSECOLS(_xlfn.ANCHORARRAY(Filme!$G$1),2),_xlfn.CHOOSECOLS(_xlfn.ANCHORARRAY(Filme!$G$1),4),\"\",0,2)","v":"2000-10-12"},{"$f":"_xlfn.XLOOKUP($B87,_xlfn.CHOOSECOLS(_xlfn.ANCHORARRAY(Leute!$F$1),2),_xlfn.CHOOSECOLS(_xlfn.ANCHORARRAY(Leute!$F$1),3),\"x\",0,2)","v":"Winona Ryder"},{"$f":"_xlfn.XLOOKUP($B87,_xlfn.CHOOSECOLS(_xlfn.ANCHORARRAY(Leute!$F$1),2),_xlfn.CHOOSECOLS(_xlfn.ANCHORARRAY(Leute!$F$1),4),\"x\",0,2)","v":"1971-10-29"},{"$f":"RANK(F87,F$1:F87,0)","v":21},{"$f":"DATEDIF(F87,D87,\"Y\")","v":28},{"$f":"DATEDIF(F87,D87,\"YD\")","v":349},{"$f":"D87-F87","v":10576},{"$f":"\"MRS \"&TEXT(J87,\"00000\")&\" \"&SUBSTITUTE(C87,\":\",\"\")&\" (\"&TEXT(D87,\"TT.MM.JJJJ\")&\") - \"&E87&\" (\"&TEXT(F87,\"TT.MM.JJJJ\")&\") \"&H87&\"-\"&I87","v":"MRS 10576 Autumn in New York (12.10.2000) - Winona Ryder (29.10.1971) 28-349"}]
["tt0497972","nm0000213",{"$f":"_xlfn.XLOOKUP($A88,_xlfn.CHOOSECOLS(_xlfn.ANCHORARRAY(Filme!$G$1),2),_xlfn.CHOOSECOLS(_xlfn.ANCHORARRAY(Filme!$G$1),3),\"\",0,2)","v":"Sex and Death 101"},{"$f":"_xlfn.XLOOKUP($A88,_xlfn.CHOOSECOLS(_xlfn.ANCHORARRAY(Filme!$G$1),2),_xlfn.CHOOSECOLS(_xlfn.ANCHORARRAY(Filme!$G$1),4),\"\",0,2)","v":"2008-02-22"},{"$f":"_xlfn.XLOOKUP($B88,_xlfn.CHOOSECOLS(_xlfn.ANCHORARRAY(Leute!$F$1),2),_xlfn.CHOOSECOLS(_xlfn.ANCHORARRAY(Leute!$F$1),3),\"x\",0,2)","v":"Winona Ryder"},{"$f":"_xlfn.XLOOKUP($B88,_xlfn.CHOOSECOLS(_xlfn.ANCHORARRAY(Leute!$F$1),2),_xlfn.CHOOSECOLS(_xlfn.ANCHORARRAY(Leute!$F$1),4),\"x\",0,2)","v":"1971-10-29"},{"$f":"RANK(F88,F$1:F88,0)","v":21},{"$f":"DATEDIF(F88,D88,\"Y\")","v":36},{"$f":"DATEDIF(F88,D88,\"YD\")","v":116},{"$f":"D88-F88","v":13265},{"$f":"\"MRS \"&TEXT(J88,\"00000\")&\" \"&SUBSTITUTE(C88,\":\",\"\")&\" (\"&TEXT(D88,\"TT.MM.JJJJ\")&\") - \"&E88&\" (\"&TEXT(F88,\"TT.MM.JJJJ\")&\") \"&H88&\"-\"&I88","v":"MRS 13265 Sex and Death 101 (22.02.2008) - Winona Ryder (29.10.1971) 36-116"}]
["tt0115438","nm0000234",{"$f":"_xlfn.XLOOKUP($A89,_xlfn.CHOOSECOLS(_xlfn.ANCHORARRAY(Filme!$G$1),2),_xlfn.CHOOSECOLS(_xlfn.ANCHORARRAY(Filme!$G$1),3),\"\",0,2)","v":"2 Days in the Valley"},{"$f":"_xlfn.XLOOKUP($A89,_xlfn.CHOOSECOLS(_xlfn.ANCHORARRAY(Filme!$G$1),2),_xlfn.CHOOSECOLS(_xlfn.ANCHORARRAY(Filme!$G$1),4),\"\",0,2)","v":"1997-05-22"},{"$f":"_xlfn.XLOOKUP($B89,_xlfn.CHOOSECOLS(_xlfn.ANCHORARRAY(Leute!$F$1),2),_xlfn.CHOOSECOLS(_xlfn.ANCHORARRAY(Leute!$F$1),3),\"x\",0,2)","v":"Charlize Theron"},{"$f":"_xlfn.XLOOKUP($B89,_xlfn.CHOOSECOLS(_xlfn.ANCHORARRAY(Leute!$F$1),2),_xlfn.CHOOSECOLS(_xlfn.ANCHORARRAY(Leute!$F$1),4),\"x\",0,2)","v":"1975-08-07"},{"$f":"RANK(F89,F$1:F89,0)","v":14},{"$f":"DATEDIF(F89,D89,\"Y\")","v":21},{"$f":"DATEDIF(F89,D89,\"YD\")","v":289},{"$f":"D89-F89","v":7959},{"$f":"\"MRS \"&TEXT(J89,\"00000\")&\" \"&SUBSTITUTE(C89,\":\",\"\")&\" (\"&TEXT(D89,\"TT.MM.JJJJ\")&\") - \"&E89&\" (\"&TEXT(F89,\"TT.MM.JJJJ\")&\") \"&H89&\"-\"&I89","v":"MRS 07959 2 Days in the Valley (22.05.1997) - Charlize Theron (07.08.1975) 21-289"}]
["tt0118971","nm0000234",{"$f":"_xlfn.XLOOKUP($A90,_xlfn.CHOOSECOLS(_xlfn.ANCHORARRAY(Filme!$G$1),2),_xlfn.CHOOSECOLS(_xlfn.ANCHORARRAY(Filme!$G$1),3),\"\",0,2)","v":"The Devil's Advocate"},{"$f":"_xlfn.XLOOKUP($A90,_xlfn.CHOOSECOLS(_xlfn.ANCHORARRAY(Filme!$G$1),2),_xlfn.CHOOSECOLS(_xlfn.ANCHORARRAY(Filme!$G$1),4),\"\",0,2)","v":"1998-01-22"},{"$f":"_xlfn.XLOOKUP($B90,_xlfn.CHOOSECOLS(_xlfn.ANCHORARRAY(Leute!$F$1),2),_xlfn.CHOOSECOLS(_xlfn.ANCHORARRAY(Leute!$F$1),3),\"x\",0,2)","v":"Charlize Theron"},{"$f":"_xlfn.XLOOKUP($B90,_xlfn.CHOOSECOLS(_xlfn.ANCHORARRAY(Leute!$F$1),2),_xlfn.CHOOSECOLS(_xlfn.ANCHORARRAY(Leute!$F$1),4),\"x\",0,2)","v":"1975-08-07"},{"$f":"RANK(F90,F$1:F90,0)","v":14},{"$f":"DATEDIF(F90,D90,\"Y\")","v":22},{"$f":"DATEDIF(F90,D90,\"YD\")","v":168},{"$f":"D90-F90","v":8204},{"$f":"\"MRS \"&TEXT(J90,\"00000\")&\" \"&SUBSTITUTE(C90,\":\",\"\")&\" (\"&TEXT(D90,\"TT.MM.JJJJ\")&\") - \"&E90&\" (\"&TEXT(F90,\"TT.MM.JJJJ\")&\") \"&H90&\"-\"&I90","v":"MRS 08204 The Devil's Advocate (22.01.1998) - Charlize Theron (07.08.1975) 22-168"}]
["tt0124315","nm0000234",{"$f":"_xlfn.XLOOKUP($A91,_xlfn.CHOOSECOLS(_xlfn.ANCHORARRAY(Filme!$G$1),2),_xlfn.CHOOSECOLS(_xlfn.ANCHORARRAY(Filme!$G$1),3),\"\",0,2)","v":"The Cider House Rules"},{"$f":"_xlfn.XLOOKUP($A91,_xlfn.CHOOSECOLS(_xlfn.ANCHORARRAY(Filme!$G$1),2),_xlfn.CHOOSECOLS(_xlfn.ANCHORARRAY(Filme!$G$1),4),\"\",0,2)","v":"2000-03-16"},{"$f":"_xlfn.XLOOKUP($B91,_xlfn.CHOOSECOLS(_xlfn.ANCHORARRAY(Leute!$F$1),2),_xlfn.CHOOSECOLS(_xlfn.ANCHORARRAY(Leute!$F$1),3),\"x\",0,2)","v":"Charlize Theron"},{"$f":"_xlfn.XLOOKUP($B91,_xlfn.CHOOSECOLS(_xlfn.ANCHORARRAY(Leute!$F$1),2),_xlfn.CHOOSECOLS(_xlfn.ANCHORARRAY(Leute!$F$1),4),\"x\",0,2)","v":"1975-08-07"},{"$f":"RANK(F91,F$1:F91,0)","v":14},{"$f":"DATEDIF(F91,D91,\"Y\")","v":24},{"$f":"DATEDIF(F91,D91,\"YD\")","v":222},{"$f":"D91-F91","v":8988},{"$f":"\"MRS \"&TEXT(J91,\"00000\")&\" \"&SUBSTITUTE(C91,\":\",\"\")&\" (\"&TEXT(D91,\"TT.MM.JJJJ\")&\") - \"&E91&\" (\"&TEXT(F91,\"TT.MM.JJJJ\")&\") \"&H91&\"-\"&I91","v":"MRS 08988 The Cider House Rules (16.03.2000) - Charlize Theron (07.08.1975) 24-222"}]
["tt0138946","nm0000234",{"$f":"_xlfn.XLOOKUP($A92,_xlfn.CHOOSECOLS(_xlfn.ANCHORARRAY(Filme!$G$1),2),_xlfn.CHOOSECOLS(_xlfn.ANCHORARRAY(Filme!$G$1),3),\"\",0,2)","v":"The Yards"},{"$f":"_xlfn.XLOOKUP($A92,_xlfn.CHOOSECOLS(_xlfn.ANCHORARRAY(Filme!$G$1),2),_xlfn.CHOOSECOLS(_xlfn.ANCHORARRAY(Filme!$G$1),4),\"\",0,2)","v":"2000-04-27"},{"$f":"_xlfn.XLOOKUP($B92,_xlfn.CHOOSECOLS(_xlfn.ANCHORARRAY(Leute!$F$1),2),_xlfn.CHOOSECOLS(_xlfn.ANCHORARRAY(Leute!$F$1),3),\"x\",0,2)","v":"Charlize Theron"},{"$f":"_xlfn.XLOOKUP($B92,_xlfn.CHOOSECOLS(_xlfn.ANCHORARRAY(Leute!$F$1),2),_xlfn.CHOOSECOLS(_xlfn.ANCHORARRAY(Leute!$F$1),4),\"x\",0,2)","v":"1975-08-07"},{"$f":"RANK(F92,F$1:F92,0)","v":14},{"$f":"DATEDIF(F92,D92,\"Y\")","v":24},{"$f":"DATEDIF(F92,D92,\"YD\")","v":264},{"$f":"D92-F92","v":9030},{"$f":"\"MRS \"&TEXT(J92,\"00000\")&\" \"&SUBSTITUTE(C92,\":\",\"\")&\" (\"&TEXT(D92,\"TT.MM.JJJJ\")&\") - \"&E92&\" (\"&TEXT(F92,\"TT.MM.JJJJ\")&\") \"&H92&\"-\"&I92","v":"MRS 09030 The Yards (27.04.2000) - Charlize Theron (07.08.1975) 24-264"}]
["tt0184858","nm0000234",{"$f":"_xlfn.XLOOKUP($A93,_xlfn.CHOOSECOLS(_xlfn.ANCHORARRAY(Filme!$G$1),2),_xlfn.CHOOSECOLS(_xlfn.ANCHORARRAY(Filme!$G$1),3),\"\",0,2)","v":"Reindeer Games"},{"$f":"_xlfn.XLOOKUP($A93,_xlfn.CHOOSECOLS(_xlfn.ANCHORARRAY(Filme!$G$1),2),_xlfn.CHOOSECOLS(_xlfn.ANCHORARRAY(Filme!$G$1),4),\"\",0,2)","v":"2000-12-07"},{"$f":"_xlfn.XLOOKUP($B93,_xlfn.CHOOSECOLS(_xlfn.ANCHORARRAY(Leute!$F$1),2),_xlfn.CHOOSECOLS(_xlfn.ANCHORARRAY(Leute!$F$1),3),\"x\",0,2)","v":"Charlize Theron"},{"$f":"_xlfn.XLOOKUP($B93,_xlfn.CHOOSECOLS(_xlfn.ANCHORARRAY(Leute!$F$1),2),_xlfn.CHOOSECOLS(_xlfn.ANCHORARRAY(Leute!$F$1),4),\"x\",0,2)","v":"1975-08-07"},{"$f":"RANK(F93,F$1:F93,0)","v":14},{"$f":"DATEDIF(F93,D93,\"Y\")","v":25},{"$f":"DATEDIF(F93,D93,\"YD\")","v":122},{"$f":"D93-F93","v":9254},{"$f":"\"MRS \"&TEXT(J93,\"00000\")&\" \"&SUBSTITUTE(C93,\":\",\"\")&\" (\"&TEXT(D93,\"TT.MM.JJJJ\")&\") - \"&E93&\" (\"&TEXT(F93,\"TT.MM.JJJJ\")&\") \"&H93&\"-\"&I93","v":"MRS 09254 Reindeer Games (07.12.2000) - Charlize Theron (07.08.1975) 25-122"}]
["tt0230838","nm0000234",{"$f":"_xlfn.XLOOKUP($A94,_xlfn.CHOOSECOLS(_xlfn.ANCHORARRAY(Filme!$G$1),2),_xlfn.CHOOSECOLS(_xlfn.ANCHORARRAY(Filme!$G$1),3),\"\",0,2)","v":"Sweet November"},{"$f":"_xlfn.XLOOKUP($A94,_xlfn.CHOOSECOLS(_xlfn.ANCHORARRAY(Filme!$G$1),2),_xlfn.CHOOSECOLS(_xlfn.ANCHORARRAY(Filme!$G$1),4),\"\",0,2)","v":"2001-08-02"},{"$f":"_xlfn.XLOOKUP($B94,_xlfn.CHOOSECOLS(_xlfn.ANCHORARRAY(Leute!$F$1),2),_xlfn.CHOOSECOLS(_xlfn.ANCHORARRAY(Leute!$F$1),3),\"x\",0,2)","v":"Charlize Theron"},{"$f":"_xlfn.XLOOKUP($B94,_xlfn.CHOOSECOLS(_xlfn.ANCHORARRAY(Leute!$F$1),2),_xlfn.CHOOSECOLS(_xlfn.ANCHORARRAY(Leute!$F$1),4),\"x\",0,2)","v":"1975-08-07"},{"$f":"RANK(F94,F$1:F94,0)","v":14},{"$f":"DATEDIF(F94,D94,\"Y\")","v":25},{"$f":"DATEDIF(F94,D94,\"YD\")","v":361},{"$f":"D94-F94","v":9492},{"$f":"\"MRS \"&TEXT(J94,\"00000\")&\" \"&SUBSTITUTE(C94,\":\",\"\")&\" (\"&TEXT(D94,\"TT.MM.JJJJ\")&\") - \"&E94&\" (\"&TEXT(F94,\"TT.MM.JJJJ\")&\") \"&H94&\"-\"&I94","v":"MRS 09492 Sweet November (02.08.2001) - Charlize Theron (07.08.1975) 25-361"}]
["tt0280380","nm0000234",{"$f":"_xlfn.XLOOKUP($A95,_xlfn.CHOOSECOLS(_xlfn.ANCHORARRAY(Filme!$G$1),2),_xlfn.CHOOSECOLS(_xlfn.ANCHORARRAY(Filme!$G$1),3),\"\",0,2)","v":"Trapped"},{"$f":"_xlfn.XLOOKUP($A95,_xlfn.CHOOSECOLS(_xlfn.ANCHORARRAY(Filme!$G$1),2),_xlfn.CHOOSECOLS(_xlfn.ANCHORARRAY(Filme!$G$1),4),\"\",0,2)","v":"2003-03-27"},{"$f":"_xlfn.XLOOKUP($B95,_xlfn.CHOOSECOLS(_xlfn.ANCHORARRAY(Leute!$F$1),2),_xlfn.CHOOSECOLS(_xlfn.ANCHORARRAY(Leute!$F$1),3),\"x\",0,2)","v":"Charlize Theron"},{"$f":"_xlfn.XLOOKUP($B95,_xlfn.CHOOSECOLS(_xlfn.ANCHORARRAY(Leute!$F$1),2),_xlfn.CHOOSECOLS(_xlfn.ANCHORARRAY(Leute!$F$1),4),\"x\",0,2)","v":"1975-08-07"},{"$f":"RANK(F95,F$1:F95,0)","v":14},{"$f":"DATEDIF(F95,D95,\"Y\")","v":27},{"$f":"DATEDIF(F95,D95,\"YD\")","v":233},{"$f":"D95-F95","v":10094},{"$f":"\"MRS \"&TEXT(J95,\"00000\")&\" \"&SUBSTITUTE(C95,\":\",\"\")&\" (\"&TEXT(D95,\"TT.MM.JJJJ\")&\") - \"&E95&\" (\"&TEXT(F95,\"TT.MM.JJJJ\")&\") \"&H95&\"-\"&I95","v":"MRS 10094 Trapped (27.03.2003) - Charlize Theron (07.08.1975) 27-233"}]
["tt0338097","nm0000234",{"$f":"_xlfn.XLOOKUP($A96,_xlfn.CHOOSECOLS(_xlfn.ANCHORARRAY(Filme!$G$1),2),_xlfn.CHOOSECOLS(_xlfn.ANCHORARRAY(Filme!$G$1),3),\"\",0,2)","v":"Head in the Clouds"},{"$f":"_xlfn.XLOOKUP($A96,_xlfn.CHOOSECOLS(_xlfn.ANCHORARRAY(Filme!$G$1),2),_xlfn.CHOOSECOLS(_xlfn.ANCHORARRAY(Filme!$G$1),4),\"\",0,2)","v":"2004-11-18"},{"$f":"_xlfn.XLOOKUP($B96,_xlfn.CHOOSECOLS(_xlfn.ANCHORARRAY(Leute!$F$1),2),_xlfn.CHOOSECOLS(_xlfn.ANCHORARRAY(Leute!$F$1),3),\"x\",0,2)","v":"Charlize Theron"},{"$f":"_xlfn.XLOOKUP($B96,_xlfn.CHOOSECOLS(_xlfn.ANCHORARRAY(Leute!$F$1),2),_xlfn.CHOOSECOLS(_xlfn.ANCHORARRAY(Leute!$F$1),4),\"x\",0,2)","v":"1975-08-07"},{"$f":"RANK(F96,F$1:F96,0)","v":14},{"$f":"DATEDIF(F96,D96,\"Y\")","v":29},{"$f":"DATEDIF(F96,D96,\"YD\")","v":103},{"$f":"D96-F96","v":10696},{"$f":"\"MRS \"&TEXT(J96,\"00000\")&\" \"&SUBSTITUTE(C96,\":\",\"\")&\" (\"&TEXT(D96,\"TT.MM.JJJJ\")&\") - \"&E96&\" (\"&TEXT(F96,\"TT.MM.JJJJ\")&\") \"&H96&\"-\"&I96","v":"MRS 10696 Head in the Clouds (18.11.2004) - Charlize Theron (07.08.1975) 29-103"}]
["tt0340855","nm0000234",{"$f":"_xlfn.XLOOKUP($A97,_xlfn.CHOOSECOLS(_xlfn.ANCHORARRAY(Filme!$G$1),2),_xlfn.CHOOSECOLS(_xlfn.ANCHORARRAY(Filme!$G$1),3),\"\",0,2)","v":"Monster"},{"$f":"_xlfn.XLOOKUP($A97,_xlfn.CHOOSECOLS(_xlfn.ANCHORARRAY(Filme!$G$1),2),_xlfn.CHOOSECOLS(_xlfn.ANCHORARRAY(Filme!$G$1),4),\"\",0,2)","v":"2004-04-15"},{"$f":"_xlfn.XLOOKUP($B97,_xlfn.CHOOSECOLS(_xlfn.ANCHORARRAY(Leute!$F$1),2),_xlfn.CHOOSECOLS(_xlfn.ANCHORARRAY(Leute!$F$1),3),\"x\",0,2)","v":"Charlize Theron"},{"$f":"_xlfn.XLOOKUP($B97,_xlfn.CHOOSECOLS(_xlfn.ANCHORARRAY(Leute!$F$1),2),_xlfn.CHOOSECOLS(_xlfn.ANCHORARRAY(Leute!$F$1),4),\"x\",0,2)","v":"1975-08-07"},{"$f":"RANK(F97,F$1:F97,0)","v":14},{"$f":"DATEDIF(F97,D97,\"Y\")","v":28},{"$f":"DATEDIF(F97,D97,\"YD\")","v":252},{"$f":"D97-F97","v":10479},{"$f":"\"MRS \"&TEXT(J97,\"00000\")&\" \"&SUBSTITUTE(C97,\":\",\"\")&\" (\"&TEXT(D97,\"TT.MM.JJJJ\")&\") - \"&E97&\" (\"&TEXT(F97,\"TT.MM.JJJJ\")&\") \"&H97&\"-\"&I97","v":"MRS 10479 Monster (15.04.2004) - Charlize Theron (07.08.1975) 28-252"}]
["tt0352520","nm0000234",{"$f":"_xlfn.XLOOKUP($A98,_xlfn.CHOOSECOLS(_xlfn.ANCHORARRAY(Filme!$G$1),2),_xlfn.CHOOSECOLS(_xlfn.ANCHORARRAY(Filme!$G$1),3),\"\",0,2)","v":"The Life and Death of Peter Sellers"},{"$f":"_xlfn.XLOOKUP($A98,_xlfn.CHOOSECOLS(_xlfn.ANCHORARRAY(Filme!$G$1),2),_xlfn.CHOOSECOLS(_xlfn.ANCHORARRAY(Filme!$G$1),4),\"\",0,2)","v":"2005-04-28"},{"$f":"_xlfn.XLOOKUP($B98,_xlfn.CHOOSECOLS(_xlfn.ANCHORARRAY(Leute!$F$1),2),_xlfn.CHOOSECOLS(_xlfn.ANCHORARRAY(Leute!$F$1),3),\"x\",0,2)","v":"Charlize Theron"},{"$f":"_xlfn.XLOOKUP($B98,_xlfn.CHOOSECOLS(_xlfn.ANCHORARRAY(Leute!$F$1),2),_xlfn.CHOOSECOLS(_xlfn.ANCHORARRAY(Leute!$F$1),4),\"x\",0,2)","v":"1975-08-07"},{"$f":"RANK(F98,F$1:F98,0)","v":14},{"$f":"DATEDIF(F98,D98,\"Y\")","v":29},{"$f":"DATEDIF(F98,D98,\"YD\")","v":265},{"$f":"D98-F98","v":10857},{"$f":"\"MRS \"&TEXT(J98,\"00000\")&\" \"&SUBSTITUTE(C98,\":\",\"\")&\" (\"&TEXT(D98,\"TT.MM.JJJJ\")&\") - \"&E98&\" (\"&TEXT(F98,\"TT.MM.JJJJ\")&\") \"&H98&\"-\"&I98","v":"MRS 10857 The Life and Death of Peter Sellers (28.04.2005) - Charlize Theron (07.08.1975) 29-265"}]
["tt0402022","nm0000234",{"$f":"_xlfn.XLOOKUP($A99,_xlfn.CHOOSECOLS(_xlfn.ANCHORARRAY(Filme!$G$1),2),_xlfn.CHOOSECOLS(_xlfn.ANCHORARRAY(Filme!$G$1),3),\"\",0,2)","v":"Æon Flux"},{"$f":"_xlfn.XLOOKUP($A99,_xlfn.CHOOSECOLS(_xlfn.ANCHORARRAY(Filme!$G$1),2),_xlfn.CHOOSECOLS(_xlfn.ANCHORARRAY(Filme!$G$1),4),\"\",0,2)","v":"2006-02-16"},{"$f":"_xlfn.XLOOKUP($B99,_xlfn.CHOOSECOLS(_xlfn.ANCHORARRAY(Leute!$F$1),2),_xlfn.CHOOSECOLS(_xlfn.ANCHORARRAY(Leute!$F$1),3),\"x\",0,2)","v":"Charlize Theron"},{"$f":"_xlfn.XLOOKUP($B99,_xlfn.CHOOSECOLS(_xlfn.ANCHORARRAY(Leute!$F$1),2),_xlfn.CHOOSECOLS(_xlfn.ANCHORARRAY(Leute!$F$1),4),\"x\",0,2)","v":"1975-08-07"},{"$f":"RANK(F99,F$1:F99,0)","v":14},{"$f":"DATEDIF(F99,D99,\"Y\")","v":30},{"$f":"DATEDIF(F99,D99,\"YD\")","v":193},{"$f":"D99-F99","v":11151},{"$f":"\"MRS \"&TEXT(J99,\"00000\")&\" \"&SUBSTITUTE(C99,\":\",\"\")&\" (\"&TEXT(D99,\"TT.MM.JJJJ\")&\") - \"&E99&\" (\"&TEXT(F99,\"TT.MM.JJJJ\")&\") \"&H99&\"-\"&I99","v":"MRS 11151 Æon Flux (16.02.2006) - Charlize Theron (07.08.1975) 30-193"}]
["tt1068641","nm0000234",{"$f":"_xlfn.XLOOKUP($A100,_xlfn.CHOOSECOLS(_xlfn.ANCHORARRAY(Filme!$G$1),2),_xlfn.CHOOSECOLS(_xlfn.ANCHORARRAY(Filme!$G$1),3),\"\",0,2)","v":"The Burning Plain"},{"$f":"_xlfn.XLOOKUP($A100,_xlfn.CHOOSECOLS(_xlfn.ANCHORARRAY(Filme!$G$1),2),_xlfn.CHOOSECOLS(_xlfn.ANCHORARRAY(Filme!$G$1),4),\"\",0,2)","v":"2011-05-26"},{"$f":"_xlfn.XLOOKUP($B100,_xlfn.CHOOSECOLS(_xlfn.ANCHORARRAY(Leute!$F$1),2),_xlfn.CHOOSECOLS(_xlfn.ANCHORARRAY(Leute!$F$1),3),\"x\",0,2)","v":"Charlize Theron"},{"$f":"_xlfn.XLOOKUP($B100,_xlfn.CHOOSECOLS(_xlfn.ANCHORARRAY(Leute!$F$1),2),_xlfn.CHOOSECOLS(_xlfn.ANCHORARRAY(Leute!$F$1),4),\"x\",0,2)","v":"1975-08-07"},{"$f":"RANK(F100,F$1:F100,0)","v":14},{"$f":"DATEDIF(F100,D100,\"Y\")","v":35},{"$f":"DATEDIF(F100,D100,\"YD\")","v":293},{"$f":"D100-F100","v":13076},{"$f":"\"MRS \"&TEXT(J100,\"00000\")&\" \"&SUBSTITUTE(C100,\":\",\"\")&\" (\"&TEXT(D100,\"TT.MM.JJJJ\")&\") - \"&E100&\" (\"&TEXT(F100,\"TT.MM.JJJJ\")&\") \"&H100&\"-\"&I100","v":"MRS 13076 The Burning Plain (26.05.2011) - Charlize Theron (07.08.1975) 35-293"}]
["tt2406566","nm0000234",{"$f":"_xlfn.XLOOKUP($A101,_xlfn.CHOOSECOLS(_xlfn.ANCHORARRAY(Filme!$G$1),2),_xlfn.CHOOSECOLS(_xlfn.ANCHORARRAY(Filme!$G$1),3),\"\",0,2)","v":"Atomic Blonde"},{"$f":"_xlfn.XLOOKUP($A101,_xlfn.CHOOSECOLS(_xlfn.ANCHORARRAY(Filme!$G$1),2),_xlfn.CHOOSECOLS(_xlfn.ANCHORARRAY(Filme!$G$1),4),\"\",0,2)","v":"2017-08-24"},{"$f":"_xlfn.XLOOKUP($B101,_xlfn.CHOOSECOLS(_xlfn.ANCHORARRAY(Leute!$F$1),2),_xlfn.CHOOSECOLS(_xlfn.ANCHORARRAY(Leute!$F$1),3),\"x\",0,2)","v":"Charlize Theron"},{"$f":"_xlfn.XLOOKUP($B101,_xlfn.CHOOSECOLS(_xlfn.ANCHORARRAY(Leute!$F$1),2),_xlfn.CHOOSECOLS(_xlfn.ANCHORARRAY(Leute!$F$1),4),\"x\",0,2)","v":"1975-08-07"},{"$f":"RANK(F101,F$1:F101,0)","v":14},{"$f":"DATEDIF(F101,D101,\"Y\")","v":42},{"$f":"DATEDIF(F101,D101,\"YD\")","v":17},{"$f":"D101-F101","v":15358},{"$f":"\"MRS \"&TEXT(J101,\"00000\")&\" \"&SUBSTITUTE(C101,\":\",\"\")&\" (\"&TEXT(D101,\"TT.MM.JJJJ\")&\") - \"&E101&\" (\"&TEXT(F101,\"TT.MM.JJJJ\")&\") \"&H101&\"-\"&I101","v":"MRS 15358 Atomic Blonde (24.08.2017) - Charlize Theron (07.08.1975) 42-17"}]
["tt3286560","nm0000234",{"$f":"_xlfn.XLOOKUP($A102,_xlfn.CHOOSECOLS(_xlfn.ANCHORARRAY(Filme!$G$1),2),_xlfn.CHOOSECOLS(_xlfn.ANCHORARRAY(Filme!$G$1),3),\"\",0,2)","v":"The Last Face"},{"$f":"_xlfn.XLOOKUP($A102,_xlfn.CHOOSECOLS(_xlfn.ANCHORARRAY(Filme!$G$1),2),_xlfn.CHOOSECOLS(_xlfn.ANCHORARRAY(Filme!$G$1),4),\"\",0,2)","v":"2017-07-28"},{"$f":"_xlfn.XLOOKUP($B102,_xlfn.CHOOSECOLS(_xlfn.ANCHORARRAY(Leute!$F$1),2),_xlfn.CHOOSECOLS(_xlfn.ANCHORARRAY(Leute!$F$1),3),\"x\",0,2)","v":"Charlize Theron"},{"$f":"_xlfn.XLOOKUP($B102,_xlfn.CHOOSECOLS(_xlfn.ANCHORARRAY(Leute!$F$1),2),_xlfn.CHOOSECOLS(_xlfn.ANCHORARRAY(Leute!$F$1),4),\"x\",0,2)","v":"1975-08-07"},{"$f":"RANK(F102,F$1:F102,0)","v":14},{"$f":"DATEDIF(F102,D102,\"Y\")","v":41},{"$f":"DATEDIF(F102,D102,\"YD\")","v":356},{"$f":"D102-F102","v":15331},{"$f":"\"MRS \"&TEXT(J102,\"00000\")&\" \"&SUBSTITUTE(C102,\":\",\"\")&\" (\"&TEXT(D102,\"TT.MM.JJJJ\")&\") - \"&E102&\" (\"&TEXT(F102,\"TT.MM.JJJJ\")&\") \"&H102&\"-\"&I102","v":"MRS 15331 The Last Face (28.07.2017) - Charlize Theron (07.08.1975) 41-356"}]
["tt9196186","nm0000234",{"$f":"_xlfn.XLOOKUP($A103,_xlfn.CHOOSECOLS(_xlfn.ANCHORARRAY(Filme!$G$1),2),_xlfn.CHOOSECOLS(_xlfn.ANCHORARRAY(Filme!$G$1),3),\"\",0,2)","v":"Dior J'adore: The New Absolu"},{"$f":"_xlfn.XLOOKUP($A103,_xlfn.CHOOSECOLS(_xlfn.ANCHORARRAY(Filme!$G$1),2),_xlfn.CHOOSECOLS(_xlfn.ANCHORARRAY(Filme!$G$1),4),\"\",0,2)","v":"2018-10-28"},{"$f":"_xlfn.XLOOKUP($B103,_xlfn.CHOOSECOLS(_xlfn.ANCHORARRAY(Leute!$F$1),2),_xlfn.CHOOSECOLS(_xlfn.ANCHORARRAY(Leute!$F$1),3),\"x\",0,2)","v":"Charlize Theron"},{"$f":"_xlfn.XLOOKUP($B103,_xlfn.CHOOSECOLS(_xlfn.ANCHORARRAY(Leute!$F$1),2),_xlfn.CHOOSECOLS(_xlfn.ANCHORARRAY(Leute!$F$1),4),\"x\",0,2)","v":"1975-08-07"},{"$f":"RANK(F103,F$1:F103,0)","v":14},{"$f":"DATEDIF(F103,D103,\"Y\")","v":43},{"$f":"DATEDIF(F103,D103,\"YD\")","v":82},{"$f":"D103-F103","v":15788},{"$f":"\"MRS \"&TEXT(J103,\"00000\")&\" \"&SUBSTITUTE(C103,\":\",\"\")&\" (\"&TEXT(D103,\"TT.MM.JJJJ\")&\") - \"&E103&\" (\"&TEXT(F103,\"TT.MM.JJJJ\")&\") \"&H103&\"-\"&I103","v":"MRS 15788 Dior J'adore The New Absolu (28.10.2018) - Charlize Theron (07.08.1975) 43-82"}]
["tt0117737","nm0000239",{"$f":"_xlfn.XLOOKUP($A104,_xlfn.CHOOSECOLS(_xlfn.ANCHORARRAY(Filme!$G$1),2),_xlfn.CHOOSECOLS(_xlfn.ANCHORARRAY(Filme!$G$1),3),\"\",0,2)","v":"Stealing Beauty"},{"$f":"_xlfn.XLOOKUP($A104,_xlfn.CHOOSECOLS(_xlfn.ANCHORARRAY(Filme!$G$1),2),_xlfn.CHOOSECOLS(_xlfn.ANCHORARRAY(Filme!$G$1),4),\"\",0,2)","v":"1996-09-26"},{"$f":"_xlfn.XLOOKUP($B104,_xlfn.CHOOSECOLS(_xlfn.ANCHORARRAY(Leute!$F$1),2),_xlfn.CHOOSECOLS(_xlfn.ANCHORARRAY(Leute!$F$1),3),\"x\",0,2)","v":"Liv Tyler"},{"$f":"_xlfn.XLOOKUP($B104,_xlfn.CHOOSECOLS(_xlfn.ANCHORARRAY(Leute!$F$1),2),_xlfn.CHOOSECOLS(_xlfn.ANCHORARRAY(Leute!$F$1),4),\"x\",0,2)","v":"1977-07-01"},{"$f":"RANK(F104,F$1:F104,0)","v":14},{"$f":"DATEDIF(F104,D104,\"Y\")","v":19},{"$f":"DATEDIF(F104,D104,\"YD\")","v":87},{"$f":"D104-F104","v":7027},{"$f":"\"MRS \"&TEXT(J104,\"00000\")&\" \"&SUBSTITUTE(C104,\":\",\"\")&\" (\"&TEXT(D104,\"TT.MM.JJJJ\")&\") - \"&E104&\" (\"&TEXT(F104,\"TT.MM.JJJJ\")&\") \"&H104&\"-\"&I104","v":"MRS 07027 Stealing Beauty (26.09.1996) - Liv Tyler (01.07.1977) 19-87"}]
["tt0203755","nm0000239",{"$f":"_xlfn.XLOOKUP($A105,_xlfn.CHOOSECOLS(_xlfn.ANCHORARRAY(Filme!$G$1),2),_xlfn.CHOOSECOLS(_xlfn.ANCHORARRAY(Filme!$G$1),3),\"\",0,2)","v":"One Night at McCool's"},{"$f":"_xlfn.XLOOKUP($A105,_xlfn.CHOOSECOLS(_xlfn.ANCHORARRAY(Filme!$G$1),2),_xlfn.CHOOSECOLS(_xlfn.ANCHORARRAY(Filme!$G$1),4),\"\",0,2)","v":"2001-04-26"},{"$f":"_xlfn.XLOOKUP($B105,_xlfn.CHOOSECOLS(_xlfn.ANCHORARRAY(Leute!$F$1),2),_xlfn.CHOOSECOLS(_xlfn.ANCHORARRAY(Leute!$F$1),3),\"x\",0,2)","v":"Liv Tyler"},{"$f":"_xlfn.XLOOKUP($B105,_xlfn.CHOOSECOLS(_xlfn.ANCHORARRAY(Leute!$F$1),2),_xlfn.CHOOSECOLS(_xlfn.ANCHORARRAY(Leute!$F$1),4),\"x\",0,2)","v":"1977-07-01"},{"$f":"RANK(F105,F$1:F105,0)","v":14},{"$f":"DATEDIF(F105,D105,\"Y\")","v":23},{"$f":"DATEDIF(F105,D105,\"YD\")","v":299},{"$f":"D105-F105","v":8700},{"$f":"\"MRS \"&TEXT(J105,\"00000\")&\" \"&SUBSTITUTE(C105,\":\",\"\")&\" (\"&TEXT(D105,\"TT.MM.JJJJ\")&\") - \"&E105&\" (\"&TEXT(F105,\"TT.MM.JJJJ\")&\") \"&H105&\"-\"&I105","v":"MRS 08700 One Night at McCool's (26.04.2001) - Liv Tyler (01.07.1977) 23-299"}]
["tt1535970","nm0000239",{"$f":"_xlfn.XLOOKUP($A106,_xlfn.CHOOSECOLS(_xlfn.ANCHORARRAY(Filme!$G$1),2),_xlfn.CHOOSECOLS(_xlfn.ANCHORARRAY(Filme!$G$1),3),\"\",0,2)","v":"The Ledge"},{"$f":"_xlfn.XLOOKUP($A106,_xlfn.CHOOSECOLS(_xlfn.ANCHORARRAY(Filme!$G$1),2),_xlfn.CHOOSECOLS(_xlfn.ANCHORARRAY(Filme!$G$1),4),\"\",0,2)","v":"2011-05-26"},{"$f":"_xlfn.XLOOKUP($B106,_xlfn.CHOOSECOLS(_xlfn.ANCHORARRAY(Leute!$F$1),2),_xlfn.CHOOSECOLS(_xlfn.ANCHORARRAY(Leute!$F$1),3),\"x\",0,2)","v":"Liv Tyler"},{"$f":"_xlfn.XLOOKUP($B106,_xlfn.CHOOSECOLS(_xlfn.ANCHORARRAY(Leute!$F$1),2),_xlfn.CHOOSECOLS(_xlfn.ANCHORARRAY(Leute!$F$1),4),\"x\",0,2)","v":"1977-07-01"},{"$f":"RANK(F106,F$1:F106,0)","v":14},{"$f":"DATEDIF(F106,D106,\"Y\")","v":33},{"$f":"DATEDIF(F106,D106,\"YD\")","v":329},{"$f":"D106-F106","v":12382},{"$f":"\"MRS \"&TEXT(J106,\"00000\")&\" \"&SUBSTITUTE(C106,\":\",\"\")&\" (\"&TEXT(D106,\"TT.MM.JJJJ\")&\") - \"&E106&\" (\"&TEXT(F106,\"TT.MM.JJJJ\")&\") \"&H106&\"-\"&I106","v":"MRS 12382 The Ledge (26.05.2011) - Liv Tyler (01.07.1977) 33-329"}]
["tt4550136","nm0000239",{"$f":"_xlfn.XLOOKUP($A107,_xlfn.CHOOSECOLS(_xlfn.ANCHORARRAY(Filme!$G$1),2),_xlfn.CHOOSECOLS(_xlfn.ANCHORARRAY(Filme!$G$1),3),\"\",0,2)","v":"The Leftovers"},{"$f":"_xlfn.XLOOKUP($A107,_xlfn.CHOOSECOLS(_xlfn.ANCHORARRAY(Filme!$G$1),2),_xlfn.CHOOSECOLS(_xlfn.ANCHORARRAY(Filme!$G$1),4),\"\",0,2)","v":"2016-01-01"},{"$f":"_xlfn.XLOOKUP($B107,_xlfn.CHOOSECOLS(_xlfn.ANCHORARRAY(Leute!$F$1),2),_xlfn.CHOOSECOLS(_xlfn.ANCHORARRAY(Leute!$F$1),3),\"x\",0,2)","v":"Liv Tyler"},{"$f":"_xlfn.XLOOKUP($B107,_xlfn.CHOOSECOLS(_xlfn.ANCHORARRAY(Leute!$F$1),2),_xlfn.CHOOSECOLS(_xlfn.ANCHORARRAY(Leute!$F$1),4),\"x\",0,2)","v":"1977-07-01"},{"$f":"RANK(F107,F$1:F107,0)","v":14},{"$f":"DATEDIF(F107,D107,\"Y\")","v":38},{"$f":"DATEDIF(F107,D107,\"YD\")","v":184},{"$f":"D107-F107","v":14063},{"$f":"\"MRS \"&TEXT(J107,\"00000\")&\" \"&SUBSTITUTE(C107,\":\",\"\")&\" (\"&TEXT(D107,\"TT.MM.JJJJ\")&\") - \"&E107&\" (\"&TEXT(F107,\"TT.MM.JJJJ\")&\") \"&H107&\"-\"&I107","v":"MRS 14063 The Leftovers (01.01.2016) - Liv Tyler (01.07.1977) 38-184"}]
["tt0243155","nm0000250",{"$f":"_xlfn.XLOOKUP($A108,_xlfn.CHOOSECOLS(_xlfn.ANCHORARRAY(Filme!$G$1),2),_xlfn.CHOOSECOLS(_xlfn.ANCHORARRAY(Filme!$G$1),3),\"\",0,2)","v":"Bridget Jones's Diary"},{"$f":"_xlfn.XLOOKUP($A108,_xlfn.CHOOSECOLS(_xlfn.ANCHORARRAY(Filme!$G$1),2),_xlfn.CHOOSECOLS(_xlfn.ANCHORARRAY(Filme!$G$1),4),\"\",0,2)","v":"2001-08-23"},{"$f":"_xlfn.XLOOKUP($B108,_xlfn.CHOOSECOLS(_xlfn.ANCHORARRAY(Leute!$F$1),2),_xlfn.CHOOSECOLS(_xlfn.ANCHORARRAY(Leute!$F$1),3),\"x\",0,2)","v":"Renée Zellweger"},{"$f":"_xlfn.XLOOKUP($B108,_xlfn.CHOOSECOLS(_xlfn.ANCHORARRAY(Leute!$F$1),2),_xlfn.CHOOSECOLS(_xlfn.ANCHORARRAY(Leute!$F$1),4),\"x\",0,2)","v":"1969-04-25"},{"$f":"RANK(F108,F$1:F108,0)","v":51},{"$f":"DATEDIF(F108,D108,\"Y\")","v":32},{"$f":"DATEDIF(F108,D108,\"YD\")","v":120},{"$f":"D108-F108","v":11808},{"$f":"\"MRS \"&TEXT(J108,\"00000\")&\" \"&SUBSTITUTE(C108,\":\",\"\")&\" (\"&TEXT(D108,\"TT.MM.JJJJ\")&\") - \"&E108&\" (\"&TEXT(F108,\"TT.MM.JJJJ\")&\") \"&H108&\"-\"&I108","v":"MRS 11808 Bridget Jones's Diary (23.08.2001) - Renée Zellweger (25.04.1969) 32-120"}]
["tt0800308","nm0000250",{"$f":"_xlfn.XLOOKUP($A109,_xlfn.CHOOSECOLS(_xlfn.ANCHORARRAY(Filme!$G$1),2),_xlfn.CHOOSECOLS(_xlfn.ANCHORARRAY(Filme!$G$1),3),\"\",0,2)","v":"Appaloosa"},{"$f":"_xlfn.XLOOKUP($A109,_xlfn.CHOOSECOLS(_xlfn.ANCHORARRAY(Filme!$G$1),2),_xlfn.CHOOSECOLS(_xlfn.ANCHORARRAY(Filme!$G$1),4),\"\",0,2)","v":"2008-10-03"},{"$f":"_xlfn.XLOOKUP($B109,_xlfn.CHOOSECOLS(_xlfn.ANCHORARRAY(Leute!$F$1),2),_xlfn.CHOOSECOLS(_xlfn.ANCHORARRAY(Leute!$F$1),3),\"x\",0,2)","v":"Renée Zellweger"},{"$f":"_xlfn.XLOOKUP($B109,_xlfn.CHOOSECOLS(_xlfn.ANCHORARRAY(Leute!$F$1),2),_xlfn.CHOOSECOLS(_xlfn.ANCHORARRAY(Leute!$F$1),4),\"x\",0,2)","v":"1969-04-25"},{"$f":"RANK(F109,F$1:F109,0)","v":51},{"$f":"DATEDIF(F109,D109,\"Y\")","v":39},{"$f":"DATEDIF(F109,D109,\"YD\")","v":161},{"$f":"D109-F109","v":14406},{"$f":"\"MRS \"&TEXT(J109,\"00000\")&\" \"&SUBSTITUTE(C109,\":\",\"\")&\" (\"&TEXT(D109,\"TT.MM.JJJJ\")&\") - \"&E109&\" (\"&TEXT(F109,\"TT.MM.JJJJ\")&\") \"&H109&\"-\"&I109","v":"MRS 14406 Appaloosa (03.10.2008) - Renée Zellweger (25.04.1969) 39-161"}]
["tt3503406","nm0000250",{"$f":"_xlfn.XLOOKUP($A110,_xlfn.CHOOSECOLS(_xlfn.ANCHORARRAY(Filme!$G$1),2),_xlfn.CHOOSECOLS(_xlfn.ANCHORARRAY(Filme!$G$1),3),\"\",0,2)","v":"The Whole Truth"},{"$f":"_xlfn.XLOOKUP($A110,_xlfn.CHOOSECOLS(_xlfn.ANCHORARRAY(Filme!$G$1),2),_xlfn.CHOOSECOLS(_xlfn.ANCHORARRAY(Filme!$G$1),4),\"\",0,2)","v":"2016-10-21"},{"$f":"_xlfn.XLOOKUP($B110,_xlfn.CHOOSECOLS(_xlfn.ANCHORARRAY(Leute!$F$1),2),_xlfn.CHOOSECOLS(_xlfn.ANCHORARRAY(Leute!$F$1),3),\"x\",0,2)","v":"Renée Zellweger"},{"$f":"_xlfn.XLOOKUP($B110,_xlfn.CHOOSECOLS(_xlfn.ANCHORARRAY(Leute!$F$1),2),_xlfn.CHOOSECOLS(_xlfn.ANCHORARRAY(Leute!$F$1),4),\"x\",0,2)","v":"1969-04-25"},{"$f":"RANK(F110,F$1:F110,0)","v":51},{"$f":"DATEDIF(F110,D110,\"Y\")","v":47},{"$f":"DATEDIF(F110,D110,\"YD\")","v":179},{"$f":"D110-F110","v":17346},{"$f":"\"MRS \"&TEXT(J110,\"00000\")&\" \"&SUBSTITUTE(C110,\":\",\"\")&\" (\"&TEXT(D110,\"TT.MM.JJJJ\")&\") - \"&E110&\" (\"&TEXT(F110,\"TT.MM.JJJJ\")&\") \"&H110&\"-\"&I110","v":"MRS 17346 The Whole Truth (21.10.2016) - Renée Zellweger (25.04.1969) 47-179"}]
["tt0111549","nm0000295",{"$f":"_xlfn.XLOOKUP($A111,_xlfn.CHOOSECOLS(_xlfn.ANCHORARRAY(Filme!$G$1),2),_xlfn.CHOOSECOLS(_xlfn.ANCHORARRAY(Filme!$G$1),3),\"\",0,2)","v":"Uncovered"},{"$f":"_xlfn.XLOOKUP($A111,_xlfn.CHOOSECOLS(_xlfn.ANCHORARRAY(Filme!$G$1),2),_xlfn.CHOOSECOLS(_xlfn.ANCHORARRAY(Filme!$G$1),4),\"\",0,2)","v":"1995-01-05"},{"$f":"_xlfn.XLOOKUP($B111,_xlfn.CHOOSECOLS(_xlfn.ANCHORARRAY(Leute!$F$1),2),_xlfn.CHOOSECOLS(_xlfn.ANCHORARRAY(Leute!$F$1),3),\"x\",0,2)","v":"Kate Beckinsale"},{"$f":"_xlfn.XLOOKUP($B111,_xlfn.CHOOSECOLS(_xlfn.ANCHORARRAY(Leute!$F$1),2),_xlfn.CHOOSECOLS(_xlfn.ANCHORARRAY(Leute!$F$1),4),\"x\",0,2)","v":"1973-07-26"},{"$f":"RANK(F111,F$1:F111,0)","v":35},{"$f":"DATEDIF(F111,D111,\"Y\")","v":21},{"$f":"DATEDIF(F111,D111,\"YD\")","v":163},{"$f":"D111-F111","v":7833},{"$f":"\"MRS \"&TEXT(J111,\"00000\")&\" \"&SUBSTITUTE(C111,\":\",\"\")&\" (\"&TEXT(D111,\"TT.MM.JJJJ\")&\") - \"&E111&\" (\"&TEXT(F111,\"TT.MM.JJJJ\")&\") \"&H111&\"-\"&I111","v":"MRS 07833 Uncovered (05.01.1995) - Kate Beckinsale (26.07.1973) 21-163"}]
["tt0113269","nm0000295",{"$f":"_xlfn.XLOOKUP($A112,_xlfn.CHOOSECOLS(_xlfn.ANCHORARRAY(Filme!$G$1),2),_xlfn.CHOOSECOLS(_xlfn.ANCHORARRAY(Filme!$G$1),3),\"\",0,2)","v":"Haunted"},{"$f":"_xlfn.XLOOKUP($A112,_xlfn.CHOOSECOLS(_xlfn.ANCHORARRAY(Filme!$G$1),2),_xlfn.CHOOSECOLS(_xlfn.ANCHORARRAY(Filme!$G$1),4),\"\",0,2)","v":"1995-11-30"},{"$f":"_xlfn.XLOOKUP($B112,_xlfn.CHOOSECOLS(_xlfn.ANCHORARRAY(Leute!$F$1),2),_xlfn.CHOOSECOLS(_xlfn.ANCHORARRAY(Leute!$F$1),3),\"x\",0,2)","v":"Kate Beckinsale"},{"$f":"_xlfn.XLOOKUP($B112,_xlfn.CHOOSECOLS(_xlfn.ANCHORARRAY(Leute!$F$1),2),_xlfn.CHOOSECOLS(_xlfn.ANCHORARRAY(Leute!$F$1),4),\"x\",0,2)","v":"1973-07-26"},{"$f":"RANK(F112,F$1:F112,0)","v":35},{"$f":"DATEDIF(F112,D112,\"Y\")","v":22},{"$f":"DATEDIF(F112,D112,\"YD\")","v":127},{"$f":"D112-F112","v":8162},{"$f":"\"MRS \"&TEXT(J112,\"00000\")&\" \"&SUBSTITUTE(C112,\":\",\"\")&\" (\"&TEXT(D112,\"TT.MM.JJJJ\")&\") - \"&E112&\" (\"&TEXT(F112,\"TT.MM.JJJJ\")&\") \"&H112&\"-\"&I112","v":"MRS 08162 Haunted (30.11.1995) - Kate Beckinsale (26.07.1973) 22-127"}]
["tt0401855","nm0000295",{"$f":"_xlfn.XLOOKUP($A113,_xlfn.CHOOSECOLS(_xlfn.ANCHORARRAY(Filme!$G$1),2),_xlfn.CHOOSECOLS(_xlfn.ANCHORARRAY(Filme!$G$1),3),\"\",0,2)","v":"Underworld: Evolution"},{"$f":"_xlfn.XLOOKUP($A113,_xlfn.CHOOSECOLS(_xlfn.ANCHORARRAY(Filme!$G$1),2),_xlfn.CHOOSECOLS(_xlfn.ANCHORARRAY(Filme!$G$1),4),\"\",0,2)","v":"2006-03-02"},{"$f":"_xlfn.XLOOKUP($B113,_xlfn.CHOOSECOLS(_xlfn.ANCHORARRAY(Leute!$F$1),2),_xlfn.CHOOSECOLS(_xlfn.ANCHORARRAY(Leute!$F$1),3),\"x\",0,2)","v":"Kate Beckinsale"},{"$f":"_xlfn.XLOOKUP($B113,_xlfn.CHOOSECOLS(_xlfn.ANCHORARRAY(Leute!$F$1),2),_xlfn.CHOOSECOLS(_xlfn.ANCHORARRAY(Leute!$F$1),4),\"x\",0,2)","v":"1973-07-26"},{"$f":"RANK(F113,F$1:F113,0)","v":35},{"$f":"DATEDIF(F113,D113,\"Y\")","v":32},{"$f":"DATEDIF(F113,D113,\"YD\")","v":219},{"$f":"D113-F113","v":11907},{"$f":"\"MRS \"&TEXT(J113,\"00000\")&\" \"&SUBSTITUTE(C113,\":\",\"\")&\" (\"&TEXT(D113,\"TT.MM.JJJJ\")&\") - \"&E113&\" (\"&TEXT(F113,\"TT.MM.JJJJ\")&\") \"&H113&\"-\"&I113","v":"MRS 11907 Underworld Evolution (02.03.2006) - Kate Beckinsale (26.07.1973) 32-219"}]
["tt0119517","nm0000312",{"$f":"_xlfn.XLOOKUP($A114,_xlfn.CHOOSECOLS(_xlfn.ANCHORARRAY(Filme!$G$1),2),_xlfn.CHOOSECOLS(_xlfn.ANCHORARRAY(Filme!$G$1),3),\"\",0,2)","v":"Your Friends and Neighbors"},{"$f":"_xlfn.XLOOKUP($A114,_xlfn.CHOOSECOLS(_xlfn.ANCHORARRAY(Filme!$G$1),2),_xlfn.CHOOSECOLS(_xlfn.ANCHORARRAY(Filme!$G$1),4),\"\",0,2)","v":"1998-08-21"},{"$f":"_xlfn.XLOOKUP($B114,_xlfn.CHOOSECOLS(_xlfn.ANCHORARRAY(Leute!$F$1),2),_xlfn.CHOOSECOLS(_xlfn.ANCHORARRAY(Leute!$F$1),3),\"x\",0,2)","v":"Amy Brenneman"},{"$f":"_xlfn.XLOOKUP($B114,_xlfn.CHOOSECOLS(_xlfn.ANCHORARRAY(Leute!$F$1),2),_xlfn.CHOOSECOLS(_xlfn.ANCHORARRAY(Leute!$F$1),4),\"x\",0,2)","v":"1964-06-22"},{"$f":"RANK(F114,F$1:F114,0)","v":96},{"$f":"DATEDIF(F114,D114,\"Y\")","v":34},{"$f":"DATEDIF(F114,D114,\"YD\")","v":60},{"$f":"D114-F114","v":12478},{"$f":"\"MRS \"&TEXT(J114,\"00000\")&\" \"&SUBSTITUTE(C114,\":\",\"\")&\" (\"&TEXT(D114,\"TT.MM.JJJJ\")&\") - \"&E114&\" (\"&TEXT(F114,\"TT.MM.JJJJ\")&\") \"&H114&\"-\"&I114","v":"MRS 12478 Your Friends and Neighbors (21.08.1998) - Amy Brenneman (22.06.1964) 34-60"}]
["tt0656383","nm0000312",{"$f":"_xlfn.XLOOKUP($A115,_xlfn.CHOOSECOLS(_xlfn.ANCHORARRAY(Filme!$G$1),2),_xlfn.CHOOSECOLS(_xlfn.ANCHORARRAY(Filme!$G$1),3),\"\",0,2)","v":"NYPD Blue"},{"$f":"_xlfn.XLOOKUP($A115,_xlfn.CHOOSECOLS(_xlfn.ANCHORARRAY(Filme!$G$1),2),_xlfn.CHOOSECOLS(_xlfn.ANCHORARRAY(Filme!$G$1),4),\"\",0,2)","v":"1994-09-05"},{"$f":"_xlfn.XLOOKUP($B115,_xlfn.CHOOSECOLS(_xlfn.ANCHORARRAY(Leute!$F$1),2),_xlfn.CHOOSECOLS(_xlfn.ANCHORARRAY(Leute!$F$1),3),\"x\",0,2)","v":"Amy Brenneman"},{"$f":"_xlfn.XLOOKUP($B115,_xlfn.CHOOSECOLS(_xlfn.ANCHORARRAY(Leute!$F$1),2),_xlfn.CHOOSECOLS(_xlfn.ANCHORARRAY(Leute!$F$1),4),\"x\",0,2)","v":"1964-06-22"},{"$f":"RANK(F115,F$1:F115,0)","v":96},{"$f":"DATEDIF(F115,D115,\"Y\")","v":30},{"$f":"DATEDIF(F115,D115,\"YD\")","v":75},{"$f":"D115-F115","v":11032},{"$f":"\"MRS \"&TEXT(J115,\"00000\")&\" \"&SUBSTITUTE(C115,\":\",\"\")&\" (\"&TEXT(D115,\"TT.MM.JJJJ\")&\") - \"&E115&\" (\"&TEXT(F115,\"TT.MM.JJJJ\")&\") \"&H115&\"-\"&I115","v":"MRS 11032 NYPD Blue (05.09.1994) - Amy Brenneman (22.06.1964) 30-75"}]
["tt0076033","nm0000350",{"$f":"_xlfn.XLOOKUP($A116,_xlfn.CHOOSECOLS(_xlfn.ANCHORARRAY(Filme!$G$1),2),_xlfn.CHOOSECOLS(_xlfn.ANCHORARRAY(Filme!$G$1),3),\"\",0,2)","v":"First Love"},{"$f":"_xlfn.XLOOKUP($A116,_xlfn.CHOOSECOLS(_xlfn.ANCHORARRAY(Filme!$G$1),2),_xlfn.CHOOSECOLS(_xlfn.ANCHORARRAY(Filme!$G$1),4),\"\",0,2)","v":"1978-04-14"},{"$f":"_xlfn.XLOOKUP($B116,_xlfn.CHOOSECOLS(_xlfn.ANCHORARRAY(Leute!$F$1),2),_xlfn.CHOOSECOLS(_xlfn.ANCHORARRAY(Leute!$F$1),3),\"x\",0,2)","v":"Beverly D'Angelo"},{"$f":"_xlfn.XLOOKUP($B116,_xlfn.CHOOSECOLS(_xlfn.ANCHORARRAY(Leute!$F$1),2),_xlfn.CHOOSECOLS(_xlfn.ANCHORARRAY(Leute!$F$1),4),\"x\",0,2)","v":"1951-11-15"},{"$f":"RANK(F116,F$1:F116,0)","v":116},{"$f":"DATEDIF(F116,D116,\"Y\")","v":26},{"$f":"DATEDIF(F116,D116,\"YD\")","v":151},{"$f":"D116-F116","v":9647},{"$f":"\"MRS \"&TEXT(J116,\"00000\")&\" \"&SUBSTITUTE(C116,\":\",\"\")&\" (\"&TEXT(D116,\"TT.MM.JJJJ\")&\") - \"&E116&\" (\"&TEXT(F116,\"TT.MM.JJJJ\")&\") \"&H116&\"-\"&I116","v":"MRS 09647 First Love (14.04.1978) - Beverly D'Angelo (15.11.1951) 26-151"}]
["tt0076683","nm0000350",{"$f":"_xlfn.XLOOKUP($A117,_xlfn.CHOOSECOLS(_xlfn.ANCHORARRAY(Filme!$G$1),2),_xlfn.CHOOSECOLS(_xlfn.ANCHORARRAY(Filme!$G$1),3),\"\",0,2)","v":"The Sentinel"},{"$f":"_xlfn.XLOOKUP($A117,_xlfn.CHOOSECOLS(_xlfn.ANCHORARRAY(Filme!$G$1),2),_xlfn.CHOOSECOLS(_xlfn.ANCHORARRAY(Filme!$G$1),4),\"\",0,2)","v":"1977-05-12"},{"$f":"_xlfn.XLOOKUP($B117,_xlfn.CHOOSECOLS(_xlfn.ANCHORARRAY(Leute!$F$1),2),_xlfn.CHOOSECOLS(_xlfn.ANCHORARRAY(Leute!$F$1),3),\"x\",0,2)","v":"Beverly D'Angelo"},{"$f":"_xlfn.XLOOKUP($B117,_xlfn.CHOOSECOLS(_xlfn.ANCHORARRAY(Leute!$F$1),2),_xlfn.CHOOSECOLS(_xlfn.ANCHORARRAY(Leute!$F$1),4),\"x\",0,2)","v":"1951-11-15"},{"$f":"RANK(F117,F$1:F117,0)","v":116},{"$f":"DATEDIF(F117,D117,\"Y\")","v":25},{"$f":"DATEDIF(F117,D117,\"YD\")","v":179},{"$f":"D117-F117","v":9310},{"$f":"\"MRS \"&TEXT(J117,\"00000\")&\" \"&SUBSTITUTE(C117,\":\",\"\")&\" (\"&TEXT(D117,\"TT.MM.JJJJ\")&\") - \"&E117&\" (\"&TEXT(F117,\"TT.MM.JJJJ\")&\") \"&H117&\"-\"&I117","v":"MRS 09310 The Sentinel (12.05.1977) - Beverly D'Angelo (15.11.1951) 25-179"}]
["tt0079261","nm0000350",{"$f":"_xlfn.XLOOKUP($A118,_xlfn.CHOOSECOLS(_xlfn.ANCHORARRAY(Filme!$G$1),2),_xlfn.CHOOSECOLS(_xlfn.ANCHORARRAY(Filme!$G$1),3),\"\",0,2)","v":"Hair"},{"$f":"_xlfn.XLOOKUP($A118,_xlfn.CHOOSECOLS(_xlfn.ANCHORARRAY(Filme!$G$1),2),_xlfn.CHOOSECOLS(_xlfn.ANCHORARRAY(Filme!$G$1),4),\"\",0,2)","v":"1979-07-12"},{"$f":"_xlfn.XLOOKUP($B118,_xlfn.CHOOSECOLS(_xlfn.ANCHORARRAY(Leute!$F$1),2),_xlfn.CHOOSECOLS(_xlfn.ANCHORARRAY(Leute!$F$1),3),\"x\",0,2)","v":"Beverly D'Angelo"},{"$f":"_xlfn.XLOOKUP($B118,_xlfn.CHOOSECOLS(_xlfn.ANCHORARRAY(Leute!$F$1),2),_xlfn.CHOOSECOLS(_xlfn.ANCHORARRAY(Leute!$F$1),4),\"x\",0,2)","v":"1951-11-15"},{"$f":"RANK(F118,F$1:F118,0)","v":116},{"$f":"DATEDIF(F118,D118,\"Y\")","v":27},{"$f":"DATEDIF(F118,D118,\"YD\")","v":240},{"$f":"D118-F118","v":10101},{"$f":"\"MRS \"&TEXT(J118,\"00000\")&\" \"&SUBSTITUTE(C118,\":\",\"\")&\" (\"&TEXT(D118,\"TT.MM.JJJJ\")&\") - \"&E118&\" (\"&TEXT(F118,\"TT.MM.JJJJ\")&\") \"&H118&\"-\"&I118","v":"MRS 10101 Hair (12.07.1979) - Beverly D'Angelo (15.11.1951) 27-240"}]
["tt0085995","nm0000350",{"$f":"_xlfn.XLOOKUP($A119,_xlfn.CHOOSECOLS(_xlfn.ANCHORARRAY(Filme!$G$1),2),_xlfn.CHOOSECOLS(_xlfn.ANCHORARRAY(Filme!$G$1),3),\"\",0,2)","v":"National Lampoon's Vacation"},{"$f":"_xlfn.XLOOKUP($A119,_xlfn.CHOOSECOLS(_xlfn.ANCHORARRAY(Filme!$G$1),2),_xlfn.CHOOSECOLS(_xlfn.ANCHORARRAY(Filme!$G$1),4),\"\",0,2)","v":"1984-06-08"},{"$f":"_xlfn.XLOOKUP($B119,_xlfn.CHOOSECOLS(_xlfn.ANCHORARRAY(Leute!$F$1),2),_xlfn.CHOOSECOLS(_xlfn.ANCHORARRAY(Leute!$F$1),3),\"x\",0,2)","v":"Beverly D'Angelo"},{"$f":"_xlfn.XLOOKUP($B119,_xlfn.CHOOSECOLS(_xlfn.ANCHORARRAY(Leute!$F$1),2),_xlfn.CHOOSECOLS(_xlfn.ANCHORARRAY(Leute!$F$1),4),\"x\",0,2)","v":"1951-11-15"},{"$f":"RANK(F119,F$1:F119,0)","v":116},{"$f":"DATEDIF(F119,D119,\"Y\")","v":32},{"$f":"DATEDIF(F119,D119,\"YD\")","v":206},{"$f":"D119-F119","v":11894},{"$f":"\"MRS \"&TEXT(J119,\"00000\")&\" \"&SUBSTITUTE(C119,\":\",\"\")&\" (\"&TEXT(D119,\"TT.MM.JJJJ\")&\") - \"&E119&\" (\"&TEXT(F119,\"TT.MM.JJJJ\")&\") \"&H119&\"-\"&I119","v":"MRS 11894 National Lampoon's Vacation (08.06.1984) - Beverly D'Angelo (15.11.1951) 32-206"}]
["tt0100318","nm0000350",{"$f":"_xlfn.XLOOKUP($A120,_xlfn.CHOOSECOLS(_xlfn.ANCHORARRAY(Filme!$G$1),2),_xlfn.CHOOSECOLS(_xlfn.ANCHORARRAY(Filme!$G$1),3),\"\",0,2)","v":"Pacific Heights"},{"$f":"_xlfn.XLOOKUP($A120,_xlfn.CHOOSECOLS(_xlfn.ANCHORARRAY(Filme!$G$1),2),_xlfn.CHOOSECOLS(_xlfn.ANCHORARRAY(Filme!$G$1),4),\"\",0,2)","v":"1990-12-13"},{"$f":"_xlfn.XLOOKUP($B120,_xlfn.CHOOSECOLS(_xlfn.ANCHORARRAY(Leute!$F$1),2),_xlfn.CHOOSECOLS(_xlfn.ANCHORARRAY(Leute!$F$1),3),\"x\",0,2)","v":"Beverly D'Angelo"},{"$f":"_xlfn.XLOOKUP($B120,_xlfn.CHOOSECOLS(_xlfn.ANCHORARRAY(Leute!$F$1),2),_xlfn.CHOOSECOLS(_xlfn.ANCHORARRAY(Leute!$F$1),4),\"x\",0,2)","v":"1951-11-15"},{"$f":"RANK(F120,F$1:F120,0)","v":116},{"$f":"DATEDIF(F120,D120,\"Y\")","v":39},{"$f":"DATEDIF(F120,D120,\"YD\")","v":28},{"$f":"D120-F120","v":14273},{"$f":"\"MRS \"&TEXT(J120,\"00000\")&\" \"&SUBSTITUTE(C120,\":\",\"\")&\" (\"&TEXT(D120,\"TT.MM.JJJJ\")&\") - \"&E120&\" (\"&TEXT(F120,\"TT.MM.JJJJ\")&\") \"&H120&\"-\"&I120","v":"MRS 14273 Pacific Heights (13.12.1990) - Beverly D'Angelo (15.11.1951) 39-28"}]
["tt0102329","nm0000350",{"$f":"_xlfn.XLOOKUP($A121,_xlfn.CHOOSECOLS(_xlfn.ANCHORARRAY(Filme!$G$1),2),_xlfn.CHOOSECOLS(_xlfn.ANCHORARRAY(Filme!$G$1),3),\"\",0,2)","v":"Lonely Hearts"},{"$f":"_xlfn.XLOOKUP($A121,_xlfn.CHOOSECOLS(_xlfn.ANCHORARRAY(Filme!$G$1),2),_xlfn.CHOOSECOLS(_xlfn.ANCHORARRAY(Filme!$G$1),4),\"\",0,2)","v":"1993-10-16"},{"$f":"_xlfn.XLOOKUP($B121,_xlfn.CHOOSECOLS(_xlfn.ANCHORARRAY(Leute!$F$1),2),_xlfn.CHOOSECOLS(_xlfn.ANCHORARRAY(Leute!$F$1),3),\"x\",0,2)","v":"Beverly D'Angelo"},{"$f":"_xlfn.XLOOKUP($B121,_xlfn.CHOOSECOLS(_xlfn.ANCHORARRAY(Leute!$F$1),2),_xlfn.CHOOSECOLS(_xlfn.ANCHORARRAY(Leute!$F$1),4),\"x\",0,2)","v":"1951-11-15"},{"$f":"RANK(F121,F$1:F121,0)","v":116},{"$f":"DATEDIF(F121,D121,\"Y\")","v":41},{"$f":"DATEDIF(F121,D121,\"YD\")","v":336},{"$f":"D121-F121","v":15311},{"$f":"\"MRS \"&TEXT(J121,\"00000\")&\" \"&SUBSTITUTE(C121,\":\",\"\")&\" (\"&TEXT(D121,\"TT.MM.JJJJ\")&\") - \"&E121&\" (\"&TEXT(F121,\"TT.MM.JJJJ\")&\") \"&H121&\"-\"&I121","v":"MRS 15311 Lonely Hearts (16.10.1993) - Beverly D'Angelo (15.11.1951) 41-336"}]
["tt0111711","nm0000350",{"$f":"_xlfn.XLOOKUP($A122,_xlfn.CHOOSECOLS(_xlfn.ANCHORARRAY(Filme!$G$1),2),_xlfn.CHOOSECOLS(_xlfn.ANCHORARRAY(Filme!$G$1),3),\"\",0,2)","v":"Widow's Kiss"},{"$f":"_xlfn.XLOOKUP($A122,_xlfn.CHOOSECOLS(_xlfn.ANCHORARRAY(Filme!$G$1),2),_xlfn.CHOOSECOLS(_xlfn.ANCHORARRAY(Filme!$G$1),4),\"\",0,2)","v":"2005-11-08"},{"$f":"_xlfn.XLOOKUP($B122,_xlfn.CHOOSECOLS(_xlfn.ANCHORARRAY(Leute!$F$1),2),_xlfn.CHOOSECOLS(_xlfn.ANCHORARRAY(Leute!$F$1),3),\"x\",0,2)","v":"Beverly D'Angelo"},{"$f":"_xlfn.XLOOKUP($B122,_xlfn.CHOOSECOLS(_xlfn.ANCHORARRAY(Leute!$F$1),2),_xlfn.CHOOSECOLS(_xlfn.ANCHORARRAY(Leute!$F$1),4),\"x\",0,2)","v":"1951-11-15"},{"$f":"RANK(F122,F$1:F122,0)","v":116},{"$f":"DATEDIF(F122,D122,\"Y\")","v":53},{"$f":"DATEDIF(F122,D122,\"YD\")","v":359},{"$f":"D122-F122","v":19717},{"$f":"\"MRS \"&TEXT(J122,\"00000\")&\" \"&SUBSTITUTE(C122,\":\",\"\")&\" (\"&TEXT(D122,\"TT.MM.JJJJ\")&\") - \"&E122&\" (\"&TEXT(F122,\"TT.MM.JJJJ\")&\") \"&H122&\"-\"&I122","v":"MRS 19717 Widow's Kiss (08.11.2005) - Beverly D'Angelo (15.11.1951) 53-359"}]
["tt0247823","nm0000350",{"$f":"_xlfn.XLOOKUP($A123,_xlfn.CHOOSECOLS(_xlfn.ANCHORARRAY(Filme!$G$1),2),_xlfn.CHOOSECOLS(_xlfn.ANCHORARRAY(Filme!$G$1),3),\"\",0,2)","v":"Women in Film"},{"$f":"_xlfn.XLOOKUP($A123,_xlfn.CHOOSECOLS(_xlfn.ANCHORARRAY(Filme!$G$1),2),_xlfn.CHOOSECOLS(_xlfn.ANCHORARRAY(Filme!$G$1),4),\"\",0,2)","v":"2001-01-24"},{"$f":"_xlfn.XLOOKUP($B123,_xlfn.CHOOSECOLS(_xlfn.ANCHORARRAY(Leute!$F$1),2),_xlfn.CHOOSECOLS(_xlfn.ANCHORARRAY(Leute!$F$1),3),\"x\",0,2)","v":"Beverly D'Angelo"},{"$f":"_xlfn.XLOOKUP($B123,_xlfn.CHOOSECOLS(_xlfn.ANCHORARRAY(Leute!$F$1),2),_xlfn.CHOOSECOLS(_xlfn.ANCHORARRAY(Leute!$F$1),4),\"x\",0,2)","v":"1951-11-15"},{"$f":"RANK(F123,F$1:F123,0)","v":116},{"$f":"DATEDIF(F123,D123,\"Y\")","v":49},{"$f":"DATEDIF(F123,D123,\"YD\")","v":70},{"$f":"D123-F123","v":17968},{"$f":"\"MRS \"&TEXT(J123,\"00000\")&\" \"&SUBSTITUTE(C123,\":\",\"\")&\" (\"&TEXT(D123,\"TT.MM.JJJJ\")&\") - \"&E123&\" (\"&TEXT(F123,\"TT.MM.JJJJ\")&\") \"&H123&\"-\"&I123","v":"MRS 17968 Women in Film (24.01.2001) - Beverly D'Angelo (15.11.1951) 49-70"}]
["tt1716851","nm0000350",{"$f":"_xlfn.XLOOKUP($A124,_xlfn.CHOOSECOLS(_xlfn.ANCHORARRAY(Filme!$G$1),2),_xlfn.CHOOSECOLS(_xlfn.ANCHORARRAY(Filme!$G$1),3),\"\",0,2)","v":"Captains and the Kings"},{"$f":"_xlfn.XLOOKUP($A124,_xlfn.CHOOSECOLS(_xlfn.ANCHORARRAY(Filme!$G$1),2),_xlfn.CHOOSECOLS(_xlfn.ANCHORARRAY(Filme!$G$1),4),\"\",0,2)","v":"1976-10-14"},{"$f":"_xlfn.XLOOKUP($B124,_xlfn.CHOOSECOLS(_xlfn.ANCHORARRAY(Leute!$F$1),2),_xlfn.CHOOSECOLS(_xlfn.ANCHORARRAY(Leute!$F$1),3),\"x\",0,2)","v":"Beverly D'Angelo"},{"$f":"_xlfn.XLOOKUP($B124,_xlfn.CHOOSECOLS(_xlfn.ANCHORARRAY(Leute!$F$1),2),_xlfn.CHOOSECOLS(_xlfn.ANCHORARRAY(Leute!$F$1),4),\"x\",0,2)","v":"1951-11-15"},{"$f":"RANK(F124,F$1:F124,0)","v":116},{"$f":"DATEDIF(F124,D124,\"Y\")","v":24},{"$f":"DATEDIF(F124,D124,\"YD\")","v":334},{"$f":"D124-F124","v":9100},{"$f":"\"MRS \"&TEXT(J124,\"00000\")&\" \"&SUBSTITUTE(C124,\":\",\"\")&\" (\"&TEXT(D124,\"TT.MM.JJJJ\")&\") - \"&E124&\" (\"&TEXT(F124,\"TT.MM.JJJJ\")&\") \"&H124&\"-\"&I124","v":"MRS 09100 Captains and the Kings (14.10.1976) - Beverly D'Angelo (15.11.1951) 24-334"}]
["tt0422720","nm0000379",{"$f":"_xlfn.XLOOKUP($A125,_xlfn.CHOOSECOLS(_xlfn.ANCHORARRAY(Filme!$G$1),2),_xlfn.CHOOSECOLS(_xlfn.ANCHORARRAY(Filme!$G$1),3),\"\",0,2)","v":"Marie Antoinette"},{"$f":"_xlfn.XLOOKUP($A125,_xlfn.CHOOSECOLS(_xlfn.ANCHORARRAY(Filme!$G$1),2),_xlfn.CHOOSECOLS(_xlfn.ANCHORARRAY(Filme!$G$1),4),\"\",0,2)","v":"2006-11-02"},{"$f":"_xlfn.XLOOKUP($B125,_xlfn.CHOOSECOLS(_xlfn.ANCHORARRAY(Leute!$F$1),2),_xlfn.CHOOSECOLS(_xlfn.ANCHORARRAY(Leute!$F$1),3),\"x\",0,2)","v":"Kirsten Dunst"},{"$f":"_xlfn.XLOOKUP($B125,_xlfn.CHOOSECOLS(_xlfn.ANCHORARRAY(Leute!$F$1),2),_xlfn.CHOOSECOLS(_xlfn.ANCHORARRAY(Leute!$F$1),4),\"x\",0,2)","v":"1982-04-30"},{"$f":"RANK(F125,F$1:F125,0)","v":1},{"$f":"DATEDIF(F125,D125,\"Y\")","v":24},{"$f":"DATEDIF(F125,D125,\"YD\")","v":186},{"$f":"D125-F125","v":8952},{"$f":"\"MRS \"&TEXT(J125,\"00000\")&\" \"&SUBSTITUTE(C125,\":\",\"\")&\" (\"&TEXT(D125,\"TT.MM.JJJJ\")&\") - \"&E125&\" (\"&TEXT(F125,\"TT.MM.JJJJ\")&\") \"&H125&\"-\"&I125","v":"MRS 08952 Marie Antoinette (02.11.2006) - Kirsten Dunst (30.04.1982) 24-186"}]
["tt1175709","nm0000379",{"$f":"_xlfn.XLOOKUP($A126,_xlfn.CHOOSECOLS(_xlfn.ANCHORARRAY(Filme!$G$1),2),_xlfn.CHOOSECOLS(_xlfn.ANCHORARRAY(Filme!$G$1),3),\"\",0,2)","v":"All Good Things"},{"$f":"_xlfn.XLOOKUP($A126,_xlfn.CHOOSECOLS(_xlfn.ANCHORARRAY(Filme!$G$1),2),_xlfn.CHOOSECOLS(_xlfn.ANCHORARRAY(Filme!$G$1),4),\"\",0,2)","v":"2010-12-03"},{"$f":"_xlfn.XLOOKUP($B126,_xlfn.CHOOSECOLS(_xlfn.ANCHORARRAY(Leute!$F$1),2),_xlfn.CHOOSECOLS(_xlfn.ANCHORARRAY(Leute!$F$1),3),\"x\",0,2)","v":"Kirsten Dunst"},{"$f":"_xlfn.XLOOKUP($B126,_xlfn.CHOOSECOLS(_xlfn.ANCHORARRAY(Leute!$F$1),2),_xlfn.CHOOSECOLS(_xlfn.ANCHORARRAY(Leute!$F$1),4),\"x\",0,2)","v":"1982-04-30"},{"$f":"RANK(F126,F$1:F126,0)","v":1},{"$f":"DATEDIF(F126,D126,\"Y\")","v":28},{"$f":"DATEDIF(F126,D126,\"YD\")","v":217},{"$f":"D126-F126","v":10444},{"$f":"\"MRS \"&TEXT(J126,\"00000\")&\" \"&SUBSTITUTE(C126,\":\",\"\")&\" (\"&TEXT(D126,\"TT.MM.JJJJ\")&\") - \"&E126&\" (\"&TEXT(F126,\"TT.MM.JJJJ\")&\") \"&H126&\"-\"&I126","v":"MRS 10444 All Good Things (03.12.2010) - Kirsten Dunst (30.04.1982) 28-217"}]
["tt1527186","nm0000379",{"$f":"_xlfn.XLOOKUP($A127,_xlfn.CHOOSECOLS(_xlfn.ANCHORARRAY(Filme!$G$1),2),_xlfn.CHOOSECOLS(_xlfn.ANCHORARRAY(Filme!$G$1),3),\"\",0,2)","v":"Melancholia"},{"$f":"_xlfn.XLOOKUP($A127,_xlfn.CHOOSECOLS(_xlfn.ANCHORARRAY(Filme!$G$1),2),_xlfn.CHOOSECOLS(_xlfn.ANCHORARRAY(Filme!$G$1),4),\"\",0,2)","v":"2011-10-06"},{"$f":"_xlfn.XLOOKUP($B127,_xlfn.CHOOSECOLS(_xlfn.ANCHORARRAY(Leute!$F$1),2),_xlfn.CHOOSECOLS(_xlfn.ANCHORARRAY(Leute!$F$1),3),\"x\",0,2)","v":"Kirsten Dunst"},{"$f":"_xlfn.XLOOKUP($B127,_xlfn.CHOOSECOLS(_xlfn.ANCHORARRAY(Leute!$F$1),2),_xlfn.CHOOSECOLS(_xlfn.ANCHORARRAY(Leute!$F$1),4),\"x\",0,2)","v":"1982-04-30"},{"$f":"RANK(F127,F$1:F127,0)","v":1},{"$f":"DATEDIF(F127,D127,\"Y\")","v":29},{"$f":"DATEDIF(F127,D127,\"YD\")","v":159},{"$f":"D127-F127","v":10751},{"$f":"\"MRS \"&TEXT(J127,\"00000\")&\" \"&SUBSTITUTE(C127,\":\",\"\")&\" (\"&TEXT(D127,\"TT.MM.JJJJ\")&\") - \"&E127&\" (\"&TEXT(F127,\"TT.MM.JJJJ\")&\") \"&H127&\"-\"&I127","v":"MRS 10751 Melancholia (06.10.2011) - Kirsten Dunst (30.04.1982) 29-159"}]
["tt0066096","nm0000414",{"$f":"_xlfn.XLOOKUP($A128,_xlfn.CHOOSECOLS(_xlfn.ANCHORARRAY(Filme!$G$1),2),_xlfn.CHOOSECOLS(_xlfn.ANCHORARRAY(Filme!$G$1),3),\"\",0,2)","v":"The Moonshine War"},{"$f":"_xlfn.XLOOKUP($A128,_xlfn.CHOOSECOLS(_xlfn.ANCHORARRAY(Filme!$G$1),2),_xlfn.CHOOSECOLS(_xlfn.ANCHORARRAY(Filme!$G$1),4),\"\",0,2)","v":"1971-02-05"},{"$f":"_xlfn.XLOOKUP($B128,_xlfn.CHOOSECOLS(_xlfn.ANCHORARRAY(Leute!$F$1),2),_xlfn.CHOOSECOLS(_xlfn.ANCHORARRAY(Leute!$F$1),3),\"x\",0,2)","v":"Teri Garr"},{"$f":"_xlfn.XLOOKUP($B128,_xlfn.CHOOSECOLS(_xlfn.ANCHORARRAY(Leute!$F$1),2),_xlfn.CHOOSECOLS(_xlfn.ANCHORARRAY(Leute!$F$1),4),\"x\",0,2)","v":"1944-12-11"},{"$f":"RANK(F128,F$1:F128,0)","v":128},{"$f":"DATEDIF(F128,D128,\"Y\")","v":26},{"$f":"DATEDIF(F128,D128,\"YD\")","v":56},{"$f":"D128-F128","v":9552},{"$f":"\"MRS \"&TEXT(J128,\"00000\")&\" \"&SUBSTITUTE(C128,\":\",\"\")&\" (\"&TEXT(D128,\"TT.MM.JJJJ\")&\") - \"&E128&\" (\"&TEXT(F128,\"TT.MM.JJJJ\")&\") \"&H128&\"-\"&I128","v":"MRS 09552 The Moonshine War (05.02.1971) - Teri Garr (11.12.1944) 26-56"}]
["tt0084445","nm0000414",{"$f":"_xlfn.XLOOKUP($A129,_xlfn.CHOOSECOLS(_xlfn.ANCHORARRAY(Filme!$G$1),2),_xlfn.CHOOSECOLS(_xlfn.ANCHORARRAY(Filme!$G$1),3),\"\",0,2)","v":"One from the Heart"},{"$f":"_xlfn.XLOOKUP($A129,_xlfn.CHOOSECOLS(_xlfn.ANCHORARRAY(Filme!$G$1),2),_xlfn.CHOOSECOLS(_xlfn.ANCHORARRAY(Filme!$G$1),4),\"\",0,2)","v":"1982-09-30"},{"$f":"_xlfn.XLOOKUP($B129,_xlfn.CHOOSECOLS(_xlfn.ANCHORARRAY(Leute!$F$1),2),_xlfn.CHOOSECOLS(_xlfn.ANCHORARRAY(Leute!$F$1),3),\"x\",0,2)","v":"Teri Garr"},{"$f":"_xlfn.XLOOKUP($B129,_xlfn.CHOOSECOLS(_xlfn.ANCHORARRAY(Leute!$F$1),2),_xlfn.CHOOSECOLS(_xlfn.ANCHORARRAY(Leute!$F$1),4),\"x\",0,2)","v":"1944-12-11"},{"$f":"RANK(F129,F$1:F129,0)","v":128},{"$f":"DATEDIF(F129,D129,\"Y\")","v":37},{"$f":"DATEDIF(F129,D129,\"YD\")","v":293},{"$f":"D129-F129","v":13807},{"$f":"\"MRS \"&TEXT(J129,\"00000\")&\" \"&SUBSTITUTE(C129,\":\",\"\")&\" (\"&TEXT(D129,\"TT.MM.JJJJ\")&\") - \"&E129&\" (\"&TEXT(F129,\"TT.MM.JJJJ\")&\") \"&H129&\"-\"&I129","v":"MRS 13807 One from the Heart (30.09.1982) - Teri Garr (11.12.1944) 37-293"}]
["tt0090693","nm0000452",{"$f":"_xlfn.XLOOKUP($A130,_xlfn.CHOOSECOLS(_xlfn.ANCHORARRAY(Filme!$G$1),2),_xlfn.CHOOSECOLS(_xlfn.ANCHORARRAY(Filme!$G$1),3),\"\",0,2)","v":"Band of the Hand"},{"$f":"_xlfn.XLOOKUP($A130,_xlfn.CHOOSECOLS(_xlfn.ANCHORARRAY(Filme!$G$1),2),_xlfn.CHOOSECOLS(_xlfn.ANCHORARRAY(Filme!$G$1),4),\"\",0,2)","v":"1986-11-20"},{"$f":"_xlfn.XLOOKUP($B130,_xlfn.CHOOSECOLS(_xlfn.ANCHORARRAY(Leute!$F$1),2),_xlfn.CHOOSECOLS(_xlfn.ANCHORARRAY(Leute!$F$1),3),\"x\",0,2)","v":"Lauren Holly"},{"$f":"_xlfn.XLOOKUP($B130,_xlfn.CHOOSECOLS(_xlfn.ANCHORARRAY(Leute!$F$1),2),_xlfn.CHOOSECOLS(_xlfn.ANCHORARRAY(Leute!$F$1),4),\"x\",0,2)","v":"1963-10-28"},{"$f":"RANK(F130,F$1:F130,0)","v":101},{"$f":"DATEDIF(F130,D130,\"Y\")","v":23},{"$f":"DATEDIF(F130,D130,\"YD\")","v":23},{"$f":"D130-F130","v":8424},{"$f":"\"MRS \"&TEXT(J130,\"00000\")&\" \"&SUBSTITUTE(C130,\":\",\"\")&\" (\"&TEXT(D130,\"TT.MM.JJJJ\")&\") - \"&E130&\" (\"&TEXT(F130,\"TT.MM.JJJJ\")&\") \"&H130&\"-\"&I130","v":"MRS 08424 Band of the Hand (20.11.1986) - Lauren Holly (28.10.1963) 23-23"}]
["tt0106770","nm0000452",{"$f":"_xlfn.XLOOKUP($A131,_xlfn.CHOOSECOLS(_xlfn.ANCHORARRAY(Filme!$G$1),2),_xlfn.CHOOSECOLS(_xlfn.ANCHORARRAY(Filme!$G$1),3),\"\",0,2)","v":"Dragon: The Bruce Lee Story"},{"$f":"_xlfn.XLOOKUP($A131,_xlfn.CHOOSECOLS(_xlfn.ANCHORARRAY(Filme!$G$1),2),_xlfn.CHOOSECOLS(_xlfn.ANCHORARRAY(Filme!$G$1),4),\"\",0,2)","v":"1993-06-17"},{"$f":"_xlfn.XLOOKUP($B131,_xlfn.CHOOSECOLS(_xlfn.ANCHORARRAY(Leute!$F$1),2),_xlfn.CHOOSECOLS(_xlfn.ANCHORARRAY(Leute!$F$1),3),\"x\",0,2)","v":"Lauren Holly"},{"$f":"_xlfn.XLOOKUP($B131,_xlfn.CHOOSECOLS(_xlfn.ANCHORARRAY(Leute!$F$1),2),_xlfn.CHOOSECOLS(_xlfn.ANCHORARRAY(Leute!$F$1),4),\"x\",0,2)","v":"1963-10-28"},{"$f":"RANK(F131,F$1:F131,0)","v":101},{"$f":"DATEDIF(F131,D131,\"Y\")","v":29},{"$f":"DATEDIF(F131,D131,\"YD\")","v":233},{"$f":"D131-F131","v":10825},{"$f":"\"MRS \"&TEXT(J131,\"00000\")&\" \"&SUBSTITUTE(C131,\":\",\"\")&\" (\"&TEXT(D131,\"TT.MM.JJJJ\")&\") - \"&E131&\" (\"&TEXT(F131,\"TT.MM.JJJJ\")&\") \"&H131&\"-\"&I131","v":"MRS 10825 Dragon The Bruce Lee Story (17.06.1993) - Lauren Holly (28.10.1963) 29-233"}]
["tt0109686","nm0000452",{"$f":"_xlfn.XLOOKUP($A132,_xlfn.CHOOSECOLS(_xlfn.ANCHORARRAY(Filme!$G$1),2),_xlfn.CHOOSECOLS(_xlfn.ANCHORARRAY(Filme!$G$1),3),\"\",0,2)","v":"Dumb and Dumber"},{"$f":"_xlfn.XLOOKUP($A132,_xlfn.CHOOSECOLS(_xlfn.ANCHORARRAY(Filme!$G$1),2),_xlfn.CHOOSECOLS(_xlfn.ANCHORARRAY(Filme!$G$1),4),\"\",0,2)","v":"1995-04-06"},{"$f":"_xlfn.XLOOKUP($B132,_xlfn.CHOOSECOLS(_xlfn.ANCHORARRAY(Leute!$F$1),2),_xlfn.CHOOSECOLS(_xlfn.ANCHORARRAY(Leute!$F$1),3),\"x\",0,2)","v":"Lauren Holly"},{"$f":"_xlfn.XLOOKUP($B132,_xlfn.CHOOSECOLS(_xlfn.ANCHORARRAY(Leute!$F$1),2),_xlfn.CHOOSECOLS(_xlfn.ANCHORARRAY(Leute!$F$1),4),\"x\",0,2)","v":"1963-10-28"},{"$f":"RANK(F132,F$1:F132,0)","v":101},{"$f":"DATEDIF(F132,D132,\"Y\")","v":31},{"$f":"DATEDIF(F132,D132,\"YD\")","v":161},{"$f":"D132-F132","v":11483},{"$f":"\"MRS \"&TEXT(J132,\"00000\")&\" \"&SUBSTITUTE(C132,\":\",\"\")&\" (\"&TEXT(D132,\"TT.MM.JJJJ\")&\") - \"&E132&\" (\"&TEXT(F132,\"TT.MM.JJJJ\")&\") \"&H132&\"-\"&I132","v":"MRS 11483 Dumb and Dumber (06.04.1995) - Lauren Holly (28.10.1963) 31-161"}]
["tt0431058","nm0000452",{"$f":"_xlfn.XLOOKUP($A133,_xlfn.CHOOSECOLS(_xlfn.ANCHORARRAY(Filme!$G$1),2),_xlfn.CHOOSECOLS(_xlfn.ANCHORARRAY(Filme!$G$1),3),\"\",0,2)","v":"Fatwa"},{"$f":"_xlfn.XLOOKUP($A133,_xlfn.CHOOSECOLS(_xlfn.ANCHORARRAY(Filme!$G$1),2),_xlfn.CHOOSECOLS(_xlfn.ANCHORARRAY(Filme!$G$1),4),\"\",0,2)","v":"2006-03-24"},{"$f":"_xlfn.XLOOKUP($B133,_xlfn.CHOOSECOLS(_xlfn.ANCHORARRAY(Leute!$F$1),2),_xlfn.CHOOSECOLS(_xlfn.ANCHORARRAY(Leute!$F$1),3),\"x\",0,2)","v":"Lauren Holly"},{"$f":"_xlfn.XLOOKUP($B133,_xlfn.CHOOSECOLS(_xlfn.ANCHORARRAY(Leute!$F$1),2),_xlfn.CHOOSECOLS(_xlfn.ANCHORARRAY(Leute!$F$1),4),\"x\",0,2)","v":"1963-10-28"},{"$f":"RANK(F133,F$1:F133,0)","v":101},{"$f":"DATEDIF(F133,D133,\"Y\")","v":42},{"$f":"DATEDIF(F133,D133,\"YD\")","v":147},{"$f":"D133-F133","v":15488},{"$f":"\"MRS \"&TEXT(J133,\"00000\")&\" \"&SUBSTITUTE(C133,\":\",\"\")&\" (\"&TEXT(D133,\"TT.MM.JJJJ\")&\") - \"&E133&\" (\"&TEXT(F133,\"TT.MM.JJJJ\")&\") \"&H133&\"-\"&I133","v":"MRS 15488 Fatwa (24.03.2006) - Lauren Holly (28.10.1963) 42-147"}]
["tt1331329","nm0000452",{"$f":"_xlfn.XLOOKUP($A134,_xlfn.CHOOSECOLS(_xlfn.ANCHORARRAY(Filme!$G$1),2),_xlfn.CHOOSECOLS(_xlfn.ANCHORARRAY(Filme!$G$1),3),\"\",0,2)","v":"The Final Storm"},{"$f":"_xlfn.XLOOKUP($A134,_xlfn.CHOOSECOLS(_xlfn.ANCHORARRAY(Filme!$G$1),2),_xlfn.CHOOSECOLS(_xlfn.ANCHORARRAY(Filme!$G$1),4),\"\",0,2)","v":"2010-04-26"},{"$f":"_xlfn.XLOOKUP($B134,_xlfn.CHOOSECOLS(_xlfn.ANCHORARRAY(Leute!$F$1),2),_xlfn.CHOOSECOLS(_xlfn.ANCHORARRAY(Leute!$F$1),3),\"x\",0,2)","v":"Lauren Holly"},{"$f":"_xlfn.XLOOKUP($B134,_xlfn.CHOOSECOLS(_xlfn.ANCHORARRAY(Leute!$F$1),2),_xlfn.CHOOSECOLS(_xlfn.ANCHORARRAY(Leute!$F$1),4),\"x\",0,2)","v":"1963-10-28"},{"$f":"RANK(F134,F$1:F134,0)","v":101},{"$f":"DATEDIF(F134,D134,\"Y\")","v":46},{"$f":"DATEDIF(F134,D134,\"YD\")","v":181},{"$f":"D134-F134","v":16982},{"$f":"\"MRS \"&TEXT(J134,\"00000\")&\" \"&SUBSTITUTE(C134,\":\",\"\")&\" (\"&TEXT(D134,\"TT.MM.JJJJ\")&\") - \"&E134&\" (\"&TEXT(F134,\"TT.MM.JJJJ\")&\") \"&H134&\"-\"&I134","v":"MRS 16982 The Final Storm (26.04.2010) - Lauren Holly (28.10.1963) 46-181"}]
["tt0113690","nm0000463",{"$f":"_xlfn.XLOOKUP($A135,_xlfn.CHOOSECOLS(_xlfn.ANCHORARRAY(Filme!$G$1),2),_xlfn.CHOOSECOLS(_xlfn.ANCHORARRAY(Filme!$G$1),3),\"\",0,2)","v":"Lord of Illusions"},{"$f":"_xlfn.XLOOKUP($A135,_xlfn.CHOOSECOLS(_xlfn.ANCHORARRAY(Filme!$G$1),2),_xlfn.CHOOSECOLS(_xlfn.ANCHORARRAY(Filme!$G$1),4),\"\",0,2)","v":"1995-08-25"},{"$f":"_xlfn.XLOOKUP($B135,_xlfn.CHOOSECOLS(_xlfn.ANCHORARRAY(Leute!$F$1),2),_xlfn.CHOOSECOLS(_xlfn.ANCHORARRAY(Leute!$F$1),3),\"x\",0,2)","v":"Famke Janssen"},{"$f":"_xlfn.XLOOKUP($B135,_xlfn.CHOOSECOLS(_xlfn.ANCHORARRAY(Leute!$F$1),2),_xlfn.CHOOSECOLS(_xlfn.ANCHORARRAY(Leute!$F$1),4),\"x\",0,2)","v":"1964-11-05"},{"$f":"RANK(F135,F$1:F135,0)","v":99},{"$f":"DATEDIF(F135,D135,\"Y\")","v":30},{"$f":"DATEDIF(F135,D135,\"YD\")","v":293},{"$f":"D135-F135","v":11250},{"$f":"\"MRS \"&TEXT(J135,\"00000\")&\" \"&SUBSTITUTE(C135,\":\",\"\")&\" (\"&TEXT(D135,\"TT.MM.JJJJ\")&\") - \"&E135&\" (\"&TEXT(F135,\"TT.MM.JJJJ\")&\") \"&H135&\"-\"&I135","v":"MRS 11250 Lord of Illusions (25.08.1995) - Famke Janssen (05.11.1964) 30-293"}]
["tt0082352","nm0000492",{"$f":"_xlfn.XLOOKUP($A136,_xlfn.CHOOSECOLS(_xlfn.ANCHORARRAY(Filme!$G$1),2),_xlfn.CHOOSECOLS(_xlfn.ANCHORARRAY(Filme!$G$1),3),\"\",0,2)","v":"Eyes of a Stranger"},{"$f":"_xlfn.XLOOKUP($A136,_xlfn.CHOOSECOLS(_xlfn.ANCHORARRAY(Filme!$G$1),2),_xlfn.CHOOSECOLS(_xlfn.ANCHORARRAY(Filme!$G$1),4),\"\",0,2)","v":"1981-08-28"},{"$f":"_xlfn.XLOOKUP($B136,_xlfn.CHOOSECOLS(_xlfn.ANCHORARRAY(Leute!$F$1),2),_xlfn.CHOOSECOLS(_xlfn.ANCHORARRAY(Leute!$F$1),3),\"x\",0,2)","v":"Jennifer Jason Leigh"},{"$f":"_xlfn.XLOOKUP($B136,_xlfn.CHOOSECOLS(_xlfn.ANCHORARRAY(Leute!$F$1),2),_xlfn.CHOOSECOLS(_xlfn.ANCHORARRAY(Leute!$F$1),4),\"x\",0,2)","v":"1962-02-05"},{"$f":"RANK(F136,F$1:F136,0)","v":125},{"$f":"DATEDIF(F136,D136,\"Y\")","v":19},{"$f":"DATEDIF(F136,D136,\"YD\")","v":204},{"$f":"D136-F136","v":7144},{"$f":"\"MRS \"&TEXT(J136,\"00000\")&\" \"&SUBSTITUTE(C136,\":\",\"\")&\" (\"&TEXT(D136,\"TT.MM.JJJJ\")&\") - \"&E136&\" (\"&TEXT(F136,\"TT.MM.JJJJ\")&\") \"&H136&\"-\"&I136","v":"MRS 07144 Eyes of a Stranger (28.08.1981) - Jennifer Jason Leigh (05.02.1962) 19-204"}]
["tt0083929","nm0000492",{"$f":"_xlfn.XLOOKUP($A137,_xlfn.CHOOSECOLS(_xlfn.ANCHORARRAY(Filme!$G$1),2),_xlfn.CHOOSECOLS(_xlfn.ANCHORARRAY(Filme!$G$1),3),\"\",0,2)","v":"Fast Times at Ridgemont High"},{"$f":"_xlfn.XLOOKUP($A137,_xlfn.CHOOSECOLS(_xlfn.ANCHORARRAY(Filme!$G$1),2),_xlfn.CHOOSECOLS(_xlfn.ANCHORARRAY(Filme!$G$1),4),\"\",0,2)","v":"1982-12-16"},{"$f":"_xlfn.XLOOKUP($B137,_xlfn.CHOOSECOLS(_xlfn.ANCHORARRAY(Leute!$F$1),2),_xlfn.CHOOSECOLS(_xlfn.ANCHORARRAY(Leute!$F$1),3),\"x\",0,2)","v":"Jennifer Jason Leigh"},{"$f":"_xlfn.XLOOKUP($B137,_xlfn.CHOOSECOLS(_xlfn.ANCHORARRAY(Leute!$F$1),2),_xlfn.CHOOSECOLS(_xlfn.ANCHORARRAY(Leute!$F$1),4),\"x\",0,2)","v":"1962-02-05"},{"$f":"RANK(F137,F$1:F137,0)","v":125},{"$f":"DATEDIF(F137,D137,\"Y\")","v":20},{"$f":"DATEDIF(F137,D137,\"YD\")","v":314},{"$f":"D137-F137","v":7619},{"$f":"\"MRS \"&TEXT(J137,\"00000\")&\" \"&SUBSTITUTE(C137,\":\",\"\")&\" (\"&TEXT(D137,\"TT.MM.JJJJ\")&\") - \"&E137&\" (\"&TEXT(F137,\"TT.MM.JJJJ\")&\") \"&H137&\"-\"&I137","v":"MRS 07619 Fast Times at Ridgemont High (16.12.1982) - Jennifer Jason Leigh (05.02.1962) 20-314"}]
["tt0085595","nm0000492",{"$f":"_xlfn.XLOOKUP($A138,_xlfn.CHOOSECOLS(_xlfn.ANCHORARRAY(Filme!$G$1),2),_xlfn.CHOOSECOLS(_xlfn.ANCHORARRAY(Filme!$G$1),3),\"\",0,2)","v":"Girls of the White Orchid"},{"$f":"_xlfn.XLOOKUP($A138,_xlfn.CHOOSECOLS(_xlfn.ANCHORARRAY(Filme!$G$1),2),_xlfn.CHOOSECOLS(_xlfn.ANCHORARRAY(Filme!$G$1),4),\"\",0,2)","v":"1983-11-28"},{"$f":"_xlfn.XLOOKUP($B138,_xlfn.CHOOSECOLS(_xlfn.ANCHORARRAY(Leute!$F$1),2),_xlfn.CHOOSECOLS(_xlfn.ANCHORARRAY(Leute!$F$1),3),\"x\",0,2)","v":"Jennifer Jason Leigh"},{"$f":"_xlfn.XLOOKUP($B138,_xlfn.CHOOSECOLS(_xlfn.ANCHORARRAY(Leute!$F$1),2),_xlfn.CHOOSECOLS(_xlfn.ANCHORARRAY(Leute!$F$1),4),\"x\",0,2)","v":"1962-02-05"},{"$f":"RANK(F138,F$1:F138,0)","v":125},{"$f":"DATEDIF(F138,D138,\"Y\")","v":21},{"$f":"DATEDIF(F138,D138,\"YD\")","v":296},{"$f":"D138-F138","v":7966},{"$f":"\"MRS \"&TEXT(J138,\"00000\")&\" \"&SUBSTITUTE(C138,\":\",\"\")&\" (\"&TEXT(D138,\"TT.MM.JJJJ\")&\") - \"&E138&\" (\"&TEXT(F138,\"TT.MM.JJJJ\")&\") \"&H138&\"-\"&I138","v":"MRS 07966 Girls of the White Orchid (28.11.1983) - Jennifer Jason Leigh (05.02.1962) 21-296"}]
["tt0089153","nm0000492",{"$f":"_xlfn.XLOOKUP($A139,_xlfn.CHOOSECOLS(_xlfn.ANCHORARRAY(Filme!$G$1),2),_xlfn.CHOOSECOLS(_xlfn.ANCHORARRAY(Filme!$G$1),3),\"\",0,2)","v":"Flesh+Blood"},{"$f":"_xlfn.XLOOKUP($A139,_xlfn.CHOOSECOLS(_xlfn.ANCHORARRAY(Filme!$G$1),2),_xlfn.CHOOSECOLS(_xlfn.ANCHORARRAY(Filme!$G$1),4),\"\",0,2)","v":"1987-01-29"},{"$f":"_xlfn.XLOOKUP($B139,_xlfn.CHOOSECOLS(_xlfn.ANCHORARRAY(Leute!$F$1),2),_xlfn.CHOOSECOLS(_xlfn.ANCHORARRAY(Leute!$F$1),3),\"x\",0,2)","v":"Jennifer Jason Leigh"},{"$f":"_xlfn.XLOOKUP($B139,_xlfn.CHOOSECOLS(_xlfn.ANCHORARRAY(Leute!$F$1),2),_xlfn.CHOOSECOLS(_xlfn.ANCHORARRAY(Leute!$F$1),4),\"x\",0,2)","v":"1962-02-05"},{"$f":"RANK(F139,F$1:F139,0)","v":125},{"$f":"DATEDIF(F139,D139,\"Y\")","v":24},{"$f":"DATEDIF(F139,D139,\"YD\")","v":358},{"$f":"D139-F139","v":9124},{"$f":"\"MRS \"&TEXT(J139,\"00000\")&\" \"&SUBSTITUTE(C139,\":\",\"\")&\" (\"&TEXT(D139,\"TT.MM.JJJJ\")&\") - \"&E139&\" (\"&TEXT(F139,\"TT.MM.JJJJ\")&\") \"&H139&\"-\"&I139","v":"MRS 09124 Flesh+Blood (29.01.1987) - Jennifer Jason Leigh (05.02.1962) 24-358"}]
["tt0093980","nm0000492",{"$f":"_xlfn.XLOOKUP($A140,_xlfn.CHOOSECOLS(_xlfn.ANCHORARRAY(Filme!$G$1),2),_xlfn.CHOOSECOLS(_xlfn.ANCHORARRAY(Filme!$G$1),3),\"\",0,2)","v":"Sister Sister"},{"$f":"_xlfn.XLOOKUP($A140,_xlfn.CHOOSECOLS(_xlfn.ANCHORARRAY(Filme!$G$1),2),_xlfn.CHOOSECOLS(_xlfn.ANCHORARRAY(Filme!$G$1),4),\"\",0,2)","v":"1988-05-05"},{"$f":"_xlfn.XLOOKUP($B140,_xlfn.CHOOSECOLS(_xlfn.ANCHORARRAY(Leute!$F$1),2),_xlfn.CHOOSECOLS(_xlfn.ANCHORARRAY(Leute!$F$1),3),\"x\",0,2)","v":"Jennifer Jason Leigh"},{"$f":"_xlfn.XLOOKUP($B140,_xlfn.CHOOSECOLS(_xlfn.ANCHORARRAY(Leute!$F$1),2),_xlfn.CHOOSECOLS(_xlfn.ANCHORARRAY(Leute!$F$1),4),\"x\",0,2)","v":"1962-02-05"},{"$f":"RANK(F140,F$1:F140,0)","v":125},{"$f":"DATEDIF(F140,D140,\"Y\")","v":26},{"$f":"DATEDIF(F140,D140,\"YD\")","v":89},{"$f":"D140-F140","v":9586},{"$f":"\"MRS \"&TEXT(J140,\"00000\")&\" \"&SUBSTITUTE(C140,\":\",\"\")&\" (\"&TEXT(D140,\"TT.MM.JJJJ\")&\") - \"&E140&\" (\"&TEXT(F140,\"TT.MM.JJJJ\")&\") \"&H140&\"-\"&I140","v":"MRS 09586 Sister Sister (05.05.1988) - Jennifer Jason Leigh (05.02.1962) 26-89"}]
["tt0095286","nm0000492",{"$f":"_xlfn.XLOOKUP($A141,_xlfn.CHOOSECOLS(_xlfn.ANCHORARRAY(Filme!$G$1),2),_xlfn.CHOOSECOLS(_xlfn.ANCHORARRAY(Filme!$G$1),3),\"\",0,2)","v":"Heart of Midnight"},{"$f":"_xlfn.XLOOKUP($A141,_xlfn.CHOOSECOLS(_xlfn.ANCHORARRAY(Filme!$G$1),2),_xlfn.CHOOSECOLS(_xlfn.ANCHORARRAY(Filme!$G$1),4),\"\",0,2)","v":"1988-11-10"},{"$f":"_xlfn.XLOOKUP($B141,_xlfn.CHOOSECOLS(_xlfn.ANCHORARRAY(Leute!$F$1),2),_xlfn.CHOOSECOLS(_xlfn.ANCHORARRAY(Leute!$F$1),3),\"x\",0,2)","v":"Jennifer Jason Leigh"},{"$f":"_xlfn.XLOOKUP($B141,_xlfn.CHOOSECOLS(_xlfn.ANCHORARRAY(Leute!$F$1),2),_xlfn.CHOOSECOLS(_xlfn.ANCHORARRAY(Leute!$F$1),4),\"x\",0,2)","v":"1962-02-05"},{"$f":"RANK(F141,F$1:F141,0)","v":125},{"$f":"DATEDIF(F141,D141,\"Y\")","v":26},{"$f":"DATEDIF(F141,D141,\"YD\")","v":278},{"$f":"D141-F141","v":9775},{"$f":"\"MRS \"&TEXT(J141,\"00000\")&\" \"&SUBSTITUTE(C141,\":\",\"\")&\" (\"&TEXT(D141,\"TT.MM.JJJJ\")&\") - \"&E141&\" (\"&TEXT(F141,\"TT.MM.JJJJ\")&\") \"&H141&\"-\"&I141","v":"MRS 09775 Heart of Midnight (10.11.1988) - Jennifer Jason Leigh (05.02.1962) 26-278"}]
["tt0097714","nm0000492",{"$f":"_xlfn.XLOOKUP($A142,_xlfn.CHOOSECOLS(_xlfn.ANCHORARRAY(Filme!$G$1),2),_xlfn.CHOOSECOLS(_xlfn.ANCHORARRAY(Filme!$G$1),3),\"\",0,2)","v":"Last Exit to Brooklyn"},{"$f":"_xlfn.XLOOKUP($A142,_xlfn.CHOOSECOLS(_xlfn.ANCHORARRAY(Filme!$G$1),2),_xlfn.CHOOSECOLS(_xlfn.ANCHORARRAY(Filme!$G$1),4),\"\",0,2)","v":"1989-10-12"},{"$f":"_xlfn.XLOOKUP($B142,_xlfn.CHOOSECOLS(_xlfn.ANCHORARRAY(Leute!$F$1),2),_xlfn.CHOOSECOLS(_xlfn.ANCHORARRAY(Leute!$F$1),3),\"x\",0,2)","v":"Jennifer Jason Leigh"},{"$f":"_xlfn.XLOOKUP($B142,_xlfn.CHOOSECOLS(_xlfn.ANCHORARRAY(Leute!$F$1),2),_xlfn.CHOOSECOLS(_xlfn.ANCHORARRAY(Leute!$F$1),4),\"x\",0,2)","v":"1962-02-05"},{"$f":"RANK(F142,F$1:F142,0)","v":125},{"$f":"DATEDIF(F142,D142,\"Y\")","v":27},{"$f":"DATEDIF(F142,D142,\"YD\")","v":249},{"$f":"D142-F142","v":10111},{"$f":"\"MRS \"&TEXT(J142,\"00000\")&\" \"&SUBSTITUTE(C142,\":\",\"\")&\" (\"&TEXT(D142,\"TT.MM.JJJJ\")&\") - \"&E142&\" (\"&TEXT(F142,\"TT.MM.JJJJ\")&\") \"&H142&\"-\"&I142","v":"MRS 10111 Last Exit to Brooklyn (12.10.1989) - Jennifer Jason Leigh (05.02.1962) 27-249"}]
["tt0100143","nm0000492",{"$f":"_xlfn.XLOOKUP($A143,_xlfn.CHOOSECOLS(_xlfn.ANCHORARRAY(Filme!$G$1),2),_xlfn.CHOOSECOLS(_xlfn.ANCHORARRAY(Filme!$G$1),3),\"\",0,2)","v":"Miami Blues"},{"$f":"_xlfn.XLOOKUP($A143,_xlfn.CHOOSECOLS(_xlfn.ANCHORARRAY(Filme!$G$1),2),_xlfn.CHOOSECOLS(_xlfn.ANCHORARRAY(Filme!$G$1),4),\"\",0,2)","v":"1990-08-23"},{"$f":"_xlfn.XLOOKUP($B143,_xlfn.CHOOSECOLS(_xlfn.ANCHORARRAY(Leute!$F$1),2),_xlfn.CHOOSECOLS(_xlfn.ANCHORARRAY(Leute!$F$1),3),\"x\",0,2)","v":"Jennifer Jason Leigh"},{"$f":"_xlfn.XLOOKUP($B143,_xlfn.CHOOSECOLS(_xlfn.ANCHORARRAY(Leute!$F$1),2),_xlfn.CHOOSECOLS(_xlfn.ANCHORARRAY(Leute!$F$1),4),\"x\",0,2)","v":"1962-02-05"},{"$f":"RANK(F143,F$1:F143,0)","v":125},{"$f":"DATEDIF(F143,D143,\"Y\")","v":28},{"$f":"DATEDIF(F143,D143,\"YD\")","v":199},{"$f":"D143-F143","v":10426},{"$f":"\"MRS \"&TEXT(J143,\"00000\")&\" \"&SUBSTITUTE(C143,\":\",\"\")&\" (\"&TEXT(D143,\"TT.MM.JJJJ\")&\") - \"&E143&\" (\"&TEXT(F143,\"TT.MM.JJJJ\")&\") \"&H143&\"-\"&I143","v":"MRS 10426 Miami Blues (23.08.1990) - Jennifer Jason Leigh (05.02.1962) 28-199"}]
["tt0101393","nm0000492",{"$f":"_xlfn.XLOOKUP($A144,_xlfn.CHOOSECOLS(_xlfn.ANCHORARRAY(Filme!$G$1),2),_xlfn.CHOOSECOLS(_xlfn.ANCHORARRAY(Filme!$G$1),3),\"\",0,2)","v":"Backdraft"},{"$f":"_xlfn.XLOOKUP($A144,_xlfn.CHOOSECOLS(_xlfn.ANCHORARRAY(Filme!$G$1),2),_xlfn.CHOOSECOLS(_xlfn.ANCHORARRAY(Filme!$G$1),4),\"\",0,2)","v":"1991-08-22"},{"$f":"_xlfn.XLOOKUP($B144,_xlfn.CHOOSECOLS(_xlfn.ANCHORARRAY(Leute!$F$1),2),_xlfn.CHOOSECOLS(_xlfn.ANCHORARRAY(Leute!$F$1),3),\"x\",0,2)","v":"Jennifer Jason Leigh"},{"$f":"_xlfn.XLOOKUP($B144,_xlfn.CHOOSECOLS(_xlfn.ANCHORARRAY(Leute!$F$1),2),_xlfn.CHOOSECOLS(_xlfn.ANCHORARRAY(Leute!$F$1),4),\"x\",0,2)","v":"1962-02-05"},{"$f":"RANK(F144,F$1:F144,0)","v":125},{"$f":"DATEDIF(F144,D144,\"Y\")","v":29},{"$f":"DATEDIF(F144,D144,\"YD\")","v":198},{"$f":"D144-F144","v":10790},{"$f":"\"MRS \"&TEXT(J144,\"00000\")&\" \"&SUBSTITUTE(C144,\":\",\"\")&\" (\"&TEXT(D144,\"TT.MM.JJJJ\")&\") - \"&E144&\" (\"&TEXT(F144,\"TT.MM.JJJJ\")&\") \"&H144&\"-\"&I144","v":"MRS 10790 Backdraft (22.08.1991) - Jennifer Jason Leigh (05.02.1962) 29-198"}]
["tt0101629","nm0000492",{"$f":"_xlfn.XLOOKUP($A145,_xlfn.CHOOSECOLS(_xlfn.ANCHORARRAY(Filme!$G$1),2),_xlfn.CHOOSECOLS(_xlfn.ANCHORARRAY(Filme!$G$1),3),\"\",0,2)","v":"Crooked Hearts"},{"$f":"_xlfn.XLOOKUP($A145,_xlfn.CHOOSECOLS(_xlfn.ANCHORARRAY(Filme!$G$1),2),_xlfn.CHOOSECOLS(_xlfn.ANCHORARRAY(Filme!$G$1),4),\"\",0,2)","v":"1991-09-06"},{"$f":"_xlfn.XLOOKUP($B145,_xlfn.CHOOSECOLS(_xlfn.ANCHORARRAY(Leute!$F$1),2),_xlfn.CHOOSECOLS(_xlfn.ANCHORARRAY(Leute!$F$1),3),\"x\",0,2)","v":"Jennifer Jason Leigh"},{"$f":"_xlfn.XLOOKUP($B145,_xlfn.CHOOSECOLS(_xlfn.ANCHORARRAY(Leute!$F$1),2),_xlfn.CHOOSECOLS(_xlfn.ANCHORARRAY(Leute!$F$1),4),\"x\",0,2)","v":"1962-02-05"},{"$f":"RANK(F145,F$1:F145,0)","v":125},{"$f":"DATEDIF(F145,D145,\"Y\")","v":29},{"$f":"DATEDIF(F145,D145,\"YD\")","v":213},{"$f":"D145-F145","v":10805},{"$f":"\"MRS \"&TEXT(J145,\"00000\")&\" \"&SUBSTITUTE(C145,\":\",\"\")&\" (\"&TEXT(D145,\"TT.MM.JJJJ\")&\") - \"&E145&\" (\"&TEXT(F145,\"TT.MM.JJJJ\")&\") \"&H145&\"-\"&I145","v":"MRS 10805 Crooked Hearts (06.09.1991) - Jennifer Jason Leigh (05.02.1962) 29-213"}]
["tt0102820","nm0000492",{"$f":"_xlfn.XLOOKUP($A146,_xlfn.CHOOSECOLS(_xlfn.ANCHORARRAY(Filme!$G$1),2),_xlfn.CHOOSECOLS(_xlfn.ANCHORARRAY(Filme!$G$1),3),\"\",0,2)","v":"Rush"},{"$f":"_xlfn.XLOOKUP($A146,_xlfn.CHOOSECOLS(_xlfn.ANCHORARRAY(Filme!$G$1),2),_xlfn.CHOOSECOLS(_xlfn.ANCHORARRAY(Filme!$G$1),4),\"\",0,2)","v":"1993-01-29"},{"$f":"_xlfn.XLOOKUP($B146,_xlfn.CHOOSECOLS(_xlfn.ANCHORARRAY(Leute!$F$1),2),_xlfn.CHOOSECOLS(_xlfn.ANCHORARRAY(Leute!$F$1),3),\"x\",0,2)","v":"Jennifer Jason Leigh"},{"$f":"_xlfn.XLOOKUP($B146,_xlfn.CHOOSECOLS(_xlfn.ANCHORARRAY(Leute!$F$1),2),_xlfn.CHOOSECOLS(_xlfn.ANCHORARRAY(Leute!$F$1),4),\"x\",0,2)","v":"1962-02-05"},{"$f":"RANK(F146,F$1:F146,0)","v":125},{"$f":"DATEDIF(F146,D146,\"Y\")","v":30},{"$f":"DATEDIF(F146,D146,\"YD\")","v":358},{"$f":"D146-F146","v":11316},{"$f":"\"MRS \"&TEXT(J146,\"00000\")&\" \"&SUBSTITUTE(C146,\":\",\"\")&\" (\"&TEXT(D146,\"TT.MM.JJJJ\")&\") - \"&E146&\" (\"&TEXT(F146,\"TT.MM.JJJJ\")&\") \"&H146&\"-\"&I146","v":"MRS 11316 Rush (29.01.1993) - Jennifer Jason Leigh (05.02.1962) 30-358"}]
["tt0105414","nm0000492",{"$f":"_xlfn.XLOOKUP($A147,_xlfn.CHOOSECOLS(_xlfn.ANCHORARRAY(Filme!$G$1),2),_xlfn.CHOOSECOLS(_xlfn.ANCHORARRAY(Filme!$G$1),3),\"\",0,2)","v":"Single White Female"},{"$f":"_xlfn.XLOOKUP($A147,_xlfn.CHOOSECOLS(_xlfn.ANCHORARRAY(Filme!$G$1),2),_xlfn.CHOOSECOLS(_xlfn.ANCHORARRAY(Filme!$G$1),4),\"\",0,2)","v":"1992-10-01"},{"$f":"_xlfn.XLOOKUP($B147,_xlfn.CHOOSECOLS(_xlfn.ANCHORARRAY(Leute!$F$1),2),_xlfn.CHOOSECOLS(_xlfn.ANCHORARRAY(Leute!$F$1),3),\"x\",0,2)","v":"Jennifer Jason Leigh"},{"$f":"_xlfn.XLOOKUP($B147,_xlfn.CHOOSECOLS(_xlfn.ANCHORARRAY(Leute!$F$1),2),_xlfn.CHOOSECOLS(_xlfn.ANCHORARRAY(Leute!$F$1),4),\"x\",0,2)","v":"1962-02-05"},{"$f":"RANK(F147,F$1:F147,0)","v":125},{"$f":"DATEDIF(F147,D147,\"Y\")","v":30},{"$f":"DATEDIF(F147,D147,\"YD\")","v":238},{"$f":"D147-F147","v":11196},{"$f":"\"MRS \"&TEXT(J147,\"00000\")&\" \"&SUBSTITUTE(C147,\":\",\"\")&\" (\"&TEXT(D147,\"TT.MM.JJJJ\")&\") - \"&E147&\" (\"&TEXT(F147,\"TT.MM.JJJJ\")&\") \"&H147&\"-\"&I147","v":"MRS 11196 Single White Female (01.10.1992) - Jennifer Jason Leigh (05.02.1962) 30-238"}]
["tt0110588","nm0000492",{"$f":"_xlfn.XLOOKUP($A148,_xlfn.CHOOSECOLS(_xlfn.ANCHORARRAY(Filme!$G$1),2),_xlfn.CHOOSECOLS(_xlfn.ANCHORARRAY(Filme!$G$1),3),\"\",0,2)","v":"Mrs. Parker and the Vicious Circle"},{"$f":"_xlfn.XLOOKUP($A148,_xlfn.CHOOSECOLS(_xlfn.ANCHORARRAY(Filme!$G$1),2),_xlfn.CHOOSECOLS(_xlfn.ANCHORARRAY(Filme!$G$1),4),\"\",0,2)","v":"1995-07-27"},{"$f":"_xlfn.XLOOKUP($B148,_xlfn.CHOOSECOLS(_xlfn.ANCHORARRAY(Leute!$F$1),2),_xlfn.CHOOSECOLS(_xlfn.ANCHORARRAY(Leute!$F$1),3),\"x\",0,2)","v":"Jennifer Jason Leigh"},{"$f":"_xlfn.XLOOKUP($B148,_xlfn.CHOOSECOLS(_xlfn.ANCHORARRAY(Leute!$F$1),2),_xlfn.CHOOSECOLS(_xlfn.ANCHORARRAY(Leute!$F$1),4),\"x\",0,2)","v":"1962-02-05"},{"$f":"RANK(F148,F$1:F148,0)","v":125},{"$f":"DATEDIF(F148,D148,\"Y\")","v":33},{"$f":"DATEDIF(F148,D148,\"YD\")","v":172},{"$f":"D148-F148","v":12225},{"$f":"\"MRS \"&TEXT(J148,\"00000\")&\" \"&SUBSTITUTE(C148,\":\",\"\")&\" (\"&TEXT(D148,\"TT.MM.JJJJ\")&\") - \"&E148&\" (\"&TEXT(F148,\"TT.MM.JJJJ\")&\") \"&H148&\"-\"&I148","v":"MRS 12225 Mrs. Parker and the Vicious Circle (27.07.1995) - Jennifer Jason Leigh (05.02.1962) 33-172"}]
["tt0113158","nm0000492",{"$f":"_xlfn.XLOOKUP($A149,_xlfn.CHOOSECOLS(_xlfn.ANCHORARRAY(Filme!$G$1),2),_xlfn.CHOOSECOLS(_xlfn.ANCHORARRAY(Filme!$G$1),3),\"\",0,2)","v":"Georgia"},{"$f":"_xlfn.XLOOKUP($A149,_xlfn.CHOOSECOLS(_xlfn.ANCHORARRAY(Filme!$G$1),2),_xlfn.CHOOSECOLS(_xlfn.ANCHORARRAY(Filme!$G$1),4),\"\",0,2)","v":"1996-09-19"},{"$f":"_xlfn.XLOOKUP($B149,_xlfn.CHOOSECOLS(_xlfn.ANCHORARRAY(Leute!$F$1),2),_xlfn.CHOOSECOLS(_xlfn.ANCHORARRAY(Leute!$F$1),3),\"x\",0,2)","v":"Jennifer Jason Leigh"},{"$f":"_xlfn.XLOOKUP($B149,_xlfn.CHOOSECOLS(_xlfn.ANCHORARRAY(Leute!$F$1),2),_xlfn.CHOOSECOLS(_xlfn.ANCHORARRAY(Leute!$F$1),4),\"x\",0,2)","v":"1962-02-05"},{"$f":"RANK(F149,F$1:F149,0)","v":125},{"$f":"DATEDIF(F149,D149,\"Y\")","v":34},{"$f":"DATEDIF(F149,D149,\"YD\")","v":226},{"$f":"D149-F149","v":12645},{"$f":"\"MRS \"&TEXT(J149,\"00000\")&\" \"&SUBSTITUTE(C149,\":\",\"\")&\" (\"&TEXT(D149,\"TT.MM.JJJJ\")&\") - \"&E149&\" (\"&TEXT(F149,\"TT.MM.JJJJ\")&\") \"&H149&\"-\"&I149","v":"MRS 12645 Georgia (19.09.1996) - Jennifer Jason Leigh (05.02.1962) 34-226"}]
["tt0142911","nm0000492",{"$f":"_xlfn.XLOOKUP($A150,_xlfn.CHOOSECOLS(_xlfn.ANCHORARRAY(Filme!$G$1),2),_xlfn.CHOOSECOLS(_xlfn.ANCHORARRAY(Filme!$G$1),3),\"\",0,2)","v":"Thanks of a Grateful Nation"},{"$f":"_xlfn.XLOOKUP($A150,_xlfn.CHOOSECOLS(_xlfn.ANCHORARRAY(Filme!$G$1),2),_xlfn.CHOOSECOLS(_xlfn.ANCHORARRAY(Filme!$G$1),4),\"\",0,2)","v":"1998-05-31"},{"$f":"_xlfn.XLOOKUP($B150,_xlfn.CHOOSECOLS(_xlfn.ANCHORARRAY(Leute!$F$1),2),_xlfn.CHOOSECOLS(_xlfn.ANCHORARRAY(Leute!$F$1),3),\"x\",0,2)","v":"Jennifer Jason Leigh"},{"$f":"_xlfn.XLOOKUP($B150,_xlfn.CHOOSECOLS(_xlfn.ANCHORARRAY(Leute!$F$1),2),_xlfn.CHOOSECOLS(_xlfn.ANCHORARRAY(Leute!$F$1),4),\"x\",0,2)","v":"1962-02-05"},{"$f":"RANK(F150,F$1:F150,0)","v":125},{"$f":"DATEDIF(F150,D150,\"Y\")","v":36},{"$f":"DATEDIF(F150,D150,\"YD\")","v":115},{"$f":"D150-F150","v":13264},{"$f":"\"MRS \"&TEXT(J150,\"00000\")&\" \"&SUBSTITUTE(C150,\":\",\"\")&\" (\"&TEXT(D150,\"TT.MM.JJJJ\")&\") - \"&E150&\" (\"&TEXT(F150,\"TT.MM.JJJJ\")&\") \"&H150&\"-\"&I150","v":"MRS 13264 Thanks of a Grateful Nation (31.05.1998) - Jennifer Jason Leigh (05.02.1962) 36-115"}]
["tt0208911","nm0000492",{"$f":"_xlfn.XLOOKUP($A151,_xlfn.CHOOSECOLS(_xlfn.ANCHORARRAY(Filme!$G$1),2),_xlfn.CHOOSECOLS(_xlfn.ANCHORARRAY(Filme!$G$1),3),\"\",0,2)","v":"The King Is Alive"},{"$f":"_xlfn.XLOOKUP($A151,_xlfn.CHOOSECOLS(_xlfn.ANCHORARRAY(Filme!$G$1),2),_xlfn.CHOOSECOLS(_xlfn.ANCHORARRAY(Filme!$G$1),4),\"\",0,2)","v":"2001-01-05"},{"$f":"_xlfn.XLOOKUP($B151,_xlfn.CHOOSECOLS(_xlfn.ANCHORARRAY(Leute!$F$1),2),_xlfn.CHOOSECOLS(_xlfn.ANCHORARRAY(Leute!$F$1),3),\"x\",0,2)","v":"Jennifer Jason Leigh"},{"$f":"_xlfn.XLOOKUP($B151,_xlfn.CHOOSECOLS(_xlfn.ANCHORARRAY(Leute!$F$1),2),_xlfn.CHOOSECOLS(_xlfn.ANCHORARRAY(Leute!$F$1),4),\"x\",0,2)","v":"1962-02-05"},{"$f":"RANK(F151,F$1:F151,0)","v":125},{"$f":"DATEDIF(F151,D151,\"Y\")","v":38},{"$f":"DATEDIF(F151,D151,\"YD\")","v":334},{"$f":"D151-F151","v":14214},{"$f":"\"MRS \"&TEXT(J151,\"00000\")&\" \"&SUBSTITUTE(C151,\":\",\"\")&\" (\"&TEXT(D151,\"TT.MM.JJJJ\")&\") - \"&E151&\" (\"&TEXT(F151,\"TT.MM.JJJJ\")&\") \"&H151&\"-\"&I151","v":"MRS 14214 The King Is Alive (05.01.2001) - Jennifer Jason Leigh (05.02.1962) 38-334"}]
["tt0209322","nm0000492",{"$f":"_xlfn.XLOOKUP($A152,_xlfn.CHOOSECOLS(_xlfn.ANCHORARRAY(Filme!$G$1),2),_xlfn.CHOOSECOLS(_xlfn.ANCHORARRAY(Filme!$G$1),3),\"\",0,2)","v":"Skipped Parts"},{"$f":"_xlfn.XLOOKUP($A152,_xlfn.CHOOSECOLS(_xlfn.ANCHORARRAY(Filme!$G$1),2),_xlfn.CHOOSECOLS(_xlfn.ANCHORARRAY(Filme!$G$1),4),\"\",0,2)","v":"2001-12-06"},{"$f":"_xlfn.XLOOKUP($B152,_xlfn.CHOOSECOLS(_xlfn.ANCHORARRAY(Leute!$F$1),2),_xlfn.CHOOSECOLS(_xlfn.ANCHORARRAY(Leute!$F$1),3),\"x\",0,2)","v":"Jennifer Jason Leigh"},{"$f":"_xlfn.XLOOKUP($B152,_xlfn.CHOOSECOLS(_xlfn.ANCHORARRAY(Leute!$F$1),2),_xlfn.CHOOSECOLS(_xlfn.ANCHORARRAY(Leute!$F$1),4),\"x\",0,2)","v":"1962-02-05"},{"$f":"RANK(F152,F$1:F152,0)","v":125},{"$f":"DATEDIF(F152,D152,\"Y\")","v":39},{"$f":"DATEDIF(F152,D152,\"YD\")","v":304},{"$f":"D152-F152","v":14549},{"$f":"\"MRS \"&TEXT(J152,\"00000\")&\" \"&SUBSTITUTE(C152,\":\",\"\")&\" (\"&TEXT(D152,\"TT.MM.JJJJ\")&\") - \"&E152&\" (\"&TEXT(F152,\"TT.MM.JJJJ\")&\") \"&H152&\"-\"&I152","v":"MRS 14549 Skipped Parts (06.12.2001) - Jennifer Jason Leigh (05.02.1962) 39-304"}]
["tt0361862","nm0000492",{"$f":"_xlfn.XLOOKUP($A153,_xlfn.CHOOSECOLS(_xlfn.ANCHORARRAY(Filme!$G$1),2),_xlfn.CHOOSECOLS(_xlfn.ANCHORARRAY(Filme!$G$1),3),\"\",0,2)","v":"The Machinist"},{"$f":"_xlfn.XLOOKUP($A153,_xlfn.CHOOSECOLS(_xlfn.ANCHORARRAY(Filme!$G$1),2),_xlfn.CHOOSECOLS(_xlfn.ANCHORARRAY(Filme!$G$1),4),\"\",0,2)","v":"2004-11-11"},{"$f":"_xlfn.XLOOKUP($B153,_xlfn.CHOOSECOLS(_xlfn.ANCHORARRAY(Leute!$F$1),2),_xlfn.CHOOSECOLS(_xlfn.ANCHORARRAY(Leute!$F$1),3),\"x\",0,2)","v":"Jennifer Jason Leigh"},{"$f":"_xlfn.XLOOKUP($B153,_xlfn.CHOOSECOLS(_xlfn.ANCHORARRAY(Leute!$F$1),2),_xlfn.CHOOSECOLS(_xlfn.ANCHORARRAY(Leute!$F$1),4),\"x\",0,2)","v":"1962-02-05"},{"$f":"RANK(F153,F$1:F153,0)","v":125},{"$f":"DATEDIF(F153,D153,\"Y\")","v":42},{"$f":"DATEDIF(F153,D153,\"YD\")","v":279},{"$f":"D153-F153","v":15620},{"$f":"\"MRS \"&TEXT(J153,\"00000\")&\" \"&SUBSTITUTE(C153,\":\",\"\")&\" (\"&TEXT(D153,\"TT.MM.JJJJ\")&\") - \"&E153&\" (\"&TEXT(F153,\"TT.MM.JJJJ\")&\") \"&H153&\"-\"&I153","v":"MRS 15620 The Machinist (11.11.2004) - Jennifer Jason Leigh (05.02.1962) 42-279"}]
["tt0757361","nm0000492",{"$f":"_xlfn.XLOOKUP($A154,_xlfn.CHOOSECOLS(_xlfn.ANCHORARRAY(Filme!$G$1),2),_xlfn.CHOOSECOLS(_xlfn.ANCHORARRAY(Filme!$G$1),3),\"\",0,2)","v":"Margot at the Wedding"},{"$f":"_xlfn.XLOOKUP($A154,_xlfn.CHOOSECOLS(_xlfn.ANCHORARRAY(Filme!$G$1),2),_xlfn.CHOOSECOLS(_xlfn.ANCHORARRAY(Filme!$G$1),4),\"\",0,2)","v":"2012-08-17"},{"$f":"_xlfn.XLOOKUP($B154,_xlfn.CHOOSECOLS(_xlfn.ANCHORARRAY(Leute!$F$1),2),_xlfn.CHOOSECOLS(_xlfn.ANCHORARRAY(Leute!$F$1),3),\"x\",0,2)","v":"Jennifer Jason Leigh"},{"$f":"_xlfn.XLOOKUP($B154,_xlfn.CHOOSECOLS(_xlfn.ANCHORARRAY(Leute!$F$1),2),_xlfn.CHOOSECOLS(_xlfn.ANCHORARRAY(Leute!$F$1),4),\"x\",0,2)","v":"1962-02-05"},{"$f":"RANK(F154,F$1:F154,0)","v":125},{"$f":"DATEDIF(F154,D154,\"Y\")","v":50},{"$f":"DATEDIF(F154,D154,\"YD\")","v":193},{"$f":"D154-F154","v":18456},{"$f":"\"MRS \"&TEXT(J154,\"00000\")&\" \"&SUBSTITUTE(C154,\":\",\"\")&\" (\"&TEXT(D154,\"TT.MM.JJJJ\")&\") - \"&E154&\" (\"&TEXT(F154,\"TT.MM.JJJJ\")&\") \"&H154&\"-\"&I154","v":"MRS 18456 Margot at the Wedding (17.08.2012) - Jennifer Jason Leigh (05.02.1962) 50-193"}]
["tt2271671","nm0000492",{"$f":"_xlfn.XLOOKUP($A155,_xlfn.CHOOSECOLS(_xlfn.ANCHORARRAY(Filme!$G$1),2),_xlfn.CHOOSECOLS(_xlfn.ANCHORARRAY(Filme!$G$1),3),\"\",0,2)","v":"The Moment"},{"$f":"_xlfn.XLOOKUP($A155,_xlfn.CHOOSECOLS(_xlfn.ANCHORARRAY(Filme!$G$1),2),_xlfn.CHOOSECOLS(_xlfn.ANCHORARRAY(Filme!$G$1),4),\"\",0,2)","v":"2013-04-21"},{"$f":"_xlfn.XLOOKUP($B155,_xlfn.CHOOSECOLS(_xlfn.ANCHORARRAY(Leute!$F$1),2),_xlfn.CHOOSECOLS(_xlfn.ANCHORARRAY(Leute!$F$1),3),\"x\",0,2)","v":"Jennifer Jason Leigh"},{"$f":"_xlfn.XLOOKUP($B155,_xlfn.CHOOSECOLS(_xlfn.ANCHORARRAY(Leute!$F$1),2),_xlfn.CHOOSECOLS(_xlfn.ANCHORARRAY(Leute!$F$1),4),\"x\",0,2)","v":"1962-02-05"},{"$f":"RANK(F155,F$1:F155,0)","v":125},{"$f":"DATEDIF(F155,D155,\"Y\")","v":51},{"$f":"DATEDIF(F155,D155,\"YD\")","v":75},{"$f":"D155-F155","v":18703},{"$f":"\"MRS \"&TEXT(J155,\"00000\")&\" \"&SUBSTITUTE(C155,\":\",\"\")&\" (\"&TEXT(D155,\"TT.MM.JJJJ\")&\") - \"&E155&\" (\"&TEXT(F155,\"TT.MM.JJJJ\")&\") \"&H155&\"-\"&I155","v":"MRS 18703 The Moment (21.04.2013) - Jennifer Jason Leigh (05.02.1962) 51-75"}]
["tt0371246","nm0000495",{"$f":"_xlfn.XLOOKUP($A156,_xlfn.CHOOSECOLS(_xlfn.ANCHORARRAY(Filme!$G$1),2),_xlfn.CHOOSECOLS(_xlfn.ANCHORARRAY(Filme!$G$1),3),\"\",0,2)","v":"Spanglish"},{"$f":"_xlfn.XLOOKUP($A156,_xlfn.CHOOSECOLS(_xlfn.ANCHORARRAY(Filme!$G$1),2),_xlfn.CHOOSECOLS(_xlfn.ANCHORARRAY(Filme!$G$1),4),\"\",0,2)","v":"2005-04-07"},{"$f":"_xlfn.XLOOKUP($B156,_xlfn.CHOOSECOLS(_xlfn.ANCHORARRAY(Leute!$F$1),2),_xlfn.CHOOSECOLS(_xlfn.ANCHORARRAY(Leute!$F$1),3),\"x\",0,2)","v":"Téa Leoni"},{"$f":"_xlfn.XLOOKUP($B156,_xlfn.CHOOSECOLS(_xlfn.ANCHORARRAY(Leute!$F$1),2),_xlfn.CHOOSECOLS(_xlfn.ANCHORARRAY(Leute!$F$1),4),\"x\",0,2)","v":"1966-02-25"},{"$f":"RANK(F156,F$1:F156,0)","v":99},{"$f":"DATEDIF(F156,D156,\"Y\")","v":39},{"$f":"DATEDIF(F156,D156,\"YD\")","v":41},{"$f":"D156-F156","v":14286},{"$f":"\"MRS \"&TEXT(J156,\"00000\")&\" \"&SUBSTITUTE(C156,\":\",\"\")&\" (\"&TEXT(D156,\"TT.MM.JJJJ\")&\") - \"&E156&\" (\"&TEXT(F156,\"TT.MM.JJJJ\")&\") \"&H156&\"-\"&I156","v":"MRS 14286 Spanglish (07.04.2005) - Téa Leoni (25.02.1966) 39-41"}]
["tt0105691","nm0000624",{"$f":"_xlfn.XLOOKUP($A157,_xlfn.CHOOSECOLS(_xlfn.ANCHORARRAY(Filme!$G$1),2),_xlfn.CHOOSECOLS(_xlfn.ANCHORARRAY(Filme!$G$1),3),\"\",0,2)","v":"Under Suspicion"},{"$f":"_xlfn.XLOOKUP($A157,_xlfn.CHOOSECOLS(_xlfn.ANCHORARRAY(Filme!$G$1),2),_xlfn.CHOOSECOLS(_xlfn.ANCHORARRAY(Filme!$G$1),4),\"\",0,2)","v":"1992-07-09"},{"$f":"_xlfn.XLOOKUP($B157,_xlfn.CHOOSECOLS(_xlfn.ANCHORARRAY(Leute!$F$1),2),_xlfn.CHOOSECOLS(_xlfn.ANCHORARRAY(Leute!$F$1),3),\"x\",0,2)","v":"Laura San Giacomo"},{"$f":"_xlfn.XLOOKUP($B157,_xlfn.CHOOSECOLS(_xlfn.ANCHORARRAY(Leute!$F$1),2),_xlfn.CHOOSECOLS(_xlfn.ANCHORARRAY(Leute!$F$1),4),\"x\",0,2)","v":"1961-11-14"},{"$f":"RANK(F157,F$1:F157,0)","v":146},{"$f":"DATEDIF(F157,D157,\"Y\")","v":30},{"$f":"DATEDIF(F157,D157,\"YD\")","v":237},{"$f":"D157-F157","v":11195},{"$f":"\"MRS \"&TEXT(J157,\"00000\")&\" \"&SUBSTITUTE(C157,\":\",\"\")&\" (\"&TEXT(D157,\"TT.MM.JJJJ\")&\") - \"&E157&\" (\"&TEXT(F157,\"TT.MM.JJJJ\")&\") \"&H157&\"-\"&I157","v":"MRS 11195 Under Suspicion (09.07.1992) - Laura San Giacomo (14.11.1961) 30-237"}]
["tt0108451","nm0000673",{"$f":"_xlfn.XLOOKUP($A158,_xlfn.CHOOSECOLS(_xlfn.ANCHORARRAY(Filme!$G$1),2),_xlfn.CHOOSECOLS(_xlfn.ANCHORARRAY(Filme!$G$1),3),\"\",0,2)","v":"Untamed Heart"},{"$f":"_xlfn.XLOOKUP($A158,_xlfn.CHOOSECOLS(_xlfn.ANCHORARRAY(Filme!$G$1),2),_xlfn.CHOOSECOLS(_xlfn.ANCHORARRAY(Filme!$G$1),4),\"\",0,2)","v":"1993-02-12"},{"$f":"_xlfn.XLOOKUP($B158,_xlfn.CHOOSECOLS(_xlfn.ANCHORARRAY(Leute!$F$1),2),_xlfn.CHOOSECOLS(_xlfn.ANCHORARRAY(Leute!$F$1),3),\"x\",0,2)","v":"Marisa Tomei"},{"$f":"_xlfn.XLOOKUP($B158,_xlfn.CHOOSECOLS(_xlfn.ANCHORARRAY(Leute!$F$1),2),_xlfn.CHOOSECOLS(_xlfn.ANCHORARRAY(Leute!$F$1),4),\"x\",0,2)","v":"1964-12-04"},{"$f":"RANK(F158,F$1:F158,0)","v":100},{"$f":"DATEDIF(F158,D158,\"Y\")","v":28},{"$f":"DATEDIF(F158,D158,\"YD\")","v":70},{"$f":"D158-F158","v":10297},{"$f":"\"MRS \"&TEXT(J158,\"00000\")&\" \"&SUBSTITUTE(C158,\":\",\"\")&\" (\"&TEXT(D158,\"TT.MM.JJJJ\")&\") - \"&E158&\" (\"&TEXT(F158,\"TT.MM.JJJJ\")&\") \"&H158&\"-\"&I158","v":"MRS 10297 Untamed Heart (12.02.1993) - Marisa Tomei (04.12.1964) 28-70"}]
["tt0292963","nm0000673",{"$f":"_xlfn.XLOOKUP($A159,_xlfn.CHOOSECOLS(_xlfn.ANCHORARRAY(Filme!$G$1),2),_xlfn.CHOOSECOLS(_xlfn.ANCHORARRAY(Filme!$G$1),3),\"\",0,2)","v":"Before the Devil Knows You're Dead"},{"$f":"_xlfn.XLOOKUP($A159,_xlfn.CHOOSECOLS(_xlfn.ANCHORARRAY(Filme!$G$1),2),_xlfn.CHOOSECOLS(_xlfn.ANCHORARRAY(Filme!$G$1),4),\"\",0,2)","v":"2008-04-10"},{"$f":"_xlfn.XLOOKUP($B159,_xlfn.CHOOSECOLS(_xlfn.ANCHORARRAY(Leute!$F$1),2),_xlfn.CHOOSECOLS(_xlfn.ANCHORARRAY(Leute!$F$1),3),\"x\",0,2)","v":"Marisa Tomei"},{"$f":"_xlfn.XLOOKUP($B159,_xlfn.CHOOSECOLS(_xlfn.ANCHORARRAY(Leute!$F$1),2),_xlfn.CHOOSECOLS(_xlfn.ANCHORARRAY(Leute!$F$1),4),\"x\",0,2)","v":"1964-12-04"},{"$f":"RANK(F159,F$1:F159,0)","v":100},{"$f":"DATEDIF(F159,D159,\"Y\")","v":43},{"$f":"DATEDIF(F159,D159,\"YD\")","v":127},{"$f":"D159-F159","v":15833},{"$f":"\"MRS \"&TEXT(J159,\"00000\")&\" \"&SUBSTITUTE(C159,\":\",\"\")&\" (\"&TEXT(D159,\"TT.MM.JJJJ\")&\") - \"&E159&\" (\"&TEXT(F159,\"TT.MM.JJJJ\")&\") \"&H159&\"-\"&I159","v":"MRS 15833 Before the Devil Knows You're Dead (10.04.2008) - Marisa Tomei (04.12.1964) 43-127"}]
["tt0388213","nm0000673",{"$f":"_xlfn.XLOOKUP($A160,_xlfn.CHOOSECOLS(_xlfn.ANCHORARRAY(Filme!$G$1),2),_xlfn.CHOOSECOLS(_xlfn.ANCHORARRAY(Filme!$G$1),3),\"\",0,2)","v":"Loverboy"},{"$f":"_xlfn.XLOOKUP($A160,_xlfn.CHOOSECOLS(_xlfn.ANCHORARRAY(Filme!$G$1),2),_xlfn.CHOOSECOLS(_xlfn.ANCHORARRAY(Filme!$G$1),4),\"\",0,2)","v":"2005-04-28"},{"$f":"_xlfn.XLOOKUP($B160,_xlfn.CHOOSECOLS(_xlfn.ANCHORARRAY(Leute!$F$1),2),_xlfn.CHOOSECOLS(_xlfn.ANCHORARRAY(Leute!$F$1),3),\"x\",0,2)","v":"Marisa Tomei"},{"$f":"_xlfn.XLOOKUP($B160,_xlfn.CHOOSECOLS(_xlfn.ANCHORARRAY(Leute!$F$1),2),_xlfn.CHOOSECOLS(_xlfn.ANCHORARRAY(Leute!$F$1),4),\"x\",0,2)","v":"1964-12-04"},{"$f":"RANK(F160,F$1:F160,0)","v":100},{"$f":"DATEDIF(F160,D160,\"Y\")","v":40},{"$f":"DATEDIF(F160,D160,\"YD\")","v":145},{"$f":"D160-F160","v":14755},{"$f":"\"MRS \"&TEXT(J160,\"00000\")&\" \"&SUBSTITUTE(C160,\":\",\"\")&\" (\"&TEXT(D160,\"TT.MM.JJJJ\")&\") - \"&E160&\" (\"&TEXT(F160,\"TT.MM.JJJJ\")&\") \"&H160&\"-\"&I160","v":"MRS 14755 Loverboy (28.04.2005) - Marisa Tomei (04.12.1964) 40-145"}]
["tt0417658","nm0000673",{"$f":"_xlfn.XLOOKUP($A161,_xlfn.CHOOSECOLS(_xlfn.ANCHORARRAY(Filme!$G$1),2),_xlfn.CHOOSECOLS(_xlfn.ANCHORARRAY(Filme!$G$1),3),\"\",0,2)","v":"Factotum"},{"$f":"_xlfn.XLOOKUP($A161,_xlfn.CHOOSECOLS(_xlfn.ANCHORARRAY(Filme!$G$1),2),_xlfn.CHOOSECOLS(_xlfn.ANCHORARRAY(Filme!$G$1),4),\"\",0,2)","v":"2005-12-08"},{"$f":"_xlfn.XLOOKUP($B161,_xlfn.CHOOSECOLS(_xlfn.ANCHORARRAY(Leute!$F$1),2),_xlfn.CHOOSECOLS(_xlfn.ANCHORARRAY(Leute!$F$1),3),\"x\",0,2)","v":"Marisa Tomei"},{"$f":"_xlfn.XLOOKUP($B161,_xlfn.CHOOSECOLS(_xlfn.ANCHORARRAY(Leute!$F$1),2),_xlfn.CHOOSECOLS(_xlfn.ANCHORARRAY(Leute!$F$1),4),\"x\",0,2)","v":"1964-12-04"},{"$f":"RANK(F161,F$1:F161,0)","v":100},{"$f":"DATEDIF(F161,D161,\"Y\")","v":41},{"$f":"DATEDIF(F161,D161,\"YD\")","v":4},{"$f":"D161-F161","v":14979},{"$f":"\"MRS \"&TEXT(J161,\"00000\")&\" \"&SUBSTITUTE(C161,\":\",\"\")&\" (\"&TEXT(D161,\"TT.MM.JJJJ\")&\") - \"&E161&\" (\"&TEXT(F161,\"TT.MM.JJJJ\")&\") \"&H161&\"-\"&I161","v":"MRS 14979 Factotum (08.12.2005) - Marisa Tomei (04.12.1964) 41-4"}]
["tt1125849","nm0000673",{"$f":"_xlfn.XLOOKUP($A162,_xlfn.CHOOSECOLS(_xlfn.ANCHORARRAY(Filme!$G$1),2),_xlfn.CHOOSECOLS(_xlfn.ANCHORARRAY(Filme!$G$1),3),\"\",0,2)","v":"The Wrestler"},{"$f":"_xlfn.XLOOKUP($A162,_xlfn.CHOOSECOLS(_xlfn.ANCHORARRAY(Filme!$G$1),2),_xlfn.CHOOSECOLS(_xlfn.ANCHORARRAY(Filme!$G$1),4),\"\",0,2)","v":"2009-02-26"},{"$f":"_xlfn.XLOOKUP($B162,_xlfn.CHOOSECOLS(_xlfn.ANCHORARRAY(Leute!$F$1),2),_xlfn.CHOOSECOLS(_xlfn.ANCHORARRAY(Leute!$F$1),3),\"x\",0,2)","v":"Marisa Tomei"},{"$f":"_xlfn.XLOOKUP($B162,_xlfn.CHOOSECOLS(_xlfn.ANCHORARRAY(Leute!$F$1),2),_xlfn.CHOOSECOLS(_xlfn.ANCHORARRAY(Leute!$F$1),4),\"x\",0,2)","v":"1964-12-04"},{"$f":"RANK(F162,F$1:F162,0)","v":100},{"$f":"DATEDIF(F162,D162,\"Y\")","v":44},{"$f":"DATEDIF(F162,D162,\"YD\")","v":84},{"$f":"D162-F162","v":16155},{"$f":"\"MRS \"&TEXT(J162,\"00000\")&\" \"&SUBSTITUTE(C162,\":\",\"\")&\" (\"&TEXT(D162,\"TT.MM.JJJJ\")&\") - \"&E162&\" (\"&TEXT(F162,\"TT.MM.JJJJ\")&\") \"&H162&\"-\"&I162","v":"MRS 16155 The Wrestler (26.02.2009) - Marisa Tomei (04.12.1964) 44-84"}]
["tt2390994","nm0000673",{"$f":"_xlfn.XLOOKUP($A163,_xlfn.CHOOSECOLS(_xlfn.ANCHORARRAY(Filme!$G$1),2),_xlfn.CHOOSECOLS(_xlfn.ANCHORARRAY(Filme!$G$1),3),\"\",0,2)","v":"Loitering with Intent"},{"$f":"_xlfn.XLOOKUP($A163,_xlfn.CHOOSECOLS(_xlfn.ANCHORARRAY(Filme!$G$1),2),_xlfn.CHOOSECOLS(_xlfn.ANCHORARRAY(Filme!$G$1),4),\"\",0,2)","v":"2014-12-16"},{"$f":"_xlfn.XLOOKUP($B163,_xlfn.CHOOSECOLS(_xlfn.ANCHORARRAY(Leute!$F$1),2),_xlfn.CHOOSECOLS(_xlfn.ANCHORARRAY(Leute!$F$1),3),\"x\",0,2)","v":"Marisa Tomei"},{"$f":"_xlfn.XLOOKUP($B163,_xlfn.CHOOSECOLS(_xlfn.ANCHORARRAY(Leute!$F$1),2),_xlfn.CHOOSECOLS(_xlfn.ANCHORARRAY(Leute!$F$1),4),\"x\",0,2)","v":"1964-12-04"},{"$f":"RANK(F163,F$1:F163,0)","v":100},{"$f":"DATEDIF(F163,D163,\"Y\")","v":50},{"$f":"DATEDIF(F163,D163,\"YD\")","v":12},{"$f":"D163-F163","v":18274},{"$f":"\"MRS \"&TEXT(J163,\"00000\")&\" \"&SUBSTITUTE(C163,\":\",\"\")&\" (\"&TEXT(D163,\"TT.MM.JJJJ\")&\") - \"&E163&\" (\"&TEXT(F163,\"TT.MM.JJJJ\")&\") \"&H163&\"-\"&I163","v":"MRS 18274 Loitering with Intent (16.12.2014) - Marisa Tomei (04.12.1964) 50-12"}]
["tt0110005","nm0000701",{"$f":"_xlfn.XLOOKUP($A164,_xlfn.CHOOSECOLS(_xlfn.ANCHORARRAY(Filme!$G$1),2),_xlfn.CHOOSECOLS(_xlfn.ANCHORARRAY(Filme!$G$1),3),\"\",0,2)","v":"Heavenly Creatures"},{"$f":"_xlfn.XLOOKUP($A164,_xlfn.CHOOSECOLS(_xlfn.ANCHORARRAY(Filme!$G$1),2),_xlfn.CHOOSECOLS(_xlfn.ANCHORARRAY(Filme!$G$1),4),\"\",0,2)","v":"1995-01-12"},{"$f":"_xlfn.XLOOKUP($B164,_xlfn.CHOOSECOLS(_xlfn.ANCHORARRAY(Leute!$F$1),2),_xlfn.CHOOSECOLS(_xlfn.ANCHORARRAY(Leute!$F$1),3),\"x\",0,2)","v":"Kate Winslet"},{"$f":"_xlfn.XLOOKUP($B164,_xlfn.CHOOSECOLS(_xlfn.ANCHORARRAY(Leute!$F$1),2),_xlfn.CHOOSECOLS(_xlfn.ANCHORARRAY(Leute!$F$1),4),\"x\",0,2)","v":"1975-10-05"},{"$f":"RANK(F164,F$1:F164,0)","v":21},{"$f":"DATEDIF(F164,D164,\"Y\")","v":19},{"$f":"DATEDIF(F164,D164,\"YD\")","v":99},{"$f":"D164-F164","v":7039},{"$f":"\"MRS \"&TEXT(J164,\"00000\")&\" \"&SUBSTITUTE(C164,\":\",\"\")&\" (\"&TEXT(D164,\"TT.MM.JJJJ\")&\") - \"&E164&\" (\"&TEXT(F164,\"TT.MM.JJJJ\")&\") \"&H164&\"-\"&I164","v":"MRS 07039 Heavenly Creatures (12.01.1995) - Kate Winslet (05.10.1975) 19-99"}]
["tt0116477","nm0000701",{"$f":"_xlfn.XLOOKUP($A165,_xlfn.CHOOSECOLS(_xlfn.ANCHORARRAY(Filme!$G$1),2),_xlfn.CHOOSECOLS(_xlfn.ANCHORARRAY(Filme!$G$1),3),\"\",0,2)","v":"Hamlet"},{"$f":"_xlfn.XLOOKUP($A165,_xlfn.CHOOSECOLS(_xlfn.ANCHORARRAY(Filme!$G$1),2),_xlfn.CHOOSECOLS(_xlfn.ANCHORARRAY(Filme!$G$1),4),\"\",0,2)","v":"1997-06-05"},{"$f":"_xlfn.XLOOKUP($B165,_xlfn.CHOOSECOLS(_xlfn.ANCHORARRAY(Leute!$F$1),2),_xlfn.CHOOSECOLS(_xlfn.ANCHORARRAY(Leute!$F$1),3),\"x\",0,2)","v":"Kate Winslet"},{"$f":"_xlfn.XLOOKUP($B165,_xlfn.CHOOSECOLS(_xlfn.ANCHORARRAY(Leute!$F$1),2),_xlfn.CHOOSECOLS(_xlfn.ANCHORARRAY(Leute!$F$1),4),\"x\",0,2)","v":"1975-10-05"},{"$f":"RANK(F165,F$1:F165,0)","v":21},{"$f":"DATEDIF(F165,D165,\"Y\")","v":21},{"$f":"DATEDIF(F165,D165,\"YD\")","v":244},{"$f":"D165-F165","v":7914},{"$f":"\"MRS \"&TEXT(J165,\"00000\")&\" \"&SUBSTITUTE(C165,\":\",\"\")&\" (\"&TEXT(D165,\"TT.MM.JJJJ\")&\") - \"&E165&\" (\"&TEXT(F165,\"TT.MM.JJJJ\")&\") \"&H165&\"-\"&I165","v":"MRS 07914 Hamlet (05.06.1997) - Kate Winslet (05.10.1975) 21-244"}]
["tt0116722","nm0000701",{"$f":"_xlfn.XLOOKUP($A166,_xlfn.CHOOSECOLS(_xlfn.ANCHORARRAY(Filme!$G$1),2),_xlfn.CHOOSECOLS(_xlfn.ANCHORARRAY(Filme!$G$1),3),\"\",0,2)","v":"Jude"},{"$f":"_xlfn.XLOOKUP($A166,_xlfn.CHOOSECOLS(_xlfn.ANCHORARRAY(Filme!$G$1),2),_xlfn.CHOOSECOLS(_xlfn.ANCHORARRAY(Filme!$G$1),4),\"\",0,2)","v":"1997-02-06"},{"$f":"_xlfn.XLOOKUP($B166,_xlfn.CHOOSECOLS(_xlfn.ANCHORARRAY(Leute!$F$1),2),_xlfn.CHOOSECOLS(_xlfn.ANCHORARRAY(Leute!$F$1),3),\"x\",0,2)","v":"Kate Winslet"},{"$f":"_xlfn.XLOOKUP($B166,_xlfn.CHOOSECOLS(_xlfn.ANCHORARRAY(Leute!$F$1),2),_xlfn.CHOOSECOLS(_xlfn.ANCHORARRAY(Leute!$F$1),4),\"x\",0,2)","v":"1975-10-05"},{"$f":"RANK(F166,F$1:F166,0)","v":21},{"$f":"DATEDIF(F166,D166,\"Y\")","v":21},{"$f":"DATEDIF(F166,D166,\"YD\")","v":124},{"$f":"D166-F166","v":7795},{"$f":"\"MRS \"&TEXT(J166,\"00000\")&\" \"&SUBSTITUTE(C166,\":\",\"\")&\" (\"&TEXT(D166,\"TT.MM.JJJJ\")&\") - \"&E166&\" (\"&TEXT(F166,\"TT.MM.JJJJ\")&\") \"&H166&\"-\"&I166","v":"MRS 07795 Jude (06.02.1997) - Kate Winslet (05.10.1975) 21-124"}]
["tt0120338","nm0000701",{"$f":"_xlfn.XLOOKUP($A167,_xlfn.CHOOSECOLS(_xlfn.ANCHORARRAY(Filme!$G$1),2),_xlfn.CHOOSECOLS(_xlfn.ANCHORARRAY(Filme!$G$1),3),\"\",0,2)","v":"Titanic"},{"$f":"_xlfn.XLOOKUP($A167,_xlfn.CHOOSECOLS(_xlfn.ANCHORARRAY(Filme!$G$1),2),_xlfn.CHOOSECOLS(_xlfn.ANCHORARRAY(Filme!$G$1),4),\"\",0,2)","v":"1998-01-08"},{"$f":"_xlfn.XLOOKUP($B167,_xlfn.CHOOSECOLS(_xlfn.ANCHORARRAY(Leute!$F$1),2),_xlfn.CHOOSECOLS(_xlfn.ANCHORARRAY(Leute!$F$1),3),\"x\",0,2)","v":"Kate Winslet"},{"$f":"_xlfn.XLOOKUP($B167,_xlfn.CHOOSECOLS(_xlfn.ANCHORARRAY(Leute!$F$1),2),_xlfn.CHOOSECOLS(_xlfn.ANCHORARRAY(Leute!$F$1),4),\"x\",0,2)","v":"1975-10-05"},{"$f":"RANK(F167,F$1:F167,0)","v":21},{"$f":"DATEDIF(F167,D167,\"Y\")","v":22},{"$f":"DATEDIF(F167,D167,\"YD\")","v":95},{"$f":"D167-F167","v":8131},{"$f":"\"MRS \"&TEXT(J167,\"00000\")&\" \"&SUBSTITUTE(C167,\":\",\"\")&\" (\"&TEXT(D167,\"TT.MM.JJJJ\")&\") - \"&E167&\" (\"&TEXT(F167,\"TT.MM.JJJJ\")&\") \"&H167&\"-\"&I167","v":"MRS 08131 Titanic (08.01.1998) - Kate Winslet (05.10.1975) 22-95"}]
["tt0136244","nm0000701",{"$f":"_xlfn.XLOOKUP($A168,_xlfn.CHOOSECOLS(_xlfn.ANCHORARRAY(Filme!$G$1),2),_xlfn.CHOOSECOLS(_xlfn.ANCHORARRAY(Filme!$G$1),3),\"\",0,2)","v":"Hideous Kinky"},{"$f":"_xlfn.XLOOKUP($A168,_xlfn.CHOOSECOLS(_xlfn.ANCHORARRAY(Filme!$G$1),2),_xlfn.CHOOSECOLS(_xlfn.ANCHORARRAY(Filme!$G$1),4),\"\",0,2)","v":"1999-04-15"},{"$f":"_xlfn.XLOOKUP($B168,_xlfn.CHOOSECOLS(_xlfn.ANCHORARRAY(Leute!$F$1),2),_xlfn.CHOOSECOLS(_xlfn.ANCHORARRAY(Leute!$F$1),3),\"x\",0,2)","v":"Kate Winslet"},{"$f":"_xlfn.XLOOKUP($B168,_xlfn.CHOOSECOLS(_xlfn.ANCHORARRAY(Leute!$F$1),2),_xlfn.CHOOSECOLS(_xlfn.ANCHORARRAY(Leute!$F$1),4),\"x\",0,2)","v":"1975-10-05"},{"$f":"RANK(F168,F$1:F168,0)","v":21},{"$f":"DATEDIF(F168,D168,\"Y\")","v":23},{"$f":"DATEDIF(F168,D168,\"YD\")","v":193},{"$f":"D168-F168","v":8593},{"$f":"\"MRS \"&TEXT(J168,\"00000\")&\" \"&SUBSTITUTE(C168,\":\",\"\")&\" (\"&TEXT(D168,\"TT.MM.JJJJ\")&\") - \"&E168&\" (\"&TEXT(F168,\"TT.MM.JJJJ\")&\") \"&H168&\"-\"&I168","v":"MRS 08593 Hideous Kinky (15.04.1999) - Kate Winslet (05.10.1975) 23-193"}]
["tt0144715","nm0000701",{"$f":"_xlfn.XLOOKUP($A169,_xlfn.CHOOSECOLS(_xlfn.ANCHORARRAY(Filme!$G$1),2),_xlfn.CHOOSECOLS(_xlfn.ANCHORARRAY(Filme!$G$1),3),\"\",0,2)","v":"Holy Smoke"},{"$f":"_xlfn.XLOOKUP($A169,_xlfn.CHOOSECOLS(_xlfn.ANCHORARRAY(Filme!$G$1),2),_xlfn.CHOOSECOLS(_xlfn.ANCHORARRAY(Filme!$G$1),4),\"\",0,2)","v":"1999-12-26"},{"$f":"_xlfn.XLOOKUP($B169,_xlfn.CHOOSECOLS(_xlfn.ANCHORARRAY(Leute!$F$1),2),_xlfn.CHOOSECOLS(_xlfn.ANCHORARRAY(Leute!$F$1),3),\"x\",0,2)","v":"Kate Winslet"},{"$f":"_xlfn.XLOOKUP($B169,_xlfn.CHOOSECOLS(_xlfn.ANCHORARRAY(Leute!$F$1),2),_xlfn.CHOOSECOLS(_xlfn.ANCHORARRAY(Leute!$F$1),4),\"x\",0,2)","v":"1975-10-05"},{"$f":"RANK(F169,F$1:F169,0)","v":21},{"$f":"DATEDIF(F169,D169,\"Y\")","v":24},{"$f":"DATEDIF(F169,D169,\"YD\")","v":82},{"$f":"D169-F169","v":8848},{"$f":"\"MRS \"&TEXT(J169,\"00000\")&\" \"&SUBSTITUTE(C169,\":\",\"\")&\" (\"&TEXT(D169,\"TT.MM.JJJJ\")&\") - \"&E169&\" (\"&TEXT(F169,\"TT.MM.JJJJ\")&\") \"&H169&\"-\"&I169","v":"MRS 08848 Holy Smoke (26.12.1999) - Kate Winslet (05.10.1975) 24-82"}]
["tt0180073","nm0000701",{"$f":"_xlfn.XLOOKUP($A170,_xlfn.CHOOSECOLS(_xlfn.ANCHORARRAY(Filme!$G$1),2),_xlfn.CHOOSECOLS(_xlfn.ANCHORARRAY(Filme!$G$1),3),\"\",0,2)","v":"Quills"},{"$f":"_xlfn.XLOOKUP($A170,_xlfn.CHOOSECOLS(_xlfn.ANCHORARRAY(Filme!$G$1),2),_xlfn.CHOOSECOLS(_xlfn.ANCHORARRAY(Filme!$G$1),4),\"\",0,2)","v":"2001-03-08"},{"$f":"_xlfn.XLOOKUP($B170,_xlfn.CHOOSECOLS(_xlfn.ANCHORARRAY(Leute!$F$1),2),_xlfn.CHOOSECOLS(_xlfn.ANCHORARRAY(Leute!$F$1),3),\"x\",0,2)","v":"Kate Winslet"},{"$f":"_xlfn.XLOOKUP($B170,_xlfn.CHOOSECOLS(_xlfn.ANCHORARRAY(Leute!$F$1),2),_xlfn.CHOOSECOLS(_xlfn.ANCHORARRAY(Leute!$F$1),4),\"x\",0,2)","v":"1975-10-05"},{"$f":"RANK(F170,F$1:F170,0)","v":21},{"$f":"DATEDIF(F170,D170,\"Y\")","v":25},{"$f":"DATEDIF(F170,D170,\"YD\")","v":155},{"$f":"D170-F170","v":9286},{"$f":"\"MRS \"&TEXT(J170,\"00000\")&\" \"&SUBSTITUTE(C170,\":\",\"\")&\" (\"&TEXT(D170,\"TT.MM.JJJJ\")&\") - \"&E170&\" (\"&TEXT(F170,\"TT.MM.JJJJ\")&\") \"&H170&\"-\"&I170","v":"MRS 09286 Quills (08.03.2001) - Kate Winslet (05.10.1975) 25-155"}]
["tt0280778","nm0000701",{"$f":"_xlfn.XLOOKUP($A171,_xlfn.CHOOSECOLS(_xlfn.ANCHORARRAY(Filme!$G$1),2),_xlfn.CHOOSECOLS(_xlfn.ANCHORARRAY(Filme!$G$1),3),\"\",0,2)","v":"Iris"},{"$f":"_xlfn.XLOOKUP($A171,_xlfn.CHOOSECOLS(_xlfn.ANCHORARRAY(Filme!$G$1),2),_xlfn.CHOOSECOLS(_xlfn.ANCHORARRAY(Filme!$G$1),4),\"\",0,2)","v":"2002-05-16"},{"$f":"_xlfn.XLOOKUP($B171,_xlfn.CHOOSECOLS(_xlfn.ANCHORARRAY(Leute!$F$1),2),_xlfn.CHOOSECOLS(_xlfn.ANCHORARRAY(Leute!$F$1),3),\"x\",0,2)","v":"Kate Winslet"},{"$f":"_xlfn.XLOOKUP($B171,_xlfn.CHOOSECOLS(_xlfn.ANCHORARRAY(Leute!$F$1),2),_xlfn.CHOOSECOLS(_xlfn.ANCHORARRAY(Leute!$F$1),4),\"x\",0,2)","v":"1975-10-05"},{"$f":"RANK(F171,F$1:F171,0)","v":21},{"$f":"DATEDIF(F171,D171,\"Y\")","v":26},{"$f":"DATEDIF(F171,D171,\"YD\")","v":224},{"$f":"D171-F171","v":9720},{"$f":"\"MRS \"&TEXT(J171,\"00000\")&\" \"&SUBSTITUTE(C171,\":\",\"\")&\" (\"&TEXT(D171,\"TT.MM.JJJJ\")&\") - \"&E171&\" (\"&TEXT(F171,\"TT.MM.JJJJ\")&\") \"&H171&\"-\"&I171","v":"MRS 09720 Iris (16.05.2002) - Kate Winslet (05.10.1975) 26-224"}]
["tt0404203","nm0000701",{"$f":"_xlfn.XLOOKUP($A172,_xlfn.CHOOSECOLS(_xlfn.ANCHORARRAY(Filme!$G$1),2),_xlfn.CHOOSECOLS(_xlfn.ANCHORARRAY(Filme!$G$1),3),\"\",0,2)","v":"Little Children"},{"$f":"_xlfn.XLOOKUP($A172,_xlfn.CHOOSECOLS(_xlfn.ANCHORARRAY(Filme!$G$1),2),_xlfn.CHOOSECOLS(_xlfn.ANCHORARRAY(Filme!$G$1),4),\"\",0,2)","v":"2007-04-26"},{"$f":"_xlfn.XLOOKUP($B172,_xlfn.CHOOSECOLS(_xlfn.ANCHORARRAY(Leute!$F$1),2),_xlfn.CHOOSECOLS(_xlfn.ANCHORARRAY(Leute!$F$1),3),\"x\",0,2)","v":"Kate Winslet"},{"$f":"_xlfn.XLOOKUP($B172,_xlfn.CHOOSECOLS(_xlfn.ANCHORARRAY(Leute!$F$1),2),_xlfn.CHOOSECOLS(_xlfn.ANCHORARRAY(Leute!$F$1),4),\"x\",0,2)","v":"1975-10-05"},{"$f":"RANK(F172,F$1:F172,0)","v":21},{"$f":"DATEDIF(F172,D172,\"Y\")","v":31},{"$f":"DATEDIF(F172,D172,\"YD\")","v":204},{"$f":"D172-F172","v":11526},{"$f":"\"MRS \"&TEXT(J172,\"00000\")&\" \"&SUBSTITUTE(C172,\":\",\"\")&\" (\"&TEXT(D172,\"TT.MM.JJJJ\")&\") - \"&E172&\" (\"&TEXT(F172,\"TT.MM.JJJJ\")&\") \"&H172&\"-\"&I172","v":"MRS 11526 Little Children (26.04.2007) - Kate Winslet (05.10.1975) 31-204"}]
["tt0976051","nm0000701",{"$f":"_xlfn.XLOOKUP($A173,_xlfn.CHOOSECOLS(_xlfn.ANCHORARRAY(Filme!$G$1),2),_xlfn.CHOOSECOLS(_xlfn.ANCHORARRAY(Filme!$G$1),3),\"\",0,2)","v":"The Reader"},{"$f":"_xlfn.XLOOKUP($A173,_xlfn.CHOOSECOLS(_xlfn.ANCHORARRAY(Filme!$G$1),2),_xlfn.CHOOSECOLS(_xlfn.ANCHORARRAY(Filme!$G$1),4),\"\",0,2)","v":"2009-02-26"},{"$f":"_xlfn.XLOOKUP($B173,_xlfn.CHOOSECOLS(_xlfn.ANCHORARRAY(Leute!$F$1),2),_xlfn.CHOOSECOLS(_xlfn.ANCHORARRAY(Leute!$F$1),3),\"x\",0,2)","v":"Kate Winslet"},{"$f":"_xlfn.XLOOKUP($B173,_xlfn.CHOOSECOLS(_xlfn.ANCHORARRAY(Leute!$F$1),2),_xlfn.CHOOSECOLS(_xlfn.ANCHORARRAY(Leute!$F$1),4),\"x\",0,2)","v":"1975-10-05"},{"$f":"RANK(F173,F$1:F173,0)","v":21},{"$f":"DATEDIF(F173,D173,\"Y\")","v":33},{"$f":"DATEDIF(F173,D173,\"YD\")","v":144},{"$f":"D173-F173","v":12198},{"$f":"\"MRS \"&TEXT(J173,\"00000\")&\" \"&SUBSTITUTE(C173,\":\",\"\")&\" (\"&TEXT(D173,\"TT.MM.JJJJ\")&\") - \"&E173&\" (\"&TEXT(F173,\"TT.MM.JJJJ\")&\") \"&H173&\"-\"&I173","v":"MRS 12198 The Reader (26.02.2009) - Kate Winslet (05.10.1975) 33-144"}]
["tt11033898","nm0000701",{"$f":"_xlfn.XLOOKUP($A174,_xlfn.CHOOSECOLS(_xlfn.ANCHORARRAY(Filme!$G$1),2),_xlfn.CHOOSECOLS(_xlfn.ANCHORARRAY(Filme!$G$1),3),\"\",0,2)","v":"Mare of Easttown"},{"$f":"_xlfn.XLOOKUP($A174,_xlfn.CHOOSECOLS(_xlfn.ANCHORARRAY(Filme!$G$1),2),_xlfn.CHOOSECOLS(_xlfn.ANCHORARRAY(Filme!$G$1),4),\"\",0,2)","v":"2021-05-21"},{"$f":"_xlfn.XLOOKUP($B174,_xlfn.CHOOSECOLS(_xlfn.ANCHORARRAY(Leute!$F$1),2),_xlfn.CHOOSECOLS(_xlfn.ANCHORARRAY(Leute!$F$1),3),\"x\",0,2)","v":"Kate Winslet"},{"$f":"_xlfn.XLOOKUP($B174,_xlfn.CHOOSECOLS(_xlfn.ANCHORARRAY(Leute!$F$1),2),_xlfn.CHOOSECOLS(_xlfn.ANCHORARRAY(Leute!$F$1),4),\"x\",0,2)","v":"1975-10-05"},{"$f":"RANK(F174,F$1:F174,0)","v":21},{"$f":"DATEDIF(F174,D174,\"Y\")","v":45},{"$f":"DATEDIF(F174,D174,\"YD\")","v":229},{"$f":"D174-F174","v":16665},{"$f":"\"MRS \"&TEXT(J174,\"00000\")&\" \"&SUBSTITUTE(C174,\":\",\"\")&\" (\"&TEXT(D174,\"TT.MM.JJJJ\")&\") - \"&E174&\" (\"&TEXT(F174,\"TT.MM.JJJJ\")&\") \"&H174&\"-\"&I174","v":"MRS 16665 Mare of Easttown (21.05.2021) - Kate Winslet (05.10.1975) 45-229"}]
["tt1679750","nm0000701",{"$f":"_xlfn.XLOOKUP($A175,_xlfn.CHOOSECOLS(_xlfn.ANCHORARRAY(Filme!$G$1),2),_xlfn.CHOOSECOLS(_xlfn.ANCHORARRAY(Filme!$G$1),3),\"\",0,2)","v":"Mildred Pierce"},{"$f":"_xlfn.XLOOKUP($A175,_xlfn.CHOOSECOLS(_xlfn.ANCHORARRAY(Filme!$G$1),2),_xlfn.CHOOSECOLS(_xlfn.ANCHORARRAY(Filme!$G$1),4),\"\",0,2)","v":"2012-03-11"},{"$f":"_xlfn.XLOOKUP($B175,_xlfn.CHOOSECOLS(_xlfn.ANCHORARRAY(Leute!$F$1),2),_xlfn.CHOOSECOLS(_xlfn.ANCHORARRAY(Leute!$F$1),3),\"x\",0,2)","v":"Kate Winslet"},{"$f":"_xlfn.XLOOKUP($B175,_xlfn.CHOOSECOLS(_xlfn.ANCHORARRAY(Leute!$F$1),2),_xlfn.CHOOSECOLS(_xlfn.ANCHORARRAY(Leute!$F$1),4),\"x\",0,2)","v":"1975-10-05"},{"$f":"RANK(F175,F$1:F175,0)","v":21},{"$f":"DATEDIF(F175,D175,\"Y\")","v":36},{"$f":"DATEDIF(F175,D175,\"YD\")","v":158},{"$f":"D175-F175","v":13307},{"$f":"\"MRS \"&TEXT(J175,\"00000\")&\" \"&SUBSTITUTE(C175,\":\",\"\")&\" (\"&TEXT(D175,\"TT.MM.JJJJ\")&\") - \"&E175&\" (\"&TEXT(F175,\"TT.MM.JJJJ\")&\") \"&H175&\"-\"&I175","v":"MRS 13307 Mildred Pierce (11.03.2012) - Kate Winslet (05.10.1975) 36-158"}]
["tt2226597","nm0000701",{"$f":"_xlfn.XLOOKUP($A176,_xlfn.CHOOSECOLS(_xlfn.ANCHORARRAY(Filme!$G$1),2),_xlfn.CHOOSECOLS(_xlfn.ANCHORARRAY(Filme!$G$1),3),\"\",0,2)","v":"The Mountain Between Us"},{"$f":"_xlfn.XLOOKUP($A176,_xlfn.CHOOSECOLS(_xlfn.ANCHORARRAY(Filme!$G$1),2),_xlfn.CHOOSECOLS(_xlfn.ANCHORARRAY(Filme!$G$1),4),\"\",0,2)","v":"2017-12-07"},{"$f":"_xlfn.XLOOKUP($B176,_xlfn.CHOOSECOLS(_xlfn.ANCHORARRAY(Leute!$F$1),2),_xlfn.CHOOSECOLS(_xlfn.ANCHORARRAY(Leute!$F$1),3),\"x\",0,2)","v":"Kate Winslet"},{"$f":"_xlfn.XLOOKUP($B176,_xlfn.CHOOSECOLS(_xlfn.ANCHORARRAY(Leute!$F$1),2),_xlfn.CHOOSECOLS(_xlfn.ANCHORARRAY(Leute!$F$1),4),\"x\",0,2)","v":"1975-10-05"},{"$f":"RANK(F176,F$1:F176,0)","v":21},{"$f":"DATEDIF(F176,D176,\"Y\")","v":42},{"$f":"DATEDIF(F176,D176,\"YD\")","v":63},{"$f":"D176-F176","v":15404},{"$f":"\"MRS \"&TEXT(J176,\"00000\")&\" \"&SUBSTITUTE(C176,\":\",\"\")&\" (\"&TEXT(D176,\"TT.MM.JJJJ\")&\") - \"&E176&\" (\"&TEXT(F176,\"TT.MM.JJJJ\")&\") \"&H176&\"-\"&I176","v":"MRS 15404 The Mountain Between Us (07.12.2017) - Kate Winslet (05.10.1975) 42-63"}]
["tt5112584","nm0000701",{"$f":"_xlfn.XLOOKUP($A177,_xlfn.CHOOSECOLS(_xlfn.ANCHORARRAY(Filme!$G$1),2),_xlfn.CHOOSECOLS(_xlfn.ANCHORARRAY(Filme!$G$1),3),\"\",0,2)","v":"Lee"},{"$f":"_xlfn.XLOOKUP($A177,_xlfn.CHOOSECOLS(_xlfn.ANCHORARRAY(Filme!$G$1),2),_xlfn.CHOOSECOLS(_xlfn.ANCHORARRAY(Filme!$G$1),4),\"\",0,2)","v":"2024-09-19"},{"$f":"_xlfn.XLOOKUP($B177,_xlfn.CHOOSECOLS(_xlfn.ANCHORARRAY(Leute!$F$1),2),_xlfn.CHOOSECOLS(_xlfn.ANCHORARRAY(Leute!$F$1),3),\"x\",0,2)","v":"Kate Winslet"},{"$f":"_xlfn.XLOOKUP($B177,_xlfn.CHOOSECOLS(_xlfn.ANCHORARRAY(Leute!$F$1),2),_xlfn.CHOOSECOLS(_xlfn.ANCHORARRAY(Leute!$F$1),4),\"x\",0,2)","v":"1975-10-05"},{"$f":"RANK(F177,F$1:F177,0)","v":21},{"$f":"DATEDIF(F177,D177,\"Y\")","v":48},{"$f":"DATEDIF(F177,D177,\"YD\")","v":350},{"$f":"D177-F177","v":17882},{"$f":"\"MRS \"&TEXT(J177,\"00000\")&\" \"&SUBSTITUTE(C177,\":\",\"\")&\" (\"&TEXT(D177,\"TT.MM.JJJJ\")&\") - \"&E177&\" (\"&TEXT(F177,\"TT.MM.JJJJ\")&\") \"&H177&\"-\"&I177","v":"MRS 17882 Lee (19.09.2024) - Kate Winslet (05.10.1975) 48-350"}]
["tt7983894","nm0000701",{"$f":"_xlfn.XLOOKUP($A178,_xlfn.CHOOSECOLS(_xlfn.ANCHORARRAY(Filme!$G$1),2),_xlfn.CHOOSECOLS(_xlfn.ANCHORARRAY(Filme!$G$1),3),\"\",0,2)","v":"Ammonite"},{"$f":"_xlfn.XLOOKUP($A178,_xlfn.CHOOSECOLS(_xlfn.ANCHORARRAY(Filme!$G$1),2),_xlfn.CHOOSECOLS(_xlfn.ANCHORARRAY(Filme!$G$1),4),\"\",0,2)","v":"2021-11-04"},{"$f":"_xlfn.XLOOKUP($B178,_xlfn.CHOOSECOLS(_xlfn.ANCHORARRAY(Leute!$F$1),2),_xlfn.CHOOSECOLS(_xlfn.ANCHORARRAY(Leute!$F$1),3),\"x\",0,2)","v":"Kate Winslet"},{"$f":"_xlfn.XLOOKUP($B178,_xlfn.CHOOSECOLS(_xlfn.ANCHORARRAY(Leute!$F$1),2),_xlfn.CHOOSECOLS(_xlfn.ANCHORARRAY(Leute!$F$1),4),\"x\",0,2)","v":"1975-10-05"},{"$f":"RANK(F178,F$1:F178,0)","v":21},{"$f":"DATEDIF(F178,D178,\"Y\")","v":46},{"$f":"DATEDIF(F178,D178,\"YD\")","v":30},{"$f":"D178-F178","v":16832},{"$f":"\"MRS \"&TEXT(J178,\"00000\")&\" \"&SUBSTITUTE(C178,\":\",\"\")&\" (\"&TEXT(D178,\"TT.MM.JJJJ\")&\") - \"&E178&\" (\"&TEXT(F178,\"TT.MM.JJJJ\")&\") \"&H178&\"-\"&I178","v":"MRS 16832 Ammonite (04.11.2021) - Kate Winslet (05.10.1975) 46-30"}]
["tt0119594","nm0000702",{"$f":"_xlfn.XLOOKUP($A179,_xlfn.CHOOSECOLS(_xlfn.ANCHORARRAY(Filme!$G$1),2),_xlfn.CHOOSECOLS(_xlfn.ANCHORARRAY(Filme!$G$1),3),\"\",0,2)","v":"Twilight"},{"$f":"_xlfn.XLOOKUP($A179,_xlfn.CHOOSECOLS(_xlfn.ANCHORARRAY(Filme!$G$1),2),_xlfn.CHOOSECOLS(_xlfn.ANCHORARRAY(Filme!$G$1),4),\"\",0,2)","v":"1998-08-06"},{"$f":"_xlfn.XLOOKUP($B179,_xlfn.CHOOSECOLS(_xlfn.ANCHORARRAY(Leute!$F$1),2),_xlfn.CHOOSECOLS(_xlfn.ANCHORARRAY(Leute!$F$1),3),\"x\",0,2)","v":"Reese Witherspoon"},{"$f":"_xlfn.XLOOKUP($B179,_xlfn.CHOOSECOLS(_xlfn.ANCHORARRAY(Leute!$F$1),2),_xlfn.CHOOSECOLS(_xlfn.ANCHORARRAY(Leute!$F$1),4),\"x\",0,2)","v":"1976-03-22"},{"$f":"RANK(F179,F$1:F179,0)","v":21},{"$f":"DATEDIF(F179,D179,\"Y\")","v":22},{"$f":"DATEDIF(F179,D179,\"YD\")","v":137},{"$f":"D179-F179","v":8172},{"$f":"\"MRS \"&TEXT(J179,\"00000\")&\" \"&SUBSTITUTE(C179,\":\",\"\")&\" (\"&TEXT(D179,\"TT.MM.JJJJ\")&\") - \"&E179&\" (\"&TEXT(F179,\"TT.MM.JJJJ\")&\") \"&H179&\"-\"&I179","v":"MRS 08172 Twilight (06.08.1998) - Reese Witherspoon (22.03.1976) 22-137"}]
["tt2305051","nm0000702",{"$f":"_xlfn.XLOOKUP($A180,_xlfn.CHOOSECOLS(_xlfn.ANCHORARRAY(Filme!$G$1),2),_xlfn.CHOOSECOLS(_xlfn.ANCHORARRAY(Filme!$G$1),3),\"\",0,2)","v":"Wild"},{"$f":"_xlfn.XLOOKUP($A180,_xlfn.CHOOSECOLS(_xlfn.ANCHORARRAY(Filme!$G$1),2),_xlfn.CHOOSECOLS(_xlfn.ANCHORARRAY(Filme!$G$1),4),\"\",0,2)","v":"2015-01-15"},{"$f":"_xlfn.XLOOKUP($B180,_xlfn.CHOOSECOLS(_xlfn.ANCHORARRAY(Leute!$F$1),2),_xlfn.CHOOSECOLS(_xlfn.ANCHORARRAY(Leute!$F$1),3),\"x\",0,2)","v":"Reese Witherspoon"},{"$f":"_xlfn.XLOOKUP($B180,_xlfn.CHOOSECOLS(_xlfn.ANCHORARRAY(Leute!$F$1),2),_xlfn.CHOOSECOLS(_xlfn.ANCHORARRAY(Leute!$F$1),4),\"x\",0,2)","v":"1976-03-22"},{"$f":"RANK(F180,F$1:F180,0)","v":21},{"$f":"DATEDIF(F180,D180,\"Y\")","v":38},{"$f":"DATEDIF(F180,D180,\"YD\")","v":299},{"$f":"D180-F180","v":14178},{"$f":"\"MRS \"&TEXT(J180,\"00000\")&\" \"&SUBSTITUTE(C180,\":\",\"\")&\" (\"&TEXT(D180,\"TT.MM.JJJJ\")&\") - \"&E180&\" (\"&TEXT(F180,\"TT.MM.JJJJ\")&\") \"&H180&\"-\"&I180","v":"MRS 14178 Wild (15.01.2015) - Reese Witherspoon (22.03.1976) 38-299"}]
["tt1850784","nm0000868",{"$f":"_xlfn.XLOOKUP($A181,_xlfn.CHOOSECOLS(_xlfn.ANCHORARRAY(Filme!$G$1),2),_xlfn.CHOOSECOLS(_xlfn.ANCHORARRAY(Filme!$G$1),3),\"\",0,2)","v":"Out of Order"},{"$f":"_xlfn.XLOOKUP($A181,_xlfn.CHOOSECOLS(_xlfn.ANCHORARRAY(Filme!$G$1),2),_xlfn.CHOOSECOLS(_xlfn.ANCHORARRAY(Filme!$G$1),4),\"\",0,2)","v":"2003-06-16"},{"$f":"_xlfn.XLOOKUP($B181,_xlfn.CHOOSECOLS(_xlfn.ANCHORARRAY(Leute!$F$1),2),_xlfn.CHOOSECOLS(_xlfn.ANCHORARRAY(Leute!$F$1),3),\"x\",0,2)","v":"Justine Bateman"},{"$f":"_xlfn.XLOOKUP($B181,_xlfn.CHOOSECOLS(_xlfn.ANCHORARRAY(Leute!$F$1),2),_xlfn.CHOOSECOLS(_xlfn.ANCHORARRAY(Leute!$F$1),4),\"x\",0,2)","v":"1966-02-19"},{"$f":"RANK(F181,F$1:F181,0)","v":117},{"$f":"DATEDIF(F181,D181,\"Y\")","v":37},{"$f":"DATEDIF(F181,D181,\"YD\")","v":117},{"$f":"D181-F181","v":13631},{"$f":"\"MRS \"&TEXT(J181,\"00000\")&\" \"&SUBSTITUTE(C181,\":\",\"\")&\" (\"&TEXT(D181,\"TT.MM.JJJJ\")&\") - \"&E181&\" (\"&TEXT(F181,\"TT.MM.JJJJ\")&\") \"&H181&\"-\"&I181","v":"MRS 13631 Out of Order (16.06.2003) - Justine Bateman (19.02.1966) 37-117"}]
["tt0101373","nm0000870",{"$f":"_xlfn.XLOOKUP($A182,_xlfn.CHOOSECOLS(_xlfn.ANCHORARRAY(Filme!$G$1),2),_xlfn.CHOOSECOLS(_xlfn.ANCHORARRAY(Filme!$G$1),3),\"\",0,2)","v":"At Play in the Fields of the Lord"},{"$f":"_xlfn.XLOOKUP($A182,_xlfn.CHOOSECOLS(_xlfn.ANCHORARRAY(Filme!$G$1),2),_xlfn.CHOOSECOLS(_xlfn.ANCHORARRAY(Filme!$G$1),4),\"\",0,2)","v":"1992-12-17"},{"$f":"_xlfn.XLOOKUP($B182,_xlfn.CHOOSECOLS(_xlfn.ANCHORARRAY(Leute!$F$1),2),_xlfn.CHOOSECOLS(_xlfn.ANCHORARRAY(Leute!$F$1),3),\"x\",0,2)","v":"Kathy Bates"},{"$f":"_xlfn.XLOOKUP($B182,_xlfn.CHOOSECOLS(_xlfn.ANCHORARRAY(Leute!$F$1),2),_xlfn.CHOOSECOLS(_xlfn.ANCHORARRAY(Leute!$F$1),4),\"x\",0,2)","v":"1948-06-28"},{"$f":"RANK(F182,F$1:F182,0)","v":180},{"$f":"DATEDIF(F182,D182,\"Y\")","v":44},{"$f":"DATEDIF(F182,D182,\"YD\")","v":172},{"$f":"D182-F182","v":16243},{"$f":"\"MRS \"&TEXT(J182,\"00000\")&\" \"&SUBSTITUTE(C182,\":\",\"\")&\" (\"&TEXT(D182,\"TT.MM.JJJJ\")&\") - \"&E182&\" (\"&TEXT(F182,\"TT.MM.JJJJ\")&\") \"&H182&\"-\"&I182","v":"MRS 16243 At Play in the Fields of the Lord (17.12.1992) - Kathy Bates (28.06.1948) 44-172"}]
["tt0257360","nm0000870",{"$f":"_xlfn.XLOOKUP($A183,_xlfn.CHOOSECOLS(_xlfn.ANCHORARRAY(Filme!$G$1),2),_xlfn.CHOOSECOLS(_xlfn.ANCHORARRAY(Filme!$G$1),3),\"\",0,2)","v":"About Schmidt"},{"$f":"_xlfn.XLOOKUP($A183,_xlfn.CHOOSECOLS(_xlfn.ANCHORARRAY(Filme!$G$1),2),_xlfn.CHOOSECOLS(_xlfn.ANCHORARRAY(Filme!$G$1),4),\"\",0,2)","v":"2003-02-27"},{"$f":"_xlfn.XLOOKUP($B183,_xlfn.CHOOSECOLS(_xlfn.ANCHORARRAY(Leute!$F$1),2),_xlfn.CHOOSECOLS(_xlfn.ANCHORARRAY(Leute!$F$1),3),\"x\",0,2)","v":"Kathy Bates"},{"$f":"_xlfn.XLOOKUP($B183,_xlfn.CHOOSECOLS(_xlfn.ANCHORARRAY(Leute!$F$1),2),_xlfn.CHOOSECOLS(_xlfn.ANCHORARRAY(Leute!$F$1),4),\"x\",0,2)","v":"1948-06-28"},{"$f":"RANK(F183,F$1:F183,0)","v":180},{"$f":"DATEDIF(F183,D183,\"Y\")","v":54},{"$f":"DATEDIF(F183,D183,\"YD\")","v":244},{"$f":"D183-F183","v":19967},{"$f":"\"MRS \"&TEXT(J183,\"00000\")&\" \"&SUBSTITUTE(C183,\":\",\"\")&\" (\"&TEXT(D183,\"TT.MM.JJJJ\")&\") - \"&E183&\" (\"&TEXT(F183,\"TT.MM.JJJJ\")&\") \"&H183&\"-\"&I183","v":"MRS 19967 About Schmidt (27.02.2003) - Kathy Bates (28.06.1948) 54-244"}]
["tt0103874","nm0000899",{"$f":"_xlfn.XLOOKUP($A184,_xlfn.CHOOSECOLS(_xlfn.ANCHORARRAY(Filme!$G$1),2),_xlfn.CHOOSECOLS(_xlfn.ANCHORARRAY(Filme!$G$1),3),\"\",0,2)","v":"Bram Stoker's Dracula"},{"$f":"_xlfn.XLOOKUP($A184,_xlfn.CHOOSECOLS(_xlfn.ANCHORARRAY(Filme!$G$1),2),_xlfn.CHOOSECOLS(_xlfn.ANCHORARRAY(Filme!$G$1),4),\"\",0,2)","v":"1993-02-11"},{"$f":"_xlfn.XLOOKUP($B184,_xlfn.CHOOSECOLS(_xlfn.ANCHORARRAY(Leute!$F$1),2),_xlfn.CHOOSECOLS(_xlfn.ANCHORARRAY(Leute!$F$1),3),\"x\",0,2)","v":"Monica Bellucci"},{"$f":"_xlfn.XLOOKUP($B184,_xlfn.CHOOSECOLS(_xlfn.ANCHORARRAY(Leute!$F$1),2),_xlfn.CHOOSECOLS(_xlfn.ANCHORARRAY(Leute!$F$1),4),\"x\",0,2)","v":"1964-09-30"},{"$f":"RANK(F184,F$1:F184,0)","v":125},{"$f":"DATEDIF(F184,D184,\"Y\")","v":28},{"$f":"DATEDIF(F184,D184,\"YD\")","v":134},{"$f":"D184-F184","v":10361},{"$f":"\"MRS \"&TEXT(J184,\"00000\")&\" \"&SUBSTITUTE(C184,\":\",\"\")&\" (\"&TEXT(D184,\"TT.MM.JJJJ\")&\") - \"&E184&\" (\"&TEXT(F184,\"TT.MM.JJJJ\")&\") \"&H184&\"-\"&I184","v":"MRS 10361 Bram Stoker's Dracula (11.02.1993) - Monica Bellucci (30.09.1964) 28-134"}]
["tt0119633","nm0000899",{"$f":"_xlfn.XLOOKUP($A185,_xlfn.CHOOSECOLS(_xlfn.ANCHORARRAY(Filme!$G$1),2),_xlfn.CHOOSECOLS(_xlfn.ANCHORARRAY(Filme!$G$1),3),\"\",0,2)","v":"Mauvais genre"},{"$f":"_xlfn.XLOOKUP($A185,_xlfn.CHOOSECOLS(_xlfn.ANCHORARRAY(Filme!$G$1),2),_xlfn.CHOOSECOLS(_xlfn.ANCHORARRAY(Filme!$G$1),4),\"\",0,2)","v":"1997-07-09"},{"$f":"_xlfn.XLOOKUP($B185,_xlfn.CHOOSECOLS(_xlfn.ANCHORARRAY(Leute!$F$1),2),_xlfn.CHOOSECOLS(_xlfn.ANCHORARRAY(Leute!$F$1),3),\"x\",0,2)","v":"Monica Bellucci"},{"$f":"_xlfn.XLOOKUP($B185,_xlfn.CHOOSECOLS(_xlfn.ANCHORARRAY(Leute!$F$1),2),_xlfn.CHOOSECOLS(_xlfn.ANCHORARRAY(Leute!$F$1),4),\"x\",0,2)","v":"1964-09-30"},{"$f":"RANK(F185,F$1:F185,0)","v":125},{"$f":"DATEDIF(F185,D185,\"Y\")","v":32},{"$f":"DATEDIF(F185,D185,\"YD\")","v":282},{"$f":"D185-F185","v":11970},{"$f":"\"MRS \"&TEXT(J185,\"00000\")&\" \"&SUBSTITUTE(C185,\":\",\"\")&\" (\"&TEXT(D185,\"TT.MM.JJJJ\")&\") - \"&E185&\" (\"&TEXT(F185,\"TT.MM.JJJJ\")&\") \"&H185&\"-\"&I185","v":"MRS 11970 Mauvais genre (09.07.1997) - Monica Bellucci (30.09.1964) 32-282"}]
["tt0134057","nm0000899",{"$f":"_xlfn.XLOOKUP($A186,_xlfn.CHOOSECOLS(_xlfn.ANCHORARRAY(Filme!$G$1),2),_xlfn.CHOOSECOLS(_xlfn.ANCHORARRAY(Filme!$G$1),3),\"\",0,2)","v":"La riffa"},{"$f":"_xlfn.XLOOKUP($A186,_xlfn.CHOOSECOLS(_xlfn.ANCHORARRAY(Filme!$G$1),2),_xlfn.CHOOSECOLS(_xlfn.ANCHORARRAY(Filme!$G$1),4),\"\",0,2)","v":"1991-11-15"},{"$f":"_xlfn.XLOOKUP($B186,_xlfn.CHOOSECOLS(_xlfn.ANCHORARRAY(Leute!$F$1),2),_xlfn.CHOOSECOLS(_xlfn.ANCHORARRAY(Leute!$F$1),3),\"x\",0,2)","v":"Monica Bellucci"},{"$f":"_xlfn.XLOOKUP($B186,_xlfn.CHOOSECOLS(_xlfn.ANCHORARRAY(Leute!$F$1),2),_xlfn.CHOOSECOLS(_xlfn.ANCHORARRAY(Leute!$F$1),4),\"x\",0,2)","v":"1964-09-30"},{"$f":"RANK(F186,F$1:F186,0)","v":125},{"$f":"DATEDIF(F186,D186,\"Y\")","v":27},{"$f":"DATEDIF(F186,D186,\"YD\")","v":46},{"$f":"D186-F186","v":9907},{"$f":"\"MRS \"&TEXT(J186,\"00000\")&\" \"&SUBSTITUTE(C186,\":\",\"\")&\" (\"&TEXT(D186,\"TT.MM.JJJJ\")&\") - \"&E186&\" (\"&TEXT(F186,\"TT.MM.JJJJ\")&\") \"&H186&\"-\"&I186","v":"MRS 09907 La riffa (15.11.1991) - Monica Bellucci (30.09.1964) 27-46"}]
["tt0137142","nm0000899",{"$f":"_xlfn.XLOOKUP($A187,_xlfn.CHOOSECOLS(_xlfn.ANCHORARRAY(Filme!$G$1),2),_xlfn.CHOOSECOLS(_xlfn.ANCHORARRAY(Filme!$G$1),3),\"\",0,2)","v":"Ostinato destino"},{"$f":"_xlfn.XLOOKUP($A187,_xlfn.CHOOSECOLS(_xlfn.ANCHORARRAY(Filme!$G$1),2),_xlfn.CHOOSECOLS(_xlfn.ANCHORARRAY(Filme!$G$1),4),\"\",0,2)","v":"1992-05-28"},{"$f":"_xlfn.XLOOKUP($B187,_xlfn.CHOOSECOLS(_xlfn.ANCHORARRAY(Leute!$F$1),2),_xlfn.CHOOSECOLS(_xlfn.ANCHORARRAY(Leute!$F$1),3),\"x\",0,2)","v":"Monica Bellucci"},{"$f":"_xlfn.XLOOKUP($B187,_xlfn.CHOOSECOLS(_xlfn.ANCHORARRAY(Leute!$F$1),2),_xlfn.CHOOSECOLS(_xlfn.ANCHORARRAY(Leute!$F$1),4),\"x\",0,2)","v":"1964-09-30"},{"$f":"RANK(F187,F$1:F187,0)","v":125},{"$f":"DATEDIF(F187,D187,\"Y\")","v":27},{"$f":"DATEDIF(F187,D187,\"YD\")","v":240},{"$f":"D187-F187","v":10102},{"$f":"\"MRS \"&TEXT(J187,\"00000\")&\" \"&SUBSTITUTE(C187,\":\",\"\")&\" (\"&TEXT(D187,\"TT.MM.JJJJ\")&\") - \"&E187&\" (\"&TEXT(F187,\"TT.MM.JJJJ\")&\") \"&H187&\"-\"&I187","v":"MRS 10102 Ostinato destino (28.05.1992) - Monica Bellucci (30.09.1964) 27-240"}]
["tt0137258","nm0000899",{"$f":"_xlfn.XLOOKUP($A188,_xlfn.CHOOSECOLS(_xlfn.ANCHORARRAY(Filme!$G$1),2),_xlfn.CHOOSECOLS(_xlfn.ANCHORARRAY(Filme!$G$1),3),\"\",0,2)","v":"Vita coi figli"},{"$f":"_xlfn.XLOOKUP($A188,_xlfn.CHOOSECOLS(_xlfn.ANCHORARRAY(Filme!$G$1),2),_xlfn.CHOOSECOLS(_xlfn.ANCHORARRAY(Filme!$G$1),4),\"\",0,2)","v":"1991-05-28"},{"$f":"_xlfn.XLOOKUP($B188,_xlfn.CHOOSECOLS(_xlfn.ANCHORARRAY(Leute!$F$1),2),_xlfn.CHOOSECOLS(_xlfn.ANCHORARRAY(Leute!$F$1),3),\"x\",0,2)","v":"Monica Bellucci"},{"$f":"_xlfn.XLOOKUP($B188,_xlfn.CHOOSECOLS(_xlfn.ANCHORARRAY(Leute!$F$1),2),_xlfn.CHOOSECOLS(_xlfn.ANCHORARRAY(Leute!$F$1),4),\"x\",0,2)","v":"1964-09-30"},{"$f":"RANK(F188,F$1:F188,0)","v":125},{"$f":"DATEDIF(F188,D188,\"Y\")","v":26},{"$f":"DATEDIF(F188,D188,\"YD\")","v":240},{"$f":"D188-F188","v":9736},{"$f":"\"MRS \"&TEXT(J188,\"00000\")&\" \"&SUBSTITUTE(C188,\":\",\"\")&\" (\"&TEXT(D188,\"TT.MM.JJJJ\")&\") - \"&E188&\" (\"&TEXT(F188,\"TT.MM.JJJJ\")&\") \"&H188&\"-\"&I188","v":"MRS 09736 Vita coi figli (28.05.1991) - Monica Bellucci (30.09.1964) 26-240"}]
["tt0140653","nm0000899",{"$f":"_xlfn.XLOOKUP($A189,_xlfn.CHOOSECOLS(_xlfn.ANCHORARRAY(Filme!$G$1),2),_xlfn.CHOOSECOLS(_xlfn.ANCHORARRAY(Filme!$G$1),3),\"\",0,2)","v":"L'ultimo capodanno"},{"$f":"_xlfn.XLOOKUP($A189,_xlfn.CHOOSECOLS(_xlfn.ANCHORARRAY(Filme!$G$1),2),_xlfn.CHOOSECOLS(_xlfn.ANCHORARRAY(Filme!$G$1),4),\"\",0,2)","v":"1998-03-06"},{"$f":"_xlfn.XLOOKUP($B189,_xlfn.CHOOSECOLS(_xlfn.ANCHORARRAY(Leute!$F$1),2),_xlfn.CHOOSECOLS(_xlfn.ANCHORARRAY(Leute!$F$1),3),\"x\",0,2)","v":"Monica Bellucci"},{"$f":"_xlfn.XLOOKUP($B189,_xlfn.CHOOSECOLS(_xlfn.ANCHORARRAY(Leute!$F$1),2),_xlfn.CHOOSECOLS(_xlfn.ANCHORARRAY(Leute!$F$1),4),\"x\",0,2)","v":"1964-09-30"},{"$f":"RANK(F189,F$1:F189,0)","v":125},{"$f":"DATEDIF(F189,D189,\"Y\")","v":33},{"$f":"DATEDIF(F189,D189,\"YD\")","v":157},{"$f":"D189-F189","v":12210},{"$f":"\"MRS \"&TEXT(J189,\"00000\")&\" \"&SUBSTITUTE(C189,\":\",\"\")&\" (\"&TEXT(D189,\"TT.MM.JJJJ\")&\") - \"&E189&\" (\"&TEXT(F189,\"TT.MM.JJJJ\")&\") \"&H189&\"-\"&I189","v":"MRS 12210 L'ultimo capodanno (06.03.1998) - Monica Bellucci (30.09.1964) 33-157"}]
["tt0160075","nm0000899",{"$f":"_xlfn.XLOOKUP($A190,_xlfn.CHOOSECOLS(_xlfn.ANCHORARRAY(Filme!$G$1),2),_xlfn.CHOOSECOLS(_xlfn.ANCHORARRAY(Filme!$G$1),3),\"\",0,2)","v":"Briganti: Amore e libertà"},{"$f":"_xlfn.XLOOKUP($A190,_xlfn.CHOOSECOLS(_xlfn.ANCHORARRAY(Filme!$G$1),2),_xlfn.CHOOSECOLS(_xlfn.ANCHORARRAY(Filme!$G$1),4),\"\",0,2)","v":"1994-12-31"},{"$f":"_xlfn.XLOOKUP($B190,_xlfn.CHOOSECOLS(_xlfn.ANCHORARRAY(Leute!$F$1),2),_xlfn.CHOOSECOLS(_xlfn.ANCHORARRAY(Leute!$F$1),3),\"x\",0,2)","v":"Monica Bellucci"},{"$f":"_xlfn.XLOOKUP($B190,_xlfn.CHOOSECOLS(_xlfn.ANCHORARRAY(Leute!$F$1),2),_xlfn.CHOOSECOLS(_xlfn.ANCHORARRAY(Leute!$F$1),4),\"x\",0,2)","v":"1964-09-30"},{"$f":"RANK(F190,F$1:F190,0)","v":125},{"$f":"DATEDIF(F190,D190,\"Y\")","v":30},{"$f":"DATEDIF(F190,D190,\"YD\")","v":92},{"$f":"D190-F190","v":11049},{"$f":"\"MRS \"&TEXT(J190,\"00000\")&\" \"&SUBSTITUTE(C190,\":\",\"\")&\" (\"&TEXT(D190,\"TT.MM.JJJJ\")&\") - \"&E190&\" (\"&TEXT(F190,\"TT.MM.JJJJ\")&\") \"&H190&\"-\"&I190","v":"MRS 11049 Briganti Amore e libertà (31.12.1994) - Monica Bellucci (30.09.1964) 30-92"}]
["tt0164212","nm0000899",{"$f":"_xlfn.XLOOKUP($A191,_xlfn.CHOOSECOLS(_xlfn.ANCHORARRAY(Filme!$G$1),2),_xlfn.CHOOSECOLS(_xlfn.ANCHORARRAY(Filme!$G$1),3),\"\",0,2)","v":"Under Suspicion"},{"$f":"_xlfn.XLOOKUP($A191,_xlfn.CHOOSECOLS(_xlfn.ANCHORARRAY(Filme!$G$1),2),_xlfn.CHOOSECOLS(_xlfn.ANCHORARRAY(Filme!$G$1),4),\"\",0,2)","v":"2001-05-03"},{"$f":"_xlfn.XLOOKUP($B191,_xlfn.CHOOSECOLS(_xlfn.ANCHORARRAY(Leute!$F$1),2),_xlfn.CHOOSECOLS(_xlfn.ANCHORARRAY(Leute!$F$1),3),\"x\",0,2)","v":"Monica Bellucci"},{"$f":"_xlfn.XLOOKUP($B191,_xlfn.CHOOSECOLS(_xlfn.ANCHORARRAY(Leute!$F$1),2),_xlfn.CHOOSECOLS(_xlfn.ANCHORARRAY(Leute!$F$1),4),\"x\",0,2)","v":"1964-09-30"},{"$f":"RANK(F191,F$1:F191,0)","v":125},{"$f":"DATEDIF(F191,D191,\"Y\")","v":36},{"$f":"DATEDIF(F191,D191,\"YD\")","v":215},{"$f":"D191-F191","v":13364},{"$f":"\"MRS \"&TEXT(J191,\"00000\")&\" \"&SUBSTITUTE(C191,\":\",\"\")&\" (\"&TEXT(D191,\"TT.MM.JJJJ\")&\") - \"&E191&\" (\"&TEXT(F191,\"TT.MM.JJJJ\")&\") \"&H191&\"-\"&I191","v":"MRS 13364 Under Suspicion (03.05.2001) - Monica Bellucci (30.09.1964) 36-215"}]
["tt0166199","nm0000899",{"$f":"_xlfn.XLOOKUP($A192,_xlfn.CHOOSECOLS(_xlfn.ANCHORARRAY(Filme!$G$1),2),_xlfn.CHOOSECOLS(_xlfn.ANCHORARRAY(Filme!$G$1),3),\"\",0,2)","v":"Franck Spadone"},{"$f":"_xlfn.XLOOKUP($A192,_xlfn.CHOOSECOLS(_xlfn.ANCHORARRAY(Filme!$G$1),2),_xlfn.CHOOSECOLS(_xlfn.ANCHORARRAY(Filme!$G$1),4),\"\",0,2)","v":"2000-07-19"},{"$f":"_xlfn.XLOOKUP($B192,_xlfn.CHOOSECOLS(_xlfn.ANCHORARRAY(Leute!$F$1),2),_xlfn.CHOOSECOLS(_xlfn.ANCHORARRAY(Leute!$F$1),3),\"x\",0,2)","v":"Monica Bellucci"},{"$f":"_xlfn.XLOOKUP($B192,_xlfn.CHOOSECOLS(_xlfn.ANCHORARRAY(Leute!$F$1),2),_xlfn.CHOOSECOLS(_xlfn.ANCHORARRAY(Leute!$F$1),4),\"x\",0,2)","v":"1964-09-30"},{"$f":"RANK(F192,F$1:F192,0)","v":125},{"$f":"DATEDIF(F192,D192,\"Y\")","v":35},{"$f":"DATEDIF(F192,D192,\"YD\")","v":292},{"$f":"D192-F192","v":13076},{"$f":"\"MRS \"&TEXT(J192,\"00000\")&\" \"&SUBSTITUTE(C192,\":\",\"\")&\" (\"&TEXT(D192,\"TT.MM.JJJJ\")&\") - \"&E192&\" (\"&TEXT(F192,\"TT.MM.JJJJ\")&\") \"&H192&\"-\"&I192","v":"MRS 13076 Franck Spadone (19.07.2000) - Monica Bellucci (30.09.1964) 35-292"}]
["tt0213847","nm0000899",{"$f":"_xlfn.XLOOKUP($A193,_xlfn.CHOOSECOLS(_xlfn.ANCHORARRAY(Filme!$G$1),2),_xlfn.CHOOSECOLS(_xlfn.ANCHORARRAY(Filme!$G$1),3),\"\",0,2)","v":"Malèna"},{"$f":"_xlfn.XLOOKUP($A193,_xlfn.CHOOSECOLS(_xlfn.ANCHORARRAY(Filme!$G$1),2),_xlfn.CHOOSECOLS(_xlfn.ANCHORARRAY(Filme!$G$1),4),\"\",0,2)","v":"2001-03-01"},{"$f":"_xlfn.XLOOKUP($B193,_xlfn.CHOOSECOLS(_xlfn.ANCHORARRAY(Leute!$F$1),2),_xlfn.CHOOSECOLS(_xlfn.ANCHORARRAY(Leute!$F$1),3),\"x\",0,2)","v":"Monica Bellucci"},{"$f":"_xlfn.XLOOKUP($B193,_xlfn.CHOOSECOLS(_xlfn.ANCHORARRAY(Leute!$F$1),2),_xlfn.CHOOSECOLS(_xlfn.ANCHORARRAY(Leute!$F$1),4),\"x\",0,2)","v":"1964-09-30"},{"$f":"RANK(F193,F$1:F193,0)","v":125},{"$f":"DATEDIF(F193,D193,\"Y\")","v":36},{"$f":"DATEDIF(F193,D193,\"YD\")","v":152},{"$f":"D193-F193","v":13301},{"$f":"\"MRS \"&TEXT(J193,\"00000\")&\" \"&SUBSTITUTE(C193,\":\",\"\")&\" (\"&TEXT(D193,\"TT.MM.JJJJ\")&\") - \"&E193&\" (\"&TEXT(F193,\"TT.MM.JJJJ\")&\") \"&H193&\"-\"&I193","v":"MRS 13301 Malèna (01.03.2001) - Monica Bellucci (30.09.1964) 36-152"}]
["tt0237534","nm0000899",{"$f":"_xlfn.XLOOKUP($A194,_xlfn.CHOOSECOLS(_xlfn.ANCHORARRAY(Filme!$G$1),2),_xlfn.CHOOSECOLS(_xlfn.ANCHORARRAY(Filme!$G$1),3),\"\",0,2)","v":"Le pacte des loups"},{"$f":"_xlfn.XLOOKUP($A194,_xlfn.CHOOSECOLS(_xlfn.ANCHORARRAY(Filme!$G$1),2),_xlfn.CHOOSECOLS(_xlfn.ANCHORARRAY(Filme!$G$1),4),\"\",0,2)","v":"2002-02-14"},{"$f":"_xlfn.XLOOKUP($B194,_xlfn.CHOOSECOLS(_xlfn.ANCHORARRAY(Leute!$F$1),2),_xlfn.CHOOSECOLS(_xlfn.ANCHORARRAY(Leute!$F$1),3),\"x\",0,2)","v":"Monica Bellucci"},{"$f":"_xlfn.XLOOKUP($B194,_xlfn.CHOOSECOLS(_xlfn.ANCHORARRAY(Leute!$F$1),2),_xlfn.CHOOSECOLS(_xlfn.ANCHORARRAY(Leute!$F$1),4),\"x\",0,2)","v":"1964-09-30"},{"$f":"RANK(F194,F$1:F194,0)","v":125},{"$f":"DATEDIF(F194,D194,\"Y\")","v":37},{"$f":"DATEDIF(F194,D194,\"YD\")","v":137},{"$f":"D194-F194","v":13651},{"$f":"\"MRS \"&TEXT(J194,\"00000\")&\" \"&SUBSTITUTE(C194,\":\",\"\")&\" (\"&TEXT(D194,\"TT.MM.JJJJ\")&\") - \"&E194&\" (\"&TEXT(F194,\"TT.MM.JJJJ\")&\") \"&H194&\"-\"&I194","v":"MRS 13651 Le pacte des loups (14.02.2002) - Monica Bellucci (30.09.1964) 37-137"}]
["tt0250223","nm0000899",{"$f":"_xlfn.XLOOKUP($A195,_xlfn.CHOOSECOLS(_xlfn.ANCHORARRAY(Filme!$G$1),2),_xlfn.CHOOSECOLS(_xlfn.ANCHORARRAY(Filme!$G$1),3),\"\",0,2)","v":"Astérix & Obélix : Mission Cléopâtre"},{"$f":"_xlfn.XLOOKUP($A195,_xlfn.CHOOSECOLS(_xlfn.ANCHORARRAY(Filme!$G$1),2),_xlfn.CHOOSECOLS(_xlfn.ANCHORARRAY(Filme!$G$1),4),\"\",0,2)","v":"2002-03-07"},{"$f":"_xlfn.XLOOKUP($B195,_xlfn.CHOOSECOLS(_xlfn.ANCHORARRAY(Leute!$F$1),2),_xlfn.CHOOSECOLS(_xlfn.ANCHORARRAY(Leute!$F$1),3),\"x\",0,2)","v":"Monica Bellucci"},{"$f":"_xlfn.XLOOKUP($B195,_xlfn.CHOOSECOLS(_xlfn.ANCHORARRAY(Leute!$F$1),2),_xlfn.CHOOSECOLS(_xlfn.ANCHORARRAY(Leute!$F$1),4),\"x\",0,2)","v":"1964-09-30"},{"$f":"RANK(F195,F$1:F195,0)","v":125},{"$f":"DATEDIF(F195,D195,\"Y\")","v":37},{"$f":"DATEDIF(F195,D195,\"YD\")","v":158},{"$f":"D195-F195","v":13672},{"$f":"\"MRS \"&TEXT(J195,\"00000\")&\" \"&SUBSTITUTE(C195,\":\",\"\")&\" (\"&TEXT(D195,\"TT.MM.JJJJ\")&\") - \"&E195&\" (\"&TEXT(F195,\"TT.MM.JJJJ\")&\") \"&H195&\"-\"&I195","v":"MRS 13672 Astérix & Obélix  Mission Cléopâtre (07.03.2002) - Monica Bellucci (30.09.1964) 37-158"}]
["tt0290673","nm0000899",{"$f":"_xlfn.XLOOKUP($A196,_xlfn.CHOOSECOLS(_xlfn.ANCHORARRAY(Filme!$G$1),2),_xlfn.CHOOSECOLS(_xlfn.ANCHORARRAY(Filme!$G$1),3),\"\",0,2)","v":"Irréversible"},{"$f":"_xlfn.XLOOKUP($A196,_xlfn.CHOOSECOLS(_xlfn.ANCHORARRAY(Filme!$G$1),2),_xlfn.CHOOSECOLS(_xlfn.ANCHORARRAY(Filme!$G$1),4),\"\",0,2)","v":"2003-09-11"},{"$f":"_xlfn.XLOOKUP($B196,_xlfn.CHOOSECOLS(_xlfn.ANCHORARRAY(Leute!$F$1),2),_xlfn.CHOOSECOLS(_xlfn.ANCHORARRAY(Leute!$F$1),3),\"x\",0,2)","v":"Monica Bellucci"},{"$f":"_xlfn.XLOOKUP($B196,_xlfn.CHOOSECOLS(_xlfn.ANCHORARRAY(Leute!$F$1),2),_xlfn.CHOOSECOLS(_xlfn.ANCHORARRAY(Leute!$F$1),4),\"x\",0,2)","v":"1964-09-30"},{"$f":"RANK(F196,F$1:F196,0)","v":125},{"$f":"DATEDIF(F196,D196,\"Y\")","v":38},{"$f":"DATEDIF(F196,D196,\"YD\")","v":346},{"$f":"D196-F196","v":14225},{"$f":"\"MRS \"&TEXT(J196,\"00000\")&\" \"&SUBSTITUTE(C196,\":\",\"\")&\" (\"&TEXT(D196,\"TT.MM.JJJJ\")&\") - \"&E196&\" (\"&TEXT(F196,\"TT.MM.JJJJ\")&\") \"&H196&\"-\"&I196","v":"MRS 14225 Irréversible (11.09.2003) - Monica Bellucci (30.09.1964) 38-346"}]
["tt0356336","nm0000899",{"$f":"_xlfn.XLOOKUP($A197,_xlfn.CHOOSECOLS(_xlfn.ANCHORARRAY(Filme!$G$1),2),_xlfn.CHOOSECOLS(_xlfn.ANCHORARRAY(Filme!$G$1),3),\"\",0,2)","v":"Agents secrets"},{"$f":"_xlfn.XLOOKUP($A197,_xlfn.CHOOSECOLS(_xlfn.ANCHORARRAY(Filme!$G$1),2),_xlfn.CHOOSECOLS(_xlfn.ANCHORARRAY(Filme!$G$1),4),\"\",0,2)","v":"2004-03-31"},{"$f":"_xlfn.XLOOKUP($B197,_xlfn.CHOOSECOLS(_xlfn.ANCHORARRAY(Leute!$F$1),2),_xlfn.CHOOSECOLS(_xlfn.ANCHORARRAY(Leute!$F$1),3),\"x\",0,2)","v":"Monica Bellucci"},{"$f":"_xlfn.XLOOKUP($B197,_xlfn.CHOOSECOLS(_xlfn.ANCHORARRAY(Leute!$F$1),2),_xlfn.CHOOSECOLS(_xlfn.ANCHORARRAY(Leute!$F$1),4),\"x\",0,2)","v":"1964-09-30"},{"$f":"RANK(F197,F$1:F197,0)","v":125},{"$f":"DATEDIF(F197,D197,\"Y\")","v":39},{"$f":"DATEDIF(F197,D197,\"YD\")","v":182},{"$f":"D197-F197","v":14427},{"$f":"\"MRS \"&TEXT(J197,\"00000\")&\" \"&SUBSTITUTE(C197,\":\",\"\")&\" (\"&TEXT(D197,\"TT.MM.JJJJ\")&\") - \"&E197&\" (\"&TEXT(F197,\"TT.MM.JJJJ\")&\") \"&H197&\"-\"&I197","v":"MRS 14427 Agents secrets (31.03.2004) - Monica Bellucci (30.09.1964) 39-182"}]
["tt0420555","nm0000899",{"$f":"_xlfn.XLOOKUP($A198,_xlfn.CHOOSECOLS(_xlfn.ANCHORARRAY(Filme!$G$1),2),_xlfn.CHOOSECOLS(_xlfn.ANCHORARRAY(Filme!$G$1),3),\"\",0,2)","v":"Combien tu m'aimes?"},{"$f":"_xlfn.XLOOKUP($A198,_xlfn.CHOOSECOLS(_xlfn.ANCHORARRAY(Filme!$G$1),2),_xlfn.CHOOSECOLS(_xlfn.ANCHORARRAY(Filme!$G$1),4),\"\",0,2)","v":"2006-08-31"},{"$f":"_xlfn.XLOOKUP($B198,_xlfn.CHOOSECOLS(_xlfn.ANCHORARRAY(Leute!$F$1),2),_xlfn.CHOOSECOLS(_xlfn.ANCHORARRAY(Leute!$F$1),3),\"x\",0,2)","v":"Monica Bellucci"},{"$f":"_xlfn.XLOOKUP($B198,_xlfn.CHOOSECOLS(_xlfn.ANCHORARRAY(Leute!$F$1),2),_xlfn.CHOOSECOLS(_xlfn.ANCHORARRAY(Leute!$F$1),4),\"x\",0,2)","v":"1964-09-30"},{"$f":"RANK(F198,F$1:F198,0)","v":125},{"$f":"DATEDIF(F198,D198,\"Y\")","v":41},{"$f":"DATEDIF(F198,D198,\"YD\")","v":335},{"$f":"D198-F198","v":15310},{"$f":"\"MRS \"&TEXT(J198,\"00000\")&\" \"&SUBSTITUTE(C198,\":\",\"\")&\" (\"&TEXT(D198,\"TT.MM.JJJJ\")&\") - \"&E198&\" (\"&TEXT(F198,\"TT.MM.JJJJ\")&\") \"&H198&\"-\"&I198","v":"MRS 15310 Combien tu m'aimes? (31.08.2006) - Monica Bellucci (30.09.1964) 41-335"}]
["tt0447619","nm0000899",{"$f":"_xlfn.XLOOKUP($A199,_xlfn.CHOOSECOLS(_xlfn.ANCHORARRAY(Filme!$G$1),2),_xlfn.CHOOSECOLS(_xlfn.ANCHORARRAY(Filme!$G$1),3),\"\",0,2)","v":"Le Concile de Pierre"},{"$f":"_xlfn.XLOOKUP($A199,_xlfn.CHOOSECOLS(_xlfn.ANCHORARRAY(Filme!$G$1),2),_xlfn.CHOOSECOLS(_xlfn.ANCHORARRAY(Filme!$G$1),4),\"\",0,2)","v":"2006-11-15"},{"$f":"_xlfn.XLOOKUP($B199,_xlfn.CHOOSECOLS(_xlfn.ANCHORARRAY(Leute!$F$1),2),_xlfn.CHOOSECOLS(_xlfn.ANCHORARRAY(Leute!$F$1),3),\"x\",0,2)","v":"Monica Bellucci"},{"$f":"_xlfn.XLOOKUP($B199,_xlfn.CHOOSECOLS(_xlfn.ANCHORARRAY(Leute!$F$1),2),_xlfn.CHOOSECOLS(_xlfn.ANCHORARRAY(Leute!$F$1),4),\"x\",0,2)","v":"1964-09-30"},{"$f":"RANK(F199,F$1:F199,0)","v":125},{"$f":"DATEDIF(F199,D199,\"Y\")","v":42},{"$f":"DATEDIF(F199,D199,\"YD\")","v":46},{"$f":"D199-F199","v":15386},{"$f":"\"MRS \"&TEXT(J199,\"00000\")&\" \"&SUBSTITUTE(C199,\":\",\"\")&\" (\"&TEXT(D199,\"TT.MM.JJJJ\")&\") - \"&E199&\" (\"&TEXT(F199,\"TT.MM.JJJJ\")&\") \"&H199&\"-\"&I199","v":"MRS 15386 Le Concile de Pierre (15.11.2006) - Monica Bellucci (30.09.1964) 42-46"}]
["tt0462002","nm0000899",{"$f":"_xlfn.XLOOKUP($A200,_xlfn.CHOOSECOLS(_xlfn.ANCHORARRAY(Filme!$G$1),2),_xlfn.CHOOSECOLS(_xlfn.ANCHORARRAY(Filme!$G$1),3),\"\",0,2)","v":"N (Io e Napoleone)"},{"$f":"_xlfn.XLOOKUP($A200,_xlfn.CHOOSECOLS(_xlfn.ANCHORARRAY(Filme!$G$1),2),_xlfn.CHOOSECOLS(_xlfn.ANCHORARRAY(Filme!$G$1),4),\"\",0,2)","v":"2006-10-13"},{"$f":"_xlfn.XLOOKUP($B200,_xlfn.CHOOSECOLS(_xlfn.ANCHORARRAY(Leute!$F$1),2),_xlfn.CHOOSECOLS(_xlfn.ANCHORARRAY(Leute!$F$1),3),\"x\",0,2)","v":"Monica Bellucci"},{"$f":"_xlfn.XLOOKUP($B200,_xlfn.CHOOSECOLS(_xlfn.ANCHORARRAY(Leute!$F$1),2),_xlfn.CHOOSECOLS(_xlfn.ANCHORARRAY(Leute!$F$1),4),\"x\",0,2)","v":"1964-09-30"},{"$f":"RANK(F200,F$1:F200,0)","v":125},{"$f":"DATEDIF(F200,D200,\"Y\")","v":42},{"$f":"DATEDIF(F200,D200,\"YD\")","v":13},{"$f":"D200-F200","v":15353},{"$f":"\"MRS \"&TEXT(J200,\"00000\")&\" \"&SUBSTITUTE(C200,\":\",\"\")&\" (\"&TEXT(D200,\"TT.MM.JJJJ\")&\") - \"&E200&\" (\"&TEXT(F200,\"TT.MM.JJJJ\")&\") \"&H200&\"-\"&I200","v":"MRS 15353 N (Io e Napoleone) (13.10.2006) - Monica Bellucci (30.09.1964) 42-13"}]
["tt0465602","nm0000899",{"$f":"_xlfn.XLOOKUP($A201,_xlfn.CHOOSECOLS(_xlfn.ANCHORARRAY(Filme!$G$1),2),_xlfn.CHOOSECOLS(_xlfn.ANCHORARRAY(Filme!$G$1),3),\"\",0,2)","v":"Shoot 'Em Up"},{"$f":"_xlfn.XLOOKUP($A201,_xlfn.CHOOSECOLS(_xlfn.ANCHORARRAY(Filme!$G$1),2),_xlfn.CHOOSECOLS(_xlfn.ANCHORARRAY(Filme!$G$1),4),\"\",0,2)","v":"2007-09-20"},{"$f":"_xlfn.XLOOKUP($B201,_xlfn.CHOOSECOLS(_xlfn.ANCHORARRAY(Leute!$F$1),2),_xlfn.CHOOSECOLS(_xlfn.ANCHORARRAY(Leute!$F$1),3),\"x\",0,2)","v":"Monica Bellucci"},{"$f":"_xlfn.XLOOKUP($B201,_xlfn.CHOOSECOLS(_xlfn.ANCHORARRAY(Leute!$F$1),2),_xlfn.CHOOSECOLS(_xlfn.ANCHORARRAY(Leute!$F$1),4),\"x\",0,2)","v":"1964-09-30"},{"$f":"RANK(F201,F$1:F201,0)","v":125},{"$f":"DATEDIF(F201,D201,\"Y\")","v":42},{"$f":"DATEDIF(F201,D201,\"YD\")","v":355},{"$f":"D201-F201","v":15695},{"$f":"\"MRS \"&TEXT(J201,\"00000\")&\" \"&SUBSTITUTE(C201,\":\",\"\")&\" (\"&TEXT(D201,\"TT.MM.JJJJ\")&\") - \"&E201&\" (\"&TEXT(F201,\"TT.MM.JJJJ\")&\") \"&H201&\"-\"&I201","v":"MRS 15695 Shoot 'Em Up (20.09.2007) - Monica Bellucci (30.09.1964) 42-355"}]
["tt1073624","nm0000899",{"$f":"_xlfn.XLOOKUP($A202,_xlfn.CHOOSECOLS(_xlfn.ANCHORARRAY(Filme!$G$1),2),_xlfn.CHOOSECOLS(_xlfn.ANCHORARRAY(Filme!$G$1),3),\"\",0,2)","v":"Sanguepazzo"},{"$f":"_xlfn.XLOOKUP($A202,_xlfn.CHOOSECOLS(_xlfn.ANCHORARRAY(Filme!$G$1),2),_xlfn.CHOOSECOLS(_xlfn.ANCHORARRAY(Filme!$G$1),4),\"\",0,2)","v":"2008-10-29"},{"$f":"_xlfn.XLOOKUP($B202,_xlfn.CHOOSECOLS(_xlfn.ANCHORARRAY(Leute!$F$1),2),_xlfn.CHOOSECOLS(_xlfn.ANCHORARRAY(Leute!$F$1),3),\"x\",0,2)","v":"Monica Bellucci"},{"$f":"_xlfn.XLOOKUP($B202,_xlfn.CHOOSECOLS(_xlfn.ANCHORARRAY(Leute!$F$1),2),_xlfn.CHOOSECOLS(_xlfn.ANCHORARRAY(Leute!$F$1),4),\"x\",0,2)","v":"1964-09-30"},{"$f":"RANK(F202,F$1:F202,0)","v":125},{"$f":"DATEDIF(F202,D202,\"Y\")","v":44},{"$f":"DATEDIF(F202,D202,\"YD\")","v":29},{"$f":"D202-F202","v":16100},{"$f":"\"MRS \"&TEXT(J202,\"00000\")&\" \"&SUBSTITUTE(C202,\":\",\"\")&\" (\"&TEXT(D202,\"TT.MM.JJJJ\")&\") - \"&E202&\" (\"&TEXT(F202,\"TT.MM.JJJJ\")&\") \"&H202&\"-\"&I202","v":"MRS 16100 Sanguepazzo (29.10.2008) - Monica Bellucci (30.09.1964) 44-29"}]
["tt1075113","nm0000899",{"$f":"_xlfn.XLOOKUP($A203,_xlfn.CHOOSECOLS(_xlfn.ANCHORARRAY(Filme!$G$1),2),_xlfn.CHOOSECOLS(_xlfn.ANCHORARRAY(Filme!$G$1),3),\"\",0,2)","v":"Ne te retourne pas"},{"$f":"_xlfn.XLOOKUP($A203,_xlfn.CHOOSECOLS(_xlfn.ANCHORARRAY(Filme!$G$1),2),_xlfn.CHOOSECOLS(_xlfn.ANCHORARRAY(Filme!$G$1),4),\"\",0,2)","v":"2009-06-03"},{"$f":"_xlfn.XLOOKUP($B203,_xlfn.CHOOSECOLS(_xlfn.ANCHORARRAY(Leute!$F$1),2),_xlfn.CHOOSECOLS(_xlfn.ANCHORARRAY(Leute!$F$1),3),\"x\",0,2)","v":"Monica Bellucci"},{"$f":"_xlfn.XLOOKUP($B203,_xlfn.CHOOSECOLS(_xlfn.ANCHORARRAY(Leute!$F$1),2),_xlfn.CHOOSECOLS(_xlfn.ANCHORARRAY(Leute!$F$1),4),\"x\",0,2)","v":"1964-09-30"},{"$f":"RANK(F203,F$1:F203,0)","v":125},{"$f":"DATEDIF(F203,D203,\"Y\")","v":44},{"$f":"DATEDIF(F203,D203,\"YD\")","v":246},{"$f":"D203-F203","v":16317},{"$f":"\"MRS \"&TEXT(J203,\"00000\")&\" \"&SUBSTITUTE(C203,\":\",\"\")&\" (\"&TEXT(D203,\"TT.MM.JJJJ\")&\") - \"&E203&\" (\"&TEXT(F203,\"TT.MM.JJJJ\")&\") \"&H203&\"-\"&I203","v":"MRS 16317 Ne te retourne pas (03.06.2009) - Monica Bellucci (30.09.1964) 44-246"}]
["tt1081935","nm0000899",{"$f":"_xlfn.XLOOKUP($A204,_xlfn.CHOOSECOLS(_xlfn.ANCHORARRAY(Filme!$G$1),2),_xlfn.CHOOSECOLS(_xlfn.ANCHORARRAY(Filme!$G$1),3),\"\",0,2)","v":"Baarìa"},{"$f":"_xlfn.XLOOKUP($A204,_xlfn.CHOOSECOLS(_xlfn.ANCHORARRAY(Filme!$G$1),2),_xlfn.CHOOSECOLS(_xlfn.ANCHORARRAY(Filme!$G$1),4),\"\",0,2)","v":"2010-04-29"},{"$f":"_xlfn.XLOOKUP($B204,_xlfn.CHOOSECOLS(_xlfn.ANCHORARRAY(Leute!$F$1),2),_xlfn.CHOOSECOLS(_xlfn.ANCHORARRAY(Leute!$F$1),3),\"x\",0,2)","v":"Monica Bellucci"},{"$f":"_xlfn.XLOOKUP($B204,_xlfn.CHOOSECOLS(_xlfn.ANCHORARRAY(Leute!$F$1),2),_xlfn.CHOOSECOLS(_xlfn.ANCHORARRAY(Leute!$F$1),4),\"x\",0,2)","v":"1964-09-30"},{"$f":"RANK(F204,F$1:F204,0)","v":125},{"$f":"DATEDIF(F204,D204,\"Y\")","v":45},{"$f":"DATEDIF(F204,D204,\"YD\")","v":211},{"$f":"D204-F204","v":16647},{"$f":"\"MRS \"&TEXT(J204,\"00000\")&\" \"&SUBSTITUTE(C204,\":\",\"\")&\" (\"&TEXT(D204,\"TT.MM.JJJJ\")&\") - \"&E204&\" (\"&TEXT(F204,\"TT.MM.JJJJ\")&\") \"&H204&\"-\"&I204","v":"MRS 16647 Baarìa (29.04.2010) - Monica Bellucci (30.09.1964) 45-211"}]
["tt1202541","nm0000899",{"$f":"_xlfn.XLOOKUP($A205,_xlfn.CHOOSECOLS(_xlfn.ANCHORARRAY(Filme!$G$1),2),_xlfn.CHOOSECOLS(_xlfn.ANCHORARRAY(Filme!$G$1),3),\"\",0,2)","v":"L'uomo che ama"},{"$f":"_xlfn.XLOOKUP($A205,_xlfn.CHOOSECOLS(_xlfn.ANCHORARRAY(Filme!$G$1),2),_xlfn.CHOOSECOLS(_xlfn.ANCHORARRAY(Filme!$G$1),4),\"\",0,2)","v":"2008-10-24"},{"$f":"_xlfn.XLOOKUP($B205,_xlfn.CHOOSECOLS(_xlfn.ANCHORARRAY(Leute!$F$1),2),_xlfn.CHOOSECOLS(_xlfn.ANCHORARRAY(Leute!$F$1),3),\"x\",0,2)","v":"Monica Bellucci"},{"$f":"_xlfn.XLOOKUP($B205,_xlfn.CHOOSECOLS(_xlfn.ANCHORARRAY(Leute!$F$1),2),_xlfn.CHOOSECOLS(_xlfn.ANCHORARRAY(Leute!$F$1),4),\"x\",0,2)","v":"1964-09-30"},{"$f":"RANK(F205,F$1:F205,0)","v":125},{"$f":"DATEDIF(F205,D205,\"Y\")","v":44},{"$f":"DATEDIF(F205,D205,\"YD\")","v":24},{"$f":"D205-F205","v":16095},{"$f":"\"MRS \"&TEXT(J205,\"00000\")&\" \"&SUBSTITUTE(C205,\":\",\"\")&\" (\"&TEXT(D205,\"TT.MM.JJJJ\")&\") - \"&E205&\" (\"&TEXT(F205,\"TT.MM.JJJJ\")&\") \"&H205&\"-\"&I205","v":"MRS 16095 L'uomo che ama (24.10.2008) - Monica Bellucci (30.09.1964) 44-24"}]
["tt1712187","nm0000899",{"$f":"_xlfn.XLOOKUP($A206,_xlfn.CHOOSECOLS(_xlfn.ANCHORARRAY(Filme!$G$1),2),_xlfn.CHOOSECOLS(_xlfn.ANCHORARRAY(Filme!$G$1),3),\"\",0,2)","v":"Manuale d'am3re"},{"$f":"_xlfn.XLOOKUP($A206,_xlfn.CHOOSECOLS(_xlfn.ANCHORARRAY(Filme!$G$1),2),_xlfn.CHOOSECOLS(_xlfn.ANCHORARRAY(Filme!$G$1),4),\"\",0,2)","v":"2011-02-25"},{"$f":"_xlfn.XLOOKUP($B206,_xlfn.CHOOSECOLS(_xlfn.ANCHORARRAY(Leute!$F$1),2),_xlfn.CHOOSECOLS(_xlfn.ANCHORARRAY(Leute!$F$1),3),\"x\",0,2)","v":"Monica Bellucci"},{"$f":"_xlfn.XLOOKUP($B206,_xlfn.CHOOSECOLS(_xlfn.ANCHORARRAY(Leute!$F$1),2),_xlfn.CHOOSECOLS(_xlfn.ANCHORARRAY(Leute!$F$1),4),\"x\",0,2)","v":"1964-09-30"},{"$f":"RANK(F206,F$1:F206,0)","v":125},{"$f":"DATEDIF(F206,D206,\"Y\")","v":46},{"$f":"DATEDIF(F206,D206,\"YD\")","v":148},{"$f":"D206-F206","v":16949},{"$f":"\"MRS \"&TEXT(J206,\"00000\")&\" \"&SUBSTITUTE(C206,\":\",\"\")&\" (\"&TEXT(D206,\"TT.MM.JJJJ\")&\") - \"&E206&\" (\"&TEXT(F206,\"TT.MM.JJJJ\")&\") \"&H206&\"-\"&I206","v":"MRS 16949 Manuale d'am3re (25.02.2011) - Monica Bellucci (30.09.1964) 46-148"}]
["tt1740053","nm0000899",{"$f":"_xlfn.XLOOKUP($A207,_xlfn.CHOOSECOLS(_xlfn.ANCHORARRAY(Filme!$G$1),2),_xlfn.CHOOSECOLS(_xlfn.ANCHORARRAY(Filme!$G$1),3),\"\",0,2)","v":"Un été brûlant"},{"$f":"_xlfn.XLOOKUP($A207,_xlfn.CHOOSECOLS(_xlfn.ANCHORARRAY(Filme!$G$1),2),_xlfn.CHOOSECOLS(_xlfn.ANCHORARRAY(Filme!$G$1),4),\"\",0,2)","v":"2011-09-28"},{"$f":"_xlfn.XLOOKUP($B207,_xlfn.CHOOSECOLS(_xlfn.ANCHORARRAY(Leute!$F$1),2),_xlfn.CHOOSECOLS(_xlfn.ANCHORARRAY(Leute!$F$1),3),\"x\",0,2)","v":"Monica Bellucci"},{"$f":"_xlfn.XLOOKUP($B207,_xlfn.CHOOSECOLS(_xlfn.ANCHORARRAY(Leute!$F$1),2),_xlfn.CHOOSECOLS(_xlfn.ANCHORARRAY(Leute!$F$1),4),\"x\",0,2)","v":"1964-09-30"},{"$f":"RANK(F207,F$1:F207,0)","v":125},{"$f":"DATEDIF(F207,D207,\"Y\")","v":46},{"$f":"DATEDIF(F207,D207,\"YD\")","v":363},{"$f":"D207-F207","v":17164},{"$f":"\"MRS \"&TEXT(J207,\"00000\")&\" \"&SUBSTITUTE(C207,\":\",\"\")&\" (\"&TEXT(D207,\"TT.MM.JJJJ\")&\") - \"&E207&\" (\"&TEXT(F207,\"TT.MM.JJJJ\")&\") \"&H207&\"-\"&I207","v":"MRS 17164 Un été brûlant (28.09.2011) - Monica Bellucci (30.09.1964) 46-363"}]
["tt1850419","nm0000899",{"$f":"_xlfn.XLOOKUP($A208,_xlfn.CHOOSECOLS(_xlfn.ANCHORARRAY(Filme!$G$1),2),_xlfn.CHOOSECOLS(_xlfn.ANCHORARRAY(Filme!$G$1),3),\"\",0,2)","v":"Fasle kargadan"},{"$f":"_xlfn.XLOOKUP($A208,_xlfn.CHOOSECOLS(_xlfn.ANCHORARRAY(Filme!$G$1),2),_xlfn.CHOOSECOLS(_xlfn.ANCHORARRAY(Filme!$G$1),4),\"\",0,2)","v":"2012-10-26"},{"$f":"_xlfn.XLOOKUP($B208,_xlfn.CHOOSECOLS(_xlfn.ANCHORARRAY(Leute!$F$1),2),_xlfn.CHOOSECOLS(_xlfn.ANCHORARRAY(Leute!$F$1),3),\"x\",0,2)","v":"Monica Bellucci"},{"$f":"_xlfn.XLOOKUP($B208,_xlfn.CHOOSECOLS(_xlfn.ANCHORARRAY(Leute!$F$1),2),_xlfn.CHOOSECOLS(_xlfn.ANCHORARRAY(Leute!$F$1),4),\"x\",0,2)","v":"1964-09-30"},{"$f":"RANK(F208,F$1:F208,0)","v":125},{"$f":"DATEDIF(F208,D208,\"Y\")","v":48},{"$f":"DATEDIF(F208,D208,\"YD\")","v":26},{"$f":"D208-F208","v":17558},{"$f":"\"MRS \"&TEXT(J208,\"00000\")&\" \"&SUBSTITUTE(C208,\":\",\"\")&\" (\"&TEXT(D208,\"TT.MM.JJJJ\")&\") - \"&E208&\" (\"&TEXT(F208,\"TT.MM.JJJJ\")&\") \"&H208&\"-\"&I208","v":"MRS 17558 Fasle kargadan (26.10.2012) - Monica Bellucci (30.09.1964) 48-26"}]
["tt2295750","nm0000899",{"$f":"_xlfn.XLOOKUP($A209,_xlfn.CHOOSECOLS(_xlfn.ANCHORARRAY(Filme!$G$1),2),_xlfn.CHOOSECOLS(_xlfn.ANCHORARRAY(Filme!$G$1),3),\"\",0,2)","v":"Des gens qui s'embrassent"},{"$f":"_xlfn.XLOOKUP($A209,_xlfn.CHOOSECOLS(_xlfn.ANCHORARRAY(Filme!$G$1),2),_xlfn.CHOOSECOLS(_xlfn.ANCHORARRAY(Filme!$G$1),4),\"\",0,2)","v":"2014-04-03"},{"$f":"_xlfn.XLOOKUP($B209,_xlfn.CHOOSECOLS(_xlfn.ANCHORARRAY(Leute!$F$1),2),_xlfn.CHOOSECOLS(_xlfn.ANCHORARRAY(Leute!$F$1),3),\"x\",0,2)","v":"Monica Bellucci"},{"$f":"_xlfn.XLOOKUP($B209,_xlfn.CHOOSECOLS(_xlfn.ANCHORARRAY(Leute!$F$1),2),_xlfn.CHOOSECOLS(_xlfn.ANCHORARRAY(Leute!$F$1),4),\"x\",0,2)","v":"1964-09-30"},{"$f":"RANK(F209,F$1:F209,0)","v":125},{"$f":"DATEDIF(F209,D209,\"Y\")","v":49},{"$f":"DATEDIF(F209,D209,\"YD\")","v":185},{"$f":"D209-F209","v":18082},{"$f":"\"MRS \"&TEXT(J209,\"00000\")&\" \"&SUBSTITUTE(C209,\":\",\"\")&\" (\"&TEXT(D209,\"TT.MM.JJJJ\")&\") - \"&E209&\" (\"&TEXT(F209,\"TT.MM.JJJJ\")&\") \"&H209&\"-\"&I209","v":"MRS 18082 Des gens qui s'embrassent (03.04.2014) - Monica Bellucci (30.09.1964) 49-185"}]
["tt5711996","nm0000899",{"$f":"_xlfn.XLOOKUP($A210,_xlfn.CHOOSECOLS(_xlfn.ANCHORARRAY(Filme!$G$1),2),_xlfn.CHOOSECOLS(_xlfn.ANCHORARRAY(Filme!$G$1),3),\"\",0,2)","v":"Mozart in the Jungle"},{"$f":"_xlfn.XLOOKUP($A210,_xlfn.CHOOSECOLS(_xlfn.ANCHORARRAY(Filme!$G$1),2),_xlfn.CHOOSECOLS(_xlfn.ANCHORARRAY(Filme!$G$1),4),\"\",0,2)","v":"2016-12-09"},{"$f":"_xlfn.XLOOKUP($B210,_xlfn.CHOOSECOLS(_xlfn.ANCHORARRAY(Leute!$F$1),2),_xlfn.CHOOSECOLS(_xlfn.ANCHORARRAY(Leute!$F$1),3),\"x\",0,2)","v":"Monica Bellucci"},{"$f":"_xlfn.XLOOKUP($B210,_xlfn.CHOOSECOLS(_xlfn.ANCHORARRAY(Leute!$F$1),2),_xlfn.CHOOSECOLS(_xlfn.ANCHORARRAY(Leute!$F$1),4),\"x\",0,2)","v":"1964-09-30"},{"$f":"RANK(F210,F$1:F210,0)","v":125},{"$f":"DATEDIF(F210,D210,\"Y\")","v":52},{"$f":"DATEDIF(F210,D210,\"YD\")","v":70},{"$f":"D210-F210","v":19063},{"$f":"\"MRS \"&TEXT(J210,\"00000\")&\" \"&SUBSTITUTE(C210,\":\",\"\")&\" (\"&TEXT(D210,\"TT.MM.JJJJ\")&\") - \"&E210&\" (\"&TEXT(F210,\"TT.MM.JJJJ\")&\") \"&H210&\"-\"&I210","v":"MRS 19063 Mozart in the Jungle (09.12.2016) - Monica Bellucci (30.09.1964) 52-70"}]
["tt0127536","nm0000949",{"$f":"_xlfn.XLOOKUP($A211,_xlfn.CHOOSECOLS(_xlfn.ANCHORARRAY(Filme!$G$1),2),_xlfn.CHOOSECOLS(_xlfn.ANCHORARRAY(Filme!$G$1),3),\"\",0,2)","v":"Elizabeth"},{"$f":"_xlfn.XLOOKUP($A211,_xlfn.CHOOSECOLS(_xlfn.ANCHORARRAY(Filme!$G$1),2),_xlfn.CHOOSECOLS(_xlfn.ANCHORARRAY(Filme!$G$1),4),\"\",0,2)","v":"1998-10-29"},{"$f":"_xlfn.XLOOKUP($B211,_xlfn.CHOOSECOLS(_xlfn.ANCHORARRAY(Leute!$F$1),2),_xlfn.CHOOSECOLS(_xlfn.ANCHORARRAY(Leute!$F$1),3),\"x\",0,2)","v":"Cate Blanchett"},{"$f":"_xlfn.XLOOKUP($B211,_xlfn.CHOOSECOLS(_xlfn.ANCHORARRAY(Leute!$F$1),2),_xlfn.CHOOSECOLS(_xlfn.ANCHORARRAY(Leute!$F$1),4),\"x\",0,2)","v":"1969-05-14"},{"$f":"RANK(F211,F$1:F211,0)","v":74},{"$f":"DATEDIF(F211,D211,\"Y\")","v":29},{"$f":"DATEDIF(F211,D211,\"YD\")","v":168},{"$f":"D211-F211","v":10760},{"$f":"\"MRS \"&TEXT(J211,\"00000\")&\" \"&SUBSTITUTE(C211,\":\",\"\")&\" (\"&TEXT(D211,\"TT.MM.JJJJ\")&\") - \"&E211&\" (\"&TEXT(F211,\"TT.MM.JJJJ\")&\") \"&H211&\"-\"&I211","v":"MRS 10760 Elizabeth (29.10.1998) - Cate Blanchett (14.05.1969) 29-168"}]
["tt14444726","nm0000949",{"$f":"_xlfn.XLOOKUP($A212,_xlfn.CHOOSECOLS(_xlfn.ANCHORARRAY(Filme!$G$1),2),_xlfn.CHOOSECOLS(_xlfn.ANCHORARRAY(Filme!$G$1),3),\"\",0,2)","v":"Tár"},{"$f":"_xlfn.XLOOKUP($A212,_xlfn.CHOOSECOLS(_xlfn.ANCHORARRAY(Filme!$G$1),2),_xlfn.CHOOSECOLS(_xlfn.ANCHORARRAY(Filme!$G$1),4),\"\",0,2)","v":"2023-03-02"},{"$f":"_xlfn.XLOOKUP($B212,_xlfn.CHOOSECOLS(_xlfn.ANCHORARRAY(Leute!$F$1),2),_xlfn.CHOOSECOLS(_xlfn.ANCHORARRAY(Leute!$F$1),3),\"x\",0,2)","v":"Cate Blanchett"},{"$f":"_xlfn.XLOOKUP($B212,_xlfn.CHOOSECOLS(_xlfn.ANCHORARRAY(Leute!$F$1),2),_xlfn.CHOOSECOLS(_xlfn.ANCHORARRAY(Leute!$F$1),4),\"x\",0,2)","v":"1969-05-14"},{"$f":"RANK(F212,F$1:F212,0)","v":74},{"$f":"DATEDIF(F212,D212,\"Y\")","v":53},{"$f":"DATEDIF(F212,D212,\"YD\")","v":292},{"$f":"D212-F212","v":19650},{"$f":"\"MRS \"&TEXT(J212,\"00000\")&\" \"&SUBSTITUTE(C212,\":\",\"\")&\" (\"&TEXT(D212,\"TT.MM.JJJJ\")&\") - \"&E212&\" (\"&TEXT(F212,\"TT.MM.JJJJ\")&\") \"&H212&\"-\"&I212","v":"MRS 19650 Tár (02.03.2023) - Cate Blanchett (14.05.1969) 53-292"}]
["tt2402927","nm0000949",{"$f":"_xlfn.XLOOKUP($A213,_xlfn.CHOOSECOLS(_xlfn.ANCHORARRAY(Filme!$G$1),2),_xlfn.CHOOSECOLS(_xlfn.ANCHORARRAY(Filme!$G$1),3),\"\",0,2)","v":"Carol"},{"$f":"_xlfn.XLOOKUP($A213,_xlfn.CHOOSECOLS(_xlfn.ANCHORARRAY(Filme!$G$1),2),_xlfn.CHOOSECOLS(_xlfn.ANCHORARRAY(Filme!$G$1),4),\"\",0,2)","v":"2015-12-17"},{"$f":"_xlfn.XLOOKUP($B213,_xlfn.CHOOSECOLS(_xlfn.ANCHORARRAY(Leute!$F$1),2),_xlfn.CHOOSECOLS(_xlfn.ANCHORARRAY(Leute!$F$1),3),\"x\",0,2)","v":"Cate Blanchett"},{"$f":"_xlfn.XLOOKUP($B213,_xlfn.CHOOSECOLS(_xlfn.ANCHORARRAY(Leute!$F$1),2),_xlfn.CHOOSECOLS(_xlfn.ANCHORARRAY(Leute!$F$1),4),\"x\",0,2)","v":"1969-05-14"},{"$f":"RANK(F213,F$1:F213,0)","v":74},{"$f":"DATEDIF(F213,D213,\"Y\")","v":46},{"$f":"DATEDIF(F213,D213,\"YD\")","v":217},{"$f":"D213-F213","v":17018},{"$f":"\"MRS \"&TEXT(J213,\"00000\")&\" \"&SUBSTITUTE(C213,\":\",\"\")&\" (\"&TEXT(D213,\"TT.MM.JJJJ\")&\") - \"&E213&\" (\"&TEXT(F213,\"TT.MM.JJJJ\")&\") \"&H213&\"-\"&I213","v":"MRS 17018 Carol (17.12.2015) - Cate Blanchett (14.05.1969) 46-217"}]
["tt0116675","nm0001303",{"$f":"_xlfn.XLOOKUP($A214,_xlfn.CHOOSECOLS(_xlfn.ANCHORARRAY(Filme!$G$1),2),_xlfn.CHOOSECOLS(_xlfn.ANCHORARRAY(Filme!$G$1),3),\"\",0,2)","v":"Jaded"},{"$f":"_xlfn.XLOOKUP($A214,_xlfn.CHOOSECOLS(_xlfn.ANCHORARRAY(Filme!$G$1),2),_xlfn.CHOOSECOLS(_xlfn.ANCHORARRAY(Filme!$G$1),4),\"\",0,2)","v":"2000-05-04"},{"$f":"_xlfn.XLOOKUP($B214,_xlfn.CHOOSECOLS(_xlfn.ANCHORARRAY(Leute!$F$1),2),_xlfn.CHOOSECOLS(_xlfn.ANCHORARRAY(Leute!$F$1),3),\"x\",0,2)","v":"Carla Gugino"},{"$f":"_xlfn.XLOOKUP($B214,_xlfn.CHOOSECOLS(_xlfn.ANCHORARRAY(Leute!$F$1),2),_xlfn.CHOOSECOLS(_xlfn.ANCHORARRAY(Leute!$F$1),4),\"x\",0,2)","v":"1971-08-29"},{"$f":"RANK(F214,F$1:F214,0)","v":65},{"$f":"DATEDIF(F214,D214,\"Y\")","v":28},{"$f":"DATEDIF(F214,D214,\"YD\")","v":249},{"$f":"D214-F214","v":10476},{"$f":"\"MRS \"&TEXT(J214,\"00000\")&\" \"&SUBSTITUTE(C214,\":\",\"\")&\" (\"&TEXT(D214,\"TT.MM.JJJJ\")&\") - \"&E214&\" (\"&TEXT(F214,\"TT.MM.JJJJ\")&\") \"&H214&\"-\"&I214","v":"MRS 10476 Jaded (04.05.2000) - Carla Gugino (29.08.1971) 28-249"}]
["tt0138541","nm0001303",{"$f":"_xlfn.XLOOKUP($A215,_xlfn.CHOOSECOLS(_xlfn.ANCHORARRAY(Filme!$G$1),2),_xlfn.CHOOSECOLS(_xlfn.ANCHORARRAY(Filme!$G$1),3),\"\",0,2)","v":"Judas Kiss"},{"$f":"_xlfn.XLOOKUP($A215,_xlfn.CHOOSECOLS(_xlfn.ANCHORARRAY(Filme!$G$1),2),_xlfn.CHOOSECOLS(_xlfn.ANCHORARRAY(Filme!$G$1),4),\"\",0,2)","v":"1999-04-23"},{"$f":"_xlfn.XLOOKUP($B215,_xlfn.CHOOSECOLS(_xlfn.ANCHORARRAY(Leute!$F$1),2),_xlfn.CHOOSECOLS(_xlfn.ANCHORARRAY(Leute!$F$1),3),\"x\",0,2)","v":"Carla Gugino"},{"$f":"_xlfn.XLOOKUP($B215,_xlfn.CHOOSECOLS(_xlfn.ANCHORARRAY(Leute!$F$1),2),_xlfn.CHOOSECOLS(_xlfn.ANCHORARRAY(Leute!$F$1),4),\"x\",0,2)","v":"1971-08-29"},{"$f":"RANK(F215,F$1:F215,0)","v":65},{"$f":"DATEDIF(F215,D215,\"Y\")","v":27},{"$f":"DATEDIF(F215,D215,\"YD\")","v":238},{"$f":"D215-F215","v":10099},{"$f":"\"MRS \"&TEXT(J215,\"00000\")&\" \"&SUBSTITUTE(C215,\":\",\"\")&\" (\"&TEXT(D215,\"TT.MM.JJJJ\")&\") - \"&E215&\" (\"&TEXT(F215,\"TT.MM.JJJJ\")&\") \"&H215&\"-\"&I215","v":"MRS 10099 Judas Kiss (23.04.1999) - Carla Gugino (29.08.1971) 27-238"}]
["tt0401792","nm0001303",{"$f":"_xlfn.XLOOKUP($A216,_xlfn.CHOOSECOLS(_xlfn.ANCHORARRAY(Filme!$G$1),2),_xlfn.CHOOSECOLS(_xlfn.ANCHORARRAY(Filme!$G$1),3),\"\",0,2)","v":"Sin City"},{"$f":"_xlfn.XLOOKUP($A216,_xlfn.CHOOSECOLS(_xlfn.ANCHORARRAY(Filme!$G$1),2),_xlfn.CHOOSECOLS(_xlfn.ANCHORARRAY(Filme!$G$1),4),\"\",0,2)","v":"2005-08-11"},{"$f":"_xlfn.XLOOKUP($B216,_xlfn.CHOOSECOLS(_xlfn.ANCHORARRAY(Leute!$F$1),2),_xlfn.CHOOSECOLS(_xlfn.ANCHORARRAY(Leute!$F$1),3),\"x\",0,2)","v":"Carla Gugino"},{"$f":"_xlfn.XLOOKUP($B216,_xlfn.CHOOSECOLS(_xlfn.ANCHORARRAY(Leute!$F$1),2),_xlfn.CHOOSECOLS(_xlfn.ANCHORARRAY(Leute!$F$1),4),\"x\",0,2)","v":"1971-08-29"},{"$f":"RANK(F216,F$1:F216,0)","v":65},{"$f":"DATEDIF(F216,D216,\"Y\")","v":33},{"$f":"DATEDIF(F216,D216,\"YD\")","v":348},{"$f":"D216-F216","v":12401},{"$f":"\"MRS \"&TEXT(J216,\"00000\")&\" \"&SUBSTITUTE(C216,\":\",\"\")&\" (\"&TEXT(D216,\"TT.MM.JJJJ\")&\") - \"&E216&\" (\"&TEXT(F216,\"TT.MM.JJJJ\")&\") \"&H216&\"-\"&I216","v":"MRS 12401 Sin City (11.08.2005) - Carla Gugino (29.08.1971) 33-348"}]
["tt1301990","nm0001303",{"$f":"_xlfn.XLOOKUP($A217,_xlfn.CHOOSECOLS(_xlfn.ANCHORARRAY(Filme!$G$1),2),_xlfn.CHOOSECOLS(_xlfn.ANCHORARRAY(Filme!$G$1),3),\"\",0,2)","v":"Every Day"},{"$f":"_xlfn.XLOOKUP($A217,_xlfn.CHOOSECOLS(_xlfn.ANCHORARRAY(Filme!$G$1),2),_xlfn.CHOOSECOLS(_xlfn.ANCHORARRAY(Filme!$G$1),4),\"\",0,2)","v":"2011-04-15"},{"$f":"_xlfn.XLOOKUP($B217,_xlfn.CHOOSECOLS(_xlfn.ANCHORARRAY(Leute!$F$1),2),_xlfn.CHOOSECOLS(_xlfn.ANCHORARRAY(Leute!$F$1),3),\"x\",0,2)","v":"Carla Gugino"},{"$f":"_xlfn.XLOOKUP($B217,_xlfn.CHOOSECOLS(_xlfn.ANCHORARRAY(Leute!$F$1),2),_xlfn.CHOOSECOLS(_xlfn.ANCHORARRAY(Leute!$F$1),4),\"x\",0,2)","v":"1971-08-29"},{"$f":"RANK(F217,F$1:F217,0)","v":65},{"$f":"DATEDIF(F217,D217,\"Y\")","v":39},{"$f":"DATEDIF(F217,D217,\"YD\")","v":230},{"$f":"D217-F217","v":14474},{"$f":"\"MRS \"&TEXT(J217,\"00000\")&\" \"&SUBSTITUTE(C217,\":\",\"\")&\" (\"&TEXT(D217,\"TT.MM.JJJJ\")&\") - \"&E217&\" (\"&TEXT(F217,\"TT.MM.JJJJ\")&\") \"&H217&\"-\"&I217","v":"MRS 14474 Every Day (15.04.2011) - Carla Gugino (29.08.1971) 39-230"}]
["tt1340773","nm0001303",{"$f":"_xlfn.XLOOKUP($A218,_xlfn.CHOOSECOLS(_xlfn.ANCHORARRAY(Filme!$G$1),2),_xlfn.CHOOSECOLS(_xlfn.ANCHORARRAY(Filme!$G$1),3),\"\",0,2)","v":"Elektra Luxx"},{"$f":"_xlfn.XLOOKUP($A218,_xlfn.CHOOSECOLS(_xlfn.ANCHORARRAY(Filme!$G$1),2),_xlfn.CHOOSECOLS(_xlfn.ANCHORARRAY(Filme!$G$1),4),\"\",0,2)","v":"2011-08-30"},{"$f":"_xlfn.XLOOKUP($B218,_xlfn.CHOOSECOLS(_xlfn.ANCHORARRAY(Leute!$F$1),2),_xlfn.CHOOSECOLS(_xlfn.ANCHORARRAY(Leute!$F$1),3),\"x\",0,2)","v":"Carla Gugino"},{"$f":"_xlfn.XLOOKUP($B218,_xlfn.CHOOSECOLS(_xlfn.ANCHORARRAY(Leute!$F$1),2),_xlfn.CHOOSECOLS(_xlfn.ANCHORARRAY(Leute!$F$1),4),\"x\",0,2)","v":"1971-08-29"},{"$f":"RANK(F218,F$1:F218,0)","v":65},{"$f":"DATEDIF(F218,D218,\"Y\")","v":40},{"$f":"DATEDIF(F218,D218,\"YD\")","v":1},{"$f":"D218-F218","v":14611},{"$f":"\"MRS \"&TEXT(J218,\"00000\")&\" \"&SUBSTITUTE(C218,\":\",\"\")&\" (\"&TEXT(D218,\"TT.MM.JJJJ\")&\") - \"&E218&\" (\"&TEXT(F218,\"TT.MM.JJJJ\")&\") \"&H218&\"-\"&I218","v":"MRS 14611 Elektra Luxx (30.08.2011) - Carla Gugino (29.08.1971) 40-1"}]
["tt14148006","nm0001303",{"$f":"_xlfn.XLOOKUP($A219,_xlfn.CHOOSECOLS(_xlfn.ANCHORARRAY(Filme!$G$1),2),_xlfn.CHOOSECOLS(_xlfn.ANCHORARRAY(Filme!$G$1),3),\"\",0,2)","v":"Leopard Skin"},{"$f":"_xlfn.XLOOKUP($A219,_xlfn.CHOOSECOLS(_xlfn.ANCHORARRAY(Filme!$G$1),2),_xlfn.CHOOSECOLS(_xlfn.ANCHORARRAY(Filme!$G$1),4),\"\",0,2)","v":"2022-11-17"},{"$f":"_xlfn.XLOOKUP($B219,_xlfn.CHOOSECOLS(_xlfn.ANCHORARRAY(Leute!$F$1),2),_xlfn.CHOOSECOLS(_xlfn.ANCHORARRAY(Leute!$F$1),3),\"x\",0,2)","v":"Carla Gugino"},{"$f":"_xlfn.XLOOKUP($B219,_xlfn.CHOOSECOLS(_xlfn.ANCHORARRAY(Leute!$F$1),2),_xlfn.CHOOSECOLS(_xlfn.ANCHORARRAY(Leute!$F$1),4),\"x\",0,2)","v":"1971-08-29"},{"$f":"RANK(F219,F$1:F219,0)","v":65},{"$f":"DATEDIF(F219,D219,\"Y\")","v":51},{"$f":"DATEDIF(F219,D219,\"YD\")","v":80},{"$f":"D219-F219","v":18708},{"$f":"\"MRS \"&TEXT(J219,\"00000\")&\" \"&SUBSTITUTE(C219,\":\",\"\")&\" (\"&TEXT(D219,\"TT.MM.JJJJ\")&\") - \"&E219&\" (\"&TEXT(F219,\"TT.MM.JJJJ\")&\") \"&H219&\"-\"&I219","v":"MRS 18708 Leopard Skin (17.11.2022) - Carla Gugino (29.08.1971) 51-80"}]
["tt6852872","nm0001303",{"$f":"_xlfn.XLOOKUP($A220,_xlfn.CHOOSECOLS(_xlfn.ANCHORARRAY(Filme!$G$1),2),_xlfn.CHOOSECOLS(_xlfn.ANCHORARRAY(Filme!$G$1),3),\"\",0,2)","v":"Elizabeth Harvest"},{"$f":"_xlfn.XLOOKUP($A220,_xlfn.CHOOSECOLS(_xlfn.ANCHORARRAY(Filme!$G$1),2),_xlfn.CHOOSECOLS(_xlfn.ANCHORARRAY(Filme!$G$1),4),\"\",0,2)","v":"2018-08-10"},{"$f":"_xlfn.XLOOKUP($B220,_xlfn.CHOOSECOLS(_xlfn.ANCHORARRAY(Leute!$F$1),2),_xlfn.CHOOSECOLS(_xlfn.ANCHORARRAY(Leute!$F$1),3),\"x\",0,2)","v":"Carla Gugino"},{"$f":"_xlfn.XLOOKUP($B220,_xlfn.CHOOSECOLS(_xlfn.ANCHORARRAY(Leute!$F$1),2),_xlfn.CHOOSECOLS(_xlfn.ANCHORARRAY(Leute!$F$1),4),\"x\",0,2)","v":"1971-08-29"},{"$f":"RANK(F220,F$1:F220,0)","v":65},{"$f":"DATEDIF(F220,D220,\"Y\")","v":46},{"$f":"DATEDIF(F220,D220,\"YD\")","v":347},{"$f":"D220-F220","v":17148},{"$f":"\"MRS \"&TEXT(J220,\"00000\")&\" \"&SUBSTITUTE(C220,\":\",\"\")&\" (\"&TEXT(D220,\"TT.MM.JJJJ\")&\") - \"&E220&\" (\"&TEXT(F220,\"TT.MM.JJJJ\")&\") \"&H220&\"-\"&I220","v":"MRS 17148 Elizabeth Harvest (10.08.2018) - Carla Gugino (29.08.1971) 46-347"}]
["tt9777408","nm0001303",{"$f":"_xlfn.XLOOKUP($A221,_xlfn.CHOOSECOLS(_xlfn.ANCHORARRAY(Filme!$G$1),2),_xlfn.CHOOSECOLS(_xlfn.ANCHORARRAY(Filme!$G$1),3),\"\",0,2)","v":"Jett"},{"$f":"_xlfn.XLOOKUP($A221,_xlfn.CHOOSECOLS(_xlfn.ANCHORARRAY(Filme!$G$1),2),_xlfn.CHOOSECOLS(_xlfn.ANCHORARRAY(Filme!$G$1),4),\"\",0,2)","v":"2019-07-12"},{"$f":"_xlfn.XLOOKUP($B221,_xlfn.CHOOSECOLS(_xlfn.ANCHORARRAY(Leute!$F$1),2),_xlfn.CHOOSECOLS(_xlfn.ANCHORARRAY(Leute!$F$1),3),\"x\",0,2)","v":"Carla Gugino"},{"$f":"_xlfn.XLOOKUP($B221,_xlfn.CHOOSECOLS(_xlfn.ANCHORARRAY(Leute!$F$1),2),_xlfn.CHOOSECOLS(_xlfn.ANCHORARRAY(Leute!$F$1),4),\"x\",0,2)","v":"1971-08-29"},{"$f":"RANK(F221,F$1:F221,0)","v":65},{"$f":"DATEDIF(F221,D221,\"Y\")","v":47},{"$f":"DATEDIF(F221,D221,\"YD\")","v":318},{"$f":"D221-F221","v":17484},{"$f":"\"MRS \"&TEXT(J221,\"00000\")&\" \"&SUBSTITUTE(C221,\":\",\"\")&\" (\"&TEXT(D221,\"TT.MM.JJJJ\")&\") - \"&E221&\" (\"&TEXT(F221,\"TT.MM.JJJJ\")&\") \"&H221&\"-\"&I221","v":"MRS 17484 Jett (12.07.2019) - Carla Gugino (29.08.1971) 47-318"}]
["tt0290095","nm0001349",{"$f":"_xlfn.XLOOKUP($A222,_xlfn.CHOOSECOLS(_xlfn.ANCHORARRAY(Filme!$G$1),2),_xlfn.CHOOSECOLS(_xlfn.ANCHORARRAY(Filme!$G$1),3),\"\",0,2)","v":"The Tuxedo"},{"$f":"_xlfn.XLOOKUP($A222,_xlfn.CHOOSECOLS(_xlfn.ANCHORARRAY(Filme!$G$1),2),_xlfn.CHOOSECOLS(_xlfn.ANCHORARRAY(Filme!$G$1),4),\"\",0,2)","v":"2002-12-05"},{"$f":"_xlfn.XLOOKUP($B222,_xlfn.CHOOSECOLS(_xlfn.ANCHORARRAY(Leute!$F$1),2),_xlfn.CHOOSECOLS(_xlfn.ANCHORARRAY(Leute!$F$1),3),\"x\",0,2)","v":"Jennifer Love Hewitt"},{"$f":"_xlfn.XLOOKUP($B222,_xlfn.CHOOSECOLS(_xlfn.ANCHORARRAY(Leute!$F$1),2),_xlfn.CHOOSECOLS(_xlfn.ANCHORARRAY(Leute!$F$1),4),\"x\",0,2)","v":"1979-02-21"},{"$f":"RANK(F222,F$1:F222,0)","v":17},{"$f":"DATEDIF(F222,D222,\"Y\")","v":23},{"$f":"DATEDIF(F222,D222,\"YD\")","v":287},{"$f":"D222-F222","v":8688},{"$f":"\"MRS \"&TEXT(J222,\"00000\")&\" \"&SUBSTITUTE(C222,\":\",\"\")&\" (\"&TEXT(D222,\"TT.MM.JJJJ\")&\") - \"&E222&\" (\"&TEXT(F222,\"TT.MM.JJJJ\")&\") \"&H222&\"-\"&I222","v":"MRS 08688 The Tuxedo (05.12.2002) - Jennifer Love Hewitt (21.02.1979) 23-287"}]
["tt0106639","nm0001401",{"$f":"_xlfn.XLOOKUP($A223,_xlfn.CHOOSECOLS(_xlfn.ANCHORARRAY(Filme!$G$1),2),_xlfn.CHOOSECOLS(_xlfn.ANCHORARRAY(Filme!$G$1),3),\"\",0,2)","v":"Cyborg 2: Glass Shadow"},{"$f":"_xlfn.XLOOKUP($A223,_xlfn.CHOOSECOLS(_xlfn.ANCHORARRAY(Filme!$G$1),2),_xlfn.CHOOSECOLS(_xlfn.ANCHORARRAY(Filme!$G$1),4),\"\",0,2)","v":"1993-11-30"},{"$f":"_xlfn.XLOOKUP($B223,_xlfn.CHOOSECOLS(_xlfn.ANCHORARRAY(Leute!$F$1),2),_xlfn.CHOOSECOLS(_xlfn.ANCHORARRAY(Leute!$F$1),3),\"x\",0,2)","v":"Angelina Jolie"},{"$f":"_xlfn.XLOOKUP($B223,_xlfn.CHOOSECOLS(_xlfn.ANCHORARRAY(Leute!$F$1),2),_xlfn.CHOOSECOLS(_xlfn.ANCHORARRAY(Leute!$F$1),4),\"x\",0,2)","v":"1975-06-04"},{"$f":"RANK(F223,F$1:F223,0)","v":54},{"$f":"DATEDIF(F223,D223,\"Y\")","v":18},{"$f":"DATEDIF(F223,D223,\"YD\")","v":179},{"$f":"D223-F223","v":6754},{"$f":"\"MRS \"&TEXT(J223,\"00000\")&\" \"&SUBSTITUTE(C223,\":\",\"\")&\" (\"&TEXT(D223,\"TT.MM.JJJJ\")&\") - \"&E223&\" (\"&TEXT(F223,\"TT.MM.JJJJ\")&\") \"&H223&\"-\"&I223","v":"MRS 06754 Cyborg 2 Glass Shadow (30.11.1993) - Angelina Jolie (04.06.1975) 18-179"}]
["tt0113243","nm0001401",{"$f":"_xlfn.XLOOKUP($A224,_xlfn.CHOOSECOLS(_xlfn.ANCHORARRAY(Filme!$G$1),2),_xlfn.CHOOSECOLS(_xlfn.ANCHORARRAY(Filme!$G$1),3),\"\",0,2)","v":"Hackers"},{"$f":"_xlfn.XLOOKUP($A224,_xlfn.CHOOSECOLS(_xlfn.ANCHORARRAY(Filme!$G$1),2),_xlfn.CHOOSECOLS(_xlfn.ANCHORARRAY(Filme!$G$1),4),\"\",0,2)","v":"1996-06-13"},{"$f":"_xlfn.XLOOKUP($B224,_xlfn.CHOOSECOLS(_xlfn.ANCHORARRAY(Leute!$F$1),2),_xlfn.CHOOSECOLS(_xlfn.ANCHORARRAY(Leute!$F$1),3),\"x\",0,2)","v":"Angelina Jolie"},{"$f":"_xlfn.XLOOKUP($B224,_xlfn.CHOOSECOLS(_xlfn.ANCHORARRAY(Leute!$F$1),2),_xlfn.CHOOSECOLS(_xlfn.ANCHORARRAY(Leute!$F$1),4),\"x\",0,2)","v":"1975-06-04"},{"$f":"RANK(F224,F$1:F224,0)","v":54},{"$f":"DATEDIF(F224,D224,\"Y\")","v":21},{"$f":"DATEDIF(F224,D224,\"YD\")","v":9},{"$f":"D224-F224","v":7680},{"$f":"\"MRS \"&TEXT(J224,\"00000\")&\" \"&SUBSTITUTE(C224,\":\",\"\")&\" (\"&TEXT(D224,\"TT.MM.JJJJ\")&\") - \"&E224&\" (\"&TEXT(F224,\"TT.MM.JJJJ\")&\") \"&H224&\"-\"&I224","v":"MRS 07680 Hackers (13.06.1996) - Angelina Jolie (04.06.1975) 21-9"}]
["tt0116353","nm0001401",{"$f":"_xlfn.XLOOKUP($A225,_xlfn.CHOOSECOLS(_xlfn.ANCHORARRAY(Filme!$G$1),2),_xlfn.CHOOSECOLS(_xlfn.ANCHORARRAY(Filme!$G$1),3),\"\",0,2)","v":"Foxfire"},{"$f":"_xlfn.XLOOKUP($A225,_xlfn.CHOOSECOLS(_xlfn.ANCHORARRAY(Filme!$G$1),2),_xlfn.CHOOSECOLS(_xlfn.ANCHORARRAY(Filme!$G$1),4),\"\",0,2)","v":"1996-08-23"},{"$f":"_xlfn.XLOOKUP($B225,_xlfn.CHOOSECOLS(_xlfn.ANCHORARRAY(Leute!$F$1),2),_xlfn.CHOOSECOLS(_xlfn.ANCHORARRAY(Leute!$F$1),3),\"x\",0,2)","v":"Angelina Jolie"},{"$f":"_xlfn.XLOOKUP($B225,_xlfn.CHOOSECOLS(_xlfn.ANCHORARRAY(Leute!$F$1),2),_xlfn.CHOOSECOLS(_xlfn.ANCHORARRAY(Leute!$F$1),4),\"x\",0,2)","v":"1975-06-04"},{"$f":"RANK(F225,F$1:F225,0)","v":54},{"$f":"DATEDIF(F225,D225,\"Y\")","v":21},{"$f":"DATEDIF(F225,D225,\"YD\")","v":80},{"$f":"D225-F225","v":7751},{"$f":"\"MRS \"&TEXT(J225,\"00000\")&\" \"&SUBSTITUTE(C225,\":\",\"\")&\" (\"&TEXT(D225,\"TT.MM.JJJJ\")&\") - \"&E225&\" (\"&TEXT(F225,\"TT.MM.JJJJ\")&\") \"&H225&\"-\"&I225","v":"MRS 07751 Foxfire (23.08.1996) - Angelina Jolie (04.06.1975) 21-80"}]
["tt0117070","nm0001401",{"$f":"_xlfn.XLOOKUP($A226,_xlfn.CHOOSECOLS(_xlfn.ANCHORARRAY(Filme!$G$1),2),_xlfn.CHOOSECOLS(_xlfn.ANCHORARRAY(Filme!$G$1),3),\"\",0,2)","v":"Mojave Moon"},{"$f":"_xlfn.XLOOKUP($A226,_xlfn.CHOOSECOLS(_xlfn.ANCHORARRAY(Filme!$G$1),2),_xlfn.CHOOSECOLS(_xlfn.ANCHORARRAY(Filme!$G$1),4),\"\",0,2)","v":"1996-10-31"},{"$f":"_xlfn.XLOOKUP($B226,_xlfn.CHOOSECOLS(_xlfn.ANCHORARRAY(Leute!$F$1),2),_xlfn.CHOOSECOLS(_xlfn.ANCHORARRAY(Leute!$F$1),3),\"x\",0,2)","v":"Angelina Jolie"},{"$f":"_xlfn.XLOOKUP($B226,_xlfn.CHOOSECOLS(_xlfn.ANCHORARRAY(Leute!$F$1),2),_xlfn.CHOOSECOLS(_xlfn.ANCHORARRAY(Leute!$F$1),4),\"x\",0,2)","v":"1975-06-04"},{"$f":"RANK(F226,F$1:F226,0)","v":54},{"$f":"DATEDIF(F226,D226,\"Y\")","v":21},{"$f":"DATEDIF(F226,D226,\"YD\")","v":149},{"$f":"D226-F226","v":7820},{"$f":"\"MRS \"&TEXT(J226,\"00000\")&\" \"&SUBSTITUTE(C226,\":\",\"\")&\" (\"&TEXT(D226,\"TT.MM.JJJJ\")&\") - \"&E226&\" (\"&TEXT(F226,\"TT.MM.JJJJ\")&\") \"&H226&\"-\"&I226","v":"MRS 07820 Mojave Moon (31.10.1996) - Angelina Jolie (04.06.1975) 21-149"}]
["tt0120797","nm0001401",{"$f":"_xlfn.XLOOKUP($A227,_xlfn.CHOOSECOLS(_xlfn.ANCHORARRAY(Filme!$G$1),2),_xlfn.CHOOSECOLS(_xlfn.ANCHORARRAY(Filme!$G$1),3),\"\",0,2)","v":"Pushing Tin"},{"$f":"_xlfn.XLOOKUP($A227,_xlfn.CHOOSECOLS(_xlfn.ANCHORARRAY(Filme!$G$1),2),_xlfn.CHOOSECOLS(_xlfn.ANCHORARRAY(Filme!$G$1),4),\"\",0,2)","v":"2000-06-29"},{"$f":"_xlfn.XLOOKUP($B227,_xlfn.CHOOSECOLS(_xlfn.ANCHORARRAY(Leute!$F$1),2),_xlfn.CHOOSECOLS(_xlfn.ANCHORARRAY(Leute!$F$1),3),\"x\",0,2)","v":"Angelina Jolie"},{"$f":"_xlfn.XLOOKUP($B227,_xlfn.CHOOSECOLS(_xlfn.ANCHORARRAY(Leute!$F$1),2),_xlfn.CHOOSECOLS(_xlfn.ANCHORARRAY(Leute!$F$1),4),\"x\",0,2)","v":"1975-06-04"},{"$f":"RANK(F227,F$1:F227,0)","v":54},{"$f":"DATEDIF(F227,D227,\"Y\")","v":25},{"$f":"DATEDIF(F227,D227,\"YD\")","v":25},{"$f":"D227-F227","v":9157},{"$f":"\"MRS \"&TEXT(J227,\"00000\")&\" \"&SUBSTITUTE(C227,\":\",\"\")&\" (\"&TEXT(D227,\"TT.MM.JJJJ\")&\") - \"&E227&\" (\"&TEXT(F227,\"TT.MM.JJJJ\")&\") \"&H227&\"-\"&I227","v":"MRS 09157 Pushing Tin (29.06.2000) - Angelina Jolie (04.06.1975) 25-25"}]
["tt0123865","nm0001401",{"$f":"_xlfn.XLOOKUP($A228,_xlfn.CHOOSECOLS(_xlfn.ANCHORARRAY(Filme!$G$1),2),_xlfn.CHOOSECOLS(_xlfn.ANCHORARRAY(Filme!$G$1),3),\"\",0,2)","v":"Gia"},{"$f":"_xlfn.XLOOKUP($A228,_xlfn.CHOOSECOLS(_xlfn.ANCHORARRAY(Filme!$G$1),2),_xlfn.CHOOSECOLS(_xlfn.ANCHORARRAY(Filme!$G$1),4),\"\",0,2)","v":"1998-09-22"},{"$f":"_xlfn.XLOOKUP($B228,_xlfn.CHOOSECOLS(_xlfn.ANCHORARRAY(Leute!$F$1),2),_xlfn.CHOOSECOLS(_xlfn.ANCHORARRAY(Leute!$F$1),3),\"x\",0,2)","v":"Angelina Jolie"},{"$f":"_xlfn.XLOOKUP($B228,_xlfn.CHOOSECOLS(_xlfn.ANCHORARRAY(Leute!$F$1),2),_xlfn.CHOOSECOLS(_xlfn.ANCHORARRAY(Leute!$F$1),4),\"x\",0,2)","v":"1975-06-04"},{"$f":"RANK(F228,F$1:F228,0)","v":54},{"$f":"DATEDIF(F228,D228,\"Y\")","v":23},{"$f":"DATEDIF(F228,D228,\"YD\")","v":110},{"$f":"D228-F228","v":8511},{"$f":"\"MRS \"&TEXT(J228,\"00000\")&\" \"&SUBSTITUTE(C228,\":\",\"\")&\" (\"&TEXT(D228,\"TT.MM.JJJJ\")&\") - \"&E228&\" (\"&TEXT(F228,\"TT.MM.JJJJ\")&\") \"&H228&\"-\"&I228","v":"MRS 08511 Gia (22.09.1998) - Angelina Jolie (04.06.1975) 23-110"}]
["tt0129136","nm0001401",{"$f":"_xlfn.XLOOKUP($A229,_xlfn.CHOOSECOLS(_xlfn.ANCHORARRAY(Filme!$G$1),2),_xlfn.CHOOSECOLS(_xlfn.ANCHORARRAY(Filme!$G$1),3),\"\",0,2)","v":"Hell's Kitchen"},{"$f":"_xlfn.XLOOKUP($A229,_xlfn.CHOOSECOLS(_xlfn.ANCHORARRAY(Filme!$G$1),2),_xlfn.CHOOSECOLS(_xlfn.ANCHORARRAY(Filme!$G$1),4),\"\",0,2)","v":"2001-01-19"},{"$f":"_xlfn.XLOOKUP($B229,_xlfn.CHOOSECOLS(_xlfn.ANCHORARRAY(Leute!$F$1),2),_xlfn.CHOOSECOLS(_xlfn.ANCHORARRAY(Leute!$F$1),3),\"x\",0,2)","v":"Angelina Jolie"},{"$f":"_xlfn.XLOOKUP($B229,_xlfn.CHOOSECOLS(_xlfn.ANCHORARRAY(Leute!$F$1),2),_xlfn.CHOOSECOLS(_xlfn.ANCHORARRAY(Leute!$F$1),4),\"x\",0,2)","v":"1975-06-04"},{"$f":"RANK(F229,F$1:F229,0)","v":54},{"$f":"DATEDIF(F229,D229,\"Y\")","v":25},{"$f":"DATEDIF(F229,D229,\"YD\")","v":229},{"$f":"D229-F229","v":9361},{"$f":"\"MRS \"&TEXT(J229,\"00000\")&\" \"&SUBSTITUTE(C229,\":\",\"\")&\" (\"&TEXT(D229,\"TT.MM.JJJJ\")&\") - \"&E229&\" (\"&TEXT(F229,\"TT.MM.JJJJ\")&\") \"&H229&\"-\"&I229","v":"MRS 09361 Hell's Kitchen (19.01.2001) - Angelina Jolie (04.06.1975) 25-229"}]
["tt0218922","nm0001401",{"$f":"_xlfn.XLOOKUP($A230,_xlfn.CHOOSECOLS(_xlfn.ANCHORARRAY(Filme!$G$1),2),_xlfn.CHOOSECOLS(_xlfn.ANCHORARRAY(Filme!$G$1),3),\"\",0,2)","v":"Original Sin"},{"$f":"_xlfn.XLOOKUP($A230,_xlfn.CHOOSECOLS(_xlfn.ANCHORARRAY(Filme!$G$1),2),_xlfn.CHOOSECOLS(_xlfn.ANCHORARRAY(Filme!$G$1),4),\"\",0,2)","v":"2001-07-12"},{"$f":"_xlfn.XLOOKUP($B230,_xlfn.CHOOSECOLS(_xlfn.ANCHORARRAY(Leute!$F$1),2),_xlfn.CHOOSECOLS(_xlfn.ANCHORARRAY(Leute!$F$1),3),\"x\",0,2)","v":"Angelina Jolie"},{"$f":"_xlfn.XLOOKUP($B230,_xlfn.CHOOSECOLS(_xlfn.ANCHORARRAY(Leute!$F$1),2),_xlfn.CHOOSECOLS(_xlfn.ANCHORARRAY(Leute!$F$1),4),\"x\",0,2)","v":"1975-06-04"},{"$f":"RANK(F230,F$1:F230,0)","v":54},{"$f":"DATEDIF(F230,D230,\"Y\")","v":26},{"$f":"DATEDIF(F230,D230,\"YD\")","v":38},{"$f":"D230-F230","v":9535},{"$f":"\"MRS \"&TEXT(J230,\"00000\")&\" \"&SUBSTITUTE(C230,\":\",\"\")&\" (\"&TEXT(D230,\"TT.MM.JJJJ\")&\") - \"&E230&\" (\"&TEXT(F230,\"TT.MM.JJJJ\")&\") \"&H230&\"-\"&I230","v":"MRS 09535 Original Sin (12.07.2001) - Angelina Jolie (04.06.1975) 26-38"}]
["tt0294357","nm0001401",{"$f":"_xlfn.XLOOKUP($A231,_xlfn.CHOOSECOLS(_xlfn.ANCHORARRAY(Filme!$G$1),2),_xlfn.CHOOSECOLS(_xlfn.ANCHORARRAY(Filme!$G$1),3),\"\",0,2)","v":"Beyond Borders"},{"$f":"_xlfn.XLOOKUP($A231,_xlfn.CHOOSECOLS(_xlfn.ANCHORARRAY(Filme!$G$1),2),_xlfn.CHOOSECOLS(_xlfn.ANCHORARRAY(Filme!$G$1),4),\"\",0,2)","v":"2004-02-26"},{"$f":"_xlfn.XLOOKUP($B231,_xlfn.CHOOSECOLS(_xlfn.ANCHORARRAY(Leute!$F$1),2),_xlfn.CHOOSECOLS(_xlfn.ANCHORARRAY(Leute!$F$1),3),\"x\",0,2)","v":"Angelina Jolie"},{"$f":"_xlfn.XLOOKUP($B231,_xlfn.CHOOSECOLS(_xlfn.ANCHORARRAY(Leute!$F$1),2),_xlfn.CHOOSECOLS(_xlfn.ANCHORARRAY(Leute!$F$1),4),\"x\",0,2)","v":"1975-06-04"},{"$f":"RANK(F231,F$1:F231,0)","v":54},{"$f":"DATEDIF(F231,D231,\"Y\")","v":28},{"$f":"DATEDIF(F231,D231,\"YD\")","v":267},{"$f":"D231-F231","v":10494},{"$f":"\"MRS \"&TEXT(J231,\"00000\")&\" \"&SUBSTITUTE(C231,\":\",\"\")&\" (\"&TEXT(D231,\"TT.MM.JJJJ\")&\") - \"&E231&\" (\"&TEXT(F231,\"TT.MM.JJJJ\")&\") \"&H231&\"-\"&I231","v":"MRS 10494 Beyond Borders (26.02.2004) - Angelina Jolie (04.06.1975) 28-267"}]
["tt0356910","nm0001401",{"$f":"_xlfn.XLOOKUP($A232,_xlfn.CHOOSECOLS(_xlfn.ANCHORARRAY(Filme!$G$1),2),_xlfn.CHOOSECOLS(_xlfn.ANCHORARRAY(Filme!$G$1),3),\"\",0,2)","v":"Mr. & Mrs. Smith"},{"$f":"_xlfn.XLOOKUP($A232,_xlfn.CHOOSECOLS(_xlfn.ANCHORARRAY(Filme!$G$1),2),_xlfn.CHOOSECOLS(_xlfn.ANCHORARRAY(Filme!$G$1),4),\"\",0,2)","v":"2005-07-21"},{"$f":"_xlfn.XLOOKUP($B232,_xlfn.CHOOSECOLS(_xlfn.ANCHORARRAY(Leute!$F$1),2),_xlfn.CHOOSECOLS(_xlfn.ANCHORARRAY(Leute!$F$1),3),\"x\",0,2)","v":"Angelina Jolie"},{"$f":"_xlfn.XLOOKUP($B232,_xlfn.CHOOSECOLS(_xlfn.ANCHORARRAY(Leute!$F$1),2),_xlfn.CHOOSECOLS(_xlfn.ANCHORARRAY(Leute!$F$1),4),\"x\",0,2)","v":"1975-06-04"},{"$f":"RANK(F232,F$1:F232,0)","v":54},{"$f":"DATEDIF(F232,D232,\"Y\")","v":30},{"$f":"DATEDIF(F232,D232,\"YD\")","v":47},{"$f":"D232-F232","v":11005},{"$f":"\"MRS \"&TEXT(J232,\"00000\")&\" \"&SUBSTITUTE(C232,\":\",\"\")&\" (\"&TEXT(D232,\"TT.MM.JJJJ\")&\") - \"&E232&\" (\"&TEXT(F232,\"TT.MM.JJJJ\")&\") \"&H232&\"-\"&I232","v":"MRS 11005 Mr. & Mrs. Smith (21.07.2005) - Angelina Jolie (04.06.1975) 30-47"}]
["tt0364045","nm0001401",{"$f":"_xlfn.XLOOKUP($A233,_xlfn.CHOOSECOLS(_xlfn.ANCHORARRAY(Filme!$G$1),2),_xlfn.CHOOSECOLS(_xlfn.ANCHORARRAY(Filme!$G$1),3),\"\",0,2)","v":"Taking Lives"},{"$f":"_xlfn.XLOOKUP($A233,_xlfn.CHOOSECOLS(_xlfn.ANCHORARRAY(Filme!$G$1),2),_xlfn.CHOOSECOLS(_xlfn.ANCHORARRAY(Filme!$G$1),4),\"\",0,2)","v":"2004-04-08"},{"$f":"_xlfn.XLOOKUP($B233,_xlfn.CHOOSECOLS(_xlfn.ANCHORARRAY(Leute!$F$1),2),_xlfn.CHOOSECOLS(_xlfn.ANCHORARRAY(Leute!$F$1),3),\"x\",0,2)","v":"Angelina Jolie"},{"$f":"_xlfn.XLOOKUP($B233,_xlfn.CHOOSECOLS(_xlfn.ANCHORARRAY(Leute!$F$1),2),_xlfn.CHOOSECOLS(_xlfn.ANCHORARRAY(Leute!$F$1),4),\"x\",0,2)","v":"1975-06-04"},{"$f":"RANK(F233,F$1:F233,0)","v":54},{"$f":"DATEDIF(F233,D233,\"Y\")","v":28},{"$f":"DATEDIF(F233,D233,\"YD\")","v":309},{"$f":"D233-F233","v":10536},{"$f":"\"MRS \"&TEXT(J233,\"00000\")&\" \"&SUBSTITUTE(C233,\":\",\"\")&\" (\"&TEXT(D233,\"TT.MM.JJJJ\")&\") - \"&E233&\" (\"&TEXT(F233,\"TT.MM.JJJJ\")&\") \"&H233&\"-\"&I233","v":"MRS 10536 Taking Lives (08.04.2004) - Angelina Jolie (04.06.1975) 28-309"}]
["tt0493464","nm0001401",{"$f":"_xlfn.XLOOKUP($A234,_xlfn.CHOOSECOLS(_xlfn.ANCHORARRAY(Filme!$G$1),2),_xlfn.CHOOSECOLS(_xlfn.ANCHORARRAY(Filme!$G$1),3),\"\",0,2)","v":"Wanted"},{"$f":"_xlfn.XLOOKUP($A234,_xlfn.CHOOSECOLS(_xlfn.ANCHORARRAY(Filme!$G$1),2),_xlfn.CHOOSECOLS(_xlfn.ANCHORARRAY(Filme!$G$1),4),\"\",0,2)","v":"2008-09-04"},{"$f":"_xlfn.XLOOKUP($B234,_xlfn.CHOOSECOLS(_xlfn.ANCHORARRAY(Leute!$F$1),2),_xlfn.CHOOSECOLS(_xlfn.ANCHORARRAY(Leute!$F$1),3),\"x\",0,2)","v":"Angelina Jolie"},{"$f":"_xlfn.XLOOKUP($B234,_xlfn.CHOOSECOLS(_xlfn.ANCHORARRAY(Leute!$F$1),2),_xlfn.CHOOSECOLS(_xlfn.ANCHORARRAY(Leute!$F$1),4),\"x\",0,2)","v":"1975-06-04"},{"$f":"RANK(F234,F$1:F234,0)","v":54},{"$f":"DATEDIF(F234,D234,\"Y\")","v":33},{"$f":"DATEDIF(F234,D234,\"YD\")","v":92},{"$f":"D234-F234","v":12146},{"$f":"\"MRS \"&TEXT(J234,\"00000\")&\" \"&SUBSTITUTE(C234,\":\",\"\")&\" (\"&TEXT(D234,\"TT.MM.JJJJ\")&\") - \"&E234&\" (\"&TEXT(F234,\"TT.MM.JJJJ\")&\") \"&H234&\"-\"&I234","v":"MRS 12146 Wanted (04.09.2008) - Angelina Jolie (04.06.1975) 33-92"}]
["tt0824747","nm0001401",{"$f":"_xlfn.XLOOKUP($A235,_xlfn.CHOOSECOLS(_xlfn.ANCHORARRAY(Filme!$G$1),2),_xlfn.CHOOSECOLS(_xlfn.ANCHORARRAY(Filme!$G$1),3),\"\",0,2)","v":"Changeling"},{"$f":"_xlfn.XLOOKUP($A235,_xlfn.CHOOSECOLS(_xlfn.ANCHORARRAY(Filme!$G$1),2),_xlfn.CHOOSECOLS(_xlfn.ANCHORARRAY(Filme!$G$1),4),\"\",0,2)","v":"2009-01-22"},{"$f":"_xlfn.XLOOKUP($B235,_xlfn.CHOOSECOLS(_xlfn.ANCHORARRAY(Leute!$F$1),2),_xlfn.CHOOSECOLS(_xlfn.ANCHORARRAY(Leute!$F$1),3),\"x\",0,2)","v":"Angelina Jolie"},{"$f":"_xlfn.XLOOKUP($B235,_xlfn.CHOOSECOLS(_xlfn.ANCHORARRAY(Leute!$F$1),2),_xlfn.CHOOSECOLS(_xlfn.ANCHORARRAY(Leute!$F$1),4),\"x\",0,2)","v":"1975-06-04"},{"$f":"RANK(F235,F$1:F235,0)","v":54},{"$f":"DATEDIF(F235,D235,\"Y\")","v":33},{"$f":"DATEDIF(F235,D235,\"YD\")","v":232},{"$f":"D235-F235","v":12286},{"$f":"\"MRS \"&TEXT(J235,\"00000\")&\" \"&SUBSTITUTE(C235,\":\",\"\")&\" (\"&TEXT(D235,\"TT.MM.JJJJ\")&\") - \"&E235&\" (\"&TEXT(F235,\"TT.MM.JJJJ\")&\") \"&H235&\"-\"&I235","v":"MRS 12286 Changeling (22.01.2009) - Angelina Jolie (04.06.1975) 33-232"}]
["tt3707106","nm0001401",{"$f":"_xlfn.XLOOKUP($A236,_xlfn.CHOOSECOLS(_xlfn.ANCHORARRAY(Filme!$G$1),2),_xlfn.CHOOSECOLS(_xlfn.ANCHORARRAY(Filme!$G$1),3),\"\",0,2)","v":"By the Sea"},{"$f":"_xlfn.XLOOKUP($A236,_xlfn.CHOOSECOLS(_xlfn.ANCHORARRAY(Filme!$G$1),2),_xlfn.CHOOSECOLS(_xlfn.ANCHORARRAY(Filme!$G$1),4),\"\",0,2)","v":"2015-12-10"},{"$f":"_xlfn.XLOOKUP($B236,_xlfn.CHOOSECOLS(_xlfn.ANCHORARRAY(Leute!$F$1),2),_xlfn.CHOOSECOLS(_xlfn.ANCHORARRAY(Leute!$F$1),3),\"x\",0,2)","v":"Angelina Jolie"},{"$f":"_xlfn.XLOOKUP($B236,_xlfn.CHOOSECOLS(_xlfn.ANCHORARRAY(Leute!$F$1),2),_xlfn.CHOOSECOLS(_xlfn.ANCHORARRAY(Leute!$F$1),4),\"x\",0,2)","v":"1975-06-04"},{"$f":"RANK(F236,F$1:F236,0)","v":54},{"$f":"DATEDIF(F236,D236,\"Y\")","v":40},{"$f":"DATEDIF(F236,D236,\"YD\")","v":189},{"$f":"D236-F236","v":14799},{"$f":"\"MRS \"&TEXT(J236,\"00000\")&\" \"&SUBSTITUTE(C236,\":\",\"\")&\" (\"&TEXT(D236,\"TT.MM.JJJJ\")&\") - \"&E236&\" (\"&TEXT(F236,\"TT.MM.JJJJ\")&\") \"&H236&\"-\"&I236","v":"MRS 14799 By the Sea (10.12.2015) - Angelina Jolie (04.06.1975) 40-189"}]
["tt0022867","nm0001443",{"$f":"_xlfn.XLOOKUP($A237,_xlfn.CHOOSECOLS(_xlfn.ANCHORARRAY(Filme!$G$1),2),_xlfn.CHOOSECOLS(_xlfn.ANCHORARRAY(Filme!$G$1),3),\"\",0,2)","v":"Ekstase"},{"$f":"_xlfn.XLOOKUP($A237,_xlfn.CHOOSECOLS(_xlfn.ANCHORARRAY(Filme!$G$1),2),_xlfn.CHOOSECOLS(_xlfn.ANCHORARRAY(Filme!$G$1),4),\"\",0,2)","v":"1935-01-08"},{"$f":"_xlfn.XLOOKUP($B237,_xlfn.CHOOSECOLS(_xlfn.ANCHORARRAY(Leute!$F$1),2),_xlfn.CHOOSECOLS(_xlfn.ANCHORARRAY(Leute!$F$1),3),\"x\",0,2)","v":"Hedy Lamarr"},{"$f":"_xlfn.XLOOKUP($B237,_xlfn.CHOOSECOLS(_xlfn.ANCHORARRAY(Leute!$F$1),2),_xlfn.CHOOSECOLS(_xlfn.ANCHORARRAY(Leute!$F$1),4),\"x\",0,2)","v":"1914-11-09"},{"$f":"RANK(F237,F$1:F237,0)","v":237},{"$f":"DATEDIF(F237,D237,\"Y\")","v":20},{"$f":"DATEDIF(F237,D237,\"YD\")","v":60},{"$f":"D237-F237","v":7365},{"$f":"\"MRS \"&TEXT(J237,\"00000\")&\" \"&SUBSTITUTE(C237,\":\",\"\")&\" (\"&TEXT(D237,\"TT.MM.JJJJ\")&\") - \"&E237&\" (\"&TEXT(F237,\"TT.MM.JJJJ\")&\") \"&H237&\"-\"&I237","v":"MRS 07365 Ekstase (08.01.1935) - Hedy Lamarr (09.11.1914) 20-60"}]
["tt0109702","nm0001461",{"$f":"_xlfn.XLOOKUP($A238,_xlfn.CHOOSECOLS(_xlfn.ANCHORARRAY(Filme!$G$1),2),_xlfn.CHOOSECOLS(_xlfn.ANCHORARRAY(Filme!$G$1),3),\"\",0,2)","v":"L'eau froide"},{"$f":"_xlfn.XLOOKUP($A238,_xlfn.CHOOSECOLS(_xlfn.ANCHORARRAY(Filme!$G$1),2),_xlfn.CHOOSECOLS(_xlfn.ANCHORARRAY(Filme!$G$1),4),\"\",0,2)","v":"1994-07-06"},{"$f":"_xlfn.XLOOKUP($B238,_xlfn.CHOOSECOLS(_xlfn.ANCHORARRAY(Leute!$F$1),2),_xlfn.CHOOSECOLS(_xlfn.ANCHORARRAY(Leute!$F$1),3),\"x\",0,2)","v":"Virginie Ledoyen"},{"$f":"_xlfn.XLOOKUP($B238,_xlfn.CHOOSECOLS(_xlfn.ANCHORARRAY(Leute!$F$1),2),_xlfn.CHOOSECOLS(_xlfn.ANCHORARRAY(Leute!$F$1),4),\"x\",0,2)","v":"1976-11-15"},{"$f":"RANK(F238,F$1:F238,0)","v":22},{"$f":"DATEDIF(F238,D238,\"Y\")","v":17},{"$f":"DATEDIF(F238,D238,\"YD\")","v":233},{"$f":"D238-F238","v":6442},{"$f":"\"MRS \"&TEXT(J238,\"00000\")&\" \"&SUBSTITUTE(C238,\":\",\"\")&\" (\"&TEXT(D238,\"TT.MM.JJJJ\")&\") - \"&E238&\" (\"&TEXT(F238,\"TT.MM.JJJJ\")&\") \"&H238&\"-\"&I238","v":"MRS 06442 L'eau froide (06.07.1994) - Virginie Ledoyen (15.11.1976) 17-233"}]
["tt0119342","nm0001461",{"$f":"_xlfn.XLOOKUP($A239,_xlfn.CHOOSECOLS(_xlfn.ANCHORARRAY(Filme!$G$1),2),_xlfn.CHOOSECOLS(_xlfn.ANCHORARRAY(Filme!$G$1),3),\"\",0,2)","v":"Héroïnes"},{"$f":"_xlfn.XLOOKUP($A239,_xlfn.CHOOSECOLS(_xlfn.ANCHORARRAY(Filme!$G$1),2),_xlfn.CHOOSECOLS(_xlfn.ANCHORARRAY(Filme!$G$1),4),\"\",0,2)","v":"1997-08-27"},{"$f":"_xlfn.XLOOKUP($B239,_xlfn.CHOOSECOLS(_xlfn.ANCHORARRAY(Leute!$F$1),2),_xlfn.CHOOSECOLS(_xlfn.ANCHORARRAY(Leute!$F$1),3),\"x\",0,2)","v":"Virginie Ledoyen"},{"$f":"_xlfn.XLOOKUP($B239,_xlfn.CHOOSECOLS(_xlfn.ANCHORARRAY(Leute!$F$1),2),_xlfn.CHOOSECOLS(_xlfn.ANCHORARRAY(Leute!$F$1),4),\"x\",0,2)","v":"1976-11-15"},{"$f":"RANK(F239,F$1:F239,0)","v":22},{"$f":"DATEDIF(F239,D239,\"Y\")","v":20},{"$f":"DATEDIF(F239,D239,\"YD\")","v":285},{"$f":"D239-F239","v":7590},{"$f":"\"MRS \"&TEXT(J239,\"00000\")&\" \"&SUBSTITUTE(C239,\":\",\"\")&\" (\"&TEXT(D239,\"TT.MM.JJJJ\")&\") - \"&E239&\" (\"&TEXT(F239,\"TT.MM.JJJJ\")&\") \"&H239&\"-\"&I239","v":"MRS 07590 Héroïnes (27.08.1997) - Virginie Ledoyen (15.11.1976) 20-285"}]
["tt0123923","nm0001461",{"$f":"_xlfn.XLOOKUP($A240,_xlfn.CHOOSECOLS(_xlfn.ANCHORARRAY(Filme!$G$1),2),_xlfn.CHOOSECOLS(_xlfn.ANCHORARRAY(Filme!$G$1),3),\"\",0,2)","v":"Jeanne et le garçon formidable"},{"$f":"_xlfn.XLOOKUP($A240,_xlfn.CHOOSECOLS(_xlfn.ANCHORARRAY(Filme!$G$1),2),_xlfn.CHOOSECOLS(_xlfn.ANCHORARRAY(Filme!$G$1),4),\"\",0,2)","v":"1998-04-22"},{"$f":"_xlfn.XLOOKUP($B240,_xlfn.CHOOSECOLS(_xlfn.ANCHORARRAY(Leute!$F$1),2),_xlfn.CHOOSECOLS(_xlfn.ANCHORARRAY(Leute!$F$1),3),\"x\",0,2)","v":"Virginie Ledoyen"},{"$f":"_xlfn.XLOOKUP($B240,_xlfn.CHOOSECOLS(_xlfn.ANCHORARRAY(Leute!$F$1),2),_xlfn.CHOOSECOLS(_xlfn.ANCHORARRAY(Leute!$F$1),4),\"x\",0,2)","v":"1976-11-15"},{"$f":"RANK(F240,F$1:F240,0)","v":22},{"$f":"DATEDIF(F240,D240,\"Y\")","v":21},{"$f":"DATEDIF(F240,D240,\"YD\")","v":158},{"$f":"D240-F240","v":7828},{"$f":"\"MRS \"&TEXT(J240,\"00000\")&\" \"&SUBSTITUTE(C240,\":\",\"\")&\" (\"&TEXT(D240,\"TT.MM.JJJJ\")&\") - \"&E240&\" (\"&TEXT(F240,\"TT.MM.JJJJ\")&\") \"&H240&\"-\"&I240","v":"MRS 07828 Jeanne et le garçon formidable (22.04.1998) - Virginie Ledoyen (15.11.1976) 21-158"}]
["tt0150464","nm0001461",{"$f":"_xlfn.XLOOKUP($A241,_xlfn.CHOOSECOLS(_xlfn.ANCHORARRAY(Filme!$G$1),2),_xlfn.CHOOSECOLS(_xlfn.ANCHORARRAY(Filme!$G$1),3),\"\",0,2)","v":"En plein coeur"},{"$f":"_xlfn.XLOOKUP($A241,_xlfn.CHOOSECOLS(_xlfn.ANCHORARRAY(Filme!$G$1),2),_xlfn.CHOOSECOLS(_xlfn.ANCHORARRAY(Filme!$G$1),4),\"\",0,2)","v":"1998-11-25"},{"$f":"_xlfn.XLOOKUP($B241,_xlfn.CHOOSECOLS(_xlfn.ANCHORARRAY(Leute!$F$1),2),_xlfn.CHOOSECOLS(_xlfn.ANCHORARRAY(Leute!$F$1),3),\"x\",0,2)","v":"Virginie Ledoyen"},{"$f":"_xlfn.XLOOKUP($B241,_xlfn.CHOOSECOLS(_xlfn.ANCHORARRAY(Leute!$F$1),2),_xlfn.CHOOSECOLS(_xlfn.ANCHORARRAY(Leute!$F$1),4),\"x\",0,2)","v":"1976-11-15"},{"$f":"RANK(F241,F$1:F241,0)","v":22},{"$f":"DATEDIF(F241,D241,\"Y\")","v":22},{"$f":"DATEDIF(F241,D241,\"YD\")","v":10},{"$f":"D241-F241","v":8045},{"$f":"\"MRS \"&TEXT(J241,\"00000\")&\" \"&SUBSTITUTE(C241,\":\",\"\")&\" (\"&TEXT(D241,\"TT.MM.JJJJ\")&\") - \"&E241&\" (\"&TEXT(F241,\"TT.MM.JJJJ\")&\") \"&H241&\"-\"&I241","v":"MRS 08045 En plein coeur (25.11.1998) - Virginie Ledoyen (15.11.1976) 22-10"}]
["tt0163978","nm0001461",{"$f":"_xlfn.XLOOKUP($A242,_xlfn.CHOOSECOLS(_xlfn.ANCHORARRAY(Filme!$G$1),2),_xlfn.CHOOSECOLS(_xlfn.ANCHORARRAY(Filme!$G$1),3),\"\",0,2)","v":"The Beach"},{"$f":"_xlfn.XLOOKUP($A242,_xlfn.CHOOSECOLS(_xlfn.ANCHORARRAY(Filme!$G$1),2),_xlfn.CHOOSECOLS(_xlfn.ANCHORARRAY(Filme!$G$1),4),\"\",0,2)","v":"2000-02-17"},{"$f":"_xlfn.XLOOKUP($B242,_xlfn.CHOOSECOLS(_xlfn.ANCHORARRAY(Leute!$F$1),2),_xlfn.CHOOSECOLS(_xlfn.ANCHORARRAY(Leute!$F$1),3),\"x\",0,2)","v":"Virginie Ledoyen"},{"$f":"_xlfn.XLOOKUP($B242,_xlfn.CHOOSECOLS(_xlfn.ANCHORARRAY(Leute!$F$1),2),_xlfn.CHOOSECOLS(_xlfn.ANCHORARRAY(Leute!$F$1),4),\"x\",0,2)","v":"1976-11-15"},{"$f":"RANK(F242,F$1:F242,0)","v":22},{"$f":"DATEDIF(F242,D242,\"Y\")","v":23},{"$f":"DATEDIF(F242,D242,\"YD\")","v":94},{"$f":"D242-F242","v":8494},{"$f":"\"MRS \"&TEXT(J242,\"00000\")&\" \"&SUBSTITUTE(C242,\":\",\"\")&\" (\"&TEXT(D242,\"TT.MM.JJJJ\")&\") - \"&E242&\" (\"&TEXT(F242,\"TT.MM.JJJJ\")&\") \"&H242&\"-\"&I242","v":"MRS 08494 The Beach (17.02.2000) - Virginie Ledoyen (15.11.1976) 23-94"}]
["tt0167925","nm0001461",{"$f":"_xlfn.XLOOKUP($A243,_xlfn.CHOOSECOLS(_xlfn.ANCHORARRAY(Filme!$G$1),2),_xlfn.CHOOSECOLS(_xlfn.ANCHORARRAY(Filme!$G$1),3),\"\",0,2)","v":"Fin août, début septembre"},{"$f":"_xlfn.XLOOKUP($A243,_xlfn.CHOOSECOLS(_xlfn.ANCHORARRAY(Filme!$G$1),2),_xlfn.CHOOSECOLS(_xlfn.ANCHORARRAY(Filme!$G$1),4),\"\",0,2)","v":"1999-10-07"},{"$f":"_xlfn.XLOOKUP($B243,_xlfn.CHOOSECOLS(_xlfn.ANCHORARRAY(Leute!$F$1),2),_xlfn.CHOOSECOLS(_xlfn.ANCHORARRAY(Leute!$F$1),3),\"x\",0,2)","v":"Virginie Ledoyen"},{"$f":"_xlfn.XLOOKUP($B243,_xlfn.CHOOSECOLS(_xlfn.ANCHORARRAY(Leute!$F$1),2),_xlfn.CHOOSECOLS(_xlfn.ANCHORARRAY(Leute!$F$1),4),\"x\",0,2)","v":"1976-11-15"},{"$f":"RANK(F243,F$1:F243,0)","v":22},{"$f":"DATEDIF(F243,D243,\"Y\")","v":22},{"$f":"DATEDIF(F243,D243,\"YD\")","v":326},{"$f":"D243-F243","v":8361},{"$f":"\"MRS \"&TEXT(J243,\"00000\")&\" \"&SUBSTITUTE(C243,\":\",\"\")&\" (\"&TEXT(D243,\"TT.MM.JJJJ\")&\") - \"&E243&\" (\"&TEXT(F243,\"TT.MM.JJJJ\")&\") \"&H243&\"-\"&I243","v":"MRS 08361 Fin août, début septembre (07.10.1999) - Virginie Ledoyen (15.11.1976) 22-326"}]
["tt0234641","nm0001461",{"$f":"_xlfn.XLOOKUP($A244,_xlfn.CHOOSECOLS(_xlfn.ANCHORARRAY(Filme!$G$1),2),_xlfn.CHOOSECOLS(_xlfn.ANCHORARRAY(Filme!$G$1),3),\"\",0,2)","v":"La règle de l'homme"},{"$f":"_xlfn.XLOOKUP($A244,_xlfn.CHOOSECOLS(_xlfn.ANCHORARRAY(Filme!$G$1),2),_xlfn.CHOOSECOLS(_xlfn.ANCHORARRAY(Filme!$G$1),4),\"\",0,2)","v":"1994-05-16"},{"$f":"_xlfn.XLOOKUP($B244,_xlfn.CHOOSECOLS(_xlfn.ANCHORARRAY(Leute!$F$1),2),_xlfn.CHOOSECOLS(_xlfn.ANCHORARRAY(Leute!$F$1),3),\"x\",0,2)","v":"Virginie Ledoyen"},{"$f":"_xlfn.XLOOKUP($B244,_xlfn.CHOOSECOLS(_xlfn.ANCHORARRAY(Leute!$F$1),2),_xlfn.CHOOSECOLS(_xlfn.ANCHORARRAY(Leute!$F$1),4),\"x\",0,2)","v":"1976-11-15"},{"$f":"RANK(F244,F$1:F244,0)","v":22},{"$f":"DATEDIF(F244,D244,\"Y\")","v":17},{"$f":"DATEDIF(F244,D244,\"YD\")","v":182},{"$f":"D244-F244","v":6391},{"$f":"\"MRS \"&TEXT(J244,\"00000\")&\" \"&SUBSTITUTE(C244,\":\",\"\")&\" (\"&TEXT(D244,\"TT.MM.JJJJ\")&\") - \"&E244&\" (\"&TEXT(F244,\"TT.MM.JJJJ\")&\") \"&H244&\"-\"&I244","v":"MRS 06391 La règle de l'homme (16.05.1994) - Virginie Ledoyen (15.11.1976) 17-182"}]
["tt0269138","nm0001461",{"$f":"_xlfn.XLOOKUP($A245,_xlfn.CHOOSECOLS(_xlfn.ANCHORARRAY(Filme!$G$1),2),_xlfn.CHOOSECOLS(_xlfn.ANCHORARRAY(Filme!$G$1),3),\"\",0,2)","v":"De l'amour"},{"$f":"_xlfn.XLOOKUP($A245,_xlfn.CHOOSECOLS(_xlfn.ANCHORARRAY(Filme!$G$1),2),_xlfn.CHOOSECOLS(_xlfn.ANCHORARRAY(Filme!$G$1),4),\"\",0,2)","v":"2001-04-11"},{"$f":"_xlfn.XLOOKUP($B245,_xlfn.CHOOSECOLS(_xlfn.ANCHORARRAY(Leute!$F$1),2),_xlfn.CHOOSECOLS(_xlfn.ANCHORARRAY(Leute!$F$1),3),\"x\",0,2)","v":"Virginie Ledoyen"},{"$f":"_xlfn.XLOOKUP($B245,_xlfn.CHOOSECOLS(_xlfn.ANCHORARRAY(Leute!$F$1),2),_xlfn.CHOOSECOLS(_xlfn.ANCHORARRAY(Leute!$F$1),4),\"x\",0,2)","v":"1976-11-15"},{"$f":"RANK(F245,F$1:F245,0)","v":22},{"$f":"DATEDIF(F245,D245,\"Y\")","v":24},{"$f":"DATEDIF(F245,D245,\"YD\")","v":147},{"$f":"D245-F245","v":8913},{"$f":"\"MRS \"&TEXT(J245,\"00000\")&\" \"&SUBSTITUTE(C245,\":\",\"\")&\" (\"&TEXT(D245,\"TT.MM.JJJJ\")&\") - \"&E245&\" (\"&TEXT(F245,\"TT.MM.JJJJ\")&\") \"&H245&\"-\"&I245","v":"MRS 08913 De l'amour (11.04.2001) - Virginie Ledoyen (15.11.1976) 24-147"}]
["tt0367000","nm0001461",{"$f":"_xlfn.XLOOKUP($A246,_xlfn.CHOOSECOLS(_xlfn.ANCHORARRAY(Filme!$G$1),2),_xlfn.CHOOSECOLS(_xlfn.ANCHORARRAY(Filme!$G$1),3),\"\",0,2)","v":"Saint Ange"},{"$f":"_xlfn.XLOOKUP($A246,_xlfn.CHOOSECOLS(_xlfn.ANCHORARRAY(Filme!$G$1),2),_xlfn.CHOOSECOLS(_xlfn.ANCHORARRAY(Filme!$G$1),4),\"\",0,2)","v":"2004-06-23"},{"$f":"_xlfn.XLOOKUP($B246,_xlfn.CHOOSECOLS(_xlfn.ANCHORARRAY(Leute!$F$1),2),_xlfn.CHOOSECOLS(_xlfn.ANCHORARRAY(Leute!$F$1),3),\"x\",0,2)","v":"Virginie Ledoyen"},{"$f":"_xlfn.XLOOKUP($B246,_xlfn.CHOOSECOLS(_xlfn.ANCHORARRAY(Leute!$F$1),2),_xlfn.CHOOSECOLS(_xlfn.ANCHORARRAY(Leute!$F$1),4),\"x\",0,2)","v":"1976-11-15"},{"$f":"RANK(F246,F$1:F246,0)","v":22},{"$f":"DATEDIF(F246,D246,\"Y\")","v":27},{"$f":"DATEDIF(F246,D246,\"YD\")","v":220},{"$f":"D246-F246","v":10082},{"$f":"\"MRS \"&TEXT(J246,\"00000\")&\" \"&SUBSTITUTE(C246,\":\",\"\")&\" (\"&TEXT(D246,\"TT.MM.JJJJ\")&\") - \"&E246&\" (\"&TEXT(F246,\"TT.MM.JJJJ\")&\") \"&H246&\"-\"&I246","v":"MRS 10082 Saint Ange (23.06.2004) - Virginie Ledoyen (15.11.1976) 27-220"}]
["tt0473333","nm0001461",{"$f":"_xlfn.XLOOKUP($A247,_xlfn.CHOOSECOLS(_xlfn.ANCHORARRAY(Filme!$G$1),2),_xlfn.CHOOSECOLS(_xlfn.ANCHORARRAY(Filme!$G$1),3),\"\",0,2)","v":"Bosque de sombras"},{"$f":"_xlfn.XLOOKUP($A247,_xlfn.CHOOSECOLS(_xlfn.ANCHORARRAY(Filme!$G$1),2),_xlfn.CHOOSECOLS(_xlfn.ANCHORARRAY(Filme!$G$1),4),\"\",0,2)","v":"2007-02-16"},{"$f":"_xlfn.XLOOKUP($B247,_xlfn.CHOOSECOLS(_xlfn.ANCHORARRAY(Leute!$F$1),2),_xlfn.CHOOSECOLS(_xlfn.ANCHORARRAY(Leute!$F$1),3),\"x\",0,2)","v":"Virginie Ledoyen"},{"$f":"_xlfn.XLOOKUP($B247,_xlfn.CHOOSECOLS(_xlfn.ANCHORARRAY(Leute!$F$1),2),_xlfn.CHOOSECOLS(_xlfn.ANCHORARRAY(Leute!$F$1),4),\"x\",0,2)","v":"1976-11-15"},{"$f":"RANK(F247,F$1:F247,0)","v":22},{"$f":"DATEDIF(F247,D247,\"Y\")","v":30},{"$f":"DATEDIF(F247,D247,\"YD\")","v":93},{"$f":"D247-F247","v":11050},{"$f":"\"MRS \"&TEXT(J247,\"00000\")&\" \"&SUBSTITUTE(C247,\":\",\"\")&\" (\"&TEXT(D247,\"TT.MM.JJJJ\")&\") - \"&E247&\" (\"&TEXT(F247,\"TT.MM.JJJJ\")&\") \"&H247&\"-\"&I247","v":"MRS 11050 Bosque de sombras (16.02.2007) - Virginie Ledoyen (15.11.1976) 30-93"}]
["tt0827192","nm0001461",{"$f":"_xlfn.XLOOKUP($A248,_xlfn.CHOOSECOLS(_xlfn.ANCHORARRAY(Filme!$G$1),2),_xlfn.CHOOSECOLS(_xlfn.ANCHORARRAY(Filme!$G$1),3),\"\",0,2)","v":"Mes amis, mes amours"},{"$f":"_xlfn.XLOOKUP($A248,_xlfn.CHOOSECOLS(_xlfn.ANCHORARRAY(Filme!$G$1),2),_xlfn.CHOOSECOLS(_xlfn.ANCHORARRAY(Filme!$G$1),4),\"\",0,2)","v":"2009-11-19"},{"$f":"_xlfn.XLOOKUP($B248,_xlfn.CHOOSECOLS(_xlfn.ANCHORARRAY(Leute!$F$1),2),_xlfn.CHOOSECOLS(_xlfn.ANCHORARRAY(Leute!$F$1),3),\"x\",0,2)","v":"Virginie Ledoyen"},{"$f":"_xlfn.XLOOKUP($B248,_xlfn.CHOOSECOLS(_xlfn.ANCHORARRAY(Leute!$F$1),2),_xlfn.CHOOSECOLS(_xlfn.ANCHORARRAY(Leute!$F$1),4),\"x\",0,2)","v":"1976-11-15"},{"$f":"RANK(F248,F$1:F248,0)","v":22},{"$f":"DATEDIF(F248,D248,\"Y\")","v":33},{"$f":"DATEDIF(F248,D248,\"YD\")","v":4},{"$f":"D248-F248","v":12057},{"$f":"\"MRS \"&TEXT(J248,\"00000\")&\" \"&SUBSTITUTE(C248,\":\",\"\")&\" (\"&TEXT(D248,\"TT.MM.JJJJ\")&\") - \"&E248&\" (\"&TEXT(F248,\"TT.MM.JJJJ\")&\") \"&H248&\"-\"&I248","v":"MRS 12057 Mes amis, mes amours (19.11.2009) - Virginie Ledoyen (15.11.1976) 33-4"}]
["tt0920473","nm0001461",{"$f":"_xlfn.XLOOKUP($A249,_xlfn.CHOOSECOLS(_xlfn.ANCHORARRAY(Filme!$G$1),2),_xlfn.CHOOSECOLS(_xlfn.ANCHORARRAY(Filme!$G$1),3),\"\",0,2)","v":"Un baiser s'il vous plaît"},{"$f":"_xlfn.XLOOKUP($A249,_xlfn.CHOOSECOLS(_xlfn.ANCHORARRAY(Filme!$G$1),2),_xlfn.CHOOSECOLS(_xlfn.ANCHORARRAY(Filme!$G$1),4),\"\",0,2)","v":"2008-08-07"},{"$f":"_xlfn.XLOOKUP($B249,_xlfn.CHOOSECOLS(_xlfn.ANCHORARRAY(Leute!$F$1),2),_xlfn.CHOOSECOLS(_xlfn.ANCHORARRAY(Leute!$F$1),3),\"x\",0,2)","v":"Virginie Ledoyen"},{"$f":"_xlfn.XLOOKUP($B249,_xlfn.CHOOSECOLS(_xlfn.ANCHORARRAY(Leute!$F$1),2),_xlfn.CHOOSECOLS(_xlfn.ANCHORARRAY(Leute!$F$1),4),\"x\",0,2)","v":"1976-11-15"},{"$f":"RANK(F249,F$1:F249,0)","v":22},{"$f":"DATEDIF(F249,D249,\"Y\")","v":31},{"$f":"DATEDIF(F249,D249,\"YD\")","v":265},{"$f":"D249-F249","v":11588},{"$f":"\"MRS \"&TEXT(J249,\"00000\")&\" \"&SUBSTITUTE(C249,\":\",\"\")&\" (\"&TEXT(D249,\"TT.MM.JJJJ\")&\") - \"&E249&\" (\"&TEXT(F249,\"TT.MM.JJJJ\")&\") \"&H249&\"-\"&I249","v":"MRS 11588 Un baiser s'il vous plaît (07.08.2008) - Virginie Ledoyen (15.11.1976) 31-265"}]
["tt1258120","nm0001461",{"$f":"_xlfn.XLOOKUP($A250,_xlfn.CHOOSECOLS(_xlfn.ANCHORARRAY(Filme!$G$1),2),_xlfn.CHOOSECOLS(_xlfn.ANCHORARRAY(Filme!$G$1),3),\"\",0,2)","v":"L'armée du crime"},{"$f":"_xlfn.XLOOKUP($A250,_xlfn.CHOOSECOLS(_xlfn.ANCHORARRAY(Filme!$G$1),2),_xlfn.CHOOSECOLS(_xlfn.ANCHORARRAY(Filme!$G$1),4),\"\",0,2)","v":"2009-09-16"},{"$f":"_xlfn.XLOOKUP($B250,_xlfn.CHOOSECOLS(_xlfn.ANCHORARRAY(Leute!$F$1),2),_xlfn.CHOOSECOLS(_xlfn.ANCHORARRAY(Leute!$F$1),3),\"x\",0,2)","v":"Virginie Ledoyen"},{"$f":"_xlfn.XLOOKUP($B250,_xlfn.CHOOSECOLS(_xlfn.ANCHORARRAY(Leute!$F$1),2),_xlfn.CHOOSECOLS(_xlfn.ANCHORARRAY(Leute!$F$1),4),\"x\",0,2)","v":"1976-11-15"},{"$f":"RANK(F250,F$1:F250,0)","v":22},{"$f":"DATEDIF(F250,D250,\"Y\")","v":32},{"$f":"DATEDIF(F250,D250,\"YD\")","v":305},{"$f":"D250-F250","v":11993},{"$f":"\"MRS \"&TEXT(J250,\"00000\")&\" \"&SUBSTITUTE(C250,\":\",\"\")&\" (\"&TEXT(D250,\"TT.MM.JJJJ\")&\") - \"&E250&\" (\"&TEXT(F250,\"TT.MM.JJJJ\")&\") \"&H250&\"-\"&I250","v":"MRS 11993 L'armée du crime (16.09.2009) - Virginie Ledoyen (15.11.1976) 32-305"}]
["tt1753813","nm0001461",{"$f":"_xlfn.XLOOKUP($A251,_xlfn.CHOOSECOLS(_xlfn.ANCHORARRAY(Filme!$G$1),2),_xlfn.CHOOSECOLS(_xlfn.ANCHORARRAY(Filme!$G$1),3),\"\",0,2)","v":"Les adieux à la reine"},{"$f":"_xlfn.XLOOKUP($A251,_xlfn.CHOOSECOLS(_xlfn.ANCHORARRAY(Filme!$G$1),2),_xlfn.CHOOSECOLS(_xlfn.ANCHORARRAY(Filme!$G$1),4),\"\",0,2)","v":"2012-05-31"},{"$f":"_xlfn.XLOOKUP($B251,_xlfn.CHOOSECOLS(_xlfn.ANCHORARRAY(Leute!$F$1),2),_xlfn.CHOOSECOLS(_xlfn.ANCHORARRAY(Leute!$F$1),3),\"x\",0,2)","v":"Virginie Ledoyen"},{"$f":"_xlfn.XLOOKUP($B251,_xlfn.CHOOSECOLS(_xlfn.ANCHORARRAY(Leute!$F$1),2),_xlfn.CHOOSECOLS(_xlfn.ANCHORARRAY(Leute!$F$1),4),\"x\",0,2)","v":"1976-11-15"},{"$f":"RANK(F251,F$1:F251,0)","v":22},{"$f":"DATEDIF(F251,D251,\"Y\")","v":35},{"$f":"DATEDIF(F251,D251,\"YD\")","v":197},{"$f":"D251-F251","v":12981},{"$f":"\"MRS \"&TEXT(J251,\"00000\")&\" \"&SUBSTITUTE(C251,\":\",\"\")&\" (\"&TEXT(D251,\"TT.MM.JJJJ\")&\") - \"&E251&\" (\"&TEXT(F251,\"TT.MM.JJJJ\")&\") \"&H251&\"-\"&I251","v":"MRS 12981 Les adieux à la reine (31.05.2012) - Virginie Ledoyen (15.11.1976) 35-197"}]
["tt4379180","nm0001461",{"$f":"_xlfn.XLOOKUP($A252,_xlfn.CHOOSECOLS(_xlfn.ANCHORARRAY(Filme!$G$1),2),_xlfn.CHOOSECOLS(_xlfn.ANCHORARRAY(Filme!$G$1),3),\"\",0,2)","v":"Enragés"},{"$f":"_xlfn.XLOOKUP($A252,_xlfn.CHOOSECOLS(_xlfn.ANCHORARRAY(Filme!$G$1),2),_xlfn.CHOOSECOLS(_xlfn.ANCHORARRAY(Filme!$G$1),4),\"\",0,2)","v":"2015-09-30"},{"$f":"_xlfn.XLOOKUP($B252,_xlfn.CHOOSECOLS(_xlfn.ANCHORARRAY(Leute!$F$1),2),_xlfn.CHOOSECOLS(_xlfn.ANCHORARRAY(Leute!$F$1),3),\"x\",0,2)","v":"Virginie Ledoyen"},{"$f":"_xlfn.XLOOKUP($B252,_xlfn.CHOOSECOLS(_xlfn.ANCHORARRAY(Leute!$F$1),2),_xlfn.CHOOSECOLS(_xlfn.ANCHORARRAY(Leute!$F$1),4),\"x\",0,2)","v":"1976-11-15"},{"$f":"RANK(F252,F$1:F252,0)","v":22},{"$f":"DATEDIF(F252,D252,\"Y\")","v":38},{"$f":"DATEDIF(F252,D252,\"YD\")","v":319},{"$f":"D252-F252","v":14198},{"$f":"\"MRS \"&TEXT(J252,\"00000\")&\" \"&SUBSTITUTE(C252,\":\",\"\")&\" (\"&TEXT(D252,\"TT.MM.JJJJ\")&\") - \"&E252&\" (\"&TEXT(F252,\"TT.MM.JJJJ\")&\") \"&H252&\"-\"&I252","v":"MRS 14198 Enragés (30.09.2015) - Virginie Ledoyen (15.11.1976) 38-319"}]
["tt6981190","nm0001461",{"$f":"_xlfn.XLOOKUP($A253,_xlfn.CHOOSECOLS(_xlfn.ANCHORARRAY(Filme!$G$1),2),_xlfn.CHOOSECOLS(_xlfn.ANCHORARRAY(Filme!$G$1),3),\"\",0,2)","v":"Juste un regard"},{"$f":"_xlfn.XLOOKUP($A253,_xlfn.CHOOSECOLS(_xlfn.ANCHORARRAY(Filme!$G$1),2),_xlfn.CHOOSECOLS(_xlfn.ANCHORARRAY(Filme!$G$1),4),\"\",0,2)","v":"2017-06-22"},{"$f":"_xlfn.XLOOKUP($B253,_xlfn.CHOOSECOLS(_xlfn.ANCHORARRAY(Leute!$F$1),2),_xlfn.CHOOSECOLS(_xlfn.ANCHORARRAY(Leute!$F$1),3),\"x\",0,2)","v":"Virginie Ledoyen"},{"$f":"_xlfn.XLOOKUP($B253,_xlfn.CHOOSECOLS(_xlfn.ANCHORARRAY(Leute!$F$1),2),_xlfn.CHOOSECOLS(_xlfn.ANCHORARRAY(Leute!$F$1),4),\"x\",0,2)","v":"1976-11-15"},{"$f":"RANK(F253,F$1:F253,0)","v":22},{"$f":"DATEDIF(F253,D253,\"Y\")","v":40},{"$f":"DATEDIF(F253,D253,\"YD\")","v":219},{"$f":"D253-F253","v":14829},{"$f":"\"MRS \"&TEXT(J253,\"00000\")&\" \"&SUBSTITUTE(C253,\":\",\"\")&\" (\"&TEXT(D253,\"TT.MM.JJJJ\")&\") - \"&E253&\" (\"&TEXT(F253,\"TT.MM.JJJJ\")&\") \"&H253&\"-\"&I253","v":"MRS 14829 Juste un regard (22.06.2017) - Virginie Ledoyen (15.11.1976) 40-219"}]
["tt7205316","nm0001461",{"$f":"_xlfn.XLOOKUP($A254,_xlfn.CHOOSECOLS(_xlfn.ANCHORARRAY(Filme!$G$1),2),_xlfn.CHOOSECOLS(_xlfn.ANCHORARRAY(Filme!$G$1),3),\"\",0,2)","v":"MILF"},{"$f":"_xlfn.XLOOKUP($A254,_xlfn.CHOOSECOLS(_xlfn.ANCHORARRAY(Filme!$G$1),2),_xlfn.CHOOSECOLS(_xlfn.ANCHORARRAY(Filme!$G$1),4),\"\",0,2)","v":"2020-03-16"},{"$f":"_xlfn.XLOOKUP($B254,_xlfn.CHOOSECOLS(_xlfn.ANCHORARRAY(Leute!$F$1),2),_xlfn.CHOOSECOLS(_xlfn.ANCHORARRAY(Leute!$F$1),3),\"x\",0,2)","v":"Virginie Ledoyen"},{"$f":"_xlfn.XLOOKUP($B254,_xlfn.CHOOSECOLS(_xlfn.ANCHORARRAY(Leute!$F$1),2),_xlfn.CHOOSECOLS(_xlfn.ANCHORARRAY(Leute!$F$1),4),\"x\",0,2)","v":"1976-11-15"},{"$f":"RANK(F254,F$1:F254,0)","v":22},{"$f":"DATEDIF(F254,D254,\"Y\")","v":43},{"$f":"DATEDIF(F254,D254,\"YD\")","v":121},{"$f":"D254-F254","v":15827},{"$f":"\"MRS \"&TEXT(J254,\"00000\")&\" \"&SUBSTITUTE(C254,\":\",\"\")&\" (\"&TEXT(D254,\"TT.MM.JJJJ\")&\") - \"&E254&\" (\"&TEXT(F254,\"TT.MM.JJJJ\")&\") \"&H254&\"-\"&I254","v":"MRS 15827 MILF (16.03.2020) - Virginie Ledoyen (15.11.1976) 43-121"}]
["tt0469519","nm0001491",{"$f":"_xlfn.XLOOKUP($A255,_xlfn.CHOOSECOLS(_xlfn.ANCHORARRAY(Filme!$G$1),2),_xlfn.CHOOSECOLS(_xlfn.ANCHORARRAY(Filme!$G$1),3),\"\",0,2)","v":"Park"},{"$f":"_xlfn.XLOOKUP($A255,_xlfn.CHOOSECOLS(_xlfn.ANCHORARRAY(Filme!$G$1),2),_xlfn.CHOOSECOLS(_xlfn.ANCHORARRAY(Filme!$G$1),4),\"\",0,2)","v":"2007-11-24"},{"$f":"_xlfn.XLOOKUP($B255,_xlfn.CHOOSECOLS(_xlfn.ANCHORARRAY(Leute!$F$1),2),_xlfn.CHOOSECOLS(_xlfn.ANCHORARRAY(Leute!$F$1),3),\"x\",0,2)","v":"Melanie Lynskey"},{"$f":"_xlfn.XLOOKUP($B255,_xlfn.CHOOSECOLS(_xlfn.ANCHORARRAY(Leute!$F$1),2),_xlfn.CHOOSECOLS(_xlfn.ANCHORARRAY(Leute!$F$1),4),\"x\",0,2)","v":"1977-05-16"},{"$f":"RANK(F255,F$1:F255,0)","v":22},{"$f":"DATEDIF(F255,D255,\"Y\")","v":30},{"$f":"DATEDIF(F255,D255,\"YD\")","v":192},{"$f":"D255-F255","v":11149},{"$f":"\"MRS \"&TEXT(J255,\"00000\")&\" \"&SUBSTITUTE(C255,\":\",\"\")&\" (\"&TEXT(D255,\"TT.MM.JJJJ\")&\") - \"&E255&\" (\"&TEXT(F255,\"TT.MM.JJJJ\")&\") \"&H255&\"-\"&I255","v":"MRS 11149 Park (24.11.2007) - Melanie Lynskey (16.05.1977) 30-192"}]
["tt2063666","nm0001491",{"$f":"_xlfn.XLOOKUP($A256,_xlfn.CHOOSECOLS(_xlfn.ANCHORARRAY(Filme!$G$1),2),_xlfn.CHOOSECOLS(_xlfn.ANCHORARRAY(Filme!$G$1),3),\"\",0,2)","v":"Hello I Must Be Going"},{"$f":"_xlfn.XLOOKUP($A256,_xlfn.CHOOSECOLS(_xlfn.ANCHORARRAY(Filme!$G$1),2),_xlfn.CHOOSECOLS(_xlfn.ANCHORARRAY(Filme!$G$1),4),\"\",0,2)","v":"2013-01-31"},{"$f":"_xlfn.XLOOKUP($B256,_xlfn.CHOOSECOLS(_xlfn.ANCHORARRAY(Leute!$F$1),2),_xlfn.CHOOSECOLS(_xlfn.ANCHORARRAY(Leute!$F$1),3),\"x\",0,2)","v":"Melanie Lynskey"},{"$f":"_xlfn.XLOOKUP($B256,_xlfn.CHOOSECOLS(_xlfn.ANCHORARRAY(Leute!$F$1),2),_xlfn.CHOOSECOLS(_xlfn.ANCHORARRAY(Leute!$F$1),4),\"x\",0,2)","v":"1977-05-16"},{"$f":"RANK(F256,F$1:F256,0)","v":22},{"$f":"DATEDIF(F256,D256,\"Y\")","v":35},{"$f":"DATEDIF(F256,D256,\"YD\")","v":260},{"$f":"D256-F256","v":13044},{"$f":"\"MRS \"&TEXT(J256,\"00000\")&\" \"&SUBSTITUTE(C256,\":\",\"\")&\" (\"&TEXT(D256,\"TT.MM.JJJJ\")&\") - \"&E256&\" (\"&TEXT(F256,\"TT.MM.JJJJ\")&\") \"&H256&\"-\"&I256","v":"MRS 13044 Hello I Must Be Going (31.01.2013) - Melanie Lynskey (16.05.1977) 35-260"}]
["tt3526194","nm0001491",{"$f":"_xlfn.XLOOKUP($A257,_xlfn.CHOOSECOLS(_xlfn.ANCHORARRAY(Filme!$G$1),2),_xlfn.CHOOSECOLS(_xlfn.ANCHORARRAY(Filme!$G$1),3),\"\",0,2)","v":"Togetherness"},{"$f":"_xlfn.XLOOKUP($A257,_xlfn.CHOOSECOLS(_xlfn.ANCHORARRAY(Filme!$G$1),2),_xlfn.CHOOSECOLS(_xlfn.ANCHORARRAY(Filme!$G$1),4),\"\",0,2)","v":"2015-02-08"},{"$f":"_xlfn.XLOOKUP($B257,_xlfn.CHOOSECOLS(_xlfn.ANCHORARRAY(Leute!$F$1),2),_xlfn.CHOOSECOLS(_xlfn.ANCHORARRAY(Leute!$F$1),3),\"x\",0,2)","v":"Melanie Lynskey"},{"$f":"_xlfn.XLOOKUP($B257,_xlfn.CHOOSECOLS(_xlfn.ANCHORARRAY(Leute!$F$1),2),_xlfn.CHOOSECOLS(_xlfn.ANCHORARRAY(Leute!$F$1),4),\"x\",0,2)","v":"1977-05-16"},{"$f":"RANK(F257,F$1:F257,0)","v":22},{"$f":"DATEDIF(F257,D257,\"Y\")","v":37},{"$f":"DATEDIF(F257,D257,\"YD\")","v":268},{"$f":"D257-F257","v":13782},{"$f":"\"MRS \"&TEXT(J257,\"00000\")&\" \"&SUBSTITUTE(C257,\":\",\"\")&\" (\"&TEXT(D257,\"TT.MM.JJJJ\")&\") - \"&E257&\" (\"&TEXT(F257,\"TT.MM.JJJJ\")&\") \"&H257&\"-\"&I257","v":"MRS 13782 Togetherness (08.02.2015) - Melanie Lynskey (16.05.1977) 37-268"}]
["tt0118971","nm0001567",{"$f":"_xlfn.XLOOKUP($A258,_xlfn.CHOOSECOLS(_xlfn.ANCHORARRAY(Filme!$G$1),2),_xlfn.CHOOSECOLS(_xlfn.ANCHORARRAY(Filme!$G$1),3),\"\",0,2)","v":"The Devil's Advocate"},{"$f":"_xlfn.XLOOKUP($A258,_xlfn.CHOOSECOLS(_xlfn.ANCHORARRAY(Filme!$G$1),2),_xlfn.CHOOSECOLS(_xlfn.ANCHORARRAY(Filme!$G$1),4),\"\",0,2)","v":"1998-01-22"},{"$f":"_xlfn.XLOOKUP($B258,_xlfn.CHOOSECOLS(_xlfn.ANCHORARRAY(Leute!$F$1),2),_xlfn.CHOOSECOLS(_xlfn.ANCHORARRAY(Leute!$F$1),3),\"x\",0,2)","v":"Connie Nielsen"},{"$f":"_xlfn.XLOOKUP($B258,_xlfn.CHOOSECOLS(_xlfn.ANCHORARRAY(Leute!$F$1),2),_xlfn.CHOOSECOLS(_xlfn.ANCHORARRAY(Leute!$F$1),4),\"x\",0,2)","v":"1965-07-03"},{"$f":"RANK(F258,F$1:F258,0)","v":164},{"$f":"DATEDIF(F258,D258,\"Y\")","v":32},{"$f":"DATEDIF(F258,D258,\"YD\")","v":203},{"$f":"D258-F258","v":11891},{"$f":"\"MRS \"&TEXT(J258,\"00000\")&\" \"&SUBSTITUTE(C258,\":\",\"\")&\" (\"&TEXT(D258,\"TT.MM.JJJJ\")&\") - \"&E258&\" (\"&TEXT(F258,\"TT.MM.JJJJ\")&\") \"&H258&\"-\"&I258","v":"MRS 11891 The Devil's Advocate (22.01.1998) - Connie Nielsen (03.07.1965) 32-203"}]
["tt0168631","nm0001567",{"$f":"_xlfn.XLOOKUP($A259,_xlfn.CHOOSECOLS(_xlfn.ANCHORARRAY(Filme!$G$1),2),_xlfn.CHOOSECOLS(_xlfn.ANCHORARRAY(Filme!$G$1),3),\"\",0,2)","v":"Dark Summer"},{"$f":"_xlfn.XLOOKUP($A259,_xlfn.CHOOSECOLS(_xlfn.ANCHORARRAY(Filme!$G$1),2),_xlfn.CHOOSECOLS(_xlfn.ANCHORARRAY(Filme!$G$1),4),\"\",0,2)","v":"2002-02-06"},{"$f":"_xlfn.XLOOKUP($B259,_xlfn.CHOOSECOLS(_xlfn.ANCHORARRAY(Leute!$F$1),2),_xlfn.CHOOSECOLS(_xlfn.ANCHORARRAY(Leute!$F$1),3),\"x\",0,2)","v":"Connie Nielsen"},{"$f":"_xlfn.XLOOKUP($B259,_xlfn.CHOOSECOLS(_xlfn.ANCHORARRAY(Leute!$F$1),2),_xlfn.CHOOSECOLS(_xlfn.ANCHORARRAY(Leute!$F$1),4),\"x\",0,2)","v":"1965-07-03"},{"$f":"RANK(F259,F$1:F259,0)","v":164},{"$f":"DATEDIF(F259,D259,\"Y\")","v":36},{"$f":"DATEDIF(F259,D259,\"YD\")","v":218},{"$f":"D259-F259","v":13367},{"$f":"\"MRS \"&TEXT(J259,\"00000\")&\" \"&SUBSTITUTE(C259,\":\",\"\")&\" (\"&TEXT(D259,\"TT.MM.JJJJ\")&\") - \"&E259&\" (\"&TEXT(F259,\"TT.MM.JJJJ\")&\") \"&H259&\"-\"&I259","v":"MRS 13367 Dark Summer (06.02.2002) - Connie Nielsen (03.07.1965) 36-218"}]
["tt0184805","nm0001567",{"$f":"_xlfn.XLOOKUP($A260,_xlfn.CHOOSECOLS(_xlfn.ANCHORARRAY(Filme!$G$1),2),_xlfn.CHOOSECOLS(_xlfn.ANCHORARRAY(Filme!$G$1),3),\"\",0,2)","v":"Le paradis absolument"},{"$f":"_xlfn.XLOOKUP($A260,_xlfn.CHOOSECOLS(_xlfn.ANCHORARRAY(Filme!$G$1),2),_xlfn.CHOOSECOLS(_xlfn.ANCHORARRAY(Filme!$G$1),4),\"\",0,2)","v":"1994-01-08"},{"$f":"_xlfn.XLOOKUP($B260,_xlfn.CHOOSECOLS(_xlfn.ANCHORARRAY(Leute!$F$1),2),_xlfn.CHOOSECOLS(_xlfn.ANCHORARRAY(Leute!$F$1),3),\"x\",0,2)","v":"Connie Nielsen"},{"$f":"_xlfn.XLOOKUP($B260,_xlfn.CHOOSECOLS(_xlfn.ANCHORARRAY(Leute!$F$1),2),_xlfn.CHOOSECOLS(_xlfn.ANCHORARRAY(Leute!$F$1),4),\"x\",0,2)","v":"1965-07-03"},{"$f":"RANK(F260,F$1:F260,0)","v":164},{"$f":"DATEDIF(F260,D260,\"Y\")","v":28},{"$f":"DATEDIF(F260,D260,\"YD\")","v":189},{"$f":"D260-F260","v":10416},{"$f":"\"MRS \"&TEXT(J260,\"00000\")&\" \"&SUBSTITUTE(C260,\":\",\"\")&\" (\"&TEXT(D260,\"TT.MM.JJJJ\")&\") - \"&E260&\" (\"&TEXT(F260,\"TT.MM.JJJJ\")&\") \"&H260&\"-\"&I260","v":"MRS 10416 Le paradis absolument (08.01.1994) - Connie Nielsen (03.07.1965) 28-189"}]
["tt12921090","nm0001567",{"$f":"_xlfn.XLOOKUP($A261,_xlfn.CHOOSECOLS(_xlfn.ANCHORARRAY(Filme!$G$1),2),_xlfn.CHOOSECOLS(_xlfn.ANCHORARRAY(Filme!$G$1),3),\"\",0,2)","v":"Close to Me"},{"$f":"_xlfn.XLOOKUP($A261,_xlfn.CHOOSECOLS(_xlfn.ANCHORARRAY(Filme!$G$1),2),_xlfn.CHOOSECOLS(_xlfn.ANCHORARRAY(Filme!$G$1),4),\"\",0,2)","v":"2021-11-07"},{"$f":"_xlfn.XLOOKUP($B261,_xlfn.CHOOSECOLS(_xlfn.ANCHORARRAY(Leute!$F$1),2),_xlfn.CHOOSECOLS(_xlfn.ANCHORARRAY(Leute!$F$1),3),\"x\",0,2)","v":"Connie Nielsen"},{"$f":"_xlfn.XLOOKUP($B261,_xlfn.CHOOSECOLS(_xlfn.ANCHORARRAY(Leute!$F$1),2),_xlfn.CHOOSECOLS(_xlfn.ANCHORARRAY(Leute!$F$1),4),\"x\",0,2)","v":"1965-07-03"},{"$f":"RANK(F261,F$1:F261,0)","v":164},{"$f":"DATEDIF(F261,D261,\"Y\")","v":56},{"$f":"DATEDIF(F261,D261,\"YD\")","v":127},{"$f":"D261-F261","v":20581},{"$f":"\"MRS \"&TEXT(J261,\"00000\")&\" \"&SUBSTITUTE(C261,\":\",\"\")&\" (\"&TEXT(D261,\"TT.MM.JJJJ\")&\") - \"&E261&\" (\"&TEXT(F261,\"TT.MM.JJJJ\")&\") \"&H261&\"-\"&I261","v":"MRS 20581 Close to Me (07.11.2021) - Connie Nielsen (03.07.1965) 56-127"}]
["tt4677578","nm0001567",{"$f":"_xlfn.XLOOKUP($A262,_xlfn.CHOOSECOLS(_xlfn.ANCHORARRAY(Filme!$G$1),2),_xlfn.CHOOSECOLS(_xlfn.ANCHORARRAY(Filme!$G$1),3),\"\",0,2)","v":"Løvekvinnen"},{"$f":"_xlfn.XLOOKUP($A262,_xlfn.CHOOSECOLS(_xlfn.ANCHORARRAY(Filme!$G$1),2),_xlfn.CHOOSECOLS(_xlfn.ANCHORARRAY(Filme!$G$1),4),\"\",0,2)","v":"2017-09-14"},{"$f":"_xlfn.XLOOKUP($B262,_xlfn.CHOOSECOLS(_xlfn.ANCHORARRAY(Leute!$F$1),2),_xlfn.CHOOSECOLS(_xlfn.ANCHORARRAY(Leute!$F$1),3),\"x\",0,2)","v":"Connie Nielsen"},{"$f":"_xlfn.XLOOKUP($B262,_xlfn.CHOOSECOLS(_xlfn.ANCHORARRAY(Leute!$F$1),2),_xlfn.CHOOSECOLS(_xlfn.ANCHORARRAY(Leute!$F$1),4),\"x\",0,2)","v":"1965-07-03"},{"$f":"RANK(F262,F$1:F262,0)","v":164},{"$f":"DATEDIF(F262,D262,\"Y\")","v":52},{"$f":"DATEDIF(F262,D262,\"YD\")","v":73},{"$f":"D262-F262","v":19066},{"$f":"\"MRS \"&TEXT(J262,\"00000\")&\" \"&SUBSTITUTE(C262,\":\",\"\")&\" (\"&TEXT(D262,\"TT.MM.JJJJ\")&\") - \"&E262&\" (\"&TEXT(F262,\"TT.MM.JJJJ\")&\") \"&H262&\"-\"&I262","v":"MRS 19066 Løvekvinnen (14.09.2017) - Connie Nielsen (03.07.1965) 52-73"}]
["tt0097216","nm0001609",{"$f":"_xlfn.XLOOKUP($A263,_xlfn.CHOOSECOLS(_xlfn.ANCHORARRAY(Filme!$G$1),2),_xlfn.CHOOSECOLS(_xlfn.ANCHORARRAY(Filme!$G$1),3),\"\",0,2)","v":"Do the Right Thing"},{"$f":"_xlfn.XLOOKUP($A263,_xlfn.CHOOSECOLS(_xlfn.ANCHORARRAY(Filme!$G$1),2),_xlfn.CHOOSECOLS(_xlfn.ANCHORARRAY(Filme!$G$1),4),\"\",0,2)","v":"1989-07-13"},{"$f":"_xlfn.XLOOKUP($B263,_xlfn.CHOOSECOLS(_xlfn.ANCHORARRAY(Leute!$F$1),2),_xlfn.CHOOSECOLS(_xlfn.ANCHORARRAY(Leute!$F$1),3),\"x\",0,2)","v":"Rosie Perez"},{"$f":"_xlfn.XLOOKUP($B263,_xlfn.CHOOSECOLS(_xlfn.ANCHORARRAY(Leute!$F$1),2),_xlfn.CHOOSECOLS(_xlfn.ANCHORARRAY(Leute!$F$1),4),\"x\",0,2)","v":"1964-09-06"},{"$f":"RANK(F263,F$1:F263,0)","v":203},{"$f":"DATEDIF(F263,D263,\"Y\")","v":24},{"$f":"DATEDIF(F263,D263,\"YD\")","v":310},{"$f":"D263-F263","v":9076},{"$f":"\"MRS \"&TEXT(J263,\"00000\")&\" \"&SUBSTITUTE(C263,\":\",\"\")&\" (\"&TEXT(D263,\"TT.MM.JJJJ\")&\") - \"&E263&\" (\"&TEXT(F263,\"TT.MM.JJJJ\")&\") \"&H263&\"-\"&I263","v":"MRS 09076 Do the Right Thing (13.07.1989) - Rosie Perez (06.09.1964) 24-310"}]
["tt0105812","nm0001609",{"$f":"_xlfn.XLOOKUP($A264,_xlfn.CHOOSECOLS(_xlfn.ANCHORARRAY(Filme!$G$1),2),_xlfn.CHOOSECOLS(_xlfn.ANCHORARRAY(Filme!$G$1),3),\"\",0,2)","v":"White Men Can't Jump"},{"$f":"_xlfn.XLOOKUP($A264,_xlfn.CHOOSECOLS(_xlfn.ANCHORARRAY(Filme!$G$1),2),_xlfn.CHOOSECOLS(_xlfn.ANCHORARRAY(Filme!$G$1),4),\"\",0,2)","v":"1993-01-21"},{"$f":"_xlfn.XLOOKUP($B264,_xlfn.CHOOSECOLS(_xlfn.ANCHORARRAY(Leute!$F$1),2),_xlfn.CHOOSECOLS(_xlfn.ANCHORARRAY(Leute!$F$1),3),\"x\",0,2)","v":"Rosie Perez"},{"$f":"_xlfn.XLOOKUP($B264,_xlfn.CHOOSECOLS(_xlfn.ANCHORARRAY(Leute!$F$1),2),_xlfn.CHOOSECOLS(_xlfn.ANCHORARRAY(Leute!$F$1),4),\"x\",0,2)","v":"1964-09-06"},{"$f":"RANK(F264,F$1:F264,0)","v":203},{"$f":"DATEDIF(F264,D264,\"Y\")","v":28},{"$f":"DATEDIF(F264,D264,\"YD\")","v":137},{"$f":"D264-F264","v":10364},{"$f":"\"MRS \"&TEXT(J264,\"00000\")&\" \"&SUBSTITUTE(C264,\":\",\"\")&\" (\"&TEXT(D264,\"TT.MM.JJJJ\")&\") - \"&E264&\" (\"&TEXT(F264,\"TT.MM.JJJJ\")&\") \"&H264&\"-\"&I264","v":"MRS 10364 White Men Can't Jump (21.01.1993) - Rosie Perez (06.09.1964) 28-137"}]
["tt0119879","nm0001609",{"$f":"_xlfn.XLOOKUP($A265,_xlfn.CHOOSECOLS(_xlfn.ANCHORARRAY(Filme!$G$1),2),_xlfn.CHOOSECOLS(_xlfn.ANCHORARRAY(Filme!$G$1),3),\"\",0,2)","v":"Perdita Durango"},{"$f":"_xlfn.XLOOKUP($A265,_xlfn.CHOOSECOLS(_xlfn.ANCHORARRAY(Filme!$G$1),2),_xlfn.CHOOSECOLS(_xlfn.ANCHORARRAY(Filme!$G$1),4),\"\",0,2)","v":"1998-10-29"},{"$f":"_xlfn.XLOOKUP($B265,_xlfn.CHOOSECOLS(_xlfn.ANCHORARRAY(Leute!$F$1),2),_xlfn.CHOOSECOLS(_xlfn.ANCHORARRAY(Leute!$F$1),3),\"x\",0,2)","v":"Rosie Perez"},{"$f":"_xlfn.XLOOKUP($B265,_xlfn.CHOOSECOLS(_xlfn.ANCHORARRAY(Leute!$F$1),2),_xlfn.CHOOSECOLS(_xlfn.ANCHORARRAY(Leute!$F$1),4),\"x\",0,2)","v":"1964-09-06"},{"$f":"RANK(F265,F$1:F265,0)","v":203},{"$f":"DATEDIF(F265,D265,\"Y\")","v":34},{"$f":"DATEDIF(F265,D265,\"YD\")","v":53},{"$f":"D265-F265","v":12471},{"$f":"\"MRS \"&TEXT(J265,\"00000\")&\" \"&SUBSTITUTE(C265,\":\",\"\")&\" (\"&TEXT(D265,\"TT.MM.JJJJ\")&\") - \"&E265&\" (\"&TEXT(F265,\"TT.MM.JJJJ\")&\") \"&H265&\"-\"&I265","v":"MRS 12471 Perdita Durango (29.10.1998) - Rosie Perez (06.09.1964) 34-53"}]
["tt0138279","nm0001609",{"$f":"_xlfn.XLOOKUP($A266,_xlfn.CHOOSECOLS(_xlfn.ANCHORARRAY(Filme!$G$1),2),_xlfn.CHOOSECOLS(_xlfn.ANCHORARRAY(Filme!$G$1),3),\"\",0,2)","v":"The 24 Hour Woman"},{"$f":"_xlfn.XLOOKUP($A266,_xlfn.CHOOSECOLS(_xlfn.ANCHORARRAY(Filme!$G$1),2),_xlfn.CHOOSECOLS(_xlfn.ANCHORARRAY(Filme!$G$1),4),\"\",0,2)","v":"1999-01-29"},{"$f":"_xlfn.XLOOKUP($B266,_xlfn.CHOOSECOLS(_xlfn.ANCHORARRAY(Leute!$F$1),2),_xlfn.CHOOSECOLS(_xlfn.ANCHORARRAY(Leute!$F$1),3),\"x\",0,2)","v":"Rosie Perez"},{"$f":"_xlfn.XLOOKUP($B266,_xlfn.CHOOSECOLS(_xlfn.ANCHORARRAY(Leute!$F$1),2),_xlfn.CHOOSECOLS(_xlfn.ANCHORARRAY(Leute!$F$1),4),\"x\",0,2)","v":"1964-09-06"},{"$f":"RANK(F266,F$1:F266,0)","v":203},{"$f":"DATEDIF(F266,D266,\"Y\")","v":34},{"$f":"DATEDIF(F266,D266,\"YD\")","v":145},{"$f":"D266-F266","v":12563},{"$f":"\"MRS \"&TEXT(J266,\"00000\")&\" \"&SUBSTITUTE(C266,\":\",\"\")&\" (\"&TEXT(D266,\"TT.MM.JJJJ\")&\") - \"&E266&\" (\"&TEXT(F266,\"TT.MM.JJJJ\")&\") \"&H266&\"-\"&I266","v":"MRS 12563 The 24 Hour Woman (29.01.1999) - Rosie Perez (06.09.1964) 34-145"}]
["tt0828158","nm0001609",{"$f":"_xlfn.XLOOKUP($A267,_xlfn.CHOOSECOLS(_xlfn.ANCHORARRAY(Filme!$G$1),2),_xlfn.CHOOSECOLS(_xlfn.ANCHORARRAY(Filme!$G$1),3),\"\",0,2)","v":"The Take"},{"$f":"_xlfn.XLOOKUP($A267,_xlfn.CHOOSECOLS(_xlfn.ANCHORARRAY(Filme!$G$1),2),_xlfn.CHOOSECOLS(_xlfn.ANCHORARRAY(Filme!$G$1),4),\"\",0,2)","v":"2008-08-22"},{"$f":"_xlfn.XLOOKUP($B267,_xlfn.CHOOSECOLS(_xlfn.ANCHORARRAY(Leute!$F$1),2),_xlfn.CHOOSECOLS(_xlfn.ANCHORARRAY(Leute!$F$1),3),\"x\",0,2)","v":"Rosie Perez"},{"$f":"_xlfn.XLOOKUP($B267,_xlfn.CHOOSECOLS(_xlfn.ANCHORARRAY(Leute!$F$1),2),_xlfn.CHOOSECOLS(_xlfn.ANCHORARRAY(Leute!$F$1),4),\"x\",0,2)","v":"1964-09-06"},{"$f":"RANK(F267,F$1:F267,0)","v":203},{"$f":"DATEDIF(F267,D267,\"Y\")","v":43},{"$f":"DATEDIF(F267,D267,\"YD\")","v":350},{"$f":"D267-F267","v":16056},{"$f":"\"MRS \"&TEXT(J267,\"00000\")&\" \"&SUBSTITUTE(C267,\":\",\"\")&\" (\"&TEXT(D267,\"TT.MM.JJJJ\")&\") - \"&E267&\" (\"&TEXT(F267,\"TT.MM.JJJJ\")&\") \"&H267&\"-\"&I267","v":"MRS 16056 The Take (22.08.2008) - Rosie Perez (06.09.1964) 43-350"}]
["tt0102685","nm0001614",{"$f":"_xlfn.XLOOKUP($A268,_xlfn.CHOOSECOLS(_xlfn.ANCHORARRAY(Filme!$G$1),2),_xlfn.CHOOSECOLS(_xlfn.ANCHORARRAY(Filme!$G$1),3),\"\",0,2)","v":"Point Break"},{"$f":"_xlfn.XLOOKUP($A268,_xlfn.CHOOSECOLS(_xlfn.ANCHORARRAY(Filme!$G$1),2),_xlfn.CHOOSECOLS(_xlfn.ANCHORARRAY(Filme!$G$1),4),\"\",0,2)","v":"1991-09-19"},{"$f":"_xlfn.XLOOKUP($B268,_xlfn.CHOOSECOLS(_xlfn.ANCHORARRAY(Leute!$F$1),2),_xlfn.CHOOSECOLS(_xlfn.ANCHORARRAY(Leute!$F$1),3),\"x\",0,2)","v":"Lori Petty"},{"$f":"_xlfn.XLOOKUP($B268,_xlfn.CHOOSECOLS(_xlfn.ANCHORARRAY(Leute!$F$1),2),_xlfn.CHOOSECOLS(_xlfn.ANCHORARRAY(Leute!$F$1),4),\"x\",0,2)","v":"1963-10-14"},{"$f":"RANK(F268,F$1:F268,0)","v":215},{"$f":"DATEDIF(F268,D268,\"Y\")","v":27},{"$f":"DATEDIF(F268,D268,\"YD\")","v":341},{"$f":"D268-F268","v":10202},{"$f":"\"MRS \"&TEXT(J268,\"00000\")&\" \"&SUBSTITUTE(C268,\":\",\"\")&\" (\"&TEXT(D268,\"TT.MM.JJJJ\")&\") - \"&E268&\" (\"&TEXT(F268,\"TT.MM.JJJJ\")&\") \"&H268&\"-\"&I268","v":"MRS 10202 Point Break (19.09.1991) - Lori Petty (14.10.1963) 27-341"}]
["tt0115751","nm0001833",{"$f":"_xlfn.XLOOKUP($A269,_xlfn.CHOOSECOLS(_xlfn.ANCHORARRAY(Filme!$G$1),2),_xlfn.CHOOSECOLS(_xlfn.ANCHORARRAY(Filme!$G$1),3),\"\",0,2)","v":"Breaking the Waves"},{"$f":"_xlfn.XLOOKUP($A269,_xlfn.CHOOSECOLS(_xlfn.ANCHORARRAY(Filme!$G$1),2),_xlfn.CHOOSECOLS(_xlfn.ANCHORARRAY(Filme!$G$1),4),\"\",0,2)","v":"1996-10-03"},{"$f":"_xlfn.XLOOKUP($B269,_xlfn.CHOOSECOLS(_xlfn.ANCHORARRAY(Leute!$F$1),2),_xlfn.CHOOSECOLS(_xlfn.ANCHORARRAY(Leute!$F$1),3),\"x\",0,2)","v":"Emily Watson"},{"$f":"_xlfn.XLOOKUP($B269,_xlfn.CHOOSECOLS(_xlfn.ANCHORARRAY(Leute!$F$1),2),_xlfn.CHOOSECOLS(_xlfn.ANCHORARRAY(Leute!$F$1),4),\"x\",0,2)","v":"1967-01-14"},{"$f":"RANK(F269,F$1:F269,0)","v":162},{"$f":"DATEDIF(F269,D269,\"Y\")","v":29},{"$f":"DATEDIF(F269,D269,\"YD\")","v":262},{"$f":"D269-F269","v":10855},{"$f":"\"MRS \"&TEXT(J269,\"00000\")&\" \"&SUBSTITUTE(C269,\":\",\"\")&\" (\"&TEXT(D269,\"TT.MM.JJJJ\")&\") - \"&E269&\" (\"&TEXT(F269,\"TT.MM.JJJJ\")&\") \"&H269&\"-\"&I269","v":"MRS 10855 Breaking the Waves (03.10.1996) - Emily Watson (14.01.1967) 29-262"}]
["tt0119665","nm0001833",{"$f":"_xlfn.XLOOKUP($A270,_xlfn.CHOOSECOLS(_xlfn.ANCHORARRAY(Filme!$G$1),2),_xlfn.CHOOSECOLS(_xlfn.ANCHORARRAY(Filme!$G$1),3),\"\",0,2)","v":"Metroland"},{"$f":"_xlfn.XLOOKUP($A270,_xlfn.CHOOSECOLS(_xlfn.ANCHORARRAY(Filme!$G$1),2),_xlfn.CHOOSECOLS(_xlfn.ANCHORARRAY(Filme!$G$1),4),\"\",0,2)","v":"2000-12-21"},{"$f":"_xlfn.XLOOKUP($B270,_xlfn.CHOOSECOLS(_xlfn.ANCHORARRAY(Leute!$F$1),2),_xlfn.CHOOSECOLS(_xlfn.ANCHORARRAY(Leute!$F$1),3),\"x\",0,2)","v":"Emily Watson"},{"$f":"_xlfn.XLOOKUP($B270,_xlfn.CHOOSECOLS(_xlfn.ANCHORARRAY(Leute!$F$1),2),_xlfn.CHOOSECOLS(_xlfn.ANCHORARRAY(Leute!$F$1),4),\"x\",0,2)","v":"1967-01-14"},{"$f":"RANK(F270,F$1:F270,0)","v":162},{"$f":"DATEDIF(F270,D270,\"Y\")","v":33},{"$f":"DATEDIF(F270,D270,\"YD\")","v":341},{"$f":"D270-F270","v":12395},{"$f":"\"MRS \"&TEXT(J270,\"00000\")&\" \"&SUBSTITUTE(C270,\":\",\"\")&\" (\"&TEXT(D270,\"TT.MM.JJJJ\")&\") - \"&E270&\" (\"&TEXT(F270,\"TT.MM.JJJJ\")&\") \"&H270&\"-\"&I270","v":"MRS 12395 Metroland (21.12.2000) - Emily Watson (14.01.1967) 33-341"}]
["tt0162711","nm0001833",{"$f":"_xlfn.XLOOKUP($A271,_xlfn.CHOOSECOLS(_xlfn.ANCHORARRAY(Filme!$G$1),2),_xlfn.CHOOSECOLS(_xlfn.ANCHORARRAY(Filme!$G$1),3),\"\",0,2)","v":"Trixie"},{"$f":"_xlfn.XLOOKUP($A271,_xlfn.CHOOSECOLS(_xlfn.ANCHORARRAY(Filme!$G$1),2),_xlfn.CHOOSECOLS(_xlfn.ANCHORARRAY(Filme!$G$1),4),\"\",0,2)","v":"2000-08-18"},{"$f":"_xlfn.XLOOKUP($B271,_xlfn.CHOOSECOLS(_xlfn.ANCHORARRAY(Leute!$F$1),2),_xlfn.CHOOSECOLS(_xlfn.ANCHORARRAY(Leute!$F$1),3),\"x\",0,2)","v":"Emily Watson"},{"$f":"_xlfn.XLOOKUP($B271,_xlfn.CHOOSECOLS(_xlfn.ANCHORARRAY(Leute!$F$1),2),_xlfn.CHOOSECOLS(_xlfn.ANCHORARRAY(Leute!$F$1),4),\"x\",0,2)","v":"1967-01-14"},{"$f":"RANK(F271,F$1:F271,0)","v":162},{"$f":"DATEDIF(F271,D271,\"Y\")","v":33},{"$f":"DATEDIF(F271,D271,\"YD\")","v":216},{"$f":"D271-F271","v":12270},{"$f":"\"MRS \"&TEXT(J271,\"00000\")&\" \"&SUBSTITUTE(C271,\":\",\"\")&\" (\"&TEXT(D271,\"TT.MM.JJJJ\")&\") - \"&E271&\" (\"&TEXT(F271,\"TT.MM.JJJJ\")&\") \"&H271&\"-\"&I271","v":"MRS 12270 Trixie (18.08.2000) - Emily Watson (14.01.1967) 33-216"}]
["tt0383028","nm0001833",{"$f":"_xlfn.XLOOKUP($A272,_xlfn.CHOOSECOLS(_xlfn.ANCHORARRAY(Filme!$G$1),2),_xlfn.CHOOSECOLS(_xlfn.ANCHORARRAY(Filme!$G$1),3),\"\",0,2)","v":"Synecdoche, New York"},{"$f":"_xlfn.XLOOKUP($A272,_xlfn.CHOOSECOLS(_xlfn.ANCHORARRAY(Filme!$G$1),2),_xlfn.CHOOSECOLS(_xlfn.ANCHORARRAY(Filme!$G$1),4),\"\",0,2)","v":"2009-02-05"},{"$f":"_xlfn.XLOOKUP($B272,_xlfn.CHOOSECOLS(_xlfn.ANCHORARRAY(Leute!$F$1),2),_xlfn.CHOOSECOLS(_xlfn.ANCHORARRAY(Leute!$F$1),3),\"x\",0,2)","v":"Emily Watson"},{"$f":"_xlfn.XLOOKUP($B272,_xlfn.CHOOSECOLS(_xlfn.ANCHORARRAY(Leute!$F$1),2),_xlfn.CHOOSECOLS(_xlfn.ANCHORARRAY(Leute!$F$1),4),\"x\",0,2)","v":"1967-01-14"},{"$f":"RANK(F272,F$1:F272,0)","v":162},{"$f":"DATEDIF(F272,D272,\"Y\")","v":42},{"$f":"DATEDIF(F272,D272,\"YD\")","v":22},{"$f":"D272-F272","v":15363},{"$f":"\"MRS \"&TEXT(J272,\"00000\")&\" \"&SUBSTITUTE(C272,\":\",\"\")&\" (\"&TEXT(D272,\"TT.MM.JJJJ\")&\") - \"&E272&\" (\"&TEXT(F272,\"TT.MM.JJJJ\")&\") \"&H272&\"-\"&I272","v":"MRS 15363 Synecdoche, New York (05.02.2009) - Emily Watson (14.01.1967) 42-22"}]
["tt0705238","nm0001860",{"$f":"_xlfn.XLOOKUP($A273,_xlfn.CHOOSECOLS(_xlfn.ANCHORARRAY(Filme!$G$1),2),_xlfn.CHOOSECOLS(_xlfn.ANCHORARRAY(Filme!$G$1),3),\"\",0,2)","v":"The Sopranos"},{"$f":"_xlfn.XLOOKUP($A273,_xlfn.CHOOSECOLS(_xlfn.ANCHORARRAY(Filme!$G$1),2),_xlfn.CHOOSECOLS(_xlfn.ANCHORARRAY(Filme!$G$1),4),\"\",0,2)","v":"2000-02-27"},{"$f":"_xlfn.XLOOKUP($B273,_xlfn.CHOOSECOLS(_xlfn.ANCHORARRAY(Leute!$F$1),2),_xlfn.CHOOSECOLS(_xlfn.ANCHORARRAY(Leute!$F$1),3),\"x\",0,2)","v":"Alicia Witt"},{"$f":"_xlfn.XLOOKUP($B273,_xlfn.CHOOSECOLS(_xlfn.ANCHORARRAY(Leute!$F$1),2),_xlfn.CHOOSECOLS(_xlfn.ANCHORARRAY(Leute!$F$1),4),\"x\",0,2)","v":"1975-08-21"},{"$f":"RANK(F273,F$1:F273,0)","v":59},{"$f":"DATEDIF(F273,D273,\"Y\")","v":24},{"$f":"DATEDIF(F273,D273,\"YD\")","v":190},{"$f":"D273-F273","v":8956},{"$f":"\"MRS \"&TEXT(J273,\"00000\")&\" \"&SUBSTITUTE(C273,\":\",\"\")&\" (\"&TEXT(D273,\"TT.MM.JJJJ\")&\") - \"&E273&\" (\"&TEXT(F273,\"TT.MM.JJJJ\")&\") \"&H273&\"-\"&I273","v":"MRS 08956 The Sopranos (27.02.2000) - Alicia Witt (21.08.1975) 24-190"}]
["tt3753522","nm0001860",{"$f":"_xlfn.XLOOKUP($A274,_xlfn.CHOOSECOLS(_xlfn.ANCHORARRAY(Filme!$G$1),2),_xlfn.CHOOSECOLS(_xlfn.ANCHORARRAY(Filme!$G$1),3),\"\",0,2)","v":"Kingdom"},{"$f":"_xlfn.XLOOKUP($A274,_xlfn.CHOOSECOLS(_xlfn.ANCHORARRAY(Filme!$G$1),2),_xlfn.CHOOSECOLS(_xlfn.ANCHORARRAY(Filme!$G$1),4),\"\",0,2)","v":"2015-10-09"},{"$f":"_xlfn.XLOOKUP($B274,_xlfn.CHOOSECOLS(_xlfn.ANCHORARRAY(Leute!$F$1),2),_xlfn.CHOOSECOLS(_xlfn.ANCHORARRAY(Leute!$F$1),3),\"x\",0,2)","v":"Alicia Witt"},{"$f":"_xlfn.XLOOKUP($B274,_xlfn.CHOOSECOLS(_xlfn.ANCHORARRAY(Leute!$F$1),2),_xlfn.CHOOSECOLS(_xlfn.ANCHORARRAY(Leute!$F$1),4),\"x\",0,2)","v":"1975-08-21"},{"$f":"RANK(F274,F$1:F274,0)","v":59},{"$f":"DATEDIF(F274,D274,\"Y\")","v":40},{"$f":"DATEDIF(F274,D274,\"YD\")","v":49},{"$f":"D274-F274","v":14659},{"$f":"\"MRS \"&TEXT(J274,\"00000\")&\" \"&SUBSTITUTE(C274,\":\",\"\")&\" (\"&TEXT(D274,\"TT.MM.JJJJ\")&\") - \"&E274&\" (\"&TEXT(F274,\"TT.MM.JJJJ\")&\") \"&H274&\"-\"&I274","v":"MRS 14659 Kingdom (09.10.2015) - Alicia Witt (21.08.1975) 40-49"}]
["tt4228864","nm0001860",{"$f":"_xlfn.XLOOKUP($A275,_xlfn.CHOOSECOLS(_xlfn.ANCHORARRAY(Filme!$G$1),2),_xlfn.CHOOSECOLS(_xlfn.ANCHORARRAY(Filme!$G$1),3),\"\",0,2)","v":"House of Lies"},{"$f":"_xlfn.XLOOKUP($A275,_xlfn.CHOOSECOLS(_xlfn.ANCHORARRAY(Filme!$G$1),2),_xlfn.CHOOSECOLS(_xlfn.ANCHORARRAY(Filme!$G$1),4),\"\",0,2)","v":"2015-02-08"},{"$f":"_xlfn.XLOOKUP($B275,_xlfn.CHOOSECOLS(_xlfn.ANCHORARRAY(Leute!$F$1),2),_xlfn.CHOOSECOLS(_xlfn.ANCHORARRAY(Leute!$F$1),3),\"x\",0,2)","v":"Alicia Witt"},{"$f":"_xlfn.XLOOKUP($B275,_xlfn.CHOOSECOLS(_xlfn.ANCHORARRAY(Leute!$F$1),2),_xlfn.CHOOSECOLS(_xlfn.ANCHORARRAY(Leute!$F$1),4),\"x\",0,2)","v":"1975-08-21"},{"$f":"RANK(F275,F$1:F275,0)","v":59},{"$f":"DATEDIF(F275,D275,\"Y\")","v":39},{"$f":"DATEDIF(F275,D275,\"YD\")","v":171},{"$f":"D275-F275","v":14416},{"$f":"\"MRS \"&TEXT(J275,\"00000\")&\" \"&SUBSTITUTE(C275,\":\",\"\")&\" (\"&TEXT(D275,\"TT.MM.JJJJ\")&\") - \"&E275&\" (\"&TEXT(F275,\"TT.MM.JJJJ\")&\") \"&H275&\"-\"&I275","v":"MRS 14416 House of Lies (08.02.2015) - Alicia Witt (21.08.1975) 39-171"}]
["tt0285175","nm0004266",{"$f":"_xlfn.XLOOKUP($A276,_xlfn.CHOOSECOLS(_xlfn.ANCHORARRAY(Filme!$G$1),2),_xlfn.CHOOSECOLS(_xlfn.ANCHORARRAY(Filme!$G$1),3),\"\",0,2)","v":"Havoc"},{"$f":"_xlfn.XLOOKUP($A276,_xlfn.CHOOSECOLS(_xlfn.ANCHORARRAY(Filme!$G$1),2),_xlfn.CHOOSECOLS(_xlfn.ANCHORARRAY(Filme!$G$1),4),\"\",0,2)","v":"2005-10-16"},{"$f":"_xlfn.XLOOKUP($B276,_xlfn.CHOOSECOLS(_xlfn.ANCHORARRAY(Leute!$F$1),2),_xlfn.CHOOSECOLS(_xlfn.ANCHORARRAY(Leute!$F$1),3),\"x\",0,2)","v":"Anne Hathaway"},{"$f":"_xlfn.XLOOKUP($B276,_xlfn.CHOOSECOLS(_xlfn.ANCHORARRAY(Leute!$F$1),2),_xlfn.CHOOSECOLS(_xlfn.ANCHORARRAY(Leute!$F$1),4),\"x\",0,2)","v":"1982-11-12"},{"$f":"RANK(F276,F$1:F276,0)","v":1},{"$f":"DATEDIF(F276,D276,\"Y\")","v":22},{"$f":"DATEDIF(F276,D276,\"YD\")","v":338},{"$f":"D276-F276","v":8374},{"$f":"\"MRS \"&TEXT(J276,\"00000\")&\" \"&SUBSTITUTE(C276,\":\",\"\")&\" (\"&TEXT(D276,\"TT.MM.JJJJ\")&\") - \"&E276&\" (\"&TEXT(F276,\"TT.MM.JJJJ\")&\") \"&H276&\"-\"&I276","v":"MRS 08374 Havoc (16.10.2005) - Anne Hathaway (12.11.1982) 22-338"}]
["tt0388795","nm0004266",{"$f":"_xlfn.XLOOKUP($A277,_xlfn.CHOOSECOLS(_xlfn.ANCHORARRAY(Filme!$G$1),2),_xlfn.CHOOSECOLS(_xlfn.ANCHORARRAY(Filme!$G$1),3),\"\",0,2)","v":"Brokeback Mountain"},{"$f":"_xlfn.XLOOKUP($A277,_xlfn.CHOOSECOLS(_xlfn.ANCHORARRAY(Filme!$G$1),2),_xlfn.CHOOSECOLS(_xlfn.ANCHORARRAY(Filme!$G$1),4),\"\",0,2)","v":"2006-03-09"},{"$f":"_xlfn.XLOOKUP($B277,_xlfn.CHOOSECOLS(_xlfn.ANCHORARRAY(Leute!$F$1),2),_xlfn.CHOOSECOLS(_xlfn.ANCHORARRAY(Leute!$F$1),3),\"x\",0,2)","v":"Anne Hathaway"},{"$f":"_xlfn.XLOOKUP($B277,_xlfn.CHOOSECOLS(_xlfn.ANCHORARRAY(Leute!$F$1),2),_xlfn.CHOOSECOLS(_xlfn.ANCHORARRAY(Leute!$F$1),4),\"x\",0,2)","v":"1982-11-12"},{"$f":"RANK(F277,F$1:F277,0)","v":1},{"$f":"DATEDIF(F277,D277,\"Y\")","v":23},{"$f":"DATEDIF(F277,D277,\"YD\")","v":117},{"$f":"D277-F277","v":8518},{"$f":"\"MRS \"&TEXT(J277,\"00000\")&\" \"&SUBSTITUTE(C277,\":\",\"\")&\" (\"&TEXT(D277,\"TT.MM.JJJJ\")&\") - \"&E277&\" (\"&TEXT(F277,\"TT.MM.JJJJ\")&\") \"&H277&\"-\"&I277","v":"MRS 08518 Brokeback Mountain (09.03.2006) - Anne Hathaway (12.11.1982) 23-117"}]
["tt0758752","nm0004266",{"$f":"_xlfn.XLOOKUP($A278,_xlfn.CHOOSECOLS(_xlfn.ANCHORARRAY(Filme!$G$1),2),_xlfn.CHOOSECOLS(_xlfn.ANCHORARRAY(Filme!$G$1),3),\"\",0,2)","v":"Love & Other Drugs"},{"$f":"_xlfn.XLOOKUP($A278,_xlfn.CHOOSECOLS(_xlfn.ANCHORARRAY(Filme!$G$1),2),_xlfn.CHOOSECOLS(_xlfn.ANCHORARRAY(Filme!$G$1),4),\"\",0,2)","v":"2011-01-13"},{"$f":"_xlfn.XLOOKUP($B278,_xlfn.CHOOSECOLS(_xlfn.ANCHORARRAY(Leute!$F$1),2),_xlfn.CHOOSECOLS(_xlfn.ANCHORARRAY(Leute!$F$1),3),\"x\",0,2)","v":"Anne Hathaway"},{"$f":"_xlfn.XLOOKUP($B278,_xlfn.CHOOSECOLS(_xlfn.ANCHORARRAY(Leute!$F$1),2),_xlfn.CHOOSECOLS(_xlfn.ANCHORARRAY(Leute!$F$1),4),\"x\",0,2)","v":"1982-11-12"},{"$f":"RANK(F278,F$1:F278,0)","v":1},{"$f":"DATEDIF(F278,D278,\"Y\")","v":28},{"$f":"DATEDIF(F278,D278,\"YD\")","v":62},{"$f":"D278-F278","v":10289},{"$f":"\"MRS \"&TEXT(J278,\"00000\")&\" \"&SUBSTITUTE(C278,\":\",\"\")&\" (\"&TEXT(D278,\"TT.MM.JJJJ\")&\") - \"&E278&\" (\"&TEXT(F278,\"TT.MM.JJJJ\")&\") \"&H278&\"-\"&I278","v":"MRS 10289 Love & Other Drugs (13.01.2011) - Anne Hathaway (12.11.1982) 28-62"}]
["tt1084950","nm0004266",{"$f":"_xlfn.XLOOKUP($A279,_xlfn.CHOOSECOLS(_xlfn.ANCHORARRAY(Filme!$G$1),2),_xlfn.CHOOSECOLS(_xlfn.ANCHORARRAY(Filme!$G$1),3),\"\",0,2)","v":"Rachel Getting Married"},{"$f":"_xlfn.XLOOKUP($A279,_xlfn.CHOOSECOLS(_xlfn.ANCHORARRAY(Filme!$G$1),2),_xlfn.CHOOSECOLS(_xlfn.ANCHORARRAY(Filme!$G$1),4),\"\",0,2)","v":"2009-04-02"},{"$f":"_xlfn.XLOOKUP($B279,_xlfn.CHOOSECOLS(_xlfn.ANCHORARRAY(Leute!$F$1),2),_xlfn.CHOOSECOLS(_xlfn.ANCHORARRAY(Leute!$F$1),3),\"x\",0,2)","v":"Anne Hathaway"},{"$f":"_xlfn.XLOOKUP($B279,_xlfn.CHOOSECOLS(_xlfn.ANCHORARRAY(Leute!$F$1),2),_xlfn.CHOOSECOLS(_xlfn.ANCHORARRAY(Leute!$F$1),4),\"x\",0,2)","v":"1982-11-12"},{"$f":"RANK(F279,F$1:F279,0)","v":1},{"$f":"DATEDIF(F279,D279,\"Y\")","v":26},{"$f":"DATEDIF(F279,D279,\"YD\")","v":141},{"$f":"D279-F279","v":9638},{"$f":"\"MRS \"&TEXT(J279,\"00000\")&\" \"&SUBSTITUTE(C279,\":\",\"\")&\" (\"&TEXT(D279,\"TT.MM.JJJJ\")&\") - \"&E279&\" (\"&TEXT(F279,\"TT.MM.JJJJ\")&\") \"&H279&\"-\"&I279","v":"MRS 09638 Rachel Getting Married (02.04.2009) - Anne Hathaway (12.11.1982) 26-141"}]
["tt6476140","nm0004266",{"$f":"_xlfn.XLOOKUP($A280,_xlfn.CHOOSECOLS(_xlfn.ANCHORARRAY(Filme!$G$1),2),_xlfn.CHOOSECOLS(_xlfn.ANCHORARRAY(Filme!$G$1),3),\"\",0,2)","v":"Serenity"},{"$f":"_xlfn.XLOOKUP($A280,_xlfn.CHOOSECOLS(_xlfn.ANCHORARRAY(Filme!$G$1),2),_xlfn.CHOOSECOLS(_xlfn.ANCHORARRAY(Filme!$G$1),4),\"\",0,2)","v":"2019-05-02"},{"$f":"_xlfn.XLOOKUP($B280,_xlfn.CHOOSECOLS(_xlfn.ANCHORARRAY(Leute!$F$1),2),_xlfn.CHOOSECOLS(_xlfn.ANCHORARRAY(Leute!$F$1),3),\"x\",0,2)","v":"Anne Hathaway"},{"$f":"_xlfn.XLOOKUP($B280,_xlfn.CHOOSECOLS(_xlfn.ANCHORARRAY(Leute!$F$1),2),_xlfn.CHOOSECOLS(_xlfn.ANCHORARRAY(Leute!$F$1),4),\"x\",0,2)","v":"1982-11-12"},{"$f":"RANK(F280,F$1:F280,0)","v":1},{"$f":"DATEDIF(F280,D280,\"Y\")","v":36},{"$f":"DATEDIF(F280,D280,\"YD\")","v":171},{"$f":"D280-F280","v":13320},{"$f":"\"MRS \"&TEXT(J280,\"00000\")&\" \"&SUBSTITUTE(C280,\":\",\"\")&\" (\"&TEXT(D280,\"TT.MM.JJJJ\")&\") - \"&E280&\" (\"&TEXT(F280,\"TT.MM.JJJJ\")&\") \"&H280&\"-\"&I280","v":"MRS 13320 Serenity (02.05.2019) - Anne Hathaway (12.11.1982) 36-171"}]
["tt7456312","nm0004266",{"$f":"_xlfn.XLOOKUP($A281,_xlfn.CHOOSECOLS(_xlfn.ANCHORARRAY(Filme!$G$1),2),_xlfn.CHOOSECOLS(_xlfn.ANCHORARRAY(Filme!$G$1),3),\"\",0,2)","v":"The Last Thing He Wanted"},{"$f":"_xlfn.XLOOKUP($A281,_xlfn.CHOOSECOLS(_xlfn.ANCHORARRAY(Filme!$G$1),2),_xlfn.CHOOSECOLS(_xlfn.ANCHORARRAY(Filme!$G$1),4),\"\",0,2)","v":"2020-02-21"},{"$f":"_xlfn.XLOOKUP($B281,_xlfn.CHOOSECOLS(_xlfn.ANCHORARRAY(Leute!$F$1),2),_xlfn.CHOOSECOLS(_xlfn.ANCHORARRAY(Leute!$F$1),3),\"x\",0,2)","v":"Anne Hathaway"},{"$f":"_xlfn.XLOOKUP($B281,_xlfn.CHOOSECOLS(_xlfn.ANCHORARRAY(Leute!$F$1),2),_xlfn.CHOOSECOLS(_xlfn.ANCHORARRAY(Leute!$F$1),4),\"x\",0,2)","v":"1982-11-12"},{"$f":"RANK(F281,F$1:F281,0)","v":1},{"$f":"DATEDIF(F281,D281,\"Y\")","v":37},{"$f":"DATEDIF(F281,D281,\"YD\")","v":101},{"$f":"D281-F281","v":13615},{"$f":"\"MRS \"&TEXT(J281,\"00000\")&\" \"&SUBSTITUTE(C281,\":\",\"\")&\" (\"&TEXT(D281,\"TT.MM.JJJJ\")&\") - \"&E281&\" (\"&TEXT(F281,\"TT.MM.JJJJ\")&\") \"&H281&\"-\"&I281","v":"MRS 13615 The Last Thing He Wanted (21.02.2020) - Anne Hathaway (12.11.1982) 37-101"}]
["tt0116032","nm0004748",{"$f":"_xlfn.XLOOKUP($A282,_xlfn.CHOOSECOLS(_xlfn.ANCHORARRAY(Filme!$G$1),2),_xlfn.CHOOSECOLS(_xlfn.ANCHORARRAY(Filme!$G$1),3),\"\",0,2)","v":"Darkdrive"},{"$f":"_xlfn.XLOOKUP($A282,_xlfn.CHOOSECOLS(_xlfn.ANCHORARRAY(Filme!$G$1),2),_xlfn.CHOOSECOLS(_xlfn.ANCHORARRAY(Filme!$G$1),4),\"\",0,2)","v":"2003-12-24"},{"$f":"_xlfn.XLOOKUP($B282,_xlfn.CHOOSECOLS(_xlfn.ANCHORARRAY(Leute!$F$1),2),_xlfn.CHOOSECOLS(_xlfn.ANCHORARRAY(Leute!$F$1),3),\"x\",0,2)","v":"Julie Benz"},{"$f":"_xlfn.XLOOKUP($B282,_xlfn.CHOOSECOLS(_xlfn.ANCHORARRAY(Leute!$F$1),2),_xlfn.CHOOSECOLS(_xlfn.ANCHORARRAY(Leute!$F$1),4),\"x\",0,2)","v":"1972-05-01"},{"$f":"RANK(F282,F$1:F282,0)","v":107},{"$f":"DATEDIF(F282,D282,\"Y\")","v":31},{"$f":"DATEDIF(F282,D282,\"YD\")","v":237},{"$f":"D282-F282","v":11559},{"$f":"\"MRS \"&TEXT(J282,\"00000\")&\" \"&SUBSTITUTE(C282,\":\",\"\")&\" (\"&TEXT(D282,\"TT.MM.JJJJ\")&\") - \"&E282&\" (\"&TEXT(F282,\"TT.MM.JJJJ\")&\") \"&H282&\"-\"&I282","v":"MRS 11559 Darkdrive (24.12.2003) - Julie Benz (01.05.1972) 31-237"}]
["tt0859273","nm0004748",{"$f":"_xlfn.XLOOKUP($A283,_xlfn.CHOOSECOLS(_xlfn.ANCHORARRAY(Filme!$G$1),2),_xlfn.CHOOSECOLS(_xlfn.ANCHORARRAY(Filme!$G$1),3),\"\",0,2)","v":"Dexter"},{"$f":"_xlfn.XLOOKUP($A283,_xlfn.CHOOSECOLS(_xlfn.ANCHORARRAY(Filme!$G$1),2),_xlfn.CHOOSECOLS(_xlfn.ANCHORARRAY(Filme!$G$1),4),\"\",0,2)","v":"2008-04-17"},{"$f":"_xlfn.XLOOKUP($B283,_xlfn.CHOOSECOLS(_xlfn.ANCHORARRAY(Leute!$F$1),2),_xlfn.CHOOSECOLS(_xlfn.ANCHORARRAY(Leute!$F$1),3),\"x\",0,2)","v":"Julie Benz"},{"$f":"_xlfn.XLOOKUP($B283,_xlfn.CHOOSECOLS(_xlfn.ANCHORARRAY(Leute!$F$1),2),_xlfn.CHOOSECOLS(_xlfn.ANCHORARRAY(Leute!$F$1),4),\"x\",0,2)","v":"1972-05-01"},{"$f":"RANK(F283,F$1:F283,0)","v":107},{"$f":"DATEDIF(F283,D283,\"Y\")","v":35},{"$f":"DATEDIF(F283,D283,\"YD\")","v":351},{"$f":"D283-F283","v":13135},{"$f":"\"MRS \"&TEXT(J283,\"00000\")&\" \"&SUBSTITUTE(C283,\":\",\"\")&\" (\"&TEXT(D283,\"TT.MM.JJJJ\")&\") - \"&E283&\" (\"&TEXT(F283,\"TT.MM.JJJJ\")&\") \"&H283&\"-\"&I283","v":"MRS 13135 Dexter (17.04.2008) - Julie Benz (01.05.1972) 35-351"}]
["tt0508628","nm0004950",{"$f":"_xlfn.XLOOKUP($A284,_xlfn.CHOOSECOLS(_xlfn.ANCHORARRAY(Filme!$G$1),2),_xlfn.CHOOSECOLS(_xlfn.ANCHORARRAY(Filme!$G$1),3),\"\",0,2)","v":"Alias"},{"$f":"_xlfn.XLOOKUP($A284,_xlfn.CHOOSECOLS(_xlfn.ANCHORARRAY(Filme!$G$1),2),_xlfn.CHOOSECOLS(_xlfn.ANCHORARRAY(Filme!$G$1),4),\"\",0,2)","v":"2004-07-07"},{"$f":"_xlfn.XLOOKUP($B284,_xlfn.CHOOSECOLS(_xlfn.ANCHORARRAY(Leute!$F$1),2),_xlfn.CHOOSECOLS(_xlfn.ANCHORARRAY(Leute!$F$1),3),\"x\",0,2)","v":"Jennifer Garner"},{"$f":"_xlfn.XLOOKUP($B284,_xlfn.CHOOSECOLS(_xlfn.ANCHORARRAY(Leute!$F$1),2),_xlfn.CHOOSECOLS(_xlfn.ANCHORARRAY(Leute!$F$1),4),\"x\",0,2)","v":"1972-04-17"},{"$f":"RANK(F284,F$1:F284,0)","v":109},{"$f":"DATEDIF(F284,D284,\"Y\")","v":32},{"$f":"DATEDIF(F284,D284,\"YD\")","v":81},{"$f":"D284-F284","v":11769},{"$f":"\"MRS \"&TEXT(J284,\"00000\")&\" \"&SUBSTITUTE(C284,\":\",\"\")&\" (\"&TEXT(D284,\"TT.MM.JJJJ\")&\") - \"&E284&\" (\"&TEXT(F284,\"TT.MM.JJJJ\")&\") \"&H284&\"-\"&I284","v":"MRS 11769 Alias (07.07.2004) - Jennifer Garner (17.04.1972) 32-81"}]
["tt0808526","nm0005049",{"$f":"_xlfn.XLOOKUP($A285,_xlfn.CHOOSECOLS(_xlfn.ANCHORARRAY(Filme!$G$1),2),_xlfn.CHOOSECOLS(_xlfn.ANCHORARRAY(Filme!$G$1),3),\"\",0,2)","v":"Life During Wartime"},{"$f":"_xlfn.XLOOKUP($A285,_xlfn.CHOOSECOLS(_xlfn.ANCHORARRAY(Filme!$G$1),2),_xlfn.CHOOSECOLS(_xlfn.ANCHORARRAY(Filme!$G$1),4),\"\",0,2)","v":"2010-04-16"},{"$f":"_xlfn.XLOOKUP($B285,_xlfn.CHOOSECOLS(_xlfn.ANCHORARRAY(Leute!$F$1),2),_xlfn.CHOOSECOLS(_xlfn.ANCHORARRAY(Leute!$F$1),3),\"x\",0,2)","v":"Allison Janney"},{"$f":"_xlfn.XLOOKUP($B285,_xlfn.CHOOSECOLS(_xlfn.ANCHORARRAY(Leute!$F$1),2),_xlfn.CHOOSECOLS(_xlfn.ANCHORARRAY(Leute!$F$1),4),\"x\",0,2)","v":"1959-11-19"},{"$f":"RANK(F285,F$1:F285,0)","v":271},{"$f":"DATEDIF(F285,D285,\"Y\")","v":50},{"$f":"DATEDIF(F285,D285,\"YD\")","v":149},{"$f":"D285-F285","v":18411},{"$f":"\"MRS \"&TEXT(J285,\"00000\")&\" \"&SUBSTITUTE(C285,\":\",\"\")&\" (\"&TEXT(D285,\"TT.MM.JJJJ\")&\") - \"&E285&\" (\"&TEXT(F285,\"TT.MM.JJJJ\")&\") \"&H285&\"-\"&I285","v":"MRS 18411 Life During Wartime (16.04.2010) - Allison Janney (19.11.1959) 50-149"}]
["tt2788988","nm0005049",{"$f":"_xlfn.XLOOKUP($A286,_xlfn.CHOOSECOLS(_xlfn.ANCHORARRAY(Filme!$G$1),2),_xlfn.CHOOSECOLS(_xlfn.ANCHORARRAY(Filme!$G$1),3),\"\",0,2)","v":"Masters of Sex"},{"$f":"_xlfn.XLOOKUP($A286,_xlfn.CHOOSECOLS(_xlfn.ANCHORARRAY(Filme!$G$1),2),_xlfn.CHOOSECOLS(_xlfn.ANCHORARRAY(Filme!$G$1),4),\"\",0,2)","v":"2014-08-26"},{"$f":"_xlfn.XLOOKUP($B286,_xlfn.CHOOSECOLS(_xlfn.ANCHORARRAY(Leute!$F$1),2),_xlfn.CHOOSECOLS(_xlfn.ANCHORARRAY(Leute!$F$1),3),\"x\",0,2)","v":"Allison Janney"},{"$f":"_xlfn.XLOOKUP($B286,_xlfn.CHOOSECOLS(_xlfn.ANCHORARRAY(Leute!$F$1),2),_xlfn.CHOOSECOLS(_xlfn.ANCHORARRAY(Leute!$F$1),4),\"x\",0,2)","v":"1959-11-19"},{"$f":"RANK(F286,F$1:F286,0)","v":271},{"$f":"DATEDIF(F286,D286,\"Y\")","v":54},{"$f":"DATEDIF(F286,D286,\"YD\")","v":281},{"$f":"D286-F286","v":20004},{"$f":"\"MRS \"&TEXT(J286,\"00000\")&\" \"&SUBSTITUTE(C286,\":\",\"\")&\" (\"&TEXT(D286,\"TT.MM.JJJJ\")&\") - \"&E286&\" (\"&TEXT(F286,\"TT.MM.JJJJ\")&\") \"&H286&\"-\"&I286","v":"MRS 20004 Masters of Sex (26.08.2014) - Allison Janney (19.11.1959) 54-281"}]
["tt0820858","nm0005067",{"$f":"_xlfn.XLOOKUP($A287,_xlfn.CHOOSECOLS(_xlfn.ANCHORARRAY(Filme!$G$1),2),_xlfn.CHOOSECOLS(_xlfn.ANCHORARRAY(Filme!$G$1),3),\"\",0,2)","v":"Confessions"},{"$f":"_xlfn.XLOOKUP($A287,_xlfn.CHOOSECOLS(_xlfn.ANCHORARRAY(Filme!$G$1),2),_xlfn.CHOOSECOLS(_xlfn.ANCHORARRAY(Filme!$G$1),4),\"\",0,2)","v":"2007-07-27"},{"$f":"_xlfn.XLOOKUP($B287,_xlfn.CHOOSECOLS(_xlfn.ANCHORARRAY(Leute!$F$1),2),_xlfn.CHOOSECOLS(_xlfn.ANCHORARRAY(Leute!$F$1),3),\"x\",0,2)","v":"Tamala Jones"},{"$f":"_xlfn.XLOOKUP($B287,_xlfn.CHOOSECOLS(_xlfn.ANCHORARRAY(Leute!$F$1),2),_xlfn.CHOOSECOLS(_xlfn.ANCHORARRAY(Leute!$F$1),4),\"x\",0,2)","v":"1974-11-12"},{"$f":"RANK(F287,F$1:F287,0)","v":97},{"$f":"DATEDIF(F287,D287,\"Y\")","v":32},{"$f":"DATEDIF(F287,D287,\"YD\")","v":257},{"$f":"D287-F287","v":11945},{"$f":"\"MRS \"&TEXT(J287,\"00000\")&\" \"&SUBSTITUTE(C287,\":\",\"\")&\" (\"&TEXT(D287,\"TT.MM.JJJJ\")&\") - \"&E287&\" (\"&TEXT(F287,\"TT.MM.JJJJ\")&\") \"&H287&\"-\"&I287","v":"MRS 11945 Confessions (27.07.2007) - Tamala Jones (12.11.1974) 32-257"}]
["tt0368343","nm0005123",{"$f":"_xlfn.XLOOKUP($A288,_xlfn.CHOOSECOLS(_xlfn.ANCHORARRAY(Filme!$G$1),2),_xlfn.CHOOSECOLS(_xlfn.ANCHORARRAY(Filme!$G$1),3),\"\",0,2)","v":"Three Way"},{"$f":"_xlfn.XLOOKUP($A288,_xlfn.CHOOSECOLS(_xlfn.ANCHORARRAY(Filme!$G$1),2),_xlfn.CHOOSECOLS(_xlfn.ANCHORARRAY(Filme!$G$1),4),\"\",0,2)","v":"2004-09-07"},{"$f":"_xlfn.XLOOKUP($B288,_xlfn.CHOOSECOLS(_xlfn.ANCHORARRAY(Leute!$F$1),2),_xlfn.CHOOSECOLS(_xlfn.ANCHORARRAY(Leute!$F$1),3),\"x\",0,2)","v":"Ali Larter"},{"$f":"_xlfn.XLOOKUP($B288,_xlfn.CHOOSECOLS(_xlfn.ANCHORARRAY(Leute!$F$1),2),_xlfn.CHOOSECOLS(_xlfn.ANCHORARRAY(Leute!$F$1),4),\"x\",0,2)","v":"1976-02-28"},{"$f":"RANK(F288,F$1:F288,0)","v":50},{"$f":"DATEDIF(F288,D288,\"Y\")","v":28},{"$f":"DATEDIF(F288,D288,\"YD\")","v":192},{"$f":"D288-F288","v":10419},{"$f":"\"MRS \"&TEXT(J288,\"00000\")&\" \"&SUBSTITUTE(C288,\":\",\"\")&\" (\"&TEXT(D288,\"TT.MM.JJJJ\")&\") - \"&E288&\" (\"&TEXT(F288,\"TT.MM.JJJJ\")&\") \"&H288&\"-\"&I288","v":"MRS 10419 Three Way (07.09.2004) - Ali Larter (28.02.1976) 28-192"}]
["tt0443474","nm0005123",{"$f":"_xlfn.XLOOKUP($A289,_xlfn.CHOOSECOLS(_xlfn.ANCHORARRAY(Filme!$G$1),2),_xlfn.CHOOSECOLS(_xlfn.ANCHORARRAY(Filme!$G$1),3),\"\",0,2)","v":"Crazy"},{"$f":"_xlfn.XLOOKUP($A289,_xlfn.CHOOSECOLS(_xlfn.ANCHORARRAY(Filme!$G$1),2),_xlfn.CHOOSECOLS(_xlfn.ANCHORARRAY(Filme!$G$1),4),\"\",0,2)","v":"2017-01-19"},{"$f":"_xlfn.XLOOKUP($B289,_xlfn.CHOOSECOLS(_xlfn.ANCHORARRAY(Leute!$F$1),2),_xlfn.CHOOSECOLS(_xlfn.ANCHORARRAY(Leute!$F$1),3),\"x\",0,2)","v":"Ali Larter"},{"$f":"_xlfn.XLOOKUP($B289,_xlfn.CHOOSECOLS(_xlfn.ANCHORARRAY(Leute!$F$1),2),_xlfn.CHOOSECOLS(_xlfn.ANCHORARRAY(Leute!$F$1),4),\"x\",0,2)","v":"1976-02-28"},{"$f":"RANK(F289,F$1:F289,0)","v":50},{"$f":"DATEDIF(F289,D289,\"Y\")","v":40},{"$f":"DATEDIF(F289,D289,\"YD\")","v":326},{"$f":"D289-F289","v":14936},{"$f":"\"MRS \"&TEXT(J289,\"00000\")&\" \"&SUBSTITUTE(C289,\":\",\"\")&\" (\"&TEXT(D289,\"TT.MM.JJJJ\")&\") - \"&E289&\" (\"&TEXT(F289,\"TT.MM.JJJJ\")&\") \"&H289&\"-\"&I289","v":"MRS 14936 Crazy (19.01.2017) - Ali Larter (28.02.1976) 40-326"}]
["tt0118859","nm0005154",{"$f":"_xlfn.XLOOKUP($A290,_xlfn.CHOOSECOLS(_xlfn.ANCHORARRAY(Filme!$G$1),2),_xlfn.CHOOSECOLS(_xlfn.ANCHORARRAY(Filme!$G$1),3),\"\",0,2)","v":"City of Industry"},{"$f":"_xlfn.XLOOKUP($A290,_xlfn.CHOOSECOLS(_xlfn.ANCHORARRAY(Filme!$G$1),2),_xlfn.CHOOSECOLS(_xlfn.ANCHORARRAY(Filme!$G$1),4),\"\",0,2)","v":"1998-05-28"},{"$f":"_xlfn.XLOOKUP($B290,_xlfn.CHOOSECOLS(_xlfn.ANCHORARRAY(Leute!$F$1),2),_xlfn.CHOOSECOLS(_xlfn.ANCHORARRAY(Leute!$F$1),3),\"x\",0,2)","v":"Lucy Liu"},{"$f":"_xlfn.XLOOKUP($B290,_xlfn.CHOOSECOLS(_xlfn.ANCHORARRAY(Leute!$F$1),2),_xlfn.CHOOSECOLS(_xlfn.ANCHORARRAY(Leute!$F$1),4),\"x\",0,2)","v":"1968-12-02"},{"$f":"RANK(F290,F$1:F290,0)","v":141},{"$f":"DATEDIF(F290,D290,\"Y\")","v":29},{"$f":"DATEDIF(F290,D290,\"YD\")","v":177},{"$f":"D290-F290","v":10769},{"$f":"\"MRS \"&TEXT(J290,\"00000\")&\" \"&SUBSTITUTE(C290,\":\",\"\")&\" (\"&TEXT(D290,\"TT.MM.JJJJ\")&\") - \"&E290&\" (\"&TEXT(F290,\"TT.MM.JJJJ\")&\") \"&H290&\"-\"&I290","v":"MRS 10769 City of Industry (28.05.1998) - Lucy Liu (02.12.1968) 29-177"}]
["tt0132165","nm0005154",{"$f":"_xlfn.XLOOKUP($A291,_xlfn.CHOOSECOLS(_xlfn.ANCHORARRAY(Filme!$G$1),2),_xlfn.CHOOSECOLS(_xlfn.ANCHORARRAY(Filme!$G$1),3),\"\",0,2)","v":"Flypaper"},{"$f":"_xlfn.XLOOKUP($A291,_xlfn.CHOOSECOLS(_xlfn.ANCHORARRAY(Filme!$G$1),2),_xlfn.CHOOSECOLS(_xlfn.ANCHORARRAY(Filme!$G$1),4),\"\",0,2)","v":"1999-07-18"},{"$f":"_xlfn.XLOOKUP($B291,_xlfn.CHOOSECOLS(_xlfn.ANCHORARRAY(Leute!$F$1),2),_xlfn.CHOOSECOLS(_xlfn.ANCHORARRAY(Leute!$F$1),3),\"x\",0,2)","v":"Lucy Liu"},{"$f":"_xlfn.XLOOKUP($B291,_xlfn.CHOOSECOLS(_xlfn.ANCHORARRAY(Leute!$F$1),2),_xlfn.CHOOSECOLS(_xlfn.ANCHORARRAY(Leute!$F$1),4),\"x\",0,2)","v":"1968-12-02"},{"$f":"RANK(F291,F$1:F291,0)","v":141},{"$f":"DATEDIF(F291,D291,\"Y\")","v":30},{"$f":"DATEDIF(F291,D291,\"YD\")","v":228},{"$f":"D291-F291","v":11185},{"$f":"\"MRS \"&TEXT(J291,\"00000\")&\" \"&SUBSTITUTE(C291,\":\",\"\")&\" (\"&TEXT(D291,\"TT.MM.JJJJ\")&\") - \"&E291&\" (\"&TEXT(F291,\"TT.MM.JJJJ\")&\") \"&H291&\"-\"&I291","v":"MRS 11185 Flypaper (18.07.1999) - Lucy Liu (02.12.1968) 30-228"}]
["tt0389328","nm0005154",{"$f":"_xlfn.XLOOKUP($A292,_xlfn.CHOOSECOLS(_xlfn.ANCHORARRAY(Filme!$G$1),2),_xlfn.CHOOSECOLS(_xlfn.ANCHORARRAY(Filme!$G$1),3),\"\",0,2)","v":"Rise"},{"$f":"_xlfn.XLOOKUP($A292,_xlfn.CHOOSECOLS(_xlfn.ANCHORARRAY(Filme!$G$1),2),_xlfn.CHOOSECOLS(_xlfn.ANCHORARRAY(Filme!$G$1),4),\"\",0,2)","v":"2007-07-06"},{"$f":"_xlfn.XLOOKUP($B292,_xlfn.CHOOSECOLS(_xlfn.ANCHORARRAY(Leute!$F$1),2),_xlfn.CHOOSECOLS(_xlfn.ANCHORARRAY(Leute!$F$1),3),\"x\",0,2)","v":"Lucy Liu"},{"$f":"_xlfn.XLOOKUP($B292,_xlfn.CHOOSECOLS(_xlfn.ANCHORARRAY(Leute!$F$1),2),_xlfn.CHOOSECOLS(_xlfn.ANCHORARRAY(Leute!$F$1),4),\"x\",0,2)","v":"1968-12-02"},{"$f":"RANK(F292,F$1:F292,0)","v":141},{"$f":"DATEDIF(F292,D292,\"Y\")","v":38},{"$f":"DATEDIF(F292,D292,\"YD\")","v":216},{"$f":"D292-F292","v":14095},{"$f":"\"MRS \"&TEXT(J292,\"00000\")&\" \"&SUBSTITUTE(C292,\":\",\"\")&\" (\"&TEXT(D292,\"TT.MM.JJJJ\")&\") - \"&E292&\" (\"&TEXT(F292,\"TT.MM.JJJJ\")&\") \"&H292&\"-\"&I292","v":"MRS 14095 Rise (06.07.2007) - Lucy Liu (02.12.1968) 38-216"}]
["tt0425210","nm0005154",{"$f":"_xlfn.XLOOKUP($A293,_xlfn.CHOOSECOLS(_xlfn.ANCHORARRAY(Filme!$G$1),2),_xlfn.CHOOSECOLS(_xlfn.ANCHORARRAY(Filme!$G$1),3),\"\",0,2)","v":"Lucky Number Slevin"},{"$f":"_xlfn.XLOOKUP($A293,_xlfn.CHOOSECOLS(_xlfn.ANCHORARRAY(Filme!$G$1),2),_xlfn.CHOOSECOLS(_xlfn.ANCHORARRAY(Filme!$G$1),4),\"\",0,2)","v":"2006-02-24"},{"$f":"_xlfn.XLOOKUP($B293,_xlfn.CHOOSECOLS(_xlfn.ANCHORARRAY(Leute!$F$1),2),_xlfn.CHOOSECOLS(_xlfn.ANCHORARRAY(Leute!$F$1),3),\"x\",0,2)","v":"Lucy Liu"},{"$f":"_xlfn.XLOOKUP($B293,_xlfn.CHOOSECOLS(_xlfn.ANCHORARRAY(Leute!$F$1),2),_xlfn.CHOOSECOLS(_xlfn.ANCHORARRAY(Leute!$F$1),4),\"x\",0,2)","v":"1968-12-02"},{"$f":"RANK(F293,F$1:F293,0)","v":141},{"$f":"DATEDIF(F293,D293,\"Y\")","v":37},{"$f":"DATEDIF(F293,D293,\"YD\")","v":84},{"$f":"D293-F293","v":13598},{"$f":"\"MRS \"&TEXT(J293,\"00000\")&\" \"&SUBSTITUTE(C293,\":\",\"\")&\" (\"&TEXT(D293,\"TT.MM.JJJJ\")&\") - \"&E293&\" (\"&TEXT(F293,\"TT.MM.JJJJ\")&\") \"&H293&\"-\"&I293","v":"MRS 13598 Lucky Number Slevin (24.02.2006) - Lucy Liu (02.12.1968) 37-84"}]
["tt0150340","nm0005176",{"$f":"_xlfn.XLOOKUP($A294,_xlfn.CHOOSECOLS(_xlfn.ANCHORARRAY(Filme!$G$1),2),_xlfn.CHOOSECOLS(_xlfn.ANCHORARRAY(Filme!$G$1),3),\"\",0,2)","v":"Divorce: A Contemporary Western"},{"$f":"_xlfn.XLOOKUP($A294,_xlfn.CHOOSECOLS(_xlfn.ANCHORARRAY(Filme!$G$1),2),_xlfn.CHOOSECOLS(_xlfn.ANCHORARRAY(Filme!$G$1),4),\"\",0,2)","v":"00:00:00"},{"$f":"_xlfn.XLOOKUP($B294,_xlfn.CHOOSECOLS(_xlfn.ANCHORARRAY(Leute!$F$1),2),_xlfn.CHOOSECOLS(_xlfn.ANCHORARRAY(Leute!$F$1),3),\"x\",0,2)","v":"Wendie Malick"},{"$f":"_xlfn.XLOOKUP($B294,_xlfn.CHOOSECOLS(_xlfn.ANCHORARRAY(Leute!$F$1),2),_xlfn.CHOOSECOLS(_xlfn.ANCHORARRAY(Leute!$F$1),4),\"x\",0,2)","v":"1950-12-13"},{"$f":"RANK(F294,F$1:F294,0)","v":289},{"$f":"DATEDIF(F294,D294,\"Y\")","v":{"$error":"#NUM!"}},{"$f":"DATEDIF(F294,D294,\"YD\")","v":{"$error":"#NUM!"}},{"$f":"D294-F294","v":-18610},{"$f":"\"MRS \"&TEXT(J294,\"00000\")&\" \"&SUBSTITUTE(C294,\":\",\"\")&\" (\"&TEXT(D294,\"TT.MM.JJJJ\")&\") - \"&E294&\" (\"&TEXT(F294,\"TT.MM.JJJJ\")&\") \"&H294&\"-\"&I294","v":{"$error":"#NUM!"}}]
["tt0245238","nm0005305",{"$f":"_xlfn.XLOOKUP($A295,_xlfn.CHOOSECOLS(_xlfn.ANCHORARRAY(Filme!$G$1),2),_xlfn.CHOOSECOLS(_xlfn.ANCHORARRAY(Filme!$G$1),3),\"\",0,2)","v":"Lost and Delirious"},{"$f":"_xlfn.XLOOKUP($A295,_xlfn.CHOOSECOLS(_xlfn.ANCHORARRAY(Filme!$G$1),2),_xlfn.CHOOSECOLS(_xlfn.ANCHORARRAY(Filme!$G$1),4),\"\",0,2)","v":"2001-09-20"},{"$f":"_xlfn.XLOOKUP($B295,_xlfn.CHOOSECOLS(_xlfn.ANCHORARRAY(Leute!$F$1),2),_xlfn.CHOOSECOLS(_xlfn.ANCHORARRAY(Leute!$F$1),3),\"x\",0,2)","v":"Piper Perabo"},{"$f":"_xlfn.XLOOKUP($B295,_xlfn.CHOOSECOLS(_xlfn.ANCHORARRAY(Leute!$F$1),2),_xlfn.CHOOSECOLS(_xlfn.ANCHORARRAY(Leute!$F$1),4),\"x\",0,2)","v":"1976-10-31"},{"$f":"RANK(F295,F$1:F295,0)","v":48},{"$f":"DATEDIF(F295,D295,\"Y\")","v":24},{"$f":"DATEDIF(F295,D295,\"YD\")","v":324},{"$f":"D295-F295","v":9090},{"$f":"\"MRS \"&TEXT(J295,\"00000\")&\" \"&SUBSTITUTE(C295,\":\",\"\")&\" (\"&TEXT(D295,\"TT.MM.JJJJ\")&\") - \"&E295&\" (\"&TEXT(F295,\"TT.MM.JJJJ\")&\") \"&H295&\"-\"&I295","v":"MRS 09090 Lost and Delirious (20.09.2001) - Piper Perabo (31.10.1976) 24-324"}]
["tt1276104","nm0005305",{"$f":"_xlfn.XLOOKUP($A296,_xlfn.CHOOSECOLS(_xlfn.ANCHORARRAY(Filme!$G$1),2),_xlfn.CHOOSECOLS(_xlfn.ANCHORARRAY(Filme!$G$1),3),\"\",0,2)","v":"Looper"},{"$f":"_xlfn.XLOOKUP($A296,_xlfn.CHOOSECOLS(_xlfn.ANCHORARRAY(Filme!$G$1),2),_xlfn.CHOOSECOLS(_xlfn.ANCHORARRAY(Filme!$G$1),4),\"\",0,2)","v":"2012-10-03"},{"$f":"_xlfn.XLOOKUP($B296,_xlfn.CHOOSECOLS(_xlfn.ANCHORARRAY(Leute!$F$1),2),_xlfn.CHOOSECOLS(_xlfn.ANCHORARRAY(Leute!$F$1),3),\"x\",0,2)","v":"Piper Perabo"},{"$f":"_xlfn.XLOOKUP($B296,_xlfn.CHOOSECOLS(_xlfn.ANCHORARRAY(Leute!$F$1),2),_xlfn.CHOOSECOLS(_xlfn.ANCHORARRAY(Leute!$F$1),4),\"x\",0,2)","v":"1976-10-31"},{"$f":"RANK(F296,F$1:F296,0)","v":48},{"$f":"DATEDIF(F296,D296,\"Y\")","v":35},{"$f":"DATEDIF(F296,D296,\"YD\")","v":337},{"$f":"D296-F296","v":13121},{"$f":"\"MRS \"&TEXT(J296,\"00000\")&\" \"&SUBSTITUTE(C296,\":\",\"\")&\" (\"&TEXT(D296,\"TT.MM.JJJJ\")&\") - \"&E296&\" (\"&TEXT(F296,\"TT.MM.JJJJ\")&\") \"&H296&\"-\"&I296","v":"MRS 13121 Looper (03.10.2012) - Piper Perabo (31.10.1976) 35-337"}]
["tt0119054","nm0005392",{"$f":"_xlfn.XLOOKUP($A297,_xlfn.CHOOSECOLS(_xlfn.ANCHORARRAY(Filme!$G$1),2),_xlfn.CHOOSECOLS(_xlfn.ANCHORARRAY(Filme!$G$1),3),\"\",0,2)","v":"Eight Days a Week"},{"$f":"_xlfn.XLOOKUP($A297,_xlfn.CHOOSECOLS(_xlfn.ANCHORARRAY(Filme!$G$1),2),_xlfn.CHOOSECOLS(_xlfn.ANCHORARRAY(Filme!$G$1),4),\"\",0,2)","v":"1999-02-26"},{"$f":"_xlfn.XLOOKUP($B297,_xlfn.CHOOSECOLS(_xlfn.ANCHORARRAY(Leute!$F$1),2),_xlfn.CHOOSECOLS(_xlfn.ANCHORARRAY(Leute!$F$1),3),\"x\",0,2)","v":"Keri Russell"},{"$f":"_xlfn.XLOOKUP($B297,_xlfn.CHOOSECOLS(_xlfn.ANCHORARRAY(Leute!$F$1),2),_xlfn.CHOOSECOLS(_xlfn.ANCHORARRAY(Leute!$F$1),4),\"x\",0,2)","v":"1976-03-23"},{"$f":"RANK(F297,F$1:F297,0)","v":50},{"$f":"DATEDIF(F297,D297,\"Y\")","v":22},{"$f":"DATEDIF(F297,D297,\"YD\")","v":340},{"$f":"D297-F297","v":8375},{"$f":"\"MRS \"&TEXT(J297,\"00000\")&\" \"&SUBSTITUTE(C297,\":\",\"\")&\" (\"&TEXT(D297,\"TT.MM.JJJJ\")&\") - \"&E297&\" (\"&TEXT(F297,\"TT.MM.JJJJ\")&\") \"&H297&\"-\"&I297","v":"MRS 08375 Eight Days a Week (26.02.1999) - Keri Russell (23.03.1976) 22-340"}]
["tt18265122","nm0005392",{"$f":"_xlfn.XLOOKUP($A298,_xlfn.CHOOSECOLS(_xlfn.ANCHORARRAY(Filme!$G$1),2),_xlfn.CHOOSECOLS(_xlfn.ANCHORARRAY(Filme!$G$1),3),\"\",0,2)","v":"The Diplomat"},{"$f":"_xlfn.XLOOKUP($A298,_xlfn.CHOOSECOLS(_xlfn.ANCHORARRAY(Filme!$G$1),2),_xlfn.CHOOSECOLS(_xlfn.ANCHORARRAY(Filme!$G$1),4),\"\",0,2)","v":"2023-04-20"},{"$f":"_xlfn.XLOOKUP($B298,_xlfn.CHOOSECOLS(_xlfn.ANCHORARRAY(Leute!$F$1),2),_xlfn.CHOOSECOLS(_xlfn.ANCHORARRAY(Leute!$F$1),3),\"x\",0,2)","v":"Keri Russell"},{"$f":"_xlfn.XLOOKUP($B298,_xlfn.CHOOSECOLS(_xlfn.ANCHORARRAY(Leute!$F$1),2),_xlfn.CHOOSECOLS(_xlfn.ANCHORARRAY(Leute!$F$1),4),\"x\",0,2)","v":"1976-03-23"},{"$f":"RANK(F298,F$1:F298,0)","v":50},{"$f":"DATEDIF(F298,D298,\"Y\")","v":47},{"$f":"DATEDIF(F298,D298,\"YD\")","v":28},{"$f":"D298-F298","v":17194},{"$f":"\"MRS \"&TEXT(J298,\"00000\")&\" \"&SUBSTITUTE(C298,\":\",\"\")&\" (\"&TEXT(D298,\"TT.MM.JJJJ\")&\") - \"&E298&\" (\"&TEXT(F298,\"TT.MM.JJJJ\")&\") \"&H298&\"-\"&I298","v":"MRS 17194 The Diplomat (20.04.2023) - Keri Russell (23.03.1976) 47-28"}]
["tt2349740","nm0005392",{"$f":"_xlfn.XLOOKUP($A299,_xlfn.CHOOSECOLS(_xlfn.ANCHORARRAY(Filme!$G$1),2),_xlfn.CHOOSECOLS(_xlfn.ANCHORARRAY(Filme!$G$1),3),\"\",0,2)","v":"The Americans"},{"$f":"_xlfn.XLOOKUP($A299,_xlfn.CHOOSECOLS(_xlfn.ANCHORARRAY(Filme!$G$1),2),_xlfn.CHOOSECOLS(_xlfn.ANCHORARRAY(Filme!$G$1),4),\"\",0,2)","v":"2014-02-05"},{"$f":"_xlfn.XLOOKUP($B299,_xlfn.CHOOSECOLS(_xlfn.ANCHORARRAY(Leute!$F$1),2),_xlfn.CHOOSECOLS(_xlfn.ANCHORARRAY(Leute!$F$1),3),\"x\",0,2)","v":"Keri Russell"},{"$f":"_xlfn.XLOOKUP($B299,_xlfn.CHOOSECOLS(_xlfn.ANCHORARRAY(Leute!$F$1),2),_xlfn.CHOOSECOLS(_xlfn.ANCHORARRAY(Leute!$F$1),4),\"x\",0,2)","v":"1976-03-23"},{"$f":"RANK(F299,F$1:F299,0)","v":50},{"$f":"DATEDIF(F299,D299,\"Y\")","v":37},{"$f":"DATEDIF(F299,D299,\"YD\")","v":319},{"$f":"D299-F299","v":13833},{"$f":"\"MRS \"&TEXT(J299,\"00000\")&\" \"&SUBSTITUTE(C299,\":\",\"\")&\" (\"&TEXT(D299,\"TT.MM.JJJJ\")&\") - \"&E299&\" (\"&TEXT(F299,\"TT.MM.JJJJ\")&\") \"&H299&\"-\"&I299","v":"MRS 13833 The Americans (05.02.2014) - Keri Russell (23.03.1976) 37-319"}]
["tt0101676","nm0005491",{"$f":"_xlfn.XLOOKUP($A300,_xlfn.CHOOSECOLS(_xlfn.ANCHORARRAY(Filme!$G$1),2),_xlfn.CHOOSECOLS(_xlfn.ANCHORARRAY(Filme!$G$1),3),\"\",0,2)","v":"Dead Women in Lingerie"},{"$f":"_xlfn.XLOOKUP($A300,_xlfn.CHOOSECOLS(_xlfn.ANCHORARRAY(Filme!$G$1),2),_xlfn.CHOOSECOLS(_xlfn.ANCHORARRAY(Filme!$G$1),4),\"\",0,2)","v":"1991-11-01"},{"$f":"_xlfn.XLOOKUP($B300,_xlfn.CHOOSECOLS(_xlfn.ANCHORARRAY(Leute!$F$1),2),_xlfn.CHOOSECOLS(_xlfn.ANCHORARRAY(Leute!$F$1),3),\"x\",0,2)","v":"Maura Tierney"},{"$f":"_xlfn.XLOOKUP($B300,_xlfn.CHOOSECOLS(_xlfn.ANCHORARRAY(Leute!$F$1),2),_xlfn.CHOOSECOLS(_xlfn.ANCHORARRAY(Leute!$F$1),4),\"x\",0,2)","v":"1965-02-03"},{"$f":"RANK(F300,F$1:F300,0)","v":197},{"$f":"DATEDIF(F300,D300,\"Y\")","v":26},{"$f":"DATEDIF(F300,D300,\"YD\")","v":271},{"$f":"D300-F300","v":9767},{"$f":"\"MRS \"&TEXT(J300,\"00000\")&\" \"&SUBSTITUTE(C300,\":\",\"\")&\" (\"&TEXT(D300,\"TT.MM.JJJJ\")&\") - \"&E300&\" (\"&TEXT(F300,\"TT.MM.JJJJ\")&\") \"&H300&\"-\"&I300","v":"MRS 09767 Dead Women in Lingerie (01.11.1991) - Maura Tierney (03.02.1965) 26-271"}]
["tt3501014","nm0005491",{"$f":"_xlfn.XLOOKUP($A301,_xlfn.CHOOSECOLS(_xlfn.ANCHORARRAY(Filme!$G$1),2),_xlfn.CHOOSECOLS(_xlfn.ANCHORARRAY(Filme!$G$1),3),\"\",0,2)","v":"The Affair"},{"$f":"_xlfn.XLOOKUP($A301,_xlfn.CHOOSECOLS(_xlfn.ANCHORARRAY(Filme!$G$1),2),_xlfn.CHOOSECOLS(_xlfn.ANCHORARRAY(Filme!$G$1),4),\"\",0,2)","v":"2015-08-14"},{"$f":"_xlfn.XLOOKUP($B301,_xlfn.CHOOSECOLS(_xlfn.ANCHORARRAY(Leute!$F$1),2),_xlfn.CHOOSECOLS(_xlfn.ANCHORARRAY(Leute!$F$1),3),\"x\",0,2)","v":"Maura Tierney"},{"$f":"_xlfn.XLOOKUP($B301,_xlfn.CHOOSECOLS(_xlfn.ANCHORARRAY(Leute!$F$1),2),_xlfn.CHOOSECOLS(_xlfn.ANCHORARRAY(Leute!$F$1),4),\"x\",0,2)","v":"1965-02-03"},{"$f":"RANK(F301,F$1:F301,0)","v":197},{"$f":"DATEDIF(F301,D301,\"Y\")","v":50},{"$f":"DATEDIF(F301,D301,\"YD\")","v":192},{"$f":"D301-F301","v":18454},{"$f":"\"MRS \"&TEXT(J301,\"00000\")&\" \"&SUBSTITUTE(C301,\":\",\"\")&\" (\"&TEXT(D301,\"TT.MM.JJJJ\")&\") - \"&E301&\" (\"&TEXT(F301,\"TT.MM.JJJJ\")&\") \"&H301&\"-\"&I301","v":"MRS 18454 The Affair (14.08.2015) - Maura Tierney (03.02.1965) 50-192"}]
["tt0348333","nm0005513",{"$f":"_xlfn.XLOOKUP($A302,_xlfn.CHOOSECOLS(_xlfn.ANCHORARRAY(Filme!$G$1),2),_xlfn.CHOOSECOLS(_xlfn.ANCHORARRAY(Filme!$G$1),3),\"\",0,2)","v":"Waiting..."},{"$f":"_xlfn.XLOOKUP($A302,_xlfn.CHOOSECOLS(_xlfn.ANCHORARRAY(Filme!$G$1),2),_xlfn.CHOOSECOLS(_xlfn.ANCHORARRAY(Filme!$G$1),4),\"\",0,2)","v":"2005-10-07"},{"$f":"_xlfn.XLOOKUP($B302,_xlfn.CHOOSECOLS(_xlfn.ANCHORARRAY(Leute!$F$1),2),_xlfn.CHOOSECOLS(_xlfn.ANCHORARRAY(Leute!$F$1),3),\"x\",0,2)","v":"Alanna Ubach"},{"$f":"_xlfn.XLOOKUP($B302,_xlfn.CHOOSECOLS(_xlfn.ANCHORARRAY(Leute!$F$1),2),_xlfn.CHOOSECOLS(_xlfn.ANCHORARRAY(Leute!$F$1),4),\"x\",0,2)","v":"1975-10-03"},{"$f":"RANK(F302,F$1:F302,0)","v":72},{"$f":"DATEDIF(F302,D302,\"Y\")","v":30},{"$f":"DATEDIF(F302,D302,\"YD\")","v":4},{"$f":"D302-F302","v":10962},{"$f":"\"MRS \"&TEXT(J302,\"00000\")&\" \"&SUBSTITUTE(C302,\":\",\"\")&\" (\"&TEXT(D302,\"TT.MM.JJJJ\")&\") - \"&E302&\" (\"&TEXT(F302,\"TT.MM.JJJJ\")&\") \"&H302&\"-\"&I302","v":"MRS 10962 Waiting... (07.10.2005) - Alanna Ubach (03.10.1975) 30-4"}]
["tt1466671","nm0005513",{"$f":"_xlfn.XLOOKUP($A303,_xlfn.CHOOSECOLS(_xlfn.ANCHORARRAY(Filme!$G$1),2),_xlfn.CHOOSECOLS(_xlfn.ANCHORARRAY(Filme!$G$1),3),\"\",0,2)","v":"Hung"},{"$f":"_xlfn.XLOOKUP($A303,_xlfn.CHOOSECOLS(_xlfn.ANCHORARRAY(Filme!$G$1),2),_xlfn.CHOOSECOLS(_xlfn.ANCHORARRAY(Filme!$G$1),4),\"\",0,2)","v":"2010-06-03"},{"$f":"_xlfn.XLOOKUP($B303,_xlfn.CHOOSECOLS(_xlfn.ANCHORARRAY(Leute!$F$1),2),_xlfn.CHOOSECOLS(_xlfn.ANCHORARRAY(Leute!$F$1),3),\"x\",0,2)","v":"Alanna Ubach"},{"$f":"_xlfn.XLOOKUP($B303,_xlfn.CHOOSECOLS(_xlfn.ANCHORARRAY(Leute!$F$1),2),_xlfn.CHOOSECOLS(_xlfn.ANCHORARRAY(Leute!$F$1),4),\"x\",0,2)","v":"1975-10-03"},{"$f":"RANK(F303,F$1:F303,0)","v":72},{"$f":"DATEDIF(F303,D303,\"Y\")","v":34},{"$f":"DATEDIF(F303,D303,\"YD\")","v":244},{"$f":"D303-F303","v":12662},{"$f":"\"MRS \"&TEXT(J303,\"00000\")&\" \"&SUBSTITUTE(C303,\":\",\"\")&\" (\"&TEXT(D303,\"TT.MM.JJJJ\")&\") - \"&E303&\" (\"&TEXT(F303,\"TT.MM.JJJJ\")&\") \"&H303&\"-\"&I303","v":"MRS 12662 Hung (03.06.2010) - Alanna Ubach (03.10.1975) 34-244"}]
["tt0376874","nm0006969",{"$f":"_xlfn.XLOOKUP($A304,_xlfn.CHOOSECOLS(_xlfn.ANCHORARRAY(Filme!$G$1),2),_xlfn.CHOOSECOLS(_xlfn.ANCHORARRAY(Filme!$G$1),3),\"\",0,2)","v":"Sexual Life"},{"$f":"_xlfn.XLOOKUP($A304,_xlfn.CHOOSECOLS(_xlfn.ANCHORARRAY(Filme!$G$1),2),_xlfn.CHOOSECOLS(_xlfn.ANCHORARRAY(Filme!$G$1),4),\"\",0,2)","v":"2004-06-19"},{"$f":"_xlfn.XLOOKUP($B304,_xlfn.CHOOSECOLS(_xlfn.ANCHORARRAY(Leute!$F$1),2),_xlfn.CHOOSECOLS(_xlfn.ANCHORARRAY(Leute!$F$1),3),\"x\",0,2)","v":"Elizabeth Banks"},{"$f":"_xlfn.XLOOKUP($B304,_xlfn.CHOOSECOLS(_xlfn.ANCHORARRAY(Leute!$F$1),2),_xlfn.CHOOSECOLS(_xlfn.ANCHORARRAY(Leute!$F$1),4),\"x\",0,2)","v":"1974-02-10"},{"$f":"RANK(F304,F$1:F304,0)","v":107},{"$f":"DATEDIF(F304,D304,\"Y\")","v":30},{"$f":"DATEDIF(F304,D304,\"YD\")","v":129},{"$f":"D304-F304","v":11087},{"$f":"\"MRS \"&TEXT(J304,\"00000\")&\" \"&SUBSTITUTE(C304,\":\",\"\")&\" (\"&TEXT(D304,\"TT.MM.JJJJ\")&\") - \"&E304&\" (\"&TEXT(F304,\"TT.MM.JJJJ\")&\") \"&H304&\"-\"&I304","v":"MRS 11087 Sexual Life (19.06.2004) - Elizabeth Banks (10.02.1974) 30-129"}]
["tt0405422","nm0006969",{"$f":"_xlfn.XLOOKUP($A305,_xlfn.CHOOSECOLS(_xlfn.ANCHORARRAY(Filme!$G$1),2),_xlfn.CHOOSECOLS(_xlfn.ANCHORARRAY(Filme!$G$1),3),\"\",0,2)","v":"The 40 Year Old Virgin"},{"$f":"_xlfn.XLOOKUP($A305,_xlfn.CHOOSECOLS(_xlfn.ANCHORARRAY(Filme!$G$1),2),_xlfn.CHOOSECOLS(_xlfn.ANCHORARRAY(Filme!$G$1),4),\"\",0,2)","v":"2005-09-29"},{"$f":"_xlfn.XLOOKUP($B305,_xlfn.CHOOSECOLS(_xlfn.ANCHORARRAY(Leute!$F$1),2),_xlfn.CHOOSECOLS(_xlfn.ANCHORARRAY(Leute!$F$1),3),\"x\",0,2)","v":"Elizabeth Banks"},{"$f":"_xlfn.XLOOKUP($B305,_xlfn.CHOOSECOLS(_xlfn.ANCHORARRAY(Leute!$F$1),2),_xlfn.CHOOSECOLS(_xlfn.ANCHORARRAY(Leute!$F$1),4),\"x\",0,2)","v":"1974-02-10"},{"$f":"RANK(F305,F$1:F305,0)","v":107},{"$f":"DATEDIF(F305,D305,\"Y\")","v":31},{"$f":"DATEDIF(F305,D305,\"YD\")","v":231},{"$f":"D305-F305","v":11554},{"$f":"\"MRS \"&TEXT(J305,\"00000\")&\" \"&SUBSTITUTE(C305,\":\",\"\")&\" (\"&TEXT(D305,\"TT.MM.JJJJ\")&\") - \"&E305&\" (\"&TEXT(F305,\"TT.MM.JJJJ\")&\") \"&H305&\"-\"&I305","v":"MRS 11554 The 40 Year Old Virgin (29.09.2005) - Elizabeth Banks (10.02.1974) 31-231"}]
["tt0439815","nm0006969",{"$f":"_xlfn.XLOOKUP($A306,_xlfn.CHOOSECOLS(_xlfn.ANCHORARRAY(Filme!$G$1),2),_xlfn.CHOOSECOLS(_xlfn.ANCHORARRAY(Filme!$G$1),3),\"\",0,2)","v":"Slither"},{"$f":"_xlfn.XLOOKUP($A306,_xlfn.CHOOSECOLS(_xlfn.ANCHORARRAY(Filme!$G$1),2),_xlfn.CHOOSECOLS(_xlfn.ANCHORARRAY(Filme!$G$1),4),\"\",0,2)","v":"2006-06-22"},{"$f":"_xlfn.XLOOKUP($B306,_xlfn.CHOOSECOLS(_xlfn.ANCHORARRAY(Leute!$F$1),2),_xlfn.CHOOSECOLS(_xlfn.ANCHORARRAY(Leute!$F$1),3),\"x\",0,2)","v":"Elizabeth Banks"},{"$f":"_xlfn.XLOOKUP($B306,_xlfn.CHOOSECOLS(_xlfn.ANCHORARRAY(Leute!$F$1),2),_xlfn.CHOOSECOLS(_xlfn.ANCHORARRAY(Leute!$F$1),4),\"x\",0,2)","v":"1974-02-10"},{"$f":"RANK(F306,F$1:F306,0)","v":107},{"$f":"DATEDIF(F306,D306,\"Y\")","v":32},{"$f":"DATEDIF(F306,D306,\"YD\")","v":132},{"$f":"D306-F306","v":11820},{"$f":"\"MRS \"&TEXT(J306,\"00000\")&\" \"&SUBSTITUTE(C306,\":\",\"\")&\" (\"&TEXT(D306,\"TT.MM.JJJJ\")&\") - \"&E306&\" (\"&TEXT(F306,\"TT.MM.JJJJ\")&\") \"&H306&\"-\"&I306","v":"MRS 11820 Slither (22.06.2006) - Elizabeth Banks (10.02.1974) 32-132"}]
["tt1433207","nm0006969",{"$f":"_xlfn.XLOOKUP($A307,_xlfn.CHOOSECOLS(_xlfn.ANCHORARRAY(Filme!$G$1),2),_xlfn.CHOOSECOLS(_xlfn.ANCHORARRAY(Filme!$G$1),3),\"\",0,2)","v":"The Details"},{"$f":"_xlfn.XLOOKUP($A307,_xlfn.CHOOSECOLS(_xlfn.ANCHORARRAY(Filme!$G$1),2),_xlfn.CHOOSECOLS(_xlfn.ANCHORARRAY(Filme!$G$1),4),\"\",0,2)","v":"2016-03-26"},{"$f":"_xlfn.XLOOKUP($B307,_xlfn.CHOOSECOLS(_xlfn.ANCHORARRAY(Leute!$F$1),2),_xlfn.CHOOSECOLS(_xlfn.ANCHORARRAY(Leute!$F$1),3),\"x\",0,2)","v":"Elizabeth Banks"},{"$f":"_xlfn.XLOOKUP($B307,_xlfn.CHOOSECOLS(_xlfn.ANCHORARRAY(Leute!$F$1),2),_xlfn.CHOOSECOLS(_xlfn.ANCHORARRAY(Leute!$F$1),4),\"x\",0,2)","v":"1974-02-10"},{"$f":"RANK(F307,F$1:F307,0)","v":107},{"$f":"DATEDIF(F307,D307,\"Y\")","v":42},{"$f":"DATEDIF(F307,D307,\"YD\")","v":44},{"$f":"D307-F307","v":15385},{"$f":"\"MRS \"&TEXT(J307,\"00000\")&\" \"&SUBSTITUTE(C307,\":\",\"\")&\" (\"&TEXT(D307,\"TT.MM.JJJJ\")&\") - \"&E307&\" (\"&TEXT(F307,\"TT.MM.JJJJ\")&\") \"&H307&\"-\"&I307","v":"MRS 15385 The Details (26.03.2016) - Elizabeth Banks (10.02.1974) 42-44"}]
["tt0206226","nm0010736",{"$f":"_xlfn.XLOOKUP($A308,_xlfn.CHOOSECOLS(_xlfn.ANCHORARRAY(Filme!$G$1),2),_xlfn.CHOOSECOLS(_xlfn.ANCHORARRAY(Filme!$G$1),3),\"\",0,2)","v":"Psycho Beach Party"},{"$f":"_xlfn.XLOOKUP($A308,_xlfn.CHOOSECOLS(_xlfn.ANCHORARRAY(Filme!$G$1),2),_xlfn.CHOOSECOLS(_xlfn.ANCHORARRAY(Filme!$G$1),4),\"\",0,2)","v":"2002-02-07"},{"$f":"_xlfn.XLOOKUP($B308,_xlfn.CHOOSECOLS(_xlfn.ANCHORARRAY(Leute!$F$1),2),_xlfn.CHOOSECOLS(_xlfn.ANCHORARRAY(Leute!$F$1),3),\"x\",0,2)","v":"Amy Adams"},{"$f":"_xlfn.XLOOKUP($B308,_xlfn.CHOOSECOLS(_xlfn.ANCHORARRAY(Leute!$F$1),2),_xlfn.CHOOSECOLS(_xlfn.ANCHORARRAY(Leute!$F$1),4),\"x\",0,2)","v":"1974-08-20"},{"$f":"RANK(F308,F$1:F308,0)","v":107},{"$f":"DATEDIF(F308,D308,\"Y\")","v":27},{"$f":"DATEDIF(F308,D308,\"YD\")","v":171},{"$f":"D308-F308","v":10033},{"$f":"\"MRS \"&TEXT(J308,\"00000\")&\" \"&SUBSTITUTE(C308,\":\",\"\")&\" (\"&TEXT(D308,\"TT.MM.JJJJ\")&\") - \"&E308&\" (\"&TEXT(F308,\"TT.MM.JJJJ\")&\") \"&H308&\"-\"&I308","v":"MRS 10033 Psycho Beach Party (07.02.2002) - Amy Adams (20.08.1974) 27-171"}]
["tt0862846","nm0010736",{"$f":"_xlfn.XLOOKUP($A309,_xlfn.CHOOSECOLS(_xlfn.ANCHORARRAY(Filme!$G$1),2),_xlfn.CHOOSECOLS(_xlfn.ANCHORARRAY(Filme!$G$1),3),\"\",0,2)","v":"Sunshine Cleaning"},{"$f":"_xlfn.XLOOKUP($A309,_xlfn.CHOOSECOLS(_xlfn.ANCHORARRAY(Filme!$G$1),2),_xlfn.CHOOSECOLS(_xlfn.ANCHORARRAY(Filme!$G$1),4),\"\",0,2)","v":"2009-05-21"},{"$f":"_xlfn.XLOOKUP($B309,_xlfn.CHOOSECOLS(_xlfn.ANCHORARRAY(Leute!$F$1),2),_xlfn.CHOOSECOLS(_xlfn.ANCHORARRAY(Leute!$F$1),3),\"x\",0,2)","v":"Amy Adams"},{"$f":"_xlfn.XLOOKUP($B309,_xlfn.CHOOSECOLS(_xlfn.ANCHORARRAY(Leute!$F$1),2),_xlfn.CHOOSECOLS(_xlfn.ANCHORARRAY(Leute!$F$1),4),\"x\",0,2)","v":"1974-08-20"},{"$f":"RANK(F309,F$1:F309,0)","v":107},{"$f":"DATEDIF(F309,D309,\"Y\")","v":34},{"$f":"DATEDIF(F309,D309,\"YD\")","v":274},{"$f":"D309-F309","v":12693},{"$f":"\"MRS \"&TEXT(J309,\"00000\")&\" \"&SUBSTITUTE(C309,\":\",\"\")&\" (\"&TEXT(D309,\"TT.MM.JJJJ\")&\") - \"&E309&\" (\"&TEXT(F309,\"TT.MM.JJJJ\")&\") \"&H309&\"-\"&I309","v":"MRS 12693 Sunshine Cleaning (21.05.2009) - Amy Adams (20.08.1974) 34-274"}]
["tt0970468","nm0010736",{"$f":"_xlfn.XLOOKUP($A310,_xlfn.CHOOSECOLS(_xlfn.ANCHORARRAY(Filme!$G$1),2),_xlfn.CHOOSECOLS(_xlfn.ANCHORARRAY(Filme!$G$1),3),\"\",0,2)","v":"Miss Pettigrew Lives for a Day"},{"$f":"_xlfn.XLOOKUP($A310,_xlfn.CHOOSECOLS(_xlfn.ANCHORARRAY(Filme!$G$1),2),_xlfn.CHOOSECOLS(_xlfn.ANCHORARRAY(Filme!$G$1),4),\"\",0,2)","v":"2008-03-07"},{"$f":"_xlfn.XLOOKUP($B310,_xlfn.CHOOSECOLS(_xlfn.ANCHORARRAY(Leute!$F$1),2),_xlfn.CHOOSECOLS(_xlfn.ANCHORARRAY(Leute!$F$1),3),\"x\",0,2)","v":"Amy Adams"},{"$f":"_xlfn.XLOOKUP($B310,_xlfn.CHOOSECOLS(_xlfn.ANCHORARRAY(Leute!$F$1),2),_xlfn.CHOOSECOLS(_xlfn.ANCHORARRAY(Leute!$F$1),4),\"x\",0,2)","v":"1974-08-20"},{"$f":"RANK(F310,F$1:F310,0)","v":107},{"$f":"DATEDIF(F310,D310,\"Y\")","v":33},{"$f":"DATEDIF(F310,D310,\"YD\")","v":200},{"$f":"D310-F310","v":12253},{"$f":"\"MRS \"&TEXT(J310,\"00000\")&\" \"&SUBSTITUTE(C310,\":\",\"\")&\" (\"&TEXT(D310,\"TT.MM.JJJJ\")&\") - \"&E310&\" (\"&TEXT(F310,\"TT.MM.JJJJ\")&\") \"&H310&\"-\"&I310","v":"MRS 12253 Miss Pettigrew Lives for a Day (07.03.2008) - Amy Adams (20.08.1974) 33-200"}]
["tt1800241","nm0010736",{"$f":"_xlfn.XLOOKUP($A311,_xlfn.CHOOSECOLS(_xlfn.ANCHORARRAY(Filme!$G$1),2),_xlfn.CHOOSECOLS(_xlfn.ANCHORARRAY(Filme!$G$1),3),\"\",0,2)","v":"American Hustle"},{"$f":"_xlfn.XLOOKUP($A311,_xlfn.CHOOSECOLS(_xlfn.ANCHORARRAY(Filme!$G$1),2),_xlfn.CHOOSECOLS(_xlfn.ANCHORARRAY(Filme!$G$1),4),\"\",0,2)","v":"2014-02-13"},{"$f":"_xlfn.XLOOKUP($B311,_xlfn.CHOOSECOLS(_xlfn.ANCHORARRAY(Leute!$F$1),2),_xlfn.CHOOSECOLS(_xlfn.ANCHORARRAY(Leute!$F$1),3),\"x\",0,2)","v":"Amy Adams"},{"$f":"_xlfn.XLOOKUP($B311,_xlfn.CHOOSECOLS(_xlfn.ANCHORARRAY(Leute!$F$1),2),_xlfn.CHOOSECOLS(_xlfn.ANCHORARRAY(Leute!$F$1),4),\"x\",0,2)","v":"1974-08-20"},{"$f":"RANK(F311,F$1:F311,0)","v":107},{"$f":"DATEDIF(F311,D311,\"Y\")","v":39},{"$f":"DATEDIF(F311,D311,\"YD\")","v":177},{"$f":"D311-F311","v":14422},{"$f":"\"MRS \"&TEXT(J311,\"00000\")&\" \"&SUBSTITUTE(C311,\":\",\"\")&\" (\"&TEXT(D311,\"TT.MM.JJJJ\")&\") - \"&E311&\" (\"&TEXT(F311,\"TT.MM.JJJJ\")&\") \"&H311&\"-\"&I311","v":"MRS 14422 American Hustle (13.02.2014) - Amy Adams (20.08.1974) 39-177"}]
["tt5612280","nm0010736",{"$f":"_xlfn.XLOOKUP($A312,_xlfn.CHOOSECOLS(_xlfn.ANCHORARRAY(Filme!$G$1),2),_xlfn.CHOOSECOLS(_xlfn.ANCHORARRAY(Filme!$G$1),3),\"\",0,2)","v":"Sharp Objects"},{"$f":"_xlfn.XLOOKUP($A312,_xlfn.CHOOSECOLS(_xlfn.ANCHORARRAY(Filme!$G$1),2),_xlfn.CHOOSECOLS(_xlfn.ANCHORARRAY(Filme!$G$1),4),\"\",0,2)","v":"2018-07-09"},{"$f":"_xlfn.XLOOKUP($B312,_xlfn.CHOOSECOLS(_xlfn.ANCHORARRAY(Leute!$F$1),2),_xlfn.CHOOSECOLS(_xlfn.ANCHORARRAY(Leute!$F$1),3),\"x\",0,2)","v":"Amy Adams"},{"$f":"_xlfn.XLOOKUP($B312,_xlfn.CHOOSECOLS(_xlfn.ANCHORARRAY(Leute!$F$1),2),_xlfn.CHOOSECOLS(_xlfn.ANCHORARRAY(Leute!$F$1),4),\"x\",0,2)","v":"1974-08-20"},{"$f":"RANK(F312,F$1:F312,0)","v":107},{"$f":"DATEDIF(F312,D312,\"Y\")","v":43},{"$f":"DATEDIF(F312,D312,\"YD\")","v":323},{"$f":"D312-F312","v":16029},{"$f":"\"MRS \"&TEXT(J312,\"00000\")&\" \"&SUBSTITUTE(C312,\":\",\"\")&\" (\"&TEXT(D312,\"TT.MM.JJJJ\")&\") - \"&E312&\" (\"&TEXT(F312,\"TT.MM.JJJJ\")&\") \"&H312&\"-\"&I312","v":"MRS 16029 Sharp Objects (09.07.2018) - Amy Adams (20.08.1974) 43-323"}]
["tt0205991","nm0013037",{"$f":"_xlfn.XLOOKUP($A313,_xlfn.CHOOSECOLS(_xlfn.ANCHORARRAY(Filme!$G$1),2),_xlfn.CHOOSECOLS(_xlfn.ANCHORARRAY(Filme!$G$1),3),\"\",0,2)","v":"Guests of Hotel Astoria"},{"$f":"_xlfn.XLOOKUP($A313,_xlfn.CHOOSECOLS(_xlfn.ANCHORARRAY(Filme!$G$1),2),_xlfn.CHOOSECOLS(_xlfn.ANCHORARRAY(Filme!$G$1),4),\"\",0,2)","v":"1989-11-10"},{"$f":"_xlfn.XLOOKUP($B313,_xlfn.CHOOSECOLS(_xlfn.ANCHORARRAY(Leute!$F$1),2),_xlfn.CHOOSECOLS(_xlfn.ANCHORARRAY(Leute!$F$1),3),\"x\",0,2)","v":"Shohreh Aghdashloo"},{"$f":"_xlfn.XLOOKUP($B313,_xlfn.CHOOSECOLS(_xlfn.ANCHORARRAY(Leute!$F$1),2),_xlfn.CHOOSECOLS(_xlfn.ANCHORARRAY(Leute!$F$1),4),\"x\",0,2)","v":"1952-05-11"},{"$f":"RANK(F313,F$1:F313,0)","v":298},{"$f":"DATEDIF(F313,D313,\"Y\")","v":37},{"$f":"DATEDIF(F313,D313,\"YD\")","v":183},{"$f":"D313-F313","v":13697},{"$f":"\"MRS \"&TEXT(J313,\"00000\")&\" \"&SUBSTITUTE(C313,\":\",\"\")&\" (\"&TEXT(D313,\"TT.MM.JJJJ\")&\") - \"&E313&\" (\"&TEXT(F313,\"TT.MM.JJJJ\")&\") \"&H313&\"-\"&I313","v":"MRS 13697 Guests of Hotel Astoria (10.11.1989) - Shohreh Aghdashloo (11.05.1952) 37-183"}]
["tt0096824","nm0029502",{"$f":"_xlfn.XLOOKUP($A314,_xlfn.CHOOSECOLS(_xlfn.ANCHORARRAY(Filme!$G$1),2),_xlfn.CHOOSECOLS(_xlfn.ANCHORARRAY(Filme!$G$1),3),\"\",0,2)","v":"Another Chance"},{"$f":"_xlfn.XLOOKUP($A314,_xlfn.CHOOSECOLS(_xlfn.ANCHORARRAY(Filme!$G$1),2),_xlfn.CHOOSECOLS(_xlfn.ANCHORARRAY(Filme!$G$1),4),\"\",0,2)","v":"1989-05-05"},{"$f":"_xlfn.XLOOKUP($B314,_xlfn.CHOOSECOLS(_xlfn.ANCHORARRAY(Leute!$F$1),2),_xlfn.CHOOSECOLS(_xlfn.ANCHORARRAY(Leute!$F$1),3),\"x\",0,2)","v":"Vanessa Angel"},{"$f":"_xlfn.XLOOKUP($B314,_xlfn.CHOOSECOLS(_xlfn.ANCHORARRAY(Leute!$F$1),2),_xlfn.CHOOSECOLS(_xlfn.ANCHORARRAY(Leute!$F$1),4),\"x\",0,2)","v":"1966-11-10"},{"$f":"RANK(F314,F$1:F314,0)","v":201},{"$f":"DATEDIF(F314,D314,\"Y\")","v":22},{"$f":"DATEDIF(F314,D314,\"YD\")","v":176},{"$f":"D314-F314","v":8212},{"$f":"\"MRS \"&TEXT(J314,\"00000\")&\" \"&SUBSTITUTE(C314,\":\",\"\")&\" (\"&TEXT(D314,\"TT.MM.JJJJ\")&\") - \"&E314&\" (\"&TEXT(F314,\"TT.MM.JJJJ\")&\") \"&H314&\"-\"&I314","v":"MRS 08212 Another Chance (05.05.1989) - Vanessa Angel (10.11.1966) 22-176"}]
["tt0102208","nm0029502",{"$f":"_xlfn.XLOOKUP($A315,_xlfn.CHOOSECOLS(_xlfn.ANCHORARRAY(Filme!$G$1),2),_xlfn.CHOOSECOLS(_xlfn.ANCHORARRAY(Filme!$G$1),3),\"\",0,2)","v":"Killer Instinct"},{"$f":"_xlfn.XLOOKUP($A315,_xlfn.CHOOSECOLS(_xlfn.ANCHORARRAY(Filme!$G$1),2),_xlfn.CHOOSECOLS(_xlfn.ANCHORARRAY(Filme!$G$1),4),\"\",0,2)","v":"1992-11-25"},{"$f":"_xlfn.XLOOKUP($B315,_xlfn.CHOOSECOLS(_xlfn.ANCHORARRAY(Leute!$F$1),2),_xlfn.CHOOSECOLS(_xlfn.ANCHORARRAY(Leute!$F$1),3),\"x\",0,2)","v":"Vanessa Angel"},{"$f":"_xlfn.XLOOKUP($B315,_xlfn.CHOOSECOLS(_xlfn.ANCHORARRAY(Leute!$F$1),2),_xlfn.CHOOSECOLS(_xlfn.ANCHORARRAY(Leute!$F$1),4),\"x\",0,2)","v":"1966-11-10"},{"$f":"RANK(F315,F$1:F315,0)","v":201},{"$f":"DATEDIF(F315,D315,\"Y\")","v":26},{"$f":"DATEDIF(F315,D315,\"YD\")","v":15},{"$f":"D315-F315","v":9512},{"$f":"\"MRS \"&TEXT(J315,\"00000\")&\" \"&SUBSTITUTE(C315,\":\",\"\")&\" (\"&TEXT(D315,\"TT.MM.JJJJ\")&\") - \"&E315&\" (\"&TEXT(F315,\"TT.MM.JJJJ\")&\") \"&H315&\"-\"&I315","v":"MRS 09512 Killer Instinct (25.11.1992) - Vanessa Angel (10.11.1966) 26-15"}]
["tt0116778","nm0029502",{"$f":"_xlfn.XLOOKUP($A316,_xlfn.CHOOSECOLS(_xlfn.ANCHORARRAY(Filme!$G$1),2),_xlfn.CHOOSECOLS(_xlfn.ANCHORARRAY(Filme!$G$1),3),\"\",0,2)","v":"Kingpin"},{"$f":"_xlfn.XLOOKUP($A316,_xlfn.CHOOSECOLS(_xlfn.ANCHORARRAY(Filme!$G$1),2),_xlfn.CHOOSECOLS(_xlfn.ANCHORARRAY(Filme!$G$1),4),\"\",0,2)","v":"1996-11-07"},{"$f":"_xlfn.XLOOKUP($B316,_xlfn.CHOOSECOLS(_xlfn.ANCHORARRAY(Leute!$F$1),2),_xlfn.CHOOSECOLS(_xlfn.ANCHORARRAY(Leute!$F$1),3),\"x\",0,2)","v":"Vanessa Angel"},{"$f":"_xlfn.XLOOKUP($B316,_xlfn.CHOOSECOLS(_xlfn.ANCHORARRAY(Leute!$F$1),2),_xlfn.CHOOSECOLS(_xlfn.ANCHORARRAY(Leute!$F$1),4),\"x\",0,2)","v":"1966-11-10"},{"$f":"RANK(F316,F$1:F316,0)","v":201},{"$f":"DATEDIF(F316,D316,\"Y\")","v":29},{"$f":"DATEDIF(F316,D316,\"YD\")","v":362},{"$f":"D316-F316","v":10955},{"$f":"\"MRS \"&TEXT(J316,\"00000\")&\" \"&SUBSTITUTE(C316,\":\",\"\")&\" (\"&TEXT(D316,\"TT.MM.JJJJ\")&\") - \"&E316&\" (\"&TEXT(F316,\"TT.MM.JJJJ\")&\") \"&H316&\"-\"&I316","v":"MRS 10955 Kingpin (07.11.1996) - Vanessa Angel (10.11.1966) 29-362"}]
["tt0360009","nm0068338",{"$f":"_xlfn.XLOOKUP($A317,_xlfn.CHOOSECOLS(_xlfn.ANCHORARRAY(Filme!$G$1),2),_xlfn.CHOOSECOLS(_xlfn.ANCHORARRAY(Filme!$G$1),3),\"\",0,2)","v":"Spartan"},{"$f":"_xlfn.XLOOKUP($A317,_xlfn.CHOOSECOLS(_xlfn.ANCHORARRAY(Filme!$G$1),2),_xlfn.CHOOSECOLS(_xlfn.ANCHORARRAY(Filme!$G$1),4),\"\",0,2)","v":"2004-03-12"},{"$f":"_xlfn.XLOOKUP($B317,_xlfn.CHOOSECOLS(_xlfn.ANCHORARRAY(Leute!$F$1),2),_xlfn.CHOOSECOLS(_xlfn.ANCHORARRAY(Leute!$F$1),3),\"x\",0,2)","v":"Kristen Bell"},{"$f":"_xlfn.XLOOKUP($B317,_xlfn.CHOOSECOLS(_xlfn.ANCHORARRAY(Leute!$F$1),2),_xlfn.CHOOSECOLS(_xlfn.ANCHORARRAY(Leute!$F$1),4),\"x\",0,2)","v":"1980-07-18"},{"$f":"RANK(F317,F$1:F317,0)","v":17},{"$f":"DATEDIF(F317,D317,\"Y\")","v":23},{"$f":"DATEDIF(F317,D317,\"YD\")","v":238},{"$f":"D317-F317","v":8638},{"$f":"\"MRS \"&TEXT(J317,\"00000\")&\" \"&SUBSTITUTE(C317,\":\",\"\")&\" (\"&TEXT(D317,\"TT.MM.JJJJ\")&\") - \"&E317&\" (\"&TEXT(F317,\"TT.MM.JJJJ\")&\") \"&H317&\"-\"&I317","v":"MRS 08638 Spartan (12.03.2004) - Kristen Bell (18.07.1980) 23-238"}]
["tt2265534","nm0068338",{"$f":"_xlfn.XLOOKUP($A318,_xlfn.CHOOSECOLS(_xlfn.ANCHORARRAY(Filme!$G$1),2),_xlfn.CHOOSECOLS(_xlfn.ANCHORARRAY(Filme!$G$1),3),\"\",0,2)","v":"The Lifeguard"},{"$f":"_xlfn.XLOOKUP($A318,_xlfn.CHOOSECOLS(_xlfn.ANCHORARRAY(Filme!$G$1),2),_xlfn.CHOOSECOLS(_xlfn.ANCHORARRAY(Filme!$G$1),4),\"\",0,2)","v":"2016-10-02"},{"$f":"_xlfn.XLOOKUP($B318,_xlfn.CHOOSECOLS(_xlfn.ANCHORARRAY(Leute!$F$1),2),_xlfn.CHOOSECOLS(_xlfn.ANCHORARRAY(Leute!$F$1),3),\"x\",0,2)","v":"Kristen Bell"},{"$f":"_xlfn.XLOOKUP($B318,_xlfn.CHOOSECOLS(_xlfn.ANCHORARRAY(Leute!$F$1),2),_xlfn.CHOOSECOLS(_xlfn.ANCHORARRAY(Leute!$F$1),4),\"x\",0,2)","v":"1980-07-18"},{"$f":"RANK(F318,F$1:F318,0)","v":17},{"$f":"DATEDIF(F318,D318,\"Y\")","v":36},{"$f":"DATEDIF(F318,D318,\"YD\")","v":76},{"$f":"D318-F318","v":13225},{"$f":"\"MRS \"&TEXT(J318,\"00000\")&\" \"&SUBSTITUTE(C318,\":\",\"\")&\" (\"&TEXT(D318,\"TT.MM.JJJJ\")&\") - \"&E318&\" (\"&TEXT(F318,\"TT.MM.JJJJ\")&\") \"&H318&\"-\"&I318","v":"MRS 13225 The Lifeguard (02.10.2016) - Kristen Bell (18.07.1980) 36-76"}]
["tt0216851","nm0097077",{"$f":"_xlfn.XLOOKUP($A319,_xlfn.CHOOSECOLS(_xlfn.ANCHORARRAY(Filme!$G$1),2),_xlfn.CHOOSECOLS(_xlfn.ANCHORARRAY(Filme!$G$1),3),\"\",0,2)","v":"Järngänget"},{"$f":"_xlfn.XLOOKUP($A319,_xlfn.CHOOSECOLS(_xlfn.ANCHORARRAY(Filme!$G$1),2),_xlfn.CHOOSECOLS(_xlfn.ANCHORARRAY(Filme!$G$1),4),\"\",0,2)","v":"2002-04-29"},{"$f":"_xlfn.XLOOKUP($B319,_xlfn.CHOOSECOLS(_xlfn.ANCHORARRAY(Leute!$F$1),2),_xlfn.CHOOSECOLS(_xlfn.ANCHORARRAY(Leute!$F$1),3),\"x\",0,2)","v":"Josephine Bornebusch"},{"$f":"_xlfn.XLOOKUP($B319,_xlfn.CHOOSECOLS(_xlfn.ANCHORARRAY(Leute!$F$1),2),_xlfn.CHOOSECOLS(_xlfn.ANCHORARRAY(Leute!$F$1),4),\"x\",0,2)","v":"1981-09-12"},{"$f":"RANK(F319,F$1:F319,0)","v":10},{"$f":"DATEDIF(F319,D319,\"Y\")","v":20},{"$f":"DATEDIF(F319,D319,\"YD\")","v":229},{"$f":"D319-F319","v":7534},{"$f":"\"MRS \"&TEXT(J319,\"00000\")&\" \"&SUBSTITUTE(C319,\":\",\"\")&\" (\"&TEXT(D319,\"TT.MM.JJJJ\")&\") - \"&E319&\" (\"&TEXT(F319,\"TT.MM.JJJJ\")&\") \"&H319&\"-\"&I319","v":"MRS 07534 Järngänget (29.04.2002) - Josephine Bornebusch (12.09.1981) 20-229"}]
["tt27410895","nm0097077",{"$f":"_xlfn.XLOOKUP($A320,_xlfn.CHOOSECOLS(_xlfn.ANCHORARRAY(Filme!$G$1),2),_xlfn.CHOOSECOLS(_xlfn.ANCHORARRAY(Filme!$G$1),3),\"\",0,2)","v":"Släpp taget"},{"$f":"_xlfn.XLOOKUP($A320,_xlfn.CHOOSECOLS(_xlfn.ANCHORARRAY(Filme!$G$1),2),_xlfn.CHOOSECOLS(_xlfn.ANCHORARRAY(Filme!$G$1),4),\"\",0,2)","v":"2024-11-01"},{"$f":"_xlfn.XLOOKUP($B320,_xlfn.CHOOSECOLS(_xlfn.ANCHORARRAY(Leute!$F$1),2),_xlfn.CHOOSECOLS(_xlfn.ANCHORARRAY(Leute!$F$1),3),\"x\",0,2)","v":"Josephine Bornebusch"},{"$f":"_xlfn.XLOOKUP($B320,_xlfn.CHOOSECOLS(_xlfn.ANCHORARRAY(Leute!$F$1),2),_xlfn.CHOOSECOLS(_xlfn.ANCHORARRAY(Leute!$F$1),4),\"x\",0,2)","v":"1981-09-12"},{"$f":"RANK(F320,F$1:F320,0)","v":10},{"$f":"DATEDIF(F320,D320,\"Y\")","v":43},{"$f":"DATEDIF(F320,D320,\"YD\")","v":50},{"$f":"D320-F320","v":15756},{"$f":"\"MRS \"&TEXT(J320,\"00000\")&\" \"&SUBSTITUTE(C320,\":\",\"\")&\" (\"&TEXT(D320,\"TT.MM.JJJJ\")&\") - \"&E320&\" (\"&TEXT(F320,\"TT.MM.JJJJ\")&\") \"&H320&\"-\"&I320","v":"MRS 15756 Släpp taget (01.11.2024) - Josephine Bornebusch (12.09.1981) 43-50"}]
["tt0280424","nm0100866",{"$f":"_xlfn.XLOOKUP($A321,_xlfn.CHOOSECOLS(_xlfn.ANCHORARRAY(Filme!$G$1),2),_xlfn.CHOOSECOLS(_xlfn.ANCHORARRAY(Filme!$G$1),3),\"\",0,2)","v":"Amy's Orgasm"},{"$f":"_xlfn.XLOOKUP($A321,_xlfn.CHOOSECOLS(_xlfn.ANCHORARRAY(Filme!$G$1),2),_xlfn.CHOOSECOLS(_xlfn.ANCHORARRAY(Filme!$G$1),4),\"\",0,2)","v":"2004-10-21"},{"$f":"_xlfn.XLOOKUP($B321,_xlfn.CHOOSECOLS(_xlfn.ANCHORARRAY(Leute!$F$1),2),_xlfn.CHOOSECOLS(_xlfn.ANCHORARRAY(Leute!$F$1),3),\"x\",0,2)","v":"Julie Bowen"},{"$f":"_xlfn.XLOOKUP($B321,_xlfn.CHOOSECOLS(_xlfn.ANCHORARRAY(Leute!$F$1),2),_xlfn.CHOOSECOLS(_xlfn.ANCHORARRAY(Leute!$F$1),4),\"x\",0,2)","v":"1970-03-03"},{"$f":"RANK(F321,F$1:F321,0)","v":152},{"$f":"DATEDIF(F321,D321,\"Y\")","v":34},{"$f":"DATEDIF(F321,D321,\"YD\")","v":232},{"$f":"D321-F321","v":12651},{"$f":"\"MRS \"&TEXT(J321,\"00000\")&\" \"&SUBSTITUTE(C321,\":\",\"\")&\" (\"&TEXT(D321,\"TT.MM.JJJJ\")&\") - \"&E321&\" (\"&TEXT(F321,\"TT.MM.JJJJ\")&\") \"&H321&\"-\"&I321","v":"MRS 12651 Amy's Orgasm (21.10.2004) - Julie Bowen (03.03.1970) 34-232"}]
["tt1176251","nm0221046",{"$f":"_xlfn.XLOOKUP($A322,_xlfn.CHOOSECOLS(_xlfn.ANCHORARRAY(Filme!$G$1),2),_xlfn.CHOOSECOLS(_xlfn.ANCHORARRAY(Filme!$G$1),3),\"\",0,2)","v":"Gigantic"},{"$f":"_xlfn.XLOOKUP($A322,_xlfn.CHOOSECOLS(_xlfn.ANCHORARRAY(Filme!$G$1),2),_xlfn.CHOOSECOLS(_xlfn.ANCHORARRAY(Filme!$G$1),4),\"\",0,2)","v":"2009-06-19"},{"$f":"_xlfn.XLOOKUP($B322,_xlfn.CHOOSECOLS(_xlfn.ANCHORARRAY(Leute!$F$1),2),_xlfn.CHOOSECOLS(_xlfn.ANCHORARRAY(Leute!$F$1),3),\"x\",0,2)","v":"Zooey Deschanel"},{"$f":"_xlfn.XLOOKUP($B322,_xlfn.CHOOSECOLS(_xlfn.ANCHORARRAY(Leute!$F$1),2),_xlfn.CHOOSECOLS(_xlfn.ANCHORARRAY(Leute!$F$1),4),\"x\",0,2)","v":"1980-01-17"},{"$f":"RANK(F322,F$1:F322,0)","v":27},{"$f":"DATEDIF(F322,D322,\"Y\")","v":29},{"$f":"DATEDIF(F322,D322,\"YD\")","v":154},{"$f":"D322-F322","v":10746},{"$f":"\"MRS \"&TEXT(J322,\"00000\")&\" \"&SUBSTITUTE(C322,\":\",\"\")&\" (\"&TEXT(D322,\"TT.MM.JJJJ\")&\") - \"&E322&\" (\"&TEXT(F322,\"TT.MM.JJJJ\")&\") \"&H322&\"-\"&I322","v":"MRS 10746 Gigantic (19.06.2009) - Zooey Deschanel (17.01.1980) 29-154"}]
["tt0471030","nm0225483",{"$f":"_xlfn.XLOOKUP($A323,_xlfn.CHOOSECOLS(_xlfn.ANCHORARRAY(Filme!$G$1),2),_xlfn.CHOOSECOLS(_xlfn.ANCHORARRAY(Filme!$G$1),3),\"\",0,2)","v":"Red Road"},{"$f":"_xlfn.XLOOKUP($A323,_xlfn.CHOOSECOLS(_xlfn.ANCHORARRAY(Filme!$G$1),2),_xlfn.CHOOSECOLS(_xlfn.ANCHORARRAY(Filme!$G$1),4),\"\",0,2)","v":"2008-07-17"},{"$f":"_xlfn.XLOOKUP($B323,_xlfn.CHOOSECOLS(_xlfn.ANCHORARRAY(Leute!$F$1),2),_xlfn.CHOOSECOLS(_xlfn.ANCHORARRAY(Leute!$F$1),3),\"x\",0,2)","v":"Kate Dickie"},{"$f":"_xlfn.XLOOKUP($B323,_xlfn.CHOOSECOLS(_xlfn.ANCHORARRAY(Leute!$F$1),2),_xlfn.CHOOSECOLS(_xlfn.ANCHORARRAY(Leute!$F$1),4),\"x\",0,2)","v":"1971-04-24"},{"$f":"RANK(F323,F$1:F323,0)","v":144},{"$f":"DATEDIF(F323,D323,\"Y\")","v":37},{"$f":"DATEDIF(F323,D323,\"YD\")","v":84},{"$f":"D323-F323","v":13599},{"$f":"\"MRS \"&TEXT(J323,\"00000\")&\" \"&SUBSTITUTE(C323,\":\",\"\")&\" (\"&TEXT(D323,\"TT.MM.JJJJ\")&\") - \"&E323&\" (\"&TEXT(F323,\"TT.MM.JJJJ\")&\") \"&H323&\"-\"&I323","v":"MRS 13599 Red Road (17.07.2008) - Kate Dickie (24.04.1971) 37-84"}]
["tt1396219","nm0225483",{"$f":"_xlfn.XLOOKUP($A324,_xlfn.CHOOSECOLS(_xlfn.ANCHORARRAY(Filme!$G$1),2),_xlfn.CHOOSECOLS(_xlfn.ANCHORARRAY(Filme!$G$1),3),\"\",0,2)","v":"Outcast"},{"$f":"_xlfn.XLOOKUP($A324,_xlfn.CHOOSECOLS(_xlfn.ANCHORARRAY(Filme!$G$1),2),_xlfn.CHOOSECOLS(_xlfn.ANCHORARRAY(Filme!$G$1),4),\"\",0,2)","v":"2010-12-10"},{"$f":"_xlfn.XLOOKUP($B324,_xlfn.CHOOSECOLS(_xlfn.ANCHORARRAY(Leute!$F$1),2),_xlfn.CHOOSECOLS(_xlfn.ANCHORARRAY(Leute!$F$1),3),\"x\",0,2)","v":"Kate Dickie"},{"$f":"_xlfn.XLOOKUP($B324,_xlfn.CHOOSECOLS(_xlfn.ANCHORARRAY(Leute!$F$1),2),_xlfn.CHOOSECOLS(_xlfn.ANCHORARRAY(Leute!$F$1),4),\"x\",0,2)","v":"1971-04-24"},{"$f":"RANK(F324,F$1:F324,0)","v":144},{"$f":"DATEDIF(F324,D324,\"Y\")","v":39},{"$f":"DATEDIF(F324,D324,\"YD\")","v":230},{"$f":"D324-F324","v":14475},{"$f":"\"MRS \"&TEXT(J324,\"00000\")&\" \"&SUBSTITUTE(C324,\":\",\"\")&\" (\"&TEXT(D324,\"TT.MM.JJJJ\")&\") - \"&E324&\" (\"&TEXT(F324,\"TT.MM.JJJJ\")&\") \"&H324&\"-\"&I324","v":"MRS 14475 Outcast (10.12.2010) - Kate Dickie (24.04.1971) 39-230"}]
["tt1450321","nm0225483",{"$f":"_xlfn.XLOOKUP($A325,_xlfn.CHOOSECOLS(_xlfn.ANCHORARRAY(Filme!$G$1),2),_xlfn.CHOOSECOLS(_xlfn.ANCHORARRAY(Filme!$G$1),3),\"\",0,2)","v":"Filth"},{"$f":"_xlfn.XLOOKUP($A325,_xlfn.CHOOSECOLS(_xlfn.ANCHORARRAY(Filme!$G$1),2),_xlfn.CHOOSECOLS(_xlfn.ANCHORARRAY(Filme!$G$1),4),\"\",0,2)","v":"2013-10-17"},{"$f":"_xlfn.XLOOKUP($B325,_xlfn.CHOOSECOLS(_xlfn.ANCHORARRAY(Leute!$F$1),2),_xlfn.CHOOSECOLS(_xlfn.ANCHORARRAY(Leute!$F$1),3),\"x\",0,2)","v":"Kate Dickie"},{"$f":"_xlfn.XLOOKUP($B325,_xlfn.CHOOSECOLS(_xlfn.ANCHORARRAY(Leute!$F$1),2),_xlfn.CHOOSECOLS(_xlfn.ANCHORARRAY(Leute!$F$1),4),\"x\",0,2)","v":"1971-04-24"},{"$f":"RANK(F325,F$1:F325,0)","v":144},{"$f":"DATEDIF(F325,D325,\"Y\")","v":42},{"$f":"DATEDIF(F325,D325,\"YD\")","v":176},{"$f":"D325-F325","v":15517},{"$f":"\"MRS \"&TEXT(J325,\"00000\")&\" \"&SUBSTITUTE(C325,\":\",\"\")&\" (\"&TEXT(D325,\"TT.MM.JJJJ\")&\") - \"&E325&\" (\"&TEXT(F325,\"TT.MM.JJJJ\")&\") \"&H325&\"-\"&I325","v":"MRS 15517 Filth (17.10.2013) - Kate Dickie (24.04.1971) 42-176"}]
["tt17202326","nm0225483",{"$f":"_xlfn.XLOOKUP($A326,_xlfn.CHOOSECOLS(_xlfn.ANCHORARRAY(Filme!$G$1),2),_xlfn.CHOOSECOLS(_xlfn.ANCHORARRAY(Filme!$G$1),3),\"\",0,2)","v":"Matriarch"},{"$f":"_xlfn.XLOOKUP($A326,_xlfn.CHOOSECOLS(_xlfn.ANCHORARRAY(Filme!$G$1),2),_xlfn.CHOOSECOLS(_xlfn.ANCHORARRAY(Filme!$G$1),4),\"\",0,2)","v":"2022-11-25"},{"$f":"_xlfn.XLOOKUP($B326,_xlfn.CHOOSECOLS(_xlfn.ANCHORARRAY(Leute!$F$1),2),_xlfn.CHOOSECOLS(_xlfn.ANCHORARRAY(Leute!$F$1),3),\"x\",0,2)","v":"Kate Dickie"},{"$f":"_xlfn.XLOOKUP($B326,_xlfn.CHOOSECOLS(_xlfn.ANCHORARRAY(Leute!$F$1),2),_xlfn.CHOOSECOLS(_xlfn.ANCHORARRAY(Leute!$F$1),4),\"x\",0,2)","v":"1971-04-24"},{"$f":"RANK(F326,F$1:F326,0)","v":144},{"$f":"DATEDIF(F326,D326,\"Y\")","v":51},{"$f":"DATEDIF(F326,D326,\"YD\")","v":215},{"$f":"D326-F326","v":18843},{"$f":"\"MRS \"&TEXT(J326,\"00000\")&\" \"&SUBSTITUTE(C326,\":\",\"\")&\" (\"&TEXT(D326,\"TT.MM.JJJJ\")&\") - \"&E326&\" (\"&TEXT(F326,\"TT.MM.JJJJ\")&\") \"&H326&\"-\"&I326","v":"MRS 18843 Matriarch (25.11.2022) - Kate Dickie (24.04.1971) 51-215"}]
["tt2818252","nm0225483",{"$f":"_xlfn.XLOOKUP($A327,_xlfn.CHOOSECOLS(_xlfn.ANCHORARRAY(Filme!$G$1),2),_xlfn.CHOOSECOLS(_xlfn.ANCHORARRAY(Filme!$G$1),3),\"\",0,2)","v":"Couple in a Hole"},{"$f":"_xlfn.XLOOKUP($A327,_xlfn.CHOOSECOLS(_xlfn.ANCHORARRAY(Filme!$G$1),2),_xlfn.CHOOSECOLS(_xlfn.ANCHORARRAY(Filme!$G$1),4),\"\",0,2)","v":"2016-04-06"},{"$f":"_xlfn.XLOOKUP($B327,_xlfn.CHOOSECOLS(_xlfn.ANCHORARRAY(Leute!$F$1),2),_xlfn.CHOOSECOLS(_xlfn.ANCHORARRAY(Leute!$F$1),3),\"x\",0,2)","v":"Kate Dickie"},{"$f":"_xlfn.XLOOKUP($B327,_xlfn.CHOOSECOLS(_xlfn.ANCHORARRAY(Leute!$F$1),2),_xlfn.CHOOSECOLS(_xlfn.ANCHORARRAY(Leute!$F$1),4),\"x\",0,2)","v":"1971-04-24"},{"$f":"RANK(F327,F$1:F327,0)","v":144},{"$f":"DATEDIF(F327,D327,\"Y\")","v":44},{"$f":"DATEDIF(F327,D327,\"YD\")","v":348},{"$f":"D327-F327","v":16419},{"$f":"\"MRS \"&TEXT(J327,\"00000\")&\" \"&SUBSTITUTE(C327,\":\",\"\")&\" (\"&TEXT(D327,\"TT.MM.JJJJ\")&\") - \"&E327&\" (\"&TEXT(F327,\"TT.MM.JJJJ\")&\") \"&H327&\"-\"&I327","v":"MRS 16419 Couple in a Hole (06.04.2016) - Kate Dickie (24.04.1971) 44-348"}]
["tt0318411","nm0240359",{"$f":"_xlfn.XLOOKUP($A328,_xlfn.CHOOSECOLS(_xlfn.ANCHORARRAY(Filme!$G$1),2),_xlfn.CHOOSECOLS(_xlfn.ANCHORARRAY(Filme!$G$1),3),\"\",0,2)","v":"The Magdalene Sisters"},{"$f":"_xlfn.XLOOKUP($A328,_xlfn.CHOOSECOLS(_xlfn.ANCHORARRAY(Filme!$G$1),2),_xlfn.CHOOSECOLS(_xlfn.ANCHORARRAY(Filme!$G$1),4),\"\",0,2)","v":"2003-01-09"},{"$f":"_xlfn.XLOOKUP($B328,_xlfn.CHOOSECOLS(_xlfn.ANCHORARRAY(Leute!$F$1),2),_xlfn.CHOOSECOLS(_xlfn.ANCHORARRAY(Leute!$F$1),3),\"x\",0,2)","v":"Anne-Marie Duff"},{"$f":"_xlfn.XLOOKUP($B328,_xlfn.CHOOSECOLS(_xlfn.ANCHORARRAY(Leute!$F$1),2),_xlfn.CHOOSECOLS(_xlfn.ANCHORARRAY(Leute!$F$1),4),\"x\",0,2)","v":"1970-10-08"},{"$f":"RANK(F328,F$1:F328,0)","v":158},{"$f":"DATEDIF(F328,D328,\"Y\")","v":32},{"$f":"DATEDIF(F328,D328,\"YD\")","v":93},{"$f":"D328-F328","v":11781},{"$f":"\"MRS \"&TEXT(J328,\"00000\")&\" \"&SUBSTITUTE(C328,\":\",\"\")&\" (\"&TEXT(D328,\"TT.MM.JJJJ\")&\") - \"&E328&\" (\"&TEXT(F328,\"TT.MM.JJJJ\")&\") \"&H328&\"-\"&I328","v":"MRS 11781 The Magdalene Sisters (09.01.2003) - Anne-Marie Duff (08.10.1970) 32-93"}]
["tt0698929","nm0240359",{"$f":"_xlfn.XLOOKUP($A329,_xlfn.CHOOSECOLS(_xlfn.ANCHORARRAY(Filme!$G$1),2),_xlfn.CHOOSECOLS(_xlfn.ANCHORARRAY(Filme!$G$1),3),\"\",0,2)","v":"Shameless"},{"$f":"_xlfn.XLOOKUP($A329,_xlfn.CHOOSECOLS(_xlfn.ANCHORARRAY(Filme!$G$1),2),_xlfn.CHOOSECOLS(_xlfn.ANCHORARRAY(Filme!$G$1),4),\"\",0,2)","v":"2012-01-23"},{"$f":"_xlfn.XLOOKUP($B329,_xlfn.CHOOSECOLS(_xlfn.ANCHORARRAY(Leute!$F$1),2),_xlfn.CHOOSECOLS(_xlfn.ANCHORARRAY(Leute!$F$1),3),\"x\",0,2)","v":"Anne-Marie Duff"},{"$f":"_xlfn.XLOOKUP($B329,_xlfn.CHOOSECOLS(_xlfn.ANCHORARRAY(Leute!$F$1),2),_xlfn.CHOOSECOLS(_xlfn.ANCHORARRAY(Leute!$F$1),4),\"x\",0,2)","v":"1970-10-08"},{"$f":"RANK(F329,F$1:F329,0)","v":158},{"$f":"DATEDIF(F329,D329,\"Y\")","v":41},{"$f":"DATEDIF(F329,D329,\"YD\")","v":107},{"$f":"D329-F329","v":15082},{"$f":"\"MRS \"&TEXT(J329,\"00000\")&\" \"&SUBSTITUTE(C329,\":\",\"\")&\" (\"&TEXT(D329,\"TT.MM.JJJJ\")&\") - \"&E329&\" (\"&TEXT(F329,\"TT.MM.JJJJ\")&\") \"&H329&\"-\"&I329","v":"MRS 15082 Shameless (23.01.2012) - Anne-Marie Duff (08.10.1970) 41-107"}]
["tt1473799","nm0240359",{"$f":"_xlfn.XLOOKUP($A330,_xlfn.CHOOSECOLS(_xlfn.ANCHORARRAY(Filme!$G$1),2),_xlfn.CHOOSECOLS(_xlfn.ANCHORARRAY(Filme!$G$1),3),\"\",0,2)","v":"Margot"},{"$f":"_xlfn.XLOOKUP($A330,_xlfn.CHOOSECOLS(_xlfn.ANCHORARRAY(Filme!$G$1),2),_xlfn.CHOOSECOLS(_xlfn.ANCHORARRAY(Filme!$G$1),4),\"\",0,2)","v":"2009-11-30"},{"$f":"_xlfn.XLOOKUP($B330,_xlfn.CHOOSECOLS(_xlfn.ANCHORARRAY(Leute!$F$1),2),_xlfn.CHOOSECOLS(_xlfn.ANCHORARRAY(Leute!$F$1),3),\"x\",0,2)","v":"Anne-Marie Duff"},{"$f":"_xlfn.XLOOKUP($B330,_xlfn.CHOOSECOLS(_xlfn.ANCHORARRAY(Leute!$F$1),2),_xlfn.CHOOSECOLS(_xlfn.ANCHORARRAY(Leute!$F$1),4),\"x\",0,2)","v":"1970-10-08"},{"$f":"RANK(F330,F$1:F330,0)","v":158},{"$f":"DATEDIF(F330,D330,\"Y\")","v":39},{"$f":"DATEDIF(F330,D330,\"YD\")","v":53},{"$f":"D330-F330","v":14298},{"$f":"\"MRS \"&TEXT(J330,\"00000\")&\" \"&SUBSTITUTE(C330,\":\",\"\")&\" (\"&TEXT(D330,\"TT.MM.JJJJ\")&\") - \"&E330&\" (\"&TEXT(F330,\"TT.MM.JJJJ\")&\") \"&H330&\"-\"&I330","v":"MRS 14298 Margot (30.11.2009) - Anne-Marie Duff (08.10.1970) 39-53"}]
["tt1667321","nm0240359",{"$f":"_xlfn.XLOOKUP($A331,_xlfn.CHOOSECOLS(_xlfn.ANCHORARRAY(Filme!$G$1),2),_xlfn.CHOOSECOLS(_xlfn.ANCHORARRAY(Filme!$G$1),3),\"\",0,2)","v":"On Chesil Beach"},{"$f":"_xlfn.XLOOKUP($A331,_xlfn.CHOOSECOLS(_xlfn.ANCHORARRAY(Filme!$G$1),2),_xlfn.CHOOSECOLS(_xlfn.ANCHORARRAY(Filme!$G$1),4),\"\",0,2)","v":"2018-06-21"},{"$f":"_xlfn.XLOOKUP($B331,_xlfn.CHOOSECOLS(_xlfn.ANCHORARRAY(Leute!$F$1),2),_xlfn.CHOOSECOLS(_xlfn.ANCHORARRAY(Leute!$F$1),3),\"x\",0,2)","v":"Anne-Marie Duff"},{"$f":"_xlfn.XLOOKUP($B331,_xlfn.CHOOSECOLS(_xlfn.ANCHORARRAY(Leute!$F$1),2),_xlfn.CHOOSECOLS(_xlfn.ANCHORARRAY(Leute!$F$1),4),\"x\",0,2)","v":"1970-10-08"},{"$f":"RANK(F331,F$1:F331,0)","v":158},{"$f":"DATEDIF(F331,D331,\"Y\")","v":47},{"$f":"DATEDIF(F331,D331,\"YD\")","v":256},{"$f":"D331-F331","v":17423},{"$f":"\"MRS \"&TEXT(J331,\"00000\")&\" \"&SUBSTITUTE(C331,\":\",\"\")&\" (\"&TEXT(D331,\"TT.MM.JJJJ\")&\") - \"&E331&\" (\"&TEXT(F331,\"TT.MM.JJJJ\")&\") \"&H331&\"-\"&I331","v":"MRS 17423 On Chesil Beach (21.06.2018) - Anne-Marie Duff (08.10.1970) 47-256"}]
["tt6472152","nm0252238",{"$f":"_xlfn.XLOOKUP($A332,_xlfn.CHOOSECOLS(_xlfn.ANCHORARRAY(Filme!$G$1),2),_xlfn.CHOOSECOLS(_xlfn.ANCHORARRAY(Filme!$G$1),3),\"\",0,2)","v":"The Girlfriend Experience"},{"$f":"_xlfn.XLOOKUP($A332,_xlfn.CHOOSECOLS(_xlfn.ANCHORARRAY(Filme!$G$1),2),_xlfn.CHOOSECOLS(_xlfn.ANCHORARRAY(Filme!$G$1),4),\"\",0,2)","v":"2017-11-12"},{"$f":"_xlfn.XLOOKUP($B332,_xlfn.CHOOSECOLS(_xlfn.ANCHORARRAY(Leute!$F$1),2),_xlfn.CHOOSECOLS(_xlfn.ANCHORARRAY(Leute!$F$1),3),\"x\",0,2)","v":"Carmen Ejogo"},{"$f":"_xlfn.XLOOKUP($B332,_xlfn.CHOOSECOLS(_xlfn.ANCHORARRAY(Leute!$F$1),2),_xlfn.CHOOSECOLS(_xlfn.ANCHORARRAY(Leute!$F$1),4),\"x\",0,2)","v":"1973-10-22"},{"$f":"RANK(F332,F$1:F332,0)","v":121},{"$f":"DATEDIF(F332,D332,\"Y\")","v":44},{"$f":"DATEDIF(F332,D332,\"YD\")","v":21},{"$f":"D332-F332","v":16092},{"$f":"\"MRS \"&TEXT(J332,\"00000\")&\" \"&SUBSTITUTE(C332,\":\",\"\")&\" (\"&TEXT(D332,\"TT.MM.JJJJ\")&\") - \"&E332&\" (\"&TEXT(F332,\"TT.MM.JJJJ\")&\") \"&H332&\"-\"&I332","v":"MRS 16092 The Girlfriend Experience (12.11.2017) - Carmen Ejogo (22.10.1973) 44-21"}]
["tt2398016","nm0272581",{"$f":"_xlfn.XLOOKUP($A333,_xlfn.CHOOSECOLS(_xlfn.ANCHORARRAY(Filme!$G$1),2),_xlfn.CHOOSECOLS(_xlfn.ANCHORARRAY(Filme!$G$1),3),\"\",0,2)","v":"The White Queen"},{"$f":"_xlfn.XLOOKUP($A333,_xlfn.CHOOSECOLS(_xlfn.ANCHORARRAY(Filme!$G$1),2),_xlfn.CHOOSECOLS(_xlfn.ANCHORARRAY(Filme!$G$1),4),\"\",0,2)","v":"2013-09-30"},{"$f":"_xlfn.XLOOKUP($B333,_xlfn.CHOOSECOLS(_xlfn.ANCHORARRAY(Leute!$F$1),2),_xlfn.CHOOSECOLS(_xlfn.ANCHORARRAY(Leute!$F$1),3),\"x\",0,2)","v":"Rebecca Ferguson"},{"$f":"_xlfn.XLOOKUP($B333,_xlfn.CHOOSECOLS(_xlfn.ANCHORARRAY(Leute!$F$1),2),_xlfn.CHOOSECOLS(_xlfn.ANCHORARRAY(Leute!$F$1),4),\"x\",0,2)","v":"1983-10-19"},{"$f":"RANK(F333,F$1:F333,0)","v":1},{"$f":"DATEDIF(F333,D333,\"Y\")","v":29},{"$f":"DATEDIF(F333,D333,\"YD\")","v":347},{"$f":"D333-F333","v":10939},{"$f":"\"MRS \"&TEXT(J333,\"00000\")&\" \"&SUBSTITUTE(C333,\":\",\"\")&\" (\"&TEXT(D333,\"TT.MM.JJJJ\")&\") - \"&E333&\" (\"&TEXT(F333,\"TT.MM.JJJJ\")&\") \"&H333&\"-\"&I333","v":"MRS 10939 The White Queen (30.09.2013) - Rebecca Ferguson (19.10.1983) 29-347"}]
["tt7834082","nm0310966",{"$f":"_xlfn.XLOOKUP($A334,_xlfn.CHOOSECOLS(_xlfn.ANCHORARRAY(Filme!$G$1),2),_xlfn.CHOOSECOLS(_xlfn.ANCHORARRAY(Filme!$G$1),3),\"\",0,2)","v":"I'm Dying Up Here"},{"$f":"_xlfn.XLOOKUP($A334,_xlfn.CHOOSECOLS(_xlfn.ANCHORARRAY(Filme!$G$1),2),_xlfn.CHOOSECOLS(_xlfn.ANCHORARRAY(Filme!$G$1),4),\"\",0,2)","v":"2018-05-27"},{"$f":"_xlfn.XLOOKUP($B334,_xlfn.CHOOSECOLS(_xlfn.ANCHORARRAY(Leute!$F$1),2),_xlfn.CHOOSECOLS(_xlfn.ANCHORARRAY(Leute!$F$1),3),\"x\",0,2)","v":"Ari Graynor"},{"$f":"_xlfn.XLOOKUP($B334,_xlfn.CHOOSECOLS(_xlfn.ANCHORARRAY(Leute!$F$1),2),_xlfn.CHOOSECOLS(_xlfn.ANCHORARRAY(Leute!$F$1),4),\"x\",0,2)","v":"1983-04-27"},{"$f":"RANK(F334,F$1:F334,0)","v":2},{"$f":"DATEDIF(F334,D334,\"Y\")","v":35},{"$f":"DATEDIF(F334,D334,\"YD\")","v":30},{"$f":"D334-F334","v":12814},{"$f":"\"MRS \"&TEXT(J334,\"00000\")&\" \"&SUBSTITUTE(C334,\":\",\"\")&\" (\"&TEXT(D334,\"TT.MM.JJJJ\")&\") - \"&E334&\" (\"&TEXT(F334,\"TT.MM.JJJJ\")&\") \"&H334&\"-\"&I334","v":"MRS 12814 I'm Dying Up Here (27.05.2018) - Ari Graynor (27.04.1983) 35-30"}]
["tt0149178","nm0339460",{"$f":"_xlfn.XLOOKUP($A335,_xlfn.CHOOSECOLS(_xlfn.ANCHORARRAY(Filme!$G$1),2),_xlfn.CHOOSECOLS(_xlfn.ANCHORARRAY(Filme!$G$1),3),\"\",0,2)","v":"Stricken"},{"$f":"_xlfn.XLOOKUP($A335,_xlfn.CHOOSECOLS(_xlfn.ANCHORARRAY(Filme!$G$1),2),_xlfn.CHOOSECOLS(_xlfn.ANCHORARRAY(Filme!$G$1),4),\"\",0,2)","v":"1997-09-14"},{"$f":"_xlfn.XLOOKUP($B335,_xlfn.CHOOSECOLS(_xlfn.ANCHORARRAY(Leute!$F$1),2),_xlfn.CHOOSECOLS(_xlfn.ANCHORARRAY(Leute!$F$1),3),\"x\",0,2)","v":"Judy Greer"},{"$f":"_xlfn.XLOOKUP($B335,_xlfn.CHOOSECOLS(_xlfn.ANCHORARRAY(Leute!$F$1),2),_xlfn.CHOOSECOLS(_xlfn.ANCHORARRAY(Leute!$F$1),4),\"x\",0,2)","v":"1975-07-20"},{"$f":"RANK(F335,F$1:F335,0)","v":99},{"$f":"DATEDIF(F335,D335,\"Y\")","v":22},{"$f":"DATEDIF(F335,D335,\"YD\")","v":56},{"$f":"D335-F335","v":8092},{"$f":"\"MRS \"&TEXT(J335,\"00000\")&\" \"&SUBSTITUTE(C335,\":\",\"\")&\" (\"&TEXT(D335,\"TT.MM.JJJJ\")&\") - \"&E335&\" (\"&TEXT(F335,\"TT.MM.JJJJ\")&\") \"&H335&\"-\"&I335","v":"MRS 08092 Stricken (14.09.1997) - Judy Greer (20.07.1975) 22-56"}]
["tt0181151","nm0339460",{"$f":"_xlfn.XLOOKUP($A336,_xlfn.CHOOSECOLS(_xlfn.ANCHORARRAY(Filme!$G$1),2),_xlfn.CHOOSECOLS(_xlfn.ANCHORARRAY(Filme!$G$1),3),\"\",0,2)","v":"What Planet Are You From?"},{"$f":"_xlfn.XLOOKUP($A336,_xlfn.CHOOSECOLS(_xlfn.ANCHORARRAY(Filme!$G$1),2),_xlfn.CHOOSECOLS(_xlfn.ANCHORARRAY(Filme!$G$1),4),\"\",0,2)","v":"2000-06-01"},{"$f":"_xlfn.XLOOKUP($B336,_xlfn.CHOOSECOLS(_xlfn.ANCHORARRAY(Leute!$F$1),2),_xlfn.CHOOSECOLS(_xlfn.ANCHORARRAY(Leute!$F$1),3),\"x\",0,2)","v":"Judy Greer"},{"$f":"_xlfn.XLOOKUP($B336,_xlfn.CHOOSECOLS(_xlfn.ANCHORARRAY(Leute!$F$1),2),_xlfn.CHOOSECOLS(_xlfn.ANCHORARRAY(Leute!$F$1),4),\"x\",0,2)","v":"1975-07-20"},{"$f":"RANK(F336,F$1:F336,0)","v":99},{"$f":"DATEDIF(F336,D336,\"Y\")","v":24},{"$f":"DATEDIF(F336,D336,\"YD\")","v":317},{"$f":"D336-F336","v":9083},{"$f":"\"MRS \"&TEXT(J336,\"00000\")&\" \"&SUBSTITUTE(C336,\":\",\"\")&\" (\"&TEXT(D336,\"TT.MM.JJJJ\")&\") - \"&E336&\" (\"&TEXT(F336,\"TT.MM.JJJJ\")&\") \"&H336&\"-\"&I336","v":"MRS 09083 What Planet Are You From? (01.06.2000) - Judy Greer (20.07.1975) 24-317"}]
["tt0268126","nm0339460",{"$f":"_xlfn.XLOOKUP($A337,_xlfn.CHOOSECOLS(_xlfn.ANCHORARRAY(Filme!$G$1),2),_xlfn.CHOOSECOLS(_xlfn.ANCHORARRAY(Filme!$G$1),3),\"\",0,2)","v":"Adaptation."},{"$f":"_xlfn.XLOOKUP($A337,_xlfn.CHOOSECOLS(_xlfn.ANCHORARRAY(Filme!$G$1),2),_xlfn.CHOOSECOLS(_xlfn.ANCHORARRAY(Filme!$G$1),4),\"\",0,2)","v":"2003-03-13"},{"$f":"_xlfn.XLOOKUP($B337,_xlfn.CHOOSECOLS(_xlfn.ANCHORARRAY(Leute!$F$1),2),_xlfn.CHOOSECOLS(_xlfn.ANCHORARRAY(Leute!$F$1),3),\"x\",0,2)","v":"Judy Greer"},{"$f":"_xlfn.XLOOKUP($B337,_xlfn.CHOOSECOLS(_xlfn.ANCHORARRAY(Leute!$F$1),2),_xlfn.CHOOSECOLS(_xlfn.ANCHORARRAY(Leute!$F$1),4),\"x\",0,2)","v":"1975-07-20"},{"$f":"RANK(F337,F$1:F337,0)","v":99},{"$f":"DATEDIF(F337,D337,\"Y\")","v":27},{"$f":"DATEDIF(F337,D337,\"YD\")","v":236},{"$f":"D337-F337","v":10098},{"$f":"\"MRS \"&TEXT(J337,\"00000\")&\" \"&SUBSTITUTE(C337,\":\",\"\")&\" (\"&TEXT(D337,\"TT.MM.JJJJ\")&\") - \"&E337&\" (\"&TEXT(F337,\"TT.MM.JJJJ\")&\") \"&H337&\"-\"&I337","v":"MRS 10098 Adaptation. (13.03.2003) - Judy Greer (20.07.1975) 27-236"}]
["tt0402230","nm0339460",{"$f":"_xlfn.XLOOKUP($A338,_xlfn.CHOOSECOLS(_xlfn.ANCHORARRAY(Filme!$G$1),2),_xlfn.CHOOSECOLS(_xlfn.ANCHORARRAY(Filme!$G$1),3),\"\",0,2)","v":"The Great New Wonderful"},{"$f":"_xlfn.XLOOKUP($A338,_xlfn.CHOOSECOLS(_xlfn.ANCHORARRAY(Filme!$G$1),2),_xlfn.CHOOSECOLS(_xlfn.ANCHORARRAY(Filme!$G$1),4),\"\",0,2)","v":"2005-04-22"},{"$f":"_xlfn.XLOOKUP($B338,_xlfn.CHOOSECOLS(_xlfn.ANCHORARRAY(Leute!$F$1),2),_xlfn.CHOOSECOLS(_xlfn.ANCHORARRAY(Leute!$F$1),3),\"x\",0,2)","v":"Judy Greer"},{"$f":"_xlfn.XLOOKUP($B338,_xlfn.CHOOSECOLS(_xlfn.ANCHORARRAY(Leute!$F$1),2),_xlfn.CHOOSECOLS(_xlfn.ANCHORARRAY(Leute!$F$1),4),\"x\",0,2)","v":"1975-07-20"},{"$f":"RANK(F338,F$1:F338,0)","v":99},{"$f":"DATEDIF(F338,D338,\"Y\")","v":29},{"$f":"DATEDIF(F338,D338,\"YD\")","v":277},{"$f":"D338-F338","v":10869},{"$f":"\"MRS \"&TEXT(J338,\"00000\")&\" \"&SUBSTITUTE(C338,\":\",\"\")&\" (\"&TEXT(D338,\"TT.MM.JJJJ\")&\") - \"&E338&\" (\"&TEXT(F338,\"TT.MM.JJJJ\")&\") \"&H338&\"-\"&I338","v":"MRS 10869 The Great New Wonderful (22.04.2005) - Judy Greer (20.07.1975) 29-277"}]
["tt15219362","nm0339460",{"$f":"_xlfn.XLOOKUP($A339,_xlfn.CHOOSECOLS(_xlfn.ANCHORARRAY(Filme!$G$1),2),_xlfn.CHOOSECOLS(_xlfn.ANCHORARRAY(Filme!$G$1),3),\"\",0,2)","v":"Reboot"},{"$f":"_xlfn.XLOOKUP($A339,_xlfn.CHOOSECOLS(_xlfn.ANCHORARRAY(Filme!$G$1),2),_xlfn.CHOOSECOLS(_xlfn.ANCHORARRAY(Filme!$G$1),4),\"\",0,2)","v":"2022-11-02"},{"$f":"_xlfn.XLOOKUP($B339,_xlfn.CHOOSECOLS(_xlfn.ANCHORARRAY(Leute!$F$1),2),_xlfn.CHOOSECOLS(_xlfn.ANCHORARRAY(Leute!$F$1),3),\"x\",0,2)","v":"Judy Greer"},{"$f":"_xlfn.XLOOKUP($B339,_xlfn.CHOOSECOLS(_xlfn.ANCHORARRAY(Leute!$F$1),2),_xlfn.CHOOSECOLS(_xlfn.ANCHORARRAY(Leute!$F$1),4),\"x\",0,2)","v":"1975-07-20"},{"$f":"RANK(F339,F$1:F339,0)","v":99},{"$f":"DATEDIF(F339,D339,\"Y\")","v":47},{"$f":"DATEDIF(F339,D339,\"YD\")","v":105},{"$f":"D339-F339","v":17272},{"$f":"\"MRS \"&TEXT(J339,\"00000\")&\" \"&SUBSTITUTE(C339,\":\",\"\")&\" (\"&TEXT(D339,\"TT.MM.JJJJ\")&\") - \"&E339&\" (\"&TEXT(F339,\"TT.MM.JJJJ\")&\") \"&H339&\"-\"&I339","v":"MRS 17272 Reboot (02.11.2022) - Judy Greer (20.07.1975) 47-105"}]
["tt7852170","nm0339460",{"$f":"_xlfn.XLOOKUP($A340,_xlfn.CHOOSECOLS(_xlfn.ANCHORARRAY(Filme!$G$1),2),_xlfn.CHOOSECOLS(_xlfn.ANCHORARRAY(Filme!$G$1),3),\"\",0,2)","v":"Kidding"},{"$f":"_xlfn.XLOOKUP($A340,_xlfn.CHOOSECOLS(_xlfn.ANCHORARRAY(Filme!$G$1),2),_xlfn.CHOOSECOLS(_xlfn.ANCHORARRAY(Filme!$G$1),4),\"\",0,2)","v":"2018-12-03"},{"$f":"_xlfn.XLOOKUP($B340,_xlfn.CHOOSECOLS(_xlfn.ANCHORARRAY(Leute!$F$1),2),_xlfn.CHOOSECOLS(_xlfn.ANCHORARRAY(Leute!$F$1),3),\"x\",0,2)","v":"Judy Greer"},{"$f":"_xlfn.XLOOKUP($B340,_xlfn.CHOOSECOLS(_xlfn.ANCHORARRAY(Leute!$F$1),2),_xlfn.CHOOSECOLS(_xlfn.ANCHORARRAY(Leute!$F$1),4),\"x\",0,2)","v":"1975-07-20"},{"$f":"RANK(F340,F$1:F340,0)","v":99},{"$f":"DATEDIF(F340,D340,\"Y\")","v":43},{"$f":"DATEDIF(F340,D340,\"YD\")","v":136},{"$f":"D340-F340","v":15842},{"$f":"\"MRS \"&TEXT(J340,\"00000\")&\" \"&SUBSTITUTE(C340,\":\",\"\")&\" (\"&TEXT(D340,\"TT.MM.JJJJ\")&\") - \"&E340&\" (\"&TEXT(F340,\"TT.MM.JJJJ\")&\") \"&H340&\"-\"&I340","v":"MRS 15842 Kidding (03.12.2018) - Judy Greer (20.07.1975) 43-136"}]
["tt0342735","nm0397171",{"$f":"_xlfn.XLOOKUP($A341,_xlfn.CHOOSECOLS(_xlfn.ANCHORARRAY(Filme!$G$1),2),_xlfn.CHOOSECOLS(_xlfn.ANCHORARRAY(Filme!$G$1),3),\"\",0,2)","v":"Manderlay"},{"$f":"_xlfn.XLOOKUP($A341,_xlfn.CHOOSECOLS(_xlfn.ANCHORARRAY(Filme!$G$1),2),_xlfn.CHOOSECOLS(_xlfn.ANCHORARRAY(Filme!$G$1),4),\"\",0,2)","v":"2005-11-10"},{"$f":"_xlfn.XLOOKUP($B341,_xlfn.CHOOSECOLS(_xlfn.ANCHORARRAY(Leute!$F$1),2),_xlfn.CHOOSECOLS(_xlfn.ANCHORARRAY(Leute!$F$1),3),\"x\",0,2)","v":"Bryce Dallas Howard"},{"$f":"_xlfn.XLOOKUP($B341,_xlfn.CHOOSECOLS(_xlfn.ANCHORARRAY(Leute!$F$1),2),_xlfn.CHOOSECOLS(_xlfn.ANCHORARRAY(Leute!$F$1),4),\"x\",0,2)","v":"1981-03-02"},{"$f":"RANK(F341,F$1:F341,0)","v":21},{"$f":"DATEDIF(F341,D341,\"Y\")","v":24},{"$f":"DATEDIF(F341,D341,\"YD\")","v":253},{"$f":"D341-F341","v":9019},{"$f":"\"MRS \"&TEXT(J341,\"00000\")&\" \"&SUBSTITUTE(C341,\":\",\"\")&\" (\"&TEXT(D341,\"TT.MM.JJJJ\")&\") - \"&E341&\" (\"&TEXT(F341,\"TT.MM.JJJJ\")&\") \"&H341&\"-\"&I341","v":"MRS 09019 Manderlay (10.11.2005) - Bryce Dallas Howard (02.03.1981) 24-253"}]
["tt0452637","nm0397171",{"$f":"_xlfn.XLOOKUP($A342,_xlfn.CHOOSECOLS(_xlfn.ANCHORARRAY(Filme!$G$1),2),_xlfn.CHOOSECOLS(_xlfn.ANCHORARRAY(Filme!$G$1),3),\"\",0,2)","v":"Lady in the Water"},{"$f":"_xlfn.XLOOKUP($A342,_xlfn.CHOOSECOLS(_xlfn.ANCHORARRAY(Filme!$G$1),2),_xlfn.CHOOSECOLS(_xlfn.ANCHORARRAY(Filme!$G$1),4),\"\",0,2)","v":"2006-08-31"},{"$f":"_xlfn.XLOOKUP($B342,_xlfn.CHOOSECOLS(_xlfn.ANCHORARRAY(Leute!$F$1),2),_xlfn.CHOOSECOLS(_xlfn.ANCHORARRAY(Leute!$F$1),3),\"x\",0,2)","v":"Bryce Dallas Howard"},{"$f":"_xlfn.XLOOKUP($B342,_xlfn.CHOOSECOLS(_xlfn.ANCHORARRAY(Leute!$F$1),2),_xlfn.CHOOSECOLS(_xlfn.ANCHORARRAY(Leute!$F$1),4),\"x\",0,2)","v":"1981-03-02"},{"$f":"RANK(F342,F$1:F342,0)","v":21},{"$f":"DATEDIF(F342,D342,\"Y\")","v":25},{"$f":"DATEDIF(F342,D342,\"YD\")","v":182},{"$f":"D342-F342","v":9313},{"$f":"\"MRS \"&TEXT(J342,\"00000\")&\" \"&SUBSTITUTE(C342,\":\",\"\")&\" (\"&TEXT(D342,\"TT.MM.JJJJ\")&\") - \"&E342&\" (\"&TEXT(F342,\"TT.MM.JJJJ\")&\") \"&H342&\"-\"&I342","v":"MRS 09313 Lady in the Water (31.08.2006) - Bryce Dallas Howard (02.03.1981) 25-182"}]
["tt0379306","nm0424060",{"$f":"_xlfn.XLOOKUP($A343,_xlfn.CHOOSECOLS(_xlfn.ANCHORARRAY(Filme!$G$1),2),_xlfn.CHOOSECOLS(_xlfn.ANCHORARRAY(Filme!$G$1),3),\"\",0,2)","v":"A Good Woman"},{"$f":"_xlfn.XLOOKUP($A343,_xlfn.CHOOSECOLS(_xlfn.ANCHORARRAY(Filme!$G$1),2),_xlfn.CHOOSECOLS(_xlfn.ANCHORARRAY(Filme!$G$1),4),\"\",0,2)","v":"2005-12-15"},{"$f":"_xlfn.XLOOKUP($B343,_xlfn.CHOOSECOLS(_xlfn.ANCHORARRAY(Leute!$F$1),2),_xlfn.CHOOSECOLS(_xlfn.ANCHORARRAY(Leute!$F$1),3),\"x\",0,2)","v":"Scarlett Johansson"},{"$f":"_xlfn.XLOOKUP($B343,_xlfn.CHOOSECOLS(_xlfn.ANCHORARRAY(Leute!$F$1),2),_xlfn.CHOOSECOLS(_xlfn.ANCHORARRAY(Leute!$F$1),4),\"x\",0,2)","v":"1984-11-22"},{"$f":"RANK(F343,F$1:F343,0)","v":1},{"$f":"DATEDIF(F343,D343,\"Y\")","v":21},{"$f":"DATEDIF(F343,D343,\"YD\")","v":23},{"$f":"D343-F343","v":7693},{"$f":"\"MRS \"&TEXT(J343,\"00000\")&\" \"&SUBSTITUTE(C343,\":\",\"\")&\" (\"&TEXT(D343,\"TT.MM.JJJJ\")&\") - \"&E343&\" (\"&TEXT(F343,\"TT.MM.JJJJ\")&\") \"&H343&\"-\"&I343","v":"MRS 07693 A Good Woman (15.12.2005) - Scarlett Johansson (22.11.1984) 21-23"}]
["tt1441395","nm0424060",{"$f":"_xlfn.XLOOKUP($A344,_xlfn.CHOOSECOLS(_xlfn.ANCHORARRAY(Filme!$G$1),2),_xlfn.CHOOSECOLS(_xlfn.ANCHORARRAY(Filme!$G$1),3),\"\",0,2)","v":"Under the Skin"},{"$f":"_xlfn.XLOOKUP($A344,_xlfn.CHOOSECOLS(_xlfn.ANCHORARRAY(Filme!$G$1),2),_xlfn.CHOOSECOLS(_xlfn.ANCHORARRAY(Filme!$G$1),4),\"\",0,2)","v":"2014-03-14"},{"$f":"_xlfn.XLOOKUP($B344,_xlfn.CHOOSECOLS(_xlfn.ANCHORARRAY(Leute!$F$1),2),_xlfn.CHOOSECOLS(_xlfn.ANCHORARRAY(Leute!$F$1),3),\"x\",0,2)","v":"Scarlett Johansson"},{"$f":"_xlfn.XLOOKUP($B344,_xlfn.CHOOSECOLS(_xlfn.ANCHORARRAY(Leute!$F$1),2),_xlfn.CHOOSECOLS(_xlfn.ANCHORARRAY(Leute!$F$1),4),\"x\",0,2)","v":"1984-11-22"},{"$f":"RANK(F344,F$1:F344,0)","v":1},{"$f":"DATEDIF(F344,D344,\"Y\")","v":29},{"$f":"DATEDIF(F344,D344,\"YD\")","v":112},{"$f":"D344-F344","v":10704},{"$f":"\"MRS \"&TEXT(J344,\"00000\")&\" \"&SUBSTITUTE(C344,\":\",\"\")&\" (\"&TEXT(D344,\"TT.MM.JJJJ\")&\") - \"&E344&\" (\"&TEXT(F344,\"TT.MM.JJJJ\")&\") \"&H344&\"-\"&I344","v":"MRS 10704 Under the Skin (14.03.2014) - Scarlett Johansson (22.11.1984) 29-112"}]
["tt3145422","nm0444223",{"$f":"_xlfn.XLOOKUP($A345,_xlfn.CHOOSECOLS(_xlfn.ANCHORARRAY(Filme!$G$1),2),_xlfn.CHOOSECOLS(_xlfn.ANCHORARRAY(Filme!$G$1),3),\"\",0,2)","v":"The After"},{"$f":"_xlfn.XLOOKUP($A345,_xlfn.CHOOSECOLS(_xlfn.ANCHORARRAY(Filme!$G$1),2),_xlfn.CHOOSECOLS(_xlfn.ANCHORARRAY(Filme!$G$1),4),\"\",0,2)","v":"2014-02-06"},{"$f":"_xlfn.XLOOKUP($B345,_xlfn.CHOOSECOLS(_xlfn.ANCHORARRAY(Leute!$F$1),2),_xlfn.CHOOSECOLS(_xlfn.ANCHORARRAY(Leute!$F$1),3),\"x\",0,2)","v":"Arielle Kebbel"},{"$f":"_xlfn.XLOOKUP($B345,_xlfn.CHOOSECOLS(_xlfn.ANCHORARRAY(Leute!$F$1),2),_xlfn.CHOOSECOLS(_xlfn.ANCHORARRAY(Leute!$F$1),4),\"x\",0,2)","v":"1985-02-19"},{"$f":"RANK(F345,F$1:F345,0)","v":1},{"$f":"DATEDIF(F345,D345,\"Y\")","v":28},{"$f":"DATEDIF(F345,D345,\"YD\")","v":352},{"$f":"D345-F345","v":10579},{"$f":"\"MRS \"&TEXT(J345,\"00000\")&\" \"&SUBSTITUTE(C345,\":\",\"\")&\" (\"&TEXT(D345,\"TT.MM.JJJJ\")&\") - \"&E345&\" (\"&TEXT(F345,\"TT.MM.JJJJ\")&\") \"&H345&\"-\"&I345","v":"MRS 10579 The After (06.02.2014) - Arielle Kebbel (19.02.1985) 28-352"}]
["tt0366627","nm0461136",{"$f":"_xlfn.XLOOKUP($A346,_xlfn.CHOOSECOLS(_xlfn.ANCHORARRAY(Filme!$G$1),2),_xlfn.CHOOSECOLS(_xlfn.ANCHORARRAY(Filme!$G$1),3),\"\",0,2)","v":"The Jacket"},{"$f":"_xlfn.XLOOKUP($A346,_xlfn.CHOOSECOLS(_xlfn.ANCHORARRAY(Filme!$G$1),2),_xlfn.CHOOSECOLS(_xlfn.ANCHORARRAY(Filme!$G$1),4),\"\",0,2)","v":"2005-03-04"},{"$f":"_xlfn.XLOOKUP($B346,_xlfn.CHOOSECOLS(_xlfn.ANCHORARRAY(Leute!$F$1),2),_xlfn.CHOOSECOLS(_xlfn.ANCHORARRAY(Leute!$F$1),3),\"x\",0,2)","v":"Keira Knightley"},{"$f":"_xlfn.XLOOKUP($B346,_xlfn.CHOOSECOLS(_xlfn.ANCHORARRAY(Leute!$F$1),2),_xlfn.CHOOSECOLS(_xlfn.ANCHORARRAY(Leute!$F$1),4),\"x\",0,2)","v":"1985-03-26"},{"$f":"RANK(F346,F$1:F346,0)","v":1},{"$f":"DATEDIF(F346,D346,\"Y\")","v":19},{"$f":"DATEDIF(F346,D346,\"YD\")","v":343},{"$f":"D346-F346","v":7283},{"$f":"\"MRS \"&TEXT(J346,\"00000\")&\" \"&SUBSTITUTE(C346,\":\",\"\")&\" (\"&TEXT(D346,\"TT.MM.JJJJ\")&\") - \"&E346&\" (\"&TEXT(F346,\"TT.MM.JJJJ\")&\") \"&H346&\"-\"&I346","v":"MRS 07283 The Jacket (04.03.2005) - Keira Knightley (26.03.1985) 19-343"}]
["tt0421054","nm0461136",{"$f":"_xlfn.XLOOKUP($A347,_xlfn.CHOOSECOLS(_xlfn.ANCHORARRAY(Filme!$G$1),2),_xlfn.CHOOSECOLS(_xlfn.ANCHORARRAY(Filme!$G$1),3),\"\",0,2)","v":"Domino"},{"$f":"_xlfn.XLOOKUP($A347,_xlfn.CHOOSECOLS(_xlfn.ANCHORARRAY(Filme!$G$1),2),_xlfn.CHOOSECOLS(_xlfn.ANCHORARRAY(Filme!$G$1),4),\"\",0,2)","v":"2005-12-29"},{"$f":"_xlfn.XLOOKUP($B347,_xlfn.CHOOSECOLS(_xlfn.ANCHORARRAY(Leute!$F$1),2),_xlfn.CHOOSECOLS(_xlfn.ANCHORARRAY(Leute!$F$1),3),\"x\",0,2)","v":"Keira Knightley"},{"$f":"_xlfn.XLOOKUP($B347,_xlfn.CHOOSECOLS(_xlfn.ANCHORARRAY(Leute!$F$1),2),_xlfn.CHOOSECOLS(_xlfn.ANCHORARRAY(Leute!$F$1),4),\"x\",0,2)","v":"1985-03-26"},{"$f":"RANK(F347,F$1:F347,0)","v":1},{"$f":"DATEDIF(F347,D347,\"Y\")","v":20},{"$f":"DATEDIF(F347,D347,\"YD\")","v":278},{"$f":"D347-F347","v":7583},{"$f":"\"MRS \"&TEXT(J347,\"00000\")&\" \"&SUBSTITUTE(C347,\":\",\"\")&\" (\"&TEXT(D347,\"TT.MM.JJJJ\")&\") - \"&E347&\" (\"&TEXT(F347,\"TT.MM.JJJJ\")&\") \"&H347&\"-\"&I347","v":"MRS 07583 Domino (29.12.2005) - Keira Knightley (26.03.1985) 20-278"}]
["tt0494834","nm0461136",{"$f":"_xlfn.XLOOKUP($A348,_xlfn.CHOOSECOLS(_xlfn.ANCHORARRAY(Filme!$G$1),2),_xlfn.CHOOSECOLS(_xlfn.ANCHORARRAY(Filme!$G$1),3),\"\",0,2)","v":"Silk"},{"$f":"_xlfn.XLOOKUP($A348,_xlfn.CHOOSECOLS(_xlfn.ANCHORARRAY(Filme!$G$1),2),_xlfn.CHOOSECOLS(_xlfn.ANCHORARRAY(Filme!$G$1),4),\"\",0,2)","v":"2008-01-31"},{"$f":"_xlfn.XLOOKUP($B348,_xlfn.CHOOSECOLS(_xlfn.ANCHORARRAY(Leute!$F$1),2),_xlfn.CHOOSECOLS(_xlfn.ANCHORARRAY(Leute!$F$1),3),\"x\",0,2)","v":"Keira Knightley"},{"$f":"_xlfn.XLOOKUP($B348,_xlfn.CHOOSECOLS(_xlfn.ANCHORARRAY(Leute!$F$1),2),_xlfn.CHOOSECOLS(_xlfn.ANCHORARRAY(Leute!$F$1),4),\"x\",0,2)","v":"1985-03-26"},{"$f":"RANK(F348,F$1:F348,0)","v":1},{"$f":"DATEDIF(F348,D348,\"Y\")","v":22},{"$f":"DATEDIF(F348,D348,\"YD\")","v":311},{"$f":"D348-F348","v":8346},{"$f":"\"MRS \"&TEXT(J348,\"00000\")&\" \"&SUBSTITUTE(C348,\":\",\"\")&\" (\"&TEXT(D348,\"TT.MM.JJJJ\")&\") - \"&E348&\" (\"&TEXT(F348,\"TT.MM.JJJJ\")&\") \"&H348&\"-\"&I348","v":"MRS 08346 Silk (31.01.2008) - Keira Knightley (26.03.1985) 22-311"}]
["tt0819714","nm0461136",{"$f":"_xlfn.XLOOKUP($A349,_xlfn.CHOOSECOLS(_xlfn.ANCHORARRAY(Filme!$G$1),2),_xlfn.CHOOSECOLS(_xlfn.ANCHORARRAY(Filme!$G$1),3),\"\",0,2)","v":"The Edge of Love"},{"$f":"_xlfn.XLOOKUP($A349,_xlfn.CHOOSECOLS(_xlfn.ANCHORARRAY(Filme!$G$1),2),_xlfn.CHOOSECOLS(_xlfn.ANCHORARRAY(Filme!$G$1),4),\"\",0,2)","v":"2009-07-23"},{"$f":"_xlfn.XLOOKUP($B349,_xlfn.CHOOSECOLS(_xlfn.ANCHORARRAY(Leute!$F$1),2),_xlfn.CHOOSECOLS(_xlfn.ANCHORARRAY(Leute!$F$1),3),\"x\",0,2)","v":"Keira Knightley"},{"$f":"_xlfn.XLOOKUP($B349,_xlfn.CHOOSECOLS(_xlfn.ANCHORARRAY(Leute!$F$1),2),_xlfn.CHOOSECOLS(_xlfn.ANCHORARRAY(Leute!$F$1),4),\"x\",0,2)","v":"1985-03-26"},{"$f":"RANK(F349,F$1:F349,0)","v":1},{"$f":"DATEDIF(F349,D349,\"Y\")","v":24},{"$f":"DATEDIF(F349,D349,\"YD\")","v":119},{"$f":"D349-F349","v":8885},{"$f":"\"MRS \"&TEXT(J349,\"00000\")&\" \"&SUBSTITUTE(C349,\":\",\"\")&\" (\"&TEXT(D349,\"TT.MM.JJJJ\")&\") - \"&E349&\" (\"&TEXT(F349,\"TT.MM.JJJJ\")&\") \"&H349&\"-\"&I349","v":"MRS 08885 The Edge of Love (23.07.2009) - Keira Knightley (26.03.1985) 24-119"}]
["tt0864761","nm0461136",{"$f":"_xlfn.XLOOKUP($A350,_xlfn.CHOOSECOLS(_xlfn.ANCHORARRAY(Filme!$G$1),2),_xlfn.CHOOSECOLS(_xlfn.ANCHORARRAY(Filme!$G$1),3),\"\",0,2)","v":"The Duchess"},{"$f":"_xlfn.XLOOKUP($A350,_xlfn.CHOOSECOLS(_xlfn.ANCHORARRAY(Filme!$G$1),2),_xlfn.CHOOSECOLS(_xlfn.ANCHORARRAY(Filme!$G$1),4),\"\",0,2)","v":"2009-03-26"},{"$f":"_xlfn.XLOOKUP($B350,_xlfn.CHOOSECOLS(_xlfn.ANCHORARRAY(Leute!$F$1),2),_xlfn.CHOOSECOLS(_xlfn.ANCHORARRAY(Leute!$F$1),3),\"x\",0,2)","v":"Keira Knightley"},{"$f":"_xlfn.XLOOKUP($B350,_xlfn.CHOOSECOLS(_xlfn.ANCHORARRAY(Leute!$F$1),2),_xlfn.CHOOSECOLS(_xlfn.ANCHORARRAY(Leute!$F$1),4),\"x\",0,2)","v":"1985-03-26"},{"$f":"RANK(F350,F$1:F350,0)","v":1},{"$f":"DATEDIF(F350,D350,\"Y\")","v":24},{"$f":"DATEDIF(F350,D350,\"YD\")","v":0},{"$f":"D350-F350","v":8766},{"$f":"\"MRS \"&TEXT(J350,\"00000\")&\" \"&SUBSTITUTE(C350,\":\",\"\")&\" (\"&TEXT(D350,\"TT.MM.JJJJ\")&\") - \"&E350&\" (\"&TEXT(F350,\"TT.MM.JJJJ\")&\") \"&H350&\"-\"&I350","v":"MRS 08766 The Duchess (26.03.2009) - Keira Knightley (26.03.1985) 24-0"}]
["tt1571222","nm0461136",{"$f":"_xlfn.XLOOKUP($A351,_xlfn.CHOOSECOLS(_xlfn.ANCHORARRAY(Filme!$G$1),2),_xlfn.CHOOSECOLS(_xlfn.ANCHORARRAY(Filme!$G$1),3),\"\",0,2)","v":"A Dangerous Method"},{"$f":"_xlfn.XLOOKUP($A351,_xlfn.CHOOSECOLS(_xlfn.ANCHORARRAY(Filme!$G$1),2),_xlfn.CHOOSECOLS(_xlfn.ANCHORARRAY(Filme!$G$1),4),\"\",0,2)","v":"2011-11-10"},{"$f":"_xlfn.XLOOKUP($B351,_xlfn.CHOOSECOLS(_xlfn.ANCHORARRAY(Leute!$F$1),2),_xlfn.CHOOSECOLS(_xlfn.ANCHORARRAY(Leute!$F$1),3),\"x\",0,2)","v":"Keira Knightley"},{"$f":"_xlfn.XLOOKUP($B351,_xlfn.CHOOSECOLS(_xlfn.ANCHORARRAY(Leute!$F$1),2),_xlfn.CHOOSECOLS(_xlfn.ANCHORARRAY(Leute!$F$1),4),\"x\",0,2)","v":"1985-03-26"},{"$f":"RANK(F351,F$1:F351,0)","v":1},{"$f":"DATEDIF(F351,D351,\"Y\")","v":26},{"$f":"DATEDIF(F351,D351,\"YD\")","v":229},{"$f":"D351-F351","v":9725},{"$f":"\"MRS \"&TEXT(J351,\"00000\")&\" \"&SUBSTITUTE(C351,\":\",\"\")&\" (\"&TEXT(D351,\"TT.MM.JJJJ\")&\") - \"&E351&\" (\"&TEXT(F351,\"TT.MM.JJJJ\")&\") \"&H351&\"-\"&I351","v":"MRS 09725 A Dangerous Method (10.11.2011) - Keira Knightley (26.03.1985) 26-229"}]
["tt5437928","nm0461136",{"$f":"_xlfn.XLOOKUP($A352,_xlfn.CHOOSECOLS(_xlfn.ANCHORARRAY(Filme!$G$1),2),_xlfn.CHOOSECOLS(_xlfn.ANCHORARRAY(Filme!$G$1),3),\"\",0,2)","v":"Colette"},{"$f":"_xlfn.XLOOKUP($A352,_xlfn.CHOOSECOLS(_xlfn.ANCHORARRAY(Filme!$G$1),2),_xlfn.CHOOSECOLS(_xlfn.ANCHORARRAY(Filme!$G$1),4),\"\",0,2)","v":"2019-01-03"},{"$f":"_xlfn.XLOOKUP($B352,_xlfn.CHOOSECOLS(_xlfn.ANCHORARRAY(Leute!$F$1),2),_xlfn.CHOOSECOLS(_xlfn.ANCHORARRAY(Leute!$F$1),3),\"x\",0,2)","v":"Keira Knightley"},{"$f":"_xlfn.XLOOKUP($B352,_xlfn.CHOOSECOLS(_xlfn.ANCHORARRAY(Leute!$F$1),2),_xlfn.CHOOSECOLS(_xlfn.ANCHORARRAY(Leute!$F$1),4),\"x\",0,2)","v":"1985-03-26"},{"$f":"RANK(F352,F$1:F352,0)","v":1},{"$f":"DATEDIF(F352,D352,\"Y\")","v":33},{"$f":"DATEDIF(F352,D352,\"YD\")","v":283},{"$f":"D352-F352","v":12336},{"$f":"\"MRS \"&TEXT(J352,\"00000\")&\" \"&SUBSTITUTE(C352,\":\",\"\")&\" (\"&TEXT(D352,\"TT.MM.JJJJ\")&\") - \"&E352&\" (\"&TEXT(F352,\"TT.MM.JJJJ\")&\") \"&H352&\"-\"&I352","v":"MRS 12336 Colette (03.01.2019) - Keira Knightley (26.03.1985) 33-283"}]
["tt0068290","nm0502538",{"$f":"_xlfn.XLOOKUP($A353,_xlfn.CHOOSECOLS(_xlfn.ANCHORARRAY(Filme!$G$1),2),_xlfn.CHOOSECOLS(_xlfn.ANCHORARRAY(Filme!$G$1),3),\"\",0,2)","v":"Blood from the Mummy's Tomb"},{"$f":"_xlfn.XLOOKUP($A353,_xlfn.CHOOSECOLS(_xlfn.ANCHORARRAY(Filme!$G$1),2),_xlfn.CHOOSECOLS(_xlfn.ANCHORARRAY(Filme!$G$1),4),\"\",0,2)","v":"1971-10-14"},{"$f":"_xlfn.XLOOKUP($B353,_xlfn.CHOOSECOLS(_xlfn.ANCHORARRAY(Leute!$F$1),2),_xlfn.CHOOSECOLS(_xlfn.ANCHORARRAY(Leute!$F$1),3),\"x\",0,2)","v":"Valerie Leon"},{"$f":"_xlfn.XLOOKUP($B353,_xlfn.CHOOSECOLS(_xlfn.ANCHORARRAY(Leute!$F$1),2),_xlfn.CHOOSECOLS(_xlfn.ANCHORARRAY(Leute!$F$1),4),\"x\",0,2)","v":"1943-11-12"},{"$f":"RANK(F353,F$1:F353,0)","v":352},{"$f":"DATEDIF(F353,D353,\"Y\")","v":27},{"$f":"DATEDIF(F353,D353,\"YD\")","v":337},{"$f":"D353-F353","v":10198},{"$f":"\"MRS \"&TEXT(J353,\"00000\")&\" \"&SUBSTITUTE(C353,\":\",\"\")&\" (\"&TEXT(D353,\"TT.MM.JJJJ\")&\") - \"&E353&\" (\"&TEXT(F353,\"TT.MM.JJJJ\")&\") \"&H353&\"-\"&I353","v":"MRS 10198 Blood from the Mummy's Tomb (14.10.1971) - Valerie Leon (12.11.1943) 27-337"}]
["tt4486986","nm0515116",{"$f":"_xlfn.XLOOKUP($A354,_xlfn.CHOOSECOLS(_xlfn.ANCHORARRAY(Filme!$G$1),2),_xlfn.CHOOSECOLS(_xlfn.ANCHORARRAY(Filme!$G$1),3),\"\",0,2)","v":"All I See Is You"},{"$f":"_xlfn.XLOOKUP($A354,_xlfn.CHOOSECOLS(_xlfn.ANCHORARRAY(Filme!$G$1),2),_xlfn.CHOOSECOLS(_xlfn.ANCHORARRAY(Filme!$G$1),4),\"\",0,2)","v":"2017-10-27"},{"$f":"_xlfn.XLOOKUP($B354,_xlfn.CHOOSECOLS(_xlfn.ANCHORARRAY(Leute!$F$1),2),_xlfn.CHOOSECOLS(_xlfn.ANCHORARRAY(Leute!$F$1),3),\"x\",0,2)","v":"Blake Lively"},{"$f":"_xlfn.XLOOKUP($B354,_xlfn.CHOOSECOLS(_xlfn.ANCHORARRAY(Leute!$F$1),2),_xlfn.CHOOSECOLS(_xlfn.ANCHORARRAY(Leute!$F$1),4),\"x\",0,2)","v":"1987-08-25"},{"$f":"RANK(F354,F$1:F354,0)","v":1},{"$f":"DATEDIF(F354,D354,\"Y\")","v":30},{"$f":"DATEDIF(F354,D354,\"YD\")","v":63},{"$f":"D354-F354","v":11021},{"$f":"\"MRS \"&TEXT(J354,\"00000\")&\" \"&SUBSTITUTE(C354,\":\",\"\")&\" (\"&TEXT(D354,\"TT.MM.JJJJ\")&\") - \"&E354&\" (\"&TEXT(F354,\"TT.MM.JJJJ\")&\") \"&H354&\"-\"&I354","v":"MRS 11021 All I See Is You (27.10.2017) - Blake Lively (25.08.1987) 30-63"}]
["tt7040874","nm0515116",{"$f":"_xlfn.XLOOKUP($A355,_xlfn.CHOOSECOLS(_xlfn.ANCHORARRAY(Filme!$G$1),2),_xlfn.CHOOSECOLS(_xlfn.ANCHORARRAY(Filme!$G$1),3),\"\",0,2)","v":"A Simple Favor"},{"$f":"_xlfn.XLOOKUP($A355,_xlfn.CHOOSECOLS(_xlfn.ANCHORARRAY(Filme!$G$1),2),_xlfn.CHOOSECOLS(_xlfn.ANCHORARRAY(Filme!$G$1),4),\"\",0,2)","v":"2018-11-08"},{"$f":"_xlfn.XLOOKUP($B355,_xlfn.CHOOSECOLS(_xlfn.ANCHORARRAY(Leute!$F$1),2),_xlfn.CHOOSECOLS(_xlfn.ANCHORARRAY(Leute!$F$1),3),\"x\",0,2)","v":"Blake Lively"},{"$f":"_xlfn.XLOOKUP($B355,_xlfn.CHOOSECOLS(_xlfn.ANCHORARRAY(Leute!$F$1),2),_xlfn.CHOOSECOLS(_xlfn.ANCHORARRAY(Leute!$F$1),4),\"x\",0,2)","v":"1987-08-25"},{"$f":"RANK(F355,F$1:F355,0)","v":1},{"$f":"DATEDIF(F355,D355,\"Y\")","v":31},{"$f":"DATEDIF(F355,D355,\"YD\")","v":75},{"$f":"D355-F355","v":11398},{"$f":"\"MRS \"&TEXT(J355,\"00000\")&\" \"&SUBSTITUTE(C355,\":\",\"\")&\" (\"&TEXT(D355,\"TT.MM.JJJJ\")&\") - \"&E355&\" (\"&TEXT(F355,\"TT.MM.JJJJ\")&\") \"&H355&\"-\"&I355","v":"MRS 11398 A Simple Favor (08.11.2018) - Blake Lively (25.08.1987) 31-75"}]
["tt0162677","nm0526985",{"$f":"_xlfn.XLOOKUP($A356,_xlfn.CHOOSECOLS(_xlfn.ANCHORARRAY(Filme!$G$1),2),_xlfn.CHOOSECOLS(_xlfn.ANCHORARRAY(Filme!$G$1),3),\"\",0,2)","v":"Summer of Sam"},{"$f":"_xlfn.XLOOKUP($A356,_xlfn.CHOOSECOLS(_xlfn.ANCHORARRAY(Filme!$G$1),2),_xlfn.CHOOSECOLS(_xlfn.ANCHORARRAY(Filme!$G$1),4),\"\",0,2)","v":"2000-11-09"},{"$f":"_xlfn.XLOOKUP($B356,_xlfn.CHOOSECOLS(_xlfn.ANCHORARRAY(Leute!$F$1),2),_xlfn.CHOOSECOLS(_xlfn.ANCHORARRAY(Leute!$F$1),3),\"x\",0,2)","v":"Patti LuPone"},{"$f":"_xlfn.XLOOKUP($B356,_xlfn.CHOOSECOLS(_xlfn.ANCHORARRAY(Leute!$F$1),2),_xlfn.CHOOSECOLS(_xlfn.ANCHORARRAY(Leute!$F$1),4),\"x\",0,2)","v":"1949-04-21"},{"$f":"RANK(F356,F$1:F356,0)","v":350},{"$f":"DATEDIF(F356,D356,\"Y\")","v":51},{"$f":"DATEDIF(F356,D356,\"YD\")","v":202},{"$f":"D356-F356","v":18830},{"$f":"\"MRS \"&TEXT(J356,\"00000\")&\" \"&SUBSTITUTE(C356,\":\",\"\")&\" (\"&TEXT(D356,\"TT.MM.JJJJ\")&\") - \"&E356&\" (\"&TEXT(F356,\"TT.MM.JJJJ\")&\") \"&H356&\"-\"&I356","v":"MRS 18830 Summer of Sam (09.11.2000) - Patti LuPone (21.04.1949) 51-202"}]
["tt10730028","nm0544334",{"$f":"_xlfn.XLOOKUP($A357,_xlfn.CHOOSECOLS(_xlfn.ANCHORARRAY(Filme!$G$1),2),_xlfn.CHOOSECOLS(_xlfn.ANCHORARRAY(Filme!$G$1),3),\"\",0,2)","v":"Dangerous Liaisons"},{"$f":"_xlfn.XLOOKUP($A357,_xlfn.CHOOSECOLS(_xlfn.ANCHORARRAY(Filme!$G$1),2),_xlfn.CHOOSECOLS(_xlfn.ANCHORARRAY(Filme!$G$1),4),\"\",0,2)","v":"2022-11-16"},{"$f":"_xlfn.XLOOKUP($B357,_xlfn.CHOOSECOLS(_xlfn.ANCHORARRAY(Leute!$F$1),2),_xlfn.CHOOSECOLS(_xlfn.ANCHORARRAY(Leute!$F$1),3),\"x\",0,2)","v":"Lesley Manville"},{"$f":"_xlfn.XLOOKUP($B357,_xlfn.CHOOSECOLS(_xlfn.ANCHORARRAY(Leute!$F$1),2),_xlfn.CHOOSECOLS(_xlfn.ANCHORARRAY(Leute!$F$1),4),\"x\",0,2)","v":"1956-03-12"},{"$f":"RANK(F357,F$1:F357,0)","v":339},{"$f":"DATEDIF(F357,D357,\"Y\")","v":66},{"$f":"DATEDIF(F357,D357,\"YD\")","v":249},{"$f":"D357-F357","v":24355},{"$f":"\"MRS \"&TEXT(J357,\"00000\")&\" \"&SUBSTITUTE(C357,\":\",\"\")&\" (\"&TEXT(D357,\"TT.MM.JJJJ\")&\") - \"&E357&\" (\"&TEXT(F357,\"TT.MM.JJJJ\")&\") \"&H357&\"-\"&I357","v":"MRS 24355 Dangerous Liaisons (16.11.2022) - Lesley Manville (12.03.1956) 66-249"}]
["tt6012380","nm0544334",{"$f":"_xlfn.XLOOKUP($A358,_xlfn.CHOOSECOLS(_xlfn.ANCHORARRAY(Filme!$G$1),2),_xlfn.CHOOSECOLS(_xlfn.ANCHORARRAY(Filme!$G$1),3),\"\",0,2)","v":"Ordinary Love"},{"$f":"_xlfn.XLOOKUP($A358,_xlfn.CHOOSECOLS(_xlfn.ANCHORARRAY(Filme!$G$1),2),_xlfn.CHOOSECOLS(_xlfn.ANCHORARRAY(Filme!$G$1),4),\"\",0,2)","v":"2019-12-06"},{"$f":"_xlfn.XLOOKUP($B358,_xlfn.CHOOSECOLS(_xlfn.ANCHORARRAY(Leute!$F$1),2),_xlfn.CHOOSECOLS(_xlfn.ANCHORARRAY(Leute!$F$1),3),\"x\",0,2)","v":"Lesley Manville"},{"$f":"_xlfn.XLOOKUP($B358,_xlfn.CHOOSECOLS(_xlfn.ANCHORARRAY(Leute!$F$1),2),_xlfn.CHOOSECOLS(_xlfn.ANCHORARRAY(Leute!$F$1),4),\"x\",0,2)","v":"1956-03-12"},{"$f":"RANK(F358,F$1:F358,0)","v":339},{"$f":"DATEDIF(F358,D358,\"Y\")","v":63},{"$f":"DATEDIF(F358,D358,\"YD\")","v":269},{"$f":"D358-F358","v":23279},{"$f":"\"MRS \"&TEXT(J358,\"00000\")&\" \"&SUBSTITUTE(C358,\":\",\"\")&\" (\"&TEXT(D358,\"TT.MM.JJJJ\")&\") - \"&E358&\" (\"&TEXT(F358,\"TT.MM.JJJJ\")&\") \"&H358&\"-\"&I358","v":"MRS 23279 Ordinary Love (06.12.2019) - Lesley Manville (12.03.1956) 63-269"}]
["tt12680898","nm0570860",{"$f":"_xlfn.XLOOKUP($A359,_xlfn.CHOOSECOLS(_xlfn.ANCHORARRAY(Filme!$G$1),2),_xlfn.CHOOSECOLS(_xlfn.ANCHORARRAY(Filme!$G$1),3),\"\",0,2)","v":"Woke"},{"$f":"_xlfn.XLOOKUP($A359,_xlfn.CHOOSECOLS(_xlfn.ANCHORARRAY(Filme!$G$1),2),_xlfn.CHOOSECOLS(_xlfn.ANCHORARRAY(Filme!$G$1),4),\"\",0,2)","v":"2020-09-09"},{"$f":"_xlfn.XLOOKUP($B359,_xlfn.CHOOSECOLS(_xlfn.ANCHORARRAY(Leute!$F$1),2),_xlfn.CHOOSECOLS(_xlfn.ANCHORARRAY(Leute!$F$1),3),\"x\",0,2)","v":"Rose McIver"},{"$f":"_xlfn.XLOOKUP($B359,_xlfn.CHOOSECOLS(_xlfn.ANCHORARRAY(Leute!$F$1),2),_xlfn.CHOOSECOLS(_xlfn.ANCHORARRAY(Leute!$F$1),4),\"x\",0,2)","v":"1988-10-10"},{"$f":"RANK(F359,F$1:F359,0)","v":1},{"$f":"DATEDIF(F359,D359,\"Y\")","v":31},{"$f":"DATEDIF(F359,D359,\"YD\")","v":334},{"$f":"D359-F359","v":11657},{"$f":"\"MRS \"&TEXT(J359,\"00000\")&\" \"&SUBSTITUTE(C359,\":\",\"\")&\" (\"&TEXT(D359,\"TT.MM.JJJJ\")&\") - \"&E359&\" (\"&TEXT(F359,\"TT.MM.JJJJ\")&\") \"&H359&\"-\"&I359","v":"MRS 11657 Woke (09.09.2020) - Rose McIver (10.10.1988) 31-334"}]
["tt1874434","nm0570860",{"$f":"_xlfn.XLOOKUP($A360,_xlfn.CHOOSECOLS(_xlfn.ANCHORARRAY(Filme!$G$1),2),_xlfn.CHOOSECOLS(_xlfn.ANCHORARRAY(Filme!$G$1),3),\"\",0,2)","v":"Blinder"},{"$f":"_xlfn.XLOOKUP($A360,_xlfn.CHOOSECOLS(_xlfn.ANCHORARRAY(Filme!$G$1),2),_xlfn.CHOOSECOLS(_xlfn.ANCHORARRAY(Filme!$G$1),4),\"\",0,2)","v":"2013-03-07"},{"$f":"_xlfn.XLOOKUP($B360,_xlfn.CHOOSECOLS(_xlfn.ANCHORARRAY(Leute!$F$1),2),_xlfn.CHOOSECOLS(_xlfn.ANCHORARRAY(Leute!$F$1),3),\"x\",0,2)","v":"Rose McIver"},{"$f":"_xlfn.XLOOKUP($B360,_xlfn.CHOOSECOLS(_xlfn.ANCHORARRAY(Leute!$F$1),2),_xlfn.CHOOSECOLS(_xlfn.ANCHORARRAY(Leute!$F$1),4),\"x\",0,2)","v":"1988-10-10"},{"$f":"RANK(F360,F$1:F360,0)","v":1},{"$f":"DATEDIF(F360,D360,\"Y\")","v":24},{"$f":"DATEDIF(F360,D360,\"YD\")","v":148},{"$f":"D360-F360","v":8914},{"$f":"\"MRS \"&TEXT(J360,\"00000\")&\" \"&SUBSTITUTE(C360,\":\",\"\")&\" (\"&TEXT(D360,\"TT.MM.JJJJ\")&\") - \"&E360&\" (\"&TEXT(F360,\"TT.MM.JJJJ\")&\") \"&H360&\"-\"&I360","v":"MRS 08914 Blinder (07.03.2013) - Rose McIver (10.10.1988) 24-148"}]
["tt2764070","nm0570860",{"$f":"_xlfn.XLOOKUP($A361,_xlfn.CHOOSECOLS(_xlfn.ANCHORARRAY(Filme!$G$1),2),_xlfn.CHOOSECOLS(_xlfn.ANCHORARRAY(Filme!$G$1),3),\"\",0,2)","v":"Masters of Sex"},{"$f":"_xlfn.XLOOKUP($A361,_xlfn.CHOOSECOLS(_xlfn.ANCHORARRAY(Filme!$G$1),2),_xlfn.CHOOSECOLS(_xlfn.ANCHORARRAY(Filme!$G$1),4),\"\",0,2)","v":"2014-08-12"},{"$f":"_xlfn.XLOOKUP($B361,_xlfn.CHOOSECOLS(_xlfn.ANCHORARRAY(Leute!$F$1),2),_xlfn.CHOOSECOLS(_xlfn.ANCHORARRAY(Leute!$F$1),3),\"x\",0,2)","v":"Rose McIver"},{"$f":"_xlfn.XLOOKUP($B361,_xlfn.CHOOSECOLS(_xlfn.ANCHORARRAY(Leute!$F$1),2),_xlfn.CHOOSECOLS(_xlfn.ANCHORARRAY(Leute!$F$1),4),\"x\",0,2)","v":"1988-10-10"},{"$f":"RANK(F361,F$1:F361,0)","v":1},{"$f":"DATEDIF(F361,D361,\"Y\")","v":25},{"$f":"DATEDIF(F361,D361,\"YD\")","v":306},{"$f":"D361-F361","v":9437},{"$f":"\"MRS \"&TEXT(J361,\"00000\")&\" \"&SUBSTITUTE(C361,\":\",\"\")&\" (\"&TEXT(D361,\"TT.MM.JJJJ\")&\") - \"&E361&\" (\"&TEXT(F361,\"TT.MM.JJJJ\")&\") \"&H361&\"-\"&I361","v":"MRS 09437 Masters of Sex (12.08.2014) - Rose McIver (10.10.1988) 25-306"}]
["tt12440892","nm0587396",{"$f":"_xlfn.XLOOKUP($A362,_xlfn.CHOOSECOLS(_xlfn.ANCHORARRAY(Filme!$G$1),2),_xlfn.CHOOSECOLS(_xlfn.ANCHORARRAY(Filme!$G$1),3),\"\",0,2)","v":"Step Up"},{"$f":"_xlfn.XLOOKUP($A362,_xlfn.CHOOSECOLS(_xlfn.ANCHORARRAY(Filme!$G$1),2),_xlfn.CHOOSECOLS(_xlfn.ANCHORARRAY(Filme!$G$1),4),\"\",0,2)","v":"2022-11-13"},{"$f":"_xlfn.XLOOKUP($B362,_xlfn.CHOOSECOLS(_xlfn.ANCHORARRAY(Leute!$F$1),2),_xlfn.CHOOSECOLS(_xlfn.ANCHORARRAY(Leute!$F$1),3),\"x\",0,2)","v":"Christina Milian"},{"$f":"_xlfn.XLOOKUP($B362,_xlfn.CHOOSECOLS(_xlfn.ANCHORARRAY(Leute!$F$1),2),_xlfn.CHOOSECOLS(_xlfn.ANCHORARRAY(Leute!$F$1),4),\"x\",0,2)","v":"1981-09-26"},{"$f":"RANK(F362,F$1:F362,0)","v":27},{"$f":"DATEDIF(F362,D362,\"Y\")","v":41},{"$f":"DATEDIF(F362,D362,\"YD\")","v":48},{"$f":"D362-F362","v":15023},{"$f":"\"MRS \"&TEXT(J362,\"00000\")&\" \"&SUBSTITUTE(C362,\":\",\"\")&\" (\"&TEXT(D362,\"TT.MM.JJJJ\")&\") - \"&E362&\" (\"&TEXT(F362,\"TT.MM.JJJJ\")&\") \"&H362&\"-\"&I362","v":"MRS 15023 Step Up (13.11.2022) - Christina Milian (26.09.1981) 41-48"}]
["tt5303422","nm0587396",{"$f":"_xlfn.XLOOKUP($A363,_xlfn.CHOOSECOLS(_xlfn.ANCHORARRAY(Filme!$G$1),2),_xlfn.CHOOSECOLS(_xlfn.ANCHORARRAY(Filme!$G$1),3),\"\",0,2)","v":"Christina Milian Turned Up"},{"$f":"_xlfn.XLOOKUP($A363,_xlfn.CHOOSECOLS(_xlfn.ANCHORARRAY(Filme!$G$1),2),_xlfn.CHOOSECOLS(_xlfn.ANCHORARRAY(Filme!$G$1),4),\"\",0,2)","v":"2015-12-22"},{"$f":"_xlfn.XLOOKUP($B363,_xlfn.CHOOSECOLS(_xlfn.ANCHORARRAY(Leute!$F$1),2),_xlfn.CHOOSECOLS(_xlfn.ANCHORARRAY(Leute!$F$1),3),\"x\",0,2)","v":"Christina Milian"},{"$f":"_xlfn.XLOOKUP($B363,_xlfn.CHOOSECOLS(_xlfn.ANCHORARRAY(Leute!$F$1),2),_xlfn.CHOOSECOLS(_xlfn.ANCHORARRAY(Leute!$F$1),4),\"x\",0,2)","v":"1981-09-26"},{"$f":"RANK(F363,F$1:F363,0)","v":27},{"$f":"DATEDIF(F363,D363,\"Y\")","v":34},{"$f":"DATEDIF(F363,D363,\"YD\")","v":87},{"$f":"D363-F363","v":12505},{"$f":"\"MRS \"&TEXT(J363,\"00000\")&\" \"&SUBSTITUTE(C363,\":\",\"\")&\" (\"&TEXT(D363,\"TT.MM.JJJJ\")&\") - \"&E363&\" (\"&TEXT(F363,\"TT.MM.JJJJ\")&\") \"&H363&\"-\"&I363","v":"MRS 12505 Christina Milian Turned Up (22.12.2015) - Christina Milian (26.09.1981) 34-87"}]
["tt0123865","nm0593310",{"$f":"_xlfn.XLOOKUP($A364,_xlfn.CHOOSECOLS(_xlfn.ANCHORARRAY(Filme!$G$1),2),_xlfn.CHOOSECOLS(_xlfn.ANCHORARRAY(Filme!$G$1),3),\"\",0,2)","v":"Gia"},{"$f":"_xlfn.XLOOKUP($A364,_xlfn.CHOOSECOLS(_xlfn.ANCHORARRAY(Filme!$G$1),2),_xlfn.CHOOSECOLS(_xlfn.ANCHORARRAY(Filme!$G$1),4),\"\",0,2)","v":"1998-09-22"},{"$f":"_xlfn.XLOOKUP($B364,_xlfn.CHOOSECOLS(_xlfn.ANCHORARRAY(Leute!$F$1),2),_xlfn.CHOOSECOLS(_xlfn.ANCHORARRAY(Leute!$F$1),3),\"x\",0,2)","v":"Elizabeth Mitchell"},{"$f":"_xlfn.XLOOKUP($B364,_xlfn.CHOOSECOLS(_xlfn.ANCHORARRAY(Leute!$F$1),2),_xlfn.CHOOSECOLS(_xlfn.ANCHORARRAY(Leute!$F$1),4),\"x\",0,2)","v":"1970-03-27"},{"$f":"RANK(F364,F$1:F364,0)","v":190},{"$f":"DATEDIF(F364,D364,\"Y\")","v":28},{"$f":"DATEDIF(F364,D364,\"YD\")","v":179},{"$f":"D364-F364","v":10406},{"$f":"\"MRS \"&TEXT(J364,\"00000\")&\" \"&SUBSTITUTE(C364,\":\",\"\")&\" (\"&TEXT(D364,\"TT.MM.JJJJ\")&\") - \"&E364&\" (\"&TEXT(F364,\"TT.MM.JJJJ\")&\") \"&H364&\"-\"&I364","v":"MRS 10406 Gia (22.09.1998) - Elizabeth Mitchell (27.03.1970) 28-179"}]
["tt0139362","nm0593664",{"$f":"_xlfn.XLOOKUP($A365,_xlfn.CHOOSECOLS(_xlfn.ANCHORARRAY(Filme!$G$1),2),_xlfn.CHOOSECOLS(_xlfn.ANCHORARRAY(Filme!$G$1),3),\"\",0,2)","v":"High Art"},{"$f":"_xlfn.XLOOKUP($A365,_xlfn.CHOOSECOLS(_xlfn.ANCHORARRAY(Filme!$G$1),2),_xlfn.CHOOSECOLS(_xlfn.ANCHORARRAY(Filme!$G$1),4),\"\",0,2)","v":"1999-04-29"},{"$f":"_xlfn.XLOOKUP($B365,_xlfn.CHOOSECOLS(_xlfn.ANCHORARRAY(Leute!$F$1),2),_xlfn.CHOOSECOLS(_xlfn.ANCHORARRAY(Leute!$F$1),3),\"x\",0,2)","v":"Radha Mitchell"},{"$f":"_xlfn.XLOOKUP($B365,_xlfn.CHOOSECOLS(_xlfn.ANCHORARRAY(Leute!$F$1),2),_xlfn.CHOOSECOLS(_xlfn.ANCHORARRAY(Leute!$F$1),4),\"x\",0,2)","v":"1973-11-12"},{"$f":"RANK(F365,F$1:F365,0)","v":148},{"$f":"DATEDIF(F365,D365,\"Y\")","v":25},{"$f":"DATEDIF(F365,D365,\"YD\")","v":168},{"$f":"D365-F365","v":9299},{"$f":"\"MRS \"&TEXT(J365,\"00000\")&\" \"&SUBSTITUTE(C365,\":\",\"\")&\" (\"&TEXT(D365,\"TT.MM.JJJJ\")&\") - \"&E365&\" (\"&TEXT(F365,\"TT.MM.JJJJ\")&\") \"&H365&\"-\"&I365","v":"MRS 09299 High Art (29.04.1999) - Radha Mitchell (12.11.1973) 25-168"}]
["tt0800027","nm0593664",{"$f":"_xlfn.XLOOKUP($A366,_xlfn.CHOOSECOLS(_xlfn.ANCHORARRAY(Filme!$G$1),2),_xlfn.CHOOSECOLS(_xlfn.ANCHORARRAY(Filme!$G$1),3),\"\",0,2)","v":"Feast of Love"},{"$f":"_xlfn.XLOOKUP($A366,_xlfn.CHOOSECOLS(_xlfn.ANCHORARRAY(Filme!$G$1),2),_xlfn.CHOOSECOLS(_xlfn.ANCHORARRAY(Filme!$G$1),4),\"\",0,2)","v":"2007-09-28"},{"$f":"_xlfn.XLOOKUP($B366,_xlfn.CHOOSECOLS(_xlfn.ANCHORARRAY(Leute!$F$1),2),_xlfn.CHOOSECOLS(_xlfn.ANCHORARRAY(Leute!$F$1),3),\"x\",0,2)","v":"Radha Mitchell"},{"$f":"_xlfn.XLOOKUP($B366,_xlfn.CHOOSECOLS(_xlfn.ANCHORARRAY(Leute!$F$1),2),_xlfn.CHOOSECOLS(_xlfn.ANCHORARRAY(Leute!$F$1),4),\"x\",0,2)","v":"1973-11-12"},{"$f":"RANK(F366,F$1:F366,0)","v":148},{"$f":"DATEDIF(F366,D366,\"Y\")","v":33},{"$f":"DATEDIF(F366,D366,\"YD\")","v":320},{"$f":"D366-F366","v":12373},{"$f":"\"MRS \"&TEXT(J366,\"00000\")&\" \"&SUBSTITUTE(C366,\":\",\"\")&\" (\"&TEXT(D366,\"TT.MM.JJJJ\")&\") - \"&E366&\" (\"&TEXT(F366,\"TT.MM.JJJJ\")&\") \"&H366&\"-\"&I366","v":"MRS 12373 Feast of Love (28.09.2007) - Radha Mitchell (12.11.1973) 33-320"}]
["tt0227984","nm0607865",{"$f":"_xlfn.XLOOKUP($A367,_xlfn.CHOOSECOLS(_xlfn.ANCHORARRAY(Filme!$G$1),2),_xlfn.CHOOSECOLS(_xlfn.ANCHORARRAY(Filme!$G$1),3),\"\",0,2)","v":"The 51st State"},{"$f":"_xlfn.XLOOKUP($A367,_xlfn.CHOOSECOLS(_xlfn.ANCHORARRAY(Filme!$G$1),2),_xlfn.CHOOSECOLS(_xlfn.ANCHORARRAY(Filme!$G$1),4),\"\",0,2)","v":"2001-12-07"},{"$f":"_xlfn.XLOOKUP($B367,_xlfn.CHOOSECOLS(_xlfn.ANCHORARRAY(Leute!$F$1),2),_xlfn.CHOOSECOLS(_xlfn.ANCHORARRAY(Leute!$F$1),3),\"x\",0,2)","v":"Emily Mortimer"},{"$f":"_xlfn.XLOOKUP($B367,_xlfn.CHOOSECOLS(_xlfn.ANCHORARRAY(Leute!$F$1),2),_xlfn.CHOOSECOLS(_xlfn.ANCHORARRAY(Leute!$F$1),4),\"x\",0,2)","v":"1971-10-06"},{"$f":"RANK(F367,F$1:F367,0)","v":166},{"$f":"DATEDIF(F367,D367,\"Y\")","v":30},{"$f":"DATEDIF(F367,D367,\"YD\")","v":62},{"$f":"D367-F367","v":11020},{"$f":"\"MRS \"&TEXT(J367,\"00000\")&\" \"&SUBSTITUTE(C367,\":\",\"\")&\" (\"&TEXT(D367,\"TT.MM.JJJJ\")&\") - \"&E367&\" (\"&TEXT(F367,\"TT.MM.JJJJ\")&\") \"&H367&\"-\"&I367","v":"MRS 11020 The 51st State (07.12.2001) - Emily Mortimer (06.10.1971) 30-62"}]
["tt0242888","nm0607865",{"$f":"_xlfn.XLOOKUP($A368,_xlfn.CHOOSECOLS(_xlfn.ANCHORARRAY(Filme!$G$1),2),_xlfn.CHOOSECOLS(_xlfn.ANCHORARRAY(Filme!$G$1),3),\"\",0,2)","v":"The Sleeping Dictionary"},{"$f":"_xlfn.XLOOKUP($A368,_xlfn.CHOOSECOLS(_xlfn.ANCHORARRAY(Filme!$G$1),2),_xlfn.CHOOSECOLS(_xlfn.ANCHORARRAY(Filme!$G$1),4),\"\",0,2)","v":"2003-01-31"},{"$f":"_xlfn.XLOOKUP($B368,_xlfn.CHOOSECOLS(_xlfn.ANCHORARRAY(Leute!$F$1),2),_xlfn.CHOOSECOLS(_xlfn.ANCHORARRAY(Leute!$F$1),3),\"x\",0,2)","v":"Emily Mortimer"},{"$f":"_xlfn.XLOOKUP($B368,_xlfn.CHOOSECOLS(_xlfn.ANCHORARRAY(Leute!$F$1),2),_xlfn.CHOOSECOLS(_xlfn.ANCHORARRAY(Leute!$F$1),4),\"x\",0,2)","v":"1971-10-06"},{"$f":"RANK(F368,F$1:F368,0)","v":166},{"$f":"DATEDIF(F368,D368,\"Y\")","v":31},{"$f":"DATEDIF(F368,D368,\"YD\")","v":117},{"$f":"D368-F368","v":11440},{"$f":"\"MRS \"&TEXT(J368,\"00000\")&\" \"&SUBSTITUTE(C368,\":\",\"\")&\" (\"&TEXT(D368,\"TT.MM.JJJJ\")&\") - \"&E368&\" (\"&TEXT(F368,\"TT.MM.JJJJ\")&\") \"&H368&\"-\"&I368","v":"MRS 11440 The Sleeping Dictionary (31.01.2003) - Emily Mortimer (06.10.1971) 31-117"}]
["tt0258273","nm0607865",{"$f":"_xlfn.XLOOKUP($A369,_xlfn.CHOOSECOLS(_xlfn.ANCHORARRAY(Filme!$G$1),2),_xlfn.CHOOSECOLS(_xlfn.ANCHORARRAY(Filme!$G$1),3),\"\",0,2)","v":"Lovely & Amazing"},{"$f":"_xlfn.XLOOKUP($A369,_xlfn.CHOOSECOLS(_xlfn.ANCHORARRAY(Filme!$G$1),2),_xlfn.CHOOSECOLS(_xlfn.ANCHORARRAY(Filme!$G$1),4),\"\",0,2)","v":"2002-08-02"},{"$f":"_xlfn.XLOOKUP($B369,_xlfn.CHOOSECOLS(_xlfn.ANCHORARRAY(Leute!$F$1),2),_xlfn.CHOOSECOLS(_xlfn.ANCHORARRAY(Leute!$F$1),3),\"x\",0,2)","v":"Emily Mortimer"},{"$f":"_xlfn.XLOOKUP($B369,_xlfn.CHOOSECOLS(_xlfn.ANCHORARRAY(Leute!$F$1),2),_xlfn.CHOOSECOLS(_xlfn.ANCHORARRAY(Leute!$F$1),4),\"x\",0,2)","v":"1971-10-06"},{"$f":"RANK(F369,F$1:F369,0)","v":166},{"$f":"DATEDIF(F369,D369,\"Y\")","v":30},{"$f":"DATEDIF(F369,D369,\"YD\")","v":301},{"$f":"D369-F369","v":11258},{"$f":"\"MRS \"&TEXT(J369,\"00000\")&\" \"&SUBSTITUTE(C369,\":\",\"\")&\" (\"&TEXT(D369,\"TT.MM.JJJJ\")&\") - \"&E369&\" (\"&TEXT(F369,\"TT.MM.JJJJ\")&\") \"&H369&\"-\"&I369","v":"MRS 11258 Lovely & Amazing (02.08.2002) - Emily Mortimer (06.10.1971) 30-301"}]
["tt0289635","nm0607865",{"$f":"_xlfn.XLOOKUP($A370,_xlfn.CHOOSECOLS(_xlfn.ANCHORARRAY(Filme!$G$1),2),_xlfn.CHOOSECOLS(_xlfn.ANCHORARRAY(Filme!$G$1),3),\"\",0,2)","v":"Young Adam"},{"$f":"_xlfn.XLOOKUP($A370,_xlfn.CHOOSECOLS(_xlfn.ANCHORARRAY(Filme!$G$1),2),_xlfn.CHOOSECOLS(_xlfn.ANCHORARRAY(Filme!$G$1),4),\"\",0,2)","v":"2004-12-09"},{"$f":"_xlfn.XLOOKUP($B370,_xlfn.CHOOSECOLS(_xlfn.ANCHORARRAY(Leute!$F$1),2),_xlfn.CHOOSECOLS(_xlfn.ANCHORARRAY(Leute!$F$1),3),\"x\",0,2)","v":"Emily Mortimer"},{"$f":"_xlfn.XLOOKUP($B370,_xlfn.CHOOSECOLS(_xlfn.ANCHORARRAY(Leute!$F$1),2),_xlfn.CHOOSECOLS(_xlfn.ANCHORARRAY(Leute!$F$1),4),\"x\",0,2)","v":"1971-10-06"},{"$f":"RANK(F370,F$1:F370,0)","v":166},{"$f":"DATEDIF(F370,D370,\"Y\")","v":33},{"$f":"DATEDIF(F370,D370,\"YD\")","v":64},{"$f":"D370-F370","v":12118},{"$f":"\"MRS \"&TEXT(J370,\"00000\")&\" \"&SUBSTITUTE(C370,\":\",\"\")&\" (\"&TEXT(D370,\"TT.MM.JJJJ\")&\") - \"&E370&\" (\"&TEXT(F370,\"TT.MM.JJJJ\")&\") \"&H370&\"-\"&I370","v":"MRS 12118 Young Adam (09.12.2004) - Emily Mortimer (06.10.1971) 33-64"}]
["tt0307058","nm0607865",{"$f":"_xlfn.XLOOKUP($A371,_xlfn.CHOOSECOLS(_xlfn.ANCHORARRAY(Filme!$G$1),2),_xlfn.CHOOSECOLS(_xlfn.ANCHORARRAY(Filme!$G$1),3),\"\",0,2)","v":"Midsomer Murders"},{"$f":"_xlfn.XLOOKUP($A371,_xlfn.CHOOSECOLS(_xlfn.ANCHORARRAY(Filme!$G$1),2),_xlfn.CHOOSECOLS(_xlfn.ANCHORARRAY(Filme!$G$1),4),\"\",0,2)","v":"2007-06-26"},{"$f":"_xlfn.XLOOKUP($B371,_xlfn.CHOOSECOLS(_xlfn.ANCHORARRAY(Leute!$F$1),2),_xlfn.CHOOSECOLS(_xlfn.ANCHORARRAY(Leute!$F$1),3),\"x\",0,2)","v":"Emily Mortimer"},{"$f":"_xlfn.XLOOKUP($B371,_xlfn.CHOOSECOLS(_xlfn.ANCHORARRAY(Leute!$F$1),2),_xlfn.CHOOSECOLS(_xlfn.ANCHORARRAY(Leute!$F$1),4),\"x\",0,2)","v":"1971-10-06"},{"$f":"RANK(F371,F$1:F371,0)","v":166},{"$f":"DATEDIF(F371,D371,\"Y\")","v":35},{"$f":"DATEDIF(F371,D371,\"YD\")","v":264},{"$f":"D371-F371","v":13047},{"$f":"\"MRS \"&TEXT(J371,\"00000\")&\" \"&SUBSTITUTE(C371,\":\",\"\")&\" (\"&TEXT(D371,\"TT.MM.JJJJ\")&\") - \"&E371&\" (\"&TEXT(F371,\"TT.MM.JJJJ\")&\") \"&H371&\"-\"&I371","v":"MRS 13047 Midsomer Murders (26.06.2007) - Emily Mortimer (06.10.1971) 35-264"}]
["tt0800241","nm0607865",{"$f":"_xlfn.XLOOKUP($A372,_xlfn.CHOOSECOLS(_xlfn.ANCHORARRAY(Filme!$G$1),2),_xlfn.CHOOSECOLS(_xlfn.ANCHORARRAY(Filme!$G$1),3),\"\",0,2)","v":"Transsiberian"},{"$f":"_xlfn.XLOOKUP($A372,_xlfn.CHOOSECOLS(_xlfn.ANCHORARRAY(Filme!$G$1),2),_xlfn.CHOOSECOLS(_xlfn.ANCHORARRAY(Filme!$G$1),4),\"\",0,2)","v":"2008-12-11"},{"$f":"_xlfn.XLOOKUP($B372,_xlfn.CHOOSECOLS(_xlfn.ANCHORARRAY(Leute!$F$1),2),_xlfn.CHOOSECOLS(_xlfn.ANCHORARRAY(Leute!$F$1),3),\"x\",0,2)","v":"Emily Mortimer"},{"$f":"_xlfn.XLOOKUP($B372,_xlfn.CHOOSECOLS(_xlfn.ANCHORARRAY(Leute!$F$1),2),_xlfn.CHOOSECOLS(_xlfn.ANCHORARRAY(Leute!$F$1),4),\"x\",0,2)","v":"1971-10-06"},{"$f":"RANK(F372,F$1:F372,0)","v":166},{"$f":"DATEDIF(F372,D372,\"Y\")","v":37},{"$f":"DATEDIF(F372,D372,\"YD\")","v":66},{"$f":"D372-F372","v":13581},{"$f":"\"MRS \"&TEXT(J372,\"00000\")&\" \"&SUBSTITUTE(C372,\":\",\"\")&\" (\"&TEXT(D372,\"TT.MM.JJJJ\")&\") - \"&E372&\" (\"&TEXT(F372,\"TT.MM.JJJJ\")&\") \"&H372&\"-\"&I372","v":"MRS 13581 Transsiberian (11.12.2008) - Emily Mortimer (06.10.1971) 37-66"}]
["tt1426328","nm0607865",{"$f":"_xlfn.XLOOKUP($A373,_xlfn.CHOOSECOLS(_xlfn.ANCHORARRAY(Filme!$G$1),2),_xlfn.CHOOSECOLS(_xlfn.ANCHORARRAY(Filme!$G$1),3),\"\",0,2)","v":"Leonie"},{"$f":"_xlfn.XLOOKUP($A373,_xlfn.CHOOSECOLS(_xlfn.ANCHORARRAY(Filme!$G$1),2),_xlfn.CHOOSECOLS(_xlfn.ANCHORARRAY(Filme!$G$1),4),\"\",0,2)","v":"2010-11-20"},{"$f":"_xlfn.XLOOKUP($B373,_xlfn.CHOOSECOLS(_xlfn.ANCHORARRAY(Leute!$F$1),2),_xlfn.CHOOSECOLS(_xlfn.ANCHORARRAY(Leute!$F$1),3),\"x\",0,2)","v":"Emily Mortimer"},{"$f":"_xlfn.XLOOKUP($B373,_xlfn.CHOOSECOLS(_xlfn.ANCHORARRAY(Leute!$F$1),2),_xlfn.CHOOSECOLS(_xlfn.ANCHORARRAY(Leute!$F$1),4),\"x\",0,2)","v":"1971-10-06"},{"$f":"RANK(F373,F$1:F373,0)","v":166},{"$f":"DATEDIF(F373,D373,\"Y\")","v":39},{"$f":"DATEDIF(F373,D373,\"YD\")","v":45},{"$f":"D373-F373","v":14290},{"$f":"\"MRS \"&TEXT(J373,\"00000\")&\" \"&SUBSTITUTE(C373,\":\",\"\")&\" (\"&TEXT(D373,\"TT.MM.JJJJ\")&\") - \"&E373&\" (\"&TEXT(F373,\"TT.MM.JJJJ\")&\") \"&H373&\"-\"&I373","v":"MRS 14290 Leonie (20.11.2010) - Emily Mortimer (06.10.1971) 39-45"}]
["tt5328006","nm0607865",{"$f":"_xlfn.XLOOKUP($A374,_xlfn.CHOOSECOLS(_xlfn.ANCHORARRAY(Filme!$G$1),2),_xlfn.CHOOSECOLS(_xlfn.ANCHORARRAY(Filme!$G$1),3),\"\",0,2)","v":"Phil"},{"$f":"_xlfn.XLOOKUP($A374,_xlfn.CHOOSECOLS(_xlfn.ANCHORARRAY(Filme!$G$1),2),_xlfn.CHOOSECOLS(_xlfn.ANCHORARRAY(Filme!$G$1),4),\"\",0,2)","v":"2019-07-05"},{"$f":"_xlfn.XLOOKUP($B374,_xlfn.CHOOSECOLS(_xlfn.ANCHORARRAY(Leute!$F$1),2),_xlfn.CHOOSECOLS(_xlfn.ANCHORARRAY(Leute!$F$1),3),\"x\",0,2)","v":"Emily Mortimer"},{"$f":"_xlfn.XLOOKUP($B374,_xlfn.CHOOSECOLS(_xlfn.ANCHORARRAY(Leute!$F$1),2),_xlfn.CHOOSECOLS(_xlfn.ANCHORARRAY(Leute!$F$1),4),\"x\",0,2)","v":"1971-10-06"},{"$f":"RANK(F374,F$1:F374,0)","v":166},{"$f":"DATEDIF(F374,D374,\"Y\")","v":47},{"$f":"DATEDIF(F374,D374,\"YD\")","v":273},{"$f":"D374-F374","v":17439},{"$f":"\"MRS \"&TEXT(J374,\"00000\")&\" \"&SUBSTITUTE(C374,\":\",\"\")&\" (\"&TEXT(D374,\"TT.MM.JJJJ\")&\") - \"&E374&\" (\"&TEXT(F374,\"TT.MM.JJJJ\")&\") \"&H374&\"-\"&I374","v":"MRS 17439 Phil (05.07.2019) - Emily Mortimer (06.10.1971) 47-273"}]
["tt0409379","nm0647634",{"$f":"_xlfn.XLOOKUP($A375,_xlfn.CHOOSECOLS(_xlfn.ANCHORARRAY(Filme!$G$1),2),_xlfn.CHOOSECOLS(_xlfn.ANCHORARRAY(Filme!$G$1),3),\"\",0,2)","v":"In Secret"},{"$f":"_xlfn.XLOOKUP($A375,_xlfn.CHOOSECOLS(_xlfn.ANCHORARRAY(Filme!$G$1),2),_xlfn.CHOOSECOLS(_xlfn.ANCHORARRAY(Filme!$G$1),4),\"\",0,2)","v":"2014-04-03"},{"$f":"_xlfn.XLOOKUP($B375,_xlfn.CHOOSECOLS(_xlfn.ANCHORARRAY(Leute!$F$1),2),_xlfn.CHOOSECOLS(_xlfn.ANCHORARRAY(Leute!$F$1),3),\"x\",0,2)","v":"Elizabeth Olsen"},{"$f":"_xlfn.XLOOKUP($B375,_xlfn.CHOOSECOLS(_xlfn.ANCHORARRAY(Leute!$F$1),2),_xlfn.CHOOSECOLS(_xlfn.ANCHORARRAY(Leute!$F$1),4),\"x\",0,2)","v":"1989-02-16"},{"$f":"RANK(F375,F$1:F375,0)","v":1},{"$f":"DATEDIF(F375,D375,\"Y\")","v":25},{"$f":"DATEDIF(F375,D375,\"YD\")","v":46},{"$f":"D375-F375","v":9177},{"$f":"\"MRS \"&TEXT(J375,\"00000\")&\" \"&SUBSTITUTE(C375,\":\",\"\")&\" (\"&TEXT(D375,\"TT.MM.JJJJ\")&\") - \"&E375&\" (\"&TEXT(F375,\"TT.MM.JJJJ\")&\") \"&H375&\"-\"&I375","v":"MRS 09177 In Secret (03.04.2014) - Elizabeth Olsen (16.02.1989) 25-46"}]
["tt1321511","nm0647634",{"$f":"_xlfn.XLOOKUP($A376,_xlfn.CHOOSECOLS(_xlfn.ANCHORARRAY(Filme!$G$1),2),_xlfn.CHOOSECOLS(_xlfn.ANCHORARRAY(Filme!$G$1),3),\"\",0,2)","v":"Oldboy"},{"$f":"_xlfn.XLOOKUP($A376,_xlfn.CHOOSECOLS(_xlfn.ANCHORARRAY(Filme!$G$1),2),_xlfn.CHOOSECOLS(_xlfn.ANCHORARRAY(Filme!$G$1),4),\"\",0,2)","v":"2013-12-05"},{"$f":"_xlfn.XLOOKUP($B376,_xlfn.CHOOSECOLS(_xlfn.ANCHORARRAY(Leute!$F$1),2),_xlfn.CHOOSECOLS(_xlfn.ANCHORARRAY(Leute!$F$1),3),\"x\",0,2)","v":"Elizabeth Olsen"},{"$f":"_xlfn.XLOOKUP($B376,_xlfn.CHOOSECOLS(_xlfn.ANCHORARRAY(Leute!$F$1),2),_xlfn.CHOOSECOLS(_xlfn.ANCHORARRAY(Leute!$F$1),4),\"x\",0,2)","v":"1989-02-16"},{"$f":"RANK(F376,F$1:F376,0)","v":1},{"$f":"DATEDIF(F376,D376,\"Y\")","v":24},{"$f":"DATEDIF(F376,D376,\"YD\")","v":292},{"$f":"D376-F376","v":9058},{"$f":"\"MRS \"&TEXT(J376,\"00000\")&\" \"&SUBSTITUTE(C376,\":\",\"\")&\" (\"&TEXT(D376,\"TT.MM.JJJJ\")&\") - \"&E376&\" (\"&TEXT(F376,\"TT.MM.JJJJ\")&\") \"&H376&\"-\"&I376","v":"MRS 09058 Oldboy (05.12.2013) - Elizabeth Olsen (16.02.1989) 24-292"}]
["tt1441326","nm0647634",{"$f":"_xlfn.XLOOKUP($A377,_xlfn.CHOOSECOLS(_xlfn.ANCHORARRAY(Filme!$G$1),2),_xlfn.CHOOSECOLS(_xlfn.ANCHORARRAY(Filme!$G$1),3),\"\",0,2)","v":"Martha Marcy May Marlene"},{"$f":"_xlfn.XLOOKUP($A377,_xlfn.CHOOSECOLS(_xlfn.ANCHORARRAY(Filme!$G$1),2),_xlfn.CHOOSECOLS(_xlfn.ANCHORARRAY(Filme!$G$1),4),\"\",0,2)","v":"2012-04-12"},{"$f":"_xlfn.XLOOKUP($B377,_xlfn.CHOOSECOLS(_xlfn.ANCHORARRAY(Leute!$F$1),2),_xlfn.CHOOSECOLS(_xlfn.ANCHORARRAY(Leute!$F$1),3),\"x\",0,2)","v":"Elizabeth Olsen"},{"$f":"_xlfn.XLOOKUP($B377,_xlfn.CHOOSECOLS(_xlfn.ANCHORARRAY(Leute!$F$1),2),_xlfn.CHOOSECOLS(_xlfn.ANCHORARRAY(Leute!$F$1),4),\"x\",0,2)","v":"1989-02-16"},{"$f":"RANK(F377,F$1:F377,0)","v":1},{"$f":"DATEDIF(F377,D377,\"Y\")","v":23},{"$f":"DATEDIF(F377,D377,\"YD\")","v":55},{"$f":"D377-F377","v":8456},{"$f":"\"MRS \"&TEXT(J377,\"00000\")&\" \"&SUBSTITUTE(C377,\":\",\"\")&\" (\"&TEXT(D377,\"TT.MM.JJJJ\")&\") - \"&E377&\" (\"&TEXT(F377,\"TT.MM.JJJJ\")&\") \"&H377&\"-\"&I377","v":"MRS 08456 Martha Marcy May Marlene (12.04.2012) - Elizabeth Olsen (16.02.1989) 23-55"}]
["tt15532666","nm0647634",{"$f":"_xlfn.XLOOKUP($A378,_xlfn.CHOOSECOLS(_xlfn.ANCHORARRAY(Filme!$G$1),2),_xlfn.CHOOSECOLS(_xlfn.ANCHORARRAY(Filme!$G$1),3),\"\",0,2)","v":"Love & Death"},{"$f":"_xlfn.XLOOKUP($A378,_xlfn.CHOOSECOLS(_xlfn.ANCHORARRAY(Filme!$G$1),2),_xlfn.CHOOSECOLS(_xlfn.ANCHORARRAY(Filme!$G$1),4),\"\",0,2)","v":"2023-05-11"},{"$f":"_xlfn.XLOOKUP($B378,_xlfn.CHOOSECOLS(_xlfn.ANCHORARRAY(Leute!$F$1),2),_xlfn.CHOOSECOLS(_xlfn.ANCHORARRAY(Leute!$F$1),3),\"x\",0,2)","v":"Elizabeth Olsen"},{"$f":"_xlfn.XLOOKUP($B378,_xlfn.CHOOSECOLS(_xlfn.ANCHORARRAY(Leute!$F$1),2),_xlfn.CHOOSECOLS(_xlfn.ANCHORARRAY(Leute!$F$1),4),\"x\",0,2)","v":"1989-02-16"},{"$f":"RANK(F378,F$1:F378,0)","v":1},{"$f":"DATEDIF(F378,D378,\"Y\")","v":34},{"$f":"DATEDIF(F378,D378,\"YD\")","v":84},{"$f":"D378-F378","v":12502},{"$f":"\"MRS \"&TEXT(J378,\"00000\")&\" \"&SUBSTITUTE(C378,\":\",\"\")&\" (\"&TEXT(D378,\"TT.MM.JJJJ\")&\") - \"&E378&\" (\"&TEXT(F378,\"TT.MM.JJJJ\")&\") \"&H378&\"-\"&I378","v":"MRS 12502 Love & Death (11.05.2023) - Elizabeth Olsen (16.02.1989) 34-84"}]
["tt0488120","nm0683253",{"$f":"_xlfn.XLOOKUP($A379,_xlfn.CHOOSECOLS(_xlfn.ANCHORARRAY(Filme!$G$1),2),_xlfn.CHOOSECOLS(_xlfn.ANCHORARRAY(Filme!$G$1),3),\"\",0,2)","v":"Fracture"},{"$f":"_xlfn.XLOOKUP($A379,_xlfn.CHOOSECOLS(_xlfn.ANCHORARRAY(Filme!$G$1),2),_xlfn.CHOOSECOLS(_xlfn.ANCHORARRAY(Filme!$G$1),4),\"\",0,2)","v":"2007-05-17"},{"$f":"_xlfn.XLOOKUP($B379,_xlfn.CHOOSECOLS(_xlfn.ANCHORARRAY(Leute!$F$1),2),_xlfn.CHOOSECOLS(_xlfn.ANCHORARRAY(Leute!$F$1),3),\"x\",0,2)","v":"Rosamund Pike"},{"$f":"_xlfn.XLOOKUP($B379,_xlfn.CHOOSECOLS(_xlfn.ANCHORARRAY(Leute!$F$1),2),_xlfn.CHOOSECOLS(_xlfn.ANCHORARRAY(Leute!$F$1),4),\"x\",0,2)","v":"1979-01-27"},{"$f":"RANK(F379,F$1:F379,0)","v":54},{"$f":"DATEDIF(F379,D379,\"Y\")","v":28},{"$f":"DATEDIF(F379,D379,\"YD\")","v":110},{"$f":"D379-F379","v":10337},{"$f":"\"MRS \"&TEXT(J379,\"00000\")&\" \"&SUBSTITUTE(C379,\":\",\"\")&\" (\"&TEXT(D379,\"TT.MM.JJJJ\")&\") - \"&E379&\" (\"&TEXT(F379,\"TT.MM.JJJJ\")&\") \"&H379&\"-\"&I379","v":"MRS 10337 Fracture (17.05.2007) - Rosamund Pike (27.01.1979) 28-110"}]
["tt0765451","nm0683253",{"$f":"_xlfn.XLOOKUP($A380,_xlfn.CHOOSECOLS(_xlfn.ANCHORARRAY(Filme!$G$1),2),_xlfn.CHOOSECOLS(_xlfn.ANCHORARRAY(Filme!$G$1),3),\"\",0,2)","v":"Fugitive Pieces"},{"$f":"_xlfn.XLOOKUP($A380,_xlfn.CHOOSECOLS(_xlfn.ANCHORARRAY(Filme!$G$1),2),_xlfn.CHOOSECOLS(_xlfn.ANCHORARRAY(Filme!$G$1),4),\"\",0,2)","v":"2009-03-26"},{"$f":"_xlfn.XLOOKUP($B380,_xlfn.CHOOSECOLS(_xlfn.ANCHORARRAY(Leute!$F$1),2),_xlfn.CHOOSECOLS(_xlfn.ANCHORARRAY(Leute!$F$1),3),\"x\",0,2)","v":"Rosamund Pike"},{"$f":"_xlfn.XLOOKUP($B380,_xlfn.CHOOSECOLS(_xlfn.ANCHORARRAY(Leute!$F$1),2),_xlfn.CHOOSECOLS(_xlfn.ANCHORARRAY(Leute!$F$1),4),\"x\",0,2)","v":"1979-01-27"},{"$f":"RANK(F380,F$1:F380,0)","v":54},{"$f":"DATEDIF(F380,D380,\"Y\")","v":30},{"$f":"DATEDIF(F380,D380,\"YD\")","v":58},{"$f":"D380-F380","v":11016},{"$f":"\"MRS \"&TEXT(J380,\"00000\")&\" \"&SUBSTITUTE(C380,\":\",\"\")&\" (\"&TEXT(D380,\"TT.MM.JJJJ\")&\") - \"&E380&\" (\"&TEXT(F380,\"TT.MM.JJJJ\")&\") \"&H380&\"-\"&I380","v":"MRS 11016 Fugitive Pieces (26.03.2009) - Rosamund Pike (27.01.1979) 30-58"}]
["tt1423894","nm0683253",{"$f":"_xlfn.XLOOKUP($A381,_xlfn.CHOOSECOLS(_xlfn.ANCHORARRAY(Filme!$G$1),2),_xlfn.CHOOSECOLS(_xlfn.ANCHORARRAY(Filme!$G$1),3),\"\",0,2)","v":"Barney's Version"},{"$f":"_xlfn.XLOOKUP($A381,_xlfn.CHOOSECOLS(_xlfn.ANCHORARRAY(Filme!$G$1),2),_xlfn.CHOOSECOLS(_xlfn.ANCHORARRAY(Filme!$G$1),4),\"\",0,2)","v":"2011-07-14"},{"$f":"_xlfn.XLOOKUP($B381,_xlfn.CHOOSECOLS(_xlfn.ANCHORARRAY(Leute!$F$1),2),_xlfn.CHOOSECOLS(_xlfn.ANCHORARRAY(Leute!$F$1),3),\"x\",0,2)","v":"Rosamund Pike"},{"$f":"_xlfn.XLOOKUP($B381,_xlfn.CHOOSECOLS(_xlfn.ANCHORARRAY(Leute!$F$1),2),_xlfn.CHOOSECOLS(_xlfn.ANCHORARRAY(Leute!$F$1),4),\"x\",0,2)","v":"1979-01-27"},{"$f":"RANK(F381,F$1:F381,0)","v":54},{"$f":"DATEDIF(F381,D381,\"Y\")","v":32},{"$f":"DATEDIF(F381,D381,\"YD\")","v":168},{"$f":"D381-F381","v":11856},{"$f":"\"MRS \"&TEXT(J381,\"00000\")&\" \"&SUBSTITUTE(C381,\":\",\"\")&\" (\"&TEXT(D381,\"TT.MM.JJJJ\")&\") - \"&E381&\" (\"&TEXT(F381,\"TT.MM.JJJJ\")&\") \"&H381&\"-\"&I381","v":"MRS 11856 Barney's Version (14.07.2011) - Rosamund Pike (27.01.1979) 32-168"}]
["tt1838427","nm0683253",{"$f":"_xlfn.XLOOKUP($A382,_xlfn.CHOOSECOLS(_xlfn.ANCHORARRAY(Filme!$G$1),2),_xlfn.CHOOSECOLS(_xlfn.ANCHORARRAY(Filme!$G$1),3),\"\",0,2)","v":"Women in Love"},{"$f":"_xlfn.XLOOKUP($A382,_xlfn.CHOOSECOLS(_xlfn.ANCHORARRAY(Filme!$G$1),2),_xlfn.CHOOSECOLS(_xlfn.ANCHORARRAY(Filme!$G$1),4),\"\",0,2)","v":"2011-03-31"},{"$f":"_xlfn.XLOOKUP($B382,_xlfn.CHOOSECOLS(_xlfn.ANCHORARRAY(Leute!$F$1),2),_xlfn.CHOOSECOLS(_xlfn.ANCHORARRAY(Leute!$F$1),3),\"x\",0,2)","v":"Rosamund Pike"},{"$f":"_xlfn.XLOOKUP($B382,_xlfn.CHOOSECOLS(_xlfn.ANCHORARRAY(Leute!$F$1),2),_xlfn.CHOOSECOLS(_xlfn.ANCHORARRAY(Leute!$F$1),4),\"x\",0,2)","v":"1979-01-27"},{"$f":"RANK(F382,F$1:F382,0)","v":54},{"$f":"DATEDIF(F382,D382,\"Y\")","v":32},{"$f":"DATEDIF(F382,D382,\"YD\")","v":63},{"$f":"D382-F382","v":11751},{"$f":"\"MRS \"&TEXT(J382,\"00000\")&\" \"&SUBSTITUTE(C382,\":\",\"\")&\" (\"&TEXT(D382,\"TT.MM.JJJJ\")&\") - \"&E382&\" (\"&TEXT(F382,\"TT.MM.JJJJ\")&\") \"&H382&\"-\"&I382","v":"MRS 11751 Women in Love (31.03.2011) - Rosamund Pike (27.01.1979) 32-63"}]
["tt2267998","nm0683253",{"$f":"_xlfn.XLOOKUP($A383,_xlfn.CHOOSECOLS(_xlfn.ANCHORARRAY(Filme!$G$1),2),_xlfn.CHOOSECOLS(_xlfn.ANCHORARRAY(Filme!$G$1),3),\"\",0,2)","v":"Gone Girl"},{"$f":"_xlfn.XLOOKUP($A383,_xlfn.CHOOSECOLS(_xlfn.ANCHORARRAY(Filme!$G$1),2),_xlfn.CHOOSECOLS(_xlfn.ANCHORARRAY(Filme!$G$1),4),\"\",0,2)","v":"2014-10-02"},{"$f":"_xlfn.XLOOKUP($B383,_xlfn.CHOOSECOLS(_xlfn.ANCHORARRAY(Leute!$F$1),2),_xlfn.CHOOSECOLS(_xlfn.ANCHORARRAY(Leute!$F$1),3),\"x\",0,2)","v":"Rosamund Pike"},{"$f":"_xlfn.XLOOKUP($B383,_xlfn.CHOOSECOLS(_xlfn.ANCHORARRAY(Leute!$F$1),2),_xlfn.CHOOSECOLS(_xlfn.ANCHORARRAY(Leute!$F$1),4),\"x\",0,2)","v":"1979-01-27"},{"$f":"RANK(F383,F$1:F383,0)","v":54},{"$f":"DATEDIF(F383,D383,\"Y\")","v":35},{"$f":"DATEDIF(F383,D383,\"YD\")","v":248},{"$f":"D383-F383","v":13032},{"$f":"\"MRS \"&TEXT(J383,\"00000\")&\" \"&SUBSTITUTE(C383,\":\",\"\")&\" (\"&TEXT(D383,\"TT.MM.JJJJ\")&\") - \"&E383&\" (\"&TEXT(F383,\"TT.MM.JJJJ\")&\") \"&H383&\"-\"&I383","v":"MRS 13032 Gone Girl (02.10.2014) - Rosamund Pike (27.01.1979) 35-248"}]
["tt2368254","nm0683253",{"$f":"_xlfn.XLOOKUP($A384,_xlfn.CHOOSECOLS(_xlfn.ANCHORARRAY(Filme!$G$1),2),_xlfn.CHOOSECOLS(_xlfn.ANCHORARRAY(Filme!$G$1),3),\"\",0,2)","v":"A Private War"},{"$f":"_xlfn.XLOOKUP($A384,_xlfn.CHOOSECOLS(_xlfn.ANCHORARRAY(Filme!$G$1),2),_xlfn.CHOOSECOLS(_xlfn.ANCHORARRAY(Filme!$G$1),4),\"\",0,2)","v":"2018-11-16"},{"$f":"_xlfn.XLOOKUP($B384,_xlfn.CHOOSECOLS(_xlfn.ANCHORARRAY(Leute!$F$1),2),_xlfn.CHOOSECOLS(_xlfn.ANCHORARRAY(Leute!$F$1),3),\"x\",0,2)","v":"Rosamund Pike"},{"$f":"_xlfn.XLOOKUP($B384,_xlfn.CHOOSECOLS(_xlfn.ANCHORARRAY(Leute!$F$1),2),_xlfn.CHOOSECOLS(_xlfn.ANCHORARRAY(Leute!$F$1),4),\"x\",0,2)","v":"1979-01-27"},{"$f":"RANK(F384,F$1:F384,0)","v":54},{"$f":"DATEDIF(F384,D384,\"Y\")","v":39},{"$f":"DATEDIF(F384,D384,\"YD\")","v":293},{"$f":"D384-F384","v":14538},{"$f":"\"MRS \"&TEXT(J384,\"00000\")&\" \"&SUBSTITUTE(C384,\":\",\"\")&\" (\"&TEXT(D384,\"TT.MM.JJJJ\")&\") - \"&E384&\" (\"&TEXT(F384,\"TT.MM.JJJJ\")&\") \"&H384&\"-\"&I384","v":"MRS 14538 A Private War (16.11.2018) - Rosamund Pike (27.01.1979) 39-293"}]
["tt3296908","nm0683253",{"$f":"_xlfn.XLOOKUP($A385,_xlfn.CHOOSECOLS(_xlfn.ANCHORARRAY(Filme!$G$1),2),_xlfn.CHOOSECOLS(_xlfn.ANCHORARRAY(Filme!$G$1),3),\"\",0,2)","v":"HHhH"},{"$f":"_xlfn.XLOOKUP($A385,_xlfn.CHOOSECOLS(_xlfn.ANCHORARRAY(Filme!$G$1),2),_xlfn.CHOOSECOLS(_xlfn.ANCHORARRAY(Filme!$G$1),4),\"\",0,2)","v":"2017-06-07"},{"$f":"_xlfn.XLOOKUP($B385,_xlfn.CHOOSECOLS(_xlfn.ANCHORARRAY(Leute!$F$1),2),_xlfn.CHOOSECOLS(_xlfn.ANCHORARRAY(Leute!$F$1),3),\"x\",0,2)","v":"Rosamund Pike"},{"$f":"_xlfn.XLOOKUP($B385,_xlfn.CHOOSECOLS(_xlfn.ANCHORARRAY(Leute!$F$1),2),_xlfn.CHOOSECOLS(_xlfn.ANCHORARRAY(Leute!$F$1),4),\"x\",0,2)","v":"1979-01-27"},{"$f":"RANK(F385,F$1:F385,0)","v":54},{"$f":"DATEDIF(F385,D385,\"Y\")","v":38},{"$f":"DATEDIF(F385,D385,\"YD\")","v":131},{"$f":"D385-F385","v":14011},{"$f":"\"MRS \"&TEXT(J385,\"00000\")&\" \"&SUBSTITUTE(C385,\":\",\"\")&\" (\"&TEXT(D385,\"TT.MM.JJJJ\")&\") - \"&E385&\" (\"&TEXT(F385,\"TT.MM.JJJJ\")&\") \"&H385&\"-\"&I385","v":"MRS 14011 HHhH (07.06.2017) - Rosamund Pike (27.01.1979) 38-131"}]
["tt6017756","nm0683253",{"$f":"_xlfn.XLOOKUP($A386,_xlfn.CHOOSECOLS(_xlfn.ANCHORARRAY(Filme!$G$1),2),_xlfn.CHOOSECOLS(_xlfn.ANCHORARRAY(Filme!$G$1),3),\"\",0,2)","v":"Radioactive"},{"$f":"_xlfn.XLOOKUP($A386,_xlfn.CHOOSECOLS(_xlfn.ANCHORARRAY(Filme!$G$1),2),_xlfn.CHOOSECOLS(_xlfn.ANCHORARRAY(Filme!$G$1),4),\"\",0,2)","v":"2020-07-16"},{"$f":"_xlfn.XLOOKUP($B386,_xlfn.CHOOSECOLS(_xlfn.ANCHORARRAY(Leute!$F$1),2),_xlfn.CHOOSECOLS(_xlfn.ANCHORARRAY(Leute!$F$1),3),\"x\",0,2)","v":"Rosamund Pike"},{"$f":"_xlfn.XLOOKUP($B386,_xlfn.CHOOSECOLS(_xlfn.ANCHORARRAY(Leute!$F$1),2),_xlfn.CHOOSECOLS(_xlfn.ANCHORARRAY(Leute!$F$1),4),\"x\",0,2)","v":"1979-01-27"},{"$f":"RANK(F386,F$1:F386,0)","v":54},{"$f":"DATEDIF(F386,D386,\"Y\")","v":41},{"$f":"DATEDIF(F386,D386,\"YD\")","v":170},{"$f":"D386-F386","v":15146},{"$f":"\"MRS \"&TEXT(J386,\"00000\")&\" \"&SUBSTITUTE(C386,\":\",\"\")&\" (\"&TEXT(D386,\"TT.MM.JJJJ\")&\") - \"&E386&\" (\"&TEXT(F386,\"TT.MM.JJJJ\")&\") \"&H386&\"-\"&I386","v":"MRS 15146 Radioactive (16.07.2020) - Rosamund Pike (27.01.1979) 41-170"}]
["tt0342272","nm0683467",{"$f":"_xlfn.XLOOKUP($A387,_xlfn.CHOOSECOLS(_xlfn.ANCHORARRAY(Filme!$G$1),2),_xlfn.CHOOSECOLS(_xlfn.ANCHORARRAY(Filme!$G$1),3),\"\",0,2)","v":"Dear Wendy"},{"$f":"_xlfn.XLOOKUP($A387,_xlfn.CHOOSECOLS(_xlfn.ANCHORARRAY(Filme!$G$1),2),_xlfn.CHOOSECOLS(_xlfn.ANCHORARRAY(Filme!$G$1),4),\"\",0,2)","v":"2005-10-06"},{"$f":"_xlfn.XLOOKUP($B387,_xlfn.CHOOSECOLS(_xlfn.ANCHORARRAY(Leute!$F$1),2),_xlfn.CHOOSECOLS(_xlfn.ANCHORARRAY(Leute!$F$1),3),\"x\",0,2)","v":"Alison Pill"},{"$f":"_xlfn.XLOOKUP($B387,_xlfn.CHOOSECOLS(_xlfn.ANCHORARRAY(Leute!$F$1),2),_xlfn.CHOOSECOLS(_xlfn.ANCHORARRAY(Leute!$F$1),4),\"x\",0,2)","v":"1985-11-27"},{"$f":"RANK(F387,F$1:F387,0)","v":10},{"$f":"DATEDIF(F387,D387,\"Y\")","v":19},{"$f":"DATEDIF(F387,D387,\"YD\")","v":313},{"$f":"D387-F387","v":7253},{"$f":"\"MRS \"&TEXT(J387,\"00000\")&\" \"&SUBSTITUTE(C387,\":\",\"\")&\" (\"&TEXT(D387,\"TT.MM.JJJJ\")&\") - \"&E387&\" (\"&TEXT(F387,\"TT.MM.JJJJ\")&\") \"&H387&\"-\"&I387","v":"MRS 07253 Dear Wendy (06.10.2005) - Alison Pill (27.11.1985) 19-313"}]
["tt0874271","nm0713389",{"$f":"_xlfn.XLOOKUP($A388,_xlfn.CHOOSECOLS(_xlfn.ANCHORARRAY(Filme!$G$1),2),_xlfn.CHOOSECOLS(_xlfn.ANCHORARRAY(Filme!$G$1),3),\"\",0,2)","v":"Elsewhere"},{"$f":"_xlfn.XLOOKUP($A388,_xlfn.CHOOSECOLS(_xlfn.ANCHORARRAY(Filme!$G$1),2),_xlfn.CHOOSECOLS(_xlfn.ANCHORARRAY(Filme!$G$1),4),\"\",0,2)","v":"2009-01-15"},{"$f":"_xlfn.XLOOKUP($B388,_xlfn.CHOOSECOLS(_xlfn.ANCHORARRAY(Leute!$F$1),2),_xlfn.CHOOSECOLS(_xlfn.ANCHORARRAY(Leute!$F$1),3),\"x\",0,2)","v":"Tania Raymonde"},{"$f":"_xlfn.XLOOKUP($B388,_xlfn.CHOOSECOLS(_xlfn.ANCHORARRAY(Leute!$F$1),2),_xlfn.CHOOSECOLS(_xlfn.ANCHORARRAY(Leute!$F$1),4),\"x\",0,2)","v":"1988-03-22"},{"$f":"RANK(F388,F$1:F388,0)","v":8},{"$f":"DATEDIF(F388,D388,\"Y\")","v":20},{"$f":"DATEDIF(F388,D388,\"YD\")","v":299},{"$f":"D388-F388","v":7604},{"$f":"\"MRS \"&TEXT(J388,\"00000\")&\" \"&SUBSTITUTE(C388,\":\",\"\")&\" (\"&TEXT(D388,\"TT.MM.JJJJ\")&\") - \"&E388&\" (\"&TEXT(F388,\"TT.MM.JJJJ\")&\") \"&H388&\"-\"&I388","v":"MRS 07604 Elsewhere (15.01.2009) - Tania Raymonde (22.03.1988) 20-299"}]
["tt1222329","nm0713389",{"$f":"_xlfn.XLOOKUP($A389,_xlfn.CHOOSECOLS(_xlfn.ANCHORARRAY(Filme!$G$1),2),_xlfn.CHOOSECOLS(_xlfn.ANCHORARRAY(Filme!$G$1),3),\"\",0,2)","v":"Wild Cherry"},{"$f":"_xlfn.XLOOKUP($A389,_xlfn.CHOOSECOLS(_xlfn.ANCHORARRAY(Filme!$G$1),2),_xlfn.CHOOSECOLS(_xlfn.ANCHORARRAY(Filme!$G$1),4),\"\",0,2)","v":"2009-05-15"},{"$f":"_xlfn.XLOOKUP($B389,_xlfn.CHOOSECOLS(_xlfn.ANCHORARRAY(Leute!$F$1),2),_xlfn.CHOOSECOLS(_xlfn.ANCHORARRAY(Leute!$F$1),3),\"x\",0,2)","v":"Tania Raymonde"},{"$f":"_xlfn.XLOOKUP($B389,_xlfn.CHOOSECOLS(_xlfn.ANCHORARRAY(Leute!$F$1),2),_xlfn.CHOOSECOLS(_xlfn.ANCHORARRAY(Leute!$F$1),4),\"x\",0,2)","v":"1988-03-22"},{"$f":"RANK(F389,F$1:F389,0)","v":8},{"$f":"DATEDIF(F389,D389,\"Y\")","v":21},{"$f":"DATEDIF(F389,D389,\"YD\")","v":54},{"$f":"D389-F389","v":7724},{"$f":"\"MRS \"&TEXT(J389,\"00000\")&\" \"&SUBSTITUTE(C389,\":\",\"\")&\" (\"&TEXT(D389,\"TT.MM.JJJJ\")&\") - \"&E389&\" (\"&TEXT(F389,\"TT.MM.JJJJ\")&\") \"&H389&\"-\"&I389","v":"MRS 07724 Wild Cherry (15.05.2009) - Tania Raymonde (22.03.1988) 21-54"}]
["tt5278098","nm0713389",{"$f":"_xlfn.XLOOKUP($A390,_xlfn.CHOOSECOLS(_xlfn.ANCHORARRAY(Filme!$G$1),2),_xlfn.CHOOSECOLS(_xlfn.ANCHORARRAY(Filme!$G$1),3),\"\",0,2)","v":"Goliath"},{"$f":"_xlfn.XLOOKUP($A390,_xlfn.CHOOSECOLS(_xlfn.ANCHORARRAY(Filme!$G$1),2),_xlfn.CHOOSECOLS(_xlfn.ANCHORARRAY(Filme!$G$1),4),\"\",0,2)","v":"2016-10-14"},{"$f":"_xlfn.XLOOKUP($B390,_xlfn.CHOOSECOLS(_xlfn.ANCHORARRAY(Leute!$F$1),2),_xlfn.CHOOSECOLS(_xlfn.ANCHORARRAY(Leute!$F$1),3),\"x\",0,2)","v":"Tania Raymonde"},{"$f":"_xlfn.XLOOKUP($B390,_xlfn.CHOOSECOLS(_xlfn.ANCHORARRAY(Leute!$F$1),2),_xlfn.CHOOSECOLS(_xlfn.ANCHORARRAY(Leute!$F$1),4),\"x\",0,2)","v":"1988-03-22"},{"$f":"RANK(F390,F$1:F390,0)","v":8},{"$f":"DATEDIF(F390,D390,\"Y\")","v":28},{"$f":"DATEDIF(F390,D390,\"YD\")","v":206},{"$f":"D390-F390","v":10433},{"$f":"\"MRS \"&TEXT(J390,\"00000\")&\" \"&SUBSTITUTE(C390,\":\",\"\")&\" (\"&TEXT(D390,\"TT.MM.JJJJ\")&\") - \"&E390&\" (\"&TEXT(F390,\"TT.MM.JJJJ\")&\") \"&H390&\"-\"&I390","v":"MRS 10433 Goliath (14.10.2016) - Tania Raymonde (22.03.1988) 28-206"}]
["tt0272283","nm0717709",{"$f":"_xlfn.XLOOKUP($A391,_xlfn.CHOOSECOLS(_xlfn.ANCHORARRAY(Filme!$G$1),2),_xlfn.CHOOSECOLS(_xlfn.ANCHORARRAY(Filme!$G$1),3),\"\",0,2)","v":"The Safe House"},{"$f":"_xlfn.XLOOKUP($A391,_xlfn.CHOOSECOLS(_xlfn.ANCHORARRAY(Filme!$G$1),2),_xlfn.CHOOSECOLS(_xlfn.ANCHORARRAY(Filme!$G$1),4),\"\",0,2)","v":"2002-10-28"},{"$f":"_xlfn.XLOOKUP($B391,_xlfn.CHOOSECOLS(_xlfn.ANCHORARRAY(Leute!$F$1),2),_xlfn.CHOOSECOLS(_xlfn.ANCHORARRAY(Leute!$F$1),3),\"x\",0,2)","v":"Kelly Reilly"},{"$f":"_xlfn.XLOOKUP($B391,_xlfn.CHOOSECOLS(_xlfn.ANCHORARRAY(Leute!$F$1),2),_xlfn.CHOOSECOLS(_xlfn.ANCHORARRAY(Leute!$F$1),4),\"x\",0,2)","v":"1977-07-18"},{"$f":"RANK(F391,F$1:F391,0)","v":66},{"$f":"DATEDIF(F391,D391,\"Y\")","v":25},{"$f":"DATEDIF(F391,D391,\"YD\")","v":102},{"$f":"D391-F391","v":9233},{"$f":"\"MRS \"&TEXT(J391,\"00000\")&\" \"&SUBSTITUTE(C391,\":\",\"\")&\" (\"&TEXT(D391,\"TT.MM.JJJJ\")&\") - \"&E391&\" (\"&TEXT(F391,\"TT.MM.JJJJ\")&\") \"&H391&\"-\"&I391","v":"MRS 09233 The Safe House (28.10.2002) - Kelly Reilly (18.07.1977) 25-102"}]
["tt0349340","nm0717709",{"$f":"_xlfn.XLOOKUP($A392,_xlfn.CHOOSECOLS(_xlfn.ANCHORARRAY(Filme!$G$1),2),_xlfn.CHOOSECOLS(_xlfn.ANCHORARRAY(Filme!$G$1),3),\"\",0,2)","v":"Dead Bodies"},{"$f":"_xlfn.XLOOKUP($A392,_xlfn.CHOOSECOLS(_xlfn.ANCHORARRAY(Filme!$G$1),2),_xlfn.CHOOSECOLS(_xlfn.ANCHORARRAY(Filme!$G$1),4),\"\",0,2)","v":"2003-04-25"},{"$f":"_xlfn.XLOOKUP($B392,_xlfn.CHOOSECOLS(_xlfn.ANCHORARRAY(Leute!$F$1),2),_xlfn.CHOOSECOLS(_xlfn.ANCHORARRAY(Leute!$F$1),3),\"x\",0,2)","v":"Kelly Reilly"},{"$f":"_xlfn.XLOOKUP($B392,_xlfn.CHOOSECOLS(_xlfn.ANCHORARRAY(Leute!$F$1),2),_xlfn.CHOOSECOLS(_xlfn.ANCHORARRAY(Leute!$F$1),4),\"x\",0,2)","v":"1977-07-18"},{"$f":"RANK(F392,F$1:F392,0)","v":66},{"$f":"DATEDIF(F392,D392,\"Y\")","v":25},{"$f":"DATEDIF(F392,D392,\"YD\")","v":281},{"$f":"D392-F392","v":9412},{"$f":"\"MRS \"&TEXT(J392,\"00000\")&\" \"&SUBSTITUTE(C392,\":\",\"\")&\" (\"&TEXT(D392,\"TT.MM.JJJJ\")&\") - \"&E392&\" (\"&TEXT(F392,\"TT.MM.JJJJ\")&\") \"&H392&\"-\"&I392","v":"MRS 09412 Dead Bodies (25.04.2003) - Kelly Reilly (18.07.1977) 25-281"}]
["tt0409184","nm0717709",{"$f":"_xlfn.XLOOKUP($A393,_xlfn.CHOOSECOLS(_xlfn.ANCHORARRAY(Filme!$G$1),2),_xlfn.CHOOSECOLS(_xlfn.ANCHORARRAY(Filme!$G$1),3),\"\",0,2)","v":"Les poupées russes"},{"$f":"_xlfn.XLOOKUP($A393,_xlfn.CHOOSECOLS(_xlfn.ANCHORARRAY(Filme!$G$1),2),_xlfn.CHOOSECOLS(_xlfn.ANCHORARRAY(Filme!$G$1),4),\"\",0,2)","v":"2005-11-03"},{"$f":"_xlfn.XLOOKUP($B393,_xlfn.CHOOSECOLS(_xlfn.ANCHORARRAY(Leute!$F$1),2),_xlfn.CHOOSECOLS(_xlfn.ANCHORARRAY(Leute!$F$1),3),\"x\",0,2)","v":"Kelly Reilly"},{"$f":"_xlfn.XLOOKUP($B393,_xlfn.CHOOSECOLS(_xlfn.ANCHORARRAY(Leute!$F$1),2),_xlfn.CHOOSECOLS(_xlfn.ANCHORARRAY(Leute!$F$1),4),\"x\",0,2)","v":"1977-07-18"},{"$f":"RANK(F393,F$1:F393,0)","v":66},{"$f":"DATEDIF(F393,D393,\"Y\")","v":28},{"$f":"DATEDIF(F393,D393,\"YD\")","v":108},{"$f":"D393-F393","v":10335},{"$f":"\"MRS \"&TEXT(J393,\"00000\")&\" \"&SUBSTITUTE(C393,\":\",\"\")&\" (\"&TEXT(D393,\"TT.MM.JJJJ\")&\") - \"&E393&\" (\"&TEXT(F393,\"TT.MM.JJJJ\")&\") \"&H393&\"-\"&I393","v":"MRS 10335 Les poupées russes (03.11.2005) - Kelly Reilly (18.07.1977) 28-108"}]
["tt0413015","nm0717709",{"$f":"_xlfn.XLOOKUP($A394,_xlfn.CHOOSECOLS(_xlfn.ANCHORARRAY(Filme!$G$1),2),_xlfn.CHOOSECOLS(_xlfn.ANCHORARRAY(Filme!$G$1),3),\"\",0,2)","v":"Mrs. Henderson Presents"},{"$f":"_xlfn.XLOOKUP($A394,_xlfn.CHOOSECOLS(_xlfn.ANCHORARRAY(Filme!$G$1),2),_xlfn.CHOOSECOLS(_xlfn.ANCHORARRAY(Filme!$G$1),4),\"\",0,2)","v":"2006-06-22"},{"$f":"_xlfn.XLOOKUP($B394,_xlfn.CHOOSECOLS(_xlfn.ANCHORARRAY(Leute!$F$1),2),_xlfn.CHOOSECOLS(_xlfn.ANCHORARRAY(Leute!$F$1),3),\"x\",0,2)","v":"Kelly Reilly"},{"$f":"_xlfn.XLOOKUP($B394,_xlfn.CHOOSECOLS(_xlfn.ANCHORARRAY(Leute!$F$1),2),_xlfn.CHOOSECOLS(_xlfn.ANCHORARRAY(Leute!$F$1),4),\"x\",0,2)","v":"1977-07-18"},{"$f":"RANK(F394,F$1:F394,0)","v":66},{"$f":"DATEDIF(F394,D394,\"Y\")","v":28},{"$f":"DATEDIF(F394,D394,\"YD\")","v":339},{"$f":"D394-F394","v":10566},{"$f":"\"MRS \"&TEXT(J394,\"00000\")&\" \"&SUBSTITUTE(C394,\":\",\"\")&\" (\"&TEXT(D394,\"TT.MM.JJJJ\")&\") - \"&E394&\" (\"&TEXT(F394,\"TT.MM.JJJJ\")&\") \"&H394&\"-\"&I394","v":"MRS 10566 Mrs. Henderson Presents (22.06.2006) - Kelly Reilly (18.07.1977) 28-339"}]
["tt0484881","nm0717709",{"$f":"_xlfn.XLOOKUP($A395,_xlfn.CHOOSECOLS(_xlfn.ANCHORARRAY(Filme!$G$1),2),_xlfn.CHOOSECOLS(_xlfn.ANCHORARRAY(Filme!$G$1),3),\"\",0,2)","v":"Puffball"},{"$f":"_xlfn.XLOOKUP($A395,_xlfn.CHOOSECOLS(_xlfn.ANCHORARRAY(Filme!$G$1),2),_xlfn.CHOOSECOLS(_xlfn.ANCHORARRAY(Filme!$G$1),4),\"\",0,2)","v":"2007-10-28"},{"$f":"_xlfn.XLOOKUP($B395,_xlfn.CHOOSECOLS(_xlfn.ANCHORARRAY(Leute!$F$1),2),_xlfn.CHOOSECOLS(_xlfn.ANCHORARRAY(Leute!$F$1),3),\"x\",0,2)","v":"Kelly Reilly"},{"$f":"_xlfn.XLOOKUP($B395,_xlfn.CHOOSECOLS(_xlfn.ANCHORARRAY(Leute!$F$1),2),_xlfn.CHOOSECOLS(_xlfn.ANCHORARRAY(Leute!$F$1),4),\"x\",0,2)","v":"1977-07-18"},{"$f":"RANK(F395,F$1:F395,0)","v":66},{"$f":"DATEDIF(F395,D395,\"Y\")","v":30},{"$f":"DATEDIF(F395,D395,\"YD\")","v":102},{"$f":"D395-F395","v":11059},{"$f":"\"MRS \"&TEXT(J395,\"00000\")&\" \"&SUBSTITUTE(C395,\":\",\"\")&\" (\"&TEXT(D395,\"TT.MM.JJJJ\")&\") - \"&E395&\" (\"&TEXT(F395,\"TT.MM.JJJJ\")&\") \"&H395&\"-\"&I395","v":"MRS 11059 Puffball (28.10.2007) - Kelly Reilly (18.07.1977) 30-102"}]
["tt0899109","nm0717709",{"$f":"_xlfn.XLOOKUP($A396,_xlfn.CHOOSECOLS(_xlfn.ANCHORARRAY(Filme!$G$1),2),_xlfn.CHOOSECOLS(_xlfn.ANCHORARRAY(Filme!$G$1),3),\"\",0,2)","v":"Joe's Palace"},{"$f":"_xlfn.XLOOKUP($A396,_xlfn.CHOOSECOLS(_xlfn.ANCHORARRAY(Filme!$G$1),2),_xlfn.CHOOSECOLS(_xlfn.ANCHORARRAY(Filme!$G$1),4),\"\",0,2)","v":"2007-11-04"},{"$f":"_xlfn.XLOOKUP($B396,_xlfn.CHOOSECOLS(_xlfn.ANCHORARRAY(Leute!$F$1),2),_xlfn.CHOOSECOLS(_xlfn.ANCHORARRAY(Leute!$F$1),3),\"x\",0,2)","v":"Kelly Reilly"},{"$f":"_xlfn.XLOOKUP($B396,_xlfn.CHOOSECOLS(_xlfn.ANCHORARRAY(Leute!$F$1),2),_xlfn.CHOOSECOLS(_xlfn.ANCHORARRAY(Leute!$F$1),4),\"x\",0,2)","v":"1977-07-18"},{"$f":"RANK(F396,F$1:F396,0)","v":66},{"$f":"DATEDIF(F396,D396,\"Y\")","v":30},{"$f":"DATEDIF(F396,D396,\"YD\")","v":109},{"$f":"D396-F396","v":11066},{"$f":"\"MRS \"&TEXT(J396,\"00000\")&\" \"&SUBSTITUTE(C396,\":\",\"\")&\" (\"&TEXT(D396,\"TT.MM.JJJJ\")&\") - \"&E396&\" (\"&TEXT(F396,\"TT.MM.JJJJ\")&\") \"&H396&\"-\"&I396","v":"MRS 11066 Joe's Palace (04.11.2007) - Kelly Reilly (18.07.1977) 30-109"}]
["tt4057170","nm0717709",{"$f":"_xlfn.XLOOKUP($A397,_xlfn.CHOOSECOLS(_xlfn.ANCHORARRAY(Filme!$G$1),2),_xlfn.CHOOSECOLS(_xlfn.ANCHORARRAY(Filme!$G$1),3),\"\",0,2)","v":"True Detective"},{"$f":"_xlfn.XLOOKUP($A397,_xlfn.CHOOSECOLS(_xlfn.ANCHORARRAY(Filme!$G$1),2),_xlfn.CHOOSECOLS(_xlfn.ANCHORARRAY(Filme!$G$1),4),\"\",0,2)","v":"2015-07-19"},{"$f":"_xlfn.XLOOKUP($B397,_xlfn.CHOOSECOLS(_xlfn.ANCHORARRAY(Leute!$F$1),2),_xlfn.CHOOSECOLS(_xlfn.ANCHORARRAY(Leute!$F$1),3),\"x\",0,2)","v":"Kelly Reilly"},{"$f":"_xlfn.XLOOKUP($B397,_xlfn.CHOOSECOLS(_xlfn.ANCHORARRAY(Leute!$F$1),2),_xlfn.CHOOSECOLS(_xlfn.ANCHORARRAY(Leute!$F$1),4),\"x\",0,2)","v":"1977-07-18"},{"$f":"RANK(F397,F$1:F397,0)","v":66},{"$f":"DATEDIF(F397,D397,\"Y\")","v":38},{"$f":"DATEDIF(F397,D397,\"YD\")","v":1},{"$f":"D397-F397","v":13880},{"$f":"\"MRS \"&TEXT(J397,\"00000\")&\" \"&SUBSTITUTE(C397,\":\",\"\")&\" (\"&TEXT(D397,\"TT.MM.JJJJ\")&\") - \"&E397&\" (\"&TEXT(F397,\"TT.MM.JJJJ\")&\") \"&H397&\"-\"&I397","v":"MRS 13880 True Detective (19.07.2015) - Kelly Reilly (18.07.1977) 38-1"}]
["tt6035650","nm0717709",{"$f":"_xlfn.XLOOKUP($A398,_xlfn.CHOOSECOLS(_xlfn.ANCHORARRAY(Filme!$G$1),2),_xlfn.CHOOSECOLS(_xlfn.ANCHORARRAY(Filme!$G$1),3),\"\",0,2)","v":"Britannia"},{"$f":"_xlfn.XLOOKUP($A398,_xlfn.CHOOSECOLS(_xlfn.ANCHORARRAY(Filme!$G$1),2),_xlfn.CHOOSECOLS(_xlfn.ANCHORARRAY(Filme!$G$1),4),\"\",0,2)","v":"2018-01-18"},{"$f":"_xlfn.XLOOKUP($B398,_xlfn.CHOOSECOLS(_xlfn.ANCHORARRAY(Leute!$F$1),2),_xlfn.CHOOSECOLS(_xlfn.ANCHORARRAY(Leute!$F$1),3),\"x\",0,2)","v":"Kelly Reilly"},{"$f":"_xlfn.XLOOKUP($B398,_xlfn.CHOOSECOLS(_xlfn.ANCHORARRAY(Leute!$F$1),2),_xlfn.CHOOSECOLS(_xlfn.ANCHORARRAY(Leute!$F$1),4),\"x\",0,2)","v":"1977-07-18"},{"$f":"RANK(F398,F$1:F398,0)","v":66},{"$f":"DATEDIF(F398,D398,\"Y\")","v":40},{"$f":"DATEDIF(F398,D398,\"YD\")","v":184},{"$f":"D398-F398","v":14794},{"$f":"\"MRS \"&TEXT(J398,\"00000\")&\" \"&SUBSTITUTE(C398,\":\",\"\")&\" (\"&TEXT(D398,\"TT.MM.JJJJ\")&\") - \"&E398&\" (\"&TEXT(F398,\"TT.MM.JJJJ\")&\") \"&H398&\"-\"&I398","v":"MRS 14794 Britannia (18.01.2018) - Kelly Reilly (18.07.1977) 40-184"}]
["tt7529124","nm0717709",{"$f":"_xlfn.XLOOKUP($A399,_xlfn.CHOOSECOLS(_xlfn.ANCHORARRAY(Filme!$G$1),2),_xlfn.CHOOSECOLS(_xlfn.ANCHORARRAY(Filme!$G$1),3),\"\",0,2)","v":"Yellowstone"},{"$f":"_xlfn.XLOOKUP($A399,_xlfn.CHOOSECOLS(_xlfn.ANCHORARRAY(Filme!$G$1),2),_xlfn.CHOOSECOLS(_xlfn.ANCHORARRAY(Filme!$G$1),4),\"\",0,2)","v":"2020-11-24"},{"$f":"_xlfn.XLOOKUP($B399,_xlfn.CHOOSECOLS(_xlfn.ANCHORARRAY(Leute!$F$1),2),_xlfn.CHOOSECOLS(_xlfn.ANCHORARRAY(Leute!$F$1),3),\"x\",0,2)","v":"Kelly Reilly"},{"$f":"_xlfn.XLOOKUP($B399,_xlfn.CHOOSECOLS(_xlfn.ANCHORARRAY(Leute!$F$1),2),_xlfn.CHOOSECOLS(_xlfn.ANCHORARRAY(Leute!$F$1),4),\"x\",0,2)","v":"1977-07-18"},{"$f":"RANK(F399,F$1:F399,0)","v":66},{"$f":"DATEDIF(F399,D399,\"Y\")","v":43},{"$f":"DATEDIF(F399,D399,\"YD\")","v":129},{"$f":"D399-F399","v":15835},{"$f":"\"MRS \"&TEXT(J399,\"00000\")&\" \"&SUBSTITUTE(C399,\":\",\"\")&\" (\"&TEXT(D399,\"TT.MM.JJJJ\")&\") - \"&E399&\" (\"&TEXT(F399,\"TT.MM.JJJJ\")&\") \"&H399&\"-\"&I399","v":"MRS 15835 Yellowstone (24.11.2020) - Kelly Reilly (18.07.1977) 43-129"}]
["tt9907782","nm0717709",{"$f":"_xlfn.XLOOKUP($A400,_xlfn.CHOOSECOLS(_xlfn.ANCHORARRAY(Filme!$G$1),2),_xlfn.CHOOSECOLS(_xlfn.ANCHORARRAY(Filme!$G$1),3),\"\",0,2)","v":"Eight for Silver"},{"$f":"_xlfn.XLOOKUP($A400,_xlfn.CHOOSECOLS(_xlfn.ANCHORARRAY(Filme!$G$1),2),_xlfn.CHOOSECOLS(_xlfn.ANCHORARRAY(Filme!$G$1),4),\"\",0,2)","v":"2022-02-18"},{"$f":"_xlfn.XLOOKUP($B400,_xlfn.CHOOSECOLS(_xlfn.ANCHORARRAY(Leute!$F$1),2),_xlfn.CHOOSECOLS(_xlfn.ANCHORARRAY(Leute!$F$1),3),\"x\",0,2)","v":"Kelly Reilly"},{"$f":"_xlfn.XLOOKUP($B400,_xlfn.CHOOSECOLS(_xlfn.ANCHORARRAY(Leute!$F$1),2),_xlfn.CHOOSECOLS(_xlfn.ANCHORARRAY(Leute!$F$1),4),\"x\",0,2)","v":"1977-07-18"},{"$f":"RANK(F400,F$1:F400,0)","v":66},{"$f":"DATEDIF(F400,D400,\"Y\")","v":44},{"$f":"DATEDIF(F400,D400,\"YD\")","v":215},{"$f":"D400-F400","v":16286},{"$f":"\"MRS \"&TEXT(J400,\"00000\")&\" \"&SUBSTITUTE(C400,\":\",\"\")&\" (\"&TEXT(D400,\"TT.MM.JJJJ\")&\") - \"&E400&\" (\"&TEXT(F400,\"TT.MM.JJJJ\")&\") \"&H400&\"-\"&I400","v":"MRS 16286 Eight for Silver (18.02.2022) - Kelly Reilly (18.07.1977) 44-215"}]
["tt1411250","nm0755267",{"$f":"_xlfn.XLOOKUP($A401,_xlfn.CHOOSECOLS(_xlfn.ANCHORARRAY(Filme!$G$1),2),_xlfn.CHOOSECOLS(_xlfn.ANCHORARRAY(Filme!$G$1),3),\"\",0,2)","v":"Riddick"},{"$f":"_xlfn.XLOOKUP($A401,_xlfn.CHOOSECOLS(_xlfn.ANCHORARRAY(Filme!$G$1),2),_xlfn.CHOOSECOLS(_xlfn.ANCHORARRAY(Filme!$G$1),4),\"\",0,2)","v":"2013-09-19"},{"$f":"_xlfn.XLOOKUP($B401,_xlfn.CHOOSECOLS(_xlfn.ANCHORARRAY(Leute!$F$1),2),_xlfn.CHOOSECOLS(_xlfn.ANCHORARRAY(Leute!$F$1),3),\"x\",0,2)","v":"Katee Sackhoff"},{"$f":"_xlfn.XLOOKUP($B401,_xlfn.CHOOSECOLS(_xlfn.ANCHORARRAY(Leute!$F$1),2),_xlfn.CHOOSECOLS(_xlfn.ANCHORARRAY(Leute!$F$1),4),\"x\",0,2)","v":"1980-04-08"},{"$f":"RANK(F401,F$1:F401,0)","v":50},{"$f":"DATEDIF(F401,D401,\"Y\")","v":33},{"$f":"DATEDIF(F401,D401,\"YD\")","v":164},{"$f":"D401-F401","v":12217},{"$f":"\"MRS \"&TEXT(J401,\"00000\")&\" \"&SUBSTITUTE(C401,\":\",\"\")&\" (\"&TEXT(D401,\"TT.MM.JJJJ\")&\") - \"&E401&\" (\"&TEXT(F401,\"TT.MM.JJJJ\")&\") \"&H401&\"-\"&I401","v":"MRS 12217 Riddick (19.09.2013) - Katee Sackhoff (08.04.1980) 33-164"}]
["tt6211328","nm0755267",{"$f":"_xlfn.XLOOKUP($A402,_xlfn.CHOOSECOLS(_xlfn.ANCHORARRAY(Filme!$G$1),2),_xlfn.CHOOSECOLS(_xlfn.ANCHORARRAY(Filme!$G$1),3),\"\",0,2)","v":"Longmire"},{"$f":"_xlfn.XLOOKUP($A402,_xlfn.CHOOSECOLS(_xlfn.ANCHORARRAY(Filme!$G$1),2),_xlfn.CHOOSECOLS(_xlfn.ANCHORARRAY(Filme!$G$1),4),\"\",0,2)","v":"2017-11-17"},{"$f":"_xlfn.XLOOKUP($B402,_xlfn.CHOOSECOLS(_xlfn.ANCHORARRAY(Leute!$F$1),2),_xlfn.CHOOSECOLS(_xlfn.ANCHORARRAY(Leute!$F$1),3),\"x\",0,2)","v":"Katee Sackhoff"},{"$f":"_xlfn.XLOOKUP($B402,_xlfn.CHOOSECOLS(_xlfn.ANCHORARRAY(Leute!$F$1),2),_xlfn.CHOOSECOLS(_xlfn.ANCHORARRAY(Leute!$F$1),4),\"x\",0,2)","v":"1980-04-08"},{"$f":"RANK(F402,F$1:F402,0)","v":50},{"$f":"DATEDIF(F402,D402,\"Y\")","v":37},{"$f":"DATEDIF(F402,D402,\"YD\")","v":223},{"$f":"D402-F402","v":13737},{"$f":"\"MRS \"&TEXT(J402,\"00000\")&\" \"&SUBSTITUTE(C402,\":\",\"\")&\" (\"&TEXT(D402,\"TT.MM.JJJJ\")&\") - \"&E402&\" (\"&TEXT(F402,\"TT.MM.JJJJ\")&\") \"&H402&\"-\"&I402","v":"MRS 13737 Longmire (17.11.2017) - Katee Sackhoff (08.04.1980) 37-223"}]
["tt8369856","nm0755267",{"$f":"_xlfn.XLOOKUP($A403,_xlfn.CHOOSECOLS(_xlfn.ANCHORARRAY(Filme!$G$1),2),_xlfn.CHOOSECOLS(_xlfn.ANCHORARRAY(Filme!$G$1),3),\"\",0,2)","v":"Another Life"},{"$f":"_xlfn.XLOOKUP($A403,_xlfn.CHOOSECOLS(_xlfn.ANCHORARRAY(Filme!$G$1),2),_xlfn.CHOOSECOLS(_xlfn.ANCHORARRAY(Filme!$G$1),4),\"\",0,2)","v":"2019-07-25"},{"$f":"_xlfn.XLOOKUP($B403,_xlfn.CHOOSECOLS(_xlfn.ANCHORARRAY(Leute!$F$1),2),_xlfn.CHOOSECOLS(_xlfn.ANCHORARRAY(Leute!$F$1),3),\"x\",0,2)","v":"Katee Sackhoff"},{"$f":"_xlfn.XLOOKUP($B403,_xlfn.CHOOSECOLS(_xlfn.ANCHORARRAY(Leute!$F$1),2),_xlfn.CHOOSECOLS(_xlfn.ANCHORARRAY(Leute!$F$1),4),\"x\",0,2)","v":"1980-04-08"},{"$f":"RANK(F403,F$1:F403,0)","v":50},{"$f":"DATEDIF(F403,D403,\"Y\")","v":39},{"$f":"DATEDIF(F403,D403,\"YD\")","v":108},{"$f":"D403-F403","v":14352},{"$f":"\"MRS \"&TEXT(J403,\"00000\")&\" \"&SUBSTITUTE(C403,\":\",\"\")&\" (\"&TEXT(D403,\"TT.MM.JJJJ\")&\") - \"&E403&\" (\"&TEXT(F403,\"TT.MM.JJJJ\")&\") \"&H403&\"-\"&I403","v":"MRS 14352 Another Life (25.07.2019) - Katee Sackhoff (08.04.1980) 39-108"}]
["tt0493076","nm0757855",{"$f":"_xlfn.XLOOKUP($A404,_xlfn.CHOOSECOLS(_xlfn.ANCHORARRAY(Filme!$G$1),2),_xlfn.CHOOSECOLS(_xlfn.ANCHORARRAY(Filme!$G$1),3),\"\",0,2)","v":"Nina"},{"$f":"_xlfn.XLOOKUP($A404,_xlfn.CHOOSECOLS(_xlfn.ANCHORARRAY(Filme!$G$1),2),_xlfn.CHOOSECOLS(_xlfn.ANCHORARRAY(Filme!$G$1),4),\"\",0,2)","v":"2016-04-22"},{"$f":"_xlfn.XLOOKUP($B404,_xlfn.CHOOSECOLS(_xlfn.ANCHORARRAY(Leute!$F$1),2),_xlfn.CHOOSECOLS(_xlfn.ANCHORARRAY(Leute!$F$1),3),\"x\",0,2)","v":"Zoe Saldana"},{"$f":"_xlfn.XLOOKUP($B404,_xlfn.CHOOSECOLS(_xlfn.ANCHORARRAY(Leute!$F$1),2),_xlfn.CHOOSECOLS(_xlfn.ANCHORARRAY(Leute!$F$1),4),\"x\",0,2)","v":"1978-06-19"},{"$f":"RANK(F404,F$1:F404,0)","v":69},{"$f":"DATEDIF(F404,D404,\"Y\")","v":37},{"$f":"DATEDIF(F404,D404,\"YD\")","v":307},{"$f":"D404-F404","v":13822},{"$f":"\"MRS \"&TEXT(J404,\"00000\")&\" \"&SUBSTITUTE(C404,\":\",\"\")&\" (\"&TEXT(D404,\"TT.MM.JJJJ\")&\") - \"&E404&\" (\"&TEXT(F404,\"TT.MM.JJJJ\")&\") \"&H404&\"-\"&I404","v":"MRS 13822 Nina (22.04.2016) - Zoe Saldana (19.06.1978) 37-307"}]
["tt1657507","nm0757855",{"$f":"_xlfn.XLOOKUP($A405,_xlfn.CHOOSECOLS(_xlfn.ANCHORARRAY(Filme!$G$1),2),_xlfn.CHOOSECOLS(_xlfn.ANCHORARRAY(Filme!$G$1),3),\"\",0,2)","v":"Colombiana"},{"$f":"_xlfn.XLOOKUP($A405,_xlfn.CHOOSECOLS(_xlfn.ANCHORARRAY(Filme!$G$1),2),_xlfn.CHOOSECOLS(_xlfn.ANCHORARRAY(Filme!$G$1),4),\"\",0,2)","v":"2011-09-15"},{"$f":"_xlfn.XLOOKUP($B405,_xlfn.CHOOSECOLS(_xlfn.ANCHORARRAY(Leute!$F$1),2),_xlfn.CHOOSECOLS(_xlfn.ANCHORARRAY(Leute!$F$1),3),\"x\",0,2)","v":"Zoe Saldana"},{"$f":"_xlfn.XLOOKUP($B405,_xlfn.CHOOSECOLS(_xlfn.ANCHORARRAY(Leute!$F$1),2),_xlfn.CHOOSECOLS(_xlfn.ANCHORARRAY(Leute!$F$1),4),\"x\",0,2)","v":"1978-06-19"},{"$f":"RANK(F405,F$1:F405,0)","v":69},{"$f":"DATEDIF(F405,D405,\"Y\")","v":33},{"$f":"DATEDIF(F405,D405,\"YD\")","v":88},{"$f":"D405-F405","v":12141},{"$f":"\"MRS \"&TEXT(J405,\"00000\")&\" \"&SUBSTITUTE(C405,\":\",\"\")&\" (\"&TEXT(D405,\"TT.MM.JJJJ\")&\") - \"&E405&\" (\"&TEXT(F405,\"TT.MM.JJJJ\")&\") \"&H405&\"-\"&I405","v":"MRS 12141 Colombiana (15.09.2011) - Zoe Saldana (19.06.1978) 33-88"}]
["tt33295778","nm0757855",{"$f":"_xlfn.XLOOKUP($A406,_xlfn.CHOOSECOLS(_xlfn.ANCHORARRAY(Filme!$G$1),2),_xlfn.CHOOSECOLS(_xlfn.ANCHORARRAY(Filme!$G$1),3),\"\",0,2)","v":"Lioness"},{"$f":"_xlfn.XLOOKUP($A406,_xlfn.CHOOSECOLS(_xlfn.ANCHORARRAY(Filme!$G$1),2),_xlfn.CHOOSECOLS(_xlfn.ANCHORARRAY(Filme!$G$1),4),\"\",0,2)","v":"2024-11-03"},{"$f":"_xlfn.XLOOKUP($B406,_xlfn.CHOOSECOLS(_xlfn.ANCHORARRAY(Leute!$F$1),2),_xlfn.CHOOSECOLS(_xlfn.ANCHORARRAY(Leute!$F$1),3),\"x\",0,2)","v":"Zoe Saldana"},{"$f":"_xlfn.XLOOKUP($B406,_xlfn.CHOOSECOLS(_xlfn.ANCHORARRAY(Leute!$F$1),2),_xlfn.CHOOSECOLS(_xlfn.ANCHORARRAY(Leute!$F$1),4),\"x\",0,2)","v":"1978-06-19"},{"$f":"RANK(F406,F$1:F406,0)","v":69},{"$f":"DATEDIF(F406,D406,\"Y\")","v":46},{"$f":"DATEDIF(F406,D406,\"YD\")","v":137},{"$f":"D406-F406","v":16939},{"$f":"\"MRS \"&TEXT(J406,\"00000\")&\" \"&SUBSTITUTE(C406,\":\",\"\")&\" (\"&TEXT(D406,\"TT.MM.JJJJ\")&\") - \"&E406&\" (\"&TEXT(F406,\"TT.MM.JJJJ\")&\") \"&H406&\"-\"&I406","v":"MRS 16939 Lioness (03.11.2024) - Zoe Saldana (19.06.1978) 46-137"}]
["tt0119042","nm0781899",{"$f":"_xlfn.XLOOKUP($A407,_xlfn.CHOOSECOLS(_xlfn.ANCHORARRAY(Filme!$G$1),2),_xlfn.CHOOSECOLS(_xlfn.ANCHORARRAY(Filme!$G$1),3),\"\",0,2)","v":"Eat Your Heart Out"},{"$f":"_xlfn.XLOOKUP($A407,_xlfn.CHOOSECOLS(_xlfn.ANCHORARRAY(Filme!$G$1),2),_xlfn.CHOOSECOLS(_xlfn.ANCHORARRAY(Filme!$G$1),4),\"\",0,2)","v":"2000-10-24"},{"$f":"_xlfn.XLOOKUP($B407,_xlfn.CHOOSECOLS(_xlfn.ANCHORARRAY(Leute!$F$1),2),_xlfn.CHOOSECOLS(_xlfn.ANCHORARRAY(Leute!$F$1),3),\"x\",0,2)","v":"Pamela Adlon"},{"$f":"_xlfn.XLOOKUP($B407,_xlfn.CHOOSECOLS(_xlfn.ANCHORARRAY(Leute!$F$1),2),_xlfn.CHOOSECOLS(_xlfn.ANCHORARRAY(Leute!$F$1),4),\"x\",0,2)","v":"1966-07-09"},{"$f":"RANK(F407,F$1:F407,0)","v":290},{"$f":"DATEDIF(F407,D407,\"Y\")","v":34},{"$f":"DATEDIF(F407,D407,\"YD\")","v":107},{"$f":"D407-F407","v":12526},{"$f":"\"MRS \"&TEXT(J407,\"00000\")&\" \"&SUBSTITUTE(C407,\":\",\"\")&\" (\"&TEXT(D407,\"TT.MM.JJJJ\")&\") - \"&E407&\" (\"&TEXT(F407,\"TT.MM.JJJJ\")&\") \"&H407&\"-\"&I407","v":"MRS 12526 Eat Your Heart Out (24.10.2000) - Pamela Adlon (09.07.1966) 34-107"}]
["tt2900208","nm0781899",{"$f":"_xlfn.XLOOKUP($A408,_xlfn.CHOOSECOLS(_xlfn.ANCHORARRAY(Filme!$G$1),2),_xlfn.CHOOSECOLS(_xlfn.ANCHORARRAY(Filme!$G$1),3),\"\",0,2)","v":"Californication"},{"$f":"_xlfn.XLOOKUP($A408,_xlfn.CHOOSECOLS(_xlfn.ANCHORARRAY(Filme!$G$1),2),_xlfn.CHOOSECOLS(_xlfn.ANCHORARRAY(Filme!$G$1),4),\"\",0,2)","v":"2014-04-20"},{"$f":"_xlfn.XLOOKUP($B408,_xlfn.CHOOSECOLS(_xlfn.ANCHORARRAY(Leute!$F$1),2),_xlfn.CHOOSECOLS(_xlfn.ANCHORARRAY(Leute!$F$1),3),\"x\",0,2)","v":"Pamela Adlon"},{"$f":"_xlfn.XLOOKUP($B408,_xlfn.CHOOSECOLS(_xlfn.ANCHORARRAY(Leute!$F$1),2),_xlfn.CHOOSECOLS(_xlfn.ANCHORARRAY(Leute!$F$1),4),\"x\",0,2)","v":"1966-07-09"},{"$f":"RANK(F408,F$1:F408,0)","v":290},{"$f":"DATEDIF(F408,D408,\"Y\")","v":47},{"$f":"DATEDIF(F408,D408,\"YD\")","v":285},{"$f":"D408-F408","v":17452},{"$f":"\"MRS \"&TEXT(J408,\"00000\")&\" \"&SUBSTITUTE(C408,\":\",\"\")&\" (\"&TEXT(D408,\"TT.MM.JJJJ\")&\") - \"&E408&\" (\"&TEXT(F408,\"TT.MM.JJJJ\")&\") \"&H408&\"-\"&I408","v":"MRS 17452 Californication (20.04.2014) - Pamela Adlon (09.07.1966) 47-285"}]
["tt3775768","nm0781899",{"$f":"_xlfn.XLOOKUP($A409,_xlfn.CHOOSECOLS(_xlfn.ANCHORARRAY(Filme!$G$1),2),_xlfn.CHOOSECOLS(_xlfn.ANCHORARRAY(Filme!$G$1),3),\"\",0,2)","v":"Louie"},{"$f":"_xlfn.XLOOKUP($A409,_xlfn.CHOOSECOLS(_xlfn.ANCHORARRAY(Filme!$G$1),2),_xlfn.CHOOSECOLS(_xlfn.ANCHORARRAY(Filme!$G$1),4),\"\",0,2)","v":"2014-06-16"},{"$f":"_xlfn.XLOOKUP($B409,_xlfn.CHOOSECOLS(_xlfn.ANCHORARRAY(Leute!$F$1),2),_xlfn.CHOOSECOLS(_xlfn.ANCHORARRAY(Leute!$F$1),3),\"x\",0,2)","v":"Pamela Adlon"},{"$f":"_xlfn.XLOOKUP($B409,_xlfn.CHOOSECOLS(_xlfn.ANCHORARRAY(Leute!$F$1),2),_xlfn.CHOOSECOLS(_xlfn.ANCHORARRAY(Leute!$F$1),4),\"x\",0,2)","v":"1966-07-09"},{"$f":"RANK(F409,F$1:F409,0)","v":290},{"$f":"DATEDIF(F409,D409,\"Y\")","v":47},{"$f":"DATEDIF(F409,D409,\"YD\")","v":342},{"$f":"D409-F409","v":17509},{"$f":"\"MRS \"&TEXT(J409,\"00000\")&\" \"&SUBSTITUTE(C409,\":\",\"\")&\" (\"&TEXT(D409,\"TT.MM.JJJJ\")&\") - \"&E409&\" (\"&TEXT(F409,\"TT.MM.JJJJ\")&\") \"&H409&\"-\"&I409","v":"MRS 17509 Louie (16.06.2014) - Pamela Adlon (09.07.1966) 47-342"}]
["tt6080486","nm0781899",{"$f":"_xlfn.XLOOKUP($A410,_xlfn.CHOOSECOLS(_xlfn.ANCHORARRAY(Filme!$G$1),2),_xlfn.CHOOSECOLS(_xlfn.ANCHORARRAY(Filme!$G$1),3),\"\",0,2)","v":"Better Things"},{"$f":"_xlfn.XLOOKUP($A410,_xlfn.CHOOSECOLS(_xlfn.ANCHORARRAY(Filme!$G$1),2),_xlfn.CHOOSECOLS(_xlfn.ANCHORARRAY(Filme!$G$1),4),\"\",0,2)","v":"2017-09-14"},{"$f":"_xlfn.XLOOKUP($B410,_xlfn.CHOOSECOLS(_xlfn.ANCHORARRAY(Leute!$F$1),2),_xlfn.CHOOSECOLS(_xlfn.ANCHORARRAY(Leute!$F$1),3),\"x\",0,2)","v":"Pamela Adlon"},{"$f":"_xlfn.XLOOKUP($B410,_xlfn.CHOOSECOLS(_xlfn.ANCHORARRAY(Leute!$F$1),2),_xlfn.CHOOSECOLS(_xlfn.ANCHORARRAY(Leute!$F$1),4),\"x\",0,2)","v":"1966-07-09"},{"$f":"RANK(F410,F$1:F410,0)","v":290},{"$f":"DATEDIF(F410,D410,\"Y\")","v":51},{"$f":"DATEDIF(F410,D410,\"YD\")","v":67},{"$f":"D410-F410","v":18695},{"$f":"\"MRS \"&TEXT(J410,\"00000\")&\" \"&SUBSTITUTE(C410,\":\",\"\")&\" (\"&TEXT(D410,\"TT.MM.JJJJ\")&\") - \"&E410&\" (\"&TEXT(F410,\"TT.MM.JJJJ\")&\") \"&H410&\"-\"&I410","v":"MRS 18695 Better Things (14.09.2017) - Pamela Adlon (09.07.1966) 51-67"}]
["tt0100196","nm0789716",{"$f":"_xlfn.XLOOKUP($A411,_xlfn.CHOOSECOLS(_xlfn.ANCHORARRAY(Filme!$G$1),2),_xlfn.CHOOSECOLS(_xlfn.ANCHORARRAY(Filme!$G$1),3),\"\",0,2)","v":"Mountains of the Moon"},{"$f":"_xlfn.XLOOKUP($A411,_xlfn.CHOOSECOLS(_xlfn.ANCHORARRAY(Filme!$G$1),2),_xlfn.CHOOSECOLS(_xlfn.ANCHORARRAY(Filme!$G$1),4),\"\",0,2)","v":"1990-05-10"},{"$f":"_xlfn.XLOOKUP($B411,_xlfn.CHOOSECOLS(_xlfn.ANCHORARRAY(Leute!$F$1),2),_xlfn.CHOOSECOLS(_xlfn.ANCHORARRAY(Leute!$F$1),3),\"x\",0,2)","v":"Fiona Shaw"},{"$f":"_xlfn.XLOOKUP($B411,_xlfn.CHOOSECOLS(_xlfn.ANCHORARRAY(Leute!$F$1),2),_xlfn.CHOOSECOLS(_xlfn.ANCHORARRAY(Leute!$F$1),4),\"x\",0,2)","v":"1958-07-10"},{"$f":"RANK(F411,F$1:F411,0)","v":391},{"$f":"DATEDIF(F411,D411,\"Y\")","v":31},{"$f":"DATEDIF(F411,D411,\"YD\")","v":304},{"$f":"D411-F411","v":11627},{"$f":"\"MRS \"&TEXT(J411,\"00000\")&\" \"&SUBSTITUTE(C411,\":\",\"\")&\" (\"&TEXT(D411,\"TT.MM.JJJJ\")&\") - \"&E411&\" (\"&TEXT(F411,\"TT.MM.JJJJ\")&\") \"&H411&\"-\"&I411","v":"MRS 11627 Mountains of the Moon (10.05.1990) - Fiona Shaw (10.07.1958) 31-304"}]
["tt1472460","nm0790057",{"$f":"_xlfn.XLOOKUP($A412,_xlfn.CHOOSECOLS(_xlfn.ANCHORARRAY(Filme!$G$1),2),_xlfn.CHOOSECOLS(_xlfn.ANCHORARRAY(Filme!$G$1),3),\"\",0,2)","v":"Paint It Black"},{"$f":"_xlfn.XLOOKUP($A412,_xlfn.CHOOSECOLS(_xlfn.ANCHORARRAY(Filme!$G$1),2),_xlfn.CHOOSECOLS(_xlfn.ANCHORARRAY(Filme!$G$1),4),\"\",0,2)","v":"2016-06-03"},{"$f":"_xlfn.XLOOKUP($B412,_xlfn.CHOOSECOLS(_xlfn.ANCHORARRAY(Leute!$F$1),2),_xlfn.CHOOSECOLS(_xlfn.ANCHORARRAY(Leute!$F$1),3),\"x\",0,2)","v":"Alia Shawkat"},{"$f":"_xlfn.XLOOKUP($B412,_xlfn.CHOOSECOLS(_xlfn.ANCHORARRAY(Leute!$F$1),2),_xlfn.CHOOSECOLS(_xlfn.ANCHORARRAY(Leute!$F$1),4),\"x\",0,2)","v":"1989-04-18"},{"$f":"RANK(F412,F$1:F412,0)","v":1},{"$f":"DATEDIF(F412,D412,\"Y\")","v":27},{"$f":"DATEDIF(F412,D412,\"YD\")","v":46},{"$f":"D412-F412","v":9908},{"$f":"\"MRS \"&TEXT(J412,\"00000\")&\" \"&SUBSTITUTE(C412,\":\",\"\")&\" (\"&TEXT(D412,\"TT.MM.JJJJ\")&\") - \"&E412&\" (\"&TEXT(F412,\"TT.MM.JJJJ\")&\") \"&H412&\"-\"&I412","v":"MRS 09908 Paint It Black (03.06.2016) - Alia Shawkat (18.04.1989) 27-46"}]
["tt20415224","nm0790057",{"$f":"_xlfn.XLOOKUP($A413,_xlfn.CHOOSECOLS(_xlfn.ANCHORARRAY(Filme!$G$1),2),_xlfn.CHOOSECOLS(_xlfn.ANCHORARRAY(Filme!$G$1),3),\"\",0,2)","v":"Drift"},{"$f":"_xlfn.XLOOKUP($A413,_xlfn.CHOOSECOLS(_xlfn.ANCHORARRAY(Filme!$G$1),2),_xlfn.CHOOSECOLS(_xlfn.ANCHORARRAY(Filme!$G$1),4),\"\",0,2)","v":"2024-03-26"},{"$f":"_xlfn.XLOOKUP($B413,_xlfn.CHOOSECOLS(_xlfn.ANCHORARRAY(Leute!$F$1),2),_xlfn.CHOOSECOLS(_xlfn.ANCHORARRAY(Leute!$F$1),3),\"x\",0,2)","v":"Alia Shawkat"},{"$f":"_xlfn.XLOOKUP($B413,_xlfn.CHOOSECOLS(_xlfn.ANCHORARRAY(Leute!$F$1),2),_xlfn.CHOOSECOLS(_xlfn.ANCHORARRAY(Leute!$F$1),4),\"x\",0,2)","v":"1989-04-18"},{"$f":"RANK(F413,F$1:F413,0)","v":1},{"$f":"DATEDIF(F413,D413,\"Y\")","v":34},{"$f":"DATEDIF(F413,D413,\"YD\")","v":342},{"$f":"D413-F413","v":12761},{"$f":"\"MRS \"&TEXT(J413,\"00000\")&\" \"&SUBSTITUTE(C413,\":\",\"\")&\" (\"&TEXT(D413,\"TT.MM.JJJJ\")&\") - \"&E413&\" (\"&TEXT(F413,\"TT.MM.JJJJ\")&\") \"&H413&\"-\"&I413","v":"MRS 12761 Drift (26.03.2024) - Alia Shawkat (18.04.1989) 34-342"}]
["tt4426738","nm0790057",{"$f":"_xlfn.XLOOKUP($A414,_xlfn.CHOOSECOLS(_xlfn.ANCHORARRAY(Filme!$G$1),2),_xlfn.CHOOSECOLS(_xlfn.ANCHORARRAY(Filme!$G$1),3),\"\",0,2)","v":"Animals"},{"$f":"_xlfn.XLOOKUP($A414,_xlfn.CHOOSECOLS(_xlfn.ANCHORARRAY(Filme!$G$1),2),_xlfn.CHOOSECOLS(_xlfn.ANCHORARRAY(Filme!$G$1),4),\"\",0,2)","v":"2019-08-02"},{"$f":"_xlfn.XLOOKUP($B414,_xlfn.CHOOSECOLS(_xlfn.ANCHORARRAY(Leute!$F$1),2),_xlfn.CHOOSECOLS(_xlfn.ANCHORARRAY(Leute!$F$1),3),\"x\",0,2)","v":"Alia Shawkat"},{"$f":"_xlfn.XLOOKUP($B414,_xlfn.CHOOSECOLS(_xlfn.ANCHORARRAY(Leute!$F$1),2),_xlfn.CHOOSECOLS(_xlfn.ANCHORARRAY(Leute!$F$1),4),\"x\",0,2)","v":"1989-04-18"},{"$f":"RANK(F414,F$1:F414,0)","v":1},{"$f":"DATEDIF(F414,D414,\"Y\")","v":30},{"$f":"DATEDIF(F414,D414,\"YD\")","v":106},{"$f":"D414-F414","v":11063},{"$f":"\"MRS \"&TEXT(J414,\"00000\")&\" \"&SUBSTITUTE(C414,\":\",\"\")&\" (\"&TEXT(D414,\"TT.MM.JJJJ\")&\") - \"&E414&\" (\"&TEXT(F414,\"TT.MM.JJJJ\")&\") \"&H414&\"-\"&I414","v":"MRS 11063 Animals (02.08.2019) - Alia Shawkat (18.04.1989) 30-106"}]
["tt5943674","nm0790057",{"$f":"_xlfn.XLOOKUP($A415,_xlfn.CHOOSECOLS(_xlfn.ANCHORARRAY(Filme!$G$1),2),_xlfn.CHOOSECOLS(_xlfn.ANCHORARRAY(Filme!$G$1),3),\"\",0,2)","v":"Transparent"},{"$f":"_xlfn.XLOOKUP($A415,_xlfn.CHOOSECOLS(_xlfn.ANCHORARRAY(Filme!$G$1),2),_xlfn.CHOOSECOLS(_xlfn.ANCHORARRAY(Filme!$G$1),4),\"\",0,2)","v":"2017-09-22"},{"$f":"_xlfn.XLOOKUP($B415,_xlfn.CHOOSECOLS(_xlfn.ANCHORARRAY(Leute!$F$1),2),_xlfn.CHOOSECOLS(_xlfn.ANCHORARRAY(Leute!$F$1),3),\"x\",0,2)","v":"Alia Shawkat"},{"$f":"_xlfn.XLOOKUP($B415,_xlfn.CHOOSECOLS(_xlfn.ANCHORARRAY(Leute!$F$1),2),_xlfn.CHOOSECOLS(_xlfn.ANCHORARRAY(Leute!$F$1),4),\"x\",0,2)","v":"1989-04-18"},{"$f":"RANK(F415,F$1:F415,0)","v":1},{"$f":"DATEDIF(F415,D415,\"Y\")","v":28},{"$f":"DATEDIF(F415,D415,\"YD\")","v":157},{"$f":"D415-F415","v":10384},{"$f":"\"MRS \"&TEXT(J415,\"00000\")&\" \"&SUBSTITUTE(C415,\":\",\"\")&\" (\"&TEXT(D415,\"TT.MM.JJJJ\")&\") - \"&E415&\" (\"&TEXT(F415,\"TT.MM.JJJJ\")&\") \"&H415&\"-\"&I415","v":"MRS 10384 Transparent (22.09.2017) - Alia Shawkat (18.04.1989) 28-157"}]
["tt6958014","nm0790057",{"$f":"_xlfn.XLOOKUP($A416,_xlfn.CHOOSECOLS(_xlfn.ANCHORARRAY(Filme!$G$1),2),_xlfn.CHOOSECOLS(_xlfn.ANCHORARRAY(Filme!$G$1),3),\"\",0,2)","v":"Duck Butter"},{"$f":"_xlfn.XLOOKUP($A416,_xlfn.CHOOSECOLS(_xlfn.ANCHORARRAY(Filme!$G$1),2),_xlfn.CHOOSECOLS(_xlfn.ANCHORARRAY(Filme!$G$1),4),\"\",0,2)","v":"2018-07-01"},{"$f":"_xlfn.XLOOKUP($B416,_xlfn.CHOOSECOLS(_xlfn.ANCHORARRAY(Leute!$F$1),2),_xlfn.CHOOSECOLS(_xlfn.ANCHORARRAY(Leute!$F$1),3),\"x\",0,2)","v":"Alia Shawkat"},{"$f":"_xlfn.XLOOKUP($B416,_xlfn.CHOOSECOLS(_xlfn.ANCHORARRAY(Leute!$F$1),2),_xlfn.CHOOSECOLS(_xlfn.ANCHORARRAY(Leute!$F$1),4),\"x\",0,2)","v":"1989-04-18"},{"$f":"RANK(F416,F$1:F416,0)","v":1},{"$f":"DATEDIF(F416,D416,\"Y\")","v":29},{"$f":"DATEDIF(F416,D416,\"YD\")","v":74},{"$f":"D416-F416","v":10666},{"$f":"\"MRS \"&TEXT(J416,\"00000\")&\" \"&SUBSTITUTE(C416,\":\",\"\")&\" (\"&TEXT(D416,\"TT.MM.JJJJ\")&\") - \"&E416&\" (\"&TEXT(F416,\"TT.MM.JJJJ\")&\") \"&H416&\"-\"&I416","v":"MRS 10666 Duck Butter (01.07.2018) - Alia Shawkat (18.04.1989) 29-74"}]
["tt0300109","nm0810729",{"$f":"_xlfn.XLOOKUP($A417,_xlfn.CHOOSECOLS(_xlfn.ANCHORARRAY(Filme!$G$1),2),_xlfn.CHOOSECOLS(_xlfn.ANCHORARRAY(Filme!$G$1),3),\"\",0,2)","v":"The Last Great Wilderness"},{"$f":"_xlfn.XLOOKUP($A417,_xlfn.CHOOSECOLS(_xlfn.ANCHORARRAY(Filme!$G$1),2),_xlfn.CHOOSECOLS(_xlfn.ANCHORARRAY(Filme!$G$1),4),\"\",0,2)","v":"2003-05-09"},{"$f":"_xlfn.XLOOKUP($B417,_xlfn.CHOOSECOLS(_xlfn.ANCHORARRAY(Leute!$F$1),2),_xlfn.CHOOSECOLS(_xlfn.ANCHORARRAY(Leute!$F$1),3),\"x\",0,2)","v":"Victoria Smurfit"},{"$f":"_xlfn.XLOOKUP($B417,_xlfn.CHOOSECOLS(_xlfn.ANCHORARRAY(Leute!$F$1),2),_xlfn.CHOOSECOLS(_xlfn.ANCHORARRAY(Leute!$F$1),4),\"x\",0,2)","v":"1974-03-31"},{"$f":"RANK(F417,F$1:F417,0)","v":181},{"$f":"DATEDIF(F417,D417,\"Y\")","v":29},{"$f":"DATEDIF(F417,D417,\"YD\")","v":39},{"$f":"D417-F417","v":10631},{"$f":"\"MRS \"&TEXT(J417,\"00000\")&\" \"&SUBSTITUTE(C417,\":\",\"\")&\" (\"&TEXT(D417,\"TT.MM.JJJJ\")&\") - \"&E417&\" (\"&TEXT(F417,\"TT.MM.JJJJ\")&\") \"&H417&\"-\"&I417","v":"MRS 10631 The Last Great Wilderness (09.05.2003) - Victoria Smurfit (31.03.1974) 29-39"}]
["tt22052952","nm0810729",{"$f":"_xlfn.XLOOKUP($A418,_xlfn.CHOOSECOLS(_xlfn.ANCHORARRAY(Filme!$G$1),2),_xlfn.CHOOSECOLS(_xlfn.ANCHORARRAY(Filme!$G$1),3),\"\",0,2)","v":"Rivals"},{"$f":"_xlfn.XLOOKUP($A418,_xlfn.CHOOSECOLS(_xlfn.ANCHORARRAY(Filme!$G$1),2),_xlfn.CHOOSECOLS(_xlfn.ANCHORARRAY(Filme!$G$1),4),\"\",0,2)","v":"2024-10-18"},{"$f":"_xlfn.XLOOKUP($B418,_xlfn.CHOOSECOLS(_xlfn.ANCHORARRAY(Leute!$F$1),2),_xlfn.CHOOSECOLS(_xlfn.ANCHORARRAY(Leute!$F$1),3),\"x\",0,2)","v":"Victoria Smurfit"},{"$f":"_xlfn.XLOOKUP($B418,_xlfn.CHOOSECOLS(_xlfn.ANCHORARRAY(Leute!$F$1),2),_xlfn.CHOOSECOLS(_xlfn.ANCHORARRAY(Leute!$F$1),4),\"x\",0,2)","v":"1974-03-31"},{"$f":"RANK(F418,F$1:F418,0)","v":181},{"$f":"DATEDIF(F418,D418,\"Y\")","v":50},{"$f":"DATEDIF(F418,D418,\"YD\")","v":201},{"$f":"D418-F418","v":18464},{"$f":"\"MRS \"&TEXT(J418,\"00000\")&\" \"&SUBSTITUTE(C418,\":\",\"\")&\" (\"&TEXT(D418,\"TT.MM.JJJJ\")&\") - \"&E418&\" (\"&TEXT(F418,\"TT.MM.JJJJ\")&\") \"&H418&\"-\"&I418","v":"MRS 18464 Rivals (18.10.2024) - Victoria Smurfit (31.03.1974) 50-201"}]
["tt2328696","nm0810729",{"$f":"_xlfn.XLOOKUP($A419,_xlfn.CHOOSECOLS(_xlfn.ANCHORARRAY(Filme!$G$1),2),_xlfn.CHOOSECOLS(_xlfn.ANCHORARRAY(Filme!$G$1),3),\"\",0,2)","v":"Among Ravens"},{"$f":"_xlfn.XLOOKUP($A419,_xlfn.CHOOSECOLS(_xlfn.ANCHORARRAY(Filme!$G$1),2),_xlfn.CHOOSECOLS(_xlfn.ANCHORARRAY(Filme!$G$1),4),\"\",0,2)","v":"2014-07-18"},{"$f":"_xlfn.XLOOKUP($B419,_xlfn.CHOOSECOLS(_xlfn.ANCHORARRAY(Leute!$F$1),2),_xlfn.CHOOSECOLS(_xlfn.ANCHORARRAY(Leute!$F$1),3),\"x\",0,2)","v":"Victoria Smurfit"},{"$f":"_xlfn.XLOOKUP($B419,_xlfn.CHOOSECOLS(_xlfn.ANCHORARRAY(Leute!$F$1),2),_xlfn.CHOOSECOLS(_xlfn.ANCHORARRAY(Leute!$F$1),4),\"x\",0,2)","v":"1974-03-31"},{"$f":"RANK(F419,F$1:F419,0)","v":181},{"$f":"DATEDIF(F419,D419,\"Y\")","v":40},{"$f":"DATEDIF(F419,D419,\"YD\")","v":109},{"$f":"D419-F419","v":14719},{"$f":"\"MRS \"&TEXT(J419,\"00000\")&\" \"&SUBSTITUTE(C419,\":\",\"\")&\" (\"&TEXT(D419,\"TT.MM.JJJJ\")&\") - \"&E419&\" (\"&TEXT(F419,\"TT.MM.JJJJ\")&\") \"&H419&\"-\"&I419","v":"MRS 14719 Among Ravens (18.07.2014) - Victoria Smurfit (31.03.1974) 40-109"}]
["tt2825926","nm0810729",{"$f":"_xlfn.XLOOKUP($A420,_xlfn.CHOOSECOLS(_xlfn.ANCHORARRAY(Filme!$G$1),2),_xlfn.CHOOSECOLS(_xlfn.ANCHORARRAY(Filme!$G$1),3),\"\",0,2)","v":"Dracula"},{"$f":"_xlfn.XLOOKUP($A420,_xlfn.CHOOSECOLS(_xlfn.ANCHORARRAY(Filme!$G$1),2),_xlfn.CHOOSECOLS(_xlfn.ANCHORARRAY(Filme!$G$1),4),\"\",0,2)","v":"2013-11-15"},{"$f":"_xlfn.XLOOKUP($B420,_xlfn.CHOOSECOLS(_xlfn.ANCHORARRAY(Leute!$F$1),2),_xlfn.CHOOSECOLS(_xlfn.ANCHORARRAY(Leute!$F$1),3),\"x\",0,2)","v":"Victoria Smurfit"},{"$f":"_xlfn.XLOOKUP($B420,_xlfn.CHOOSECOLS(_xlfn.ANCHORARRAY(Leute!$F$1),2),_xlfn.CHOOSECOLS(_xlfn.ANCHORARRAY(Leute!$F$1),4),\"x\",0,2)","v":"1974-03-31"},{"$f":"RANK(F420,F$1:F420,0)","v":181},{"$f":"DATEDIF(F420,D420,\"Y\")","v":39},{"$f":"DATEDIF(F420,D420,\"YD\")","v":229},{"$f":"D420-F420","v":14474},{"$f":"\"MRS \"&TEXT(J420,\"00000\")&\" \"&SUBSTITUTE(C420,\":\",\"\")&\" (\"&TEXT(D420,\"TT.MM.JJJJ\")&\") - \"&E420&\" (\"&TEXT(F420,\"TT.MM.JJJJ\")&\") \"&H420&\"-\"&I420","v":"MRS 14474 Dracula (15.11.2013) - Victoria Smurfit (31.03.1974) 39-229"}]
["tt0337692","nm0829576",{"$f":"_xlfn.XLOOKUP($A421,_xlfn.CHOOSECOLS(_xlfn.ANCHORARRAY(Filme!$G$1),2),_xlfn.CHOOSECOLS(_xlfn.ANCHORARRAY(Filme!$G$1),3),\"\",0,2)","v":"On the Road"},{"$f":"_xlfn.XLOOKUP($A421,_xlfn.CHOOSECOLS(_xlfn.ANCHORARRAY(Filme!$G$1),2),_xlfn.CHOOSECOLS(_xlfn.ANCHORARRAY(Filme!$G$1),4),\"\",0,2)","v":"2012-10-04"},{"$f":"_xlfn.XLOOKUP($B421,_xlfn.CHOOSECOLS(_xlfn.ANCHORARRAY(Leute!$F$1),2),_xlfn.CHOOSECOLS(_xlfn.ANCHORARRAY(Leute!$F$1),3),\"x\",0,2)","v":"Kristen Stewart"},{"$f":"_xlfn.XLOOKUP($B421,_xlfn.CHOOSECOLS(_xlfn.ANCHORARRAY(Leute!$F$1),2),_xlfn.CHOOSECOLS(_xlfn.ANCHORARRAY(Leute!$F$1),4),\"x\",0,2)","v":"1990-04-09"},{"$f":"RANK(F421,F$1:F421,0)","v":1},{"$f":"DATEDIF(F421,D421,\"Y\")","v":22},{"$f":"DATEDIF(F421,D421,\"YD\")","v":178},{"$f":"D421-F421","v":8214},{"$f":"\"MRS \"&TEXT(J421,\"00000\")&\" \"&SUBSTITUTE(C421,\":\",\"\")&\" (\"&TEXT(D421,\"TT.MM.JJJJ\")&\") - \"&E421&\" (\"&TEXT(F421,\"TT.MM.JJJJ\")&\") \"&H421&\"-\"&I421","v":"MRS 08214 On the Road (04.10.2012) - Kristen Stewart (09.04.1990) 22-178"}]
["tt1780967","nm0829576",{"$f":"_xlfn.XLOOKUP($A422,_xlfn.CHOOSECOLS(_xlfn.ANCHORARRAY(Filme!$G$1),2),_xlfn.CHOOSECOLS(_xlfn.ANCHORARRAY(Filme!$G$1),3),\"\",0,2)","v":"Seberg"},{"$f":"_xlfn.XLOOKUP($A422,_xlfn.CHOOSECOLS(_xlfn.ANCHORARRAY(Filme!$G$1),2),_xlfn.CHOOSECOLS(_xlfn.ANCHORARRAY(Filme!$G$1),4),\"\",0,2)","v":"2020-09-17"},{"$f":"_xlfn.XLOOKUP($B422,_xlfn.CHOOSECOLS(_xlfn.ANCHORARRAY(Leute!$F$1),2),_xlfn.CHOOSECOLS(_xlfn.ANCHORARRAY(Leute!$F$1),3),\"x\",0,2)","v":"Kristen Stewart"},{"$f":"_xlfn.XLOOKUP($B422,_xlfn.CHOOSECOLS(_xlfn.ANCHORARRAY(Leute!$F$1),2),_xlfn.CHOOSECOLS(_xlfn.ANCHORARRAY(Leute!$F$1),4),\"x\",0,2)","v":"1990-04-09"},{"$f":"RANK(F422,F$1:F422,0)","v":1},{"$f":"DATEDIF(F422,D422,\"Y\")","v":30},{"$f":"DATEDIF(F422,D422,\"YD\")","v":161},{"$f":"D422-F422","v":11119},{"$f":"\"MRS \"&TEXT(J422,\"00000\")&\" \"&SUBSTITUTE(C422,\":\",\"\")&\" (\"&TEXT(D422,\"TT.MM.JJJJ\")&\") - \"&E422&\" (\"&TEXT(F422,\"TT.MM.JJJJ\")&\") \"&H422&\"-\"&I422","v":"MRS 11119 Seberg (17.09.2020) - Kristen Stewart (09.04.1990) 30-161"}]
["tt19637052","nm0829576",{"$f":"_xlfn.XLOOKUP($A423,_xlfn.CHOOSECOLS(_xlfn.ANCHORARRAY(Filme!$G$1),2),_xlfn.CHOOSECOLS(_xlfn.ANCHORARRAY(Filme!$G$1),3),\"\",0,2)","v":"Love Lies Bleeding"},{"$f":"_xlfn.XLOOKUP($A423,_xlfn.CHOOSECOLS(_xlfn.ANCHORARRAY(Filme!$G$1),2),_xlfn.CHOOSECOLS(_xlfn.ANCHORARRAY(Filme!$G$1),4),\"\",0,2)","v":"2024-07-18"},{"$f":"_xlfn.XLOOKUP($B423,_xlfn.CHOOSECOLS(_xlfn.ANCHORARRAY(Leute!$F$1),2),_xlfn.CHOOSECOLS(_xlfn.ANCHORARRAY(Leute!$F$1),3),\"x\",0,2)","v":"Kristen Stewart"},{"$f":"_xlfn.XLOOKUP($B423,_xlfn.CHOOSECOLS(_xlfn.ANCHORARRAY(Leute!$F$1),2),_xlfn.CHOOSECOLS(_xlfn.ANCHORARRAY(Leute!$F$1),4),\"x\",0,2)","v":"1990-04-09"},{"$f":"RANK(F423,F$1:F423,0)","v":1},{"$f":"DATEDIF(F423,D423,\"Y\")","v":34},{"$f":"DATEDIF(F423,D423,\"YD\")","v":100},{"$f":"D423-F423","v":12519},{"$f":"\"MRS \"&TEXT(J423,\"00000\")&\" \"&SUBSTITUTE(C423,\":\",\"\")&\" (\"&TEXT(D423,\"TT.MM.JJJJ\")&\") - \"&E423&\" (\"&TEXT(F423,\"TT.MM.JJJJ\")&\") \"&H423&\"-\"&I423","v":"MRS 12519 Love Lies Bleeding (18.07.2024) - Kristen Stewart (09.04.1990) 34-100"}]
["tt4714782","nm0829576",{"$f":"_xlfn.XLOOKUP($A424,_xlfn.CHOOSECOLS(_xlfn.ANCHORARRAY(Filme!$G$1),2),_xlfn.CHOOSECOLS(_xlfn.ANCHORARRAY(Filme!$G$1),3),\"\",0,2)","v":"Personal Shopper"},{"$f":"_xlfn.XLOOKUP($A424,_xlfn.CHOOSECOLS(_xlfn.ANCHORARRAY(Filme!$G$1),2),_xlfn.CHOOSECOLS(_xlfn.ANCHORARRAY(Filme!$G$1),4),\"\",0,2)","v":"2017-01-19"},{"$f":"_xlfn.XLOOKUP($B424,_xlfn.CHOOSECOLS(_xlfn.ANCHORARRAY(Leute!$F$1),2),_xlfn.CHOOSECOLS(_xlfn.ANCHORARRAY(Leute!$F$1),3),\"x\",0,2)","v":"Kristen Stewart"},{"$f":"_xlfn.XLOOKUP($B424,_xlfn.CHOOSECOLS(_xlfn.ANCHORARRAY(Leute!$F$1),2),_xlfn.CHOOSECOLS(_xlfn.ANCHORARRAY(Leute!$F$1),4),\"x\",0,2)","v":"1990-04-09"},{"$f":"RANK(F424,F$1:F424,0)","v":1},{"$f":"DATEDIF(F424,D424,\"Y\")","v":26},{"$f":"DATEDIF(F424,D424,\"YD\")","v":285},{"$f":"D424-F424","v":9782},{"$f":"\"MRS \"&TEXT(J424,\"00000\")&\" \"&SUBSTITUTE(C424,\":\",\"\")&\" (\"&TEXT(D424,\"TT.MM.JJJJ\")&\") - \"&E424&\" (\"&TEXT(F424,\"TT.MM.JJJJ\")&\") \"&H424&\"-\"&I424","v":"MRS 09782 Personal Shopper (19.01.2017) - Kristen Stewart (09.04.1990) 26-285"}]
["tt5160938","nm0829576",{"$f":"_xlfn.XLOOKUP($A425,_xlfn.CHOOSECOLS(_xlfn.ANCHORARRAY(Filme!$G$1),2),_xlfn.CHOOSECOLS(_xlfn.ANCHORARRAY(Filme!$G$1),3),\"\",0,2)","v":"Lizzie"},{"$f":"_xlfn.XLOOKUP($A425,_xlfn.CHOOSECOLS(_xlfn.ANCHORARRAY(Filme!$G$1),2),_xlfn.CHOOSECOLS(_xlfn.ANCHORARRAY(Filme!$G$1),4),\"\",0,2)","v":"2018-09-14"},{"$f":"_xlfn.XLOOKUP($B425,_xlfn.CHOOSECOLS(_xlfn.ANCHORARRAY(Leute!$F$1),2),_xlfn.CHOOSECOLS(_xlfn.ANCHORARRAY(Leute!$F$1),3),\"x\",0,2)","v":"Kristen Stewart"},{"$f":"_xlfn.XLOOKUP($B425,_xlfn.CHOOSECOLS(_xlfn.ANCHORARRAY(Leute!$F$1),2),_xlfn.CHOOSECOLS(_xlfn.ANCHORARRAY(Leute!$F$1),4),\"x\",0,2)","v":"1990-04-09"},{"$f":"RANK(F425,F$1:F425,0)","v":1},{"$f":"DATEDIF(F425,D425,\"Y\")","v":28},{"$f":"DATEDIF(F425,D425,\"YD\")","v":158},{"$f":"D425-F425","v":10385},{"$f":"\"MRS \"&TEXT(J425,\"00000\")&\" \"&SUBSTITUTE(C425,\":\",\"\")&\" (\"&TEXT(D425,\"TT.MM.JJJJ\")&\") - \"&E425&\" (\"&TEXT(F425,\"TT.MM.JJJJ\")&\") \"&H425&\"-\"&I425","v":"MRS 10385 Lizzie (14.09.2018) - Kristen Stewart (09.04.1990) 28-158"}]
["tt5460522","nm0829576",{"$f":"_xlfn.XLOOKUP($A426,_xlfn.CHOOSECOLS(_xlfn.ANCHORARRAY(Filme!$G$1),2),_xlfn.CHOOSECOLS(_xlfn.ANCHORARRAY(Filme!$G$1),3),\"\",0,2)","v":"Jeremiah Terminator LeRoy"},{"$f":"_xlfn.XLOOKUP($A426,_xlfn.CHOOSECOLS(_xlfn.ANCHORARRAY(Filme!$G$1),2),_xlfn.CHOOSECOLS(_xlfn.ANCHORARRAY(Filme!$G$1),4),\"\",0,2)","v":"2019-04-26"},{"$f":"_xlfn.XLOOKUP($B426,_xlfn.CHOOSECOLS(_xlfn.ANCHORARRAY(Leute!$F$1),2),_xlfn.CHOOSECOLS(_xlfn.ANCHORARRAY(Leute!$F$1),3),\"x\",0,2)","v":"Kristen Stewart"},{"$f":"_xlfn.XLOOKUP($B426,_xlfn.CHOOSECOLS(_xlfn.ANCHORARRAY(Leute!$F$1),2),_xlfn.CHOOSECOLS(_xlfn.ANCHORARRAY(Leute!$F$1),4),\"x\",0,2)","v":"1990-04-09"},{"$f":"RANK(F426,F$1:F426,0)","v":1},{"$f":"DATEDIF(F426,D426,\"Y\")","v":29},{"$f":"DATEDIF(F426,D426,\"YD\")","v":17},{"$f":"D426-F426","v":10609},{"$f":"\"MRS \"&TEXT(J426,\"00000\")&\" \"&SUBSTITUTE(C426,\":\",\"\")&\" (\"&TEXT(D426,\"TT.MM.JJJJ\")&\") - \"&E426&\" (\"&TEXT(F426,\"TT.MM.JJJJ\")&\") \"&H426&\"-\"&I426","v":"MRS 10609 Jeremiah Terminator LeRoy (26.04.2019) - Kristen Stewart (09.04.1990) 29-17"}]
["tt6453808","nm0829576",{"$f":"_xlfn.XLOOKUP($A427,_xlfn.CHOOSECOLS(_xlfn.ANCHORARRAY(Filme!$G$1),2),_xlfn.CHOOSECOLS(_xlfn.ANCHORARRAY(Filme!$G$1),3),\"\",0,2)","v":"The Rolling Stones: Ride 'Em on Down"},{"$f":"_xlfn.XLOOKUP($A427,_xlfn.CHOOSECOLS(_xlfn.ANCHORARRAY(Filme!$G$1),2),_xlfn.CHOOSECOLS(_xlfn.ANCHORARRAY(Filme!$G$1),4),\"\",0,2)","v":"2016-12-01"},{"$f":"_xlfn.XLOOKUP($B427,_xlfn.CHOOSECOLS(_xlfn.ANCHORARRAY(Leute!$F$1),2),_xlfn.CHOOSECOLS(_xlfn.ANCHORARRAY(Leute!$F$1),3),\"x\",0,2)","v":"Kristen Stewart"},{"$f":"_xlfn.XLOOKUP($B427,_xlfn.CHOOSECOLS(_xlfn.ANCHORARRAY(Leute!$F$1),2),_xlfn.CHOOSECOLS(_xlfn.ANCHORARRAY(Leute!$F$1),4),\"x\",0,2)","v":"1990-04-09"},{"$f":"RANK(F427,F$1:F427,0)","v":1},{"$f":"DATEDIF(F427,D427,\"Y\")","v":26},{"$f":"DATEDIF(F427,D427,\"YD\")","v":236},{"$f":"D427-F427","v":9733},{"$f":"\"MRS \"&TEXT(J427,\"00000\")&\" \"&SUBSTITUTE(C427,\":\",\"\")&\" (\"&TEXT(D427,\"TT.MM.JJJJ\")&\") - \"&E427&\" (\"&TEXT(F427,\"TT.MM.JJJJ\")&\") \"&H427&\"-\"&I427","v":"MRS 09733 The Rolling Stones Ride 'Em on Down (01.12.2016) - Kristen Stewart (09.04.1990) 26-236"}]
["tt2304637","nm0935395",{"$f":"_xlfn.XLOOKUP($A428,_xlfn.CHOOSECOLS(_xlfn.ANCHORARRAY(Filme!$G$1),2),_xlfn.CHOOSECOLS(_xlfn.ANCHORARRAY(Filme!$G$1),3),\"\",0,2)","v":"Flag Day"},{"$f":"_xlfn.XLOOKUP($A428,_xlfn.CHOOSECOLS(_xlfn.ANCHORARRAY(Filme!$G$1),2),_xlfn.CHOOSECOLS(_xlfn.ANCHORARRAY(Filme!$G$1),4),\"\",0,2)","v":"2022-07-20"},{"$f":"_xlfn.XLOOKUP($B428,_xlfn.CHOOSECOLS(_xlfn.ANCHORARRAY(Leute!$F$1),2),_xlfn.CHOOSECOLS(_xlfn.ANCHORARRAY(Leute!$F$1),3),\"x\",0,2)","v":"Katheryn Winnick"},{"$f":"_xlfn.XLOOKUP($B428,_xlfn.CHOOSECOLS(_xlfn.ANCHORARRAY(Leute!$F$1),2),_xlfn.CHOOSECOLS(_xlfn.ANCHORARRAY(Leute!$F$1),4),\"x\",0,2)","v":"1977-12-17"},{"$f":"RANK(F428,F$1:F428,0)","v":84},{"$f":"DATEDIF(F428,D428,\"Y\")","v":44},{"$f":"DATEDIF(F428,D428,\"YD\")","v":215},{"$f":"D428-F428","v":16286},{"$f":"\"MRS \"&TEXT(J428,\"00000\")&\" \"&SUBSTITUTE(C428,\":\",\"\")&\" (\"&TEXT(D428,\"TT.MM.JJJJ\")&\") - \"&E428&\" (\"&TEXT(F428,\"TT.MM.JJJJ\")&\") \"&H428&\"-\"&I428","v":"MRS 16286 Flag Day (20.07.2022) - Katheryn Winnick (17.12.1977) 44-215"}]
["tt3021360","nm0935541",{"$f":"_xlfn.XLOOKUP($A429,_xlfn.CHOOSECOLS(_xlfn.ANCHORARRAY(Filme!$G$1),2),_xlfn.CHOOSECOLS(_xlfn.ANCHORARRAY(Filme!$G$1),3),\"\",0,2)","v":"Faults"},{"$f":"_xlfn.XLOOKUP($A429,_xlfn.CHOOSECOLS(_xlfn.ANCHORARRAY(Filme!$G$1),2),_xlfn.CHOOSECOLS(_xlfn.ANCHORARRAY(Filme!$G$1),4),\"\",0,2)","v":"2015-03-06"},{"$f":"_xlfn.XLOOKUP($B429,_xlfn.CHOOSECOLS(_xlfn.ANCHORARRAY(Leute!$F$1),2),_xlfn.CHOOSECOLS(_xlfn.ANCHORARRAY(Leute!$F$1),3),\"x\",0,2)","v":"Mary Elizabeth Winstead"},{"$f":"_xlfn.XLOOKUP($B429,_xlfn.CHOOSECOLS(_xlfn.ANCHORARRAY(Leute!$F$1),2),_xlfn.CHOOSECOLS(_xlfn.ANCHORARRAY(Leute!$F$1),4),\"x\",0,2)","v":"1984-11-28"},{"$f":"RANK(F429,F$1:F429,0)","v":34},{"$f":"DATEDIF(F429,D429,\"Y\")","v":30},{"$f":"DATEDIF(F429,D429,\"YD\")","v":98},{"$f":"D429-F429","v":11055},{"$f":"\"MRS \"&TEXT(J429,\"00000\")&\" \"&SUBSTITUTE(C429,\":\",\"\")&\" (\"&TEXT(D429,\"TT.MM.JJJJ\")&\") - \"&E429&\" (\"&TEXT(F429,\"TT.MM.JJJJ\")&\") \"&H429&\"-\"&I429","v":"MRS 11055 Faults (06.03.2015) - Mary Elizabeth Winstead (28.11.1984) 30-98"}]
["tt5223488","nm0935541",{"$f":"_xlfn.XLOOKUP($A430,_xlfn.CHOOSECOLS(_xlfn.ANCHORARRAY(Filme!$G$1),2),_xlfn.CHOOSECOLS(_xlfn.ANCHORARRAY(Filme!$G$1),3),\"\",0,2)","v":"Fargo"},{"$f":"_xlfn.XLOOKUP($A430,_xlfn.CHOOSECOLS(_xlfn.ANCHORARRAY(Filme!$G$1),2),_xlfn.CHOOSECOLS(_xlfn.ANCHORARRAY(Filme!$G$1),4),\"\",0,2)","v":"2017-04-20"},{"$f":"_xlfn.XLOOKUP($B430,_xlfn.CHOOSECOLS(_xlfn.ANCHORARRAY(Leute!$F$1),2),_xlfn.CHOOSECOLS(_xlfn.ANCHORARRAY(Leute!$F$1),3),\"x\",0,2)","v":"Mary Elizabeth Winstead"},{"$f":"_xlfn.XLOOKUP($B430,_xlfn.CHOOSECOLS(_xlfn.ANCHORARRAY(Leute!$F$1),2),_xlfn.CHOOSECOLS(_xlfn.ANCHORARRAY(Leute!$F$1),4),\"x\",0,2)","v":"1984-11-28"},{"$f":"RANK(F430,F$1:F430,0)","v":34},{"$f":"DATEDIF(F430,D430,\"Y\")","v":32},{"$f":"DATEDIF(F430,D430,\"YD\")","v":143},{"$f":"D430-F430","v":11831},{"$f":"\"MRS \"&TEXT(J430,\"00000\")&\" \"&SUBSTITUTE(C430,\":\",\"\")&\" (\"&TEXT(D430,\"TT.MM.JJJJ\")&\") - \"&E430&\" (\"&TEXT(F430,\"TT.MM.JJJJ\")&\") \"&H430&\"-\"&I430","v":"MRS 11831 Fargo (20.04.2017) - Mary Elizabeth Winstead (28.11.1984) 32-143"}]
["tt7542576","nm0935541",{"$f":"_xlfn.XLOOKUP($A431,_xlfn.CHOOSECOLS(_xlfn.ANCHORARRAY(Filme!$G$1),2),_xlfn.CHOOSECOLS(_xlfn.ANCHORARRAY(Filme!$G$1),3),\"\",0,2)","v":"All About Nina"},{"$f":"_xlfn.XLOOKUP($A431,_xlfn.CHOOSECOLS(_xlfn.ANCHORARRAY(Filme!$G$1),2),_xlfn.CHOOSECOLS(_xlfn.ANCHORARRAY(Filme!$G$1),4),\"\",0,2)","v":"2018-09-28"},{"$f":"_xlfn.XLOOKUP($B431,_xlfn.CHOOSECOLS(_xlfn.ANCHORARRAY(Leute!$F$1),2),_xlfn.CHOOSECOLS(_xlfn.ANCHORARRAY(Leute!$F$1),3),\"x\",0,2)","v":"Mary Elizabeth Winstead"},{"$f":"_xlfn.XLOOKUP($B431,_xlfn.CHOOSECOLS(_xlfn.ANCHORARRAY(Leute!$F$1),2),_xlfn.CHOOSECOLS(_xlfn.ANCHORARRAY(Leute!$F$1),4),\"x\",0,2)","v":"1984-11-28"},{"$f":"RANK(F431,F$1:F431,0)","v":34},{"$f":"DATEDIF(F431,D431,\"Y\")","v":33},{"$f":"DATEDIF(F431,D431,\"YD\")","v":304},{"$f":"D431-F431","v":12357},{"$f":"\"MRS \"&TEXT(J431,\"00000\")&\" \"&SUBSTITUTE(C431,\":\",\"\")&\" (\"&TEXT(D431,\"TT.MM.JJJJ\")&\") - \"&E431&\" (\"&TEXT(F431,\"TT.MM.JJJJ\")&\") \"&H431&\"-\"&I431","v":"MRS 12357 All About Nina (28.09.2018) - Mary Elizabeth Winstead (28.11.1984) 33-304"}]
["tt15744914","nm0940362",{"$f":"_xlfn.XLOOKUP($A432,_xlfn.CHOOSECOLS(_xlfn.ANCHORARRAY(Filme!$G$1),2),_xlfn.CHOOSECOLS(_xlfn.ANCHORARRAY(Filme!$G$1),3),\"\",0,2)","v":"Three Women"},{"$f":"_xlfn.XLOOKUP($A432,_xlfn.CHOOSECOLS(_xlfn.ANCHORARRAY(Filme!$G$1),2),_xlfn.CHOOSECOLS(_xlfn.ANCHORARRAY(Filme!$G$1),4),\"\",0,2)","v":"2023-12-13"},{"$f":"_xlfn.XLOOKUP($B432,_xlfn.CHOOSECOLS(_xlfn.ANCHORARRAY(Leute!$F$1),2),_xlfn.CHOOSECOLS(_xlfn.ANCHORARRAY(Leute!$F$1),3),\"x\",0,2)","v":"Shailene Woodley"},{"$f":"_xlfn.XLOOKUP($B432,_xlfn.CHOOSECOLS(_xlfn.ANCHORARRAY(Leute!$F$1),2),_xlfn.CHOOSECOLS(_xlfn.ANCHORARRAY(Leute!$F$1),4),\"x\",0,2)","v":"1991-11-15"},{"$f":"RANK(F432,F$1:F432,0)","v":1},{"$f":"DATEDIF(F432,D432,\"Y\")","v":32},{"$f":"DATEDIF(F432,D432,\"YD\")","v":28},{"$f":"D432-F432","v":11716},{"$f":"\"MRS \"&TEXT(J432,\"00000\")&\" \"&SUBSTITUTE(C432,\":\",\"\")&\" (\"&TEXT(D432,\"TT.MM.JJJJ\")&\") - \"&E432&\" (\"&TEXT(F432,\"TT.MM.JJJJ\")&\") \"&H432&\"-\"&I432","v":"MRS 11716 Three Women (13.12.2023) - Shailene Woodley (15.11.1991) 32-28"}]
["tt1714206","nm0940362",{"$f":"_xlfn.XLOOKUP($A433,_xlfn.CHOOSECOLS(_xlfn.ANCHORARRAY(Filme!$G$1),2),_xlfn.CHOOSECOLS(_xlfn.ANCHORARRAY(Filme!$G$1),3),\"\",0,2)","v":"The Spectacular Now"},{"$f":"_xlfn.XLOOKUP($A433,_xlfn.CHOOSECOLS(_xlfn.ANCHORARRAY(Filme!$G$1),2),_xlfn.CHOOSECOLS(_xlfn.ANCHORARRAY(Filme!$G$1),4),\"\",0,2)","v":"2013-09-13"},{"$f":"_xlfn.XLOOKUP($B433,_xlfn.CHOOSECOLS(_xlfn.ANCHORARRAY(Leute!$F$1),2),_xlfn.CHOOSECOLS(_xlfn.ANCHORARRAY(Leute!$F$1),3),\"x\",0,2)","v":"Shailene Woodley"},{"$f":"_xlfn.XLOOKUP($B433,_xlfn.CHOOSECOLS(_xlfn.ANCHORARRAY(Leute!$F$1),2),_xlfn.CHOOSECOLS(_xlfn.ANCHORARRAY(Leute!$F$1),4),\"x\",0,2)","v":"1991-11-15"},{"$f":"RANK(F433,F$1:F433,0)","v":1},{"$f":"DATEDIF(F433,D433,\"Y\")","v":21},{"$f":"DATEDIF(F433,D433,\"YD\")","v":303},{"$f":"D433-F433","v":7973},{"$f":"\"MRS \"&TEXT(J433,\"00000\")&\" \"&SUBSTITUTE(C433,\":\",\"\")&\" (\"&TEXT(D433,\"TT.MM.JJJJ\")&\") - \"&E433&\" (\"&TEXT(F433,\"TT.MM.JJJJ\")&\") \"&H433&\"-\"&I433","v":"MRS 07973 The Spectacular Now (13.09.2013) - Shailene Woodley (15.11.1991) 21-303"}]
["tt2238050","nm0940362",{"$f":"_xlfn.XLOOKUP($A434,_xlfn.CHOOSECOLS(_xlfn.ANCHORARRAY(Filme!$G$1),2),_xlfn.CHOOSECOLS(_xlfn.ANCHORARRAY(Filme!$G$1),3),\"\",0,2)","v":"White Bird in a Blizzard"},{"$f":"_xlfn.XLOOKUP($A434,_xlfn.CHOOSECOLS(_xlfn.ANCHORARRAY(Filme!$G$1),2),_xlfn.CHOOSECOLS(_xlfn.ANCHORARRAY(Filme!$G$1),4),\"\",0,2)","v":"2014-09-25"},{"$f":"_xlfn.XLOOKUP($B434,_xlfn.CHOOSECOLS(_xlfn.ANCHORARRAY(Leute!$F$1),2),_xlfn.CHOOSECOLS(_xlfn.ANCHORARRAY(Leute!$F$1),3),\"x\",0,2)","v":"Shailene Woodley"},{"$f":"_xlfn.XLOOKUP($B434,_xlfn.CHOOSECOLS(_xlfn.ANCHORARRAY(Leute!$F$1),2),_xlfn.CHOOSECOLS(_xlfn.ANCHORARRAY(Leute!$F$1),4),\"x\",0,2)","v":"1991-11-15"},{"$f":"RANK(F434,F$1:F434,0)","v":1},{"$f":"DATEDIF(F434,D434,\"Y\")","v":22},{"$f":"DATEDIF(F434,D434,\"YD\")","v":315},{"$f":"D434-F434","v":8350},{"$f":"\"MRS \"&TEXT(J434,\"00000\")&\" \"&SUBSTITUTE(C434,\":\",\"\")&\" (\"&TEXT(D434,\"TT.MM.JJJJ\")&\") - \"&E434&\" (\"&TEXT(F434,\"TT.MM.JJJJ\")&\") \"&H434&\"-\"&I434","v":"MRS 08350 White Bird in a Blizzard (25.09.2014) - Shailene Woodley (15.11.1991) 22-315"}]
["tt27419292","nm0940362",{"$f":"_xlfn.XLOOKUP($A435,_xlfn.CHOOSECOLS(_xlfn.ANCHORARRAY(Filme!$G$1),2),_xlfn.CHOOSECOLS(_xlfn.ANCHORARRAY(Filme!$G$1),3),\"\",0,2)","v":"Killer Heat"},{"$f":"_xlfn.XLOOKUP($A435,_xlfn.CHOOSECOLS(_xlfn.ANCHORARRAY(Filme!$G$1),2),_xlfn.CHOOSECOLS(_xlfn.ANCHORARRAY(Filme!$G$1),4),\"\",0,2)","v":"2024-09-26"},{"$f":"_xlfn.XLOOKUP($B435,_xlfn.CHOOSECOLS(_xlfn.ANCHORARRAY(Leute!$F$1),2),_xlfn.CHOOSECOLS(_xlfn.ANCHORARRAY(Leute!$F$1),3),\"x\",0,2)","v":"Shailene Woodley"},{"$f":"_xlfn.XLOOKUP($B435,_xlfn.CHOOSECOLS(_xlfn.ANCHORARRAY(Leute!$F$1),2),_xlfn.CHOOSECOLS(_xlfn.ANCHORARRAY(Leute!$F$1),4),\"x\",0,2)","v":"1991-11-15"},{"$f":"RANK(F435,F$1:F435,0)","v":1},{"$f":"DATEDIF(F435,D435,\"Y\")","v":32},{"$f":"DATEDIF(F435,D435,\"YD\")","v":316},{"$f":"D435-F435","v":12004},{"$f":"\"MRS \"&TEXT(J435,\"00000\")&\" \"&SUBSTITUTE(C435,\":\",\"\")&\" (\"&TEXT(D435,\"TT.MM.JJJJ\")&\") - \"&E435&\" (\"&TEXT(F435,\"TT.MM.JJJJ\")&\") \"&H435&\"-\"&I435","v":"MRS 12004 Killer Heat (26.09.2024) - Shailene Woodley (15.11.1991) 32-316"}]
["tt3410834","nm0940362",{"$f":"_xlfn.XLOOKUP($A436,_xlfn.CHOOSECOLS(_xlfn.ANCHORARRAY(Filme!$G$1),2),_xlfn.CHOOSECOLS(_xlfn.ANCHORARRAY(Filme!$G$1),3),\"\",0,2)","v":"Allegiant"},{"$f":"_xlfn.XLOOKUP($A436,_xlfn.CHOOSECOLS(_xlfn.ANCHORARRAY(Filme!$G$1),2),_xlfn.CHOOSECOLS(_xlfn.ANCHORARRAY(Filme!$G$1),4),\"\",0,2)","v":"2016-03-17"},{"$f":"_xlfn.XLOOKUP($B436,_xlfn.CHOOSECOLS(_xlfn.ANCHORARRAY(Leute!$F$1),2),_xlfn.CHOOSECOLS(_xlfn.ANCHORARRAY(Leute!$F$1),3),\"x\",0,2)","v":"Shailene Woodley"},{"$f":"_xlfn.XLOOKUP($B436,_xlfn.CHOOSECOLS(_xlfn.ANCHORARRAY(Leute!$F$1),2),_xlfn.CHOOSECOLS(_xlfn.ANCHORARRAY(Leute!$F$1),4),\"x\",0,2)","v":"1991-11-15"},{"$f":"RANK(F436,F$1:F436,0)","v":1},{"$f":"DATEDIF(F436,D436,\"Y\")","v":24},{"$f":"DATEDIF(F436,D436,\"YD\")","v":123},{"$f":"D436-F436","v":8889},{"$f":"\"MRS \"&TEXT(J436,\"00000\")&\" \"&SUBSTITUTE(C436,\":\",\"\")&\" (\"&TEXT(D436,\"TT.MM.JJJJ\")&\") - \"&E436&\" (\"&TEXT(F436,\"TT.MM.JJJJ\")&\") \"&H436&\"-\"&I436","v":"MRS 08889 Allegiant (17.03.2016) - Shailene Woodley (15.11.1991) 24-123"}]
["tt3774114","nm0940362",{"$f":"_xlfn.XLOOKUP($A437,_xlfn.CHOOSECOLS(_xlfn.ANCHORARRAY(Filme!$G$1),2),_xlfn.CHOOSECOLS(_xlfn.ANCHORARRAY(Filme!$G$1),3),\"\",0,2)","v":"Snowden"},{"$f":"_xlfn.XLOOKUP($A437,_xlfn.CHOOSECOLS(_xlfn.ANCHORARRAY(Filme!$G$1),2),_xlfn.CHOOSECOLS(_xlfn.ANCHORARRAY(Filme!$G$1),4),\"\",0,2)","v":"2016-09-22"},{"$f":"_xlfn.XLOOKUP($B437,_xlfn.CHOOSECOLS(_xlfn.ANCHORARRAY(Leute!$F$1),2),_xlfn.CHOOSECOLS(_xlfn.ANCHORARRAY(Leute!$F$1),3),\"x\",0,2)","v":"Shailene Woodley"},{"$f":"_xlfn.XLOOKUP($B437,_xlfn.CHOOSECOLS(_xlfn.ANCHORARRAY(Leute!$F$1),2),_xlfn.CHOOSECOLS(_xlfn.ANCHORARRAY(Leute!$F$1),4),\"x\",0,2)","v":"1991-11-15"},{"$f":"RANK(F437,F$1:F437,0)","v":1},{"$f":"DATEDIF(F437,D437,\"Y\")","v":24},{"$f":"DATEDIF(F437,D437,\"YD\")","v":312},{"$f":"D437-F437","v":9078},{"$f":"\"MRS \"&TEXT(J437,\"00000\")&\" \"&SUBSTITUTE(C437,\":\",\"\")&\" (\"&TEXT(D437,\"TT.MM.JJJJ\")&\") - \"&E437&\" (\"&TEXT(F437,\"TT.MM.JJJJ\")&\") \"&H437&\"-\"&I437","v":"MRS 09078 Snowden (22.09.2016) - Shailene Woodley (15.11.1991) 24-312"}]
["tt4959736","nm0940362",{"$f":"_xlfn.XLOOKUP($A438,_xlfn.CHOOSECOLS(_xlfn.ANCHORARRAY(Filme!$G$1),2),_xlfn.CHOOSECOLS(_xlfn.ANCHORARRAY(Filme!$G$1),3),\"\",0,2)","v":"Big Little Lies"},{"$f":"_xlfn.XLOOKUP($A438,_xlfn.CHOOSECOLS(_xlfn.ANCHORARRAY(Filme!$G$1),2),_xlfn.CHOOSECOLS(_xlfn.ANCHORARRAY(Filme!$G$1),4),\"\",0,2)","v":"2017-04-20"},{"$f":"_xlfn.XLOOKUP($B438,_xlfn.CHOOSECOLS(_xlfn.ANCHORARRAY(Leute!$F$1),2),_xlfn.CHOOSECOLS(_xlfn.ANCHORARRAY(Leute!$F$1),3),\"x\",0,2)","v":"Shailene Woodley"},{"$f":"_xlfn.XLOOKUP($B438,_xlfn.CHOOSECOLS(_xlfn.ANCHORARRAY(Leute!$F$1),2),_xlfn.CHOOSECOLS(_xlfn.ANCHORARRAY(Leute!$F$1),4),\"x\",0,2)","v":"1991-11-15"},{"$f":"RANK(F438,F$1:F438,0)","v":1},{"$f":"DATEDIF(F438,D438,\"Y\")","v":25},{"$f":"DATEDIF(F438,D438,\"YD\")","v":157},{"$f":"D438-F438","v":9288},{"$f":"\"MRS \"&TEXT(J438,\"00000\")&\" \"&SUBSTITUTE(C438,\":\",\"\")&\" (\"&TEXT(D438,\"TT.MM.JJJJ\")&\") - \"&E438&\" (\"&TEXT(F438,\"TT.MM.JJJJ\")&\") \"&H438&\"-\"&I438","v":"MRS 09288 Big Little Lies (20.04.2017) - Shailene Woodley (15.11.1991) 25-157"}]
["tt6306064","nm0940362",{"$f":"_xlfn.XLOOKUP($A439,_xlfn.CHOOSECOLS(_xlfn.ANCHORARRAY(Filme!$G$1),2),_xlfn.CHOOSECOLS(_xlfn.ANCHORARRAY(Filme!$G$1),3),\"\",0,2)","v":"Adrift"},{"$f":"_xlfn.XLOOKUP($A439,_xlfn.CHOOSECOLS(_xlfn.ANCHORARRAY(Filme!$G$1),2),_xlfn.CHOOSECOLS(_xlfn.ANCHORARRAY(Filme!$G$1),4),\"\",0,2)","v":"2018-07-12"},{"$f":"_xlfn.XLOOKUP($B439,_xlfn.CHOOSECOLS(_xlfn.ANCHORARRAY(Leute!$F$1),2),_xlfn.CHOOSECOLS(_xlfn.ANCHORARRAY(Leute!$F$1),3),\"x\",0,2)","v":"Shailene Woodley"},{"$f":"_xlfn.XLOOKUP($B439,_xlfn.CHOOSECOLS(_xlfn.ANCHORARRAY(Leute!$F$1),2),_xlfn.CHOOSECOLS(_xlfn.ANCHORARRAY(Leute!$F$1),4),\"x\",0,2)","v":"1991-11-15"},{"$f":"RANK(F439,F$1:F439,0)","v":1},{"$f":"DATEDIF(F439,D439,\"Y\")","v":26},{"$f":"DATEDIF(F439,D439,\"YD\")","v":240},{"$f":"D439-F439","v":9736},{"$f":"\"MRS \"&TEXT(J439,\"00000\")&\" \"&SUBSTITUTE(C439,\":\",\"\")&\" (\"&TEXT(D439,\"TT.MM.JJJJ\")&\") - \"&E439&\" (\"&TEXT(F439,\"TT.MM.JJJJ\")&\") \"&H439&\"-\"&I439","v":"MRS 09736 Adrift (12.07.2018) - Shailene Woodley (15.11.1991) 26-240"}]
["tt9147456","nm0940362",{"$f":"_xlfn.XLOOKUP($A440,_xlfn.CHOOSECOLS(_xlfn.ANCHORARRAY(Filme!$G$1),2),_xlfn.CHOOSECOLS(_xlfn.ANCHORARRAY(Filme!$G$1),3),\"\",0,2)","v":"Endings, Beginnings"},{"$f":"_xlfn.XLOOKUP($A440,_xlfn.CHOOSECOLS(_xlfn.ANCHORARRAY(Filme!$G$1),2),_xlfn.CHOOSECOLS(_xlfn.ANCHORARRAY(Filme!$G$1),4),\"\",0,2)","v":"2021-02-05"},{"$f":"_xlfn.XLOOKUP($B440,_xlfn.CHOOSECOLS(_xlfn.ANCHORARRAY(Leute!$F$1),2),_xlfn.CHOOSECOLS(_xlfn.ANCHORARRAY(Leute!$F$1),3),\"x\",0,2)","v":"Shailene Woodley"},{"$f":"_xlfn.XLOOKUP($B440,_xlfn.CHOOSECOLS(_xlfn.ANCHORARRAY(Leute!$F$1),2),_xlfn.CHOOSECOLS(_xlfn.ANCHORARRAY(Leute!$F$1),4),\"x\",0,2)","v":"1991-11-15"},{"$f":"RANK(F440,F$1:F440,0)","v":1},{"$f":"DATEDIF(F440,D440,\"Y\")","v":29},{"$f":"DATEDIF(F440,D440,\"YD\")","v":82},{"$f":"D440-F440","v":10675},{"$f":"\"MRS \"&TEXT(J440,\"00000\")&\" \"&SUBSTITUTE(C440,\":\",\"\")&\" (\"&TEXT(D440,\"TT.MM.JJJJ\")&\") - \"&E440&\" (\"&TEXT(F440,\"TT.MM.JJJJ\")&\") \"&H440&\"-\"&I440","v":"MRS 10675 Endings, Beginnings (05.02.2021) - Shailene Woodley (15.11.1991) 29-82"}]
["tt0844479","nm0956526",{"$f":"_xlfn.XLOOKUP($A441,_xlfn.CHOOSECOLS(_xlfn.ANCHORARRAY(Filme!$G$1),2),_xlfn.CHOOSECOLS(_xlfn.ANCHORARRAY(Filme!$G$1),3),\"\",0,2)","v":"The Collector"},{"$f":"_xlfn.XLOOKUP($A441,_xlfn.CHOOSECOLS(_xlfn.ANCHORARRAY(Filme!$G$1),2),_xlfn.CHOOSECOLS(_xlfn.ANCHORARRAY(Filme!$G$1),4),\"\",0,2)","v":"2009-07-31"},{"$f":"_xlfn.XLOOKUP($B441,_xlfn.CHOOSECOLS(_xlfn.ANCHORARRAY(Leute!$F$1),2),_xlfn.CHOOSECOLS(_xlfn.ANCHORARRAY(Leute!$F$1),3),\"x\",0,2)","v":"Madeline Zima"},{"$f":"_xlfn.XLOOKUP($B441,_xlfn.CHOOSECOLS(_xlfn.ANCHORARRAY(Leute!$F$1),2),_xlfn.CHOOSECOLS(_xlfn.ANCHORARRAY(Leute!$F$1),4),\"x\",0,2)","v":"1985-09-16"},{"$f":"RANK(F441,F$1:F441,0)","v":35},{"$f":"DATEDIF(F441,D441,\"Y\")","v":23},{"$f":"DATEDIF(F441,D441,\"YD\")","v":318},{"$f":"D441-F441","v":8719},{"$f":"\"MRS \"&TEXT(J441,\"00000\")&\" \"&SUBSTITUTE(C441,\":\",\"\")&\" (\"&TEXT(D441,\"TT.MM.JJJJ\")&\") - \"&E441&\" (\"&TEXT(F441,\"TT.MM.JJJJ\")&\") \"&H441&\"-\"&I441","v":"MRS 08719 The Collector (31.07.2009) - Madeline Zima (16.09.1985) 23-318"}]
["tt0946832","nm0956526",{"$f":"_xlfn.XLOOKUP($A442,_xlfn.CHOOSECOLS(_xlfn.ANCHORARRAY(Filme!$G$1),2),_xlfn.CHOOSECOLS(_xlfn.ANCHORARRAY(Filme!$G$1),3),\"\",0,2)","v":"Californication"},{"$f":"_xlfn.XLOOKUP($A442,_xlfn.CHOOSECOLS(_xlfn.ANCHORARRAY(Filme!$G$1),2),_xlfn.CHOOSECOLS(_xlfn.ANCHORARRAY(Filme!$G$1),4),\"\",0,2)","v":"2008-05-14"},{"$f":"_xlfn.XLOOKUP($B442,_xlfn.CHOOSECOLS(_xlfn.ANCHORARRAY(Leute!$F$1),2),_xlfn.CHOOSECOLS(_xlfn.ANCHORARRAY(Leute!$F$1),3),\"x\",0,2)","v":"Madeline Zima"},{"$f":"_xlfn.XLOOKUP($B442,_xlfn.CHOOSECOLS(_xlfn.ANCHORARRAY(Leute!$F$1),2),_xlfn.CHOOSECOLS(_xlfn.ANCHORARRAY(Leute!$F$1),4),\"x\",0,2)","v":"1985-09-16"},{"$f":"RANK(F442,F$1:F442,0)","v":35},{"$f":"DATEDIF(F442,D442,\"Y\")","v":22},{"$f":"DATEDIF(F442,D442,\"YD\")","v":240},{"$f":"D442-F442","v":8276},{"$f":"\"MRS \"&TEXT(J442,\"00000\")&\" \"&SUBSTITUTE(C442,\":\",\"\")&\" (\"&TEXT(D442,\"TT.MM.JJJJ\")&\") - \"&E442&\" (\"&TEXT(F442,\"TT.MM.JJJJ\")&\") \"&H442&\"-\"&I442","v":"MRS 08276 Californication (14.05.2008) - Madeline Zima (16.09.1985) 22-240"}]
["tt10069528","nm0956526",{"$f":"_xlfn.XLOOKUP($A443,_xlfn.CHOOSECOLS(_xlfn.ANCHORARRAY(Filme!$G$1),2),_xlfn.CHOOSECOLS(_xlfn.ANCHORARRAY(Filme!$G$1),3),\"\",0,2)","v":"Perry Mason"},{"$f":"_xlfn.XLOOKUP($A443,_xlfn.CHOOSECOLS(_xlfn.ANCHORARRAY(Filme!$G$1),2),_xlfn.CHOOSECOLS(_xlfn.ANCHORARRAY(Filme!$G$1),4),\"\",0,2)","v":"2020-07-31"},{"$f":"_xlfn.XLOOKUP($B443,_xlfn.CHOOSECOLS(_xlfn.ANCHORARRAY(Leute!$F$1),2),_xlfn.CHOOSECOLS(_xlfn.ANCHORARRAY(Leute!$F$1),3),\"x\",0,2)","v":"Madeline Zima"},{"$f":"_xlfn.XLOOKUP($B443,_xlfn.CHOOSECOLS(_xlfn.ANCHORARRAY(Leute!$F$1),2),_xlfn.CHOOSECOLS(_xlfn.ANCHORARRAY(Leute!$F$1),4),\"x\",0,2)","v":"1985-09-16"},{"$f":"RANK(F443,F$1:F443,0)","v":35},{"$f":"DATEDIF(F443,D443,\"Y\")","v":34},{"$f":"DATEDIF(F443,D443,\"YD\")","v":318},{"$f":"D443-F443","v":12737},{"$f":"\"MRS \"&TEXT(J443,\"00000\")&\" \"&SUBSTITUTE(C443,\":\",\"\")&\" (\"&TEXT(D443,\"TT.MM.JJJJ\")&\") - \"&E443&\" (\"&TEXT(F443,\"TT.MM.JJJJ\")&\") \"&H443&\"-\"&I443","v":"MRS 12737 Perry Mason (31.07.2020) - Madeline Zima (16.09.1985) 34-318"}]
["tt4108304","nm0956526",{"$f":"_xlfn.XLOOKUP($A444,_xlfn.CHOOSECOLS(_xlfn.ANCHORARRAY(Filme!$G$1),2),_xlfn.CHOOSECOLS(_xlfn.ANCHORARRAY(Filme!$G$1),3),\"\",0,2)","v":"Twin Peaks"},{"$f":"_xlfn.XLOOKUP($A444,_xlfn.CHOOSECOLS(_xlfn.ANCHORARRAY(Filme!$G$1),2),_xlfn.CHOOSECOLS(_xlfn.ANCHORARRAY(Filme!$G$1),4),\"\",0,2)","v":"2017-05-25"},{"$f":"_xlfn.XLOOKUP($B444,_xlfn.CHOOSECOLS(_xlfn.ANCHORARRAY(Leute!$F$1),2),_xlfn.CHOOSECOLS(_xlfn.ANCHORARRAY(Leute!$F$1),3),\"x\",0,2)","v":"Madeline Zima"},{"$f":"_xlfn.XLOOKUP($B444,_xlfn.CHOOSECOLS(_xlfn.ANCHORARRAY(Leute!$F$1),2),_xlfn.CHOOSECOLS(_xlfn.ANCHORARRAY(Leute!$F$1),4),\"x\",0,2)","v":"1985-09-16"},{"$f":"RANK(F444,F$1:F444,0)","v":35},{"$f":"DATEDIF(F444,D444,\"Y\")","v":31},{"$f":"DATEDIF(F444,D444,\"YD\")","v":251},{"$f":"D444-F444","v":11574},{"$f":"\"MRS \"&TEXT(J444,\"00000\")&\" \"&SUBSTITUTE(C444,\":\",\"\")&\" (\"&TEXT(D444,\"TT.MM.JJJJ\")&\") - \"&E444&\" (\"&TEXT(F444,\"TT.MM.JJJJ\")&\") \"&H444&\"-\"&I444","v":"MRS 11574 Twin Peaks (25.05.2017) - Madeline Zima (16.09.1985) 31-251"}]
["tt0458481","nm1017334",{"$f":"_xlfn.XLOOKUP($A445,_xlfn.CHOOSECOLS(_xlfn.ANCHORARRAY(Filme!$G$1),2),_xlfn.CHOOSECOLS(_xlfn.ANCHORARRAY(Filme!$G$1),3),\"\",0,2)","v":"Sin City: A Dame to Kill For"},{"$f":"_xlfn.XLOOKUP($A445,_xlfn.CHOOSECOLS(_xlfn.ANCHORARRAY(Filme!$G$1),2),_xlfn.CHOOSECOLS(_xlfn.ANCHORARRAY(Filme!$G$1),4),\"\",0,2)","v":"2014-09-18"},{"$f":"_xlfn.XLOOKUP($B445,_xlfn.CHOOSECOLS(_xlfn.ANCHORARRAY(Leute!$F$1),2),_xlfn.CHOOSECOLS(_xlfn.ANCHORARRAY(Leute!$F$1),3),\"x\",0,2)","v":"Juno Temple"},{"$f":"_xlfn.XLOOKUP($B445,_xlfn.CHOOSECOLS(_xlfn.ANCHORARRAY(Leute!$F$1),2),_xlfn.CHOOSECOLS(_xlfn.ANCHORARRAY(Leute!$F$1),4),\"x\",0,2)","v":"1989-07-21"},{"$f":"RANK(F445,F$1:F445,0)","v":17},{"$f":"DATEDIF(F445,D445,\"Y\")","v":25},{"$f":"DATEDIF(F445,D445,\"YD\")","v":59},{"$f":"D445-F445","v":9190},{"$f":"\"MRS \"&TEXT(J445,\"00000\")&\" \"&SUBSTITUTE(C445,\":\",\"\")&\" (\"&TEXT(D445,\"TT.MM.JJJJ\")&\") - \"&E445&\" (\"&TEXT(F445,\"TT.MM.JJJJ\")&\") \"&H445&\"-\"&I445","v":"MRS 09190 Sin City A Dame to Kill For (18.09.2014) - Juno Temple (21.07.1989) 25-59"}]
["tt0850677","nm1017334",{"$f":"_xlfn.XLOOKUP($A446,_xlfn.CHOOSECOLS(_xlfn.ANCHORARRAY(Filme!$G$1),2),_xlfn.CHOOSECOLS(_xlfn.ANCHORARRAY(Filme!$G$1),3),\"\",0,2)","v":"Jack & Diane"},{"$f":"_xlfn.XLOOKUP($A446,_xlfn.CHOOSECOLS(_xlfn.ANCHORARRAY(Filme!$G$1),2),_xlfn.CHOOSECOLS(_xlfn.ANCHORARRAY(Filme!$G$1),4),\"\",0,2)","v":"2023-09-14"},{"$f":"_xlfn.XLOOKUP($B446,_xlfn.CHOOSECOLS(_xlfn.ANCHORARRAY(Leute!$F$1),2),_xlfn.CHOOSECOLS(_xlfn.ANCHORARRAY(Leute!$F$1),3),\"x\",0,2)","v":"Juno Temple"},{"$f":"_xlfn.XLOOKUP($B446,_xlfn.CHOOSECOLS(_xlfn.ANCHORARRAY(Leute!$F$1),2),_xlfn.CHOOSECOLS(_xlfn.ANCHORARRAY(Leute!$F$1),4),\"x\",0,2)","v":"1989-07-21"},{"$f":"RANK(F446,F$1:F446,0)","v":17},{"$f":"DATEDIF(F446,D446,\"Y\")","v":34},{"$f":"DATEDIF(F446,D446,\"YD\")","v":55},{"$f":"D446-F446","v":12473},{"$f":"\"MRS \"&TEXT(J446,\"00000\")&\" \"&SUBSTITUTE(C446,\":\",\"\")&\" (\"&TEXT(D446,\"TT.MM.JJJJ\")&\") - \"&E446&\" (\"&TEXT(F446,\"TT.MM.JJJJ\")&\") \"&H446&\"-\"&I446","v":"MRS 12473 Jack & Diane (14.09.2023) - Juno Temple (21.07.1989) 34-55"}]
["tt10487972","nm1017334",{"$f":"_xlfn.XLOOKUP($A447,_xlfn.CHOOSECOLS(_xlfn.ANCHORARRAY(Filme!$G$1),2),_xlfn.CHOOSECOLS(_xlfn.ANCHORARRAY(Filme!$G$1),3),\"\",0,2)","v":"Little Birds"},{"$f":"_xlfn.XLOOKUP($A447,_xlfn.CHOOSECOLS(_xlfn.ANCHORARRAY(Filme!$G$1),2),_xlfn.CHOOSECOLS(_xlfn.ANCHORARRAY(Filme!$G$1),4),\"\",0,2)","v":"2021-04-01"},{"$f":"_xlfn.XLOOKUP($B447,_xlfn.CHOOSECOLS(_xlfn.ANCHORARRAY(Leute!$F$1),2),_xlfn.CHOOSECOLS(_xlfn.ANCHORARRAY(Leute!$F$1),3),\"x\",0,2)","v":"Juno Temple"},{"$f":"_xlfn.XLOOKUP($B447,_xlfn.CHOOSECOLS(_xlfn.ANCHORARRAY(Leute!$F$1),2),_xlfn.CHOOSECOLS(_xlfn.ANCHORARRAY(Leute!$F$1),4),\"x\",0,2)","v":"1989-07-21"},{"$f":"RANK(F447,F$1:F447,0)","v":17},{"$f":"DATEDIF(F447,D447,\"Y\")","v":31},{"$f":"DATEDIF(F447,D447,\"YD\")","v":254},{"$f":"D447-F447","v":11577},{"$f":"\"MRS \"&TEXT(J447,\"00000\")&\" \"&SUBSTITUTE(C447,\":\",\"\")&\" (\"&TEXT(D447,\"TT.MM.JJJJ\")&\") - \"&E447&\" (\"&TEXT(F447,\"TT.MM.JJJJ\")&\") \"&H447&\"-\"&I447","v":"MRS 11577 Little Birds (01.04.2021) - Juno Temple (21.07.1989) 31-254"}]
["tt1523483","nm1017334",{"$f":"_xlfn.XLOOKUP($A448,_xlfn.CHOOSECOLS(_xlfn.ANCHORARRAY(Filme!$G$1),2),_xlfn.CHOOSECOLS(_xlfn.ANCHORARRAY(Filme!$G$1),3),\"\",0,2)","v":"Kaboom"},{"$f":"_xlfn.XLOOKUP($A448,_xlfn.CHOOSECOLS(_xlfn.ANCHORARRAY(Filme!$G$1),2),_xlfn.CHOOSECOLS(_xlfn.ANCHORARRAY(Filme!$G$1),4),\"\",0,2)","v":"2011-06-16"},{"$f":"_xlfn.XLOOKUP($B448,_xlfn.CHOOSECOLS(_xlfn.ANCHORARRAY(Leute!$F$1),2),_xlfn.CHOOSECOLS(_xlfn.ANCHORARRAY(Leute!$F$1),3),\"x\",0,2)","v":"Juno Temple"},{"$f":"_xlfn.XLOOKUP($B448,_xlfn.CHOOSECOLS(_xlfn.ANCHORARRAY(Leute!$F$1),2),_xlfn.CHOOSECOLS(_xlfn.ANCHORARRAY(Leute!$F$1),4),\"x\",0,2)","v":"1989-07-21"},{"$f":"RANK(F448,F$1:F448,0)","v":17},{"$f":"DATEDIF(F448,D448,\"Y\")","v":21},{"$f":"DATEDIF(F448,D448,\"YD\")","v":330},{"$f":"D448-F448","v":8000},{"$f":"\"MRS \"&TEXT(J448,\"00000\")&\" \"&SUBSTITUTE(C448,\":\",\"\")&\" (\"&TEXT(D448,\"TT.MM.JJJJ\")&\") - \"&E448&\" (\"&TEXT(F448,\"TT.MM.JJJJ\")&\") \"&H448&\"-\"&I448","v":"MRS 08000 Kaboom (16.06.2011) - Juno Temple (21.07.1989) 21-330"}]
["tt1528071","nm1017334",{"$f":"_xlfn.XLOOKUP($A449,_xlfn.CHOOSECOLS(_xlfn.ANCHORARRAY(Filme!$G$1),2),_xlfn.CHOOSECOLS(_xlfn.ANCHORARRAY(Filme!$G$1),3),\"\",0,2)","v":"Horns"},{"$f":"_xlfn.XLOOKUP($A449,_xlfn.CHOOSECOLS(_xlfn.ANCHORARRAY(Filme!$G$1),2),_xlfn.CHOOSECOLS(_xlfn.ANCHORARRAY(Filme!$G$1),4),\"\",0,2)","v":"2015-08-06"},{"$f":"_xlfn.XLOOKUP($B449,_xlfn.CHOOSECOLS(_xlfn.ANCHORARRAY(Leute!$F$1),2),_xlfn.CHOOSECOLS(_xlfn.ANCHORARRAY(Leute!$F$1),3),\"x\",0,2)","v":"Juno Temple"},{"$f":"_xlfn.XLOOKUP($B449,_xlfn.CHOOSECOLS(_xlfn.ANCHORARRAY(Leute!$F$1),2),_xlfn.CHOOSECOLS(_xlfn.ANCHORARRAY(Leute!$F$1),4),\"x\",0,2)","v":"1989-07-21"},{"$f":"RANK(F449,F$1:F449,0)","v":17},{"$f":"DATEDIF(F449,D449,\"Y\")","v":26},{"$f":"DATEDIF(F449,D449,\"YD\")","v":16},{"$f":"D449-F449","v":9512},{"$f":"\"MRS \"&TEXT(J449,\"00000\")&\" \"&SUBSTITUTE(C449,\":\",\"\")&\" (\"&TEXT(D449,\"TT.MM.JJJJ\")&\") - \"&E449&\" (\"&TEXT(F449,\"TT.MM.JJJJ\")&\") \"&H449&\"-\"&I449","v":"MRS 09512 Horns (06.08.2015) - Juno Temple (21.07.1989) 26-16"}]
["tt1623745","nm1017334",{"$f":"_xlfn.XLOOKUP($A450,_xlfn.CHOOSECOLS(_xlfn.ANCHORARRAY(Filme!$G$1),2),_xlfn.CHOOSECOLS(_xlfn.ANCHORARRAY(Filme!$G$1),3),\"\",0,2)","v":"Little Birds"},{"$f":"_xlfn.XLOOKUP($A450,_xlfn.CHOOSECOLS(_xlfn.ANCHORARRAY(Filme!$G$1),2),_xlfn.CHOOSECOLS(_xlfn.ANCHORARRAY(Filme!$G$1),4),\"\",0,2)","v":"2016-01-09"},{"$f":"_xlfn.XLOOKUP($B450,_xlfn.CHOOSECOLS(_xlfn.ANCHORARRAY(Leute!$F$1),2),_xlfn.CHOOSECOLS(_xlfn.ANCHORARRAY(Leute!$F$1),3),\"x\",0,2)","v":"Juno Temple"},{"$f":"_xlfn.XLOOKUP($B450,_xlfn.CHOOSECOLS(_xlfn.ANCHORARRAY(Leute!$F$1),2),_xlfn.CHOOSECOLS(_xlfn.ANCHORARRAY(Leute!$F$1),4),\"x\",0,2)","v":"1989-07-21"},{"$f":"RANK(F450,F$1:F450,0)","v":17},{"$f":"DATEDIF(F450,D450,\"Y\")","v":26},{"$f":"DATEDIF(F450,D450,\"YD\")","v":172},{"$f":"D450-F450","v":9668},{"$f":"\"MRS \"&TEXT(J450,\"00000\")&\" \"&SUBSTITUTE(C450,\":\",\"\")&\" (\"&TEXT(D450,\"TT.MM.JJJJ\")&\") - \"&E450&\" (\"&TEXT(F450,\"TT.MM.JJJJ\")&\") \"&H450&\"-\"&I450","v":"MRS 09668 Little Birds (09.01.2016) - Juno Temple (21.07.1989) 26-172"}]
["tt1726669","nm1017334",{"$f":"_xlfn.XLOOKUP($A451,_xlfn.CHOOSECOLS(_xlfn.ANCHORARRAY(Filme!$G$1),2),_xlfn.CHOOSECOLS(_xlfn.ANCHORARRAY(Filme!$G$1),3),\"\",0,2)","v":"Killer Joe"},{"$f":"_xlfn.XLOOKUP($A451,_xlfn.CHOOSECOLS(_xlfn.ANCHORARRAY(Filme!$G$1),2),_xlfn.CHOOSECOLS(_xlfn.ANCHORARRAY(Filme!$G$1),4),\"\",0,2)","v":"2012-06-29"},{"$f":"_xlfn.XLOOKUP($B451,_xlfn.CHOOSECOLS(_xlfn.ANCHORARRAY(Leute!$F$1),2),_xlfn.CHOOSECOLS(_xlfn.ANCHORARRAY(Leute!$F$1),3),\"x\",0,2)","v":"Juno Temple"},{"$f":"_xlfn.XLOOKUP($B451,_xlfn.CHOOSECOLS(_xlfn.ANCHORARRAY(Leute!$F$1),2),_xlfn.CHOOSECOLS(_xlfn.ANCHORARRAY(Leute!$F$1),4),\"x\",0,2)","v":"1989-07-21"},{"$f":"RANK(F451,F$1:F451,0)","v":17},{"$f":"DATEDIF(F451,D451,\"Y\")","v":22},{"$f":"DATEDIF(F451,D451,\"YD\")","v":343},{"$f":"D451-F451","v":8379},{"$f":"\"MRS \"&TEXT(J451,\"00000\")&\" \"&SUBSTITUTE(C451,\":\",\"\")&\" (\"&TEXT(D451,\"TT.MM.JJJJ\")&\") - \"&E451&\" (\"&TEXT(F451,\"TT.MM.JJJJ\")&\") \"&H451&\"-\"&I451","v":"MRS 08379 Killer Joe (29.06.2012) - Juno Temple (21.07.1989) 22-343"}]
["tt1929308","nm1017334",{"$f":"_xlfn.XLOOKUP($A452,_xlfn.CHOOSECOLS(_xlfn.ANCHORARRAY(Filme!$G$1),2),_xlfn.CHOOSECOLS(_xlfn.ANCHORARRAY(Filme!$G$1),3),\"\",0,2)","v":"Magic Magic"},{"$f":"_xlfn.XLOOKUP($A452,_xlfn.CHOOSECOLS(_xlfn.ANCHORARRAY(Filme!$G$1),2),_xlfn.CHOOSECOLS(_xlfn.ANCHORARRAY(Filme!$G$1),4),\"\",0,2)","v":"2013-08-28"},{"$f":"_xlfn.XLOOKUP($B452,_xlfn.CHOOSECOLS(_xlfn.ANCHORARRAY(Leute!$F$1),2),_xlfn.CHOOSECOLS(_xlfn.ANCHORARRAY(Leute!$F$1),3),\"x\",0,2)","v":"Juno Temple"},{"$f":"_xlfn.XLOOKUP($B452,_xlfn.CHOOSECOLS(_xlfn.ANCHORARRAY(Leute!$F$1),2),_xlfn.CHOOSECOLS(_xlfn.ANCHORARRAY(Leute!$F$1),4),\"x\",0,2)","v":"1989-07-21"},{"$f":"RANK(F452,F$1:F452,0)","v":17},{"$f":"DATEDIF(F452,D452,\"Y\")","v":24},{"$f":"DATEDIF(F452,D452,\"YD\")","v":38},{"$f":"D452-F452","v":8804},{"$f":"\"MRS \"&TEXT(J452,\"00000\")&\" \"&SUBSTITUTE(C452,\":\",\"\")&\" (\"&TEXT(D452,\"TT.MM.JJJJ\")&\") - \"&E452&\" (\"&TEXT(F452,\"TT.MM.JJJJ\")&\") \"&H452&\"-\"&I452","v":"MRS 08804 Magic Magic (28.08.2013) - Juno Temple (21.07.1989) 24-38"}]
["tt2312890","nm1017334",{"$f":"_xlfn.XLOOKUP($A453,_xlfn.CHOOSECOLS(_xlfn.ANCHORARRAY(Filme!$G$1),2),_xlfn.CHOOSECOLS(_xlfn.ANCHORARRAY(Filme!$G$1),3),\"\",0,2)","v":"Afternoon Delight"},{"$f":"_xlfn.XLOOKUP($A453,_xlfn.CHOOSECOLS(_xlfn.ANCHORARRAY(Filme!$G$1),2),_xlfn.CHOOSECOLS(_xlfn.ANCHORARRAY(Filme!$G$1),4),\"\",0,2)","v":"2015-05-07"},{"$f":"_xlfn.XLOOKUP($B453,_xlfn.CHOOSECOLS(_xlfn.ANCHORARRAY(Leute!$F$1),2),_xlfn.CHOOSECOLS(_xlfn.ANCHORARRAY(Leute!$F$1),3),\"x\",0,2)","v":"Juno Temple"},{"$f":"_xlfn.XLOOKUP($B453,_xlfn.CHOOSECOLS(_xlfn.ANCHORARRAY(Leute!$F$1),2),_xlfn.CHOOSECOLS(_xlfn.ANCHORARRAY(Leute!$F$1),4),\"x\",0,2)","v":"1989-07-21"},{"$f":"RANK(F453,F$1:F453,0)","v":17},{"$f":"DATEDIF(F453,D453,\"Y\")","v":25},{"$f":"DATEDIF(F453,D453,\"YD\")","v":290},{"$f":"D453-F453","v":9421},{"$f":"\"MRS \"&TEXT(J453,\"00000\")&\" \"&SUBSTITUTE(C453,\":\",\"\")&\" (\"&TEXT(D453,\"TT.MM.JJJJ\")&\") - \"&E453&\" (\"&TEXT(F453,\"TT.MM.JJJJ\")&\") \"&H453&\"-\"&I453","v":"MRS 09421 Afternoon Delight (07.05.2015) - Juno Temple (21.07.1989) 25-290"}]
["tt4381070","nm1017334",{"$f":"_xlfn.XLOOKUP($A454,_xlfn.CHOOSECOLS(_xlfn.ANCHORARRAY(Filme!$G$1),2),_xlfn.CHOOSECOLS(_xlfn.ANCHORARRAY(Filme!$G$1),3),\"\",0,2)","v":"Vinyl"},{"$f":"_xlfn.XLOOKUP($A454,_xlfn.CHOOSECOLS(_xlfn.ANCHORARRAY(Filme!$G$1),2),_xlfn.CHOOSECOLS(_xlfn.ANCHORARRAY(Filme!$G$1),4),\"\",0,2)","v":"2016-04-07"},{"$f":"_xlfn.XLOOKUP($B454,_xlfn.CHOOSECOLS(_xlfn.ANCHORARRAY(Leute!$F$1),2),_xlfn.CHOOSECOLS(_xlfn.ANCHORARRAY(Leute!$F$1),3),\"x\",0,2)","v":"Juno Temple"},{"$f":"_xlfn.XLOOKUP($B454,_xlfn.CHOOSECOLS(_xlfn.ANCHORARRAY(Leute!$F$1),2),_xlfn.CHOOSECOLS(_xlfn.ANCHORARRAY(Leute!$F$1),4),\"x\",0,2)","v":"1989-07-21"},{"$f":"RANK(F454,F$1:F454,0)","v":17},{"$f":"DATEDIF(F454,D454,\"Y\")","v":26},{"$f":"DATEDIF(F454,D454,\"YD\")","v":260},{"$f":"D454-F454","v":9757},{"$f":"\"MRS \"&TEXT(J454,\"00000\")&\" \"&SUBSTITUTE(C454,\":\",\"\")&\" (\"&TEXT(D454,\"TT.MM.JJJJ\")&\") - \"&E454&\" (\"&TEXT(F454,\"TT.MM.JJJJ\")&\") \"&H454&\"-\"&I454","v":"MRS 09757 Vinyl (07.04.2016) - Juno Temple (21.07.1989) 26-260"}]
["tt5817022","nm1017334",{"$f":"_xlfn.XLOOKUP($A455,_xlfn.CHOOSECOLS(_xlfn.ANCHORARRAY(Filme!$G$1),2),_xlfn.CHOOSECOLS(_xlfn.ANCHORARRAY(Filme!$G$1),3),\"\",0,2)","v":"One Percent More Humid"},{"$f":"_xlfn.XLOOKUP($A455,_xlfn.CHOOSECOLS(_xlfn.ANCHORARRAY(Filme!$G$1),2),_xlfn.CHOOSECOLS(_xlfn.ANCHORARRAY(Filme!$G$1),4),\"\",0,2)","v":"2017-04-21"},{"$f":"_xlfn.XLOOKUP($B455,_xlfn.CHOOSECOLS(_xlfn.ANCHORARRAY(Leute!$F$1),2),_xlfn.CHOOSECOLS(_xlfn.ANCHORARRAY(Leute!$F$1),3),\"x\",0,2)","v":"Juno Temple"},{"$f":"_xlfn.XLOOKUP($B455,_xlfn.CHOOSECOLS(_xlfn.ANCHORARRAY(Leute!$F$1),2),_xlfn.CHOOSECOLS(_xlfn.ANCHORARRAY(Leute!$F$1),4),\"x\",0,2)","v":"1989-07-21"},{"$f":"RANK(F455,F$1:F455,0)","v":17},{"$f":"DATEDIF(F455,D455,\"Y\")","v":27},{"$f":"DATEDIF(F455,D455,\"YD\")","v":274},{"$f":"D455-F455","v":10136},{"$f":"\"MRS \"&TEXT(J455,\"00000\")&\" \"&SUBSTITUTE(C455,\":\",\"\")&\" (\"&TEXT(D455,\"TT.MM.JJJJ\")&\") - \"&E455&\" (\"&TEXT(F455,\"TT.MM.JJJJ\")&\") \"&H455&\"-\"&I455","v":"MRS 10136 One Percent More Humid (21.04.2017) - Juno Temple (21.07.1989) 27-274"}]
["tt6857376","nm1017334",{"$f":"_xlfn.XLOOKUP($A456,_xlfn.CHOOSECOLS(_xlfn.ANCHORARRAY(Filme!$G$1),2),_xlfn.CHOOSECOLS(_xlfn.ANCHORARRAY(Filme!$G$1),3),\"\",0,2)","v":"Palmer"},{"$f":"_xlfn.XLOOKUP($A456,_xlfn.CHOOSECOLS(_xlfn.ANCHORARRAY(Filme!$G$1),2),_xlfn.CHOOSECOLS(_xlfn.ANCHORARRAY(Filme!$G$1),4),\"\",0,2)","v":"2021-01-29"},{"$f":"_xlfn.XLOOKUP($B456,_xlfn.CHOOSECOLS(_xlfn.ANCHORARRAY(Leute!$F$1),2),_xlfn.CHOOSECOLS(_xlfn.ANCHORARRAY(Leute!$F$1),3),\"x\",0,2)","v":"Juno Temple"},{"$f":"_xlfn.XLOOKUP($B456,_xlfn.CHOOSECOLS(_xlfn.ANCHORARRAY(Leute!$F$1),2),_xlfn.CHOOSECOLS(_xlfn.ANCHORARRAY(Leute!$F$1),4),\"x\",0,2)","v":"1989-07-21"},{"$f":"RANK(F456,F$1:F456,0)","v":17},{"$f":"DATEDIF(F456,D456,\"Y\")","v":31},{"$f":"DATEDIF(F456,D456,\"YD\")","v":192},{"$f":"D456-F456","v":11515},{"$f":"\"MRS \"&TEXT(J456,\"00000\")&\" \"&SUBSTITUTE(C456,\":\",\"\")&\" (\"&TEXT(D456,\"TT.MM.JJJJ\")&\") - \"&E456&\" (\"&TEXT(F456,\"TT.MM.JJJJ\")&\") \"&H456&\"-\"&I456","v":"MRS 11515 Palmer (29.01.2021) - Juno Temple (21.07.1989) 31-192"}]
["tt0280970","nm1046097",{"$f":"_xlfn.XLOOKUP($A457,_xlfn.CHOOSECOLS(_xlfn.ANCHORARRAY(Filme!$G$1),2),_xlfn.CHOOSECOLS(_xlfn.ANCHORARRAY(Filme!$G$1),3),\"\",0,2)","v":"My Name Is Tanino"},{"$f":"_xlfn.XLOOKUP($A457,_xlfn.CHOOSECOLS(_xlfn.ANCHORARRAY(Filme!$G$1),2),_xlfn.CHOOSECOLS(_xlfn.ANCHORARRAY(Filme!$G$1),4),\"\",0,2)","v":"2003-05-30"},{"$f":"_xlfn.XLOOKUP($B457,_xlfn.CHOOSECOLS(_xlfn.ANCHORARRAY(Leute!$F$1),2),_xlfn.CHOOSECOLS(_xlfn.ANCHORARRAY(Leute!$F$1),3),\"x\",0,2)","v":"Rachel McAdams"},{"$f":"_xlfn.XLOOKUP($B457,_xlfn.CHOOSECOLS(_xlfn.ANCHORARRAY(Leute!$F$1),2),_xlfn.CHOOSECOLS(_xlfn.ANCHORARRAY(Leute!$F$1),4),\"x\",0,2)","v":"1978-11-17"},{"$f":"RANK(F457,F$1:F457,0)","v":109},{"$f":"DATEDIF(F457,D457,\"Y\")","v":24},{"$f":"DATEDIF(F457,D457,\"YD\")","v":194},{"$f":"D457-F457","v":8960},{"$f":"\"MRS \"&TEXT(J457,\"00000\")&\" \"&SUBSTITUTE(C457,\":\",\"\")&\" (\"&TEXT(D457,\"TT.MM.JJJJ\")&\") - \"&E457&\" (\"&TEXT(F457,\"TT.MM.JJJJ\")&\") \"&H457&\"-\"&I457","v":"MRS 08960 My Name Is Tanino (30.05.2003) - Rachel McAdams (17.11.1978) 24-194"}]
["tt0332280","nm1046097",{"$f":"_xlfn.XLOOKUP($A458,_xlfn.CHOOSECOLS(_xlfn.ANCHORARRAY(Filme!$G$1),2),_xlfn.CHOOSECOLS(_xlfn.ANCHORARRAY(Filme!$G$1),3),\"\",0,2)","v":"The Notebook"},{"$f":"_xlfn.XLOOKUP($A458,_xlfn.CHOOSECOLS(_xlfn.ANCHORARRAY(Filme!$G$1),2),_xlfn.CHOOSECOLS(_xlfn.ANCHORARRAY(Filme!$G$1),4),\"\",0,2)","v":"2004-09-02"},{"$f":"_xlfn.XLOOKUP($B458,_xlfn.CHOOSECOLS(_xlfn.ANCHORARRAY(Leute!$F$1),2),_xlfn.CHOOSECOLS(_xlfn.ANCHORARRAY(Leute!$F$1),3),\"x\",0,2)","v":"Rachel McAdams"},{"$f":"_xlfn.XLOOKUP($B458,_xlfn.CHOOSECOLS(_xlfn.ANCHORARRAY(Leute!$F$1),2),_xlfn.CHOOSECOLS(_xlfn.ANCHORARRAY(Leute!$F$1),4),\"x\",0,2)","v":"1978-11-17"},{"$f":"RANK(F458,F$1:F458,0)","v":109},{"$f":"DATEDIF(F458,D458,\"Y\")","v":25},{"$f":"DATEDIF(F458,D458,\"YD\")","v":289},{"$f":"D458-F458","v":9421},{"$f":"\"MRS \"&TEXT(J458,\"00000\")&\" \"&SUBSTITUTE(C458,\":\",\"\")&\" (\"&TEXT(D458,\"TT.MM.JJJJ\")&\") - \"&E458&\" (\"&TEXT(F458,\"TT.MM.JJJJ\")&\") \"&H458&\"-\"&I458","v":"MRS 09421 The Notebook (02.09.2004) - Rachel McAdams (17.11.1978) 25-289"}]
["tt0452694","nm1046097",{"$f":"_xlfn.XLOOKUP($A459,_xlfn.CHOOSECOLS(_xlfn.ANCHORARRAY(Filme!$G$1),2),_xlfn.CHOOSECOLS(_xlfn.ANCHORARRAY(Filme!$G$1),3),\"\",0,2)","v":"The Time Traveler's Wife"},{"$f":"_xlfn.XLOOKUP($A459,_xlfn.CHOOSECOLS(_xlfn.ANCHORARRAY(Filme!$G$1),2),_xlfn.CHOOSECOLS(_xlfn.ANCHORARRAY(Filme!$G$1),4),\"\",0,2)","v":"2009-09-17"},{"$f":"_xlfn.XLOOKUP($B459,_xlfn.CHOOSECOLS(_xlfn.ANCHORARRAY(Leute!$F$1),2),_xlfn.CHOOSECOLS(_xlfn.ANCHORARRAY(Leute!$F$1),3),\"x\",0,2)","v":"Rachel McAdams"},{"$f":"_xlfn.XLOOKUP($B459,_xlfn.CHOOSECOLS(_xlfn.ANCHORARRAY(Leute!$F$1),2),_xlfn.CHOOSECOLS(_xlfn.ANCHORARRAY(Leute!$F$1),4),\"x\",0,2)","v":"1978-11-17"},{"$f":"RANK(F459,F$1:F459,0)","v":109},{"$f":"DATEDIF(F459,D459,\"Y\")","v":30},{"$f":"DATEDIF(F459,D459,\"YD\")","v":304},{"$f":"D459-F459","v":11262},{"$f":"\"MRS \"&TEXT(J459,\"00000\")&\" \"&SUBSTITUTE(C459,\":\",\"\")&\" (\"&TEXT(D459,\"TT.MM.JJJJ\")&\") - \"&E459&\" (\"&TEXT(F459,\"TT.MM.JJJJ\")&\") \"&H459&\"-\"&I459","v":"MRS 11262 The Time Traveler's Wife (17.09.2009) - Rachel McAdams (17.11.1978) 30-304"}]
["tt1595656","nm1046097",{"$f":"_xlfn.XLOOKUP($A460,_xlfn.CHOOSECOLS(_xlfn.ANCHORARRAY(Filme!$G$1),2),_xlfn.CHOOSECOLS(_xlfn.ANCHORARRAY(Filme!$G$1),3),\"\",0,2)","v":"To the Wonder"},{"$f":"_xlfn.XLOOKUP($A460,_xlfn.CHOOSECOLS(_xlfn.ANCHORARRAY(Filme!$G$1),2),_xlfn.CHOOSECOLS(_xlfn.ANCHORARRAY(Filme!$G$1),4),\"\",0,2)","v":"2013-05-30"},{"$f":"_xlfn.XLOOKUP($B460,_xlfn.CHOOSECOLS(_xlfn.ANCHORARRAY(Leute!$F$1),2),_xlfn.CHOOSECOLS(_xlfn.ANCHORARRAY(Leute!$F$1),3),\"x\",0,2)","v":"Rachel McAdams"},{"$f":"_xlfn.XLOOKUP($B460,_xlfn.CHOOSECOLS(_xlfn.ANCHORARRAY(Leute!$F$1),2),_xlfn.CHOOSECOLS(_xlfn.ANCHORARRAY(Leute!$F$1),4),\"x\",0,2)","v":"1978-11-17"},{"$f":"RANK(F460,F$1:F460,0)","v":109},{"$f":"DATEDIF(F460,D460,\"Y\")","v":34},{"$f":"DATEDIF(F460,D460,\"YD\")","v":194},{"$f":"D460-F460","v":12613},{"$f":"\"MRS \"&TEXT(J460,\"00000\")&\" \"&SUBSTITUTE(C460,\":\",\"\")&\" (\"&TEXT(D460,\"TT.MM.JJJJ\")&\") - \"&E460&\" (\"&TEXT(F460,\"TT.MM.JJJJ\")&\") \"&H460&\"-\"&I460","v":"MRS 12613 To the Wonder (30.05.2013) - Rachel McAdams (17.11.1978) 34-194"}]
["tt6108178","nm1046097",{"$f":"_xlfn.XLOOKUP($A461,_xlfn.CHOOSECOLS(_xlfn.ANCHORARRAY(Filme!$G$1),2),_xlfn.CHOOSECOLS(_xlfn.ANCHORARRAY(Filme!$G$1),3),\"\",0,2)","v":"Disobedience"},{"$f":"_xlfn.XLOOKUP($A461,_xlfn.CHOOSECOLS(_xlfn.ANCHORARRAY(Filme!$G$1),2),_xlfn.CHOOSECOLS(_xlfn.ANCHORARRAY(Filme!$G$1),4),\"\",0,2)","v":"2021-01-31"},{"$f":"_xlfn.XLOOKUP($B461,_xlfn.CHOOSECOLS(_xlfn.ANCHORARRAY(Leute!$F$1),2),_xlfn.CHOOSECOLS(_xlfn.ANCHORARRAY(Leute!$F$1),3),\"x\",0,2)","v":"Rachel McAdams"},{"$f":"_xlfn.XLOOKUP($B461,_xlfn.CHOOSECOLS(_xlfn.ANCHORARRAY(Leute!$F$1),2),_xlfn.CHOOSECOLS(_xlfn.ANCHORARRAY(Leute!$F$1),4),\"x\",0,2)","v":"1978-11-17"},{"$f":"RANK(F461,F$1:F461,0)","v":109},{"$f":"DATEDIF(F461,D461,\"Y\")","v":42},{"$f":"DATEDIF(F461,D461,\"YD\")","v":75},{"$f":"D461-F461","v":15416},{"$f":"\"MRS \"&TEXT(J461,\"00000\")&\" \"&SUBSTITUTE(C461,\":\",\"\")&\" (\"&TEXT(D461,\"TT.MM.JJJJ\")&\") - \"&E461&\" (\"&TEXT(F461,\"TT.MM.JJJJ\")&\") \"&H461&\"-\"&I461","v":"MRS 15416 Disobedience (31.01.2021) - Rachel McAdams (17.11.1978) 42-75"}]
["tt1624620","nm1063517",{"$f":"_xlfn.XLOOKUP($A462,_xlfn.CHOOSECOLS(_xlfn.ANCHORARRAY(Filme!$G$1),2),_xlfn.CHOOSECOLS(_xlfn.ANCHORARRAY(Filme!$G$1),3),\"\",0,2)","v":"Hung"},{"$f":"_xlfn.XLOOKUP($A462,_xlfn.CHOOSECOLS(_xlfn.ANCHORARRAY(Filme!$G$1),2),_xlfn.CHOOSECOLS(_xlfn.ANCHORARRAY(Filme!$G$1),4),\"\",0,2)","v":"2011-04-08"},{"$f":"_xlfn.XLOOKUP($B462,_xlfn.CHOOSECOLS(_xlfn.ANCHORARRAY(Leute!$F$1),2),_xlfn.CHOOSECOLS(_xlfn.ANCHORARRAY(Leute!$F$1),3),\"x\",0,2)","v":"Kathryn Hahn"},{"$f":"_xlfn.XLOOKUP($B462,_xlfn.CHOOSECOLS(_xlfn.ANCHORARRAY(Leute!$F$1),2),_xlfn.CHOOSECOLS(_xlfn.ANCHORARRAY(Leute!$F$1),4),\"x\",0,2)","v":"1973-07-23"},{"$f":"RANK(F462,F$1:F462,0)","v":238},{"$f":"DATEDIF(F462,D462,\"Y\")","v":37},{"$f":"DATEDIF(F462,D462,\"YD\")","v":259},{"$f":"D462-F462","v":13773},{"$f":"\"MRS \"&TEXT(J462,\"00000\")&\" \"&SUBSTITUTE(C462,\":\",\"\")&\" (\"&TEXT(D462,\"TT.MM.JJJJ\")&\") - \"&E462&\" (\"&TEXT(F462,\"TT.MM.JJJJ\")&\") \"&H462&\"-\"&I462","v":"MRS 13773 Hung (08.04.2011) - Kathryn Hahn (23.07.1973) 37-259"}]
["tt16491682","nm1063517",{"$f":"_xlfn.XLOOKUP($A463,_xlfn.CHOOSECOLS(_xlfn.ANCHORARRAY(Filme!$G$1),2),_xlfn.CHOOSECOLS(_xlfn.ANCHORARRAY(Filme!$G$1),3),\"\",0,2)","v":"Agatha All Along"},{"$f":"_xlfn.XLOOKUP($A463,_xlfn.CHOOSECOLS(_xlfn.ANCHORARRAY(Filme!$G$1),2),_xlfn.CHOOSECOLS(_xlfn.ANCHORARRAY(Filme!$G$1),4),\"\",0,2)","v":"2024-09-18"},{"$f":"_xlfn.XLOOKUP($B463,_xlfn.CHOOSECOLS(_xlfn.ANCHORARRAY(Leute!$F$1),2),_xlfn.CHOOSECOLS(_xlfn.ANCHORARRAY(Leute!$F$1),3),\"x\",0,2)","v":"Kathryn Hahn"},{"$f":"_xlfn.XLOOKUP($B463,_xlfn.CHOOSECOLS(_xlfn.ANCHORARRAY(Leute!$F$1),2),_xlfn.CHOOSECOLS(_xlfn.ANCHORARRAY(Leute!$F$1),4),\"x\",0,2)","v":"1973-07-23"},{"$f":"RANK(F463,F$1:F463,0)","v":238},{"$f":"DATEDIF(F463,D463,\"Y\")","v":51},{"$f":"DATEDIF(F463,D463,\"YD\")","v":57},{"$f":"D463-F463","v":18685},{"$f":"\"MRS \"&TEXT(J463,\"00000\")&\" \"&SUBSTITUTE(C463,\":\",\"\")&\" (\"&TEXT(D463,\"TT.MM.JJJJ\")&\") - \"&E463&\" (\"&TEXT(F463,\"TT.MM.JJJJ\")&\") \"&H463&\"-\"&I463","v":"MRS 18685 Agatha All Along (18.09.2024) - Kathryn Hahn (23.07.1973) 51-57"}]
["tt2312890","nm1063517",{"$f":"_xlfn.XLOOKUP($A464,_xlfn.CHOOSECOLS(_xlfn.ANCHORARRAY(Filme!$G$1),2),_xlfn.CHOOSECOLS(_xlfn.ANCHORARRAY(Filme!$G$1),3),\"\",0,2)","v":"Afternoon Delight"},{"$f":"_xlfn.XLOOKUP($A464,_xlfn.CHOOSECOLS(_xlfn.ANCHORARRAY(Filme!$G$1),2),_xlfn.CHOOSECOLS(_xlfn.ANCHORARRAY(Filme!$G$1),4),\"\",0,2)","v":"2015-05-07"},{"$f":"_xlfn.XLOOKUP($B464,_xlfn.CHOOSECOLS(_xlfn.ANCHORARRAY(Leute!$F$1),2),_xlfn.CHOOSECOLS(_xlfn.ANCHORARRAY(Leute!$F$1),3),\"x\",0,2)","v":"Kathryn Hahn"},{"$f":"_xlfn.XLOOKUP($B464,_xlfn.CHOOSECOLS(_xlfn.ANCHORARRAY(Leute!$F$1),2),_xlfn.CHOOSECOLS(_xlfn.ANCHORARRAY(Leute!$F$1),4),\"x\",0,2)","v":"1973-07-23"},{"$f":"RANK(F464,F$1:F464,0)","v":238},{"$f":"DATEDIF(F464,D464,\"Y\")","v":41},{"$f":"DATEDIF(F464,D464,\"YD\")","v":288},{"$f":"D464-F464","v":15263},{"$f":"\"MRS \"&TEXT(J464,\"00000\")&\" \"&SUBSTITUTE(C464,\":\",\"\")&\" (\"&TEXT(D464,\"TT.MM.JJJJ\")&\") - \"&E464&\" (\"&TEXT(F464,\"TT.MM.JJJJ\")&\") \"&H464&\"-\"&I464","v":"MRS 15263 Afternoon Delight (07.05.2015) - Kathryn Hahn (23.07.1973) 41-288"}]
["tt5342604","nm1063517",{"$f":"_xlfn.XLOOKUP($A465,_xlfn.CHOOSECOLS(_xlfn.ANCHORARRAY(Filme!$G$1),2),_xlfn.CHOOSECOLS(_xlfn.ANCHORARRAY(Filme!$G$1),3),\"\",0,2)","v":"Transparent"},{"$f":"_xlfn.XLOOKUP($A465,_xlfn.CHOOSECOLS(_xlfn.ANCHORARRAY(Filme!$G$1),2),_xlfn.CHOOSECOLS(_xlfn.ANCHORARRAY(Filme!$G$1),4),\"\",0,2)","v":"2016-09-23"},{"$f":"_xlfn.XLOOKUP($B465,_xlfn.CHOOSECOLS(_xlfn.ANCHORARRAY(Leute!$F$1),2),_xlfn.CHOOSECOLS(_xlfn.ANCHORARRAY(Leute!$F$1),3),\"x\",0,2)","v":"Kathryn Hahn"},{"$f":"_xlfn.XLOOKUP($B465,_xlfn.CHOOSECOLS(_xlfn.ANCHORARRAY(Leute!$F$1),2),_xlfn.CHOOSECOLS(_xlfn.ANCHORARRAY(Leute!$F$1),4),\"x\",0,2)","v":"1973-07-23"},{"$f":"RANK(F465,F$1:F465,0)","v":238},{"$f":"DATEDIF(F465,D465,\"Y\")","v":43},{"$f":"DATEDIF(F465,D465,\"YD\")","v":62},{"$f":"D465-F465","v":15768},{"$f":"\"MRS \"&TEXT(J465,\"00000\")&\" \"&SUBSTITUTE(C465,\":\",\"\")&\" (\"&TEXT(D465,\"TT.MM.JJJJ\")&\") - \"&E465&\" (\"&TEXT(F465,\"TT.MM.JJJJ\")&\") \"&H465&\"-\"&I465","v":"MRS 15768 Transparent (23.09.2016) - Kathryn Hahn (23.07.1973) 43-62"}]
["tt5536610","nm1063517",{"$f":"_xlfn.XLOOKUP($A466,_xlfn.CHOOSECOLS(_xlfn.ANCHORARRAY(Filme!$G$1),2),_xlfn.CHOOSECOLS(_xlfn.ANCHORARRAY(Filme!$G$1),3),\"\",0,2)","v":"Private Life"},{"$f":"_xlfn.XLOOKUP($A466,_xlfn.CHOOSECOLS(_xlfn.ANCHORARRAY(Filme!$G$1),2),_xlfn.CHOOSECOLS(_xlfn.ANCHORARRAY(Filme!$G$1),4),\"\",0,2)","v":"2018-10-05"},{"$f":"_xlfn.XLOOKUP($B466,_xlfn.CHOOSECOLS(_xlfn.ANCHORARRAY(Leute!$F$1),2),_xlfn.CHOOSECOLS(_xlfn.ANCHORARRAY(Leute!$F$1),3),\"x\",0,2)","v":"Kathryn Hahn"},{"$f":"_xlfn.XLOOKUP($B466,_xlfn.CHOOSECOLS(_xlfn.ANCHORARRAY(Leute!$F$1),2),_xlfn.CHOOSECOLS(_xlfn.ANCHORARRAY(Leute!$F$1),4),\"x\",0,2)","v":"1973-07-23"},{"$f":"RANK(F466,F$1:F466,0)","v":238},{"$f":"DATEDIF(F466,D466,\"Y\")","v":45},{"$f":"DATEDIF(F466,D466,\"YD\")","v":74},{"$f":"D466-F466","v":16510},{"$f":"\"MRS \"&TEXT(J466,\"00000\")&\" \"&SUBSTITUTE(C466,\":\",\"\")&\" (\"&TEXT(D466,\"TT.MM.JJJJ\")&\") - \"&E466&\" (\"&TEXT(F466,\"TT.MM.JJJJ\")&\") \"&H466&\"-\"&I466","v":"MRS 16510 Private Life (05.10.2018) - Kathryn Hahn (23.07.1973) 45-74"}]
["tt6534368","nm1063517",{"$f":"_xlfn.XLOOKUP($A467,_xlfn.CHOOSECOLS(_xlfn.ANCHORARRAY(Filme!$G$1),2),_xlfn.CHOOSECOLS(_xlfn.ANCHORARRAY(Filme!$G$1),3),\"\",0,2)","v":"I Love Dick"},{"$f":"_xlfn.XLOOKUP($A467,_xlfn.CHOOSECOLS(_xlfn.ANCHORARRAY(Filme!$G$1),2),_xlfn.CHOOSECOLS(_xlfn.ANCHORARRAY(Filme!$G$1),4),\"\",0,2)","v":"2017-05-12"},{"$f":"_xlfn.XLOOKUP($B467,_xlfn.CHOOSECOLS(_xlfn.ANCHORARRAY(Leute!$F$1),2),_xlfn.CHOOSECOLS(_xlfn.ANCHORARRAY(Leute!$F$1),3),\"x\",0,2)","v":"Kathryn Hahn"},{"$f":"_xlfn.XLOOKUP($B467,_xlfn.CHOOSECOLS(_xlfn.ANCHORARRAY(Leute!$F$1),2),_xlfn.CHOOSECOLS(_xlfn.ANCHORARRAY(Leute!$F$1),4),\"x\",0,2)","v":"1973-07-23"},{"$f":"RANK(F467,F$1:F467,0)","v":238},{"$f":"DATEDIF(F467,D467,\"Y\")","v":43},{"$f":"DATEDIF(F467,D467,\"YD\")","v":293},{"$f":"D467-F467","v":15999},{"$f":"\"MRS \"&TEXT(J467,\"00000\")&\" \"&SUBSTITUTE(C467,\":\",\"\")&\" (\"&TEXT(D467,\"TT.MM.JJJJ\")&\") - \"&E467&\" (\"&TEXT(F467,\"TT.MM.JJJJ\")&\") \"&H467&\"-\"&I467","v":"MRS 15999 I Love Dick (12.05.2017) - Kathryn Hahn (23.07.1973) 43-293"}]
["tt9885684","nm1063517",{"$f":"_xlfn.XLOOKUP($A468,_xlfn.CHOOSECOLS(_xlfn.ANCHORARRAY(Filme!$G$1),2),_xlfn.CHOOSECOLS(_xlfn.ANCHORARRAY(Filme!$G$1),3),\"\",0,2)","v":"Mrs. Fletcher"},{"$f":"_xlfn.XLOOKUP($A468,_xlfn.CHOOSECOLS(_xlfn.ANCHORARRAY(Filme!$G$1),2),_xlfn.CHOOSECOLS(_xlfn.ANCHORARRAY(Filme!$G$1),4),\"\",0,2)","v":"2019-11-03"},{"$f":"_xlfn.XLOOKUP($B468,_xlfn.CHOOSECOLS(_xlfn.ANCHORARRAY(Leute!$F$1),2),_xlfn.CHOOSECOLS(_xlfn.ANCHORARRAY(Leute!$F$1),3),\"x\",0,2)","v":"Kathryn Hahn"},{"$f":"_xlfn.XLOOKUP($B468,_xlfn.CHOOSECOLS(_xlfn.ANCHORARRAY(Leute!$F$1),2),_xlfn.CHOOSECOLS(_xlfn.ANCHORARRAY(Leute!$F$1),4),\"x\",0,2)","v":"1973-07-23"},{"$f":"RANK(F468,F$1:F468,0)","v":238},{"$f":"DATEDIF(F468,D468,\"Y\")","v":46},{"$f":"DATEDIF(F468,D468,\"YD\")","v":103},{"$f":"D468-F468","v":16904},{"$f":"\"MRS \"&TEXT(J468,\"00000\")&\" \"&SUBSTITUTE(C468,\":\",\"\")&\" (\"&TEXT(D468,\"TT.MM.JJJJ\")&\") - \"&E468&\" (\"&TEXT(F468,\"TT.MM.JJJJ\")&\") \"&H468&\"-\"&I468","v":"MRS 16904 Mrs. Fletcher (03.11.2019) - Kathryn Hahn (23.07.1973) 46-103"}]
["tt0519777","nm1065454",{"$f":"_xlfn.XLOOKUP($A469,_xlfn.CHOOSECOLS(_xlfn.ANCHORARRAY(Filme!$G$1),2),_xlfn.CHOOSECOLS(_xlfn.ANCHORARRAY(Filme!$G$1),3),\"\",0,2)","v":"Battlestar Galactica"},{"$f":"_xlfn.XLOOKUP($A469,_xlfn.CHOOSECOLS(_xlfn.ANCHORARRAY(Filme!$G$1),2),_xlfn.CHOOSECOLS(_xlfn.ANCHORARRAY(Filme!$G$1),4),\"\",0,2)","v":"2008-04-16"},{"$f":"_xlfn.XLOOKUP($B469,_xlfn.CHOOSECOLS(_xlfn.ANCHORARRAY(Leute!$F$1),2),_xlfn.CHOOSECOLS(_xlfn.ANCHORARRAY(Leute!$F$1),3),\"x\",0,2)","v":"Tricia Helfer"},{"$f":"_xlfn.XLOOKUP($B469,_xlfn.CHOOSECOLS(_xlfn.ANCHORARRAY(Leute!$F$1),2),_xlfn.CHOOSECOLS(_xlfn.ANCHORARRAY(Leute!$F$1),4),\"x\",0,2)","v":"1974-04-11"},{"$f":"RANK(F469,F$1:F469,0)","v":222},{"$f":"DATEDIF(F469,D469,\"Y\")","v":34},{"$f":"DATEDIF(F469,D469,\"YD\")","v":5},{"$f":"D469-F469","v":12424},{"$f":"\"MRS \"&TEXT(J469,\"00000\")&\" \"&SUBSTITUTE(C469,\":\",\"\")&\" (\"&TEXT(D469,\"TT.MM.JJJJ\")&\") - \"&E469&\" (\"&TEXT(F469,\"TT.MM.JJJJ\")&\") \"&H469&\"-\"&I469","v":"MRS 12424 Battlestar Galactica (16.04.2008) - Tricia Helfer (11.04.1974) 34-5"}]
["tt3854230","nm1065454",{"$f":"_xlfn.XLOOKUP($A470,_xlfn.CHOOSECOLS(_xlfn.ANCHORARRAY(Filme!$G$1),2),_xlfn.CHOOSECOLS(_xlfn.ANCHORARRAY(Filme!$G$1),3),\"\",0,2)","v":"Ascension"},{"$f":"_xlfn.XLOOKUP($A470,_xlfn.CHOOSECOLS(_xlfn.ANCHORARRAY(Filme!$G$1),2),_xlfn.CHOOSECOLS(_xlfn.ANCHORARRAY(Filme!$G$1),4),\"\",0,2)","v":"2016-03-05"},{"$f":"_xlfn.XLOOKUP($B470,_xlfn.CHOOSECOLS(_xlfn.ANCHORARRAY(Leute!$F$1),2),_xlfn.CHOOSECOLS(_xlfn.ANCHORARRAY(Leute!$F$1),3),\"x\",0,2)","v":"Tricia Helfer"},{"$f":"_xlfn.XLOOKUP($B470,_xlfn.CHOOSECOLS(_xlfn.ANCHORARRAY(Leute!$F$1),2),_xlfn.CHOOSECOLS(_xlfn.ANCHORARRAY(Leute!$F$1),4),\"x\",0,2)","v":"1974-04-11"},{"$f":"RANK(F470,F$1:F470,0)","v":222},{"$f":"DATEDIF(F470,D470,\"Y\")","v":41},{"$f":"DATEDIF(F470,D470,\"YD\")","v":329},{"$f":"D470-F470","v":15304},{"$f":"\"MRS \"&TEXT(J470,\"00000\")&\" \"&SUBSTITUTE(C470,\":\",\"\")&\" (\"&TEXT(D470,\"TT.MM.JJJJ\")&\") - \"&E470&\" (\"&TEXT(F470,\"TT.MM.JJJJ\")&\") \"&H470&\"-\"&I470","v":"MRS 15304 Ascension (05.03.2016) - Tricia Helfer (11.04.1974) 41-329"}]
["tt0800027","nm1065664",{"$f":"_xlfn.XLOOKUP($A471,_xlfn.CHOOSECOLS(_xlfn.ANCHORARRAY(Filme!$G$1),2),_xlfn.CHOOSECOLS(_xlfn.ANCHORARRAY(Filme!$G$1),3),\"\",0,2)","v":"Feast of Love"},{"$f":"_xlfn.XLOOKUP($A471,_xlfn.CHOOSECOLS(_xlfn.ANCHORARRAY(Filme!$G$1),2),_xlfn.CHOOSECOLS(_xlfn.ANCHORARRAY(Filme!$G$1),4),\"\",0,2)","v":"2007-09-28"},{"$f":"_xlfn.XLOOKUP($B471,_xlfn.CHOOSECOLS(_xlfn.ANCHORARRAY(Leute!$F$1),2),_xlfn.CHOOSECOLS(_xlfn.ANCHORARRAY(Leute!$F$1),3),\"x\",0,2)","v":"Stana Katic"},{"$f":"_xlfn.XLOOKUP($B471,_xlfn.CHOOSECOLS(_xlfn.ANCHORARRAY(Leute!$F$1),2),_xlfn.CHOOSECOLS(_xlfn.ANCHORARRAY(Leute!$F$1),4),\"x\",0,2)","v":"1978-04-26"},{"$f":"RANK(F471,F$1:F471,0)","v":117},{"$f":"DATEDIF(F471,D471,\"Y\")","v":29},{"$f":"DATEDIF(F471,D471,\"YD\")","v":155},{"$f":"D471-F471","v":10747},{"$f":"\"MRS \"&TEXT(J471,\"00000\")&\" \"&SUBSTITUTE(C471,\":\",\"\")&\" (\"&TEXT(D471,\"TT.MM.JJJJ\")&\") - \"&E471&\" (\"&TEXT(F471,\"TT.MM.JJJJ\")&\") \"&H471&\"-\"&I471","v":"MRS 10747 Feast of Love (28.09.2007) - Stana Katic (26.04.1978) 29-155"}]
["tt11877330","nm1065664",{"$f":"_xlfn.XLOOKUP($A472,_xlfn.CHOOSECOLS(_xlfn.ANCHORARRAY(Filme!$G$1),2),_xlfn.CHOOSECOLS(_xlfn.ANCHORARRAY(Filme!$G$1),3),\"\",0,2)","v":"Absentia"},{"$f":"_xlfn.XLOOKUP($A472,_xlfn.CHOOSECOLS(_xlfn.ANCHORARRAY(Filme!$G$1),2),_xlfn.CHOOSECOLS(_xlfn.ANCHORARRAY(Filme!$G$1),4),\"\",0,2)","v":"2020-07-17"},{"$f":"_xlfn.XLOOKUP($B472,_xlfn.CHOOSECOLS(_xlfn.ANCHORARRAY(Leute!$F$1),2),_xlfn.CHOOSECOLS(_xlfn.ANCHORARRAY(Leute!$F$1),3),\"x\",0,2)","v":"Stana Katic"},{"$f":"_xlfn.XLOOKUP($B472,_xlfn.CHOOSECOLS(_xlfn.ANCHORARRAY(Leute!$F$1),2),_xlfn.CHOOSECOLS(_xlfn.ANCHORARRAY(Leute!$F$1),4),\"x\",0,2)","v":"1978-04-26"},{"$f":"RANK(F472,F$1:F472,0)","v":117},{"$f":"DATEDIF(F472,D472,\"Y\")","v":42},{"$f":"DATEDIF(F472,D472,\"YD\")","v":82},{"$f":"D472-F472","v":15423},{"$f":"\"MRS \"&TEXT(J472,\"00000\")&\" \"&SUBSTITUTE(C472,\":\",\"\")&\" (\"&TEXT(D472,\"TT.MM.JJJJ\")&\") - \"&E472&\" (\"&TEXT(F472,\"TT.MM.JJJJ\")&\") \"&H472&\"-\"&I472","v":"MRS 15423 Absentia (17.07.2020) - Stana Katic (26.04.1978) 42-82"}]
["tt1648201","nm1065664",{"$f":"_xlfn.XLOOKUP($A473,_xlfn.CHOOSECOLS(_xlfn.ANCHORARRAY(Filme!$G$1),2),_xlfn.CHOOSECOLS(_xlfn.ANCHORARRAY(Filme!$G$1),3),\"\",0,2)","v":"For Lovers Only"},{"$f":"_xlfn.XLOOKUP($A473,_xlfn.CHOOSECOLS(_xlfn.ANCHORARRAY(Filme!$G$1),2),_xlfn.CHOOSECOLS(_xlfn.ANCHORARRAY(Filme!$G$1),4),\"\",0,2)","v":"2011-09-16"},{"$f":"_xlfn.XLOOKUP($B473,_xlfn.CHOOSECOLS(_xlfn.ANCHORARRAY(Leute!$F$1),2),_xlfn.CHOOSECOLS(_xlfn.ANCHORARRAY(Leute!$F$1),3),\"x\",0,2)","v":"Stana Katic"},{"$f":"_xlfn.XLOOKUP($B473,_xlfn.CHOOSECOLS(_xlfn.ANCHORARRAY(Leute!$F$1),2),_xlfn.CHOOSECOLS(_xlfn.ANCHORARRAY(Leute!$F$1),4),\"x\",0,2)","v":"1978-04-26"},{"$f":"RANK(F473,F$1:F473,0)","v":117},{"$f":"DATEDIF(F473,D473,\"Y\")","v":33},{"$f":"DATEDIF(F473,D473,\"YD\")","v":143},{"$f":"D473-F473","v":12196},{"$f":"\"MRS \"&TEXT(J473,\"00000\")&\" \"&SUBSTITUTE(C473,\":\",\"\")&\" (\"&TEXT(D473,\"TT.MM.JJJJ\")&\") - \"&E473&\" (\"&TEXT(F473,\"TT.MM.JJJJ\")&\") \"&H473&\"-\"&I473","v":"MRS 12196 For Lovers Only (16.09.2011) - Stana Katic (26.04.1978) 33-143"}]
["tt1079980","nm1072555",{"$f":"_xlfn.XLOOKUP($A474,_xlfn.CHOOSECOLS(_xlfn.ANCHORARRAY(Filme!$G$1),2),_xlfn.CHOOSECOLS(_xlfn.ANCHORARRAY(Filme!$G$1),3),\"\",0,2)","v":"Death in Love"},{"$f":"_xlfn.XLOOKUP($A474,_xlfn.CHOOSECOLS(_xlfn.ANCHORARRAY(Filme!$G$1),2),_xlfn.CHOOSECOLS(_xlfn.ANCHORARRAY(Filme!$G$1),4),\"\",0,2)","v":"2009-07-17"},{"$f":"_xlfn.XLOOKUP($B474,_xlfn.CHOOSECOLS(_xlfn.ANCHORARRAY(Leute!$F$1),2),_xlfn.CHOOSECOLS(_xlfn.ANCHORARRAY(Leute!$F$1),3),\"x\",0,2)","v":"Morena Baccarin"},{"$f":"_xlfn.XLOOKUP($B474,_xlfn.CHOOSECOLS(_xlfn.ANCHORARRAY(Leute!$F$1),2),_xlfn.CHOOSECOLS(_xlfn.ANCHORARRAY(Leute!$F$1),4),\"x\",0,2)","v":"1979-06-02"},{"$f":"RANK(F474,F$1:F474,0)","v":100},{"$f":"DATEDIF(F474,D474,\"Y\")","v":30},{"$f":"DATEDIF(F474,D474,\"YD\")","v":45},{"$f":"D474-F474","v":11003},{"$f":"\"MRS \"&TEXT(J474,\"00000\")&\" \"&SUBSTITUTE(C474,\":\",\"\")&\" (\"&TEXT(D474,\"TT.MM.JJJJ\")&\") - \"&E474&\" (\"&TEXT(F474,\"TT.MM.JJJJ\")&\") \"&H474&\"-\"&I474","v":"MRS 11003 Death in Love (17.07.2009) - Morena Baccarin (02.06.1979) 30-45"}]
["tt1431045","nm1072555",{"$f":"_xlfn.XLOOKUP($A475,_xlfn.CHOOSECOLS(_xlfn.ANCHORARRAY(Filme!$G$1),2),_xlfn.CHOOSECOLS(_xlfn.ANCHORARRAY(Filme!$G$1),3),\"\",0,2)","v":"Deadpool"},{"$f":"_xlfn.XLOOKUP($A475,_xlfn.CHOOSECOLS(_xlfn.ANCHORARRAY(Filme!$G$1),2),_xlfn.CHOOSECOLS(_xlfn.ANCHORARRAY(Filme!$G$1),4),\"\",0,2)","v":"2016-02-11"},{"$f":"_xlfn.XLOOKUP($B475,_xlfn.CHOOSECOLS(_xlfn.ANCHORARRAY(Leute!$F$1),2),_xlfn.CHOOSECOLS(_xlfn.ANCHORARRAY(Leute!$F$1),3),\"x\",0,2)","v":"Morena Baccarin"},{"$f":"_xlfn.XLOOKUP($B475,_xlfn.CHOOSECOLS(_xlfn.ANCHORARRAY(Leute!$F$1),2),_xlfn.CHOOSECOLS(_xlfn.ANCHORARRAY(Leute!$F$1),4),\"x\",0,2)","v":"1979-06-02"},{"$f":"RANK(F475,F$1:F475,0)","v":100},{"$f":"DATEDIF(F475,D475,\"Y\")","v":36},{"$f":"DATEDIF(F475,D475,\"YD\")","v":254},{"$f":"D475-F475","v":13403},{"$f":"\"MRS \"&TEXT(J475,\"00000\")&\" \"&SUBSTITUTE(C475,\":\",\"\")&\" (\"&TEXT(D475,\"TT.MM.JJJJ\")&\") - \"&E475&\" (\"&TEXT(F475,\"TT.MM.JJJJ\")&\") \"&H475&\"-\"&I475","v":"MRS 13403 Deadpool (11.02.2016) - Morena Baccarin (02.06.1979) 36-254"}]
["tt1811020","nm1072555",{"$f":"_xlfn.XLOOKUP($A476,_xlfn.CHOOSECOLS(_xlfn.ANCHORARRAY(Filme!$G$1),2),_xlfn.CHOOSECOLS(_xlfn.ANCHORARRAY(Filme!$G$1),3),\"\",0,2)","v":"Homeland"},{"$f":"_xlfn.XLOOKUP($A476,_xlfn.CHOOSECOLS(_xlfn.ANCHORARRAY(Filme!$G$1),2),_xlfn.CHOOSECOLS(_xlfn.ANCHORARRAY(Filme!$G$1),4),\"\",0,2)","v":"2013-02-03"},{"$f":"_xlfn.XLOOKUP($B476,_xlfn.CHOOSECOLS(_xlfn.ANCHORARRAY(Leute!$F$1),2),_xlfn.CHOOSECOLS(_xlfn.ANCHORARRAY(Leute!$F$1),3),\"x\",0,2)","v":"Morena Baccarin"},{"$f":"_xlfn.XLOOKUP($B476,_xlfn.CHOOSECOLS(_xlfn.ANCHORARRAY(Leute!$F$1),2),_xlfn.CHOOSECOLS(_xlfn.ANCHORARRAY(Leute!$F$1),4),\"x\",0,2)","v":"1979-06-02"},{"$f":"RANK(F476,F$1:F476,0)","v":100},{"$f":"DATEDIF(F476,D476,\"Y\")","v":33},{"$f":"DATEDIF(F476,D476,\"YD\")","v":246},{"$f":"D476-F476","v":12300},{"$f":"\"MRS \"&TEXT(J476,\"00000\")&\" \"&SUBSTITUTE(C476,\":\",\"\")&\" (\"&TEXT(D476,\"TT.MM.JJJJ\")&\") - \"&E476&\" (\"&TEXT(F476,\"TT.MM.JJJJ\")&\") \"&H476&\"-\"&I476","v":"MRS 12300 Homeland (03.02.2013) - Morena Baccarin (02.06.1979) 33-246"}]
["tt24871974","nm1083271",{"$f":"_xlfn.XLOOKUP($A477,_xlfn.CHOOSECOLS(_xlfn.ANCHORARRAY(Filme!$G$1),2),_xlfn.CHOOSECOLS(_xlfn.ANCHORARRAY(Filme!$G$1),3),\"\",0,2)","v":"Subservience"},{"$f":"_xlfn.XLOOKUP($A477,_xlfn.CHOOSECOLS(_xlfn.ANCHORARRAY(Filme!$G$1),2),_xlfn.CHOOSECOLS(_xlfn.ANCHORARRAY(Filme!$G$1),4),\"\",0,2)","v":"2024-09-13"},{"$f":"_xlfn.XLOOKUP($B477,_xlfn.CHOOSECOLS(_xlfn.ANCHORARRAY(Leute!$F$1),2),_xlfn.CHOOSECOLS(_xlfn.ANCHORARRAY(Leute!$F$1),3),\"x\",0,2)","v":"Megan Fox"},{"$f":"_xlfn.XLOOKUP($B477,_xlfn.CHOOSECOLS(_xlfn.ANCHORARRAY(Leute!$F$1),2),_xlfn.CHOOSECOLS(_xlfn.ANCHORARRAY(Leute!$F$1),4),\"x\",0,2)","v":"1986-05-16"},{"$f":"RANK(F477,F$1:F477,0)","v":46},{"$f":"DATEDIF(F477,D477,\"Y\")","v":38},{"$f":"DATEDIF(F477,D477,\"YD\")","v":120},{"$f":"D477-F477","v":14000},{"$f":"\"MRS \"&TEXT(J477,\"00000\")&\" \"&SUBSTITUTE(C477,\":\",\"\")&\" (\"&TEXT(D477,\"TT.MM.JJJJ\")&\") - \"&E477&\" (\"&TEXT(F477,\"TT.MM.JJJJ\")&\") \"&H477&\"-\"&I477","v":"MRS 14000 Subservience (13.09.2024) - Megan Fox (16.05.1986) 38-120"}]
["tt0623878","nm1083404",{"$f":"_xlfn.XLOOKUP($A478,_xlfn.CHOOSECOLS(_xlfn.ANCHORARRAY(Filme!$G$1),2),_xlfn.CHOOSECOLS(_xlfn.ANCHORARRAY(Filme!$G$1),3),\"\",0,2)","v":"The L Word"},{"$f":"_xlfn.XLOOKUP($A478,_xlfn.CHOOSECOLS(_xlfn.ANCHORARRAY(Filme!$G$1),2),_xlfn.CHOOSECOLS(_xlfn.ANCHORARRAY(Filme!$G$1),4),\"\",0,2)","v":"2005-03-06"},{"$f":"_xlfn.XLOOKUP($B478,_xlfn.CHOOSECOLS(_xlfn.ANCHORARRAY(Leute!$F$1),2),_xlfn.CHOOSECOLS(_xlfn.ANCHORARRAY(Leute!$F$1),3),\"x\",0,2)","v":"Sarah Shahi"},{"$f":"_xlfn.XLOOKUP($B478,_xlfn.CHOOSECOLS(_xlfn.ANCHORARRAY(Leute!$F$1),2),_xlfn.CHOOSECOLS(_xlfn.ANCHORARRAY(Leute!$F$1),4),\"x\",0,2)","v":"1980-01-10"},{"$f":"RANK(F478,F$1:F478,0)","v":101},{"$f":"DATEDIF(F478,D478,\"Y\")","v":25},{"$f":"DATEDIF(F478,D478,\"YD\")","v":55},{"$f":"D478-F478","v":9187},{"$f":"\"MRS \"&TEXT(J478,\"00000\")&\" \"&SUBSTITUTE(C478,\":\",\"\")&\" (\"&TEXT(D478,\"TT.MM.JJJJ\")&\") - \"&E478&\" (\"&TEXT(F478,\"TT.MM.JJJJ\")&\") \"&H478&\"-\"&I478","v":"MRS 09187 The L Word (06.03.2005) - Sarah Shahi (10.01.1980) 25-55"}]
["tt11723816","nm1083404",{"$f":"_xlfn.XLOOKUP($A479,_xlfn.CHOOSECOLS(_xlfn.ANCHORARRAY(Filme!$G$1),2),_xlfn.CHOOSECOLS(_xlfn.ANCHORARRAY(Filme!$G$1),3),\"\",0,2)","v":"Sex/Life"},{"$f":"_xlfn.XLOOKUP($A479,_xlfn.CHOOSECOLS(_xlfn.ANCHORARRAY(Filme!$G$1),2),_xlfn.CHOOSECOLS(_xlfn.ANCHORARRAY(Filme!$G$1),4),\"\",0,2)","v":"2021-06-25"},{"$f":"_xlfn.XLOOKUP($B479,_xlfn.CHOOSECOLS(_xlfn.ANCHORARRAY(Leute!$F$1),2),_xlfn.CHOOSECOLS(_xlfn.ANCHORARRAY(Leute!$F$1),3),\"x\",0,2)","v":"Sarah Shahi"},{"$f":"_xlfn.XLOOKUP($B479,_xlfn.CHOOSECOLS(_xlfn.ANCHORARRAY(Leute!$F$1),2),_xlfn.CHOOSECOLS(_xlfn.ANCHORARRAY(Leute!$F$1),4),\"x\",0,2)","v":"1980-01-10"},{"$f":"RANK(F479,F$1:F479,0)","v":101},{"$f":"DATEDIF(F479,D479,\"Y\")","v":41},{"$f":"DATEDIF(F479,D479,\"YD\")","v":167},{"$f":"D479-F479","v":15142},{"$f":"\"MRS \"&TEXT(J479,\"00000\")&\" \"&SUBSTITUTE(C479,\":\",\"\")&\" (\"&TEXT(D479,\"TT.MM.JJJJ\")&\") - \"&E479&\" (\"&TEXT(F479,\"TT.MM.JJJJ\")&\") \"&H479&\"-\"&I479","v":"MRS 15142 Sex/Life (25.06.2021) - Sarah Shahi (10.01.1980) 41-167"}]
["tt1308729","nm1083404",{"$f":"_xlfn.XLOOKUP($A480,_xlfn.CHOOSECOLS(_xlfn.ANCHORARRAY(Filme!$G$1),2),_xlfn.CHOOSECOLS(_xlfn.ANCHORARRAY(Filme!$G$1),3),\"\",0,2)","v":"Bullet to the Head"},{"$f":"_xlfn.XLOOKUP($A480,_xlfn.CHOOSECOLS(_xlfn.ANCHORARRAY(Filme!$G$1),2),_xlfn.CHOOSECOLS(_xlfn.ANCHORARRAY(Filme!$G$1),4),\"\",0,2)","v":"2013-03-07"},{"$f":"_xlfn.XLOOKUP($B480,_xlfn.CHOOSECOLS(_xlfn.ANCHORARRAY(Leute!$F$1),2),_xlfn.CHOOSECOLS(_xlfn.ANCHORARRAY(Leute!$F$1),3),\"x\",0,2)","v":"Sarah Shahi"},{"$f":"_xlfn.XLOOKUP($B480,_xlfn.CHOOSECOLS(_xlfn.ANCHORARRAY(Leute!$F$1),2),_xlfn.CHOOSECOLS(_xlfn.ANCHORARRAY(Leute!$F$1),4),\"x\",0,2)","v":"1980-01-10"},{"$f":"RANK(F480,F$1:F480,0)","v":101},{"$f":"DATEDIF(F480,D480,\"Y\")","v":33},{"$f":"DATEDIF(F480,D480,\"YD\")","v":56},{"$f":"D480-F480","v":12110},{"$f":"\"MRS \"&TEXT(J480,\"00000\")&\" \"&SUBSTITUTE(C480,\":\",\"\")&\" (\"&TEXT(D480,\"TT.MM.JJJJ\")&\") - \"&E480&\" (\"&TEXT(F480,\"TT.MM.JJJJ\")&\") \"&H480&\"-\"&I480","v":"MRS 12110 Bullet to the Head (07.03.2013) - Sarah Shahi (10.01.1980) 33-56"}]
["tt2911556","nm1083404",{"$f":"_xlfn.XLOOKUP($A481,_xlfn.CHOOSECOLS(_xlfn.ANCHORARRAY(Filme!$G$1),2),_xlfn.CHOOSECOLS(_xlfn.ANCHORARRAY(Filme!$G$1),3),\"\",0,2)","v":"Person of Interest"},{"$f":"_xlfn.XLOOKUP($A481,_xlfn.CHOOSECOLS(_xlfn.ANCHORARRAY(Filme!$G$1),2),_xlfn.CHOOSECOLS(_xlfn.ANCHORARRAY(Filme!$G$1),4),\"\",0,2)","v":"2013-09-24"},{"$f":"_xlfn.XLOOKUP($B481,_xlfn.CHOOSECOLS(_xlfn.ANCHORARRAY(Leute!$F$1),2),_xlfn.CHOOSECOLS(_xlfn.ANCHORARRAY(Leute!$F$1),3),\"x\",0,2)","v":"Sarah Shahi"},{"$f":"_xlfn.XLOOKUP($B481,_xlfn.CHOOSECOLS(_xlfn.ANCHORARRAY(Leute!$F$1),2),_xlfn.CHOOSECOLS(_xlfn.ANCHORARRAY(Leute!$F$1),4),\"x\",0,2)","v":"1980-01-10"},{"$f":"RANK(F481,F$1:F481,0)","v":101},{"$f":"DATEDIF(F481,D481,\"Y\")","v":33},{"$f":"DATEDIF(F481,D481,\"YD\")","v":258},{"$f":"D481-F481","v":12311},{"$f":"\"MRS \"&TEXT(J481,\"00000\")&\" \"&SUBSTITUTE(C481,\":\",\"\")&\" (\"&TEXT(D481,\"TT.MM.JJJJ\")&\") - \"&E481&\" (\"&TEXT(F481,\"TT.MM.JJJJ\")&\") \"&H481&\"-\"&I481","v":"MRS 12311 Person of Interest (24.09.2013) - Sarah Shahi (10.01.1980) 33-258"}]
["tt0373469","nm1157358",{"$f":"_xlfn.XLOOKUP($A482,_xlfn.CHOOSECOLS(_xlfn.ANCHORARRAY(Filme!$G$1),2),_xlfn.CHOOSECOLS(_xlfn.ANCHORARRAY(Filme!$G$1),3),\"\",0,2)","v":"Kiss Kiss Bang Bang"},{"$f":"_xlfn.XLOOKUP($A482,_xlfn.CHOOSECOLS(_xlfn.ANCHORARRAY(Filme!$G$1),2),_xlfn.CHOOSECOLS(_xlfn.ANCHORARRAY(Filme!$G$1),4),\"\",0,2)","v":"2005-10-20"},{"$f":"_xlfn.XLOOKUP($B482,_xlfn.CHOOSECOLS(_xlfn.ANCHORARRAY(Leute!$F$1),2),_xlfn.CHOOSECOLS(_xlfn.ANCHORARRAY(Leute!$F$1),3),\"x\",0,2)","v":"Michelle Monaghan"},{"$f":"_xlfn.XLOOKUP($B482,_xlfn.CHOOSECOLS(_xlfn.ANCHORARRAY(Leute!$F$1),2),_xlfn.CHOOSECOLS(_xlfn.ANCHORARRAY(Leute!$F$1),4),\"x\",0,2)","v":"1976-03-23"},{"$f":"RANK(F482,F$1:F482,0)","v":165},{"$f":"DATEDIF(F482,D482,\"Y\")","v":29},{"$f":"DATEDIF(F482,D482,\"YD\")","v":211},{"$f":"D482-F482","v":10803},{"$f":"\"MRS \"&TEXT(J482,\"00000\")&\" \"&SUBSTITUTE(C482,\":\",\"\")&\" (\"&TEXT(D482,\"TT.MM.JJJJ\")&\") - \"&E482&\" (\"&TEXT(F482,\"TT.MM.JJJJ\")&\") \"&H482&\"-\"&I482","v":"MRS 10803 Kiss Kiss Bang Bang (20.10.2005) - Michelle Monaghan (23.03.1976) 29-211"}]
["tt10931784","nm1157358",{"$f":"_xlfn.XLOOKUP($A483,_xlfn.CHOOSECOLS(_xlfn.ANCHORARRAY(Filme!$G$1),2),_xlfn.CHOOSECOLS(_xlfn.ANCHORARRAY(Filme!$G$1),3),\"\",0,2)","v":"Nanny"},{"$f":"_xlfn.XLOOKUP($A483,_xlfn.CHOOSECOLS(_xlfn.ANCHORARRAY(Filme!$G$1),2),_xlfn.CHOOSECOLS(_xlfn.ANCHORARRAY(Filme!$G$1),4),\"\",0,2)","v":"2022-12-16"},{"$f":"_xlfn.XLOOKUP($B483,_xlfn.CHOOSECOLS(_xlfn.ANCHORARRAY(Leute!$F$1),2),_xlfn.CHOOSECOLS(_xlfn.ANCHORARRAY(Leute!$F$1),3),\"x\",0,2)","v":"Michelle Monaghan"},{"$f":"_xlfn.XLOOKUP($B483,_xlfn.CHOOSECOLS(_xlfn.ANCHORARRAY(Leute!$F$1),2),_xlfn.CHOOSECOLS(_xlfn.ANCHORARRAY(Leute!$F$1),4),\"x\",0,2)","v":"1976-03-23"},{"$f":"RANK(F483,F$1:F483,0)","v":165},{"$f":"DATEDIF(F483,D483,\"Y\")","v":46},{"$f":"DATEDIF(F483,D483,\"YD\")","v":268},{"$f":"D483-F483","v":17069},{"$f":"\"MRS \"&TEXT(J483,\"00000\")&\" \"&SUBSTITUTE(C483,\":\",\"\")&\" (\"&TEXT(D483,\"TT.MM.JJJJ\")&\") - \"&E483&\" (\"&TEXT(F483,\"TT.MM.JJJJ\")&\") \"&H483&\"-\"&I483","v":"MRS 17069 Nanny (16.12.2022) - Michelle Monaghan (23.03.1976) 46-268"}]
["tt2093995","nm1157358",{"$f":"_xlfn.XLOOKUP($A484,_xlfn.CHOOSECOLS(_xlfn.ANCHORARRAY(Filme!$G$1),2),_xlfn.CHOOSECOLS(_xlfn.ANCHORARRAY(Filme!$G$1),3),\"\",0,2)","v":"Fort Bliss"},{"$f":"_xlfn.XLOOKUP($A484,_xlfn.CHOOSECOLS(_xlfn.ANCHORARRAY(Filme!$G$1),2),_xlfn.CHOOSECOLS(_xlfn.ANCHORARRAY(Filme!$G$1),4),\"\",0,2)","v":"2015-10-01"},{"$f":"_xlfn.XLOOKUP($B484,_xlfn.CHOOSECOLS(_xlfn.ANCHORARRAY(Leute!$F$1),2),_xlfn.CHOOSECOLS(_xlfn.ANCHORARRAY(Leute!$F$1),3),\"x\",0,2)","v":"Michelle Monaghan"},{"$f":"_xlfn.XLOOKUP($B484,_xlfn.CHOOSECOLS(_xlfn.ANCHORARRAY(Leute!$F$1),2),_xlfn.CHOOSECOLS(_xlfn.ANCHORARRAY(Leute!$F$1),4),\"x\",0,2)","v":"1976-03-23"},{"$f":"RANK(F484,F$1:F484,0)","v":165},{"$f":"DATEDIF(F484,D484,\"Y\")","v":39},{"$f":"DATEDIF(F484,D484,\"YD\")","v":192},{"$f":"D484-F484","v":14436},{"$f":"\"MRS \"&TEXT(J484,\"00000\")&\" \"&SUBSTITUTE(C484,\":\",\"\")&\" (\"&TEXT(D484,\"TT.MM.JJJJ\")&\") - \"&E484&\" (\"&TEXT(F484,\"TT.MM.JJJJ\")&\") \"&H484&\"-\"&I484","v":"MRS 14436 Fort Bliss (01.10.2015) - Michelle Monaghan (23.03.1976) 39-192"}]
["tt2790184","nm1157358",{"$f":"_xlfn.XLOOKUP($A485,_xlfn.CHOOSECOLS(_xlfn.ANCHORARRAY(Filme!$G$1),2),_xlfn.CHOOSECOLS(_xlfn.ANCHORARRAY(Filme!$G$1),3),\"\",0,2)","v":"True Detective"},{"$f":"_xlfn.XLOOKUP($A485,_xlfn.CHOOSECOLS(_xlfn.ANCHORARRAY(Filme!$G$1),2),_xlfn.CHOOSECOLS(_xlfn.ANCHORARRAY(Filme!$G$1),4),\"\",0,2)","v":"2014-05-01"},{"$f":"_xlfn.XLOOKUP($B485,_xlfn.CHOOSECOLS(_xlfn.ANCHORARRAY(Leute!$F$1),2),_xlfn.CHOOSECOLS(_xlfn.ANCHORARRAY(Leute!$F$1),3),\"x\",0,2)","v":"Michelle Monaghan"},{"$f":"_xlfn.XLOOKUP($B485,_xlfn.CHOOSECOLS(_xlfn.ANCHORARRAY(Leute!$F$1),2),_xlfn.CHOOSECOLS(_xlfn.ANCHORARRAY(Leute!$F$1),4),\"x\",0,2)","v":"1976-03-23"},{"$f":"RANK(F485,F$1:F485,0)","v":165},{"$f":"DATEDIF(F485,D485,\"Y\")","v":38},{"$f":"DATEDIF(F485,D485,\"YD\")","v":39},{"$f":"D485-F485","v":13918},{"$f":"\"MRS \"&TEXT(J485,\"00000\")&\" \"&SUBSTITUTE(C485,\":\",\"\")&\" (\"&TEXT(D485,\"TT.MM.JJJJ\")&\") - \"&E485&\" (\"&TEXT(F485,\"TT.MM.JJJJ\")&\") \"&H485&\"-\"&I485","v":"MRS 13918 True Detective (01.05.2014) - Michelle Monaghan (23.03.1976) 38-39"}]
["tt7874702","nm1157358",{"$f":"_xlfn.XLOOKUP($A486,_xlfn.CHOOSECOLS(_xlfn.ANCHORARRAY(Filme!$G$1),2),_xlfn.CHOOSECOLS(_xlfn.ANCHORARRAY(Filme!$G$1),3),\"\",0,2)","v":"Big Little Lies"},{"$f":"_xlfn.XLOOKUP($A486,_xlfn.CHOOSECOLS(_xlfn.ANCHORARRAY(Filme!$G$1),2),_xlfn.CHOOSECOLS(_xlfn.ANCHORARRAY(Filme!$G$1),4),\"\",0,2)","v":"2019-07-15"},{"$f":"_xlfn.XLOOKUP($B486,_xlfn.CHOOSECOLS(_xlfn.ANCHORARRAY(Leute!$F$1),2),_xlfn.CHOOSECOLS(_xlfn.ANCHORARRAY(Leute!$F$1),3),\"x\",0,2)","v":"Michelle Monaghan"},{"$f":"_xlfn.XLOOKUP($B486,_xlfn.CHOOSECOLS(_xlfn.ANCHORARRAY(Leute!$F$1),2),_xlfn.CHOOSECOLS(_xlfn.ANCHORARRAY(Leute!$F$1),4),\"x\",0,2)","v":"1976-03-23"},{"$f":"RANK(F486,F$1:F486,0)","v":165},{"$f":"DATEDIF(F486,D486,\"Y\")","v":43},{"$f":"DATEDIF(F486,D486,\"YD\")","v":114},{"$f":"D486-F486","v":15819},{"$f":"\"MRS \"&TEXT(J486,\"00000\")&\" \"&SUBSTITUTE(C486,\":\",\"\")&\" (\"&TEXT(D486,\"TT.MM.JJJJ\")&\") - \"&E486&\" (\"&TEXT(F486,\"TT.MM.JJJJ\")&\") \"&H486&\"-\"&I486","v":"MRS 15819 Big Little Lies (15.07.2019) - Michelle Monaghan (23.03.1976) 43-114"}]
["tt0309987","nm1200692",{"$f":"_xlfn.XLOOKUP($A487,_xlfn.CHOOSECOLS(_xlfn.ANCHORARRAY(Filme!$G$1),2),_xlfn.CHOOSECOLS(_xlfn.ANCHORARRAY(Filme!$G$1),3),\"\",0,2)","v":"The Dreamers"},{"$f":"_xlfn.XLOOKUP($A487,_xlfn.CHOOSECOLS(_xlfn.ANCHORARRAY(Filme!$G$1),2),_xlfn.CHOOSECOLS(_xlfn.ANCHORARRAY(Filme!$G$1),4),\"\",0,2)","v":"2004-01-22"},{"$f":"_xlfn.XLOOKUP($B487,_xlfn.CHOOSECOLS(_xlfn.ANCHORARRAY(Leute!$F$1),2),_xlfn.CHOOSECOLS(_xlfn.ANCHORARRAY(Leute!$F$1),3),\"x\",0,2)","v":"Eva Green"},{"$f":"_xlfn.XLOOKUP($B487,_xlfn.CHOOSECOLS(_xlfn.ANCHORARRAY(Leute!$F$1),2),_xlfn.CHOOSECOLS(_xlfn.ANCHORARRAY(Leute!$F$1),4),\"x\",0,2)","v":"1980-07-06"},{"$f":"RANK(F487,F$1:F487,0)","v":91},{"$f":"DATEDIF(F487,D487,\"Y\")","v":23},{"$f":"DATEDIF(F487,D487,\"YD\")","v":200},{"$f":"D487-F487","v":8600},{"$f":"\"MRS \"&TEXT(J487,\"00000\")&\" \"&SUBSTITUTE(C487,\":\",\"\")&\" (\"&TEXT(D487,\"TT.MM.JJJJ\")&\") - \"&E487&\" (\"&TEXT(F487,\"TT.MM.JJJJ\")&\") \"&H487&\"-\"&I487","v":"MRS 08600 The Dreamers (22.01.2004) - Eva Green (06.07.1980) 23-200"}]
["tt0458481","nm1200692",{"$f":"_xlfn.XLOOKUP($A488,_xlfn.CHOOSECOLS(_xlfn.ANCHORARRAY(Filme!$G$1),2),_xlfn.CHOOSECOLS(_xlfn.ANCHORARRAY(Filme!$G$1),3),\"\",0,2)","v":"Sin City: A Dame to Kill For"},{"$f":"_xlfn.XLOOKUP($A488,_xlfn.CHOOSECOLS(_xlfn.ANCHORARRAY(Filme!$G$1),2),_xlfn.CHOOSECOLS(_xlfn.ANCHORARRAY(Filme!$G$1),4),\"\",0,2)","v":"2014-09-18"},{"$f":"_xlfn.XLOOKUP($B488,_xlfn.CHOOSECOLS(_xlfn.ANCHORARRAY(Leute!$F$1),2),_xlfn.CHOOSECOLS(_xlfn.ANCHORARRAY(Leute!$F$1),3),\"x\",0,2)","v":"Eva Green"},{"$f":"_xlfn.XLOOKUP($B488,_xlfn.CHOOSECOLS(_xlfn.ANCHORARRAY(Leute!$F$1),2),_xlfn.CHOOSECOLS(_xlfn.ANCHORARRAY(Leute!$F$1),4),\"x\",0,2)","v":"1980-07-06"},{"$f":"RANK(F488,F$1:F488,0)","v":91},{"$f":"DATEDIF(F488,D488,\"Y\")","v":34},{"$f":"DATEDIF(F488,D488,\"YD\")","v":74},{"$f":"D488-F488","v":12492},{"$f":"\"MRS \"&TEXT(J488,\"00000\")&\" \"&SUBSTITUTE(C488,\":\",\"\")&\" (\"&TEXT(D488,\"TT.MM.JJJJ\")&\") - \"&E488&\" (\"&TEXT(F488,\"TT.MM.JJJJ\")&\") \"&H488&\"-\"&I488","v":"MRS 12492 Sin City A Dame to Kill For (18.09.2014) - Eva Green (06.07.1980) 34-74"}]
["tt1183665","nm1200692",{"$f":"_xlfn.XLOOKUP($A489,_xlfn.CHOOSECOLS(_xlfn.ANCHORARRAY(Filme!$G$1),2),_xlfn.CHOOSECOLS(_xlfn.ANCHORARRAY(Filme!$G$1),3),\"\",0,2)","v":"Cracks"},{"$f":"_xlfn.XLOOKUP($A489,_xlfn.CHOOSECOLS(_xlfn.ANCHORARRAY(Filme!$G$1),2),_xlfn.CHOOSECOLS(_xlfn.ANCHORARRAY(Filme!$G$1),4),\"\",0,2)","v":"2009-12-04"},{"$f":"_xlfn.XLOOKUP($B489,_xlfn.CHOOSECOLS(_xlfn.ANCHORARRAY(Leute!$F$1),2),_xlfn.CHOOSECOLS(_xlfn.ANCHORARRAY(Leute!$F$1),3),\"x\",0,2)","v":"Eva Green"},{"$f":"_xlfn.XLOOKUP($B489,_xlfn.CHOOSECOLS(_xlfn.ANCHORARRAY(Leute!$F$1),2),_xlfn.CHOOSECOLS(_xlfn.ANCHORARRAY(Leute!$F$1),4),\"x\",0,2)","v":"1980-07-06"},{"$f":"RANK(F489,F$1:F489,0)","v":91},{"$f":"DATEDIF(F489,D489,\"Y\")","v":29},{"$f":"DATEDIF(F489,D489,\"YD\")","v":151},{"$f":"D489-F489","v":10743},{"$f":"\"MRS \"&TEXT(J489,\"00000\")&\" \"&SUBSTITUTE(C489,\":\",\"\")&\" (\"&TEXT(D489,\"TT.MM.JJJJ\")&\") - \"&E489&\" (\"&TEXT(F489,\"TT.MM.JJJJ\")&\") \"&H489&\"-\"&I489","v":"MRS 10743 Cracks (04.12.2009) - Eva Green (06.07.1980) 29-151"}]
["tt1216520","nm1200692",{"$f":"_xlfn.XLOOKUP($A490,_xlfn.CHOOSECOLS(_xlfn.ANCHORARRAY(Filme!$G$1),2),_xlfn.CHOOSECOLS(_xlfn.ANCHORARRAY(Filme!$G$1),3),\"\",0,2)","v":"Womb"},{"$f":"_xlfn.XLOOKUP($A490,_xlfn.CHOOSECOLS(_xlfn.ANCHORARRAY(Filme!$G$1),2),_xlfn.CHOOSECOLS(_xlfn.ANCHORARRAY(Filme!$G$1),4),\"\",0,2)","v":"2011-04-07"},{"$f":"_xlfn.XLOOKUP($B490,_xlfn.CHOOSECOLS(_xlfn.ANCHORARRAY(Leute!$F$1),2),_xlfn.CHOOSECOLS(_xlfn.ANCHORARRAY(Leute!$F$1),3),\"x\",0,2)","v":"Eva Green"},{"$f":"_xlfn.XLOOKUP($B490,_xlfn.CHOOSECOLS(_xlfn.ANCHORARRAY(Leute!$F$1),2),_xlfn.CHOOSECOLS(_xlfn.ANCHORARRAY(Leute!$F$1),4),\"x\",0,2)","v":"1980-07-06"},{"$f":"RANK(F490,F$1:F490,0)","v":91},{"$f":"DATEDIF(F490,D490,\"Y\")","v":30},{"$f":"DATEDIF(F490,D490,\"YD\")","v":275},{"$f":"D490-F490","v":11232},{"$f":"\"MRS \"&TEXT(J490,\"00000\")&\" \"&SUBSTITUTE(C490,\":\",\"\")&\" (\"&TEXT(D490,\"TT.MM.JJJJ\")&\") - \"&E490&\" (\"&TEXT(F490,\"TT.MM.JJJJ\")&\") \"&H490&\"-\"&I490","v":"MRS 11232 Womb (07.04.2011) - Eva Green (06.07.1980) 30-275"}]
["tt1253863","nm1200692",{"$f":"_xlfn.XLOOKUP($A491,_xlfn.CHOOSECOLS(_xlfn.ANCHORARRAY(Filme!$G$1),2),_xlfn.CHOOSECOLS(_xlfn.ANCHORARRAY(Filme!$G$1),3),\"\",0,2)","v":"300: Rise of an Empire"},{"$f":"_xlfn.XLOOKUP($A491,_xlfn.CHOOSECOLS(_xlfn.ANCHORARRAY(Filme!$G$1),2),_xlfn.CHOOSECOLS(_xlfn.ANCHORARRAY(Filme!$G$1),4),\"\",0,2)","v":"2014-03-06"},{"$f":"_xlfn.XLOOKUP($B491,_xlfn.CHOOSECOLS(_xlfn.ANCHORARRAY(Leute!$F$1),2),_xlfn.CHOOSECOLS(_xlfn.ANCHORARRAY(Leute!$F$1),3),\"x\",0,2)","v":"Eva Green"},{"$f":"_xlfn.XLOOKUP($B491,_xlfn.CHOOSECOLS(_xlfn.ANCHORARRAY(Leute!$F$1),2),_xlfn.CHOOSECOLS(_xlfn.ANCHORARRAY(Leute!$F$1),4),\"x\",0,2)","v":"1980-07-06"},{"$f":"RANK(F491,F$1:F491,0)","v":91},{"$f":"DATEDIF(F491,D491,\"Y\")","v":33},{"$f":"DATEDIF(F491,D491,\"YD\")","v":243},{"$f":"D491-F491","v":12296},{"$f":"\"MRS \"&TEXT(J491,\"00000\")&\" \"&SUBSTITUTE(C491,\":\",\"\")&\" (\"&TEXT(D491,\"TT.MM.JJJJ\")&\") - \"&E491&\" (\"&TEXT(F491,\"TT.MM.JJJJ\")&\") \"&H491&\"-\"&I491","v":"MRS 12296 300 Rise of an Empire (06.03.2014) - Eva Green (06.07.1980) 33-243"}]
["tt1439572","nm1200692",{"$f":"_xlfn.XLOOKUP($A492,_xlfn.CHOOSECOLS(_xlfn.ANCHORARRAY(Filme!$G$1),2),_xlfn.CHOOSECOLS(_xlfn.ANCHORARRAY(Filme!$G$1),3),\"\",0,2)","v":"Perfect Sense"},{"$f":"_xlfn.XLOOKUP($A492,_xlfn.CHOOSECOLS(_xlfn.ANCHORARRAY(Filme!$G$1),2),_xlfn.CHOOSECOLS(_xlfn.ANCHORARRAY(Filme!$G$1),4),\"\",0,2)","v":"2011-12-08"},{"$f":"_xlfn.XLOOKUP($B492,_xlfn.CHOOSECOLS(_xlfn.ANCHORARRAY(Leute!$F$1),2),_xlfn.CHOOSECOLS(_xlfn.ANCHORARRAY(Leute!$F$1),3),\"x\",0,2)","v":"Eva Green"},{"$f":"_xlfn.XLOOKUP($B492,_xlfn.CHOOSECOLS(_xlfn.ANCHORARRAY(Leute!$F$1),2),_xlfn.CHOOSECOLS(_xlfn.ANCHORARRAY(Leute!$F$1),4),\"x\",0,2)","v":"1980-07-06"},{"$f":"RANK(F492,F$1:F492,0)","v":91},{"$f":"DATEDIF(F492,D492,\"Y\")","v":31},{"$f":"DATEDIF(F492,D492,\"YD\")","v":155},{"$f":"D492-F492","v":11477},{"$f":"\"MRS \"&TEXT(J492,\"00000\")&\" \"&SUBSTITUTE(C492,\":\",\"\")&\" (\"&TEXT(D492,\"TT.MM.JJJJ\")&\") - \"&E492&\" (\"&TEXT(F492,\"TT.MM.JJJJ\")&\") \"&H492&\"-\"&I492","v":"MRS 11477 Perfect Sense (08.12.2011) - Eva Green (06.07.1980) 31-155"}]
["tt1700506","nm1200692",{"$f":"_xlfn.XLOOKUP($A493,_xlfn.CHOOSECOLS(_xlfn.ANCHORARRAY(Filme!$G$1),2),_xlfn.CHOOSECOLS(_xlfn.ANCHORARRAY(Filme!$G$1),3),\"\",0,2)","v":"Camelot"},{"$f":"_xlfn.XLOOKUP($A493,_xlfn.CHOOSECOLS(_xlfn.ANCHORARRAY(Filme!$G$1),2),_xlfn.CHOOSECOLS(_xlfn.ANCHORARRAY(Filme!$G$1),4),\"\",0,2)","v":"2012-03-19"},{"$f":"_xlfn.XLOOKUP($B493,_xlfn.CHOOSECOLS(_xlfn.ANCHORARRAY(Leute!$F$1),2),_xlfn.CHOOSECOLS(_xlfn.ANCHORARRAY(Leute!$F$1),3),\"x\",0,2)","v":"Eva Green"},{"$f":"_xlfn.XLOOKUP($B493,_xlfn.CHOOSECOLS(_xlfn.ANCHORARRAY(Leute!$F$1),2),_xlfn.CHOOSECOLS(_xlfn.ANCHORARRAY(Leute!$F$1),4),\"x\",0,2)","v":"1980-07-06"},{"$f":"RANK(F493,F$1:F493,0)","v":91},{"$f":"DATEDIF(F493,D493,\"Y\")","v":31},{"$f":"DATEDIF(F493,D493,\"YD\")","v":256},{"$f":"D493-F493","v":11579},{"$f":"\"MRS \"&TEXT(J493,\"00000\")&\" \"&SUBSTITUTE(C493,\":\",\"\")&\" (\"&TEXT(D493,\"TT.MM.JJJJ\")&\") - \"&E493&\" (\"&TEXT(F493,\"TT.MM.JJJJ\")&\") \"&H493&\"-\"&I493","v":"MRS 11579 Camelot (19.03.2012) - Eva Green (06.07.1980) 31-256"}]
["tt2991752","nm1200692",{"$f":"_xlfn.XLOOKUP($A494,_xlfn.CHOOSECOLS(_xlfn.ANCHORARRAY(Filme!$G$1),2),_xlfn.CHOOSECOLS(_xlfn.ANCHORARRAY(Filme!$G$1),3),\"\",0,2)","v":"Penny Dreadful"},{"$f":"_xlfn.XLOOKUP($A494,_xlfn.CHOOSECOLS(_xlfn.ANCHORARRAY(Filme!$G$1),2),_xlfn.CHOOSECOLS(_xlfn.ANCHORARRAY(Filme!$G$1),4),\"\",0,2)","v":"2014-09-16"},{"$f":"_xlfn.XLOOKUP($B494,_xlfn.CHOOSECOLS(_xlfn.ANCHORARRAY(Leute!$F$1),2),_xlfn.CHOOSECOLS(_xlfn.ANCHORARRAY(Leute!$F$1),3),\"x\",0,2)","v":"Eva Green"},{"$f":"_xlfn.XLOOKUP($B494,_xlfn.CHOOSECOLS(_xlfn.ANCHORARRAY(Leute!$F$1),2),_xlfn.CHOOSECOLS(_xlfn.ANCHORARRAY(Leute!$F$1),4),\"x\",0,2)","v":"1980-07-06"},{"$f":"RANK(F494,F$1:F494,0)","v":91},{"$f":"DATEDIF(F494,D494,\"Y\")","v":34},{"$f":"DATEDIF(F494,D494,\"YD\")","v":72},{"$f":"D494-F494","v":12490},{"$f":"\"MRS \"&TEXT(J494,\"00000\")&\" \"&SUBSTITUTE(C494,\":\",\"\")&\" (\"&TEXT(D494,\"TT.MM.JJJJ\")&\") - \"&E494&\" (\"&TEXT(F494,\"TT.MM.JJJJ\")&\") \"&H494&\"-\"&I494","v":"MRS 12490 Penny Dreadful (16.09.2014) - Eva Green (06.07.1980) 34-72"}]
["tt7374926","nm1200692",{"$f":"_xlfn.XLOOKUP($A495,_xlfn.CHOOSECOLS(_xlfn.ANCHORARRAY(Filme!$G$1),2),_xlfn.CHOOSECOLS(_xlfn.ANCHORARRAY(Filme!$G$1),3),\"\",0,2)","v":"Proxima"},{"$f":"_xlfn.XLOOKUP($A495,_xlfn.CHOOSECOLS(_xlfn.ANCHORARRAY(Filme!$G$1),2),_xlfn.CHOOSECOLS(_xlfn.ANCHORARRAY(Filme!$G$1),4),\"\",0,2)","v":"2021-06-24"},{"$f":"_xlfn.XLOOKUP($B495,_xlfn.CHOOSECOLS(_xlfn.ANCHORARRAY(Leute!$F$1),2),_xlfn.CHOOSECOLS(_xlfn.ANCHORARRAY(Leute!$F$1),3),\"x\",0,2)","v":"Eva Green"},{"$f":"_xlfn.XLOOKUP($B495,_xlfn.CHOOSECOLS(_xlfn.ANCHORARRAY(Leute!$F$1),2),_xlfn.CHOOSECOLS(_xlfn.ANCHORARRAY(Leute!$F$1),4),\"x\",0,2)","v":"1980-07-06"},{"$f":"RANK(F495,F$1:F495,0)","v":91},{"$f":"DATEDIF(F495,D495,\"Y\")","v":40},{"$f":"DATEDIF(F495,D495,\"YD\")","v":353},{"$f":"D495-F495","v":14963},{"$f":"\"MRS \"&TEXT(J495,\"00000\")&\" \"&SUBSTITUTE(C495,\":\",\"\")&\" (\"&TEXT(D495,\"TT.MM.JJJJ\")&\") - \"&E495&\" (\"&TEXT(F495,\"TT.MM.JJJJ\")&\") \"&H495&\"-\"&I495","v":"MRS 14963 Proxima (24.06.2021) - Eva Green (06.07.1980) 40-353"}]
["tt0293509","nm1208167",{"$f":"_xlfn.XLOOKUP($A496,_xlfn.CHOOSECOLS(_xlfn.ANCHORARRAY(Filme!$G$1),2),_xlfn.CHOOSECOLS(_xlfn.ANCHORARRAY(Filme!$G$1),3),\"\",0,2)","v":"The Piano Player"},{"$f":"_xlfn.XLOOKUP($A496,_xlfn.CHOOSECOLS(_xlfn.ANCHORARRAY(Filme!$G$1),2),_xlfn.CHOOSECOLS(_xlfn.ANCHORARRAY(Filme!$G$1),4),\"\",0,2)","v":"2004-06-04"},{"$f":"_xlfn.XLOOKUP($B496,_xlfn.CHOOSECOLS(_xlfn.ANCHORARRAY(Leute!$F$1),2),_xlfn.CHOOSECOLS(_xlfn.ANCHORARRAY(Leute!$F$1),3),\"x\",0,2)","v":"Diane Kruger"},{"$f":"_xlfn.XLOOKUP($B496,_xlfn.CHOOSECOLS(_xlfn.ANCHORARRAY(Leute!$F$1),2),_xlfn.CHOOSECOLS(_xlfn.ANCHORARRAY(Leute!$F$1),4),\"x\",0,2)","v":"1976-07-15"},{"$f":"RANK(F496,F$1:F496,0)","v":174},{"$f":"DATEDIF(F496,D496,\"Y\")","v":27},{"$f":"DATEDIF(F496,D496,\"YD\")","v":324},{"$f":"D496-F496","v":10186},{"$f":"\"MRS \"&TEXT(J496,\"00000\")&\" \"&SUBSTITUTE(C496,\":\",\"\")&\" (\"&TEXT(D496,\"TT.MM.JJJJ\")&\") - \"&E496&\" (\"&TEXT(F496,\"TT.MM.JJJJ\")&\") \"&H496&\"-\"&I496","v":"MRS 10186 The Piano Player (04.06.2004) - Diane Kruger (15.07.1976) 27-324"}]
["tt0309872","nm1208167",{"$f":"_xlfn.XLOOKUP($A497,_xlfn.CHOOSECOLS(_xlfn.ANCHORARRAY(Filme!$G$1),2),_xlfn.CHOOSECOLS(_xlfn.ANCHORARRAY(Filme!$G$1),3),\"\",0,2)","v":"Mon idole"},{"$f":"_xlfn.XLOOKUP($A497,_xlfn.CHOOSECOLS(_xlfn.ANCHORARRAY(Filme!$G$1),2),_xlfn.CHOOSECOLS(_xlfn.ANCHORARRAY(Filme!$G$1),4),\"\",0,2)","v":"2002-12-17"},{"$f":"_xlfn.XLOOKUP($B497,_xlfn.CHOOSECOLS(_xlfn.ANCHORARRAY(Leute!$F$1),2),_xlfn.CHOOSECOLS(_xlfn.ANCHORARRAY(Leute!$F$1),3),\"x\",0,2)","v":"Diane Kruger"},{"$f":"_xlfn.XLOOKUP($B497,_xlfn.CHOOSECOLS(_xlfn.ANCHORARRAY(Leute!$F$1),2),_xlfn.CHOOSECOLS(_xlfn.ANCHORARRAY(Leute!$F$1),4),\"x\",0,2)","v":"1976-07-15"},{"$f":"RANK(F497,F$1:F497,0)","v":174},{"$f":"DATEDIF(F497,D497,\"Y\")","v":26},{"$f":"DATEDIF(F497,D497,\"YD\")","v":155},{"$f":"D497-F497","v":9651},{"$f":"\"MRS \"&TEXT(J497,\"00000\")&\" \"&SUBSTITUTE(C497,\":\",\"\")&\" (\"&TEXT(D497,\"TT.MM.JJJJ\")&\") - \"&E497&\" (\"&TEXT(F497,\"TT.MM.JJJJ\")&\") \"&H497&\"-\"&I497","v":"MRS 09651 Mon idole (17.12.2002) - Diane Kruger (15.07.1976) 26-155"}]
["tt0332452","nm1208167",{"$f":"_xlfn.XLOOKUP($A498,_xlfn.CHOOSECOLS(_xlfn.ANCHORARRAY(Filme!$G$1),2),_xlfn.CHOOSECOLS(_xlfn.ANCHORARRAY(Filme!$G$1),3),\"\",0,2)","v":"Troy"},{"$f":"_xlfn.XLOOKUP($A498,_xlfn.CHOOSECOLS(_xlfn.ANCHORARRAY(Filme!$G$1),2),_xlfn.CHOOSECOLS(_xlfn.ANCHORARRAY(Filme!$G$1),4),\"\",0,2)","v":"2004-05-13"},{"$f":"_xlfn.XLOOKUP($B498,_xlfn.CHOOSECOLS(_xlfn.ANCHORARRAY(Leute!$F$1),2),_xlfn.CHOOSECOLS(_xlfn.ANCHORARRAY(Leute!$F$1),3),\"x\",0,2)","v":"Diane Kruger"},{"$f":"_xlfn.XLOOKUP($B498,_xlfn.CHOOSECOLS(_xlfn.ANCHORARRAY(Leute!$F$1),2),_xlfn.CHOOSECOLS(_xlfn.ANCHORARRAY(Leute!$F$1),4),\"x\",0,2)","v":"1976-07-15"},{"$f":"RANK(F498,F$1:F498,0)","v":174},{"$f":"DATEDIF(F498,D498,\"Y\")","v":27},{"$f":"DATEDIF(F498,D498,\"YD\")","v":302},{"$f":"D498-F498","v":10164},{"$f":"\"MRS \"&TEXT(J498,\"00000\")&\" \"&SUBSTITUTE(C498,\":\",\"\")&\" (\"&TEXT(D498,\"TT.MM.JJJJ\")&\") - \"&E498&\" (\"&TEXT(F498,\"TT.MM.JJJJ\")&\") \"&H498&\"-\"&I498","v":"MRS 10164 Troy (13.05.2004) - Diane Kruger (15.07.1976) 27-302"}]
["tt0424205","nm1208167",{"$f":"_xlfn.XLOOKUP($A499,_xlfn.CHOOSECOLS(_xlfn.ANCHORARRAY(Filme!$G$1),2),_xlfn.CHOOSECOLS(_xlfn.ANCHORARRAY(Filme!$G$1),3),\"\",0,2)","v":"Joyeux Noël"},{"$f":"_xlfn.XLOOKUP($A499,_xlfn.CHOOSECOLS(_xlfn.ANCHORARRAY(Filme!$G$1),2),_xlfn.CHOOSECOLS(_xlfn.ANCHORARRAY(Filme!$G$1),4),\"\",0,2)","v":"2005-11-24"},{"$f":"_xlfn.XLOOKUP($B499,_xlfn.CHOOSECOLS(_xlfn.ANCHORARRAY(Leute!$F$1),2),_xlfn.CHOOSECOLS(_xlfn.ANCHORARRAY(Leute!$F$1),3),\"x\",0,2)","v":"Diane Kruger"},{"$f":"_xlfn.XLOOKUP($B499,_xlfn.CHOOSECOLS(_xlfn.ANCHORARRAY(Leute!$F$1),2),_xlfn.CHOOSECOLS(_xlfn.ANCHORARRAY(Leute!$F$1),4),\"x\",0,2)","v":"1976-07-15"},{"$f":"RANK(F499,F$1:F499,0)","v":174},{"$f":"DATEDIF(F499,D499,\"Y\")","v":29},{"$f":"DATEDIF(F499,D499,\"YD\")","v":132},{"$f":"D499-F499","v":10724},{"$f":"\"MRS \"&TEXT(J499,\"00000\")&\" \"&SUBSTITUTE(C499,\":\",\"\")&\" (\"&TEXT(D499,\"TT.MM.JJJJ\")&\") - \"&E499&\" (\"&TEXT(F499,\"TT.MM.JJJJ\")&\") \"&H499&\"-\"&I499","v":"MRS 10724 Joyeux Noël (24.11.2005) - Diane Kruger (15.07.1976) 29-132"}]
["tt0462667","nm1208167",{"$f":"_xlfn.XLOOKUP($A500,_xlfn.CHOOSECOLS(_xlfn.ANCHORARRAY(Filme!$G$1),2),_xlfn.CHOOSECOLS(_xlfn.ANCHORARRAY(Filme!$G$1),3),\"\",0,2)","v":"Les brigades du Tigre"},{"$f":"_xlfn.XLOOKUP($A500,_xlfn.CHOOSECOLS(_xlfn.ANCHORARRAY(Filme!$G$1),2),_xlfn.CHOOSECOLS(_xlfn.ANCHORARRAY(Filme!$G$1),4),\"\",0,2)","v":"2006-04-12"},{"$f":"_xlfn.XLOOKUP($B500,_xlfn.CHOOSECOLS(_xlfn.ANCHORARRAY(Leute!$F$1),2),_xlfn.CHOOSECOLS(_xlfn.ANCHORARRAY(Leute!$F$1),3),\"x\",0,2)","v":"Diane Kruger"},{"$f":"_xlfn.XLOOKUP($B500,_xlfn.CHOOSECOLS(_xlfn.ANCHORARRAY(Leute!$F$1),2),_xlfn.CHOOSECOLS(_xlfn.ANCHORARRAY(Leute!$F$1),4),\"x\",0,2)","v":"1976-07-15"},{"$f":"RANK(F500,F$1:F500,0)","v":174},{"$f":"DATEDIF(F500,D500,\"Y\")","v":29},{"$f":"DATEDIF(F500,D500,\"YD\")","v":271},{"$f":"D500-F500","v":10863},{"$f":"\"MRS \"&TEXT(J500,\"00000\")&\" \"&SUBSTITUTE(C500,\":\",\"\")&\" (\"&TEXT(D500,\"TT.MM.JJJJ\")&\") - \"&E500&\" (\"&TEXT(F500,\"TT.MM.JJJJ\")&\") \"&H500&\"-\"&I500","v":"MRS 10863 Les brigades du Tigre (12.04.2006) - Diane Kruger (15.07.1976) 29-271"}]
["tt0819953","nm1208167",{"$f":"_xlfn.XLOOKUP($A501,_xlfn.CHOOSECOLS(_xlfn.ANCHORARRAY(Filme!$G$1),2),_xlfn.CHOOSECOLS(_xlfn.ANCHORARRAY(Filme!$G$1),3),\"\",0,2)","v":"L'âge des ténèbres"},{"$f":"_xlfn.XLOOKUP($A501,_xlfn.CHOOSECOLS(_xlfn.ANCHORARRAY(Filme!$G$1),2),_xlfn.CHOOSECOLS(_xlfn.ANCHORARRAY(Filme!$G$1),4),\"\",0,2)","v":"2007-09-26"},{"$f":"_xlfn.XLOOKUP($B501,_xlfn.CHOOSECOLS(_xlfn.ANCHORARRAY(Leute!$F$1),2),_xlfn.CHOOSECOLS(_xlfn.ANCHORARRAY(Leute!$F$1),3),\"x\",0,2)","v":"Diane Kruger"},{"$f":"_xlfn.XLOOKUP($B501,_xlfn.CHOOSECOLS(_xlfn.ANCHORARRAY(Leute!$F$1),2),_xlfn.CHOOSECOLS(_xlfn.ANCHORARRAY(Leute!$F$1),4),\"x\",0,2)","v":"1976-07-15"},{"$f":"RANK(F501,F$1:F501,0)","v":174},{"$f":"DATEDIF(F501,D501,\"Y\")","v":31},{"$f":"DATEDIF(F501,D501,\"YD\")","v":73},{"$f":"D501-F501","v":11395},{"$f":"\"MRS \"&TEXT(J501,\"00000\")&\" \"&SUBSTITUTE(C501,\":\",\"\")&\" (\"&TEXT(D501,\"TT.MM.JJJJ\")&\") - \"&E501&\" (\"&TEXT(F501,\"TT.MM.JJJJ\")&\") \"&H501&\"-\"&I501","v":"MRS 11395 L'âge des ténèbres (26.09.2007) - Diane Kruger (15.07.1976) 31-73"}]
["tt1196340","nm1208167",{"$f":"_xlfn.XLOOKUP($A502,_xlfn.CHOOSECOLS(_xlfn.ANCHORARRAY(Filme!$G$1),2),_xlfn.CHOOSECOLS(_xlfn.ANCHORARRAY(Filme!$G$1),3),\"\",0,2)","v":"Inhale"},{"$f":"_xlfn.XLOOKUP($A502,_xlfn.CHOOSECOLS(_xlfn.ANCHORARRAY(Filme!$G$1),2),_xlfn.CHOOSECOLS(_xlfn.ANCHORARRAY(Filme!$G$1),4),\"\",0,2)","v":"2010-10-22"},{"$f":"_xlfn.XLOOKUP($B502,_xlfn.CHOOSECOLS(_xlfn.ANCHORARRAY(Leute!$F$1),2),_xlfn.CHOOSECOLS(_xlfn.ANCHORARRAY(Leute!$F$1),3),\"x\",0,2)","v":"Diane Kruger"},{"$f":"_xlfn.XLOOKUP($B502,_xlfn.CHOOSECOLS(_xlfn.ANCHORARRAY(Leute!$F$1),2),_xlfn.CHOOSECOLS(_xlfn.ANCHORARRAY(Leute!$F$1),4),\"x\",0,2)","v":"1976-07-15"},{"$f":"RANK(F502,F$1:F502,0)","v":174},{"$f":"DATEDIF(F502,D502,\"Y\")","v":34},{"$f":"DATEDIF(F502,D502,\"YD\")","v":99},{"$f":"D502-F502","v":12517},{"$f":"\"MRS \"&TEXT(J502,\"00000\")&\" \"&SUBSTITUTE(C502,\":\",\"\")&\" (\"&TEXT(D502,\"TT.MM.JJJJ\")&\") - \"&E502&\" (\"&TEXT(F502,\"TT.MM.JJJJ\")&\") \"&H502&\"-\"&I502","v":"MRS 12517 Inhale (22.10.2010) - Diane Kruger (15.07.1976) 34-99"}]
["tt21950462","nm1208167",{"$f":"_xlfn.XLOOKUP($A503,_xlfn.CHOOSECOLS(_xlfn.ANCHORARRAY(Filme!$G$1),2),_xlfn.CHOOSECOLS(_xlfn.ANCHORARRAY(Filme!$G$1),3),\"\",0,2)","v":"Visions"},{"$f":"_xlfn.XLOOKUP($A503,_xlfn.CHOOSECOLS(_xlfn.ANCHORARRAY(Filme!$G$1),2),_xlfn.CHOOSECOLS(_xlfn.ANCHORARRAY(Filme!$G$1),4),\"\",0,2)","v":"2023-09-06"},{"$f":"_xlfn.XLOOKUP($B503,_xlfn.CHOOSECOLS(_xlfn.ANCHORARRAY(Leute!$F$1),2),_xlfn.CHOOSECOLS(_xlfn.ANCHORARRAY(Leute!$F$1),3),\"x\",0,2)","v":"Diane Kruger"},{"$f":"_xlfn.XLOOKUP($B503,_xlfn.CHOOSECOLS(_xlfn.ANCHORARRAY(Leute!$F$1),2),_xlfn.CHOOSECOLS(_xlfn.ANCHORARRAY(Leute!$F$1),4),\"x\",0,2)","v":"1976-07-15"},{"$f":"RANK(F503,F$1:F503,0)","v":174},{"$f":"DATEDIF(F503,D503,\"Y\")","v":47},{"$f":"DATEDIF(F503,D503,\"YD\")","v":53},{"$f":"D503-F503","v":17219},{"$f":"\"MRS \"&TEXT(J503,\"00000\")&\" \"&SUBSTITUTE(C503,\":\",\"\")&\" (\"&TEXT(D503,\"TT.MM.JJJJ\")&\") - \"&E503&\" (\"&TEXT(F503,\"TT.MM.JJJJ\")&\") \"&H503&\"-\"&I503","v":"MRS 17219 Visions (06.09.2023) - Diane Kruger (15.07.1976) 47-53"}]
["tt3220926","nm1208167",{"$f":"_xlfn.XLOOKUP($A504,_xlfn.CHOOSECOLS(_xlfn.ANCHORARRAY(Filme!$G$1),2),_xlfn.CHOOSECOLS(_xlfn.ANCHORARRAY(Filme!$G$1),3),\"\",0,2)","v":"The Bridge"},{"$f":"_xlfn.XLOOKUP($A504,_xlfn.CHOOSECOLS(_xlfn.ANCHORARRAY(Filme!$G$1),2),_xlfn.CHOOSECOLS(_xlfn.ANCHORARRAY(Filme!$G$1),4),\"\",0,2)","v":"2014-07-10"},{"$f":"_xlfn.XLOOKUP($B504,_xlfn.CHOOSECOLS(_xlfn.ANCHORARRAY(Leute!$F$1),2),_xlfn.CHOOSECOLS(_xlfn.ANCHORARRAY(Leute!$F$1),3),\"x\",0,2)","v":"Diane Kruger"},{"$f":"_xlfn.XLOOKUP($B504,_xlfn.CHOOSECOLS(_xlfn.ANCHORARRAY(Leute!$F$1),2),_xlfn.CHOOSECOLS(_xlfn.ANCHORARRAY(Leute!$F$1),4),\"x\",0,2)","v":"1976-07-15"},{"$f":"RANK(F504,F$1:F504,0)","v":174},{"$f":"DATEDIF(F504,D504,\"Y\")","v":37},{"$f":"DATEDIF(F504,D504,\"YD\")","v":360},{"$f":"D504-F504","v":13874},{"$f":"\"MRS \"&TEXT(J504,\"00000\")&\" \"&SUBSTITUTE(C504,\":\",\"\")&\" (\"&TEXT(D504,\"TT.MM.JJJJ\")&\") - \"&E504&\" (\"&TEXT(F504,\"TT.MM.JJJJ\")&\") \"&H504&\"-\"&I504","v":"MRS 13874 The Bridge (10.07.2014) - Diane Kruger (15.07.1976) 37-360"}]
["tt4106306","nm1208167",{"$f":"_xlfn.XLOOKUP($A505,_xlfn.CHOOSECOLS(_xlfn.ANCHORARRAY(Filme!$G$1),2),_xlfn.CHOOSECOLS(_xlfn.ANCHORARRAY(Filme!$G$1),3),\"\",0,2)","v":"Sky"},{"$f":"_xlfn.XLOOKUP($A505,_xlfn.CHOOSECOLS(_xlfn.ANCHORARRAY(Filme!$G$1),2),_xlfn.CHOOSECOLS(_xlfn.ANCHORARRAY(Filme!$G$1),4),\"\",0,2)","v":"2016-06-09"},{"$f":"_xlfn.XLOOKUP($B505,_xlfn.CHOOSECOLS(_xlfn.ANCHORARRAY(Leute!$F$1),2),_xlfn.CHOOSECOLS(_xlfn.ANCHORARRAY(Leute!$F$1),3),\"x\",0,2)","v":"Diane Kruger"},{"$f":"_xlfn.XLOOKUP($B505,_xlfn.CHOOSECOLS(_xlfn.ANCHORARRAY(Leute!$F$1),2),_xlfn.CHOOSECOLS(_xlfn.ANCHORARRAY(Leute!$F$1),4),\"x\",0,2)","v":"1976-07-15"},{"$f":"RANK(F505,F$1:F505,0)","v":174},{"$f":"DATEDIF(F505,D505,\"Y\")","v":39},{"$f":"DATEDIF(F505,D505,\"YD\")","v":329},{"$f":"D505-F505","v":14574},{"$f":"\"MRS \"&TEXT(J505,\"00000\")&\" \"&SUBSTITUTE(C505,\":\",\"\")&\" (\"&TEXT(D505,\"TT.MM.JJJJ\")&\") - \"&E505&\" (\"&TEXT(F505,\"TT.MM.JJJJ\")&\") \"&H505&\"-\"&I505","v":"MRS 14574 Sky (09.06.2016) - Diane Kruger (15.07.1976) 39-329"}]
["tt5825052","nm1208167",{"$f":"_xlfn.XLOOKUP($A506,_xlfn.CHOOSECOLS(_xlfn.ANCHORARRAY(Filme!$G$1),2),_xlfn.CHOOSECOLS(_xlfn.ANCHORARRAY(Filme!$G$1),3),\"\",0,2)","v":"Tout nous sépare"},{"$f":"_xlfn.XLOOKUP($A506,_xlfn.CHOOSECOLS(_xlfn.ANCHORARRAY(Filme!$G$1),2),_xlfn.CHOOSECOLS(_xlfn.ANCHORARRAY(Filme!$G$1),4),\"\",0,2)","v":"2017-11-08"},{"$f":"_xlfn.XLOOKUP($B506,_xlfn.CHOOSECOLS(_xlfn.ANCHORARRAY(Leute!$F$1),2),_xlfn.CHOOSECOLS(_xlfn.ANCHORARRAY(Leute!$F$1),3),\"x\",0,2)","v":"Diane Kruger"},{"$f":"_xlfn.XLOOKUP($B506,_xlfn.CHOOSECOLS(_xlfn.ANCHORARRAY(Leute!$F$1),2),_xlfn.CHOOSECOLS(_xlfn.ANCHORARRAY(Leute!$F$1),4),\"x\",0,2)","v":"1976-07-15"},{"$f":"RANK(F506,F$1:F506,0)","v":174},{"$f":"DATEDIF(F506,D506,\"Y\")","v":41},{"$f":"DATEDIF(F506,D506,\"YD\")","v":116},{"$f":"D506-F506","v":15091},{"$f":"\"MRS \"&TEXT(J506,\"00000\")&\" \"&SUBSTITUTE(C506,\":\",\"\")&\" (\"&TEXT(D506,\"TT.MM.JJJJ\")&\") - \"&E506&\" (\"&TEXT(F506,\"TT.MM.JJJJ\")&\") \"&H506&\"-\"&I506","v":"MRS 15091 Tout nous sépare (08.11.2017) - Diane Kruger (15.07.1976) 41-116"}]
["tt8000718","nm1208167",{"$f":"_xlfn.XLOOKUP($A507,_xlfn.CHOOSECOLS(_xlfn.ANCHORARRAY(Filme!$G$1),2),_xlfn.CHOOSECOLS(_xlfn.ANCHORARRAY(Filme!$G$1),3),\"\",0,2)","v":"The Operative"},{"$f":"_xlfn.XLOOKUP($A507,_xlfn.CHOOSECOLS(_xlfn.ANCHORARRAY(Filme!$G$1),2),_xlfn.CHOOSECOLS(_xlfn.ANCHORARRAY(Filme!$G$1),4),\"\",0,2)","v":"2019-08-29"},{"$f":"_xlfn.XLOOKUP($B507,_xlfn.CHOOSECOLS(_xlfn.ANCHORARRAY(Leute!$F$1),2),_xlfn.CHOOSECOLS(_xlfn.ANCHORARRAY(Leute!$F$1),3),\"x\",0,2)","v":"Diane Kruger"},{"$f":"_xlfn.XLOOKUP($B507,_xlfn.CHOOSECOLS(_xlfn.ANCHORARRAY(Leute!$F$1),2),_xlfn.CHOOSECOLS(_xlfn.ANCHORARRAY(Leute!$F$1),4),\"x\",0,2)","v":"1976-07-15"},{"$f":"RANK(F507,F$1:F507,0)","v":174},{"$f":"DATEDIF(F507,D507,\"Y\")","v":43},{"$f":"DATEDIF(F507,D507,\"YD\")","v":45},{"$f":"D507-F507","v":15750},{"$f":"\"MRS \"&TEXT(J507,\"00000\")&\" \"&SUBSTITUTE(C507,\":\",\"\")&\" (\"&TEXT(D507,\"TT.MM.JJJJ\")&\") - \"&E507&\" (\"&TEXT(F507,\"TT.MM.JJJJ\")&\") \"&H507&\"-\"&I507","v":"MRS 15750 The Operative (29.08.2019) - Diane Kruger (15.07.1976) 43-45"}]
["tt1789074","nm1269412",{"$f":"_xlfn.XLOOKUP($A508,_xlfn.CHOOSECOLS(_xlfn.ANCHORARRAY(Filme!$G$1),2),_xlfn.CHOOSECOLS(_xlfn.ANCHORARRAY(Filme!$G$1),3),\"\",0,2)","v":"The Night Watch"},{"$f":"_xlfn.XLOOKUP($A508,_xlfn.CHOOSECOLS(_xlfn.ANCHORARRAY(Filme!$G$1),2),_xlfn.CHOOSECOLS(_xlfn.ANCHORARRAY(Filme!$G$1),4),\"\",0,2)","v":"2011-07-12"},{"$f":"_xlfn.XLOOKUP($B508,_xlfn.CHOOSECOLS(_xlfn.ANCHORARRAY(Leute!$F$1),2),_xlfn.CHOOSECOLS(_xlfn.ANCHORARRAY(Leute!$F$1),3),\"x\",0,2)","v":"Anna Maxwell Martin"},{"$f":"_xlfn.XLOOKUP($B508,_xlfn.CHOOSECOLS(_xlfn.ANCHORARRAY(Leute!$F$1),2),_xlfn.CHOOSECOLS(_xlfn.ANCHORARRAY(Leute!$F$1),4),\"x\",0,2)","v":"1977-05-10"},{"$f":"RANK(F508,F$1:F508,0)","v":155},{"$f":"DATEDIF(F508,D508,\"Y\")","v":34},{"$f":"DATEDIF(F508,D508,\"YD\")","v":63},{"$f":"D508-F508","v":12481},{"$f":"\"MRS \"&TEXT(J508,\"00000\")&\" \"&SUBSTITUTE(C508,\":\",\"\")&\" (\"&TEXT(D508,\"TT.MM.JJJJ\")&\") - \"&E508&\" (\"&TEXT(F508,\"TT.MM.JJJJ\")&\") \"&H508&\"-\"&I508","v":"MRS 12481 The Night Watch (12.07.2011) - Anna Maxwell Martin (10.05.1977) 34-63"}]
["tt13868046","nm1275259",{"$f":"_xlfn.XLOOKUP($A509,_xlfn.CHOOSECOLS(_xlfn.ANCHORARRAY(Filme!$G$1),2),_xlfn.CHOOSECOLS(_xlfn.ANCHORARRAY(Filme!$G$1),3),\"\",0,2)","v":"The White Lotus"},{"$f":"_xlfn.XLOOKUP($A509,_xlfn.CHOOSECOLS(_xlfn.ANCHORARRAY(Filme!$G$1),2),_xlfn.CHOOSECOLS(_xlfn.ANCHORARRAY(Filme!$G$1),4),\"\",0,2)","v":"2021-07-18"},{"$f":"_xlfn.XLOOKUP($B509,_xlfn.CHOOSECOLS(_xlfn.ANCHORARRAY(Leute!$F$1),2),_xlfn.CHOOSECOLS(_xlfn.ANCHORARRAY(Leute!$F$1),3),\"x\",0,2)","v":"Alexandra Daddario"},{"$f":"_xlfn.XLOOKUP($B509,_xlfn.CHOOSECOLS(_xlfn.ANCHORARRAY(Leute!$F$1),2),_xlfn.CHOOSECOLS(_xlfn.ANCHORARRAY(Leute!$F$1),4),\"x\",0,2)","v":"1986-03-16"},{"$f":"RANK(F509,F$1:F509,0)","v":47},{"$f":"DATEDIF(F509,D509,\"Y\")","v":35},{"$f":"DATEDIF(F509,D509,\"YD\")","v":124},{"$f":"D509-F509","v":12908},{"$f":"\"MRS \"&TEXT(J509,\"00000\")&\" \"&SUBSTITUTE(C509,\":\",\"\")&\" (\"&TEXT(D509,\"TT.MM.JJJJ\")&\") - \"&E509&\" (\"&TEXT(F509,\"TT.MM.JJJJ\")&\") \"&H509&\"-\"&I509","v":"MRS 12908 The White Lotus (18.07.2021) - Alexandra Daddario (16.03.1986) 35-124"}]
["tt2704380","nm1275259",{"$f":"_xlfn.XLOOKUP($A510,_xlfn.CHOOSECOLS(_xlfn.ANCHORARRAY(Filme!$G$1),2),_xlfn.CHOOSECOLS(_xlfn.ANCHORARRAY(Filme!$G$1),3),\"\",0,2)","v":"True Detective"},{"$f":"_xlfn.XLOOKUP($A510,_xlfn.CHOOSECOLS(_xlfn.ANCHORARRAY(Filme!$G$1),2),_xlfn.CHOOSECOLS(_xlfn.ANCHORARRAY(Filme!$G$1),4),\"\",0,2)","v":"2014-04-24"},{"$f":"_xlfn.XLOOKUP($B510,_xlfn.CHOOSECOLS(_xlfn.ANCHORARRAY(Leute!$F$1),2),_xlfn.CHOOSECOLS(_xlfn.ANCHORARRAY(Leute!$F$1),3),\"x\",0,2)","v":"Alexandra Daddario"},{"$f":"_xlfn.XLOOKUP($B510,_xlfn.CHOOSECOLS(_xlfn.ANCHORARRAY(Leute!$F$1),2),_xlfn.CHOOSECOLS(_xlfn.ANCHORARRAY(Leute!$F$1),4),\"x\",0,2)","v":"1986-03-16"},{"$f":"RANK(F510,F$1:F510,0)","v":47},{"$f":"DATEDIF(F510,D510,\"Y\")","v":28},{"$f":"DATEDIF(F510,D510,\"YD\")","v":39},{"$f":"D510-F510","v":10266},{"$f":"\"MRS \"&TEXT(J510,\"00000\")&\" \"&SUBSTITUTE(C510,\":\",\"\")&\" (\"&TEXT(D510,\"TT.MM.JJJJ\")&\") - \"&E510&\" (\"&TEXT(F510,\"TT.MM.JJJJ\")&\") \"&H510&\"-\"&I510","v":"MRS 10266 True Detective (24.04.2014) - Alexandra Daddario (16.03.1986) 28-39"}]
["tt0382189","nm1289434",{"$f":"_xlfn.XLOOKUP($A511,_xlfn.CHOOSECOLS(_xlfn.ANCHORARRAY(Filme!$G$1),2),_xlfn.CHOOSECOLS(_xlfn.ANCHORARRAY(Filme!$G$1),3),\"\",0,2)","v":"My Summer of Love"},{"$f":"_xlfn.XLOOKUP($A511,_xlfn.CHOOSECOLS(_xlfn.ANCHORARRAY(Filme!$G$1),2),_xlfn.CHOOSECOLS(_xlfn.ANCHORARRAY(Filme!$G$1),4),\"\",0,2)","v":"2005-06-30"},{"$f":"_xlfn.XLOOKUP($B511,_xlfn.CHOOSECOLS(_xlfn.ANCHORARRAY(Leute!$F$1),2),_xlfn.CHOOSECOLS(_xlfn.ANCHORARRAY(Leute!$F$1),3),\"x\",0,2)","v":"Emily Blunt"},{"$f":"_xlfn.XLOOKUP($B511,_xlfn.CHOOSECOLS(_xlfn.ANCHORARRAY(Leute!$F$1),2),_xlfn.CHOOSECOLS(_xlfn.ANCHORARRAY(Leute!$F$1),4),\"x\",0,2)","v":"1983-02-23"},{"$f":"RANK(F511,F$1:F511,0)","v":69},{"$f":"DATEDIF(F511,D511,\"Y\")","v":22},{"$f":"DATEDIF(F511,D511,\"YD\")","v":127},{"$f":"D511-F511","v":8163},{"$f":"\"MRS \"&TEXT(J511,\"00000\")&\" \"&SUBSTITUTE(C511,\":\",\"\")&\" (\"&TEXT(D511,\"TT.MM.JJJJ\")&\") - \"&E511&\" (\"&TEXT(F511,\"TT.MM.JJJJ\")&\") \"&H511&\"-\"&I511","v":"MRS 08163 My Summer of Love (30.06.2005) - Emily Blunt (23.02.1983) 22-127"}]
["tt0382737","nm1289434",{"$f":"_xlfn.XLOOKUP($A512,_xlfn.CHOOSECOLS(_xlfn.ANCHORARRAY(Filme!$G$1),2),_xlfn.CHOOSECOLS(_xlfn.ANCHORARRAY(Filme!$G$1),3),\"\",0,2)","v":"Henry VIII"},{"$f":"_xlfn.XLOOKUP($A512,_xlfn.CHOOSECOLS(_xlfn.ANCHORARRAY(Filme!$G$1),2),_xlfn.CHOOSECOLS(_xlfn.ANCHORARRAY(Filme!$G$1),4),\"\",0,2)","v":"2003-10-12"},{"$f":"_xlfn.XLOOKUP($B512,_xlfn.CHOOSECOLS(_xlfn.ANCHORARRAY(Leute!$F$1),2),_xlfn.CHOOSECOLS(_xlfn.ANCHORARRAY(Leute!$F$1),3),\"x\",0,2)","v":"Emily Blunt"},{"$f":"_xlfn.XLOOKUP($B512,_xlfn.CHOOSECOLS(_xlfn.ANCHORARRAY(Leute!$F$1),2),_xlfn.CHOOSECOLS(_xlfn.ANCHORARRAY(Leute!$F$1),4),\"x\",0,2)","v":"1983-02-23"},{"$f":"RANK(F512,F$1:F512,0)","v":69},{"$f":"DATEDIF(F512,D512,\"Y\")","v":20},{"$f":"DATEDIF(F512,D512,\"YD\")","v":231},{"$f":"D512-F512","v":7536},{"$f":"\"MRS \"&TEXT(J512,\"00000\")&\" \"&SUBSTITUTE(C512,\":\",\"\")&\" (\"&TEXT(D512,\"TT.MM.JJJJ\")&\") - \"&E512&\" (\"&TEXT(F512,\"TT.MM.JJJJ\")&\") \"&H512&\"-\"&I512","v":"MRS 07536 Henry VIII (12.10.2003) - Emily Blunt (23.02.1983) 20-231"}]
["tt0448564","nm1289434",{"$f":"_xlfn.XLOOKUP($A513,_xlfn.CHOOSECOLS(_xlfn.ANCHORARRAY(Filme!$G$1),2),_xlfn.CHOOSECOLS(_xlfn.ANCHORARRAY(Filme!$G$1),3),\"\",0,2)","v":"Irresistible"},{"$f":"_xlfn.XLOOKUP($A513,_xlfn.CHOOSECOLS(_xlfn.ANCHORARRAY(Filme!$G$1),2),_xlfn.CHOOSECOLS(_xlfn.ANCHORARRAY(Filme!$G$1),4),\"\",0,2)","v":"2006-11-09"},{"$f":"_xlfn.XLOOKUP($B513,_xlfn.CHOOSECOLS(_xlfn.ANCHORARRAY(Leute!$F$1),2),_xlfn.CHOOSECOLS(_xlfn.ANCHORARRAY(Leute!$F$1),3),\"x\",0,2)","v":"Emily Blunt"},{"$f":"_xlfn.XLOOKUP($B513,_xlfn.CHOOSECOLS(_xlfn.ANCHORARRAY(Leute!$F$1),2),_xlfn.CHOOSECOLS(_xlfn.ANCHORARRAY(Leute!$F$1),4),\"x\",0,2)","v":"1983-02-23"},{"$f":"RANK(F513,F$1:F513,0)","v":69},{"$f":"DATEDIF(F513,D513,\"Y\")","v":23},{"$f":"DATEDIF(F513,D513,\"YD\")","v":259},{"$f":"D513-F513","v":8660},{"$f":"\"MRS \"&TEXT(J513,\"00000\")&\" \"&SUBSTITUTE(C513,\":\",\"\")&\" (\"&TEXT(D513,\"TT.MM.JJJJ\")&\") - \"&E513&\" (\"&TEXT(F513,\"TT.MM.JJJJ\")&\") \"&H513&\"-\"&I513","v":"MRS 08660 Irresistible (09.11.2006) - Emily Blunt (23.02.1983) 23-259"}]
["tt1930546","nm1289434",{"$f":"_xlfn.XLOOKUP($A514,_xlfn.CHOOSECOLS(_xlfn.ANCHORARRAY(Filme!$G$1),2),_xlfn.CHOOSECOLS(_xlfn.ANCHORARRAY(Filme!$G$1),3),\"\",0,2)","v":"Arthur Newman"},{"$f":"_xlfn.XLOOKUP($A514,_xlfn.CHOOSECOLS(_xlfn.ANCHORARRAY(Filme!$G$1),2),_xlfn.CHOOSECOLS(_xlfn.ANCHORARRAY(Filme!$G$1),4),\"\",0,2)","v":"2013-06-13"},{"$f":"_xlfn.XLOOKUP($B514,_xlfn.CHOOSECOLS(_xlfn.ANCHORARRAY(Leute!$F$1),2),_xlfn.CHOOSECOLS(_xlfn.ANCHORARRAY(Leute!$F$1),3),\"x\",0,2)","v":"Emily Blunt"},{"$f":"_xlfn.XLOOKUP($B514,_xlfn.CHOOSECOLS(_xlfn.ANCHORARRAY(Leute!$F$1),2),_xlfn.CHOOSECOLS(_xlfn.ANCHORARRAY(Leute!$F$1),4),\"x\",0,2)","v":"1983-02-23"},{"$f":"RANK(F514,F$1:F514,0)","v":69},{"$f":"DATEDIF(F514,D514,\"Y\")","v":30},{"$f":"DATEDIF(F514,D514,\"YD\")","v":110},{"$f":"D514-F514","v":11068},{"$f":"\"MRS \"&TEXT(J514,\"00000\")&\" \"&SUBSTITUTE(C514,\":\",\"\")&\" (\"&TEXT(D514,\"TT.MM.JJJJ\")&\") - \"&E514&\" (\"&TEXT(F514,\"TT.MM.JJJJ\")&\") \"&H514&\"-\"&I514","v":"MRS 11068 Arthur Newman (13.06.2013) - Emily Blunt (23.02.1983) 30-110"}]
["tt14230458","nm1297015",{"$f":"_xlfn.XLOOKUP($A515,_xlfn.CHOOSECOLS(_xlfn.ANCHORARRAY(Filme!$G$1),2),_xlfn.CHOOSECOLS(_xlfn.ANCHORARRAY(Filme!$G$1),3),\"\",0,2)","v":"Poor Things"},{"$f":"_xlfn.XLOOKUP($A515,_xlfn.CHOOSECOLS(_xlfn.ANCHORARRAY(Filme!$G$1),2),_xlfn.CHOOSECOLS(_xlfn.ANCHORARRAY(Filme!$G$1),4),\"\",0,2)","v":"2024-01-18"},{"$f":"_xlfn.XLOOKUP($B515,_xlfn.CHOOSECOLS(_xlfn.ANCHORARRAY(Leute!$F$1),2),_xlfn.CHOOSECOLS(_xlfn.ANCHORARRAY(Leute!$F$1),3),\"x\",0,2)","v":"Emma Stone"},{"$f":"_xlfn.XLOOKUP($B515,_xlfn.CHOOSECOLS(_xlfn.ANCHORARRAY(Leute!$F$1),2),_xlfn.CHOOSECOLS(_xlfn.ANCHORARRAY(Leute!$F$1),4),\"x\",0,2)","v":"1988-11-06"},{"$f":"RANK(F515,F$1:F515,0)","v":38},{"$f":"DATEDIF(F515,D515,\"Y\")","v":35},{"$f":"DATEDIF(F515,D515,\"YD\")","v":73},{"$f":"D515-F515","v":12856},{"$f":"\"MRS \"&TEXT(J515,\"00000\")&\" \"&SUBSTITUTE(C515,\":\",\"\")&\" (\"&TEXT(D515,\"TT.MM.JJJJ\")&\") - \"&E515&\" (\"&TEXT(F515,\"TT.MM.JJJJ\")&\") \"&H515&\"-\"&I515","v":"MRS 12856 Poor Things (18.01.2024) - Emma Stone (06.11.1988) 35-73"}]
["tt22408160","nm1297015",{"$f":"_xlfn.XLOOKUP($A516,_xlfn.CHOOSECOLS(_xlfn.ANCHORARRAY(Filme!$G$1),2),_xlfn.CHOOSECOLS(_xlfn.ANCHORARRAY(Filme!$G$1),3),\"\",0,2)","v":"Kinds of Kindness"},{"$f":"_xlfn.XLOOKUP($A516,_xlfn.CHOOSECOLS(_xlfn.ANCHORARRAY(Filme!$G$1),2),_xlfn.CHOOSECOLS(_xlfn.ANCHORARRAY(Filme!$G$1),4),\"\",0,2)","v":"2024-07-04"},{"$f":"_xlfn.XLOOKUP($B516,_xlfn.CHOOSECOLS(_xlfn.ANCHORARRAY(Leute!$F$1),2),_xlfn.CHOOSECOLS(_xlfn.ANCHORARRAY(Leute!$F$1),3),\"x\",0,2)","v":"Emma Stone"},{"$f":"_xlfn.XLOOKUP($B516,_xlfn.CHOOSECOLS(_xlfn.ANCHORARRAY(Leute!$F$1),2),_xlfn.CHOOSECOLS(_xlfn.ANCHORARRAY(Leute!$F$1),4),\"x\",0,2)","v":"1988-11-06"},{"$f":"RANK(F516,F$1:F516,0)","v":38},{"$f":"DATEDIF(F516,D516,\"Y\")","v":35},{"$f":"DATEDIF(F516,D516,\"YD\")","v":240},{"$f":"D516-F516","v":13024},{"$f":"\"MRS \"&TEXT(J516,\"00000\")&\" \"&SUBSTITUTE(C516,\":\",\"\")&\" (\"&TEXT(D516,\"TT.MM.JJJJ\")&\") - \"&E516&\" (\"&TEXT(F516,\"TT.MM.JJJJ\")&\") \"&H516&\"-\"&I516","v":"MRS 13024 Kinds of Kindness (04.07.2024) - Emma Stone (06.11.1988) 35-240"}]
["tt5083738","nm1297015",{"$f":"_xlfn.XLOOKUP($A517,_xlfn.CHOOSECOLS(_xlfn.ANCHORARRAY(Filme!$G$1),2),_xlfn.CHOOSECOLS(_xlfn.ANCHORARRAY(Filme!$G$1),3),\"\",0,2)","v":"The Favourite"},{"$f":"_xlfn.XLOOKUP($A517,_xlfn.CHOOSECOLS(_xlfn.ANCHORARRAY(Filme!$G$1),2),_xlfn.CHOOSECOLS(_xlfn.ANCHORARRAY(Filme!$G$1),4),\"\",0,2)","v":"2019-01-24"},{"$f":"_xlfn.XLOOKUP($B517,_xlfn.CHOOSECOLS(_xlfn.ANCHORARRAY(Leute!$F$1),2),_xlfn.CHOOSECOLS(_xlfn.ANCHORARRAY(Leute!$F$1),3),\"x\",0,2)","v":"Emma Stone"},{"$f":"_xlfn.XLOOKUP($B517,_xlfn.CHOOSECOLS(_xlfn.ANCHORARRAY(Leute!$F$1),2),_xlfn.CHOOSECOLS(_xlfn.ANCHORARRAY(Leute!$F$1),4),\"x\",0,2)","v":"1988-11-06"},{"$f":"RANK(F517,F$1:F517,0)","v":38},{"$f":"DATEDIF(F517,D517,\"Y\")","v":30},{"$f":"DATEDIF(F517,D517,\"YD\")","v":79},{"$f":"D517-F517","v":11036},{"$f":"\"MRS \"&TEXT(J517,\"00000\")&\" \"&SUBSTITUTE(C517,\":\",\"\")&\" (\"&TEXT(D517,\"TT.MM.JJJJ\")&\") - \"&E517&\" (\"&TEXT(F517,\"TT.MM.JJJJ\")&\") \"&H517&\"-\"&I517","v":"MRS 11036 The Favourite (24.01.2019) - Emma Stone (06.11.1988) 30-79"}]
["tt0409847","nm1312575",{"$f":"_xlfn.XLOOKUP($A518,_xlfn.CHOOSECOLS(_xlfn.ANCHORARRAY(Filme!$G$1),2),_xlfn.CHOOSECOLS(_xlfn.ANCHORARRAY(Filme!$G$1),3),\"\",0,2)","v":"Cowboys & Aliens"},{"$f":"_xlfn.XLOOKUP($A518,_xlfn.CHOOSECOLS(_xlfn.ANCHORARRAY(Filme!$G$1),2),_xlfn.CHOOSECOLS(_xlfn.ANCHORARRAY(Filme!$G$1),4),\"\",0,2)","v":"2011-08-25"},{"$f":"_xlfn.XLOOKUP($B518,_xlfn.CHOOSECOLS(_xlfn.ANCHORARRAY(Leute!$F$1),2),_xlfn.CHOOSECOLS(_xlfn.ANCHORARRAY(Leute!$F$1),3),\"x\",0,2)","v":"Olivia Wilde"},{"$f":"_xlfn.XLOOKUP($B518,_xlfn.CHOOSECOLS(_xlfn.ANCHORARRAY(Leute!$F$1),2),_xlfn.CHOOSECOLS(_xlfn.ANCHORARRAY(Leute!$F$1),4),\"x\",0,2)","v":"1984-03-10"},{"$f":"RANK(F518,F$1:F518,0)","v":70},{"$f":"DATEDIF(F518,D518,\"Y\")","v":27},{"$f":"DATEDIF(F518,D518,\"YD\")","v":168},{"$f":"D518-F518","v":10029},{"$f":"\"MRS \"&TEXT(J518,\"00000\")&\" \"&SUBSTITUTE(C518,\":\",\"\")&\" (\"&TEXT(D518,\"TT.MM.JJJJ\")&\") - \"&E518&\" (\"&TEXT(F518,\"TT.MM.JJJJ\")&\") \"&H518&\"-\"&I518","v":"MRS 10029 Cowboys & Aliens (25.08.2011) - Olivia Wilde (10.03.1984) 27-168"}]
["tt0426883","nm1312575",{"$f":"_xlfn.XLOOKUP($A519,_xlfn.CHOOSECOLS(_xlfn.ANCHORARRAY(Filme!$G$1),2),_xlfn.CHOOSECOLS(_xlfn.ANCHORARRAY(Filme!$G$1),3),\"\",0,2)","v":"Alpha Dog"},{"$f":"_xlfn.XLOOKUP($A519,_xlfn.CHOOSECOLS(_xlfn.ANCHORARRAY(Filme!$G$1),2),_xlfn.CHOOSECOLS(_xlfn.ANCHORARRAY(Filme!$G$1),4),\"\",0,2)","v":"2007-03-22"},{"$f":"_xlfn.XLOOKUP($B519,_xlfn.CHOOSECOLS(_xlfn.ANCHORARRAY(Leute!$F$1),2),_xlfn.CHOOSECOLS(_xlfn.ANCHORARRAY(Leute!$F$1),3),\"x\",0,2)","v":"Olivia Wilde"},{"$f":"_xlfn.XLOOKUP($B519,_xlfn.CHOOSECOLS(_xlfn.ANCHORARRAY(Leute!$F$1),2),_xlfn.CHOOSECOLS(_xlfn.ANCHORARRAY(Leute!$F$1),4),\"x\",0,2)","v":"1984-03-10"},{"$f":"RANK(F519,F$1:F519,0)","v":70},{"$f":"DATEDIF(F519,D519,\"Y\")","v":23},{"$f":"DATEDIF(F519,D519,\"YD\")","v":12},{"$f":"D519-F519","v":8412},{"$f":"\"MRS \"&TEXT(J519,\"00000\")&\" \"&SUBSTITUTE(C519,\":\",\"\")&\" (\"&TEXT(D519,\"TT.MM.JJJJ\")&\") - \"&E519&\" (\"&TEXT(F519,\"TT.MM.JJJJ\")&\") \"&H519&\"-\"&I519","v":"MRS 08412 Alpha Dog (22.03.2007) - Olivia Wilde (10.03.1984) 23-12"}]
["tt1667310","nm1312575",{"$f":"_xlfn.XLOOKUP($A520,_xlfn.CHOOSECOLS(_xlfn.ANCHORARRAY(Filme!$G$1),2),_xlfn.CHOOSECOLS(_xlfn.ANCHORARRAY(Filme!$G$1),3),\"\",0,2)","v":"Deadfall"},{"$f":"_xlfn.XLOOKUP($A520,_xlfn.CHOOSECOLS(_xlfn.ANCHORARRAY(Filme!$G$1),2),_xlfn.CHOOSECOLS(_xlfn.ANCHORARRAY(Filme!$G$1),4),\"\",0,2)","v":"2012-11-22"},{"$f":"_xlfn.XLOOKUP($B520,_xlfn.CHOOSECOLS(_xlfn.ANCHORARRAY(Leute!$F$1),2),_xlfn.CHOOSECOLS(_xlfn.ANCHORARRAY(Leute!$F$1),3),\"x\",0,2)","v":"Olivia Wilde"},{"$f":"_xlfn.XLOOKUP($B520,_xlfn.CHOOSECOLS(_xlfn.ANCHORARRAY(Leute!$F$1),2),_xlfn.CHOOSECOLS(_xlfn.ANCHORARRAY(Leute!$F$1),4),\"x\",0,2)","v":"1984-03-10"},{"$f":"RANK(F520,F$1:F520,0)","v":70},{"$f":"DATEDIF(F520,D520,\"Y\")","v":28},{"$f":"DATEDIF(F520,D520,\"YD\")","v":257},{"$f":"D520-F520","v":10484},{"$f":"\"MRS \"&TEXT(J520,\"00000\")&\" \"&SUBSTITUTE(C520,\":\",\"\")&\" (\"&TEXT(D520,\"TT.MM.JJJJ\")&\") - \"&E520&\" (\"&TEXT(F520,\"TT.MM.JJJJ\")&\") \"&H520&\"-\"&I520","v":"MRS 10484 Deadfall (22.11.2012) - Olivia Wilde (10.03.1984) 28-257"}]
["tt2265398","nm1312575",{"$f":"_xlfn.XLOOKUP($A521,_xlfn.CHOOSECOLS(_xlfn.ANCHORARRAY(Filme!$G$1),2),_xlfn.CHOOSECOLS(_xlfn.ANCHORARRAY(Filme!$G$1),3),\"\",0,2)","v":"Drinking Buddies"},{"$f":"_xlfn.XLOOKUP($A521,_xlfn.CHOOSECOLS(_xlfn.ANCHORARRAY(Filme!$G$1),2),_xlfn.CHOOSECOLS(_xlfn.ANCHORARRAY(Filme!$G$1),4),\"\",0,2)","v":"2013-07-25"},{"$f":"_xlfn.XLOOKUP($B521,_xlfn.CHOOSECOLS(_xlfn.ANCHORARRAY(Leute!$F$1),2),_xlfn.CHOOSECOLS(_xlfn.ANCHORARRAY(Leute!$F$1),3),\"x\",0,2)","v":"Olivia Wilde"},{"$f":"_xlfn.XLOOKUP($B521,_xlfn.CHOOSECOLS(_xlfn.ANCHORARRAY(Leute!$F$1),2),_xlfn.CHOOSECOLS(_xlfn.ANCHORARRAY(Leute!$F$1),4),\"x\",0,2)","v":"1984-03-10"},{"$f":"RANK(F521,F$1:F521,0)","v":70},{"$f":"DATEDIF(F521,D521,\"Y\")","v":29},{"$f":"DATEDIF(F521,D521,\"YD\")","v":137},{"$f":"D521-F521","v":10729},{"$f":"\"MRS \"&TEXT(J521,\"00000\")&\" \"&SUBSTITUTE(C521,\":\",\"\")&\" (\"&TEXT(D521,\"TT.MM.JJJJ\")&\") - \"&E521&\" (\"&TEXT(F521,\"TT.MM.JJJJ\")&\") \"&H521&\"-\"&I521","v":"MRS 10729 Drinking Buddies (25.07.2013) - Olivia Wilde (10.03.1984) 29-137"}]
["tt2343793","nm1312575",{"$f":"_xlfn.XLOOKUP($A522,_xlfn.CHOOSECOLS(_xlfn.ANCHORARRAY(Filme!$G$1),2),_xlfn.CHOOSECOLS(_xlfn.ANCHORARRAY(Filme!$G$1),3),\"\",0,2)","v":"Third Person"},{"$f":"_xlfn.XLOOKUP($A522,_xlfn.CHOOSECOLS(_xlfn.ANCHORARRAY(Filme!$G$1),2),_xlfn.CHOOSECOLS(_xlfn.ANCHORARRAY(Filme!$G$1),4),\"\",0,2)","v":"2014-12-04"},{"$f":"_xlfn.XLOOKUP($B522,_xlfn.CHOOSECOLS(_xlfn.ANCHORARRAY(Leute!$F$1),2),_xlfn.CHOOSECOLS(_xlfn.ANCHORARRAY(Leute!$F$1),3),\"x\",0,2)","v":"Olivia Wilde"},{"$f":"_xlfn.XLOOKUP($B522,_xlfn.CHOOSECOLS(_xlfn.ANCHORARRAY(Leute!$F$1),2),_xlfn.CHOOSECOLS(_xlfn.ANCHORARRAY(Leute!$F$1),4),\"x\",0,2)","v":"1984-03-10"},{"$f":"RANK(F522,F$1:F522,0)","v":70},{"$f":"DATEDIF(F522,D522,\"Y\")","v":30},{"$f":"DATEDIF(F522,D522,\"YD\")","v":269},{"$f":"D522-F522","v":11226},{"$f":"\"MRS \"&TEXT(J522,\"00000\")&\" \"&SUBSTITUTE(C522,\":\",\"\")&\" (\"&TEXT(D522,\"TT.MM.JJJJ\")&\") - \"&E522&\" (\"&TEXT(F522,\"TT.MM.JJJJ\")&\") \"&H522&\"-\"&I522","v":"MRS 11226 Third Person (04.12.2014) - Olivia Wilde (10.03.1984) 30-269"}]
["tt3529656","nm1312575",{"$f":"_xlfn.XLOOKUP($A523,_xlfn.CHOOSECOLS(_xlfn.ANCHORARRAY(Filme!$G$1),2),_xlfn.CHOOSECOLS(_xlfn.ANCHORARRAY(Filme!$G$1),3),\"\",0,2)","v":"Meadowland"},{"$f":"_xlfn.XLOOKUP($A523,_xlfn.CHOOSECOLS(_xlfn.ANCHORARRAY(Filme!$G$1),2),_xlfn.CHOOSECOLS(_xlfn.ANCHORARRAY(Filme!$G$1),4),\"\",0,2)","v":"2015-10-23"},{"$f":"_xlfn.XLOOKUP($B523,_xlfn.CHOOSECOLS(_xlfn.ANCHORARRAY(Leute!$F$1),2),_xlfn.CHOOSECOLS(_xlfn.ANCHORARRAY(Leute!$F$1),3),\"x\",0,2)","v":"Olivia Wilde"},{"$f":"_xlfn.XLOOKUP($B523,_xlfn.CHOOSECOLS(_xlfn.ANCHORARRAY(Leute!$F$1),2),_xlfn.CHOOSECOLS(_xlfn.ANCHORARRAY(Leute!$F$1),4),\"x\",0,2)","v":"1984-03-10"},{"$f":"RANK(F523,F$1:F523,0)","v":70},{"$f":"DATEDIF(F523,D523,\"Y\")","v":31},{"$f":"DATEDIF(F523,D523,\"YD\")","v":227},{"$f":"D523-F523","v":11549},{"$f":"\"MRS \"&TEXT(J523,\"00000\")&\" \"&SUBSTITUTE(C523,\":\",\"\")&\" (\"&TEXT(D523,\"TT.MM.JJJJ\")&\") - \"&E523&\" (\"&TEXT(F523,\"TT.MM.JJJJ\")&\") \"&H523&\"-\"&I523","v":"MRS 11549 Meadowland (23.10.2015) - Olivia Wilde (10.03.1984) 31-227"}]
["tt4307670","nm1312575",{"$f":"_xlfn.XLOOKUP($A524,_xlfn.CHOOSECOLS(_xlfn.ANCHORARRAY(Filme!$G$1),2),_xlfn.CHOOSECOLS(_xlfn.ANCHORARRAY(Filme!$G$1),3),\"\",0,2)","v":"Vinyl"},{"$f":"_xlfn.XLOOKUP($A524,_xlfn.CHOOSECOLS(_xlfn.ANCHORARRAY(Filme!$G$1),2),_xlfn.CHOOSECOLS(_xlfn.ANCHORARRAY(Filme!$G$1),4),\"\",0,2)","v":"2016-02-28"},{"$f":"_xlfn.XLOOKUP($B524,_xlfn.CHOOSECOLS(_xlfn.ANCHORARRAY(Leute!$F$1),2),_xlfn.CHOOSECOLS(_xlfn.ANCHORARRAY(Leute!$F$1),3),\"x\",0,2)","v":"Olivia Wilde"},{"$f":"_xlfn.XLOOKUP($B524,_xlfn.CHOOSECOLS(_xlfn.ANCHORARRAY(Leute!$F$1),2),_xlfn.CHOOSECOLS(_xlfn.ANCHORARRAY(Leute!$F$1),4),\"x\",0,2)","v":"1984-03-10"},{"$f":"RANK(F524,F$1:F524,0)","v":70},{"$f":"DATEDIF(F524,D524,\"Y\")","v":31},{"$f":"DATEDIF(F524,D524,\"YD\")","v":355},{"$f":"D524-F524","v":11677},{"$f":"\"MRS \"&TEXT(J524,\"00000\")&\" \"&SUBSTITUTE(C524,\":\",\"\")&\" (\"&TEXT(D524,\"TT.MM.JJJJ\")&\") - \"&E524&\" (\"&TEXT(F524,\"TT.MM.JJJJ\")&\") \"&H524&\"-\"&I524","v":"MRS 11677 Vinyl (28.02.2016) - Olivia Wilde (10.03.1984) 31-355"}]
["tt4283372","nm1330324",{"$f":"_xlfn.XLOOKUP($A525,_xlfn.CHOOSECOLS(_xlfn.ANCHORARRAY(Filme!$G$1),2),_xlfn.CHOOSECOLS(_xlfn.ANCHORARRAY(Filme!$G$1),3),\"\",0,2)","v":"Tut"},{"$f":"_xlfn.XLOOKUP($A525,_xlfn.CHOOSECOLS(_xlfn.ANCHORARRAY(Filme!$G$1),2),_xlfn.CHOOSECOLS(_xlfn.ANCHORARRAY(Filme!$G$1),4),\"\",0,2)","v":"2015-08-28"},{"$f":"_xlfn.XLOOKUP($B525,_xlfn.CHOOSECOLS(_xlfn.ANCHORARRAY(Leute!$F$1),2),_xlfn.CHOOSECOLS(_xlfn.ANCHORARRAY(Leute!$F$1),3),\"x\",0,2)","v":"Sibylla Deen"},{"$f":"_xlfn.XLOOKUP($B525,_xlfn.CHOOSECOLS(_xlfn.ANCHORARRAY(Leute!$F$1),2),_xlfn.CHOOSECOLS(_xlfn.ANCHORARRAY(Leute!$F$1),4),\"x\",0,2)","v":"1982-11-12"},{"$f":"RANK(F525,F$1:F525,0)","v":83},{"$f":"DATEDIF(F525,D525,\"Y\")","v":32},{"$f":"DATEDIF(F525,D525,\"YD\")","v":289},{"$f":"D525-F525","v":11977},{"$f":"\"MRS \"&TEXT(J525,\"00000\")&\" \"&SUBSTITUTE(C525,\":\",\"\")&\" (\"&TEXT(D525,\"TT.MM.JJJJ\")&\") - \"&E525&\" (\"&TEXT(F525,\"TT.MM.JJJJ\")&\") \"&H525&\"-\"&I525","v":"MRS 11977 Tut (28.08.2015) - Sibylla Deen (12.11.1982) 32-289"}]
["tt0963794","nm1377561",{"$f":"_xlfn.XLOOKUP($A526,_xlfn.CHOOSECOLS(_xlfn.ANCHORARRAY(Filme!$G$1),2),_xlfn.CHOOSECOLS(_xlfn.ANCHORARRAY(Filme!$G$1),3),\"\",0,2)","v":"The Ruins"},{"$f":"_xlfn.XLOOKUP($A526,_xlfn.CHOOSECOLS(_xlfn.ANCHORARRAY(Filme!$G$1),2),_xlfn.CHOOSECOLS(_xlfn.ANCHORARRAY(Filme!$G$1),4),\"\",0,2)","v":"2008-06-26"},{"$f":"_xlfn.XLOOKUP($B526,_xlfn.CHOOSECOLS(_xlfn.ANCHORARRAY(Leute!$F$1),2),_xlfn.CHOOSECOLS(_xlfn.ANCHORARRAY(Leute!$F$1),3),\"x\",0,2)","v":"Laura Ramsey"},{"$f":"_xlfn.XLOOKUP($B526,_xlfn.CHOOSECOLS(_xlfn.ANCHORARRAY(Leute!$F$1),2),_xlfn.CHOOSECOLS(_xlfn.ANCHORARRAY(Leute!$F$1),4),\"x\",0,2)","v":"1982-11-14"},{"$f":"RANK(F526,F$1:F526,0)","v":83},{"$f":"DATEDIF(F526,D526,\"Y\")","v":25},{"$f":"DATEDIF(F526,D526,\"YD\")","v":224},{"$f":"D526-F526","v":9356},{"$f":"\"MRS \"&TEXT(J526,\"00000\")&\" \"&SUBSTITUTE(C526,\":\",\"\")&\" (\"&TEXT(D526,\"TT.MM.JJJJ\")&\") - \"&E526&\" (\"&TEXT(F526,\"TT.MM.JJJJ\")&\") \"&H526&\"-\"&I526","v":"MRS 09356 The Ruins (26.06.2008) - Laura Ramsey (14.11.1982) 25-224"}]
["tt1416801","nm1377561",{"$f":"_xlfn.XLOOKUP($A527,_xlfn.CHOOSECOLS(_xlfn.ANCHORARRAY(Filme!$G$1),2),_xlfn.CHOOSECOLS(_xlfn.ANCHORARRAY(Filme!$G$1),3),\"\",0,2)","v":"Kill the Irishman"},{"$f":"_xlfn.XLOOKUP($A527,_xlfn.CHOOSECOLS(_xlfn.ANCHORARRAY(Filme!$G$1),2),_xlfn.CHOOSECOLS(_xlfn.ANCHORARRAY(Filme!$G$1),4),\"\",0,2)","v":"2012-05-11"},{"$f":"_xlfn.XLOOKUP($B527,_xlfn.CHOOSECOLS(_xlfn.ANCHORARRAY(Leute!$F$1),2),_xlfn.CHOOSECOLS(_xlfn.ANCHORARRAY(Leute!$F$1),3),\"x\",0,2)","v":"Laura Ramsey"},{"$f":"_xlfn.XLOOKUP($B527,_xlfn.CHOOSECOLS(_xlfn.ANCHORARRAY(Leute!$F$1),2),_xlfn.CHOOSECOLS(_xlfn.ANCHORARRAY(Leute!$F$1),4),\"x\",0,2)","v":"1982-11-14"},{"$f":"RANK(F527,F$1:F527,0)","v":83},{"$f":"DATEDIF(F527,D527,\"Y\")","v":29},{"$f":"DATEDIF(F527,D527,\"YD\")","v":178},{"$f":"D527-F527","v":10771},{"$f":"\"MRS \"&TEXT(J527,\"00000\")&\" \"&SUBSTITUTE(C527,\":\",\"\")&\" (\"&TEXT(D527,\"TT.MM.JJJJ\")&\") - \"&E527&\" (\"&TEXT(F527,\"TT.MM.JJJJ\")&\") \"&H527&\"-\"&I527","v":"MRS 10771 Kill the Irishman (11.05.2012) - Laura Ramsey (14.11.1982) 29-178"}]
["tt1421051","nm1377561",{"$f":"_xlfn.XLOOKUP($A528,_xlfn.CHOOSECOLS(_xlfn.ANCHORARRAY(Filme!$G$1),2),_xlfn.CHOOSECOLS(_xlfn.ANCHORARRAY(Filme!$G$1),3),\"\",0,2)","v":"Somewhere"},{"$f":"_xlfn.XLOOKUP($A528,_xlfn.CHOOSECOLS(_xlfn.ANCHORARRAY(Filme!$G$1),2),_xlfn.CHOOSECOLS(_xlfn.ANCHORARRAY(Filme!$G$1),4),\"\",0,2)","v":"2010-11-11"},{"$f":"_xlfn.XLOOKUP($B528,_xlfn.CHOOSECOLS(_xlfn.ANCHORARRAY(Leute!$F$1),2),_xlfn.CHOOSECOLS(_xlfn.ANCHORARRAY(Leute!$F$1),3),\"x\",0,2)","v":"Laura Ramsey"},{"$f":"_xlfn.XLOOKUP($B528,_xlfn.CHOOSECOLS(_xlfn.ANCHORARRAY(Leute!$F$1),2),_xlfn.CHOOSECOLS(_xlfn.ANCHORARRAY(Leute!$F$1),4),\"x\",0,2)","v":"1982-11-14"},{"$f":"RANK(F528,F$1:F528,0)","v":83},{"$f":"DATEDIF(F528,D528,\"Y\")","v":27},{"$f":"DATEDIF(F528,D528,\"YD\")","v":362},{"$f":"D528-F528","v":10224},{"$f":"\"MRS \"&TEXT(J528,\"00000\")&\" \"&SUBSTITUTE(C528,\":\",\"\")&\" (\"&TEXT(D528,\"TT.MM.JJJJ\")&\") - \"&E528&\" (\"&TEXT(F528,\"TT.MM.JJJJ\")&\") \"&H528&\"-\"&I528","v":"MRS 10224 Somewhere (11.11.2010) - Laura Ramsey (14.11.1982) 27-362"}]
["tt1523987","nm1377561",{"$f":"_xlfn.XLOOKUP($A529,_xlfn.CHOOSECOLS(_xlfn.ANCHORARRAY(Filme!$G$1),2),_xlfn.CHOOSECOLS(_xlfn.ANCHORARRAY(Filme!$G$1),3),\"\",0,2)","v":"1 Out of 7"},{"$f":"_xlfn.XLOOKUP($A529,_xlfn.CHOOSECOLS(_xlfn.ANCHORARRAY(Filme!$G$1),2),_xlfn.CHOOSECOLS(_xlfn.ANCHORARRAY(Filme!$G$1),4),\"\",0,2)","v":"2012-03-09"},{"$f":"_xlfn.XLOOKUP($B529,_xlfn.CHOOSECOLS(_xlfn.ANCHORARRAY(Leute!$F$1),2),_xlfn.CHOOSECOLS(_xlfn.ANCHORARRAY(Leute!$F$1),3),\"x\",0,2)","v":"Laura Ramsey"},{"$f":"_xlfn.XLOOKUP($B529,_xlfn.CHOOSECOLS(_xlfn.ANCHORARRAY(Leute!$F$1),2),_xlfn.CHOOSECOLS(_xlfn.ANCHORARRAY(Leute!$F$1),4),\"x\",0,2)","v":"1982-11-14"},{"$f":"RANK(F529,F$1:F529,0)","v":83},{"$f":"DATEDIF(F529,D529,\"Y\")","v":29},{"$f":"DATEDIF(F529,D529,\"YD\")","v":116},{"$f":"D529-F529","v":10708},{"$f":"\"MRS \"&TEXT(J529,\"00000\")&\" \"&SUBSTITUTE(C529,\":\",\"\")&\" (\"&TEXT(D529,\"TT.MM.JJJJ\")&\") - \"&E529&\" (\"&TEXT(F529,\"TT.MM.JJJJ\")&\") \"&H529&\"-\"&I529","v":"MRS 10708 1 Out of 7 (09.03.2012) - Laura Ramsey (14.11.1982) 29-116"}]
["tt1545754","nm1377561",{"$f":"_xlfn.XLOOKUP($A530,_xlfn.CHOOSECOLS(_xlfn.ANCHORARRAY(Filme!$G$1),2),_xlfn.CHOOSECOLS(_xlfn.ANCHORARRAY(Filme!$G$1),3),\"\",0,2)","v":"Are You Here"},{"$f":"_xlfn.XLOOKUP($A530,_xlfn.CHOOSECOLS(_xlfn.ANCHORARRAY(Filme!$G$1),2),_xlfn.CHOOSECOLS(_xlfn.ANCHORARRAY(Filme!$G$1),4),\"\",0,2)","v":"2014-08-22"},{"$f":"_xlfn.XLOOKUP($B530,_xlfn.CHOOSECOLS(_xlfn.ANCHORARRAY(Leute!$F$1),2),_xlfn.CHOOSECOLS(_xlfn.ANCHORARRAY(Leute!$F$1),3),\"x\",0,2)","v":"Laura Ramsey"},{"$f":"_xlfn.XLOOKUP($B530,_xlfn.CHOOSECOLS(_xlfn.ANCHORARRAY(Leute!$F$1),2),_xlfn.CHOOSECOLS(_xlfn.ANCHORARRAY(Leute!$F$1),4),\"x\",0,2)","v":"1982-11-14"},{"$f":"RANK(F530,F$1:F530,0)","v":83},{"$f":"DATEDIF(F530,D530,\"Y\")","v":31},{"$f":"DATEDIF(F530,D530,\"YD\")","v":281},{"$f":"D530-F530","v":11604},{"$f":"\"MRS \"&TEXT(J530,\"00000\")&\" \"&SUBSTITUTE(C530,\":\",\"\")&\" (\"&TEXT(D530,\"TT.MM.JJJJ\")&\") - \"&E530&\" (\"&TEXT(F530,\"TT.MM.JJJJ\")&\") \"&H530&\"-\"&I530","v":"MRS 11604 Are You Here (22.08.2014) - Laura Ramsey (14.11.1982) 31-281"}]
["tt1763264","nm1377561",{"$f":"_xlfn.XLOOKUP($A531,_xlfn.CHOOSECOLS(_xlfn.ANCHORARRAY(Filme!$G$1),2),_xlfn.CHOOSECOLS(_xlfn.ANCHORARRAY(Filme!$G$1),3),\"\",0,2)","v":"No One Lives"},{"$f":"_xlfn.XLOOKUP($A531,_xlfn.CHOOSECOLS(_xlfn.ANCHORARRAY(Filme!$G$1),2),_xlfn.CHOOSECOLS(_xlfn.ANCHORARRAY(Filme!$G$1),4),\"\",0,2)","v":"2013-08-30"},{"$f":"_xlfn.XLOOKUP($B531,_xlfn.CHOOSECOLS(_xlfn.ANCHORARRAY(Leute!$F$1),2),_xlfn.CHOOSECOLS(_xlfn.ANCHORARRAY(Leute!$F$1),3),\"x\",0,2)","v":"Laura Ramsey"},{"$f":"_xlfn.XLOOKUP($B531,_xlfn.CHOOSECOLS(_xlfn.ANCHORARRAY(Leute!$F$1),2),_xlfn.CHOOSECOLS(_xlfn.ANCHORARRAY(Leute!$F$1),4),\"x\",0,2)","v":"1982-11-14"},{"$f":"RANK(F531,F$1:F531,0)","v":83},{"$f":"DATEDIF(F531,D531,\"Y\")","v":30},{"$f":"DATEDIF(F531,D531,\"YD\")","v":289},{"$f":"D531-F531","v":11247},{"$f":"\"MRS \"&TEXT(J531,\"00000\")&\" \"&SUBSTITUTE(C531,\":\",\"\")&\" (\"&TEXT(D531,\"TT.MM.JJJJ\")&\") - \"&E531&\" (\"&TEXT(F531,\"TT.MM.JJJJ\")&\") \"&H531&\"-\"&I531","v":"MRS 11247 No One Lives (30.08.2013) - Laura Ramsey (14.11.1982) 30-289"}]
["tt0411117","nm1385871",{"$f":"_xlfn.XLOOKUP($A532,_xlfn.CHOOSECOLS(_xlfn.ANCHORARRAY(Filme!$G$1),2),_xlfn.CHOOSECOLS(_xlfn.ANCHORARRAY(Filme!$G$1),3),\"\",0,2)","v":"L'annulaire"},{"$f":"_xlfn.XLOOKUP($A532,_xlfn.CHOOSECOLS(_xlfn.ANCHORARRAY(Filme!$G$1),2),_xlfn.CHOOSECOLS(_xlfn.ANCHORARRAY(Filme!$G$1),4),\"\",0,2)","v":"2005-06-08"},{"$f":"_xlfn.XLOOKUP($B532,_xlfn.CHOOSECOLS(_xlfn.ANCHORARRAY(Leute!$F$1),2),_xlfn.CHOOSECOLS(_xlfn.ANCHORARRAY(Leute!$F$1),3),\"x\",0,2)","v":"Olga Kurylenko"},{"$f":"_xlfn.XLOOKUP($B532,_xlfn.CHOOSECOLS(_xlfn.ANCHORARRAY(Leute!$F$1),2),_xlfn.CHOOSECOLS(_xlfn.ANCHORARRAY(Leute!$F$1),4),\"x\",0,2)","v":"1979-11-14"},{"$f":"RANK(F532,F$1:F532,0)","v":137},{"$f":"DATEDIF(F532,D532,\"Y\")","v":25},{"$f":"DATEDIF(F532,D532,\"YD\")","v":207},{"$f":"D532-F532","v":9338},{"$f":"\"MRS \"&TEXT(J532,\"00000\")&\" \"&SUBSTITUTE(C532,\":\",\"\")&\" (\"&TEXT(D532,\"TT.MM.JJJJ\")&\") - \"&E532&\" (\"&TEXT(F532,\"TT.MM.JJJJ\")&\") \"&H532&\"-\"&I532","v":"MRS 09338 L'annulaire (08.06.2005) - Olga Kurylenko (14.11.1979) 25-207"}]
["tt0465494","nm1385871",{"$f":"_xlfn.XLOOKUP($A533,_xlfn.CHOOSECOLS(_xlfn.ANCHORARRAY(Filme!$G$1),2),_xlfn.CHOOSECOLS(_xlfn.ANCHORARRAY(Filme!$G$1),3),\"\",0,2)","v":"Hitman"},{"$f":"_xlfn.XLOOKUP($A533,_xlfn.CHOOSECOLS(_xlfn.ANCHORARRAY(Filme!$G$1),2),_xlfn.CHOOSECOLS(_xlfn.ANCHORARRAY(Filme!$G$1),4),\"\",0,2)","v":"2007-12-13"},{"$f":"_xlfn.XLOOKUP($B533,_xlfn.CHOOSECOLS(_xlfn.ANCHORARRAY(Leute!$F$1),2),_xlfn.CHOOSECOLS(_xlfn.ANCHORARRAY(Leute!$F$1),3),\"x\",0,2)","v":"Olga Kurylenko"},{"$f":"_xlfn.XLOOKUP($B533,_xlfn.CHOOSECOLS(_xlfn.ANCHORARRAY(Leute!$F$1),2),_xlfn.CHOOSECOLS(_xlfn.ANCHORARRAY(Leute!$F$1),4),\"x\",0,2)","v":"1979-11-14"},{"$f":"RANK(F533,F$1:F533,0)","v":137},{"$f":"DATEDIF(F533,D533,\"Y\")","v":28},{"$f":"DATEDIF(F533,D533,\"YD\")","v":29},{"$f":"D533-F533","v":10256},{"$f":"\"MRS \"&TEXT(J533,\"00000\")&\" \"&SUBSTITUTE(C533,\":\",\"\")&\" (\"&TEXT(D533,\"TT.MM.JJJJ\")&\") - \"&E533&\" (\"&TEXT(F533,\"TT.MM.JJJJ\")&\") \"&H533&\"-\"&I533","v":"MRS 10256 Hitman (13.12.2007) - Olga Kurylenko (14.11.1979) 28-29"}]
["tt0486474","nm1385871",{"$f":"_xlfn.XLOOKUP($A534,_xlfn.CHOOSECOLS(_xlfn.ANCHORARRAY(Filme!$G$1),2),_xlfn.CHOOSECOLS(_xlfn.ANCHORARRAY(Filme!$G$1),3),\"\",0,2)","v":"Le serpent"},{"$f":"_xlfn.XLOOKUP($A534,_xlfn.CHOOSECOLS(_xlfn.ANCHORARRAY(Filme!$G$1),2),_xlfn.CHOOSECOLS(_xlfn.ANCHORARRAY(Filme!$G$1),4),\"\",0,2)","v":"2007-01-10"},{"$f":"_xlfn.XLOOKUP($B534,_xlfn.CHOOSECOLS(_xlfn.ANCHORARRAY(Leute!$F$1),2),_xlfn.CHOOSECOLS(_xlfn.ANCHORARRAY(Leute!$F$1),3),\"x\",0,2)","v":"Olga Kurylenko"},{"$f":"_xlfn.XLOOKUP($B534,_xlfn.CHOOSECOLS(_xlfn.ANCHORARRAY(Leute!$F$1),2),_xlfn.CHOOSECOLS(_xlfn.ANCHORARRAY(Leute!$F$1),4),\"x\",0,2)","v":"1979-11-14"},{"$f":"RANK(F534,F$1:F534,0)","v":137},{"$f":"DATEDIF(F534,D534,\"Y\")","v":27},{"$f":"DATEDIF(F534,D534,\"YD\")","v":57},{"$f":"D534-F534","v":9919},{"$f":"\"MRS \"&TEXT(J534,\"00000\")&\" \"&SUBSTITUTE(C534,\":\",\"\")&\" (\"&TEXT(D534,\"TT.MM.JJJJ\")&\") - \"&E534&\" (\"&TEXT(F534,\"TT.MM.JJJJ\")&\") \"&H534&\"-\"&I534","v":"MRS 09919 Le serpent (10.01.2007) - Olga Kurylenko (14.11.1979) 27-57"}]
["tt11734264","nm1385871",{"$f":"_xlfn.XLOOKUP($A535,_xlfn.CHOOSECOLS(_xlfn.ANCHORARRAY(Filme!$G$1),2),_xlfn.CHOOSECOLS(_xlfn.ANCHORARRAY(Filme!$G$1),3),\"\",0,2)","v":"Sentinelle"},{"$f":"_xlfn.XLOOKUP($A535,_xlfn.CHOOSECOLS(_xlfn.ANCHORARRAY(Filme!$G$1),2),_xlfn.CHOOSECOLS(_xlfn.ANCHORARRAY(Filme!$G$1),4),\"\",0,2)","v":"2021-03-05"},{"$f":"_xlfn.XLOOKUP($B535,_xlfn.CHOOSECOLS(_xlfn.ANCHORARRAY(Leute!$F$1),2),_xlfn.CHOOSECOLS(_xlfn.ANCHORARRAY(Leute!$F$1),3),\"x\",0,2)","v":"Olga Kurylenko"},{"$f":"_xlfn.XLOOKUP($B535,_xlfn.CHOOSECOLS(_xlfn.ANCHORARRAY(Leute!$F$1),2),_xlfn.CHOOSECOLS(_xlfn.ANCHORARRAY(Leute!$F$1),4),\"x\",0,2)","v":"1979-11-14"},{"$f":"RANK(F535,F$1:F535,0)","v":137},{"$f":"DATEDIF(F535,D535,\"Y\")","v":41},{"$f":"DATEDIF(F535,D535,\"YD\")","v":111},{"$f":"D535-F535","v":15087},{"$f":"\"MRS \"&TEXT(J535,\"00000\")&\" \"&SUBSTITUTE(C535,\":\",\"\")&\" (\"&TEXT(D535,\"TT.MM.JJJJ\")&\") - \"&E535&\" (\"&TEXT(F535,\"TT.MM.JJJJ\")&\") \"&H535&\"-\"&I535","v":"MRS 15087 Sentinelle (05.03.2021) - Olga Kurylenko (14.11.1979) 41-111"}]
["tt11777690","nm1385871",{"$f":"_xlfn.XLOOKUP($A536,_xlfn.CHOOSECOLS(_xlfn.ANCHORARRAY(Filme!$G$1),2),_xlfn.CHOOSECOLS(_xlfn.ANCHORARRAY(Filme!$G$1),3),\"\",0,2)","v":"Romance"},{"$f":"_xlfn.XLOOKUP($A536,_xlfn.CHOOSECOLS(_xlfn.ANCHORARRAY(Filme!$G$1),2),_xlfn.CHOOSECOLS(_xlfn.ANCHORARRAY(Filme!$G$1),4),\"\",0,2)","v":"2020-06-05"},{"$f":"_xlfn.XLOOKUP($B536,_xlfn.CHOOSECOLS(_xlfn.ANCHORARRAY(Leute!$F$1),2),_xlfn.CHOOSECOLS(_xlfn.ANCHORARRAY(Leute!$F$1),3),\"x\",0,2)","v":"Olga Kurylenko"},{"$f":"_xlfn.XLOOKUP($B536,_xlfn.CHOOSECOLS(_xlfn.ANCHORARRAY(Leute!$F$1),2),_xlfn.CHOOSECOLS(_xlfn.ANCHORARRAY(Leute!$F$1),4),\"x\",0,2)","v":"1979-11-14"},{"$f":"RANK(F536,F$1:F536,0)","v":137},{"$f":"DATEDIF(F536,D536,\"Y\")","v":40},{"$f":"DATEDIF(F536,D536,\"YD\")","v":204},{"$f":"D536-F536","v":14814},{"$f":"\"MRS \"&TEXT(J536,\"00000\")&\" \"&SUBSTITUTE(C536,\":\",\"\")&\" (\"&TEXT(D536,\"TT.MM.JJJJ\")&\") - \"&E536&\" (\"&TEXT(F536,\"TT.MM.JJJJ\")&\") \"&H536&\"-\"&I536","v":"MRS 14814 Romance (05.06.2020) - Olga Kurylenko (14.11.1979) 40-204"}]
["tt1198153","nm1385871",{"$f":"_xlfn.XLOOKUP($A537,_xlfn.CHOOSECOLS(_xlfn.ANCHORARRAY(Filme!$G$1),2),_xlfn.CHOOSECOLS(_xlfn.ANCHORARRAY(Filme!$G$1),3),\"\",0,2)","v":"Kirot"},{"$f":"_xlfn.XLOOKUP($A537,_xlfn.CHOOSECOLS(_xlfn.ANCHORARRAY(Filme!$G$1),2),_xlfn.CHOOSECOLS(_xlfn.ANCHORARRAY(Filme!$G$1),4),\"\",0,2)","v":"2009-12-03"},{"$f":"_xlfn.XLOOKUP($B537,_xlfn.CHOOSECOLS(_xlfn.ANCHORARRAY(Leute!$F$1),2),_xlfn.CHOOSECOLS(_xlfn.ANCHORARRAY(Leute!$F$1),3),\"x\",0,2)","v":"Olga Kurylenko"},{"$f":"_xlfn.XLOOKUP($B537,_xlfn.CHOOSECOLS(_xlfn.ANCHORARRAY(Leute!$F$1),2),_xlfn.CHOOSECOLS(_xlfn.ANCHORARRAY(Leute!$F$1),4),\"x\",0,2)","v":"1979-11-14"},{"$f":"RANK(F537,F$1:F537,0)","v":137},{"$f":"DATEDIF(F537,D537,\"Y\")","v":30},{"$f":"DATEDIF(F537,D537,\"YD\")","v":19},{"$f":"D537-F537","v":10977},{"$f":"\"MRS \"&TEXT(J537,\"00000\")&\" \"&SUBSTITUTE(C537,\":\",\"\")&\" (\"&TEXT(D537,\"TT.MM.JJJJ\")&\") - \"&E537&\" (\"&TEXT(F537,\"TT.MM.JJJJ\")&\") \"&H537&\"-\"&I537","v":"MRS 10977 Kirot (03.12.2009) - Olga Kurylenko (14.11.1979) 30-19"}]
["tt1595656","nm1385871",{"$f":"_xlfn.XLOOKUP($A538,_xlfn.CHOOSECOLS(_xlfn.ANCHORARRAY(Filme!$G$1),2),_xlfn.CHOOSECOLS(_xlfn.ANCHORARRAY(Filme!$G$1),3),\"\",0,2)","v":"To the Wonder"},{"$f":"_xlfn.XLOOKUP($A538,_xlfn.CHOOSECOLS(_xlfn.ANCHORARRAY(Filme!$G$1),2),_xlfn.CHOOSECOLS(_xlfn.ANCHORARRAY(Filme!$G$1),4),\"\",0,2)","v":"2013-05-30"},{"$f":"_xlfn.XLOOKUP($B538,_xlfn.CHOOSECOLS(_xlfn.ANCHORARRAY(Leute!$F$1),2),_xlfn.CHOOSECOLS(_xlfn.ANCHORARRAY(Leute!$F$1),3),\"x\",0,2)","v":"Olga Kurylenko"},{"$f":"_xlfn.XLOOKUP($B538,_xlfn.CHOOSECOLS(_xlfn.ANCHORARRAY(Leute!$F$1),2),_xlfn.CHOOSECOLS(_xlfn.ANCHORARRAY(Leute!$F$1),4),\"x\",0,2)","v":"1979-11-14"},{"$f":"RANK(F538,F$1:F538,0)","v":137},{"$f":"DATEDIF(F538,D538,\"Y\")","v":33},{"$f":"DATEDIF(F538,D538,\"YD\")","v":198},{"$f":"D538-F538","v":12251},{"$f":"\"MRS \"&TEXT(J538,\"00000\")&\" \"&SUBSTITUTE(C538,\":\",\"\")&\" (\"&TEXT(D538,\"TT.MM.JJJJ\")&\") - \"&E538&\" (\"&TEXT(F538,\"TT.MM.JJJJ\")&\") \"&H538&\"-\"&I538","v":"MRS 12251 To the Wonder (30.05.2013) - Olga Kurylenko (14.11.1979) 33-198"}]
["tt1960549","nm1385871",{"$f":"_xlfn.XLOOKUP($A539,_xlfn.CHOOSECOLS(_xlfn.ANCHORARRAY(Filme!$G$1),2),_xlfn.CHOOSECOLS(_xlfn.ANCHORARRAY(Filme!$G$1),3),\"\",0,2)","v":"Magic City"},{"$f":"_xlfn.XLOOKUP($A539,_xlfn.CHOOSECOLS(_xlfn.ANCHORARRAY(Filme!$G$1),2),_xlfn.CHOOSECOLS(_xlfn.ANCHORARRAY(Filme!$G$1),4),\"\",0,2)","v":"2012-09-30"},{"$f":"_xlfn.XLOOKUP($B539,_xlfn.CHOOSECOLS(_xlfn.ANCHORARRAY(Leute!$F$1),2),_xlfn.CHOOSECOLS(_xlfn.ANCHORARRAY(Leute!$F$1),3),\"x\",0,2)","v":"Olga Kurylenko"},{"$f":"_xlfn.XLOOKUP($B539,_xlfn.CHOOSECOLS(_xlfn.ANCHORARRAY(Leute!$F$1),2),_xlfn.CHOOSECOLS(_xlfn.ANCHORARRAY(Leute!$F$1),4),\"x\",0,2)","v":"1979-11-14"},{"$f":"RANK(F539,F$1:F539,0)","v":137},{"$f":"DATEDIF(F539,D539,\"Y\")","v":32},{"$f":"DATEDIF(F539,D539,\"YD\")","v":321},{"$f":"D539-F539","v":12009},{"$f":"\"MRS \"&TEXT(J539,\"00000\")&\" \"&SUBSTITUTE(C539,\":\",\"\")&\" (\"&TEXT(D539,\"TT.MM.JJJJ\")&\") - \"&E539&\" (\"&TEXT(F539,\"TT.MM.JJJJ\")&\") \"&H539&\"-\"&I539","v":"MRS 12009 Magic City (30.09.2012) - Olga Kurylenko (14.11.1979) 32-321"}]
["tt3530978","nm1385871",{"$f":"_xlfn.XLOOKUP($A540,_xlfn.CHOOSECOLS(_xlfn.ANCHORARRAY(Filme!$G$1),2),_xlfn.CHOOSECOLS(_xlfn.ANCHORARRAY(Filme!$G$1),3),\"\",0,2)","v":"La corrispondenza"},{"$f":"_xlfn.XLOOKUP($A540,_xlfn.CHOOSECOLS(_xlfn.ANCHORARRAY(Filme!$G$1),2),_xlfn.CHOOSECOLS(_xlfn.ANCHORARRAY(Filme!$G$1),4),\"\",0,2)","v":"2016-01-14"},{"$f":"_xlfn.XLOOKUP($B540,_xlfn.CHOOSECOLS(_xlfn.ANCHORARRAY(Leute!$F$1),2),_xlfn.CHOOSECOLS(_xlfn.ANCHORARRAY(Leute!$F$1),3),\"x\",0,2)","v":"Olga Kurylenko"},{"$f":"_xlfn.XLOOKUP($B540,_xlfn.CHOOSECOLS(_xlfn.ANCHORARRAY(Leute!$F$1),2),_xlfn.CHOOSECOLS(_xlfn.ANCHORARRAY(Leute!$F$1),4),\"x\",0,2)","v":"1979-11-14"},{"$f":"RANK(F540,F$1:F540,0)","v":137},{"$f":"DATEDIF(F540,D540,\"Y\")","v":36},{"$f":"DATEDIF(F540,D540,\"YD\")","v":61},{"$f":"D540-F540","v":13210},{"$f":"\"MRS \"&TEXT(J540,\"00000\")&\" \"&SUBSTITUTE(C540,\":\",\"\")&\" (\"&TEXT(D540,\"TT.MM.JJJJ\")&\") - \"&E540&\" (\"&TEXT(F540,\"TT.MM.JJJJ\")&\") \"&H540&\"-\"&I540","v":"MRS 13210 La corrispondenza (14.01.2016) - Olga Kurylenko (14.11.1979) 36-61"}]
["tt8485364","nm1385871",{"$f":"_xlfn.XLOOKUP($A541,_xlfn.CHOOSECOLS(_xlfn.ANCHORARRAY(Filme!$G$1),2),_xlfn.CHOOSECOLS(_xlfn.ANCHORARRAY(Filme!$G$1),3),\"\",0,2)","v":"The Room"},{"$f":"_xlfn.XLOOKUP($A541,_xlfn.CHOOSECOLS(_xlfn.ANCHORARRAY(Filme!$G$1),2),_xlfn.CHOOSECOLS(_xlfn.ANCHORARRAY(Filme!$G$1),4),\"\",0,2)","v":"2019-11-06"},{"$f":"_xlfn.XLOOKUP($B541,_xlfn.CHOOSECOLS(_xlfn.ANCHORARRAY(Leute!$F$1),2),_xlfn.CHOOSECOLS(_xlfn.ANCHORARRAY(Leute!$F$1),3),\"x\",0,2)","v":"Olga Kurylenko"},{"$f":"_xlfn.XLOOKUP($B541,_xlfn.CHOOSECOLS(_xlfn.ANCHORARRAY(Leute!$F$1),2),_xlfn.CHOOSECOLS(_xlfn.ANCHORARRAY(Leute!$F$1),4),\"x\",0,2)","v":"1979-11-14"},{"$f":"RANK(F541,F$1:F541,0)","v":137},{"$f":"DATEDIF(F541,D541,\"Y\")","v":39},{"$f":"DATEDIF(F541,D541,\"YD\")","v":358},{"$f":"D541-F541","v":14602},{"$f":"\"MRS \"&TEXT(J541,\"00000\")&\" \"&SUBSTITUTE(C541,\":\",\"\")&\" (\"&TEXT(D541,\"TT.MM.JJJJ\")&\") - \"&E541&\" (\"&TEXT(F541,\"TT.MM.JJJJ\")&\") \"&H541&\"-\"&I541","v":"MRS 14602 The Room (06.11.2019) - Olga Kurylenko (14.11.1979) 39-358"}]
["tt0488085","nm1404408",{"$f":"_xlfn.XLOOKUP($A542,_xlfn.CHOOSECOLS(_xlfn.ANCHORARRAY(Filme!$G$1),2),_xlfn.CHOOSECOLS(_xlfn.ANCHORARRAY(Filme!$G$1),3),\"\",0,2)","v":"Big Nothing"},{"$f":"_xlfn.XLOOKUP($A542,_xlfn.CHOOSECOLS(_xlfn.ANCHORARRAY(Filme!$G$1),2),_xlfn.CHOOSECOLS(_xlfn.ANCHORARRAY(Filme!$G$1),4),\"\",0,2)","v":"2006-12-01"},{"$f":"_xlfn.XLOOKUP($B542,_xlfn.CHOOSECOLS(_xlfn.ANCHORARRAY(Leute!$F$1),2),_xlfn.CHOOSECOLS(_xlfn.ANCHORARRAY(Leute!$F$1),3),\"x\",0,2)","v":"Alice Eve"},{"$f":"_xlfn.XLOOKUP($B542,_xlfn.CHOOSECOLS(_xlfn.ANCHORARRAY(Leute!$F$1),2),_xlfn.CHOOSECOLS(_xlfn.ANCHORARRAY(Leute!$F$1),4),\"x\",0,2)","v":"1982-02-06"},{"$f":"RANK(F542,F$1:F542,0)","v":99},{"$f":"DATEDIF(F542,D542,\"Y\")","v":24},{"$f":"DATEDIF(F542,D542,\"YD\")","v":298},{"$f":"D542-F542","v":9064},{"$f":"\"MRS \"&TEXT(J542,\"00000\")&\" \"&SUBSTITUTE(C542,\":\",\"\")&\" (\"&TEXT(D542,\"TT.MM.JJJJ\")&\") - \"&E542&\" (\"&TEXT(F542,\"TT.MM.JJJJ\")&\") \"&H542&\"-\"&I542","v":"MRS 09064 Big Nothing (01.12.2006) - Alice Eve (06.02.1982) 24-298"}]
["tt0924129","nm1404408",{"$f":"_xlfn.XLOOKUP($A543,_xlfn.CHOOSECOLS(_xlfn.ANCHORARRAY(Filme!$G$1),2),_xlfn.CHOOSECOLS(_xlfn.ANCHORARRAY(Filme!$G$1),3),\"\",0,2)","v":"Crossing Over"},{"$f":"_xlfn.XLOOKUP($A543,_xlfn.CHOOSECOLS(_xlfn.ANCHORARRAY(Filme!$G$1),2),_xlfn.CHOOSECOLS(_xlfn.ANCHORARRAY(Filme!$G$1),4),\"\",0,2)","v":"2009-06-25"},{"$f":"_xlfn.XLOOKUP($B543,_xlfn.CHOOSECOLS(_xlfn.ANCHORARRAY(Leute!$F$1),2),_xlfn.CHOOSECOLS(_xlfn.ANCHORARRAY(Leute!$F$1),3),\"x\",0,2)","v":"Alice Eve"},{"$f":"_xlfn.XLOOKUP($B543,_xlfn.CHOOSECOLS(_xlfn.ANCHORARRAY(Leute!$F$1),2),_xlfn.CHOOSECOLS(_xlfn.ANCHORARRAY(Leute!$F$1),4),\"x\",0,2)","v":"1982-02-06"},{"$f":"RANK(F543,F$1:F543,0)","v":99},{"$f":"DATEDIF(F543,D543,\"Y\")","v":27},{"$f":"DATEDIF(F543,D543,\"YD\")","v":139},{"$f":"D543-F543","v":10001},{"$f":"\"MRS \"&TEXT(J543,\"00000\")&\" \"&SUBSTITUTE(C543,\":\",\"\")&\" (\"&TEXT(D543,\"TT.MM.JJJJ\")&\") - \"&E543&\" (\"&TEXT(F543,\"TT.MM.JJJJ\")&\") \"&H543&\"-\"&I543","v":"MRS 10001 Crossing Over (25.06.2009) - Alice Eve (06.02.1982) 27-139"}]
["tt4154916","nm1404408",{"$f":"_xlfn.XLOOKUP($A544,_xlfn.CHOOSECOLS(_xlfn.ANCHORARRAY(Filme!$G$1),2),_xlfn.CHOOSECOLS(_xlfn.ANCHORARRAY(Filme!$G$1),3),\"\",0,2)","v":"Replicas"},{"$f":"_xlfn.XLOOKUP($A544,_xlfn.CHOOSECOLS(_xlfn.ANCHORARRAY(Filme!$G$1),2),_xlfn.CHOOSECOLS(_xlfn.ANCHORARRAY(Filme!$G$1),4),\"\",0,2)","v":"2018-11-23"},{"$f":"_xlfn.XLOOKUP($B544,_xlfn.CHOOSECOLS(_xlfn.ANCHORARRAY(Leute!$F$1),2),_xlfn.CHOOSECOLS(_xlfn.ANCHORARRAY(Leute!$F$1),3),\"x\",0,2)","v":"Alice Eve"},{"$f":"_xlfn.XLOOKUP($B544,_xlfn.CHOOSECOLS(_xlfn.ANCHORARRAY(Leute!$F$1),2),_xlfn.CHOOSECOLS(_xlfn.ANCHORARRAY(Leute!$F$1),4),\"x\",0,2)","v":"1982-02-06"},{"$f":"RANK(F544,F$1:F544,0)","v":99},{"$f":"DATEDIF(F544,D544,\"Y\")","v":36},{"$f":"DATEDIF(F544,D544,\"YD\")","v":290},{"$f":"D544-F544","v":13439},{"$f":"\"MRS \"&TEXT(J544,\"00000\")&\" \"&SUBSTITUTE(C544,\":\",\"\")&\" (\"&TEXT(D544,\"TT.MM.JJJJ\")&\") - \"&E544&\" (\"&TEXT(F544,\"TT.MM.JJJJ\")&\") \"&H544&\"-\"&I544","v":"MRS 13439 Replicas (23.11.2018) - Alice Eve (06.02.1982) 36-290"}]
["tt2505294","nm1429380",{"$f":"_xlfn.XLOOKUP($A545,_xlfn.CHOOSECOLS(_xlfn.ANCHORARRAY(Filme!$G$1),2),_xlfn.CHOOSECOLS(_xlfn.ANCHORARRAY(Filme!$G$1),3),\"\",0,2)","v":"Ask Me Anything"},{"$f":"_xlfn.XLOOKUP($A545,_xlfn.CHOOSECOLS(_xlfn.ANCHORARRAY(Filme!$G$1),2),_xlfn.CHOOSECOLS(_xlfn.ANCHORARRAY(Filme!$G$1),4),\"\",0,2)","v":"2020-04-02"},{"$f":"_xlfn.XLOOKUP($B545,_xlfn.CHOOSECOLS(_xlfn.ANCHORARRAY(Leute!$F$1),2),_xlfn.CHOOSECOLS(_xlfn.ANCHORARRAY(Leute!$F$1),3),\"x\",0,2)","v":"Britt Robertson"},{"$f":"_xlfn.XLOOKUP($B545,_xlfn.CHOOSECOLS(_xlfn.ANCHORARRAY(Leute!$F$1),2),_xlfn.CHOOSECOLS(_xlfn.ANCHORARRAY(Leute!$F$1),4),\"x\",0,2)","v":"1990-04-18"},{"$f":"RANK(F545,F$1:F545,0)","v":10},{"$f":"DATEDIF(F545,D545,\"Y\")","v":29},{"$f":"DATEDIF(F545,D545,\"YD\")","v":349},{"$f":"D545-F545","v":10942},{"$f":"\"MRS \"&TEXT(J545,\"00000\")&\" \"&SUBSTITUTE(C545,\":\",\"\")&\" (\"&TEXT(D545,\"TT.MM.JJJJ\")&\") - \"&E545&\" (\"&TEXT(F545,\"TT.MM.JJJJ\")&\") \"&H545&\"-\"&I545","v":"MRS 10942 Ask Me Anything (02.04.2020) - Britt Robertson (18.04.1990) 29-349"}]
["tt2726560","nm1429380",{"$f":"_xlfn.XLOOKUP($A546,_xlfn.CHOOSECOLS(_xlfn.ANCHORARRAY(Filme!$G$1),2),_xlfn.CHOOSECOLS(_xlfn.ANCHORARRAY(Filme!$G$1),3),\"\",0,2)","v":"The Longest Ride"},{"$f":"_xlfn.XLOOKUP($A546,_xlfn.CHOOSECOLS(_xlfn.ANCHORARRAY(Filme!$G$1),2),_xlfn.CHOOSECOLS(_xlfn.ANCHORARRAY(Filme!$G$1),4),\"\",0,2)","v":"2015-04-30"},{"$f":"_xlfn.XLOOKUP($B546,_xlfn.CHOOSECOLS(_xlfn.ANCHORARRAY(Leute!$F$1),2),_xlfn.CHOOSECOLS(_xlfn.ANCHORARRAY(Leute!$F$1),3),\"x\",0,2)","v":"Britt Robertson"},{"$f":"_xlfn.XLOOKUP($B546,_xlfn.CHOOSECOLS(_xlfn.ANCHORARRAY(Leute!$F$1),2),_xlfn.CHOOSECOLS(_xlfn.ANCHORARRAY(Leute!$F$1),4),\"x\",0,2)","v":"1990-04-18"},{"$f":"RANK(F546,F$1:F546,0)","v":10},{"$f":"DATEDIF(F546,D546,\"Y\")","v":25},{"$f":"DATEDIF(F546,D546,\"YD\")","v":12},{"$f":"D546-F546","v":9143},{"$f":"\"MRS \"&TEXT(J546,\"00000\")&\" \"&SUBSTITUTE(C546,\":\",\"\")&\" (\"&TEXT(D546,\"TT.MM.JJJJ\")&\") - \"&E546&\" (\"&TEXT(F546,\"TT.MM.JJJJ\")&\") \"&H546&\"-\"&I546","v":"MRS 09143 The Longest Ride (30.04.2015) - Britt Robertson (18.04.1990) 25-12"}]
["tt0826288","nm1489978",{"$f":"_xlfn.XLOOKUP($A547,_xlfn.CHOOSECOLS(_xlfn.ANCHORARRAY(Filme!$G$1),2),_xlfn.CHOOSECOLS(_xlfn.ANCHORARRAY(Filme!$G$1),3),\"\",0,2)","v":"Blade"},{"$f":"_xlfn.XLOOKUP($A547,_xlfn.CHOOSECOLS(_xlfn.ANCHORARRAY(Filme!$G$1),2),_xlfn.CHOOSECOLS(_xlfn.ANCHORARRAY(Filme!$G$1),4),\"\",0,2)","v":"2007-07-09"},{"$f":"_xlfn.XLOOKUP($B547,_xlfn.CHOOSECOLS(_xlfn.ANCHORARRAY(Leute!$F$1),2),_xlfn.CHOOSECOLS(_xlfn.ANCHORARRAY(Leute!$F$1),3),\"x\",0,2)","v":"Jill Wagner"},{"$f":"_xlfn.XLOOKUP($B547,_xlfn.CHOOSECOLS(_xlfn.ANCHORARRAY(Leute!$F$1),2),_xlfn.CHOOSECOLS(_xlfn.ANCHORARRAY(Leute!$F$1),4),\"x\",0,2)","v":"1979-01-13"},{"$f":"RANK(F547,F$1:F547,0)","v":164},{"$f":"DATEDIF(F547,D547,\"Y\")","v":28},{"$f":"DATEDIF(F547,D547,\"YD\")","v":177},{"$f":"D547-F547","v":10404},{"$f":"\"MRS \"&TEXT(J547,\"00000\")&\" \"&SUBSTITUTE(C547,\":\",\"\")&\" (\"&TEXT(D547,\"TT.MM.JJJJ\")&\") - \"&E547&\" (\"&TEXT(F547,\"TT.MM.JJJJ\")&\") \"&H547&\"-\"&I547","v":"MRS 10404 Blade (09.07.2007) - Jill Wagner (13.01.1979) 28-177"}]
["tt33336389","nm1489978",{"$f":"_xlfn.XLOOKUP($A548,_xlfn.CHOOSECOLS(_xlfn.ANCHORARRAY(Filme!$G$1),2),_xlfn.CHOOSECOLS(_xlfn.ANCHORARRAY(Filme!$G$1),3),\"\",0,2)","v":"Lioness"},{"$f":"_xlfn.XLOOKUP($A548,_xlfn.CHOOSECOLS(_xlfn.ANCHORARRAY(Filme!$G$1),2),_xlfn.CHOOSECOLS(_xlfn.ANCHORARRAY(Filme!$G$1),4),\"\",0,2)","v":"2024-11-10"},{"$f":"_xlfn.XLOOKUP($B548,_xlfn.CHOOSECOLS(_xlfn.ANCHORARRAY(Leute!$F$1),2),_xlfn.CHOOSECOLS(_xlfn.ANCHORARRAY(Leute!$F$1),3),\"x\",0,2)","v":"Jill Wagner"},{"$f":"_xlfn.XLOOKUP($B548,_xlfn.CHOOSECOLS(_xlfn.ANCHORARRAY(Leute!$F$1),2),_xlfn.CHOOSECOLS(_xlfn.ANCHORARRAY(Leute!$F$1),4),\"x\",0,2)","v":"1979-01-13"},{"$f":"RANK(F548,F$1:F548,0)","v":164},{"$f":"DATEDIF(F548,D548,\"Y\")","v":45},{"$f":"DATEDIF(F548,D548,\"YD\")","v":301},{"$f":"D548-F548","v":16738},{"$f":"\"MRS \"&TEXT(J548,\"00000\")&\" \"&SUBSTITUTE(C548,\":\",\"\")&\" (\"&TEXT(D548,\"TT.MM.JJJJ\")&\") - \"&E548&\" (\"&TEXT(F548,\"TT.MM.JJJJ\")&\") \"&H548&\"-\"&I548","v":"MRS 16738 Lioness (10.11.2024) - Jill Wagner (13.01.1979) 45-301"}]
["tt11687002","nm1519680",{"$f":"_xlfn.XLOOKUP($A549,_xlfn.CHOOSECOLS(_xlfn.ANCHORARRAY(Filme!$G$1),2),_xlfn.CHOOSECOLS(_xlfn.ANCHORARRAY(Filme!$G$1),3),\"\",0,2)","v":"The Outrun"},{"$f":"_xlfn.XLOOKUP($A549,_xlfn.CHOOSECOLS(_xlfn.ANCHORARRAY(Filme!$G$1),2),_xlfn.CHOOSECOLS(_xlfn.ANCHORARRAY(Filme!$G$1),4),\"\",0,2)","v":"2024-12-05"},{"$f":"_xlfn.XLOOKUP($B549,_xlfn.CHOOSECOLS(_xlfn.ANCHORARRAY(Leute!$F$1),2),_xlfn.CHOOSECOLS(_xlfn.ANCHORARRAY(Leute!$F$1),3),\"x\",0,2)","v":"Saoirse Ronan"},{"$f":"_xlfn.XLOOKUP($B549,_xlfn.CHOOSECOLS(_xlfn.ANCHORARRAY(Leute!$F$1),2),_xlfn.CHOOSECOLS(_xlfn.ANCHORARRAY(Leute!$F$1),4),\"x\",0,2)","v":"1994-04-12"},{"$f":"RANK(F549,F$1:F549,0)","v":1},{"$f":"DATEDIF(F549,D549,\"Y\")","v":30},{"$f":"DATEDIF(F549,D549,\"YD\")","v":237},{"$f":"D549-F549","v":11195},{"$f":"\"MRS \"&TEXT(J549,\"00000\")&\" \"&SUBSTITUTE(C549,\":\",\"\")&\" (\"&TEXT(D549,\"TT.MM.JJJJ\")&\") - \"&E549&\" (\"&TEXT(F549,\"TT.MM.JJJJ\")&\") \"&H549&\"-\"&I549","v":"MRS 11195 The Outrun (05.12.2024) - Saoirse Ronan (12.04.1994) 30-237"}]
["tt7983894","nm1519680",{"$f":"_xlfn.XLOOKUP($A550,_xlfn.CHOOSECOLS(_xlfn.ANCHORARRAY(Filme!$G$1),2),_xlfn.CHOOSECOLS(_xlfn.ANCHORARRAY(Filme!$G$1),3),\"\",0,2)","v":"Ammonite"},{"$f":"_xlfn.XLOOKUP($A550,_xlfn.CHOOSECOLS(_xlfn.ANCHORARRAY(Filme!$G$1),2),_xlfn.CHOOSECOLS(_xlfn.ANCHORARRAY(Filme!$G$1),4),\"\",0,2)","v":"2021-11-04"},{"$f":"_xlfn.XLOOKUP($B550,_xlfn.CHOOSECOLS(_xlfn.ANCHORARRAY(Leute!$F$1),2),_xlfn.CHOOSECOLS(_xlfn.ANCHORARRAY(Leute!$F$1),3),\"x\",0,2)","v":"Saoirse Ronan"},{"$f":"_xlfn.XLOOKUP($B550,_xlfn.CHOOSECOLS(_xlfn.ANCHORARRAY(Leute!$F$1),2),_xlfn.CHOOSECOLS(_xlfn.ANCHORARRAY(Leute!$F$1),4),\"x\",0,2)","v":"1994-04-12"},{"$f":"RANK(F550,F$1:F550,0)","v":1},{"$f":"DATEDIF(F550,D550,\"Y\")","v":27},{"$f":"DATEDIF(F550,D550,\"YD\")","v":206},{"$f":"D550-F550","v":10068},{"$f":"\"MRS \"&TEXT(J550,\"00000\")&\" \"&SUBSTITUTE(C550,\":\",\"\")&\" (\"&TEXT(D550,\"TT.MM.JJJJ\")&\") - \"&E550&\" (\"&TEXT(F550,\"TT.MM.JJJJ\")&\") \"&H550&\"-\"&I550","v":"MRS 10068 Ammonite (04.11.2021) - Saoirse Ronan (12.04.1994) 27-206"}]
["tt8258502","nm1519680",{"$f":"_xlfn.XLOOKUP($A551,_xlfn.CHOOSECOLS(_xlfn.ANCHORARRAY(Filme!$G$1),2),_xlfn.CHOOSECOLS(_xlfn.ANCHORARRAY(Filme!$G$1),3),\"\",0,2)","v":"Foe"},{"$f":"_xlfn.XLOOKUP($A551,_xlfn.CHOOSECOLS(_xlfn.ANCHORARRAY(Filme!$G$1),2),_xlfn.CHOOSECOLS(_xlfn.ANCHORARRAY(Filme!$G$1),4),\"\",0,2)","v":"2024-01-05"},{"$f":"_xlfn.XLOOKUP($B551,_xlfn.CHOOSECOLS(_xlfn.ANCHORARRAY(Leute!$F$1),2),_xlfn.CHOOSECOLS(_xlfn.ANCHORARRAY(Leute!$F$1),3),\"x\",0,2)","v":"Saoirse Ronan"},{"$f":"_xlfn.XLOOKUP($B551,_xlfn.CHOOSECOLS(_xlfn.ANCHORARRAY(Leute!$F$1),2),_xlfn.CHOOSECOLS(_xlfn.ANCHORARRAY(Leute!$F$1),4),\"x\",0,2)","v":"1994-04-12"},{"$f":"RANK(F551,F$1:F551,0)","v":1},{"$f":"DATEDIF(F551,D551,\"Y\")","v":29},{"$f":"DATEDIF(F551,D551,\"YD\")","v":268},{"$f":"D551-F551","v":10860},{"$f":"\"MRS \"&TEXT(J551,\"00000\")&\" \"&SUBSTITUTE(C551,\":\",\"\")&\" (\"&TEXT(D551,\"TT.MM.JJJJ\")&\") - \"&E551&\" (\"&TEXT(F551,\"TT.MM.JJJJ\")&\") \"&H551&\"-\"&I551","v":"MRS 10860 Foe (05.01.2024) - Saoirse Ronan (12.04.1994) 29-268"}]
["tt11388406","nm1555340",{"$f":"_xlfn.XLOOKUP($A552,_xlfn.CHOOSECOLS(_xlfn.ANCHORARRAY(Filme!$G$1),2),_xlfn.CHOOSECOLS(_xlfn.ANCHORARRAY(Filme!$G$1),3),\"\",0,2)","v":"Horse Girl"},{"$f":"_xlfn.XLOOKUP($A552,_xlfn.CHOOSECOLS(_xlfn.ANCHORARRAY(Filme!$G$1),2),_xlfn.CHOOSECOLS(_xlfn.ANCHORARRAY(Filme!$G$1),4),\"\",0,2)","v":"2020-02-07"},{"$f":"_xlfn.XLOOKUP($B552,_xlfn.CHOOSECOLS(_xlfn.ANCHORARRAY(Leute!$F$1),2),_xlfn.CHOOSECOLS(_xlfn.ANCHORARRAY(Leute!$F$1),3),\"x\",0,2)","v":"Alison Brie"},{"$f":"_xlfn.XLOOKUP($B552,_xlfn.CHOOSECOLS(_xlfn.ANCHORARRAY(Leute!$F$1),2),_xlfn.CHOOSECOLS(_xlfn.ANCHORARRAY(Leute!$F$1),4),\"x\",0,2)","v":"1982-12-29"},{"$f":"RANK(F552,F$1:F552,0)","v":88},{"$f":"DATEDIF(F552,D552,\"Y\")","v":37},{"$f":"DATEDIF(F552,D552,\"YD\")","v":40},{"$f":"D552-F552","v":13554},{"$f":"\"MRS \"&TEXT(J552,\"00000\")&\" \"&SUBSTITUTE(C552,\":\",\"\")&\" (\"&TEXT(D552,\"TT.MM.JJJJ\")&\") - \"&E552&\" (\"&TEXT(F552,\"TT.MM.JJJJ\")&\") \"&H552&\"-\"&I552","v":"MRS 13554 Horse Girl (07.02.2020) - Alison Brie (29.12.1982) 37-40"}]
["tt15333984","nm1555340",{"$f":"_xlfn.XLOOKUP($A553,_xlfn.CHOOSECOLS(_xlfn.ANCHORARRAY(Filme!$G$1),2),_xlfn.CHOOSECOLS(_xlfn.ANCHORARRAY(Filme!$G$1),3),\"\",0,2)","v":"Somebody I Used to Know"},{"$f":"_xlfn.XLOOKUP($A553,_xlfn.CHOOSECOLS(_xlfn.ANCHORARRAY(Filme!$G$1),2),_xlfn.CHOOSECOLS(_xlfn.ANCHORARRAY(Filme!$G$1),4),\"\",0,2)","v":"2023-02-10"},{"$f":"_xlfn.XLOOKUP($B553,_xlfn.CHOOSECOLS(_xlfn.ANCHORARRAY(Leute!$F$1),2),_xlfn.CHOOSECOLS(_xlfn.ANCHORARRAY(Leute!$F$1),3),\"x\",0,2)","v":"Alison Brie"},{"$f":"_xlfn.XLOOKUP($B553,_xlfn.CHOOSECOLS(_xlfn.ANCHORARRAY(Leute!$F$1),2),_xlfn.CHOOSECOLS(_xlfn.ANCHORARRAY(Leute!$F$1),4),\"x\",0,2)","v":"1982-12-29"},{"$f":"RANK(F553,F$1:F553,0)","v":88},{"$f":"DATEDIF(F553,D553,\"Y\")","v":40},{"$f":"DATEDIF(F553,D553,\"YD\")","v":43},{"$f":"D553-F553","v":14653},{"$f":"\"MRS \"&TEXT(J553,\"00000\")&\" \"&SUBSTITUTE(C553,\":\",\"\")&\" (\"&TEXT(D553,\"TT.MM.JJJJ\")&\") - \"&E553&\" (\"&TEXT(F553,\"TT.MM.JJJJ\")&\") \"&H553&\"-\"&I553","v":"MRS 14653 Somebody I Used to Know (10.02.2023) - Alison Brie (29.12.1982) 40-43"}]
["tt6016432","nm1555340",{"$f":"_xlfn.XLOOKUP($A554,_xlfn.CHOOSECOLS(_xlfn.ANCHORARRAY(Filme!$G$1),2),_xlfn.CHOOSECOLS(_xlfn.ANCHORARRAY(Filme!$G$1),3),\"\",0,2)","v":"GLOW"},{"$f":"_xlfn.XLOOKUP($A554,_xlfn.CHOOSECOLS(_xlfn.ANCHORARRAY(Filme!$G$1),2),_xlfn.CHOOSECOLS(_xlfn.ANCHORARRAY(Filme!$G$1),4),\"\",0,2)","v":"2017-06-23"},{"$f":"_xlfn.XLOOKUP($B554,_xlfn.CHOOSECOLS(_xlfn.ANCHORARRAY(Leute!$F$1),2),_xlfn.CHOOSECOLS(_xlfn.ANCHORARRAY(Leute!$F$1),3),\"x\",0,2)","v":"Alison Brie"},{"$f":"_xlfn.XLOOKUP($B554,_xlfn.CHOOSECOLS(_xlfn.ANCHORARRAY(Leute!$F$1),2),_xlfn.CHOOSECOLS(_xlfn.ANCHORARRAY(Leute!$F$1),4),\"x\",0,2)","v":"1982-12-29"},{"$f":"RANK(F554,F$1:F554,0)","v":88},{"$f":"DATEDIF(F554,D554,\"Y\")","v":34},{"$f":"DATEDIF(F554,D554,\"YD\")","v":176},{"$f":"D554-F554","v":12595},{"$f":"\"MRS \"&TEXT(J554,\"00000\")&\" \"&SUBSTITUTE(C554,\":\",\"\")&\" (\"&TEXT(D554,\"TT.MM.JJJJ\")&\") - \"&E554&\" (\"&TEXT(F554,\"TT.MM.JJJJ\")&\") \"&H554&\"-\"&I554","v":"MRS 12595 GLOW (23.06.2017) - Alison Brie (29.12.1982) 34-176"}]
["tt0867334","nm1567113",{"$f":"_xlfn.XLOOKUP($A555,_xlfn.CHOOSECOLS(_xlfn.ANCHORARRAY(Filme!$G$1),2),_xlfn.CHOOSECOLS(_xlfn.ANCHORARRAY(Filme!$G$1),3),\"\",0,2)","v":"Jolene"},{"$f":"_xlfn.XLOOKUP($A555,_xlfn.CHOOSECOLS(_xlfn.ANCHORARRAY(Filme!$G$1),2),_xlfn.CHOOSECOLS(_xlfn.ANCHORARRAY(Filme!$G$1),4),\"\",0,2)","v":"2008-06-13"},{"$f":"_xlfn.XLOOKUP($B555,_xlfn.CHOOSECOLS(_xlfn.ANCHORARRAY(Leute!$F$1),2),_xlfn.CHOOSECOLS(_xlfn.ANCHORARRAY(Leute!$F$1),3),\"x\",0,2)","v":"Jessica Chastain"},{"$f":"_xlfn.XLOOKUP($B555,_xlfn.CHOOSECOLS(_xlfn.ANCHORARRAY(Leute!$F$1),2),_xlfn.CHOOSECOLS(_xlfn.ANCHORARRAY(Leute!$F$1),4),\"x\",0,2)","v":"1977-03-24"},{"$f":"RANK(F555,F$1:F555,0)","v":202},{"$f":"DATEDIF(F555,D555,\"Y\")","v":31},{"$f":"DATEDIF(F555,D555,\"YD\")","v":81},{"$f":"D555-F555","v":11404},{"$f":"\"MRS \"&TEXT(J555,\"00000\")&\" \"&SUBSTITUTE(C555,\":\",\"\")&\" (\"&TEXT(D555,\"TT.MM.JJJJ\")&\") - \"&E555&\" (\"&TEXT(F555,\"TT.MM.JJJJ\")&\") \"&H555&\"-\"&I555","v":"MRS 11404 Jolene (13.06.2008) - Jessica Chastain (24.03.1977) 31-81"}]
["tt1212450","nm1567113",{"$f":"_xlfn.XLOOKUP($A556,_xlfn.CHOOSECOLS(_xlfn.ANCHORARRAY(Filme!$G$1),2),_xlfn.CHOOSECOLS(_xlfn.ANCHORARRAY(Filme!$G$1),3),\"\",0,2)","v":"Lawless"},{"$f":"_xlfn.XLOOKUP($A556,_xlfn.CHOOSECOLS(_xlfn.ANCHORARRAY(Filme!$G$1),2),_xlfn.CHOOSECOLS(_xlfn.ANCHORARRAY(Filme!$G$1),4),\"\",0,2)","v":"2012-08-29"},{"$f":"_xlfn.XLOOKUP($B556,_xlfn.CHOOSECOLS(_xlfn.ANCHORARRAY(Leute!$F$1),2),_xlfn.CHOOSECOLS(_xlfn.ANCHORARRAY(Leute!$F$1),3),\"x\",0,2)","v":"Jessica Chastain"},{"$f":"_xlfn.XLOOKUP($B556,_xlfn.CHOOSECOLS(_xlfn.ANCHORARRAY(Leute!$F$1),2),_xlfn.CHOOSECOLS(_xlfn.ANCHORARRAY(Leute!$F$1),4),\"x\",0,2)","v":"1977-03-24"},{"$f":"RANK(F556,F$1:F556,0)","v":202},{"$f":"DATEDIF(F556,D556,\"Y\")","v":35},{"$f":"DATEDIF(F556,D556,\"YD\")","v":158},{"$f":"D556-F556","v":12942},{"$f":"\"MRS \"&TEXT(J556,\"00000\")&\" \"&SUBSTITUTE(C556,\":\",\"\")&\" (\"&TEXT(D556,\"TT.MM.JJJJ\")&\") - \"&E556&\" (\"&TEXT(F556,\"TT.MM.JJJJ\")&\") \"&H556&\"-\"&I556","v":"MRS 12942 Lawless (29.08.2012) - Jessica Chastain (24.03.1977) 35-158"}]
["tt14587680","nm1567113",{"$f":"_xlfn.XLOOKUP($A557,_xlfn.CHOOSECOLS(_xlfn.ANCHORARRAY(Filme!$G$1),2),_xlfn.CHOOSECOLS(_xlfn.ANCHORARRAY(Filme!$G$1),3),\"\",0,2)","v":"Scenes from a Marriage"},{"$f":"_xlfn.XLOOKUP($A557,_xlfn.CHOOSECOLS(_xlfn.ANCHORARRAY(Filme!$G$1),2),_xlfn.CHOOSECOLS(_xlfn.ANCHORARRAY(Filme!$G$1),4),\"\",0,2)","v":"2021-09-19"},{"$f":"_xlfn.XLOOKUP($B557,_xlfn.CHOOSECOLS(_xlfn.ANCHORARRAY(Leute!$F$1),2),_xlfn.CHOOSECOLS(_xlfn.ANCHORARRAY(Leute!$F$1),3),\"x\",0,2)","v":"Jessica Chastain"},{"$f":"_xlfn.XLOOKUP($B557,_xlfn.CHOOSECOLS(_xlfn.ANCHORARRAY(Leute!$F$1),2),_xlfn.CHOOSECOLS(_xlfn.ANCHORARRAY(Leute!$F$1),4),\"x\",0,2)","v":"1977-03-24"},{"$f":"RANK(F557,F$1:F557,0)","v":202},{"$f":"DATEDIF(F557,D557,\"Y\")","v":44},{"$f":"DATEDIF(F557,D557,\"YD\")","v":179},{"$f":"D557-F557","v":16250},{"$f":"\"MRS \"&TEXT(J557,\"00000\")&\" \"&SUBSTITUTE(C557,\":\",\"\")&\" (\"&TEXT(D557,\"TT.MM.JJJJ\")&\") - \"&E557&\" (\"&TEXT(F557,\"TT.MM.JJJJ\")&\") \"&H557&\"-\"&I557","v":"MRS 16250 Scenes from a Marriage (19.09.2021) - Jessica Chastain (24.03.1977) 44-179"}]
["tt16375606","nm1567113",{"$f":"_xlfn.XLOOKUP($A558,_xlfn.CHOOSECOLS(_xlfn.ANCHORARRAY(Filme!$G$1),2),_xlfn.CHOOSECOLS(_xlfn.ANCHORARRAY(Filme!$G$1),3),\"\",0,2)","v":"George & Tammy"},{"$f":"_xlfn.XLOOKUP($A558,_xlfn.CHOOSECOLS(_xlfn.ANCHORARRAY(Filme!$G$1),2),_xlfn.CHOOSECOLS(_xlfn.ANCHORARRAY(Filme!$G$1),4),\"\",0,2)","v":"2022-12-11"},{"$f":"_xlfn.XLOOKUP($B558,_xlfn.CHOOSECOLS(_xlfn.ANCHORARRAY(Leute!$F$1),2),_xlfn.CHOOSECOLS(_xlfn.ANCHORARRAY(Leute!$F$1),3),\"x\",0,2)","v":"Jessica Chastain"},{"$f":"_xlfn.XLOOKUP($B558,_xlfn.CHOOSECOLS(_xlfn.ANCHORARRAY(Leute!$F$1),2),_xlfn.CHOOSECOLS(_xlfn.ANCHORARRAY(Leute!$F$1),4),\"x\",0,2)","v":"1977-03-24"},{"$f":"RANK(F558,F$1:F558,0)","v":202},{"$f":"DATEDIF(F558,D558,\"Y\")","v":45},{"$f":"DATEDIF(F558,D558,\"YD\")","v":262},{"$f":"D558-F558","v":16698},{"$f":"\"MRS \"&TEXT(J558,\"00000\")&\" \"&SUBSTITUTE(C558,\":\",\"\")&\" (\"&TEXT(D558,\"TT.MM.JJJJ\")&\") - \"&E558&\" (\"&TEXT(F558,\"TT.MM.JJJJ\")&\") \"&H558&\"-\"&I558","v":"MRS 16698 George & Tammy (11.12.2022) - Jessica Chastain (24.03.1977) 45-262"}]
["tt1730768","nm1567113",{"$f":"_xlfn.XLOOKUP($A559,_xlfn.CHOOSECOLS(_xlfn.ANCHORARRAY(Filme!$G$1),2),_xlfn.CHOOSECOLS(_xlfn.ANCHORARRAY(Filme!$G$1),3),\"\",0,2)","v":"The Zookeeper's Wife"},{"$f":"_xlfn.XLOOKUP($A559,_xlfn.CHOOSECOLS(_xlfn.ANCHORARRAY(Filme!$G$1),2),_xlfn.CHOOSECOLS(_xlfn.ANCHORARRAY(Filme!$G$1),4),\"\",0,2)","v":"2017-03-30"},{"$f":"_xlfn.XLOOKUP($B559,_xlfn.CHOOSECOLS(_xlfn.ANCHORARRAY(Leute!$F$1),2),_xlfn.CHOOSECOLS(_xlfn.ANCHORARRAY(Leute!$F$1),3),\"x\",0,2)","v":"Jessica Chastain"},{"$f":"_xlfn.XLOOKUP($B559,_xlfn.CHOOSECOLS(_xlfn.ANCHORARRAY(Leute!$F$1),2),_xlfn.CHOOSECOLS(_xlfn.ANCHORARRAY(Leute!$F$1),4),\"x\",0,2)","v":"1977-03-24"},{"$f":"RANK(F559,F$1:F559,0)","v":202},{"$f":"DATEDIF(F559,D559,\"Y\")","v":40},{"$f":"DATEDIF(F559,D559,\"YD\")","v":6},{"$f":"D559-F559","v":14616},{"$f":"\"MRS \"&TEXT(J559,\"00000\")&\" \"&SUBSTITUTE(C559,\":\",\"\")&\" (\"&TEXT(D559,\"TT.MM.JJJJ\")&\") - \"&E559&\" (\"&TEXT(F559,\"TT.MM.JJJJ\")&\") \"&H559&\"-\"&I559","v":"MRS 14616 The Zookeeper's Wife (30.03.2017) - Jessica Chastain (24.03.1977) 40-6"}]
["tt19864828","nm1567113",{"$f":"_xlfn.XLOOKUP($A560,_xlfn.CHOOSECOLS(_xlfn.ANCHORARRAY(Filme!$G$1),2),_xlfn.CHOOSECOLS(_xlfn.ANCHORARRAY(Filme!$G$1),3),\"\",0,2)","v":"Memory"},{"$f":"_xlfn.XLOOKUP($A560,_xlfn.CHOOSECOLS(_xlfn.ANCHORARRAY(Filme!$G$1),2),_xlfn.CHOOSECOLS(_xlfn.ANCHORARRAY(Filme!$G$1),4),\"\",0,2)","v":"2024-10-03"},{"$f":"_xlfn.XLOOKUP($B560,_xlfn.CHOOSECOLS(_xlfn.ANCHORARRAY(Leute!$F$1),2),_xlfn.CHOOSECOLS(_xlfn.ANCHORARRAY(Leute!$F$1),3),\"x\",0,2)","v":"Jessica Chastain"},{"$f":"_xlfn.XLOOKUP($B560,_xlfn.CHOOSECOLS(_xlfn.ANCHORARRAY(Leute!$F$1),2),_xlfn.CHOOSECOLS(_xlfn.ANCHORARRAY(Leute!$F$1),4),\"x\",0,2)","v":"1977-03-24"},{"$f":"RANK(F560,F$1:F560,0)","v":202},{"$f":"DATEDIF(F560,D560,\"Y\")","v":47},{"$f":"DATEDIF(F560,D560,\"YD\")","v":193},{"$f":"D560-F560","v":17360},{"$f":"\"MRS \"&TEXT(J560,\"00000\")&\" \"&SUBSTITUTE(C560,\":\",\"\")&\" (\"&TEXT(D560,\"TT.MM.JJJJ\")&\") - \"&E560&\" (\"&TEXT(F560,\"TT.MM.JJJJ\")&\") \"&H560&\"-\"&I560","v":"MRS 17360 Memory (03.10.2024) - Jessica Chastain (24.03.1977) 47-193"}]
["tt3112900","nm1567113",{"$f":"_xlfn.XLOOKUP($A561,_xlfn.CHOOSECOLS(_xlfn.ANCHORARRAY(Filme!$G$1),2),_xlfn.CHOOSECOLS(_xlfn.ANCHORARRAY(Filme!$G$1),3),\"\",0,2)","v":"Salomé"},{"$f":"_xlfn.XLOOKUP($A561,_xlfn.CHOOSECOLS(_xlfn.ANCHORARRAY(Filme!$G$1),2),_xlfn.CHOOSECOLS(_xlfn.ANCHORARRAY(Filme!$G$1),4),\"\",0,2)","v":"2014-09-21"},{"$f":"_xlfn.XLOOKUP($B561,_xlfn.CHOOSECOLS(_xlfn.ANCHORARRAY(Leute!$F$1),2),_xlfn.CHOOSECOLS(_xlfn.ANCHORARRAY(Leute!$F$1),3),\"x\",0,2)","v":"Jessica Chastain"},{"$f":"_xlfn.XLOOKUP($B561,_xlfn.CHOOSECOLS(_xlfn.ANCHORARRAY(Leute!$F$1),2),_xlfn.CHOOSECOLS(_xlfn.ANCHORARRAY(Leute!$F$1),4),\"x\",0,2)","v":"1977-03-24"},{"$f":"RANK(F561,F$1:F561,0)","v":202},{"$f":"DATEDIF(F561,D561,\"Y\")","v":37},{"$f":"DATEDIF(F561,D561,\"YD\")","v":181},{"$f":"D561-F561","v":13695},{"$f":"\"MRS \"&TEXT(J561,\"00000\")&\" \"&SUBSTITUTE(C561,\":\",\"\")&\" (\"&TEXT(D561,\"TT.MM.JJJJ\")&\") - \"&E561&\" (\"&TEXT(F561,\"TT.MM.JJJJ\")&\") \"&H561&\"-\"&I561","v":"MRS 13695 Salomé (21.09.2014) - Jessica Chastain (24.03.1977) 37-181"}]
["tt5903088","nm1568512",{"$f":"_xlfn.XLOOKUP($A562,_xlfn.CHOOSECOLS(_xlfn.ANCHORARRAY(Filme!$G$1),2),_xlfn.CHOOSECOLS(_xlfn.ANCHORARRAY(Filme!$G$1),3),\"\",0,2)","v":"Dead on Arrival"},{"$f":"_xlfn.XLOOKUP($A562,_xlfn.CHOOSECOLS(_xlfn.ANCHORARRAY(Filme!$G$1),2),_xlfn.CHOOSECOLS(_xlfn.ANCHORARRAY(Filme!$G$1),4),\"\",0,2)","v":"2018-03-23"},{"$f":"_xlfn.XLOOKUP($B562,_xlfn.CHOOSECOLS(_xlfn.ANCHORARRAY(Leute!$F$1),2),_xlfn.CHOOSECOLS(_xlfn.ANCHORARRAY(Leute!$F$1),3),\"x\",0,2)","v":"Christa B. Allen"},{"$f":"_xlfn.XLOOKUP($B562,_xlfn.CHOOSECOLS(_xlfn.ANCHORARRAY(Leute!$F$1),2),_xlfn.CHOOSECOLS(_xlfn.ANCHORARRAY(Leute!$F$1),4),\"x\",0,2)","v":"1991-11-11"},{"$f":"RANK(F562,F$1:F562,0)","v":13},{"$f":"DATEDIF(F562,D562,\"Y\")","v":26},{"$f":"DATEDIF(F562,D562,\"YD\")","v":133},{"$f":"D562-F562","v":9629},{"$f":"\"MRS \"&TEXT(J562,\"00000\")&\" \"&SUBSTITUTE(C562,\":\",\"\")&\" (\"&TEXT(D562,\"TT.MM.JJJJ\")&\") - \"&E562&\" (\"&TEXT(F562,\"TT.MM.JJJJ\")&\") \"&H562&\"-\"&I562","v":"MRS 09629 Dead on Arrival (23.03.2018) - Christa B. Allen (11.11.1991) 26-133"}]
["tt1915581","nm1601397",{"$f":"_xlfn.XLOOKUP($A563,_xlfn.CHOOSECOLS(_xlfn.ANCHORARRAY(Filme!$G$1),2),_xlfn.CHOOSECOLS(_xlfn.ANCHORARRAY(Filme!$G$1),3),\"\",0,2)","v":"Magic Mike"},{"$f":"_xlfn.XLOOKUP($A563,_xlfn.CHOOSECOLS(_xlfn.ANCHORARRAY(Filme!$G$1),2),_xlfn.CHOOSECOLS(_xlfn.ANCHORARRAY(Filme!$G$1),4),\"\",0,2)","v":"2012-08-16"},{"$f":"_xlfn.XLOOKUP($B563,_xlfn.CHOOSECOLS(_xlfn.ANCHORARRAY(Leute!$F$1),2),_xlfn.CHOOSECOLS(_xlfn.ANCHORARRAY(Leute!$F$1),3),\"x\",0,2)","v":"Olivia Munn"},{"$f":"_xlfn.XLOOKUP($B563,_xlfn.CHOOSECOLS(_xlfn.ANCHORARRAY(Leute!$F$1),2),_xlfn.CHOOSECOLS(_xlfn.ANCHORARRAY(Leute!$F$1),4),\"x\",0,2)","v":"1980-07-03"},{"$f":"RANK(F563,F$1:F563,0)","v":135},{"$f":"DATEDIF(F563,D563,\"Y\")","v":32},{"$f":"DATEDIF(F563,D563,\"YD\")","v":44},{"$f":"D563-F563","v":11732},{"$f":"\"MRS \"&TEXT(J563,\"00000\")&\" \"&SUBSTITUTE(C563,\":\",\"\")&\" (\"&TEXT(D563,\"TT.MM.JJJJ\")&\") - \"&E563&\" (\"&TEXT(F563,\"TT.MM.JJJJ\")&\") \"&H563&\"-\"&I563","v":"MRS 11732 Magic Mike (16.08.2012) - Olivia Munn (03.07.1980) 32-44"}]
["tt0493409","nm1685408",{"$f":"_xlfn.XLOOKUP($A564,_xlfn.CHOOSECOLS(_xlfn.ANCHORARRAY(Filme!$G$1),2),_xlfn.CHOOSECOLS(_xlfn.ANCHORARRAY(Filme!$G$1),3),\"\",0,2)","v":"Devil's Den"},{"$f":"_xlfn.XLOOKUP($A564,_xlfn.CHOOSECOLS(_xlfn.ANCHORARRAY(Filme!$G$1),2),_xlfn.CHOOSECOLS(_xlfn.ANCHORARRAY(Filme!$G$1),4),\"\",0,2)","v":"2006-10-22"},{"$f":"_xlfn.XLOOKUP($B564,_xlfn.CHOOSECOLS(_xlfn.ANCHORARRAY(Leute!$F$1),2),_xlfn.CHOOSECOLS(_xlfn.ANCHORARRAY(Leute!$F$1),3),\"x\",0,2)","v":"Dawn Olivieri"},{"$f":"_xlfn.XLOOKUP($B564,_xlfn.CHOOSECOLS(_xlfn.ANCHORARRAY(Leute!$F$1),2),_xlfn.CHOOSECOLS(_xlfn.ANCHORARRAY(Leute!$F$1),4),\"x\",0,2)","v":"1981-02-08"},{"$f":"RANK(F564,F$1:F564,0)","v":124},{"$f":"DATEDIF(F564,D564,\"Y\")","v":25},{"$f":"DATEDIF(F564,D564,\"YD\")","v":256},{"$f":"D564-F564","v":9387},{"$f":"\"MRS \"&TEXT(J564,\"00000\")&\" \"&SUBSTITUTE(C564,\":\",\"\")&\" (\"&TEXT(D564,\"TT.MM.JJJJ\")&\") - \"&E564&\" (\"&TEXT(F564,\"TT.MM.JJJJ\")&\") \"&H564&\"-\"&I564","v":"MRS 09387 Devil's Den (22.10.2006) - Dawn Olivieri (08.02.1981) 25-256"}]
["tt2082715","nm1685408",{"$f":"_xlfn.XLOOKUP($A565,_xlfn.CHOOSECOLS(_xlfn.ANCHORARRAY(Filme!$G$1),2),_xlfn.CHOOSECOLS(_xlfn.ANCHORARRAY(Filme!$G$1),3),\"\",0,2)","v":"House of Lies"},{"$f":"_xlfn.XLOOKUP($A565,_xlfn.CHOOSECOLS(_xlfn.ANCHORARRAY(Filme!$G$1),2),_xlfn.CHOOSECOLS(_xlfn.ANCHORARRAY(Filme!$G$1),4),\"\",0,2)","v":"2012-11-29"},{"$f":"_xlfn.XLOOKUP($B565,_xlfn.CHOOSECOLS(_xlfn.ANCHORARRAY(Leute!$F$1),2),_xlfn.CHOOSECOLS(_xlfn.ANCHORARRAY(Leute!$F$1),3),\"x\",0,2)","v":"Dawn Olivieri"},{"$f":"_xlfn.XLOOKUP($B565,_xlfn.CHOOSECOLS(_xlfn.ANCHORARRAY(Leute!$F$1),2),_xlfn.CHOOSECOLS(_xlfn.ANCHORARRAY(Leute!$F$1),4),\"x\",0,2)","v":"1981-02-08"},{"$f":"RANK(F565,F$1:F565,0)","v":124},{"$f":"DATEDIF(F565,D565,\"Y\")","v":31},{"$f":"DATEDIF(F565,D565,\"YD\")","v":294},{"$f":"D565-F565","v":11617},{"$f":"\"MRS \"&TEXT(J565,\"00000\")&\" \"&SUBSTITUTE(C565,\":\",\"\")&\" (\"&TEXT(D565,\"TT.MM.JJJJ\")&\") - \"&E565&\" (\"&TEXT(F565,\"TT.MM.JJJJ\")&\") \"&H565&\"-\"&I565","v":"MRS 11617 House of Lies (29.11.2012) - Dawn Olivieri (08.02.1981) 31-294"}]
["tt2095713","nm1685408",{"$f":"_xlfn.XLOOKUP($A566,_xlfn.CHOOSECOLS(_xlfn.ANCHORARRAY(Filme!$G$1),2),_xlfn.CHOOSECOLS(_xlfn.ANCHORARRAY(Filme!$G$1),3),\"\",0,2)","v":"Missionary"},{"$f":"_xlfn.XLOOKUP($A566,_xlfn.CHOOSECOLS(_xlfn.ANCHORARRAY(Filme!$G$1),2),_xlfn.CHOOSECOLS(_xlfn.ANCHORARRAY(Filme!$G$1),4),\"\",0,2)","v":"2017-03-09"},{"$f":"_xlfn.XLOOKUP($B566,_xlfn.CHOOSECOLS(_xlfn.ANCHORARRAY(Leute!$F$1),2),_xlfn.CHOOSECOLS(_xlfn.ANCHORARRAY(Leute!$F$1),3),\"x\",0,2)","v":"Dawn Olivieri"},{"$f":"_xlfn.XLOOKUP($B566,_xlfn.CHOOSECOLS(_xlfn.ANCHORARRAY(Leute!$F$1),2),_xlfn.CHOOSECOLS(_xlfn.ANCHORARRAY(Leute!$F$1),4),\"x\",0,2)","v":"1981-02-08"},{"$f":"RANK(F566,F$1:F566,0)","v":124},{"$f":"DATEDIF(F566,D566,\"Y\")","v":36},{"$f":"DATEDIF(F566,D566,\"YD\")","v":29},{"$f":"D566-F566","v":13178},{"$f":"\"MRS \"&TEXT(J566,\"00000\")&\" \"&SUBSTITUTE(C566,\":\",\"\")&\" (\"&TEXT(D566,\"TT.MM.JJJJ\")&\") - \"&E566&\" (\"&TEXT(F566,\"TT.MM.JJJJ\")&\") \"&H566&\"-\"&I566","v":"MRS 13178 Missionary (09.03.2017) - Dawn Olivieri (08.02.1981) 36-29"}]
["tt3227442","nm1685408",{"$f":"_xlfn.XLOOKUP($A567,_xlfn.CHOOSECOLS(_xlfn.ANCHORARRAY(Filme!$G$1),2),_xlfn.CHOOSECOLS(_xlfn.ANCHORARRAY(Filme!$G$1),3),\"\",0,2)","v":"To Whom It May Concern"},{"$f":"_xlfn.XLOOKUP($A567,_xlfn.CHOOSECOLS(_xlfn.ANCHORARRAY(Filme!$G$1),2),_xlfn.CHOOSECOLS(_xlfn.ANCHORARRAY(Filme!$G$1),4),\"\",0,2)","v":"2021-03-26"},{"$f":"_xlfn.XLOOKUP($B567,_xlfn.CHOOSECOLS(_xlfn.ANCHORARRAY(Leute!$F$1),2),_xlfn.CHOOSECOLS(_xlfn.ANCHORARRAY(Leute!$F$1),3),\"x\",0,2)","v":"Dawn Olivieri"},{"$f":"_xlfn.XLOOKUP($B567,_xlfn.CHOOSECOLS(_xlfn.ANCHORARRAY(Leute!$F$1),2),_xlfn.CHOOSECOLS(_xlfn.ANCHORARRAY(Leute!$F$1),4),\"x\",0,2)","v":"1981-02-08"},{"$f":"RANK(F567,F$1:F567,0)","v":124},{"$f":"DATEDIF(F567,D567,\"Y\")","v":40},{"$f":"DATEDIF(F567,D567,\"YD\")","v":46},{"$f":"D567-F567","v":14656},{"$f":"\"MRS \"&TEXT(J567,\"00000\")&\" \"&SUBSTITUTE(C567,\":\",\"\")&\" (\"&TEXT(D567,\"TT.MM.JJJJ\")&\") - \"&E567&\" (\"&TEXT(F567,\"TT.MM.JJJJ\")&\") \"&H567&\"-\"&I567","v":"MRS 14656 To Whom It May Concern (26.03.2021) - Dawn Olivieri (08.02.1981) 40-46"}]
["tt0417745","nm1717573",{"$f":"_xlfn.XLOOKUP($A568,_xlfn.CHOOSECOLS(_xlfn.ANCHORARRAY(Filme!$G$1),2),_xlfn.CHOOSECOLS(_xlfn.ANCHORARRAY(Filme!$G$1),3),\"\",0,2)","v":"Headspace"},{"$f":"_xlfn.XLOOKUP($A568,_xlfn.CHOOSECOLS(_xlfn.ANCHORARRAY(Filme!$G$1),2),_xlfn.CHOOSECOLS(_xlfn.ANCHORARRAY(Filme!$G$1),4),\"\",0,2)","v":"2005-09-18"},{"$f":"_xlfn.XLOOKUP($B568,_xlfn.CHOOSECOLS(_xlfn.ANCHORARRAY(Leute!$F$1),2),_xlfn.CHOOSECOLS(_xlfn.ANCHORARRAY(Leute!$F$1),3),\"x\",0,2)","v":"Pollyanna McIntosh"},{"$f":"_xlfn.XLOOKUP($B568,_xlfn.CHOOSECOLS(_xlfn.ANCHORARRAY(Leute!$F$1),2),_xlfn.CHOOSECOLS(_xlfn.ANCHORARRAY(Leute!$F$1),4),\"x\",0,2)","v":"1979-03-15"},{"$f":"RANK(F568,F$1:F568,0)","v":167},{"$f":"DATEDIF(F568,D568,\"Y\")","v":26},{"$f":"DATEDIF(F568,D568,\"YD\")","v":187},{"$f":"D568-F568","v":9684},{"$f":"\"MRS \"&TEXT(J568,\"00000\")&\" \"&SUBSTITUTE(C568,\":\",\"\")&\" (\"&TEXT(D568,\"TT.MM.JJJJ\")&\") - \"&E568&\" (\"&TEXT(F568,\"TT.MM.JJJJ\")&\") \"&H568&\"-\"&I568","v":"MRS 09684 Headspace (18.09.2005) - Pollyanna McIntosh (15.03.1979) 26-187"}]
["tt0497972","nm1717573",{"$f":"_xlfn.XLOOKUP($A569,_xlfn.CHOOSECOLS(_xlfn.ANCHORARRAY(Filme!$G$1),2),_xlfn.CHOOSECOLS(_xlfn.ANCHORARRAY(Filme!$G$1),3),\"\",0,2)","v":"Sex and Death 101"},{"$f":"_xlfn.XLOOKUP($A569,_xlfn.CHOOSECOLS(_xlfn.ANCHORARRAY(Filme!$G$1),2),_xlfn.CHOOSECOLS(_xlfn.ANCHORARRAY(Filme!$G$1),4),\"\",0,2)","v":"2008-02-22"},{"$f":"_xlfn.XLOOKUP($B569,_xlfn.CHOOSECOLS(_xlfn.ANCHORARRAY(Leute!$F$1),2),_xlfn.CHOOSECOLS(_xlfn.ANCHORARRAY(Leute!$F$1),3),\"x\",0,2)","v":"Pollyanna McIntosh"},{"$f":"_xlfn.XLOOKUP($B569,_xlfn.CHOOSECOLS(_xlfn.ANCHORARRAY(Leute!$F$1),2),_xlfn.CHOOSECOLS(_xlfn.ANCHORARRAY(Leute!$F$1),4),\"x\",0,2)","v":"1979-03-15"},{"$f":"RANK(F569,F$1:F569,0)","v":167},{"$f":"DATEDIF(F569,D569,\"Y\")","v":28},{"$f":"DATEDIF(F569,D569,\"YD\")","v":344},{"$f":"D569-F569","v":10571},{"$f":"\"MRS \"&TEXT(J569,\"00000\")&\" \"&SUBSTITUTE(C569,\":\",\"\")&\" (\"&TEXT(D569,\"TT.MM.JJJJ\")&\") - \"&E569&\" (\"&TEXT(F569,\"TT.MM.JJJJ\")&\") \"&H569&\"-\"&I569","v":"MRS 10571 Sex and Death 101 (22.02.2008) - Pollyanna McIntosh (15.03.1979) 28-344"}]
["tt1714208","nm1717573",{"$f":"_xlfn.XLOOKUP($A570,_xlfn.CHOOSECOLS(_xlfn.ANCHORARRAY(Filme!$G$1),2),_xlfn.CHOOSECOLS(_xlfn.ANCHORARRAY(Filme!$G$1),3),\"\",0,2)","v":"The Woman"},{"$f":"_xlfn.XLOOKUP($A570,_xlfn.CHOOSECOLS(_xlfn.ANCHORARRAY(Filme!$G$1),2),_xlfn.CHOOSECOLS(_xlfn.ANCHORARRAY(Filme!$G$1),4),\"\",0,2)","v":"2011-08-18"},{"$f":"_xlfn.XLOOKUP($B570,_xlfn.CHOOSECOLS(_xlfn.ANCHORARRAY(Leute!$F$1),2),_xlfn.CHOOSECOLS(_xlfn.ANCHORARRAY(Leute!$F$1),3),\"x\",0,2)","v":"Pollyanna McIntosh"},{"$f":"_xlfn.XLOOKUP($B570,_xlfn.CHOOSECOLS(_xlfn.ANCHORARRAY(Leute!$F$1),2),_xlfn.CHOOSECOLS(_xlfn.ANCHORARRAY(Leute!$F$1),4),\"x\",0,2)","v":"1979-03-15"},{"$f":"RANK(F570,F$1:F570,0)","v":167},{"$f":"DATEDIF(F570,D570,\"Y\")","v":32},{"$f":"DATEDIF(F570,D570,\"YD\")","v":156},{"$f":"D570-F570","v":11844},{"$f":"\"MRS \"&TEXT(J570,\"00000\")&\" \"&SUBSTITUTE(C570,\":\",\"\")&\" (\"&TEXT(D570,\"TT.MM.JJJJ\")&\") - \"&E570&\" (\"&TEXT(F570,\"TT.MM.JJJJ\")&\") \"&H570&\"-\"&I570","v":"MRS 11844 The Woman (18.08.2011) - Pollyanna McIntosh (15.03.1979) 32-156"}]
["tt8396294","nm1717573",{"$f":"_xlfn.XLOOKUP($A571,_xlfn.CHOOSECOLS(_xlfn.ANCHORARRAY(Filme!$G$1),2),_xlfn.CHOOSECOLS(_xlfn.ANCHORARRAY(Filme!$G$1),3),\"\",0,2)","v":"Darlin'"},{"$f":"_xlfn.XLOOKUP($A571,_xlfn.CHOOSECOLS(_xlfn.ANCHORARRAY(Filme!$G$1),2),_xlfn.CHOOSECOLS(_xlfn.ANCHORARRAY(Filme!$G$1),4),\"\",0,2)","v":"2019-07-12"},{"$f":"_xlfn.XLOOKUP($B571,_xlfn.CHOOSECOLS(_xlfn.ANCHORARRAY(Leute!$F$1),2),_xlfn.CHOOSECOLS(_xlfn.ANCHORARRAY(Leute!$F$1),3),\"x\",0,2)","v":"Pollyanna McIntosh"},{"$f":"_xlfn.XLOOKUP($B571,_xlfn.CHOOSECOLS(_xlfn.ANCHORARRAY(Leute!$F$1),2),_xlfn.CHOOSECOLS(_xlfn.ANCHORARRAY(Leute!$F$1),4),\"x\",0,2)","v":"1979-03-15"},{"$f":"RANK(F571,F$1:F571,0)","v":167},{"$f":"DATEDIF(F571,D571,\"Y\")","v":40},{"$f":"DATEDIF(F571,D571,\"YD\")","v":119},{"$f":"D571-F571","v":14729},{"$f":"\"MRS \"&TEXT(J571,\"00000\")&\" \"&SUBSTITUTE(C571,\":\",\"\")&\" (\"&TEXT(D571,\"TT.MM.JJJJ\")&\") - \"&E571&\" (\"&TEXT(F571,\"TT.MM.JJJJ\")&\") \"&H571&\"-\"&I571","v":"MRS 14729 Darlin' (12.07.2019) - Pollyanna McIntosh (15.03.1979) 40-119"}]
["tt0453467","nm1745736",{"$f":"_xlfn.XLOOKUP($A572,_xlfn.CHOOSECOLS(_xlfn.ANCHORARRAY(Filme!$G$1),2),_xlfn.CHOOSECOLS(_xlfn.ANCHORARRAY(Filme!$G$1),3),\"\",0,2)","v":"Deja Vu"},{"$f":"_xlfn.XLOOKUP($A572,_xlfn.CHOOSECOLS(_xlfn.ANCHORARRAY(Filme!$G$1),2),_xlfn.CHOOSECOLS(_xlfn.ANCHORARRAY(Filme!$G$1),4),\"\",0,2)","v":"2006-12-22"},{"$f":"_xlfn.XLOOKUP($B572,_xlfn.CHOOSECOLS(_xlfn.ANCHORARRAY(Leute!$F$1),2),_xlfn.CHOOSECOLS(_xlfn.ANCHORARRAY(Leute!$F$1),3),\"x\",0,2)","v":"Paula Patton"},{"$f":"_xlfn.XLOOKUP($B572,_xlfn.CHOOSECOLS(_xlfn.ANCHORARRAY(Leute!$F$1),2),_xlfn.CHOOSECOLS(_xlfn.ANCHORARRAY(Leute!$F$1),4),\"x\",0,2)","v":"1975-12-05"},{"$f":"RANK(F572,F$1:F572,0)","v":262},{"$f":"DATEDIF(F572,D572,\"Y\")","v":31},{"$f":"DATEDIF(F572,D572,\"YD\")","v":17},{"$f":"D572-F572","v":11340},{"$f":"\"MRS \"&TEXT(J572,\"00000\")&\" \"&SUBSTITUTE(C572,\":\",\"\")&\" (\"&TEXT(D572,\"TT.MM.JJJJ\")&\") - \"&E572&\" (\"&TEXT(F572,\"TT.MM.JJJJ\")&\") \"&H572&\"-\"&I572","v":"MRS 11340 Deja Vu (22.12.2006) - Paula Patton (05.12.1975) 31-17"}]
["tt1272878","nm1745736",{"$f":"_xlfn.XLOOKUP($A573,_xlfn.CHOOSECOLS(_xlfn.ANCHORARRAY(Filme!$G$1),2),_xlfn.CHOOSECOLS(_xlfn.ANCHORARRAY(Filme!$G$1),3),\"\",0,2)","v":"2 Guns"},{"$f":"_xlfn.XLOOKUP($A573,_xlfn.CHOOSECOLS(_xlfn.ANCHORARRAY(Filme!$G$1),2),_xlfn.CHOOSECOLS(_xlfn.ANCHORARRAY(Filme!$G$1),4),\"\",0,2)","v":"2013-09-26"},{"$f":"_xlfn.XLOOKUP($B573,_xlfn.CHOOSECOLS(_xlfn.ANCHORARRAY(Leute!$F$1),2),_xlfn.CHOOSECOLS(_xlfn.ANCHORARRAY(Leute!$F$1),3),\"x\",0,2)","v":"Paula Patton"},{"$f":"_xlfn.XLOOKUP($B573,_xlfn.CHOOSECOLS(_xlfn.ANCHORARRAY(Leute!$F$1),2),_xlfn.CHOOSECOLS(_xlfn.ANCHORARRAY(Leute!$F$1),4),\"x\",0,2)","v":"1975-12-05"},{"$f":"RANK(F573,F$1:F573,0)","v":262},{"$f":"DATEDIF(F573,D573,\"Y\")","v":37},{"$f":"DATEDIF(F573,D573,\"YD\")","v":296},{"$f":"D573-F573","v":13810},{"$f":"\"MRS \"&TEXT(J573,\"00000\")&\" \"&SUBSTITUTE(C573,\":\",\"\")&\" (\"&TEXT(D573,\"TT.MM.JJJJ\")&\") - \"&E573&\" (\"&TEXT(F573,\"TT.MM.JJJJ\")&\") \"&H573&\"-\"&I573","v":"MRS 13810 2 Guns (26.09.2013) - Paula Patton (05.12.1975) 37-296"}]
["tt5670152","nm1745736",{"$f":"_xlfn.XLOOKUP($A574,_xlfn.CHOOSECOLS(_xlfn.ANCHORARRAY(Filme!$G$1),2),_xlfn.CHOOSECOLS(_xlfn.ANCHORARRAY(Filme!$G$1),3),\"\",0,2)","v":"Traffik"},{"$f":"_xlfn.XLOOKUP($A574,_xlfn.CHOOSECOLS(_xlfn.ANCHORARRAY(Filme!$G$1),2),_xlfn.CHOOSECOLS(_xlfn.ANCHORARRAY(Filme!$G$1),4),\"\",0,2)","v":"2018-08-31"},{"$f":"_xlfn.XLOOKUP($B574,_xlfn.CHOOSECOLS(_xlfn.ANCHORARRAY(Leute!$F$1),2),_xlfn.CHOOSECOLS(_xlfn.ANCHORARRAY(Leute!$F$1),3),\"x\",0,2)","v":"Paula Patton"},{"$f":"_xlfn.XLOOKUP($B574,_xlfn.CHOOSECOLS(_xlfn.ANCHORARRAY(Leute!$F$1),2),_xlfn.CHOOSECOLS(_xlfn.ANCHORARRAY(Leute!$F$1),4),\"x\",0,2)","v":"1975-12-05"},{"$f":"RANK(F574,F$1:F574,0)","v":262},{"$f":"DATEDIF(F574,D574,\"Y\")","v":42},{"$f":"DATEDIF(F574,D574,\"YD\")","v":270},{"$f":"D574-F574","v":15610},{"$f":"\"MRS \"&TEXT(J574,\"00000\")&\" \"&SUBSTITUTE(C574,\":\",\"\")&\" (\"&TEXT(D574,\"TT.MM.JJJJ\")&\") - \"&E574&\" (\"&TEXT(F574,\"TT.MM.JJJJ\")&\") \"&H574&\"-\"&I574","v":"MRS 15610 Traffik (31.08.2018) - Paula Patton (05.12.1975) 42-270"}]
["tt31407487","nm1775214",{"$f":"_xlfn.XLOOKUP($A575,_xlfn.CHOOSECOLS(_xlfn.ANCHORARRAY(Filme!$G$1),2),_xlfn.CHOOSECOLS(_xlfn.ANCHORARRAY(Filme!$G$1),3),\"\",0,2)","v":"Cross"},{"$f":"_xlfn.XLOOKUP($A575,_xlfn.CHOOSECOLS(_xlfn.ANCHORARRAY(Filme!$G$1),2),_xlfn.CHOOSECOLS(_xlfn.ANCHORARRAY(Filme!$G$1),4),\"\",0,2)","v":"2024-11-14"},{"$f":"_xlfn.XLOOKUP($B575,_xlfn.CHOOSECOLS(_xlfn.ANCHORARRAY(Leute!$F$1),2),_xlfn.CHOOSECOLS(_xlfn.ANCHORARRAY(Leute!$F$1),3),\"x\",0,2)","v":"Alona Tal"},{"$f":"_xlfn.XLOOKUP($B575,_xlfn.CHOOSECOLS(_xlfn.ANCHORARRAY(Leute!$F$1),2),_xlfn.CHOOSECOLS(_xlfn.ANCHORARRAY(Leute!$F$1),4),\"x\",0,2)","v":"1983-10-20"},{"$f":"RANK(F575,F$1:F575,0)","v":83},{"$f":"DATEDIF(F575,D575,\"Y\")","v":41},{"$f":"DATEDIF(F575,D575,\"YD\")","v":25},{"$f":"D575-F575","v":15001},{"$f":"\"MRS \"&TEXT(J575,\"00000\")&\" \"&SUBSTITUTE(C575,\":\",\"\")&\" (\"&TEXT(D575,\"TT.MM.JJJJ\")&\") - \"&E575&\" (\"&TEXT(F575,\"TT.MM.JJJJ\")&\") \"&H575&\"-\"&I575","v":"MRS 15001 Cross (14.11.2024) - Alona Tal (20.10.1983) 41-25"}]
["tt1656236","nm1789970",{"$f":"_xlfn.XLOOKUP($A576,_xlfn.CHOOSECOLS(_xlfn.ANCHORARRAY(Filme!$G$1),2),_xlfn.CHOOSECOLS(_xlfn.ANCHORARRAY(Filme!$G$1),3),\"\",0,2)","v":"Californication"},{"$f":"_xlfn.XLOOKUP($A576,_xlfn.CHOOSECOLS(_xlfn.ANCHORARRAY(Filme!$G$1),2),_xlfn.CHOOSECOLS(_xlfn.ANCHORARRAY(Filme!$G$1),4),\"\",0,2)","v":"2011-10-13"},{"$f":"_xlfn.XLOOKUP($B576,_xlfn.CHOOSECOLS(_xlfn.ANCHORARRAY(Leute!$F$1),2),_xlfn.CHOOSECOLS(_xlfn.ANCHORARRAY(Leute!$F$1),3),\"x\",0,2)","v":"Addison Timlin"},{"$f":"_xlfn.XLOOKUP($B576,_xlfn.CHOOSECOLS(_xlfn.ANCHORARRAY(Leute!$F$1),2),_xlfn.CHOOSECOLS(_xlfn.ANCHORARRAY(Leute!$F$1),4),\"x\",0,2)","v":"1991-06-29"},{"$f":"RANK(F576,F$1:F576,0)","v":14},{"$f":"DATEDIF(F576,D576,\"Y\")","v":20},{"$f":"DATEDIF(F576,D576,\"YD\")","v":106},{"$f":"D576-F576","v":7411},{"$f":"\"MRS \"&TEXT(J576,\"00000\")&\" \"&SUBSTITUTE(C576,\":\",\"\")&\" (\"&TEXT(D576,\"TT.MM.JJJJ\")&\") - \"&E576&\" (\"&TEXT(F576,\"TT.MM.JJJJ\")&\") \"&H576&\"-\"&I576","v":"MRS 07411 Californication (13.10.2011) - Addison Timlin (29.06.1991) 20-106"}]
["tt2707810","nm1789970",{"$f":"_xlfn.XLOOKUP($A577,_xlfn.CHOOSECOLS(_xlfn.ANCHORARRAY(Filme!$G$1),2),_xlfn.CHOOSECOLS(_xlfn.ANCHORARRAY(Filme!$G$1),3),\"\",0,2)","v":"Submission"},{"$f":"_xlfn.XLOOKUP($A577,_xlfn.CHOOSECOLS(_xlfn.ANCHORARRAY(Filme!$G$1),2),_xlfn.CHOOSECOLS(_xlfn.ANCHORARRAY(Filme!$G$1),4),\"\",0,2)","v":"2019-09-19"},{"$f":"_xlfn.XLOOKUP($B577,_xlfn.CHOOSECOLS(_xlfn.ANCHORARRAY(Leute!$F$1),2),_xlfn.CHOOSECOLS(_xlfn.ANCHORARRAY(Leute!$F$1),3),\"x\",0,2)","v":"Addison Timlin"},{"$f":"_xlfn.XLOOKUP($B577,_xlfn.CHOOSECOLS(_xlfn.ANCHORARRAY(Leute!$F$1),2),_xlfn.CHOOSECOLS(_xlfn.ANCHORARRAY(Leute!$F$1),4),\"x\",0,2)","v":"1991-06-29"},{"$f":"RANK(F577,F$1:F577,0)","v":14},{"$f":"DATEDIF(F577,D577,\"Y\")","v":28},{"$f":"DATEDIF(F577,D577,\"YD\")","v":82},{"$f":"D577-F577","v":10309},{"$f":"\"MRS \"&TEXT(J577,\"00000\")&\" \"&SUBSTITUTE(C577,\":\",\"\")&\" (\"&TEXT(D577,\"TT.MM.JJJJ\")&\") - \"&E577&\" (\"&TEXT(F577,\"TT.MM.JJJJ\")&\") \"&H577&\"-\"&I577","v":"MRS 10309 Submission (19.09.2019) - Addison Timlin (29.06.1991) 28-82"}]
["tt6819848","nm1789970",{"$f":"_xlfn.XLOOKUP($A578,_xlfn.CHOOSECOLS(_xlfn.ANCHORARRAY(Filme!$G$1),2),_xlfn.CHOOSECOLS(_xlfn.ANCHORARRAY(Filme!$G$1),3),\"\",0,2)","v":"All Roads to Pearla"},{"$f":"_xlfn.XLOOKUP($A578,_xlfn.CHOOSECOLS(_xlfn.ANCHORARRAY(Filme!$G$1),2),_xlfn.CHOOSECOLS(_xlfn.ANCHORARRAY(Filme!$G$1),4),\"\",0,2)","v":"2020-09-25"},{"$f":"_xlfn.XLOOKUP($B578,_xlfn.CHOOSECOLS(_xlfn.ANCHORARRAY(Leute!$F$1),2),_xlfn.CHOOSECOLS(_xlfn.ANCHORARRAY(Leute!$F$1),3),\"x\",0,2)","v":"Addison Timlin"},{"$f":"_xlfn.XLOOKUP($B578,_xlfn.CHOOSECOLS(_xlfn.ANCHORARRAY(Leute!$F$1),2),_xlfn.CHOOSECOLS(_xlfn.ANCHORARRAY(Leute!$F$1),4),\"x\",0,2)","v":"1991-06-29"},{"$f":"RANK(F578,F$1:F578,0)","v":14},{"$f":"DATEDIF(F578,D578,\"Y\")","v":29},{"$f":"DATEDIF(F578,D578,\"YD\")","v":88},{"$f":"D578-F578","v":10681},{"$f":"\"MRS \"&TEXT(J578,\"00000\")&\" \"&SUBSTITUTE(C578,\":\",\"\")&\" (\"&TEXT(D578,\"TT.MM.JJJJ\")&\") - \"&E578&\" (\"&TEXT(F578,\"TT.MM.JJJJ\")&\") \"&H578&\"-\"&I578","v":"MRS 10681 All Roads to Pearla (25.09.2020) - Addison Timlin (29.06.1991) 29-88"}]
["tt0842926","nm1861624",{"$f":"_xlfn.XLOOKUP($A579,_xlfn.CHOOSECOLS(_xlfn.ANCHORARRAY(Filme!$G$1),2),_xlfn.CHOOSECOLS(_xlfn.ANCHORARRAY(Filme!$G$1),3),\"\",0,2)","v":"The Kids Are All Right"},{"$f":"_xlfn.XLOOKUP($A579,_xlfn.CHOOSECOLS(_xlfn.ANCHORARRAY(Filme!$G$1),2),_xlfn.CHOOSECOLS(_xlfn.ANCHORARRAY(Filme!$G$1),4),\"\",0,2)","v":"2010-11-18"},{"$f":"_xlfn.XLOOKUP($B579,_xlfn.CHOOSECOLS(_xlfn.ANCHORARRAY(Leute!$F$1),2),_xlfn.CHOOSECOLS(_xlfn.ANCHORARRAY(Leute!$F$1),3),\"x\",0,2)","v":"Yaya DaCosta"},{"$f":"_xlfn.XLOOKUP($B579,_xlfn.CHOOSECOLS(_xlfn.ANCHORARRAY(Leute!$F$1),2),_xlfn.CHOOSECOLS(_xlfn.ANCHORARRAY(Leute!$F$1),4),\"x\",0,2)","v":"1982-11-15"},{"$f":"RANK(F579,F$1:F579,0)","v":96},{"$f":"DATEDIF(F579,D579,\"Y\")","v":28},{"$f":"DATEDIF(F579,D579,\"YD\")","v":3},{"$f":"D579-F579","v":10230},{"$f":"\"MRS \"&TEXT(J579,\"00000\")&\" \"&SUBSTITUTE(C579,\":\",\"\")&\" (\"&TEXT(D579,\"TT.MM.JJJJ\")&\") - \"&E579&\" (\"&TEXT(F579,\"TT.MM.JJJJ\")&\") \"&H579&\"-\"&I579","v":"MRS 10230 The Kids Are All Right (18.11.2010) - Yaya DaCosta (15.11.1982) 28-3"}]
["tt0822833","nm1869101",{"$f":"_xlfn.XLOOKUP($A580,_xlfn.CHOOSECOLS(_xlfn.ANCHORARRAY(Filme!$G$1),2),_xlfn.CHOOSECOLS(_xlfn.ANCHORARRAY(Filme!$G$1),3),\"\",0,2)","v":"Mentiras y gordas"},{"$f":"_xlfn.XLOOKUP($A580,_xlfn.CHOOSECOLS(_xlfn.ANCHORARRAY(Filme!$G$1),2),_xlfn.CHOOSECOLS(_xlfn.ANCHORARRAY(Filme!$G$1),4),\"\",0,2)","v":"2009-03-27"},{"$f":"_xlfn.XLOOKUP($B580,_xlfn.CHOOSECOLS(_xlfn.ANCHORARRAY(Leute!$F$1),2),_xlfn.CHOOSECOLS(_xlfn.ANCHORARRAY(Leute!$F$1),3),\"x\",0,2)","v":"Ana de Armas"},{"$f":"_xlfn.XLOOKUP($B580,_xlfn.CHOOSECOLS(_xlfn.ANCHORARRAY(Leute!$F$1),2),_xlfn.CHOOSECOLS(_xlfn.ANCHORARRAY(Leute!$F$1),4),\"x\",0,2)","v":"1988-04-30"},{"$f":"RANK(F580,F$1:F580,0)","v":53},{"$f":"DATEDIF(F580,D580,\"Y\")","v":20},{"$f":"DATEDIF(F580,D580,\"YD\")","v":331},{"$f":"D580-F580","v":7636},{"$f":"\"MRS \"&TEXT(J580,\"00000\")&\" \"&SUBSTITUTE(C580,\":\",\"\")&\" (\"&TEXT(D580,\"TT.MM.JJJJ\")&\") - \"&E580&\" (\"&TEXT(F580,\"TT.MM.JJJJ\")&\") \"&H580&\"-\"&I580","v":"MRS 07636 Mentiras y gordas (27.03.2009) - Ana de Armas (30.04.1988) 20-331"}]
["tt15326988","nm1869101",{"$f":"_xlfn.XLOOKUP($A581,_xlfn.CHOOSECOLS(_xlfn.ANCHORARRAY(Filme!$G$1),2),_xlfn.CHOOSECOLS(_xlfn.ANCHORARRAY(Filme!$G$1),3),\"\",0,2)","v":"Ghosted"},{"$f":"_xlfn.XLOOKUP($A581,_xlfn.CHOOSECOLS(_xlfn.ANCHORARRAY(Filme!$G$1),2),_xlfn.CHOOSECOLS(_xlfn.ANCHORARRAY(Filme!$G$1),4),\"\",0,2)","v":"2023-04-21"},{"$f":"_xlfn.XLOOKUP($B581,_xlfn.CHOOSECOLS(_xlfn.ANCHORARRAY(Leute!$F$1),2),_xlfn.CHOOSECOLS(_xlfn.ANCHORARRAY(Leute!$F$1),3),\"x\",0,2)","v":"Ana de Armas"},{"$f":"_xlfn.XLOOKUP($B581,_xlfn.CHOOSECOLS(_xlfn.ANCHORARRAY(Leute!$F$1),2),_xlfn.CHOOSECOLS(_xlfn.ANCHORARRAY(Leute!$F$1),4),\"x\",0,2)","v":"1988-04-30"},{"$f":"RANK(F581,F$1:F581,0)","v":53},{"$f":"DATEDIF(F581,D581,\"Y\")","v":34},{"$f":"DATEDIF(F581,D581,\"YD\")","v":356},{"$f":"D581-F581","v":12774},{"$f":"\"MRS \"&TEXT(J581,\"00000\")&\" \"&SUBSTITUTE(C581,\":\",\"\")&\" (\"&TEXT(D581,\"TT.MM.JJJJ\")&\") - \"&E581&\" (\"&TEXT(F581,\"TT.MM.JJJJ\")&\") \"&H581&\"-\"&I581","v":"MRS 12774 Ghosted (21.04.2023) - Ana de Armas (30.04.1988) 34-356"}]
["tt1655389","nm1869101",{"$f":"_xlfn.XLOOKUP($A582,_xlfn.CHOOSECOLS(_xlfn.ANCHORARRAY(Filme!$G$1),2),_xlfn.CHOOSECOLS(_xlfn.ANCHORARRAY(Filme!$G$1),3),\"\",0,2)","v":"Blonde"},{"$f":"_xlfn.XLOOKUP($A582,_xlfn.CHOOSECOLS(_xlfn.ANCHORARRAY(Filme!$G$1),2),_xlfn.CHOOSECOLS(_xlfn.ANCHORARRAY(Filme!$G$1),4),\"\",0,2)","v":"2022-09-28"},{"$f":"_xlfn.XLOOKUP($B582,_xlfn.CHOOSECOLS(_xlfn.ANCHORARRAY(Leute!$F$1),2),_xlfn.CHOOSECOLS(_xlfn.ANCHORARRAY(Leute!$F$1),3),\"x\",0,2)","v":"Ana de Armas"},{"$f":"_xlfn.XLOOKUP($B582,_xlfn.CHOOSECOLS(_xlfn.ANCHORARRAY(Leute!$F$1),2),_xlfn.CHOOSECOLS(_xlfn.ANCHORARRAY(Leute!$F$1),4),\"x\",0,2)","v":"1988-04-30"},{"$f":"RANK(F582,F$1:F582,0)","v":53},{"$f":"DATEDIF(F582,D582,\"Y\")","v":34},{"$f":"DATEDIF(F582,D582,\"YD\")","v":151},{"$f":"D582-F582","v":12569},{"$f":"\"MRS \"&TEXT(J582,\"00000\")&\" \"&SUBSTITUTE(C582,\":\",\"\")&\" (\"&TEXT(D582,\"TT.MM.JJJJ\")&\") - \"&E582&\" (\"&TEXT(F582,\"TT.MM.JJJJ\")&\") \"&H582&\"-\"&I582","v":"MRS 12569 Blonde (28.09.2022) - Ana de Armas (30.04.1988) 34-151"}]
["tt1747083","nm1869101",{"$f":"_xlfn.XLOOKUP($A583,_xlfn.CHOOSECOLS(_xlfn.ANCHORARRAY(Filme!$G$1),2),_xlfn.CHOOSECOLS(_xlfn.ANCHORARRAY(Filme!$G$1),3),\"\",0,2)","v":"Hispania, la leyenda"},{"$f":"_xlfn.XLOOKUP($A583,_xlfn.CHOOSECOLS(_xlfn.ANCHORARRAY(Filme!$G$1),2),_xlfn.CHOOSECOLS(_xlfn.ANCHORARRAY(Filme!$G$1),4),\"\",0,2)","v":"2010-10-25"},{"$f":"_xlfn.XLOOKUP($B583,_xlfn.CHOOSECOLS(_xlfn.ANCHORARRAY(Leute!$F$1),2),_xlfn.CHOOSECOLS(_xlfn.ANCHORARRAY(Leute!$F$1),3),\"x\",0,2)","v":"Ana de Armas"},{"$f":"_xlfn.XLOOKUP($B583,_xlfn.CHOOSECOLS(_xlfn.ANCHORARRAY(Leute!$F$1),2),_xlfn.CHOOSECOLS(_xlfn.ANCHORARRAY(Leute!$F$1),4),\"x\",0,2)","v":"1988-04-30"},{"$f":"RANK(F583,F$1:F583,0)","v":53},{"$f":"DATEDIF(F583,D583,\"Y\")","v":22},{"$f":"DATEDIF(F583,D583,\"YD\")","v":178},{"$f":"D583-F583","v":8213},{"$f":"\"MRS \"&TEXT(J583,\"00000\")&\" \"&SUBSTITUTE(C583,\":\",\"\")&\" (\"&TEXT(D583,\"TT.MM.JJJJ\")&\") - \"&E583&\" (\"&TEXT(F583,\"TT.MM.JJJJ\")&\") \"&H583&\"-\"&I583","v":"MRS 08213 Hispania, la leyenda (25.10.2010) - Ana de Armas (30.04.1988) 22-178"}]
["tt1781827","nm1869101",{"$f":"_xlfn.XLOOKUP($A584,_xlfn.CHOOSECOLS(_xlfn.ANCHORARRAY(Filme!$G$1),2),_xlfn.CHOOSECOLS(_xlfn.ANCHORARRAY(Filme!$G$1),3),\"\",0,2)","v":"Hands of Stone"},{"$f":"_xlfn.XLOOKUP($A584,_xlfn.CHOOSECOLS(_xlfn.ANCHORARRAY(Filme!$G$1),2),_xlfn.CHOOSECOLS(_xlfn.ANCHORARRAY(Filme!$G$1),4),\"\",0,2)","v":"2016-08-26"},{"$f":"_xlfn.XLOOKUP($B584,_xlfn.CHOOSECOLS(_xlfn.ANCHORARRAY(Leute!$F$1),2),_xlfn.CHOOSECOLS(_xlfn.ANCHORARRAY(Leute!$F$1),3),\"x\",0,2)","v":"Ana de Armas"},{"$f":"_xlfn.XLOOKUP($B584,_xlfn.CHOOSECOLS(_xlfn.ANCHORARRAY(Leute!$F$1),2),_xlfn.CHOOSECOLS(_xlfn.ANCHORARRAY(Leute!$F$1),4),\"x\",0,2)","v":"1988-04-30"},{"$f":"RANK(F584,F$1:F584,0)","v":53},{"$f":"DATEDIF(F584,D584,\"Y\")","v":28},{"$f":"DATEDIF(F584,D584,\"YD\")","v":118},{"$f":"D584-F584","v":10345},{"$f":"\"MRS \"&TEXT(J584,\"00000\")&\" \"&SUBSTITUTE(C584,\":\",\"\")&\" (\"&TEXT(D584,\"TT.MM.JJJJ\")&\") - \"&E584&\" (\"&TEXT(F584,\"TT.MM.JJJJ\")&\") \"&H584&\"-\"&I584","v":"MRS 10345 Hands of Stone (26.08.2016) - Ana de Armas (30.04.1988) 28-118"}]
["tt1856101","nm1869101",{"$f":"_xlfn.XLOOKUP($A585,_xlfn.CHOOSECOLS(_xlfn.ANCHORARRAY(Filme!$G$1),2),_xlfn.CHOOSECOLS(_xlfn.ANCHORARRAY(Filme!$G$1),3),\"\",0,2)","v":"Blade Runner 2049"},{"$f":"_xlfn.XLOOKUP($A585,_xlfn.CHOOSECOLS(_xlfn.ANCHORARRAY(Filme!$G$1),2),_xlfn.CHOOSECOLS(_xlfn.ANCHORARRAY(Filme!$G$1),4),\"\",0,2)","v":"2017-10-05"},{"$f":"_xlfn.XLOOKUP($B585,_xlfn.CHOOSECOLS(_xlfn.ANCHORARRAY(Leute!$F$1),2),_xlfn.CHOOSECOLS(_xlfn.ANCHORARRAY(Leute!$F$1),3),\"x\",0,2)","v":"Ana de Armas"},{"$f":"_xlfn.XLOOKUP($B585,_xlfn.CHOOSECOLS(_xlfn.ANCHORARRAY(Leute!$F$1),2),_xlfn.CHOOSECOLS(_xlfn.ANCHORARRAY(Leute!$F$1),4),\"x\",0,2)","v":"1988-04-30"},{"$f":"RANK(F585,F$1:F585,0)","v":53},{"$f":"DATEDIF(F585,D585,\"Y\")","v":29},{"$f":"DATEDIF(F585,D585,\"YD\")","v":158},{"$f":"D585-F585","v":10750},{"$f":"\"MRS \"&TEXT(J585,\"00000\")&\" \"&SUBSTITUTE(C585,\":\",\"\")&\" (\"&TEXT(D585,\"TT.MM.JJJJ\")&\") - \"&E585&\" (\"&TEXT(F585,\"TT.MM.JJJJ\")&\") \"&H585&\"-\"&I585","v":"MRS 10750 Blade Runner 2049 (05.10.2017) - Ana de Armas (30.04.1988) 29-158"}]
["tt2180339","nm1869101",{"$f":"_xlfn.XLOOKUP($A586,_xlfn.CHOOSECOLS(_xlfn.ANCHORARRAY(Filme!$G$1),2),_xlfn.CHOOSECOLS(_xlfn.ANCHORARRAY(Filme!$G$1),3),\"\",0,2)","v":"Deep Water"},{"$f":"_xlfn.XLOOKUP($A586,_xlfn.CHOOSECOLS(_xlfn.ANCHORARRAY(Filme!$G$1),2),_xlfn.CHOOSECOLS(_xlfn.ANCHORARRAY(Filme!$G$1),4),\"\",0,2)","v":"2022-03-18"},{"$f":"_xlfn.XLOOKUP($B586,_xlfn.CHOOSECOLS(_xlfn.ANCHORARRAY(Leute!$F$1),2),_xlfn.CHOOSECOLS(_xlfn.ANCHORARRAY(Leute!$F$1),3),\"x\",0,2)","v":"Ana de Armas"},{"$f":"_xlfn.XLOOKUP($B586,_xlfn.CHOOSECOLS(_xlfn.ANCHORARRAY(Leute!$F$1),2),_xlfn.CHOOSECOLS(_xlfn.ANCHORARRAY(Leute!$F$1),4),\"x\",0,2)","v":"1988-04-30"},{"$f":"RANK(F586,F$1:F586,0)","v":53},{"$f":"DATEDIF(F586,D586,\"Y\")","v":33},{"$f":"DATEDIF(F586,D586,\"YD\")","v":322},{"$f":"D586-F586","v":12375},{"$f":"\"MRS \"&TEXT(J586,\"00000\")&\" \"&SUBSTITUTE(C586,\":\",\"\")&\" (\"&TEXT(D586,\"TT.MM.JJJJ\")&\") - \"&E586&\" (\"&TEXT(F586,\"TT.MM.JJJJ\")&\") \"&H586&\"-\"&I586","v":"MRS 12375 Deep Water (18.03.2022) - Ana de Armas (30.04.1988) 33-322"}]
["tt3028412","nm1869101",{"$f":"_xlfn.XLOOKUP($A587,_xlfn.CHOOSECOLS(_xlfn.ANCHORARRAY(Filme!$G$1),2),_xlfn.CHOOSECOLS(_xlfn.ANCHORARRAY(Filme!$G$1),3),\"\",0,2)","v":"Por un puñado de besos"},{"$f":"_xlfn.XLOOKUP($A587,_xlfn.CHOOSECOLS(_xlfn.ANCHORARRAY(Filme!$G$1),2),_xlfn.CHOOSECOLS(_xlfn.ANCHORARRAY(Filme!$G$1),4),\"\",0,2)","v":"2014-05-16"},{"$f":"_xlfn.XLOOKUP($B587,_xlfn.CHOOSECOLS(_xlfn.ANCHORARRAY(Leute!$F$1),2),_xlfn.CHOOSECOLS(_xlfn.ANCHORARRAY(Leute!$F$1),3),\"x\",0,2)","v":"Ana de Armas"},{"$f":"_xlfn.XLOOKUP($B587,_xlfn.CHOOSECOLS(_xlfn.ANCHORARRAY(Leute!$F$1),2),_xlfn.CHOOSECOLS(_xlfn.ANCHORARRAY(Leute!$F$1),4),\"x\",0,2)","v":"1988-04-30"},{"$f":"RANK(F587,F$1:F587,0)","v":53},{"$f":"DATEDIF(F587,D587,\"Y\")","v":26},{"$f":"DATEDIF(F587,D587,\"YD\")","v":16},{"$f":"D587-F587","v":9512},{"$f":"\"MRS \"&TEXT(J587,\"00000\")&\" \"&SUBSTITUTE(C587,\":\",\"\")&\" (\"&TEXT(D587,\"TT.MM.JJJJ\")&\") - \"&E587&\" (\"&TEXT(F587,\"TT.MM.JJJJ\")&\") \"&H587&\"-\"&I587","v":"MRS 09512 Por un puñado de besos (16.05.2014) - Ana de Armas (30.04.1988) 26-16"}]
["tt3605418","nm1869101",{"$f":"_xlfn.XLOOKUP($A588,_xlfn.CHOOSECOLS(_xlfn.ANCHORARRAY(Filme!$G$1),2),_xlfn.CHOOSECOLS(_xlfn.ANCHORARRAY(Filme!$G$1),3),\"\",0,2)","v":"Knock Knock"},{"$f":"_xlfn.XLOOKUP($A588,_xlfn.CHOOSECOLS(_xlfn.ANCHORARRAY(Filme!$G$1),2),_xlfn.CHOOSECOLS(_xlfn.ANCHORARRAY(Filme!$G$1),4),\"\",0,2)","v":"2015-12-10"},{"$f":"_xlfn.XLOOKUP($B588,_xlfn.CHOOSECOLS(_xlfn.ANCHORARRAY(Leute!$F$1),2),_xlfn.CHOOSECOLS(_xlfn.ANCHORARRAY(Leute!$F$1),3),\"x\",0,2)","v":"Ana de Armas"},{"$f":"_xlfn.XLOOKUP($B588,_xlfn.CHOOSECOLS(_xlfn.ANCHORARRAY(Leute!$F$1),2),_xlfn.CHOOSECOLS(_xlfn.ANCHORARRAY(Leute!$F$1),4),\"x\",0,2)","v":"1988-04-30"},{"$f":"RANK(F588,F$1:F588,0)","v":53},{"$f":"DATEDIF(F588,D588,\"Y\")","v":27},{"$f":"DATEDIF(F588,D588,\"YD\")","v":224},{"$f":"D588-F588","v":10085},{"$f":"\"MRS \"&TEXT(J588,\"00000\")&\" \"&SUBSTITUTE(C588,\":\",\"\")&\" (\"&TEXT(D588,\"TT.MM.JJJJ\")&\") - \"&E588&\" (\"&TEXT(F588,\"TT.MM.JJJJ\")&\") \"&H588&\"-\"&I588","v":"MRS 10085 Knock Knock (10.12.2015) - Ana de Armas (30.04.1988) 27-224"}]
["tt6760876","nm1869101",{"$f":"_xlfn.XLOOKUP($A589,_xlfn.CHOOSECOLS(_xlfn.ANCHORARRAY(Filme!$G$1),2),_xlfn.CHOOSECOLS(_xlfn.ANCHORARRAY(Filme!$G$1),3),\"\",0,2)","v":"Wasp Network"},{"$f":"_xlfn.XLOOKUP($A589,_xlfn.CHOOSECOLS(_xlfn.ANCHORARRAY(Filme!$G$1),2),_xlfn.CHOOSECOLS(_xlfn.ANCHORARRAY(Filme!$G$1),4),\"\",0,2)","v":"2020-06-19"},{"$f":"_xlfn.XLOOKUP($B589,_xlfn.CHOOSECOLS(_xlfn.ANCHORARRAY(Leute!$F$1),2),_xlfn.CHOOSECOLS(_xlfn.ANCHORARRAY(Leute!$F$1),3),\"x\",0,2)","v":"Ana de Armas"},{"$f":"_xlfn.XLOOKUP($B589,_xlfn.CHOOSECOLS(_xlfn.ANCHORARRAY(Leute!$F$1),2),_xlfn.CHOOSECOLS(_xlfn.ANCHORARRAY(Leute!$F$1),4),\"x\",0,2)","v":"1988-04-30"},{"$f":"RANK(F589,F$1:F589,0)","v":53},{"$f":"DATEDIF(F589,D589,\"Y\")","v":32},{"$f":"DATEDIF(F589,D589,\"YD\")","v":50},{"$f":"D589-F589","v":11738},{"$f":"\"MRS \"&TEXT(J589,\"00000\")&\" \"&SUBSTITUTE(C589,\":\",\"\")&\" (\"&TEXT(D589,\"TT.MM.JJJJ\")&\") - \"&E589&\" (\"&TEXT(F589,\"TT.MM.JJJJ\")&\") \"&H589&\"-\"&I589","v":"MRS 11738 Wasp Network (19.06.2020) - Ana de Armas (30.04.1988) 32-50"}]
["tt7979142","nm1869101",{"$f":"_xlfn.XLOOKUP($A590,_xlfn.CHOOSECOLS(_xlfn.ANCHORARRAY(Filme!$G$1),2),_xlfn.CHOOSECOLS(_xlfn.ANCHORARRAY(Filme!$G$1),3),\"\",0,2)","v":"The Night Clerk"},{"$f":"_xlfn.XLOOKUP($A590,_xlfn.CHOOSECOLS(_xlfn.ANCHORARRAY(Filme!$G$1),2),_xlfn.CHOOSECOLS(_xlfn.ANCHORARRAY(Filme!$G$1),4),\"\",0,2)","v":"2020-02-21"},{"$f":"_xlfn.XLOOKUP($B590,_xlfn.CHOOSECOLS(_xlfn.ANCHORARRAY(Leute!$F$1),2),_xlfn.CHOOSECOLS(_xlfn.ANCHORARRAY(Leute!$F$1),3),\"x\",0,2)","v":"Ana de Armas"},{"$f":"_xlfn.XLOOKUP($B590,_xlfn.CHOOSECOLS(_xlfn.ANCHORARRAY(Leute!$F$1),2),_xlfn.CHOOSECOLS(_xlfn.ANCHORARRAY(Leute!$F$1),4),\"x\",0,2)","v":"1988-04-30"},{"$f":"RANK(F590,F$1:F590,0)","v":53},{"$f":"DATEDIF(F590,D590,\"Y\")","v":31},{"$f":"DATEDIF(F590,D590,\"YD\")","v":297},{"$f":"D590-F590","v":11619},{"$f":"\"MRS \"&TEXT(J590,\"00000\")&\" \"&SUBSTITUTE(C590,\":\",\"\")&\" (\"&TEXT(D590,\"TT.MM.JJJJ\")&\") - \"&E590&\" (\"&TEXT(F590,\"TT.MM.JJJJ\")&\") \"&H590&\"-\"&I590","v":"MRS 11619 The Night Clerk (21.02.2020) - Ana de Armas (30.04.1988) 31-297"}]
["tt8750570","nm1869101",{"$f":"_xlfn.XLOOKUP($A591,_xlfn.CHOOSECOLS(_xlfn.ANCHORARRAY(Filme!$G$1),2),_xlfn.CHOOSECOLS(_xlfn.ANCHORARRAY(Filme!$G$1),3),\"\",0,2)","v":"Sergio"},{"$f":"_xlfn.XLOOKUP($A591,_xlfn.CHOOSECOLS(_xlfn.ANCHORARRAY(Filme!$G$1),2),_xlfn.CHOOSECOLS(_xlfn.ANCHORARRAY(Filme!$G$1),4),\"\",0,2)","v":"2020-04-17"},{"$f":"_xlfn.XLOOKUP($B591,_xlfn.CHOOSECOLS(_xlfn.ANCHORARRAY(Leute!$F$1),2),_xlfn.CHOOSECOLS(_xlfn.ANCHORARRAY(Leute!$F$1),3),\"x\",0,2)","v":"Ana de Armas"},{"$f":"_xlfn.XLOOKUP($B591,_xlfn.CHOOSECOLS(_xlfn.ANCHORARRAY(Leute!$F$1),2),_xlfn.CHOOSECOLS(_xlfn.ANCHORARRAY(Leute!$F$1),4),\"x\",0,2)","v":"1988-04-30"},{"$f":"RANK(F591,F$1:F591,0)","v":53},{"$f":"DATEDIF(F591,D591,\"Y\")","v":31},{"$f":"DATEDIF(F591,D591,\"YD\")","v":352},{"$f":"D591-F591","v":11675},{"$f":"\"MRS \"&TEXT(J591,\"00000\")&\" \"&SUBSTITUTE(C591,\":\",\"\")&\" (\"&TEXT(D591,\"TT.MM.JJJJ\")&\") - \"&E591&\" (\"&TEXT(F591,\"TT.MM.JJJJ\")&\") \"&H591&\"-\"&I591","v":"MRS 11675 Sergio (17.04.2020) - Ana de Armas (30.04.1988) 31-352"}]
["tt9883136","nm1869101",{"$f":"_xlfn.XLOOKUP($A592,_xlfn.CHOOSECOLS(_xlfn.ANCHORARRAY(Filme!$G$1),2),_xlfn.CHOOSECOLS(_xlfn.ANCHORARRAY(Filme!$G$1),3),\"\",0,2)","v":"Ánima"},{"$f":"_xlfn.XLOOKUP($A592,_xlfn.CHOOSECOLS(_xlfn.ANCHORARRAY(Filme!$G$1),2),_xlfn.CHOOSECOLS(_xlfn.ANCHORARRAY(Filme!$G$1),4),\"\",0,2)","v":"2011-12-31"},{"$f":"_xlfn.XLOOKUP($B592,_xlfn.CHOOSECOLS(_xlfn.ANCHORARRAY(Leute!$F$1),2),_xlfn.CHOOSECOLS(_xlfn.ANCHORARRAY(Leute!$F$1),3),\"x\",0,2)","v":"Ana de Armas"},{"$f":"_xlfn.XLOOKUP($B592,_xlfn.CHOOSECOLS(_xlfn.ANCHORARRAY(Leute!$F$1),2),_xlfn.CHOOSECOLS(_xlfn.ANCHORARRAY(Leute!$F$1),4),\"x\",0,2)","v":"1988-04-30"},{"$f":"RANK(F592,F$1:F592,0)","v":53},{"$f":"DATEDIF(F592,D592,\"Y\")","v":23},{"$f":"DATEDIF(F592,D592,\"YD\")","v":245},{"$f":"D592-F592","v":8645},{"$f":"\"MRS \"&TEXT(J592,\"00000\")&\" \"&SUBSTITUTE(C592,\":\",\"\")&\" (\"&TEXT(D592,\"TT.MM.JJJJ\")&\") - \"&E592&\" (\"&TEXT(F592,\"TT.MM.JJJJ\")&\") \"&H592&\"-\"&I592","v":"MRS 08645 Ánima (31.12.2011) - Ana de Armas (30.04.1988) 23-245"}]
["tt2035630","nm1886524",{"$f":"_xlfn.XLOOKUP($A593,_xlfn.CHOOSECOLS(_xlfn.ANCHORARRAY(Filme!$G$1),2),_xlfn.CHOOSECOLS(_xlfn.ANCHORARRAY(Filme!$G$1),3),\"\",0,2)","v":"Starlet"},{"$f":"_xlfn.XLOOKUP($A593,_xlfn.CHOOSECOLS(_xlfn.ANCHORARRAY(Filme!$G$1),2),_xlfn.CHOOSECOLS(_xlfn.ANCHORARRAY(Filme!$G$1),4),\"\",0,2)","v":"2013-05-09"},{"$f":"_xlfn.XLOOKUP($B593,_xlfn.CHOOSECOLS(_xlfn.ANCHORARRAY(Leute!$F$1),2),_xlfn.CHOOSECOLS(_xlfn.ANCHORARRAY(Leute!$F$1),3),\"x\",0,2)","v":"Stella Maeve"},{"$f":"_xlfn.XLOOKUP($B593,_xlfn.CHOOSECOLS(_xlfn.ANCHORARRAY(Leute!$F$1),2),_xlfn.CHOOSECOLS(_xlfn.ANCHORARRAY(Leute!$F$1),4),\"x\",0,2)","v":"1989-11-14"},{"$f":"RANK(F593,F$1:F593,0)","v":26},{"$f":"DATEDIF(F593,D593,\"Y\")","v":23},{"$f":"DATEDIF(F593,D593,\"YD\")","v":176},{"$f":"D593-F593","v":8577},{"$f":"\"MRS \"&TEXT(J593,\"00000\")&\" \"&SUBSTITUTE(C593,\":\",\"\")&\" (\"&TEXT(D593,\"TT.MM.JJJJ\")&\") - \"&E593&\" (\"&TEXT(F593,\"TT.MM.JJJJ\")&\") \"&H593&\"-\"&I593","v":"MRS 08577 Starlet (09.05.2013) - Stella Maeve (14.11.1989) 23-176"}]
["tt2186712","nm1886524",{"$f":"_xlfn.XLOOKUP($A594,_xlfn.CHOOSECOLS(_xlfn.ANCHORARRAY(Filme!$G$1),2),_xlfn.CHOOSECOLS(_xlfn.ANCHORARRAY(Filme!$G$1),3),\"\",0,2)","v":"Long Nights Short Mornings"},{"$f":"_xlfn.XLOOKUP($A594,_xlfn.CHOOSECOLS(_xlfn.ANCHORARRAY(Filme!$G$1),2),_xlfn.CHOOSECOLS(_xlfn.ANCHORARRAY(Filme!$G$1),4),\"\",0,2)","v":"2017-01-24"},{"$f":"_xlfn.XLOOKUP($B594,_xlfn.CHOOSECOLS(_xlfn.ANCHORARRAY(Leute!$F$1),2),_xlfn.CHOOSECOLS(_xlfn.ANCHORARRAY(Leute!$F$1),3),\"x\",0,2)","v":"Stella Maeve"},{"$f":"_xlfn.XLOOKUP($B594,_xlfn.CHOOSECOLS(_xlfn.ANCHORARRAY(Leute!$F$1),2),_xlfn.CHOOSECOLS(_xlfn.ANCHORARRAY(Leute!$F$1),4),\"x\",0,2)","v":"1989-11-14"},{"$f":"RANK(F594,F$1:F594,0)","v":26},{"$f":"DATEDIF(F594,D594,\"Y\")","v":27},{"$f":"DATEDIF(F594,D594,\"YD\")","v":71},{"$f":"D594-F594","v":9933},{"$f":"\"MRS \"&TEXT(J594,\"00000\")&\" \"&SUBSTITUTE(C594,\":\",\"\")&\" (\"&TEXT(D594,\"TT.MM.JJJJ\")&\") - \"&E594&\" (\"&TEXT(F594,\"TT.MM.JJJJ\")&\") \"&H594&\"-\"&I594","v":"MRS 09933 Long Nights Short Mornings (24.01.2017) - Stella Maeve (14.11.1989) 27-71"}]
["tt4214868","nm1951390",{"$f":"_xlfn.XLOOKUP($A595,_xlfn.CHOOSECOLS(_xlfn.ANCHORARRAY(Filme!$G$1),2),_xlfn.CHOOSECOLS(_xlfn.ANCHORARRAY(Filme!$G$1),3),\"\",0,2)","v":"SMILF"},{"$f":"_xlfn.XLOOKUP($A595,_xlfn.CHOOSECOLS(_xlfn.ANCHORARRAY(Filme!$G$1),2),_xlfn.CHOOSECOLS(_xlfn.ANCHORARRAY(Filme!$G$1),4),\"\",0,2)","v":"2015-01-23"},{"$f":"_xlfn.XLOOKUP($B595,_xlfn.CHOOSECOLS(_xlfn.ANCHORARRAY(Leute!$F$1),2),_xlfn.CHOOSECOLS(_xlfn.ANCHORARRAY(Leute!$F$1),3),\"x\",0,2)","v":"Frankie Shaw"},{"$f":"_xlfn.XLOOKUP($B595,_xlfn.CHOOSECOLS(_xlfn.ANCHORARRAY(Leute!$F$1),2),_xlfn.CHOOSECOLS(_xlfn.ANCHORARRAY(Leute!$F$1),4),\"x\",0,2)","v":"1986-11-11"},{"$f":"RANK(F595,F$1:F595,0)","v":73},{"$f":"DATEDIF(F595,D595,\"Y\")","v":28},{"$f":"DATEDIF(F595,D595,\"YD\")","v":73},{"$f":"D595-F595","v":10300},{"$f":"\"MRS \"&TEXT(J595,\"00000\")&\" \"&SUBSTITUTE(C595,\":\",\"\")&\" (\"&TEXT(D595,\"TT.MM.JJJJ\")&\") - \"&E595&\" (\"&TEXT(F595,\"TT.MM.JJJJ\")&\") \"&H595&\"-\"&I595","v":"MRS 10300 SMILF (23.01.2015) - Frankie Shaw (11.11.1986) 28-73"}]
["tt4652838","nm1951390",{"$f":"_xlfn.XLOOKUP($A596,_xlfn.CHOOSECOLS(_xlfn.ANCHORARRAY(Filme!$G$1),2),_xlfn.CHOOSECOLS(_xlfn.ANCHORARRAY(Filme!$G$1),3),\"\",0,2)","v":"Mr. Robot"},{"$f":"_xlfn.XLOOKUP($A596,_xlfn.CHOOSECOLS(_xlfn.ANCHORARRAY(Filme!$G$1),2),_xlfn.CHOOSECOLS(_xlfn.ANCHORARRAY(Filme!$G$1),4),\"\",0,2)","v":"2015-11-20"},{"$f":"_xlfn.XLOOKUP($B596,_xlfn.CHOOSECOLS(_xlfn.ANCHORARRAY(Leute!$F$1),2),_xlfn.CHOOSECOLS(_xlfn.ANCHORARRAY(Leute!$F$1),3),\"x\",0,2)","v":"Frankie Shaw"},{"$f":"_xlfn.XLOOKUP($B596,_xlfn.CHOOSECOLS(_xlfn.ANCHORARRAY(Leute!$F$1),2),_xlfn.CHOOSECOLS(_xlfn.ANCHORARRAY(Leute!$F$1),4),\"x\",0,2)","v":"1986-11-11"},{"$f":"RANK(F596,F$1:F596,0)","v":73},{"$f":"DATEDIF(F596,D596,\"Y\")","v":29},{"$f":"DATEDIF(F596,D596,\"YD\")","v":9},{"$f":"D596-F596","v":10601},{"$f":"\"MRS \"&TEXT(J596,\"00000\")&\" \"&SUBSTITUTE(C596,\":\",\"\")&\" (\"&TEXT(D596,\"TT.MM.JJJJ\")&\") - \"&E596&\" (\"&TEXT(F596,\"TT.MM.JJJJ\")&\") \"&H596&\"-\"&I596","v":"MRS 10601 Mr. Robot (20.11.2015) - Frankie Shaw (11.11.1986) 29-9"}]
["tt6142398","nm1951390",{"$f":"_xlfn.XLOOKUP($A597,_xlfn.CHOOSECOLS(_xlfn.ANCHORARRAY(Filme!$G$1),2),_xlfn.CHOOSECOLS(_xlfn.ANCHORARRAY(Filme!$G$1),3),\"\",0,2)","v":"Good Girls Revolt"},{"$f":"_xlfn.XLOOKUP($A597,_xlfn.CHOOSECOLS(_xlfn.ANCHORARRAY(Filme!$G$1),2),_xlfn.CHOOSECOLS(_xlfn.ANCHORARRAY(Filme!$G$1),4),\"\",0,2)","v":"2016-12-02"},{"$f":"_xlfn.XLOOKUP($B597,_xlfn.CHOOSECOLS(_xlfn.ANCHORARRAY(Leute!$F$1),2),_xlfn.CHOOSECOLS(_xlfn.ANCHORARRAY(Leute!$F$1),3),\"x\",0,2)","v":"Frankie Shaw"},{"$f":"_xlfn.XLOOKUP($B597,_xlfn.CHOOSECOLS(_xlfn.ANCHORARRAY(Leute!$F$1),2),_xlfn.CHOOSECOLS(_xlfn.ANCHORARRAY(Leute!$F$1),4),\"x\",0,2)","v":"1986-11-11"},{"$f":"RANK(F597,F$1:F597,0)","v":73},{"$f":"DATEDIF(F597,D597,\"Y\")","v":30},{"$f":"DATEDIF(F597,D597,\"YD\")","v":21},{"$f":"D597-F597","v":10979},{"$f":"\"MRS \"&TEXT(J597,\"00000\")&\" \"&SUBSTITUTE(C597,\":\",\"\")&\" (\"&TEXT(D597,\"TT.MM.JJJJ\")&\") - \"&E597&\" (\"&TEXT(F597,\"TT.MM.JJJJ\")&\") \"&H597&\"-\"&I597","v":"MRS 10979 Good Girls Revolt (02.12.2016) - Frankie Shaw (11.11.1986) 30-21"}]
["tt6976488","nm1951390",{"$f":"_xlfn.XLOOKUP($A598,_xlfn.CHOOSECOLS(_xlfn.ANCHORARRAY(Filme!$G$1),2),_xlfn.CHOOSECOLS(_xlfn.ANCHORARRAY(Filme!$G$1),3),\"\",0,2)","v":"SMILF"},{"$f":"_xlfn.XLOOKUP($A598,_xlfn.CHOOSECOLS(_xlfn.ANCHORARRAY(Filme!$G$1),2),_xlfn.CHOOSECOLS(_xlfn.ANCHORARRAY(Filme!$G$1),4),\"\",0,2)","v":"2017-11-24"},{"$f":"_xlfn.XLOOKUP($B598,_xlfn.CHOOSECOLS(_xlfn.ANCHORARRAY(Leute!$F$1),2),_xlfn.CHOOSECOLS(_xlfn.ANCHORARRAY(Leute!$F$1),3),\"x\",0,2)","v":"Frankie Shaw"},{"$f":"_xlfn.XLOOKUP($B598,_xlfn.CHOOSECOLS(_xlfn.ANCHORARRAY(Leute!$F$1),2),_xlfn.CHOOSECOLS(_xlfn.ANCHORARRAY(Leute!$F$1),4),\"x\",0,2)","v":"1986-11-11"},{"$f":"RANK(F598,F$1:F598,0)","v":73},{"$f":"DATEDIF(F598,D598,\"Y\")","v":31},{"$f":"DATEDIF(F598,D598,\"YD\")","v":13},{"$f":"D598-F598","v":11336},{"$f":"\"MRS \"&TEXT(J598,\"00000\")&\" \"&SUBSTITUTE(C598,\":\",\"\")&\" (\"&TEXT(D598,\"TT.MM.JJJJ\")&\") - \"&E598&\" (\"&TEXT(F598,\"TT.MM.JJJJ\")&\") \"&H598&\"-\"&I598","v":"MRS 11336 SMILF (24.11.2017) - Frankie Shaw (11.11.1986) 31-13"}]
["tt7558424","nm1951390",{"$f":"_xlfn.XLOOKUP($A599,_xlfn.CHOOSECOLS(_xlfn.ANCHORARRAY(Filme!$G$1),2),_xlfn.CHOOSECOLS(_xlfn.ANCHORARRAY(Filme!$G$1),3),\"\",0,2)","v":"Bad Peter"},{"$f":"_xlfn.XLOOKUP($A599,_xlfn.CHOOSECOLS(_xlfn.ANCHORARRAY(Filme!$G$1),2),_xlfn.CHOOSECOLS(_xlfn.ANCHORARRAY(Filme!$G$1),4),\"\",0,2)","v":"2018-06-21"},{"$f":"_xlfn.XLOOKUP($B599,_xlfn.CHOOSECOLS(_xlfn.ANCHORARRAY(Leute!$F$1),2),_xlfn.CHOOSECOLS(_xlfn.ANCHORARRAY(Leute!$F$1),3),\"x\",0,2)","v":"Frankie Shaw"},{"$f":"_xlfn.XLOOKUP($B599,_xlfn.CHOOSECOLS(_xlfn.ANCHORARRAY(Leute!$F$1),2),_xlfn.CHOOSECOLS(_xlfn.ANCHORARRAY(Leute!$F$1),4),\"x\",0,2)","v":"1986-11-11"},{"$f":"RANK(F599,F$1:F599,0)","v":73},{"$f":"DATEDIF(F599,D599,\"Y\")","v":31},{"$f":"DATEDIF(F599,D599,\"YD\")","v":222},{"$f":"D599-F599","v":11545},{"$f":"\"MRS \"&TEXT(J599,\"00000\")&\" \"&SUBSTITUTE(C599,\":\",\"\")&\" (\"&TEXT(D599,\"TT.MM.JJJJ\")&\") - \"&E599&\" (\"&TEXT(F599,\"TT.MM.JJJJ\")&\") \"&H599&\"-\"&I599","v":"MRS 11545 Bad Peter (21.06.2018) - Frankie Shaw (11.11.1986) 31-222"}]
["tt0441782","nm1954240",{"$f":"_xlfn.XLOOKUP($A600,_xlfn.CHOOSECOLS(_xlfn.ANCHORARRAY(Filme!$G$1),2),_xlfn.CHOOSECOLS(_xlfn.ANCHORARRAY(Filme!$G$1),3),\"\",0,2)","v":"Restraint"},{"$f":"_xlfn.XLOOKUP($A600,_xlfn.CHOOSECOLS(_xlfn.ANCHORARRAY(Filme!$G$1),2),_xlfn.CHOOSECOLS(_xlfn.ANCHORARRAY(Filme!$G$1),4),\"\",0,2)","v":"2008-08-19"},{"$f":"_xlfn.XLOOKUP($B600,_xlfn.CHOOSECOLS(_xlfn.ANCHORARRAY(Leute!$F$1),2),_xlfn.CHOOSECOLS(_xlfn.ANCHORARRAY(Leute!$F$1),3),\"x\",0,2)","v":"Teresa Palmer"},{"$f":"_xlfn.XLOOKUP($B600,_xlfn.CHOOSECOLS(_xlfn.ANCHORARRAY(Leute!$F$1),2),_xlfn.CHOOSECOLS(_xlfn.ANCHORARRAY(Leute!$F$1),4),\"x\",0,2)","v":"1986-02-26"},{"$f":"RANK(F600,F$1:F600,0)","v":81},{"$f":"DATEDIF(F600,D600,\"Y\")","v":22},{"$f":"DATEDIF(F600,D600,\"YD\")","v":174},{"$f":"D600-F600","v":8210},{"$f":"\"MRS \"&TEXT(J600,\"00000\")&\" \"&SUBSTITUTE(C600,\":\",\"\")&\" (\"&TEXT(D600,\"TT.MM.JJJJ\")&\") - \"&E600&\" (\"&TEXT(F600,\"TT.MM.JJJJ\")&\") \"&H600&\"-\"&I600","v":"MRS 08210 Restraint (19.08.2008) - Teresa Palmer (26.02.1986) 22-174"}]
["tt1712261","nm1954240",{"$f":"_xlfn.XLOOKUP($A601,_xlfn.CHOOSECOLS(_xlfn.ANCHORARRAY(Filme!$G$1),2),_xlfn.CHOOSECOLS(_xlfn.ANCHORARRAY(Filme!$G$1),3),\"\",0,2)","v":"Triple 9"},{"$f":"_xlfn.XLOOKUP($A601,_xlfn.CHOOSECOLS(_xlfn.ANCHORARRAY(Filme!$G$1),2),_xlfn.CHOOSECOLS(_xlfn.ANCHORARRAY(Filme!$G$1),4),\"\",0,2)","v":"2016-05-05"},{"$f":"_xlfn.XLOOKUP($B601,_xlfn.CHOOSECOLS(_xlfn.ANCHORARRAY(Leute!$F$1),2),_xlfn.CHOOSECOLS(_xlfn.ANCHORARRAY(Leute!$F$1),3),\"x\",0,2)","v":"Teresa Palmer"},{"$f":"_xlfn.XLOOKUP($B601,_xlfn.CHOOSECOLS(_xlfn.ANCHORARRAY(Leute!$F$1),2),_xlfn.CHOOSECOLS(_xlfn.ANCHORARRAY(Leute!$F$1),4),\"x\",0,2)","v":"1986-02-26"},{"$f":"RANK(F601,F$1:F601,0)","v":81},{"$f":"DATEDIF(F601,D601,\"Y\")","v":30},{"$f":"DATEDIF(F601,D601,\"YD\")","v":68},{"$f":"D601-F601","v":11026},{"$f":"\"MRS \"&TEXT(J601,\"00000\")&\" \"&SUBSTITUTE(C601,\":\",\"\")&\" (\"&TEXT(D601,\"TT.MM.JJJJ\")&\") - \"&E601&\" (\"&TEXT(F601,\"TT.MM.JJJJ\")&\") \"&H601&\"-\"&I601","v":"MRS 11026 Triple 9 (05.05.2016) - Teresa Palmer (26.02.1986) 30-68"}]
["tt1904845","nm1954240",{"$f":"_xlfn.XLOOKUP($A602,_xlfn.CHOOSECOLS(_xlfn.ANCHORARRAY(Filme!$G$1),2),_xlfn.CHOOSECOLS(_xlfn.ANCHORARRAY(Filme!$G$1),3),\"\",0,2)","v":"Bear"},{"$f":"_xlfn.XLOOKUP($A602,_xlfn.CHOOSECOLS(_xlfn.ANCHORARRAY(Filme!$G$1),2),_xlfn.CHOOSECOLS(_xlfn.ANCHORARRAY(Filme!$G$1),4),\"\",0,2)","v":"2011-05-21"},{"$f":"_xlfn.XLOOKUP($B602,_xlfn.CHOOSECOLS(_xlfn.ANCHORARRAY(Leute!$F$1),2),_xlfn.CHOOSECOLS(_xlfn.ANCHORARRAY(Leute!$F$1),3),\"x\",0,2)","v":"Teresa Palmer"},{"$f":"_xlfn.XLOOKUP($B602,_xlfn.CHOOSECOLS(_xlfn.ANCHORARRAY(Leute!$F$1),2),_xlfn.CHOOSECOLS(_xlfn.ANCHORARRAY(Leute!$F$1),4),\"x\",0,2)","v":"1986-02-26"},{"$f":"RANK(F602,F$1:F602,0)","v":81},{"$f":"DATEDIF(F602,D602,\"Y\")","v":25},{"$f":"DATEDIF(F602,D602,\"YD\")","v":84},{"$f":"D602-F602","v":9215},{"$f":"\"MRS \"&TEXT(J602,\"00000\")&\" \"&SUBSTITUTE(C602,\":\",\"\")&\" (\"&TEXT(D602,\"TT.MM.JJJJ\")&\") - \"&E602&\" (\"&TEXT(F602,\"TT.MM.JJJJ\")&\") \"&H602&\"-\"&I602","v":"MRS 09215 Bear (21.05.2011) - Teresa Palmer (26.02.1986) 25-84"}]
["tt2495104","nm1954240",{"$f":"_xlfn.XLOOKUP($A603,_xlfn.CHOOSECOLS(_xlfn.ANCHORARRAY(Filme!$G$1),2),_xlfn.CHOOSECOLS(_xlfn.ANCHORARRAY(Filme!$G$1),3),\"\",0,2)","v":"Parts Per Billion"},{"$f":"_xlfn.XLOOKUP($A603,_xlfn.CHOOSECOLS(_xlfn.ANCHORARRAY(Filme!$G$1),2),_xlfn.CHOOSECOLS(_xlfn.ANCHORARRAY(Filme!$G$1),4),\"\",0,2)","v":"2015-01-06"},{"$f":"_xlfn.XLOOKUP($B603,_xlfn.CHOOSECOLS(_xlfn.ANCHORARRAY(Leute!$F$1),2),_xlfn.CHOOSECOLS(_xlfn.ANCHORARRAY(Leute!$F$1),3),\"x\",0,2)","v":"Teresa Palmer"},{"$f":"_xlfn.XLOOKUP($B603,_xlfn.CHOOSECOLS(_xlfn.ANCHORARRAY(Leute!$F$1),2),_xlfn.CHOOSECOLS(_xlfn.ANCHORARRAY(Leute!$F$1),4),\"x\",0,2)","v":"1986-02-26"},{"$f":"RANK(F603,F$1:F603,0)","v":81},{"$f":"DATEDIF(F603,D603,\"Y\")","v":28},{"$f":"DATEDIF(F603,D603,\"YD\")","v":314},{"$f":"D603-F603","v":10541},{"$f":"\"MRS \"&TEXT(J603,\"00000\")&\" \"&SUBSTITUTE(C603,\":\",\"\")&\" (\"&TEXT(D603,\"TT.MM.JJJJ\")&\") - \"&E603&\" (\"&TEXT(F603,\"TT.MM.JJJJ\")&\") \"&H603&\"-\"&I603","v":"MRS 10541 Parts Per Billion (06.01.2015) - Teresa Palmer (26.02.1986) 28-314"}]
["tt2966754","nm1954240",{"$f":"_xlfn.XLOOKUP($A604,_xlfn.CHOOSECOLS(_xlfn.ANCHORARRAY(Filme!$G$1),2),_xlfn.CHOOSECOLS(_xlfn.ANCHORARRAY(Filme!$G$1),3),\"\",0,2)","v":"The Ever After"},{"$f":"_xlfn.XLOOKUP($A604,_xlfn.CHOOSECOLS(_xlfn.ANCHORARRAY(Filme!$G$1),2),_xlfn.CHOOSECOLS(_xlfn.ANCHORARRAY(Filme!$G$1),4),\"\",0,2)","v":"2014-06-12"},{"$f":"_xlfn.XLOOKUP($B604,_xlfn.CHOOSECOLS(_xlfn.ANCHORARRAY(Leute!$F$1),2),_xlfn.CHOOSECOLS(_xlfn.ANCHORARRAY(Leute!$F$1),3),\"x\",0,2)","v":"Teresa Palmer"},{"$f":"_xlfn.XLOOKUP($B604,_xlfn.CHOOSECOLS(_xlfn.ANCHORARRAY(Leute!$F$1),2),_xlfn.CHOOSECOLS(_xlfn.ANCHORARRAY(Leute!$F$1),4),\"x\",0,2)","v":"1986-02-26"},{"$f":"RANK(F604,F$1:F604,0)","v":81},{"$f":"DATEDIF(F604,D604,\"Y\")","v":28},{"$f":"DATEDIF(F604,D604,\"YD\")","v":106},{"$f":"D604-F604","v":10333},{"$f":"\"MRS \"&TEXT(J604,\"00000\")&\" \"&SUBSTITUTE(C604,\":\",\"\")&\" (\"&TEXT(D604,\"TT.MM.JJJJ\")&\") - \"&E604&\" (\"&TEXT(F604,\"TT.MM.JJJJ\")&\") \"&H604&\"-\"&I604","v":"MRS 10333 The Ever After (12.06.2014) - Teresa Palmer (26.02.1986) 28-106"}]
["tt3335606","nm1954240",{"$f":"_xlfn.XLOOKUP($A605,_xlfn.CHOOSECOLS(_xlfn.ANCHORARRAY(Filme!$G$1),2),_xlfn.CHOOSECOLS(_xlfn.ANCHORARRAY(Filme!$G$1),3),\"\",0,2)","v":"Berlin Syndrome"},{"$f":"_xlfn.XLOOKUP($A605,_xlfn.CHOOSECOLS(_xlfn.ANCHORARRAY(Filme!$G$1),2),_xlfn.CHOOSECOLS(_xlfn.ANCHORARRAY(Filme!$G$1),4),\"\",0,2)","v":"2017-05-25"},{"$f":"_xlfn.XLOOKUP($B605,_xlfn.CHOOSECOLS(_xlfn.ANCHORARRAY(Leute!$F$1),2),_xlfn.CHOOSECOLS(_xlfn.ANCHORARRAY(Leute!$F$1),3),\"x\",0,2)","v":"Teresa Palmer"},{"$f":"_xlfn.XLOOKUP($B605,_xlfn.CHOOSECOLS(_xlfn.ANCHORARRAY(Leute!$F$1),2),_xlfn.CHOOSECOLS(_xlfn.ANCHORARRAY(Leute!$F$1),4),\"x\",0,2)","v":"1986-02-26"},{"$f":"RANK(F605,F$1:F605,0)","v":81},{"$f":"DATEDIF(F605,D605,\"Y\")","v":31},{"$f":"DATEDIF(F605,D605,\"YD\")","v":88},{"$f":"D605-F605","v":11411},{"$f":"\"MRS \"&TEXT(J605,\"00000\")&\" \"&SUBSTITUTE(C605,\":\",\"\")&\" (\"&TEXT(D605,\"TT.MM.JJJJ\")&\") - \"&E605&\" (\"&TEXT(F605,\"TT.MM.JJJJ\")&\") \"&H605&\"-\"&I605","v":"MRS 11411 Berlin Syndrome (25.05.2017) - Teresa Palmer (26.02.1986) 31-88"}]
["tt3099720","nm1978694",{"$f":"_xlfn.XLOOKUP($A606,_xlfn.CHOOSECOLS(_xlfn.ANCHORARRAY(Filme!$G$1),2),_xlfn.CHOOSECOLS(_xlfn.ANCHORARRAY(Filme!$G$1),3),\"\",0,2)","v":"Orange Is the New Black"},{"$f":"_xlfn.XLOOKUP($A606,_xlfn.CHOOSECOLS(_xlfn.ANCHORARRAY(Filme!$G$1),2),_xlfn.CHOOSECOLS(_xlfn.ANCHORARRAY(Filme!$G$1),4),\"\",0,2)","v":"2014-09-16"},{"$f":"_xlfn.XLOOKUP($B606,_xlfn.CHOOSECOLS(_xlfn.ANCHORARRAY(Leute!$F$1),2),_xlfn.CHOOSECOLS(_xlfn.ANCHORARRAY(Leute!$F$1),3),\"x\",0,2)","v":"Maria Dizzia"},{"$f":"_xlfn.XLOOKUP($B606,_xlfn.CHOOSECOLS(_xlfn.ANCHORARRAY(Leute!$F$1),2),_xlfn.CHOOSECOLS(_xlfn.ANCHORARRAY(Leute!$F$1),4),\"x\",0,2)","v":"1974-12-29"},{"$f":"RANK(F606,F$1:F606,0)","v":351},{"$f":"DATEDIF(F606,D606,\"Y\")","v":39},{"$f":"DATEDIF(F606,D606,\"YD\")","v":261},{"$f":"D606-F606","v":14506},{"$f":"\"MRS \"&TEXT(J606,\"00000\")&\" \"&SUBSTITUTE(C606,\":\",\"\")&\" (\"&TEXT(D606,\"TT.MM.JJJJ\")&\") - \"&E606&\" (\"&TEXT(F606,\"TT.MM.JJJJ\")&\") \"&H606&\"-\"&I606","v":"MRS 14506 Orange Is the New Black (16.09.2014) - Maria Dizzia (29.12.1974) 39-261"}]
["tt4848010","nm1978694",{"$f":"_xlfn.XLOOKUP($A607,_xlfn.CHOOSECOLS(_xlfn.ANCHORARRAY(Filme!$G$1),2),_xlfn.CHOOSECOLS(_xlfn.ANCHORARRAY(Filme!$G$1),3),\"\",0,2)","v":"Fits and Starts"},{"$f":"_xlfn.XLOOKUP($A607,_xlfn.CHOOSECOLS(_xlfn.ANCHORARRAY(Filme!$G$1),2),_xlfn.CHOOSECOLS(_xlfn.ANCHORARRAY(Filme!$G$1),4),\"\",0,2)","v":"2017-12-05"},{"$f":"_xlfn.XLOOKUP($B607,_xlfn.CHOOSECOLS(_xlfn.ANCHORARRAY(Leute!$F$1),2),_xlfn.CHOOSECOLS(_xlfn.ANCHORARRAY(Leute!$F$1),3),\"x\",0,2)","v":"Maria Dizzia"},{"$f":"_xlfn.XLOOKUP($B607,_xlfn.CHOOSECOLS(_xlfn.ANCHORARRAY(Leute!$F$1),2),_xlfn.CHOOSECOLS(_xlfn.ANCHORARRAY(Leute!$F$1),4),\"x\",0,2)","v":"1974-12-29"},{"$f":"RANK(F607,F$1:F607,0)","v":351},{"$f":"DATEDIF(F607,D607,\"Y\")","v":42},{"$f":"DATEDIF(F607,D607,\"YD\")","v":341},{"$f":"D607-F607","v":15682},{"$f":"\"MRS \"&TEXT(J607,\"00000\")&\" \"&SUBSTITUTE(C607,\":\",\"\")&\" (\"&TEXT(D607,\"TT.MM.JJJJ\")&\") - \"&E607&\" (\"&TEXT(F607,\"TT.MM.JJJJ\")&\") \"&H607&\"-\"&I607","v":"MRS 15682 Fits and Starts (05.12.2017) - Maria Dizzia (29.12.1974) 42-341"}]
["tt6516314","nm1978694",{"$f":"_xlfn.XLOOKUP($A608,_xlfn.CHOOSECOLS(_xlfn.ANCHORARRAY(Filme!$G$1),2),_xlfn.CHOOSECOLS(_xlfn.ANCHORARRAY(Filme!$G$1),3),\"\",0,2)","v":"Piercing"},{"$f":"_xlfn.XLOOKUP($A608,_xlfn.CHOOSECOLS(_xlfn.ANCHORARRAY(Filme!$G$1),2),_xlfn.CHOOSECOLS(_xlfn.ANCHORARRAY(Filme!$G$1),4),\"\",0,2)","v":"2019-02-01"},{"$f":"_xlfn.XLOOKUP($B608,_xlfn.CHOOSECOLS(_xlfn.ANCHORARRAY(Leute!$F$1),2),_xlfn.CHOOSECOLS(_xlfn.ANCHORARRAY(Leute!$F$1),3),\"x\",0,2)","v":"Maria Dizzia"},{"$f":"_xlfn.XLOOKUP($B608,_xlfn.CHOOSECOLS(_xlfn.ANCHORARRAY(Leute!$F$1),2),_xlfn.CHOOSECOLS(_xlfn.ANCHORARRAY(Leute!$F$1),4),\"x\",0,2)","v":"1974-12-29"},{"$f":"RANK(F608,F$1:F608,0)","v":351},{"$f":"DATEDIF(F608,D608,\"Y\")","v":44},{"$f":"DATEDIF(F608,D608,\"YD\")","v":34},{"$f":"D608-F608","v":16105},{"$f":"\"MRS \"&TEXT(J608,\"00000\")&\" \"&SUBSTITUTE(C608,\":\",\"\")&\" (\"&TEXT(D608,\"TT.MM.JJJJ\")&\") - \"&E608&\" (\"&TEXT(F608,\"TT.MM.JJJJ\")&\") \"&H608&\"-\"&I608","v":"MRS 16105 Piercing (01.02.2019) - Maria Dizzia (29.12.1974) 44-34"}]
["tt1283887","nm2007030",{"$f":"_xlfn.XLOOKUP($A609,_xlfn.CHOOSECOLS(_xlfn.ANCHORARRAY(Filme!$G$1),2),_xlfn.CHOOSECOLS(_xlfn.ANCHORARRAY(Filme!$G$1),3),\"\",0,2)","v":"Burning Palms"},{"$f":"_xlfn.XLOOKUP($A609,_xlfn.CHOOSECOLS(_xlfn.ANCHORARRAY(Filme!$G$1),2),_xlfn.CHOOSECOLS(_xlfn.ANCHORARRAY(Filme!$G$1),4),\"\",0,2)","v":"2011-01-14"},{"$f":"_xlfn.XLOOKUP($B609,_xlfn.CHOOSECOLS(_xlfn.ANCHORARRAY(Leute!$F$1),2),_xlfn.CHOOSECOLS(_xlfn.ANCHORARRAY(Leute!$F$1),3),\"x\",0,2)","v":"Emily Meade"},{"$f":"_xlfn.XLOOKUP($B609,_xlfn.CHOOSECOLS(_xlfn.ANCHORARRAY(Leute!$F$1),2),_xlfn.CHOOSECOLS(_xlfn.ANCHORARRAY(Leute!$F$1),4),\"x\",0,2)","v":"1989-01-10"},{"$f":"RANK(F609,F$1:F609,0)","v":49},{"$f":"DATEDIF(F609,D609,\"Y\")","v":22},{"$f":"DATEDIF(F609,D609,\"YD\")","v":4},{"$f":"D609-F609","v":8039},{"$f":"\"MRS \"&TEXT(J609,\"00000\")&\" \"&SUBSTITUTE(C609,\":\",\"\")&\" (\"&TEXT(D609,\"TT.MM.JJJJ\")&\") - \"&E609&\" (\"&TEXT(F609,\"TT.MM.JJJJ\")&\") \"&H609&\"-\"&I609","v":"MRS 08039 Burning Palms (14.01.2011) - Emily Meade (10.01.1989) 22-4"}]
["tt1407084","nm2007030",{"$f":"_xlfn.XLOOKUP($A610,_xlfn.CHOOSECOLS(_xlfn.ANCHORARRAY(Filme!$G$1),2),_xlfn.CHOOSECOLS(_xlfn.ANCHORARRAY(Filme!$G$1),3),\"\",0,2)","v":"Twelve"},{"$f":"_xlfn.XLOOKUP($A610,_xlfn.CHOOSECOLS(_xlfn.ANCHORARRAY(Filme!$G$1),2),_xlfn.CHOOSECOLS(_xlfn.ANCHORARRAY(Filme!$G$1),4),\"\",0,2)","v":"2010-10-14"},{"$f":"_xlfn.XLOOKUP($B610,_xlfn.CHOOSECOLS(_xlfn.ANCHORARRAY(Leute!$F$1),2),_xlfn.CHOOSECOLS(_xlfn.ANCHORARRAY(Leute!$F$1),3),\"x\",0,2)","v":"Emily Meade"},{"$f":"_xlfn.XLOOKUP($B610,_xlfn.CHOOSECOLS(_xlfn.ANCHORARRAY(Leute!$F$1),2),_xlfn.CHOOSECOLS(_xlfn.ANCHORARRAY(Leute!$F$1),4),\"x\",0,2)","v":"1989-01-10"},{"$f":"RANK(F610,F$1:F610,0)","v":49},{"$f":"DATEDIF(F610,D610,\"Y\")","v":21},{"$f":"DATEDIF(F610,D610,\"YD\")","v":277},{"$f":"D610-F610","v":7947},{"$f":"\"MRS \"&TEXT(J610,\"00000\")&\" \"&SUBSTITUTE(C610,\":\",\"\")&\" (\"&TEXT(D610,\"TT.MM.JJJJ\")&\") - \"&E610&\" (\"&TEXT(F610,\"TT.MM.JJJJ\")&\") \"&H610&\"-\"&I610","v":"MRS 07947 Twelve (14.10.2010) - Emily Meade (10.01.1989) 21-277"}]
["tt1585675","nm2007030",{"$f":"_xlfn.XLOOKUP($A611,_xlfn.CHOOSECOLS(_xlfn.ANCHORARRAY(Filme!$G$1),2),_xlfn.CHOOSECOLS(_xlfn.ANCHORARRAY(Filme!$G$1),3),\"\",0,2)","v":"Boardwalk Empire"},{"$f":"_xlfn.XLOOKUP($A611,_xlfn.CHOOSECOLS(_xlfn.ANCHORARRAY(Filme!$G$1),2),_xlfn.CHOOSECOLS(_xlfn.ANCHORARRAY(Filme!$G$1),4),\"\",0,2)","v":"2011-02-23"},{"$f":"_xlfn.XLOOKUP($B611,_xlfn.CHOOSECOLS(_xlfn.ANCHORARRAY(Leute!$F$1),2),_xlfn.CHOOSECOLS(_xlfn.ANCHORARRAY(Leute!$F$1),3),\"x\",0,2)","v":"Emily Meade"},{"$f":"_xlfn.XLOOKUP($B611,_xlfn.CHOOSECOLS(_xlfn.ANCHORARRAY(Leute!$F$1),2),_xlfn.CHOOSECOLS(_xlfn.ANCHORARRAY(Leute!$F$1),4),\"x\",0,2)","v":"1989-01-10"},{"$f":"RANK(F611,F$1:F611,0)","v":49},{"$f":"DATEDIF(F611,D611,\"Y\")","v":22},{"$f":"DATEDIF(F611,D611,\"YD\")","v":44},{"$f":"D611-F611","v":8079},{"$f":"\"MRS \"&TEXT(J611,\"00000\")&\" \"&SUBSTITUTE(C611,\":\",\"\")&\" (\"&TEXT(D611,\"TT.MM.JJJJ\")&\") - \"&E611&\" (\"&TEXT(F611,\"TT.MM.JJJJ\")&\") \"&H611&\"-\"&I611","v":"MRS 08079 Boardwalk Empire (23.02.2011) - Emily Meade (10.01.1989) 22-44"}]
["tt3263946","nm2007030",{"$f":"_xlfn.XLOOKUP($A612,_xlfn.CHOOSECOLS(_xlfn.ANCHORARRAY(Filme!$G$1),2),_xlfn.CHOOSECOLS(_xlfn.ANCHORARRAY(Filme!$G$1),3),\"\",0,2)","v":"Trial by Fire"},{"$f":"_xlfn.XLOOKUP($A612,_xlfn.CHOOSECOLS(_xlfn.ANCHORARRAY(Filme!$G$1),2),_xlfn.CHOOSECOLS(_xlfn.ANCHORARRAY(Filme!$G$1),4),\"\",0,2)","v":"2019-05-17"},{"$f":"_xlfn.XLOOKUP($B612,_xlfn.CHOOSECOLS(_xlfn.ANCHORARRAY(Leute!$F$1),2),_xlfn.CHOOSECOLS(_xlfn.ANCHORARRAY(Leute!$F$1),3),\"x\",0,2)","v":"Emily Meade"},{"$f":"_xlfn.XLOOKUP($B612,_xlfn.CHOOSECOLS(_xlfn.ANCHORARRAY(Leute!$F$1),2),_xlfn.CHOOSECOLS(_xlfn.ANCHORARRAY(Leute!$F$1),4),\"x\",0,2)","v":"1989-01-10"},{"$f":"RANK(F612,F$1:F612,0)","v":49},{"$f":"DATEDIF(F612,D612,\"Y\")","v":30},{"$f":"DATEDIF(F612,D612,\"YD\")","v":127},{"$f":"D612-F612","v":11084},{"$f":"\"MRS \"&TEXT(J612,\"00000\")&\" \"&SUBSTITUTE(C612,\":\",\"\")&\" (\"&TEXT(D612,\"TT.MM.JJJJ\")&\") - \"&E612&\" (\"&TEXT(F612,\"TT.MM.JJJJ\")&\") \"&H612&\"-\"&I612","v":"MRS 11084 Trial by Fire (17.05.2019) - Emily Meade (10.01.1989) 30-127"}]
["tt3531824","nm2007030",{"$f":"_xlfn.XLOOKUP($A613,_xlfn.CHOOSECOLS(_xlfn.ANCHORARRAY(Filme!$G$1),2),_xlfn.CHOOSECOLS(_xlfn.ANCHORARRAY(Filme!$G$1),3),\"\",0,2)","v":"Nerve"},{"$f":"_xlfn.XLOOKUP($A613,_xlfn.CHOOSECOLS(_xlfn.ANCHORARRAY(Filme!$G$1),2),_xlfn.CHOOSECOLS(_xlfn.ANCHORARRAY(Filme!$G$1),4),\"\",0,2)","v":"2016-09-08"},{"$f":"_xlfn.XLOOKUP($B613,_xlfn.CHOOSECOLS(_xlfn.ANCHORARRAY(Leute!$F$1),2),_xlfn.CHOOSECOLS(_xlfn.ANCHORARRAY(Leute!$F$1),3),\"x\",0,2)","v":"Emily Meade"},{"$f":"_xlfn.XLOOKUP($B613,_xlfn.CHOOSECOLS(_xlfn.ANCHORARRAY(Leute!$F$1),2),_xlfn.CHOOSECOLS(_xlfn.ANCHORARRAY(Leute!$F$1),4),\"x\",0,2)","v":"1989-01-10"},{"$f":"RANK(F613,F$1:F613,0)","v":49},{"$f":"DATEDIF(F613,D613,\"Y\")","v":27},{"$f":"DATEDIF(F613,D613,\"YD\")","v":241},{"$f":"D613-F613","v":10103},{"$f":"\"MRS \"&TEXT(J613,\"00000\")&\" \"&SUBSTITUTE(C613,\":\",\"\")&\" (\"&TEXT(D613,\"TT.MM.JJJJ\")&\") - \"&E613&\" (\"&TEXT(F613,\"TT.MM.JJJJ\")&\") \"&H613&\"-\"&I613","v":"MRS 10103 Nerve (08.09.2016) - Emily Meade (10.01.1989) 27-241"}]
["tt5426706","nm2007030",{"$f":"_xlfn.XLOOKUP($A614,_xlfn.CHOOSECOLS(_xlfn.ANCHORARRAY(Filme!$G$1),2),_xlfn.CHOOSECOLS(_xlfn.ANCHORARRAY(Filme!$G$1),3),\"\",0,2)","v":"The Deuce"},{"$f":"_xlfn.XLOOKUP($A614,_xlfn.CHOOSECOLS(_xlfn.ANCHORARRAY(Filme!$G$1),2),_xlfn.CHOOSECOLS(_xlfn.ANCHORARRAY(Filme!$G$1),4),\"\",0,2)","v":"2017-09-17"},{"$f":"_xlfn.XLOOKUP($B614,_xlfn.CHOOSECOLS(_xlfn.ANCHORARRAY(Leute!$F$1),2),_xlfn.CHOOSECOLS(_xlfn.ANCHORARRAY(Leute!$F$1),3),\"x\",0,2)","v":"Emily Meade"},{"$f":"_xlfn.XLOOKUP($B614,_xlfn.CHOOSECOLS(_xlfn.ANCHORARRAY(Leute!$F$1),2),_xlfn.CHOOSECOLS(_xlfn.ANCHORARRAY(Leute!$F$1),4),\"x\",0,2)","v":"1989-01-10"},{"$f":"RANK(F614,F$1:F614,0)","v":49},{"$f":"DATEDIF(F614,D614,\"Y\")","v":28},{"$f":"DATEDIF(F614,D614,\"YD\")","v":250},{"$f":"D614-F614","v":10477},{"$f":"\"MRS \"&TEXT(J614,\"00000\")&\" \"&SUBSTITUTE(C614,\":\",\"\")&\" (\"&TEXT(D614,\"TT.MM.JJJJ\")&\") - \"&E614&\" (\"&TEXT(F614,\"TT.MM.JJJJ\")&\") \"&H614&\"-\"&I614","v":"MRS 10477 The Deuce (17.09.2017) - Emily Meade (10.01.1989) 28-250"}]
["tt23475134","nm2016723",{"$f":"_xlfn.XLOOKUP($A615,_xlfn.CHOOSECOLS(_xlfn.ANCHORARRAY(Filme!$G$1),2),_xlfn.CHOOSECOLS(_xlfn.ANCHORARRAY(Filme!$G$1),3),\"\",0,2)","v":"Bad Sisters"},{"$f":"_xlfn.XLOOKUP($A615,_xlfn.CHOOSECOLS(_xlfn.ANCHORARRAY(Filme!$G$1),2),_xlfn.CHOOSECOLS(_xlfn.ANCHORARRAY(Filme!$G$1),4),\"\",0,2)","v":"2024-11-13"},{"$f":"_xlfn.XLOOKUP($B615,_xlfn.CHOOSECOLS(_xlfn.ANCHORARRAY(Leute!$F$1),2),_xlfn.CHOOSECOLS(_xlfn.ANCHORARRAY(Leute!$F$1),3),\"x\",0,2)","v":"Eve Hewson"},{"$f":"_xlfn.XLOOKUP($B615,_xlfn.CHOOSECOLS(_xlfn.ANCHORARRAY(Leute!$F$1),2),_xlfn.CHOOSECOLS(_xlfn.ANCHORARRAY(Leute!$F$1),4),\"x\",0,2)","v":"1991-07-07"},{"$f":"RANK(F615,F$1:F615,0)","v":14},{"$f":"DATEDIF(F615,D615,\"Y\")","v":33},{"$f":"DATEDIF(F615,D615,\"YD\")","v":129},{"$f":"D615-F615","v":12183},{"$f":"\"MRS \"&TEXT(J615,\"00000\")&\" \"&SUBSTITUTE(C615,\":\",\"\")&\" (\"&TEXT(D615,\"TT.MM.JJJJ\")&\") - \"&E615&\" (\"&TEXT(F615,\"TT.MM.JJJJ\")&\") \"&H615&\"-\"&I615","v":"MRS 12183 Bad Sisters (13.11.2024) - Eve Hewson (07.07.1991) 33-129"}]
["tt5362988","nm2080328",{"$f":"_xlfn.XLOOKUP($A616,_xlfn.CHOOSECOLS(_xlfn.ANCHORARRAY(Filme!$G$1),2),_xlfn.CHOOSECOLS(_xlfn.ANCHORARRAY(Filme!$G$1),3),\"\",0,2)","v":"Wind River"},{"$f":"_xlfn.XLOOKUP($A616,_xlfn.CHOOSECOLS(_xlfn.ANCHORARRAY(Filme!$G$1),2),_xlfn.CHOOSECOLS(_xlfn.ANCHORARRAY(Filme!$G$1),4),\"\",0,2)","v":"2018-02-08"},{"$f":"_xlfn.XLOOKUP($B616,_xlfn.CHOOSECOLS(_xlfn.ANCHORARRAY(Leute!$F$1),2),_xlfn.CHOOSECOLS(_xlfn.ANCHORARRAY(Leute!$F$1),3),\"x\",0,2)","v":"Kelsey Asbille"},{"$f":"_xlfn.XLOOKUP($B616,_xlfn.CHOOSECOLS(_xlfn.ANCHORARRAY(Leute!$F$1),2),_xlfn.CHOOSECOLS(_xlfn.ANCHORARRAY(Leute!$F$1),4),\"x\",0,2)","v":"1991-09-09"},{"$f":"RANK(F616,F$1:F616,0)","v":14},{"$f":"DATEDIF(F616,D616,\"Y\")","v":26},{"$f":"DATEDIF(F616,D616,\"YD\")","v":152},{"$f":"D616-F616","v":9649},{"$f":"\"MRS \"&TEXT(J616,\"00000\")&\" \"&SUBSTITUTE(C616,\":\",\"\")&\" (\"&TEXT(D616,\"TT.MM.JJJJ\")&\") - \"&E616&\" (\"&TEXT(F616,\"TT.MM.JJJJ\")&\") \"&H616&\"-\"&I616","v":"MRS 09649 Wind River (08.02.2018) - Kelsey Asbille (09.09.1991) 26-152"}]
["tt8075156","nm2080328",{"$f":"_xlfn.XLOOKUP($A617,_xlfn.CHOOSECOLS(_xlfn.ANCHORARRAY(Filme!$G$1),2),_xlfn.CHOOSECOLS(_xlfn.ANCHORARRAY(Filme!$G$1),3),\"\",0,2)","v":"Yellowstone"},{"$f":"_xlfn.XLOOKUP($A617,_xlfn.CHOOSECOLS(_xlfn.ANCHORARRAY(Filme!$G$1),2),_xlfn.CHOOSECOLS(_xlfn.ANCHORARRAY(Filme!$G$1),4),\"\",0,2)","v":"2020-11-24"},{"$f":"_xlfn.XLOOKUP($B617,_xlfn.CHOOSECOLS(_xlfn.ANCHORARRAY(Leute!$F$1),2),_xlfn.CHOOSECOLS(_xlfn.ANCHORARRAY(Leute!$F$1),3),\"x\",0,2)","v":"Kelsey Asbille"},{"$f":"_xlfn.XLOOKUP($B617,_xlfn.CHOOSECOLS(_xlfn.ANCHORARRAY(Leute!$F$1),2),_xlfn.CHOOSECOLS(_xlfn.ANCHORARRAY(Leute!$F$1),4),\"x\",0,2)","v":"1991-09-09"},{"$f":"RANK(F617,F$1:F617,0)","v":14},{"$f":"DATEDIF(F617,D617,\"Y\")","v":29},{"$f":"DATEDIF(F617,D617,\"YD\")","v":76},{"$f":"D617-F617","v":10669},{"$f":"\"MRS \"&TEXT(J617,\"00000\")&\" \"&SUBSTITUTE(C617,\":\",\"\")&\" (\"&TEXT(D617,\"TT.MM.JJJJ\")&\") - \"&E617&\" (\"&TEXT(F617,\"TT.MM.JJJJ\")&\") \"&H617&\"-\"&I617","v":"MRS 10669 Yellowstone (24.11.2020) - Kelsey Asbille (09.09.1991) 29-76"}]
["tt3100274","nm2088803",{"$f":"_xlfn.XLOOKUP($A618,_xlfn.CHOOSECOLS(_xlfn.ANCHORARRAY(Filme!$G$1),2),_xlfn.CHOOSECOLS(_xlfn.ANCHORARRAY(Filme!$G$1),3),\"\",0,2)","v":"Manhattan Nocturne"},{"$f":"_xlfn.XLOOKUP($A618,_xlfn.CHOOSECOLS(_xlfn.ANCHORARRAY(Filme!$G$1),2),_xlfn.CHOOSECOLS(_xlfn.ANCHORARRAY(Filme!$G$1),4),\"\",0,2)","v":"2016-05-20"},{"$f":"_xlfn.XLOOKUP($B618,_xlfn.CHOOSECOLS(_xlfn.ANCHORARRAY(Leute!$F$1),2),_xlfn.CHOOSECOLS(_xlfn.ANCHORARRAY(Leute!$F$1),3),\"x\",0,2)","v":"Yvonne Strahovski"},{"$f":"_xlfn.XLOOKUP($B618,_xlfn.CHOOSECOLS(_xlfn.ANCHORARRAY(Leute!$F$1),2),_xlfn.CHOOSECOLS(_xlfn.ANCHORARRAY(Leute!$F$1),4),\"x\",0,2)","v":"1982-07-30"},{"$f":"RANK(F618,F$1:F618,0)","v":145},{"$f":"DATEDIF(F618,D618,\"Y\")","v":33},{"$f":"DATEDIF(F618,D618,\"YD\")","v":294},{"$f":"D618-F618","v":12348},{"$f":"\"MRS \"&TEXT(J618,\"00000\")&\" \"&SUBSTITUTE(C618,\":\",\"\")&\" (\"&TEXT(D618,\"TT.MM.JJJJ\")&\") - \"&E618&\" (\"&TEXT(F618,\"TT.MM.JJJJ\")&\") \"&H618&\"-\"&I618","v":"MRS 12348 Manhattan Nocturne (20.05.2016) - Yvonne Strahovski (30.07.1982) 33-294"}]
["tt1372306","nm2129662",{"$f":"_xlfn.XLOOKUP($A619,_xlfn.CHOOSECOLS(_xlfn.ANCHORARRAY(Filme!$G$1),2),_xlfn.CHOOSECOLS(_xlfn.ANCHORARRAY(Filme!$G$1),3),\"\",0,2)","v":"Year of the Carnivore"},{"$f":"_xlfn.XLOOKUP($A619,_xlfn.CHOOSECOLS(_xlfn.ANCHORARRAY(Filme!$G$1),2),_xlfn.CHOOSECOLS(_xlfn.ANCHORARRAY(Filme!$G$1),4),\"\",0,2)","v":"2009-09-10"},{"$f":"_xlfn.XLOOKUP($B619,_xlfn.CHOOSECOLS(_xlfn.ANCHORARRAY(Leute!$F$1),2),_xlfn.CHOOSECOLS(_xlfn.ANCHORARRAY(Leute!$F$1),3),\"x\",0,2)","v":"Cristin Milioti"},{"$f":"_xlfn.XLOOKUP($B619,_xlfn.CHOOSECOLS(_xlfn.ANCHORARRAY(Leute!$F$1),2),_xlfn.CHOOSECOLS(_xlfn.ANCHORARRAY(Leute!$F$1),4),\"x\",0,2)","v":"1985-08-16"},{"$f":"RANK(F619,F$1:F619,0)","v":101},{"$f":"DATEDIF(F619,D619,\"Y\")","v":24},{"$f":"DATEDIF(F619,D619,\"YD\")","v":25},{"$f":"D619-F619","v":8791},{"$f":"\"MRS \"&TEXT(J619,\"00000\")&\" \"&SUBSTITUTE(C619,\":\",\"\")&\" (\"&TEXT(D619,\"TT.MM.JJJJ\")&\") - \"&E619&\" (\"&TEXT(F619,\"TT.MM.JJJJ\")&\") \"&H619&\"-\"&I619","v":"MRS 08791 Year of the Carnivore (10.09.2009) - Cristin Milioti (16.08.1985) 24-25"}]
["tt14948318","nm2129662",{"$f":"_xlfn.XLOOKUP($A620,_xlfn.CHOOSECOLS(_xlfn.ANCHORARRAY(Filme!$G$1),2),_xlfn.CHOOSECOLS(_xlfn.ANCHORARRAY(Filme!$G$1),3),\"\",0,2)","v":"Made for Love"},{"$f":"_xlfn.XLOOKUP($A620,_xlfn.CHOOSECOLS(_xlfn.ANCHORARRAY(Filme!$G$1),2),_xlfn.CHOOSECOLS(_xlfn.ANCHORARRAY(Filme!$G$1),4),\"\",0,2)","v":"2022-04-28"},{"$f":"_xlfn.XLOOKUP($B620,_xlfn.CHOOSECOLS(_xlfn.ANCHORARRAY(Leute!$F$1),2),_xlfn.CHOOSECOLS(_xlfn.ANCHORARRAY(Leute!$F$1),3),\"x\",0,2)","v":"Cristin Milioti"},{"$f":"_xlfn.XLOOKUP($B620,_xlfn.CHOOSECOLS(_xlfn.ANCHORARRAY(Leute!$F$1),2),_xlfn.CHOOSECOLS(_xlfn.ANCHORARRAY(Leute!$F$1),4),\"x\",0,2)","v":"1985-08-16"},{"$f":"RANK(F620,F$1:F620,0)","v":101},{"$f":"DATEDIF(F620,D620,\"Y\")","v":36},{"$f":"DATEDIF(F620,D620,\"YD\")","v":255},{"$f":"D620-F620","v":13404},{"$f":"\"MRS \"&TEXT(J620,\"00000\")&\" \"&SUBSTITUTE(C620,\":\",\"\")&\" (\"&TEXT(D620,\"TT.MM.JJJJ\")&\") - \"&E620&\" (\"&TEXT(F620,\"TT.MM.JJJJ\")&\") \"&H620&\"-\"&I620","v":"MRS 13404 Made for Love (28.04.2022) - Cristin Milioti (16.08.1985) 36-255"}]
["tt3722062","nm2140860",{"$f":"_xlfn.XLOOKUP($A621,_xlfn.CHOOSECOLS(_xlfn.ANCHORARRAY(Filme!$G$1),2),_xlfn.CHOOSECOLS(_xlfn.ANCHORARRAY(Filme!$G$1),3),\"\",0,2)","v":"Bokeh"},{"$f":"_xlfn.XLOOKUP($A621,_xlfn.CHOOSECOLS(_xlfn.ANCHORARRAY(Filme!$G$1),2),_xlfn.CHOOSECOLS(_xlfn.ANCHORARRAY(Filme!$G$1),4),\"\",0,2)","v":"2019-03-24"},{"$f":"_xlfn.XLOOKUP($B621,_xlfn.CHOOSECOLS(_xlfn.ANCHORARRAY(Leute!$F$1),2),_xlfn.CHOOSECOLS(_xlfn.ANCHORARRAY(Leute!$F$1),3),\"x\",0,2)","v":"Maika Monroe"},{"$f":"_xlfn.XLOOKUP($B621,_xlfn.CHOOSECOLS(_xlfn.ANCHORARRAY(Leute!$F$1),2),_xlfn.CHOOSECOLS(_xlfn.ANCHORARRAY(Leute!$F$1),4),\"x\",0,2)","v":"1993-05-29"},{"$f":"RANK(F621,F$1:F621,0)","v":4},{"$f":"DATEDIF(F621,D621,\"Y\")","v":25},{"$f":"DATEDIF(F621,D621,\"YD\")","v":299},{"$f":"D621-F621","v":9430},{"$f":"\"MRS \"&TEXT(J621,\"00000\")&\" \"&SUBSTITUTE(C621,\":\",\"\")&\" (\"&TEXT(D621,\"TT.MM.JJJJ\")&\") - \"&E621&\" (\"&TEXT(F621,\"TT.MM.JJJJ\")&\") \"&H621&\"-\"&I621","v":"MRS 09430 Bokeh (24.03.2019) - Maika Monroe (29.05.1993) 25-299"}]
["tt2139555","nm2201555",{"$f":"_xlfn.XLOOKUP($A622,_xlfn.CHOOSECOLS(_xlfn.ANCHORARRAY(Filme!$G$1),2),_xlfn.CHOOSECOLS(_xlfn.ANCHORARRAY(Filme!$G$1),3),\"\",0,2)","v":"Playing It Cool"},{"$f":"_xlfn.XLOOKUP($A622,_xlfn.CHOOSECOLS(_xlfn.ANCHORARRAY(Filme!$G$1),2),_xlfn.CHOOSECOLS(_xlfn.ANCHORARRAY(Filme!$G$1),4),\"\",0,2)","v":"2015-05-08"},{"$f":"_xlfn.XLOOKUP($B622,_xlfn.CHOOSECOLS(_xlfn.ANCHORARRAY(Leute!$F$1),2),_xlfn.CHOOSECOLS(_xlfn.ANCHORARRAY(Leute!$F$1),3),\"x\",0,2)","v":"Aubrey Plaza"},{"$f":"_xlfn.XLOOKUP($B622,_xlfn.CHOOSECOLS(_xlfn.ANCHORARRAY(Leute!$F$1),2),_xlfn.CHOOSECOLS(_xlfn.ANCHORARRAY(Leute!$F$1),4),\"x\",0,2)","v":"1984-06-26"},{"$f":"RANK(F622,F$1:F622,0)","v":117},{"$f":"DATEDIF(F622,D622,\"Y\")","v":30},{"$f":"DATEDIF(F622,D622,\"YD\")","v":316},{"$f":"D622-F622","v":11273},{"$f":"\"MRS \"&TEXT(J622,\"00000\")&\" \"&SUBSTITUTE(C622,\":\",\"\")&\" (\"&TEXT(D622,\"TT.MM.JJJJ\")&\") - \"&E622&\" (\"&TEXT(F622,\"TT.MM.JJJJ\")&\") \"&H622&\"-\"&I622","v":"MRS 11273 Playing It Cool (08.05.2015) - Aubrey Plaza (26.06.1984) 30-316"}]
["tt22333372","nm2201555",{"$f":"_xlfn.XLOOKUP($A623,_xlfn.CHOOSECOLS(_xlfn.ANCHORARRAY(Filme!$G$1),2),_xlfn.CHOOSECOLS(_xlfn.ANCHORARRAY(Filme!$G$1),3),\"\",0,2)","v":"The White Lotus"},{"$f":"_xlfn.XLOOKUP($A623,_xlfn.CHOOSECOLS(_xlfn.ANCHORARRAY(Filme!$G$1),2),_xlfn.CHOOSECOLS(_xlfn.ANCHORARRAY(Filme!$G$1),4),\"\",0,2)","v":"2022-12-04"},{"$f":"_xlfn.XLOOKUP($B623,_xlfn.CHOOSECOLS(_xlfn.ANCHORARRAY(Leute!$F$1),2),_xlfn.CHOOSECOLS(_xlfn.ANCHORARRAY(Leute!$F$1),3),\"x\",0,2)","v":"Aubrey Plaza"},{"$f":"_xlfn.XLOOKUP($B623,_xlfn.CHOOSECOLS(_xlfn.ANCHORARRAY(Leute!$F$1),2),_xlfn.CHOOSECOLS(_xlfn.ANCHORARRAY(Leute!$F$1),4),\"x\",0,2)","v":"1984-06-26"},{"$f":"RANK(F623,F$1:F623,0)","v":117},{"$f":"DATEDIF(F623,D623,\"Y\")","v":38},{"$f":"DATEDIF(F623,D623,\"YD\")","v":161},{"$f":"D623-F623","v":14040},{"$f":"\"MRS \"&TEXT(J623,\"00000\")&\" \"&SUBSTITUTE(C623,\":\",\"\")&\" (\"&TEXT(D623,\"TT.MM.JJJJ\")&\") - \"&E623&\" (\"&TEXT(F623,\"TT.MM.JJJJ\")&\") \"&H623&\"-\"&I623","v":"MRS 14040 The White Lotus (04.12.2022) - Aubrey Plaza (26.06.1984) 38-161"}]
["tt2823054","nm2201555",{"$f":"_xlfn.XLOOKUP($A624,_xlfn.CHOOSECOLS(_xlfn.ANCHORARRAY(Filme!$G$1),2),_xlfn.CHOOSECOLS(_xlfn.ANCHORARRAY(Filme!$G$1),3),\"\",0,2)","v":"Mike and Dave Need Wedding Dates"},{"$f":"_xlfn.XLOOKUP($A624,_xlfn.CHOOSECOLS(_xlfn.ANCHORARRAY(Filme!$G$1),2),_xlfn.CHOOSECOLS(_xlfn.ANCHORARRAY(Filme!$G$1),4),\"\",0,2)","v":"2016-09-01"},{"$f":"_xlfn.XLOOKUP($B624,_xlfn.CHOOSECOLS(_xlfn.ANCHORARRAY(Leute!$F$1),2),_xlfn.CHOOSECOLS(_xlfn.ANCHORARRAY(Leute!$F$1),3),\"x\",0,2)","v":"Aubrey Plaza"},{"$f":"_xlfn.XLOOKUP($B624,_xlfn.CHOOSECOLS(_xlfn.ANCHORARRAY(Leute!$F$1),2),_xlfn.CHOOSECOLS(_xlfn.ANCHORARRAY(Leute!$F$1),4),\"x\",0,2)","v":"1984-06-26"},{"$f":"RANK(F624,F$1:F624,0)","v":117},{"$f":"DATEDIF(F624,D624,\"Y\")","v":32},{"$f":"DATEDIF(F624,D624,\"YD\")","v":67},{"$f":"D624-F624","v":11755},{"$f":"\"MRS \"&TEXT(J624,\"00000\")&\" \"&SUBSTITUTE(C624,\":\",\"\")&\" (\"&TEXT(D624,\"TT.MM.JJJJ\")&\") - \"&E624&\" (\"&TEXT(F624,\"TT.MM.JJJJ\")&\") \"&H624&\"-\"&I624","v":"MRS 11755 Mike and Dave Need Wedding Dates (01.09.2016) - Aubrey Plaza (26.06.1984) 32-67"}]
["tt5666304","nm2201555",{"$f":"_xlfn.XLOOKUP($A625,_xlfn.CHOOSECOLS(_xlfn.ANCHORARRAY(Filme!$G$1),2),_xlfn.CHOOSECOLS(_xlfn.ANCHORARRAY(Filme!$G$1),3),\"\",0,2)","v":"The Little Hours"},{"$f":"_xlfn.XLOOKUP($A625,_xlfn.CHOOSECOLS(_xlfn.ANCHORARRAY(Filme!$G$1),2),_xlfn.CHOOSECOLS(_xlfn.ANCHORARRAY(Filme!$G$1),4),\"\",0,2)","v":"2017-06-30"},{"$f":"_xlfn.XLOOKUP($B625,_xlfn.CHOOSECOLS(_xlfn.ANCHORARRAY(Leute!$F$1),2),_xlfn.CHOOSECOLS(_xlfn.ANCHORARRAY(Leute!$F$1),3),\"x\",0,2)","v":"Aubrey Plaza"},{"$f":"_xlfn.XLOOKUP($B625,_xlfn.CHOOSECOLS(_xlfn.ANCHORARRAY(Leute!$F$1),2),_xlfn.CHOOSECOLS(_xlfn.ANCHORARRAY(Leute!$F$1),4),\"x\",0,2)","v":"1984-06-26"},{"$f":"RANK(F625,F$1:F625,0)","v":117},{"$f":"DATEDIF(F625,D625,\"Y\")","v":33},{"$f":"DATEDIF(F625,D625,\"YD\")","v":4},{"$f":"D625-F625","v":12057},{"$f":"\"MRS \"&TEXT(J625,\"00000\")&\" \"&SUBSTITUTE(C625,\":\",\"\")&\" (\"&TEXT(D625,\"TT.MM.JJJJ\")&\") - \"&E625&\" (\"&TEXT(F625,\"TT.MM.JJJJ\")&\") \"&H625&\"-\"&I625","v":"MRS 12057 The Little Hours (30.06.2017) - Aubrey Plaza (26.06.1984) 33-4"}]
["tt7246778","nm2201555",{"$f":"_xlfn.XLOOKUP($A626,_xlfn.CHOOSECOLS(_xlfn.ANCHORARRAY(Filme!$G$1),2),_xlfn.CHOOSECOLS(_xlfn.ANCHORARRAY(Filme!$G$1),3),\"\",0,2)","v":"Legion"},{"$f":"_xlfn.XLOOKUP($A626,_xlfn.CHOOSECOLS(_xlfn.ANCHORARRAY(Filme!$G$1),2),_xlfn.CHOOSECOLS(_xlfn.ANCHORARRAY(Filme!$G$1),4),\"\",0,2)","v":"2018-05-02"},{"$f":"_xlfn.XLOOKUP($B626,_xlfn.CHOOSECOLS(_xlfn.ANCHORARRAY(Leute!$F$1),2),_xlfn.CHOOSECOLS(_xlfn.ANCHORARRAY(Leute!$F$1),3),\"x\",0,2)","v":"Aubrey Plaza"},{"$f":"_xlfn.XLOOKUP($B626,_xlfn.CHOOSECOLS(_xlfn.ANCHORARRAY(Leute!$F$1),2),_xlfn.CHOOSECOLS(_xlfn.ANCHORARRAY(Leute!$F$1),4),\"x\",0,2)","v":"1984-06-26"},{"$f":"RANK(F626,F$1:F626,0)","v":117},{"$f":"DATEDIF(F626,D626,\"Y\")","v":33},{"$f":"DATEDIF(F626,D626,\"YD\")","v":310},{"$f":"D626-F626","v":12363},{"$f":"\"MRS \"&TEXT(J626,\"00000\")&\" \"&SUBSTITUTE(C626,\":\",\"\")&\" (\"&TEXT(D626,\"TT.MM.JJJJ\")&\") - \"&E626&\" (\"&TEXT(F626,\"TT.MM.JJJJ\")&\") \"&H626&\"-\"&I626","v":"MRS 12363 Legion (02.05.2018) - Aubrey Plaza (26.06.1984) 33-310"}]
["tt9601220","nm2201555",{"$f":"_xlfn.XLOOKUP($A627,_xlfn.CHOOSECOLS(_xlfn.ANCHORARRAY(Filme!$G$1),2),_xlfn.CHOOSECOLS(_xlfn.ANCHORARRAY(Filme!$G$1),3),\"\",0,2)","v":"Black Bear"},{"$f":"_xlfn.XLOOKUP($A627,_xlfn.CHOOSECOLS(_xlfn.ANCHORARRAY(Filme!$G$1),2),_xlfn.CHOOSECOLS(_xlfn.ANCHORARRAY(Filme!$G$1),4),\"\",0,2)","v":"2020-12-04"},{"$f":"_xlfn.XLOOKUP($B627,_xlfn.CHOOSECOLS(_xlfn.ANCHORARRAY(Leute!$F$1),2),_xlfn.CHOOSECOLS(_xlfn.ANCHORARRAY(Leute!$F$1),3),\"x\",0,2)","v":"Aubrey Plaza"},{"$f":"_xlfn.XLOOKUP($B627,_xlfn.CHOOSECOLS(_xlfn.ANCHORARRAY(Leute!$F$1),2),_xlfn.CHOOSECOLS(_xlfn.ANCHORARRAY(Leute!$F$1),4),\"x\",0,2)","v":"1984-06-26"},{"$f":"RANK(F627,F$1:F627,0)","v":117},{"$f":"DATEDIF(F627,D627,\"Y\")","v":36},{"$f":"DATEDIF(F627,D627,\"YD\")","v":161},{"$f":"D627-F627","v":13310},{"$f":"\"MRS \"&TEXT(J627,\"00000\")&\" \"&SUBSTITUTE(C627,\":\",\"\")&\" (\"&TEXT(D627,\"TT.MM.JJJJ\")&\") - \"&E627&\" (\"&TEXT(F627,\"TT.MM.JJJJ\")&\") \"&H627&\"-\"&I627","v":"MRS 13310 Black Bear (04.12.2020) - Aubrey Plaza (26.06.1984) 36-161"}]
["tt22073596","nm2216549",{"$f":"_xlfn.XLOOKUP($A628,_xlfn.CHOOSECOLS(_xlfn.ANCHORARRAY(Filme!$G$1),2),_xlfn.CHOOSECOLS(_xlfn.ANCHORARRAY(Filme!$G$1),3),\"\",0,2)","v":"El cuerpo en llamas"},{"$f":"_xlfn.XLOOKUP($A628,_xlfn.CHOOSECOLS(_xlfn.ANCHORARRAY(Filme!$G$1),2),_xlfn.CHOOSECOLS(_xlfn.ANCHORARRAY(Filme!$G$1),4),\"\",0,2)","v":"2023-09-08"},{"$f":"_xlfn.XLOOKUP($B628,_xlfn.CHOOSECOLS(_xlfn.ANCHORARRAY(Leute!$F$1),2),_xlfn.CHOOSECOLS(_xlfn.ANCHORARRAY(Leute!$F$1),3),\"x\",0,2)","v":"Úrsula Corberó"},{"$f":"_xlfn.XLOOKUP($B628,_xlfn.CHOOSECOLS(_xlfn.ANCHORARRAY(Leute!$F$1),2),_xlfn.CHOOSECOLS(_xlfn.ANCHORARRAY(Leute!$F$1),4),\"x\",0,2)","v":"1989-08-11"},{"$f":"RANK(F628,F$1:F628,0)","v":32},{"$f":"DATEDIF(F628,D628,\"Y\")","v":34},{"$f":"DATEDIF(F628,D628,\"YD\")","v":28},{"$f":"D628-F628","v":12446},{"$f":"\"MRS \"&TEXT(J628,\"00000\")&\" \"&SUBSTITUTE(C628,\":\",\"\")&\" (\"&TEXT(D628,\"TT.MM.JJJJ\")&\") - \"&E628&\" (\"&TEXT(F628,\"TT.MM.JJJJ\")&\") \"&H628&\"-\"&I628","v":"MRS 12446 El cuerpo en llamas (08.09.2023) - Úrsula Corberó (11.08.1989) 34-28"}]
["tt2604346","nm2216549",{"$f":"_xlfn.XLOOKUP($A629,_xlfn.CHOOSECOLS(_xlfn.ANCHORARRAY(Filme!$G$1),2),_xlfn.CHOOSECOLS(_xlfn.ANCHORARRAY(Filme!$G$1),3),\"\",0,2)","v":"¿Quién mató a Bambi?"},{"$f":"_xlfn.XLOOKUP($A629,_xlfn.CHOOSECOLS(_xlfn.ANCHORARRAY(Filme!$G$1),2),_xlfn.CHOOSECOLS(_xlfn.ANCHORARRAY(Filme!$G$1),4),\"\",0,2)","v":"2013-11-15"},{"$f":"_xlfn.XLOOKUP($B629,_xlfn.CHOOSECOLS(_xlfn.ANCHORARRAY(Leute!$F$1),2),_xlfn.CHOOSECOLS(_xlfn.ANCHORARRAY(Leute!$F$1),3),\"x\",0,2)","v":"Úrsula Corberó"},{"$f":"_xlfn.XLOOKUP($B629,_xlfn.CHOOSECOLS(_xlfn.ANCHORARRAY(Leute!$F$1),2),_xlfn.CHOOSECOLS(_xlfn.ANCHORARRAY(Leute!$F$1),4),\"x\",0,2)","v":"1989-08-11"},{"$f":"RANK(F629,F$1:F629,0)","v":32},{"$f":"DATEDIF(F629,D629,\"Y\")","v":24},{"$f":"DATEDIF(F629,D629,\"YD\")","v":96},{"$f":"D629-F629","v":8862},{"$f":"\"MRS \"&TEXT(J629,\"00000\")&\" \"&SUBSTITUTE(C629,\":\",\"\")&\" (\"&TEXT(D629,\"TT.MM.JJJJ\")&\") - \"&E629&\" (\"&TEXT(F629,\"TT.MM.JJJJ\")&\") \"&H629&\"-\"&I629","v":"MRS 08862 ¿Quién mató a Bambi? (15.11.2013) - Úrsula Corberó (11.08.1989) 24-96"}]
["tt6433832","nm2216549",{"$f":"_xlfn.XLOOKUP($A630,_xlfn.CHOOSECOLS(_xlfn.ANCHORARRAY(Filme!$G$1),2),_xlfn.CHOOSECOLS(_xlfn.ANCHORARRAY(Filme!$G$1),3),\"\",0,2)","v":"El árbol de la sangre"},{"$f":"_xlfn.XLOOKUP($A630,_xlfn.CHOOSECOLS(_xlfn.ANCHORARRAY(Filme!$G$1),2),_xlfn.CHOOSECOLS(_xlfn.ANCHORARRAY(Filme!$G$1),4),\"\",0,2)","v":"2019-02-08"},{"$f":"_xlfn.XLOOKUP($B630,_xlfn.CHOOSECOLS(_xlfn.ANCHORARRAY(Leute!$F$1),2),_xlfn.CHOOSECOLS(_xlfn.ANCHORARRAY(Leute!$F$1),3),\"x\",0,2)","v":"Úrsula Corberó"},{"$f":"_xlfn.XLOOKUP($B630,_xlfn.CHOOSECOLS(_xlfn.ANCHORARRAY(Leute!$F$1),2),_xlfn.CHOOSECOLS(_xlfn.ANCHORARRAY(Leute!$F$1),4),\"x\",0,2)","v":"1989-08-11"},{"$f":"RANK(F630,F$1:F630,0)","v":32},{"$f":"DATEDIF(F630,D630,\"Y\")","v":29},{"$f":"DATEDIF(F630,D630,\"YD\")","v":181},{"$f":"D630-F630","v":10773},{"$f":"\"MRS \"&TEXT(J630,\"00000\")&\" \"&SUBSTITUTE(C630,\":\",\"\")&\" (\"&TEXT(D630,\"TT.MM.JJJJ\")&\") - \"&E630&\" (\"&TEXT(F630,\"TT.MM.JJJJ\")&\") \"&H630&\"-\"&I630","v":"MRS 10773 El árbol de la sangre (08.02.2019) - Úrsula Corberó (11.08.1989) 29-181"}]
["tt8299506","nm2216549",{"$f":"_xlfn.XLOOKUP($A631,_xlfn.CHOOSECOLS(_xlfn.ANCHORARRAY(Filme!$G$1),2),_xlfn.CHOOSECOLS(_xlfn.ANCHORARRAY(Filme!$G$1),3),\"\",0,2)","v":"La casa de papel"},{"$f":"_xlfn.XLOOKUP($A631,_xlfn.CHOOSECOLS(_xlfn.ANCHORARRAY(Filme!$G$1),2),_xlfn.CHOOSECOLS(_xlfn.ANCHORARRAY(Filme!$G$1),4),\"\",0,2)","v":"2019-07-19"},{"$f":"_xlfn.XLOOKUP($B631,_xlfn.CHOOSECOLS(_xlfn.ANCHORARRAY(Leute!$F$1),2),_xlfn.CHOOSECOLS(_xlfn.ANCHORARRAY(Leute!$F$1),3),\"x\",0,2)","v":"Úrsula Corberó"},{"$f":"_xlfn.XLOOKUP($B631,_xlfn.CHOOSECOLS(_xlfn.ANCHORARRAY(Leute!$F$1),2),_xlfn.CHOOSECOLS(_xlfn.ANCHORARRAY(Leute!$F$1),4),\"x\",0,2)","v":"1989-08-11"},{"$f":"RANK(F631,F$1:F631,0)","v":32},{"$f":"DATEDIF(F631,D631,\"Y\")","v":29},{"$f":"DATEDIF(F631,D631,\"YD\")","v":342},{"$f":"D631-F631","v":10934},{"$f":"\"MRS \"&TEXT(J631,\"00000\")&\" \"&SUBSTITUTE(C631,\":\",\"\")&\" (\"&TEXT(D631,\"TT.MM.JJJJ\")&\") - \"&E631&\" (\"&TEXT(F631,\"TT.MM.JJJJ\")&\") \"&H631&\"-\"&I631","v":"MRS 10934 La casa de papel (19.07.2019) - Úrsula Corberó (11.08.1989) 29-342"}]
["tt1355644","nm2225369",{"$f":"_xlfn.XLOOKUP($A632,_xlfn.CHOOSECOLS(_xlfn.ANCHORARRAY(Filme!$G$1),2),_xlfn.CHOOSECOLS(_xlfn.ANCHORARRAY(Filme!$G$1),3),\"\",0,2)","v":"Passengers"},{"$f":"_xlfn.XLOOKUP($A632,_xlfn.CHOOSECOLS(_xlfn.ANCHORARRAY(Filme!$G$1),2),_xlfn.CHOOSECOLS(_xlfn.ANCHORARRAY(Filme!$G$1),4),\"\",0,2)","v":"2017-01-05"},{"$f":"_xlfn.XLOOKUP($B632,_xlfn.CHOOSECOLS(_xlfn.ANCHORARRAY(Leute!$F$1),2),_xlfn.CHOOSECOLS(_xlfn.ANCHORARRAY(Leute!$F$1),3),\"x\",0,2)","v":"Jennifer Lawrence"},{"$f":"_xlfn.XLOOKUP($B632,_xlfn.CHOOSECOLS(_xlfn.ANCHORARRAY(Leute!$F$1),2),_xlfn.CHOOSECOLS(_xlfn.ANCHORARRAY(Leute!$F$1),4),\"x\",0,2)","v":"1990-08-15"},{"$f":"RANK(F632,F$1:F632,0)","v":21},{"$f":"DATEDIF(F632,D632,\"Y\")","v":26},{"$f":"DATEDIF(F632,D632,\"YD\")","v":143},{"$f":"D632-F632","v":9640},{"$f":"\"MRS \"&TEXT(J632,\"00000\")&\" \"&SUBSTITUTE(C632,\":\",\"\")&\" (\"&TEXT(D632,\"TT.MM.JJJJ\")&\") - \"&E632&\" (\"&TEXT(F632,\"TT.MM.JJJJ\")&\") \"&H632&\"-\"&I632","v":"MRS 09640 Passengers (05.01.2017) - Jennifer Lawrence (15.08.1990) 26-143"}]
["tt15671028","nm2225369",{"$f":"_xlfn.XLOOKUP($A633,_xlfn.CHOOSECOLS(_xlfn.ANCHORARRAY(Filme!$G$1),2),_xlfn.CHOOSECOLS(_xlfn.ANCHORARRAY(Filme!$G$1),3),\"\",0,2)","v":"No Hard Feelings"},{"$f":"_xlfn.XLOOKUP($A633,_xlfn.CHOOSECOLS(_xlfn.ANCHORARRAY(Filme!$G$1),2),_xlfn.CHOOSECOLS(_xlfn.ANCHORARRAY(Filme!$G$1),4),\"\",0,2)","v":"2023-06-22"},{"$f":"_xlfn.XLOOKUP($B633,_xlfn.CHOOSECOLS(_xlfn.ANCHORARRAY(Leute!$F$1),2),_xlfn.CHOOSECOLS(_xlfn.ANCHORARRAY(Leute!$F$1),3),\"x\",0,2)","v":"Jennifer Lawrence"},{"$f":"_xlfn.XLOOKUP($B633,_xlfn.CHOOSECOLS(_xlfn.ANCHORARRAY(Leute!$F$1),2),_xlfn.CHOOSECOLS(_xlfn.ANCHORARRAY(Leute!$F$1),4),\"x\",0,2)","v":"1990-08-15"},{"$f":"RANK(F633,F$1:F633,0)","v":21},{"$f":"DATEDIF(F633,D633,\"Y\")","v":32},{"$f":"DATEDIF(F633,D633,\"YD\")","v":311},{"$f":"D633-F633","v":11999},{"$f":"\"MRS \"&TEXT(J633,\"00000\")&\" \"&SUBSTITUTE(C633,\":\",\"\")&\" (\"&TEXT(D633,\"TT.MM.JJJJ\")&\") - \"&E633&\" (\"&TEXT(F633,\"TT.MM.JJJJ\")&\") \"&H633&\"-\"&I633","v":"MRS 11999 No Hard Feelings (22.06.2023) - Jennifer Lawrence (15.08.1990) 32-311"}]
["tt2873282","nm2225369",{"$f":"_xlfn.XLOOKUP($A634,_xlfn.CHOOSECOLS(_xlfn.ANCHORARRAY(Filme!$G$1),2),_xlfn.CHOOSECOLS(_xlfn.ANCHORARRAY(Filme!$G$1),3),\"\",0,2)","v":"Red Sparrow"},{"$f":"_xlfn.XLOOKUP($A634,_xlfn.CHOOSECOLS(_xlfn.ANCHORARRAY(Filme!$G$1),2),_xlfn.CHOOSECOLS(_xlfn.ANCHORARRAY(Filme!$G$1),4),\"\",0,2)","v":"2018-03-01"},{"$f":"_xlfn.XLOOKUP($B634,_xlfn.CHOOSECOLS(_xlfn.ANCHORARRAY(Leute!$F$1),2),_xlfn.CHOOSECOLS(_xlfn.ANCHORARRAY(Leute!$F$1),3),\"x\",0,2)","v":"Jennifer Lawrence"},{"$f":"_xlfn.XLOOKUP($B634,_xlfn.CHOOSECOLS(_xlfn.ANCHORARRAY(Leute!$F$1),2),_xlfn.CHOOSECOLS(_xlfn.ANCHORARRAY(Leute!$F$1),4),\"x\",0,2)","v":"1990-08-15"},{"$f":"RANK(F634,F$1:F634,0)","v":21},{"$f":"DATEDIF(F634,D634,\"Y\")","v":27},{"$f":"DATEDIF(F634,D634,\"YD\")","v":198},{"$f":"D634-F634","v":10060},{"$f":"\"MRS \"&TEXT(J634,\"00000\")&\" \"&SUBSTITUTE(C634,\":\",\"\")&\" (\"&TEXT(D634,\"TT.MM.JJJJ\")&\") - \"&E634&\" (\"&TEXT(F634,\"TT.MM.JJJJ\")&\") \"&H634&\"-\"&I634","v":"MRS 10060 Red Sparrow (01.03.2018) - Jennifer Lawrence (15.08.1990) 27-198"}]
["tt5109784","nm2225369",{"$f":"_xlfn.XLOOKUP($A635,_xlfn.CHOOSECOLS(_xlfn.ANCHORARRAY(Filme!$G$1),2),_xlfn.CHOOSECOLS(_xlfn.ANCHORARRAY(Filme!$G$1),3),\"\",0,2)","v":"Mother!"},{"$f":"_xlfn.XLOOKUP($A635,_xlfn.CHOOSECOLS(_xlfn.ANCHORARRAY(Filme!$G$1),2),_xlfn.CHOOSECOLS(_xlfn.ANCHORARRAY(Filme!$G$1),4),\"\",0,2)","v":"2017-09-14"},{"$f":"_xlfn.XLOOKUP($B635,_xlfn.CHOOSECOLS(_xlfn.ANCHORARRAY(Leute!$F$1),2),_xlfn.CHOOSECOLS(_xlfn.ANCHORARRAY(Leute!$F$1),3),\"x\",0,2)","v":"Jennifer Lawrence"},{"$f":"_xlfn.XLOOKUP($B635,_xlfn.CHOOSECOLS(_xlfn.ANCHORARRAY(Leute!$F$1),2),_xlfn.CHOOSECOLS(_xlfn.ANCHORARRAY(Leute!$F$1),4),\"x\",0,2)","v":"1990-08-15"},{"$f":"RANK(F635,F$1:F635,0)","v":21},{"$f":"DATEDIF(F635,D635,\"Y\")","v":27},{"$f":"DATEDIF(F635,D635,\"YD\")","v":30},{"$f":"D635-F635","v":9892},{"$f":"\"MRS \"&TEXT(J635,\"00000\")&\" \"&SUBSTITUTE(C635,\":\",\"\")&\" (\"&TEXT(D635,\"TT.MM.JJJJ\")&\") - \"&E635&\" (\"&TEXT(F635,\"TT.MM.JJJJ\")&\") \"&H635&\"-\"&I635","v":"MRS 09892 Mother! (14.09.2017) - Jennifer Lawrence (15.08.1990) 27-30"}]
["tt0781429","nm2244205",{"$f":"_xlfn.XLOOKUP($A636,_xlfn.CHOOSECOLS(_xlfn.ANCHORARRAY(Filme!$G$1),2),_xlfn.CHOOSECOLS(_xlfn.ANCHORARRAY(Filme!$G$1),3),\"\",0,2)","v":"Mes copines"},{"$f":"_xlfn.XLOOKUP($A636,_xlfn.CHOOSECOLS(_xlfn.ANCHORARRAY(Filme!$G$1),2),_xlfn.CHOOSECOLS(_xlfn.ANCHORARRAY(Filme!$G$1),4),\"\",0,2)","v":"2006-06-21"},{"$f":"_xlfn.XLOOKUP($B636,_xlfn.CHOOSECOLS(_xlfn.ANCHORARRAY(Leute!$F$1),2),_xlfn.CHOOSECOLS(_xlfn.ANCHORARRAY(Leute!$F$1),3),\"x\",0,2)","v":"Léa Seydoux"},{"$f":"_xlfn.XLOOKUP($B636,_xlfn.CHOOSECOLS(_xlfn.ANCHORARRAY(Leute!$F$1),2),_xlfn.CHOOSECOLS(_xlfn.ANCHORARRAY(Leute!$F$1),4),\"x\",0,2)","v":"1985-07-01"},{"$f":"RANK(F636,F$1:F636,0)","v":112},{"$f":"DATEDIF(F636,D636,\"Y\")","v":20},{"$f":"DATEDIF(F636,D636,\"YD\")","v":355},{"$f":"D636-F636","v":7660},{"$f":"\"MRS \"&TEXT(J636,\"00000\")&\" \"&SUBSTITUTE(C636,\":\",\"\")&\" (\"&TEXT(D636,\"TT.MM.JJJJ\")&\") - \"&E636&\" (\"&TEXT(F636,\"TT.MM.JJJJ\")&\") \"&H636&\"-\"&I636","v":"MRS 07660 Mes copines (21.06.2006) - Léa Seydoux (01.07.1985) 20-355"}]
["tt1263778","nm2244205",{"$f":"_xlfn.XLOOKUP($A637,_xlfn.CHOOSECOLS(_xlfn.ANCHORARRAY(Filme!$G$1),2),_xlfn.CHOOSECOLS(_xlfn.ANCHORARRAY(Filme!$G$1),3),\"\",0,2)","v":"La belle personne"},{"$f":"_xlfn.XLOOKUP($A637,_xlfn.CHOOSECOLS(_xlfn.ANCHORARRAY(Filme!$G$1),2),_xlfn.CHOOSECOLS(_xlfn.ANCHORARRAY(Filme!$G$1),4),\"\",0,2)","v":"2008-09-12"},{"$f":"_xlfn.XLOOKUP($B637,_xlfn.CHOOSECOLS(_xlfn.ANCHORARRAY(Leute!$F$1),2),_xlfn.CHOOSECOLS(_xlfn.ANCHORARRAY(Leute!$F$1),3),\"x\",0,2)","v":"Léa Seydoux"},{"$f":"_xlfn.XLOOKUP($B637,_xlfn.CHOOSECOLS(_xlfn.ANCHORARRAY(Leute!$F$1),2),_xlfn.CHOOSECOLS(_xlfn.ANCHORARRAY(Leute!$F$1),4),\"x\",0,2)","v":"1985-07-01"},{"$f":"RANK(F637,F$1:F637,0)","v":112},{"$f":"DATEDIF(F637,D637,\"Y\")","v":23},{"$f":"DATEDIF(F637,D637,\"YD\")","v":73},{"$f":"D637-F637","v":8474},{"$f":"\"MRS \"&TEXT(J637,\"00000\")&\" \"&SUBSTITUTE(C637,\":\",\"\")&\" (\"&TEXT(D637,\"TT.MM.JJJJ\")&\") - \"&E637&\" (\"&TEXT(F637,\"TT.MM.JJJJ\")&\") \"&H637&\"-\"&I637","v":"MRS 08474 La belle personne (12.09.2008) - Léa Seydoux (01.07.1985) 23-73"}]
["tt13482828","nm2244205",{"$f":"_xlfn.XLOOKUP($A638,_xlfn.CHOOSECOLS(_xlfn.ANCHORARRAY(Filme!$G$1),2),_xlfn.CHOOSECOLS(_xlfn.ANCHORARRAY(Filme!$G$1),3),\"\",0,2)","v":"Un beau matin"},{"$f":"_xlfn.XLOOKUP($A638,_xlfn.CHOOSECOLS(_xlfn.ANCHORARRAY(Filme!$G$1),2),_xlfn.CHOOSECOLS(_xlfn.ANCHORARRAY(Filme!$G$1),4),\"\",0,2)","v":"2022-12-08"},{"$f":"_xlfn.XLOOKUP($B638,_xlfn.CHOOSECOLS(_xlfn.ANCHORARRAY(Leute!$F$1),2),_xlfn.CHOOSECOLS(_xlfn.ANCHORARRAY(Leute!$F$1),3),\"x\",0,2)","v":"Léa Seydoux"},{"$f":"_xlfn.XLOOKUP($B638,_xlfn.CHOOSECOLS(_xlfn.ANCHORARRAY(Leute!$F$1),2),_xlfn.CHOOSECOLS(_xlfn.ANCHORARRAY(Leute!$F$1),4),\"x\",0,2)","v":"1985-07-01"},{"$f":"RANK(F638,F$1:F638,0)","v":112},{"$f":"DATEDIF(F638,D638,\"Y\")","v":37},{"$f":"DATEDIF(F638,D638,\"YD\")","v":160},{"$f":"D638-F638","v":13674},{"$f":"\"MRS \"&TEXT(J638,\"00000\")&\" \"&SUBSTITUTE(C638,\":\",\"\")&\" (\"&TEXT(D638,\"TT.MM.JJJJ\")&\") - \"&E638&\" (\"&TEXT(F638,\"TT.MM.JJJJ\")&\") \"&H638&\"-\"&I638","v":"MRS 13674 Un beau matin (08.12.2022) - Léa Seydoux (01.07.1985) 37-160"}]
["tt13613056","nm2244205",{"$f":"_xlfn.XLOOKUP($A639,_xlfn.CHOOSECOLS(_xlfn.ANCHORARRAY(Filme!$G$1),2),_xlfn.CHOOSECOLS(_xlfn.ANCHORARRAY(Filme!$G$1),3),\"\",0,2)","v":"Tromperie"},{"$f":"_xlfn.XLOOKUP($A639,_xlfn.CHOOSECOLS(_xlfn.ANCHORARRAY(Filme!$G$1),2),_xlfn.CHOOSECOLS(_xlfn.ANCHORARRAY(Filme!$G$1),4),\"\",0,2)","v":"2021-12-29"},{"$f":"_xlfn.XLOOKUP($B639,_xlfn.CHOOSECOLS(_xlfn.ANCHORARRAY(Leute!$F$1),2),_xlfn.CHOOSECOLS(_xlfn.ANCHORARRAY(Leute!$F$1),3),\"x\",0,2)","v":"Léa Seydoux"},{"$f":"_xlfn.XLOOKUP($B639,_xlfn.CHOOSECOLS(_xlfn.ANCHORARRAY(Leute!$F$1),2),_xlfn.CHOOSECOLS(_xlfn.ANCHORARRAY(Leute!$F$1),4),\"x\",0,2)","v":"1985-07-01"},{"$f":"RANK(F639,F$1:F639,0)","v":112},{"$f":"DATEDIF(F639,D639,\"Y\")","v":36},{"$f":"DATEDIF(F639,D639,\"YD\")","v":181},{"$f":"D639-F639","v":13330},{"$f":"\"MRS \"&TEXT(J639,\"00000\")&\" \"&SUBSTITUTE(C639,\":\",\"\")&\" (\"&TEXT(D639,\"TT.MM.JJJJ\")&\") - \"&E639&\" (\"&TEXT(F639,\"TT.MM.JJJJ\")&\") \"&H639&\"-\"&I639","v":"MRS 13330 Tromperie (29.12.2021) - Léa Seydoux (01.07.1985) 36-181"}]
["tt1421376","nm2244205",{"$f":"_xlfn.XLOOKUP($A640,_xlfn.CHOOSECOLS(_xlfn.ANCHORARRAY(Filme!$G$1),2),_xlfn.CHOOSECOLS(_xlfn.ANCHORARRAY(Filme!$G$1),3),\"\",0,2)","v":"Plein sud"},{"$f":"_xlfn.XLOOKUP($A640,_xlfn.CHOOSECOLS(_xlfn.ANCHORARRAY(Filme!$G$1),2),_xlfn.CHOOSECOLS(_xlfn.ANCHORARRAY(Filme!$G$1),4),\"\",0,2)","v":"2010-12-16"},{"$f":"_xlfn.XLOOKUP($B640,_xlfn.CHOOSECOLS(_xlfn.ANCHORARRAY(Leute!$F$1),2),_xlfn.CHOOSECOLS(_xlfn.ANCHORARRAY(Leute!$F$1),3),\"x\",0,2)","v":"Léa Seydoux"},{"$f":"_xlfn.XLOOKUP($B640,_xlfn.CHOOSECOLS(_xlfn.ANCHORARRAY(Leute!$F$1),2),_xlfn.CHOOSECOLS(_xlfn.ANCHORARRAY(Leute!$F$1),4),\"x\",0,2)","v":"1985-07-01"},{"$f":"RANK(F640,F$1:F640,0)","v":112},{"$f":"DATEDIF(F640,D640,\"Y\")","v":25},{"$f":"DATEDIF(F640,D640,\"YD\")","v":168},{"$f":"D640-F640","v":9299},{"$f":"\"MRS \"&TEXT(J640,\"00000\")&\" \"&SUBSTITUTE(C640,\":\",\"\")&\" (\"&TEXT(D640,\"TT.MM.JJJJ\")&\") - \"&E640&\" (\"&TEXT(F640,\"TT.MM.JJJJ\")&\") \"&H640&\"-\"&I640","v":"MRS 09299 Plein sud (16.12.2010) - Léa Seydoux (01.07.1985) 25-168"}]
["tt14407336","nm2244205",{"$f":"_xlfn.XLOOKUP($A641,_xlfn.CHOOSECOLS(_xlfn.ANCHORARRAY(Filme!$G$1),2),_xlfn.CHOOSECOLS(_xlfn.ANCHORARRAY(Filme!$G$1),3),\"\",0,2)","v":"La bête"},{"$f":"_xlfn.XLOOKUP($A641,_xlfn.CHOOSECOLS(_xlfn.ANCHORARRAY(Filme!$G$1),2),_xlfn.CHOOSECOLS(_xlfn.ANCHORARRAY(Filme!$G$1),4),\"\",0,2)","v":"2024-10-10"},{"$f":"_xlfn.XLOOKUP($B641,_xlfn.CHOOSECOLS(_xlfn.ANCHORARRAY(Leute!$F$1),2),_xlfn.CHOOSECOLS(_xlfn.ANCHORARRAY(Leute!$F$1),3),\"x\",0,2)","v":"Léa Seydoux"},{"$f":"_xlfn.XLOOKUP($B641,_xlfn.CHOOSECOLS(_xlfn.ANCHORARRAY(Leute!$F$1),2),_xlfn.CHOOSECOLS(_xlfn.ANCHORARRAY(Leute!$F$1),4),\"x\",0,2)","v":"1985-07-01"},{"$f":"RANK(F641,F$1:F641,0)","v":112},{"$f":"DATEDIF(F641,D641,\"Y\")","v":39},{"$f":"DATEDIF(F641,D641,\"YD\")","v":101},{"$f":"D641-F641","v":14346},{"$f":"\"MRS \"&TEXT(J641,\"00000\")&\" \"&SUBSTITUTE(C641,\":\",\"\")&\" (\"&TEXT(D641,\"TT.MM.JJJJ\")&\") - \"&E641&\" (\"&TEXT(F641,\"TT.MM.JJJJ\")&\") \"&H641&\"-\"&I641","v":"MRS 14346 La bête (10.10.2024) - Léa Seydoux (01.07.1985) 39-101"}]
["tt14549466","nm2244205",{"$f":"_xlfn.XLOOKUP($A642,_xlfn.CHOOSECOLS(_xlfn.ANCHORARRAY(Filme!$G$1),2),_xlfn.CHOOSECOLS(_xlfn.ANCHORARRAY(Filme!$G$1),3),\"\",0,2)","v":"Crimes of the Future"},{"$f":"_xlfn.XLOOKUP($A642,_xlfn.CHOOSECOLS(_xlfn.ANCHORARRAY(Filme!$G$1),2),_xlfn.CHOOSECOLS(_xlfn.ANCHORARRAY(Filme!$G$1),4),\"\",0,2)","v":"2022-11-03"},{"$f":"_xlfn.XLOOKUP($B642,_xlfn.CHOOSECOLS(_xlfn.ANCHORARRAY(Leute!$F$1),2),_xlfn.CHOOSECOLS(_xlfn.ANCHORARRAY(Leute!$F$1),3),\"x\",0,2)","v":"Léa Seydoux"},{"$f":"_xlfn.XLOOKUP($B642,_xlfn.CHOOSECOLS(_xlfn.ANCHORARRAY(Leute!$F$1),2),_xlfn.CHOOSECOLS(_xlfn.ANCHORARRAY(Leute!$F$1),4),\"x\",0,2)","v":"1985-07-01"},{"$f":"RANK(F642,F$1:F642,0)","v":112},{"$f":"DATEDIF(F642,D642,\"Y\")","v":37},{"$f":"DATEDIF(F642,D642,\"YD\")","v":125},{"$f":"D642-F642","v":13639},{"$f":"\"MRS \"&TEXT(J642,\"00000\")&\" \"&SUBSTITUTE(C642,\":\",\"\")&\" (\"&TEXT(D642,\"TT.MM.JJJJ\")&\") - \"&E642&\" (\"&TEXT(F642,\"TT.MM.JJJJ\")&\") \"&H642&\"-\"&I642","v":"MRS 13639 Crimes of the Future (03.11.2022) - Léa Seydoux (01.07.1985) 37-125"}]
["tt1648187","nm2244205",{"$f":"_xlfn.XLOOKUP($A643,_xlfn.CHOOSECOLS(_xlfn.ANCHORARRAY(Filme!$G$1),2),_xlfn.CHOOSECOLS(_xlfn.ANCHORARRAY(Filme!$G$1),3),\"\",0,2)","v":"Roses à crédit"},{"$f":"_xlfn.XLOOKUP($A643,_xlfn.CHOOSECOLS(_xlfn.ANCHORARRAY(Filme!$G$1),2),_xlfn.CHOOSECOLS(_xlfn.ANCHORARRAY(Filme!$G$1),4),\"\",0,2)","v":"2011-11-08"},{"$f":"_xlfn.XLOOKUP($B643,_xlfn.CHOOSECOLS(_xlfn.ANCHORARRAY(Leute!$F$1),2),_xlfn.CHOOSECOLS(_xlfn.ANCHORARRAY(Leute!$F$1),3),\"x\",0,2)","v":"Léa Seydoux"},{"$f":"_xlfn.XLOOKUP($B643,_xlfn.CHOOSECOLS(_xlfn.ANCHORARRAY(Leute!$F$1),2),_xlfn.CHOOSECOLS(_xlfn.ANCHORARRAY(Leute!$F$1),4),\"x\",0,2)","v":"1985-07-01"},{"$f":"RANK(F643,F$1:F643,0)","v":112},{"$f":"DATEDIF(F643,D643,\"Y\")","v":26},{"$f":"DATEDIF(F643,D643,\"YD\")","v":130},{"$f":"D643-F643","v":9626},{"$f":"\"MRS \"&TEXT(J643,\"00000\")&\" \"&SUBSTITUTE(C643,\":\",\"\")&\" (\"&TEXT(D643,\"TT.MM.JJJJ\")&\") - \"&E643&\" (\"&TEXT(F643,\"TT.MM.JJJJ\")&\") \"&H643&\"-\"&I643","v":"MRS 09626 Roses à crédit (08.11.2011) - Léa Seydoux (01.07.1985) 26-130"}]
["tt1653921","nm2244205",{"$f":"_xlfn.XLOOKUP($A644,_xlfn.CHOOSECOLS(_xlfn.ANCHORARRAY(Filme!$G$1),2),_xlfn.CHOOSECOLS(_xlfn.ANCHORARRAY(Filme!$G$1),3),\"\",0,2)","v":"Petit tailleur"},{"$f":"_xlfn.XLOOKUP($A644,_xlfn.CHOOSECOLS(_xlfn.ANCHORARRAY(Filme!$G$1),2),_xlfn.CHOOSECOLS(_xlfn.ANCHORARRAY(Filme!$G$1),4),\"\",0,2)","v":"2010-10-06"},{"$f":"_xlfn.XLOOKUP($B644,_xlfn.CHOOSECOLS(_xlfn.ANCHORARRAY(Leute!$F$1),2),_xlfn.CHOOSECOLS(_xlfn.ANCHORARRAY(Leute!$F$1),3),\"x\",0,2)","v":"Léa Seydoux"},{"$f":"_xlfn.XLOOKUP($B644,_xlfn.CHOOSECOLS(_xlfn.ANCHORARRAY(Leute!$F$1),2),_xlfn.CHOOSECOLS(_xlfn.ANCHORARRAY(Leute!$F$1),4),\"x\",0,2)","v":"1985-07-01"},{"$f":"RANK(F644,F$1:F644,0)","v":112},{"$f":"DATEDIF(F644,D644,\"Y\")","v":25},{"$f":"DATEDIF(F644,D644,\"YD\")","v":97},{"$f":"D644-F644","v":9228},{"$f":"\"MRS \"&TEXT(J644,\"00000\")&\" \"&SUBSTITUTE(C644,\":\",\"\")&\" (\"&TEXT(D644,\"TT.MM.JJJJ\")&\") - \"&E644&\" (\"&TEXT(F644,\"TT.MM.JJJJ\")&\") \"&H644&\"-\"&I644","v":"MRS 09228 Petit tailleur (06.10.2010) - Léa Seydoux (01.07.1985) 25-97"}]
["tt1753813","nm2244205",{"$f":"_xlfn.XLOOKUP($A645,_xlfn.CHOOSECOLS(_xlfn.ANCHORARRAY(Filme!$G$1),2),_xlfn.CHOOSECOLS(_xlfn.ANCHORARRAY(Filme!$G$1),3),\"\",0,2)","v":"Les adieux à la reine"},{"$f":"_xlfn.XLOOKUP($A645,_xlfn.CHOOSECOLS(_xlfn.ANCHORARRAY(Filme!$G$1),2),_xlfn.CHOOSECOLS(_xlfn.ANCHORARRAY(Filme!$G$1),4),\"\",0,2)","v":"2012-05-31"},{"$f":"_xlfn.XLOOKUP($B645,_xlfn.CHOOSECOLS(_xlfn.ANCHORARRAY(Leute!$F$1),2),_xlfn.CHOOSECOLS(_xlfn.ANCHORARRAY(Leute!$F$1),3),\"x\",0,2)","v":"Léa Seydoux"},{"$f":"_xlfn.XLOOKUP($B645,_xlfn.CHOOSECOLS(_xlfn.ANCHORARRAY(Leute!$F$1),2),_xlfn.CHOOSECOLS(_xlfn.ANCHORARRAY(Leute!$F$1),4),\"x\",0,2)","v":"1985-07-01"},{"$f":"RANK(F645,F$1:F645,0)","v":112},{"$f":"DATEDIF(F645,D645,\"Y\")","v":26},{"$f":"DATEDIF(F645,D645,\"YD\")","v":334},{"$f":"D645-F645","v":9831},{"$f":"\"MRS \"&TEXT(J645,\"00000\")&\" \"&SUBSTITUTE(C645,\":\",\"\")&\" (\"&TEXT(D645,\"TT.MM.JJJJ\")&\") - \"&E645&\" (\"&TEXT(F645,\"TT.MM.JJJJ\")&\") \"&H645&\"-\"&I645","v":"MRS 09831 Les adieux à la reine (31.05.2012) - Léa Seydoux (01.07.1985) 26-334"}]
["tt2278871","nm2244205",{"$f":"_xlfn.XLOOKUP($A646,_xlfn.CHOOSECOLS(_xlfn.ANCHORARRAY(Filme!$G$1),2),_xlfn.CHOOSECOLS(_xlfn.ANCHORARRAY(Filme!$G$1),3),\"\",0,2)","v":"La vie d'Adèle"},{"$f":"_xlfn.XLOOKUP($A646,_xlfn.CHOOSECOLS(_xlfn.ANCHORARRAY(Filme!$G$1),2),_xlfn.CHOOSECOLS(_xlfn.ANCHORARRAY(Filme!$G$1),4),\"\",0,2)","v":"2013-12-19"},{"$f":"_xlfn.XLOOKUP($B646,_xlfn.CHOOSECOLS(_xlfn.ANCHORARRAY(Leute!$F$1),2),_xlfn.CHOOSECOLS(_xlfn.ANCHORARRAY(Leute!$F$1),3),\"x\",0,2)","v":"Léa Seydoux"},{"$f":"_xlfn.XLOOKUP($B646,_xlfn.CHOOSECOLS(_xlfn.ANCHORARRAY(Leute!$F$1),2),_xlfn.CHOOSECOLS(_xlfn.ANCHORARRAY(Leute!$F$1),4),\"x\",0,2)","v":"1985-07-01"},{"$f":"RANK(F646,F$1:F646,0)","v":112},{"$f":"DATEDIF(F646,D646,\"Y\")","v":28},{"$f":"DATEDIF(F646,D646,\"YD\")","v":171},{"$f":"D646-F646","v":10398},{"$f":"\"MRS \"&TEXT(J646,\"00000\")&\" \"&SUBSTITUTE(C646,\":\",\"\")&\" (\"&TEXT(D646,\"TT.MM.JJJJ\")&\") - \"&E646&\" (\"&TEXT(F646,\"TT.MM.JJJJ\")&\") \"&H646&\"-\"&I646","v":"MRS 10398 La vie d'Adèle (19.12.2013) - Léa Seydoux (01.07.1985) 28-171"}]
["tt2835548","nm2244205",{"$f":"_xlfn.XLOOKUP($A647,_xlfn.CHOOSECOLS(_xlfn.ANCHORARRAY(Filme!$G$1),2),_xlfn.CHOOSECOLS(_xlfn.ANCHORARRAY(Filme!$G$1),3),\"\",0,2)","v":"Grand Central"},{"$f":"_xlfn.XLOOKUP($A647,_xlfn.CHOOSECOLS(_xlfn.ANCHORARRAY(Filme!$G$1),2),_xlfn.CHOOSECOLS(_xlfn.ANCHORARRAY(Filme!$G$1),4),\"\",0,2)","v":"2013-08-28"},{"$f":"_xlfn.XLOOKUP($B647,_xlfn.CHOOSECOLS(_xlfn.ANCHORARRAY(Leute!$F$1),2),_xlfn.CHOOSECOLS(_xlfn.ANCHORARRAY(Leute!$F$1),3),\"x\",0,2)","v":"Léa Seydoux"},{"$f":"_xlfn.XLOOKUP($B647,_xlfn.CHOOSECOLS(_xlfn.ANCHORARRAY(Leute!$F$1),2),_xlfn.CHOOSECOLS(_xlfn.ANCHORARRAY(Leute!$F$1),4),\"x\",0,2)","v":"1985-07-01"},{"$f":"RANK(F647,F$1:F647,0)","v":112},{"$f":"DATEDIF(F647,D647,\"Y\")","v":28},{"$f":"DATEDIF(F647,D647,\"YD\")","v":58},{"$f":"D647-F647","v":10285},{"$f":"\"MRS \"&TEXT(J647,\"00000\")&\" \"&SUBSTITUTE(C647,\":\",\"\")&\" (\"&TEXT(D647,\"TT.MM.JJJJ\")&\") - \"&E647&\" (\"&TEXT(F647,\"TT.MM.JJJJ\")&\") \"&H647&\"-\"&I647","v":"MRS 10285 Grand Central (28.08.2013) - Léa Seydoux (01.07.1985) 28-58"}]
["tt8847712","nm2244205",{"$f":"_xlfn.XLOOKUP($A648,_xlfn.CHOOSECOLS(_xlfn.ANCHORARRAY(Filme!$G$1),2),_xlfn.CHOOSECOLS(_xlfn.ANCHORARRAY(Filme!$G$1),3),\"\",0,2)","v":"The French Dispatch of the Liberty, Kansas Evening Sun"},{"$f":"_xlfn.XLOOKUP($A648,_xlfn.CHOOSECOLS(_xlfn.ANCHORARRAY(Filme!$G$1),2),_xlfn.CHOOSECOLS(_xlfn.ANCHORARRAY(Filme!$G$1),4),\"\",0,2)","v":"2021-10-21"},{"$f":"_xlfn.XLOOKUP($B648,_xlfn.CHOOSECOLS(_xlfn.ANCHORARRAY(Leute!$F$1),2),_xlfn.CHOOSECOLS(_xlfn.ANCHORARRAY(Leute!$F$1),3),\"x\",0,2)","v":"Léa Seydoux"},{"$f":"_xlfn.XLOOKUP($B648,_xlfn.CHOOSECOLS(_xlfn.ANCHORARRAY(Leute!$F$1),2),_xlfn.CHOOSECOLS(_xlfn.ANCHORARRAY(Leute!$F$1),4),\"x\",0,2)","v":"1985-07-01"},{"$f":"RANK(F648,F$1:F648,0)","v":112},{"$f":"DATEDIF(F648,D648,\"Y\")","v":36},{"$f":"DATEDIF(F648,D648,\"YD\")","v":112},{"$f":"D648-F648","v":13261},{"$f":"\"MRS \"&TEXT(J648,\"00000\")&\" \"&SUBSTITUTE(C648,\":\",\"\")&\" (\"&TEXT(D648,\"TT.MM.JJJJ\")&\") - \"&E648&\" (\"&TEXT(F648,\"TT.MM.JJJJ\")&\") \"&H648&\"-\"&I648","v":"MRS 13261 The French Dispatch of the Liberty, Kansas Evening Sun (21.10.2021) - Léa Seydoux (01.07.1985) 36-112"}]
["tt1523483","nm2247245",{"$f":"_xlfn.XLOOKUP($A649,_xlfn.CHOOSECOLS(_xlfn.ANCHORARRAY(Filme!$G$1),2),_xlfn.CHOOSECOLS(_xlfn.ANCHORARRAY(Filme!$G$1),3),\"\",0,2)","v":"Kaboom"},{"$f":"_xlfn.XLOOKUP($A649,_xlfn.CHOOSECOLS(_xlfn.ANCHORARRAY(Filme!$G$1),2),_xlfn.CHOOSECOLS(_xlfn.ANCHORARRAY(Filme!$G$1),4),\"\",0,2)","v":"2011-06-16"},{"$f":"_xlfn.XLOOKUP($B649,_xlfn.CHOOSECOLS(_xlfn.ANCHORARRAY(Leute!$F$1),2),_xlfn.CHOOSECOLS(_xlfn.ANCHORARRAY(Leute!$F$1),3),\"x\",0,2)","v":"Haley Bennett"},{"$f":"_xlfn.XLOOKUP($B649,_xlfn.CHOOSECOLS(_xlfn.ANCHORARRAY(Leute!$F$1),2),_xlfn.CHOOSECOLS(_xlfn.ANCHORARRAY(Leute!$F$1),4),\"x\",0,2)","v":"1988-01-07"},{"$f":"RANK(F649,F$1:F649,0)","v":89},{"$f":"DATEDIF(F649,D649,\"Y\")","v":23},{"$f":"DATEDIF(F649,D649,\"YD\")","v":161},{"$f":"D649-F649","v":8561},{"$f":"\"MRS \"&TEXT(J649,\"00000\")&\" \"&SUBSTITUTE(C649,\":\",\"\")&\" (\"&TEXT(D649,\"TT.MM.JJJJ\")&\") - \"&E649&\" (\"&TEXT(F649,\"TT.MM.JJJJ\")&\") \"&H649&\"-\"&I649","v":"MRS 08561 Kaboom (16.06.2011) - Haley Bennett (07.01.1988) 23-161"}]
["tt2217777","nm2247245",{"$f":"_xlfn.XLOOKUP($A650,_xlfn.CHOOSECOLS(_xlfn.ANCHORARRAY(Filme!$G$1),2),_xlfn.CHOOSECOLS(_xlfn.ANCHORARRAY(Filme!$G$1),3),\"\",0,2)","v":"Deep Powder"},{"$f":"_xlfn.XLOOKUP($A650,_xlfn.CHOOSECOLS(_xlfn.ANCHORARRAY(Filme!$G$1),2),_xlfn.CHOOSECOLS(_xlfn.ANCHORARRAY(Filme!$G$1),4),\"\",0,2)","v":"2013-04-19"},{"$f":"_xlfn.XLOOKUP($B650,_xlfn.CHOOSECOLS(_xlfn.ANCHORARRAY(Leute!$F$1),2),_xlfn.CHOOSECOLS(_xlfn.ANCHORARRAY(Leute!$F$1),3),\"x\",0,2)","v":"Haley Bennett"},{"$f":"_xlfn.XLOOKUP($B650,_xlfn.CHOOSECOLS(_xlfn.ANCHORARRAY(Leute!$F$1),2),_xlfn.CHOOSECOLS(_xlfn.ANCHORARRAY(Leute!$F$1),4),\"x\",0,2)","v":"1988-01-07"},{"$f":"RANK(F650,F$1:F650,0)","v":89},{"$f":"DATEDIF(F650,D650,\"Y\")","v":25},{"$f":"DATEDIF(F650,D650,\"YD\")","v":103},{"$f":"D650-F650","v":9234},{"$f":"\"MRS \"&TEXT(J650,\"00000\")&\" \"&SUBSTITUTE(C650,\":\",\"\")&\" (\"&TEXT(D650,\"TT.MM.JJJJ\")&\") - \"&E650&\" (\"&TEXT(F650,\"TT.MM.JJJJ\")&\") \"&H650&\"-\"&I650","v":"MRS 09234 Deep Powder (19.04.2013) - Haley Bennett (07.01.1988) 25-103"}]
["tt3234122","nm2247245",{"$f":"_xlfn.XLOOKUP($A651,_xlfn.CHOOSECOLS(_xlfn.ANCHORARRAY(Filme!$G$1),2),_xlfn.CHOOSECOLS(_xlfn.ANCHORARRAY(Filme!$G$1),3),\"\",0,2)","v":"Widow Clicquot"},{"$f":"_xlfn.XLOOKUP($A651,_xlfn.CHOOSECOLS(_xlfn.ANCHORARRAY(Filme!$G$1),2),_xlfn.CHOOSECOLS(_xlfn.ANCHORARRAY(Filme!$G$1),4),\"\",0,2)","v":"2024-11-07"},{"$f":"_xlfn.XLOOKUP($B651,_xlfn.CHOOSECOLS(_xlfn.ANCHORARRAY(Leute!$F$1),2),_xlfn.CHOOSECOLS(_xlfn.ANCHORARRAY(Leute!$F$1),3),\"x\",0,2)","v":"Haley Bennett"},{"$f":"_xlfn.XLOOKUP($B651,_xlfn.CHOOSECOLS(_xlfn.ANCHORARRAY(Leute!$F$1),2),_xlfn.CHOOSECOLS(_xlfn.ANCHORARRAY(Leute!$F$1),4),\"x\",0,2)","v":"1988-01-07"},{"$f":"RANK(F651,F$1:F651,0)","v":89},{"$f":"DATEDIF(F651,D651,\"Y\")","v":36},{"$f":"DATEDIF(F651,D651,\"YD\")","v":305},{"$f":"D651-F651","v":13454},{"$f":"\"MRS \"&TEXT(J651,\"00000\")&\" \"&SUBSTITUTE(C651,\":\",\"\")&\" (\"&TEXT(D651,\"TT.MM.JJJJ\")&\") - \"&E651&\" (\"&TEXT(F651,\"TT.MM.JJJJ\")&\") \"&H651&\"-\"&I651","v":"MRS 13454 Widow Clicquot (07.11.2024) - Haley Bennett (07.01.1988) 36-305"}]
["tt3631112","nm2247245",{"$f":"_xlfn.XLOOKUP($A652,_xlfn.CHOOSECOLS(_xlfn.ANCHORARRAY(Filme!$G$1),2),_xlfn.CHOOSECOLS(_xlfn.ANCHORARRAY(Filme!$G$1),3),\"\",0,2)","v":"The Girl on the Train"},{"$f":"_xlfn.XLOOKUP($A652,_xlfn.CHOOSECOLS(_xlfn.ANCHORARRAY(Filme!$G$1),2),_xlfn.CHOOSECOLS(_xlfn.ANCHORARRAY(Filme!$G$1),4),\"\",0,2)","v":"2016-10-27"},{"$f":"_xlfn.XLOOKUP($B652,_xlfn.CHOOSECOLS(_xlfn.ANCHORARRAY(Leute!$F$1),2),_xlfn.CHOOSECOLS(_xlfn.ANCHORARRAY(Leute!$F$1),3),\"x\",0,2)","v":"Haley Bennett"},{"$f":"_xlfn.XLOOKUP($B652,_xlfn.CHOOSECOLS(_xlfn.ANCHORARRAY(Leute!$F$1),2),_xlfn.CHOOSECOLS(_xlfn.ANCHORARRAY(Leute!$F$1),4),\"x\",0,2)","v":"1988-01-07"},{"$f":"RANK(F652,F$1:F652,0)","v":89},{"$f":"DATEDIF(F652,D652,\"Y\")","v":28},{"$f":"DATEDIF(F652,D652,\"YD\")","v":294},{"$f":"D652-F652","v":10521},{"$f":"\"MRS \"&TEXT(J652,\"00000\")&\" \"&SUBSTITUTE(C652,\":\",\"\")&\" (\"&TEXT(D652,\"TT.MM.JJJJ\")&\") - \"&E652&\" (\"&TEXT(F652,\"TT.MM.JJJJ\")&\") \"&H652&\"-\"&I652","v":"MRS 10521 The Girl on the Train (27.10.2016) - Haley Bennett (07.01.1988) 28-294"}]
["tt1029134","nm2368789",{"$f":"_xlfn.XLOOKUP($A653,_xlfn.CHOOSECOLS(_xlfn.ANCHORARRAY(Filme!$G$1),2),_xlfn.CHOOSECOLS(_xlfn.ANCHORARRAY(Filme!$G$1),3),\"\",0,2)","v":"Birds of America"},{"$f":"_xlfn.XLOOKUP($A653,_xlfn.CHOOSECOLS(_xlfn.ANCHORARRAY(Filme!$G$1),2),_xlfn.CHOOSECOLS(_xlfn.ANCHORARRAY(Filme!$G$1),4),\"\",0,2)","v":"2010-02-26"},{"$f":"_xlfn.XLOOKUP($B653,_xlfn.CHOOSECOLS(_xlfn.ANCHORARRAY(Leute!$F$1),2),_xlfn.CHOOSECOLS(_xlfn.ANCHORARRAY(Leute!$F$1),3),\"x\",0,2)","v":"Zoë Kravitz"},{"$f":"_xlfn.XLOOKUP($B653,_xlfn.CHOOSECOLS(_xlfn.ANCHORARRAY(Leute!$F$1),2),_xlfn.CHOOSECOLS(_xlfn.ANCHORARRAY(Leute!$F$1),4),\"x\",0,2)","v":"1988-12-01"},{"$f":"RANK(F653,F$1:F653,0)","v":67},{"$f":"DATEDIF(F653,D653,\"Y\")","v":21},{"$f":"DATEDIF(F653,D653,\"YD\")","v":87},{"$f":"D653-F653","v":7757},{"$f":"\"MRS \"&TEXT(J653,\"00000\")&\" \"&SUBSTITUTE(C653,\":\",\"\")&\" (\"&TEXT(D653,\"TT.MM.JJJJ\")&\") - \"&E653&\" (\"&TEXT(F653,\"TT.MM.JJJJ\")&\") \"&H653&\"-\"&I653","v":"MRS 07757 Birds of America (26.02.2010) - Zoë Kravitz (01.12.1988) 21-87"}]
["tt14128670","nm2368789",{"$f":"_xlfn.XLOOKUP($A654,_xlfn.CHOOSECOLS(_xlfn.ANCHORARRAY(Filme!$G$1),2),_xlfn.CHOOSECOLS(_xlfn.ANCHORARRAY(Filme!$G$1),3),\"\",0,2)","v":"Kimi"},{"$f":"_xlfn.XLOOKUP($A654,_xlfn.CHOOSECOLS(_xlfn.ANCHORARRAY(Filme!$G$1),2),_xlfn.CHOOSECOLS(_xlfn.ANCHORARRAY(Filme!$G$1),4),\"\",0,2)","v":"2022-02-10"},{"$f":"_xlfn.XLOOKUP($B654,_xlfn.CHOOSECOLS(_xlfn.ANCHORARRAY(Leute!$F$1),2),_xlfn.CHOOSECOLS(_xlfn.ANCHORARRAY(Leute!$F$1),3),\"x\",0,2)","v":"Zoë Kravitz"},{"$f":"_xlfn.XLOOKUP($B654,_xlfn.CHOOSECOLS(_xlfn.ANCHORARRAY(Leute!$F$1),2),_xlfn.CHOOSECOLS(_xlfn.ANCHORARRAY(Leute!$F$1),4),\"x\",0,2)","v":"1988-12-01"},{"$f":"RANK(F654,F$1:F654,0)","v":67},{"$f":"DATEDIF(F654,D654,\"Y\")","v":33},{"$f":"DATEDIF(F654,D654,\"YD\")","v":71},{"$f":"D654-F654","v":12124},{"$f":"\"MRS \"&TEXT(J654,\"00000\")&\" \"&SUBSTITUTE(C654,\":\",\"\")&\" (\"&TEXT(D654,\"TT.MM.JJJJ\")&\") - \"&E654&\" (\"&TEXT(F654,\"TT.MM.JJJJ\")&\") \"&H654&\"-\"&I654","v":"MRS 12124 Kimi (10.02.2022) - Zoë Kravitz (01.12.1988) 33-71"}]
["tt2756910","nm2368789",{"$f":"_xlfn.XLOOKUP($A655,_xlfn.CHOOSECOLS(_xlfn.ANCHORARRAY(Filme!$G$1),2),_xlfn.CHOOSECOLS(_xlfn.ANCHORARRAY(Filme!$G$1),3),\"\",0,2)","v":"Pretend We're Kissing"},{"$f":"_xlfn.XLOOKUP($A655,_xlfn.CHOOSECOLS(_xlfn.ANCHORARRAY(Filme!$G$1),2),_xlfn.CHOOSECOLS(_xlfn.ANCHORARRAY(Filme!$G$1),4),\"\",0,2)","v":"2014-06-08"},{"$f":"_xlfn.XLOOKUP($B655,_xlfn.CHOOSECOLS(_xlfn.ANCHORARRAY(Leute!$F$1),2),_xlfn.CHOOSECOLS(_xlfn.ANCHORARRAY(Leute!$F$1),3),\"x\",0,2)","v":"Zoë Kravitz"},{"$f":"_xlfn.XLOOKUP($B655,_xlfn.CHOOSECOLS(_xlfn.ANCHORARRAY(Leute!$F$1),2),_xlfn.CHOOSECOLS(_xlfn.ANCHORARRAY(Leute!$F$1),4),\"x\",0,2)","v":"1988-12-01"},{"$f":"RANK(F655,F$1:F655,0)","v":67},{"$f":"DATEDIF(F655,D655,\"Y\")","v":25},{"$f":"DATEDIF(F655,D655,\"YD\")","v":189},{"$f":"D655-F655","v":9320},{"$f":"\"MRS \"&TEXT(J655,\"00000\")&\" \"&SUBSTITUTE(C655,\":\",\"\")&\" (\"&TEXT(D655,\"TT.MM.JJJJ\")&\") - \"&E655&\" (\"&TEXT(F655,\"TT.MM.JJJJ\")&\") \"&H655&\"-\"&I655","v":"MRS 09320 Pretend We're Kissing (08.06.2014) - Zoë Kravitz (01.12.1988) 25-189"}]
["tt2962876","nm2368789",{"$f":"_xlfn.XLOOKUP($A656,_xlfn.CHOOSECOLS(_xlfn.ANCHORARRAY(Filme!$G$1),2),_xlfn.CHOOSECOLS(_xlfn.ANCHORARRAY(Filme!$G$1),3),\"\",0,2)","v":"The Road Within"},{"$f":"_xlfn.XLOOKUP($A656,_xlfn.CHOOSECOLS(_xlfn.ANCHORARRAY(Filme!$G$1),2),_xlfn.CHOOSECOLS(_xlfn.ANCHORARRAY(Filme!$G$1),4),\"\",0,2)","v":"2015-06-04"},{"$f":"_xlfn.XLOOKUP($B656,_xlfn.CHOOSECOLS(_xlfn.ANCHORARRAY(Leute!$F$1),2),_xlfn.CHOOSECOLS(_xlfn.ANCHORARRAY(Leute!$F$1),3),\"x\",0,2)","v":"Zoë Kravitz"},{"$f":"_xlfn.XLOOKUP($B656,_xlfn.CHOOSECOLS(_xlfn.ANCHORARRAY(Leute!$F$1),2),_xlfn.CHOOSECOLS(_xlfn.ANCHORARRAY(Leute!$F$1),4),\"x\",0,2)","v":"1988-12-01"},{"$f":"RANK(F656,F$1:F656,0)","v":67},{"$f":"DATEDIF(F656,D656,\"Y\")","v":26},{"$f":"DATEDIF(F656,D656,\"YD\")","v":185},{"$f":"D656-F656","v":9681},{"$f":"\"MRS \"&TEXT(J656,\"00000\")&\" \"&SUBSTITUTE(C656,\":\",\"\")&\" (\"&TEXT(D656,\"TT.MM.JJJJ\")&\") - \"&E656&\" (\"&TEXT(F656,\"TT.MM.JJJJ\")&\") \"&H656&\"-\"&I656","v":"MRS 09681 The Road Within (04.06.2015) - Zoë Kravitz (01.12.1988) 26-185"}]
["tt3704298","nm2368789",{"$f":"_xlfn.XLOOKUP($A657,_xlfn.CHOOSECOLS(_xlfn.ANCHORARRAY(Filme!$G$1),2),_xlfn.CHOOSECOLS(_xlfn.ANCHORARRAY(Filme!$G$1),3),\"\",0,2)","v":"Vincent N Roxxy"},{"$f":"_xlfn.XLOOKUP($A657,_xlfn.CHOOSECOLS(_xlfn.ANCHORARRAY(Filme!$G$1),2),_xlfn.CHOOSECOLS(_xlfn.ANCHORARRAY(Filme!$G$1),4),\"\",0,2)","v":"2017-06-02"},{"$f":"_xlfn.XLOOKUP($B657,_xlfn.CHOOSECOLS(_xlfn.ANCHORARRAY(Leute!$F$1),2),_xlfn.CHOOSECOLS(_xlfn.ANCHORARRAY(Leute!$F$1),3),\"x\",0,2)","v":"Zoë Kravitz"},{"$f":"_xlfn.XLOOKUP($B657,_xlfn.CHOOSECOLS(_xlfn.ANCHORARRAY(Leute!$F$1),2),_xlfn.CHOOSECOLS(_xlfn.ANCHORARRAY(Leute!$F$1),4),\"x\",0,2)","v":"1988-12-01"},{"$f":"RANK(F657,F$1:F657,0)","v":67},{"$f":"DATEDIF(F657,D657,\"Y\")","v":28},{"$f":"DATEDIF(F657,D657,\"YD\")","v":183},{"$f":"D657-F657","v":10410},{"$f":"\"MRS \"&TEXT(J657,\"00000\")&\" \"&SUBSTITUTE(C657,\":\",\"\")&\" (\"&TEXT(D657,\"TT.MM.JJJJ\")&\") - \"&E657&\" (\"&TEXT(F657,\"TT.MM.JJJJ\")&\") \"&H657&\"-\"&I657","v":"MRS 10410 Vincent N Roxxy (02.06.2017) - Zoë Kravitz (01.12.1988) 28-183"}]
["tt9046346","nm2368789",{"$f":"_xlfn.XLOOKUP($A658,_xlfn.CHOOSECOLS(_xlfn.ANCHORARRAY(Filme!$G$1),2),_xlfn.CHOOSECOLS(_xlfn.ANCHORARRAY(Filme!$G$1),3),\"\",0,2)","v":"High Fidelity"},{"$f":"_xlfn.XLOOKUP($A658,_xlfn.CHOOSECOLS(_xlfn.ANCHORARRAY(Filme!$G$1),2),_xlfn.CHOOSECOLS(_xlfn.ANCHORARRAY(Filme!$G$1),4),\"\",0,2)","v":"2020-09-10"},{"$f":"_xlfn.XLOOKUP($B658,_xlfn.CHOOSECOLS(_xlfn.ANCHORARRAY(Leute!$F$1),2),_xlfn.CHOOSECOLS(_xlfn.ANCHORARRAY(Leute!$F$1),3),\"x\",0,2)","v":"Zoë Kravitz"},{"$f":"_xlfn.XLOOKUP($B658,_xlfn.CHOOSECOLS(_xlfn.ANCHORARRAY(Leute!$F$1),2),_xlfn.CHOOSECOLS(_xlfn.ANCHORARRAY(Leute!$F$1),4),\"x\",0,2)","v":"1988-12-01"},{"$f":"RANK(F658,F$1:F658,0)","v":67},{"$f":"DATEDIF(F658,D658,\"Y\")","v":31},{"$f":"DATEDIF(F658,D658,\"YD\")","v":283},{"$f":"D658-F658","v":11606},{"$f":"\"MRS \"&TEXT(J658,\"00000\")&\" \"&SUBSTITUTE(C658,\":\",\"\")&\" (\"&TEXT(D658,\"TT.MM.JJJJ\")&\") - \"&E658&\" (\"&TEXT(F658,\"TT.MM.JJJJ\")&\") \"&H658&\"-\"&I658","v":"MRS 11606 High Fidelity (10.09.2020) - Zoë Kravitz (01.12.1988) 31-283"}]
["tt1808339","nm2394794",{"$f":"_xlfn.XLOOKUP($A659,_xlfn.CHOOSECOLS(_xlfn.ANCHORARRAY(Filme!$G$1),2),_xlfn.CHOOSECOLS(_xlfn.ANCHORARRAY(Filme!$G$1),3),\"\",0,2)","v":"Not Another Happy Ending"},{"$f":"_xlfn.XLOOKUP($A659,_xlfn.CHOOSECOLS(_xlfn.ANCHORARRAY(Filme!$G$1),2),_xlfn.CHOOSECOLS(_xlfn.ANCHORARRAY(Filme!$G$1),4),\"\",0,2)","v":"2013-10-11"},{"$f":"_xlfn.XLOOKUP($B659,_xlfn.CHOOSECOLS(_xlfn.ANCHORARRAY(Leute!$F$1),2),_xlfn.CHOOSECOLS(_xlfn.ANCHORARRAY(Leute!$F$1),3),\"x\",0,2)","v":"Karen Gillan"},{"$f":"_xlfn.XLOOKUP($B659,_xlfn.CHOOSECOLS(_xlfn.ANCHORARRAY(Leute!$F$1),2),_xlfn.CHOOSECOLS(_xlfn.ANCHORARRAY(Leute!$F$1),4),\"x\",0,2)","v":"1987-11-28"},{"$f":"RANK(F659,F$1:F659,0)","v":99},{"$f":"DATEDIF(F659,D659,\"Y\")","v":25},{"$f":"DATEDIF(F659,D659,\"YD\")","v":318},{"$f":"D659-F659","v":9449},{"$f":"\"MRS \"&TEXT(J659,\"00000\")&\" \"&SUBSTITUTE(C659,\":\",\"\")&\" (\"&TEXT(D659,\"TT.MM.JJJJ\")&\") - \"&E659&\" (\"&TEXT(F659,\"TT.MM.JJJJ\")&\") \"&H659&\"-\"&I659","v":"MRS 09449 Not Another Happy Ending (11.10.2013) - Karen Gillan (28.11.1987) 25-318"}]
["tt6219314","nm2394794",{"$f":"_xlfn.XLOOKUP($A660,_xlfn.CHOOSECOLS(_xlfn.ANCHORARRAY(Filme!$G$1),2),_xlfn.CHOOSECOLS(_xlfn.ANCHORARRAY(Filme!$G$1),3),\"\",0,2)","v":"The Party's Just Beginning"},{"$f":"_xlfn.XLOOKUP($A660,_xlfn.CHOOSECOLS(_xlfn.ANCHORARRAY(Filme!$G$1),2),_xlfn.CHOOSECOLS(_xlfn.ANCHORARRAY(Filme!$G$1),4),\"\",0,2)","v":"2019-12-31"},{"$f":"_xlfn.XLOOKUP($B660,_xlfn.CHOOSECOLS(_xlfn.ANCHORARRAY(Leute!$F$1),2),_xlfn.CHOOSECOLS(_xlfn.ANCHORARRAY(Leute!$F$1),3),\"x\",0,2)","v":"Karen Gillan"},{"$f":"_xlfn.XLOOKUP($B660,_xlfn.CHOOSECOLS(_xlfn.ANCHORARRAY(Leute!$F$1),2),_xlfn.CHOOSECOLS(_xlfn.ANCHORARRAY(Leute!$F$1),4),\"x\",0,2)","v":"1987-11-28"},{"$f":"RANK(F660,F$1:F660,0)","v":99},{"$f":"DATEDIF(F660,D660,\"Y\")","v":32},{"$f":"DATEDIF(F660,D660,\"YD\")","v":33},{"$f":"D660-F660","v":11721},{"$f":"\"MRS \"&TEXT(J660,\"00000\")&\" \"&SUBSTITUTE(C660,\":\",\"\")&\" (\"&TEXT(D660,\"TT.MM.JJJJ\")&\") - \"&E660&\" (\"&TEXT(F660,\"TT.MM.JJJJ\")&\") \"&H660&\"-\"&I660","v":"MRS 11721 The Party's Just Beginning (31.12.2019) - Karen Gillan (28.11.1987) 32-33"}]
["tt1213921","nm2497366",{"$f":"_xlfn.XLOOKUP($A661,_xlfn.CHOOSECOLS(_xlfn.ANCHORARRAY(Filme!$G$1),2),_xlfn.CHOOSECOLS(_xlfn.ANCHORARRAY(Filme!$G$1),3),\"\",0,2)","v":"Love & Savagery"},{"$f":"_xlfn.XLOOKUP($A661,_xlfn.CHOOSECOLS(_xlfn.ANCHORARRAY(Filme!$G$1),2),_xlfn.CHOOSECOLS(_xlfn.ANCHORARRAY(Filme!$G$1),4),\"\",0,2)","v":"2009-08-31"},{"$f":"_xlfn.XLOOKUP($B661,_xlfn.CHOOSECOLS(_xlfn.ANCHORARRAY(Leute!$F$1),2),_xlfn.CHOOSECOLS(_xlfn.ANCHORARRAY(Leute!$F$1),3),\"x\",0,2)","v":"Sarah Greene"},{"$f":"_xlfn.XLOOKUP($B661,_xlfn.CHOOSECOLS(_xlfn.ANCHORARRAY(Leute!$F$1),2),_xlfn.CHOOSECOLS(_xlfn.ANCHORARRAY(Leute!$F$1),4),\"x\",0,2)","v":"1984-07-24"},{"$f":"RANK(F661,F$1:F661,0)","v":150},{"$f":"DATEDIF(F661,D661,\"Y\")","v":25},{"$f":"DATEDIF(F661,D661,\"YD\")","v":38},{"$f":"D661-F661","v":9169},{"$f":"\"MRS \"&TEXT(J661,\"00000\")&\" \"&SUBSTITUTE(C661,\":\",\"\")&\" (\"&TEXT(D661,\"TT.MM.JJJJ\")&\") - \"&E661&\" (\"&TEXT(F661,\"TT.MM.JJJJ\")&\") \"&H661&\"-\"&I661","v":"MRS 09169 Love & Savagery (31.08.2009) - Sarah Greene (24.07.1984) 25-38"}]
["tt20412522","nm2497366",{"$f":"_xlfn.XLOOKUP($A662,_xlfn.CHOOSECOLS(_xlfn.ANCHORARRAY(Filme!$G$1),2),_xlfn.CHOOSECOLS(_xlfn.ANCHORARRAY(Filme!$G$1),3),\"\",0,2)","v":"Sexy Beast"},{"$f":"_xlfn.XLOOKUP($A662,_xlfn.CHOOSECOLS(_xlfn.ANCHORARRAY(Filme!$G$1),2),_xlfn.CHOOSECOLS(_xlfn.ANCHORARRAY(Filme!$G$1),4),\"\",0,2)","v":"2024-01-25"},{"$f":"_xlfn.XLOOKUP($B662,_xlfn.CHOOSECOLS(_xlfn.ANCHORARRAY(Leute!$F$1),2),_xlfn.CHOOSECOLS(_xlfn.ANCHORARRAY(Leute!$F$1),3),\"x\",0,2)","v":"Sarah Greene"},{"$f":"_xlfn.XLOOKUP($B662,_xlfn.CHOOSECOLS(_xlfn.ANCHORARRAY(Leute!$F$1),2),_xlfn.CHOOSECOLS(_xlfn.ANCHORARRAY(Leute!$F$1),4),\"x\",0,2)","v":"1984-07-24"},{"$f":"RANK(F662,F$1:F662,0)","v":150},{"$f":"DATEDIF(F662,D662,\"Y\")","v":39},{"$f":"DATEDIF(F662,D662,\"YD\")","v":185},{"$f":"D662-F662","v":14429},{"$f":"\"MRS \"&TEXT(J662,\"00000\")&\" \"&SUBSTITUTE(C662,\":\",\"\")&\" (\"&TEXT(D662,\"TT.MM.JJJJ\")&\") - \"&E662&\" (\"&TEXT(F662,\"TT.MM.JJJJ\")&\") \"&H662&\"-\"&I662","v":"MRS 14429 Sexy Beast (25.01.2024) - Sarah Greene (24.07.1984) 39-185"}]
["tt3780302","nm2497366",{"$f":"_xlfn.XLOOKUP($A663,_xlfn.CHOOSECOLS(_xlfn.ANCHORARRAY(Filme!$G$1),2),_xlfn.CHOOSECOLS(_xlfn.ANCHORARRAY(Filme!$G$1),3),\"\",0,2)","v":"Penny Dreadful"},{"$f":"_xlfn.XLOOKUP($A663,_xlfn.CHOOSECOLS(_xlfn.ANCHORARRAY(Filme!$G$1),2),_xlfn.CHOOSECOLS(_xlfn.ANCHORARRAY(Filme!$G$1),4),\"\",0,2)","v":"2015-05-08"},{"$f":"_xlfn.XLOOKUP($B663,_xlfn.CHOOSECOLS(_xlfn.ANCHORARRAY(Leute!$F$1),2),_xlfn.CHOOSECOLS(_xlfn.ANCHORARRAY(Leute!$F$1),3),\"x\",0,2)","v":"Sarah Greene"},{"$f":"_xlfn.XLOOKUP($B663,_xlfn.CHOOSECOLS(_xlfn.ANCHORARRAY(Leute!$F$1),2),_xlfn.CHOOSECOLS(_xlfn.ANCHORARRAY(Leute!$F$1),4),\"x\",0,2)","v":"1984-07-24"},{"$f":"RANK(F663,F$1:F663,0)","v":150},{"$f":"DATEDIF(F663,D663,\"Y\")","v":30},{"$f":"DATEDIF(F663,D663,\"YD\")","v":288},{"$f":"D663-F663","v":11245},{"$f":"\"MRS \"&TEXT(J663,\"00000\")&\" \"&SUBSTITUTE(C663,\":\",\"\")&\" (\"&TEXT(D663,\"TT.MM.JJJJ\")&\") - \"&E663&\" (\"&TEXT(F663,\"TT.MM.JJJJ\")&\") \"&H663&\"-\"&I663","v":"MRS 11245 Penny Dreadful (08.05.2015) - Sarah Greene (24.07.1984) 30-288"}]
["tt0470752","nm2539953",{"$f":"_xlfn.XLOOKUP($A664,_xlfn.CHOOSECOLS(_xlfn.ANCHORARRAY(Filme!$G$1),2),_xlfn.CHOOSECOLS(_xlfn.ANCHORARRAY(Filme!$G$1),3),\"\",0,2)","v":"Ex Machina"},{"$f":"_xlfn.XLOOKUP($A664,_xlfn.CHOOSECOLS(_xlfn.ANCHORARRAY(Filme!$G$1),2),_xlfn.CHOOSECOLS(_xlfn.ANCHORARRAY(Filme!$G$1),4),\"\",0,2)","v":"2015-04-23"},{"$f":"_xlfn.XLOOKUP($B664,_xlfn.CHOOSECOLS(_xlfn.ANCHORARRAY(Leute!$F$1),2),_xlfn.CHOOSECOLS(_xlfn.ANCHORARRAY(Leute!$F$1),3),\"x\",0,2)","v":"Alicia Vikander"},{"$f":"_xlfn.XLOOKUP($B664,_xlfn.CHOOSECOLS(_xlfn.ANCHORARRAY(Leute!$F$1),2),_xlfn.CHOOSECOLS(_xlfn.ANCHORARRAY(Leute!$F$1),4),\"x\",0,2)","v":"1988-10-03"},{"$f":"RANK(F664,F$1:F664,0)","v":79},{"$f":"DATEDIF(F664,D664,\"Y\")","v":26},{"$f":"DATEDIF(F664,D664,\"YD\")","v":202},{"$f":"D664-F664","v":9698},{"$f":"\"MRS \"&TEXT(J664,\"00000\")&\" \"&SUBSTITUTE(C664,\":\",\"\")&\" (\"&TEXT(D664,\"TT.MM.JJJJ\")&\") - \"&E664&\" (\"&TEXT(F664,\"TT.MM.JJJJ\")&\") \"&H664&\"-\"&I664","v":"MRS 09698 Ex Machina (23.04.2015) - Alicia Vikander (03.10.1988) 26-202"}]
["tt0491203","nm2539953",{"$f":"_xlfn.XLOOKUP($A665,_xlfn.CHOOSECOLS(_xlfn.ANCHORARRAY(Filme!$G$1),2),_xlfn.CHOOSECOLS(_xlfn.ANCHORARRAY(Filme!$G$1),3),\"\",0,2)","v":"Tulip Fever"},{"$f":"_xlfn.XLOOKUP($A665,_xlfn.CHOOSECOLS(_xlfn.ANCHORARRAY(Filme!$G$1),2),_xlfn.CHOOSECOLS(_xlfn.ANCHORARRAY(Filme!$G$1),4),\"\",0,2)","v":"2017-08-24"},{"$f":"_xlfn.XLOOKUP($B665,_xlfn.CHOOSECOLS(_xlfn.ANCHORARRAY(Leute!$F$1),2),_xlfn.CHOOSECOLS(_xlfn.ANCHORARRAY(Leute!$F$1),3),\"x\",0,2)","v":"Alicia Vikander"},{"$f":"_xlfn.XLOOKUP($B665,_xlfn.CHOOSECOLS(_xlfn.ANCHORARRAY(Leute!$F$1),2),_xlfn.CHOOSECOLS(_xlfn.ANCHORARRAY(Leute!$F$1),4),\"x\",0,2)","v":"1988-10-03"},{"$f":"RANK(F665,F$1:F665,0)","v":79},{"$f":"DATEDIF(F665,D665,\"Y\")","v":28},{"$f":"DATEDIF(F665,D665,\"YD\")","v":325},{"$f":"D665-F665","v":10552},{"$f":"\"MRS \"&TEXT(J665,\"00000\")&\" \"&SUBSTITUTE(C665,\":\",\"\")&\" (\"&TEXT(D665,\"TT.MM.JJJJ\")&\") - \"&E665&\" (\"&TEXT(F665,\"TT.MM.JJJJ\")&\") \"&H665&\"-\"&I665","v":"MRS 10552 Tulip Fever (24.08.2017) - Alicia Vikander (03.10.1988) 28-325"}]
["tt0810819","nm2539953",{"$f":"_xlfn.XLOOKUP($A666,_xlfn.CHOOSECOLS(_xlfn.ANCHORARRAY(Filme!$G$1),2),_xlfn.CHOOSECOLS(_xlfn.ANCHORARRAY(Filme!$G$1),3),\"\",0,2)","v":"The Danish Girl"},{"$f":"_xlfn.XLOOKUP($A666,_xlfn.CHOOSECOLS(_xlfn.ANCHORARRAY(Filme!$G$1),2),_xlfn.CHOOSECOLS(_xlfn.ANCHORARRAY(Filme!$G$1),4),\"\",0,2)","v":"2016-01-07"},{"$f":"_xlfn.XLOOKUP($B666,_xlfn.CHOOSECOLS(_xlfn.ANCHORARRAY(Leute!$F$1),2),_xlfn.CHOOSECOLS(_xlfn.ANCHORARRAY(Leute!$F$1),3),\"x\",0,2)","v":"Alicia Vikander"},{"$f":"_xlfn.XLOOKUP($B666,_xlfn.CHOOSECOLS(_xlfn.ANCHORARRAY(Leute!$F$1),2),_xlfn.CHOOSECOLS(_xlfn.ANCHORARRAY(Leute!$F$1),4),\"x\",0,2)","v":"1988-10-03"},{"$f":"RANK(F666,F$1:F666,0)","v":79},{"$f":"DATEDIF(F666,D666,\"Y\")","v":27},{"$f":"DATEDIF(F666,D666,\"YD\")","v":96},{"$f":"D666-F666","v":9957},{"$f":"\"MRS \"&TEXT(J666,\"00000\")&\" \"&SUBSTITUTE(C666,\":\",\"\")&\" (\"&TEXT(D666,\"TT.MM.JJJJ\")&\") - \"&E666&\" (\"&TEXT(F666,\"TT.MM.JJJJ\")&\") \"&H666&\"-\"&I666","v":"MRS 09957 The Danish Girl (07.01.2016) - Alicia Vikander (03.10.1988) 27-96"}]
["tt1276419","nm2539953",{"$f":"_xlfn.XLOOKUP($A667,_xlfn.CHOOSECOLS(_xlfn.ANCHORARRAY(Filme!$G$1),2),_xlfn.CHOOSECOLS(_xlfn.ANCHORARRAY(Filme!$G$1),3),\"\",0,2)","v":"En kongelig affære"},{"$f":"_xlfn.XLOOKUP($A667,_xlfn.CHOOSECOLS(_xlfn.ANCHORARRAY(Filme!$G$1),2),_xlfn.CHOOSECOLS(_xlfn.ANCHORARRAY(Filme!$G$1),4),\"\",0,2)","v":"2012-04-19"},{"$f":"_xlfn.XLOOKUP($B667,_xlfn.CHOOSECOLS(_xlfn.ANCHORARRAY(Leute!$F$1),2),_xlfn.CHOOSECOLS(_xlfn.ANCHORARRAY(Leute!$F$1),3),\"x\",0,2)","v":"Alicia Vikander"},{"$f":"_xlfn.XLOOKUP($B667,_xlfn.CHOOSECOLS(_xlfn.ANCHORARRAY(Leute!$F$1),2),_xlfn.CHOOSECOLS(_xlfn.ANCHORARRAY(Leute!$F$1),4),\"x\",0,2)","v":"1988-10-03"},{"$f":"RANK(F667,F$1:F667,0)","v":79},{"$f":"DATEDIF(F667,D667,\"Y\")","v":23},{"$f":"DATEDIF(F667,D667,\"YD\")","v":198},{"$f":"D667-F667","v":8599},{"$f":"\"MRS \"&TEXT(J667,\"00000\")&\" \"&SUBSTITUTE(C667,\":\",\"\")&\" (\"&TEXT(D667,\"TT.MM.JJJJ\")&\") - \"&E667&\" (\"&TEXT(F667,\"TT.MM.JJJJ\")&\") \"&H667&\"-\"&I667","v":"MRS 08599 En kongelig affære (19.04.2012) - Alicia Vikander (03.10.1988) 23-198"}]
["tt1815782","nm2539953",{"$f":"_xlfn.XLOOKUP($A668,_xlfn.CHOOSECOLS(_xlfn.ANCHORARRAY(Filme!$G$1),2),_xlfn.CHOOSECOLS(_xlfn.ANCHORARRAY(Filme!$G$1),3),\"\",0,2)","v":"Kronjuvelerna"},{"$f":"_xlfn.XLOOKUP($A668,_xlfn.CHOOSECOLS(_xlfn.ANCHORARRAY(Filme!$G$1),2),_xlfn.CHOOSECOLS(_xlfn.ANCHORARRAY(Filme!$G$1),4),\"\",0,2)","v":"2011-06-29"},{"$f":"_xlfn.XLOOKUP($B668,_xlfn.CHOOSECOLS(_xlfn.ANCHORARRAY(Leute!$F$1),2),_xlfn.CHOOSECOLS(_xlfn.ANCHORARRAY(Leute!$F$1),3),\"x\",0,2)","v":"Alicia Vikander"},{"$f":"_xlfn.XLOOKUP($B668,_xlfn.CHOOSECOLS(_xlfn.ANCHORARRAY(Leute!$F$1),2),_xlfn.CHOOSECOLS(_xlfn.ANCHORARRAY(Leute!$F$1),4),\"x\",0,2)","v":"1988-10-03"},{"$f":"RANK(F668,F$1:F668,0)","v":79},{"$f":"DATEDIF(F668,D668,\"Y\")","v":22},{"$f":"DATEDIF(F668,D668,\"YD\")","v":269},{"$f":"D668-F668","v":8304},{"$f":"\"MRS \"&TEXT(J668,\"00000\")&\" \"&SUBSTITUTE(C668,\":\",\"\")&\" (\"&TEXT(D668,\"TT.MM.JJJJ\")&\") - \"&E668&\" (\"&TEXT(F668,\"TT.MM.JJJJ\")&\") \"&H668&\"-\"&I668","v":"MRS 08304 Kronjuvelerna (29.06.2011) - Alicia Vikander (03.10.1988) 22-269"}]
["tt19838660","nm2539953",{"$f":"_xlfn.XLOOKUP($A669,_xlfn.CHOOSECOLS(_xlfn.ANCHORARRAY(Filme!$G$1),2),_xlfn.CHOOSECOLS(_xlfn.ANCHORARRAY(Filme!$G$1),3),\"\",0,2)","v":"Irma Vep"},{"$f":"_xlfn.XLOOKUP($A669,_xlfn.CHOOSECOLS(_xlfn.ANCHORARRAY(Filme!$G$1),2),_xlfn.CHOOSECOLS(_xlfn.ANCHORARRAY(Filme!$G$1),4),\"\",0,2)","v":"2022-06-20"},{"$f":"_xlfn.XLOOKUP($B669,_xlfn.CHOOSECOLS(_xlfn.ANCHORARRAY(Leute!$F$1),2),_xlfn.CHOOSECOLS(_xlfn.ANCHORARRAY(Leute!$F$1),3),\"x\",0,2)","v":"Alicia Vikander"},{"$f":"_xlfn.XLOOKUP($B669,_xlfn.CHOOSECOLS(_xlfn.ANCHORARRAY(Leute!$F$1),2),_xlfn.CHOOSECOLS(_xlfn.ANCHORARRAY(Leute!$F$1),4),\"x\",0,2)","v":"1988-10-03"},{"$f":"RANK(F669,F$1:F669,0)","v":79},{"$f":"DATEDIF(F669,D669,\"Y\")","v":33},{"$f":"DATEDIF(F669,D669,\"YD\")","v":260},{"$f":"D669-F669","v":12313},{"$f":"\"MRS \"&TEXT(J669,\"00000\")&\" \"&SUBSTITUTE(C669,\":\",\"\")&\" (\"&TEXT(D669,\"TT.MM.JJJJ\")&\") - \"&E669&\" (\"&TEXT(F669,\"TT.MM.JJJJ\")&\") \"&H669&\"-\"&I669","v":"MRS 12313 Irma Vep (20.06.2022) - Alicia Vikander (03.10.1988) 33-260"}]
["tt2452200","nm2539953",{"$f":"_xlfn.XLOOKUP($A670,_xlfn.CHOOSECOLS(_xlfn.ANCHORARRAY(Filme!$G$1),2),_xlfn.CHOOSECOLS(_xlfn.ANCHORARRAY(Filme!$G$1),3),\"\",0,2)","v":"Son of a Gun"},{"$f":"_xlfn.XLOOKUP($A670,_xlfn.CHOOSECOLS(_xlfn.ANCHORARRAY(Filme!$G$1),2),_xlfn.CHOOSECOLS(_xlfn.ANCHORARRAY(Filme!$G$1),4),\"\",0,2)","v":"2014-10-16"},{"$f":"_xlfn.XLOOKUP($B670,_xlfn.CHOOSECOLS(_xlfn.ANCHORARRAY(Leute!$F$1),2),_xlfn.CHOOSECOLS(_xlfn.ANCHORARRAY(Leute!$F$1),3),\"x\",0,2)","v":"Alicia Vikander"},{"$f":"_xlfn.XLOOKUP($B670,_xlfn.CHOOSECOLS(_xlfn.ANCHORARRAY(Leute!$F$1),2),_xlfn.CHOOSECOLS(_xlfn.ANCHORARRAY(Leute!$F$1),4),\"x\",0,2)","v":"1988-10-03"},{"$f":"RANK(F670,F$1:F670,0)","v":79},{"$f":"DATEDIF(F670,D670,\"Y\")","v":26},{"$f":"DATEDIF(F670,D670,\"YD\")","v":13},{"$f":"D670-F670","v":9509},{"$f":"\"MRS \"&TEXT(J670,\"00000\")&\" \"&SUBSTITUTE(C670,\":\",\"\")&\" (\"&TEXT(D670,\"TT.MM.JJJJ\")&\") - \"&E670&\" (\"&TEXT(F670,\"TT.MM.JJJJ\")&\") \"&H670&\"-\"&I670","v":"MRS 09509 Son of a Gun (16.10.2014) - Alicia Vikander (03.10.1988) 26-13"}]
["tt3563262","nm2539953",{"$f":"_xlfn.XLOOKUP($A671,_xlfn.CHOOSECOLS(_xlfn.ANCHORARRAY(Filme!$G$1),2),_xlfn.CHOOSECOLS(_xlfn.ANCHORARRAY(Filme!$G$1),3),\"\",0,2)","v":"Submergence"},{"$f":"_xlfn.XLOOKUP($A671,_xlfn.CHOOSECOLS(_xlfn.ANCHORARRAY(Filme!$G$1),2),_xlfn.CHOOSECOLS(_xlfn.ANCHORARRAY(Filme!$G$1),4),\"\",0,2)","v":"2018-08-02"},{"$f":"_xlfn.XLOOKUP($B671,_xlfn.CHOOSECOLS(_xlfn.ANCHORARRAY(Leute!$F$1),2),_xlfn.CHOOSECOLS(_xlfn.ANCHORARRAY(Leute!$F$1),3),\"x\",0,2)","v":"Alicia Vikander"},{"$f":"_xlfn.XLOOKUP($B671,_xlfn.CHOOSECOLS(_xlfn.ANCHORARRAY(Leute!$F$1),2),_xlfn.CHOOSECOLS(_xlfn.ANCHORARRAY(Leute!$F$1),4),\"x\",0,2)","v":"1988-10-03"},{"$f":"RANK(F671,F$1:F671,0)","v":79},{"$f":"DATEDIF(F671,D671,\"Y\")","v":29},{"$f":"DATEDIF(F671,D671,\"YD\")","v":303},{"$f":"D671-F671","v":10895},{"$f":"\"MRS \"&TEXT(J671,\"00000\")&\" \"&SUBSTITUTE(C671,\":\",\"\")&\" (\"&TEXT(D671,\"TT.MM.JJJJ\")&\") - \"&E671&\" (\"&TEXT(F671,\"TT.MM.JJJJ\")&\") \"&H671&\"-\"&I671","v":"MRS 10895 Submergence (02.08.2018) - Alicia Vikander (03.10.1988) 29-303"}]
["tt8178486","nm2539953",{"$f":"_xlfn.XLOOKUP($A672,_xlfn.CHOOSECOLS(_xlfn.ANCHORARRAY(Filme!$G$1),2),_xlfn.CHOOSECOLS(_xlfn.ANCHORARRAY(Filme!$G$1),3),\"\",0,2)","v":"Earthquake Bird"},{"$f":"_xlfn.XLOOKUP($A672,_xlfn.CHOOSECOLS(_xlfn.ANCHORARRAY(Filme!$G$1),2),_xlfn.CHOOSECOLS(_xlfn.ANCHORARRAY(Filme!$G$1),4),\"\",0,2)","v":"2019-11-15"},{"$f":"_xlfn.XLOOKUP($B672,_xlfn.CHOOSECOLS(_xlfn.ANCHORARRAY(Leute!$F$1),2),_xlfn.CHOOSECOLS(_xlfn.ANCHORARRAY(Leute!$F$1),3),\"x\",0,2)","v":"Alicia Vikander"},{"$f":"_xlfn.XLOOKUP($B672,_xlfn.CHOOSECOLS(_xlfn.ANCHORARRAY(Leute!$F$1),2),_xlfn.CHOOSECOLS(_xlfn.ANCHORARRAY(Leute!$F$1),4),\"x\",0,2)","v":"1988-10-03"},{"$f":"RANK(F672,F$1:F672,0)","v":79},{"$f":"DATEDIF(F672,D672,\"Y\")","v":31},{"$f":"DATEDIF(F672,D672,\"YD\")","v":43},{"$f":"D672-F672","v":11365},{"$f":"\"MRS \"&TEXT(J672,\"00000\")&\" \"&SUBSTITUTE(C672,\":\",\"\")&\" (\"&TEXT(D672,\"TT.MM.JJJJ\")&\") - \"&E672&\" (\"&TEXT(F672,\"TT.MM.JJJJ\")&\") \"&H672&\"-\"&I672","v":"MRS 11365 Earthquake Bird (15.11.2019) - Alicia Vikander (03.10.1988) 31-43"}]
["tt14633464","nm2560618",{"$f":"_xlfn.XLOOKUP($A673,_xlfn.CHOOSECOLS(_xlfn.ANCHORARRAY(Filme!$G$1),2),_xlfn.CHOOSECOLS(_xlfn.ANCHORARRAY(Filme!$G$1),3),\"\",0,2)","v":"Desperation Road"},{"$f":"_xlfn.XLOOKUP($A673,_xlfn.CHOOSECOLS(_xlfn.ANCHORARRAY(Filme!$G$1),2),_xlfn.CHOOSECOLS(_xlfn.ANCHORARRAY(Filme!$G$1),4),\"\",0,2)","v":"2023-12-14"},{"$f":"_xlfn.XLOOKUP($B673,_xlfn.CHOOSECOLS(_xlfn.ANCHORARRAY(Leute!$F$1),2),_xlfn.CHOOSECOLS(_xlfn.ANCHORARRAY(Leute!$F$1),3),\"x\",0,2)","v":"Willa Fitzgerald"},{"$f":"_xlfn.XLOOKUP($B673,_xlfn.CHOOSECOLS(_xlfn.ANCHORARRAY(Leute!$F$1),2),_xlfn.CHOOSECOLS(_xlfn.ANCHORARRAY(Leute!$F$1),4),\"x\",0,2)","v":"1991-01-17"},{"$f":"RANK(F673,F$1:F673,0)","v":21},{"$f":"DATEDIF(F673,D673,\"Y\")","v":32},{"$f":"DATEDIF(F673,D673,\"YD\")","v":331},{"$f":"D673-F673","v":12019},{"$f":"\"MRS \"&TEXT(J673,\"00000\")&\" \"&SUBSTITUTE(C673,\":\",\"\")&\" (\"&TEXT(D673,\"TT.MM.JJJJ\")&\") - \"&E673&\" (\"&TEXT(F673,\"TT.MM.JJJJ\")&\") \"&H673&\"-\"&I673","v":"MRS 12019 Desperation Road (14.12.2023) - Willa Fitzgerald (17.01.1991) 32-331"}]
["tt15792596","nm2560618",{"$f":"_xlfn.XLOOKUP($A674,_xlfn.CHOOSECOLS(_xlfn.ANCHORARRAY(Filme!$G$1),2),_xlfn.CHOOSECOLS(_xlfn.ANCHORARRAY(Filme!$G$1),3),\"\",0,2)","v":"Reacher"},{"$f":"_xlfn.XLOOKUP($A674,_xlfn.CHOOSECOLS(_xlfn.ANCHORARRAY(Filme!$G$1),2),_xlfn.CHOOSECOLS(_xlfn.ANCHORARRAY(Filme!$G$1),4),\"\",0,2)","v":"2022-02-04"},{"$f":"_xlfn.XLOOKUP($B674,_xlfn.CHOOSECOLS(_xlfn.ANCHORARRAY(Leute!$F$1),2),_xlfn.CHOOSECOLS(_xlfn.ANCHORARRAY(Leute!$F$1),3),\"x\",0,2)","v":"Willa Fitzgerald"},{"$f":"_xlfn.XLOOKUP($B674,_xlfn.CHOOSECOLS(_xlfn.ANCHORARRAY(Leute!$F$1),2),_xlfn.CHOOSECOLS(_xlfn.ANCHORARRAY(Leute!$F$1),4),\"x\",0,2)","v":"1991-01-17"},{"$f":"RANK(F674,F$1:F674,0)","v":21},{"$f":"DATEDIF(F674,D674,\"Y\")","v":31},{"$f":"DATEDIF(F674,D674,\"YD\")","v":18},{"$f":"D674-F674","v":11341},{"$f":"\"MRS \"&TEXT(J674,\"00000\")&\" \"&SUBSTITUTE(C674,\":\",\"\")&\" (\"&TEXT(D674,\"TT.MM.JJJJ\")&\") - \"&E674&\" (\"&TEXT(F674,\"TT.MM.JJJJ\")&\") \"&H674&\"-\"&I674","v":"MRS 11341 Reacher (04.02.2022) - Willa Fitzgerald (17.01.1991) 31-18"}]
["tt0830515","nm2605345",{"$f":"_xlfn.XLOOKUP($A675,_xlfn.CHOOSECOLS(_xlfn.ANCHORARRAY(Filme!$G$1),2),_xlfn.CHOOSECOLS(_xlfn.ANCHORARRAY(Filme!$G$1),3),\"\",0,2)","v":"Quantum of Solace"},{"$f":"_xlfn.XLOOKUP($A675,_xlfn.CHOOSECOLS(_xlfn.ANCHORARRAY(Filme!$G$1),2),_xlfn.CHOOSECOLS(_xlfn.ANCHORARRAY(Filme!$G$1),4),\"\",0,2)","v":"2008-11-06"},{"$f":"_xlfn.XLOOKUP($B675,_xlfn.CHOOSECOLS(_xlfn.ANCHORARRAY(Leute!$F$1),2),_xlfn.CHOOSECOLS(_xlfn.ANCHORARRAY(Leute!$F$1),3),\"x\",0,2)","v":"Gemma Arterton"},{"$f":"_xlfn.XLOOKUP($B675,_xlfn.CHOOSECOLS(_xlfn.ANCHORARRAY(Leute!$F$1),2),_xlfn.CHOOSECOLS(_xlfn.ANCHORARRAY(Leute!$F$1),4),\"x\",0,2)","v":"1986-02-02"},{"$f":"RANK(F675,F$1:F675,0)","v":128},{"$f":"DATEDIF(F675,D675,\"Y\")","v":22},{"$f":"DATEDIF(F675,D675,\"YD\")","v":277},{"$f":"D675-F675","v":8313},{"$f":"\"MRS \"&TEXT(J675,\"00000\")&\" \"&SUBSTITUTE(C675,\":\",\"\")&\" (\"&TEXT(D675,\"TT.MM.JJJJ\")&\") - \"&E675&\" (\"&TEXT(F675,\"TT.MM.JJJJ\")&\") \"&H675&\"-\"&I675","v":"MRS 08313 Quantum of Solace (06.11.2008) - Gemma Arterton (02.02.1986) 22-277"}]
["tt10994994","nm2605345",{"$f":"_xlfn.XLOOKUP($A676,_xlfn.CHOOSECOLS(_xlfn.ANCHORARRAY(Filme!$G$1),2),_xlfn.CHOOSECOLS(_xlfn.ANCHORARRAY(Filme!$G$1),3),\"\",0,2)","v":"Black Narcissus"},{"$f":"_xlfn.XLOOKUP($A676,_xlfn.CHOOSECOLS(_xlfn.ANCHORARRAY(Filme!$G$1),2),_xlfn.CHOOSECOLS(_xlfn.ANCHORARRAY(Filme!$G$1),4),\"\",0,2)","v":"2020-11-23"},{"$f":"_xlfn.XLOOKUP($B676,_xlfn.CHOOSECOLS(_xlfn.ANCHORARRAY(Leute!$F$1),2),_xlfn.CHOOSECOLS(_xlfn.ANCHORARRAY(Leute!$F$1),3),\"x\",0,2)","v":"Gemma Arterton"},{"$f":"_xlfn.XLOOKUP($B676,_xlfn.CHOOSECOLS(_xlfn.ANCHORARRAY(Leute!$F$1),2),_xlfn.CHOOSECOLS(_xlfn.ANCHORARRAY(Leute!$F$1),4),\"x\",0,2)","v":"1986-02-02"},{"$f":"RANK(F676,F$1:F676,0)","v":128},{"$f":"DATEDIF(F676,D676,\"Y\")","v":34},{"$f":"DATEDIF(F676,D676,\"YD\")","v":294},{"$f":"D676-F676","v":12713},{"$f":"\"MRS \"&TEXT(J676,\"00000\")&\" \"&SUBSTITUTE(C676,\":\",\"\")&\" (\"&TEXT(D676,\"TT.MM.JJJJ\")&\") - \"&E676&\" (\"&TEXT(F676,\"TT.MM.JJJJ\")&\") \"&H676&\"-\"&I676","v":"MRS 12713 Black Narcissus (23.11.2020) - Gemma Arterton (02.02.1986) 34-294"}]
["tt1130980","nm2605345",{"$f":"_xlfn.XLOOKUP($A677,_xlfn.CHOOSECOLS(_xlfn.ANCHORARRAY(Filme!$G$1),2),_xlfn.CHOOSECOLS(_xlfn.ANCHORARRAY(Filme!$G$1),3),\"\",0,2)","v":"Three and Out"},{"$f":"_xlfn.XLOOKUP($A677,_xlfn.CHOOSECOLS(_xlfn.ANCHORARRAY(Filme!$G$1),2),_xlfn.CHOOSECOLS(_xlfn.ANCHORARRAY(Filme!$G$1),4),\"\",0,2)","v":"2008-04-25"},{"$f":"_xlfn.XLOOKUP($B677,_xlfn.CHOOSECOLS(_xlfn.ANCHORARRAY(Leute!$F$1),2),_xlfn.CHOOSECOLS(_xlfn.ANCHORARRAY(Leute!$F$1),3),\"x\",0,2)","v":"Gemma Arterton"},{"$f":"_xlfn.XLOOKUP($B677,_xlfn.CHOOSECOLS(_xlfn.ANCHORARRAY(Leute!$F$1),2),_xlfn.CHOOSECOLS(_xlfn.ANCHORARRAY(Leute!$F$1),4),\"x\",0,2)","v":"1986-02-02"},{"$f":"RANK(F677,F$1:F677,0)","v":128},{"$f":"DATEDIF(F677,D677,\"Y\")","v":22},{"$f":"DATEDIF(F677,D677,\"YD\")","v":82},{"$f":"D677-F677","v":8118},{"$f":"\"MRS \"&TEXT(J677,\"00000\")&\" \"&SUBSTITUTE(C677,\":\",\"\")&\" (\"&TEXT(D677,\"TT.MM.JJJJ\")&\") - \"&E677&\" (\"&TEXT(F677,\"TT.MM.JJJJ\")&\") \"&H677&\"-\"&I677","v":"MRS 08118 Three and Out (25.04.2008) - Gemma Arterton (02.02.1986) 22-82"}]
["tt13457790","nm2605345",{"$f":"_xlfn.XLOOKUP($A678,_xlfn.CHOOSECOLS(_xlfn.ANCHORARRAY(Filme!$G$1),2),_xlfn.CHOOSECOLS(_xlfn.ANCHORARRAY(Filme!$G$1),3),\"\",0,2)","v":"The Critic"},{"$f":"_xlfn.XLOOKUP($A678,_xlfn.CHOOSECOLS(_xlfn.ANCHORARRAY(Filme!$G$1),2),_xlfn.CHOOSECOLS(_xlfn.ANCHORARRAY(Filme!$G$1),4),\"\",0,2)","v":"2024-09-13"},{"$f":"_xlfn.XLOOKUP($B678,_xlfn.CHOOSECOLS(_xlfn.ANCHORARRAY(Leute!$F$1),2),_xlfn.CHOOSECOLS(_xlfn.ANCHORARRAY(Leute!$F$1),3),\"x\",0,2)","v":"Gemma Arterton"},{"$f":"_xlfn.XLOOKUP($B678,_xlfn.CHOOSECOLS(_xlfn.ANCHORARRAY(Leute!$F$1),2),_xlfn.CHOOSECOLS(_xlfn.ANCHORARRAY(Leute!$F$1),4),\"x\",0,2)","v":"1986-02-02"},{"$f":"RANK(F678,F$1:F678,0)","v":128},{"$f":"DATEDIF(F678,D678,\"Y\")","v":38},{"$f":"DATEDIF(F678,D678,\"YD\")","v":223},{"$f":"D678-F678","v":14103},{"$f":"\"MRS \"&TEXT(J678,\"00000\")&\" \"&SUBSTITUTE(C678,\":\",\"\")&\" (\"&TEXT(D678,\"TT.MM.JJJJ\")&\") - \"&E678&\" (\"&TEXT(F678,\"TT.MM.JJJJ\")&\") \"&H678&\"-\"&I678","v":"MRS 14103 The Critic (13.09.2024) - Gemma Arterton (02.02.1986) 38-223"}]
["tt1379177","nm2605345",{"$f":"_xlfn.XLOOKUP($A679,_xlfn.CHOOSECOLS(_xlfn.ANCHORARRAY(Filme!$G$1),2),_xlfn.CHOOSECOLS(_xlfn.ANCHORARRAY(Filme!$G$1),3),\"\",0,2)","v":"The Disappearance of Alice Creed"},{"$f":"_xlfn.XLOOKUP($A679,_xlfn.CHOOSECOLS(_xlfn.ANCHORARRAY(Filme!$G$1),2),_xlfn.CHOOSECOLS(_xlfn.ANCHORARRAY(Filme!$G$1),4),\"\",0,2)","v":"2010-04-30"},{"$f":"_xlfn.XLOOKUP($B679,_xlfn.CHOOSECOLS(_xlfn.ANCHORARRAY(Leute!$F$1),2),_xlfn.CHOOSECOLS(_xlfn.ANCHORARRAY(Leute!$F$1),3),\"x\",0,2)","v":"Gemma Arterton"},{"$f":"_xlfn.XLOOKUP($B679,_xlfn.CHOOSECOLS(_xlfn.ANCHORARRAY(Leute!$F$1),2),_xlfn.CHOOSECOLS(_xlfn.ANCHORARRAY(Leute!$F$1),4),\"x\",0,2)","v":"1986-02-02"},{"$f":"RANK(F679,F$1:F679,0)","v":128},{"$f":"DATEDIF(F679,D679,\"Y\")","v":24},{"$f":"DATEDIF(F679,D679,\"YD\")","v":87},{"$f":"D679-F679","v":8853},{"$f":"\"MRS \"&TEXT(J679,\"00000\")&\" \"&SUBSTITUTE(C679,\":\",\"\")&\" (\"&TEXT(D679,\"TT.MM.JJJJ\")&\") - \"&E679&\" (\"&TEXT(F679,\"TT.MM.JJJJ\")&\") \"&H679&\"-\"&I679","v":"MRS 08853 The Disappearance of Alice Creed (30.04.2010) - Gemma Arterton (02.02.1986) 24-87"}]
["tt1486190","nm2605345",{"$f":"_xlfn.XLOOKUP($A680,_xlfn.CHOOSECOLS(_xlfn.ANCHORARRAY(Filme!$G$1),2),_xlfn.CHOOSECOLS(_xlfn.ANCHORARRAY(Filme!$G$1),3),\"\",0,2)","v":"Tamara Drewe"},{"$f":"_xlfn.XLOOKUP($A680,_xlfn.CHOOSECOLS(_xlfn.ANCHORARRAY(Filme!$G$1),2),_xlfn.CHOOSECOLS(_xlfn.ANCHORARRAY(Filme!$G$1),4),\"\",0,2)","v":"2010-12-30"},{"$f":"_xlfn.XLOOKUP($B680,_xlfn.CHOOSECOLS(_xlfn.ANCHORARRAY(Leute!$F$1),2),_xlfn.CHOOSECOLS(_xlfn.ANCHORARRAY(Leute!$F$1),3),\"x\",0,2)","v":"Gemma Arterton"},{"$f":"_xlfn.XLOOKUP($B680,_xlfn.CHOOSECOLS(_xlfn.ANCHORARRAY(Leute!$F$1),2),_xlfn.CHOOSECOLS(_xlfn.ANCHORARRAY(Leute!$F$1),4),\"x\",0,2)","v":"1986-02-02"},{"$f":"RANK(F680,F$1:F680,0)","v":128},{"$f":"DATEDIF(F680,D680,\"Y\")","v":24},{"$f":"DATEDIF(F680,D680,\"YD\")","v":331},{"$f":"D680-F680","v":9097},{"$f":"\"MRS \"&TEXT(J680,\"00000\")&\" \"&SUBSTITUTE(C680,\":\",\"\")&\" (\"&TEXT(D680,\"TT.MM.JJJJ\")&\") - \"&E680&\" (\"&TEXT(F680,\"TT.MM.JJJJ\")&\") \"&H680&\"-\"&I680","v":"MRS 09097 Tamara Drewe (30.12.2010) - Gemma Arterton (02.02.1986) 24-331"}]
["tt1531901","nm2605345",{"$f":"_xlfn.XLOOKUP($A681,_xlfn.CHOOSECOLS(_xlfn.ANCHORARRAY(Filme!$G$1),2),_xlfn.CHOOSECOLS(_xlfn.ANCHORARRAY(Filme!$G$1),3),\"\",0,2)","v":"Byzantium"},{"$f":"_xlfn.XLOOKUP($A681,_xlfn.CHOOSECOLS(_xlfn.ANCHORARRAY(Filme!$G$1),2),_xlfn.CHOOSECOLS(_xlfn.ANCHORARRAY(Filme!$G$1),4),\"\",0,2)","v":"2013-05-31"},{"$f":"_xlfn.XLOOKUP($B681,_xlfn.CHOOSECOLS(_xlfn.ANCHORARRAY(Leute!$F$1),2),_xlfn.CHOOSECOLS(_xlfn.ANCHORARRAY(Leute!$F$1),3),\"x\",0,2)","v":"Gemma Arterton"},{"$f":"_xlfn.XLOOKUP($B681,_xlfn.CHOOSECOLS(_xlfn.ANCHORARRAY(Leute!$F$1),2),_xlfn.CHOOSECOLS(_xlfn.ANCHORARRAY(Leute!$F$1),4),\"x\",0,2)","v":"1986-02-02"},{"$f":"RANK(F681,F$1:F681,0)","v":128},{"$f":"DATEDIF(F681,D681,\"Y\")","v":27},{"$f":"DATEDIF(F681,D681,\"YD\")","v":118},{"$f":"D681-F681","v":9980},{"$f":"\"MRS \"&TEXT(J681,\"00000\")&\" \"&SUBSTITUTE(C681,\":\",\"\")&\" (\"&TEXT(D681,\"TT.MM.JJJJ\")&\") - \"&E681&\" (\"&TEXT(F681,\"TT.MM.JJJJ\")&\") \"&H681&\"-\"&I681","v":"MRS 09980 Byzantium (31.05.2013) - Gemma Arterton (02.02.1986) 27-118"}]
["tt2788556","nm2605345",{"$f":"_xlfn.XLOOKUP($A682,_xlfn.CHOOSECOLS(_xlfn.ANCHORARRAY(Filme!$G$1),2),_xlfn.CHOOSECOLS(_xlfn.ANCHORARRAY(Filme!$G$1),3),\"\",0,2)","v":"Gemma Bovery"},{"$f":"_xlfn.XLOOKUP($A682,_xlfn.CHOOSECOLS(_xlfn.ANCHORARRAY(Filme!$G$1),2),_xlfn.CHOOSECOLS(_xlfn.ANCHORARRAY(Filme!$G$1),4),\"\",0,2)","v":"2014-09-18"},{"$f":"_xlfn.XLOOKUP($B682,_xlfn.CHOOSECOLS(_xlfn.ANCHORARRAY(Leute!$F$1),2),_xlfn.CHOOSECOLS(_xlfn.ANCHORARRAY(Leute!$F$1),3),\"x\",0,2)","v":"Gemma Arterton"},{"$f":"_xlfn.XLOOKUP($B682,_xlfn.CHOOSECOLS(_xlfn.ANCHORARRAY(Leute!$F$1),2),_xlfn.CHOOSECOLS(_xlfn.ANCHORARRAY(Leute!$F$1),4),\"x\",0,2)","v":"1986-02-02"},{"$f":"RANK(F682,F$1:F682,0)","v":128},{"$f":"DATEDIF(F682,D682,\"Y\")","v":28},{"$f":"DATEDIF(F682,D682,\"YD\")","v":228},{"$f":"D682-F682","v":10455},{"$f":"\"MRS \"&TEXT(J682,\"00000\")&\" \"&SUBSTITUTE(C682,\":\",\"\")&\" (\"&TEXT(D682,\"TT.MM.JJJJ\")&\") - \"&E682&\" (\"&TEXT(F682,\"TT.MM.JJJJ\")&\") \"&H682&\"-\"&I682","v":"MRS 10455 Gemma Bovery (18.09.2014) - Gemma Arterton (02.02.1986) 28-228"}]
["tt4746516","nm2605345",{"$f":"_xlfn.XLOOKUP($A683,_xlfn.CHOOSECOLS(_xlfn.ANCHORARRAY(Filme!$G$1),2),_xlfn.CHOOSECOLS(_xlfn.ANCHORARRAY(Filme!$G$1),3),\"\",0,2)","v":"Orpheline"},{"$f":"_xlfn.XLOOKUP($A683,_xlfn.CHOOSECOLS(_xlfn.ANCHORARRAY(Filme!$G$1),2),_xlfn.CHOOSECOLS(_xlfn.ANCHORARRAY(Filme!$G$1),4),\"\",0,2)","v":"2017-03-29"},{"$f":"_xlfn.XLOOKUP($B683,_xlfn.CHOOSECOLS(_xlfn.ANCHORARRAY(Leute!$F$1),2),_xlfn.CHOOSECOLS(_xlfn.ANCHORARRAY(Leute!$F$1),3),\"x\",0,2)","v":"Gemma Arterton"},{"$f":"_xlfn.XLOOKUP($B683,_xlfn.CHOOSECOLS(_xlfn.ANCHORARRAY(Leute!$F$1),2),_xlfn.CHOOSECOLS(_xlfn.ANCHORARRAY(Leute!$F$1),4),\"x\",0,2)","v":"1986-02-02"},{"$f":"RANK(F683,F$1:F683,0)","v":128},{"$f":"DATEDIF(F683,D683,\"Y\")","v":31},{"$f":"DATEDIF(F683,D683,\"YD\")","v":55},{"$f":"D683-F683","v":11378},{"$f":"\"MRS \"&TEXT(J683,\"00000\")&\" \"&SUBSTITUTE(C683,\":\",\"\")&\" (\"&TEXT(D683,\"TT.MM.JJJJ\")&\") - \"&E683&\" (\"&TEXT(F683,\"TT.MM.JJJJ\")&\") \"&H683&\"-\"&I683","v":"MRS 11378 Orpheline (29.03.2017) - Gemma Arterton (02.02.1986) 31-55"}]
["tt6069126","nm2605345",{"$f":"_xlfn.XLOOKUP($A684,_xlfn.CHOOSECOLS(_xlfn.ANCHORARRAY(Filme!$G$1),2),_xlfn.CHOOSECOLS(_xlfn.ANCHORARRAY(Filme!$G$1),3),\"\",0,2)","v":"The Escape"},{"$f":"_xlfn.XLOOKUP($A684,_xlfn.CHOOSECOLS(_xlfn.ANCHORARRAY(Filme!$G$1),2),_xlfn.CHOOSECOLS(_xlfn.ANCHORARRAY(Filme!$G$1),4),\"\",0,2)","v":"2018-08-03"},{"$f":"_xlfn.XLOOKUP($B684,_xlfn.CHOOSECOLS(_xlfn.ANCHORARRAY(Leute!$F$1),2),_xlfn.CHOOSECOLS(_xlfn.ANCHORARRAY(Leute!$F$1),3),\"x\",0,2)","v":"Gemma Arterton"},{"$f":"_xlfn.XLOOKUP($B684,_xlfn.CHOOSECOLS(_xlfn.ANCHORARRAY(Leute!$F$1),2),_xlfn.CHOOSECOLS(_xlfn.ANCHORARRAY(Leute!$F$1),4),\"x\",0,2)","v":"1986-02-02"},{"$f":"RANK(F684,F$1:F684,0)","v":128},{"$f":"DATEDIF(F684,D684,\"Y\")","v":32},{"$f":"DATEDIF(F684,D684,\"YD\")","v":182},{"$f":"D684-F684","v":11870},{"$f":"\"MRS \"&TEXT(J684,\"00000\")&\" \"&SUBSTITUTE(C684,\":\",\"\")&\" (\"&TEXT(D684,\"TT.MM.JJJJ\")&\") - \"&E684&\" (\"&TEXT(F684,\"TT.MM.JJJJ\")&\") \"&H684&\"-\"&I684","v":"MRS 11870 The Escape (03.08.2018) - Gemma Arterton (02.02.1986) 32-182"}]
["tt12873562","nm2812026",{"$f":"_xlfn.XLOOKUP($A685,_xlfn.CHOOSECOLS(_xlfn.ANCHORARRAY(Filme!$G$1),2),_xlfn.CHOOSECOLS(_xlfn.ANCHORARRAY(Filme!$G$1),3),\"\",0,2)","v":"The Invitation"},{"$f":"_xlfn.XLOOKUP($A685,_xlfn.CHOOSECOLS(_xlfn.ANCHORARRAY(Filme!$G$1),2),_xlfn.CHOOSECOLS(_xlfn.ANCHORARRAY(Filme!$G$1),4),\"\",0,2)","v":"2022-08-25"},{"$f":"_xlfn.XLOOKUP($B685,_xlfn.CHOOSECOLS(_xlfn.ANCHORARRAY(Leute!$F$1),2),_xlfn.CHOOSECOLS(_xlfn.ANCHORARRAY(Leute!$F$1),3),\"x\",0,2)","v":"Nathalie Emmanuel"},{"$f":"_xlfn.XLOOKUP($B685,_xlfn.CHOOSECOLS(_xlfn.ANCHORARRAY(Leute!$F$1),2),_xlfn.CHOOSECOLS(_xlfn.ANCHORARRAY(Leute!$F$1),4),\"x\",0,2)","v":"1989-03-02"},{"$f":"RANK(F685,F$1:F685,0)","v":59},{"$f":"DATEDIF(F685,D685,\"Y\")","v":33},{"$f":"DATEDIF(F685,D685,\"YD\")","v":176},{"$f":"D685-F685","v":12229},{"$f":"\"MRS \"&TEXT(J685,\"00000\")&\" \"&SUBSTITUTE(C685,\":\",\"\")&\" (\"&TEXT(D685,\"TT.MM.JJJJ\")&\") - \"&E685&\" (\"&TEXT(F685,\"TT.MM.JJJJ\")&\") \"&H685&\"-\"&I685","v":"MRS 12229 The Invitation (25.08.2022) - Nathalie Emmanuel (02.03.1989) 33-176"}]
["tt1934753","nm2812026",{"$f":"_xlfn.XLOOKUP($A686,_xlfn.CHOOSECOLS(_xlfn.ANCHORARRAY(Filme!$G$1),2),_xlfn.CHOOSECOLS(_xlfn.ANCHORARRAY(Filme!$G$1),3),\"\",0,2)","v":"Misfits"},{"$f":"_xlfn.XLOOKUP($A686,_xlfn.CHOOSECOLS(_xlfn.ANCHORARRAY(Filme!$G$1),2),_xlfn.CHOOSECOLS(_xlfn.ANCHORARRAY(Filme!$G$1),4),\"\",0,2)","v":"2011-10-30"},{"$f":"_xlfn.XLOOKUP($B686,_xlfn.CHOOSECOLS(_xlfn.ANCHORARRAY(Leute!$F$1),2),_xlfn.CHOOSECOLS(_xlfn.ANCHORARRAY(Leute!$F$1),3),\"x\",0,2)","v":"Nathalie Emmanuel"},{"$f":"_xlfn.XLOOKUP($B686,_xlfn.CHOOSECOLS(_xlfn.ANCHORARRAY(Leute!$F$1),2),_xlfn.CHOOSECOLS(_xlfn.ANCHORARRAY(Leute!$F$1),4),\"x\",0,2)","v":"1989-03-02"},{"$f":"RANK(F686,F$1:F686,0)","v":59},{"$f":"DATEDIF(F686,D686,\"Y\")","v":22},{"$f":"DATEDIF(F686,D686,\"YD\")","v":242},{"$f":"D686-F686","v":8277},{"$f":"\"MRS \"&TEXT(J686,\"00000\")&\" \"&SUBSTITUTE(C686,\":\",\"\")&\" (\"&TEXT(D686,\"TT.MM.JJJJ\")&\") - \"&E686&\" (\"&TEXT(F686,\"TT.MM.JJJJ\")&\") \"&H686&\"-\"&I686","v":"MRS 08277 Misfits (30.10.2011) - Nathalie Emmanuel (02.03.1989) 22-242"}]
["tt11235772","nm2858875",{"$f":"_xlfn.XLOOKUP($A687,_xlfn.CHOOSECOLS(_xlfn.ANCHORARRAY(Filme!$G$1),2),_xlfn.CHOOSECOLS(_xlfn.ANCHORARRAY(Filme!$G$1),3),\"\",0,2)","v":"The Voyeurs"},{"$f":"_xlfn.XLOOKUP($A687,_xlfn.CHOOSECOLS(_xlfn.ANCHORARRAY(Filme!$G$1),2),_xlfn.CHOOSECOLS(_xlfn.ANCHORARRAY(Filme!$G$1),4),\"\",0,2)","v":"2021-09-10"},{"$f":"_xlfn.XLOOKUP($B687,_xlfn.CHOOSECOLS(_xlfn.ANCHORARRAY(Leute!$F$1),2),_xlfn.CHOOSECOLS(_xlfn.ANCHORARRAY(Leute!$F$1),3),\"x\",0,2)","v":"Sydney Sweeney"},{"$f":"_xlfn.XLOOKUP($B687,_xlfn.CHOOSECOLS(_xlfn.ANCHORARRAY(Leute!$F$1),2),_xlfn.CHOOSECOLS(_xlfn.ANCHORARRAY(Leute!$F$1),4),\"x\",0,2)","v":"1997-09-12"},{"$f":"RANK(F687,F$1:F687,0)","v":1},{"$f":"DATEDIF(F687,D687,\"Y\")","v":23},{"$f":"DATEDIF(F687,D687,\"YD\")","v":363},{"$f":"D687-F687","v":8764},{"$f":"\"MRS \"&TEXT(J687,\"00000\")&\" \"&SUBSTITUTE(C687,\":\",\"\")&\" (\"&TEXT(D687,\"TT.MM.JJJJ\")&\") - \"&E687&\" (\"&TEXT(F687,\"TT.MM.JJJJ\")&\") \"&H687&\"-\"&I687","v":"MRS 08764 The Voyeurs (10.09.2021) - Sydney Sweeney (12.09.1997) 23-363"}]
["tt19857674","nm2858875",{"$f":"_xlfn.XLOOKUP($A688,_xlfn.CHOOSECOLS(_xlfn.ANCHORARRAY(Filme!$G$1),2),_xlfn.CHOOSECOLS(_xlfn.ANCHORARRAY(Filme!$G$1),3),\"\",0,2)","v":"The Tonight Show Starring Jimmy Fallon"},{"$f":"_xlfn.XLOOKUP($A688,_xlfn.CHOOSECOLS(_xlfn.ANCHORARRAY(Filme!$G$1),2),_xlfn.CHOOSECOLS(_xlfn.ANCHORARRAY(Filme!$G$1),4),\"\",0,2)","v":"2022-05-03"},{"$f":"_xlfn.XLOOKUP($B688,_xlfn.CHOOSECOLS(_xlfn.ANCHORARRAY(Leute!$F$1),2),_xlfn.CHOOSECOLS(_xlfn.ANCHORARRAY(Leute!$F$1),3),\"x\",0,2)","v":"Sydney Sweeney"},{"$f":"_xlfn.XLOOKUP($B688,_xlfn.CHOOSECOLS(_xlfn.ANCHORARRAY(Leute!$F$1),2),_xlfn.CHOOSECOLS(_xlfn.ANCHORARRAY(Leute!$F$1),4),\"x\",0,2)","v":"1997-09-12"},{"$f":"RANK(F688,F$1:F688,0)","v":1},{"$f":"DATEDIF(F688,D688,\"Y\")","v":24},{"$f":"DATEDIF(F688,D688,\"YD\")","v":233},{"$f":"D688-F688","v":8999},{"$f":"\"MRS \"&TEXT(J688,\"00000\")&\" \"&SUBSTITUTE(C688,\":\",\"\")&\" (\"&TEXT(D688,\"TT.MM.JJJJ\")&\") - \"&E688&\" (\"&TEXT(F688,\"TT.MM.JJJJ\")&\") \"&H688&\"-\"&I688","v":"MRS 08999 The Tonight Show Starring Jimmy Fallon (03.05.2022) - Sydney Sweeney (12.09.1997) 24-233"}]
["tt26047818","nm2858875",{"$f":"_xlfn.XLOOKUP($A689,_xlfn.CHOOSECOLS(_xlfn.ANCHORARRAY(Filme!$G$1),2),_xlfn.CHOOSECOLS(_xlfn.ANCHORARRAY(Filme!$G$1),3),\"\",0,2)","v":"Anyone But You"},{"$f":"_xlfn.XLOOKUP($A689,_xlfn.CHOOSECOLS(_xlfn.ANCHORARRAY(Filme!$G$1),2),_xlfn.CHOOSECOLS(_xlfn.ANCHORARRAY(Filme!$G$1),4),\"\",0,2)","v":"2024-01-18"},{"$f":"_xlfn.XLOOKUP($B689,_xlfn.CHOOSECOLS(_xlfn.ANCHORARRAY(Leute!$F$1),2),_xlfn.CHOOSECOLS(_xlfn.ANCHORARRAY(Leute!$F$1),3),\"x\",0,2)","v":"Sydney Sweeney"},{"$f":"_xlfn.XLOOKUP($B689,_xlfn.CHOOSECOLS(_xlfn.ANCHORARRAY(Leute!$F$1),2),_xlfn.CHOOSECOLS(_xlfn.ANCHORARRAY(Leute!$F$1),4),\"x\",0,2)","v":"1997-09-12"},{"$f":"RANK(F689,F$1:F689,0)","v":1},{"$f":"DATEDIF(F689,D689,\"Y\")","v":26},{"$f":"DATEDIF(F689,D689,\"YD\")","v":128},{"$f":"D689-F689","v":9624},{"$f":"\"MRS \"&TEXT(J689,\"00000\")&\" \"&SUBSTITUTE(C689,\":\",\"\")&\" (\"&TEXT(D689,\"TT.MM.JJJJ\")&\") - \"&E689&\" (\"&TEXT(F689,\"TT.MM.JJJJ\")&\") \"&H689&\"-\"&I689","v":"MRS 09624 Anyone But You (18.01.2024) - Sydney Sweeney (12.09.1997) 26-128"}]
["tt8135530","nm2858875",{"$f":"_xlfn.XLOOKUP($A690,_xlfn.CHOOSECOLS(_xlfn.ANCHORARRAY(Filme!$G$1),2),_xlfn.CHOOSECOLS(_xlfn.ANCHORARRAY(Filme!$G$1),3),\"\",0,2)","v":"Euphoria"},{"$f":"_xlfn.XLOOKUP($A690,_xlfn.CHOOSECOLS(_xlfn.ANCHORARRAY(Filme!$G$1),2),_xlfn.CHOOSECOLS(_xlfn.ANCHORARRAY(Filme!$G$1),4),\"\",0,2)","v":"2019-10-16"},{"$f":"_xlfn.XLOOKUP($B690,_xlfn.CHOOSECOLS(_xlfn.ANCHORARRAY(Leute!$F$1),2),_xlfn.CHOOSECOLS(_xlfn.ANCHORARRAY(Leute!$F$1),3),\"x\",0,2)","v":"Sydney Sweeney"},{"$f":"_xlfn.XLOOKUP($B690,_xlfn.CHOOSECOLS(_xlfn.ANCHORARRAY(Leute!$F$1),2),_xlfn.CHOOSECOLS(_xlfn.ANCHORARRAY(Leute!$F$1),4),\"x\",0,2)","v":"1997-09-12"},{"$f":"RANK(F690,F$1:F690,0)","v":1},{"$f":"DATEDIF(F690,D690,\"Y\")","v":22},{"$f":"DATEDIF(F690,D690,\"YD\")","v":34},{"$f":"D690-F690","v":8069},{"$f":"\"MRS \"&TEXT(J690,\"00000\")&\" \"&SUBSTITUTE(C690,\":\",\"\")&\" (\"&TEXT(D690,\"TT.MM.JJJJ\")&\") - \"&E690&\" (\"&TEXT(F690,\"TT.MM.JJJJ\")&\") \"&H690&\"-\"&I690","v":"MRS 08069 Euphoria (16.10.2019) - Sydney Sweeney (12.09.1997) 22-34"}]
["tt1929297","nm3034977",{"$f":"_xlfn.XLOOKUP($A691,_xlfn.CHOOSECOLS(_xlfn.ANCHORARRAY(Filme!$G$1),2),_xlfn.CHOOSECOLS(_xlfn.ANCHORARRAY(Filme!$G$1),3),\"\",0,2)","v":"Last Moment of Clarity"},{"$f":"_xlfn.XLOOKUP($A691,_xlfn.CHOOSECOLS(_xlfn.ANCHORARRAY(Filme!$G$1),2),_xlfn.CHOOSECOLS(_xlfn.ANCHORARRAY(Filme!$G$1),4),\"\",0,2)","v":"2022-04-21"},{"$f":"_xlfn.XLOOKUP($B691,_xlfn.CHOOSECOLS(_xlfn.ANCHORARRAY(Leute!$F$1),2),_xlfn.CHOOSECOLS(_xlfn.ANCHORARRAY(Leute!$F$1),3),\"x\",0,2)","v":"Samara Weaving"},{"$f":"_xlfn.XLOOKUP($B691,_xlfn.CHOOSECOLS(_xlfn.ANCHORARRAY(Leute!$F$1),2),_xlfn.CHOOSECOLS(_xlfn.ANCHORARRAY(Leute!$F$1),4),\"x\",0,2)","v":"1992-02-23"},{"$f":"RANK(F691,F$1:F691,0)","v":9},{"$f":"DATEDIF(F691,D691,\"Y\")","v":30},{"$f":"DATEDIF(F691,D691,\"YD\")","v":58},{"$f":"D691-F691","v":11015},{"$f":"\"MRS \"&TEXT(J691,\"00000\")&\" \"&SUBSTITUTE(C691,\":\",\"\")&\" (\"&TEXT(D691,\"TT.MM.JJJJ\")&\") - \"&E691&\" (\"&TEXT(F691,\"TT.MM.JJJJ\")&\") \"&H691&\"-\"&I691","v":"MRS 11015 Last Moment of Clarity (21.04.2022) - Samara Weaving (23.02.1992) 30-58"}]
["tt6055060","nm3034977",{"$f":"_xlfn.XLOOKUP($A692,_xlfn.CHOOSECOLS(_xlfn.ANCHORARRAY(Filme!$G$1),2),_xlfn.CHOOSECOLS(_xlfn.ANCHORARRAY(Filme!$G$1),3),\"\",0,2)","v":"Picnic at Hanging Rock"},{"$f":"_xlfn.XLOOKUP($A692,_xlfn.CHOOSECOLS(_xlfn.ANCHORARRAY(Filme!$G$1),2),_xlfn.CHOOSECOLS(_xlfn.ANCHORARRAY(Filme!$G$1),4),\"\",0,2)","v":"2018-05-06"},{"$f":"_xlfn.XLOOKUP($B692,_xlfn.CHOOSECOLS(_xlfn.ANCHORARRAY(Leute!$F$1),2),_xlfn.CHOOSECOLS(_xlfn.ANCHORARRAY(Leute!$F$1),3),\"x\",0,2)","v":"Samara Weaving"},{"$f":"_xlfn.XLOOKUP($B692,_xlfn.CHOOSECOLS(_xlfn.ANCHORARRAY(Leute!$F$1),2),_xlfn.CHOOSECOLS(_xlfn.ANCHORARRAY(Leute!$F$1),4),\"x\",0,2)","v":"1992-02-23"},{"$f":"RANK(F692,F$1:F692,0)","v":9},{"$f":"DATEDIF(F692,D692,\"Y\")","v":26},{"$f":"DATEDIF(F692,D692,\"YD\")","v":73},{"$f":"D692-F692","v":9569},{"$f":"\"MRS \"&TEXT(J692,\"00000\")&\" \"&SUBSTITUTE(C692,\":\",\"\")&\" (\"&TEXT(D692,\"TT.MM.JJJJ\")&\") - \"&E692&\" (\"&TEXT(F692,\"TT.MM.JJJJ\")&\") \"&H692&\"-\"&I692","v":"MRS 09569 Picnic at Hanging Rock (06.05.2018) - Samara Weaving (23.02.1992) 26-73"}]
["tt7255148","nm3034977",{"$f":"_xlfn.XLOOKUP($A693,_xlfn.CHOOSECOLS(_xlfn.ANCHORARRAY(Filme!$G$1),2),_xlfn.CHOOSECOLS(_xlfn.ANCHORARRAY(Filme!$G$1),3),\"\",0,2)","v":"SMILF"},{"$f":"_xlfn.XLOOKUP($A693,_xlfn.CHOOSECOLS(_xlfn.ANCHORARRAY(Filme!$G$1),2),_xlfn.CHOOSECOLS(_xlfn.ANCHORARRAY(Filme!$G$1),4),\"\",0,2)","v":"2017-11-19"},{"$f":"_xlfn.XLOOKUP($B693,_xlfn.CHOOSECOLS(_xlfn.ANCHORARRAY(Leute!$F$1),2),_xlfn.CHOOSECOLS(_xlfn.ANCHORARRAY(Leute!$F$1),3),\"x\",0,2)","v":"Samara Weaving"},{"$f":"_xlfn.XLOOKUP($B693,_xlfn.CHOOSECOLS(_xlfn.ANCHORARRAY(Leute!$F$1),2),_xlfn.CHOOSECOLS(_xlfn.ANCHORARRAY(Leute!$F$1),4),\"x\",0,2)","v":"1992-02-23"},{"$f":"RANK(F693,F$1:F693,0)","v":9},{"$f":"DATEDIF(F693,D693,\"Y\")","v":25},{"$f":"DATEDIF(F693,D693,\"YD\")","v":270},{"$f":"D693-F693","v":9401},{"$f":"\"MRS \"&TEXT(J693,\"00000\")&\" \"&SUBSTITUTE(C693,\":\",\"\")&\" (\"&TEXT(D693,\"TT.MM.JJJJ\")&\") - \"&E693&\" (\"&TEXT(F693,\"TT.MM.JJJJ\")&\") \"&H693&\"-\"&I693","v":"MRS 09401 SMILF (19.11.2017) - Samara Weaving (23.02.1992) 25-270"}]
["tt0993846","nm3053338",{"$f":"_xlfn.XLOOKUP($A694,_xlfn.CHOOSECOLS(_xlfn.ANCHORARRAY(Filme!$G$1),2),_xlfn.CHOOSECOLS(_xlfn.ANCHORARRAY(Filme!$G$1),3),\"\",0,2)","v":"The Wolf of Wall Street"},{"$f":"_xlfn.XLOOKUP($A694,_xlfn.CHOOSECOLS(_xlfn.ANCHORARRAY(Filme!$G$1),2),_xlfn.CHOOSECOLS(_xlfn.ANCHORARRAY(Filme!$G$1),4),\"\",0,2)","v":"2014-01-16"},{"$f":"_xlfn.XLOOKUP($B694,_xlfn.CHOOSECOLS(_xlfn.ANCHORARRAY(Leute!$F$1),2),_xlfn.CHOOSECOLS(_xlfn.ANCHORARRAY(Leute!$F$1),3),\"x\",0,2)","v":"Margot Robbie"},{"$f":"_xlfn.XLOOKUP($B694,_xlfn.CHOOSECOLS(_xlfn.ANCHORARRAY(Leute!$F$1),2),_xlfn.CHOOSECOLS(_xlfn.ANCHORARRAY(Leute!$F$1),4),\"x\",0,2)","v":"1990-07-02"},{"$f":"RANK(F694,F$1:F694,0)","v":34},{"$f":"DATEDIF(F694,D694,\"Y\")","v":23},{"$f":"DATEDIF(F694,D694,\"YD\")","v":198},{"$f":"D694-F694","v":8599},{"$f":"\"MRS \"&TEXT(J694,\"00000\")&\" \"&SUBSTITUTE(C694,\":\",\"\")&\" (\"&TEXT(D694,\"TT.MM.JJJJ\")&\") - \"&E694&\" (\"&TEXT(F694,\"TT.MM.JJJJ\")&\") \"&H694&\"-\"&I694","v":"MRS 08599 The Wolf of Wall Street (16.01.2014) - Margot Robbie (02.07.1990) 23-198"}]
["tt10640346","nm3053338",{"$f":"_xlfn.XLOOKUP($A695,_xlfn.CHOOSECOLS(_xlfn.ANCHORARRAY(Filme!$G$1),2),_xlfn.CHOOSECOLS(_xlfn.ANCHORARRAY(Filme!$G$1),3),\"\",0,2)","v":"Babylon"},{"$f":"_xlfn.XLOOKUP($A695,_xlfn.CHOOSECOLS(_xlfn.ANCHORARRAY(Filme!$G$1),2),_xlfn.CHOOSECOLS(_xlfn.ANCHORARRAY(Filme!$G$1),4),\"\",0,2)","v":"2023-01-19"},{"$f":"_xlfn.XLOOKUP($B695,_xlfn.CHOOSECOLS(_xlfn.ANCHORARRAY(Leute!$F$1),2),_xlfn.CHOOSECOLS(_xlfn.ANCHORARRAY(Leute!$F$1),3),\"x\",0,2)","v":"Margot Robbie"},{"$f":"_xlfn.XLOOKUP($B695,_xlfn.CHOOSECOLS(_xlfn.ANCHORARRAY(Leute!$F$1),2),_xlfn.CHOOSECOLS(_xlfn.ANCHORARRAY(Leute!$F$1),4),\"x\",0,2)","v":"1990-07-02"},{"$f":"RANK(F695,F$1:F695,0)","v":34},{"$f":"DATEDIF(F695,D695,\"Y\")","v":32},{"$f":"DATEDIF(F695,D695,\"YD\")","v":201},{"$f":"D695-F695","v":11889},{"$f":"\"MRS \"&TEXT(J695,\"00000\")&\" \"&SUBSTITUTE(C695,\":\",\"\")&\" (\"&TEXT(D695,\"TT.MM.JJJJ\")&\") - \"&E695&\" (\"&TEXT(F695,\"TT.MM.JJJJ\")&\") \"&H695&\"-\"&I695","v":"MRS 11889 Babylon (19.01.2023) - Margot Robbie (02.07.1990) 32-201"}]
["tt2381941","nm3053338",{"$f":"_xlfn.XLOOKUP($A696,_xlfn.CHOOSECOLS(_xlfn.ANCHORARRAY(Filme!$G$1),2),_xlfn.CHOOSECOLS(_xlfn.ANCHORARRAY(Filme!$G$1),3),\"\",0,2)","v":"Focus"},{"$f":"_xlfn.XLOOKUP($A696,_xlfn.CHOOSECOLS(_xlfn.ANCHORARRAY(Filme!$G$1),2),_xlfn.CHOOSECOLS(_xlfn.ANCHORARRAY(Filme!$G$1),4),\"\",0,2)","v":"2015-03-05"},{"$f":"_xlfn.XLOOKUP($B696,_xlfn.CHOOSECOLS(_xlfn.ANCHORARRAY(Leute!$F$1),2),_xlfn.CHOOSECOLS(_xlfn.ANCHORARRAY(Leute!$F$1),3),\"x\",0,2)","v":"Margot Robbie"},{"$f":"_xlfn.XLOOKUP($B696,_xlfn.CHOOSECOLS(_xlfn.ANCHORARRAY(Leute!$F$1),2),_xlfn.CHOOSECOLS(_xlfn.ANCHORARRAY(Leute!$F$1),4),\"x\",0,2)","v":"1990-07-02"},{"$f":"RANK(F696,F$1:F696,0)","v":34},{"$f":"DATEDIF(F696,D696,\"Y\")","v":24},{"$f":"DATEDIF(F696,D696,\"YD\")","v":246},{"$f":"D696-F696","v":9012},{"$f":"\"MRS \"&TEXT(J696,\"00000\")&\" \"&SUBSTITUTE(C696,\":\",\"\")&\" (\"&TEXT(D696,\"TT.MM.JJJJ\")&\") - \"&E696&\" (\"&TEXT(F696,\"TT.MM.JJJJ\")&\") \"&H696&\"-\"&I696","v":"MRS 09012 Focus (05.03.2015) - Margot Robbie (02.07.1990) 24-246"}]
["tt5294522","nm3053338",{"$f":"_xlfn.XLOOKUP($A697,_xlfn.CHOOSECOLS(_xlfn.ANCHORARRAY(Filme!$G$1),2),_xlfn.CHOOSECOLS(_xlfn.ANCHORARRAY(Filme!$G$1),3),\"\",0,2)","v":"Dreamland"},{"$f":"_xlfn.XLOOKUP($A697,_xlfn.CHOOSECOLS(_xlfn.ANCHORARRAY(Filme!$G$1),2),_xlfn.CHOOSECOLS(_xlfn.ANCHORARRAY(Filme!$G$1),4),\"\",0,2)","v":"2021-04-09"},{"$f":"_xlfn.XLOOKUP($B697,_xlfn.CHOOSECOLS(_xlfn.ANCHORARRAY(Leute!$F$1),2),_xlfn.CHOOSECOLS(_xlfn.ANCHORARRAY(Leute!$F$1),3),\"x\",0,2)","v":"Margot Robbie"},{"$f":"_xlfn.XLOOKUP($B697,_xlfn.CHOOSECOLS(_xlfn.ANCHORARRAY(Leute!$F$1),2),_xlfn.CHOOSECOLS(_xlfn.ANCHORARRAY(Leute!$F$1),4),\"x\",0,2)","v":"1990-07-02"},{"$f":"RANK(F697,F$1:F697,0)","v":34},{"$f":"DATEDIF(F697,D697,\"Y\")","v":30},{"$f":"DATEDIF(F697,D697,\"YD\")","v":281},{"$f":"D697-F697","v":11239},{"$f":"\"MRS \"&TEXT(J697,\"00000\")&\" \"&SUBSTITUTE(C697,\":\",\"\")&\" (\"&TEXT(D697,\"TT.MM.JJJJ\")&\") - \"&E697&\" (\"&TEXT(F697,\"TT.MM.JJJJ\")&\") \"&H697&\"-\"&I697","v":"MRS 11239 Dreamland (09.04.2021) - Margot Robbie (02.07.1990) 30-281"}]
["tt2171427","nm3069650",{"$f":"_xlfn.XLOOKUP($A698,_xlfn.CHOOSECOLS(_xlfn.ANCHORARRAY(Filme!$G$1),2),_xlfn.CHOOSECOLS(_xlfn.ANCHORARRAY(Filme!$G$1),3),\"\",0,2)","v":"Silent Witness"},{"$f":"_xlfn.XLOOKUP($A698,_xlfn.CHOOSECOLS(_xlfn.ANCHORARRAY(Filme!$G$1),2),_xlfn.CHOOSECOLS(_xlfn.ANCHORARRAY(Filme!$G$1),4),\"\",0,2)","v":"2012-04-22"},{"$f":"_xlfn.XLOOKUP($B698,_xlfn.CHOOSECOLS(_xlfn.ANCHORARRAY(Leute!$F$1),2),_xlfn.CHOOSECOLS(_xlfn.ANCHORARRAY(Leute!$F$1),3),\"x\",0,2)","v":"Jodie Comer"},{"$f":"_xlfn.XLOOKUP($B698,_xlfn.CHOOSECOLS(_xlfn.ANCHORARRAY(Leute!$F$1),2),_xlfn.CHOOSECOLS(_xlfn.ANCHORARRAY(Leute!$F$1),4),\"x\",0,2)","v":"1993-03-11"},{"$f":"RANK(F698,F$1:F698,0)","v":9},{"$f":"DATEDIF(F698,D698,\"Y\")","v":19},{"$f":"DATEDIF(F698,D698,\"YD\")","v":42},{"$f":"D698-F698","v":6982},{"$f":"\"MRS \"&TEXT(J698,\"00000\")&\" \"&SUBSTITUTE(C698,\":\",\"\")&\" (\"&TEXT(D698,\"TT.MM.JJJJ\")&\") - \"&E698&\" (\"&TEXT(F698,\"TT.MM.JJJJ\")&\") \"&H698&\"-\"&I698","v":"MRS 06982 Silent Witness (22.04.2012) - Jodie Comer (11.03.1993) 19-42"}]
["tt21810682","nm3069650",{"$f":"_xlfn.XLOOKUP($A699,_xlfn.CHOOSECOLS(_xlfn.ANCHORARRAY(Filme!$G$1),2),_xlfn.CHOOSECOLS(_xlfn.ANCHORARRAY(Filme!$G$1),3),\"\",0,2)","v":"The End We Start From"},{"$f":"_xlfn.XLOOKUP($A699,_xlfn.CHOOSECOLS(_xlfn.ANCHORARRAY(Filme!$G$1),2),_xlfn.CHOOSECOLS(_xlfn.ANCHORARRAY(Filme!$G$1),4),\"\",0,2)","v":"2024-05-30"},{"$f":"_xlfn.XLOOKUP($B699,_xlfn.CHOOSECOLS(_xlfn.ANCHORARRAY(Leute!$F$1),2),_xlfn.CHOOSECOLS(_xlfn.ANCHORARRAY(Leute!$F$1),3),\"x\",0,2)","v":"Jodie Comer"},{"$f":"_xlfn.XLOOKUP($B699,_xlfn.CHOOSECOLS(_xlfn.ANCHORARRAY(Leute!$F$1),2),_xlfn.CHOOSECOLS(_xlfn.ANCHORARRAY(Leute!$F$1),4),\"x\",0,2)","v":"1993-03-11"},{"$f":"RANK(F699,F$1:F699,0)","v":9},{"$f":"DATEDIF(F699,D699,\"Y\")","v":31},{"$f":"DATEDIF(F699,D699,\"YD\")","v":80},{"$f":"D699-F699","v":11403},{"$f":"\"MRS \"&TEXT(J699,\"00000\")&\" \"&SUBSTITUTE(C699,\":\",\"\")&\" (\"&TEXT(D699,\"TT.MM.JJJJ\")&\") - \"&E699&\" (\"&TEXT(F699,\"TT.MM.JJJJ\")&\") \"&H699&\"-\"&I699","v":"MRS 11403 The End We Start From (30.05.2024) - Jodie Comer (11.03.1993) 31-80"}]
["tt7578438","nm3480246",{"$f":"_xlfn.XLOOKUP($A700,_xlfn.CHOOSECOLS(_xlfn.ANCHORARRAY(Filme!$G$1),2),_xlfn.CHOOSECOLS(_xlfn.ANCHORARRAY(Filme!$G$1),3),\"\",0,2)","v":"Sweetbitter"},{"$f":"_xlfn.XLOOKUP($A700,_xlfn.CHOOSECOLS(_xlfn.ANCHORARRAY(Filme!$G$1),2),_xlfn.CHOOSECOLS(_xlfn.ANCHORARRAY(Filme!$G$1),4),\"\",0,2)","v":"2018-05-20"},{"$f":"_xlfn.XLOOKUP($B700,_xlfn.CHOOSECOLS(_xlfn.ANCHORARRAY(Leute!$F$1),2),_xlfn.CHOOSECOLS(_xlfn.ANCHORARRAY(Leute!$F$1),3),\"x\",0,2)","v":"Ella Purnell"},{"$f":"_xlfn.XLOOKUP($B700,_xlfn.CHOOSECOLS(_xlfn.ANCHORARRAY(Leute!$F$1),2),_xlfn.CHOOSECOLS(_xlfn.ANCHORARRAY(Leute!$F$1),4),\"x\",0,2)","v":"1996-09-17"},{"$f":"RANK(F700,F$1:F700,0)","v":5},{"$f":"DATEDIF(F700,D700,\"Y\")","v":21},{"$f":"DATEDIF(F700,D700,\"YD\")","v":245},{"$f":"D700-F700","v":7915},{"$f":"\"MRS \"&TEXT(J700,\"00000\")&\" \"&SUBSTITUTE(C700,\":\",\"\")&\" (\"&TEXT(D700,\"TT.MM.JJJJ\")&\") - \"&E700&\" (\"&TEXT(F700,\"TT.MM.JJJJ\")&\") \"&H700&\"-\"&I700","v":"MRS 07915 Sweetbitter (20.05.2018) - Ella Purnell (17.09.1996) 21-245"}]
["tt1935065","nm3512758",{"$f":"_xlfn.XLOOKUP($A701,_xlfn.CHOOSECOLS(_xlfn.ANCHORARRAY(Filme!$G$1),2),_xlfn.CHOOSECOLS(_xlfn.ANCHORARRAY(Filme!$G$1),3),\"\",0,2)","v":"Not Suitable for Children"},{"$f":"_xlfn.XLOOKUP($A701,_xlfn.CHOOSECOLS(_xlfn.ANCHORARRAY(Filme!$G$1),2),_xlfn.CHOOSECOLS(_xlfn.ANCHORARRAY(Filme!$G$1),4),\"\",0,2)","v":"2012-07-12"},{"$f":"_xlfn.XLOOKUP($B701,_xlfn.CHOOSECOLS(_xlfn.ANCHORARRAY(Leute!$F$1),2),_xlfn.CHOOSECOLS(_xlfn.ANCHORARRAY(Leute!$F$1),3),\"x\",0,2)","v":"Sarah Snook"},{"$f":"_xlfn.XLOOKUP($B701,_xlfn.CHOOSECOLS(_xlfn.ANCHORARRAY(Leute!$F$1),2),_xlfn.CHOOSECOLS(_xlfn.ANCHORARRAY(Leute!$F$1),4),\"x\",0,2)","v":"1987-12-01"},{"$f":"RANK(F701,F$1:F701,0)","v":126},{"$f":"DATEDIF(F701,D701,\"Y\")","v":24},{"$f":"DATEDIF(F701,D701,\"YD\")","v":224},{"$f":"D701-F701","v":8990},{"$f":"\"MRS \"&TEXT(J701,\"00000\")&\" \"&SUBSTITUTE(C701,\":\",\"\")&\" (\"&TEXT(D701,\"TT.MM.JJJJ\")&\") - \"&E701&\" (\"&TEXT(F701,\"TT.MM.JJJJ\")&\") \"&H701&\"-\"&I701","v":"MRS 08990 Not Suitable for Children (12.07.2012) - Sarah Snook (01.12.1987) 24-224"}]
["tt4612228","nm3512758",{"$f":"_xlfn.XLOOKUP($A702,_xlfn.CHOOSECOLS(_xlfn.ANCHORARRAY(Filme!$G$1),2),_xlfn.CHOOSECOLS(_xlfn.ANCHORARRAY(Filme!$G$1),3),\"\",0,2)","v":"The Beautiful Lie"},{"$f":"_xlfn.XLOOKUP($A702,_xlfn.CHOOSECOLS(_xlfn.ANCHORARRAY(Filme!$G$1),2),_xlfn.CHOOSECOLS(_xlfn.ANCHORARRAY(Filme!$G$1),4),\"\",0,2)","v":"2015-11-01"},{"$f":"_xlfn.XLOOKUP($B702,_xlfn.CHOOSECOLS(_xlfn.ANCHORARRAY(Leute!$F$1),2),_xlfn.CHOOSECOLS(_xlfn.ANCHORARRAY(Leute!$F$1),3),\"x\",0,2)","v":"Sarah Snook"},{"$f":"_xlfn.XLOOKUP($B702,_xlfn.CHOOSECOLS(_xlfn.ANCHORARRAY(Leute!$F$1),2),_xlfn.CHOOSECOLS(_xlfn.ANCHORARRAY(Leute!$F$1),4),\"x\",0,2)","v":"1987-12-01"},{"$f":"RANK(F702,F$1:F702,0)","v":126},{"$f":"DATEDIF(F702,D702,\"Y\")","v":27},{"$f":"DATEDIF(F702,D702,\"YD\")","v":336},{"$f":"D702-F702","v":10197},{"$f":"\"MRS \"&TEXT(J702,\"00000\")&\" \"&SUBSTITUTE(C702,\":\",\"\")&\" (\"&TEXT(D702,\"TT.MM.JJJJ\")&\") - \"&E702&\" (\"&TEXT(F702,\"TT.MM.JJJJ\")&\") \"&H702&\"-\"&I702","v":"MRS 10197 The Beautiful Lie (01.11.2015) - Sarah Snook (01.12.1987) 27-336"}]
["tt1480055","nm3592338",{"$f":"_xlfn.XLOOKUP($A703,_xlfn.CHOOSECOLS(_xlfn.ANCHORARRAY(Filme!$G$1),2),_xlfn.CHOOSECOLS(_xlfn.ANCHORARRAY(Filme!$G$1),3),\"\",0,2)","v":"Game of Thrones"},{"$f":"_xlfn.XLOOKUP($A703,_xlfn.CHOOSECOLS(_xlfn.ANCHORARRAY(Filme!$G$1),2),_xlfn.CHOOSECOLS(_xlfn.ANCHORARRAY(Filme!$G$1),4),\"\",0,2)","v":"2012-03-23"},{"$f":"_xlfn.XLOOKUP($B703,_xlfn.CHOOSECOLS(_xlfn.ANCHORARRAY(Leute!$F$1),2),_xlfn.CHOOSECOLS(_xlfn.ANCHORARRAY(Leute!$F$1),3),\"x\",0,2)","v":"Emilia Clarke"},{"$f":"_xlfn.XLOOKUP($B703,_xlfn.CHOOSECOLS(_xlfn.ANCHORARRAY(Leute!$F$1),2),_xlfn.CHOOSECOLS(_xlfn.ANCHORARRAY(Leute!$F$1),4),\"x\",0,2)","v":"1986-10-23"},{"$f":"RANK(F703,F$1:F703,0)","v":137},{"$f":"DATEDIF(F703,D703,\"Y\")","v":25},{"$f":"DATEDIF(F703,D703,\"YD\")","v":151},{"$f":"D703-F703","v":9283},{"$f":"\"MRS \"&TEXT(J703,\"00000\")&\" \"&SUBSTITUTE(C703,\":\",\"\")&\" (\"&TEXT(D703,\"TT.MM.JJJJ\")&\") - \"&E703&\" (\"&TEXT(F703,\"TT.MM.JJJJ\")&\") \"&H703&\"-\"&I703","v":"MRS 09283 Game of Thrones (23.03.2012) - Emilia Clarke (23.10.1986) 25-151"}]
["tt1544608","nm3592338",{"$f":"_xlfn.XLOOKUP($A704,_xlfn.CHOOSECOLS(_xlfn.ANCHORARRAY(Filme!$G$1),2),_xlfn.CHOOSECOLS(_xlfn.ANCHORARRAY(Filme!$G$1),3),\"\",0,2)","v":"Voice from the Stone"},{"$f":"_xlfn.XLOOKUP($A704,_xlfn.CHOOSECOLS(_xlfn.ANCHORARRAY(Filme!$G$1),2),_xlfn.CHOOSECOLS(_xlfn.ANCHORARRAY(Filme!$G$1),4),\"\",0,2)","v":"2017-04-28"},{"$f":"_xlfn.XLOOKUP($B704,_xlfn.CHOOSECOLS(_xlfn.ANCHORARRAY(Leute!$F$1),2),_xlfn.CHOOSECOLS(_xlfn.ANCHORARRAY(Leute!$F$1),3),\"x\",0,2)","v":"Emilia Clarke"},{"$f":"_xlfn.XLOOKUP($B704,_xlfn.CHOOSECOLS(_xlfn.ANCHORARRAY(Leute!$F$1),2),_xlfn.CHOOSECOLS(_xlfn.ANCHORARRAY(Leute!$F$1),4),\"x\",0,2)","v":"1986-10-23"},{"$f":"RANK(F704,F$1:F704,0)","v":137},{"$f":"DATEDIF(F704,D704,\"Y\")","v":30},{"$f":"DATEDIF(F704,D704,\"YD\")","v":187},{"$f":"D704-F704","v":11145},{"$f":"\"MRS \"&TEXT(J704,\"00000\")&\" \"&SUBSTITUTE(C704,\":\",\"\")&\" (\"&TEXT(D704,\"TT.MM.JJJJ\")&\") - \"&E704&\" (\"&TEXT(F704,\"TT.MM.JJJJ\")&\") \"&H704&\"-\"&I704","v":"MRS 11145 Voice from the Stone (28.04.2017) - Emilia Clarke (23.10.1986) 30-187"}]
["tt15768848","nm3592338",{"$f":"_xlfn.XLOOKUP($A705,_xlfn.CHOOSECOLS(_xlfn.ANCHORARRAY(Filme!$G$1),2),_xlfn.CHOOSECOLS(_xlfn.ANCHORARRAY(Filme!$G$1),3),\"\",0,2)","v":"The Pod Generation"},{"$f":"_xlfn.XLOOKUP($A705,_xlfn.CHOOSECOLS(_xlfn.ANCHORARRAY(Filme!$G$1),2),_xlfn.CHOOSECOLS(_xlfn.ANCHORARRAY(Filme!$G$1),4),\"\",0,2)","v":"2024-01-11"},{"$f":"_xlfn.XLOOKUP($B705,_xlfn.CHOOSECOLS(_xlfn.ANCHORARRAY(Leute!$F$1),2),_xlfn.CHOOSECOLS(_xlfn.ANCHORARRAY(Leute!$F$1),3),\"x\",0,2)","v":"Emilia Clarke"},{"$f":"_xlfn.XLOOKUP($B705,_xlfn.CHOOSECOLS(_xlfn.ANCHORARRAY(Leute!$F$1),2),_xlfn.CHOOSECOLS(_xlfn.ANCHORARRAY(Leute!$F$1),4),\"x\",0,2)","v":"1986-10-23"},{"$f":"RANK(F705,F$1:F705,0)","v":137},{"$f":"DATEDIF(F705,D705,\"Y\")","v":37},{"$f":"DATEDIF(F705,D705,\"YD\")","v":80},{"$f":"D705-F705","v":13594},{"$f":"\"MRS \"&TEXT(J705,\"00000\")&\" \"&SUBSTITUTE(C705,\":\",\"\")&\" (\"&TEXT(D705,\"TT.MM.JJJJ\")&\") - \"&E705&\" (\"&TEXT(F705,\"TT.MM.JJJJ\")&\") \"&H705&\"-\"&I705","v":"MRS 13594 The Pod Generation (11.01.2024) - Emilia Clarke (23.10.1986) 37-80"}]
["tt28991140","nm3849842",{"$f":"_xlfn.XLOOKUP($A706,_xlfn.CHOOSECOLS(_xlfn.ANCHORARRAY(Filme!$G$1),2),_xlfn.CHOOSECOLS(_xlfn.ANCHORARRAY(Filme!$G$1),3),\"\",0,2)","v":"Joan"},{"$f":"_xlfn.XLOOKUP($A706,_xlfn.CHOOSECOLS(_xlfn.ANCHORARRAY(Filme!$G$1),2),_xlfn.CHOOSECOLS(_xlfn.ANCHORARRAY(Filme!$G$1),4),\"\",0,2)","v":"2024-09-29"},{"$f":"_xlfn.XLOOKUP($B706,_xlfn.CHOOSECOLS(_xlfn.ANCHORARRAY(Leute!$F$1),2),_xlfn.CHOOSECOLS(_xlfn.ANCHORARRAY(Leute!$F$1),3),\"x\",0,2)","v":"Sophie Turner"},{"$f":"_xlfn.XLOOKUP($B706,_xlfn.CHOOSECOLS(_xlfn.ANCHORARRAY(Leute!$F$1),2),_xlfn.CHOOSECOLS(_xlfn.ANCHORARRAY(Leute!$F$1),4),\"x\",0,2)","v":"1996-02-21"},{"$f":"RANK(F706,F$1:F706,0)","v":6},{"$f":"DATEDIF(F706,D706,\"Y\")","v":28},{"$f":"DATEDIF(F706,D706,\"YD\")","v":221},{"$f":"D706-F706","v":10448},{"$f":"\"MRS \"&TEXT(J706,\"00000\")&\" \"&SUBSTITUTE(C706,\":\",\"\")&\" (\"&TEXT(D706,\"TT.MM.JJJJ\")&\") - \"&E706&\" (\"&TEXT(F706,\"TT.MM.JJJJ\")&\") \"&H706&\"-\"&I706","v":"MRS 10448 Joan (29.09.2024) - Sophie Turner (21.02.1996) 28-221"}]
["tt5212808","nm3849842",{"$f":"_xlfn.XLOOKUP($A707,_xlfn.CHOOSECOLS(_xlfn.ANCHORARRAY(Filme!$G$1),2),_xlfn.CHOOSECOLS(_xlfn.ANCHORARRAY(Filme!$G$1),3),\"\",0,2)","v":"Heavy"},{"$f":"_xlfn.XLOOKUP($A707,_xlfn.CHOOSECOLS(_xlfn.ANCHORARRAY(Filme!$G$1),2),_xlfn.CHOOSECOLS(_xlfn.ANCHORARRAY(Filme!$G$1),4),\"\",0,2)","v":"2021-02-09"},{"$f":"_xlfn.XLOOKUP($B707,_xlfn.CHOOSECOLS(_xlfn.ANCHORARRAY(Leute!$F$1),2),_xlfn.CHOOSECOLS(_xlfn.ANCHORARRAY(Leute!$F$1),3),\"x\",0,2)","v":"Sophie Turner"},{"$f":"_xlfn.XLOOKUP($B707,_xlfn.CHOOSECOLS(_xlfn.ANCHORARRAY(Leute!$F$1),2),_xlfn.CHOOSECOLS(_xlfn.ANCHORARRAY(Leute!$F$1),4),\"x\",0,2)","v":"1996-02-21"},{"$f":"RANK(F707,F$1:F707,0)","v":6},{"$f":"DATEDIF(F707,D707,\"Y\")","v":24},{"$f":"DATEDIF(F707,D707,\"YD\")","v":354},{"$f":"D707-F707","v":9120},{"$f":"\"MRS \"&TEXT(J707,\"00000\")&\" \"&SUBSTITUTE(C707,\":\",\"\")&\" (\"&TEXT(D707,\"TT.MM.JJJJ\")&\") - \"&E707&\" (\"&TEXT(F707,\"TT.MM.JJJJ\")&\") \"&H707&\"-\"&I707","v":"MRS 09120 Heavy (09.02.2021) - Sophie Turner (21.02.1996) 24-354"}]
["tt11161474","nm3948952",{"$f":"_xlfn.XLOOKUP($A708,_xlfn.CHOOSECOLS(_xlfn.ANCHORARRAY(Filme!$G$1),2),_xlfn.CHOOSECOLS(_xlfn.ANCHORARRAY(Filme!$G$1),3),\"\",0,2)","v":"Pieces of a Woman"},{"$f":"_xlfn.XLOOKUP($A708,_xlfn.CHOOSECOLS(_xlfn.ANCHORARRAY(Filme!$G$1),2),_xlfn.CHOOSECOLS(_xlfn.ANCHORARRAY(Filme!$G$1),4),\"\",0,2)","v":"2021-01-07"},{"$f":"_xlfn.XLOOKUP($B708,_xlfn.CHOOSECOLS(_xlfn.ANCHORARRAY(Leute!$F$1),2),_xlfn.CHOOSECOLS(_xlfn.ANCHORARRAY(Leute!$F$1),3),\"x\",0,2)","v":"Vanessa Kirby"},{"$f":"_xlfn.XLOOKUP($B708,_xlfn.CHOOSECOLS(_xlfn.ANCHORARRAY(Leute!$F$1),2),_xlfn.CHOOSECOLS(_xlfn.ANCHORARRAY(Leute!$F$1),4),\"x\",0,2)","v":"1988-04-18"},{"$f":"RANK(F708,F$1:F708,0)","v":121},{"$f":"DATEDIF(F708,D708,\"Y\")","v":32},{"$f":"DATEDIF(F708,D708,\"YD\")","v":264},{"$f":"D708-F708","v":11952},{"$f":"\"MRS \"&TEXT(J708,\"00000\")&\" \"&SUBSTITUTE(C708,\":\",\"\")&\" (\"&TEXT(D708,\"TT.MM.JJJJ\")&\") - \"&E708&\" (\"&TEXT(F708,\"TT.MM.JJJJ\")&\") \"&H708&\"-\"&I708","v":"MRS 11952 Pieces of a Woman (07.01.2021) - Vanessa Kirby (18.04.1988) 32-264"}]
["tt13287846","nm3948952",{"$f":"_xlfn.XLOOKUP($A709,_xlfn.CHOOSECOLS(_xlfn.ANCHORARRAY(Filme!$G$1),2),_xlfn.CHOOSECOLS(_xlfn.ANCHORARRAY(Filme!$G$1),3),\"\",0,2)","v":"Napoleon"},{"$f":"_xlfn.XLOOKUP($A709,_xlfn.CHOOSECOLS(_xlfn.ANCHORARRAY(Filme!$G$1),2),_xlfn.CHOOSECOLS(_xlfn.ANCHORARRAY(Filme!$G$1),4),\"\",0,2)","v":"2023-11-23"},{"$f":"_xlfn.XLOOKUP($B709,_xlfn.CHOOSECOLS(_xlfn.ANCHORARRAY(Leute!$F$1),2),_xlfn.CHOOSECOLS(_xlfn.ANCHORARRAY(Leute!$F$1),3),\"x\",0,2)","v":"Vanessa Kirby"},{"$f":"_xlfn.XLOOKUP($B709,_xlfn.CHOOSECOLS(_xlfn.ANCHORARRAY(Leute!$F$1),2),_xlfn.CHOOSECOLS(_xlfn.ANCHORARRAY(Leute!$F$1),4),\"x\",0,2)","v":"1988-04-18"},{"$f":"RANK(F709,F$1:F709,0)","v":121},{"$f":"DATEDIF(F709,D709,\"Y\")","v":35},{"$f":"DATEDIF(F709,D709,\"YD\")","v":219},{"$f":"D709-F709","v":13002},{"$f":"\"MRS \"&TEXT(J709,\"00000\")&\" \"&SUBSTITUTE(C709,\":\",\"\")&\" (\"&TEXT(D709,\"TT.MM.JJJJ\")&\") - \"&E709&\" (\"&TEXT(F709,\"TT.MM.JJJJ\")&\") \"&H709&\"-\"&I709","v":"MRS 13002 Napoleon (23.11.2023) - Vanessa Kirby (18.04.1988) 35-219"}]
["tt2392810","nm3948952",{"$f":"_xlfn.XLOOKUP($A710,_xlfn.CHOOSECOLS(_xlfn.ANCHORARRAY(Filme!$G$1),2),_xlfn.CHOOSECOLS(_xlfn.ANCHORARRAY(Filme!$G$1),3),\"\",0,2)","v":"Queen & Country"},{"$f":"_xlfn.XLOOKUP($A710,_xlfn.CHOOSECOLS(_xlfn.ANCHORARRAY(Filme!$G$1),2),_xlfn.CHOOSECOLS(_xlfn.ANCHORARRAY(Filme!$G$1),4),\"\",0,2)","v":"2015-01-07"},{"$f":"_xlfn.XLOOKUP($B710,_xlfn.CHOOSECOLS(_xlfn.ANCHORARRAY(Leute!$F$1),2),_xlfn.CHOOSECOLS(_xlfn.ANCHORARRAY(Leute!$F$1),3),\"x\",0,2)","v":"Vanessa Kirby"},{"$f":"_xlfn.XLOOKUP($B710,_xlfn.CHOOSECOLS(_xlfn.ANCHORARRAY(Leute!$F$1),2),_xlfn.CHOOSECOLS(_xlfn.ANCHORARRAY(Leute!$F$1),4),\"x\",0,2)","v":"1988-04-18"},{"$f":"RANK(F710,F$1:F710,0)","v":121},{"$f":"DATEDIF(F710,D710,\"Y\")","v":26},{"$f":"DATEDIF(F710,D710,\"YD\")","v":264},{"$f":"D710-F710","v":9760},{"$f":"\"MRS \"&TEXT(J710,\"00000\")&\" \"&SUBSTITUTE(C710,\":\",\"\")&\" (\"&TEXT(D710,\"TT.MM.JJJJ\")&\") - \"&E710&\" (\"&TEXT(F710,\"TT.MM.JJJJ\")&\") \"&H710&\"-\"&I710","v":"MRS 09760 Queen & Country (07.01.2015) - Vanessa Kirby (18.04.1988) 26-264"}]
["tt9738716","nm3948952",{"$f":"_xlfn.XLOOKUP($A711,_xlfn.CHOOSECOLS(_xlfn.ANCHORARRAY(Filme!$G$1),2),_xlfn.CHOOSECOLS(_xlfn.ANCHORARRAY(Filme!$G$1),3),\"\",0,2)","v":"The World to Come"},{"$f":"_xlfn.XLOOKUP($A711,_xlfn.CHOOSECOLS(_xlfn.ANCHORARRAY(Filme!$G$1),2),_xlfn.CHOOSECOLS(_xlfn.ANCHORARRAY(Filme!$G$1),4),\"\",0,2)","v":"2023-09-17"},{"$f":"_xlfn.XLOOKUP($B711,_xlfn.CHOOSECOLS(_xlfn.ANCHORARRAY(Leute!$F$1),2),_xlfn.CHOOSECOLS(_xlfn.ANCHORARRAY(Leute!$F$1),3),\"x\",0,2)","v":"Vanessa Kirby"},{"$f":"_xlfn.XLOOKUP($B711,_xlfn.CHOOSECOLS(_xlfn.ANCHORARRAY(Leute!$F$1),2),_xlfn.CHOOSECOLS(_xlfn.ANCHORARRAY(Leute!$F$1),4),\"x\",0,2)","v":"1988-04-18"},{"$f":"RANK(F711,F$1:F711,0)","v":121},{"$f":"DATEDIF(F711,D711,\"Y\")","v":35},{"$f":"DATEDIF(F711,D711,\"YD\")","v":152},{"$f":"D711-F711","v":12935},{"$f":"\"MRS \"&TEXT(J711,\"00000\")&\" \"&SUBSTITUTE(C711,\":\",\"\")&\" (\"&TEXT(D711,\"TT.MM.JJJJ\")&\") - \"&E711&\" (\"&TEXT(F711,\"TT.MM.JJJJ\")&\") \"&H711&\"-\"&I711","v":"MRS 12935 The World to Come (17.09.2023) - Vanessa Kirby (18.04.1988) 35-152"}]
["tt11354464","nm4023073",{"$f":"_xlfn.XLOOKUP($A712,_xlfn.CHOOSECOLS(_xlfn.ANCHORARRAY(Filme!$G$1),2),_xlfn.CHOOSECOLS(_xlfn.ANCHORARRAY(Filme!$G$1),3),\"\",0,2)","v":"Brand New Cherry Flavor"},{"$f":"_xlfn.XLOOKUP($A712,_xlfn.CHOOSECOLS(_xlfn.ANCHORARRAY(Filme!$G$1),2),_xlfn.CHOOSECOLS(_xlfn.ANCHORARRAY(Filme!$G$1),4),\"\",0,2)","v":"2021-08-13"},{"$f":"_xlfn.XLOOKUP($B712,_xlfn.CHOOSECOLS(_xlfn.ANCHORARRAY(Leute!$F$1),2),_xlfn.CHOOSECOLS(_xlfn.ANCHORARRAY(Leute!$F$1),3),\"x\",0,2)","v":"Rosa Salazar"},{"$f":"_xlfn.XLOOKUP($B712,_xlfn.CHOOSECOLS(_xlfn.ANCHORARRAY(Leute!$F$1),2),_xlfn.CHOOSECOLS(_xlfn.ANCHORARRAY(Leute!$F$1),4),\"x\",0,2)","v":"1985-07-16"},{"$f":"RANK(F712,F$1:F712,0)","v":172},{"$f":"DATEDIF(F712,D712,\"Y\")","v":36},{"$f":"DATEDIF(F712,D712,\"YD\")","v":28},{"$f":"D712-F712","v":13177},{"$f":"\"MRS \"&TEXT(J712,\"00000\")&\" \"&SUBSTITUTE(C712,\":\",\"\")&\" (\"&TEXT(D712,\"TT.MM.JJJJ\")&\") - \"&E712&\" (\"&TEXT(F712,\"TT.MM.JJJJ\")&\") \"&H712&\"-\"&I712","v":"MRS 13177 Brand New Cherry Flavor (13.08.2021) - Rosa Salazar (16.07.1985) 36-28"}]
["tt2737304","nm4023073",{"$f":"_xlfn.XLOOKUP($A713,_xlfn.CHOOSECOLS(_xlfn.ANCHORARRAY(Filme!$G$1),2),_xlfn.CHOOSECOLS(_xlfn.ANCHORARRAY(Filme!$G$1),3),\"\",0,2)","v":"Bird Box"},{"$f":"_xlfn.XLOOKUP($A713,_xlfn.CHOOSECOLS(_xlfn.ANCHORARRAY(Filme!$G$1),2),_xlfn.CHOOSECOLS(_xlfn.ANCHORARRAY(Filme!$G$1),4),\"\",0,2)","v":"2018-12-21"},{"$f":"_xlfn.XLOOKUP($B713,_xlfn.CHOOSECOLS(_xlfn.ANCHORARRAY(Leute!$F$1),2),_xlfn.CHOOSECOLS(_xlfn.ANCHORARRAY(Leute!$F$1),3),\"x\",0,2)","v":"Rosa Salazar"},{"$f":"_xlfn.XLOOKUP($B713,_xlfn.CHOOSECOLS(_xlfn.ANCHORARRAY(Leute!$F$1),2),_xlfn.CHOOSECOLS(_xlfn.ANCHORARRAY(Leute!$F$1),4),\"x\",0,2)","v":"1985-07-16"},{"$f":"RANK(F713,F$1:F713,0)","v":172},{"$f":"DATEDIF(F713,D713,\"Y\")","v":33},{"$f":"DATEDIF(F713,D713,\"YD\")","v":158},{"$f":"D713-F713","v":12211},{"$f":"\"MRS \"&TEXT(J713,\"00000\")&\" \"&SUBSTITUTE(C713,\":\",\"\")&\" (\"&TEXT(D713,\"TT.MM.JJJJ\")&\") - \"&E713&\" (\"&TEXT(F713,\"TT.MM.JJJJ\")&\") \"&H713&\"-\"&I713","v":"MRS 12211 Bird Box (21.12.2018) - Rosa Salazar (16.07.1985) 33-158"}]
["tt3591436","nm4023073",{"$f":"_xlfn.XLOOKUP($A714,_xlfn.CHOOSECOLS(_xlfn.ANCHORARRAY(Filme!$G$1),2),_xlfn.CHOOSECOLS(_xlfn.ANCHORARRAY(Filme!$G$1),3),\"\",0,2)","v":"Night Owls"},{"$f":"_xlfn.XLOOKUP($A714,_xlfn.CHOOSECOLS(_xlfn.ANCHORARRAY(Filme!$G$1),2),_xlfn.CHOOSECOLS(_xlfn.ANCHORARRAY(Filme!$G$1),4),\"\",0,2)","v":"2016-07-15"},{"$f":"_xlfn.XLOOKUP($B714,_xlfn.CHOOSECOLS(_xlfn.ANCHORARRAY(Leute!$F$1),2),_xlfn.CHOOSECOLS(_xlfn.ANCHORARRAY(Leute!$F$1),3),\"x\",0,2)","v":"Rosa Salazar"},{"$f":"_xlfn.XLOOKUP($B714,_xlfn.CHOOSECOLS(_xlfn.ANCHORARRAY(Leute!$F$1),2),_xlfn.CHOOSECOLS(_xlfn.ANCHORARRAY(Leute!$F$1),4),\"x\",0,2)","v":"1985-07-16"},{"$f":"RANK(F714,F$1:F714,0)","v":172},{"$f":"DATEDIF(F714,D714,\"Y\")","v":30},{"$f":"DATEDIF(F714,D714,\"YD\")","v":364},{"$f":"D714-F714","v":11322},{"$f":"\"MRS \"&TEXT(J714,\"00000\")&\" \"&SUBSTITUTE(C714,\":\",\"\")&\" (\"&TEXT(D714,\"TT.MM.JJJJ\")&\") - \"&E714&\" (\"&TEXT(F714,\"TT.MM.JJJJ\")&\") \"&H714&\"-\"&I714","v":"MRS 11322 Night Owls (15.07.2016) - Rosa Salazar (16.07.1985) 30-364"}]
["tt11454876","nm4141252",{"$f":"_xlfn.XLOOKUP($A715,_xlfn.CHOOSECOLS(_xlfn.ANCHORARRAY(Filme!$G$1),2),_xlfn.CHOOSECOLS(_xlfn.ANCHORARRAY(Filme!$G$1),3),\"\",0,2)","v":"The Pursuit of Love"},{"$f":"_xlfn.XLOOKUP($A715,_xlfn.CHOOSECOLS(_xlfn.ANCHORARRAY(Filme!$G$1),2),_xlfn.CHOOSECOLS(_xlfn.ANCHORARRAY(Filme!$G$1),4),\"\",0,2)","v":"2023-07-01"},{"$f":"_xlfn.XLOOKUP($B715,_xlfn.CHOOSECOLS(_xlfn.ANCHORARRAY(Leute!$F$1),2),_xlfn.CHOOSECOLS(_xlfn.ANCHORARRAY(Leute!$F$1),3),\"x\",0,2)","v":"Lily James"},{"$f":"_xlfn.XLOOKUP($B715,_xlfn.CHOOSECOLS(_xlfn.ANCHORARRAY(Leute!$F$1),2),_xlfn.CHOOSECOLS(_xlfn.ANCHORARRAY(Leute!$F$1),4),\"x\",0,2)","v":"1989-04-05"},{"$f":"RANK(F715,F$1:F715,0)","v":75},{"$f":"DATEDIF(F715,D715,\"Y\")","v":34},{"$f":"DATEDIF(F715,D715,\"YD\")","v":87},{"$f":"D715-F715","v":12505},{"$f":"\"MRS \"&TEXT(J715,\"00000\")&\" \"&SUBSTITUTE(C715,\":\",\"\")&\" (\"&TEXT(D715,\"TT.MM.JJJJ\")&\") - \"&E715&\" (\"&TEXT(F715,\"TT.MM.JJJJ\")&\") \"&H715&\"-\"&I715","v":"MRS 12505 The Pursuit of Love (01.07.2023) - Lily James (05.04.1989) 34-87"}]
["tt13848844","nm4141252",{"$f":"_xlfn.XLOOKUP($A716,_xlfn.CHOOSECOLS(_xlfn.ANCHORARRAY(Filme!$G$1),2),_xlfn.CHOOSECOLS(_xlfn.ANCHORARRAY(Filme!$G$1),3),\"\",0,2)","v":"Pam & Tommy"},{"$f":"_xlfn.XLOOKUP($A716,_xlfn.CHOOSECOLS(_xlfn.ANCHORARRAY(Filme!$G$1),2),_xlfn.CHOOSECOLS(_xlfn.ANCHORARRAY(Filme!$G$1),4),\"\",0,2)","v":"2022-02-02"},{"$f":"_xlfn.XLOOKUP($B716,_xlfn.CHOOSECOLS(_xlfn.ANCHORARRAY(Leute!$F$1),2),_xlfn.CHOOSECOLS(_xlfn.ANCHORARRAY(Leute!$F$1),3),\"x\",0,2)","v":"Lily James"},{"$f":"_xlfn.XLOOKUP($B716,_xlfn.CHOOSECOLS(_xlfn.ANCHORARRAY(Leute!$F$1),2),_xlfn.CHOOSECOLS(_xlfn.ANCHORARRAY(Leute!$F$1),4),\"x\",0,2)","v":"1989-04-05"},{"$f":"RANK(F716,F$1:F716,0)","v":75},{"$f":"DATEDIF(F716,D716,\"Y\")","v":32},{"$f":"DATEDIF(F716,D716,\"YD\")","v":303},{"$f":"D716-F716","v":11991},{"$f":"\"MRS \"&TEXT(J716,\"00000\")&\" \"&SUBSTITUTE(C716,\":\",\"\")&\" (\"&TEXT(D716,\"TT.MM.JJJJ\")&\") - \"&E716&\" (\"&TEXT(F716,\"TT.MM.JJJJ\")&\") \"&H716&\"-\"&I716","v":"MRS 11991 Pam & Tommy (02.02.2022) - Lily James (05.04.1989) 32-303"}]
["tt4721124","nm4141252",{"$f":"_xlfn.XLOOKUP($A717,_xlfn.CHOOSECOLS(_xlfn.ANCHORARRAY(Filme!$G$1),2),_xlfn.CHOOSECOLS(_xlfn.ANCHORARRAY(Filme!$G$1),3),\"\",0,2)","v":"The Exception"},{"$f":"_xlfn.XLOOKUP($A717,_xlfn.CHOOSECOLS(_xlfn.ANCHORARRAY(Filme!$G$1),2),_xlfn.CHOOSECOLS(_xlfn.ANCHORARRAY(Filme!$G$1),4),\"\",0,2)","v":"2017-06-02"},{"$f":"_xlfn.XLOOKUP($B717,_xlfn.CHOOSECOLS(_xlfn.ANCHORARRAY(Leute!$F$1),2),_xlfn.CHOOSECOLS(_xlfn.ANCHORARRAY(Leute!$F$1),3),\"x\",0,2)","v":"Lily James"},{"$f":"_xlfn.XLOOKUP($B717,_xlfn.CHOOSECOLS(_xlfn.ANCHORARRAY(Leute!$F$1),2),_xlfn.CHOOSECOLS(_xlfn.ANCHORARRAY(Leute!$F$1),4),\"x\",0,2)","v":"1989-04-05"},{"$f":"RANK(F717,F$1:F717,0)","v":75},{"$f":"DATEDIF(F717,D717,\"Y\")","v":28},{"$f":"DATEDIF(F717,D717,\"YD\")","v":58},{"$f":"D717-F717","v":10285},{"$f":"\"MRS \"&TEXT(J717,\"00000\")&\" \"&SUBSTITUTE(C717,\":\",\"\")&\" (\"&TEXT(D717,\"TT.MM.JJJJ\")&\") - \"&E717&\" (\"&TEXT(F717,\"TT.MM.JJJJ\")&\") \"&H717&\"-\"&I717","v":"MRS 10285 The Exception (02.06.2017) - Lily James (05.04.1989) 28-58"}]
["tt8419594","nm4141252",{"$f":"_xlfn.XLOOKUP($A718,_xlfn.CHOOSECOLS(_xlfn.ANCHORARRAY(Filme!$G$1),2),_xlfn.CHOOSECOLS(_xlfn.ANCHORARRAY(Filme!$G$1),3),\"\",0,2)","v":"Rare Beasts"},{"$f":"_xlfn.XLOOKUP($A718,_xlfn.CHOOSECOLS(_xlfn.ANCHORARRAY(Filme!$G$1),2),_xlfn.CHOOSECOLS(_xlfn.ANCHORARRAY(Filme!$G$1),4),\"\",0,2)","v":"2021-05-21"},{"$f":"_xlfn.XLOOKUP($B718,_xlfn.CHOOSECOLS(_xlfn.ANCHORARRAY(Leute!$F$1),2),_xlfn.CHOOSECOLS(_xlfn.ANCHORARRAY(Leute!$F$1),3),\"x\",0,2)","v":"Lily James"},{"$f":"_xlfn.XLOOKUP($B718,_xlfn.CHOOSECOLS(_xlfn.ANCHORARRAY(Leute!$F$1),2),_xlfn.CHOOSECOLS(_xlfn.ANCHORARRAY(Leute!$F$1),4),\"x\",0,2)","v":"1989-04-05"},{"$f":"RANK(F718,F$1:F718,0)","v":75},{"$f":"DATEDIF(F718,D718,\"Y\")","v":32},{"$f":"DATEDIF(F718,D718,\"YD\")","v":46},{"$f":"D718-F718","v":11734},{"$f":"\"MRS \"&TEXT(J718,\"00000\")&\" \"&SUBSTITUTE(C718,\":\",\"\")&\" (\"&TEXT(D718,\"TT.MM.JJJJ\")&\") - \"&E718&\" (\"&TEXT(F718,\"TT.MM.JJJJ\")&\") \"&H718&\"-\"&I718","v":"MRS 11734 Rare Beasts (21.05.2021) - Lily James (05.04.1989) 32-46"}]
["tt6644650","nm4574440",{"$f":"_xlfn.XLOOKUP($A719,_xlfn.CHOOSECOLS(_xlfn.ANCHORARRAY(Filme!$G$1),2),_xlfn.CHOOSECOLS(_xlfn.ANCHORARRAY(Filme!$G$1),3),\"\",0,2)","v":"Club de Cuervos"},{"$f":"_xlfn.XLOOKUP($A719,_xlfn.CHOOSECOLS(_xlfn.ANCHORARRAY(Filme!$G$1),2),_xlfn.CHOOSECOLS(_xlfn.ANCHORARRAY(Filme!$G$1),4),\"\",0,2)","v":"2017-09-29"},{"$f":"_xlfn.XLOOKUP($B719,_xlfn.CHOOSECOLS(_xlfn.ANCHORARRAY(Leute!$F$1),2),_xlfn.CHOOSECOLS(_xlfn.ANCHORARRAY(Leute!$F$1),3),\"x\",0,2)","v":"Melissa Barrera"},{"$f":"_xlfn.XLOOKUP($B719,_xlfn.CHOOSECOLS(_xlfn.ANCHORARRAY(Leute!$F$1),2),_xlfn.CHOOSECOLS(_xlfn.ANCHORARRAY(Leute!$F$1),4),\"x\",0,2)","v":"1990-07-04"},{"$f":"RANK(F719,F$1:F719,0)","v":39},{"$f":"DATEDIF(F719,D719,\"Y\")","v":27},{"$f":"DATEDIF(F719,D719,\"YD\")","v":87},{"$f":"D719-F719","v":9949},{"$f":"\"MRS \"&TEXT(J719,\"00000\")&\" \"&SUBSTITUTE(C719,\":\",\"\")&\" (\"&TEXT(D719,\"TT.MM.JJJJ\")&\") - \"&E719&\" (\"&TEXT(F719,\"TT.MM.JJJJ\")&\") \"&H719&\"-\"&I719","v":"MRS 09949 Club de Cuervos (29.09.2017) - Melissa Barrera (04.07.1990) 27-87"}]
["tt6875952","nm4574440",{"$f":"_xlfn.XLOOKUP($A720,_xlfn.CHOOSECOLS(_xlfn.ANCHORARRAY(Filme!$G$1),2),_xlfn.CHOOSECOLS(_xlfn.ANCHORARRAY(Filme!$G$1),3),\"\",0,2)","v":"Carmen"},{"$f":"_xlfn.XLOOKUP($A720,_xlfn.CHOOSECOLS(_xlfn.ANCHORARRAY(Filme!$G$1),2),_xlfn.CHOOSECOLS(_xlfn.ANCHORARRAY(Filme!$G$1),4),\"\",0,2)","v":"2023-06-14"},{"$f":"_xlfn.XLOOKUP($B720,_xlfn.CHOOSECOLS(_xlfn.ANCHORARRAY(Leute!$F$1),2),_xlfn.CHOOSECOLS(_xlfn.ANCHORARRAY(Leute!$F$1),3),\"x\",0,2)","v":"Melissa Barrera"},{"$f":"_xlfn.XLOOKUP($B720,_xlfn.CHOOSECOLS(_xlfn.ANCHORARRAY(Leute!$F$1),2),_xlfn.CHOOSECOLS(_xlfn.ANCHORARRAY(Leute!$F$1),4),\"x\",0,2)","v":"1990-07-04"},{"$f":"RANK(F720,F$1:F720,0)","v":39},{"$f":"DATEDIF(F720,D720,\"Y\")","v":32},{"$f":"DATEDIF(F720,D720,\"YD\")","v":345},{"$f":"D720-F720","v":12033},{"$f":"\"MRS \"&TEXT(J720,\"00000\")&\" \"&SUBSTITUTE(C720,\":\",\"\")&\" (\"&TEXT(D720,\"TT.MM.JJJJ\")&\") - \"&E720&\" (\"&TEXT(F720,\"TT.MM.JJJJ\")&\") \"&H720&\"-\"&I720","v":"MRS 12033 Carmen (14.06.2023) - Melissa Barrera (04.07.1990) 32-345"}]
["tt7740226","nm4574440",{"$f":"_xlfn.XLOOKUP($A721,_xlfn.CHOOSECOLS(_xlfn.ANCHORARRAY(Filme!$G$1),2),_xlfn.CHOOSECOLS(_xlfn.ANCHORARRAY(Filme!$G$1),3),\"\",0,2)","v":"Vida"},{"$f":"_xlfn.XLOOKUP($A721,_xlfn.CHOOSECOLS(_xlfn.ANCHORARRAY(Filme!$G$1),2),_xlfn.CHOOSECOLS(_xlfn.ANCHORARRAY(Filme!$G$1),4),\"\",0,2)","v":"2018-05-20"},{"$f":"_xlfn.XLOOKUP($B721,_xlfn.CHOOSECOLS(_xlfn.ANCHORARRAY(Leute!$F$1),2),_xlfn.CHOOSECOLS(_xlfn.ANCHORARRAY(Leute!$F$1),3),\"x\",0,2)","v":"Melissa Barrera"},{"$f":"_xlfn.XLOOKUP($B721,_xlfn.CHOOSECOLS(_xlfn.ANCHORARRAY(Leute!$F$1),2),_xlfn.CHOOSECOLS(_xlfn.ANCHORARRAY(Leute!$F$1),4),\"x\",0,2)","v":"1990-07-04"},{"$f":"RANK(F721,F$1:F721,0)","v":39},{"$f":"DATEDIF(F721,D721,\"Y\")","v":27},{"$f":"DATEDIF(F721,D721,\"YD\")","v":320},{"$f":"D721-F721","v":10182},{"$f":"\"MRS \"&TEXT(J721,\"00000\")&\" \"&SUBSTITUTE(C721,\":\",\"\")&\" (\"&TEXT(D721,\"TT.MM.JJJJ\")&\") - \"&E721&\" (\"&TEXT(F721,\"TT.MM.JJJJ\")&\") \"&H721&\"-\"&I721","v":"MRS 10182 Vida (20.05.2018) - Melissa Barrera (04.07.1990) 27-320"}]
["tt3203968","nm4689420",{"$f":"_xlfn.XLOOKUP($A722,_xlfn.CHOOSECOLS(_xlfn.ANCHORARRAY(Filme!$G$1),2),_xlfn.CHOOSECOLS(_xlfn.ANCHORARRAY(Filme!$G$1),3),\"\",0,2)","v":"The Leftovers"},{"$f":"_xlfn.XLOOKUP($A722,_xlfn.CHOOSECOLS(_xlfn.ANCHORARRAY(Filme!$G$1),2),_xlfn.CHOOSECOLS(_xlfn.ANCHORARRAY(Filme!$G$1),4),\"\",0,2)","v":"2014-10-24"},{"$f":"_xlfn.XLOOKUP($B722,_xlfn.CHOOSECOLS(_xlfn.ANCHORARRAY(Leute!$F$1),2),_xlfn.CHOOSECOLS(_xlfn.ANCHORARRAY(Leute!$F$1),3),\"x\",0,2)","v":"Carrie Coon"},{"$f":"_xlfn.XLOOKUP($B722,_xlfn.CHOOSECOLS(_xlfn.ANCHORARRAY(Leute!$F$1),2),_xlfn.CHOOSECOLS(_xlfn.ANCHORARRAY(Leute!$F$1),4),\"x\",0,2)","v":"1981-01-24"},{"$f":"RANK(F722,F$1:F722,0)","v":272},{"$f":"DATEDIF(F722,D722,\"Y\")","v":33},{"$f":"DATEDIF(F722,D722,\"YD\")","v":273},{"$f":"D722-F722","v":12326},{"$f":"\"MRS \"&TEXT(J722,\"00000\")&\" \"&SUBSTITUTE(C722,\":\",\"\")&\" (\"&TEXT(D722,\"TT.MM.JJJJ\")&\") - \"&E722&\" (\"&TEXT(F722,\"TT.MM.JJJJ\")&\") \"&H722&\"-\"&I722","v":"MRS 12326 The Leftovers (24.10.2014) - Carrie Coon (24.01.1981) 33-273"}]
["tt8338762","nm4689420",{"$f":"_xlfn.XLOOKUP($A723,_xlfn.CHOOSECOLS(_xlfn.ANCHORARRAY(Filme!$G$1),2),_xlfn.CHOOSECOLS(_xlfn.ANCHORARRAY(Filme!$G$1),3),\"\",0,2)","v":"The Nest"},{"$f":"_xlfn.XLOOKUP($A723,_xlfn.CHOOSECOLS(_xlfn.ANCHORARRAY(Filme!$G$1),2),_xlfn.CHOOSECOLS(_xlfn.ANCHORARRAY(Filme!$G$1),4),\"\",0,2)","v":"2021-07-08"},{"$f":"_xlfn.XLOOKUP($B723,_xlfn.CHOOSECOLS(_xlfn.ANCHORARRAY(Leute!$F$1),2),_xlfn.CHOOSECOLS(_xlfn.ANCHORARRAY(Leute!$F$1),3),\"x\",0,2)","v":"Carrie Coon"},{"$f":"_xlfn.XLOOKUP($B723,_xlfn.CHOOSECOLS(_xlfn.ANCHORARRAY(Leute!$F$1),2),_xlfn.CHOOSECOLS(_xlfn.ANCHORARRAY(Leute!$F$1),4),\"x\",0,2)","v":"1981-01-24"},{"$f":"RANK(F723,F$1:F723,0)","v":272},{"$f":"DATEDIF(F723,D723,\"Y\")","v":40},{"$f":"DATEDIF(F723,D723,\"YD\")","v":165},{"$f":"D723-F723","v":14775},{"$f":"\"MRS \"&TEXT(J723,\"00000\")&\" \"&SUBSTITUTE(C723,\":\",\"\")&\" (\"&TEXT(D723,\"TT.MM.JJJJ\")&\") - \"&E723&\" (\"&TEXT(F723,\"TT.MM.JJJJ\")&\") \"&H723&\"-\"&I723","v":"MRS 14775 The Nest (08.07.2021) - Carrie Coon (24.01.1981) 40-165"}]
["tt26940835","nm4911194",{"$f":"_xlfn.XLOOKUP($A724,_xlfn.CHOOSECOLS(_xlfn.ANCHORARRAY(Filme!$G$1),2),_xlfn.CHOOSECOLS(_xlfn.ANCHORARRAY(Filme!$G$1),3),\"\",0,2)","v":"Hot Ones"},{"$f":"_xlfn.XLOOKUP($A724,_xlfn.CHOOSECOLS(_xlfn.ANCHORARRAY(Filme!$G$1),2),_xlfn.CHOOSECOLS(_xlfn.ANCHORARRAY(Filme!$G$1),4),\"\",0,2)","v":"2023-03-02"},{"$f":"_xlfn.XLOOKUP($B724,_xlfn.CHOOSECOLS(_xlfn.ANCHORARRAY(Leute!$F$1),2),_xlfn.CHOOSECOLS(_xlfn.ANCHORARRAY(Leute!$F$1),3),\"x\",0,2)","v":"Jenna Ortega"},{"$f":"_xlfn.XLOOKUP($B724,_xlfn.CHOOSECOLS(_xlfn.ANCHORARRAY(Leute!$F$1),2),_xlfn.CHOOSECOLS(_xlfn.ANCHORARRAY(Leute!$F$1),4),\"x\",0,2)","v":"2002-09-27"},{"$f":"RANK(F724,F$1:F724,0)","v":1},{"$f":"DATEDIF(F724,D724,\"Y\")","v":20},{"$f":"DATEDIF(F724,D724,\"YD\")","v":156},{"$f":"D724-F724","v":7461},{"$f":"\"MRS \"&TEXT(J724,\"00000\")&\" \"&SUBSTITUTE(C724,\":\",\"\")&\" (\"&TEXT(D724,\"TT.MM.JJJJ\")&\") - \"&E724&\" (\"&TEXT(F724,\"TT.MM.JJJJ\")&\") \"&H724&\"-\"&I724","v":"MRS 07461 Hot Ones (02.03.2023) - Jenna Ortega (27.09.2002) 20-156"}]
["tt10354106","nm4960279",{"$f":"_xlfn.XLOOKUP($A725,_xlfn.CHOOSECOLS(_xlfn.ANCHORARRAY(Filme!$G$1),2),_xlfn.CHOOSECOLS(_xlfn.ANCHORARRAY(Filme!$G$1),3),\"\",0,2)","v":"Stars at Noon"},{"$f":"_xlfn.XLOOKUP($A725,_xlfn.CHOOSECOLS(_xlfn.ANCHORARRAY(Filme!$G$1),2),_xlfn.CHOOSECOLS(_xlfn.ANCHORARRAY(Filme!$G$1),4),\"\",0,2)","v":"2023-10-05"},{"$f":"_xlfn.XLOOKUP($B725,_xlfn.CHOOSECOLS(_xlfn.ANCHORARRAY(Leute!$F$1),2),_xlfn.CHOOSECOLS(_xlfn.ANCHORARRAY(Leute!$F$1),3),\"x\",0,2)","v":"Margaret Qualley"},{"$f":"_xlfn.XLOOKUP($B725,_xlfn.CHOOSECOLS(_xlfn.ANCHORARRAY(Leute!$F$1),2),_xlfn.CHOOSECOLS(_xlfn.ANCHORARRAY(Leute!$F$1),4),\"x\",0,2)","v":"1994-10-23"},{"$f":"RANK(F725,F$1:F725,0)","v":9},{"$f":"DATEDIF(F725,D725,\"Y\")","v":28},{"$f":"DATEDIF(F725,D725,\"YD\")","v":347},{"$f":"D725-F725","v":10574},{"$f":"\"MRS \"&TEXT(J725,\"00000\")&\" \"&SUBSTITUTE(C725,\":\",\"\")&\" (\"&TEXT(D725,\"TT.MM.JJJJ\")&\") - \"&E725&\" (\"&TEXT(F725,\"TT.MM.JJJJ\")&\") \"&H725&\"-\"&I725","v":"MRS 10574 Stars at Noon (05.10.2023) - Margaret Qualley (23.10.1994) 28-347"}]
["tt13281554","nm4960279",{"$f":"_xlfn.XLOOKUP($A726,_xlfn.CHOOSECOLS(_xlfn.ANCHORARRAY(Filme!$G$1),2),_xlfn.CHOOSECOLS(_xlfn.ANCHORARRAY(Filme!$G$1),3),\"\",0,2)","v":"Maid"},{"$f":"_xlfn.XLOOKUP($A726,_xlfn.CHOOSECOLS(_xlfn.ANCHORARRAY(Filme!$G$1),2),_xlfn.CHOOSECOLS(_xlfn.ANCHORARRAY(Filme!$G$1),4),\"\",0,2)","v":"2021-10-01"},{"$f":"_xlfn.XLOOKUP($B726,_xlfn.CHOOSECOLS(_xlfn.ANCHORARRAY(Leute!$F$1),2),_xlfn.CHOOSECOLS(_xlfn.ANCHORARRAY(Leute!$F$1),3),\"x\",0,2)","v":"Margaret Qualley"},{"$f":"_xlfn.XLOOKUP($B726,_xlfn.CHOOSECOLS(_xlfn.ANCHORARRAY(Leute!$F$1),2),_xlfn.CHOOSECOLS(_xlfn.ANCHORARRAY(Leute!$F$1),4),\"x\",0,2)","v":"1994-10-23"},{"$f":"RANK(F726,F$1:F726,0)","v":9},{"$f":"DATEDIF(F726,D726,\"Y\")","v":26},{"$f":"DATEDIF(F726,D726,\"YD\")","v":343},{"$f":"D726-F726","v":9840},{"$f":"\"MRS \"&TEXT(J726,\"00000\")&\" \"&SUBSTITUTE(C726,\":\",\"\")&\" (\"&TEXT(D726,\"TT.MM.JJJJ\")&\") - \"&E726&\" (\"&TEXT(F726,\"TT.MM.JJJJ\")&\") \"&H726&\"-\"&I726","v":"MRS 09840 Maid (01.10.2021) - Margaret Qualley (23.10.1994) 26-343"}]
["tt13334024","nm4960279",{"$f":"_xlfn.XLOOKUP($A727,_xlfn.CHOOSECOLS(_xlfn.ANCHORARRAY(Filme!$G$1),2),_xlfn.CHOOSECOLS(_xlfn.ANCHORARRAY(Filme!$G$1),3),\"\",0,2)","v":"Rainsford: Love Me Like You Hate Me"},{"$f":"_xlfn.XLOOKUP($A727,_xlfn.CHOOSECOLS(_xlfn.ANCHORARRAY(Filme!$G$1),2),_xlfn.CHOOSECOLS(_xlfn.ANCHORARRAY(Filme!$G$1),4),\"\",0,2)","v":"2020-10-24"},{"$f":"_xlfn.XLOOKUP($B727,_xlfn.CHOOSECOLS(_xlfn.ANCHORARRAY(Leute!$F$1),2),_xlfn.CHOOSECOLS(_xlfn.ANCHORARRAY(Leute!$F$1),3),\"x\",0,2)","v":"Margaret Qualley"},{"$f":"_xlfn.XLOOKUP($B727,_xlfn.CHOOSECOLS(_xlfn.ANCHORARRAY(Leute!$F$1),2),_xlfn.CHOOSECOLS(_xlfn.ANCHORARRAY(Leute!$F$1),4),\"x\",0,2)","v":"1994-10-23"},{"$f":"RANK(F727,F$1:F727,0)","v":9},{"$f":"DATEDIF(F727,D727,\"Y\")","v":26},{"$f":"DATEDIF(F727,D727,\"YD\")","v":1},{"$f":"D727-F727","v":9498},{"$f":"\"MRS \"&TEXT(J727,\"00000\")&\" \"&SUBSTITUTE(C727,\":\",\"\")&\" (\"&TEXT(D727,\"TT.MM.JJJJ\")&\") - \"&E727&\" (\"&TEXT(F727,\"TT.MM.JJJJ\")&\") \"&H727&\"-\"&I727","v":"MRS 09498 Rainsford Love Me Like You Hate Me (24.10.2020) - Margaret Qualley (23.10.1994) 26-1"}]
["tt17526714","nm4960279",{"$f":"_xlfn.XLOOKUP($A728,_xlfn.CHOOSECOLS(_xlfn.ANCHORARRAY(Filme!$G$1),2),_xlfn.CHOOSECOLS(_xlfn.ANCHORARRAY(Filme!$G$1),3),\"\",0,2)","v":"The Substance"},{"$f":"_xlfn.XLOOKUP($A728,_xlfn.CHOOSECOLS(_xlfn.ANCHORARRAY(Filme!$G$1),2),_xlfn.CHOOSECOLS(_xlfn.ANCHORARRAY(Filme!$G$1),4),\"\",0,2)","v":"2024-09-19"},{"$f":"_xlfn.XLOOKUP($B728,_xlfn.CHOOSECOLS(_xlfn.ANCHORARRAY(Leute!$F$1),2),_xlfn.CHOOSECOLS(_xlfn.ANCHORARRAY(Leute!$F$1),3),\"x\",0,2)","v":"Margaret Qualley"},{"$f":"_xlfn.XLOOKUP($B728,_xlfn.CHOOSECOLS(_xlfn.ANCHORARRAY(Leute!$F$1),2),_xlfn.CHOOSECOLS(_xlfn.ANCHORARRAY(Leute!$F$1),4),\"x\",0,2)","v":"1994-10-23"},{"$f":"RANK(F728,F$1:F728,0)","v":9},{"$f":"DATEDIF(F728,D728,\"Y\")","v":29},{"$f":"DATEDIF(F728,D728,\"YD\")","v":331},{"$f":"D728-F728","v":10924},{"$f":"\"MRS \"&TEXT(J728,\"00000\")&\" \"&SUBSTITUTE(C728,\":\",\"\")&\" (\"&TEXT(D728,\"TT.MM.JJJJ\")&\") - \"&E728&\" (\"&TEXT(F728,\"TT.MM.JJJJ\")&\") \"&H728&\"-\"&I728","v":"MRS 10924 The Substance (19.09.2024) - Margaret Qualley (23.10.1994) 29-331"}]
["tt19356262","nm4960279",{"$f":"_xlfn.XLOOKUP($A729,_xlfn.CHOOSECOLS(_xlfn.ANCHORARRAY(Filme!$G$1),2),_xlfn.CHOOSECOLS(_xlfn.ANCHORARRAY(Filme!$G$1),3),\"\",0,2)","v":"Drive-Away Dolls"},{"$f":"_xlfn.XLOOKUP($A729,_xlfn.CHOOSECOLS(_xlfn.ANCHORARRAY(Filme!$G$1),2),_xlfn.CHOOSECOLS(_xlfn.ANCHORARRAY(Filme!$G$1),4),\"\",0,2)","v":"2024-03-07"},{"$f":"_xlfn.XLOOKUP($B729,_xlfn.CHOOSECOLS(_xlfn.ANCHORARRAY(Leute!$F$1),2),_xlfn.CHOOSECOLS(_xlfn.ANCHORARRAY(Leute!$F$1),3),\"x\",0,2)","v":"Margaret Qualley"},{"$f":"_xlfn.XLOOKUP($B729,_xlfn.CHOOSECOLS(_xlfn.ANCHORARRAY(Leute!$F$1),2),_xlfn.CHOOSECOLS(_xlfn.ANCHORARRAY(Leute!$F$1),4),\"x\",0,2)","v":"1994-10-23"},{"$f":"RANK(F729,F$1:F729,0)","v":9},{"$f":"DATEDIF(F729,D729,\"Y\")","v":29},{"$f":"DATEDIF(F729,D729,\"YD\")","v":136},{"$f":"D729-F729","v":10728},{"$f":"\"MRS \"&TEXT(J729,\"00000\")&\" \"&SUBSTITUTE(C729,\":\",\"\")&\" (\"&TEXT(D729,\"TT.MM.JJJJ\")&\") - \"&E729&\" (\"&TEXT(F729,\"TT.MM.JJJJ\")&\") \"&H729&\"-\"&I729","v":"MRS 10728 Drive-Away Dolls (07.03.2024) - Margaret Qualley (23.10.1994) 29-136"}]
["tt22408160","nm4960279",{"$f":"_xlfn.XLOOKUP($A730,_xlfn.CHOOSECOLS(_xlfn.ANCHORARRAY(Filme!$G$1),2),_xlfn.CHOOSECOLS(_xlfn.ANCHORARRAY(Filme!$G$1),3),\"\",0,2)","v":"Kinds of Kindness"},{"$f":"_xlfn.XLOOKUP($A730,_xlfn.CHOOSECOLS(_xlfn.ANCHORARRAY(Filme!$G$1),2),_xlfn.CHOOSECOLS(_xlfn.ANCHORARRAY(Filme!$G$1),4),\"\",0,2)","v":"2024-07-04"},{"$f":"_xlfn.XLOOKUP($B730,_xlfn.CHOOSECOLS(_xlfn.ANCHORARRAY(Leute!$F$1),2),_xlfn.CHOOSECOLS(_xlfn.ANCHORARRAY(Leute!$F$1),3),\"x\",0,2)","v":"Margaret Qualley"},{"$f":"_xlfn.XLOOKUP($B730,_xlfn.CHOOSECOLS(_xlfn.ANCHORARRAY(Leute!$F$1),2),_xlfn.CHOOSECOLS(_xlfn.ANCHORARRAY(Leute!$F$1),4),\"x\",0,2)","v":"1994-10-23"},{"$f":"RANK(F730,F$1:F730,0)","v":9},{"$f":"DATEDIF(F730,D730,\"Y\")","v":29},{"$f":"DATEDIF(F730,D730,\"YD\")","v":254},{"$f":"D730-F730","v":10847},{"$f":"\"MRS \"&TEXT(J730,\"00000\")&\" \"&SUBSTITUTE(C730,\":\",\"\")&\" (\"&TEXT(D730,\"TT.MM.JJJJ\")&\") - \"&E730&\" (\"&TEXT(F730,\"TT.MM.JJJJ\")&\") \"&H730&\"-\"&I730","v":"MRS 10847 Kinds of Kindness (04.07.2024) - Margaret Qualley (23.10.1994) 29-254"}]
["tt30984038","nm4960279",{"$f":"_xlfn.XLOOKUP($A731,_xlfn.CHOOSECOLS(_xlfn.ANCHORARRAY(Filme!$G$1),2),_xlfn.CHOOSECOLS(_xlfn.ANCHORARRAY(Filme!$G$1),3),\"\",0,2)","v":"Bleachers: Tiny Moves"},{"$f":"_xlfn.XLOOKUP($A731,_xlfn.CHOOSECOLS(_xlfn.ANCHORARRAY(Filme!$G$1),2),_xlfn.CHOOSECOLS(_xlfn.ANCHORARRAY(Filme!$G$1),4),\"\",0,2)","v":"2024-01-17"},{"$f":"_xlfn.XLOOKUP($B731,_xlfn.CHOOSECOLS(_xlfn.ANCHORARRAY(Leute!$F$1),2),_xlfn.CHOOSECOLS(_xlfn.ANCHORARRAY(Leute!$F$1),3),\"x\",0,2)","v":"Margaret Qualley"},{"$f":"_xlfn.XLOOKUP($B731,_xlfn.CHOOSECOLS(_xlfn.ANCHORARRAY(Leute!$F$1),2),_xlfn.CHOOSECOLS(_xlfn.ANCHORARRAY(Leute!$F$1),4),\"x\",0,2)","v":"1994-10-23"},{"$f":"RANK(F731,F$1:F731,0)","v":9},{"$f":"DATEDIF(F731,D731,\"Y\")","v":29},{"$f":"DATEDIF(F731,D731,\"YD\")","v":86},{"$f":"D731-F731","v":10678},{"$f":"\"MRS \"&TEXT(J731,\"00000\")&\" \"&SUBSTITUTE(C731,\":\",\"\")&\" (\"&TEXT(D731,\"TT.MM.JJJJ\")&\") - \"&E731&\" (\"&TEXT(F731,\"TT.MM.JJJJ\")&\") \"&H731&\"-\"&I731","v":"MRS 10678 Bleachers Tiny Moves (17.01.2024) - Margaret Qualley (23.10.1994) 29-86"}]
["tt3256226","nm4960279",{"$f":"_xlfn.XLOOKUP($A732,_xlfn.CHOOSECOLS(_xlfn.ANCHORARRAY(Filme!$G$1),2),_xlfn.CHOOSECOLS(_xlfn.ANCHORARRAY(Filme!$G$1),3),\"\",0,2)","v":"IO"},{"$f":"_xlfn.XLOOKUP($A732,_xlfn.CHOOSECOLS(_xlfn.ANCHORARRAY(Filme!$G$1),2),_xlfn.CHOOSECOLS(_xlfn.ANCHORARRAY(Filme!$G$1),4),\"\",0,2)","v":"2019-01-18"},{"$f":"_xlfn.XLOOKUP($B732,_xlfn.CHOOSECOLS(_xlfn.ANCHORARRAY(Leute!$F$1),2),_xlfn.CHOOSECOLS(_xlfn.ANCHORARRAY(Leute!$F$1),3),\"x\",0,2)","v":"Margaret Qualley"},{"$f":"_xlfn.XLOOKUP($B732,_xlfn.CHOOSECOLS(_xlfn.ANCHORARRAY(Leute!$F$1),2),_xlfn.CHOOSECOLS(_xlfn.ANCHORARRAY(Leute!$F$1),4),\"x\",0,2)","v":"1994-10-23"},{"$f":"RANK(F732,F$1:F732,0)","v":9},{"$f":"DATEDIF(F732,D732,\"Y\")","v":24},{"$f":"DATEDIF(F732,D732,\"YD\")","v":87},{"$f":"D732-F732","v":8853},{"$f":"\"MRS \"&TEXT(J732,\"00000\")&\" \"&SUBSTITUTE(C732,\":\",\"\")&\" (\"&TEXT(D732,\"TT.MM.JJJJ\")&\") - \"&E732&\" (\"&TEXT(F732,\"TT.MM.JJJJ\")&\") \"&H732&\"-\"&I732","v":"MRS 08853 IO (18.01.2019) - Margaret Qualley (23.10.1994) 24-87"}]
["tt4513316","nm4960279",{"$f":"_xlfn.XLOOKUP($A733,_xlfn.CHOOSECOLS(_xlfn.ANCHORARRAY(Filme!$G$1),2),_xlfn.CHOOSECOLS(_xlfn.ANCHORARRAY(Filme!$G$1),3),\"\",0,2)","v":"Novitiate"},{"$f":"_xlfn.XLOOKUP($A733,_xlfn.CHOOSECOLS(_xlfn.ANCHORARRAY(Filme!$G$1),2),_xlfn.CHOOSECOLS(_xlfn.ANCHORARRAY(Filme!$G$1),4),\"\",0,2)","v":"2017-09-30"},{"$f":"_xlfn.XLOOKUP($B733,_xlfn.CHOOSECOLS(_xlfn.ANCHORARRAY(Leute!$F$1),2),_xlfn.CHOOSECOLS(_xlfn.ANCHORARRAY(Leute!$F$1),3),\"x\",0,2)","v":"Margaret Qualley"},{"$f":"_xlfn.XLOOKUP($B733,_xlfn.CHOOSECOLS(_xlfn.ANCHORARRAY(Leute!$F$1),2),_xlfn.CHOOSECOLS(_xlfn.ANCHORARRAY(Leute!$F$1),4),\"x\",0,2)","v":"1994-10-23"},{"$f":"RANK(F733,F$1:F733,0)","v":9},{"$f":"DATEDIF(F733,D733,\"Y\")","v":22},{"$f":"DATEDIF(F733,D733,\"YD\")","v":342},{"$f":"D733-F733","v":8378},{"$f":"\"MRS \"&TEXT(J733,\"00000\")&\" \"&SUBSTITUTE(C733,\":\",\"\")&\" (\"&TEXT(D733,\"TT.MM.JJJJ\")&\") - \"&E733&\" (\"&TEXT(F733,\"TT.MM.JJJJ\")&\") \"&H733&\"-\"&I733","v":"MRS 08378 Novitiate (30.09.2017) - Margaret Qualley (23.10.1994) 22-342"}]
["tt7087210","nm4960279",{"$f":"_xlfn.XLOOKUP($A734,_xlfn.CHOOSECOLS(_xlfn.ANCHORARRAY(Filme!$G$1),2),_xlfn.CHOOSECOLS(_xlfn.ANCHORARRAY(Filme!$G$1),3),\"\",0,2)","v":"Donnybrook"},{"$f":"_xlfn.XLOOKUP($A734,_xlfn.CHOOSECOLS(_xlfn.ANCHORARRAY(Filme!$G$1),2),_xlfn.CHOOSECOLS(_xlfn.ANCHORARRAY(Filme!$G$1),4),\"\",0,2)","v":"2019-02-15"},{"$f":"_xlfn.XLOOKUP($B734,_xlfn.CHOOSECOLS(_xlfn.ANCHORARRAY(Leute!$F$1),2),_xlfn.CHOOSECOLS(_xlfn.ANCHORARRAY(Leute!$F$1),3),\"x\",0,2)","v":"Margaret Qualley"},{"$f":"_xlfn.XLOOKUP($B734,_xlfn.CHOOSECOLS(_xlfn.ANCHORARRAY(Leute!$F$1),2),_xlfn.CHOOSECOLS(_xlfn.ANCHORARRAY(Leute!$F$1),4),\"x\",0,2)","v":"1994-10-23"},{"$f":"RANK(F734,F$1:F734,0)","v":9},{"$f":"DATEDIF(F734,D734,\"Y\")","v":24},{"$f":"DATEDIF(F734,D734,\"YD\")","v":115},{"$f":"D734-F734","v":8881},{"$f":"\"MRS \"&TEXT(J734,\"00000\")&\" \"&SUBSTITUTE(C734,\":\",\"\")&\" (\"&TEXT(D734,\"TT.MM.JJJJ\")&\") - \"&E734&\" (\"&TEXT(F734,\"TT.MM.JJJJ\")&\") \"&H734&\"-\"&I734","v":"MRS 08881 Donnybrook (15.02.2019) - Margaret Qualley (23.10.1994) 24-115"}]
["tt18559464","nm5204873",{"$f":"_xlfn.XLOOKUP($A735,_xlfn.CHOOSECOLS(_xlfn.ANCHORARRAY(Filme!$G$1),2),_xlfn.CHOOSECOLS(_xlfn.ANCHORARRAY(Filme!$G$1),3),\"\",0,2)","v":"My Old Ass"},{"$f":"_xlfn.XLOOKUP($A735,_xlfn.CHOOSECOLS(_xlfn.ANCHORARRAY(Filme!$G$1),2),_xlfn.CHOOSECOLS(_xlfn.ANCHORARRAY(Filme!$G$1),4),\"\",0,2)","v":"2024-09-13"},{"$f":"_xlfn.XLOOKUP($B735,_xlfn.CHOOSECOLS(_xlfn.ANCHORARRAY(Leute!$F$1),2),_xlfn.CHOOSECOLS(_xlfn.ANCHORARRAY(Leute!$F$1),3),\"x\",0,2)","v":"Maisy Stella"},{"$f":"_xlfn.XLOOKUP($B735,_xlfn.CHOOSECOLS(_xlfn.ANCHORARRAY(Leute!$F$1),2),_xlfn.CHOOSECOLS(_xlfn.ANCHORARRAY(Leute!$F$1),4),\"x\",0,2)","v":"2003-12-13"},{"$f":"RANK(F735,F$1:F735,0)","v":1},{"$f":"DATEDIF(F735,D735,\"Y\")","v":20},{"$f":"DATEDIF(F735,D735,\"YD\")","v":275},{"$f":"D735-F735","v":7580},{"$f":"\"MRS \"&TEXT(J735,\"00000\")&\" \"&SUBSTITUTE(C735,\":\",\"\")&\" (\"&TEXT(D735,\"TT.MM.JJJJ\")&\") - \"&E735&\" (\"&TEXT(F735,\"TT.MM.JJJJ\")&\") \"&H735&\"-\"&I735","v":"MRS 07580 My Old Ass (13.09.2024) - Maisy Stella (13.12.2003) 20-275"}]
["tt3736868","nm5245722",{"$f":"_xlfn.XLOOKUP($A736,_xlfn.CHOOSECOLS(_xlfn.ANCHORARRAY(Filme!$G$1),2),_xlfn.CHOOSECOLS(_xlfn.ANCHORARRAY(Filme!$G$1),3),\"\",0,2)","v":"Narcos"},{"$f":"_xlfn.XLOOKUP($A736,_xlfn.CHOOSECOLS(_xlfn.ANCHORARRAY(Filme!$G$1),2),_xlfn.CHOOSECOLS(_xlfn.ANCHORARRAY(Filme!$G$1),4),\"\",0,2)","v":"2015-08-28"},{"$f":"_xlfn.XLOOKUP($B736,_xlfn.CHOOSECOLS(_xlfn.ANCHORARRAY(Leute!$F$1),2),_xlfn.CHOOSECOLS(_xlfn.ANCHORARRAY(Leute!$F$1),3),\"x\",0,2)","v":"Adria Arjona"},{"$f":"_xlfn.XLOOKUP($B736,_xlfn.CHOOSECOLS(_xlfn.ANCHORARRAY(Leute!$F$1),2),_xlfn.CHOOSECOLS(_xlfn.ANCHORARRAY(Leute!$F$1),4),\"x\",0,2)","v":"1992-04-25"},{"$f":"RANK(F736,F$1:F736,0)","v":26},{"$f":"DATEDIF(F736,D736,\"Y\")","v":23},{"$f":"DATEDIF(F736,D736,\"YD\")","v":125},{"$f":"D736-F736","v":8525},{"$f":"\"MRS \"&TEXT(J736,\"00000\")&\" \"&SUBSTITUTE(C736,\":\",\"\")&\" (\"&TEXT(D736,\"TT.MM.JJJJ\")&\") - \"&E736&\" (\"&TEXT(F736,\"TT.MM.JJJJ\")&\") \"&H736&\"-\"&I736","v":"MRS 08525 Narcos (28.08.2015) - Adria Arjona (25.04.1992) 23-125"}]
["tt1034415","nm5301405",{"$f":"_xlfn.XLOOKUP($A737,_xlfn.CHOOSECOLS(_xlfn.ANCHORARRAY(Filme!$G$1),2),_xlfn.CHOOSECOLS(_xlfn.ANCHORARRAY(Filme!$G$1),3),\"\",0,2)","v":"Suspiria"},{"$f":"_xlfn.XLOOKUP($A737,_xlfn.CHOOSECOLS(_xlfn.ANCHORARRAY(Filme!$G$1),2),_xlfn.CHOOSECOLS(_xlfn.ANCHORARRAY(Filme!$G$1),4),\"\",0,2)","v":"2018-11-15"},{"$f":"_xlfn.XLOOKUP($B737,_xlfn.CHOOSECOLS(_xlfn.ANCHORARRAY(Leute!$F$1),2),_xlfn.CHOOSECOLS(_xlfn.ANCHORARRAY(Leute!$F$1),3),\"x\",0,2)","v":"Mia Goth"},{"$f":"_xlfn.XLOOKUP($B737,_xlfn.CHOOSECOLS(_xlfn.ANCHORARRAY(Leute!$F$1),2),_xlfn.CHOOSECOLS(_xlfn.ANCHORARRAY(Leute!$F$1),4),\"x\",0,2)","v":"1993-10-25"},{"$f":"RANK(F737,F$1:F737,0)","v":23},{"$f":"DATEDIF(F737,D737,\"Y\")","v":25},{"$f":"DATEDIF(F737,D737,\"YD\")","v":21},{"$f":"D737-F737","v":9152},{"$f":"\"MRS \"&TEXT(J737,\"00000\")&\" \"&SUBSTITUTE(C737,\":\",\"\")&\" (\"&TEXT(D737,\"TT.MM.JJJJ\")&\") - \"&E737&\" (\"&TEXT(F737,\"TT.MM.JJJJ\")&\") \"&H737&\"-\"&I737","v":"MRS 09152 Suspiria (15.11.2018) - Mia Goth (25.10.1993) 25-21"}]
["tt10365998","nm5301405",{"$f":"_xlfn.XLOOKUP($A738,_xlfn.CHOOSECOLS(_xlfn.ANCHORARRAY(Filme!$G$1),2),_xlfn.CHOOSECOLS(_xlfn.ANCHORARRAY(Filme!$G$1),3),\"\",0,2)","v":"Infinity Pool"},{"$f":"_xlfn.XLOOKUP($A738,_xlfn.CHOOSECOLS(_xlfn.ANCHORARRAY(Filme!$G$1),2),_xlfn.CHOOSECOLS(_xlfn.ANCHORARRAY(Filme!$G$1),4),\"\",0,2)","v":"2023-04-20"},{"$f":"_xlfn.XLOOKUP($B738,_xlfn.CHOOSECOLS(_xlfn.ANCHORARRAY(Leute!$F$1),2),_xlfn.CHOOSECOLS(_xlfn.ANCHORARRAY(Leute!$F$1),3),\"x\",0,2)","v":"Mia Goth"},{"$f":"_xlfn.XLOOKUP($B738,_xlfn.CHOOSECOLS(_xlfn.ANCHORARRAY(Leute!$F$1),2),_xlfn.CHOOSECOLS(_xlfn.ANCHORARRAY(Leute!$F$1),4),\"x\",0,2)","v":"1993-10-25"},{"$f":"RANK(F738,F$1:F738,0)","v":23},{"$f":"DATEDIF(F738,D738,\"Y\")","v":29},{"$f":"DATEDIF(F738,D738,\"YD\")","v":177},{"$f":"D738-F738","v":10769},{"$f":"\"MRS \"&TEXT(J738,\"00000\")&\" \"&SUBSTITUTE(C738,\":\",\"\")&\" (\"&TEXT(D738,\"TT.MM.JJJJ\")&\") - \"&E738&\" (\"&TEXT(F738,\"TT.MM.JJJJ\")&\") \"&H738&\"-\"&I738","v":"MRS 10769 Infinity Pool (20.04.2023) - Mia Goth (25.10.1993) 29-177"}]
["tt13560574","nm5301405",{"$f":"_xlfn.XLOOKUP($A739,_xlfn.CHOOSECOLS(_xlfn.ANCHORARRAY(Filme!$G$1),2),_xlfn.CHOOSECOLS(_xlfn.ANCHORARRAY(Filme!$G$1),3),\"\",0,2)","v":"X"},{"$f":"_xlfn.XLOOKUP($A739,_xlfn.CHOOSECOLS(_xlfn.ANCHORARRAY(Filme!$G$1),2),_xlfn.CHOOSECOLS(_xlfn.ANCHORARRAY(Filme!$G$1),4),\"\",0,2)","v":"2022-05-05"},{"$f":"_xlfn.XLOOKUP($B739,_xlfn.CHOOSECOLS(_xlfn.ANCHORARRAY(Leute!$F$1),2),_xlfn.CHOOSECOLS(_xlfn.ANCHORARRAY(Leute!$F$1),3),\"x\",0,2)","v":"Mia Goth"},{"$f":"_xlfn.XLOOKUP($B739,_xlfn.CHOOSECOLS(_xlfn.ANCHORARRAY(Leute!$F$1),2),_xlfn.CHOOSECOLS(_xlfn.ANCHORARRAY(Leute!$F$1),4),\"x\",0,2)","v":"1993-10-25"},{"$f":"RANK(F739,F$1:F739,0)","v":23},{"$f":"DATEDIF(F739,D739,\"Y\")","v":28},{"$f":"DATEDIF(F739,D739,\"YD\")","v":192},{"$f":"D739-F739","v":10419},{"$f":"\"MRS \"&TEXT(J739,\"00000\")&\" \"&SUBSTITUTE(C739,\":\",\"\")&\" (\"&TEXT(D739,\"TT.MM.JJJJ\")&\") - \"&E739&\" (\"&TEXT(F739,\"TT.MM.JJJJ\")&\") \"&H739&\"-\"&I739","v":"MRS 10419 X (05.05.2022) - Mia Goth (25.10.1993) 28-192"}]
["tt18925334","nm5301405",{"$f":"_xlfn.XLOOKUP($A740,_xlfn.CHOOSECOLS(_xlfn.ANCHORARRAY(Filme!$G$1),2),_xlfn.CHOOSECOLS(_xlfn.ANCHORARRAY(Filme!$G$1),3),\"\",0,2)","v":"Pearl"},{"$f":"_xlfn.XLOOKUP($A740,_xlfn.CHOOSECOLS(_xlfn.ANCHORARRAY(Filme!$G$1),2),_xlfn.CHOOSECOLS(_xlfn.ANCHORARRAY(Filme!$G$1),4),\"\",0,2)","v":"2023-06-01"},{"$f":"_xlfn.XLOOKUP($B740,_xlfn.CHOOSECOLS(_xlfn.ANCHORARRAY(Leute!$F$1),2),_xlfn.CHOOSECOLS(_xlfn.ANCHORARRAY(Leute!$F$1),3),\"x\",0,2)","v":"Mia Goth"},{"$f":"_xlfn.XLOOKUP($B740,_xlfn.CHOOSECOLS(_xlfn.ANCHORARRAY(Leute!$F$1),2),_xlfn.CHOOSECOLS(_xlfn.ANCHORARRAY(Leute!$F$1),4),\"x\",0,2)","v":"1993-10-25"},{"$f":"RANK(F740,F$1:F740,0)","v":23},{"$f":"DATEDIF(F740,D740,\"Y\")","v":29},{"$f":"DATEDIF(F740,D740,\"YD\")","v":219},{"$f":"D740-F740","v":10811},{"$f":"\"MRS \"&TEXT(J740,\"00000\")&\" \"&SUBSTITUTE(C740,\":\",\"\")&\" (\"&TEXT(D740,\"TT.MM.JJJJ\")&\") - \"&E740&\" (\"&TEXT(F740,\"TT.MM.JJJJ\")&\") \"&H740&\"-\"&I740","v":"MRS 10811 Pearl (01.06.2023) - Mia Goth (25.10.1993) 29-219"}]
["tt22048412","nm5301405",{"$f":"_xlfn.XLOOKUP($A741,_xlfn.CHOOSECOLS(_xlfn.ANCHORARRAY(Filme!$G$1),2),_xlfn.CHOOSECOLS(_xlfn.ANCHORARRAY(Filme!$G$1),3),\"\",0,2)","v":"MaXXXine"},{"$f":"_xlfn.XLOOKUP($A741,_xlfn.CHOOSECOLS(_xlfn.ANCHORARRAY(Filme!$G$1),2),_xlfn.CHOOSECOLS(_xlfn.ANCHORARRAY(Filme!$G$1),4),\"\",0,2)","v":"2024-07-04"},{"$f":"_xlfn.XLOOKUP($B741,_xlfn.CHOOSECOLS(_xlfn.ANCHORARRAY(Leute!$F$1),2),_xlfn.CHOOSECOLS(_xlfn.ANCHORARRAY(Leute!$F$1),3),\"x\",0,2)","v":"Mia Goth"},{"$f":"_xlfn.XLOOKUP($B741,_xlfn.CHOOSECOLS(_xlfn.ANCHORARRAY(Leute!$F$1),2),_xlfn.CHOOSECOLS(_xlfn.ANCHORARRAY(Leute!$F$1),4),\"x\",0,2)","v":"1993-10-25"},{"$f":"RANK(F741,F$1:F741,0)","v":23},{"$f":"DATEDIF(F741,D741,\"Y\")","v":30},{"$f":"DATEDIF(F741,D741,\"YD\")","v":252},{"$f":"D741-F741","v":11210},{"$f":"\"MRS \"&TEXT(J741,\"00000\")&\" \"&SUBSTITUTE(C741,\":\",\"\")&\" (\"&TEXT(D741,\"TT.MM.JJJJ\")&\") - \"&E741&\" (\"&TEXT(F741,\"TT.MM.JJJJ\")&\") \"&H741&\"-\"&I741","v":"MRS 11210 MaXXXine (04.07.2024) - Mia Goth (25.10.1993) 30-252"}]
["tt2382009","nm5301405",{"$f":"_xlfn.XLOOKUP($A742,_xlfn.CHOOSECOLS(_xlfn.ANCHORARRAY(Filme!$G$1),2),_xlfn.CHOOSECOLS(_xlfn.ANCHORARRAY(Filme!$G$1),3),\"\",0,2)","v":"Nymphomaniac: Vol. II"},{"$f":"_xlfn.XLOOKUP($A742,_xlfn.CHOOSECOLS(_xlfn.ANCHORARRAY(Filme!$G$1),2),_xlfn.CHOOSECOLS(_xlfn.ANCHORARRAY(Filme!$G$1),4),\"\",0,2)","v":"2014-04-03"},{"$f":"_xlfn.XLOOKUP($B742,_xlfn.CHOOSECOLS(_xlfn.ANCHORARRAY(Leute!$F$1),2),_xlfn.CHOOSECOLS(_xlfn.ANCHORARRAY(Leute!$F$1),3),\"x\",0,2)","v":"Mia Goth"},{"$f":"_xlfn.XLOOKUP($B742,_xlfn.CHOOSECOLS(_xlfn.ANCHORARRAY(Leute!$F$1),2),_xlfn.CHOOSECOLS(_xlfn.ANCHORARRAY(Leute!$F$1),4),\"x\",0,2)","v":"1993-10-25"},{"$f":"RANK(F742,F$1:F742,0)","v":23},{"$f":"DATEDIF(F742,D742,\"Y\")","v":20},{"$f":"DATEDIF(F742,D742,\"YD\")","v":160},{"$f":"D742-F742","v":7465},{"$f":"\"MRS \"&TEXT(J742,\"00000\")&\" \"&SUBSTITUTE(C742,\":\",\"\")&\" (\"&TEXT(D742,\"TT.MM.JJJJ\")&\") - \"&E742&\" (\"&TEXT(F742,\"TT.MM.JJJJ\")&\") \"&H742&\"-\"&I742","v":"MRS 07465 Nymphomaniac Vol. II (03.04.2014) - Mia Goth (25.10.1993) 20-160"}]
["tt2580382","nm5301405",{"$f":"_xlfn.XLOOKUP($A743,_xlfn.CHOOSECOLS(_xlfn.ANCHORARRAY(Filme!$G$1),2),_xlfn.CHOOSECOLS(_xlfn.ANCHORARRAY(Filme!$G$1),3),\"\",0,2)","v":"The Survivalist"},{"$f":"_xlfn.XLOOKUP($A743,_xlfn.CHOOSECOLS(_xlfn.ANCHORARRAY(Filme!$G$1),2),_xlfn.CHOOSECOLS(_xlfn.ANCHORARRAY(Filme!$G$1),4),\"\",0,2)","v":"2016-02-12"},{"$f":"_xlfn.XLOOKUP($B743,_xlfn.CHOOSECOLS(_xlfn.ANCHORARRAY(Leute!$F$1),2),_xlfn.CHOOSECOLS(_xlfn.ANCHORARRAY(Leute!$F$1),3),\"x\",0,2)","v":"Mia Goth"},{"$f":"_xlfn.XLOOKUP($B743,_xlfn.CHOOSECOLS(_xlfn.ANCHORARRAY(Leute!$F$1),2),_xlfn.CHOOSECOLS(_xlfn.ANCHORARRAY(Leute!$F$1),4),\"x\",0,2)","v":"1993-10-25"},{"$f":"RANK(F743,F$1:F743,0)","v":23},{"$f":"DATEDIF(F743,D743,\"Y\")","v":22},{"$f":"DATEDIF(F743,D743,\"YD\")","v":110},{"$f":"D743-F743","v":8145},{"$f":"\"MRS \"&TEXT(J743,\"00000\")&\" \"&SUBSTITUTE(C743,\":\",\"\")&\" (\"&TEXT(D743,\"TT.MM.JJJJ\")&\") - \"&E743&\" (\"&TEXT(F743,\"TT.MM.JJJJ\")&\") \"&H743&\"-\"&I743","v":"MRS 08145 The Survivalist (12.02.2016) - Mia Goth (25.10.1993) 22-110"}]
["tt4731136","nm5301405",{"$f":"_xlfn.XLOOKUP($A744,_xlfn.CHOOSECOLS(_xlfn.ANCHORARRAY(Filme!$G$1),2),_xlfn.CHOOSECOLS(_xlfn.ANCHORARRAY(Filme!$G$1),3),\"\",0,2)","v":"A Cure for Wellness"},{"$f":"_xlfn.XLOOKUP($A744,_xlfn.CHOOSECOLS(_xlfn.ANCHORARRAY(Filme!$G$1),2),_xlfn.CHOOSECOLS(_xlfn.ANCHORARRAY(Filme!$G$1),4),\"\",0,2)","v":"2017-02-23"},{"$f":"_xlfn.XLOOKUP($B744,_xlfn.CHOOSECOLS(_xlfn.ANCHORARRAY(Leute!$F$1),2),_xlfn.CHOOSECOLS(_xlfn.ANCHORARRAY(Leute!$F$1),3),\"x\",0,2)","v":"Mia Goth"},{"$f":"_xlfn.XLOOKUP($B744,_xlfn.CHOOSECOLS(_xlfn.ANCHORARRAY(Leute!$F$1),2),_xlfn.CHOOSECOLS(_xlfn.ANCHORARRAY(Leute!$F$1),4),\"x\",0,2)","v":"1993-10-25"},{"$f":"RANK(F744,F$1:F744,0)","v":23},{"$f":"DATEDIF(F744,D744,\"Y\")","v":23},{"$f":"DATEDIF(F744,D744,\"YD\")","v":121},{"$f":"D744-F744","v":8522},{"$f":"\"MRS \"&TEXT(J744,\"00000\")&\" \"&SUBSTITUTE(C744,\":\",\"\")&\" (\"&TEXT(D744,\"TT.MM.JJJJ\")&\") - \"&E744&\" (\"&TEXT(F744,\"TT.MM.JJJJ\")&\") \"&H744&\"-\"&I744","v":"MRS 08522 A Cure for Wellness (23.02.2017) - Mia Goth (25.10.1993) 23-121"}]
["tt4827558","nm5301405",{"$f":"_xlfn.XLOOKUP($A745,_xlfn.CHOOSECOLS(_xlfn.ANCHORARRAY(Filme!$G$1),2),_xlfn.CHOOSECOLS(_xlfn.ANCHORARRAY(Filme!$G$1),3),\"\",0,2)","v":"High Life"},{"$f":"_xlfn.XLOOKUP($A745,_xlfn.CHOOSECOLS(_xlfn.ANCHORARRAY(Filme!$G$1),2),_xlfn.CHOOSECOLS(_xlfn.ANCHORARRAY(Filme!$G$1),4),\"\",0,2)","v":"2019-05-30"},{"$f":"_xlfn.XLOOKUP($B745,_xlfn.CHOOSECOLS(_xlfn.ANCHORARRAY(Leute!$F$1),2),_xlfn.CHOOSECOLS(_xlfn.ANCHORARRAY(Leute!$F$1),3),\"x\",0,2)","v":"Mia Goth"},{"$f":"_xlfn.XLOOKUP($B745,_xlfn.CHOOSECOLS(_xlfn.ANCHORARRAY(Leute!$F$1),2),_xlfn.CHOOSECOLS(_xlfn.ANCHORARRAY(Leute!$F$1),4),\"x\",0,2)","v":"1993-10-25"},{"$f":"RANK(F745,F$1:F745,0)","v":23},{"$f":"DATEDIF(F745,D745,\"Y\")","v":25},{"$f":"DATEDIF(F745,D745,\"YD\")","v":217},{"$f":"D745-F745","v":9348},{"$f":"\"MRS \"&TEXT(J745,\"00000\")&\" \"&SUBSTITUTE(C745,\":\",\"\")&\" (\"&TEXT(D745,\"TT.MM.JJJJ\")&\") - \"&E745&\" (\"&TEXT(F745,\"TT.MM.JJJJ\")&\") \"&H745&\"-\"&I745","v":"MRS 09348 High Life (30.05.2019) - Mia Goth (25.10.1993) 25-217"}]
["tt18258952","nm5315658",{"$f":"_xlfn.XLOOKUP($A746,_xlfn.CHOOSECOLS(_xlfn.ANCHORARRAY(Filme!$G$1),2),_xlfn.CHOOSECOLS(_xlfn.ANCHORARRAY(Filme!$G$1),3),\"\",0,2)","v":"Lioness"},{"$f":"_xlfn.XLOOKUP($A746,_xlfn.CHOOSECOLS(_xlfn.ANCHORARRAY(Filme!$G$1),2),_xlfn.CHOOSECOLS(_xlfn.ANCHORARRAY(Filme!$G$1),4),\"\",0,2)","v":"2023-07-23"},{"$f":"_xlfn.XLOOKUP($B746,_xlfn.CHOOSECOLS(_xlfn.ANCHORARRAY(Leute!$F$1),2),_xlfn.CHOOSECOLS(_xlfn.ANCHORARRAY(Leute!$F$1),3),\"x\",0,2)","v":"Laysla De Oliveira"},{"$f":"_xlfn.XLOOKUP($B746,_xlfn.CHOOSECOLS(_xlfn.ANCHORARRAY(Leute!$F$1),2),_xlfn.CHOOSECOLS(_xlfn.ANCHORARRAY(Leute!$F$1),4),\"x\",0,2)","v":"1992-01-11"},{"$f":"RANK(F746,F$1:F746,0)","v":39},{"$f":"DATEDIF(F746,D746,\"Y\")","v":31},{"$f":"DATEDIF(F746,D746,\"YD\")","v":194},{"$f":"D746-F746","v":11516},{"$f":"\"MRS \"&TEXT(J746,\"00000\")&\" \"&SUBSTITUTE(C746,\":\",\"\")&\" (\"&TEXT(D746,\"TT.MM.JJJJ\")&\") - \"&E746&\" (\"&TEXT(F746,\"TT.MM.JJJJ\")&\") \"&H746&\"-\"&I746","v":"MRS 11516 Lioness (23.07.2023) - Laysla De Oliveira (11.01.1992) 31-194"}]
["tt3250828","nm5397459",{"$f":"_xlfn.XLOOKUP($A747,_xlfn.CHOOSECOLS(_xlfn.ANCHORARRAY(Filme!$G$1),2),_xlfn.CHOOSECOLS(_xlfn.ANCHORARRAY(Filme!$G$1),3),\"\",0,2)","v":"Silent Witness"},{"$f":"_xlfn.XLOOKUP($A747,_xlfn.CHOOSECOLS(_xlfn.ANCHORARRAY(Filme!$G$1),2),_xlfn.CHOOSECOLS(_xlfn.ANCHORARRAY(Filme!$G$1),4),\"\",0,2)","v":"2014-01-31"},{"$f":"_xlfn.XLOOKUP($B747,_xlfn.CHOOSECOLS(_xlfn.ANCHORARRAY(Leute!$F$1),2),_xlfn.CHOOSECOLS(_xlfn.ANCHORARRAY(Leute!$F$1),3),\"x\",0,2)","v":"Daisy Ridley"},{"$f":"_xlfn.XLOOKUP($B747,_xlfn.CHOOSECOLS(_xlfn.ANCHORARRAY(Leute!$F$1),2),_xlfn.CHOOSECOLS(_xlfn.ANCHORARRAY(Leute!$F$1),4),\"x\",0,2)","v":"1992-04-10"},{"$f":"RANK(F747,F$1:F747,0)","v":36},{"$f":"DATEDIF(F747,D747,\"Y\")","v":21},{"$f":"DATEDIF(F747,D747,\"YD\")","v":296},{"$f":"D747-F747","v":7966},{"$f":"\"MRS \"&TEXT(J747,\"00000\")&\" \"&SUBSTITUTE(C747,\":\",\"\")&\" (\"&TEXT(D747,\"TT.MM.JJJJ\")&\") - \"&E747&\" (\"&TEXT(F747,\"TT.MM.JJJJ\")&\") \"&H747&\"-\"&I747","v":"MRS 07966 Silent Witness (31.01.2014) - Daisy Ridley (10.04.1992) 21-296"}]
["tt15195758","nm5772354",{"$f":"_xlfn.XLOOKUP($A748,_xlfn.CHOOSECOLS(_xlfn.ANCHORARRAY(Filme!$G$1),2),_xlfn.CHOOSECOLS(_xlfn.ANCHORARRAY(Filme!$G$1),3),\"\",0,2)","v":"Animal Kingdom"},{"$f":"_xlfn.XLOOKUP($A748,_xlfn.CHOOSECOLS(_xlfn.ANCHORARRAY(Filme!$G$1),2),_xlfn.CHOOSECOLS(_xlfn.ANCHORARRAY(Filme!$G$1),4),\"\",0,2)","v":"2022-07-10"},{"$f":"_xlfn.XLOOKUP($B748,_xlfn.CHOOSECOLS(_xlfn.ANCHORARRAY(Leute!$F$1),2),_xlfn.CHOOSECOLS(_xlfn.ANCHORARRAY(Leute!$F$1),3),\"x\",0,2)","v":"Leila George"},{"$f":"_xlfn.XLOOKUP($B748,_xlfn.CHOOSECOLS(_xlfn.ANCHORARRAY(Leute!$F$1),2),_xlfn.CHOOSECOLS(_xlfn.ANCHORARRAY(Leute!$F$1),4),\"x\",0,2)","v":"1992-03-20"},{"$f":"RANK(F748,F$1:F748,0)","v":37},{"$f":"DATEDIF(F748,D748,\"Y\")","v":30},{"$f":"DATEDIF(F748,D748,\"YD\")","v":112},{"$f":"D748-F748","v":11069},{"$f":"\"MRS \"&TEXT(J748,\"00000\")&\" \"&SUBSTITUTE(C748,\":\",\"\")&\" (\"&TEXT(D748,\"TT.MM.JJJJ\")&\") - \"&E748&\" (\"&TEXT(F748,\"TT.MM.JJJJ\")&\") \"&H748&\"-\"&I748","v":"MRS 11069 Animal Kingdom (10.07.2022) - Leila George (20.03.1992) 30-112"}]
["tt18228830","nm5772354",{"$f":"_xlfn.XLOOKUP($A749,_xlfn.CHOOSECOLS(_xlfn.ANCHORARRAY(Filme!$G$1),2),_xlfn.CHOOSECOLS(_xlfn.ANCHORARRAY(Filme!$G$1),3),\"\",0,2)","v":"Disclaimer"},{"$f":"_xlfn.XLOOKUP($A749,_xlfn.CHOOSECOLS(_xlfn.ANCHORARRAY(Filme!$G$1),2),_xlfn.CHOOSECOLS(_xlfn.ANCHORARRAY(Filme!$G$1),4),\"\",0,2)","v":"2024-10-11"},{"$f":"_xlfn.XLOOKUP($B749,_xlfn.CHOOSECOLS(_xlfn.ANCHORARRAY(Leute!$F$1),2),_xlfn.CHOOSECOLS(_xlfn.ANCHORARRAY(Leute!$F$1),3),\"x\",0,2)","v":"Leila George"},{"$f":"_xlfn.XLOOKUP($B749,_xlfn.CHOOSECOLS(_xlfn.ANCHORARRAY(Leute!$F$1),2),_xlfn.CHOOSECOLS(_xlfn.ANCHORARRAY(Leute!$F$1),4),\"x\",0,2)","v":"1992-03-20"},{"$f":"RANK(F749,F$1:F749,0)","v":37},{"$f":"DATEDIF(F749,D749,\"Y\")","v":32},{"$f":"DATEDIF(F749,D749,\"YD\")","v":205},{"$f":"D749-F749","v":11893},{"$f":"\"MRS \"&TEXT(J749,\"00000\")&\" \"&SUBSTITUTE(C749,\":\",\"\")&\" (\"&TEXT(D749,\"TT.MM.JJJJ\")&\") - \"&E749&\" (\"&TEXT(F749,\"TT.MM.JJJJ\")&\") \"&H749&\"-\"&I749","v":"MRS 11893 Disclaimer (11.10.2024) - Leila George (20.03.1992) 32-205"}]
["tt11138512","nm5896355",{"$f":"_xlfn.XLOOKUP($A750,_xlfn.CHOOSECOLS(_xlfn.ANCHORARRAY(Filme!$G$1),2),_xlfn.CHOOSECOLS(_xlfn.ANCHORARRAY(Filme!$G$1),3),\"\",0,2)","v":"The Northman"},{"$f":"_xlfn.XLOOKUP($A750,_xlfn.CHOOSECOLS(_xlfn.ANCHORARRAY(Filme!$G$1),2),_xlfn.CHOOSECOLS(_xlfn.ANCHORARRAY(Filme!$G$1),4),\"\",0,2)","v":"2022-04-28"},{"$f":"_xlfn.XLOOKUP($B750,_xlfn.CHOOSECOLS(_xlfn.ANCHORARRAY(Leute!$F$1),2),_xlfn.CHOOSECOLS(_xlfn.ANCHORARRAY(Leute!$F$1),3),\"x\",0,2)","v":"Anya Taylor-Joy"},{"$f":"_xlfn.XLOOKUP($B750,_xlfn.CHOOSECOLS(_xlfn.ANCHORARRAY(Leute!$F$1),2),_xlfn.CHOOSECOLS(_xlfn.ANCHORARRAY(Leute!$F$1),4),\"x\",0,2)","v":"1996-04-16"},{"$f":"RANK(F750,F$1:F750,0)","v":8},{"$f":"DATEDIF(F750,D750,\"Y\")","v":26},{"$f":"DATEDIF(F750,D750,\"YD\")","v":12},{"$f":"D750-F750","v":9508},{"$f":"\"MRS \"&TEXT(J750,\"00000\")&\" \"&SUBSTITUTE(C750,\":\",\"\")&\" (\"&TEXT(D750,\"TT.MM.JJJJ\")&\") - \"&E750&\" (\"&TEXT(F750,\"TT.MM.JJJJ\")&\") \"&H750&\"-\"&I750","v":"MRS 09508 The Northman (28.04.2022) - Anya Taylor-Joy (16.04.1996) 26-12"}]
["tt15398776","nm6073955",{"$f":"_xlfn.XLOOKUP($A751,_xlfn.CHOOSECOLS(_xlfn.ANCHORARRAY(Filme!$G$1),2),_xlfn.CHOOSECOLS(_xlfn.ANCHORARRAY(Filme!$G$1),3),\"\",0,2)","v":"Oppenheimer"},{"$f":"_xlfn.XLOOKUP($A751,_xlfn.CHOOSECOLS(_xlfn.ANCHORARRAY(Filme!$G$1),2),_xlfn.CHOOSECOLS(_xlfn.ANCHORARRAY(Filme!$G$1),4),\"\",0,2)","v":"2023-07-20"},{"$f":"_xlfn.XLOOKUP($B751,_xlfn.CHOOSECOLS(_xlfn.ANCHORARRAY(Leute!$F$1),2),_xlfn.CHOOSECOLS(_xlfn.ANCHORARRAY(Leute!$F$1),3),\"x\",0,2)","v":"Florence Pugh"},{"$f":"_xlfn.XLOOKUP($B751,_xlfn.CHOOSECOLS(_xlfn.ANCHORARRAY(Leute!$F$1),2),_xlfn.CHOOSECOLS(_xlfn.ANCHORARRAY(Leute!$F$1),4),\"x\",0,2)","v":"1996-01-03"},{"$f":"RANK(F751,F$1:F751,0)","v":11},{"$f":"DATEDIF(F751,D751,\"Y\")","v":27},{"$f":"DATEDIF(F751,D751,\"YD\")","v":199},{"$f":"D751-F751","v":10060},{"$f":"\"MRS \"&TEXT(J751,\"00000\")&\" \"&SUBSTITUTE(C751,\":\",\"\")&\" (\"&TEXT(D751,\"TT.MM.JJJJ\")&\") - \"&E751&\" (\"&TEXT(F751,\"TT.MM.JJJJ\")&\") \"&H751&\"-\"&I751","v":"MRS 10060 Oppenheimer (20.07.2023) - Florence Pugh (03.01.1996) 27-199"}]
["tt4291600","nm6073955",{"$f":"_xlfn.XLOOKUP($A752,_xlfn.CHOOSECOLS(_xlfn.ANCHORARRAY(Filme!$G$1),2),_xlfn.CHOOSECOLS(_xlfn.ANCHORARRAY(Filme!$G$1),3),\"\",0,2)","v":"Lady Macbeth"},{"$f":"_xlfn.XLOOKUP($A752,_xlfn.CHOOSECOLS(_xlfn.ANCHORARRAY(Filme!$G$1),2),_xlfn.CHOOSECOLS(_xlfn.ANCHORARRAY(Filme!$G$1),4),\"\",0,2)","v":"2017-11-02"},{"$f":"_xlfn.XLOOKUP($B752,_xlfn.CHOOSECOLS(_xlfn.ANCHORARRAY(Leute!$F$1),2),_xlfn.CHOOSECOLS(_xlfn.ANCHORARRAY(Leute!$F$1),3),\"x\",0,2)","v":"Florence Pugh"},{"$f":"_xlfn.XLOOKUP($B752,_xlfn.CHOOSECOLS(_xlfn.ANCHORARRAY(Leute!$F$1),2),_xlfn.CHOOSECOLS(_xlfn.ANCHORARRAY(Leute!$F$1),4),\"x\",0,2)","v":"1996-01-03"},{"$f":"RANK(F752,F$1:F752,0)","v":11},{"$f":"DATEDIF(F752,D752,\"Y\")","v":21},{"$f":"DATEDIF(F752,D752,\"YD\")","v":304},{"$f":"D752-F752","v":7974},{"$f":"\"MRS \"&TEXT(J752,\"00000\")&\" \"&SUBSTITUTE(C752,\":\",\"\")&\" (\"&TEXT(D752,\"TT.MM.JJJJ\")&\") - \"&E752&\" (\"&TEXT(F752,\"TT.MM.JJJJ\")&\") \"&H752&\"-\"&I752","v":"MRS 07974 Lady Macbeth (02.11.2017) - Florence Pugh (03.01.1996) 21-304"}]
["tt5507800","nm6073955",{"$f":"_xlfn.XLOOKUP($A753,_xlfn.CHOOSECOLS(_xlfn.ANCHORARRAY(Filme!$G$1),2),_xlfn.CHOOSECOLS(_xlfn.ANCHORARRAY(Filme!$G$1),3),\"\",0,2)","v":"Marcella"},{"$f":"_xlfn.XLOOKUP($A753,_xlfn.CHOOSECOLS(_xlfn.ANCHORARRAY(Filme!$G$1),2),_xlfn.CHOOSECOLS(_xlfn.ANCHORARRAY(Filme!$G$1),4),\"\",0,2)","v":"2016-08-01"},{"$f":"_xlfn.XLOOKUP($B753,_xlfn.CHOOSECOLS(_xlfn.ANCHORARRAY(Leute!$F$1),2),_xlfn.CHOOSECOLS(_xlfn.ANCHORARRAY(Leute!$F$1),3),\"x\",0,2)","v":"Florence Pugh"},{"$f":"_xlfn.XLOOKUP($B753,_xlfn.CHOOSECOLS(_xlfn.ANCHORARRAY(Leute!$F$1),2),_xlfn.CHOOSECOLS(_xlfn.ANCHORARRAY(Leute!$F$1),4),\"x\",0,2)","v":"1996-01-03"},{"$f":"RANK(F753,F$1:F753,0)","v":11},{"$f":"DATEDIF(F753,D753,\"Y\")","v":20},{"$f":"DATEDIF(F753,D753,\"YD\")","v":211},{"$f":"D753-F753","v":7516},{"$f":"\"MRS \"&TEXT(J753,\"00000\")&\" \"&SUBSTITUTE(C753,\":\",\"\")&\" (\"&TEXT(D753,\"TT.MM.JJJJ\")&\") - \"&E753&\" (\"&TEXT(F753,\"TT.MM.JJJJ\")&\") \"&H753&\"-\"&I753","v":"MRS 07516 Marcella (01.08.2016) - Florence Pugh (03.01.1996) 20-211"}]
["tt6679794","nm6073955",{"$f":"_xlfn.XLOOKUP($A754,_xlfn.CHOOSECOLS(_xlfn.ANCHORARRAY(Filme!$G$1),2),_xlfn.CHOOSECOLS(_xlfn.ANCHORARRAY(Filme!$G$1),3),\"\",0,2)","v":"Outlaw King"},{"$f":"_xlfn.XLOOKUP($A754,_xlfn.CHOOSECOLS(_xlfn.ANCHORARRAY(Filme!$G$1),2),_xlfn.CHOOSECOLS(_xlfn.ANCHORARRAY(Filme!$G$1),4),\"\",0,2)","v":"2018-11-09"},{"$f":"_xlfn.XLOOKUP($B754,_xlfn.CHOOSECOLS(_xlfn.ANCHORARRAY(Leute!$F$1),2),_xlfn.CHOOSECOLS(_xlfn.ANCHORARRAY(Leute!$F$1),3),\"x\",0,2)","v":"Florence Pugh"},{"$f":"_xlfn.XLOOKUP($B754,_xlfn.CHOOSECOLS(_xlfn.ANCHORARRAY(Leute!$F$1),2),_xlfn.CHOOSECOLS(_xlfn.ANCHORARRAY(Leute!$F$1),4),\"x\",0,2)","v":"1996-01-03"},{"$f":"RANK(F754,F$1:F754,0)","v":11},{"$f":"DATEDIF(F754,D754,\"Y\")","v":22},{"$f":"DATEDIF(F754,D754,\"YD\")","v":311},{"$f":"D754-F754","v":8346},{"$f":"\"MRS \"&TEXT(J754,\"00000\")&\" \"&SUBSTITUTE(C754,\":\",\"\")&\" (\"&TEXT(D754,\"TT.MM.JJJJ\")&\") - \"&E754&\" (\"&TEXT(F754,\"TT.MM.JJJJ\")&\") \"&H754&\"-\"&I754","v":"MRS 08346 Outlaw King (09.11.2018) - Florence Pugh (03.01.1996) 22-311"}]
["tt8329696","nm6073955",{"$f":"_xlfn.XLOOKUP($A755,_xlfn.CHOOSECOLS(_xlfn.ANCHORARRAY(Filme!$G$1),2),_xlfn.CHOOSECOLS(_xlfn.ANCHORARRAY(Filme!$G$1),3),\"\",0,2)","v":"The Little Drummer Girl"},{"$f":"_xlfn.XLOOKUP($A755,_xlfn.CHOOSECOLS(_xlfn.ANCHORARRAY(Filme!$G$1),2),_xlfn.CHOOSECOLS(_xlfn.ANCHORARRAY(Filme!$G$1),4),\"\",0,2)","v":"2018-11-21"},{"$f":"_xlfn.XLOOKUP($B755,_xlfn.CHOOSECOLS(_xlfn.ANCHORARRAY(Leute!$F$1),2),_xlfn.CHOOSECOLS(_xlfn.ANCHORARRAY(Leute!$F$1),3),\"x\",0,2)","v":"Florence Pugh"},{"$f":"_xlfn.XLOOKUP($B755,_xlfn.CHOOSECOLS(_xlfn.ANCHORARRAY(Leute!$F$1),2),_xlfn.CHOOSECOLS(_xlfn.ANCHORARRAY(Leute!$F$1),4),\"x\",0,2)","v":"1996-01-03"},{"$f":"RANK(F755,F$1:F755,0)","v":11},{"$f":"DATEDIF(F755,D755,\"Y\")","v":22},{"$f":"DATEDIF(F755,D755,\"YD\")","v":323},{"$f":"D755-F755","v":8358},{"$f":"\"MRS \"&TEXT(J755,\"00000\")&\" \"&SUBSTITUTE(C755,\":\",\"\")&\" (\"&TEXT(D755,\"TT.MM.JJJJ\")&\") - \"&E755&\" (\"&TEXT(F755,\"TT.MM.JJJJ\")&\") \"&H755&\"-\"&I755","v":"MRS 08358 The Little Drummer Girl (21.11.2018) - Florence Pugh (03.01.1996) 22-323"}]
["tt19637052","nm6884042",{"$f":"_xlfn.XLOOKUP($A756,_xlfn.CHOOSECOLS(_xlfn.ANCHORARRAY(Filme!$G$1),2),_xlfn.CHOOSECOLS(_xlfn.ANCHORARRAY(Filme!$G$1),3),\"\",0,2)","v":"Love Lies Bleeding"},{"$f":"_xlfn.XLOOKUP($A756,_xlfn.CHOOSECOLS(_xlfn.ANCHORARRAY(Filme!$G$1),2),_xlfn.CHOOSECOLS(_xlfn.ANCHORARRAY(Filme!$G$1),4),\"\",0,2)","v":"2024-07-18"},{"$f":"_xlfn.XLOOKUP($B756,_xlfn.CHOOSECOLS(_xlfn.ANCHORARRAY(Leute!$F$1),2),_xlfn.CHOOSECOLS(_xlfn.ANCHORARRAY(Leute!$F$1),3),\"x\",0,2)","v":"Katy O'Brian"},{"$f":"_xlfn.XLOOKUP($B756,_xlfn.CHOOSECOLS(_xlfn.ANCHORARRAY(Leute!$F$1),2),_xlfn.CHOOSECOLS(_xlfn.ANCHORARRAY(Leute!$F$1),4),\"x\",0,2)","v":"1989-02-12"},{"$f":"RANK(F756,F$1:F756,0)","v":120},{"$f":"DATEDIF(F756,D756,\"Y\")","v":35},{"$f":"DATEDIF(F756,D756,\"YD\")","v":156},{"$f":"D756-F756","v":12940},{"$f":"\"MRS \"&TEXT(J756,\"00000\")&\" \"&SUBSTITUTE(C756,\":\",\"\")&\" (\"&TEXT(D756,\"TT.MM.JJJJ\")&\") - \"&E756&\" (\"&TEXT(F756,\"TT.MM.JJJJ\")&\") \"&H756&\"-\"&I756","v":"MRS 12940 Love Lies Bleeding (18.07.2024) - Katy O'Brian (12.02.1989) 35-156"}]
["tt15444524","nm7006860",{"$f":"_xlfn.XLOOKUP($A757,_xlfn.CHOOSECOLS(_xlfn.ANCHORARRAY(Filme!$G$1),2),_xlfn.CHOOSECOLS(_xlfn.ANCHORARRAY(Filme!$G$1),3),\"\",0,2)","v":"La legge di Lidia Poët"},{"$f":"_xlfn.XLOOKUP($A757,_xlfn.CHOOSECOLS(_xlfn.ANCHORARRAY(Filme!$G$1),2),_xlfn.CHOOSECOLS(_xlfn.ANCHORARRAY(Filme!$G$1),4),\"\",0,2)","v":"2023-02-15"},{"$f":"_xlfn.XLOOKUP($B757,_xlfn.CHOOSECOLS(_xlfn.ANCHORARRAY(Leute!$F$1),2),_xlfn.CHOOSECOLS(_xlfn.ANCHORARRAY(Leute!$F$1),3),\"x\",0,2)","v":"Matilda De Angelis"},{"$f":"_xlfn.XLOOKUP($B757,_xlfn.CHOOSECOLS(_xlfn.ANCHORARRAY(Leute!$F$1),2),_xlfn.CHOOSECOLS(_xlfn.ANCHORARRAY(Leute!$F$1),4),\"x\",0,2)","v":"1995-09-11"},{"$f":"RANK(F757,F$1:F757,0)","v":16},{"$f":"DATEDIF(F757,D757,\"Y\")","v":27},{"$f":"DATEDIF(F757,D757,\"YD\")","v":157},{"$f":"D757-F757","v":10019},{"$f":"\"MRS \"&TEXT(J757,\"00000\")&\" \"&SUBSTITUTE(C757,\":\",\"\")&\" (\"&TEXT(D757,\"TT.MM.JJJJ\")&\") - \"&E757&\" (\"&TEXT(F757,\"TT.MM.JJJJ\")&\") \"&H757&\"-\"&I757","v":"MRS 10019 La legge di Lidia Poët (15.02.2023) - Matilda De Angelis (11.09.1995) 27-157"}]
["tt27766711","nm7006860",{"$f":"_xlfn.XLOOKUP($A758,_xlfn.CHOOSECOLS(_xlfn.ANCHORARRAY(Filme!$G$1),2),_xlfn.CHOOSECOLS(_xlfn.ANCHORARRAY(Filme!$G$1),3),\"\",0,2)","v":"Citadel"},{"$f":"_xlfn.XLOOKUP($A758,_xlfn.CHOOSECOLS(_xlfn.ANCHORARRAY(Filme!$G$1),2),_xlfn.CHOOSECOLS(_xlfn.ANCHORARRAY(Filme!$G$1),4),\"\",0,2)","v":"2024-10-10"},{"$f":"_xlfn.XLOOKUP($B758,_xlfn.CHOOSECOLS(_xlfn.ANCHORARRAY(Leute!$F$1),2),_xlfn.CHOOSECOLS(_xlfn.ANCHORARRAY(Leute!$F$1),3),\"x\",0,2)","v":"Matilda De Angelis"},{"$f":"_xlfn.XLOOKUP($B758,_xlfn.CHOOSECOLS(_xlfn.ANCHORARRAY(Leute!$F$1),2),_xlfn.CHOOSECOLS(_xlfn.ANCHORARRAY(Leute!$F$1),4),\"x\",0,2)","v":"1995-09-11"},{"$f":"RANK(F758,F$1:F758,0)","v":16},{"$f":"DATEDIF(F758,D758,\"Y\")","v":29},{"$f":"DATEDIF(F758,D758,\"YD\")","v":29},{"$f":"D758-F758","v":10622},{"$f":"\"MRS \"&TEXT(J758,\"00000\")&\" \"&SUBSTITUTE(C758,\":\",\"\")&\" (\"&TEXT(D758,\"TT.MM.JJJJ\")&\") - \"&E758&\" (\"&TEXT(F758,\"TT.MM.JJJJ\")&\") \"&H758&\"-\"&I758","v":"MRS 10622 Citadel (10.10.2024) - Matilda De Angelis (11.09.1995) 29-29"}]
["tt5914642","nm7006860",{"$f":"_xlfn.XLOOKUP($A759,_xlfn.CHOOSECOLS(_xlfn.ANCHORARRAY(Filme!$G$1),2),_xlfn.CHOOSECOLS(_xlfn.ANCHORARRAY(Filme!$G$1),3),\"\",0,2)","v":"Youtopia"},{"$f":"_xlfn.XLOOKUP($A759,_xlfn.CHOOSECOLS(_xlfn.ANCHORARRAY(Filme!$G$1),2),_xlfn.CHOOSECOLS(_xlfn.ANCHORARRAY(Filme!$G$1),4),\"\",0,2)","v":"2022-10-14"},{"$f":"_xlfn.XLOOKUP($B759,_xlfn.CHOOSECOLS(_xlfn.ANCHORARRAY(Leute!$F$1),2),_xlfn.CHOOSECOLS(_xlfn.ANCHORARRAY(Leute!$F$1),3),\"x\",0,2)","v":"Matilda De Angelis"},{"$f":"_xlfn.XLOOKUP($B759,_xlfn.CHOOSECOLS(_xlfn.ANCHORARRAY(Leute!$F$1),2),_xlfn.CHOOSECOLS(_xlfn.ANCHORARRAY(Leute!$F$1),4),\"x\",0,2)","v":"1995-09-11"},{"$f":"RANK(F759,F$1:F759,0)","v":16},{"$f":"DATEDIF(F759,D759,\"Y\")","v":27},{"$f":"DATEDIF(F759,D759,\"YD\")","v":33},{"$f":"D759-F759","v":9895},{"$f":"\"MRS \"&TEXT(J759,\"00000\")&\" \"&SUBSTITUTE(C759,\":\",\"\")&\" (\"&TEXT(D759,\"TT.MM.JJJJ\")&\") - \"&E759&\" (\"&TEXT(F759,\"TT.MM.JJJJ\")&\") \"&H759&\"-\"&I759","v":"MRS 09895 Youtopia (14.10.2022) - Matilda De Angelis (11.09.1995) 27-33"}]
["tt6917272","nm7006860",{"$f":"_xlfn.XLOOKUP($A760,_xlfn.CHOOSECOLS(_xlfn.ANCHORARRAY(Filme!$G$1),2),_xlfn.CHOOSECOLS(_xlfn.ANCHORARRAY(Filme!$G$1),3),\"\",0,2)","v":"Una vita spericolata"},{"$f":"_xlfn.XLOOKUP($A760,_xlfn.CHOOSECOLS(_xlfn.ANCHORARRAY(Filme!$G$1),2),_xlfn.CHOOSECOLS(_xlfn.ANCHORARRAY(Filme!$G$1),4),\"\",0,2)","v":"2018-06-21"},{"$f":"_xlfn.XLOOKUP($B760,_xlfn.CHOOSECOLS(_xlfn.ANCHORARRAY(Leute!$F$1),2),_xlfn.CHOOSECOLS(_xlfn.ANCHORARRAY(Leute!$F$1),3),\"x\",0,2)","v":"Matilda De Angelis"},{"$f":"_xlfn.XLOOKUP($B760,_xlfn.CHOOSECOLS(_xlfn.ANCHORARRAY(Leute!$F$1),2),_xlfn.CHOOSECOLS(_xlfn.ANCHORARRAY(Leute!$F$1),4),\"x\",0,2)","v":"1995-09-11"},{"$f":"RANK(F760,F$1:F760,0)","v":16},{"$f":"DATEDIF(F760,D760,\"Y\")","v":22},{"$f":"DATEDIF(F760,D760,\"YD\")","v":284},{"$f":"D760-F760","v":8319},{"$f":"\"MRS \"&TEXT(J760,\"00000\")&\" \"&SUBSTITUTE(C760,\":\",\"\")&\" (\"&TEXT(D760,\"TT.MM.JJJJ\")&\") - \"&E760&\" (\"&TEXT(F760,\"TT.MM.JJJJ\")&\") \"&H760&\"-\"&I760","v":"MRS 08319 Una vita spericolata (21.06.2018) - Matilda De Angelis (11.09.1995) 22-284"}]
["tt9104094","nm7006860",{"$f":"_xlfn.XLOOKUP($A761,_xlfn.CHOOSECOLS(_xlfn.ANCHORARRAY(Filme!$G$1),2),_xlfn.CHOOSECOLS(_xlfn.ANCHORARRAY(Filme!$G$1),3),\"\",0,2)","v":"Leonardo"},{"$f":"_xlfn.XLOOKUP($A761,_xlfn.CHOOSECOLS(_xlfn.ANCHORARRAY(Filme!$G$1),2),_xlfn.CHOOSECOLS(_xlfn.ANCHORARRAY(Filme!$G$1),4),\"\",0,2)","v":"2021-03-23"},{"$f":"_xlfn.XLOOKUP($B761,_xlfn.CHOOSECOLS(_xlfn.ANCHORARRAY(Leute!$F$1),2),_xlfn.CHOOSECOLS(_xlfn.ANCHORARRAY(Leute!$F$1),3),\"x\",0,2)","v":"Matilda De Angelis"},{"$f":"_xlfn.XLOOKUP($B761,_xlfn.CHOOSECOLS(_xlfn.ANCHORARRAY(Leute!$F$1),2),_xlfn.CHOOSECOLS(_xlfn.ANCHORARRAY(Leute!$F$1),4),\"x\",0,2)","v":"1995-09-11"},{"$f":"RANK(F761,F$1:F761,0)","v":16},{"$f":"DATEDIF(F761,D761,\"Y\")","v":25},{"$f":"DATEDIF(F761,D761,\"YD\")","v":194},{"$f":"D761-F761","v":9325},{"$f":"\"MRS \"&TEXT(J761,\"00000\")&\" \"&SUBSTITUTE(C761,\":\",\"\")&\" (\"&TEXT(D761,\"TT.MM.JJJJ\")&\") - \"&E761&\" (\"&TEXT(F761,\"TT.MM.JJJJ\")&\") \"&H761&\"-\"&I761","v":"MRS 09325 Leonardo (23.03.2021) - Matilda De Angelis (11.09.1995) 25-194"}]
["tt9256866","nm7006860",{"$f":"_xlfn.XLOOKUP($A762,_xlfn.CHOOSECOLS(_xlfn.ANCHORARRAY(Filme!$G$1),2),_xlfn.CHOOSECOLS(_xlfn.ANCHORARRAY(Filme!$G$1),3),\"\",0,2)","v":"The Undoing"},{"$f":"_xlfn.XLOOKUP($A762,_xlfn.CHOOSECOLS(_xlfn.ANCHORARRAY(Filme!$G$1),2),_xlfn.CHOOSECOLS(_xlfn.ANCHORARRAY(Filme!$G$1),4),\"\",0,2)","v":"2020-11-30"},{"$f":"_xlfn.XLOOKUP($B762,_xlfn.CHOOSECOLS(_xlfn.ANCHORARRAY(Leute!$F$1),2),_xlfn.CHOOSECOLS(_xlfn.ANCHORARRAY(Leute!$F$1),3),\"x\",0,2)","v":"Matilda De Angelis"},{"$f":"_xlfn.XLOOKUP($B762,_xlfn.CHOOSECOLS(_xlfn.ANCHORARRAY(Leute!$F$1),2),_xlfn.CHOOSECOLS(_xlfn.ANCHORARRAY(Leute!$F$1),4),\"x\",0,2)","v":"1995-09-11"},{"$f":"RANK(F762,F$1:F762,0)","v":16},{"$f":"DATEDIF(F762,D762,\"Y\")","v":25},{"$f":"DATEDIF(F762,D762,\"YD\")","v":80},{"$f":"D762-F762","v":9212},{"$f":"\"MRS \"&TEXT(J762,\"00000\")&\" \"&SUBSTITUTE(C762,\":\",\"\")&\" (\"&TEXT(D762,\"TT.MM.JJJJ\")&\") - \"&E762&\" (\"&TEXT(F762,\"TT.MM.JJJJ\")&\") \"&H762&\"-\"&I762","v":"MRS 09212 The Undoing (30.11.2020) - Matilda De Angelis (11.09.1995) 25-80"}]
["tt20415224","nm7248827",{"$f":"_xlfn.XLOOKUP($A763,_xlfn.CHOOSECOLS(_xlfn.ANCHORARRAY(Filme!$G$1),2),_xlfn.CHOOSECOLS(_xlfn.ANCHORARRAY(Filme!$G$1),3),\"\",0,2)","v":"Drift"},{"$f":"_xlfn.XLOOKUP($A763,_xlfn.CHOOSECOLS(_xlfn.ANCHORARRAY(Filme!$G$1),2),_xlfn.CHOOSECOLS(_xlfn.ANCHORARRAY(Filme!$G$1),4),\"\",0,2)","v":"2024-03-26"},{"$f":"_xlfn.XLOOKUP($B763,_xlfn.CHOOSECOLS(_xlfn.ANCHORARRAY(Leute!$F$1),2),_xlfn.CHOOSECOLS(_xlfn.ANCHORARRAY(Leute!$F$1),3),\"x\",0,2)","v":"Cynthia Erivo"},{"$f":"_xlfn.XLOOKUP($B763,_xlfn.CHOOSECOLS(_xlfn.ANCHORARRAY(Leute!$F$1),2),_xlfn.CHOOSECOLS(_xlfn.ANCHORARRAY(Leute!$F$1),4),\"x\",0,2)","v":"1987-01-08"},{"$f":"RANK(F763,F$1:F763,0)","v":184},{"$f":"DATEDIF(F763,D763,\"Y\")","v":37},{"$f":"DATEDIF(F763,D763,\"YD\")","v":77},{"$f":"D763-F763","v":13592},{"$f":"\"MRS \"&TEXT(J763,\"00000\")&\" \"&SUBSTITUTE(C763,\":\",\"\")&\" (\"&TEXT(D763,\"TT.MM.JJJJ\")&\") - \"&E763&\" (\"&TEXT(F763,\"TT.MM.JJJJ\")&\") \"&H763&\"-\"&I763","v":"MRS 13592 Drift (26.03.2024) - Cynthia Erivo (08.01.1987) 37-77"}]
["tt11033898","nm8314228",{"$f":"_xlfn.XLOOKUP($A764,_xlfn.CHOOSECOLS(_xlfn.ANCHORARRAY(Filme!$G$1),2),_xlfn.CHOOSECOLS(_xlfn.ANCHORARRAY(Filme!$G$1),3),\"\",0,2)","v":"Mare of Easttown"},{"$f":"_xlfn.XLOOKUP($A764,_xlfn.CHOOSECOLS(_xlfn.ANCHORARRAY(Filme!$G$1),2),_xlfn.CHOOSECOLS(_xlfn.ANCHORARRAY(Filme!$G$1),4),\"\",0,2)","v":"2021-05-21"},{"$f":"_xlfn.XLOOKUP($B764,_xlfn.CHOOSECOLS(_xlfn.ANCHORARRAY(Leute!$F$1),2),_xlfn.CHOOSECOLS(_xlfn.ANCHORARRAY(Leute!$F$1),3),\"x\",0,2)","v":"Cailee Spaeny"},{"$f":"_xlfn.XLOOKUP($B764,_xlfn.CHOOSECOLS(_xlfn.ANCHORARRAY(Leute!$F$1),2),_xlfn.CHOOSECOLS(_xlfn.ANCHORARRAY(Leute!$F$1),4),\"x\",0,2)","v":"1998-07-24"},{"$f":"RANK(F764,F$1:F764,0)","v":3},{"$f":"DATEDIF(F764,D764,\"Y\")","v":22},{"$f":"DATEDIF(F764,D764,\"YD\")","v":301},{"$f":"D764-F764","v":8337},{"$f":"\"MRS \"&TEXT(J764,\"00000\")&\" \"&SUBSTITUTE(C764,\":\",\"\")&\" (\"&TEXT(D764,\"TT.MM.JJJJ\")&\") - \"&E764&\" (\"&TEXT(F764,\"TT.MM.JJJJ\")&\") \"&H764&\"-\"&I764","v":"MRS 08337 Mare of Easttown (21.05.2021) - Cailee Spaeny (24.07.1998) 22-301"}]
["tt10418594","nm8402992",{"$f":"_xlfn.XLOOKUP($A765,_xlfn.CHOOSECOLS(_xlfn.ANCHORARRAY(Filme!$G$1),2),_xlfn.CHOOSECOLS(_xlfn.ANCHORARRAY(Filme!$G$1),3),\"\",0,2)","v":"Normal People"},{"$f":"_xlfn.XLOOKUP($A765,_xlfn.CHOOSECOLS(_xlfn.ANCHORARRAY(Filme!$G$1),2),_xlfn.CHOOSECOLS(_xlfn.ANCHORARRAY(Filme!$G$1),4),\"\",0,2)","v":"2020-04-26"},{"$f":"_xlfn.XLOOKUP($B765,_xlfn.CHOOSECOLS(_xlfn.ANCHORARRAY(Leute!$F$1),2),_xlfn.CHOOSECOLS(_xlfn.ANCHORARRAY(Leute!$F$1),3),\"x\",0,2)","v":"Daisy Edgar-Jones"},{"$f":"_xlfn.XLOOKUP($B765,_xlfn.CHOOSECOLS(_xlfn.ANCHORARRAY(Leute!$F$1),2),_xlfn.CHOOSECOLS(_xlfn.ANCHORARRAY(Leute!$F$1),4),\"x\",0,2)","v":"1998-05-24"},{"$f":"RANK(F765,F$1:F765,0)","v":4},{"$f":"DATEDIF(F765,D765,\"Y\")","v":21},{"$f":"DATEDIF(F765,D765,\"YD\")","v":337},{"$f":"D765-F765","v":8008},{"$f":"\"MRS \"&TEXT(J765,\"00000\")&\" \"&SUBSTITUTE(C765,\":\",\"\")&\" (\"&TEXT(D765,\"TT.MM.JJJJ\")&\") - \"&E765&\" (\"&TEXT(F765,\"TT.MM.JJJJ\")&\") \"&H765&\"-\"&I765","v":"MRS 08008 Normal People (26.04.2020) - Daisy Edgar-Jones (24.05.1998) 21-337"}]

{"sheet":"Filme","index":1,"n_rows":749,"n_cols":11,"rows_kept":749,"cut":false,"hidden":false,"merged":[]}
["Position","Const","Original Title","Release Date","Title Type",null,{"$f":"_xlfn._xlws.SORT(Filme1[],2)","v":1},"tt0022867","Ekstase",12792,"Film"]
[672,"tt11687002","The Outrun","2024-12-05","Film",null,2,"tt0066096","The Moonshine War",25969,"Film"]
[746,"tt31407487","Cross","2024-11-14","Fernsehepisode",null,3,"tt0068290","Blood from the Mummy's Tomb",26220,"Film"]
[736,"tt23475134","Bad Sisters","2024-11-13","Fernsehepisode",null,4,"tt0076033","First Love",28594,"Film"]
[748,"tt33336389","Lioness","2024-11-10","Fernsehepisode",null,5,"tt0076683","The Sentinel",28257,"Film"]
[500,"tt3234122","Widow Clicquot","2024-11-07","Film",null,6,"tt0079261","Hair",29048,"Film"]
[747,"tt33295778","Lioness","2024-11-03","Fernsehepisode",null,7,"tt0082352","Eyes of a Stranger",29826,"Film"]
[741,"tt27410895","Släpp taget","2024-11-01","Film",null,8,"tt0083929","Fast Times at Ridgemont High",30301,"Film"]
[732,"tt22052952","Rivals","2024-10-18","Fernsehepisode",null,9,"tt0084445","One from the Heart",30224,"Film"]
[716,"tt18228830","Disclaimer","2024-10-11","Fernsehepisode",null,10,"tt0085595","Girls of the White Orchid",30648,"Fernsehfilm"]
[695,"tt14407336","La bête","2024-10-10","Film",null,11,"tt0085995","National Lampoon's Vacation",30841,"Film"]
[743,"tt27766711","Citadel","2024-10-10","Fernsehepisode",null,12,"tt0086973","Blame It on Rio",31107,"Film"]
[726,"tt19864828","Memory","2024-10-03","Film",null,13,"tt0087810","No Small Affair",31184,"Film"]
[744,"tt28991140","Joan","2024-09-29","Fernsehepisode",null,14,"tt0089153","Flesh+Blood",31806,"Film"]
[742,"tt27419292","Killer Heat","2024-09-26","Film",null,15,"tt0090583","About Last Night...",31680,"Film"]
[558,"tt5112584","Lee","2024-09-19","Film",null,16,"tt0090693","Band of the Hand",31736,"Film"]
[715,"tt17526714","The Substance","2024-09-19","Film",null,17,"tt0092220","Windrider",31772,"Film"]
[713,"tt16491682","Agatha All Along","2024-09-18","Fernsehepisode",null,18,"tt0093980","Sister Sister",32268,"Film"]
[685,"tt13457790","The Critic","2024-09-13","Film",null,19,"tt0094087","Sweet Revenge",31836,"Film"]
[720,"tt18559464","My Old Ass","2024-09-13","Film",null,20,"tt0094889","Cocktail",32520,"Film"]
[737,"tt24871974","Subservience","2024-09-13","Film",null,21,"tt0095286","Heart of Midnight",32457,"Film"]
[723,"tt19637052","Love Lies Bleeding","2024-07-18","Film",null,22,"tt0096270","Time Out",32185,"Film"]
[731,"tt22048412","MaXXXine","2024-07-04","Film",null,23,"tt0096824","Another Chance",32633,"Film"]
[735,"tt22408160","Kinds of Kindness","2024-07-04","Film",null,24,"tt0097162","Dead Calm",32716,"Film"]
[689,"tt13651794","May December","2024-05-30","Film",null,25,"tt0097216","Do the Right Thing",32702,"Film"]
[729,"tt21810682","The End We Start From","2024-05-30","Film",null,26,"tt0097714","Last Exit to Brooklyn",32793,"Film"]
[728,"tt20415224","Drift","2024-03-26","Film",null,27,"tt0098625","We're No Angels",32857,"Film"]
[722,"tt19356262","Drive-Away Dolls","2024-03-07","Film",null,28,"tt0099797","The Hot Spot",33255,"Film"]
[727,"tt20412522","Sexy Beast","2024-01-25","Fernsehepisode",null,29,"tt0100143","Miami Blues",33108,"Film"]
[694,"tt14230458","Poor Things","2024-01-18","Film",null,30,"tt0100196","Mountains of the Moon",33003,"Film"]
[738,"tt26047818","Anyone But You","2024-01-18","Film",null,31,"tt0100318","Pacific Heights",33220,"Film"]
[745,"tt30984038","Bleachers: Tiny Moves","2024-01-17","Musik Video",null,32,"tt0101373","At Play in the Fields of the Lord",33955,"Film"]
[710,"tt15768848","The Pod Generation","2024-01-11","Film",null,33,"tt0101393","Backdraft",33472,"Film"]
[635,"tt8258502","Foe","2024-01-05","Film",null,34,"tt0101453","Billy Bathgate",33654,"Film"]
[699,"tt14633464","Desperation Road","2023-12-14","Film",null,35,"tt0101629","Crooked Hearts",33487,"Film"]
[709,"tt15744914","Three Women","2023-12-13","Fernsehepisode",null,36,"tt0101676","Dead Women in Lingerie",33543,"Film"]
[683,"tt13287846","Napoleon","2023-11-23","Film",null,37,"tt0102208","Killer Instinct",33933,"Film"]
[739,"tt26921534","The Morning Show","2023-10-11","Fernsehepisode",null,38,"tt0102329","Lonely Hearts",34258,"Film"]
[657,"tt10354106","Stars at Noon","2023-10-05","Film",null,39,"tt0102685","Point Break",33500,"Film"]
[651,"tt9738716","The World to Come","2023-09-17","Film",null,40,"tt0102820","Rush",33998,"Film"]
[304,"tt0850677","Jack & Diane","2023-09-14","Film",null,41,"tt0103266","Wildflower",35220,"Fernsehfilm"]
[733,"tt22073596","El cuerpo en llamas","2023-09-08","Fernsehepisode",null,42,"tt0103874","Bram Stoker's Dracula",34011,"Film"]
[730,"tt21950462","Visions","2023-09-06","Film",null,43,"tt0105414","Single White Female",33878,"Film"]
[717,"tt18258952","Lioness","2023-07-23","Fernsehepisode",null,44,"tt0105691","Under Suspicion",33794,"Film"]
[705,"tt15398776","Oppenheimer","2023-07-20","Film",null,45,"tt0105812","White Men Can't Jump",33990,"Film"]
[671,"tt11454876","The Pursuit of Love","2023-07-01","Fernsehepisode",null,46,"tt0106639","Cyborg 2: Glass Shadow",34303,"Video"]
[708,"tt15671028","No Hard Feelings","2023-06-22","Film",null,47,"tt0106770","Dragon: The Bruce Lee Story",34137,"Film"]
[608,"tt6875952","Carmen","2023-06-14","Film",null,48,"tt0107211","Indecent Proposal",34109,"Film"]
[721,"tt18925334","Pearl","2023-06-01","Film",null,49,"tt0107449","Love Matters",34245,"Fernsehfilm"]
[707,"tt15532666","Love & Death","2023-05-11","Fernsehepisode",null,50,"tt0107497","Malice",34473,"Film"]
[703,"tt15326988","Ghosted","2023-04-21","Film",null,51,"tt0108169","Snapdragon",34304,"Film"]
[658,"tt10365998","Infinity Pool","2023-04-20","Film",null,52,"tt0108399","True Romance",34361,"Film"]
[718,"tt18265122","The Diplomat","2023-04-20","Fernsehepisode",null,53,"tt0108451","Untamed Heart",34012,"Film"]
[696,"tt14444726","Tár","2023-03-02","Film",null,54,"tt0109686","Dumb and Dumber",34795,"Film"]
[740,"tt26940835","Hot Ones","2023-03-02","Fernsehepisode",null,55,"tt0109702","L'eau froide",34521,"Film"]
[706,"tt15444524","La legge di Lidia Poët","2023-02-15","Fernsehepisode",null,56,"tt0110005","Heavenly Creatures",34711,"Film"]
[704,"tt15333984","Somebody I Used to Know","2023-02-10","Film",null,57,"tt0110588","Mrs. Parker and the Vicious Circle",34907,"Film"]
[719,"tt18376122","Pamela, a Love Story","2023-01-31","Film",null,58,"tt0110712","Of Love and Shadows",34613,"Film"]
[661,"tt10640346","Babylon","2023-01-19","Film",null,59,"tt0110948","Raw Justice",34485,"Film"]
[663,"tt10931784","Nanny","2022-12-16","Film",null,60,"tt0111549","Uncovered",34704,"Film"]
[712,"tt16375606","George & Tammy","2022-12-11","Fernsehepisode",null,61,"tt0111711","Widow's Kiss",38664,"Fernsehfilm"]
[686,"tt13482828","Un beau matin","2022-12-08","Film",null,62,"tt0113158","Georgia",35327,"Film"]
[734,"tt22333372","The White Lotus","2022-12-04","Fernsehepisode",null,63,"tt0113243","Hackers",35229,"Film"]
[714,"tt17202326","Matriarch","2022-11-25","Film",null,64,"tt0113269","Haunted",35033,"Film"]
[693,"tt14148006","Leopard Skin","2022-11-17","Fernsehepisode",null,65,"tt0113690","Lord of Illusions",34936,"Film"]
[662,"tt10730028","Dangerous Liaisons","2022-11-16","Fernsehepisode",null,66,"tt0113926","Naked Souls",35203,"Film"]
[677,"tt12440892","Step Up","2022-11-13","Fernsehepisode",null,67,"tt0114345","The Scarlet Letter",35173,"Film"]
[697,"tt14549466","Crimes of the Future","2022-11-03","Film",null,68,"tt0114436","Showgirls",35089,"Film"]
[702,"tt15219362","Reboot","2022-11-02","Fernsehepisode",null,69,"tt0115438","2 Days in the Valley",35572,"Film"]
[582,"tt5914642","Youtopia","2022-10-14","Film",null,70,"tt0115624","Barb Wire",35362,"Film"]
[392,"tt1655389","Blonde","2022-09-28","Film",null,71,"tt0115736","Bound",35369,"Film"]
[680,"tt12873562","The Invitation","2022-08-25","Film",null,72,"tt0115751","Breaking the Waves",35341,"Film"]
[450,"tt2304637","Flag Day","2022-07-20","Film",null,73,"tt0116032","Darkdrive",37979,"Film"]
[701,"tt15195758","Animal Kingdom","2022-07-10","Fernsehepisode",null,74,"tt0116289","Feeling Minnesota",35321,"Film"]
[724,"tt19838660","Irma Vep","2022-06-20","Fernsehepisode",null,75,"tt0116353","Foxfire",35300,"Film"]
[687,"tt13560574","X","2022-05-05","Film",null,76,"tt0116477","Hamlet",35586,"Film"]
[725,"tt19857674","The Tonight Show Starring Jimmy Fallon","2022-05-03","Fernsehepisode",null,77,"tt0116675","Jaded",36650,"Film"]
[666,"tt11138512","The Northman","2022-04-28","Film",null,78,"tt0116722","Jude",35467,"Film"]
[700,"tt14948318","Made for Love","2022-04-28","Fernsehepisode",null,79,"tt0116778","Kingpin",35376,"Film"]
[424,"tt1929297","Last Moment of Clarity","2022-04-21","Film",null,80,"tt0116922","Lost Highway",35530,"Film"]
[438,"tt2180339","Deep Water","2022-03-18","Film",null,81,"tt0117070","Mojave Moon",35369,"Film"]
[655,"tt9907782","Eight for Silver","2022-02-18","Film",null,82,"tt0117107","Mulholland Falls",35355,"Film"]
[692,"tt14128670","Kimi","2022-02-10","Film",null,83,"tt0117364","The Portrait of a Lady",35439,"Film"]
[711,"tt15792596","Reacher","2022-02-04","Fernsehepisode",null,84,"tt0117737","Stealing Beauty",35334,"Film"]
[690,"tt13848844","Pam & Tommy","2022-02-02","Fernsehepisode",null,85,"tt0117765","Striptease",35292,"Film"]
[688,"tt13613056","Tromperie","2021-12-29","Film",null,86,"tt0117898","This World, Then the Fireworks",35622,"Film"]
[681,"tt12921090","Close to Me","2021-11-07","Fernsehepisode",null,87,"tt0118859","City of Industry",35943,"Film"]
[630,"tt7983894","Ammonite","2021-11-04","Film",null,88,"tt0118971","The Devil's Advocate",35817,"Film"]
[644,"tt8847712","The French Dispatch of the Liberty, Kansas Evening Sun","2021-10-21","Film",null,89,"tt0119042","Eat Your Heart Out",36823,"Film"]
[682,"tt13281554","Maid","2021-10-01","Fernsehepisode",null,90,"tt0119054","Eight Days a Week",36217,"Film"]
[698,"tt14587680","Scenes from a Marriage","2021-09-19","Fernsehepisode",null,91,"tt0119173","G.I. Jane",35852,"Film"]
[668,"tt11235772","The Voyeurs","2021-09-10","Film",null,92,"tt0119342","Héroïnes",35669,"Film"]
[679,"tt12758346","Nine Perfect Strangers","2021-08-25","Fernsehepisode",null,93,"tt0119381","Inventing the Abbotts",36255,"Film"]
[669,"tt11354464","Brand New Cherry Flavor","2021-08-13","Fernsehepisode",null,94,"tt0119517","Your Friends and Neighbors",36028,"Film"]
[691,"tt13868046","The White Lotus","2021-07-18","Fernsehepisode",null,95,"tt0119594","Twilight",36013,"Film"]
[638,"tt8338762","The Nest","2021-07-08","Film",null,96,"tt0119633","Mauvais genre",35620,"Film"]
[673,"tt11723816","Sex/Life","2021-06-25","Fernsehepisode",null,97,"tt0119665","Metroland",36881,"Film"]
[619,"tt7374926","Proxima","2021-06-24","Film",null,98,"tt0119879","Perdita Durango",36097,"Film"]
[641,"tt8419594","Rare Beasts","2021-05-21","Film",null,99,"tt0120338","Titanic",35803,"Film"]
[665,"tt11033898","Mare of Easttown","2021-05-21","Fernsehepisode",null,100,"tt0120663","Eyes Wide Shut",36412,"Film"]
[563,"tt5294522","Dreamland","2021-04-09","Film",null,101,"tt0120797","Pushing Tin",36706,"Film"]
[660,"tt10487972","Little Birds","2021-04-01","Fernsehepisode",null,102,"tt0123865","Gia",36060,"Fernsehfilm"]
[499,"tt3227442","To Whom It May Concern","2021-03-26","Film",null,103,"tt0123923","Jeanne et le garçon formidable",35907,"Film"]
[646,"tt9104094","Leonardo","2021-03-23","Fernsehepisode",null,104,"tt0124315","The Cider House Rules",36601,"Film"]
[674,"tt11734264","Sentinelle","2021-03-05","Film",null,105,"tt0127349","Waking the Dead",36609,"Film"]
[560,"tt5212808","Heavy","2021-02-09","Film",null,106,"tt0127536","Elizabeth",36097,"Film"]
[647,"tt9147456","Endings, Beginnings","2021-02-05","Film",null,107,"tt0129136","Hell's Kitchen",36910,"Film"]
[591,"tt6108178","Disobedience","2021-01-31","Film",null,108,"tt0132165","Flypaper",36359,"Film"]
[607,"tt6857376","Palmer","2021-01-29","Film",null,109,"tt0134057","La riffa",33557,"Film"]
[667,"tt11161474","Pieces of a Woman","2021-01-07","Film",null,110,"tt0136244","Hideous Kinky",36265,"Film"]
[650,"tt9601220","Black Bear","2020-12-04","Film",null,111,"tt0137142","Ostinato destino",33752,"Film"]
[649,"tt9256866","The Undoing","2020-11-30","Fernsehepisode",null,112,"tt0137258","Vita coi figli",33386,"Fernsehfilm"]
[621,"tt7529124","Yellowstone","2020-11-24","Fernsehepisode",null,113,"tt0138279","The 24 Hour Woman",36189,"Film"]
[632,"tt8075156","Yellowstone","2020-11-24","Fernsehepisode",null,114,"tt0138541","Judas Kiss",36273,"Film"]
[664,"tt10994994","Black Narcissus","2020-11-23","Fernsehepisode",null,115,"tt0138946","The Yards",36643,"Film"]
[684,"tt13334024","Rainsford: Love Me Like You Hate Me","2020-10-24","Musik Video",null,116,"tt0139362","High Art",36279,"Film"]
[605,"tt6819848","All Roads to Pearla","2020-09-25","Film",null,117,"tt0140653","L'ultimo capodanno",35860,"Film"]
[410,"tt1780967","Seberg","2020-09-17","Film",null,118,"tt0142911","Thanks of a Grateful Nation",35946,"Fernsehfilm"]
[645,"tt9046346","High Fidelity","2020-09-10","Fernsehepisode",null,119,"tt0144715","Holy Smoke",36520,"Film"]
[678,"tt12680898","Woke","2020-09-09","Fernsehepisode",null,120,"tt0145531","Stigmata",36538,"Film"]
[656,"tt10069528","Perry Mason","2020-07-31","Fernsehepisode",null,121,"tt0149178","Stricken",35687,"Film"]
[676,"tt11877330","Absentia","2020-07-17","Fernsehepisode",null,122,"tt0149898","Black and White",37006,"Film"]
[586,"tt6017756","Radioactive","2020-07-16","Film",null,123,"tt0150340","Divorce: A Contemporary Western",0,"Film"]
[604,"tt6760876","Wasp Network","2020-06-19","Film",null,124,"tt0150464","En plein coeur",36124,"Film"]
[675,"tt11777690","Romance","2020-06-05","Fernsehepisode",null,125,"tt0158062","Pam & Tommy Lee: Stolen Honeymoon",36160,"Video"]
[659,"tt10418594","Normal People","2020-04-26","Fernsehepisode",null,126,"tt0159365","Cold Mountain",38036,"Film"]
[643,"tt8750570","Sergio","2020-04-17","Film",null,127,"tt0160075","Briganti: Amore e libertà",34699,"Film"]
[467,"tt2505294","Ask Me Anything","2020-04-02","Film",null,128,"tt0162677","Summer of Sam",36839,"Film"]
[616,"tt7205316","MILF","2020-03-16","Film",null,129,"tt0162711","Trixie",36756,"Film"]
[620,"tt7456312","The Last Thing He Wanted","2020-02-21","Film",null,130,"tt0163978","The Beach",36573,"Film"]
[629,"tt7979142","The Night Clerk","2020-02-21","Film",null,131,"tt0164212","Under Suspicion",37014,"Film"]
[670,"tt11388406","Horse Girl","2020-02-07","Film",null,132,"tt0166199","Franck Spadone",36726,"Film"]
[594,"tt6219314","The Party's Just Beginning","2019-12-31","Film",null,133,"tt0167925","Fin août, début septembre",36440,"Film"]
[584,"tt6012380","Ordinary Love","2019-12-06","Film",null,134,"tt0168631","Dark Summer",37293,"Film"]
[634,"tt8178486","Earthquake Bird","2019-11-15","Film",null,135,"tt0174480","Autumn in New York",36811,"Film"]
[642,"tt8485364","The Room","2019-11-06","Film",null,136,"tt0180073","Quills",36958,"Film"]
[654,"tt9885684","Mrs. Fletcher","2019-11-03","Fernsehepisode",null,137,"tt0180093","Requiem for a Dream",37259,"Film"]
[633,"tt8135530","Euphoria","2019-10-16","Fernsehepisode",null,138,"tt0181151","What Planet Are You From?",36678,"Film"]
[472,"tt2707810","Submission","2019-09-19","Film",null,139,"tt0184805","Le paradis absolument",34342,"Fernsehfilm"]
[631,"tt8000718","The Operative","2019-08-29","Film",null,140,"tt0184858","Reindeer Games",36867,"Film"]
[539,"tt4426738","Animals","2019-08-02","Film",null,141,"tt0188453","Birthday Girl",37497,"Film"]
[639,"tt8369856","Another Life","2019-07-25","Fernsehepisode",null,142,"tt0203009","Moulin Rouge!",37182,"Film"]
[636,"tt8299506","La casa de papel","2019-07-19","Fernsehepisode",null,143,"tt0203755","One Night at McCool's",37007,"Film"]
[628,"tt7874702","Big Little Lies","2019-07-15","Fernsehepisode",null,144,"tt0205991","Guests of Hotel Astoria",32822,"Film"]
[640,"tt8396294","Darlin'","2019-07-12","Film",null,145,"tt0206226","Psycho Beach Party",37294,"Film"]
[652,"tt9777408","Jett","2019-07-12","Fernsehepisode",null,146,"tt0208911","The King Is Alive",36896,"Film"]
[566,"tt5328006","Phil","2019-07-05","Film",null,147,"tt0209322","Skipped Parts",37231,"Film"]
[553,"tt4827558","High Life","2019-05-30","Film",null,148,"tt0213847","Malèna",36951,"Film"]
[503,"tt3263946","Trial by Fire","2019-05-17","Film",null,149,"tt0216851","Järngänget",37375,"Film"]
[599,"tt6476140","Serenity","2019-05-02","Film",null,150,"tt0217505","Gangs of New York",37672,"Film"]
[571,"tt5460522","Jeremiah Terminator LeRoy","2019-04-26","Film",null,151,"tt0218922","Original Sin",37084,"Film"]
[520,"tt3722062","Bokeh","2019-03-24","Film",null,152,"tt0219822","Human Nature",38148,"Film"]
[615,"tt7087210","Donnybrook","2019-02-15","Film",null,153,"tt0227984","The 51st State",37232,"Film"]
[596,"tt6433832","El árbol de la sangre","2019-02-08","Film",null,154,"tt0230838","Sweet November",37105,"Film"]
[600,"tt6516314","Piercing","2019-02-01","Film",null,155,"tt0234641","La règle de l'homme",34470,"Fernsehfilm"]
[556,"tt5083738","The Favourite","2019-01-24","Film",null,156,"tt0236640","Prozac Nation",37785,"Film"]
[502,"tt3256226","IO","2019-01-18","Film",null,157,"tt0237534","Le pacte des loups",37301,"Film"]
[570,"tt5437928","Colette","2019-01-03","Film",null,158,"tt0242888","The Sleeping Dictionary",37652,"Film"]
[474,"tt2737304","Bird Box","2018-12-21","Film",null,159,"tt0243155","Bridget Jones's Diary",37126,"Film"]
[611,"tt6967186","Escape at Dannemora","2018-12-19","Fernsehepisode",null,160,"tt0245238","Lost and Delirious",37154,"Film"]
[627,"tt7852170","Kidding","2018-12-03","Fernsehepisode",null,161,"tt0247823","Women in Film",36915,"Film"]
[530,"tt4154916","Replicas","2018-11-23","Film",null,162,"tt0250223","Astérix & Obélix : Mission Cléopâtre",37322,"Film"]
[637,"tt8329696","The Little Drummer Girl","2018-11-21","Fernsehepisode",null,163,"tt0257360","About Schmidt",37679,"Film"]
[457,"tt2368254","A Private War","2018-11-16","Film",null,164,"tt0258273","Lovely & Amazing",37470,"Film"]
[319,"tt1034415","Suspiria","2018-11-15","Film",null,165,"tt0259711","Vanilla Sky",37280,"Film"]
[603,"tt6679794","Outlaw King","2018-11-09","Film",null,166,"tt0268126","Adaptation.",37693,"Film"]
[614,"tt7040874","A Simple Favor","2018-11-08","Film",null,167,"tt0269138","De l'amour",36992,"Film"]
[648,"tt9196186","Dior J'adore: The New Absolu","2018-10-28","Video",null,168,"tt0272283","The Safe House",37557,"Fernsehfilm"]
[573,"tt5536610","Private Life","2018-10-05","Film",null,169,"tt0279113","The Good Girl",37498,"Film"]
[622,"tt7542576","All About Nina","2018-09-28","Film",null,170,"tt0280380","Trapped",37707,"Film"]
[559,"tt5160938","Lizzie","2018-09-14","Film",null,171,"tt0280424","Amy's Orgasm",38281,"Film"]
[576,"tt5670152","Traffik","2018-08-31","Film",null,172,"tt0280778","Iris",37392,"Film"]
[606,"tt6852872","Elizabeth Harvest","2018-08-10","Film",null,173,"tt0280970","My Name Is Tanino",37771,"Film"]
[589,"tt6069126","The Escape","2018-08-03","Film",null,174,"tt0285175","Havoc",38641,"Film"]
[514,"tt3563262","Submergence","2018-08-02","Film",null,175,"tt0289635","Young Adam",38330,"Film"]
[595,"tt6306064","Adrift","2018-07-12","Film",null,176,"tt0290095","The Tuxedo",37595,"Film"]
[574,"tt5612280","Sharp Objects","2018-07-09","Fernsehepisode",null,177,"tt0290673","Irréversible",37875,"Film"]
[610,"tt6958014","Duck Butter","2018-07-01","Film",null,178,"tt0292963","Before the Devil Knows You're Dead",39548,"Film"]
[396,"tt1667321","On Chesil Beach","2018-06-21","Film",null,179,"tt0293509","The Piano Player",38142,"Film"]
[609,"tt6917272","Una vita spericolata","2018-06-21","Film",null,180,"tt0294357","Beyond Borders",38043,"Film"]
[623,"tt7558424","Bad Peter","2018-06-21","Kurzfilm",null,181,"tt0300109","The Last Great Wilderness",37750,"Film"]
[626,"tt7834082","I'm Dying Up Here","2018-05-27","Fernsehepisode",null,182,"tt0306047","Scary Movie 3",38043,"Film"]
[624,"tt7578438","Sweetbitter","2018-05-20","Fernsehepisode",null,183,"tt0307058","Midsomer Murders",39259,"Fernsehepisode"]
[625,"tt7740226","Vida","2018-05-20","Fernsehepisode",null,184,"tt0308383","The Human Stain",37973,"Film"]
[588,"tt6055060","Picnic at Hanging Rock","2018-05-06","Fernsehepisode",null,185,"tt0309872","Mon idole",37607,"Film"]
[617,"tt7246778","Legion","2018-05-02","Fernsehepisode",null,186,"tt0309987","The Dreamers",38008,"Film"]
[468,"tt2531344","Blockers","2018-04-12","Film",null,187,"tt0315983","House of Sand and Fog",38400,"Film"]
[581,"tt5903088","Dead on Arrival","2018-03-23","Film",null,188,"tt0318411","The Magdalene Sisters",37630,"Film"]
[484,"tt2873282","Red Sparrow","2018-03-01","Film",null,189,"tt0332280","The Notebook",38232,"Film"]
[568,"tt5362988","Wind River","2018-02-08","Film",null,190,"tt0332452","Troy",38120,"Film"]
[587,"tt6035650","Britannia","2018-01-18","Fernsehepisode",null,191,"tt0337692","On the Road",41186,"Film"]
[578,"tt5715874","The Killing of a Sacred Deer","2017-12-28","Film",null,192,"tt0337876","Birth",38344,"Film"]
[442,"tt2226597","The Mountain Between Us","2017-12-07","Film",null,193,"tt0338097","Head in the Clouds",38309,"Film"]
[554,"tt4848010","Fits and Starts","2017-12-05","Film",null,194,"tt0340855","Monster",38092,"Film"]
[612,"tt6976488","SMILF","2017-11-24","Fernsehepisode",null,195,"tt0342272","Dear Wendy",38631,"Film"]
[618,"tt7255148","SMILF","2017-11-19","Fernsehepisode",null,196,"tt0342735","Manderlay",38666,"Film"]
[593,"tt6211328","Longmire","2017-11-17","Fernsehepisode",null,197,"tt0348333","Waiting...",38632,"Film"]
[598,"tt6472152","The Girlfriend Experience","2017-11-12","Fernsehepisode",null,198,"tt0349340","Dead Bodies",37736,"Film"]
[580,"tt5825052","Tout nous sépare","2017-11-08","Film",null,199,"tt0352520","The Life and Death of Peter Sellers",38470,"Film"]
[535,"tt4291600","Lady Macbeth","2017-11-02","Film",null,200,"tt0356336","Agents secrets",38077,"Film"]
[540,"tt4486986","All I See Is You","2017-10-27","Film",null,201,"tt0356569","Edenquest: Pamela Anderson",0,"Video"]
[420,"tt1856101","Blade Runner 2049","2017-10-05","Film",null,202,"tt0356910","Mr. & Mrs. Smith",38554,"Film"]
[541,"tt4513316","Novitiate","2017-09-30","Film",null,203,"tt0360009","Spartan",38058,"Film"]
[602,"tt6644650","Club de Cuervos","2017-09-29","Fernsehepisode",null,204,"tt0361862","The Machinist",38302,"Film"]
[583,"tt5943674","Transparent","2017-09-22","Fernsehepisode",null,205,"tt0364045","Taking Lives",38085,"Film"]
[569,"tt5426706","The Deuce","2017-09-17","Fernsehepisode",null,206,"tt0366627","The Jacket",38415,"Film"]
[545,"tt4677578","Løvekvinnen","2017-09-14","Film",null,207,"tt0367000","Saint Ange",38161,"Film"]
[557,"tt5109784","Mother!","2017-09-14","Film",null,208,"tt0368343","Three Way",38237,"Film"]
[590,"tt6080486","Better Things","2017-09-14","Fernsehepisode",null,209,"tt0371246","Spanglish",38449,"Film"]
[270,"tt0491203","Tulip Fever","2017-08-24","Film",null,210,"tt0373469","Kiss Kiss Bang Bang",38645,"Film"]
[464,"tt2406566","Atomic Blonde","2017-08-24","Film",null,211,"tt0376479","American Pastoral",42691,"Film"]
[504,"tt3286560","The Last Face","2017-07-28","Film",null,212,"tt0376541","Closer",38365,"Film"]
[575,"tt5666304","The Little Hours","2017-06-30","Film",null,213,"tt0376874","Sexual Life",38157,"Film"]
[585,"tt6016432","GLOW","2017-06-23","Fernsehepisode",null,214,"tt0379306","A Good Woman",38701,"Film"]
[613,"tt6981190","Juste un regard","2017-06-22","Fernsehepisode",null,215,"tt0382189","My Summer of Love",38533,"Film"]
[505,"tt3296908","HHhH","2017-06-07","Film",null,216,"tt0382737","Henry VIII",37906,"Fernsehfilm"]
[518,"tt3704298","Vincent N Roxxy","2017-06-02","Film",null,217,"tt0383028","Synecdoche, New York",39849,"Film"]
[549,"tt4721124","The Exception","2017-06-02","Film",null,218,"tt0388213","Loverboy",38470,"Film"]
[506,"tt3335606","Berlin Syndrome","2017-05-25","Film",null,219,"tt0388795","Brokeback Mountain",38785,"Film"]
[529,"tt4108304","Twin Peaks","2017-05-25","Fernsehepisode",null,220,"tt0389328","Rise",39269,"Film"]
[601,"tt6534368","I Love Dick","2017-05-12","Fernsehepisode",null,221,"tt0396271","When Will I Be Loved",38527,"Film"]
[382,"tt1544608","Voice from the Stone","2017-04-28","Film",null,222,"tt0401792","Sin City",38575,"Film"]
[579,"tt5817022","One Percent More Humid","2017-04-21","Film",null,223,"tt0401855","Underworld: Evolution",38778,"Film"]
[555,"tt4959736","Big Little Lies","2017-04-20","Fernsehepisode",null,224,"tt0402022","Æon Flux",38764,"Film"]
[561,"tt5223488","Fargo","2017-04-20","Fernsehepisode",null,225,"tt0402230","The Great New Wonderful",38464,"Film"]
[552,"tt4817386","Big Little Lies","2017-04-13","Fernsehepisode",null,226,"tt0404203","Little Children",39198,"Film"]
[405,"tt1730768","The Zookeeper's Wife","2017-03-30","Film",null,227,"tt0405422","The 40 Year Old Virgin",38624,"Film"]
[551,"tt4746516","Orpheline","2017-03-29","Film",null,228,"tt0409184","Les poupées russes",38659,"Film"]
[435,"tt2095713","Missionary","2017-03-09","Film",null,229,"tt0409379","In Secret",41732,"Film"]
[565,"tt5313894","Z","2017-03-03","Fernsehepisode",null,230,"tt0409847","Cowboys & Aliens",40780,"Film"]
[550,"tt4731136","A Cure for Wellness","2017-02-23","Film",null,231,"tt0411117","L'annulaire",38511,"Film"]
[439,"tt2186712","Long Nights Short Mornings","2017-01-24","Film",null,232,"tt0413015","Mrs. Henderson Presents",38890,"Film"]
[247,"tt0443474","Crazy","2017-01-19","Film",null,233,"tt0417658","Factotum",38694,"Film"]
[548,"tt4714782","Personal Shopper","2017-01-19","Film",null,234,"tt0417745","Headspace",38613,"Film"]
[352,"tt1355644","Passengers","2017-01-05","Film",null,235,"tt0420555","Combien tu m'aimes?",38960,"Film"]
[577,"tt5711996","Mozart in the Jungle","2016-12-09","Fernsehepisode",null,236,"tt0421054","Domino",38715,"Film"]
[592,"tt6142398","Good Girls Revolt","2016-12-02","Fernsehepisode",null,237,"tt0422295","Fur: An Imaginary Portrait of Diane Arbus",39010,"Film"]
[597,"tt6453808","The Rolling Stones: Ride 'Em on Down","2016-12-01","Musik Video",null,238,"tt0422720","Marie Antoinette",39023,"Film"]
[211,"tt0376479","American Pastoral","2016-11-17","Film",null,239,"tt0423455","Hemingway & Gellhorn",41264,"Fernsehfilm"]
[546,"tt4680196","Planetarium","2016-11-16","Film",null,240,"tt0424205","Joyeux Noël",38680,"Film"]
[517,"tt3631112","The Girl on the Train","2016-10-27","Film",null,241,"tt0425210","Lucky Number Slevin",38772,"Film"]
[509,"tt3503406","The Whole Truth","2016-10-21","Film",null,242,"tt0426883","Alpha Dog",39163,"Film"]
[562,"tt5278098","Goliath","2016-10-14","Fernsehepisode",null,243,"tt0431058","Fatwa",38800,"Film"]
[445,"tt2265534","The Lifeguard","2016-10-02","Film",null,244,"tt0434409","V for Vendetta",38792,"Film"]
[567,"tt5342604","Transparent","2016-09-23","Fernsehepisode",null,245,"tt0439815","Slither",38890,"Film"]
[523,"tt3774114","Snowden","2016-09-22","Film",null,246,"tt0441782","Restraint",39679,"Film"]
[533,"tt4254562","The People Garden","2016-09-12","Film",null,247,"tt0443474","Crazy",42754,"Film"]
[513,"tt3531824","Nerve","2016-09-08","Film",null,248,"tt0447619","Le Concile de Pierre",39036,"Film"]
[481,"tt2823054","Mike and Dave Need Wedding Dates","2016-09-01","Film",null,249,"tt0448564","Irresistible",39030,"Film"]
[411,"tt1781827","Hands of Stone","2016-08-26","Film",null,250,"tt0452594","The Break-Up",38939,"Film"]
[572,"tt5507800","Marcella","2016-08-01","Fernsehepisode",null,251,"tt0452637","Lady in the Water",38960,"Film"]
[515,"tt3591436","Night Owls","2016-07-15","Film",null,252,"tt0452694","The Time Traveler's Wife",40073,"Film"]
[528,"tt4106306","Sky","2016-06-09","Film",null,253,"tt0453467","Deja Vu",39073,"Film"]
[372,"tt1472460","Paint It Black","2016-06-03","Film",null,254,"tt0455824","Australia",39807,"Film"]
[493,"tt3100274","Manhattan Nocturne","2016-05-20","Film",null,255,"tt0455957","Goya's Ghosts",39044,"Film"]
[400,"tt1712261","Triple 9","2016-05-05","Film",null,256,"tt0458481","Sin City: A Dame to Kill For",41900,"Film"]
[271,"tt0493076","Nina","2016-04-22","Film",null,257,"tt0462002","N (Io e Napoleone)",39003,"Film"]
[538,"tt4381070","Vinyl","2016-04-07","Fernsehepisode",null,258,"tt0462200","Black Snake Moan",39268,"Film"]
[480,"tt2818252","Couple in a Hole","2016-04-06","Film",null,259,"tt0462667","Les brigades du Tigre",38819,"Film"]
[365,"tt1433207","The Details","2016-03-26","Film",null,260,"tt0465494","Hitman",39429,"Film"]
[507,"tt3410834","Allegiant","2016-03-17","Film",null,261,"tt0465602","Shoot 'Em Up",39345,"Film"]
[526,"tt3854230","Ascension","2016-03-05","Fernsehepisode",null,262,"tt0469519","Park",39410,"Film"]
[536,"tt4307670","Vinyl","2016-02-28","Fernsehepisode",null,263,"tt0470752","Ex Machina",42117,"Film"]
[469,"tt2580382","The Survivalist","2016-02-12","Film",null,264,"tt0471030","Red Road",39646,"Film"]
[364,"tt1431045","Deadpool","2016-02-11","Film",null,265,"tt0473333","Bosque de sombras",39129,"Film"]
[453,"tt2325977","Strangerland","2016-02-05","Film",null,266,"tt0484881","Puffball",39383,"Film"]
[512,"tt3530978","La corrispondenza","2016-01-14","Film",null,267,"tt0486474","Le serpent",39092,"Film"]
[387,"tt1623745","Little Birds","2016-01-09","Film",null,268,"tt0488085","Big Nothing",39052,"Film"]
[290,"tt0810819","The Danish Girl","2016-01-07","Film",null,269,"tt0488120","Fracture",39219,"Film"]
[542,"tt4550136","The Leftovers","2016-01-01","Fernsehepisode",null,270,"tt0491203","Tulip Fever",42971,"Film"]
[564,"tt5303422","Christina Milian Turned Up","2015-12-22","Fernsehepisode",null,271,"tt0493076","Nina",42482,"Film"]
[463,"tt2402927","Carol","2015-12-17","Film",null,272,"tt0493409","Devil's Den",39012,"Film"]
[495,"tt3136112","Shelter","2015-12-11","Film",null,273,"tt0493464","Wanted",39695,"Film"]
[516,"tt3605418","Knock Knock","2015-12-10","Film",null,274,"tt0494834","Silk",39478,"Film"]
[519,"tt3707106","By the Sea","2015-12-10","Film",null,275,"tt0497972","Sex and Death 101",39500,"Film"]
[544,"tt4652838","Mr. Robot","2015-11-20","Fernsehepisode",null,276,"tt0508628","Alias",38175,"Fernsehepisode"]
[543,"tt4612228","The Beautiful Lie","2015-11-01","Fernsehepisode",null,277,"tt0519777","Battlestar Galactica",39554,"Fernsehepisode"]
[511,"tt3529656","Meadowland","2015-10-23","Film",null,278,"tt0623878","The L Word",38417,"Fernsehepisode"]
[522,"tt3753522","Kingdom","2015-10-09","Fernsehepisode",null,279,"tt0656383","NYPD Blue",34582,"Fernsehepisode"]
[434,"tt2093995","Fort Bliss","2015-10-01","Film",null,280,"tt0698929","Shameless",40931,"Fernsehepisode"]
[537,"tt4379180","Enragés","2015-09-30","Film",null,281,"tt0705238","The Sopranos",36583,"Fernsehepisode"]
[521,"tt3736868","Narcos","2015-08-28","Fernsehepisode",null,282,"tt0757361","Margot at the Wedding",41138,"Film"]
[534,"tt4283372","Tut","2015-08-28","Fernsehepisode",null,283,"tt0758752","Love & Other Drugs",40556,"Film"]
[508,"tt3501014","The Affair","2015-08-14","Fernsehepisode",null,284,"tt0765451","Fugitive Pieces",39898,"Film"]
[379,"tt1528071","Horns","2015-08-06","Film",null,285,"tt0781429","Mes copines",38889,"Film"]
[527,"tt4057170","True Detective","2015-07-19","Fernsehepisode",null,286,"tt0800027","Feast of Love",39353,"Film"]
[487,"tt2962876","The Road Within","2015-06-04","Film",null,287,"tt0800241","Transsiberian",39793,"Film"]
[436,"tt2139555","Playing It Cool","2015-05-08","Film",null,288,"tt0800308","Appaloosa",39724,"Film"]
[525,"tt3780302","Penny Dreadful","2015-05-08","Fernsehepisode",null,289,"tt0808526","Life During Wartime",40284,"Film"]
[452,"tt2312890","Afternoon Delight","2015-05-07","Film",null,290,"tt0810819","The Danish Girl",42376,"Film"]
[473,"tt2726560","The Longest Ride","2015-04-30","Film",null,291,"tt0819714","The Edge of Love",40017,"Film"]
[263,"tt0470752","Ex Machina","2015-04-23","Film",null,292,"tt0819953","L'âge des ténèbres",39351,"Film"]
[490,"tt3021360","Faults","2015-03-06","Film",null,293,"tt0820858","Confessions",39290,"Film"]
[458,"tt2381941","Focus","2015-03-05","Film",null,294,"tt0822833","Mentiras y gordas",39899,"Film"]
[510,"tt3526194","Togetherness","2015-02-08","Fernsehepisode",null,295,"tt0824747","Changeling",39835,"Film"]
[532,"tt4228864","House of Lies","2015-02-08","Fernsehepisode",null,296,"tt0826288","Blade",39272,"Fernsehepisode"]
[531,"tt4214868","SMILF","2015-01-23","Kurzfilm",null,297,"tt0827192","Mes amis, mes amours",40136,"Film"]
[451,"tt2305051","Wild","2015-01-15","Film",null,298,"tt0828158","The Take",39682,"Film"]
[461,"tt2392810","Queen & Country","2015-01-07","Film",null,299,"tt0830515","Quantum of Solace",39758,"Film"]
[466,"tt2495104","Parts Per Billion","2015-01-06","Film",null,300,"tt0831299","I Really Hate My Job",39346,"Film"]
[460,"tt2390994","Loitering with Intent","2014-12-16","Film",null,301,"tt0838247","After.Life",40163,"Film"]
[455,"tt2343793","Third Person","2014-12-04","Film",null,302,"tt0842926","The Kids Are All Right",40500,"Film"]
[497,"tt3203968","The Leftovers","2014-10-24","Fernsehepisode",null,303,"tt0844479","The Collector",40025,"Film"]
[465,"tt2452200","Son of a Gun","2014-10-16","Film",null,304,"tt0850677","Jack & Diane",45183,"Film"]
[446,"tt2267998","Gone Girl","2014-10-02","Film",null,305,"tt0859273","Dexter",39555,"Fernsehepisode"]
[443,"tt2238050","White Bird in a Blizzard","2014-09-25","Film",null,306,"tt0862846","Sunshine Cleaning",39954,"Film"]
[494,"tt3112900","Salomé","2014-09-21","Film",null,307,"tt0864761","The Duchess",39898,"Film"]
[256,"tt0458481","Sin City: A Dame to Kill For","2014-09-18","Film",null,308,"tt0867334","Jolene",39612,"Film"]
[477,"tt2788556","Gemma Bovery","2014-09-18","Film",null,309,"tt0874271","Elsewhere",39828,"Film"]
[489,"tt2991752","Penny Dreadful","2014-09-16","Fernsehepisode",null,310,"tt0899109","Joe's Palace",39390,"Fernsehfilm"]
[492,"tt3099720","Orange Is the New Black","2014-09-16","Fernsehepisode",null,311,"tt0920473","Un baiser s'il vous plaît",39667,"Film"]
[429,"tt1956620","Sex Tape","2014-09-11","Film",null,312,"tt0924129","Crossing Over",39989,"Film"]
[478,"tt2788988","Masters of Sex","2014-08-26","Fernsehepisode",null,313,"tt0946832","Californication",39582,"Fernsehepisode"]
[383,"tt1545754","Are You Here","2014-08-22","Film",null,314,"tt0963794","The Ruins",39625,"Film"]
[476,"tt2764070","Masters of Sex","2014-08-12","Fernsehepisode",null,315,"tt0970468","Miss Pettigrew Lives for a Day",39514,"Film"]
[454,"tt2328696","Among Ravens","2014-07-18","Film",null,316,"tt0976051","The Reader",39870,"Film"]
[498,"tt3220926","The Bridge","2014-07-10","Fernsehepisode",null,317,"tt0993846","The Wolf of Wall Street",41655,"Film"]
[524,"tt3775768","Louie","2014-06-16","Fernsehepisode",null,656,"tt10069528","Perry Mason",44043,"Fernsehepisode"]
[488,"tt2966754","The Ever After","2014-06-12","Film",null,318,"tt1029134","Birds of America",40235,"Film"]
[475,"tt2756910","Pretend We're Kissing","2014-06-08","Film",null,319,"tt1034415","Suspiria",43419,"Film"]
[491,"tt3028412","Por un puñado de besos","2014-05-16","Film",null,657,"tt10354106","Stars at Noon",45204,"Film"]
[479,"tt2790184","True Detective","2014-05-01","Fernsehepisode",null,658,"tt10365998","Infinity Pool",45036,"Film"]
[471,"tt2704380","True Detective","2014-04-24","Fernsehepisode",null,659,"tt10418594","Normal People",43947,"Fernsehepisode"]
[485,"tt2900208","Californication","2014-04-20","Fernsehepisode",null,660,"tt10487972","Little Birds",44287,"Fernsehepisode"]
[229,"tt0409379","In Secret","2014-04-03","Film",null,661,"tt10640346","Babylon",44945,"Film"]
[449,"tt2295750","Des gens qui s'embrassent","2014-04-03","Film",null,320,"tt1068641","The Burning Plain",40689,"Film"]
[459,"tt2382009","Nymphomaniac: Vol. II","2014-04-03","Film",null,662,"tt10730028","Dangerous Liaisons",44881,"Fernsehepisode"]
[369,"tt1441395","Under the Skin","2014-03-14","Film",null,321,"tt1073624","Sanguepazzo",39750,"Film"]
[339,"tt1253863","300: Rise of an Empire","2014-03-06","Film",null,322,"tt1075113","Ne te retourne pas",39967,"Film"]
[413,"tt1800241","American Hustle","2014-02-13","Film",null,323,"tt1079980","Death in Love",40011,"Film"]
[496,"tt3145422","The After","2014-02-06","Fernsehfilm",null,324,"tt1081935","Baarìa",40297,"Film"]
[456,"tt2349740","The Americans","2014-02-05","Fernsehepisode",null,325,"tt1084950","Rachel Getting Married",39905,"Film"]
[501,"tt3250828","Silent Witness","2014-01-31","Fernsehepisode",null,663,"tt10931784","Nanny",44911,"Film"]
[317,"tt0993846","The Wolf of Wall Street","2014-01-16","Film",null,326,"tt1094249","Hotel Chevalier",39450,"Kurzfilm"]
[448,"tt2278871","La vie d'Adèle","2013-12-19","Film",null,664,"tt10994994","Black Narcissus",44158,"Fernsehepisode"]
[349,"tt1321511","Oldboy","2013-12-05","Film",null,665,"tt11033898","Mare of Easttown",44337,"Fernsehepisode"]
[440,"tt2193215","The Counselor","2013-11-28","Film",null,666,"tt11138512","The Northman",44679,"Film"]
[470,"tt2604346","¿Quién mató a Bambi?","2013-11-15","Film",null,667,"tt11161474","Pieces of a Woman",44203,"Film"]
[482,"tt2825926","Dracula","2013-11-15","Fernsehepisode",null,668,"tt11235772","The Voyeurs",44449,"Film"]
[370,"tt1450321","Filth","2013-10-17","Film",null,327,"tt1125849","The Wrestler",39870,"Film"]
[414,"tt1808339","Not Another Happy Ending","2013-10-11","Film",null,328,"tt1130980","Three and Out",39563,"Film"]
[462,"tt2398016","The White Queen","2013-09-30","Fernsehepisode",null,669,"tt11354464","Brand New Cherry Flavor",44421,"Fernsehepisode"]
[342,"tt1272878","2 Guns","2013-09-26","Film",null,670,"tt11388406","Horse Girl",43868,"Film"]
[486,"tt2911556","Person of Interest","2013-09-24","Fernsehepisode",null,671,"tt11454876","The Pursuit of Love",45108,"Fernsehepisode"]
[358,"tt1411250","Riddick","2013-09-19","Film",null,672,"tt11687002","The Outrun",45631,"Film"]
[401,"tt1714206","The Spectacular Now","2013-09-13","Film",null,673,"tt11723816","Sex/Life",44372,"Fernsehepisode"]
[409,"tt1763264","No One Lives","2013-08-30","Film",null,674,"tt11734264","Sentinelle",44260,"Film"]
[425,"tt1929308","Magic Magic","2013-08-28","Film",null,329,"tt1175709","All Good Things",40515,"Film"]
[483,"tt2835548","Grand Central","2013-08-28","Film",null,330,"tt1176251","Gigantic",39983,"Film"]
[444,"tt2265398","Drinking Buddies","2013-07-25","Film",null,675,"tt11777690","Romance",43987,"Fernsehepisode"]
[426,"tt1930546","Arthur Newman","2013-06-13","Film",null,331,"tt1183665","Cracks",40151,"Film"]
[380,"tt1531901","Byzantium","2013-05-31","Film",null,676,"tt11877330","Absentia",44029,"Fernsehepisode"]
[386,"tt1595656","To the Wonder","2013-05-30","Film",null,332,"tt1196340","Inhale",40473,"Film"]
[431,"tt2035630","Starlet","2013-05-09","Film",null,333,"tt1198153","Kirot",40150,"Film"]
[447,"tt2271671","The Moment","2013-04-21","Film",null,334,"tt1202541","L'uomo che ama",39745,"Film"]
[441,"tt2217777","Deep Powder","2013-04-19","Film",null,335,"tt1212450","Lawless",41150,"Film"]
[348,"tt1308729","Bullet to the Head","2013-03-07","Film",null,336,"tt1213921","Love & Savagery",40056,"Film"]
[421,"tt1874434","Blinder","2013-03-07","Film",null,337,"tt1216520","Womb",40640,"Film"]
[415,"tt1811020","Homeland","2013-02-03","Fernsehepisode",null,338,"tt1222329","Wild Cherry",39948,"Film"]
[432,"tt2063666","Hello I Must Be Going","2013-01-31","Film",null,677,"tt12440892","Step Up",44878,"Fernsehepisode"]
[239,"tt0423455","Hemingway & Gellhorn","2012-12-21","Fernsehfilm",null,339,"tt1253863","300: Rise of an Empire",41704,"Film"]
[433,"tt2082715","House of Lies","2012-11-29","Fernsehepisode",null,340,"tt1258120","L'armée du crime",40072,"Film"]
[395,"tt1667310","Deadfall","2012-11-22","Film",null,341,"tt1263778","La belle personne",39703,"Film"]
[418,"tt1850419","Fasle kargadan","2012-10-26","Film",null,678,"tt12680898","Woke",44083,"Fernsehepisode"]
[191,"tt0337692","On the Road","2012-10-04","Film",null,342,"tt1272878","2 Guns",41543,"Film"]
[343,"tt1276104","Looper","2012-10-03","Film",null,679,"tt12758346","Nine Perfect Strangers",44433,"Fernsehepisode"]
[430,"tt1960549","Magic City","2012-09-30","Fernsehepisode",null,343,"tt1276104","Looper",41185,"Film"]
[335,"tt1212450","Lawless","2012-08-29","Film",null,344,"tt1276419","En kongelig affære",41018,"Film"]
[282,"tt0757361","Margot at the Wedding","2012-08-17","Film",null,345,"tt1283887","Burning Palms",40557,"Film"]
[423,"tt1915581","Magic Mike","2012-08-16","Film",null,346,"tt1284760","The Girls Next Door",39678,"Fernsehepisode"]
[428,"tt1935065","Not Suitable for Children","2012-07-12","Film",null,680,"tt12873562","The Invitation",44798,"Film"]
[404,"tt1726669","Killer Joe","2012-06-29","Film",null,681,"tt12921090","Close to Me",44507,"Fernsehepisode"]
[408,"tt1753813","Les adieux à la reine","2012-05-31","Film",null,347,"tt1301990","Every Day",40648,"Film"]
[359,"tt1416801","Kill the Irishman","2012-05-11","Film",null,348,"tt1308729","Bullet to the Head",41340,"Film"]
[367,"tt1440732","Bel Ami","2012-05-03","Film",null,349,"tt1321511","Oldboy",41613,"Film"]
[437,"tt2171427","Silent Witness","2012-04-22","Fernsehepisode",null,682,"tt13281554","Maid",44470,"Fernsehepisode"]
[344,"tt1276419","En kongelig affære","2012-04-19","Film",null,683,"tt13287846","Napoleon",45253,"Film"]
[368,"tt1441326","Martha Marcy May Marlene","2012-04-12","Film",null,350,"tt1331329","The Final Storm",40294,"Film"]
[374,"tt1480055","Game of Thrones","2012-03-23","Fernsehepisode",null,684,"tt13334024","Rainsford: Love Me Like You Hate Me",44128,"Musik Video"]
[398,"tt1700506","Camelot","2012-03-19","Fernsehepisode",null,351,"tt1340773","Elektra Luxx",40785,"Film"]
[397,"tt1679750","Mildred Pierce","2012-03-11","Fernsehepisode",null,685,"tt13457790","The Critic",45548,"Film"]
[377,"tt1523987","1 Out of 7","2012-03-09","Film",null,686,"tt13482828","Un beau matin",44903,"Film"]
[280,"tt0698929","Shameless","2012-01-23","Fernsehepisode",null,352,"tt1355644","Passengers",42740,"Film"]
[653,"tt9883136","Ánima","2011-12-31","Kurzfilm",null,687,"tt13560574","X",44686,"Film"]
[366,"tt1439572","Perfect Sense","2011-12-08","Film",null,688,"tt13613056","Tromperie",44559,"Film"]
[384,"tt1571222","A Dangerous Method","2011-11-10","Film",null,689,"tt13651794","May December",45442,"Film"]
[389,"tt1648187","Roses à crédit","2011-11-08","Film",null,353,"tt1372306","Year of the Carnivore",40066,"Film"]
[427,"tt1934753","Misfits","2011-10-30","Fernsehepisode",null,354,"tt1379177","The Disappearance of Alice Creed",40298,"Film"]
[393,"tt1656236","Californication","2011-10-13","Fernsehepisode",null,690,"tt13848844","Pam & Tommy",44594,"Fernsehepisode"]
[378,"tt1527186","Melancholia","2011-10-06","Film",null,691,"tt13868046","The White Lotus",44395,"Fernsehepisode"]
[406,"tt1740053","Un été brûlant","2011-09-28","Film",null,355,"tt1396219","Outcast",40522,"Film"]
[390,"tt1648201","For Lovers Only","2011-09-16","Film",null,356,"tt1407084","Twelve",40465,"Film"]
[394,"tt1657507","Colombiana","2011-09-15","Film",null,357,"tt1411238","No Strings Attached",40591,"Film"]
[351,"tt1340773","Elektra Luxx","2011-08-30","Film",null,358,"tt1411250","Riddick",41536,"Film"]
[230,"tt0409847","Cowboys & Aliens","2011-08-25","Film",null,692,"tt14128670","Kimi",44602,"Film"]
[402,"tt1714208","The Woman","2011-08-18","Film",null,693,"tt14148006","Leopard Skin",44882,"Fernsehepisode"]
[362,"tt1423894","Barney's Version","2011-07-14","Film",null,359,"tt1416801","Kill the Irishman",41040,"Film"]
[412,"tt1789074","The Night Watch","2011-07-12","Fernsehfilm",null,360,"tt1421051","Somewhere",40493,"Film"]
[416,"tt1815782","Kronjuvelerna","2011-06-29","Film",null,361,"tt1421376","Plein sud",40528,"Film"]
[376,"tt1523483","Kaboom","2011-06-16","Film",null,694,"tt14230458","Poor Things",45309,"Film"]
[320,"tt1068641","The Burning Plain","2011-05-26","Film",null,362,"tt1423894","Barney's Version",40738,"Film"]
[381,"tt1535970","The Ledge","2011-05-26","Film",null,363,"tt1426328","Leonie",40502,"Film"]
[422,"tt1904845","Bear","2011-05-21","Kurzfilm",null,364,"tt1431045","Deadpool",42411,"Film"]
[347,"tt1301990","Every Day","2011-04-15","Film",null,365,"tt1433207","The Details",42455,"Film"]
[388,"tt1624620","Hung","2011-04-08","Fernsehepisode",null,366,"tt1439572","Perfect Sense",40885,"Film"]
[337,"tt1216520","Womb","2011-04-07","Film",null,367,"tt1440732","Bel Ami",41032,"Film"]
[417,"tt1838427","Women in Love","2011-03-31","Fernsehepisode",null,695,"tt14407336","La bête",45575,"Film"]
[399,"tt1712187","Manuale d'am3re","2011-02-25","Film",null,368,"tt1441326","Martha Marcy May Marlene",41011,"Film"]
[385,"tt1585675","Boardwalk Empire","2011-02-23","Fernsehepisode",null,369,"tt1441395","Under the Skin",41712,"Film"]
[357,"tt1411238","No Strings Attached","2011-02-17","Film",null,696,"tt14444726","Tár",44987,"Film"]
[345,"tt1283887","Burning Palms","2011-01-14","Film",null,370,"tt1450321","Filth",41564,"Film"]
[283,"tt0758752","Love & Other Drugs","2011-01-13","Film",null,697,"tt14549466","Crimes of the Future",44868,"Film"]
[375,"tt1486190","Tamara Drewe","2010-12-30","Film",null,698,"tt14587680","Scenes from a Marriage",44458,"Fernsehepisode"]
[361,"tt1421376","Plein sud","2010-12-16","Film",null,699,"tt14633464","Desperation Road",45274,"Film"]
[355,"tt1396219","Outcast","2010-12-10","Film",null,371,"tt1466671","Hung",40332,"Fernsehepisode"]
[329,"tt1175709","All Good Things","2010-12-03","Film",null,372,"tt1472460","Paint It Black",42524,"Film"]
[363,"tt1426328","Leonie","2010-11-20","Film",null,373,"tt1473799","Margot",40147,"Fernsehfilm"]
[302,"tt0842926","The Kids Are All Right","2010-11-18","Film",null,374,"tt1480055","Game of Thrones",40991,"Fernsehepisode"]
[360,"tt1421051","Somewhere","2010-11-11","Film",null,375,"tt1486190","Tamara Drewe",40542,"Film"]
[407,"tt1747083","Hispania, la leyenda","2010-10-25","Fernsehepisode",null,700,"tt14948318","Made for Love",44679,"Fernsehepisode"]
[332,"tt1196340","Inhale","2010-10-22","Film",null,701,"tt15195758","Animal Kingdom",44752,"Fernsehepisode"]
[356,"tt1407084","Twelve","2010-10-14","Film",null,702,"tt15219362","Reboot",44867,"Fernsehepisode"]
[391,"tt1653921","Petit tailleur","2010-10-06","Kurzfilm",null,376,"tt1523483","Kaboom",40710,"Film"]
[371,"tt1466671","Hung","2010-06-03","Fernsehepisode",null,377,"tt1523987","1 Out of 7",40977,"Film"]
[354,"tt1379177","The Disappearance of Alice Creed","2010-04-30","Film",null,378,"tt1527186","Melancholia",40822,"Film"]
[324,"tt1081935","Baarìa","2010-04-29","Film",null,379,"tt1528071","Horns",42222,"Film"]
[350,"tt1331329","The Final Storm","2010-04-26","Film",null,380,"tt1531901","Byzantium",41425,"Film"]
[289,"tt0808526","Life During Wartime","2010-04-16","Film",null,703,"tt15326988","Ghosted",45037,"Film"]
[318,"tt1029134","Birds of America","2010-02-26","Film",null,704,"tt15333984","Somebody I Used to Know",44967,"Film"]
[301,"tt0838247","After.Life","2009-12-16","Film",null,381,"tt1535970","The Ledge",40689,"Film"]
[331,"tt1183665","Cracks","2009-12-04","Film",null,705,"tt15398776","Oppenheimer",45127,"Film"]
[333,"tt1198153","Kirot","2009-12-03","Film",null,706,"tt15444524","La legge di Lidia Poët",44972,"Fernsehepisode"]
[373,"tt1473799","Margot","2009-11-30","Fernsehfilm",null,382,"tt1544608","Voice from the Stone",42853,"Film"]
[297,"tt0827192","Mes amis, mes amours","2009-11-19","Film",null,383,"tt1545754","Are You Here",41873,"Film"]
[252,"tt0452694","The Time Traveler's Wife","2009-09-17","Film",null,707,"tt15532666","Love & Death",45057,"Fernsehepisode"]
[340,"tt1258120","L'armée du crime","2009-09-16","Film",null,708,"tt15671028","No Hard Feelings",45099,"Film"]
[353,"tt1372306","Year of the Carnivore","2009-09-10","Film",null,384,"tt1571222","A Dangerous Method",40857,"Film"]
[336,"tt1213921","Love & Savagery","2009-08-31","Film",null,709,"tt15744914","Three Women",45273,"Fernsehepisode"]
[303,"tt0844479","The Collector","2009-07-31","Film",null,710,"tt15768848","The Pod Generation",45302,"Film"]
[291,"tt0819714","The Edge of Love","2009-07-23","Film",null,711,"tt15792596","Reacher",44596,"Fernsehepisode"]
[323,"tt1079980","Death in Love","2009-07-17","Film",null,385,"tt1585675","Boardwalk Empire",40597,"Fernsehepisode"]
[312,"tt0924129","Crossing Over","2009-06-25","Film",null,386,"tt1595656","To the Wonder",41424,"Film"]
[330,"tt1176251","Gigantic","2009-06-19","Film",null,387,"tt1623745","Little Birds",42378,"Film"]
[322,"tt1075113","Ne te retourne pas","2009-06-03","Film",null,388,"tt1624620","Hung",40641,"Fernsehepisode"]
[306,"tt0862846","Sunshine Cleaning","2009-05-21","Film",null,712,"tt16375606","George & Tammy",44906,"Fernsehepisode"]
[338,"tt1222329","Wild Cherry","2009-05-15","Film",null,389,"tt1648187","Roses à crédit",40855,"Film"]
[325,"tt1084950","Rachel Getting Married","2009-04-02","Film",null,390,"tt1648201","For Lovers Only",40802,"Film"]
[294,"tt0822833","Mentiras y gordas","2009-03-27","Film",null,713,"tt16491682","Agatha All Along",45553,"Fernsehepisode"]
[284,"tt0765451","Fugitive Pieces","2009-03-26","Film",null,391,"tt1653921","Petit tailleur",40457,"Kurzfilm"]
[307,"tt0864761","The Duchess","2009-03-26","Film",null,392,"tt1655389","Blonde",44832,"Film"]
[316,"tt0976051","The Reader","2009-02-26","Film",null,393,"tt1656236","Californication",40829,"Fernsehepisode"]
[327,"tt1125849","The Wrestler","2009-02-26","Film",null,394,"tt1657507","Colombiana",40801,"Film"]
[217,"tt0383028","Synecdoche, New York","2009-02-05","Film",null,395,"tt1667310","Deadfall",41235,"Film"]
[295,"tt0824747","Changeling","2009-01-22","Film",null,396,"tt1667321","On Chesil Beach",43272,"Film"]
[309,"tt0874271","Elsewhere","2009-01-15","Film",null,397,"tt1679750","Mildred Pierce",40979,"Fernsehepisode"]
[254,"tt0455824","Australia","2008-12-25","Film",null,398,"tt1700506","Camelot",40987,"Fernsehepisode"]
[287,"tt0800241","Transsiberian","2008-12-11","Film",null,399,"tt1712187","Manuale d'am3re",40599,"Film"]
[299,"tt0830515","Quantum of Solace","2008-11-06","Film",null,400,"tt1712261","Triple 9",42495,"Film"]
[321,"tt1073624","Sanguepazzo","2008-10-29","Film",null,401,"tt1714206","The Spectacular Now",41530,"Film"]
[334,"tt1202541","L'uomo che ama","2008-10-24","Film",null,402,"tt1714208","The Woman",40773,"Film"]
[288,"tt0800308","Appaloosa","2008-10-03","Film",null,403,"tt1716851","Captains and the Kings",28047,"Fernsehepisode"]
[341,"tt1263778","La belle personne","2008-09-12","Film",null,714,"tt17202326","Matriarch",44890,"Film"]
[273,"tt0493464","Wanted","2008-09-04","Film",null,404,"tt1726669","Killer Joe",41089,"Film"]
[298,"tt0828158","The Take","2008-08-22","Film",null,405,"tt1730768","The Zookeeper's Wife",42824,"Film"]
[246,"tt0441782","Restraint","2008-08-19","Film",null,406,"tt1740053","Un été brûlant",40814,"Film"]
[346,"tt1284760","The Girls Next Door","2008-08-18","Fernsehepisode",null,407,"tt1747083","Hispania, la leyenda",40476,"Fernsehepisode"]
[311,"tt0920473","Un baiser s'il vous plaît","2008-08-07","Film",null,715,"tt17526714","The Substance",45554,"Film"]
[264,"tt0471030","Red Road","2008-07-17","Film",null,408,"tt1753813","Les adieux à la reine",41060,"Film"]
[314,"tt0963794","The Ruins","2008-06-26","Film",null,409,"tt1763264","No One Lives",41516,"Film"]
[308,"tt0867334","Jolene","2008-06-13","Film",null,410,"tt1780967","Seberg",44091,"Film"]
[313,"tt0946832","Californication","2008-05-14","Fernsehepisode",null,411,"tt1781827","Hands of Stone",42608,"Film"]
[328,"tt1130980","Three and Out","2008-04-25","Film",null,412,"tt1789074","The Night Watch",40736,"Fernsehfilm"]
[305,"tt0859273","Dexter","2008-04-17","Fernsehepisode",null,413,"tt1800241","American Hustle",41683,"Film"]
[277,"tt0519777","Battlestar Galactica","2008-04-16","Fernsehepisode",null,414,"tt1808339","Not Another Happy Ending",41558,"Film"]
[178,"tt0292963","Before the Devil Knows You're Dead","2008-04-10","Film",null,415,"tt1811020","Homeland",41308,"Fernsehepisode"]
[315,"tt0970468","Miss Pettigrew Lives for a Day","2008-03-07","Film",null,416,"tt1815782","Kronjuvelerna",40723,"Film"]
[275,"tt0497972","Sex and Death 101","2008-02-22","Film",null,716,"tt18228830","Disclaimer",45576,"Fernsehepisode"]
[274,"tt0494834","Silk","2008-01-31","Film",null,717,"tt18258952","Lioness",45130,"Fernsehepisode"]
[326,"tt1094249","Hotel Chevalier","2008-01-03","Kurzfilm",null,718,"tt18265122","The Diplomat",45036,"Fernsehepisode"]
[260,"tt0465494","Hitman","2007-12-13","Film",null,719,"tt18376122","Pamela, a Love Story",44957,"Film"]
[262,"tt0469519","Park","2007-11-24","Film",null,417,"tt1838427","Women in Love",40633,"Fernsehepisode"]
[310,"tt0899109","Joe's Palace","2007-11-04","Fernsehfilm",null,418,"tt1850419","Fasle kargadan",41208,"Film"]
[266,"tt0484881","Puffball","2007-10-28","Film",null,419,"tt1850784","Out of Order",37788,"Fernsehepisode"]
[286,"tt0800027","Feast of Love","2007-09-28","Film",null,720,"tt18559464","My Old Ass",45548,"Film"]
[292,"tt0819953","L'âge des ténèbres","2007-09-26","Film",null,420,"tt1856101","Blade Runner 2049",43013,"Film"]
[300,"tt0831299","I Really Hate My Job","2007-09-21","Film",null,421,"tt1874434","Blinder",41340,"Film"]
[261,"tt0465602","Shoot 'Em Up","2007-09-20","Film",null,721,"tt18925334","Pearl",45078,"Film"]
[293,"tt0820858","Confessions","2007-07-27","Film",null,422,"tt1904845","Bear",40684,"Kurzfilm"]
[296,"tt0826288","Blade","2007-07-09","Fernsehepisode",null,423,"tt1915581","Magic Mike",41137,"Film"]
[220,"tt0389328","Rise","2007-07-06","Film",null,424,"tt1929297","Last Moment of Clarity",44672,"Film"]
[258,"tt0462200","Black Snake Moan","2007-07-05","Film",null,425,"tt1929308","Magic Magic",41514,"Film"]
[183,"tt0307058","Midsomer Murders","2007-06-26","Fernsehepisode",null,426,"tt1930546","Arthur Newman",41438,"Film"]
[269,"tt0488120","Fracture","2007-05-17","Film",null,427,"tt1934753","Misfits",40846,"Fernsehepisode"]
[226,"tt0404203","Little Children","2007-04-26","Film",null,428,"tt1935065","Not Suitable for Children",41102,"Film"]
[242,"tt0426883","Alpha Dog","2007-03-22","Film",null,722,"tt19356262","Drive-Away Dolls",45358,"Film"]
[265,"tt0473333","Bosque de sombras","2007-02-16","Film",null,429,"tt1956620","Sex Tape",41893,"Film"]
[267,"tt0486474","Le serpent","2007-01-10","Film",null,430,"tt1960549","Magic City",41182,"Fernsehepisode"]
[253,"tt0453467","Deja Vu","2006-12-22","Film",null,723,"tt19637052","Love Lies Bleeding",45491,"Film"]
[268,"tt0488085","Big Nothing","2006-12-01","Film",null,724,"tt19838660","Irma Vep",44732,"Fernsehepisode"]
[255,"tt0455957","Goya's Ghosts","2006-11-23","Film",null,725,"tt19857674","The Tonight Show Starring Jimmy Fallon",44684,"Fernsehepisode"]
[248,"tt0447619","Le Concile de Pierre","2006-11-15","Film",null,726,"tt19864828","Memory",45568,"Film"]
[249,"tt0448564","Irresistible","2006-11-09","Film",null,431,"tt2035630","Starlet",41403,"Film"]
[238,"tt0422720","Marie Antoinette","2006-11-02","Film",null,727,"tt20412522","Sexy Beast",45316,"Fernsehepisode"]
[272,"tt0493409","Devil's Den","2006-10-22","Film",null,728,"tt20415224","Drift",45377,"Film"]
[237,"tt0422295","Fur: An Imaginary Portrait of Diane Arbus","2006-10-20","Film",null,432,"tt2063666","Hello I Must Be Going",41305,"Film"]
[257,"tt0462002","N (Io e Napoleone)","2006-10-13","Film",null,433,"tt2082715","House of Lies",41242,"Fernsehepisode"]
[235,"tt0420555","Combien tu m'aimes?","2006-08-31","Film",null,434,"tt2093995","Fort Bliss",42278,"Film"]
[251,"tt0452637","Lady in the Water","2006-08-31","Film",null,435,"tt2095713","Missionary",42803,"Film"]
[250,"tt0452594","The Break-Up","2006-08-10","Film",null,436,"tt2139555","Playing It Cool",42132,"Film"]
[232,"tt0413015","Mrs. Henderson Presents","2006-06-22","Film",null,437,"tt2171427","Silent Witness",41021,"Fernsehepisode"]
[245,"tt0439815","Slither","2006-06-22","Film",null,438,"tt2180339","Deep Water",44638,"Film"]
[285,"tt0781429","Mes copines","2006-06-21","Film",null,729,"tt21810682","The End We Start From",45442,"Film"]
[259,"tt0462667","Les brigades du Tigre","2006-04-12","Film",null,439,"tt2186712","Long Nights Short Mornings",42759,"Film"]
[243,"tt0431058","Fatwa","2006-03-24","Film",null,440,"tt2193215","The Counselor",41606,"Film"]
[244,"tt0434409","V for Vendetta","2006-03-16","Film",null,730,"tt21950462","Visions",45175,"Film"]
[219,"tt0388795","Brokeback Mountain","2006-03-09","Film",null,731,"tt22048412","MaXXXine",45477,"Film"]
[223,"tt0401855","Underworld: Evolution","2006-03-02","Film",null,732,"tt22052952","Rivals",45583,"Fernsehepisode"]
[241,"tt0425210","Lucky Number Slevin","2006-02-24","Film",null,733,"tt22073596","El cuerpo en llamas",45177,"Fernsehepisode"]
[224,"tt0402022","Æon Flux","2006-02-16","Film",null,441,"tt2217777","Deep Powder",41383,"Film"]
[236,"tt0421054","Domino","2005-12-29","Film",null,442,"tt2226597","The Mountain Between Us",43076,"Film"]
[214,"tt0379306","A Good Woman","2005-12-15","Film",null,734,"tt22333372","The White Lotus",44899,"Fernsehepisode"]
[233,"tt0417658","Factotum","2005-12-08","Film",null,443,"tt2238050","White Bird in a Blizzard",41907,"Film"]
[240,"tt0424205","Joyeux Noël","2005-11-24","Film",null,735,"tt22408160","Kinds of Kindness",45477,"Film"]
[196,"tt0342735","Manderlay","2005-11-10","Film",null,444,"tt2265398","Drinking Buddies",41480,"Film"]
[61,"tt0111711","Widow's Kiss","2005-11-08","Fernsehfilm",null,445,"tt2265534","The Lifeguard",42645,"Film"]
[228,"tt0409184","Les poupées russes","2005-11-03","Film",null,446,"tt2267998","Gone Girl",41914,"Film"]
[210,"tt0373469","Kiss Kiss Bang Bang","2005-10-20","Film",null,447,"tt2271671","The Moment",41385,"Film"]
[174,"tt0285175","Havoc","2005-10-16","Film",null,448,"tt2278871","La vie d'Adèle",41627,"Film"]
[197,"tt0348333","Waiting...","2005-10-07","Film",null,449,"tt2295750","Des gens qui s'embrassent",41732,"Film"]
[195,"tt0342272","Dear Wendy","2005-10-06","Film",null,450,"tt2304637","Flag Day",44762,"Film"]
[227,"tt0405422","The 40 Year Old Virgin","2005-09-29","Film",null,451,"tt2305051","Wild",42019,"Film"]
[234,"tt0417745","Headspace","2005-09-18","Film",null,452,"tt2312890","Afternoon Delight",42131,"Film"]
[222,"tt0401792","Sin City","2005-08-11","Film",null,453,"tt2325977","Strangerland",42405,"Film"]
[202,"tt0356910","Mr. & Mrs. Smith","2005-07-21","Film",null,454,"tt2328696","Among Ravens",41838,"Film"]
[215,"tt0382189","My Summer of Love","2005-06-30","Film",null,455,"tt2343793","Third Person",41977,"Film"]
[221,"tt0396271","When Will I Be Loved","2005-06-24","Film",null,736,"tt23475134","Bad Sisters",45609,"Fernsehepisode"]
[231,"tt0411117","L'annulaire","2005-06-08","Film",null,456,"tt2349740","The Americans",41675,"Fernsehepisode"]
[199,"tt0352520","The Life and Death of Peter Sellers","2005-04-28","Film",null,457,"tt2368254","A Private War",43420,"Film"]
[218,"tt0388213","Loverboy","2005-04-28","Film",null,458,"tt2381941","Focus",42068,"Film"]
[225,"tt0402230","The Great New Wonderful","2005-04-22","Film",null,459,"tt2382009","Nymphomaniac: Vol. II",41732,"Film"]
[209,"tt0371246","Spanglish","2005-04-07","Film",null,460,"tt2390994","Loitering with Intent",41989,"Film"]
[278,"tt0623878","The L Word","2005-03-06","Fernsehepisode",null,461,"tt2392810","Queen & Country",42011,"Film"]
[206,"tt0366627","The Jacket","2005-03-04","Film",null,462,"tt2398016","The White Queen",41547,"Fernsehepisode"]
[187,"tt0315983","House of Sand and Fog","2005-02-17","Film",null,463,"tt2402927","Carol",42355,"Film"]
[212,"tt0376541","Closer","2005-01-13","Film",null,464,"tt2406566","Atomic Blonde",42971,"Film"]
[192,"tt0337876","Birth","2004-12-23","Film",null,465,"tt2452200","Son of a Gun",41928,"Film"]
[175,"tt0289635","Young Adam","2004-12-09","Film",null,737,"tt24871974","Subservience",45548,"Film"]
[193,"tt0338097","Head in the Clouds","2004-11-18","Film",null,466,"tt2495104","Parts Per Billion",42010,"Film"]
[204,"tt0361862","The Machinist","2004-11-11","Film",null,467,"tt2505294","Ask Me Anything",43923,"Film"]
[171,"tt0280424","Amy's Orgasm","2004-10-21","Film",null,468,"tt2531344","Blockers",43202,"Film"]
[208,"tt0368343","Three Way","2004-09-07","Film",null,469,"tt2580382","The Survivalist",42412,"Film"]
[189,"tt0332280","The Notebook","2004-09-02","Film",null,470,"tt2604346","¿Quién mató a Bambi?",41593,"Film"]
[276,"tt0508628","Alias","2004-07-07","Fernsehepisode",null,738,"tt26047818","Anyone But You",45309,"Film"]
[207,"tt0367000","Saint Ange","2004-06-23","Film",null,739,"tt26921534","The Morning Show",45210,"Fernsehepisode"]
[213,"tt0376874","Sexual Life","2004-06-19","Film",null,740,"tt26940835","Hot Ones",44987,"Fernsehepisode"]
[152,"tt0219822","Human Nature","2004-06-10","Film",null,471,"tt2704380","True Detective",41753,"Fernsehepisode"]
[179,"tt0293509","The Piano Player","2004-06-04","Film",null,472,"tt2707810","Submission",43727,"Film"]
[190,"tt0332452","Troy","2004-05-13","Film",null,473,"tt2726560","The Longest Ride",42124,"Film"]
[194,"tt0340855","Monster","2004-04-15","Film",null,474,"tt2737304","Bird Box",43455,"Film"]
[205,"tt0364045","Taking Lives","2004-04-08","Film",null,741,"tt27410895","Släpp taget",45597,"Film"]
[200,"tt0356336","Agents secrets","2004-03-31","Film",null,742,"tt27419292","Killer Heat",45561,"Film"]
[203,"tt0360009","Spartan","2004-03-12","Film",null,475,"tt2756910","Pretend We're Kissing",41798,"Film"]
[180,"tt0294357","Beyond Borders","2004-02-26","Film",null,476,"tt2764070","Masters of Sex",41863,"Fernsehepisode"]
[182,"tt0306047","Scary Movie 3","2004-02-26","Film",null,743,"tt27766711","Citadel",45575,"Fernsehepisode"]
[126,"tt0159365","Cold Mountain","2004-02-19","Film",null,477,"tt2788556","Gemma Bovery",41900,"Film"]
[186,"tt0309987","The Dreamers","2004-01-22","Film",null,478,"tt2788988","Masters of Sex",41877,"Fernsehepisode"]
[73,"tt0116032","Darkdrive","2003-12-24","Film",null,479,"tt2790184","True Detective",41760,"Fernsehepisode"]
[184,"tt0308383","The Human Stain","2003-12-18","Film",null,480,"tt2818252","Couple in a Hole",42466,"Film"]
[216,"tt0382737","Henry VIII","2003-10-12","Fernsehfilm",null,481,"tt2823054","Mike and Dave Need Wedding Dates",42614,"Film"]
[177,"tt0290673","Irréversible","2003-09-11","Film",null,482,"tt2825926","Dracula",41593,"Fernsehepisode"]
[419,"tt1850784","Out of Order","2003-06-16","Fernsehepisode",null,483,"tt2835548","Grand Central",41514,"Film"]
[156,"tt0236640","Prozac Nation","2003-06-13","Film",null,484,"tt2873282","Red Sparrow",43160,"Film"]
[173,"tt0280970","My Name Is Tanino","2003-05-30","Film",null,744,"tt28991140","Joan",45564,"Fernsehepisode"]
[181,"tt0300109","The Last Great Wilderness","2003-05-09","Film",null,485,"tt2900208","Californication",41749,"Fernsehepisode"]
[198,"tt0349340","Dead Bodies","2003-04-25","Film",null,486,"tt2911556","Person of Interest",41541,"Fernsehepisode"]
[170,"tt0280380","Trapped","2003-03-27","Film",null,487,"tt2962876","The Road Within",42159,"Film"]
[166,"tt0268126","Adaptation.","2003-03-13","Film",null,488,"tt2966754","The Ever After",41802,"Film"]
[163,"tt0257360","About Schmidt","2003-02-27","Film",null,489,"tt2991752","Penny Dreadful",41898,"Fernsehepisode"]
[150,"tt0217505","Gangs of New York","2003-02-20","Film",null,490,"tt3021360","Faults",42069,"Film"]
[158,"tt0242888","The Sleeping Dictionary","2003-01-31","Film",null,491,"tt3028412","Por un puñado de besos",41775,"Film"]
[188,"tt0318411","The Magdalene Sisters","2003-01-09","Film",null,745,"tt30984038","Bleachers: Tiny Moves",45308,"Musik Video"]
[185,"tt0309872","Mon idole","2002-12-17","Film",null,492,"tt3099720","Orange Is the New Black",41898,"Fernsehepisode"]
[176,"tt0290095","The Tuxedo","2002-12-05","Film",null,493,"tt3100274","Manhattan Nocturne",42510,"Film"]
[168,"tt0272283","The Safe House","2002-10-28","Fernsehfilm",null,494,"tt3112900","Salomé",41903,"Film"]
[169,"tt0279113","The Good Girl","2002-08-30","Film",null,495,"tt3136112","Shelter",42349,"Film"]
[141,"tt0188453","Birthday Girl","2002-08-29","Film",null,746,"tt31407487","Cross",45610,"Fernsehepisode"]
[164,"tt0258273","Lovely & Amazing","2002-08-02","Film",null,496,"tt3145422","The After",41676,"Fernsehfilm"]
[172,"tt0280778","Iris","2002-05-16","Film",null,497,"tt3203968","The Leftovers",41936,"Fernsehepisode"]
[149,"tt0216851","Järngänget","2002-04-29","Film",null,498,"tt3220926","The Bridge",41830,"Fernsehepisode"]
[162,"tt0250223","Astérix & Obélix : Mission Cléopâtre","2002-03-07","Film",null,499,"tt3227442","To Whom It May Concern",44281,"Film"]
[157,"tt0237534","Le pacte des loups","2002-02-14","Film",null,500,"tt3234122","Widow Clicquot",45603,"Film"]
[145,"tt0206226","Psycho Beach Party","2002-02-07","Film",null,501,"tt3250828","Silent Witness",41670,"Fernsehepisode"]
[134,"tt0168631","Dark Summer","2002-02-06","Film",null,502,"tt3256226","IO",43483,"Film"]
[165,"tt0259711","Vanilla Sky","2002-01-24","Film",null,503,"tt3263946","Trial by Fire",43602,"Film"]
[137,"tt0180093","Requiem for a Dream","2002-01-03","Film",null,504,"tt3286560","The Last Face",42944,"Film"]
[153,"tt0227984","The 51st State","2001-12-07","Film",null,505,"tt3296908","HHhH",42893,"Film"]
[147,"tt0209322","Skipped Parts","2001-12-06","Film",null,747,"tt33295778","Lioness",45599,"Fernsehepisode"]
[142,"tt0203009","Moulin Rouge!","2001-10-18","Film",null,748,"tt33336389","Lioness",45606,"Fernsehepisode"]
[160,"tt0245238","Lost and Delirious","2001-09-20","Film",null,506,"tt3335606","Berlin Syndrome",42880,"Film"]
[159,"tt0243155","Bridget Jones's Diary","2001-08-23","Film",null,507,"tt3410834","Allegiant",42446,"Film"]
[154,"tt0230838","Sweet November","2001-08-02","Film",null,508,"tt3501014","The Affair",42230,"Fernsehepisode"]
[151,"tt0218922","Original Sin","2001-07-12","Film",null,509,"tt3503406","The Whole Truth",42664,"Film"]
[131,"tt0164212","Under Suspicion","2001-05-03","Film",null,510,"tt3526194","Togetherness",42043,"Fernsehepisode"]
[143,"tt0203755","One Night at McCool's","2001-04-26","Film",null,511,"tt3529656","Meadowland",42300,"Film"]
[122,"tt0149898","Black and White","2001-04-25","Film",null,512,"tt3530978","La corrispondenza",42383,"Film"]
[167,"tt0269138","De l'amour","2001-04-11","Film",null,513,"tt3531824","Nerve",42621,"Film"]
[136,"tt0180073","Quills","2001-03-08","Film",null,514,"tt3563262","Submergence",43314,"Film"]
[148,"tt0213847","Malèna","2001-03-01","Film",null,515,"tt3591436","Night Owls",42566,"Film"]
[161,"tt0247823","Women in Film","2001-01-24","Film",null,516,"tt3605418","Knock Knock",42348,"Film"]
[107,"tt0129136","Hell's Kitchen","2001-01-19","Film",null,517,"tt3631112","The Girl on the Train",42670,"Film"]
[146,"tt0208911","The King Is Alive","2001-01-05","Film",null,518,"tt3704298","Vincent N Roxxy",42888,"Film"]
[97,"tt0119665","Metroland","2000-12-21","Film",null,519,"tt3707106","By the Sea",42348,"Film"]
[140,"tt0184858","Reindeer Games","2000-12-07","Film",null,520,"tt3722062","Bokeh",43548,"Film"]
[128,"tt0162677","Summer of Sam","2000-11-09","Film",null,521,"tt3736868","Narcos",42244,"Fernsehepisode"]
[89,"tt0119042","Eat Your Heart Out","2000-10-24","Film",null,522,"tt3753522","Kingdom",42286,"Fernsehepisode"]
[135,"tt0174480","Autumn in New York","2000-10-12","Film",null,523,"tt3774114","Snowden",42635,"Film"]
[129,"tt0162711","Trixie","2000-08-18","Film",null,524,"tt3775768","Louie",41806,"Fernsehepisode"]
[132,"tt0166199","Franck Spadone","2000-07-19","Film",null,525,"tt3780302","Penny Dreadful",42132,"Fernsehepisode"]
[101,"tt0120797","Pushing Tin","2000-06-29","Film",null,526,"tt3854230","Ascension",42434,"Fernsehepisode"]
[138,"tt0181151","What Planet Are You From?","2000-06-01","Film",null,527,"tt4057170","True Detective",42204,"Fernsehepisode"]
[77,"tt0116675","Jaded","2000-05-04","Film",null,528,"tt4106306","Sky",42530,"Film"]
[115,"tt0138946","The Yards","2000-04-27","Film",null,529,"tt4108304","Twin Peaks",42880,"Fernsehepisode"]
[105,"tt0127349","Waking the Dead","2000-03-24","Film",null,530,"tt4154916","Replicas",43427,"Film"]
[104,"tt0124315","The Cider House Rules","2000-03-16","Film",null,531,"tt4214868","SMILF",42027,"Kurzfilm"]
[281,"tt0705238","The Sopranos","2000-02-27","Fernsehepisode",null,532,"tt4228864","House of Lies",42043,"Fernsehepisode"]
[130,"tt0163978","The Beach","2000-02-17","Film",null,533,"tt4254562","The People Garden",42625,"Film"]
[120,"tt0145531","Stigmata","2000-01-13","Film",null,534,"tt4283372","Tut",42244,"Fernsehepisode"]
[119,"tt0144715","Holy Smoke","1999-12-26","Film",null,535,"tt4291600","Lady Macbeth",43041,"Film"]
[133,"tt0167925","Fin août, début septembre","1999-10-07","Film",null,536,"tt4307670","Vinyl",42428,"Fernsehepisode"]
[100,"tt0120663","Eyes Wide Shut","1999-09-09","Film",null,537,"tt4379180","Enragés",42277,"Film"]
[108,"tt0132165","Flypaper","1999-07-18","Film",null,538,"tt4381070","Vinyl",42467,"Fernsehepisode"]
[116,"tt0139362","High Art","1999-04-29","Film",null,539,"tt4426738","Animals",43679,"Film"]
[114,"tt0138541","Judas Kiss","1999-04-23","Film",null,540,"tt4486986","All I See Is You",43035,"Film"]
[110,"tt0136244","Hideous Kinky","1999-04-15","Film",null,541,"tt4513316","Novitiate",43008,"Film"]
[93,"tt0119381","Inventing the Abbotts","1999-04-05","Film",null,542,"tt4550136","The Leftovers",42370,"Fernsehepisode"]
[90,"tt0119054","Eight Days a Week","1999-02-26","Film",null,543,"tt4612228","The Beautiful Lie",42309,"Fernsehepisode"]
[113,"tt0138279","The 24 Hour Woman","1999-01-29","Film",null,544,"tt4652838","Mr. Robot",42328,"Fernsehepisode"]
[125,"tt0158062","Pam & Tommy Lee: Stolen Honeymoon","1998-12-31","Video",null,545,"tt4677578","Løvekvinnen",42992,"Film"]
[124,"tt0150464","En plein coeur","1998-11-25","Film",null,546,"tt4680196","Planetarium",42690,"Film"]
[98,"tt0119879","Perdita Durango","1998-10-29","Film",null,547,"tt4696764","Connected",0,"Kurzfilm"]
[106,"tt0127536","Elizabeth","1998-10-29","Film",null,548,"tt4714782","Personal Shopper",42754,"Film"]
[102,"tt0123865","Gia","1998-09-22","Fernsehfilm",null,549,"tt4721124","The Exception",42888,"Film"]
[94,"tt0119517","Your Friends and Neighbors","1998-08-21","Film",null,550,"tt4731136","A Cure for Wellness",42789,"Film"]
[95,"tt0119594","Twilight","1998-08-06","Film",null,551,"tt4746516","Orpheline",42823,"Film"]
[118,"tt0142911","Thanks of a Grateful Nation","1998-05-31","Fernsehfilm",null,552,"tt4817386","Big Little Lies",42838,"Fernsehepisode"]
[87,"tt0118859","City of Industry","1998-05-28","Film",null,553,"tt4827558","High Life",43615,"Film"]
[103,"tt0123923","Jeanne et le garçon formidable","1998-04-22","Film",null,554,"tt4848010","Fits and Starts",43074,"Film"]
[117,"tt0140653","L'ultimo capodanno","1998-03-06","Film",null,555,"tt4959736","Big Little Lies",42845,"Fernsehepisode"]
[91,"tt0119173","G.I. Jane","1998-02-26","Film",null,556,"tt5083738","The Favourite",43489,"Film"]
[88,"tt0118971","The Devil's Advocate","1998-01-22","Film",null,557,"tt5109784","Mother!",42992,"Film"]
[99,"tt0120338","Titanic","1998-01-08","Film",null,558,"tt5112584","Lee",45554,"Film"]
[121,"tt0149178","Stricken","1997-09-14","Film",null,559,"tt5160938","Lizzie",43357,"Film"]
[92,"tt0119342","Héroïnes","1997-08-27","Film",null,560,"tt5212808","Heavy",44236,"Film"]
[86,"tt0117898","This World, Then the Fireworks","1997-07-11","Film",null,561,"tt5223488","Fargo",42845,"Fernsehepisode"]
[96,"tt0119633","Mauvais genre","1997-07-09","Film",null,562,"tt5278098","Goliath",42657,"Fernsehepisode"]
[76,"tt0116477","Hamlet","1997-06-05","Film",null,563,"tt5294522","Dreamland",44295,"Film"]
[69,"tt0115438","2 Days in the Valley","1997-05-22","Film",null,564,"tt5303422","Christina Milian Turned Up",42360,"Fernsehepisode"]
[80,"tt0116922","Lost Highway","1997-04-10","Film",null,565,"tt5313894","Z",42797,"Fernsehepisode"]
[78,"tt0116722","Jude","1997-02-06","Film",null,566,"tt5328006","Phil",43651,"Film"]
[83,"tt0117364","The Portrait of a Lady","1997-01-09","Film",null,567,"tt5342604","Transparent",42636,"Fernsehepisode"]
[79,"tt0116778","Kingpin","1996-11-07","Film",null,568,"tt5362988","Wind River",43139,"Film"]
[71,"tt0115736","Bound","1996-10-31","Film",null,569,"tt5426706","The Deuce",42995,"Fernsehepisode"]
[81,"tt0117070","Mojave Moon","1996-10-31","Film",null,570,"tt5437928","Colette",43468,"Film"]
[70,"tt0115624","Barb Wire","1996-10-24","Film",null,571,"tt5460522","Jeremiah Terminator LeRoy",43581,"Film"]
[82,"tt0117107","Mulholland Falls","1996-10-17","Film",null,572,"tt5507800","Marcella",42583,"Fernsehepisode"]
[72,"tt0115751","Breaking the Waves","1996-10-03","Film",null,573,"tt5536610","Private Life",43378,"Film"]
[84,"tt0117737","Stealing Beauty","1996-09-26","Film",null,574,"tt5612280","Sharp Objects",43290,"Fernsehepisode"]
[62,"tt0113158","Georgia","1996-09-19","Film",null,575,"tt5666304","The Little Hours",42916,"Film"]
[74,"tt0116289","Feeling Minnesota","1996-09-13","Film",null,576,"tt5670152","Traffik",43343,"Film"]
[75,"tt0116353","Foxfire","1996-08-23","Film",null,577,"tt5711996","Mozart in the Jungle",42713,"Fernsehepisode"]
[85,"tt0117765","Striptease","1996-08-15","Film",null,578,"tt5715874","The Killing of a Sacred Deer",43097,"Film"]
[63,"tt0113243","Hackers","1996-06-13","Film",null,579,"tt5817022","One Percent More Humid",42846,"Film"]
[41,"tt0103266","Wildflower","1996-06-04","Fernsehfilm",null,580,"tt5825052","Tout nous sépare",43047,"Film"]
[66,"tt0113926","Naked Souls","1996-05-18","Film",null,581,"tt5903088","Dead on Arrival",43182,"Film"]
[67,"tt0114345","The Scarlet Letter","1996-04-18","Film",null,582,"tt5914642","Youtopia",44848,"Film"]
[68,"tt0114436","Showgirls","1996-01-25","Film",null,583,"tt5943674","Transparent",43000,"Fernsehepisode"]
[64,"tt0113269","Haunted","1995-11-30","Film",null,584,"tt6012380","Ordinary Love",43805,"Film"]
[65,"tt0113690","Lord of Illusions","1995-08-25","Film",null,585,"tt6016432","GLOW",42909,"Fernsehepisode"]
[57,"tt0110588","Mrs. Parker and the Vicious Circle","1995-07-27","Film",null,586,"tt6017756","Radioactive",44028,"Film"]
[54,"tt0109686","Dumb and Dumber","1995-04-06","Film",null,587,"tt6035650","Britannia",43118,"Fernsehepisode"]
[56,"tt0110005","Heavenly Creatures","1995-01-12","Film",null,588,"tt6055060","Picnic at Hanging Rock",43226,"Fernsehepisode"]
[60,"tt0111549","Uncovered","1995-01-05","Film",null,589,"tt6069126","The Escape",43315,"Film"]
[127,"tt0160075","Briganti: Amore e libertà","1994-12-31","Film",null,590,"tt6080486","Better Things",42992,"Fernsehepisode"]
[58,"tt0110712","Of Love and Shadows","1994-10-06","Film",null,591,"tt6108178","Disobedience",44227,"Film"]
[279,"tt0656383","NYPD Blue","1994-09-05","Fernsehepisode",null,592,"tt6142398","Good Girls Revolt",42706,"Fernsehepisode"]
[55,"tt0109702","L'eau froide","1994-07-06","Film",null,593,"tt6211328","Longmire",43056,"Fernsehepisode"]
[59,"tt0110948","Raw Justice","1994-05-31","Film",null,594,"tt6219314","The Party's Just Beginning",43830,"Film"]
[50,"tt0107497","Malice","1994-05-19","Film",null,595,"tt6306064","Adrift",43293,"Film"]
[155,"tt0234641","La règle de l'homme","1994-05-16","Fernsehfilm",null,596,"tt6433832","El árbol de la sangre",43504,"Film"]
[52,"tt0108399","True Romance","1994-01-27","Film",null,597,"tt6453808","The Rolling Stones: Ride 'Em on Down",42705,"Musik Video"]
[139,"tt0184805","Le paradis absolument","1994-01-08","Fernsehfilm",null,598,"tt6472152","The Girlfriend Experience",43051,"Fernsehepisode"]
[51,"tt0108169","Snapdragon","1993-12-01","Film",null,599,"tt6476140","Serenity",43587,"Film"]
[46,"tt0106639","Cyborg 2: Glass Shadow","1993-11-30","Video",null,600,"tt6516314","Piercing",43497,"Film"]
[38,"tt0102329","Lonely Hearts","1993-10-16","Film",null,601,"tt6534368","I Love Dick",42867,"Fernsehepisode"]
[49,"tt0107449","Love Matters","1993-10-03","Fernsehfilm",null,602,"tt6644650","Club de Cuervos",43007,"Fernsehepisode"]
[47,"tt0106770","Dragon: The Bruce Lee Story","1993-06-17","Film",null,603,"tt6679794","Outlaw King",43413,"Film"]
[48,"tt0107211","Indecent Proposal","1993-05-20","Film",null,604,"tt6760876","Wasp Network",44001,"Film"]
[53,"tt0108451","Untamed Heart","1993-02-12","Film",null,605,"tt6819848","All Roads to Pearla",44099,"Film"]
[42,"tt0103874","Bram Stoker's Dracula","1993-02-11","Film",null,606,"tt6852872","Elizabeth Harvest",43322,"Film"]
[40,"tt0102820","Rush","1993-01-29","Film",null,607,"tt6857376","Palmer",44225,"Film"]
[45,"tt0105812","White Men Can't Jump","1993-01-21","Film",null,608,"tt6875952","Carmen",45091,"Film"]
[32,"tt0101373","At Play in the Fields of the Lord","1992-12-17","Film",null,609,"tt6917272","Una vita spericolata",43272,"Film"]
[37,"tt0102208","Killer Instinct","1992-11-25","Film",null,610,"tt6958014","Duck Butter",43282,"Film"]
[43,"tt0105414","Single White Female","1992-10-01","Film",null,611,"tt6967186","Escape at Dannemora",43453,"Fernsehepisode"]
[44,"tt0105691","Under Suspicion","1992-07-09","Film",null,612,"tt6976488","SMILF",43063,"Fernsehepisode"]
[111,"tt0137142","Ostinato destino","1992-05-28","Film",null,613,"tt6981190","Juste un regard",42908,"Fernsehepisode"]
[34,"tt0101453","Billy Bathgate","1992-02-20","Film",null,614,"tt7040874","A Simple Favor",43412,"Film"]
[109,"tt0134057","La riffa","1991-11-15","Film",null,615,"tt7087210","Donnybrook",43511,"Film"]
[36,"tt0101676","Dead Women in Lingerie","1991-11-01","Film",null,616,"tt7205316","MILF",43906,"Film"]
[39,"tt0102685","Point Break","1991-09-19","Film",null,617,"tt7246778","Legion",43222,"Fernsehepisode"]
[35,"tt0101629","Crooked Hearts","1991-09-06","Film",null,618,"tt7255148","SMILF",43058,"Fernsehepisode"]
[33,"tt0101393","Backdraft","1991-08-22","Film",null,619,"tt7374926","Proxima",44371,"Film"]
[112,"tt0137258","Vita coi figli","1991-05-28","Fernsehfilm",null,620,"tt7456312","The Last Thing He Wanted",43882,"Film"]
[28,"tt0099797","The Hot Spot","1991-01-17","Film",null,621,"tt7529124","Yellowstone",44159,"Fernsehepisode"]
[31,"tt0100318","Pacific Heights","1990-12-13","Film",null,622,"tt7542576","All About Nina",43371,"Film"]
[29,"tt0100143","Miami Blues","1990-08-23","Film",null,623,"tt7558424","Bad Peter",43272,"Kurzfilm"]
[30,"tt0100196","Mountains of the Moon","1990-05-10","Film",null,624,"tt7578438","Sweetbitter",43240,"Fernsehepisode"]
[27,"tt0098625","We're No Angels","1989-12-15","Film",null,625,"tt7740226","Vida",43240,"Fernsehepisode"]
[144,"tt0205991","Guests of Hotel Astoria","1989-11-10","Film",null,626,"tt7834082","I'm Dying Up Here",43247,"Fernsehepisode"]
[26,"tt0097714","Last Exit to Brooklyn","1989-10-12","Film",null,627,"tt7852170","Kidding",43437,"Fernsehepisode"]
[24,"tt0097162","Dead Calm","1989-07-27","Film",null,628,"tt7874702","Big Little Lies",43661,"Fernsehepisode"]
[25,"tt0097216","Do the Right Thing","1989-07-13","Film",null,629,"tt7979142","The Night Clerk",43882,"Film"]
[23,"tt0096824","Another Chance","1989-05-05","Film",null,630,"tt7983894","Ammonite",44504,"Film"]
[20,"tt0094889","Cocktail","1989-01-12","Film",null,631,"tt8000718","The Operative",43706,"Film"]
[21,"tt0095286","Heart of Midnight","1988-11-10","Film",null,632,"tt8075156","Yellowstone",44159,"Fernsehepisode"]
[18,"tt0093980","Sister Sister","1988-05-05","Film",null,633,"tt8135530","Euphoria",43754,"Fernsehepisode"]
[22,"tt0096270","Time Out","1988-02-12","Film",null,634,"tt8178486","Earthquake Bird",43784,"Film"]
[19,"tt0094087","Sweet Revenge","1987-02-28","Film",null,635,"tt8258502","Foe",45296,"Film"]
[14,"tt0089153","Flesh+Blood","1987-01-29","Film",null,636,"tt8299506","La casa de papel",43665,"Fernsehepisode"]
[17,"tt0092220","Windrider","1986-12-26","Film",null,637,"tt8329696","The Little Drummer Girl",43425,"Fernsehepisode"]
[16,"tt0090693","Band of the Hand","1986-11-20","Film",null,638,"tt8338762","The Nest",44385,"Film"]
[15,"tt0090583","About Last Night...","1986-09-25","Film",null,639,"tt8369856","Another Life",43671,"Fernsehepisode"]
[13,"tt0087810","No Small Affair","1985-05-17","Film",null,640,"tt8396294","Darlin'",43658,"Film"]
[12,"tt0086973","Blame It on Rio","1985-03-01","Film",null,641,"tt8419594","Rare Beasts",44337,"Film"]
[11,"tt0085995","National Lampoon's Vacation","1984-06-08","Film",null,642,"tt8485364","The Room",43775,"Film"]
[10,"tt0085595","Girls of the White Orchid","1983-11-28","Fernsehfilm",null,643,"tt8750570","Sergio",43938,"Film"]
[8,"tt0083929","Fast Times at Ridgemont High","1982-12-16","Film",null,644,"tt8847712","The French Dispatch of the Liberty, Kansas Evening Sun",44490,"Film"]
[9,"tt0084445","One from the Heart","1982-09-30","Film",null,645,"tt9046346","High Fidelity",44084,"Fernsehepisode"]
[7,"tt0082352","Eyes of a Stranger","1981-08-28","Film",null,646,"tt9104094","Leonardo",44278,"Fernsehepisode"]
[6,"tt0079261","Hair","1979-07-12","Film",null,647,"tt9147456","Endings, Beginnings",44232,"Film"]
[4,"tt0076033","First Love","1978-04-14","Film",null,648,"tt9196186","Dior J'adore: The New Absolu",43401,"Video"]
[5,"tt0076683","The Sentinel","1977-05-12","Film",null,649,"tt9256866","The Undoing",44165,"Fernsehepisode"]
[403,"tt1716851","Captains and the Kings","1976-10-14","Fernsehepisode",null,650,"tt9601220","Black Bear",44169,"Film"]
[3,"tt0068290","Blood from the Mummy's Tomb","1971-10-14","Film",null,651,"tt9738716","The World to Come",45186,"Film"]
[2,"tt0066096","The Moonshine War","1971-02-05","Film",null,652,"tt9777408","Jett",43658,"Fernsehepisode"]
[1,"tt0022867","Ekstase","1935-01-08","Film",null,653,"tt9883136","Ánima",40908,"Kurzfilm"]
[123,"tt0150340","Divorce: A Contemporary Western",null,"Film",null,654,"tt9885684","Mrs. Fletcher",43772,"Fernsehepisode"]
[201,"tt0356569","Edenquest: Pamela Anderson",null,"Video",null,655,"tt9907782","Eight for Silver",44610,"Film"]
[547,"tt4696764","Connected",null,"Kurzfilm"]

{"sheet":"Leute","index":2,"n_rows":301,"n_cols":9,"rows_kept":301,"cut":false,"hidden":false,"merged":[]}
["Position","Const","Name","Birth Date",null,{"$f":"_xlfn._xlws.SORT(Leute1[],2)","v":1},"nm0000038","Grace Kelly",10909]
[285,"nm6862942","Raegan Revord","2008-01-03",null,2,"nm0000043","Veronica Lake",8354]
[264,"nm5085683","Mckenna Grace","2006-06-25",null,3,"nm0000097","Pamela Anderson",24654]
[284,"nm6748436","Dafne Keen","2005-01-04",null,4,"nm0000098","Jennifer Aniston",25245]
[271,"nm5611121","Millie Bobby Brown","2004-02-19",null,5,"nm0000099","Patricia Arquette",24936]
[266,"nm5204873","Maisy Stella","2003-12-13",null,6,"nm0000113","Sandra Bullock",23584]
[289,"nm7344528","Hannah Cheramy","2003-07-13",null,7,"nm0000117","Neve Campbell",26940]
[276,"nm5925374","Rayna Vallandingham","2003-01-18",null,8,"nm0000124","Jennifer Connelly",25914]
[237,"nm3385478","Nikki Hahn","2002-11-13",null,9,"nm0000139","Cameron Diaz",26541]
[257,"nm4675650","Maddie Ziegler","2002-09-30",null,10,"nm0000153","Gina Gershon",22807]
[261,"nm4911194","Jenna Ortega","2002-09-27",null,11,"nm0000173","Nicole Kidman",24643]
[300,"nm12601699","Autumn Best","2002-09-17",null,12,"nm0000193","Demi Moore",22961]
[214,"nm2371805","Scarlet Rose Stallone","2002-05-25",null,13,"nm0000204","Natalie Portman",29746]
[281,"nm6096118","Sophia Lillis","2002-02-13",null,14,"nm0000207","Christina Ricci",29263]
[293,"nm8037342","Lukita Maxwell","2001-10-27",null,15,"nm0000213","Winona Ryder",26235]
[297,"nm8463347","Freya Allan","2001-09-06",null,16,"nm0000234","Charlize Theron",27613]
[265,"nm5097044","Isabela Merced","2001-07-10",null,17,"nm0000239","Liv Tyler",28307]
[299,"nm10399505","Rachel Zegler","2001-05-03",null,18,"nm0000250","Renée Zellweger",25318]
[292,"nm7635388","Auli'i Cravalho","2000-11-22",null,19,"nm0000295","Kate Beckinsale",26871]
[298,"nm8908475","Isabel May","2000-11-21",null,20,"nm0000312","Amy Brenneman",23550]
[235,"nm3237775","Mackenzie Foy","2000-11-10",null,21,"nm0000327","Lacey Chabert",30224]
[290,"nm7393303","Sophie Thatcher","2000-10-18",null,22,"nm0000350","Beverly D'Angelo",18947]
[208,"nm2215143","Kiernan Shipka","1999-11-10",null,23,"nm0000379","Kirsten Dunst",30071]
[193,"nm1933128","Bailee Madison","1999-10-15",null,24,"nm0000414","Teri Garr",16417]
[277,"nm5944803","Alison Thornton","1999-08-14",null,25,"nm0000452","Lauren Holly",23312]
[253,"nm4248775","Sabrina Carpenter","1999-05-11",null,26,"nm0000463","Famke Janssen",23686]
[272,"nm5700898","Mikey Madison","1999-03-25",null,27,"nm0000492","Jennifer Jason Leigh",22682]
[278,"nm6045536","Madison Bailey","1999-01-29",null,28,"nm0000495","Téa Leoni",24163]
[294,"nm8314228","Cailee Spaeny","1998-07-24",null,29,"nm0000624","Laura San Giacomo",22599]
[296,"nm8402992","Daisy Edgar-Jones","1998-05-24",null,30,"nm0000673","Marisa Tomei",23715]
[221,"nm2572554","Peyton List","1998-04-06",null,31,"nm0000701","Kate Winslet",27672]
[182,"nm1736769","Ariel Winter","1998-01-28",null,32,"nm0000702","Reese Witherspoon",27841]
[251,"nm4107867","Eliana Jones","1997-10-28",null,33,"nm0000868","Justine Bateman",24157]
[228,"nm2858875","Sydney Sweeney","1997-09-12",null,34,"nm0000870","Kathy Bates",17712]
[178,"nm1631269","Chloë Grace Moretz","1997-02-10",null,35,"nm0000899","Monica Bellucci",23650]
[238,"nm3480246","Ella Purnell","1996-09-17",null,36,"nm0000949","Cate Blanchett",25337]
[247,"nm3918035","Zendaya","1996-09-01",null,37,"nm0001222","Calista Flockhart",23692]
[282,"nm6552202","Brianna Hildebrand","1996-08-14",null,38,"nm0001303","Carla Gugino",26174]
[177,"nm1630669","Saleka Shyamalan","1996-08-01",null,39,"nm0001349","Jennifer Love Hewitt",28907]
[275,"nm5896355","Anya Taylor-Joy","1996-04-16",null,40,"nm0001372","Bonnie Hunt",22546]
[234,"nm3188162","Lilli Kay","1996-03-18",null,41,"nm0001401","Angelina Jolie",27549]
[246,"nm3849842","Sophie Turner","1996-02-21",null,42,"nm0001443","Hedy Lamarr",5427]
[279,"nm6073955","Florence Pugh","1996-01-03",null,43,"nm0001461","Virginie Ledoyen",28079]
[287,"nm7006860","Matilda De Angelis","1995-09-11",null,44,"nm0001491","Melanie Lynskey",28261]
[223,"nm2730808","Emma Dumont","1994-11-15",null,45,"nm0001567","Connie Nielsen",23926]
[242,"nm3614913","Zoey Deutch","1994-11-10",null,46,"nm0001609","Rosie Perez",23626]
[262,"nm4960279","Margaret Qualley","1994-10-23",null,47,"nm0001614","Lori Petty",23298]
[295,"nm8367841","Lauren LaVera","1994-06-14",null,48,"nm0001833","Emily Watson",24486]
[171,"nm1519680","Saoirse Ronan","1994-04-12",null,49,"nm0001860","Alicia Witt",27627]
[82,"nm0266824","Dakota Fanning","1994-02-23",null,50,"nm0004266","Anne Hathaway",30267]
[263,"nm4970145","Kathryn Kelly","1993-10-31",null,51,"nm0004748","Julie Benz",26420]
[268,"nm5301405","Mia Goth","1993-10-25",null,52,"nm0004802","Linda Cardellini",27570]
[110,"nm0597410","Taylor Momsen","1993-07-26",null,53,"nm0004950","Jennifer Garner",26406]
[245,"nm3812858","Ariana Grande","1993-06-26",null,54,"nm0005049","Allison Janney",21873]
[206,"nm2140860","Maika Monroe","1993-05-29",null,55,"nm0005067","Tamala Jones",27345]
[254,"nm4305463","Naomi Scott","1993-05-06",null,56,"nm0005123","Ali Larter",27818]
[233,"nm3069650","Jodie Comer","1993-03-11",null,57,"nm0005154","Lucy Liu",25174]
[283,"nm6568724","Mariel Molino","1992-12-18",null,58,"nm0005176","Wendie Malick",18610]
[229,"nm2913280","Ashleigh Cummings","1992-11-11",null,59,"nm0005261","Brittany Murphy",28439]
[166,"nm1411125","Selena Gomez","1992-07-22",null,60,"nm0005305","Piper Perabo",28064]
[267,"nm5245722","Adria Arjona","1992-04-25",null,61,"nm0005392","Keri Russell",27842]
[250,"nm4032297","Chloe Bennet","1992-04-18",null,62,"nm0005491","Maura Tierney",23776]
[270,"nm5397459","Daisy Ridley","1992-04-10",null,63,"nm0005513","Alanna Ubach",27670]
[273,"nm5772354","Leila George","1992-03-20",null,64,"nm0006969","Elizabeth Banks",27070]
[218,"nm2546012","Kaya Scodelario","1992-03-13",null,65,"nm0010736","Amy Adams",27261]
[116,"nm0652089","Emily Osment","1992-03-10",null,66,"nm0013037","Shohreh Aghdashloo",19125]
[230,"nm3034977","Samara Weaving","1992-02-23",null,67,"nm0029502","Vanessa Angel",24421]
[269,"nm5315658","Laysla De Oliveira","1992-01-11",null,68,"nm0068338","Kristen Bell",29420]
[135,"nm0940362","Shailene Woodley","1991-11-15",null,69,"nm0088127","Alexis Bledel",29845]
[174,"nm1568512","Christa B. Allen","1991-11-11",null,70,"nm0094039","Samantha Bond",22612]
[146,"nm1068777","Genevieve Buechner","1991-11-10",null,71,"nm0097077","Josephine Bornebusch",29841]
[201,"nm2080328","Kelsey Asbille","1991-09-09",null,72,"nm0100866","Julie Bowen",25630]
[198,"nm2016723","Eve Hewson","1991-07-07",null,73,"nm0124208","Sophia Bush",30140]
[185,"nm1789970","Addison Timlin","1991-06-29",null,74,"nm0192505","Kaley Cuoco",31381]
[220,"nm2560618","Willa Fitzgerald","1991-01-17",null,75,"nm0193846","Elisha Cuthbert",30285]
[210,"nm2225369","Jennifer Lawrence","1990-08-15",null,76,"nm0199603","Cynthia Daniel",27836]
[256,"nm4574440","Melissa Barrera","1990-07-04",null,77,"nm0221046","Zooey Deschanel",29237]
[232,"nm3053338","Margot Robbie","1990-07-02",null,78,"nm0225483","Kate Dickie",26047]
[243,"nm3627601","Meghann Fahy","1990-04-25",null,79,"nm0233145","Alison Doody",24422]
[168,"nm1429380","Britt Robertson","1990-04-18",null,80,"nm0240359","Anne-Marie Duff",25849]
[131,"nm0914612","Emma Watson","1990-04-15",null,81,"nm0252238","Carmen Ejogo",26959]
[130,"nm0829576","Kristen Stewart","1990-04-09",null,82,"nm0266824","Dakota Fanning",34388]
[280,"nm6076950","Hassie Harrison","1990-03-20",null,83,"nm0267287","Coralie Fargeat",28088]
[219,"nm2555462","Eiza González","1990-01-30",null,84,"nm0272581","Rebecca Ferguson",30608]
[260,"nm4859097","Kelly Rohrbach","1990-01-21",null,85,"nm0310966","Ari Graynor",30433]
[190,"nm1886524","Stella Maeve","1989-11-14",null,86,"nm0339460","Judy Greer",27595]
[291,"nm7508235","Tatiana Zappardino","1989-10-02",null,87,"nm0376716","Christina Hendricks",27517]
[259,"nm4789912","Hannah John-Kamen","1989-09-07",null,88,"nm0397171","Bryce Dallas Howard",29647]
[209,"nm2216549","Úrsula Corberó","1989-08-11",null,89,"nm0399981","Toni Hudson",22229]
[186,"nm1790970","Jessica Williams","1989-07-31",null,90,"nm0424060","Scarlett Johansson",31008]
[139,"nm1017334","Juno Temple","1989-07-21",null,91,"nm0424534","Ashley Johnson",30537]
[255,"nm4419771","Justine Lupe","1989-05-31",null,92,"nm0429069","Rashida Jones",27815]
[128,"nm0790057","Alia Shawkat","1989-04-18",null,93,"nm0444223","Arielle Kebbel",31097]
[252,"nm4141252","Lily James","1989-04-05",null,94,"nm0447695","Anna Kendrick",31268]
[226,"nm2812026","Nathalie Emmanuel","1989-03-02",null,95,"nm0461136","Keira Knightley",31132]
[114,"nm0647634","Elizabeth Olsen","1989-02-16",null,96,"nm0471036","Kristin Kreuk",30315]
[286,"nm6884042","Katy O'Brian","1989-02-12",null,97,"nm0472595","Kelly Kruger",30267]
[197,"nm2007030","Emily Meade","1989-01-10",null,98,"nm0502342","Bethany Joy Lenz",29678]
[213,"nm2368789","Zoë Kravitz","1988-12-01",null,99,"nm0502538","Valerie Leon",16022]
[159,"nm1297015","Emma Stone","1988-11-06",null,100,"nm0515116","Blake Lively",32014]
[104,"nm0570860","Rose McIver","1988-10-10",null,101,"nm0521753","Lori Loughlin",23586]
[217,"nm2539953","Alicia Vikander","1988-10-03",null,102,"nm0526985","Patti LuPone",18009]
[189,"nm1869101","Ana de Armas","1988-04-30",null,103,"nm0544334","Lesley Manville",20526]
[248,"nm3948952","Vanessa Kirby","1988-04-18",null,104,"nm0570860","Rose McIver",32426]
[200,"nm2031749","Fiona Rene","1988-04-05",null,105,"nm0587396","Christina Milian",29855]
[120,"nm0713389","Tania Raymonde","1988-03-22",null,106,"nm0588096","Christa Miller",23525]
[212,"nm2247245","Haley Bennett","1988-01-07",null,107,"nm0591373","Vanessa Lachey",29534]
[239,"nm3512758","Sarah Snook","1987-12-01",null,108,"nm0593310","Elizabeth Mitchell",25654]
[215,"nm2394794","Karen Gillan","1987-11-28",null,109,"nm0593664","Radha Mitchell",26980]
[224,"nm2736476","Lashana Lynch","1987-11-27",null,110,"nm0597410","Taylor Momsen",34176]
[227,"nm2855957","Rachele Brooke Smith","1987-11-07",null,111,"nm0598166","Wendy Moniz",25222]
[100,"nm0515116","Blake Lively","1987-08-25",null,112,"nm0607865","Emily Mortimer",26212]
[179,"nm1648520","Katie Leung","1987-08-08",null,113,"nm0640055","Deirdre O'Connell",19539]
[132,"nm0933798","Mara Wilson","1987-07-24",null,114,"nm0647634","Elizabeth Olsen",32555]
[241,"nm3606487","Samantha Ruth Prabhu","1987-04-28",null,115,"nm0647698","Kaitlin Olson",27624]
[288,"nm7248827","Cynthia Erivo","1987-01-08",null,116,"nm0652089","Emily Osment",33673]
[194,"nm1951390","Frankie Shaw","1986-11-11",null,117,"nm0683253","Rosamund Pike",28882]
[240,"nm3592338","Emilia Clarke","1986-10-23",null,118,"nm0683467","Alison Pill",31378]
[231,"nm3037833","Eloise Mumford","1986-09-24",null,119,"nm0690186","Ellen Pompeo",25517]
[151,"nm1177914","Megan Park","1986-07-24",null,120,"nm0713389","Tania Raymonde",32224]
[137,"nm0993507","Kat Dennings","1986-06-13",null,121,"nm0717709","Kelly Reilly",28324]
[148,"nm1083271","Megan Fox","1986-05-16",null,122,"nm0745186","Teryl Rothery",22959]
[138,"nm1015262","Leighton Meester","1986-04-09",null,123,"nm0755267","Katee Sackhoff",29319]
[156,"nm1275259","Alexandra Daddario","1986-03-16",null,124,"nm0757855","Zoe Saldana",28660]
[195,"nm1954240","Teresa Palmer","1986-02-26",null,125,"nm0781029","Jean Seberg",14197]
[222,"nm2605345","Gemma Arterton","1986-02-02",null,126,"nm0781899","Pamela Adlon",24297]
[74,"nm0192505","Kaley Cuoco","1985-11-30",null,127,"nm0789716","Fiona Shaw",21376]
[118,"nm0683467","Alison Pill","1985-11-27",null,128,"nm0790057","Alia Shawkat",32616]
[136,"nm0956526","Madeline Zima","1985-09-16",null,129,"nm0810729","Victoria Smurfit",27119]
[205,"nm2129662","Cristin Milioti","1985-08-16",null,130,"nm0829576","Kristen Stewart",32972]
[94,"nm0447695","Anna Kendrick","1985-08-09",null,131,"nm0914612","Emma Watson",32978]
[167,"nm1416900","Shantel VanSanten","1985-07-25",null,132,"nm0933798","Mara Wilson",31982]
[249,"nm4023073","Rosa Salazar","1985-07-16",null,133,"nm0935395","Katheryn Winnick",28476]
[211,"nm2244205","Léa Seydoux","1985-07-01",null,134,"nm0935541","Mary Elizabeth Winstead",31014]
[95,"nm0461136","Keira Knightley","1985-03-26",null,135,"nm0940362","Shailene Woodley",33557]
[93,"nm0444223","Arielle Kebbel","1985-02-19",null,136,"nm0956526","Madeline Zima",31306]
[134,"nm0935541","Mary Elizabeth Winstead","1984-11-28",null,137,"nm0993507","Kat Dennings",31576]
[90,"nm0424060","Scarlett Johansson","1984-11-22",null,138,"nm1015262","Leighton Meester",31511]
[202,"nm2083022","Ruth Kearney","1984-11-10",null,139,"nm1017334","Juno Temple",32710]
[216,"nm2497366","Sarah Greene","1984-07-24",null,140,"nm1018488","Wendi McLendon-Covey",25486]
[204,"nm2100657","Serinda Swan","1984-07-11",null,141,"nm1035423","Karla Sofía Gascón",26389]
[207,"nm2201555","Aubrey Plaza","1984-06-26",null,299,"nm10399505","Rachel Zegler",37014]
[160,"nm1312575","Olivia Wilde","1984-03-10",null,142,"nm1046097","Rachel McAdams",28811]
[274,"nm5857106","Natasia Demetriou","1984-01-15",null,143,"nm1063517","Kathryn Hahn",26868]
[184,"nm1775214","Alona Tal","1983-10-20",null,144,"nm1065454","Tricia Helfer",27130]
[84,"nm0272581","Rebecca Ferguson","1983-10-19",null,145,"nm1065664","Stana Katic",28606]
[91,"nm0424534","Ashley Johnson","1983-08-09",null,146,"nm1068777","Genevieve Buechner",33552]
[192,"nm1915282","Eleanor Matsuura","1983-07-16",null,147,"nm1072555","Morena Baccarin",29008]
[85,"nm0310966","Ari Graynor","1983-04-27",null,148,"nm1083271","Megan Fox",31548]
[158,"nm1289434","Emily Blunt","1983-02-23",null,149,"nm1083404","Sarah Shahi",29230]
[96,"nm0471036","Kristin Kreuk","1982-12-30",null,150,"nm1157358","Michelle Monaghan",27842]
[172,"nm1555340","Alison Brie","1982-12-29",null,151,"nm1177914","Megan Park",31617]
[75,"nm0193846","Elisha Cuthbert","1982-11-30",null,152,"nm1182048","Becki Newton",28675]
[188,"nm1861624","Yaya DaCosta","1982-11-15",null,153,"nm1200692","Eva Green",29408]
[162,"nm1377561","Laura Ramsey","1982-11-14",null,154,"nm1208167","Diane Kruger",27956]
[161,"nm1330324","Sibylla Deen","1982-11-12",null,300,"nm12601699","Autumn Best",37516]
[50,"nm0004266","Anne Hathaway","1982-11-12",null,155,"nm1269412","Anna Maxwell Martin",28255]
[97,"nm0472595","Kelly Kruger","1982-11-12",null,156,"nm1275259","Alexandra Daddario",31487]
[21,"nm0000327","Lacey Chabert","1982-09-30",null,157,"nm1279721","Sharon Horgan",25762]
[203,"nm2088803","Yvonne Strahovski","1982-07-30",null,158,"nm1289434","Emily Blunt",30370]
[73,"nm0124208","Sophia Bush","1982-07-08",null,159,"nm1297015","Emma Stone",32453]
[23,"nm0000379","Kirsten Dunst","1982-04-30",null,160,"nm1312575","Olivia Wilde",30751]
[199,"nm2017943","Hayley Atwell","1982-04-05",null,161,"nm1330324","Sibylla Deen",30267]
[165,"nm1404408","Alice Eve","1982-02-06",null,162,"nm1377561","Laura Ramsey",30269]
[225,"nm2798112","Allison Tolman","1981-11-18",null,163,"nm1385871","Olga Kurylenko",29173]
[236,"nm3364779","Vanessa Bayer","1981-11-14",null,164,"nm1396022","Anna Torv",29013]
[244,"nm3680560","Skye P. Marshall","1981-10-21",null,165,"nm1404408","Alice Eve",29988]
[105,"nm0587396","Christina Milian","1981-09-26",null,166,"nm1411125","Selena Gomez",33807]
[69,"nm0088127","Alexis Bledel","1981-09-16",null,167,"nm1416900","Shantel VanSanten",31253]
[71,"nm0097077","Josephine Bornebusch","1981-09-12",null,168,"nm1429380","Britt Robertson",32981]
[13,"nm0000204","Natalie Portman","1981-06-09",null,169,"nm1431940","Evangeline Lilly",29070]
[98,"nm0502342","Bethany Joy Lenz","1981-04-02",null,170,"nm1489978","Jill Wagner",28868]
[88,"nm0397171","Bryce Dallas Howard","1981-03-02",null,171,"nm1519680","Saoirse Ronan",34436]
[180,"nm1685408","Dawn Olivieri","1981-02-08",null,172,"nm1555340","Alison Brie",30314]
[258,"nm4689420","Carrie Coon","1981-01-24",null,173,"nm1567113","Jessica Chastain",28208]
[107,"nm0591373","Vanessa Lachey","1980-11-09",null,174,"nm1568512","Christa B. Allen",33553]
[68,"nm0068338","Kristen Bell","1980-07-18",null,175,"nm1580243","Cote de Pablo",29171]
[153,"nm1200692","Eva Green","1980-07-06",null,176,"nm1601397","Olivia Munn",29405]
[176,"nm1601397","Olivia Munn","1980-07-03",null,177,"nm1630669","Saleka Shyamalan",35278]
[123,"nm0755267","Katee Sackhoff","1980-04-08",null,178,"nm1631269","Chloë Grace Moretz",35471]
[14,"nm0000207","Christina Ricci","1980-02-12",null,179,"nm1648520","Katie Leung",31997]
[77,"nm0221046","Zooey Deschanel","1980-01-17",null,180,"nm1685408","Dawn Olivieri",29625]
[149,"nm1083404","Sarah Shahi","1980-01-10",null,181,"nm1717573","Pollyanna McIntosh",28929]
[163,"nm1385871","Olga Kurylenko","1979-11-14",null,182,"nm1736769","Ariel Winter",35823]
[175,"nm1580243","Cote de Pablo","1979-11-12",null,183,"nm1745736","Paula Patton",27733]
[169,"nm1431940","Evangeline Lilly","1979-08-03",null,184,"nm1775214","Alona Tal",30609]
[164,"nm1396022","Anna Torv","1979-06-07",null,185,"nm1789970","Addison Timlin",33418]
[147,"nm1072555","Morena Baccarin","1979-06-02",null,186,"nm1790970","Jessica Williams",32720]
[181,"nm1717573","Pollyanna McIntosh","1979-03-15",null,187,"nm1821446","Hannah Waddingham",27238]
[39,"nm0001349","Jennifer Love Hewitt","1979-02-21",null,188,"nm1861624","Yaya DaCosta",30270]
[117,"nm0683253","Rosamund Pike","1979-01-27",null,189,"nm1869101","Ana de Armas",32263]
[170,"nm1489978","Jill Wagner","1979-01-13",null,190,"nm1886524","Stella Maeve",32826]
[142,"nm1046097","Rachel McAdams","1978-11-17",null,191,"nm1900397","Sutton Foster",27471]
[152,"nm1182048","Becki Newton","1978-07-04",null,192,"nm1915282","Eleanor Matsuura",30513]
[124,"nm0757855","Zoe Saldana","1978-06-19",null,193,"nm1933128","Bailee Madison",36448]
[145,"nm1065664","Stana Katic","1978-04-26",null,194,"nm1951390","Frankie Shaw",31727]
[133,"nm0935395","Katheryn Winnick","1977-12-17",null,195,"nm1954240","Teresa Palmer",31469]
[59,"nm0005261","Brittany Murphy","1977-11-10",null,196,"nm1978694","Maria Dizzia",27392]
[121,"nm0717709","Kelly Reilly","1977-07-18",null,197,"nm2007030","Emily Meade",32518]
[17,"nm0000239","Liv Tyler","1977-07-01",null,198,"nm2016723","Eve Hewson",33426]
[44,"nm0001491","Melanie Lynskey","1977-05-16",null,199,"nm2017943","Hayley Atwell",30046]
[155,"nm1269412","Anna Maxwell Martin","1977-05-10",null,200,"nm2031749","Fiona Rene",32238]
[173,"nm1567113","Jessica Chastain","1977-03-24",null,201,"nm2080328","Kelsey Asbille",33490]
[83,"nm0267287","Coralie Fargeat","1976-11-24",null,202,"nm2083022","Ruth Kearney",30996]
[43,"nm0001461","Virginie Ledoyen","1976-11-15",null,203,"nm2088803","Yvonne Strahovski",30162]
[60,"nm0005305","Piper Perabo","1976-10-31",null,204,"nm2100657","Serinda Swan",30874]
[154,"nm1208167","Diane Kruger","1976-07-15",null,205,"nm2129662","Cristin Milioti",31275]
[150,"nm1157358","Michelle Monaghan","1976-03-23",null,206,"nm2140860","Maika Monroe",34118]
[61,"nm0005392","Keri Russell","1976-03-23",null,207,"nm2201555","Aubrey Plaza",30859]
[32,"nm0000702","Reese Witherspoon","1976-03-22",null,208,"nm2215143","Kiernan Shipka",36474]
[76,"nm0199603","Cynthia Daniel","1976-03-17",null,209,"nm2216549","Úrsula Corberó",32731]
[56,"nm0005123","Ali Larter","1976-02-28",null,210,"nm2225369","Jennifer Lawrence",33100]
[92,"nm0429069","Rashida Jones","1976-02-25",null,211,"nm2244205","Léa Seydoux",31229]
[183,"nm1745736","Paula Patton","1975-12-05",null,212,"nm2247245","Haley Bennett",32149]
[31,"nm0000701","Kate Winslet","1975-10-05",null,213,"nm2368789","Zoë Kravitz",32478]
[63,"nm0005513","Alanna Ubach","1975-10-03",null,214,"nm2371805","Scarlet Rose Stallone",37401]
[49,"nm0001860","Alicia Witt","1975-08-21",null,215,"nm2394794","Karen Gillan",32109]
[115,"nm0647698","Kaitlin Olson","1975-08-18",null,216,"nm2497366","Sarah Greene",30887]
[16,"nm0000234","Charlize Theron","1975-08-07",null,217,"nm2539953","Alicia Vikander",32419]
[86,"nm0339460","Judy Greer","1975-07-20",null,218,"nm2546012","Kaya Scodelario",33676]
[52,"nm0004802","Linda Cardellini","1975-06-25",null,219,"nm2555462","Eiza González",32903]
[41,"nm0001401","Angelina Jolie","1975-06-04",null,220,"nm2560618","Willa Fitzgerald",33255]
[87,"nm0376716","Christina Hendricks","1975-05-03",null,221,"nm2572554","Peyton List",35891]
[191,"nm1900397","Sutton Foster","1975-03-18",null,222,"nm2605345","Gemma Arterton",31445]
[196,"nm1978694","Maria Dizzia","1974-12-29",null,223,"nm2730808","Emma Dumont",34653]
[55,"nm0005067","Tamala Jones","1974-11-12",null,224,"nm2736476","Lashana Lynch",32108]
[65,"nm0010736","Amy Adams","1974-08-20",null,225,"nm2798112","Allison Tolman",29908]
[187,"nm1821446","Hannah Waddingham","1974-07-28",null,226,"nm2812026","Nathalie Emmanuel",32569]
[144,"nm1065454","Tricia Helfer","1974-04-11",null,227,"nm2855957","Rachele Brooke Smith",32088]
[129,"nm0810729","Victoria Smurfit","1974-03-31",null,228,"nm2858875","Sydney Sweeney",35685]
[64,"nm0006969","Elizabeth Banks","1974-02-10",null,229,"nm2913280","Ashleigh Cummings",33919]
[109,"nm0593664","Radha Mitchell","1973-11-12",null,230,"nm3034977","Samara Weaving",33657]
[81,"nm0252238","Carmen Ejogo","1973-10-22",null,231,"nm3037833","Eloise Mumford",31679]
[7,"nm0000117","Neve Campbell","1973-10-03",null,232,"nm3053338","Margot Robbie",33056]
[19,"nm0000295","Kate Beckinsale","1973-07-26",null,233,"nm3069650","Jodie Comer",34039]
[143,"nm1063517","Kathryn Hahn","1973-07-23",null,234,"nm3188162","Lilli Kay",35142]
[9,"nm0000139","Cameron Diaz","1972-08-30",null,235,"nm3237775","Mackenzie Foy",36840]
[51,"nm0004748","Julie Benz","1972-05-01",null,236,"nm3364779","Vanessa Bayer",29904]
[53,"nm0004950","Jennifer Garner","1972-04-17",null,237,"nm3385478","Nikki Hahn",37573]
[141,"nm1035423","Karla Sofía Gascón","1972-03-31",null,238,"nm3480246","Ella Purnell",35325]
[15,"nm0000213","Winona Ryder","1971-10-29",null,239,"nm3512758","Sarah Snook",32112]
[112,"nm0607865","Emily Mortimer","1971-10-06",null,240,"nm3592338","Emilia Clarke",31708]
[38,"nm0001303","Carla Gugino","1971-08-29",null,241,"nm3606487","Samantha Ruth Prabhu",31895]
[78,"nm0225483","Kate Dickie","1971-04-24",null,242,"nm3614913","Zoey Deutch",34648]
[8,"nm0000124","Jennifer Connelly","1970-12-12",null,243,"nm3627601","Meghann Fahy",32988]
[80,"nm0240359","Anne-Marie Duff","1970-10-08",null,244,"nm3680560","Skye P. Marshall",29880]
[157,"nm1279721","Sharon Horgan","1970-07-13",null,245,"nm3812858","Ariana Grande",34146]
[108,"nm0593310","Elizabeth Mitchell","1970-03-27",null,246,"nm3849842","Sophie Turner",35116]
[72,"nm0100866","Julie Bowen","1970-03-03",null,247,"nm3918035","Zendaya",35309]
[119,"nm0690186","Ellen Pompeo","1969-11-10",null,248,"nm3948952","Vanessa Kirby",32251]
[140,"nm1018488","Wendi McLendon-Covey","1969-10-10",null,249,"nm4023073","Rosa Salazar",31244]
[36,"nm0000949","Cate Blanchett","1969-05-14",null,250,"nm4032297","Chloe Bennet",33712]
[18,"nm0000250","Renée Zellweger","1969-04-25",null,251,"nm4107867","Eliana Jones",35731]
[4,"nm0000098","Jennifer Aniston","1969-02-11",null,252,"nm4141252","Lily James",32603]
[111,"nm0598166","Wendy Moniz","1969-01-19",null,253,"nm4248775","Sabrina Carpenter",36291]
[57,"nm0005154","Lucy Liu","1968-12-02",null,254,"nm4305463","Naomi Scott",34095]
[5,"nm0000099","Patricia Arquette","1968-04-08",null,255,"nm4419771","Justine Lupe",32659]
[3,"nm0000097","Pamela Anderson","1967-07-01",null,256,"nm4574440","Melissa Barrera",33058]
[11,"nm0000173","Nicole Kidman","1967-06-20",null,257,"nm4675650","Maddie Ziegler",37529]
[48,"nm0001833","Emily Watson","1967-01-14",null,258,"nm4689420","Carrie Coon",29610]
[79,"nm0233145","Alison Doody","1966-11-11",null,259,"nm4789912","Hannah John-Kamen",32758]
[67,"nm0029502","Vanessa Angel","1966-11-10",null,260,"nm4859097","Kelly Rohrbach",32894]
[126,"nm0781899","Pamela Adlon","1966-07-09",null,261,"nm4911194","Jenna Ortega",37526]
[28,"nm0000495","Téa Leoni","1966-02-25",null,262,"nm4960279","Margaret Qualley",34630]
[33,"nm0000868","Justine Bateman","1966-02-19",null,263,"nm4970145","Kathryn Kelly",34273]
[45,"nm0001567","Connie Nielsen","1965-07-03",null,264,"nm5085683","Mckenna Grace",38893]
[62,"nm0005491","Maura Tierney","1965-02-03",null,265,"nm5097044","Isabela Merced",37082]
[30,"nm0000673","Marisa Tomei","1964-12-04",null,266,"nm5204873","Maisy Stella",37968]
[37,"nm0001222","Calista Flockhart","1964-11-11",null,267,"nm5245722","Adria Arjona",33719]
[26,"nm0000463","Famke Janssen","1964-11-05",null,268,"nm5301405","Mia Goth",34267]
[35,"nm0000899","Monica Bellucci","1964-09-30",null,269,"nm5315658","Laysla De Oliveira",33614]
[46,"nm0001609","Rosie Perez","1964-09-06",null,270,"nm5397459","Daisy Ridley",33704]
[101,"nm0521753","Lori Loughlin","1964-07-28",null,271,"nm5611121","Millie Bobby Brown",38036]
[6,"nm0000113","Sandra Bullock","1964-07-26",null,272,"nm5700898","Mikey Madison",36244]
[20,"nm0000312","Amy Brenneman","1964-06-22",null,273,"nm5772354","Leila George",33683]
[106,"nm0588096","Christa Miller","1964-05-28",null,274,"nm5857106","Natasia Demetriou",30696]
[25,"nm0000452","Lauren Holly","1963-10-28",null,275,"nm5896355","Anya Taylor-Joy",35171]
[47,"nm0001614","Lori Petty","1963-10-14",null,276,"nm5925374","Rayna Vallandingham",37639]
[12,"nm0000193","Demi Moore","1962-11-11",null,277,"nm5944803","Alison Thornton",36386]
[122,"nm0745186","Teryl Rothery","1962-11-09",null,278,"nm6045536","Madison Bailey",36189]
[10,"nm0000153","Gina Gershon","1962-06-10",null,279,"nm6073955","Florence Pugh",35067]
[27,"nm0000492","Jennifer Jason Leigh","1962-02-05",null,280,"nm6076950","Hassie Harrison",32952]
[70,"nm0094039","Samantha Bond","1961-11-27",null,281,"nm6096118","Sophia Lillis",37300]
[29,"nm0000624","Laura San Giacomo","1961-11-14",null,282,"nm6552202","Brianna Hildebrand",35291]
[40,"nm0001372","Bonnie Hunt","1961-09-22",null,283,"nm6568724","Mariel Molino",33956]
[89,"nm0399981","Toni Hudson","1960-11-09",null,284,"nm6748436","Dafne Keen",38356]
[54,"nm0005049","Allison Janney","1959-11-19",null,285,"nm6862942","Raegan Revord",39450]
[127,"nm0789716","Fiona Shaw","1958-07-10",null,286,"nm6884042","Katy O'Brian",32551]
[103,"nm0544334","Lesley Manville","1956-03-12",null,287,"nm7006860","Matilda De Angelis",34953]
[113,"nm0640055","Deirdre O'Connell","1953-06-29",null,288,"nm7248827","Cynthia Erivo",31785]
[66,"nm0013037","Shohreh Aghdashloo","1952-05-11",null,289,"nm7344528","Hannah Cheramy",37815]
[22,"nm0000350","Beverly D'Angelo","1951-11-15",null,290,"nm7393303","Sophie Thatcher",36817]
[58,"nm0005176","Wendie Malick","1950-12-13",null,291,"nm7508235","Tatiana Zappardino",32783]
[102,"nm0526985","Patti LuPone","1949-04-21",null,292,"nm7635388","Auli'i Cravalho",36852]
[34,"nm0000870","Kathy Bates","1948-06-28",null,293,"nm8037342","Lukita Maxwell",37191]
[24,"nm0000414","Teri Garr","1944-12-11",null,294,"nm8314228","Cailee Spaeny",36000]
[99,"nm0502538","Valerie Leon","1943-11-12",null,295,"nm8367841","Lauren LaVera",34499]
[125,"nm0781029","Jean Seberg","1938-11-13",null,296,"nm8402992","Daisy Edgar-Jones",35939]
[1,"nm0000038","Grace Kelly","1929-11-12",null,297,"nm8463347","Freya Allan",37140]
[2,"nm0000043","Veronica Lake","1922-11-14",null,298,"nm8908475","Isabel May",36851]
[42,"nm0001443","Hedy Lamarr","1914-11-09"]