{"text_format":"1","workbook":"xlsx","n_sheets":14,"sheets":["Rd1","Rd2","Rd3","Rd4","Rd5","Rd6","Rd7","Rd8","Rd9","Rd10","Rd11","Rd12","Siegerliste","Tabelle1"],"not_rendered":{"charts":0,"images":1,"macros":1,"external_links":1,"defined_names":11,"comments":0,"pivot_tables":0},"unopened":[],"bounds":{"document_bytes":16777216,"sheet_cells":100000,"rows_first":2000,"rows_last":500,"rows_between":2000,"halvings":0,"cell_chars":16384,"cell_head_chars":4096},"cells_cut":0,"cells_raw":0,"read":"whole","date_system":"1900"}

{"sheet":"Rd1","index":0,"n_rows":48,"n_cols":20,"rows_kept":48,"cut":false,"hidden":false,"merged":[[7,4,7,5],[7,11,7,12],[7,18,7,19],[8,4,9,5],[8,11,9,12],[8,18,9,19],[10,4,12,5],[10,11,12,12],[10,18,12,19],[13,18,17,19],[26,18,30,19],[31,18,32,19],[18,4,25,5],[18,11,25,12],[18,18,25,19],[26,4,30,5],[26,11,30,12],[44,13,44,14],[45,13,45,14],[46,13,46,14],[13,4,17,5],[13,11,17,12],[44,3,44,4],[45,3,45,4],[46,3,46,4],[44,11,44,12],[45,11,45,12],[46,11,46,12],[31,4,32,5],[31,11,32,12]]}
[null,null,null,null,null,"Sp. 1",null,null,null,null,null,null,"Sp. 2",null,null,null,null,null,null,"Sp. 3"]
[null,null,null,"Punkte",501,"Start",null,null,null,null,"Punkte",501,"Start",null,null,null,null,"Punkte",501,"Start"]
[null,null,null,"Geworfen",{"$f":"SUM(D34)","v":0},"Punkte",null,null,null,null,"Geworfen",{"$f":"SUM(K34)","v":0},"Punkte",null,null,null,null,"Geworfen",{"$f":"SUM(R34)","v":0},"Punkte"]
["RD 1",{"$f":"COUNT(D4)*1","v":0},{"$f":"COUNT(D4)*3","v":0},null,{"$f":"SUM(E2-E3)","v":501},"Rest",null,"RD 1",{"$f":"COUNT(K4)*1","v":0},{"$f":"COUNT(K4)*3","v":0},null,{"$f":"SUM(L2-L3)","v":501},"Rest",null,"RD 1",{"$f":"COUNT(R4)*1","v":0},{"$f":"COUNT(R4)*3","v":0},null,{"$f":"SUM(S2-S3)","v":501},"Rest"]
["RD 2",{"$f":"COUNT(D5)*1","v":0},{"$f":"COUNT(D5)*3","v":0},null,null,null,null,"RD 2",0,0,null,null,null,null,"RD 2",0,0]
["RD 3",0,0,null,"ø pro Spiel",{"$f":"SUM(E3)/B34","v":{"$error":"#DIV/0!"}},null,"RD 3",0,0,null,"ø pro Spiel",{"$f":"SUM(L3)/I34","v":{"$error":"#DIV/0!"}},null,"RD 3",0,0,null,"ø pro Spiel",{"$f":"SUM(S3)/P34","v":{"$error":"#DIV/0!"}}]
["RD 4",0,0,null,"ø pro Pfeil",{"$f":"SUM(E3)/C34","v":{"$error":"#DIV/0!"}},null,"RD 4",0,0,null,"ø pro Pfeil",{"$f":"SUM(L3)/J34","v":{"$error":"#DIV/0!"}},null,"RD 4",0,0,null,"ø pro Pfeil",{"$f":"SUM(S3)/Q34","v":{"$error":"#DIV/0!"}}]
["RD 5",0,0,null,"Average",null,null,"RD 5",0,0,null,"Average",null,null,"RD 5",0,0,null,"Average"]
["RD 6",0,0,null,{"$f":"SUM(F6)","v":{"$error":"#DIV/0!"}},null,null,"RD 6",0,0,null,{"$f":"SUM(M6)","v":{"$error":"#DIV/0!"}},null,null,"RD 6",0,0,null,{"$f":"SUM(T6)","v":{"$error":"#DIV/0!"}}]
["RD 7",0,0,null,null,null,null,"RD 7",0,0,null,null,null,null,"RD 7",0,0]
["RD 8",0,0,null,"Nicht Gut",null,null,"RD 8",0,0,null,"Nicht Gut",null,null,"RD 8",0,0,null,"Nicht Gut"]
["RD 9",0,0,null,null,null,null,"RD 9",0,0,null,null,null,null,"RD 9",0,0]
["RD 10",0,0,null,null,null,null,"RD 10",0,0,null,null,null,null,"RD 10",0,0]
["RD 11",0,0,null,"Gut",null,null,"RD 11",0,0,null,"Gut",null,null,"RD 11",0,0,null,"Gut"]
["RD 12",0,0,null,null,null,null,"RD 12",0,0,null,null,null,null,"RD 12",0,0]
["RD 13",0,0,null,null,null,null,"RD 13",0,0,null,null,null,null,"RD 13",0,0]
["RD 14",0,0,null,null,null,null,"RD 14",0,0,null,null,null,null,"RD 14",0,0]
["RD 15",0,0,null,null,null,null,"RD 15",0,0,null,null,null,null,"RD 15",0,0]
["RD 16",0,0,null,"Sehr  Gut",null,null,"RD 16",0,0,null,"Sehr  Gut",null,null,"RD 16",0,0,null,"Sehr  Gut"]
["RD 17",0,0,null,null,null,null,"RD 17",0,0,null,null,null,null,"RD 17",0,0]
["RD 18",0,0,null,null,null,null,"RD 18",0,0,null,null,null,null,"RD 18",0,0]
["RD 19",0,0,null,null,null,null,"RD 19",0,0,null,null,null,null,"RD 19",0,0]
["RD 20",0,0,null,null,null,null,"RD 20",0,0,null,null,null,null,"RD 20",0,0]
["RD 21",0,0,null,null,null,null,"RD 21",0,0,null,null,null,null,"RD 21",0,0]
["RD 22",0,0,null,null,null,null,"RD 22",0,0,null,null,null,null,"RD 22",0,0]
["RD 23",0,0,null,null,null,null,"RD 23",0,0,null,null,null,null,"RD 23",0,0]
["RD 24",0,0,null,null,null,null,"RD 24",0,0,null,null,null,null,"RD 24",0,0]
["RD 25",0,0,null,null,null,null,"RD 25",0,0,null,null,null,null,"RD 25",0,0]
["RD 26",0,0,null,null,null,null,"RD 26",0,0,null,null,null,null,"RD 26",0,0]
["RD 27",0,0,null,null,null,null,"RD 27",0,0,null,null,null,null,"RD 27",0,0]
["RD 28",0,0,null,null,null,null,"RD 28",0,0,null,null,null,null,"RD 28",0,0]
["RD 29",0,0,null,{"$f":"IF(E4=0,\"Sieg\",\"\")","v":""},null,null,"RD 29",0,0,null,{"$f":"IF(L4=0,\"Sieg\",\"\")","v":""},null,null,"RD 29",0,0,null,{"$f":"IF(S4=0,\"Sieg\",\"\")","v":""}]
["RD 30",0,0,null,null,null,null,"RD 30",0,0,null,null,null,null,"RD 30",0,0]
[null,{"$f":"SUM(B4:B33)","v":0},{"$f":"SUM(C4:C33)","v":0},{"$f":"SUM(D4:D33)","v":0},{"$f":"SUM(D5:D32)","v":0},null,null,null,{"$f":"SUM(I4:I33)","v":0},{"$f":"SUM(J4:J33)","v":0},{"$f":"SUM(K4:K33)","v":0},{"$f":"SUM(K4:K32)","v":0},null,null,null,{"$f":"SUM(P4:P33)","v":0},{"$f":"SUM(Q4:Q33)","v":0},{"$f":"SUM(R4:R33)","v":0},{"$f":"SUM(R4:R32)","v":0}]
[]
[]
[]
[]
[]
[]
[]
[]
[]
[]
[null,null,null,{"$f":"D1","v":0},null,{"$f":"SUM(D34)","v":0},null,null,null,null,{"$f":"INDEX(D45:E47,MATCH(MAX(F45:F47),F45:F47,0),1)","v":0},{"$f":"E1","v":0},null,{"$f":"SUM(D34)","v":0},null,null,null,null,{"$f":"INDEX(L45:M47,MATCH(MAX(N45:N47),N45:N47,0),1)","v":0}]
[null,null,null,{"$f":"K1","v":0},null,{"$f":"SUM(K34)","v":0},null,null,null,null,null,{"$f":"L1","v":0},null,{"$f":"SUM(K34)","v":0}]
[null,null,null,{"$f":"R1","v":0},null,{"$f":"SUM(S3)","v":0},null,null,null,null,null,{"$f":"S1","v":0},null,{"$f":"SUM(S3)","v":0}]
[null,null,null,"MAX(B2:B7",null,{"$f":"MAX(F45:F47)","v":0},null,null,null,null,null,"MAX(B2:B7",null,{"$f":"MAX(N45:N47)","v":0}]

{"sheet":"Rd2","index":1,"n_rows":48,"n_cols":20,"rows_kept":48,"cut":false,"hidden":false,"merged":[[7,4,7,5],[7,11,7,12],[7,18,7,19],[8,4,9,5],[8,11,9,12],[8,18,9,19],[10,4,12,5],[10,11,12,12],[10,18,12,19],[13,4,17,5],[13,11,17,12],[13,18,17,19],[26,18,30,19],[31,4,32,5],[31,11,32,12],[31,18,32,19],[18,4,25,5],[18,11,25,12],[18,18,25,19],[26,4,30,5],[26,11,30,12],[44,3,44,4],[44,11,44,12],[44,13,44,14],[45,13,45,14],[46,11,46,12],[46,13,46,14],[45,3,45,4],[46,3,46,4],[45,11,45,12]]}
[null,null,null,null,null,"Sp. 1",null,null,null,null,null,null,"Sp. 2",null,null,null,null,null,null,"Sp. 3"]
[null,null,null,"Punkte",501,"Start",null,null,null,null,"Punkte",501,"Start",null,null,null,null,"Punkte",501,"Start"]
[null,null,null,"Geworfen",{"$f":"SUM(D34)","v":0},"Punkte",null,null,null,null,"Geworfen",{"$f":"SUM(K34)","v":0},"Punkte",null,null,null,null,"Geworfen",{"$f":"SUM(R34)","v":0},"Punkte"]
["RD 1",{"$f":"COUNT(D4)*1","v":0},{"$f":"COUNT(D4)*3","v":0},null,{"$f":"SUM(E2-E3)","v":501},"Rest",null,"RD 1",{"$f":"COUNT(K4)*1","v":0},{"$f":"COUNT(K4)*3","v":0},null,{"$f":"SUM(L2-L3)","v":501},"Rest",null,"RD 1",{"$f":"COUNT(R4)*1","v":0},{"$f":"COUNT(R4)*3","v":0},null,{"$f":"SUM(S2-S3)","v":501},"Rest"]
["RD 2",{"$f":"COUNT(D5)*1","v":0},{"$f":"COUNT(D5)*3","v":0},null,null,null,null,"RD 2",0,0,null,null,null,null,"RD 2",0,0]
["RD 3",0,0,null,"ø pro Spiel",{"$f":"SUM(E3)/B34","v":{"$error":"#DIV/0!"}},null,"RD 3",0,0,null,"ø pro Spiel",{"$f":"SUM(L3)/I34","v":{"$error":"#DIV/0!"}},null,"RD 3",0,0,null,"ø pro Spiel",{"$f":"SUM(S3)/P34","v":{"$error":"#DIV/0!"}}]
["RD 4",0,0,null,"ø pro Pfeil",{"$f":"SUM(E3)/C34","v":{"$error":"#DIV/0!"}},null,"RD 4",0,0,null,"ø pro Pfeil",{"$f":"SUM(L3)/J34","v":{"$error":"#DIV/0!"}},null,"RD 4",0,0,null,"ø pro Pfeil",{"$f":"SUM(S3)/Q34","v":{"$error":"#DIV/0!"}}]
["RD 5",0,0,null,"Average",null,null,"RD 5",0,0,null,"Average",null,null,"RD 5",0,0,null,"Average"]
["RD 6",0,0,null,{"$f":"SUM(F6)","v":{"$error":"#DIV/0!"}},null,null,"RD 6",0,0,null,{"$f":"SUM(M6)","v":{"$error":"#DIV/0!"}},null,null,"RD 6",0,0,null,{"$f":"SUM(T6)","v":{"$error":"#DIV/0!"}}]
["RD 7",0,0,null,null,null,null,"RD 7",0,0,null,null,null,null,"RD 7",0,0]
["RD 8",0,0,null,"Nicht Gut",null,null,"RD 8",0,0,null,"Nicht Gut",null,null,"RD 8",0,0,null,"Nicht Gut"]
["RD 9",0,0,null,null,null,null,"RD 9",0,0,null,null,null,null,"RD 9",0,0]
["RD 10",0,0,null,null,null,null,"RD 10",0,0,null,null,null,null,"RD 10",0,0]
["RD 11",0,0,null,"Gut",null,null,"RD 11",0,0,null,"Gut",null,null,"RD 11",0,0,null,"Gut"]
["RD 12",0,0,null,null,null,null,"RD 12",0,0,null,null,null,null,"RD 12",0,0]
["RD 13",0,0,null,null,null,null,"RD 13",0,0,null,null,null,null,"RD 13",0,0]
["RD 14",0,0,null,null,null,null,"RD 14",0,0,null,null,null,null,"RD 14",0,0]
["RD 15",0,0,null,null,null,null,"RD 15",0,0,null,null,null,null,"RD 15",0,0]
["RD 16",0,0,null,"Sehr  Gut",null,null,"RD 16",0,0,null,"Sehr  Gut",null,null,"RD 16",0,0,null,"Sehr  Gut"]
["RD 17",0,0,null,null,null,null,"RD 17",0,0,null,null,null,null,"RD 17",0,0]
["RD 18",0,0,null,null,null,null,"RD 18",0,0,null,null,null,null,"RD 18",0,0]
["RD 19",0,0,null,null,null,null,"RD 19",0,0,null,null,null,null,"RD 19",0,0]
["RD 20",0,0,null,null,null,null,"RD 20",0,0,null,null,null,null,"RD 20",0,0]
["RD 21",0,0,null,null,null,null,"RD 21",0,0,null,null,null,null,"RD 21",0,0]
["RD 22",0,0,null,null,null,null,"RD 22",0,0,null,null,null,null,"RD 22",0,0]
["RD 23",0,0,null,null,null,null,"RD 23",0,0,null,null,null,null,"RD 23",0,0]
["RD 24",0,0,null,null,null,null,"RD 24",0,0,null,null,null,null,"RD 24",0,0]
["RD 25",0,0,null,null,null,null,"RD 25",0,0,null,null,null,null,"RD 25",0,0]
["RD 26",0,0,null,null,null,null,"RD 26",0,0,null,null,null,null,"RD 26",0,0]
["RD 27",0,0,null,null,null,null,"RD 27",0,0,null,null,null,null,"RD 27",0,0]
["RD 28",0,0,null,null,null,null,"RD 28",0,0,null,null,null,null,"RD 28",0,0]
["RD 29",0,0,null,{"$f":"IF(E4=0,\"Sieg\",\"\")","v":""},null,null,"RD 29",0,0,null,{"$f":"IF(L4=0,\"Sieg\",\"\")","v":""},null,null,"RD 29",0,0,null,{"$f":"IF(S4=0,\"Sieg\",\"\")","v":""}]
["RD 30",0,0,null,null,null,null,"RD 30",0,0,null,null,null,null,"RD 30",0,0]
[null,{"$f":"SUM(B4:B33)","v":0},{"$f":"SUM(C4:C33)","v":0},{"$f":"SUM(D4:D33)","v":0},{"$f":"SUM(D5:D32)","v":0},null,null,null,{"$f":"SUM(I4:I33)","v":0},{"$f":"SUM(J4:J33)","v":0},{"$f":"SUM(K4:K33)","v":0},{"$f":"SUM(K4:K32)","v":0},null,null,null,{"$f":"SUM(P4:P33)","v":0},{"$f":"SUM(Q4:Q33)","v":0},{"$f":"SUM(R4:R33)","v":0},{"$f":"SUM(R4:R32)","v":0}]
[]
[]
[]
[]
[]
[]
[]
[]
[]
[]
[null,null,null,{"$f":"D1","v":0},null,{"$f":"SUM(D34)","v":0},null,null,null,null,{"$f":"INDEX(D45:E47,MATCH(MAX(F45:F47),F45:F47,0),1)","v":0},{"$f":"E1","v":0},null,{"$f":"SUM(D34)","v":0},null,null,null,null,{"$f":"INDEX(L45:M47,MATCH(MAX(N45:N47),N45:N47,0),1)","v":0}]
[null,null,null,{"$f":"K1","v":0},null,{"$f":"SUM(K34)","v":0},null,null,null,null,null,{"$f":"L1","v":0},null,{"$f":"SUM(K34)","v":0}]
[null,null,null,{"$f":"R1","v":0},null,{"$f":"SUM(S3)","v":0},null,null,null,null,null,{"$f":"S1","v":0},null,{"$f":"SUM(S3)","v":0}]
[null,null,null,"MAX(B2:B7",null,{"$f":"MAX(F45:F47)","v":0},null,null,null,null,null,"MAX(B2:B7",null,{"$f":"MAX(N45:N47)","v":0}]

{"sheet":"Rd3","index":2,"n_rows":48,"n_cols":20,"rows_kept":48,"cut":false,"hidden":false,"merged":[[0,22,0,25],[7,4,7,5],[7,11,7,12],[7,18,7,19],[8,4,9,5],[8,11,9,12],[8,18,9,19],[10,4,12,5],[10,11,12,12],[10,18,12,19],[13,4,17,5],[13,11,17,12],[13,18,17,19],[26,18,30,19],[31,4,32,5],[31,11,32,12],[31,18,32,19],[18,4,25,5],[18,11,25,12],[18,18,25,19],[26,4,30,5],[26,11,30,12],[44,3,44,4],[44,11,44,12],[44,13,44,14],[45,13,45,14],[46,11,46,12],[46,13,46,14],[45,3,45,4],[46,3,46,4],[45,11,45,12]]}
[null,null,null,null,null,"Sp. 1",null,null,null,null,null,null,"Sp. 2",null,null,null,null,null,null,"Sp. 3"]
[null,null,null,"Punkte",501,"Start",null,null,null,null,"Punkte",501,"Start",null,null,null,null,"Punkte",501,"Start"]
[null,null,null,"Geworfen",{"$f":"SUM(D34)","v":0},"Punkte",null,null,null,null,"Geworfen",{"$f":"SUM(K34)","v":0},"Punkte",null,null,null,null,"Geworfen",{"$f":"SUM(R34)","v":0},"Punkte"]
["RD 1",{"$f":"COUNT(D4)*1","v":0},{"$f":"COUNT(D4)*3","v":0},null,{"$f":"SUM(E2-E3)","v":501},"Rest",null,"RD 1",{"$f":"COUNT(K4)*1","v":0},{"$f":"COUNT(K4)*3","v":0},null,{"$f":"SUM(L2-L3)","v":501},"Rest",null,"RD 1",{"$f":"COUNT(R4)*1","v":0},{"$f":"COUNT(R4)*3","v":0},null,{"$f":"SUM(S2-S3)","v":501},"Rest"]
["RD 2",{"$f":"COUNT(D5)*1","v":0},{"$f":"COUNT(D5)*3","v":0},null,null,null,null,"RD 2",0,0,null,null,null,null,"RD 2",0,0]
["RD 3",0,0,null,"ø pro Spiel",{"$f":"SUM(E3)/B34","v":{"$error":"#DIV/0!"}},null,"RD 3",0,0,null,"ø pro Spiel",{"$f":"SUM(L3)/I34","v":{"$error":"#DIV/0!"}},null,"RD 3",0,0,null,"ø pro Spiel",{"$f":"SUM(S3)/P34","v":{"$error":"#DIV/0!"}}]
["RD 4",0,0,null,"ø pro Pfeil",{"$f":"SUM(E3)/C34","v":{"$error":"#DIV/0!"}},null,"RD 4",0,0,null,"ø pro Pfeil",{"$f":"SUM(L3)/J34","v":{"$error":"#DIV/0!"}},null,"RD 4",0,0,null,"ø pro Pfeil",{"$f":"SUM(S3)/Q34","v":{"$error":"#DIV/0!"}}]
["RD 5",0,0,null,"Average",null,null,"RD 5",0,0,null,"Average",null,null,"RD 5",0,0,null,"Average"]
["RD 6",0,0,null,{"$f":"SUM(F6)","v":{"$error":"#DIV/0!"}},null,null,"RD 6",0,0,null,{"$f":"SUM(M6)","v":{"$error":"#DIV/0!"}},null,null,"RD 6",0,0,null,{"$f":"SUM(T6)","v":{"$error":"#DIV/0!"}}]
["RD 7",0,0,null,null,null,null,"RD 7",0,0,null,null,null,null,"RD 7",0,0]
["RD 8",0,0,null,"Nicht Gut",null,null,"RD 8",0,0,null,"Nicht Gut",null,null,"RD 8",0,0,null,"Nicht Gut"]
["RD 9",0,0,null,null,null,null,"RD 9",0,0,null,null,null,null,"RD 9",0,0]
["RD 10",0,0,null,null,null,null,"RD 10",0,0,null,null,null,null,"RD 10",0,0]
["RD 11",0,0,null,"Gut",null,null,"RD 11",0,0,null,"Gut",null,null,"RD 11",0,0,null,"Gut"]
["RD 12",0,0,null,null,null,null,"RD 12",0,0,null,null,null,null,"RD 12",0,0]
["RD 13",0,0,null,null,null,null,"RD 13",0,0,null,null,null,null,"RD 13",0,0]
["RD 14",0,0,null,null,null,null,"RD 14",0,0,null,null,null,null,"RD 14",0,0]
["RD 15",0,0,null,null,null,null,"RD 15",0,0,null,null,null,null,"RD 15",0,0]
["RD 16",0,0,null,"Sehr  Gut",null,null,"RD 16",0,0,null,"Sehr  Gut",null,null,"RD 16",0,0,null,"Sehr  Gut"]
["RD 17",0,0,null,null,null,null,"RD 17",0,0,null,null,null,null,"RD 17",0,0]
["RD 18",0,0,null,null,null,null,"RD 18",0,0,null,null,null,null,"RD 18",0,0]
["RD 19",0,0,null,null,null,null,"RD 19",0,0,null,null,null,null,"RD 19",0,0]
["RD 20",0,0,null,null,null,null,"RD 20",0,0,null,null,null,null,"RD 20",0,0]
["RD 21",0,0,null,null,null,null,"RD 21",0,0,null,null,null,null,"RD 21",0,0]
["RD 22",0,0,null,null,null,null,"RD 22",0,0,null,null,null,null,"RD 22",0,0]
["RD 23",0,0,null,null,null,null,"RD 23",0,0,null,null,null,null,"RD 23",0,0]
["RD 24",0,0,null,null,null,null,"RD 24",0,0,null,null,null,null,"RD 24",0,0]
["RD 25",0,0,null,null,null,null,"RD 25",0,0,null,null,null,null,"RD 25",0,0]
["RD 26",0,0,null,null,null,null,"RD 26",0,0,null,null,null,null,"RD 26",0,0]
["RD 27",0,0,null,null,null,null,"RD 27",0,0,null,null,null,null,"RD 27",0,0]
["RD 28",0,0,null,null,null,null,"RD 28",0,0,null,null,null,null,"RD 28",0,0]
["RD 29",0,0,null,{"$f":"IF(E4=0,\"Sieg\",\"\")","v":""},null,null,"RD 29",0,0,null,{"$f":"IF(L4=0,\"Sieg\",\"\")","v":""},null,null,"RD 29",0,0,null,{"$f":"IF(S4=0,\"Sieg\",\"\")","v":""}]
["RD 30",0,0,null,null,null,null,"RD 30",0,0,null,null,null,null,"RD 30",0,0]
[null,{"$f":"SUM(B4:B33)","v":0},{"$f":"SUM(C4:C33)","v":0},{"$f":"SUM(D4:D33)","v":0},{"$f":"SUM(D5:D32)","v":0},null,null,null,{"$f":"SUM(I4:I33)","v":0},{"$f":"SUM(J4:J33)","v":0},{"$f":"SUM(K4:K33)","v":0},{"$f":"SUM(K4:K32)","v":0},null,null,null,{"$f":"SUM(P4:P33)","v":0},{"$f":"SUM(Q4:Q33)","v":0},{"$f":"SUM(R4:R33)","v":0},{"$f":"SUM(R4:R32)","v":0}]
[]
[]
[]
[]
[]
[]
[]
[]
[]
[]
[null,null,null,{"$f":"D1","v":0},null,{"$f":"SUM(D34)","v":0},null,null,null,null,{"$f":"INDEX(D45:E47,MATCH(MAX(F45:F47),F45:F47,0),1)","v":0},{"$f":"E1","v":0},null,{"$f":"SUM(D34)","v":0},null,null,null,null,{"$f":"INDEX(L45:M47,MATCH(MAX(N45:N47),N45:N47,0),1)","v":0}]
[null,null,null,{"$f":"K1","v":0},null,{"$f":"SUM(K34)","v":0},null,null,null,null,null,{"$f":"L1","v":0},null,{"$f":"SUM(K34)","v":0}]
[null,null,null,{"$f":"R1","v":0},null,{"$f":"SUM(S3)","v":0},null,null,null,null,null,{"$f":"S1","v":0},null,{"$f":"SUM(S3)","v":0}]
[null,null,null,"MAX(B2:B7",null,{"$f":"MAX(F45:F47)","v":0},null,null,null,null,null,"MAX(B2:B7",null,{"$f":"MAX(N45:N47)","v":0}]

{"sheet":"Rd4","index":3,"n_rows":48,"n_cols":20,"rows_kept":48,"cut":false,"hidden":false,"merged":[[7,4,7,5],[7,11,7,12],[7,18,7,19],[8,4,9,5],[8,11,9,12],[8,18,9,19],[10,4,12,5],[10,11,12,12],[10,18,12,19],[13,4,17,5],[13,11,17,12],[13,18,17,19],[26,18,30,19],[31,4,32,5],[31,11,32,12],[31,18,32,19],[18,4,25,5],[18,11,25,12],[18,18,25,19],[26,4,30,5],[26,11,30,12],[44,3,44,4],[44,11,44,12],[44,13,44,14],[45,13,45,14],[46,11,46,12],[46,13,46,14],[45,3,45,4],[46,3,46,4],[45,11,45,12]]}
[null,null,null,null,null,"Sp. 1",null,null,null,null,null,null,"Sp. 2",null,null,null,null,null,null,"Sp. 3"]
[null,null,null,"Punkte",501,"Start",null,null,null,null,"Punkte",501,"Start",null,null,null,null,"Punkte",501,"Start"]
[null,null,null,"Geworfen",{"$f":"SUM(D34)","v":0},"Punkte",null,null,null,null,"Geworfen",{"$f":"SUM(K34)","v":0},"Punkte",null,null,null,null,"Geworfen",{"$f":"SUM(R34)","v":0},"Punkte"]
["RD 1",{"$f":"COUNT(D4)*1","v":0},{"$f":"COUNT(D4)*3","v":0},null,{"$f":"SUM(E2-E3)","v":501},"Rest",null,"RD 1",{"$f":"COUNT(K4)*1","v":0},{"$f":"COUNT(K4)*3","v":0},null,{"$f":"SUM(L2-L3)","v":501},"Rest",null,"RD 1",{"$f":"COUNT(R4)*1","v":0},{"$f":"COUNT(R4)*3","v":0},null,{"$f":"SUM(S2-S3)","v":501},"Rest"]
["RD 2",{"$f":"COUNT(D5)*1","v":0},{"$f":"COUNT(D5)*3","v":0},null,null,null,null,"RD 2",0,0,null,null,null,null,"RD 2",0,0]
["RD 3",0,0,null,"ø pro Spiel",{"$f":"SUM(E3)/B34","v":{"$error":"#DIV/0!"}},null,"RD 3",0,0,null,"ø pro Spiel",{"$f":"SUM(L3)/I34","v":{"$error":"#DIV/0!"}},null,"RD 3",0,0,null,"ø pro Spiel",{"$f":"SUM(S3)/P34","v":{"$error":"#DIV/0!"}}]
["RD 4",0,0,null,"ø pro Pfeil",{"$f":"SUM(E3)/C34","v":{"$error":"#DIV/0!"}},null,"RD 4",0,0,null,"ø pro Pfeil",{"$f":"SUM(L3)/J34","v":{"$error":"#DIV/0!"}},null,"RD 4",0,0,null,"ø pro Pfeil",{"$f":"SUM(S3)/Q34","v":{"$error":"#DIV/0!"}}]
["RD 5",0,0,null,"Average",null,null,"RD 5",0,0,null,"Average",null,null,"RD 5",0,0,null,"Average"]
["RD 6",0,0,null,{"$f":"SUM(F6)","v":{"$error":"#DIV/0!"}},null,null,"RD 6",0,0,null,{"$f":"SUM(M6)","v":{"$error":"#DIV/0!"}},null,null,"RD 6",0,0,null,{"$f":"SUM(T6)","v":{"$error":"#DIV/0!"}}]
["RD 7",0,0,null,null,null,null,"RD 7",0,0,null,null,null,null,"RD 7",0,0]
["RD 8",0,0,null,"Nicht Gut",null,null,"RD 8",0,0,null,"Nicht Gut",null,null,"RD 8",0,0,null,"Nicht Gut"]
["RD 9",0,0,null,null,null,null,"RD 9",0,0,null,null,null,null,"RD 9",0,0]
["RD 10",0,0,null,null,null,null,"RD 10",0,0,null,null,null,null,"RD 10",0,0]
["RD 11",0,0,null,"Gut",null,null,"RD 11",0,0,null,"Gut",null,null,"RD 11",0,0,null,"Gut"]
["RD 12",0,0,null,null,null,null,"RD 12",0,0,null,null,null,null,"RD 12",0,0]
["RD 13",0,0,null,null,null,null,"RD 13",0,0,null,null,null,null,"RD 13",0,0]
["RD 14",0,0,null,null,null,null,"RD 14",0,0,null,null,null,null,"RD 14",0,0]
["RD 15",0,0,null,null,null,null,"RD 15",0,0,null,null,null,null,"RD 15",0,0]
["RD 16",0,0,null,"Sehr  Gut",null,null,"RD 16",0,0,null,"Sehr  Gut",null,null,"RD 16",0,0,null,"Sehr  Gut"]
["RD 17",0,0,null,null,null,null,"RD 17",0,0,null,null,null,null,"RD 17",0,0]
["RD 18",0,0,null,null,null,null,"RD 18",0,0,null,null,null,null,"RD 18",0,0]
["RD 19",0,0,null,null,null,null,"RD 19",0,0,null,null,null,null,"RD 19",0,0]
["RD 20",0,0,null,null,null,null,"RD 20",0,0,null,null,null,null,"RD 20",0,0]
["RD 21",0,0,null,null,null,null,"RD 21",0,0,null,null,null,null,"RD 21",0,0]
["RD 22",0,0,null,null,null,null,"RD 22",0,0,null,null,null,null,"RD 22",0,0]
["RD 23",0,0,null,null,null,null,"RD 23",0,0,null,null,null,null,"RD 23",0,0]
["RD 24",0,0,null,null,null,null,"RD 24",0,0,null,null,null,null,"RD 24",0,0]
["RD 25",0,0,null,null,null,null,"RD 25",0,0,null,null,null,null,"RD 25",0,0]
["RD 26",0,0,null,null,null,null,"RD 26",0,0,null,null,null,null,"RD 26",0,0]
["RD 27",0,0,null,null,null,null,"RD 27",0,0,null,null,null,null,"RD 27",0,0]
["RD 28",0,0,null,null,null,null,"RD 28",0,0,null,null,null,null,"RD 28",0,0]
["RD 29",0,0,null,{"$f":"IF(E4=0,\"Sieg\",\"\")","v":""},null,null,"RD 29",0,0,null,{"$f":"IF(L4=0,\"Sieg\",\"\")","v":""},null,null,"RD 29",0,0,null,{"$f":"IF(S4=0,\"Sieg\",\"\")","v":""}]
["RD 30",0,0,null,null,null,null,"RD 30",0,0,null,null,null,null,"RD 30",0,0]
[null,{"$f":"SUM(B4:B33)","v":0},{"$f":"SUM(C4:C33)","v":0},{"$f":"SUM(D4:D33)","v":0},{"$f":"SUM(D5:D32)","v":0},null,null,null,{"$f":"SUM(I4:I33)","v":0},{"$f":"SUM(J4:J33)","v":0},{"$f":"SUM(K4:K33)","v":0},{"$f":"SUM(K4:K32)","v":0},null,null,null,{"$f":"SUM(P4:P33)","v":0},{"$f":"SUM(Q4:Q33)","v":0},{"$f":"SUM(R4:R33)","v":0},{"$f":"SUM(R4:R32)","v":0}]
[]
[]
[]
[]
[]
[]
[]
[]
[]
[]
[null,null,null,{"$f":"D1","v":0},null,{"$f":"SUM(D34)","v":0},null,null,null,null,{"$f":"INDEX(D45:E47,MATCH(MAX(F45:F47),F45:F47,0),1)","v":0},{"$f":"E1","v":0},null,{"$f":"SUM(D34)","v":0},null,null,null,null,{"$f":"INDEX(L45:M47,MATCH(MAX(N45:N47),N45:N47,0),1)","v":0}]
[null,null,null,{"$f":"K1","v":0},null,{"$f":"SUM(K34)","v":0},null,null,null,null,null,{"$f":"L1","v":0},null,{"$f":"SUM(K34)","v":0}]
[null,null,null,{"$f":"R1","v":0},null,{"$f":"SUM(S3)","v":0},null,null,null,null,null,{"$f":"S1","v":0},null,{"$f":"SUM(S3)","v":0}]
[null,null,null,"MAX(B2:B7",null,{"$f":"MAX(F45:F47)","v":0},null,null,null,null,null,"MAX(B2:B7",null,{"$f":"MAX(N45:N47)","v":0}]

{"sheet":"Rd5","index":4,"n_rows":48,"n_cols":20,"rows_kept":48,"cut":false,"hidden":false,"merged":[[7,4,7,5],[7,11,7,12],[7,18,7,19],[8,4,9,5],[8,11,9,12],[8,18,9,19],[10,4,12,5],[10,11,12,12],[10,18,12,19],[13,4,17,5],[13,11,17,12],[13,18,17,19],[26,18,30,19],[31,4,32,5],[31,11,32,12],[31,18,32,19],[18,4,25,5],[18,11,25,12],[18,18,25,19],[26,4,30,5],[26,11,30,12],[44,3,44,4],[44,11,44,12],[44,13,44,14],[45,13,45,14],[46,11,46,12],[46,13,46,14],[45,3,45,4],[46,3,46,4],[45,11,45,12]]}
[null,null,null,null,null,"Sp. 1",null,null,null,null,null,null,"Sp. 2",null,null,null,null,null,null,"Sp. 3"]
[null,null,null,"Punkte",501,"Start",null,null,null,null,"Punkte",501,"Start",null,null,null,null,"Punkte",501,"Start"]
[null,null,null,"Geworfen",{"$f":"SUM(D34)","v":0},"Punkte",null,null,null,null,"Geworfen",{"$f":"SUM(K34)","v":0},"Punkte",null,null,null,null,"Geworfen",{"$f":"SUM(R34)","v":0},"Punkte"]
["RD 1",{"$f":"COUNT(D4)*1","v":0},{"$f":"COUNT(D4)*3","v":0},null,{"$f":"SUM(E2-E3)","v":501},"Rest",null,"RD 1",{"$f":"COUNT(K4)*1","v":0},{"$f":"COUNT(K4)*3","v":0},null,{"$f":"SUM(L2-L3)","v":501},"Rest",null,"RD 1",{"$f":"COUNT(R4)*1","v":0},{"$f":"COUNT(R4)*3","v":0},null,{"$f":"SUM(S2-S3)","v":501},"Rest"]
["RD 2",{"$f":"COUNT(D5)*1","v":0},{"$f":"COUNT(D5)*3","v":0},null,null,null,null,"RD 2",0,0,null,null,null,null,"RD 2",0,0]
["RD 3",0,0,null,"ø pro Spiel",{"$f":"SUM(E3)/B34","v":{"$error":"#DIV/0!"}},null,"RD 3",0,0,null,"ø pro Spiel",{"$f":"SUM(L3)/I34","v":{"$error":"#DIV/0!"}},null,"RD 3",0,0,null,"ø pro Spiel",{"$f":"SUM(S3)/P34","v":{"$error":"#DIV/0!"}}]
["RD 4",0,0,null,"ø pro Pfeil",{"$f":"SUM(E3)/C34","v":{"$error":"#DIV/0!"}},null,"RD 4",0,0,null,"ø pro Pfeil",{"$f":"SUM(L3)/J34","v":{"$error":"#DIV/0!"}},null,"RD 4",0,0,null,"ø pro Pfeil",{"$f":"SUM(S3)/Q34","v":{"$error":"#DIV/0!"}}]
["RD 5",0,0,null,"Average",null,null,"RD 5",0,0,null,"Average",null,null,"RD 5",0,0,null,"Average"]
["RD 6",0,0,null,{"$f":"SUM(F6)","v":{"$error":"#DIV/0!"}},null,null,"RD 6",0,0,null,{"$f":"SUM(M6)","v":{"$error":"#DIV/0!"}},null,null,"RD 6",0,0,null,{"$f":"SUM(T6)","v":{"$error":"#DIV/0!"}}]
["RD 7",0,0,null,null,null,null,"RD 7",0,0,null,null,null,null,"RD 7",0,0]
["RD 8",0,0,null,"Nicht Gut",null,null,"RD 8",0,0,null,"Nicht Gut",null,null,"RD 8",0,0,null,"Nicht Gut"]
["RD 9",0,0,null,null,null,null,"RD 9",0,0,null,null,null,null,"RD 9",0,0]
["RD 10",0,0,null,null,null,null,"RD 10",0,0,null,null,null,null,"RD 10",0,0]
["RD 11",0,0,null,"Gut",null,null,"RD 11",0,0,null,"Gut",null,null,"RD 11",0,0,null,"Gut"]
["RD 12",0,0,null,null,null,null,"RD 12",0,0,null,null,null,null,"RD 12",0,0]
["RD 13",0,0,null,null,null,null,"RD 13",0,0,null,null,null,null,"RD 13",0,0]
["RD 14",0,0,null,null,null,null,"RD 14",0,0,null,null,null,null,"RD 14",0,0]
["RD 15",0,0,null,null,null,null,"RD 15",0,0,null,null,null,null,"RD 15",0,0]
["RD 16",0,0,null,"Sehr  Gut",null,null,"RD 16",0,0,null,"Sehr  Gut",null,null,"RD 16",0,0,null,"Sehr  Gut"]
["RD 17",0,0,null,null,null,null,"RD 17",0,0,null,null,null,null,"RD 17",0,0]
["RD 18",0,0,null,null,null,null,"RD 18",0,0,null,null,null,null,"RD 18",0,0]
["RD 19",0,0,null,null,null,null,"RD 19",0,0,null,null,null,null,"RD 19",0,0]
["RD 20",0,0,null,null,null,null,"RD 20",0,0,null,null,null,null,"RD 20",0,0]
["RD 21",0,0,null,null,null,null,"RD 21",0,0,null,null,null,null,"RD 21",0,0]
["RD 22",0,0,null,null,null,null,"RD 22",0,0,null,null,null,null,"RD 22",0,0]
["RD 23",0,0,null,null,null,null,"RD 23",0,0,null,null,null,null,"RD 23",0,0]
["RD 24",0,0,null,null,null,null,"RD 24",0,0,null,null,null,null,"RD 24",0,0]
["RD 25",0,0,null,null,null,null,"RD 25",0,0,null,null,null,null,"RD 25",0,0]
["RD 26",0,0,null,null,null,null,"RD 26",0,0,null,null,null,null,"RD 26",0,0]
["RD 27",0,0,null,null,null,null,"RD 27",0,0,null,null,null,null,"RD 27",0,0]
["RD 28",0,0,null,null,null,null,"RD 28",0,0,null,null,null,null,"RD 28",0,0]
["RD 29",0,0,null,{"$f":"IF(E4=0,\"Sieg\",\"\")","v":""},null,null,"RD 29",0,0,null,{"$f":"IF(L4=0,\"Sieg\",\"\")","v":""},null,null,"RD 29",0,0,null,{"$f":"IF(S4=0,\"Sieg\",\"\")","v":""}]
["RD 30",0,0,null,null,null,null,"RD 30",0,0,null,null,null,null,"RD 30",0,0]
[null,{"$f":"SUM(B4:B33)","v":0},{"$f":"SUM(C4:C33)","v":0},{"$f":"SUM(D4:D33)","v":0},{"$f":"SUM(D5:D32)","v":0},null,null,null,{"$f":"SUM(I4:I33)","v":0},{"$f":"SUM(J4:J33)","v":0},{"$f":"SUM(K4:K33)","v":0},{"$f":"SUM(K4:K32)","v":0},null,null,null,{"$f":"SUM(P4:P33)","v":0},{"$f":"SUM(Q4:Q33)","v":0},{"$f":"SUM(R4:R33)","v":0},{"$f":"SUM(R4:R32)","v":0}]
[]
[]
[]
[]
[]
[]
[]
[]
[]
[]
[null,null,null,{"$f":"D1","v":0},null,{"$f":"SUM(D34)","v":0},null,null,null,null,{"$f":"INDEX(D45:E47,MATCH(MAX(F45:F47),F45:F47,0),1)","v":0},{"$f":"E1","v":0},null,{"$f":"SUM(D34)","v":0},null,null,null,null,{"$f":"INDEX(L45:M47,MATCH(MAX(N45:N47),N45:N47,0),1)","v":0}]
[null,null,null,{"$f":"K1","v":0},null,{"$f":"SUM(K34)","v":0},null,null,null,null,null,{"$f":"L1","v":0},null,{"$f":"SUM(K34)","v":0}]
[null,null,null,{"$f":"R1","v":0},null,{"$f":"SUM(S3)","v":0},null,null,null,null,null,{"$f":"S1","v":0},null,{"$f":"SUM(S3)","v":0}]
[null,null,null,"MAX(B2:B7",null,{"$f":"MAX(F45:F47)","v":0},null,null,null,null,null,"MAX(B2:B7",null,{"$f":"MAX(N45:N47)","v":0}]

{"sheet":"Rd6","index":5,"n_rows":48,"n_cols":20,"rows_kept":48,"cut":false,"hidden":false,"merged":[[7,4,7,5],[7,11,7,12],[7,18,7,19],[8,4,9,5],[8,11,9,12],[8,18,9,19],[10,4,12,5],[10,11,12,12],[10,18,12,19],[13,4,17,5],[13,11,17,12],[13,18,17,19],[18,4,25,5],[18,11,25,12],[18,18,25,19],[26,4,30,5],[26,11,30,12],[46,11,46,12],[46,13,46,14],[45,3,45,4],[46,3,46,4],[26,18,30,19],[31,4,32,5],[31,11,32,12],[31,18,32,19],[44,3,44,4],[44,11,44,12],[44,13,44,14],[45,11,45,12],[45,13,45,14]]}
[null,null,null,null,null,"Sp. 1",null,null,null,null,null,null,"Sp. 2",null,null,null,null,null,null,"Sp. 3"]
[null,null,null,"Punkte",501,"Start",null,null,null,null,"Punkte",501,"Start",null,null,null,null,"Punkte",501,"Start"]
[null,null,null,"Geworfen",{"$f":"SUM(D34)","v":0},"Punkte",null,null,null,null,"Geworfen",{"$f":"SUM(K34)","v":0},"Punkte",null,null,null,null,"Geworfen",{"$f":"SUM(R34)","v":0},"Punkte"]
["RD 1",{"$f":"COUNT(D4)*1","v":0},{"$f":"COUNT(D4)*3","v":0},null,{"$f":"SUM(E2-E3)","v":501},"Rest",null,"RD 1",{"$f":"COUNT(K4)*1","v":0},{"$f":"COUNT(K4)*3","v":0},null,{"$f":"SUM(L2-L3)","v":501},"Rest",null,"RD 1",{"$f":"COUNT(R4)*1","v":0},{"$f":"COUNT(R4)*3","v":0},null,{"$f":"SUM(S2-S3)","v":501},"Rest"]
["RD 2",{"$f":"COUNT(D5)*1","v":0},{"$f":"COUNT(D5)*3","v":0},null,null,null,null,"RD 2",0,0,null,null,null,null,"RD 2",0,0]
["RD 3",0,0,null,"ø pro Spiel",{"$f":"SUM(E3)/B34","v":{"$error":"#DIV/0!"}},null,"RD 3",0,0,null,"ø pro Spiel",{"$f":"SUM(L3)/I34","v":{"$error":"#DIV/0!"}},null,"RD 3",0,0,null,"ø pro Spiel",{"$f":"SUM(S3)/P34","v":{"$error":"#DIV/0!"}}]
["RD 4",0,0,null,"ø pro Pfeil",{"$f":"SUM(E3)/C34","v":{"$error":"#DIV/0!"}},null,"RD 4",0,0,null,"ø pro Pfeil",{"$f":"SUM(L3)/J34","v":{"$error":"#DIV/0!"}},null,"RD 4",0,0,null,"ø pro Pfeil",{"$f":"SUM(S3)/Q34","v":{"$error":"#DIV/0!"}}]
["RD 5",0,0,null,"Average",null,null,"RD 5",0,0,null,"Average",null,null,"RD 5",0,0,null,"Average"]
["RD 6",0,0,null,{"$f":"SUM(F6)","v":{"$error":"#DIV/0!"}},null,null,"RD 6",0,0,null,{"$f":"SUM(M6)","v":{"$error":"#DIV/0!"}},null,null,"RD 6",0,0,null,{"$f":"SUM(T6)","v":{"$error":"#DIV/0!"}}]
["RD 7",0,0,null,null,null,null,"RD 7",0,0,null,null,null,null,"RD 7",0,0]
["RD 8",0,0,null,"Nicht Gut",null,null,"RD 8",0,0,null,"Nicht Gut",null,null,"RD 8",0,0,null,"Nicht Gut"]
["RD 9",0,0,null,null,null,null,"RD 9",0,0,null,null,null,null,"RD 9",0,0]
["RD 10",0,0,null,null,null,null,"RD 10",0,0,null,null,null,null,"RD 10",0,0]
["RD 11",0,0,null,"Gut",null,null,"RD 11",0,0,null,"Gut",null,null,"RD 11",0,0,null,"Gut"]
["RD 12",0,0,null,null,null,null,"RD 12",0,0,null,null,null,null,"RD 12",0,0]
["RD 13",0,0,null,null,null,null,"RD 13",0,0,null,null,null,null,"RD 13",0,0]
["RD 14",0,0,null,null,null,null,"RD 14",0,0,null,null,null,null,"RD 14",0,0]
["RD 15",0,0,null,null,null,null,"RD 15",0,0,null,null,null,null,"RD 15",0,0]
["RD 16",0,0,null,"Sehr  Gut",null,null,"RD 16",0,0,null,"Sehr  Gut",null,null,"RD 16",0,0,null,"Sehr  Gut"]
["RD 17",0,0,null,null,null,null,"RD 17",0,0,null,null,null,null,"RD 17",0,0]
["RD 18",0,0,null,null,null,null,"RD 18",0,0,null,null,null,null,"RD 18",0,0]
["RD 19",0,0,null,null,null,null,"RD 19",0,0,null,null,null,null,"RD 19",0,0]
["RD 20",0,0,null,null,null,null,"RD 20",0,0,null,null,null,null,"RD 20",0,0]
["RD 21",0,0,null,null,null,null,"RD 21",0,0,null,null,null,null,"RD 21",0,0]
["RD 22",0,0,null,null,null,null,"RD 22",0,0,null,null,null,null,"RD 22",0,0]
["RD 23",0,0,null,null,null,null,"RD 23",0,0,null,null,null,null,"RD 23",0,0]
["RD 24",0,0,null,null,null,null,"RD 24",0,0,null,null,null,null,"RD 24",0,0]
["RD 25",0,0,null,null,null,null,"RD 25",0,0,null,null,null,null,"RD 25",0,0]
["RD 26",0,0,null,null,null,null,"RD 26",0,0,null,null,null,null,"RD 26",0,0]
["RD 27",0,0,null,null,null,null,"RD 27",0,0,null,null,null,null,"RD 27",0,0]
["RD 28",0,0,null,null,null,null,"RD 28",0,0,null,null,null,null,"RD 28",0,0]
["RD 29",0,0,null,{"$f":"IF(E4=0,\"Sieg\",\"\")","v":""},null,null,"RD 29",0,0,null,{"$f":"IF(L4=0,\"Sieg\",\"\")","v":""},null,null,"RD 29",0,0,null,{"$f":"IF(S4=0,\"Sieg\",\"\")","v":""}]
["RD 30",0,0,null,null,null,null,"RD 30",0,0,null,null,null,null,"RD 30",0,0]
[null,{"$f":"SUM(B4:B33)","v":0},{"$f":"SUM(C4:C33)","v":0},{"$f":"SUM(D4:D33)","v":0},{"$f":"SUM(D5:D32)","v":0},null,null,null,{"$f":"SUM(I4:I33)","v":0},{"$f":"SUM(J4:J33)","v":0},{"$f":"SUM(K4:K33)","v":0},{"$f":"SUM(K4:K32)","v":0},null,null,null,{"$f":"SUM(P4:P33)","v":0},{"$f":"SUM(Q4:Q33)","v":0},{"$f":"SUM(R4:R33)","v":0},{"$f":"SUM(R4:R32)","v":0}]
[]
[]
[]
[]
[]
[]
[]
[]
[]
[]
[null,null,null,{"$f":"D1","v":0},null,{"$f":"SUM(D34)","v":0},null,null,null,null,{"$f":"INDEX(D45:E47,MATCH(MAX(F45:F47),F45:F47,0),1)","v":0},{"$f":"E1","v":0},null,{"$f":"SUM(D34)","v":0},null,null,null,null,{"$f":"INDEX(L45:M47,MATCH(MAX(N45:N47),N45:N47,0),1)","v":0}]
[null,null,null,{"$f":"K1","v":0},null,{"$f":"SUM(K34)","v":0},null,null,null,null,null,{"$f":"L1","v":0},null,{"$f":"SUM(K34)","v":0}]
[null,null,null,{"$f":"R1","v":0},null,{"$f":"SUM(S3)","v":0},null,null,null,null,null,{"$f":"S1","v":0},null,{"$f":"SUM(S3)","v":0}]
[null,null,null,"MAX(B2:B7",null,{"$f":"MAX(F45:F47)","v":0},null,null,null,null,null,"MAX(B2:B7",null,{"$f":"MAX(N45:N47)","v":0}]

{"sheet":"Rd7","index":6,"n_rows":48,"n_cols":20,"rows_kept":48,"cut":false,"hidden":false,"merged":[[7,4,7,5],[7,11,7,12],[7,18,7,19],[8,4,9,5],[8,11,9,12],[8,18,9,19],[10,4,12,5],[10,11,12,12],[10,18,12,19],[13,4,17,5],[13,11,17,12],[13,18,17,19],[26,18,30,19],[31,4,32,5],[31,11,32,12],[31,18,32,19],[18,4,25,5],[18,11,25,12],[18,18,25,19],[26,4,30,5],[26,11,30,12],[44,3,44,4],[44,11,44,12],[44,13,44,14],[45,13,45,14],[46,11,46,12],[46,13,46,14],[45,3,45,4],[46,3,46,4],[45,11,45,12]]}
[null,null,null,null,null,"Sp. 1",null,null,null,null,null,null,"Sp. 2",null,null,null,null,null,null,"Sp. 3"]
[null,null,null,"Punkte",501,"Start",null,null,null,null,"Punkte",501,"Start",null,null,null,null,"Punkte",501,"Start"]
[null,null,null,"Geworfen",{"$f":"SUM(D34)","v":0},"Punkte",null,null,null,null,"Geworfen",{"$f":"SUM(K34)","v":0},"Punkte",null,null,null,null,"Geworfen",{"$f":"SUM(R34)","v":0},"Punkte"]
["RD 1",{"$f":"COUNT(D4)*1","v":0},{"$f":"COUNT(D4)*3","v":0},null,{"$f":"SUM(E2-E3)","v":501},"Rest",null,"RD 1",{"$f":"COUNT(K4)*1","v":0},{"$f":"COUNT(K4)*3","v":0},null,{"$f":"SUM(L2-L3)","v":501},"Rest",null,"RD 1",{"$f":"COUNT(R4)*1","v":0},{"$f":"COUNT(R4)*3","v":0},null,{"$f":"SUM(S2-S3)","v":501},"Rest"]
["RD 2",{"$f":"COUNT(D5)*1","v":0},{"$f":"COUNT(D5)*3","v":0},null,null,null,null,"RD 2",0,0,null,null,null,null,"RD 2",0,0]
["RD 3",0,0,null,"ø pro Spiel",{"$f":"SUM(E3)/B34","v":{"$error":"#DIV/0!"}},null,"RD 3",0,0,null,"ø pro Spiel",{"$f":"SUM(L3)/I34","v":{"$error":"#DIV/0!"}},null,"RD 3",0,0,null,"ø pro Spiel",{"$f":"SUM(S3)/P34","v":{"$error":"#DIV/0!"}}]
["RD 4",0,0,null,"ø pro Pfeil",{"$f":"SUM(E3)/C34","v":{"$error":"#DIV/0!"}},null,"RD 4",0,0,null,"ø pro Pfeil",{"$f":"SUM(L3)/J34","v":{"$error":"#DIV/0!"}},null,"RD 4",0,0,null,"ø pro Pfeil",{"$f":"SUM(S3)/Q34","v":{"$error":"#DIV/0!"}}]
["RD 5",0,0,null,"Average",null,null,"RD 5",0,0,null,"Average",null,null,"RD 5",0,0,null,"Average"]
["RD 6",0,0,null,{"$f":"SUM(F6)","v":{"$error":"#DIV/0!"}},null,null,"RD 6",0,0,null,{"$f":"SUM(M6)","v":{"$error":"#DIV/0!"}},null,null,"RD 6",0,0,null,{"$f":"SUM(T6)","v":{"$error":"#DIV/0!"}}]
["RD 7",0,0,null,null,null,null,"RD 7",0,0,null,null,null,null,"RD 7",0,0]
["RD 8",0,0,null,"Nicht Gut",null,null,"RD 8",0,0,null,"Nicht Gut",null,null,"RD 8",0,0,null,"Nicht Gut"]
["RD 9",0,0,null,null,null,null,"RD 9",0,0,null,null,null,null,"RD 9",0,0]
["RD 10",0,0,null,null,null,null,"RD 10",0,0,null,null,null,null,"RD 10",0,0]
["RD 11",0,0,null,"Gut",null,null,"RD 11",0,0,null,"Gut",null,null,"RD 11",0,0,null,"Gut"]
["RD 12",0,0,null,null,null,null,"RD 12",0,0,null,null,null,null,"RD 12",0,0]
["RD 13",0,0,null,null,null,null,"RD 13",0,0,null,null,null,null,"RD 13",0,0]
["RD 14",0,0,null,null,null,null,"RD 14",0,0,null,null,null,null,"RD 14",0,0]
["RD 15",0,0,null,null,null,null,"RD 15",0,0,null,null,null,null,"RD 15",0,0]
["RD 16",0,0,null,"Sehr  Gut",null,null,"RD 16",0,0,null,"Sehr  Gut",null,null,"RD 16",0,0,null,"Sehr  Gut"]
["RD 17",0,0,null,null,null,null,"RD 17",0,0,null,null,null,null,"RD 17",0,0]
["RD 18",0,0,null,null,null,null,"RD 18",0,0,null,null,null,null,"RD 18",0,0]
["RD 19",0,0,null,null,null,null,"RD 19",0,0,null,null,null,null,"RD 19",0,0]
["RD 20",0,0,null,null,null,null,"RD 20",0,0,null,null,null,null,"RD 20",0,0]
["RD 21",0,0,null,null,null,null,"RD 21",0,0,null,null,null,null,"RD 21",0,0]
["RD 22",0,0,null,null,null,null,"RD 22",0,0,null,null,null,null,"RD 22",0,0]
["RD 23",0,0,null,null,null,null,"RD 23",0,0,null,null,null,null,"RD 23",0,0]
["RD 24",0,0,null,null,null,null,"RD 24",0,0,null,null,null,null,"RD 24",0,0]
["RD 25",0,0,null,null,null,null,"RD 25",0,0,null,null,null,null,"RD 25",0,0]
["RD 26",0,0,null,null,null,null,"RD 26",0,0,null,null,null,null,"RD 26",0,0]
["RD 27",0,0,null,null,null,null,"RD 27",0,0,null,null,null,null,"RD 27",0,0]
["RD 28",0,0,null,null,null,null,"RD 28",0,0,null,null,null,null,"RD 28",0,0]
["RD 29",0,0,null,{"$f":"IF(E4=0,\"Sieg\",\"\")","v":""},null,null,"RD 29",0,0,null,{"$f":"IF(L4=0,\"Sieg\",\"\")","v":""},null,null,"RD 29",0,0,null,{"$f":"IF(S4=0,\"Sieg\",\"\")","v":""}]
["RD 30",0,0,null,null,null,null,"RD 30",0,0,null,null,null,null,"RD 30",0,0]
[null,{"$f":"SUM(B4:B33)","v":0},{"$f":"SUM(C4:C33)","v":0},{"$f":"SUM(D4:D33)","v":0},{"$f":"SUM(D5:D32)","v":0},null,null,null,{"$f":"SUM(I4:I33)","v":0},{"$f":"SUM(J4:J33)","v":0},{"$f":"SUM(K4:K33)","v":0},{"$f":"SUM(K4:K32)","v":0},null,null,null,{"$f":"SUM(P4:P33)","v":0},{"$f":"SUM(Q4:Q33)","v":0},{"$f":"SUM(R4:R33)","v":0},{"$f":"SUM(R4:R32)","v":0}]
[]
[]
[]
[]
[]
[]
[]
[]
[]
[]
[null,null,null,{"$f":"D1","v":0},null,{"$f":"SUM(D34)","v":0},null,null,null,null,{"$f":"INDEX(D45:E47,MATCH(MAX(F45:F47),F45:F47,0),1)","v":0},{"$f":"E1","v":0},null,{"$f":"SUM(D34)","v":0},null,null,null,null,{"$f":"INDEX(L45:M47,MATCH(MAX(N45:N47),N45:N47,0),1)","v":0}]
[null,null,null,{"$f":"K1","v":0},null,{"$f":"SUM(K34)","v":0},null,null,null,null,null,{"$f":"L1","v":0},null,{"$f":"SUM(K34)","v":0}]
[null,null,null,{"$f":"R1","v":0},null,{"$f":"SUM(S3)","v":0},null,null,null,null,null,{"$f":"S1","v":0},null,{"$f":"SUM(S3)","v":0}]
[null,null,null,"MAX(B2:B7",null,{"$f":"MAX(F45:F47)","v":0},null,null,null,null,null,"MAX(B2:B7",null,{"$f":"MAX(N45:N47)","v":0}]

{"sheet":"Rd8","index":7,"n_rows":48,"n_cols":20,"rows_kept":48,"cut":false,"hidden":false,"merged":[[7,4,7,5],[7,11,7,12],[7,18,7,19],[8,4,9,5],[8,11,9,12],[8,18,9,19],[10,4,12,5],[10,11,12,12],[10,18,12,19],[13,4,17,5],[13,11,17,12],[13,18,17,19],[26,18,30,19],[31,4,32,5],[31,11,32,12],[31,18,32,19],[18,4,25,5],[18,11,25,12],[18,18,25,19],[26,4,30,5],[26,11,30,12],[44,3,44,4],[44,11,44,12],[44,13,44,14],[45,13,45,14],[46,11,46,12],[46,13,46,14],[45,3,45,4],[46,3,46,4],[45,11,45,12]]}
[null,null,null,null,null,"Sp. 1",null,null,null,null,null,null,"Sp. 2",null,null,null,null,null,null,"Sp. 3"]
[null,null,null,"Punkte",501,"Start",null,null,null,null,"Punkte",501,"Start",null,null,null,null,"Punkte",501,"Start"]
[null,null,null,"Geworfen",{"$f":"SUM(D34)","v":0},"Punkte",null,null,null,null,"Geworfen",{"$f":"SUM(K34)","v":0},"Punkte",null,null,null,null,"Geworfen",{"$f":"SUM(R34)","v":0},"Punkte"]
["RD 1",{"$f":"COUNT(D4)*1","v":0},{"$f":"COUNT(D4)*3","v":0},null,{"$f":"SUM(E2-E3)","v":501},"Rest",null,"RD 1",{"$f":"COUNT(K4)*1","v":0},{"$f":"COUNT(K4)*3","v":0},null,{"$f":"SUM(L2-L3)","v":501},"Rest",null,"RD 1",{"$f":"COUNT(R4)*1","v":0},{"$f":"COUNT(R4)*3","v":0},null,{"$f":"SUM(S2-S3)","v":501},"Rest"]
["RD 2",{"$f":"COUNT(D5)*1","v":0},{"$f":"COUNT(D5)*3","v":0},null,null,null,null,"RD 2",0,0,null,null,null,null,"RD 2",0,0]
["RD 3",0,0,null,"ø pro Spiel",{"$f":"SUM(E3)/B34","v":{"$error":"#DIV/0!"}},null,"RD 3",0,0,null,"ø pro Spiel",{"$f":"SUM(L3)/I34","v":{"$error":"#DIV/0!"}},null,"RD 3",0,0,null,"ø pro Spiel",{"$f":"SUM(S3)/P34","v":{"$error":"#DIV/0!"}}]
["RD 4",0,0,null,"ø pro Pfeil",{"$f":"SUM(E3)/C34","v":{"$error":"#DIV/0!"}},null,"RD 4",0,0,null,"ø pro Pfeil",{"$f":"SUM(L3)/J34","v":{"$error":"#DIV/0!"}},null,"RD 4",0,0,null,"ø pro Pfeil",{"$f":"SUM(S3)/Q34","v":{"$error":"#DIV/0!"}}]
["RD 5",0,0,null,"Average",null,null,"RD 5",0,0,null,"Average",null,null,"RD 5",0,0,null,"Average"]
["RD 6",0,0,null,{"$f":"SUM(F6)","v":{"$error":"#DIV/0!"}},null,null,"RD 6",0,0,null,{"$f":"SUM(M6)","v":{"$error":"#DIV/0!"}},null,null,"RD 6",0,0,null,{"$f":"SUM(T6)","v":{"$error":"#DIV/0!"}}]
["RD 7",0,0,null,null,null,null,"RD 7",0,0,null,null,null,null,"RD 7",0,0]
["RD 8",0,0,null,"Nicht Gut",null,null,"RD 8",0,0,null,"Nicht Gut",null,null,"RD 8",0,0,null,"Nicht Gut"]
["RD 9",0,0,null,null,null,null,"RD 9",0,0,null,null,null,null,"RD 9",0,0]
["RD 10",0,0,null,null,null,null,"RD 10",0,0,null,null,null,null,"RD 10",0,0]
["RD 11",0,0,null,"Gut",null,null,"RD 11",0,0,null,"Gut",null,null,"RD 11",0,0,null,"Gut"]
["RD 12",0,0,null,null,null,null,"RD 12",0,0,null,null,null,null,"RD 12",0,0]
["RD 13",0,0,null,null,null,null,"RD 13",0,0,null,null,null,null,"RD 13",0,0]
["RD 14",0,0,null,null,null,null,"RD 14",0,0,null,null,null,null,"RD 14",0,0]
["RD 15",0,0,null,null,null,null,"RD 15",0,0,null,null,null,null,"RD 15",0,0]
["RD 16",0,0,null,"Sehr  Gut",null,null,"RD 16",0,0,null,"Sehr  Gut",null,null,"RD 16",0,0,null,"Sehr  Gut"]
["RD 17",0,0,null,null,null,null,"RD 17",0,0,null,null,null,null,"RD 17",0,0]
["RD 18",0,0,null,null,null,null,"RD 18",0,0,null,null,null,null,"RD 18",0,0]
["RD 19",0,0,null,null,null,null,"RD 19",0,0,null,null,null,null,"RD 19",0,0]
["RD 20",0,0,null,null,null,null,"RD 20",0,0,null,null,null,null,"RD 20",0,0]
["RD 21",0,0,null,null,null,null,"RD 21",0,0,null,null,null,null,"RD 21",0,0]
["RD 22",0,0,null,null,null,null,"RD 22",0,0,null,null,null,null,"RD 22",0,0]
["RD 23",0,0,null,null,null,null,"RD 23",0,0,null,null,null,null,"RD 23",0,0]
["RD 24",0,0,null,null,null,null,"RD 24",0,0,null,null,null,null,"RD 24",0,0]
["RD 25",0,0,null,null,null,null,"RD 25",0,0,null,null,null,null,"RD 25",0,0]
["RD 26",0,0,null,null,null,null,"RD 26",0,0,null,null,null,null,"RD 26",0,0]
["RD 27",0,0,null,null,null,null,"RD 27",0,0,null,null,null,null,"RD 27",0,0]
["RD 28",0,0,null,null,null,null,"RD 28",0,0,null,null,null,null,"RD 28",0,0]
["RD 29",0,0,null,{"$f":"IF(E4=0,\"Sieg\",\"\")","v":""},null,null,"RD 29",0,0,null,{"$f":"IF(L4=0,\"Sieg\",\"\")","v":""},null,null,"RD 29",0,0,null,{"$f":"IF(S4=0,\"Sieg\",\"\")","v":""}]
["RD 30",0,0,null,null,null,null,"RD 30",0,0,null,null,null,null,"RD 30",0,0]
[null,{"$f":"SUM(B4:B33)","v":0},{"$f":"SUM(C4:C33)","v":0},{"$f":"SUM(D4:D33)","v":0},{"$f":"SUM(D5:D32)","v":0},null,null,null,{"$f":"SUM(I4:I33)","v":0},{"$f":"SUM(J4:J33)","v":0},{"$f":"SUM(K4:K33)","v":0},{"$f":"SUM(K4:K32)","v":0},null,null,null,{"$f":"SUM(P4:P33)","v":0},{"$f":"SUM(Q4:Q33)","v":0},{"$f":"SUM(R4:R33)","v":0},{"$f":"SUM(R4:R32)","v":0}]
[]
[]
[]
[]
[]
[]
[]
[]
[]
[]
[null,null,null,{"$f":"D1","v":0},null,{"$f":"SUM(D34)","v":0},null,null,null,null,{"$f":"INDEX(D45:E47,MATCH(MAX(F45:F47),F45:F47,0),1)","v":0},{"$f":"E1","v":0},null,{"$f":"SUM(D34)","v":0},null,null,null,null,{"$f":"INDEX(L45:M47,MATCH(MAX(N45:N47),N45:N47,0),1)","v":0}]
[null,null,null,{"$f":"K1","v":0},null,{"$f":"SUM(K34)","v":0},null,null,null,null,null,{"$f":"L1","v":0},null,{"$f":"SUM(K34)","v":0}]
[null,null,null,{"$f":"R1","v":0},null,{"$f":"SUM(S3)","v":0},null,null,null,null,null,{"$f":"S1","v":0},null,{"$f":"SUM(S3)","v":0}]
[null,null,null,"MAX(B2:B7",null,{"$f":"MAX(F45:F47)","v":0},null,null,null,null,null,"MAX(B2:B7",null,{"$f":"MAX(N45:N47)","v":0}]

{"sheet":"Rd9","index":8,"n_rows":48,"n_cols":20,"rows_kept":48,"cut":false,"hidden":false,"merged":[[7,4,7,5],[7,11,7,12],[7,18,7,19],[8,4,9,5],[8,11,9,12],[8,18,9,19],[10,4,12,5],[10,11,12,12],[10,18,12,19],[13,4,17,5],[13,11,17,12],[13,18,17,19],[26,18,30,19],[31,4,32,5],[31,11,32,12],[31,18,32,19],[18,4,25,5],[18,11,25,12],[18,18,25,19],[26,4,30,5],[26,11,30,12],[44,3,44,4],[44,11,44,12],[44,13,44,14],[45,13,45,14],[46,11,46,12],[46,13,46,14],[45,3,45,4],[46,3,46,4],[45,11,45,12]]}
[null,null,null,null,null,"Sp. 1",null,null,null,null,null,null,"Sp. 2",null,null,null,null,null,null,"Sp. 3"]
[null,null,null,"Punkte",501,"Start",null,null,null,null,"Punkte",501,"Start",null,null,null,null,"Punkte",501,"Start"]
[null,null,null,"Geworfen",{"$f":"SUM(D34)","v":0},"Punkte",null,null,null,null,"Geworfen",{"$f":"SUM(K34)","v":0},"Punkte",null,null,null,null,"Geworfen",{"$f":"SUM(R34)","v":0},"Punkte"]
["RD 1",{"$f":"COUNT(D4)*1","v":0},{"$f":"COUNT(D4)*3","v":0},null,{"$f":"SUM(E2-E3)","v":501},"Rest",null,"RD 1",{"$f":"COUNT(K4)*1","v":0},{"$f":"COUNT(K4)*3","v":0},null,{"$f":"SUM(L2-L3)","v":501},"Rest",null,"RD 1",{"$f":"COUNT(R4)*1","v":0},{"$f":"COUNT(R4)*3","v":0},null,{"$f":"SUM(S2-S3)","v":501},"Rest"]
["RD 2",{"$f":"COUNT(D5)*1","v":0},{"$f":"COUNT(D5)*3","v":0},null,null,null,null,"RD 2",0,0,null,null,null,null,"RD 2",0,0]
["RD 3",0,0,null,"ø pro Spiel",{"$f":"SUM(E3)/B34","v":{"$error":"#DIV/0!"}},null,"RD 3",0,0,null,"ø pro Spiel",{"$f":"SUM(L3)/I34","v":{"$error":"#DIV/0!"}},null,"RD 3",0,0,null,"ø pro Spiel",{"$f":"SUM(S3)/P34","v":{"$error":"#DIV/0!"}}]
["RD 4",0,0,null,"ø pro Pfeil",{"$f":"SUM(E3)/C34","v":{"$error":"#DIV/0!"}},null,"RD 4",0,0,null,"ø pro Pfeil",{"$f":"SUM(L3)/J34","v":{"$error":"#DIV/0!"}},null,"RD 4",0,0,null,"ø pro Pfeil",{"$f":"SUM(S3)/Q34","v":{"$error":"#DIV/0!"}}]
["RD 5",0,0,null,"Average",null,null,"RD 5",0,0,null,"Average",null,null,"RD 5",0,0,null,"Average"]
["RD 6",0,0,null,{"$f":"SUM(F6)","v":{"$error":"#DIV/0!"}},null,null,"RD 6",0,0,null,{"$f":"SUM(M6)","v":{"$error":"#DIV/0!"}},null,null,"RD 6",0,0,null,{"$f":"SUM(T6)","v":{"$error":"#DIV/0!"}}]
["RD 7",0,0,null,null,null,null,"RD 7",0,0,null,null,null,null,"RD 7",0,0]
["RD 8",0,0,null,"Nicht Gut",null,null,"RD 8",0,0,null,"Nicht Gut",null,null,"RD 8",0,0,null,"Nicht Gut"]
["RD 9",0,0,null,null,null,null,"RD 9",0,0,null,null,null,null,"RD 9",0,0]
["RD 10",0,0,null,null,null,null,"RD 10",0,0,null,null,null,null,"RD 10",0,0]
["RD 11",0,0,null,"Gut",null,null,"RD 11",0,0,null,"Gut",null,null,"RD 11",0,0,null,"Gut"]
["RD 12",0,0,null,null,null,null,"RD 12",0,0,null,null,null,null,"RD 12",0,0]
["RD 13",0,0,null,null,null,null,"RD 13",0,0,null,null,null,null,"RD 13",0,0]
["RD 14",0,0,null,null,null,null,"RD 14",0,0,null,null,null,null,"RD 14",0,0]
["RD 15",0,0,null,null,null,null,"RD 15",0,0,null,null,null,null,"RD 15",0,0]
["RD 16",0,0,null,"Sehr  Gut",null,null,"RD 16",0,0,null,"Sehr  Gut",null,null,"RD 16",0,0,null,"Sehr  Gut"]
["RD 17",0,0,null,null,null,null,"RD 17",0,0,null,null,null,null,"RD 17",0,0]
["RD 18",0,0,null,null,null,null,"RD 18",0,0,null,null,null,null,"RD 18",0,0]
["RD 19",0,0,null,null,null,null,"RD 19",0,0,null,null,null,null,"RD 19",0,0]
["RD 20",0,0,null,null,null,null,"RD 20",0,0,null,null,null,null,"RD 20",0,0]
["RD 21",0,0,null,null,null,null,"RD 21",0,0,null,null,null,null,"RD 21",0,0]
["RD 22",0,0,null,null,null,null,"RD 22",0,0,null,null,null,null,"RD 22",0,0]
["RD 23",0,0,null,null,null,null,"RD 23",0,0,null,null,null,null,"RD 23",0,0]
["RD 24",0,0,null,null,null,null,"RD 24",0,0,null,null,null,null,"RD 24",0,0]
["RD 25",0,0,null,null,null,null,"RD 25",0,0,null,null,null,null,"RD 25",0,0]
["RD 26",0,0,null,null,null,null,"RD 26",0,0,null,null,null,null,"RD 26",0,0]
["RD 27",0,0,null,null,null,null,"RD 27",0,0,null,null,null,null,"RD 27",0,0]
["RD 28",0,0,null,null,null,null,"RD 28",0,0,null,null,null,null,"RD 28",0,0]
["RD 29",0,0,null,{"$f":"IF(E4=0,\"Sieg\",\"\")","v":""},null,null,"RD 29",0,0,null,{"$f":"IF(L4=0,\"Sieg\",\"\")","v":""},null,null,"RD 29",0,0,null,{"$f":"IF(S4=0,\"Sieg\",\"\")","v":""}]
["RD 30",0,0,null,null,null,null,"RD 30",0,0,null,null,null,null,"RD 30",0,0]
[null,{"$f":"SUM(B4:B33)","v":0},{"$f":"SUM(C4:C33)","v":0},{"$f":"SUM(D4:D33)","v":0},{"$f":"SUM(D5:D32)","v":0},null,null,null,{"$f":"SUM(I4:I33)","v":0},{"$f":"SUM(J4:J33)","v":0},{"$f":"SUM(K4:K33)","v":0},{"$f":"SUM(K4:K32)","v":0},null,null,null,{"$f":"SUM(P4:P33)","v":0},{"$f":"SUM(Q4:Q33)","v":0},{"$f":"SUM(R4:R33)","v":0},{"$f":"SUM(R4:R32)","v":0}]
[]
[]
[]
[]
[]
[]
[]
[]
[]
[]
[null,null,null,{"$f":"D1","v":0},null,{"$f":"SUM(D34)","v":0},null,null,null,null,{"$f":"INDEX(D45:E47,MATCH(MAX(F45:F47),F45:F47,0),1)","v":0},{"$f":"E1","v":0},null,{"$f":"SUM(D34)","v":0},null,null,null,null,{"$f":"INDEX(L45:M47,MATCH(MAX(N45:N47),N45:N47,0),1)","v":0}]
[null,null,null,{"$f":"K1","v":0},null,{"$f":"SUM(K34)","v":0},null,null,null,null,null,{"$f":"L1","v":0},null,{"$f":"SUM(K34)","v":0}]
[null,null,null,{"$f":"R1","v":0},null,{"$f":"SUM(S3)","v":0},null,null,null,null,null,{"$f":"S1","v":0},null,{"$f":"SUM(S3)","v":0}]
[null,null,null,"MAX(B2:B7",null,{"$f":"MAX(F45:F47)","v":0},null,null,null,null,null,"MAX(B2:B7",null,{"$f":"MAX(N45:N47)","v":0}]

{"sheet":"Rd10","index":9,"n_rows":48,"n_cols":20,"rows_kept":48,"cut":false,"hidden":false,"merged":[[7,4,7,5],[7,11,7,12],[7,18,7,19],[8,4,9,5],[8,11,9,12],[8,18,9,19],[10,4,12,5],[10,11,12,12],[10,18,12,19],[13,4,17,5],[13,11,17,12],[13,18,17,19],[26,18,30,19],[31,4,32,5],[31,11,32,12],[31,18,32,19],[18,4,25,5],[18,11,25,12],[18,18,25,19],[26,4,30,5],[26,11,30,12],[44,3,44,4],[44,11,44,12],[44,13,44,14],[45,13,45,14],[46,11,46,12],[46,13,46,14],[45,3,45,4],[46,3,46,4],[45,11,45,12]]}
[null,null,null,null,null,"Sp. 1",null,null,null,null,null,null,"Sp. 2",null,null,null,null,null,null,"Sp. 3"]
[null,null,null,"Punkte",501,"Start",null,null,null,null,"Punkte",501,"Start",null,null,null,null,"Punkte",501,"Start"]
[null,null,null,"Geworfen",{"$f":"SUM(D34)","v":0},"Punkte",null,null,null,null,"Geworfen",{"$f":"SUM(K34)","v":0},"Punkte",null,null,null,null,"Geworfen",{"$f":"SUM(R34)","v":0},"Punkte"]
["RD 1",{"$f":"COUNT(D4)*1","v":0},{"$f":"COUNT(D4)*3","v":0},null,{"$f":"SUM(E2-E3)","v":501},"Rest",null,"RD 1",{"$f":"COUNT(K4)*1","v":0},{"$f":"COUNT(K4)*3","v":0},null,{"$f":"SUM(L2-L3)","v":501},"Rest",null,"RD 1",{"$f":"COUNT(R4)*1","v":0},{"$f":"COUNT(R4)*3","v":0},null,{"$f":"SUM(S2-S3)","v":501},"Rest"]
["RD 2",{"$f":"COUNT(D5)*1","v":0},{"$f":"COUNT(D5)*3","v":0},null,null,null,null,"RD 2",0,0,null,null,null,null,"RD 2",0,0]
["RD 3",0,0,null,"ø pro Spiel",{"$f":"SUM(E3)/B34","v":{"$error":"#DIV/0!"}},null,"RD 3",0,0,null,"ø pro Spiel",{"$f":"SUM(L3)/I34","v":{"$error":"#DIV/0!"}},null,"RD 3",0,0,null,"ø pro Spiel",{"$f":"SUM(S3)/P34","v":{"$error":"#DIV/0!"}}]
["RD 4",0,0,null,"ø pro Pfeil",{"$f":"SUM(E3)/C34","v":{"$error":"#DIV/0!"}},null,"RD 4",0,0,null,"ø pro Pfeil",{"$f":"SUM(L3)/J34","v":{"$error":"#DIV/0!"}},null,"RD 4",0,0,null,"ø pro Pfeil",{"$f":"SUM(S3)/Q34","v":{"$error":"#DIV/0!"}}]
["RD 5",0,0,null,"Average",null,null,"RD 5",0,0,null,"Average",null,null,"RD 5",0,0,null,"Average"]
["RD 6",0,0,null,{"$f":"SUM(F6)","v":{"$error":"#DIV/0!"}},null,null,"RD 6",0,0,null,{"$f":"SUM(M6)","v":{"$error":"#DIV/0!"}},null,null,"RD 6",0,0,null,{"$f":"SUM(T6)","v":{"$error":"#DIV/0!"}}]
["RD 7",0,0,null,null,null,null,"RD 7",0,0,null,null,null,null,"RD 7",0,0]
["RD 8",0,0,null,"Nicht Gut",null,null,"RD 8",0,0,null,"Nicht Gut",null,null,"RD 8",0,0,null,"Nicht Gut"]
["RD 9",0,0,null,null,null,null,"RD 9",0,0,null,null,null,null,"RD 9",0,0]
["RD 10",0,0,null,null,null,null,"RD 10",0,0,null,null,null,null,"RD 10",0,0]
["RD 11",0,0,null,"Gut",null,null,"RD 11",0,0,null,"Gut",null,null,"RD 11",0,0,null,"Gut"]
["RD 12",0,0,null,null,null,null,"RD 12",0,0,null,null,null,null,"RD 12",0,0]
["RD 13",0,0,null,null,null,null,"RD 13",0,0,null,null,null,null,"RD 13",0,0]
["RD 14",0,0,null,null,null,null,"RD 14",0,0,null,null,null,null,"RD 14",0,0]
["RD 15",0,0,null,null,null,null,"RD 15",0,0,null,null,null,null,"RD 15",0,0]
["RD 16",0,0,null,"Sehr  Gut",null,null,"RD 16",0,0,null,"Sehr  Gut",null,null,"RD 16",0,0,null,"Sehr  Gut"]
["RD 17",0,0,null,null,null,null,"RD 17",0,0,null,null,null,null,"RD 17",0,0]
["RD 18",0,0,null,null,null,null,"RD 18",0,0,null,null,null,null,"RD 18",0,0]
["RD 19",0,0,null,null,null,null,"RD 19",0,0,null,null,null,null,"RD 19",0,0]
["RD 20",0,0,null,null,null,null,"RD 20",0,0,null,null,null,null,"RD 20",0,0]
["RD 21",0,0,null,null,null,null,"RD 21",0,0,null,null,null,null,"RD 21",0,0]
["RD 22",0,0,null,null,null,null,"RD 22",0,0,null,null,null,null,"RD 22",0,0]
["RD 23",0,0,null,null,null,null,"RD 23",0,0,null,null,null,null,"RD 23",0,0]
["RD 24",0,0,null,null,null,null,"RD 24",0,0,null,null,null,null,"RD 24",0,0]
["RD 25",0,0,null,null,null,null,"RD 25",0,0,null,null,null,null,"RD 25",0,0]
["RD 26",0,0,null,null,null,null,"RD 26",0,0,null,null,null,null,"RD 26",0,0]
["RD 27",0,0,null,null,null,null,"RD 27",0,0,null,null,null,null,"RD 27",0,0]
["RD 28",0,0,null,null,null,null,"RD 28",0,0,null,null,null,null,"RD 28",0,0]
["RD 29",0,0,null,{"$f":"IF(E4=0,\"Sieg\",\"\")","v":""},null,null,"RD 29",0,0,null,{"$f":"IF(L4=0,\"Sieg\",\"\")","v":""},null,null,"RD 29",0,0,null,{"$f":"IF(S4=0,\"Sieg\",\"\")","v":""}]
["RD 30",0,0,null,null,null,null,"RD 30",0,0,null,null,null,null,"RD 30",0,0]
[null,{"$f":"SUM(B4:B33)","v":0},{"$f":"SUM(C4:C33)","v":0},{"$f":"SUM(D4:D33)","v":0},{"$f":"SUM(D5:D32)","v":0},null,null,null,{"$f":"SUM(I4:I33)","v":0},{"$f":"SUM(J4:J33)","v":0},{"$f":"SUM(K4:K33)","v":0},{"$f":"SUM(K4:K32)","v":0},null,null,null,{"$f":"SUM(P4:P33)","v":0},{"$f":"SUM(Q4:Q33)","v":0},{"$f":"SUM(R4:R33)","v":0},{"$f":"SUM(R4:R32)","v":0}]
[]
[]
[]
[]
[]
[]
[]
[]
[]
[]
[null,null,null,{"$f":"D1","v":0},null,{"$f":"SUM(D34)","v":0},null,null,null,null,{"$f":"INDEX(D45:E47,MATCH(MAX(F45:F47),F45:F47,0),1)","v":0},{"$f":"E1","v":0},null,{"$f":"SUM(D34)","v":0},null,null,null,null,{"$f":"INDEX(L45:M47,MATCH(MAX(N45:N47),N45:N47,0),1)","v":0}]
[null,null,null,{"$f":"K1","v":0},null,{"$f":"SUM(K34)","v":0},null,null,null,null,null,{"$f":"L1","v":0},null,{"$f":"SUM(K34)","v":0}]
[null,null,null,{"$f":"R1","v":0},null,{"$f":"SUM(S3)","v":0},null,null,null,null,null,{"$f":"S1","v":0},null,{"$f":"SUM(S3)","v":0}]
[null,null,null,"MAX(B2:B7",null,{"$f":"MAX(F45:F47)","v":0},null,null,null,null,null,"MAX(B2:B7",null,{"$f":"MAX(N45:N47)","v":0}]

{"sheet":"Rd11","index":10,"n_rows":48,"n_cols":20,"rows_kept":48,"cut":false,"hidden":false,"merged":[[7,4,7,5],[7,11,7,12],[7,18,7,19],[8,4,9,5],[8,11,9,12],[8,18,9,19],[10,4,12,5],[10,11,12,12],[10,18,12,19],[13,4,17,5],[13,11,17,12],[13,18,17,19],[26,18,30,19],[31,4,32,5],[31,11,32,12],[31,18,32,19],[18,4,25,5],[18,11,25,12],[18,18,25,19],[26,4,30,5],[26,11,30,12],[44,3,44,4],[44,11,44,12],[44,13,44,14],[45,13,45,14],[46,11,46,12],[46,13,46,14],[45,3,45,4],[46,3,46,4],[45,11,45,12]]}
[null,null,null,null,null,"Sp. 1",null,null,null,null,null,null,"Sp. 2",null,null,null,null,null,null,"Sp. 3"]
[null,null,null,"Punkte",501,"Start",null,null,null,null,"Punkte",501,"Start",null,null,null,null,"Punkte",501,"Start"]
[null,null,null,"Geworfen",{"$f":"SUM(D34)","v":0},"Punkte",null,null,null,null,"Geworfen",{"$f":"SUM(K34)","v":0},"Punkte",null,null,null,null,"Geworfen",{"$f":"SUM(R34)","v":0},"Punkte"]
["RD 1",{"$f":"COUNT(D4)*1","v":0},{"$f":"COUNT(D4)*3","v":0},null,{"$f":"SUM(E2-E3)","v":501},"Rest",null,"RD 1",{"$f":"COUNT(K4)*1","v":0},{"$f":"COUNT(K4)*3","v":0},null,{"$f":"SUM(L2-L3)","v":501},"Rest",null,"RD 1",{"$f":"COUNT(R4)*1","v":0},{"$f":"COUNT(R4)*3","v":0},null,{"$f":"SUM(S2-S3)","v":501},"Rest"]
["RD 2",{"$f":"COUNT(D5)*1","v":0},{"$f":"COUNT(D5)*3","v":0},null,null,null,null,"RD 2",0,0,null,null,null,null,"RD 2",0,0]
["RD 3",0,0,null,"ø pro Spiel",{"$f":"SUM(E3)/B34","v":{"$error":"#DIV/0!"}},null,"RD 3",0,0,null,"ø pro Spiel",{"$f":"SUM(L3)/I34","v":{"$error":"#DIV/0!"}},null,"RD 3",0,0,null,"ø pro Spiel",{"$f":"SUM(S3)/P34","v":{"$error":"#DIV/0!"}}]
["RD 4",0,0,null,"ø pro Pfeil",{"$f":"SUM(E3)/C34","v":{"$error":"#DIV/0!"}},null,"RD 4",0,0,null,"ø pro Pfeil",{"$f":"SUM(L3)/J34","v":{"$error":"#DIV/0!"}},null,"RD 4",0,0,null,"ø pro Pfeil",{"$f":"SUM(S3)/Q34","v":{"$error":"#DIV/0!"}}]
["RD 5",0,0,null,"Average",null,null,"RD 5",0,0,null,"Average",null,null,"RD 5",0,0,null,"Average"]
["RD 6",0,0,null,{"$f":"SUM(F6)","v":{"$error":"#DIV/0!"}},null,null,"RD 6",0,0,null,{"$f":"SUM(M6)","v":{"$error":"#DIV/0!"}},null,null,"RD 6",0,0,null,{"$f":"SUM(T6)","v":{"$error":"#DIV/0!"}}]
["RD 7",0,0,null,null,null,null,"RD 7",0,0,null,null,null,null,"RD 7",0,0]
["RD 8",0,0,null,"Nicht Gut",null,null,"RD 8",0,0,null,"Nicht Gut",null,null,"RD 8",0,0,null,"Nicht Gut"]
["RD 9",0,0,null,null,null,null,"RD 9",0,0,null,null,null,null,"RD 9",0,0]
["RD 10",0,0,null,null,null,null,"RD 10",0,0,null,null,null,null,"RD 10",0,0]
["RD 11",0,0,null,"Gut",null,null,"RD 11",0,0,null,"Gut",null,null,"RD 11",0,0,null,"Gut"]
["RD 12",0,0,null,null,null,null,"RD 12",0,0,null,null,null,null,"RD 12",0,0]
["RD 13",0,0,null,null,null,null,"RD 13",0,0,null,null,null,null,"RD 13",0,0]
["RD 14",0,0,null,null,null,null,"RD 14",0,0,null,null,null,null,"RD 14",0,0]
["RD 15",0,0,null,null,null,null,"RD 15",0,0,null,null,null,null,"RD 15",0,0]
["RD 16",0,0,null,"Sehr  Gut",null,null,"RD 16",0,0,null,"Sehr  Gut",null,null,"RD 16",0,0,null,"Sehr  Gut"]
["RD 17",0,0,null,null,null,null,"RD 17",0,0,null,null,null,null,"RD 17",0,0]
["RD 18",0,0,null,null,null,null,"RD 18",0,0,null,null,null,null,"RD 18",0,0]
["RD 19",0,0,null,null,null,null,"RD 19",0,0,null,null,null,null,"RD 19",0,0]
["RD 20",0,0,null,null,null,null,"RD 20",0,0,null,null,null,null,"RD 20",0,0]
["RD 21",0,0,null,null,null,null,"RD 21",0,0,null,null,null,null,"RD 21",0,0]
["RD 22",0,0,null,null,null,null,"RD 22",0,0,null,null,null,null,"RD 22",0,0]
["RD 23",0,0,null,null,null,null,"RD 23",0,0,null,null,null,null,"RD 23",0,0]
["RD 24",0,0,null,null,null,null,"RD 24",0,0,null,null,null,null,"RD 24",0,0]
["RD 25",0,0,null,null,null,null,"RD 25",0,0,null,null,null,null,"RD 25",0,0]
["RD 26",0,0,null,null,null,null,"RD 26",0,0,null,null,null,null,"RD 26",0,0]
["RD 27",0,0,null,null,null,null,"RD 27",0,0,null,null,null,null,"RD 27",0,0]
["RD 28",0,0,null,null,null,null,"RD 28",0,0,null,null,null,null,"RD 28",0,0]
["RD 29",0,0,null,{"$f":"IF(E4=0,\"Sieg\",\"\")","v":""},null,null,"RD 29",0,0,null,{"$f":"IF(L4=0,\"Sieg\",\"\")","v":""},null,null,"RD 29",0,0,null,{"$f":"IF(S4=0,\"Sieg\",\"\")","v":""}]
["RD 30",0,0,null,null,null,null,"RD 30",0,0,null,null,null,null,"RD 30",0,0]
[null,{"$f":"SUM(B4:B33)","v":0},{"$f":"SUM(C4:C33)","v":0},{"$f":"SUM(D4:D33)","v":0},{"$f":"SUM(D5:D32)","v":0},null,null,null,{"$f":"SUM(I4:I33)","v":0},{"$f":"SUM(J4:J33)","v":0},{"$f":"SUM(K4:K33)","v":0},{"$f":"SUM(K4:K32)","v":0},null,null,null,{"$f":"SUM(P4:P33)","v":0},{"$f":"SUM(Q4:Q33)","v":0},{"$f":"SUM(R4:R33)","v":0},{"$f":"SUM(R4:R32)","v":0}]
[]
[]
[]
[]
[]
[]
[]
[]
[]
[]
[null,null,null,{"$f":"D1","v":0},null,{"$f":"SUM(D34)","v":0},null,null,null,null,{"$f":"INDEX(D45:E47,MATCH(MAX(F45:F47),F45:F47,0),1)","v":0},{"$f":"E1","v":0},null,{"$f":"SUM(D34)","v":0},null,null,null,null,{"$f":"INDEX(L45:M47,MATCH(MAX(N45:N47),N45:N47,0),1)","v":0}]
[null,null,null,{"$f":"K1","v":0},null,{"$f":"SUM(K34)","v":0},null,null,null,null,null,{"$f":"L1","v":0},null,{"$f":"SUM(K34)","v":0}]
[null,null,null,{"$f":"R1","v":0},null,{"$f":"SUM(S3)","v":0},null,null,null,null,null,{"$f":"S1","v":0},null,{"$f":"SUM(S3)","v":0}]
[null,null,null,"MAX(B2:B7",null,{"$f":"MAX(F45:F47)","v":0},null,null,null,null,null,"MAX(B2:B7",null,{"$f":"MAX(N45:N47)","v":0}]

{"sheet":"Rd12","index":11,"n_rows":48,"n_cols":20,"rows_kept":48,"cut":false,"hidden":false,"merged":[[7,4,7,5],[7,11,7,12],[7,18,7,19],[8,4,9,5],[8,11,9,12],[8,18,9,19],[10,4,12,5],[10,11,12,12],[10,18,12,19],[13,4,17,5],[13,11,17,12],[13,18,17,19],[26,18,30,19],[31,4,32,5],[31,11,32,12],[31,18,32,19],[18,4,25,5],[18,11,25,12],[18,18,25,19],[26,4,30,5],[26,11,30,12],[44,3,44,4],[44,11,44,12],[44,13,44,14],[45,13,45,14],[46,11,46,12],[46,13,46,14],[45,3,45,4],[46,3,46,4],[45,11,45,12]]}
[null,null,null,null,null,"Sp. 1",null,null,null,null,null,null,"Sp. 2",null,null,null,null,null,null,"Sp. 3"]
[null,null,null,"Punkte",501,"Start",null,null,null,null,"Punkte",501,"Start",null,null,null,null,"Punkte",501,"Start"]
[null,null,null,"Geworfen",{"$f":"SUM(D34)","v":0},"Punkte",null,null,null,null,"Geworfen",{"$f":"SUM(K34)","v":0},"Punkte",null,null,null,null,"Geworfen",{"$f":"SUM(R34)","v":0},"Punkte"]
["RD 1",{"$f":"COUNT(D4)*1","v":0},{"$f":"COUNT(D4)*3","v":0},null,{"$f":"SUM(E2-E3)","v":501},"Rest",null,"RD 1",{"$f":"COUNT(K4)*1","v":0},{"$f":"COUNT(K4)*3","v":0},null,{"$f":"SUM(L2-L3)","v":501},"Rest",null,"RD 1",{"$f":"COUNT(R4)*1","v":0},{"$f":"COUNT(R4)*3","v":0},null,{"$f":"SUM(S2-S3)","v":501},"Rest"]
["RD 2",{"$f":"COUNT(D5)*1","v":0},{"$f":"COUNT(D5)*3","v":0},null,null,null,null,"RD 2",0,0,null,null,null,null,"RD 2",0,0]
["RD 3",0,0,null,"ø pro Spiel",{"$f":"SUM(E3)/B34","v":{"$error":"#DIV/0!"}},null,"RD 3",0,0,null,"ø pro Spiel",{"$f":"SUM(L3)/I34","v":{"$error":"#DIV/0!"}},null,"RD 3",0,0,null,"ø pro Spiel",{"$f":"SUM(S3)/P34","v":{"$error":"#DIV/0!"}}]
["RD 4",0,0,null,"ø pro Pfeil",{"$f":"SUM(E3)/C34","v":{"$error":"#DIV/0!"}},null,"RD 4",0,0,null,"ø pro Pfeil",{"$f":"SUM(L3)/J34","v":{"$error":"#DIV/0!"}},null,"RD 4",0,0,null,"ø pro Pfeil",{"$f":"SUM(S3)/Q34","v":{"$error":"#DIV/0!"}}]
["RD 5",0,0,null,"Average",null,null,"RD 5",0,0,null,"Average",null,null,"RD 5",0,0,null,"Average"]
["RD 6",0,0,null,{"$f":"SUM(F6)","v":{"$error":"#DIV/0!"}},null,null,"RD 6",0,0,null,{"$f":"SUM(M6)","v":{"$error":"#DIV/0!"}},null,null,"RD 6",0,0,null,{"$f":"SUM(T6)","v":{"$error":"#DIV/0!"}}]
["RD 7",0,0,null,null,null,null,"RD 7",0,0,null,null,null,null,"RD 7",0,0]
["RD 8",0,0,null,"Nicht Gut",null,null,"RD 8",0,0,null,"Nicht Gut",null,null,"RD 8",0,0,null,"Nicht Gut"]
["RD 9",0,0,null,null,null,null,"RD 9",0,0,null,null,null,null,"RD 9",0,0]
["RD 10",0,0,null,null,null,null,"RD 10",0,0,null,null,null,null,"RD 10",0,0]
["RD 11",0,0,null,"Gut",null,null,"RD 11",0,0,null,"Gut",null,null,"RD 11",0,0,null,"Gut"]
["RD 12",0,0,null,null,null,null,"RD 12",0,0,null,null,null,null,"RD 12",0,0]
["RD 13",0,0,null,null,null,null,"RD 13",0,0,null,null,null,null,"RD 13",0,0]
["RD 14",0,0,null,null,null,null,"RD 14",0,0,null,null,null,null,"RD 14",0,0]
["RD 15",0,0,null,null,null,null,"RD 15",0,0,null,null,null,null,"RD 15",0,0]
["RD 16",0,0,null,"Sehr  Gut",null,null,"RD 16",0,0,null,"Sehr  Gut",null,null,"RD 16",0,0,null,"Sehr  Gut"]
["RD 17",0,0,null,null,null,null,"RD 17",0,0,null,null,null,null,"RD 17",0,0]
["RD 18",0,0,null,null,null,null,"RD 18",0,0,null,null,null,null,"RD 18",0,0]
["RD 19",0,0,null,null,null,null,"RD 19",0,0,null,null,null,null,"RD 19",0,0]
["RD 20",0,0,null,null,null,null,"RD 20",0,0,null,null,null,null,"RD 20",0,0]
["RD 21",0,0,null,null,null,null,"RD 21",0,0,null,null,null,null,"RD 21",0,0]
["RD 22",0,0,null,null,null,null,"RD 22",0,0,null,null,null,null,"RD 22",0,0]
["RD 23",0,0,null,null,null,null,"RD 23",0,0,null,null,null,null,"RD 23",0,0]
["RD 24",0,0,null,null,null,null,"RD 24",0,0,null,null,null,null,"RD 24",0,0]
["RD 25",0,0,null,null,null,null,"RD 25",0,0,null,null,null,null,"RD 25",0,0]
["RD 26",0,0,null,null,null,null,"RD 26",0,0,null,null,null,null,"RD 26",0,0]
["RD 27",0,0,null,null,null,null,"RD 27",0,0,null,null,null,null,"RD 27",0,0]
["RD 28",0,0,null,null,null,null,"RD 28",0,0,null,null,null,null,"RD 28",0,0]
["RD 29",0,0,null,{"$f":"IF(E4=0,\"Sieg\",\"\")","v":""},null,null,"RD 29",0,0,null,{"$f":"IF(L4=0,\"Sieg\",\"\")","v":""},null,null,"RD 29",0,0,null,{"$f":"IF(S4=0,\"Sieg\",\"\")","v":""}]
["RD 30",0,0,null,null,null,null,"RD 30",0,0,null,null,null,null,"RD 30",0,0]
[null,{"$f":"SUM(B4:B33)","v":0},{"$f":"SUM(C4:C33)","v":0},{"$f":"SUM(D4:D33)","v":0},{"$f":"SUM(D5:D32)","v":0},null,null,null,{"$f":"SUM(I4:I33)","v":0},{"$f":"SUM(J4:J33)","v":0},{"$f":"SUM(K4:K33)","v":0},{"$f":"SUM(K4:K32)","v":0},null,null,null,{"$f":"SUM(P4:P33)","v":0},{"$f":"SUM(Q4:Q33)","v":0},{"$f":"SUM(R4:R33)","v":0},{"$f":"SUM(R4:R32)","v":0}]
[]
[]
[]
[]
[]
[]
[]
[]
[]
[]
[null,null,null,{"$f":"D1","v":0},null,{"$f":"SUM(D34)","v":0},null,null,null,null,{"$f":"INDEX(D45:E47,MATCH(MAX(F45:F47),F45:F47,0),1)","v":0},{"$f":"E1","v":0},null,{"$f":"SUM(D34)","v":0},null,null,null,null,{"$f":"INDEX(L45:M47,MATCH(MAX(N45:N47),N45:N47,0),1)","v":0}]
[null,null,null,{"$f":"K1","v":0},null,{"$f":"SUM(K34)","v":0},null,null,null,null,null,{"$f":"L1","v":0},null,{"$f":"SUM(K34)","v":0}]
[null,null,null,{"$f":"R1","v":0},null,{"$f":"SUM(S3)","v":0},null,null,null,null,null,{"$f":"S1","v":0},null,{"$f":"SUM(S3)","v":0}]
[null,null,null,"MAX(B2:B7",null,{"$f":"MAX(F45:F47)","v":0},null,null,null,null,null,"MAX(B2:B7",null,{"$f":"MAX(N45:N47)","v":0}]

{"sheet":"Siegerliste","index":12,"n_rows":14,"n_cols":3,"rows_kept":14,"cut":false,"hidden":false,"merged":[[0,1,0,2]]}
[null,"Sieger"]
[]
["Rd.1",{"$f":"'Rd1'!K45","v":0},{"$f":"'Rd1'!S45","v":0}]
["Rd.2",{"$f":"'Rd2'!K45","v":0},{"$f":"'Rd2'!S45","v":0}]
["Rd.3",{"$f":"'Rd3'!K45","v":0},{"$f":"'Rd3'!S45","v":0}]
["Rd.4",{"$f":"'Rd4'!K45","v":0},{"$f":"'Rd4'!S45","v":0}]
["Rd.5",{"$f":"'Rd5'!K45","v":0},{"$f":"'Rd5'!S45","v":0}]
["Rd.6",{"$f":"'Rd6'!K45","v":0},{"$f":"'Rd6'!S45","v":0}]
["Rd.7",{"$f":"'Rd7'!K45","v":0},{"$f":"'Rd7'!S45","v":0}]
["Rd.8",{"$f":"'Rd8'!K45","v":0},{"$f":"'Rd8'!S45","v":0}]
["Rd.9",{"$f":"'Rd9'!K45","v":0},{"$f":"'Rd9'!S45","v":0}]
["Rd.10",{"$f":"'Rd10'!K45","v":0},{"$f":"'Rd10'!S45","v":0}]
["Rd.11",{"$f":"'Rd11'!K45","v":0},{"$f":"'Rd11'!S45","v":0}]
["Rd.12",{"$f":"'Rd12'!K45","v":0},{"$f":"'Rd12'!S45","v":0}]

{"sheet":"Tabelle1","index":13,"n_rows":48,"n_cols":2,"rows_kept":48,"cut":false,"hidden":false,"merged":[]}
["Joker","Anja"]
["Anja","Erich"]
["Erich","Siggi"]
["Siggi","Ralf M."]
["Ralf M.","Ralf Kl."]
["Ralf Kl.","Volker"]
["Volker","Rene"]
["Rene","Nicole"]
["Nicole","Frank"]
["Frank","Rosi"]
["Gast","Werner"]
["Anja/Erich","Gast"]
["Anja/Siggi","Joker"]
["Anja/Ralf M."]
["Anja/Ralf Kl."]
["Anja/Volker"]
["Anja/Rene"]
["Anja/Gast"]
["Erich/Siggi"]
["Erich/Ralf M."]
["Erich/Ralf Kl."]
["Erich/Volker"]
["Erich/Rene"]
["Erich/Gast"]
["Siggi/Ralf M."]
["Siggi/Ralf Kl."]
["Siggi/Volker"]
["Siggi/Rene"]
["Siggi/Gast"]
["Ralf M./Ralf Kl."]
["Ralf M./Volker"]
["Ralf M./Rene"]
["Ralf M./Gast"]
["Ralf Kl./Volker"]
["Ralf Kl./Rene"]
["Ralf Kl./Gast"]
["Volker/Rene"]
["Rene/Gast"]
["Joker"]
["Anja/Nicole"]
["Anja/Frank"]
["Erich/Nicole"]
["Erich/Frank"]
["Siggi/Nicole"]
["Siggi/Frank"]
["Ralf M./Nicole"]
["Ralf M./Frank"]
["Nicole/Frank"]