{"text_format":"1","workbook":"xlsx","n_sheets":14,"sheets":["Rd.1","Rd.2","Rd. 3","Rd. 4","Rd.5","Rd.6","Rd. 7","Rd. 8","Rd. 9","Rd. 10","Rd. 11","Rd. 12","Sieger","Tabelle1"],"not_rendered":{"charts":0,"images":1,"macros":1,"external_links":0,"defined_names":2,"comments":0,"pivot_tables":0},"unopened":[],"bounds":{"document_bytes":16777216,"sheet_cells":100000,"rows_first":2000,"rows_last":500,"rows_between":2000,"halvings":0,"cell_chars":16384,"cell_head_chars":4096},"cells_cut":0,"cells_raw":0,"read":"whole","date_system":"1900"}

{"sheet":"Rd.1","index":0,"n_rows":39,"n_cols":27,"rows_kept":39,"cut":false,"hidden":false,"merged":[[0,28,0,30],[37,3,37,4],[34,3,34,4],[35,3,35,4],[36,3,36,4],[8,4,9,5],[8,11,9,12],[8,18,9,19],[8,25,9,26],[10,4,12,5],[10,11,12,12],[10,25,12,26],[13,11,17,12],[18,11,25,12],[26,11,30,12],[7,4,7,5],[7,11,7,12],[7,18,7,19],[7,25,7,26],[38,3,38,4],[13,4,17,5],[18,4,25,5],[26,4,30,5],[31,4,32,5],[10,18,12,19],[13,18,17,19],[18,18,25,19],[26,18,30,19],[31,18,32,19],[38,11,38,12],[13,25,17,26],[18,25,25,26],[26,25,30,26],[31,25,32,26],[31,11,32,12],[34,13,34,14],[35,13,35,14],[36,13,36,14],[37,13,37,14],[34,11,34,12],[35,11,35,12],[36,11,36,12],[37,11,37,12]]}
[null,null,null,"Anja","Erich","Sp.1",null,null,null,null,"Siggi","Ralf M.","Sp.2",null,null,null,null,"Ralf Kl.","Volker","Sp.3",null,null,null,null,"Rene","Nicole","Sp.4"]
[null,null,null,"Punkte",501,"Start",null,null,null,null,"Punkte",501,"Start",null,null,null,null,"Punkte",501,"Start",null,null,null,null,"Punkte",501,"Start"]
[null,null,null,"Geworfen",{"$f":"SUM(D34)","v":33},"Punkte",null,null,null,null,"Geworfen",{"$f":"SUM(K34)","v":78},"Punkte",null,null,null,null,"Geworfen",{"$f":"SUM(R34)","v":13},"Punkte",null,null,null,null,"Geworfen",{"$f":"SUM(Y34)","v":55},"Punkte"]
["RD 1",{"$f":"COUNT(D4)*1","v":1},{"$f":"COUNT(D4)*3","v":3},33,{"$f":"SUM(E2-E3)","v":468},"Rest",null,"RD 1",{"$f":"COUNT(K4)*1","v":1},{"$f":"COUNT(K4)*3","v":3},78,{"$f":"SUM(L2-L3)","v":423},"Rest",null,"RD 1",{"$f":"COUNT(R4)*1","v":1},{"$f":"COUNT(R4)*3","v":3},13,{"$f":"SUM(S2-S3)","v":488},"Rest",null,"RD 1",{"$f":"COUNT(Y4)*1","v":1},{"$f":"COUNT(Y4)*3","v":3},55,{"$f":"SUM(Z2-Z3)","v":446},"Rest"]
["RD 2",0,0,null,null,null,null,"RD 2",0,0,null,null,null,null,"RD 2",0,0,null,null,null,null,"RD 2",0,0]
["RD 3",0,0,null,"ø pro Spiel",{"$f":"SUM(E3)/B34","v":33},null,"RD 3",0,0,null,"ø pro Spiel",{"$f":"SUM(L3)/I34","v":78},null,"RD 3",0,0,null,"ø pro Spiel",{"$f":"SUM(S3)/P34","v":13},null,"RD 3",0,0,null,"ø pro Spiel",{"$f":"SUM(Z3)/W34","v":55}]
["RD 4",0,0,null,"ø pro Pfeil",{"$f":"SUM(E3)/C34","v":11},null,"RD 4",0,0,null,"ø pro Pfeil",{"$f":"SUM(L3)/J34","v":26},null,"RD 4",0,0,null,"ø pro Pfeil",{"$f":"SUM(S3)/Q34","v":4.333333333333333},null,"RD 4",0,0,null,"ø pro Pfeil",{"$f":"SUM(Z3)/X34","v":18.333333333333332}]
["RD 5",0,0,null,"Average",null,null,"RD 5",0,0,null,"Average",null,null,"RD 5",0,0,null,"Average",null,null,"RD 5",0,0,null,"Average"]
["RD 6",0,0,null,{"$f":"SUM(F6)","v":33},null,null,"RD 6",0,0,null,{"$f":"SUM(M6)","v":78},null,null,"RD 6",0,0,null,{"$f":"SUM(T6)","v":13},null,null,"RD 6",0,0,null,{"$f":"SUM(AA6)","v":55}]
["RD 7",0,0,null,null,null,null,"RD 7",0,0,null,null,null,null,"RD 7",0,0,null,null,null,null,"RD 7",0,0]
["RD 8",0,0,null,"Nicht Gut",null,null,"RD 8",0,0,null,"Nicht Gut",null,null,"RD 8",0,0,null,"Nicht Gut",null,null,"RD 8",0,0,null,"Nicht Gut"]
["RD 9",0,0,null,null,null,null,"RD 9",0,0,null,null,null,null,"RD 9",0,0,null,null,null,null,"RD 9",0,0]
["RD 10",0,0,null,null,null,null,"RD 10",0,0,null,null,null,null,"RD 10",0,0,null,null,null,null,"RD 10",0,0]
["RD 11",0,0,null,"Gut",null,null,"RD 11",0,0,null,"Gut",null,null,"RD 11",0,0,null,"Gut",null,null,"RD 11",0,0,null,"Gut"]
["RD 12",0,0,null,null,null,null,"RD 12",0,0,null,null,null,null,"RD 12",0,0,null,null,null,null,"RD 12",0,0]
["RD 13",0,0,null,null,null,null,"RD 13",0,0,null,null,null,null,"RD 13",0,0,null,null,null,null,"RD 13",0,0]
["RD 14",0,0,null,null,null,null,"RD 14",0,0,null,null,null,null,"RD 14",0,0,null,null,null,null,"RD 14",0,0]
["RD 15",0,0,null,null,null,null,"RD 15",0,0,null,null,null,null,"RD 15",0,0,null,null,null,null,"RD 15",0,0]
["RD 16",0,0,null,"Sehr  Gut",null,null,"RD 16",0,0,null,"Sehr  Gut",null,null,"RD 16",0,0,null,"Sehr  Gut",null,null,"RD 16",0,0,null,"Sehr  Gut"]
["RD 17",0,0,null,null,null,null,"RD 17",0,0,null,null,null,null,"RD 17",0,0,null,null,null,null,"RD 17",0,0]
["RD 18",0,0,null,null,null,null,"RD 18",0,0,null,null,null,null,"RD 18",0,0,null,null,null,null,"RD 18",0,0]
["RD 19",0,0,null,null,null,null,"RD 19",0,0,null,null,null,null,"RD 19",0,0,null,null,null,null,"RD 19",0,0]
["RD 20",0,0,null,null,null,null,"RD 20",0,0,null,null,null,null,"RD 20",0,0,null,null,null,null,"RD 20",0,0]
["RD 21",0,0,null,null,null,null,"RD 21",0,0,null,null,null,null,"RD 21",0,0,null,null,null,null,"RD 21",0,0]
["RD 22",0,0,null,null,null,null,"RD 22",0,0,null,null,null,null,"RD 22",0,0,null,null,null,null,"RD 22",0,0]
["RD 23",0,0,null,null,null,null,"RD 23",0,0,null,null,null,null,"RD 23",0,0,null,null,null,null,"RD 23",0,0]
["RD 24",0,0,null,null,null,null,"RD 24",0,0,null,null,null,null,"RD 24",0,0,null,null,null,null,"RD 24",0,0]
["RD 25",0,0,null,null,null,null,"RD 25",0,0,null,null,null,null,"RD 25",0,0,null,null,null,null,"RD 25",0,0]
["RD 26",0,0,null,null,null,null,"RD 26",0,0,null,null,null,null,"RD 26",0,0,null,null,null,null,"RD 26",0,0]
["RD 27",0,0,null,null,null,null,"RD 27",0,0,null,null,null,null,"RD 27",0,0,null,null,null,null,"RD 27",0,0]
["RD 28",0,0,null,null,null,null,"RD 28",0,0,null,null,null,null,"RD 28",0,0,null,null,null,null,"RD 28",0,0]
["RD 29",0,0,null,{"$f":"IF(E4=0,\"Sieg\",\"\")","v":""},null,null,"RD 29",0,0,null,{"$f":"IF(L4=0,\"Sieg\",\"\")","v":""},null,null,"RD 29",0,0,null,{"$f":"IF(S4=0,\"Sieg\",\"\")","v":""},null,null,"RD 29",0,0,null,{"$f":"IF(Z4=0,\"Sieg\",\"\")","v":""}]
["RD 30",0,0,null,null,null,null,"RD 30",0,0,null,null,null,null,"RD 30",0,0,null,null,null,null,"RD 30",0,0]
[null,{"$f":"SUM(B4:B33)","v":1},{"$f":"SUM(C4:C33)","v":3},{"$f":"SUM(D4:D33)","v":33},{"$f":"SUM(D4:D32)","v":33},null,null,null,{"$f":"SUM(I4:I33)","v":1},{"$f":"SUM(J4:J33)","v":3},{"$f":"SUM(K4:K33)","v":78},{"$f":"SUM(K4:K32)","v":78},null,null,null,{"$f":"SUM(P4:P33)","v":1},{"$f":"SUM(Q4:Q33)","v":3},{"$f":"SUM(R4:R33)","v":13},{"$f":"SUM(R4:R32)","v":13},null,null,null,{"$f":"SUM(W4:W33)","v":1},{"$f":"SUM(X4:X33)","v":3},{"$f":"SUM(Y4:Y33)","v":55},{"$f":"SUM(Y4:Y32)","v":55}]
[null,null,null,{"$f":"D1","v":"Anja"},null,{"$f":"E3","v":33},null,null,null,null,{"$f":"INDEX(D35:D38,MATCH(MAX(F35:F38),F35:F38,0),1)","v":"Siggi"},{"$f":"E1","v":"Erich"},null,{"$f":"E3","v":33},null,null,null,null,{"$f":"INDEX(L35:L38,MATCH(MAX(N35:N38),N35:N38,0),1)","v":"Ralf M."}]
[null,null,null,{"$f":"K1","v":"Siggi"},null,{"$f":"SUM(L3)","v":78},null,null,null,null,null,{"$f":"L1","v":"Ralf M."},null,{"$f":"SUM(L3)","v":78}]
[null,null,null,{"$f":"R1","v":"Ralf Kl."},null,{"$f":"SUM(S3)","v":13},null,null,null,null,null,{"$f":"S1","v":"Volker"},null,{"$f":"SUM(S3)","v":13}]
[null,null,null,{"$f":"Y1","v":"Rene"},null,{"$f":"SUM(Z3)","v":55},null,null,null,null,null,{"$f":"Z1","v":"Nicole"},null,{"$f":"SUM(Z3)","v":55}]
[null,null,null,"MAX(B2:B7",null,{"$f":"SUM(F35:F38)","v":179},null,null,null,null,null,"MAX(B2:B7",null,{"$f":"SUM(N35:N38)","v":179}]

{"sheet":"Rd.2","index":1,"n_rows":39,"n_cols":27,"rows_kept":39,"cut":false,"hidden":false,"merged":[[0,28,0,30],[34,3,34,4],[35,3,35,4],[36,3,36,4],[37,3,37,4],[8,4,9,5],[8,11,9,12],[8,18,9,19],[8,25,9,26],[10,4,12,5],[10,11,12,12],[10,18,12,19],[10,25,12,26],[26,25,30,26],[7,4,7,5],[7,11,7,12],[38,3,38,4],[13,4,17,5],[13,11,17,12],[13,18,17,19],[13,25,17,26],[18,4,25,5],[18,11,25,12],[18,18,25,19],[31,4,32,5],[31,11,32,12],[31,18,32,19],[31,25,32,26],[18,25,25,26],[26,4,30,5],[26,11,30,12],[26,18,30,19],[7,18,7,19],[7,25,7,26],[37,11,37,12],[37,13,37,14],[38,11,38,12],[34,11,34,12],[34,13,34,14],[35,11,35,12],[35,13,35,14],[36,11,36,12],[36,13,36,14]]}
[null,null,null,null,null,"Sp.1",null,null,null,null,null,null,"Sp.2",null,null,null,null,null,null,"Sp.3",null,null,null,null,null,null,"Sp.4"]
[null,null,null,"Punkte",501,"Start",null,null,null,null,"Punkte",501,"Start",null,null,null,null,"Punkte",501,"Start",null,null,null,null,"Punkte",501,"Start"]
[null,null,null,"Geworfen",{"$f":"SUM(D34)","v":0},"Punkte",null,null,null,null,"Geworfen",{"$f":"SUM(K34)","v":0},"Punkte",null,null,null,null,"Geworfen",{"$f":"SUM(R34)","v":0},"Punkte",null,null,null,null,"Geworfen",{"$f":"SUM(Y34)","v":0},"Punkte"]
["RD 1",{"$f":"COUNT(D4)*1","v":0},{"$f":"COUNT(D4)*3","v":0},null,{"$f":"SUM(E2-E3)","v":501},"Rest",null,"RD 1",{"$f":"COUNT(K4)*1","v":0},{"$f":"COUNT(K4)*3","v":0},null,{"$f":"SUM(L2-L3)","v":501},"Rest",null,"RD 1",{"$f":"COUNT(R4)*1","v":0},{"$f":"COUNT(R4)*3","v":0},null,{"$f":"SUM(S2-S3)","v":501},"Rest",null,"RD 1",{"$f":"COUNT(Y4)*1","v":0},{"$f":"COUNT(Y4)*3","v":0},null,{"$f":"SUM(Z2-Z3)","v":501},"Rest"]
["RD 2",0,0,null,null,null,null,"RD 2",0,0,null,null,null,null,"RD 2",0,0,null,null,null,null,"RD 2",0,0]
["RD 3",0,0,null,"ø pro Spiel",{"$f":"SUM(E3)/B34","v":{"$error":"#DIV/0!"}},null,"RD 3",0,0,null,"ø pro Spiel",{"$f":"SUM(L3)/I34","v":{"$error":"#DIV/0!"}},null,"RD 3",0,0,null,"ø pro Spiel",{"$f":"SUM(S3)/P34","v":{"$error":"#DIV/0!"}},null,"RD 3",0,0,null,"ø pro Spiel",{"$f":"SUM(Z3)/W34","v":{"$error":"#DIV/0!"}}]
["RD 4",0,0,null,"ø pro Pfeil",{"$f":"SUM(E3)/C34","v":{"$error":"#DIV/0!"}},null,"RD 4",0,0,null,"ø pro Pfeil",{"$f":"SUM(L3)/J34","v":{"$error":"#DIV/0!"}},null,"RD 4",0,0,null,"ø pro Pfeil",{"$f":"SUM(S3)/Q34","v":{"$error":"#DIV/0!"}},null,"RD 4",0,0,null,"ø pro Pfeil",{"$f":"SUM(Z3)/X34","v":{"$error":"#DIV/0!"}}]
["RD 5",0,0,null,"Average",null,null,"RD 5",0,0,null,"Average",null,null,"RD 5",0,0,null,"Average",null,null,"RD 5",0,0,null,"Average"]
["RD 6",0,0,null,{"$f":"SUM(F6)","v":{"$error":"#DIV/0!"}},null,null,"RD 6",0,0,null,{"$f":"SUM(M6)","v":{"$error":"#DIV/0!"}},null,null,"RD 6",0,0,null,{"$f":"SUM(T6)","v":{"$error":"#DIV/0!"}},null,null,"RD 6",0,0,null,{"$f":"SUM(AA6)","v":{"$error":"#DIV/0!"}}]
["RD 7",0,0,null,null,null,null,"RD 7",0,0,null,null,null,null,"RD 7",0,0,null,null,null,null,"RD 7",0,0]
["RD 8",0,0,null,"Nicht Gut",null,null,"RD 8",0,0,null,"Nicht Gut",null,null,"RD 8",0,0,null,"Nicht Gut",null,null,"RD 8",0,0,null,"Nicht Gut"]
["RD 9",0,0,null,null,null,null,"RD 9",0,0,null,null,null,null,"RD 9",0,0,null,null,null,null,"RD 9",0,0]
["RD 10",0,0,null,null,null,null,"RD 10",0,0,null,null,null,null,"RD 10",0,0,null,null,null,null,"RD 10",0,0]
["RD 11",0,0,null,"Gut",null,null,"RD 11",0,0,null,"Gut",null,null,"RD 11",0,0,null,"Gut",null,null,"RD 11",0,0,null,"Gut"]
["RD 12",0,0,null,null,null,null,"RD 12",0,0,null,null,null,null,"RD 12",0,0,null,null,null,null,"RD 12",0,0]
["RD 13",0,0,null,null,null,null,"RD 13",0,0,null,null,null,null,"RD 13",0,0,null,null,null,null,"RD 13",0,0]
["RD 14",0,0,null,null,null,null,"RD 14",0,0,null,null,null,null,"RD 14",0,0,null,null,null,null,"RD 14",0,0]
["RD 15",0,0,null,null,null,null,"RD 15",0,0,null,null,null,null,"RD 15",0,0,null,null,null,null,"RD 15",0,0]
["RD 16",0,0,null,"Sehr  Gut",null,null,"RD 16",0,0,null,"Sehr  Gut",null,null,"RD 16",0,0,null,"Sehr  Gut",null,null,"RD 16",0,0,null,"Sehr  Gut"]
["RD 17",0,0,null,null,null,null,"RD 17",0,0,null,null,null,null,"RD 17",0,0,null,null,null,null,"RD 17",0,0]
["RD 18",0,0,null,null,null,null,"RD 18",0,0,null,null,null,null,"RD 18",0,0,null,null,null,null,"RD 18",0,0]
["RD 19",0,0,null,null,null,null,"RD 19",0,0,null,null,null,null,"RD 19",0,0,null,null,null,null,"RD 19",0,0]
["RD 20",0,0,null,null,null,null,"RD 20",0,0,null,null,null,null,"RD 20",0,0,null,null,null,null,"RD 20",0,0]
["RD 21",0,0,null,null,null,null,"RD 21",0,0,null,null,null,null,"RD 21",0,0,null,null,null,null,"RD 21",0,0]
["RD 22",0,0,null,null,null,null,"RD 22",0,0,null,null,null,null,"RD 22",0,0,null,null,null,null,"RD 22",0,0]
["RD 23",0,0,null,null,null,null,"RD 23",0,0,null,null,null,null,"RD 23",0,0,null,null,null,null,"RD 23",0,0]
["RD 24",0,0,null,null,null,null,"RD 24",0,0,null,null,null,null,"RD 24",0,0,null,null,null,null,"RD 24",0,0]
["RD 25",0,0,null,null,null,null,"RD 25",0,0,null,null,null,null,"RD 25",0,0,null,null,null,null,"RD 25",0,0]
["RD 26",0,0,null,null,null,null,"RD 26",0,0,null,null,null,null,"RD 26",0,0,null,null,null,null,"RD 26",0,0]
["RD 27",0,0,null,null,null,null,"RD 27",0,0,null,null,null,null,"RD 27",0,0,null,null,null,null,"RD 27",0,0]
["RD 28",0,0,null,null,null,null,"RD 28",0,0,null,null,null,null,"RD 28",0,0,null,null,null,null,"RD 28",0,0]
["RD 29",0,0,null,{"$f":"IF(E4=0,\"Sieg\",\"\")","v":""},null,null,"RD 29",0,0,null,{"$f":"IF(L4=0,\"Sieg\",\"\")","v":""},null,null,"RD 29",0,0,null,{"$f":"IF(S4=0,\"Sieg\",\"\")","v":""},null,null,"RD 29",0,0,null,{"$f":"IF(Z4=0,\"Sieg\",\"\")","v":""}]
["RD 30",0,0,null,null,null,null,"RD 30",0,0,null,null,null,null,"RD 30",0,0,null,null,null,null,"RD 30",0,0]
[null,{"$f":"SUM(B4:B33)","v":0},{"$f":"SUM(C4:C33)","v":0},{"$f":"SUM(D4:D33)","v":0},{"$f":"SUM(D4:D32)","v":0},null,null,null,{"$f":"SUM(I4:I33)","v":0},{"$f":"SUM(J4:J33)","v":0},{"$f":"SUM(K4:K33)","v":0},{"$f":"SUM(K4:K32)","v":0},null,null,null,{"$f":"SUM(P4:P33)","v":0},{"$f":"SUM(Q4:Q33)","v":0},{"$f":"SUM(R4:R33)","v":0},{"$f":"SUM(R4:R32)","v":0},null,null,null,{"$f":"SUM(W4:W33)","v":0},{"$f":"SUM(X4:X33)","v":0},{"$f":"SUM(Y4:Y33)","v":0},{"$f":"SUM(Y4:Y32)","v":0}]
[null,null,null,{"$f":"D1","v":0},null,{"$f":"E3","v":0},null,null,null,null,{"$f":"INDEX(D35:D38,MATCH(MAX(F35:F38),F35:F38,0),1)","v":0},{"$f":"E1","v":0},null,{"$f":"E3","v":0},null,null,null,null,{"$f":"INDEX(L35:L38,MATCH(MAX(N35:N38),N35:N38,0),1)","v":0}]
[null,null,null,{"$f":"K1","v":0},null,{"$f":"SUM(L3)","v":0},null,null,null,null,null,{"$f":"L1","v":0},null,{"$f":"SUM(L3)","v":0}]
[null,null,null,{"$f":"R1","v":0},null,{"$f":"SUM(S3)","v":0},null,null,null,null,null,{"$f":"S1","v":0},null,{"$f":"SUM(S3)","v":0}]
[null,null,null,{"$f":"R1","v":0},null,{"$f":"SUM(Z3)","v":0},null,null,null,null,null,{"$f":"Z1","v":0},null,{"$f":"SUM(Z3)","v":0}]
[null,null,null,"MAX(B2:B7",null,{"$f":"SUM(F35:F38)","v":0},null,null,null,null,null,"MAX(B2:B7",null,{"$f":"SUM(N35:N38)","v":0}]

{"sheet":"Rd. 3","index":2,"n_rows":39,"n_cols":27,"rows_kept":39,"cut":false,"hidden":false,"merged":[[0,28,0,30],[34,3,34,4],[35,3,35,4],[36,3,36,4],[37,3,37,4],[8,4,9,5],[8,11,9,12],[8,18,9,19],[8,25,9,26],[10,4,12,5],[10,11,12,12],[10,18,12,19],[10,25,12,26],[26,25,30,26],[7,4,7,5],[7,11,7,12],[38,3,38,4],[13,4,17,5],[13,11,17,12],[13,18,17,19],[13,25,17,26],[18,4,25,5],[18,11,25,12],[18,18,25,19],[31,4,32,5],[31,11,32,12],[31,18,32,19],[31,25,32,26],[18,25,25,26],[26,4,30,5],[26,11,30,12],[26,18,30,19],[7,18,7,19],[7,25,7,26],[37,11,37,12],[37,13,37,14],[38,11,38,12],[34,11,34,12],[34,13,34,14],[35,11,35,12],[35,13,35,14],[36,11,36,12],[36,13,36,14]]}
[null,null,null,null,null,"Sp.1",null,null,null,null,null,null,"Sp.2",null,null,null,null,null,null,"Sp.3",null,null,null,null,null,null,"Sp.4"]
[null,null,null,"Punkte",501,"Start",null,null,null,null,"Punkte",501,"Start",null,null,null,null,"Punkte",501,"Start",null,null,null,null,"Punkte",501,"Start"]
[null,null,null,"Geworfen",{"$f":"SUM(D34)","v":0},"Punkte",null,null,null,null,"Geworfen",{"$f":"SUM(K34)","v":0},"Punkte",null,null,null,null,"Geworfen",{"$f":"SUM(R34)","v":0},"Punkte",null,null,null,null,"Geworfen",{"$f":"SUM(Y34)","v":0},"Punkte"]
["RD 1",{"$f":"COUNT(D4)*1","v":0},{"$f":"COUNT(D4)*3","v":0},null,{"$f":"SUM(E2-E3)","v":501},"Rest",null,"RD 1",{"$f":"COUNT(K4)*1","v":0},{"$f":"COUNT(K4)*3","v":0},null,{"$f":"SUM(L2-L3)","v":501},"Rest",null,"RD 1",{"$f":"COUNT(R4)*1","v":0},{"$f":"COUNT(R4)*3","v":0},null,{"$f":"SUM(S2-S3)","v":501},"Rest",null,"RD 1",{"$f":"COUNT(Y4)*1","v":0},{"$f":"COUNT(Y4)*3","v":0},null,{"$f":"SUM(Z2-Z3)","v":501},"Rest"]
["RD 2",0,0,null,null,null,null,"RD 2",0,0,null,null,null,null,"RD 2",0,0,null,null,null,null,"RD 2",0,0]
["RD 3",0,0,null,"ø pro Spiel",{"$f":"SUM(E3)/B34","v":{"$error":"#DIV/0!"}},null,"RD 3",0,0,null,"ø pro Spiel",{"$f":"SUM(L3)/I34","v":{"$error":"#DIV/0!"}},null,"RD 3",0,0,null,"ø pro Spiel",{"$f":"SUM(S3)/P34","v":{"$error":"#DIV/0!"}},null,"RD 3",0,0,null,"ø pro Spiel",{"$f":"SUM(Z3)/W34","v":{"$error":"#DIV/0!"}}]
["RD 4",0,0,null,"ø pro Pfeil",{"$f":"SUM(E3)/C34","v":{"$error":"#DIV/0!"}},null,"RD 4",0,0,null,"ø pro Pfeil",{"$f":"SUM(L3)/J34","v":{"$error":"#DIV/0!"}},null,"RD 4",0,0,null,"ø pro Pfeil",{"$f":"SUM(S3)/Q34","v":{"$error":"#DIV/0!"}},null,"RD 4",0,0,null,"ø pro Pfeil",{"$f":"SUM(Z3)/X34","v":{"$error":"#DIV/0!"}}]
["RD 5",0,0,null,"Average",null,null,"RD 5",0,0,null,"Average",null,null,"RD 5",0,0,null,"Average",null,null,"RD 5",0,0,null,"Average"]
["RD 6",0,0,null,{"$f":"SUM(F6)","v":{"$error":"#DIV/0!"}},null,null,"RD 6",0,0,null,{"$f":"SUM(M6)","v":{"$error":"#DIV/0!"}},null,null,"RD 6",0,0,null,{"$f":"SUM(T6)","v":{"$error":"#DIV/0!"}},null,null,"RD 6",0,0,null,{"$f":"SUM(AA6)","v":{"$error":"#DIV/0!"}}]
["RD 7",0,0,null,null,null,null,"RD 7",0,0,null,null,null,null,"RD 7",0,0,null,null,null,null,"RD 7",0,0]
["RD 8",0,0,null,"Nicht Gut",null,null,"RD 8",0,0,null,"Nicht Gut",null,null,"RD 8",0,0,null,"Nicht Gut",null,null,"RD 8",0,0,null,"Nicht Gut"]
["RD 9",0,0,null,null,null,null,"RD 9",0,0,null,null,null,null,"RD 9",0,0,null,null,null,null,"RD 9",0,0]
["RD 10",0,0,null,null,null,null,"RD 10",0,0,null,null,null,null,"RD 10",0,0,null,null,null,null,"RD 10",0,0]
["RD 11",0,0,null,"Gut",null,null,"RD 11",0,0,null,"Gut",null,null,"RD 11",0,0,null,"Gut",null,null,"RD 11",0,0,null,"Gut"]
["RD 12",0,0,null,null,null,null,"RD 12",0,0,null,null,null,null,"RD 12",0,0,null,null,null,null,"RD 12",0,0]
["RD 13",0,0,null,null,null,null,"RD 13",0,0,null,null,null,null,"RD 13",0,0,null,null,null,null,"RD 13",0,0]
["RD 14",0,0,null,null,null,null,"RD 14",0,0,null,null,null,null,"RD 14",0,0,null,null,null,null,"RD 14",0,0]
["RD 15",0,0,null,null,null,null,"RD 15",0,0,null,null,null,null,"RD 15",0,0,null,null,null,null,"RD 15",0,0]
["RD 16",0,0,null,"Sehr  Gut",null,null,"RD 16",0,0,null,"Sehr  Gut",null,null,"RD 16",0,0,null,"Sehr  Gut",null,null,"RD 16",0,0,null,"Sehr  Gut"]
["RD 17",0,0,null,null,null,null,"RD 17",0,0,null,null,null,null,"RD 17",0,0,null,null,null,null,"RD 17",0,0]
["RD 18",0,0,null,null,null,null,"RD 18",0,0,null,null,null,null,"RD 18",0,0,null,null,null,null,"RD 18",0,0]
["RD 19",0,0,null,null,null,null,"RD 19",0,0,null,null,null,null,"RD 19",0,0,null,null,null,null,"RD 19",0,0]
["RD 20",0,0,null,null,null,null,"RD 20",0,0,null,null,null,null,"RD 20",0,0,null,null,null,null,"RD 20",0,0]
["RD 21",0,0,null,null,null,null,"RD 21",0,0,null,null,null,null,"RD 21",0,0,null,null,null,null,"RD 21",0,0]
["RD 22",0,0,null,null,null,null,"RD 22",0,0,null,null,null,null,"RD 22",0,0,null,null,null,null,"RD 22",0,0]
["RD 23",0,0,null,null,null,null,"RD 23",0,0,null,null,null,null,"RD 23",0,0,null,null,null,null,"RD 23",0,0]
["RD 24",0,0,null,null,null,null,"RD 24",0,0,null,null,null,null,"RD 24",0,0,null,null,null,null,"RD 24",0,0]
["RD 25",0,0,null,null,null,null,"RD 25",0,0,null,null,null,null,"RD 25",0,0,null,null,null,null,"RD 25",0,0]
["RD 26",0,0,null,null,null,null,"RD 26",0,0,null,null,null,null,"RD 26",0,0,null,null,null,null,"RD 26",0,0]
["RD 27",0,0,null,null,null,null,"RD 27",0,0,null,null,null,null,"RD 27",0,0,null,null,null,null,"RD 27",0,0]
["RD 28",0,0,null,null,null,null,"RD 28",0,0,null,null,null,null,"RD 28",0,0,null,null,null,null,"RD 28",0,0]
["RD 29",0,0,null,{"$f":"IF(E4=0,\"Sieg\",\"\")","v":""},null,null,"RD 29",0,0,null,{"$f":"IF(L4=0,\"Sieg\",\"\")","v":""},null,null,"RD 29",0,0,null,{"$f":"IF(S4=0,\"Sieg\",\"\")","v":""},null,null,"RD 29",0,0,null,{"$f":"IF(Z4=0,\"Sieg\",\"\")","v":""}]
["RD 30",0,0,null,null,null,null,"RD 30",0,0,null,null,null,null,"RD 30",0,0,null,null,null,null,"RD 30",0,0]
[null,{"$f":"SUM(B4:B33)","v":0},{"$f":"SUM(C4:C33)","v":0},{"$f":"SUM(D4:D33)","v":0},{"$f":"SUM(D4:D32)","v":0},null,null,null,{"$f":"SUM(I4:I33)","v":0},{"$f":"SUM(J4:J33)","v":0},{"$f":"SUM(K4:K33)","v":0},{"$f":"SUM(K4:K32)","v":0},null,null,null,{"$f":"SUM(P4:P33)","v":0},{"$f":"SUM(Q4:Q33)","v":0},{"$f":"SUM(R4:R33)","v":0},{"$f":"SUM(R4:R32)","v":0},null,null,null,{"$f":"SUM(W4:W33)","v":0},{"$f":"SUM(X4:X33)","v":0},{"$f":"SUM(Y4:Y33)","v":0},{"$f":"SUM(Y4:Y32)","v":0}]
[null,null,null,{"$f":"D1","v":0},null,{"$f":"E3","v":0},null,null,null,null,{"$f":"INDEX(D35:D38,MATCH(MAX(F35:F38),F35:F38,0),1)","v":0},{"$f":"E1","v":0},null,{"$f":"E3","v":0},null,null,null,null,{"$f":"INDEX(L35:L38,MATCH(MAX(N35:N38),N35:N38,0),1)","v":0}]
[null,null,null,{"$f":"K1","v":0},null,{"$f":"SUM(L3)","v":0},null,null,null,null,null,{"$f":"L1","v":0},null,{"$f":"SUM(L3)","v":0}]
[null,null,null,{"$f":"R1","v":0},null,{"$f":"SUM(S3)","v":0},null,null,null,null,null,{"$f":"S1","v":0},null,{"$f":"SUM(S3)","v":0}]
[null,null,null,{"$f":"R1","v":0},null,{"$f":"SUM(Z3)","v":0},null,null,null,null,null,{"$f":"Z1","v":0},null,{"$f":"SUM(Z3)","v":0}]
[null,null,null,"MAX(B2:B7",null,{"$f":"SUM(F35:F38)","v":0},null,null,null,null,null,"MAX(B2:B7",null,{"$f":"SUM(N35:N38)","v":0}]

{"sheet":"Rd. 4","index":3,"n_rows":39,"n_cols":27,"rows_kept":39,"cut":false,"hidden":false,"merged":[[0,28,0,30],[34,3,34,4],[35,3,35,4],[36,3,36,4],[37,3,37,4],[8,4,9,5],[8,11,9,12],[8,18,9,19],[8,25,9,26],[10,4,12,5],[10,11,12,12],[10,18,12,19],[10,25,12,26],[26,25,30,26],[7,4,7,5],[7,11,7,12],[38,3,38,4],[13,4,17,5],[13,11,17,12],[13,18,17,19],[13,25,17,26],[18,4,25,5],[18,11,25,12],[18,18,25,19],[31,4,32,5],[31,11,32,12],[31,18,32,19],[31,25,32,26],[18,25,25,26],[26,4,30,5],[26,11,30,12],[26,18,30,19],[7,18,7,19],[7,25,7,26],[37,11,37,12],[37,13,37,14],[38,11,38,12],[34,11,34,12],[34,13,34,14],[35,11,35,12],[35,13,35,14],[36,11,36,12],[36,13,36,14]]}
[null,null,null,null,null,"Sp.1",null,null,null,null,null,null,"Sp.2",null,null,null,null,null,null,"Sp.3",null,null,null,null,null,null,"Sp.4"]
[null,null,null,"Punkte",501,"Start",null,null,null,null,"Punkte",501,"Start",null,null,null,null,"Punkte",501,"Start",null,null,null,null,"Punkte",501,"Start"]
[null,null,null,"Geworfen",{"$f":"SUM(D34)","v":0},"Punkte",null,null,null,null,"Geworfen",{"$f":"SUM(K34)","v":0},"Punkte",null,null,null,null,"Geworfen",{"$f":"SUM(R34)","v":0},"Punkte",null,null,null,null,"Geworfen",{"$f":"SUM(Y34)","v":0},"Punkte"]
["RD 1",{"$f":"COUNT(D4)*1","v":0},{"$f":"COUNT(D4)*3","v":0},null,{"$f":"SUM(E2-E3)","v":501},"Rest",null,"RD 1",{"$f":"COUNT(K4)*1","v":0},{"$f":"COUNT(K4)*3","v":0},null,{"$f":"SUM(L2-L3)","v":501},"Rest",null,"RD 1",{"$f":"COUNT(R4)*1","v":0},{"$f":"COUNT(R4)*3","v":0},null,{"$f":"SUM(S2-S3)","v":501},"Rest",null,"RD 1",{"$f":"COUNT(Y4)*1","v":0},{"$f":"COUNT(Y4)*3","v":0},null,{"$f":"SUM(Z2-Z3)","v":501},"Rest"]
["RD 2",0,0,null,null,null,null,"RD 2",0,0,null,null,null,null,"RD 2",0,0,null,null,null,null,"RD 2",0,0]
["RD 3",0,0,null,"ø pro Spiel",{"$f":"SUM(E3)/B34","v":{"$error":"#DIV/0!"}},null,"RD 3",0,0,null,"ø pro Spiel",{"$f":"SUM(L3)/I34","v":{"$error":"#DIV/0!"}},null,"RD 3",0,0,null,"ø pro Spiel",{"$f":"SUM(S3)/P34","v":{"$error":"#DIV/0!"}},null,"RD 3",0,0,null,"ø pro Spiel",{"$f":"SUM(Z3)/W34","v":{"$error":"#DIV/0!"}}]
["RD 4",0,0,null,"ø pro Pfeil",{"$f":"SUM(E3)/C34","v":{"$error":"#DIV/0!"}},null,"RD 4",0,0,null,"ø pro Pfeil",{"$f":"SUM(L3)/J34","v":{"$error":"#DIV/0!"}},null,"RD 4",0,0,null,"ø pro Pfeil",{"$f":"SUM(S3)/Q34","v":{"$error":"#DIV/0!"}},null,"RD 4",0,0,null,"ø pro Pfeil",{"$f":"SUM(Z3)/X34","v":{"$error":"#DIV/0!"}}]
["RD 5",0,0,null,"Average",null,null,"RD 5",0,0,null,"Average",null,null,"RD 5",0,0,null,"Average",null,null,"RD 5",0,0,null,"Average"]
["RD 6",0,0,null,{"$f":"SUM(F6)","v":{"$error":"#DIV/0!"}},null,null,"RD 6",0,0,null,{"$f":"SUM(M6)","v":{"$error":"#DIV/0!"}},null,null,"RD 6",0,0,null,{"$f":"SUM(T6)","v":{"$error":"#DIV/0!"}},null,null,"RD 6",0,0,null,{"$f":"SUM(AA6)","v":{"$error":"#DIV/0!"}}]
["RD 7",0,0,null,null,null,null,"RD 7",0,0,null,null,null,null,"RD 7",0,0,null,null,null,null,"RD 7",0,0]
["RD 8",0,0,null,"Nicht Gut",null,null,"RD 8",0,0,null,"Nicht Gut",null,null,"RD 8",0,0,null,"Nicht Gut",null,null,"RD 8",0,0,null,"Nicht Gut"]
["RD 9",0,0,null,null,null,null,"RD 9",0,0,null,null,null,null,"RD 9",0,0,null,null,null,null,"RD 9",0,0]
["RD 10",0,0,null,null,null,null,"RD 10",0,0,null,null,null,null,"RD 10",0,0,null,null,null,null,"RD 10",0,0]
["RD 11",0,0,null,"Gut",null,null,"RD 11",0,0,null,"Gut",null,null,"RD 11",0,0,null,"Gut",null,null,"RD 11",0,0,null,"Gut"]
["RD 12",0,0,null,null,null,null,"RD 12",0,0,null,null,null,null,"RD 12",0,0,null,null,null,null,"RD 12",0,0]
["RD 13",0,0,null,null,null,null,"RD 13",0,0,null,null,null,null,"RD 13",0,0,null,null,null,null,"RD 13",0,0]
["RD 14",0,0,null,null,null,null,"RD 14",0,0,null,null,null,null,"RD 14",0,0,null,null,null,null,"RD 14",0,0]
["RD 15",0,0,null,null,null,null,"RD 15",0,0,null,null,null,null,"RD 15",0,0,null,null,null,null,"RD 15",0,0]
["RD 16",0,0,null,"Sehr  Gut",null,null,"RD 16",0,0,null,"Sehr  Gut",null,null,"RD 16",0,0,null,"Sehr  Gut",null,null,"RD 16",0,0,null,"Sehr  Gut"]
["RD 17",0,0,null,null,null,null,"RD 17",0,0,null,null,null,null,"RD 17",0,0,null,null,null,null,"RD 17",0,0]
["RD 18",0,0,null,null,null,null,"RD 18",0,0,null,null,null,null,"RD 18",0,0,null,null,null,null,"RD 18",0,0]
["RD 19",0,0,null,null,null,null,"RD 19",0,0,null,null,null,null,"RD 19",0,0,null,null,null,null,"RD 19",0,0]
["RD 20",0,0,null,null,null,null,"RD 20",0,0,null,null,null,null,"RD 20",0,0,null,null,null,null,"RD 20",0,0]
["RD 21",0,0,null,null,null,null,"RD 21",0,0,null,null,null,null,"RD 21",0,0,null,null,null,null,"RD 21",0,0]
["RD 22",0,0,null,null,null,null,"RD 22",0,0,null,null,null,null,"RD 22",0,0,null,null,null,null,"RD 22",0,0]
["RD 23",0,0,null,null,null,null,"RD 23",0,0,null,null,null,null,"RD 23",0,0,null,null,null,null,"RD 23",0,0]
["RD 24",0,0,null,null,null,null,"RD 24",0,0,null,null,null,null,"RD 24",0,0,null,null,null,null,"RD 24",0,0]
["RD 25",0,0,null,null,null,null,"RD 25",0,0,null,null,null,null,"RD 25",0,0,null,null,null,null,"RD 25",0,0]
["RD 26",0,0,null,null,null,null,"RD 26",0,0,null,null,null,null,"RD 26",0,0,null,null,null,null,"RD 26",0,0]
["RD 27",0,0,null,null,null,null,"RD 27",0,0,null,null,null,null,"RD 27",0,0,null,null,null,null,"RD 27",0,0]
["RD 28",0,0,null,null,null,null,"RD 28",0,0,null,null,null,null,"RD 28",0,0,null,null,null,null,"RD 28",0,0]
["RD 29",0,0,null,{"$f":"IF(E4=0,\"Sieg\",\"\")","v":""},null,null,"RD 29",0,0,null,{"$f":"IF(L4=0,\"Sieg\",\"\")","v":""},null,null,"RD 29",0,0,null,{"$f":"IF(S4=0,\"Sieg\",\"\")","v":""},null,null,"RD 29",0,0,null,{"$f":"IF(Z4=0,\"Sieg\",\"\")","v":""}]
["RD 30",0,0,null,null,null,null,"RD 30",0,0,null,null,null,null,"RD 30",0,0,null,null,null,null,"RD 30",0,0]
[null,{"$f":"SUM(B4:B33)","v":0},{"$f":"SUM(C4:C33)","v":0},{"$f":"SUM(D4:D33)","v":0},{"$f":"SUM(D4:D32)","v":0},null,null,null,{"$f":"SUM(I4:I33)","v":0},{"$f":"SUM(J4:J33)","v":0},{"$f":"SUM(K4:K33)","v":0},{"$f":"SUM(K4:K32)","v":0},null,null,null,{"$f":"SUM(P4:P33)","v":0},{"$f":"SUM(Q4:Q33)","v":0},{"$f":"SUM(R4:R33)","v":0},{"$f":"SUM(R4:R32)","v":0},null,null,null,{"$f":"SUM(W4:W33)","v":0},{"$f":"SUM(X4:X33)","v":0},{"$f":"SUM(Y4:Y33)","v":0},{"$f":"SUM(Y4:Y32)","v":0}]
[null,null,null,{"$f":"D1","v":0},null,{"$f":"E3","v":0},null,null,null,null,{"$f":"INDEX(D35:D38,MATCH(MAX(F35:F38),F35:F38,0),1)","v":0},{"$f":"E1","v":0},null,{"$f":"E3","v":0},null,null,null,null,{"$f":"INDEX(L35:L38,MATCH(MAX(N35:N38),N35:N38,0),1)","v":0}]
[null,null,null,{"$f":"K1","v":0},null,{"$f":"SUM(L3)","v":0},null,null,null,null,null,{"$f":"L1","v":0},null,{"$f":"SUM(L3)","v":0}]
[null,null,null,{"$f":"R1","v":0},null,{"$f":"SUM(S3)","v":0},null,null,null,null,null,{"$f":"S1","v":0},null,{"$f":"SUM(S3)","v":0}]
[null,null,null,{"$f":"R1","v":0},null,{"$f":"SUM(Z3)","v":0},null,null,null,null,null,{"$f":"Z1","v":0},null,{"$f":"SUM(Z3)","v":0}]
[null,null,null,"MAX(B2:B7",null,{"$f":"SUM(F35:F38)","v":0},null,null,null,null,null,"MAX(B2:B7",null,{"$f":"SUM(N35:N38)","v":0}]

{"sheet":"Rd.5","index":4,"n_rows":39,"n_cols":27,"rows_kept":39,"cut":false,"hidden":false,"merged":[[0,28,0,30],[34,3,34,4],[35,3,35,4],[36,3,36,4],[37,3,37,4],[8,4,9,5],[8,11,9,12],[8,18,9,19],[8,25,9,26],[10,4,12,5],[10,11,12,12],[10,18,12,19],[10,25,12,26],[26,25,30,26],[7,4,7,5],[7,11,7,12],[38,3,38,4],[13,4,17,5],[13,11,17,12],[13,18,17,19],[13,25,17,26],[18,4,25,5],[18,11,25,12],[18,18,25,19],[31,4,32,5],[31,11,32,12],[31,18,32,19],[31,25,32,26],[18,25,25,26],[26,4,30,5],[26,11,30,12],[26,18,30,19],[7,18,7,19],[7,25,7,26],[37,11,37,12],[37,13,37,14],[38,11,38,12],[34,11,34,12],[34,13,34,14],[35,11,35,12],[35,13,35,14],[36,11,36,12],[36,13,36,14]]}
[null,null,null,null,null,"Sp.1",null,null,null,null,null,null,"Sp.2",null,null,null,null,null,null,"Sp.3",null,null,null,null,null,null,"Sp.4"]
[null,null,null,"Punkte",501,"Start",null,null,null,null,"Punkte",501,"Start",null,null,null,null,"Punkte",501,"Start",null,null,null,null,"Punkte",501,"Start"]
[null,null,null,"Geworfen",{"$f":"SUM(D34)","v":0},"Punkte",null,null,null,null,"Geworfen",{"$f":"SUM(K34)","v":0},"Punkte",null,null,null,null,"Geworfen",{"$f":"SUM(R34)","v":0},"Punkte",null,null,null,null,"Geworfen",{"$f":"SUM(Y34)","v":0},"Punkte"]
["RD 1",{"$f":"COUNT(D4)*1","v":0},{"$f":"COUNT(D4)*3","v":0},null,{"$f":"SUM(E2-E3)","v":501},"Rest",null,"RD 1",{"$f":"COUNT(K4)*1","v":0},{"$f":"COUNT(K4)*3","v":0},null,{"$f":"SUM(L2-L3)","v":501},"Rest",null,"RD 1",{"$f":"COUNT(R4)*1","v":0},{"$f":"COUNT(R4)*3","v":0},null,{"$f":"SUM(S2-S3)","v":501},"Rest",null,"RD 1",{"$f":"COUNT(Y4)*1","v":0},{"$f":"COUNT(Y4)*3","v":0},null,{"$f":"SUM(Z2-Z3)","v":501},"Rest"]
["RD 2",0,0,null,null,null,null,"RD 2",0,0,null,null,null,null,"RD 2",0,0,null,null,null,null,"RD 2",0,0]
["RD 3",0,0,null,"ø pro Spiel",{"$f":"SUM(E3)/B34","v":{"$error":"#DIV/0!"}},null,"RD 3",0,0,null,"ø pro Spiel",{"$f":"SUM(L3)/I34","v":{"$error":"#DIV/0!"}},null,"RD 3",0,0,null,"ø pro Spiel",{"$f":"SUM(S3)/P34","v":{"$error":"#DIV/0!"}},null,"RD 3",0,0,null,"ø pro Spiel",{"$f":"SUM(Z3)/W34","v":{"$error":"#DIV/0!"}}]
["RD 4",0,0,null,"ø pro Pfeil",{"$f":"SUM(E3)/C34","v":{"$error":"#DIV/0!"}},null,"RD 4",0,0,null,"ø pro Pfeil",{"$f":"SUM(L3)/J34","v":{"$error":"#DIV/0!"}},null,"RD 4",0,0,null,"ø pro Pfeil",{"$f":"SUM(S3)/Q34","v":{"$error":"#DIV/0!"}},null,"RD 4",0,0,null,"ø pro Pfeil",{"$f":"SUM(Z3)/X34","v":{"$error":"#DIV/0!"}}]
["RD 5",0,0,null,"Average",null,null,"RD 5",0,0,null,"Average",null,null,"RD 5",0,0,null,"Average",null,null,"RD 5",0,0,null,"Average"]
["RD 6",0,0,null,{"$f":"SUM(F6)","v":{"$error":"#DIV/0!"}},null,null,"RD 6",0,0,null,{"$f":"SUM(M6)","v":{"$error":"#DIV/0!"}},null,null,"RD 6",0,0,null,{"$f":"SUM(T6)","v":{"$error":"#DIV/0!"}},null,null,"RD 6",0,0,null,{"$f":"SUM(AA6)","v":{"$error":"#DIV/0!"}}]
["RD 7",0,0,null,null,null,null,"RD 7",0,0,null,null,null,null,"RD 7",0,0,null,null,null,null,"RD 7",0,0]
["RD 8",0,0,null,"Nicht Gut",null,null,"RD 8",0,0,null,"Nicht Gut",null,null,"RD 8",0,0,null,"Nicht Gut",null,null,"RD 8",0,0,null,"Nicht Gut"]
["RD 9",0,0,null,null,null,null,"RD 9",0,0,null,null,null,null,"RD 9",0,0,null,null,null,null,"RD 9",0,0]
["RD 10",0,0,null,null,null,null,"RD 10",0,0,null,null,null,null,"RD 10",0,0,null,null,null,null,"RD 10",0,0]
["RD 11",0,0,null,"Gut",null,null,"RD 11",0,0,null,"Gut",null,null,"RD 11",0,0,null,"Gut",null,null,"RD 11",0,0,null,"Gut"]
["RD 12",0,0,null,null,null,null,"RD 12",0,0,null,null,null,null,"RD 12",0,0,null,null,null,null,"RD 12",0,0]
["RD 13",0,0,null,null,null,null,"RD 13",0,0,null,null,null,null,"RD 13",0,0,null,null,null,null,"RD 13",0,0]
["RD 14",0,0,null,null,null,null,"RD 14",0,0,null,null,null,null,"RD 14",0,0,null,null,null,null,"RD 14",0,0]
["RD 15",0,0,null,null,null,null,"RD 15",0,0,null,null,null,null,"RD 15",0,0,null,null,null,null,"RD 15",0,0]
["RD 16",0,0,null,"Sehr  Gut",null,null,"RD 16",0,0,null,"Sehr  Gut",null,null,"RD 16",0,0,null,"Sehr  Gut",null,null,"RD 16",0,0,null,"Sehr  Gut"]
["RD 17",0,0,null,null,null,null,"RD 17",0,0,null,null,null,null,"RD 17",0,0,null,null,null,null,"RD 17",0,0]
["RD 18",0,0,null,null,null,null,"RD 18",0,0,null,null,null,null,"RD 18",0,0,null,null,null,null,"RD 18",0,0]
["RD 19",0,0,null,null,null,null,"RD 19",0,0,null,null,null,null,"RD 19",0,0,null,null,null,null,"RD 19",0,0]
["RD 20",0,0,null,null,null,null,"RD 20",0,0,null,null,null,null,"RD 20",0,0,null,null,null,null,"RD 20",0,0]
["RD 21",0,0,null,null,null,null,"RD 21",0,0,null,null,null,null,"RD 21",0,0,null,null,null,null,"RD 21",0,0]
["RD 22",0,0,null,null,null,null,"RD 22",0,0,null,null,null,null,"RD 22",0,0,null,null,null,null,"RD 22",0,0]
["RD 23",0,0,null,null,null,null,"RD 23",0,0,null,null,null,null,"RD 23",0,0,null,null,null,null,"RD 23",0,0]
["RD 24",0,0,null,null,null,null,"RD 24",0,0,null,null,null,null,"RD 24",0,0,null,null,null,null,"RD 24",0,0]
["RD 25",0,0,null,null,null,null,"RD 25",0,0,null,null,null,null,"RD 25",0,0,null,null,null,null,"RD 25",0,0]
["RD 26",0,0,null,null,null,null,"RD 26",0,0,null,null,null,null,"RD 26",0,0,null,null,null,null,"RD 26",0,0]
["RD 27",0,0,null,null,null,null,"RD 27",0,0,null,null,null,null,"RD 27",0,0,null,null,null,null,"RD 27",0,0]
["RD 28",0,0,null,null,null,null,"RD 28",0,0,null,null,null,null,"RD 28",0,0,null,null,null,null,"RD 28",0,0]
["RD 29",0,0,null,{"$f":"IF(E4=0,\"Sieg\",\"\")","v":""},null,null,"RD 29",0,0,null,{"$f":"IF(L4=0,\"Sieg\",\"\")","v":""},null,null,"RD 29",0,0,null,{"$f":"IF(S4=0,\"Sieg\",\"\")","v":""},null,null,"RD 29",0,0,null,{"$f":"IF(Z4=0,\"Sieg\",\"\")","v":""}]
["RD 30",0,0,null,null,null,null,"RD 30",0,0,null,null,null,null,"RD 30",0,0,null,null,null,null,"RD 30",0,0]
[null,{"$f":"SUM(B4:B33)","v":0},{"$f":"SUM(C4:C33)","v":0},{"$f":"SUM(D4:D33)","v":0},{"$f":"SUM(D4:D32)","v":0},null,null,null,{"$f":"SUM(I4:I33)","v":0},{"$f":"SUM(J4:J33)","v":0},{"$f":"SUM(K4:K33)","v":0},{"$f":"SUM(K4:K32)","v":0},null,null,null,{"$f":"SUM(P4:P33)","v":0},{"$f":"SUM(Q4:Q33)","v":0},{"$f":"SUM(R4:R33)","v":0},{"$f":"SUM(R4:R32)","v":0},null,null,null,{"$f":"SUM(W4:W33)","v":0},{"$f":"SUM(X4:X33)","v":0},{"$f":"SUM(Y4:Y33)","v":0},{"$f":"SUM(Y4:Y32)","v":0}]
[null,null,null,{"$f":"D1","v":0},null,{"$f":"E3","v":0},null,null,null,null,{"$f":"INDEX(D35:D38,MATCH(MAX(F35:F38),F35:F38,0),1)","v":0},{"$f":"E1","v":0},null,{"$f":"E3","v":0},null,null,null,null,{"$f":"INDEX(L35:L38,MATCH(MAX(N35:N38),N35:N38,0),1)","v":0}]
[null,null,null,{"$f":"K1","v":0},null,{"$f":"SUM(L3)","v":0},null,null,null,null,null,{"$f":"L1","v":0},null,{"$f":"SUM(L3)","v":0}]
[null,null,null,{"$f":"R1","v":0},null,{"$f":"SUM(S3)","v":0},null,null,null,null,null,{"$f":"S1","v":0},null,{"$f":"SUM(S3)","v":0}]
[null,null,null,{"$f":"R1","v":0},null,{"$f":"SUM(Z3)","v":0},null,null,null,null,null,{"$f":"Z1","v":0},null,{"$f":"SUM(Z3)","v":0}]
[null,null,null,"MAX(B2:B7",null,{"$f":"SUM(F35:F38)","v":0},null,null,null,null,null,"MAX(B2:B7",null,{"$f":"SUM(N35:N38)","v":0}]

{"sheet":"Rd.6","index":5,"n_rows":39,"n_cols":27,"rows_kept":39,"cut":false,"hidden":false,"merged":[[0,28,0,30],[34,3,34,4],[35,3,35,4],[36,3,36,4],[37,3,37,4],[8,4,9,5],[8,11,9,12],[8,18,9,19],[8,25,9,26],[10,4,12,5],[10,11,12,12],[10,18,12,19],[10,25,12,26],[26,25,30,26],[7,4,7,5],[7,11,7,12],[38,3,38,4],[13,4,17,5],[13,11,17,12],[13,18,17,19],[13,25,17,26],[18,4,25,5],[18,11,25,12],[18,18,25,19],[31,4,32,5],[31,11,32,12],[31,18,32,19],[31,25,32,26],[18,25,25,26],[26,4,30,5],[26,11,30,12],[26,18,30,19],[7,18,7,19],[7,25,7,26],[37,11,37,12],[37,13,37,14],[38,11,38,12],[34,11,34,12],[34,13,34,14],[35,11,35,12],[35,13,35,14],[36,11,36,12],[36,13,36,14]]}
[null,null,null,null,null,"Sp.1",null,null,null,null,null,null,"Sp.2",null,null,null,null,null,null,"Sp.3",null,null,null,null,null,null,"Sp.4"]
[null,null,null,"Punkte",501,"Start",null,null,null,null,"Punkte",501,"Start",null,null,null,null,"Punkte",501,"Start",null,null,null,null,"Punkte",501,"Start"]
[null,null,null,"Geworfen",{"$f":"SUM(D34)","v":0},"Punkte",null,null,null,null,"Geworfen",{"$f":"SUM(K34)","v":0},"Punkte",null,null,null,null,"Geworfen",{"$f":"SUM(R34)","v":0},"Punkte",null,null,null,null,"Geworfen",{"$f":"SUM(Y34)","v":0},"Punkte"]
["RD 1",{"$f":"COUNT(D4)*1","v":0},{"$f":"COUNT(D4)*3","v":0},null,{"$f":"SUM(E2-E3)","v":501},"Rest",null,"RD 1",{"$f":"COUNT(K4)*1","v":0},{"$f":"COUNT(K4)*3","v":0},null,{"$f":"SUM(L2-L3)","v":501},"Rest",null,"RD 1",{"$f":"COUNT(R4)*1","v":0},{"$f":"COUNT(R4)*3","v":0},null,{"$f":"SUM(S2-S3)","v":501},"Rest",null,"RD 1",{"$f":"COUNT(Y4)*1","v":0},{"$f":"COUNT(Y4)*3","v":0},null,{"$f":"SUM(Z2-Z3)","v":501},"Rest"]
["RD 2",0,0,null,null,null,null,"RD 2",0,0,null,null,null,null,"RD 2",0,0,null,null,null,null,"RD 2",0,0]
["RD 3",0,0,null,"ø pro Spiel",{"$f":"SUM(E3)/B34","v":{"$error":"#DIV/0!"}},null,"RD 3",0,0,null,"ø pro Spiel",{"$f":"SUM(L3)/I34","v":{"$error":"#DIV/0!"}},null,"RD 3",0,0,null,"ø pro Spiel",{"$f":"SUM(S3)/P34","v":{"$error":"#DIV/0!"}},null,"RD 3",0,0,null,"ø pro Spiel",{"$f":"SUM(Z3)/W34","v":{"$error":"#DIV/0!"}}]
["RD 4",0,0,null,"ø pro Pfeil",{"$f":"SUM(E3)/C34","v":{"$error":"#DIV/0!"}},null,"RD 4",0,0,null,"ø pro Pfeil",{"$f":"SUM(L3)/J34","v":{"$error":"#DIV/0!"}},null,"RD 4",0,0,null,"ø pro Pfeil",{"$f":"SUM(S3)/Q34","v":{"$error":"#DIV/0!"}},null,"RD 4",0,0,null,"ø pro Pfeil",{"$f":"SUM(Z3)/X34","v":{"$error":"#DIV/0!"}}]
["RD 5",0,0,null,"Average",null,null,"RD 5",0,0,null,"Average",null,null,"RD 5",0,0,null,"Average",null,null,"RD 5",0,0,null,"Average"]
["RD 6",0,0,null,{"$f":"SUM(F6)","v":{"$error":"#DIV/0!"}},null,null,"RD 6",0,0,null,{"$f":"SUM(M6)","v":{"$error":"#DIV/0!"}},null,null,"RD 6",0,0,null,{"$f":"SUM(T6)","v":{"$error":"#DIV/0!"}},null,null,"RD 6",0,0,null,{"$f":"SUM(AA6)","v":{"$error":"#DIV/0!"}}]
["RD 7",0,0,null,null,null,null,"RD 7",0,0,null,null,null,null,"RD 7",0,0,null,null,null,null,"RD 7",0,0]
["RD 8",0,0,null,"Nicht Gut",null,null,"RD 8",0,0,null,"Nicht Gut",null,null,"RD 8",0,0,null,"Nicht Gut",null,null,"RD 8",0,0,null,"Nicht Gut"]
["RD 9",0,0,null,null,null,null,"RD 9",0,0,null,null,null,null,"RD 9",0,0,null,null,null,null,"RD 9",0,0]
["RD 10",0,0,null,null,null,null,"RD 10",0,0,null,null,null,null,"RD 10",0,0,null,null,null,null,"RD 10",0,0]
["RD 11",0,0,null,"Gut",null,null,"RD 11",0,0,null,"Gut",null,null,"RD 11",0,0,null,"Gut",null,null,"RD 11",0,0,null,"Gut"]
["RD 12",0,0,null,null,null,null,"RD 12",0,0,null,null,null,null,"RD 12",0,0,null,null,null,null,"RD 12",0,0]
["RD 13",0,0,null,null,null,null,"RD 13",0,0,null,null,null,null,"RD 13",0,0,null,null,null,null,"RD 13",0,0]
["RD 14",0,0,null,null,null,null,"RD 14",0,0,null,null,null,null,"RD 14",0,0,null,null,null,null,"RD 14",0,0]
["RD 15",0,0,null,null,null,null,"RD 15",0,0,null,null,null,null,"RD 15",0,0,null,null,null,null,"RD 15",0,0]
["RD 16",0,0,null,"Sehr  Gut",null,null,"RD 16",0,0,null,"Sehr  Gut",null,null,"RD 16",0,0,null,"Sehr  Gut",null,null,"RD 16",0,0,null,"Sehr  Gut"]
["RD 17",0,0,null,null,null,null,"RD 17",0,0,null,null,null,null,"RD 17",0,0,null,null,null,null,"RD 17",0,0]
["RD 18",0,0,null,null,null,null,"RD 18",0,0,null,null,null,null,"RD 18",0,0,null,null,null,null,"RD 18",0,0]
["RD 19",0,0,null,null,null,null,"RD 19",0,0,null,null,null,null,"RD 19",0,0,null,null,null,null,"RD 19",0,0]
["RD 20",0,0,null,null,null,null,"RD 20",0,0,null,null,null,null,"RD 20",0,0,null,null,null,null,"RD 20",0,0]
["RD 21",0,0,null,null,null,null,"RD 21",0,0,null,null,null,null,"RD 21",0,0,null,null,null,null,"RD 21",0,0]
["RD 22",0,0,null,null,null,null,"RD 22",0,0,null,null,null,null,"RD 22",0,0,null,null,null,null,"RD 22",0,0]
["RD 23",0,0,null,null,null,null,"RD 23",0,0,null,null,null,null,"RD 23",0,0,null,null,null,null,"RD 23",0,0]
["RD 24",0,0,null,null,null,null,"RD 24",0,0,null,null,null,null,"RD 24",0,0,null,null,null,null,"RD 24",0,0]
["RD 25",0,0,null,null,null,null,"RD 25",0,0,null,null,null,null,"RD 25",0,0,null,null,null,null,"RD 25",0,0]
["RD 26",0,0,null,null,null,null,"RD 26",0,0,null,null,null,null,"RD 26",0,0,null,null,null,null,"RD 26",0,0]
["RD 27",0,0,null,null,null,null,"RD 27",0,0,null,null,null,null,"RD 27",0,0,null,null,null,null,"RD 27",0,0]
["RD 28",0,0,null,null,null,null,"RD 28",0,0,null,null,null,null,"RD 28",0,0,null,null,null,null,"RD 28",0,0]
["RD 29",0,0,null,{"$f":"IF(E4=0,\"Sieg\",\"\")","v":""},null,null,"RD 29",0,0,null,{"$f":"IF(L4=0,\"Sieg\",\"\")","v":""},null,null,"RD 29",0,0,null,{"$f":"IF(S4=0,\"Sieg\",\"\")","v":""},null,null,"RD 29",0,0,null,{"$f":"IF(Z4=0,\"Sieg\",\"\")","v":""}]
["RD 30",0,0,null,null,null,null,"RD 30",0,0,null,null,null,null,"RD 30",0,0,null,null,null,null,"RD 30",0,0]
[null,{"$f":"SUM(B4:B33)","v":0},{"$f":"SUM(C4:C33)","v":0},{"$f":"SUM(D4:D33)","v":0},{"$f":"SUM(D4:D32)","v":0},null,null,null,{"$f":"SUM(I4:I33)","v":0},{"$f":"SUM(J4:J33)","v":0},{"$f":"SUM(K4:K33)","v":0},{"$f":"SUM(K4:K32)","v":0},null,null,null,{"$f":"SUM(P4:P33)","v":0},{"$f":"SUM(Q4:Q33)","v":0},{"$f":"SUM(R4:R33)","v":0},{"$f":"SUM(R4:R32)","v":0},null,null,null,{"$f":"SUM(W4:W33)","v":0},{"$f":"SUM(X4:X33)","v":0},{"$f":"SUM(Y4:Y33)","v":0},{"$f":"SUM(Y4:Y32)","v":0}]
[null,null,null,{"$f":"D1","v":0},null,{"$f":"E3","v":0},null,null,null,null,{"$f":"INDEX(D35:D38,MATCH(MAX(F35:F38),F35:F38,0),1)","v":0},{"$f":"E1","v":0},null,{"$f":"E3","v":0},null,null,null,null,{"$f":"INDEX(L35:L38,MATCH(MAX(N35:N38),N35:N38,0),1)","v":0}]
[null,null,null,{"$f":"K1","v":0},null,{"$f":"SUM(L3)","v":0},null,null,null,null,null,{"$f":"L1","v":0},null,{"$f":"SUM(L3)","v":0}]
[null,null,null,{"$f":"R1","v":0},null,{"$f":"SUM(S3)","v":0},null,null,null,null,null,{"$f":"S1","v":0},null,{"$f":"SUM(S3)","v":0}]
[null,null,null,{"$f":"R1","v":0},null,{"$f":"SUM(Z3)","v":0},null,null,null,null,null,{"$f":"Z1","v":0},null,{"$f":"SUM(Z3)","v":0}]
[null,null,null,"MAX(B2:B7",null,{"$f":"SUM(F35:F38)","v":0},null,null,null,null,null,"MAX(B2:B7",null,{"$f":"SUM(N35:N38)","v":0}]

{"sheet":"Rd. 7","index":6,"n_rows":39,"n_cols":27,"rows_kept":39,"cut":false,"hidden":false,"merged":[[0,28,0,30],[34,3,34,4],[35,3,35,4],[36,3,36,4],[37,3,37,4],[8,4,9,5],[8,11,9,12],[8,18,9,19],[8,25,9,26],[10,4,12,5],[10,11,12,12],[10,18,12,19],[10,25,12,26],[26,25,30,26],[7,4,7,5],[7,11,7,12],[38,3,38,4],[13,4,17,5],[13,11,17,12],[13,18,17,19],[13,25,17,26],[18,4,25,5],[18,11,25,12],[18,18,25,19],[31,4,32,5],[31,11,32,12],[31,18,32,19],[31,25,32,26],[18,25,25,26],[26,4,30,5],[26,11,30,12],[26,18,30,19],[7,18,7,19],[7,25,7,26],[37,11,37,12],[37,13,37,14],[38,11,38,12],[34,11,34,12],[34,13,34,14],[35,11,35,12],[35,13,35,14],[36,11,36,12],[36,13,36,14]]}
[null,null,null,null,null,"Sp.1",null,null,null,null,null,null,"Sp.2",null,null,null,null,null,null,"Sp.3",null,null,null,null,null,null,"Sp.4"]
[null,null,null,"Punkte",501,"Start",null,null,null,null,"Punkte",501,"Start",null,null,null,null,"Punkte",501,"Start",null,null,null,null,"Punkte",501,"Start"]
[null,null,null,"Geworfen",{"$f":"SUM(D34)","v":0},"Punkte",null,null,null,null,"Geworfen",{"$f":"SUM(K34)","v":0},"Punkte",null,null,null,null,"Geworfen",{"$f":"SUM(R34)","v":0},"Punkte",null,null,null,null,"Geworfen",{"$f":"SUM(Y34)","v":0},"Punkte"]
["RD 1",{"$f":"COUNT(D4)*1","v":0},{"$f":"COUNT(D4)*3","v":0},null,{"$f":"SUM(E2-E3)","v":501},"Rest",null,"RD 1",{"$f":"COUNT(K4)*1","v":0},{"$f":"COUNT(K4)*3","v":0},null,{"$f":"SUM(L2-L3)","v":501},"Rest",null,"RD 1",{"$f":"COUNT(R4)*1","v":0},{"$f":"COUNT(R4)*3","v":0},null,{"$f":"SUM(S2-S3)","v":501},"Rest",null,"RD 1",{"$f":"COUNT(Y4)*1","v":0},{"$f":"COUNT(Y4)*3","v":0},null,{"$f":"SUM(Z2-Z3)","v":501},"Rest"]
["RD 2",0,0,null,null,null,null,"RD 2",0,0,null,null,null,null,"RD 2",0,0,null,null,null,null,"RD 2",0,0]
["RD 3",0,0,null,"ø pro Spiel",{"$f":"SUM(E3)/B34","v":{"$error":"#DIV/0!"}},null,"RD 3",0,0,null,"ø pro Spiel",{"$f":"SUM(L3)/I34","v":{"$error":"#DIV/0!"}},null,"RD 3",0,0,null,"ø pro Spiel",{"$f":"SUM(S3)/P34","v":{"$error":"#DIV/0!"}},null,"RD 3",0,0,null,"ø pro Spiel",{"$f":"SUM(Z3)/W34","v":{"$error":"#DIV/0!"}}]
["RD 4",0,0,null,"ø pro Pfeil",{"$f":"SUM(E3)/C34","v":{"$error":"#DIV/0!"}},null,"RD 4",0,0,null,"ø pro Pfeil",{"$f":"SUM(L3)/J34","v":{"$error":"#DIV/0!"}},null,"RD 4",0,0,null,"ø pro Pfeil",{"$f":"SUM(S3)/Q34","v":{"$error":"#DIV/0!"}},null,"RD 4",0,0,null,"ø pro Pfeil",{"$f":"SUM(Z3)/X34","v":{"$error":"#DIV/0!"}}]
["RD 5",0,0,null,"Average",null,null,"RD 5",0,0,null,"Average",null,null,"RD 5",0,0,null,"Average",null,null,"RD 5",0,0,null,"Average"]
["RD 6",0,0,null,{"$f":"SUM(F6)","v":{"$error":"#DIV/0!"}},null,null,"RD 6",0,0,null,{"$f":"SUM(M6)","v":{"$error":"#DIV/0!"}},null,null,"RD 6",0,0,null,{"$f":"SUM(T6)","v":{"$error":"#DIV/0!"}},null,null,"RD 6",0,0,null,{"$f":"SUM(AA6)","v":{"$error":"#DIV/0!"}}]
["RD 7",0,0,null,null,null,null,"RD 7",0,0,null,null,null,null,"RD 7",0,0,null,null,null,null,"RD 7",0,0]
["RD 8",0,0,null,"Nicht Gut",null,null,"RD 8",0,0,null,"Nicht Gut",null,null,"RD 8",0,0,null,"Nicht Gut",null,null,"RD 8",0,0,null,"Nicht Gut"]
["RD 9",0,0,null,null,null,null,"RD 9",0,0,null,null,null,null,"RD 9",0,0,null,null,null,null,"RD 9",0,0]
["RD 10",0,0,null,null,null,null,"RD 10",0,0,null,null,null,null,"RD 10",0,0,null,null,null,null,"RD 10",0,0]
["RD 11",0,0,null,"Gut",null,null,"RD 11",0,0,null,"Gut",null,null,"RD 11",0,0,null,"Gut",null,null,"RD 11",0,0,null,"Gut"]
["RD 12",0,0,null,null,null,null,"RD 12",0,0,null,null,null,null,"RD 12",0,0,null,null,null,null,"RD 12",0,0]
["RD 13",0,0,null,null,null,null,"RD 13",0,0,null,null,null,null,"RD 13",0,0,null,null,null,null,"RD 13",0,0]
["RD 14",0,0,null,null,null,null,"RD 14",0,0,null,null,null,null,"RD 14",0,0,null,null,null,null,"RD 14",0,0]
["RD 15",0,0,null,null,null,null,"RD 15",0,0,null,null,null,null,"RD 15",0,0,null,null,null,null,"RD 15",0,0]
["RD 16",0,0,null,"Sehr  Gut",null,null,"RD 16",0,0,null,"Sehr  Gut",null,null,"RD 16",0,0,null,"Sehr  Gut",null,null,"RD 16",0,0,null,"Sehr  Gut"]
["RD 17",0,0,null,null,null,null,"RD 17",0,0,null,null,null,null,"RD 17",0,0,null,null,null,null,"RD 17",0,0]
["RD 18",0,0,null,null,null,null,"RD 18",0,0,null,null,null,null,"RD 18",0,0,null,null,null,null,"RD 18",0,0]
["RD 19",0,0,null,null,null,null,"RD 19",0,0,null,null,null,null,"RD 19",0,0,null,null,null,null,"RD 19",0,0]
["RD 20",0,0,null,null,null,null,"RD 20",0,0,null,null,null,null,"RD 20",0,0,null,null,null,null,"RD 20",0,0]
["RD 21",0,0,null,null,null,null,"RD 21",0,0,null,null,null,null,"RD 21",0,0,null,null,null,null,"RD 21",0,0]
["RD 22",0,0,null,null,null,null,"RD 22",0,0,null,null,null,null,"RD 22",0,0,null,null,null,null,"RD 22",0,0]
["RD 23",0,0,null,null,null,null,"RD 23",0,0,null,null,null,null,"RD 23",0,0,null,null,null,null,"RD 23",0,0]
["RD 24",0,0,null,null,null,null,"RD 24",0,0,null,null,null,null,"RD 24",0,0,null,null,null,null,"RD 24",0,0]
["RD 25",0,0,null,null,null,null,"RD 25",0,0,null,null,null,null,"RD 25",0,0,null,null,null,null,"RD 25",0,0]
["RD 26",0,0,null,null,null,null,"RD 26",0,0,null,null,null,null,"RD 26",0,0,null,null,null,null,"RD 26",0,0]
["RD 27",0,0,null,null,null,null,"RD 27",0,0,null,null,null,null,"RD 27",0,0,null,null,null,null,"RD 27",0,0]
["RD 28",0,0,null,null,null,null,"RD 28",0,0,null,null,null,null,"RD 28",0,0,null,null,null,null,"RD 28",0,0]
["RD 29",0,0,null,{"$f":"IF(E4=0,\"Sieg\",\"\")","v":""},null,null,"RD 29",0,0,null,{"$f":"IF(L4=0,\"Sieg\",\"\")","v":""},null,null,"RD 29",0,0,null,{"$f":"IF(S4=0,\"Sieg\",\"\")","v":""},null,null,"RD 29",0,0,null,{"$f":"IF(Z4=0,\"Sieg\",\"\")","v":""}]
["RD 30",0,0,null,null,null,null,"RD 30",0,0,null,null,null,null,"RD 30",0,0,null,null,null,null,"RD 30",0,0]
[null,{"$f":"SUM(B4:B33)","v":0},{"$f":"SUM(C4:C33)","v":0},{"$f":"SUM(D4:D33)","v":0},{"$f":"SUM(D4:D32)","v":0},null,null,null,{"$f":"SUM(I4:I33)","v":0},{"$f":"SUM(J4:J33)","v":0},{"$f":"SUM(K4:K33)","v":0},{"$f":"SUM(K4:K32)","v":0},null,null,null,{"$f":"SUM(P4:P33)","v":0},{"$f":"SUM(Q4:Q33)","v":0},{"$f":"SUM(R4:R33)","v":0},{"$f":"SUM(R4:R32)","v":0},null,null,null,{"$f":"SUM(W4:W33)","v":0},{"$f":"SUM(X4:X33)","v":0},{"$f":"SUM(Y4:Y33)","v":0},{"$f":"SUM(Y4:Y32)","v":0}]
[null,null,null,{"$f":"D1","v":0},null,{"$f":"E3","v":0},null,null,null,null,{"$f":"INDEX(D35:D38,MATCH(MAX(F35:F38),F35:F38,0),1)","v":0},{"$f":"E1","v":0},null,{"$f":"E3","v":0},null,null,null,null,{"$f":"INDEX(L35:L38,MATCH(MAX(N35:N38),N35:N38,0),1)","v":0}]
[null,null,null,{"$f":"K1","v":0},null,{"$f":"SUM(L3)","v":0},null,null,null,null,null,{"$f":"L1","v":0},null,{"$f":"SUM(L3)","v":0}]
[null,null,null,{"$f":"R1","v":0},null,{"$f":"SUM(S3)","v":0},null,null,null,null,null,{"$f":"S1","v":0},null,{"$f":"SUM(S3)","v":0}]
[null,null,null,{"$f":"R1","v":0},null,{"$f":"SUM(Z3)","v":0},null,null,null,null,null,{"$f":"Z1","v":0},null,{"$f":"SUM(Z3)","v":0}]
[null,null,null,"MAX(B2:B7",null,{"$f":"SUM(F35:F38)","v":0},null,null,null,null,null,"MAX(B2:B7",null,{"$f":"SUM(N35:N38)","v":0}]

{"sheet":"Rd. 8","index":7,"n_rows":39,"n_cols":27,"rows_kept":39,"cut":false,"hidden":false,"merged":[[0,28,0,30],[34,3,34,4],[35,3,35,4],[36,3,36,4],[37,3,37,4],[8,4,9,5],[8,11,9,12],[8,18,9,19],[8,25,9,26],[10,4,12,5],[10,11,12,12],[10,18,12,19],[10,25,12,26],[26,25,30,26],[7,4,7,5],[7,11,7,12],[38,3,38,4],[13,4,17,5],[13,11,17,12],[13,18,17,19],[13,25,17,26],[18,4,25,5],[18,11,25,12],[18,18,25,19],[31,4,32,5],[31,11,32,12],[31,18,32,19],[31,25,32,26],[18,25,25,26],[26,4,30,5],[26,11,30,12],[26,18,30,19],[7,18,7,19],[7,25,7,26],[37,11,37,12],[37,13,37,14],[38,11,38,12],[34,11,34,12],[34,13,34,14],[35,11,35,12],[35,13,35,14],[36,11,36,12],[36,13,36,14]]}
[null,null,null,null,null,"Sp.1",null,null,null,null,null,null,"Sp.2",null,null,null,null,null,null,"Sp.3",null,null,null,null,null,null,"Sp.4"]
[null,null,null,"Punkte",501,"Start",null,null,null,null,"Punkte",501,"Start",null,null,null,null,"Punkte",501,"Start",null,null,null,null,"Punkte",501,"Start"]
[null,null,null,"Geworfen",{"$f":"SUM(D34)","v":0},"Punkte",null,null,null,null,"Geworfen",{"$f":"SUM(K34)","v":0},"Punkte",null,null,null,null,"Geworfen",{"$f":"SUM(R34)","v":0},"Punkte",null,null,null,null,"Geworfen",{"$f":"SUM(Y34)","v":0},"Punkte"]
["RD 1",{"$f":"COUNT(D4)*1","v":0},{"$f":"COUNT(D4)*3","v":0},null,{"$f":"SUM(E2-E3)","v":501},"Rest",null,"RD 1",{"$f":"COUNT(K4)*1","v":0},{"$f":"COUNT(K4)*3","v":0},null,{"$f":"SUM(L2-L3)","v":501},"Rest",null,"RD 1",{"$f":"COUNT(R4)*1","v":0},{"$f":"COUNT(R4)*3","v":0},null,{"$f":"SUM(S2-S3)","v":501},"Rest",null,"RD 1",{"$f":"COUNT(Y4)*1","v":0},{"$f":"COUNT(Y4)*3","v":0},null,{"$f":"SUM(Z2-Z3)","v":501},"Rest"]
["RD 2",0,0,null,null,null,null,"RD 2",0,0,null,null,null,null,"RD 2",0,0,null,null,null,null,"RD 2",0,0]
["RD 3",0,0,null,"ø pro Spiel",{"$f":"SUM(E3)/B34","v":{"$error":"#DIV/0!"}},null,"RD 3",0,0,null,"ø pro Spiel",{"$f":"SUM(L3)/I34","v":{"$error":"#DIV/0!"}},null,"RD 3",0,0,null,"ø pro Spiel",{"$f":"SUM(S3)/P34","v":{"$error":"#DIV/0!"}},null,"RD 3",0,0,null,"ø pro Spiel",{"$f":"SUM(Z3)/W34","v":{"$error":"#DIV/0!"}}]
["RD 4",0,0,null,"ø pro Pfeil",{"$f":"SUM(E3)/C34","v":{"$error":"#DIV/0!"}},null,"RD 4",0,0,null,"ø pro Pfeil",{"$f":"SUM(L3)/J34","v":{"$error":"#DIV/0!"}},null,"RD 4",0,0,null,"ø pro Pfeil",{"$f":"SUM(S3)/Q34","v":{"$error":"#DIV/0!"}},null,"RD 4",0,0,null,"ø pro Pfeil",{"$f":"SUM(Z3)/X34","v":{"$error":"#DIV/0!"}}]
["RD 5",0,0,null,"Average",null,null,"RD 5",0,0,null,"Average",null,null,"RD 5",0,0,null,"Average",null,null,"RD 5",0,0,null,"Average"]
["RD 6",0,0,null,{"$f":"SUM(F6)","v":{"$error":"#DIV/0!"}},null,null,"RD 6",0,0,null,{"$f":"SUM(M6)","v":{"$error":"#DIV/0!"}},null,null,"RD 6",0,0,null,{"$f":"SUM(T6)","v":{"$error":"#DIV/0!"}},null,null,"RD 6",0,0,null,{"$f":"SUM(AA6)","v":{"$error":"#DIV/0!"}}]
["RD 7",0,0,null,null,null,null,"RD 7",0,0,null,null,null,null,"RD 7",0,0,null,null,null,null,"RD 7",0,0]
["RD 8",0,0,null,"Nicht Gut",null,null,"RD 8",0,0,null,"Nicht Gut",null,null,"RD 8",0,0,null,"Nicht Gut",null,null,"RD 8",0,0,null,"Nicht Gut"]
["RD 9",0,0,null,null,null,null,"RD 9",0,0,null,null,null,null,"RD 9",0,0,null,null,null,null,"RD 9",0,0]
["RD 10",0,0,null,null,null,null,"RD 10",0,0,null,null,null,null,"RD 10",0,0,null,null,null,null,"RD 10",0,0]
["RD 11",0,0,null,"Gut",null,null,"RD 11",0,0,null,"Gut",null,null,"RD 11",0,0,null,"Gut",null,null,"RD 11",0,0,null,"Gut"]
["RD 12",0,0,null,null,null,null,"RD 12",0,0,null,null,null,null,"RD 12",0,0,null,null,null,null,"RD 12",0,0]
["RD 13",0,0,null,null,null,null,"RD 13",0,0,null,null,null,null,"RD 13",0,0,null,null,null,null,"RD 13",0,0]
["RD 14",0,0,null,null,null,null,"RD 14",0,0,null,null,null,null,"RD 14",0,0,null,null,null,null,"RD 14",0,0]
["RD 15",0,0,null,null,null,null,"RD 15",0,0,null,null,null,null,"RD 15",0,0,null,null,null,null,"RD 15",0,0]
["RD 16",0,0,null,"Sehr  Gut",null,null,"RD 16",0,0,null,"Sehr  Gut",null,null,"RD 16",0,0,null,"Sehr  Gut",null,null,"RD 16",0,0,null,"Sehr  Gut"]
["RD 17",0,0,null,null,null,null,"RD 17",0,0,null,null,null,null,"RD 17",0,0,null,null,null,null,"RD 17",0,0]
["RD 18",0,0,null,null,null,null,"RD 18",0,0,null,null,null,null,"RD 18",0,0,null,null,null,null,"RD 18",0,0]
["RD 19",0,0,null,null,null,null,"RD 19",0,0,null,null,null,null,"RD 19",0,0,null,null,null,null,"RD 19",0,0]
["RD 20",0,0,null,null,null,null,"RD 20",0,0,null,null,null,null,"RD 20",0,0,null,null,null,null,"RD 20",0,0]
["RD 21",0,0,null,null,null,null,"RD 21",0,0,null,null,null,null,"RD 21",0,0,null,null,null,null,"RD 21",0,0]
["RD 22",0,0,null,null,null,null,"RD 22",0,0,null,null,null,null,"RD 22",0,0,null,null,null,null,"RD 22",0,0]
["RD 23",0,0,null,null,null,null,"RD 23",0,0,null,null,null,null,"RD 23",0,0,null,null,null,null,"RD 23",0,0]
["RD 24",0,0,null,null,null,null,"RD 24",0,0,null,null,null,null,"RD 24",0,0,null,null,null,null,"RD 24",0,0]
["RD 25",0,0,null,null,null,null,"RD 25",0,0,null,null,null,null,"RD 25",0,0,null,null,null,null,"RD 25",0,0]
["RD 26",0,0,null,null,null,null,"RD 26",0,0,null,null,null,null,"RD 26",0,0,null,null,null,null,"RD 26",0,0]
["RD 27",0,0,null,null,null,null,"RD 27",0,0,null,null,null,null,"RD 27",0,0,null,null,null,null,"RD 27",0,0]
["RD 28",0,0,null,null,null,null,"RD 28",0,0,null,null,null,null,"RD 28",0,0,null,null,null,null,"RD 28",0,0]
["RD 29",0,0,null,{"$f":"IF(E4=0,\"Sieg\",\"\")","v":""},null,null,"RD 29",0,0,null,{"$f":"IF(L4=0,\"Sieg\",\"\")","v":""},null,null,"RD 29",0,0,null,{"$f":"IF(S4=0,\"Sieg\",\"\")","v":""},null,null,"RD 29",0,0,null,{"$f":"IF(Z4=0,\"Sieg\",\"\")","v":""}]
["RD 30",0,0,null,null,null,null,"RD 30",0,0,null,null,null,null,"RD 30",0,0,null,null,null,null,"RD 30",0,0]
[null,{"$f":"SUM(B4:B33)","v":0},{"$f":"SUM(C4:C33)","v":0},{"$f":"SUM(D4:D33)","v":0},{"$f":"SUM(D4:D32)","v":0},null,null,null,{"$f":"SUM(I4:I33)","v":0},{"$f":"SUM(J4:J33)","v":0},{"$f":"SUM(K4:K33)","v":0},{"$f":"SUM(K4:K32)","v":0},null,null,null,{"$f":"SUM(P4:P33)","v":0},{"$f":"SUM(Q4:Q33)","v":0},{"$f":"SUM(R4:R33)","v":0},{"$f":"SUM(R4:R32)","v":0},null,null,null,{"$f":"SUM(W4:W33)","v":0},{"$f":"SUM(X4:X33)","v":0},{"$f":"SUM(Y4:Y33)","v":0},{"$f":"SUM(Y4:Y32)","v":0}]
[null,null,null,{"$f":"D1","v":0},null,{"$f":"E3","v":0},null,null,null,null,{"$f":"INDEX(D35:D38,MATCH(MAX(F35:F38),F35:F38,0),1)","v":0},{"$f":"E1","v":0},null,{"$f":"E3","v":0},null,null,null,null,{"$f":"INDEX(L35:L38,MATCH(MAX(N35:N38),N35:N38,0),1)","v":0}]
[null,null,null,{"$f":"K1","v":0},null,{"$f":"SUM(L3)","v":0},null,null,null,null,null,{"$f":"L1","v":0},null,{"$f":"SUM(L3)","v":0}]
[null,null,null,{"$f":"R1","v":0},null,{"$f":"SUM(S3)","v":0},null,null,null,null,null,{"$f":"S1","v":0},null,{"$f":"SUM(S3)","v":0}]
[null,null,null,{"$f":"R1","v":0},null,{"$f":"SUM(Z3)","v":0},null,null,null,null,null,{"$f":"Z1","v":0},null,{"$f":"SUM(Z3)","v":0}]
[null,null,null,"MAX(B2:B7",null,{"$f":"SUM(F35:F38)","v":0},null,null,null,null,null,"MAX(B2:B7",null,{"$f":"SUM(N35:N38)","v":0}]

{"sheet":"Rd. 9","index":8,"n_rows":39,"n_cols":27,"rows_kept":39,"cut":false,"hidden":false,"merged":[[0,28,0,30],[34,3,34,4],[35,3,35,4],[36,3,36,4],[37,3,37,4],[8,4,9,5],[8,11,9,12],[8,18,9,19],[8,25,9,26],[10,4,12,5],[10,11,12,12],[10,18,12,19],[10,25,12,26],[26,25,30,26],[7,4,7,5],[7,11,7,12],[38,3,38,4],[13,4,17,5],[13,11,17,12],[13,18,17,19],[13,25,17,26],[18,4,25,5],[18,11,25,12],[18,18,25,19],[31,4,32,5],[31,11,32,12],[31,18,32,19],[31,25,32,26],[18,25,25,26],[26,4,30,5],[26,11,30,12],[26,18,30,19],[7,18,7,19],[7,25,7,26],[37,11,37,12],[37,13,37,14],[38,11,38,12],[34,11,34,12],[34,13,34,14],[35,11,35,12],[35,13,35,14],[36,11,36,12],[36,13,36,14]]}
[null,null,null,null,null,"Sp.1",null,null,null,null,null,null,"Sp.2",null,null,null,null,null,null,"Sp.3",null,null,null,null,null,null,"Sp.4"]
[null,null,null,"Punkte",501,"Start",null,null,null,null,"Punkte",501,"Start",null,null,null,null,"Punkte",501,"Start",null,null,null,null,"Punkte",501,"Start"]
[null,null,null,"Geworfen",{"$f":"SUM(D34)","v":0},"Punkte",null,null,null,null,"Geworfen",{"$f":"SUM(K34)","v":0},"Punkte",null,null,null,null,"Geworfen",{"$f":"SUM(R34)","v":0},"Punkte",null,null,null,null,"Geworfen",{"$f":"SUM(Y34)","v":0},"Punkte"]
["RD 1",{"$f":"COUNT(D4)*1","v":0},{"$f":"COUNT(D4)*3","v":0},null,{"$f":"SUM(E2-E3)","v":501},"Rest",null,"RD 1",{"$f":"COUNT(K4)*1","v":0},{"$f":"COUNT(K4)*3","v":0},null,{"$f":"SUM(L2-L3)","v":501},"Rest",null,"RD 1",{"$f":"COUNT(R4)*1","v":0},{"$f":"COUNT(R4)*3","v":0},null,{"$f":"SUM(S2-S3)","v":501},"Rest",null,"RD 1",{"$f":"COUNT(Y4)*1","v":0},{"$f":"COUNT(Y4)*3","v":0},null,{"$f":"SUM(Z2-Z3)","v":501},"Rest"]
["RD 2",0,0,null,null,null,null,"RD 2",0,0,null,null,null,null,"RD 2",0,0,null,null,null,null,"RD 2",0,0]
["RD 3",0,0,null,"ø pro Spiel",{"$f":"SUM(E3)/B34","v":{"$error":"#DIV/0!"}},null,"RD 3",0,0,null,"ø pro Spiel",{"$f":"SUM(L3)/I34","v":{"$error":"#DIV/0!"}},null,"RD 3",0,0,null,"ø pro Spiel",{"$f":"SUM(S3)/P34","v":{"$error":"#DIV/0!"}},null,"RD 3",0,0,null,"ø pro Spiel",{"$f":"SUM(Z3)/W34","v":{"$error":"#DIV/0!"}}]
["RD 4",0,0,null,"ø pro Pfeil",{"$f":"SUM(E3)/C34","v":{"$error":"#DIV/0!"}},null,"RD 4",0,0,null,"ø pro Pfeil",{"$f":"SUM(L3)/J34","v":{"$error":"#DIV/0!"}},null,"RD 4",0,0,null,"ø pro Pfeil",{"$f":"SUM(S3)/Q34","v":{"$error":"#DIV/0!"}},null,"RD 4",0,0,null,"ø pro Pfeil",{"$f":"SUM(Z3)/X34","v":{"$error":"#DIV/0!"}}]
["RD 5",0,0,null,"Average",null,null,"RD 5",0,0,null,"Average",null,null,"RD 5",0,0,null,"Average",null,null,"RD 5",0,0,null,"Average"]
["RD 6",0,0,null,{"$f":"SUM(F6)","v":{"$error":"#DIV/0!"}},null,null,"RD 6",0,0,null,{"$f":"SUM(M6)","v":{"$error":"#DIV/0!"}},null,null,"RD 6",0,0,null,{"$f":"SUM(T6)","v":{"$error":"#DIV/0!"}},null,null,"RD 6",0,0,null,{"$f":"SUM(AA6)","v":{"$error":"#DIV/0!"}}]
["RD 7",0,0,null,null,null,null,"RD 7",0,0,null,null,null,null,"RD 7",0,0,null,null,null,null,"RD 7",0,0]
["RD 8",0,0,null,"Nicht Gut",null,null,"RD 8",0,0,null,"Nicht Gut",null,null,"RD 8",0,0,null,"Nicht Gut",null,null,"RD 8",0,0,null,"Nicht Gut"]
["RD 9",0,0,null,null,null,null,"RD 9",0,0,null,null,null,null,"RD 9",0,0,null,null,null,null,"RD 9",0,0]
["RD 10",0,0,null,null,null,null,"RD 10",0,0,null,null,null,null,"RD 10",0,0,null,null,null,null,"RD 10",0,0]
["RD 11",0,0,null,"Gut",null,null,"RD 11",0,0,null,"Gut",null,null,"RD 11",0,0,null,"Gut",null,null,"RD 11",0,0,null,"Gut"]
["RD 12",0,0,null,null,null,null,"RD 12",0,0,null,null,null,null,"RD 12",0,0,null,null,null,null,"RD 12",0,0]
["RD 13",0,0,null,null,null,null,"RD 13",0,0,null,null,null,null,"RD 13",0,0,null,null,null,null,"RD 13",0,0]
["RD 14",0,0,null,null,null,null,"RD 14",0,0,null,null,null,null,"RD 14",0,0,null,null,null,null,"RD 14",0,0]
["RD 15",0,0,null,null,null,null,"RD 15",0,0,null,null,null,null,"RD 15",0,0,null,null,null,null,"RD 15",0,0]
["RD 16",0,0,null,"Sehr  Gut",null,null,"RD 16",0,0,null,"Sehr  Gut",null,null,"RD 16",0,0,null,"Sehr  Gut",null,null,"RD 16",0,0,null,"Sehr  Gut"]
["RD 17",0,0,null,null,null,null,"RD 17",0,0,null,null,null,null,"RD 17",0,0,null,null,null,null,"RD 17",0,0]
["RD 18",0,0,null,null,null,null,"RD 18",0,0,null,null,null,null,"RD 18",0,0,null,null,null,null,"RD 18",0,0]
["RD 19",0,0,null,null,null,null,"RD 19",0,0,null,null,null,null,"RD 19",0,0,null,null,null,null,"RD 19",0,0]
["RD 20",0,0,null,null,null,null,"RD 20",0,0,null,null,null,null,"RD 20",0,0,null,null,null,null,"RD 20",0,0]
["RD 21",0,0,null,null,null,null,"RD 21",0,0,null,null,null,null,"RD 21",0,0,null,null,null,null,"RD 21",0,0]
["RD 22",0,0,null,null,null,null,"RD 22",0,0,null,null,null,null,"RD 22",0,0,null,null,null,null,"RD 22",0,0]
["RD 23",0,0,null,null,null,null,"RD 23",0,0,null,null,null,null,"RD 23",0,0,null,null,null,null,"RD 23",0,0]
["RD 24",0,0,null,null,null,null,"RD 24",0,0,null,null,null,null,"RD 24",0,0,null,null,null,null,"RD 24",0,0]
["RD 25",0,0,null,null,null,null,"RD 25",0,0,null,null,null,null,"RD 25",0,0,null,null,null,null,"RD 25",0,0]
["RD 26",0,0,null,null,null,null,"RD 26",0,0,null,null,null,null,"RD 26",0,0,null,null,null,null,"RD 26",0,0]
["RD 27",0,0,null,null,null,null,"RD 27",0,0,null,null,null,null,"RD 27",0,0,null,null,null,null,"RD 27",0,0]
["RD 28",0,0,null,null,null,null,"RD 28",0,0,null,null,null,null,"RD 28",0,0,null,null,null,null,"RD 28",0,0]
["RD 29",0,0,null,{"$f":"IF(E4=0,\"Sieg\",\"\")","v":""},null,null,"RD 29",0,0,null,{"$f":"IF(L4=0,\"Sieg\",\"\")","v":""},null,null,"RD 29",0,0,null,{"$f":"IF(S4=0,\"Sieg\",\"\")","v":""},null,null,"RD 29",0,0,null,{"$f":"IF(Z4=0,\"Sieg\",\"\")","v":""}]
["RD 30",0,0,null,null,null,null,"RD 30",0,0,null,null,null,null,"RD 30",0,0,null,null,null,null,"RD 30",0,0]
[null,{"$f":"SUM(B4:B33)","v":0},{"$f":"SUM(C4:C33)","v":0},{"$f":"SUM(D4:D33)","v":0},{"$f":"SUM(D4:D32)","v":0},null,null,null,{"$f":"SUM(I4:I33)","v":0},{"$f":"SUM(J4:J33)","v":0},{"$f":"SUM(K4:K33)","v":0},{"$f":"SUM(K4:K32)","v":0},null,null,null,{"$f":"SUM(P4:P33)","v":0},{"$f":"SUM(Q4:Q33)","v":0},{"$f":"SUM(R4:R33)","v":0},{"$f":"SUM(R4:R32)","v":0},null,null,null,{"$f":"SUM(W4:W33)","v":0},{"$f":"SUM(X4:X33)","v":0},{"$f":"SUM(Y4:Y33)","v":0},{"$f":"SUM(Y4:Y32)","v":0}]
[null,null,null,{"$f":"D1","v":0},null,{"$f":"E3","v":0},null,null,null,null,{"$f":"INDEX(D35:D38,MATCH(MAX(F35:F38),F35:F38,0),1)","v":0},{"$f":"E1","v":0},null,{"$f":"E3","v":0},null,null,null,null,{"$f":"INDEX(L35:L38,MATCH(MAX(N35:N38),N35:N38,0),1)","v":0}]
[null,null,null,{"$f":"K1","v":0},null,{"$f":"SUM(L3)","v":0},null,null,null,null,null,{"$f":"L1","v":0},null,{"$f":"SUM(L3)","v":0}]
[null,null,null,{"$f":"R1","v":0},null,{"$f":"SUM(S3)","v":0},null,null,null,null,null,{"$f":"S1","v":0},null,{"$f":"SUM(S3)","v":0}]
[null,null,null,{"$f":"R1","v":0},null,{"$f":"SUM(Z3)","v":0},null,null,null,null,null,{"$f":"Z1","v":0},null,{"$f":"SUM(Z3)","v":0}]
[null,null,null,"MAX(B2:B7",null,{"$f":"SUM(F35:F38)","v":0},null,null,null,null,null,"MAX(B2:B7",null,{"$f":"SUM(N35:N38)","v":0}]

{"sheet":"Rd. 10","index":9,"n_rows":39,"n_cols":27,"rows_kept":39,"cut":false,"hidden":false,"merged":[[0,28,0,30],[34,3,34,4],[35,3,35,4],[36,3,36,4],[37,3,37,4],[8,4,9,5],[8,11,9,12],[8,18,9,19],[8,25,9,26],[10,4,12,5],[10,11,12,12],[10,18,12,19],[10,25,12,26],[26,25,30,26],[7,4,7,5],[7,11,7,12],[38,3,38,4],[13,4,17,5],[13,11,17,12],[13,18,17,19],[13,25,17,26],[18,4,25,5],[18,11,25,12],[18,18,25,19],[31,4,32,5],[31,11,32,12],[31,18,32,19],[31,25,32,26],[18,25,25,26],[26,4,30,5],[26,11,30,12],[26,18,30,19],[7,18,7,19],[7,25,7,26],[37,11,37,12],[37,13,37,14],[38,11,38,12],[34,11,34,12],[34,13,34,14],[35,11,35,12],[35,13,35,14],[36,11,36,12],[36,13,36,14]]}
[null,null,null,null,null,"Sp.1",null,null,null,null,null,null,"Sp.2",null,null,null,null,null,null,"Sp.3",null,null,null,null,null,null,"Sp.4"]
[null,null,null,"Punkte",501,"Start",null,null,null,null,"Punkte",501,"Start",null,null,null,null,"Punkte",501,"Start",null,null,null,null,"Punkte",501,"Start"]
[null,null,null,"Geworfen",{"$f":"SUM(D34)","v":0},"Punkte",null,null,null,null,"Geworfen",{"$f":"SUM(K34)","v":0},"Punkte",null,null,null,null,"Geworfen",{"$f":"SUM(R34)","v":0},"Punkte",null,null,null,null,"Geworfen",{"$f":"SUM(Y34)","v":0},"Punkte"]
["RD 1",{"$f":"COUNT(D4)*1","v":0},{"$f":"COUNT(D4)*3","v":0},null,{"$f":"SUM(E2-E3)","v":501},"Rest",null,"RD 1",{"$f":"COUNT(K4)*1","v":0},{"$f":"COUNT(K4)*3","v":0},null,{"$f":"SUM(L2-L3)","v":501},"Rest",null,"RD 1",{"$f":"COUNT(R4)*1","v":0},{"$f":"COUNT(R4)*3","v":0},null,{"$f":"SUM(S2-S3)","v":501},"Rest",null,"RD 1",{"$f":"COUNT(Y4)*1","v":0},{"$f":"COUNT(Y4)*3","v":0},null,{"$f":"SUM(Z2-Z3)","v":501},"Rest"]
["RD 2",0,0,null,null,null,null,"RD 2",0,0,null,null,null,null,"RD 2",0,0,null,null,null,null,"RD 2",0,0]
["RD 3",0,0,null,"ø pro Spiel",{"$f":"SUM(E3)/B34","v":{"$error":"#DIV/0!"}},null,"RD 3",0,0,null,"ø pro Spiel",{"$f":"SUM(L3)/I34","v":{"$error":"#DIV/0!"}},null,"RD 3",0,0,null,"ø pro Spiel",{"$f":"SUM(S3)/P34","v":{"$error":"#DIV/0!"}},null,"RD 3",0,0,null,"ø pro Spiel",{"$f":"SUM(Z3)/W34","v":{"$error":"#DIV/0!"}}]
["RD 4",0,0,null,"ø pro Pfeil",{"$f":"SUM(E3)/C34","v":{"$error":"#DIV/0!"}},null,"RD 4",0,0,null,"ø pro Pfeil",{"$f":"SUM(L3)/J34","v":{"$error":"#DIV/0!"}},null,"RD 4",0,0,null,"ø pro Pfeil",{"$f":"SUM(S3)/Q34","v":{"$error":"#DIV/0!"}},null,"RD 4",0,0,null,"ø pro Pfeil",{"$f":"SUM(Z3)/X34","v":{"$error":"#DIV/0!"}}]
["RD 5",0,0,null,"Average",null,null,"RD 5",0,0,null,"Average",null,null,"RD 5",0,0,null,"Average",null,null,"RD 5",0,0,null,"Average"]
["RD 6",0,0,null,{"$f":"SUM(F6)","v":{"$error":"#DIV/0!"}},null,null,"RD 6",0,0,null,{"$f":"SUM(M6)","v":{"$error":"#DIV/0!"}},null,null,"RD 6",0,0,null,{"$f":"SUM(T6)","v":{"$error":"#DIV/0!"}},null,null,"RD 6",0,0,null,{"$f":"SUM(AA6)","v":{"$error":"#DIV/0!"}}]
["RD 7",0,0,null,null,null,null,"RD 7",0,0,null,null,null,null,"RD 7",0,0,null,null,null,null,"RD 7",0,0]
["RD 8",0,0,null,"Nicht Gut",null,null,"RD 8",0,0,null,"Nicht Gut",null,null,"RD 8",0,0,null,"Nicht Gut",null,null,"RD 8",0,0,null,"Nicht Gut"]
["RD 9",0,0,null,null,null,null,"RD 9",0,0,null,null,null,null,"RD 9",0,0,null,null,null,null,"RD 9",0,0]
["RD 10",0,0,null,null,null,null,"RD 10",0,0,null,null,null,null,"RD 10",0,0,null,null,null,null,"RD 10",0,0]
["RD 11",0,0,null,"Gut",null,null,"RD 11",0,0,null,"Gut",null,null,"RD 11",0,0,null,"Gut",null,null,"RD 11",0,0,null,"Gut"]
["RD 12",0,0,null,null,null,null,"RD 12",0,0,null,null,null,null,"RD 12",0,0,null,null,null,null,"RD 12",0,0]
["RD 13",0,0,null,null,null,null,"RD 13",0,0,null,null,null,null,"RD 13",0,0,null,null,null,null,"RD 13",0,0]
["RD 14",0,0,null,null,null,null,"RD 14",0,0,null,null,null,null,"RD 14",0,0,null,null,null,null,"RD 14",0,0]
["RD 15",0,0,null,null,null,null,"RD 15",0,0,null,null,null,null,"RD 15",0,0,null,null,null,null,"RD 15",0,0]
["RD 16",0,0,null,"Sehr  Gut",null,null,"RD 16",0,0,null,"Sehr  Gut",null,null,"RD 16",0,0,null,"Sehr  Gut",null,null,"RD 16",0,0,null,"Sehr  Gut"]
["RD 17",0,0,null,null,null,null,"RD 17",0,0,null,null,null,null,"RD 17",0,0,null,null,null,null,"RD 17",0,0]
["RD 18",0,0,null,null,null,null,"RD 18",0,0,null,null,null,null,"RD 18",0,0,null,null,null,null,"RD 18",0,0]
["RD 19",0,0,null,null,null,null,"RD 19",0,0,null,null,null,null,"RD 19",0,0,null,null,null,null,"RD 19",0,0]
["RD 20",0,0,null,null,null,null,"RD 20",0,0,null,null,null,null,"RD 20",0,0,null,null,null,null,"RD 20",0,0]
["RD 21",0,0,null,null,null,null,"RD 21",0,0,null,null,null,null,"RD 21",0,0,null,null,null,null,"RD 21",0,0]
["RD 22",0,0,null,null,null,null,"RD 22",0,0,null,null,null,null,"RD 22",0,0,null,null,null,null,"RD 22",0,0]
["RD 23",0,0,null,null,null,null,"RD 23",0,0,null,null,null,null,"RD 23",0,0,null,null,null,null,"RD 23",0,0]
["RD 24",0,0,null,null,null,null,"RD 24",0,0,null,null,null,null,"RD 24",0,0,null,null,null,null,"RD 24",0,0]
["RD 25",0,0,null,null,null,null,"RD 25",0,0,null,null,null,null,"RD 25",0,0,null,null,null,null,"RD 25",0,0]
["RD 26",0,0,null,null,null,null,"RD 26",0,0,null,null,null,null,"RD 26",0,0,null,null,null,null,"RD 26",0,0]
["RD 27",0,0,null,null,null,null,"RD 27",0,0,null,null,null,null,"RD 27",0,0,null,null,null,null,"RD 27",0,0]
["RD 28",0,0,null,null,null,null,"RD 28",0,0,null,null,null,null,"RD 28",0,0,null,null,null,null,"RD 28",0,0]
["RD 29",0,0,null,{"$f":"IF(E4=0,\"Sieg\",\"\")","v":""},null,null,"RD 29",0,0,null,{"$f":"IF(L4=0,\"Sieg\",\"\")","v":""},null,null,"RD 29",0,0,null,{"$f":"IF(S4=0,\"Sieg\",\"\")","v":""},null,null,"RD 29",0,0,null,{"$f":"IF(Z4=0,\"Sieg\",\"\")","v":""}]
["RD 30",0,0,null,null,null,null,"RD 30",0,0,null,null,null,null,"RD 30",0,0,null,null,null,null,"RD 30",0,0]
[null,{"$f":"SUM(B4:B33)","v":0},{"$f":"SUM(C4:C33)","v":0},{"$f":"SUM(D4:D33)","v":0},{"$f":"SUM(D4:D32)","v":0},null,null,null,{"$f":"SUM(I4:I33)","v":0},{"$f":"SUM(J4:J33)","v":0},{"$f":"SUM(K4:K33)","v":0},{"$f":"SUM(K4:K32)","v":0},null,null,null,{"$f":"SUM(P4:P33)","v":0},{"$f":"SUM(Q4:Q33)","v":0},{"$f":"SUM(R4:R33)","v":0},{"$f":"SUM(R4:R32)","v":0},null,null,null,{"$f":"SUM(W4:W33)","v":0},{"$f":"SUM(X4:X33)","v":0},{"$f":"SUM(Y4:Y33)","v":0},{"$f":"SUM(Y4:Y32)","v":0}]
[null,null,null,{"$f":"D1","v":0},null,{"$f":"E3","v":0},null,null,null,null,{"$f":"INDEX(D35:D38,MATCH(MAX(F35:F38),F35:F38,0),1)","v":0},{"$f":"E1","v":0},null,{"$f":"E3","v":0},null,null,null,null,{"$f":"INDEX(L35:L38,MATCH(MAX(N35:N38),N35:N38,0),1)","v":0}]
[null,null,null,{"$f":"K1","v":0},null,{"$f":"SUM(L3)","v":0},null,null,null,null,null,{"$f":"L1","v":0},null,{"$f":"SUM(L3)","v":0}]
[null,null,null,{"$f":"R1","v":0},null,{"$f":"SUM(S3)","v":0},null,null,null,null,null,{"$f":"S1","v":0},null,{"$f":"SUM(S3)","v":0}]
[null,null,null,{"$f":"R1","v":0},null,{"$f":"SUM(Z3)","v":0},null,null,null,null,null,{"$f":"Z1","v":0},null,{"$f":"SUM(Z3)","v":0}]
[null,null,null,"MAX(B2:B7",null,{"$f":"SUM(F35:F38)","v":0},null,null,null,null,null,"MAX(B2:B7",null,{"$f":"SUM(N35:N38)","v":0}]

{"sheet":"Rd. 11","index":10,"n_rows":39,"n_cols":27,"rows_kept":39,"cut":false,"hidden":false,"merged":[[0,28,0,30],[34,3,34,4],[35,3,35,4],[36,3,36,4],[37,3,37,4],[8,4,9,5],[8,11,9,12],[8,18,9,19],[8,25,9,26],[10,4,12,5],[10,11,12,12],[10,18,12,19],[10,25,12,26],[26,25,30,26],[7,4,7,5],[7,11,7,12],[38,3,38,4],[13,4,17,5],[13,11,17,12],[13,18,17,19],[13,25,17,26],[18,4,25,5],[18,11,25,12],[18,18,25,19],[31,4,32,5],[31,11,32,12],[31,18,32,19],[31,25,32,26],[18,25,25,26],[26,4,30,5],[26,11,30,12],[26,18,30,19],[7,18,7,19],[7,25,7,26],[37,11,37,12],[37,13,37,14],[38,11,38,12],[34,11,34,12],[34,13,34,14],[35,11,35,12],[35,13,35,14],[36,11,36,12],[36,13,36,14]]}
[null,null,null,null,null,"Sp.1",null,null,null,null,null,null,"Sp.2",null,null,null,null,null,null,"Sp.3",null,null,null,null,null,null,"Sp.4"]
[null,null,null,"Punkte",501,"Start",null,null,null,null,"Punkte",501,"Start",null,null,null,null,"Punkte",501,"Start",null,null,null,null,"Punkte",501,"Start"]
[null,null,null,"Geworfen",{"$f":"SUM(D34)","v":0},"Punkte",null,null,null,null,"Geworfen",{"$f":"SUM(K34)","v":0},"Punkte",null,null,null,null,"Geworfen",{"$f":"SUM(R34)","v":0},"Punkte",null,null,null,null,"Geworfen",{"$f":"SUM(Y34)","v":0},"Punkte"]
["RD 1",{"$f":"COUNT(D4)*1","v":0},{"$f":"COUNT(D4)*3","v":0},null,{"$f":"SUM(E2-E3)","v":501},"Rest",null,"RD 1",{"$f":"COUNT(K4)*1","v":0},{"$f":"COUNT(K4)*3","v":0},null,{"$f":"SUM(L2-L3)","v":501},"Rest",null,"RD 1",{"$f":"COUNT(R4)*1","v":0},{"$f":"COUNT(R4)*3","v":0},null,{"$f":"SUM(S2-S3)","v":501},"Rest",null,"RD 1",{"$f":"COUNT(Y4)*1","v":0},{"$f":"COUNT(Y4)*3","v":0},null,{"$f":"SUM(Z2-Z3)","v":501},"Rest"]
["RD 2",0,0,null,null,null,null,"RD 2",0,0,null,null,null,null,"RD 2",0,0,null,null,null,null,"RD 2",0,0]
["RD 3",0,0,null,"ø pro Spiel",{"$f":"SUM(E3)/B34","v":{"$error":"#DIV/0!"}},null,"RD 3",0,0,null,"ø pro Spiel",{"$f":"SUM(L3)/I34","v":{"$error":"#DIV/0!"}},null,"RD 3",0,0,null,"ø pro Spiel",{"$f":"SUM(S3)/P34","v":{"$error":"#DIV/0!"}},null,"RD 3",0,0,null,"ø pro Spiel",{"$f":"SUM(Z3)/W34","v":{"$error":"#DIV/0!"}}]
["RD 4",0,0,null,"ø pro Pfeil",{"$f":"SUM(E3)/C34","v":{"$error":"#DIV/0!"}},null,"RD 4",0,0,null,"ø pro Pfeil",{"$f":"SUM(L3)/J34","v":{"$error":"#DIV/0!"}},null,"RD 4",0,0,null,"ø pro Pfeil",{"$f":"SUM(S3)/Q34","v":{"$error":"#DIV/0!"}},null,"RD 4",0,0,null,"ø pro Pfeil",{"$f":"SUM(Z3)/X34","v":{"$error":"#DIV/0!"}}]
["RD 5",0,0,null,"Average",null,null,"RD 5",0,0,null,"Average",null,null,"RD 5",0,0,null,"Average",null,null,"RD 5",0,0,null,"Average"]
["RD 6",0,0,null,{"$f":"SUM(F6)","v":{"$error":"#DIV/0!"}},null,null,"RD 6",0,0,null,{"$f":"SUM(M6)","v":{"$error":"#DIV/0!"}},null,null,"RD 6",0,0,null,{"$f":"SUM(T6)","v":{"$error":"#DIV/0!"}},null,null,"RD 6",0,0,null,{"$f":"SUM(AA6)","v":{"$error":"#DIV/0!"}}]
["RD 7",0,0,null,null,null,null,"RD 7",0,0,null,null,null,null,"RD 7",0,0,null,null,null,null,"RD 7",0,0]
["RD 8",0,0,null,"Nicht Gut",null,null,"RD 8",0,0,null,"Nicht Gut",null,null,"RD 8",0,0,null,"Nicht Gut",null,null,"RD 8",0,0,null,"Nicht Gut"]
["RD 9",0,0,null,null,null,null,"RD 9",0,0,null,null,null,null,"RD 9",0,0,null,null,null,null,"RD 9",0,0]
["RD 10",0,0,null,null,null,null,"RD 10",0,0,null,null,null,null,"RD 10",0,0,null,null,null,null,"RD 10",0,0]
["RD 11",0,0,null,"Gut",null,null,"RD 11",0,0,null,"Gut",null,null,"RD 11",0,0,null,"Gut",null,null,"RD 11",0,0,null,"Gut"]
["RD 12",0,0,null,null,null,null,"RD 12",0,0,null,null,null,null,"RD 12",0,0,null,null,null,null,"RD 12",0,0]
["RD 13",0,0,null,null,null,null,"RD 13",0,0,null,null,null,null,"RD 13",0,0,null,null,null,null,"RD 13",0,0]
["RD 14",0,0,null,null,null,null,"RD 14",0,0,null,null,null,null,"RD 14",0,0,null,null,null,null,"RD 14",0,0]
["RD 15",0,0,null,null,null,null,"RD 15",0,0,null,null,null,null,"RD 15",0,0,null,null,null,null,"RD 15",0,0]
["RD 16",0,0,null,"Sehr  Gut",null,null,"RD 16",0,0,null,"Sehr  Gut",null,null,"RD 16",0,0,null,"Sehr  Gut",null,null,"RD 16",0,0,null,"Sehr  Gut"]
["RD 17",0,0,null,null,null,null,"RD 17",0,0,null,null,null,null,"RD 17",0,0,null,null,null,null,"RD 17",0,0]
["RD 18",0,0,null,null,null,null,"RD 18",0,0,null,null,null,null,"RD 18",0,0,null,null,null,null,"RD 18",0,0]
["RD 19",0,0,null,null,null,null,"RD 19",0,0,null,null,null,null,"RD 19",0,0,null,null,null,null,"RD 19",0,0]
["RD 20",0,0,null,null,null,null,"RD 20",0,0,null,null,null,null,"RD 20",0,0,null,null,null,null,"RD 20",0,0]
["RD 21",0,0,null,null,null,null,"RD 21",0,0,null,null,null,null,"RD 21",0,0,null,null,null,null,"RD 21",0,0]
["RD 22",0,0,null,null,null,null,"RD 22",0,0,null,null,null,null,"RD 22",0,0,null,null,null,null,"RD 22",0,0]
["RD 23",0,0,null,null,null,null,"RD 23",0,0,null,null,null,null,"RD 23",0,0,null,null,null,null,"RD 23",0,0]
["RD 24",0,0,null,null,null,null,"RD 24",0,0,null,null,null,null,"RD 24",0,0,null,null,null,null,"RD 24",0,0]
["RD 25",0,0,null,null,null,null,"RD 25",0,0,null,null,null,null,"RD 25",0,0,null,null,null,null,"RD 25",0,0]
["RD 26",0,0,null,null,null,null,"RD 26",0,0,null,null,null,null,"RD 26",0,0,null,null,null,null,"RD 26",0,0]
["RD 27",0,0,null,null,null,null,"RD 27",0,0,null,null,null,null,"RD 27",0,0,null,null,null,null,"RD 27",0,0]
["RD 28",0,0,null,null,null,null,"RD 28",0,0,null,null,null,null,"RD 28",0,0,null,null,null,null,"RD 28",0,0]
["RD 29",0,0,null,{"$f":"IF(E4=0,\"Sieg\",\"\")","v":""},null,null,"RD 29",0,0,null,{"$f":"IF(L4=0,\"Sieg\",\"\")","v":""},null,null,"RD 29",0,0,null,{"$f":"IF(S4=0,\"Sieg\",\"\")","v":""},null,null,"RD 29",0,0,null,{"$f":"IF(Z4=0,\"Sieg\",\"\")","v":""}]
["RD 30",0,0,null,null,null,null,"RD 30",0,0,null,null,null,null,"RD 30",0,0,null,null,null,null,"RD 30",0,0]
[null,{"$f":"SUM(B4:B33)","v":0},{"$f":"SUM(C4:C33)","v":0},{"$f":"SUM(D4:D33)","v":0},{"$f":"SUM(D4:D32)","v":0},null,null,null,{"$f":"SUM(I4:I33)","v":0},{"$f":"SUM(J4:J33)","v":0},{"$f":"SUM(K4:K33)","v":0},{"$f":"SUM(K4:K32)","v":0},null,null,null,{"$f":"SUM(P4:P33)","v":0},{"$f":"SUM(Q4:Q33)","v":0},{"$f":"SUM(R4:R33)","v":0},{"$f":"SUM(R4:R32)","v":0},null,null,null,{"$f":"SUM(W4:W33)","v":0},{"$f":"SUM(X4:X33)","v":0},{"$f":"SUM(Y4:Y33)","v":0},{"$f":"SUM(Y4:Y32)","v":0}]
[null,null,null,{"$f":"D1","v":0},null,{"$f":"E3","v":0},null,null,null,null,{"$f":"INDEX(D35:D38,MATCH(MAX(F35:F38),F35:F38,0),1)","v":0},{"$f":"E1","v":0},null,{"$f":"E3","v":0},null,null,null,null,{"$f":"INDEX(L35:L38,MATCH(MAX(N35:N38),N35:N38,0),1)","v":0}]
[null,null,null,{"$f":"K1","v":0},null,{"$f":"SUM(L3)","v":0},null,null,null,null,null,{"$f":"L1","v":0},null,{"$f":"SUM(L3)","v":0}]
[null,null,null,{"$f":"R1","v":0},null,{"$f":"SUM(S3)","v":0},null,null,null,null,null,{"$f":"S1","v":0},null,{"$f":"SUM(S3)","v":0}]
[null,null,null,{"$f":"R1","v":0},null,{"$f":"SUM(Z3)","v":0},null,null,null,null,null,{"$f":"Z1","v":0},null,{"$f":"SUM(Z3)","v":0}]
[null,null,null,"MAX(B2:B7",null,{"$f":"SUM(F35:F38)","v":0},null,null,null,null,null,"MAX(B2:B7",null,{"$f":"SUM(N35:N38)","v":0}]

{"sheet":"Rd. 12","index":11,"n_rows":39,"n_cols":27,"rows_kept":39,"cut":false,"hidden":false,"merged":[[0,28,0,30],[34,3,34,4],[35,3,35,4],[36,3,36,4],[37,3,37,4],[8,4,9,5],[8,11,9,12],[8,18,9,19],[8,25,9,26],[10,4,12,5],[10,11,12,12],[10,18,12,19],[10,25,12,26],[26,25,30,26],[7,4,7,5],[7,11,7,12],[38,3,38,4],[13,4,17,5],[13,11,17,12],[13,18,17,19],[13,25,17,26],[18,4,25,5],[18,11,25,12],[18,18,25,19],[31,4,32,5],[31,11,32,12],[31,18,32,19],[31,25,32,26],[18,25,25,26],[26,4,30,5],[26,11,30,12],[26,18,30,19],[7,18,7,19],[7,25,7,26],[37,11,37,12],[37,13,37,14],[38,11,38,12],[34,11,34,12],[34,13,34,14],[35,11,35,12],[35,13,35,14],[36,11,36,12],[36,13,36,14]]}
[null,null,null,null,null,"Sp.1",null,null,null,null,null,null,"Sp.2",null,null,null,null,null,null,"Sp.3",null,null,null,null,null,null,"Sp.4"]
[null,null,null,"Punkte",501,"Start",null,null,null,null,"Punkte",501,"Start",null,null,null,null,"Punkte",501,"Start",null,null,null,null,"Punkte",501,"Start"]
[null,null,null,"Geworfen",{"$f":"SUM(D34)","v":0},"Punkte",null,null,null,null,"Geworfen",{"$f":"SUM(K34)","v":0},"Punkte",null,null,null,null,"Geworfen",{"$f":"SUM(R34)","v":0},"Punkte",null,null,null,null,"Geworfen",{"$f":"SUM(Y34)","v":0},"Punkte"]
["RD 1",{"$f":"COUNT(D4)*1","v":0},{"$f":"COUNT(D4)*3","v":0},null,{"$f":"SUM(E2-E3)","v":501},"Rest",null,"RD 1",{"$f":"COUNT(K4)*1","v":0},{"$f":"COUNT(K4)*3","v":0},null,{"$f":"SUM(L2-L3)","v":501},"Rest",null,"RD 1",{"$f":"COUNT(R4)*1","v":0},{"$f":"COUNT(R4)*3","v":0},null,{"$f":"SUM(S2-S3)","v":501},"Rest",null,"RD 1",{"$f":"COUNT(Y4)*1","v":0},{"$f":"COUNT(Y4)*3","v":0},null,{"$f":"SUM(Z2-Z3)","v":501},"Rest"]
["RD 2",0,0,null,null,null,null,"RD 2",0,0,null,null,null,null,"RD 2",0,0,null,null,null,null,"RD 2",0,0]
["RD 3",0,0,null,"ø pro Spiel",{"$f":"SUM(E3)/B34","v":{"$error":"#DIV/0!"}},null,"RD 3",0,0,null,"ø pro Spiel",{"$f":"SUM(L3)/I34","v":{"$error":"#DIV/0!"}},null,"RD 3",0,0,null,"ø pro Spiel",{"$f":"SUM(S3)/P34","v":{"$error":"#DIV/0!"}},null,"RD 3",0,0,null,"ø pro Spiel",{"$f":"SUM(Z3)/W34","v":{"$error":"#DIV/0!"}}]
["RD 4",0,0,null,"ø pro Pfeil",{"$f":"SUM(E3)/C34","v":{"$error":"#DIV/0!"}},null,"RD 4",0,0,null,"ø pro Pfeil",{"$f":"SUM(L3)/J34","v":{"$error":"#DIV/0!"}},null,"RD 4",0,0,null,"ø pro Pfeil",{"$f":"SUM(S3)/Q34","v":{"$error":"#DIV/0!"}},null,"RD 4",0,0,null,"ø pro Pfeil",{"$f":"SUM(Z3)/X34","v":{"$error":"#DIV/0!"}}]
["RD 5",0,0,null,"Average",null,null,"RD 5",0,0,null,"Average",null,null,"RD 5",0,0,null,"Average",null,null,"RD 5",0,0,null,"Average"]
["RD 6",0,0,null,{"$f":"SUM(F6)","v":{"$error":"#DIV/0!"}},null,null,"RD 6",0,0,null,{"$f":"SUM(M6)","v":{"$error":"#DIV/0!"}},null,null,"RD 6",0,0,null,{"$f":"SUM(T6)","v":{"$error":"#DIV/0!"}},null,null,"RD 6",0,0,null,{"$f":"SUM(AA6)","v":{"$error":"#DIV/0!"}}]
["RD 7",0,0,null,null,null,null,"RD 7",0,0,null,null,null,null,"RD 7",0,0,null,null,null,null,"RD 7",0,0]
["RD 8",0,0,null,"Nicht Gut",null,null,"RD 8",0,0,null,"Nicht Gut",null,null,"RD 8",0,0,null,"Nicht Gut",null,null,"RD 8",0,0,null,"Nicht Gut"]
["RD 9",0,0,null,null,null,null,"RD 9",0,0,null,null,null,null,"RD 9",0,0,null,null,null,null,"RD 9",0,0]
["RD 10",0,0,null,null,null,null,"RD 10",0,0,null,null,null,null,"RD 10",0,0,null,null,null,null,"RD 10",0,0]
["RD 11",0,0,null,"Gut",null,null,"RD 11",0,0,null,"Gut",null,null,"RD 11",0,0,null,"Gut",null,null,"RD 11",0,0,null,"Gut"]
["RD 12",0,0,null,null,null,null,"RD 12",0,0,null,null,null,null,"RD 12",0,0,null,null,null,null,"RD 12",0,0]
["RD 13",0,0,null,null,null,null,"RD 13",0,0,null,null,null,null,"RD 13",0,0,null,null,null,null,"RD 13",0,0]
["RD 14",0,0,null,null,null,null,"RD 14",0,0,null,null,null,null,"RD 14",0,0,null,null,null,null,"RD 14",0,0]
["RD 15",0,0,null,null,null,null,"RD 15",0,0,null,null,null,null,"RD 15",0,0,null,null,null,null,"RD 15",0,0]
["RD 16",0,0,null,"Sehr  Gut",null,null,"RD 16",0,0,null,"Sehr  Gut",null,null,"RD 16",0,0,null,"Sehr  Gut",null,null,"RD 16",0,0,null,"Sehr  Gut"]
["RD 17",0,0,null,null,null,null,"RD 17",0,0,null,null,null,null,"RD 17",0,0,null,null,null,null,"RD 17",0,0]
["RD 18",0,0,null,null,null,null,"RD 18",0,0,null,null,null,null,"RD 18",0,0,null,null,null,null,"RD 18",0,0]
["RD 19",0,0,null,null,null,null,"RD 19",0,0,null,null,null,null,"RD 19",0,0,null,null,null,null,"RD 19",0,0]
["RD 20",0,0,null,null,null,null,"RD 20",0,0,null,null,null,null,"RD 20",0,0,null,null,null,null,"RD 20",0,0]
["RD 21",0,0,null,null,null,null,"RD 21",0,0,null,null,null,null,"RD 21",0,0,null,null,null,null,"RD 21",0,0]
["RD 22",0,0,null,null,null,null,"RD 22",0,0,null,null,null,null,"RD 22",0,0,null,null,null,null,"RD 22",0,0]
["RD 23",0,0,null,null,null,null,"RD 23",0,0,null,null,null,null,"RD 23",0,0,null,null,null,null,"RD 23",0,0]
["RD 24",0,0,null,null,null,null,"RD 24",0,0,null,null,null,null,"RD 24",0,0,null,null,null,null,"RD 24",0,0]
["RD 25",0,0,null,null,null,null,"RD 25",0,0,null,null,null,null,"RD 25",0,0,null,null,null,null,"RD 25",0,0]
["RD 26",0,0,null,null,null,null,"RD 26",0,0,null,null,null,null,"RD 26",0,0,null,null,null,null,"RD 26",0,0]
["RD 27",0,0,null,null,null,null,"RD 27",0,0,null,null,null,null,"RD 27",0,0,null,null,null,null,"RD 27",0,0]
["RD 28",0,0,null,null,null,null,"RD 28",0,0,null,null,null,null,"RD 28",0,0,null,null,null,null,"RD 28",0,0]
["RD 29",0,0,null,{"$f":"IF(E4=0,\"Sieg\",\"\")","v":""},null,null,"RD 29",0,0,null,{"$f":"IF(L4=0,\"Sieg\",\"\")","v":""},null,null,"RD 29",0,0,null,{"$f":"IF(S4=0,\"Sieg\",\"\")","v":""},null,null,"RD 29",0,0,null,{"$f":"IF(Z4=0,\"Sieg\",\"\")","v":""}]
["RD 30",0,0,null,null,null,null,"RD 30",0,0,null,null,null,null,"RD 30",0,0,null,null,null,null,"RD 30",0,0]
[null,{"$f":"SUM(B4:B33)","v":0},{"$f":"SUM(C4:C33)","v":0},{"$f":"SUM(D4:D33)","v":0},{"$f":"SUM(D4:D32)","v":0},null,null,null,{"$f":"SUM(I4:I33)","v":0},{"$f":"SUM(J4:J33)","v":0},{"$f":"SUM(K4:K33)","v":0},{"$f":"SUM(K4:K32)","v":0},null,null,null,{"$f":"SUM(P4:P33)","v":0},{"$f":"SUM(Q4:Q33)","v":0},{"$f":"SUM(R4:R33)","v":0},{"$f":"SUM(R4:R32)","v":0},null,null,null,{"$f":"SUM(W4:W33)","v":0},{"$f":"SUM(X4:X33)","v":0},{"$f":"SUM(Y4:Y33)","v":0},{"$f":"SUM(Y4:Y32)","v":0}]
[null,null,null,{"$f":"D1","v":0},null,{"$f":"E3","v":0},null,null,null,null,{"$f":"INDEX(D35:D38,MATCH(MAX(F35:F38),F35:F38,0),1)","v":0},{"$f":"E1","v":0},null,{"$f":"E3","v":0},null,null,null,null,{"$f":"INDEX(L35:L38,MATCH(MAX(N35:N38),N35:N38,0),1)","v":0}]
[null,null,null,{"$f":"K1","v":0},null,{"$f":"SUM(L3)","v":0},null,null,null,null,null,{"$f":"L1","v":0},null,{"$f":"SUM(L3)","v":0}]
[null,null,null,{"$f":"R1","v":0},null,{"$f":"SUM(S3)","v":0},null,null,null,null,null,{"$f":"S1","v":0},null,{"$f":"SUM(S3)","v":0}]
[null,null,null,{"$f":"R1","v":0},null,{"$f":"SUM(Z3)","v":0},null,null,null,null,null,{"$f":"Z1","v":0},null,{"$f":"SUM(Z3)","v":0}]
[null,null,null,"MAX(B2:B7",null,{"$f":"SUM(F35:F38)","v":0},null,null,null,null,null,"MAX(B2:B7",null,{"$f":"SUM(N35:N38)","v":0}]

{"sheet":"Sieger","index":12,"n_rows":13,"n_cols":5,"rows_kept":13,"cut":false,"hidden":false,"merged":[[6,4,6,7],[0,4,0,7],[0,1,0,2]]}
[null,"Sieger"]
["Rd.1",{"$f":"'Rd.1'!K35","v":"Siggi"},{"$f":"'Rd.1'!S35","v":"Ralf M."}]
["Rd.2",{"$f":"'Rd.2'!K35","v":0},{"$f":"'Rd.2'!S35","v":0}]
["Rd.3",{"$f":"'Rd. 3'!K35","v":0},{"$f":"'Rd. 3'!S35","v":0}]
["Rd.4",{"$f":"'Rd. 4'!K35","v":0},{"$f":"'Rd. 4'!S35","v":0}]
["Rd.5",{"$f":"'Rd.5'!K35","v":0},{"$f":"'Rd.5'!S35","v":0}]
["Rd.6",{"$f":"'Rd.6'!K35","v":0},{"$f":"'Rd.6'!S35","v":0},null,"Alles Leeren"]
["Rd.7",{"$f":"'Rd. 7'!K35","v":0},{"$f":"'Rd. 7'!S35","v":0}]
["Rd.8",{"$f":"'Rd. 8'!K35","v":0},{"$f":"'Rd. 8'!S35","v":0}]
["Rd.9",{"$f":"'Rd. 9'!K35","v":0},{"$f":"'Rd. 9'!S35","v":0}]
["Rd.10",{"$f":"'Rd. 10'!K35","v":0},{"$f":"'Rd. 10'!S35","v":0}]
["Rd.11",{"$f":"'Rd. 11'!K35","v":0},{"$f":"'Rd. 11'!S35","v":0}]
["Rd.12",{"$f":"'Rd. 12'!K35","v":0},{"$f":"'Rd. 12'!S35","v":0}]

{"sheet":"Tabelle1","index":13,"n_rows":37,"n_cols":3,"rows_kept":37,"cut":false,"hidden":false,"merged":[]}
["Anja",null,"Anja"]
["Erich",null,"Erich"]
["Siggi",null,"Siggi"]
["Ralf M.",null,"Ralf M."]
["Ralf Kl.",null,"Ralf Kl."]
["Volker",null,"Volker"]
["Rene",null,"Rene"]
["Joker",null,"Nicole"]
["Gast",null,"Frank"]
["Anja/Erich",null,"Rosi"]
["Anja/Siggi",null,"Werner"]
["Anja/Ralf M.",null,"Gast"]
["Anja/Ralf Kl."]
["Anja/Volker"]
["Anja/Rene"]
["Joker"]
["Anja/Gast"]
["Erich/Siggi"]
["Erich/Ralf M."]
["Erich/Ralf Kl."]
["Erich/Volker"]
["Erich/Rene"]
["Erich/Gast"]
["Siggi/Ralf M."]
["Siggi/Ralf Kl."]
["Siggi/Volker"]
["Siggi/Rene"]
["Siggi/Gast"]
["Ralf M./Ralf Kl."]
["Ralf M./Volker"]
["Ralf M./Rene"]
["Ralf M./Gast"]
["Volker/Rene"]
["Volker/Gast"]
["Rene/Gast"]
["………………………………….."]
["Joker"]