{"text_format":"1","workbook":"xlsx","n_sheets":2,"sheets":["Tabelle1","Tabelle2"],"not_rendered":{"charts":0,"images":0,"macros":0,"external_links":0,"defined_names":1,"comments":0,"pivot_tables":0},"unopened":[],"bounds":{"document_bytes":16777216,"sheet_cells":100000,"rows_first":2000,"rows_last":500,"rows_between":2000,"halvings":0,"cell_chars":16384,"cell_head_chars":4096},"cells_cut":0,"cells_raw":0,"read":"whole","date_system":"1900"}

{"sheet":"Tabelle1","index":0,"n_rows":8,"n_cols":14,"rows_kept":8,"cut":false,"hidden":false,"merged":[]}
["dieses Jahr","Namen","Geburtsjahr","Alter","Wie alt genau",null,"Sternzeichen","Bis Geburtstag","Nächster Geburtstag","wird alt",2024,"Tage bis","nächster","nächste Alter"]
[{"$f":"DATE(K$1,MONTH(C2),DAY(C2))","v":"2024-01-07"},"Franziska","1981-01-07",{"$f":"DATEDIF(C2,TODAY(),\"y\")&\" J\"","v":"43 J"},{"$f":"IF(C2=\"\",\"\",(B2&\"   ist \"&DATEDIF(C2,TODAY(),\"y\")&\" Jahre,  \"&DATEDIF(C2,TODAY(),\"ym\")&\" Monate,  und \"&DATEDIF(C2,TODAY(),\"md\")&\"  Tage\"))","v":"Franziska   ist 43 Jahre,  11 Monate,  und 7  Tage"},{"$f":"IF(DATE(YEAR(TODAY()),MONTH(C2),DAY(C2))<TODAY()+1,\"\",DATE(YEAR(TODAY()),MONTH(C2),DAY(C2))-TODAY())","v":""},{"$f":"IF(ISERROR(INDEX({\"Steinbock\";\"Wassermann\";\"Fische\";\"Widder\";\"Stier\";\"Zwillinge\";\"Krebs\";\"Löwe\";\"Jungfrau\";\"Waage\";\"Skorpion\";\"Schütze\";\"Steinbock\"},MATCH(DATE(1900,MONTH(A2),DAY(A2)),{1;21;51;81;112;142;174;205;237;268;298;328;357}))),\" \",(INDEX({\"Steinbock\";\"Wassermann\";\"Fische\";\"Widder\";\"Stier\";\"Zwillinge\";\"Krebs\";\"Löwe\";\"Jungfrau\";\"Waage\";\"Skorpion\";\"Schütze\";\"Steinbock\"},MATCH(DATE(1900,MONTH(A2),DAY(A2)),{1;21;51;81;112;142;174;205;237;268;298;328;357}))))","v":"Steinbock"},{"$f":"DATE(YEAR(TODAY())+(DATE(YEAR(TODAY()),MONTH(C2),DAY(C2))<TODAY()),MONTH(C2),DAY(C2))-TODAY()","v":24},{"$f":"IF(C2=0,\"\",DATE(YEAR(C2)+DATEDIF(C2,TODAY(),\"Y\")+1,MONTH(C2),DAY(C2)))","v":"2025-01-07"},{"$f":"DATEDIF(C2,TODAY(),\"y\")+1&\" J\"","v":"44 J"},null,{"$f":"DATEDIF(TODAY(),M2,\"D\")","v":24},{"$f":"DATE(YEAR(C2)+DATEDIF(C2,TODAY(),\"Y\")+1,MONTH(C2),DAY(C2))","v":"2025-01-07"},{"$f":"DATEDIF(C2,TODAY(),\"Y\")+1","v":44}]
[{"$f":"DATE(K$1,MONTH(C3),DAY(C3))","v":"2024-02-04"},"Michi","1952-02-04",{"$f":"DATEDIF(C3,TODAY(),\"y\")&\" J\"","v":"72 J"},"Michi   ist 72 Jahre,  10 Monate,  und 10  Tage",{"$f":"IF(DATE(YEAR(TODAY()),MONTH(C3),DAY(C3))<TODAY()+1,\"\",DATE(YEAR(TODAY()),MONTH(C3),DAY(C3))-TODAY())","v":""},{"$f":"IF(ISERROR(INDEX({\"Steinbock\";\"Wassermann\";\"Fische\";\"Widder\";\"Stier\";\"Zwillinge\";\"Krebs\";\"Löwe\";\"Jungfrau\";\"Waage\";\"Skorpion\";\"Schütze\";\"Steinbock\"},MATCH(DATE(1900,MONTH(A3),DAY(A3)),{1;21;51;81;112;142;174;205;237;268;298;328;357}))),\" \",(INDEX({\"Steinbock\";\"Wassermann\";\"Fische\";\"Widder\";\"Stier\";\"Zwillinge\";\"Krebs\";\"Löwe\";\"Jungfrau\";\"Waage\";\"Skorpion\";\"Schütze\";\"Steinbock\"},MATCH(DATE(1900,MONTH(A3),DAY(A3)),{1;21;51;81;112;142;174;205;237;268;298;328;357}))))","v":"Wassermann"},52,"2025-02-04","73 J"]
["2024-11-21","Melanie","1986-11-21",{"$f":"DATEDIF(C4,TODAY(),\"y\")&\" J\"","v":"38 J"},"Melanie   ist 38 Jahre,  0 Monate,  und 23  Tage","",{"$f":"IF(ISERROR(INDEX({\"Steinbock\";\"Wassermann\";\"Fische\";\"Widder\";\"Stier\";\"Zwillinge\";\"Krebs\";\"Löwe\";\"Jungfrau\";\"Waage\";\"Skorpion\";\"Schütze\";\"Steinbock\"},MATCH(DATE(1900,MONTH(A4),DAY(A4)),{1;21;51;81;112;142;174;205;237;268;298;328;357}))),\" \",(INDEX({\"Steinbock\";\"Wassermann\";\"Fische\";\"Widder\";\"Stier\";\"Zwillinge\";\"Krebs\";\"Löwe\";\"Jungfrau\";\"Waage\";\"Skorpion\";\"Schütze\";\"Steinbock\"},MATCH(DATE(1900,MONTH(A4),DAY(A4)),{1;21;51;81;112;142;174;205;237;268;298;328;357}))))","v":"Skorpion"},342,"2025-11-21","39 J"]
["2024-04-12","Leon","2003-04-12",{"$f":"DATEDIF(C5,TODAY(),\"y\")&\" J\"","v":"21 J"},"Leon   ist 21 Jahre,  8 Monate,  und 2  Tage","",{"$f":"IF(ISERROR(INDEX({\"Steinbock\";\"Wassermann\";\"Fische\";\"Widder\";\"Stier\";\"Zwillinge\";\"Krebs\";\"Löwe\";\"Jungfrau\";\"Waage\";\"Skorpion\";\"Schütze\";\"Steinbock\"},MATCH(DATE(1900,MONTH(A5),DAY(A5)),{1;21;51;81;112;142;174;205;237;268;298;328;357}))),\" \",(INDEX({\"Steinbock\";\"Wassermann\";\"Fische\";\"Widder\";\"Stier\";\"Zwillinge\";\"Krebs\";\"Löwe\";\"Jungfrau\";\"Waage\";\"Skorpion\";\"Schütze\";\"Steinbock\"},MATCH(DATE(1900,MONTH(A5),DAY(A5)),{1;21;51;81;112;142;174;205;237;268;298;328;357}))))","v":"Widder"},119,"2025-04-12",{"$f":"DATEDIF(C5,TODAY(),\"y\")+1&\" J\"","v":"22 J"}]
["2024-12-26","Sabine","1959-12-26","64 J","Sabine   ist 64 Jahre,  11 Monate,  und 18  Tage",12,{"$f":"IF(ISERROR(INDEX({\"Steinbock\";\"Wassermann\";\"Fische\";\"Widder\";\"Stier\";\"Zwillinge\";\"Krebs\";\"Löwe\";\"Jungfrau\";\"Waage\";\"Skorpion\";\"Schütze\";\"Steinbock\"},MATCH(DATE(1900,MONTH(A6),DAY(A6)),{1;21;51;81;112;142;174;205;237;268;298;328;357}))),\" \",(INDEX({\"Steinbock\";\"Wassermann\";\"Fische\";\"Widder\";\"Stier\";\"Zwillinge\";\"Krebs\";\"Löwe\";\"Jungfrau\";\"Waage\";\"Skorpion\";\"Schütze\";\"Steinbock\"},MATCH(DATE(1900,MONTH(A6),DAY(A6)),{1;21;51;81;112;142;174;205;237;268;298;328;357}))))","v":"Steinbock"},12,"2024-12-26","65 J"]
["2024-12-24","Petra","1955-12-24","68 J","Petra   ist 68 Jahre,  11 Monate,  und 20  Tage",10,{"$f":"IF(ISERROR(INDEX({\"Steinbock\";\"Wassermann\";\"Fische\";\"Widder\";\"Stier\";\"Zwillinge\";\"Krebs\";\"Löwe\";\"Jungfrau\";\"Waage\";\"Skorpion\";\"Schütze\";\"Steinbock\"},MATCH(DATE(1900,MONTH(A7),DAY(A7)),{1;21;51;81;112;142;174;205;237;268;298;328;357}))),\" \",(INDEX({\"Steinbock\";\"Wassermann\";\"Fische\";\"Widder\";\"Stier\";\"Zwillinge\";\"Krebs\";\"Löwe\";\"Jungfrau\";\"Waage\";\"Skorpion\";\"Schütze\";\"Steinbock\"},MATCH(DATE(1900,MONTH(A7),DAY(A7)),{1;21;51;81;112;142;174;205;237;268;298;328;357}))))","v":"Steinbock"},10,"2024-12-24","69 J"]
["2024-03-29","David","1988-03-29","36 J","David   ist 36 Jahre,  8 Monate,  und 15  Tage","",{"$f":"IF(ISERROR(INDEX({\"Steinbock\";\"Wassermann\";\"Fische\";\"Widder\";\"Stier\";\"Zwillinge\";\"Krebs\";\"Löwe\";\"Jungfrau\";\"Waage\";\"Skorpion\";\"Schütze\";\"Steinbock\"},MATCH(DATE(1900,MONTH(A8),DAY(A8)),{1;21;51;81;112;142;174;205;237;268;298;328;357}))),\" \",(INDEX({\"Steinbock\";\"Wassermann\";\"Fische\";\"Widder\";\"Stier\";\"Zwillinge\";\"Krebs\";\"Löwe\";\"Jungfrau\";\"Waage\";\"Skorpion\";\"Schütze\";\"Steinbock\"},MATCH(DATE(1900,MONTH(A8),DAY(A8)),{1;21;51;81;112;142;174;205;237;268;298;328;357}))))","v":"Widder"},105,"2025-03-29","37 J"]

{"sheet":"Tabelle2","index":1,"n_rows":24,"n_cols":7,"rows_kept":24,"cut":false,"hidden":false,"merged":[]}
[]
[null,null,{"$f":"TODAY()","v":"2024-12-14"},"Namen","Datum"]
[]
[null,null,"hatte letzten Geburtstag","soll namen stehen wer zuletzt hatte",{"$f":"IF(ROW(Tabelle1!A2)>COUNT(Tabelle1!A:A),\"\",TODAY()+SMALL(IF(Tabelle1!A$2:A$21<\"\",DATE((TEXT(Tabelle1!A$2:A$21,\"MM/TT\")<TEXT(TODAY(),\"MM/TT\"))+YEAR(TODAY()),MONTH(Tabelle1!A$2:A$21),DAY(Tabelle1!A$2:A$21))-TODAY()),ROW(Tabelle1!A1)))","v":"2024-12-24"},null,"hier müßte bei datum 21.11.2024 und bei Name Melanie stehen"]
[]
[null,null,"Hat Geburtstag nach dem letzten",{"$f":"INDEX(Tabelle1!B2:B8,MATCH(MIN(Tabelle1!H2:H8),Tabelle1!H2:H8,0))&\" in Tage(n) \"&INDEX(Tabelle1!H2:H8,MATCH(MIN(Tabelle1!H2:H8),Tabelle1!H2:H8,0))","v":"Petra in Tage(n) 10"},{"$f":"IF(ROW(Tabelle1!A2)>COUNT(Tabelle1!A:A),\"\",TODAY()+SMALL(IF(Tabelle1!A$2:A$21<\"\",DATE((TEXT(Tabelle1!A$2:A$21,\"MM/TT\")<TEXT(TODAY(),\"MM/TT\"))+YEAR(TODAY()),MONTH(Tabelle1!A$2:A$21),DAY(Tabelle1!A$2:A$21))-TODAY()),ROW(Tabelle1!A1)))","v":"2024-12-24"},null,"hier stimmt alles"]
[]
[null,null,"nächster Geburtstag","namen für den nächsten geburtstag",{"$f":"IF(ROW(Tabelle1!A3)>COUNT(Tabelle1!A:A),\"\",TODAY()+SMALL(IF(Tabelle1!A$2:A$21<\"\",DATE((TEXT(Tabelle1!A$2:A$21,\"MM/TT\")<TEXT(TODAY(),\"MM/TT\"))+YEAR(TODAY()),MONTH(Tabelle1!A$2:A$21),DAY(Tabelle1!A$2:A$21))-TODAY()),ROW(Tabelle1!A2)))","v":"2024-12-26"},null,"hier Datum richtig, bei Namen müßte Sabine hin"]
[]
[null,null,"übernächster Geburtstag","namen für den übernächsten geburtstag",{"$f":"IF(ROW(Tabelle1!A4)>COUNT(Tabelle1!A:A),\"\",TODAY()+SMALL(IF(Tabelle1!A$2:A$21<\"\",DATE((TEXT(Tabelle1!A$2:A$21,\"MM/TT\")<TEXT(TODAY(),\"MM/TT\"))+YEAR(TODAY()),MONTH(Tabelle1!A$2:A$21),DAY(Tabelle1!A$2:A$21))-TODAY()),ROW(Tabelle1!A3)))","v":"2025-01-07"},null,"hier Datum richtig, und Name müßte Franziska hin"]
[]
[null,null,null,"Datum wechsel","geht"]
[]
[]
[]
[]
[]
[null,null,"Versuche gehen nur halbwegs für laufendes Jahr"]
[]
[null,"Nr","Name","dieses Jahr","nächstes Jahr"]
[]
[null,1,{"$f":"VLOOKUP(D22,Tabelle1!A2:D8,2,0)","v":"Franziska"},{"$f":"SMALL(Tabelle1!A2:A8,Tabelle2!B22)","v":"2024-01-07"},{"$f":"DATE(YEAR(D22)+DATEDIF(D22,TODAY(),\"Y\")+1,MONTH(D22),DAY(D22))","v":"2025-01-07"}]
[null,2,{"$f":"VLOOKUP(D23,Tabelle1!A2:D8,2,0)","v":"Michi"},{"$f":"SMALL(Tabelle1!A2:A8,Tabelle2!B23)","v":"2024-02-04"},"2025-02-04"]
[null,3,{"$f":"VLOOKUP(D24,Tabelle1!A2:D8,2,0)","v":"David"},{"$f":"SMALL(Tabelle1!A2:A8,Tabelle2!B24)","v":"2024-03-29"},"2025-03-29"]