{"text_format":"1","workbook":"xlsx","n_sheets":2,"sheets":["Teilnehmer","Wertungspunkte"],"not_rendered":{"charts":0,"images":7,"macros":1,"external_links":1,"defined_names":1,"comments":0,"pivot_tables":0},"unopened":[],"bounds":{"document_bytes":16777216,"sheet_cells":100000,"rows_first":2000,"rows_last":500,"rows_between":2000,"halvings":0,"cell_chars":16384,"cell_head_chars":4096},"cells_cut":0,"cells_raw":0,"read":"whole","date_system":"1900"}

{"sheet":"Teilnehmer","index":0,"n_rows":18,"n_cols":3,"rows_kept":18,"cut":false,"hidden":false,"merged":[]}
["TN-Nr","Fahrer-Name","Vorname"]
[1,"Düsentrieb","Daniel"]
[2,"Freudenhof","Ferdi"]
[3,"Runkel","Rainer"]
[4,"Bertelwick","Theo"]
[5,"Tessmer","Theodor"]
[6,"Hesse","Hermann"]
[7,"Dunkel","Dagobert"]
[8,"Juli","Julia"]
[9,"Oktober","Oktavia"]
[10,"Besen","Steffen"]
[39]
[101,"Lustig","Peter"]
[102,"Hausmann","Hans-Peter"]
[304,"n.V.","n.V."]
[704,"Oldenburg","Oliver"]
[801,"n.V.","n.V."]
[null,""]

{"sheet":"Wertungspunkte","index":1,"n_rows":17,"n_cols":183,"rows_kept":17,"cut":false,"hidden":false,"merged":[]}
["Startnummer","Name","Ergebnis","Minuten","HK 1","NK 1.1","NK 1.2","NK 1.3","NK 1.4","HK 2","NK 2.1","NK 2.2","NK 2.3","NK 2.4","HK 3","NK 3.1","NK 3.2","NK 3.3","NK 3.4",null,"NK 4.1","NK 5.2","NK 6.3","NK 8.4",null,"NK 9.1","NK 4.2","NK 9.3","NK 8.3",null,null,null,null,null,null,null,null,null,null,null,null,null,null,null,null,null,null,null,null,null,null,null,null,null,null,null,null,null,null,null,null,null,null,null,null,null,null,null,null,null,null,null,null,null,null,null,null,null,null,null,null,null,null,null,null,null,null,null,null,null,null,null,null,null,null,null,null,null,null,null,null,null,null,null,null,null,null,null,null,null,null,null,null,null,null,null,null,null,null,null,null,null,null,null,null,null,null,null,null,null,null,null,null,null,null,null,null,null,null,null,null,null,null,null,null,null,null,null,null,null,null,null,null,null,null,null,null,null,null,null,null,null,null,null,null,null,null,null,null,null,null,null,null,null,null,null,null,null,null,null,null,null,504]
[{"$f":"[1]Teilnehmer!A2","v":1},{"$f":"VLOOKUP(A2,Teilnehmer!A2:C17,2)","v":"Düsentrieb"},1234,15,{"$f":"IFERROR(_xlfn.IFS(F2>0,1,G2>0,1,H2>0,1,I2>0,1),\"0\")","v":"0"},3,2,2,0,{"$f":"IFERROR(_xlfn.IFS(K2>0,1,L2>0,1,M2>0,1,N2>0,1),\"0\")","v":"0"},0,2,3,3,{"$f":"IFERROR(_xlfn.IFS(P2>0,1,Q2>0,1,R2>0,1,S2>0,1),\"0\")","v":"0"},1,2,0,1,null,3,null,3,1,null,null,3,null,2]
[{"$f":"[1]Teilnehmer!A3","v":2},{"$f":"VLOOKUP(A3,Teilnehmer!A3:C18,2)","v":"Freudenhof"},2345,20,"0",1,2,1,2,"0",3,2,1,2,"0",1,2,1,3,null,1,2,3,null,null,null,2,null,2]
[{"$f":"[1]Teilnehmer!A4","v":3},{"$f":"VLOOKUP(A4,Teilnehmer!A4:C19,2)","v":"Runkel"},null,null,1,2,2,1,2,1,3,1,3,3,1,2,2,1,1]
[{"$f":"[1]Teilnehmer!A5","v":4},{"$f":"VLOOKUP(A5,Teilnehmer!A5:C20,2)","v":"Bertelwick"},null,null,1,0,0,1,3,1,0,0,3,3,1,1,0,3,3]
[{"$f":"[1]Teilnehmer!A6","v":5},{"$f":"VLOOKUP(A6,Teilnehmer!A6:C21,2)","v":"Tessmer"},null,null,1,2,1,0,2,1,1,2,0,2,1,2,1,1,1]
[{"$f":"[1]Teilnehmer!A7","v":6},{"$f":"VLOOKUP(A7,Teilnehmer!A7:C22,2)","v":"Hesse"},null,null,1,0,3,2,3,1,0,0,2,3,1,2,2,3,0]
[{"$f":"[1]Teilnehmer!A8","v":7},{"$f":"VLOOKUP(A8,Teilnehmer!A8:C23,2)","v":"Dunkel"},null,null,1,2,3,3,3,1,0,3,3,3,"0"]
[{"$f":"[1]Teilnehmer!A9","v":8},{"$f":"VLOOKUP(A9,Teilnehmer!A9:C24,2)","v":"Juli"},null,null,1,0,3,3,3,1,0,0,2,3,"0"]
[{"$f":"[1]Teilnehmer!A10","v":9},{"$f":"VLOOKUP(A10,Teilnehmer!A10:C25,2)","v":"Oktober"},null,null,"0",0,2,3,null,"0",1,2,3,null,"0",1,2,3,null,null,2,3]
[{"$f":"[1]Teilnehmer!A11","v":10},{"$f":"VLOOKUP(A11,Teilnehmer!A11:C26,2)","v":"Besen"},null,null,"0",2,1,0,2,"0",1,2,0,2,"0",2,1,1,1]
[{"$f":"[1]Teilnehmer!A62","v":101},{"$f":"VLOOKUP(A12,Teilnehmer!A12:C27,2)","v":"Lustig"},null,12,{"$f":"IFERROR(_xlfn.IFS(F12>0,1,G12>0,1,H12>0,1,I12>0,1),\"0\")","v":1},0,2,3,"0",{"$f":"IFERROR(_xlfn.IFS(K12>0,1,L12>0,1,M12>0,1,N12>0,1),\"0\")","v":1},0,3,3,3,1,1,2,3,3]
[{"$f":"[1]Teilnehmer!A63","v":102},{"$f":"VLOOKUP(A13,Teilnehmer!A13:C28,2)","v":"Hausmann"},null,null,1,0,3,0,3,1,0,3,2,3,1,0,3,2,1]
[{"$f":"[1]Teilnehmer!A84","v":304},{"$f":"VLOOKUP(A14,Teilnehmer!A14:C29,2)","v":"n.V."},null,null,{"$f":"IFERROR(_xlfn.IFS(F14>0,1,G14>0,1,H14>0,1,I14>0,1),\"0\")","v":"0"},1,2,2,0,{"$f":"IFERROR(_xlfn.IFS(K14>0,1,L14>0,1,M14>0,1,N14>0,1),\"0\")","v":"0"},1,2,3,0,"0",1,2,3,0,null,0,1,2,3]
[{"$f":"[1]Teilnehmer!A100","v":704},{"$f":"VLOOKUP(A15,Teilnehmer!A15:C30,2)","v":"Oldenburg"},null,null,{"$f":"IFERROR(_xlfn.IFS(F15>0,1,G15>0,1,H15>0,1,I15>0,1),\"0\")","v":1},1,2,null,null,"0",null,null,null,null,"0"]
[{"$f":"[1]Teilnehmer!A101","v":801},{"$f":"VLOOKUP(A16,Teilnehmer!A16:C31,2)","v":"n.V."},null,null,"0",null,null,null,null,"0",null,null,null,null,"0"]
[null,null,null,""]