{"text_format":"1","workbook":"xlsx","n_sheets":3,"sheets":["Tabelle1","Tabelle2","Tabelle1 (2)"],"not_rendered":{"charts":0,"images":36,"macros":1,"external_links":0,"defined_names":1,"comments":2,"pivot_tables":0},"unopened":[],"bounds":{"document_bytes":16777216,"sheet_cells":100000,"rows_first":2000,"rows_last":500,"rows_between":2000,"halvings":0,"cell_chars":16384,"cell_head_chars":4096},"cells_cut":0,"cells_raw":0,"read":"whole","date_system":"1900"}

{"sheet":"Tabelle1","index":0,"n_rows":879,"n_cols":20,"rows_kept":879,"cut":false,"hidden":false,"merged":[]}
[null,"Nr.","Nr","Datum","Fracht","Start","LC","Flagge","Spedition","Ziel","LC","Flagge","Spedition","km","Vergütung","Gewicht Lieferung","Strafen"]
[null,1,2,"2024-06-25","Traktoren","Graz","AT",{"$f":"VLOOKUP(G2,Tabelle2!$B$3:$C$38,2,)","v":{"$error":"#VALUE!"}},"FCP","Linz","AT",{"$f":"VLOOKUP(K2,Tabelle2!$B$3:$C$38,2,)","v":{"$error":"#VALUE!"}},"RTLog",249,4663,null,0]
[null,2,3,"2024-06-25","Traktoren","Graz","AT",{"$f":"VLOOKUP(G3,Tabelle2!$B$3:$C$38,2,)","v":{"$error":"#VALUE!"}},"FCP","Klagenfurt a.W.","AT",{"$f":"VLOOKUP(K3,Tabelle2!$B$3:$C$38,2,)","v":{"$error":"#VALUE!"}},"EuroAcres",218,4667,null,0]
[null,3,6,"2024-06-25","Große Eisenrohre","Linz","AT",{"$f":"VLOOKUP(G4,Tabelle2!$B$3:$C$38,2,)","v":{"$error":"#VALUE!"}},"ITCC","Innsbruck","AT",{"$f":"VLOOKUP(K4,Tabelle2!$B$3:$C$38,2,)","v":{"$error":"#VALUE!"}},"RTLog",325,5080,null,0]
[null,4,1,"2024-06-25","Äpfel","Graz","AT",{"$f":"VLOOKUP(G5,Tabelle2!$B$3:$C$38,2,)","v":{"$error":"#VALUE!"}},"LKWLog","Graz","AT",{"$f":"VLOOKUP(K5,Tabelle2!$B$3:$C$38,2,)","v":{"$error":"#VALUE!"}},"RTLog",1,362,null,200]
[null,5,8,"2024-06-25","Motorradreifen","Graz","AT",{"$f":"VLOOKUP(G6,Tabelle2!$B$3:$C$38,2,)","v":{"$error":"#VALUE!"}},"LKWLog","Salzburg","AT",{"$f":"VLOOKUP(K6,Tabelle2!$B$3:$C$38,2,)","v":{"$error":"#VALUE!"}},"RTLog",281,5968,null,0]
[null,6,4,"2024-06-25","Traktoren","Linz","AT",{"$f":"VLOOKUP(G7,Tabelle2!$B$3:$C$38,2,)","v":{"$error":"#VALUE!"}},"PoSped","Graz","AT",{"$f":"VLOOKUP(K7,Tabelle2!$B$3:$C$38,2,)","v":{"$error":"#VALUE!"}},"RTLog",249,5304,null,0]
[null,7,5,"2024-06-25","Olivenöl","Linz","AT",{"$f":"VLOOKUP(G8,Tabelle2!$B$3:$C$38,2,)","v":{"$error":"#VALUE!"}},"PoSped","Prag","CZ",{"$f":"VLOOKUP(K8,Tabelle2!$B$3:$C$38,2,)","v":{"$error":"#VALUE!"}},"EuroGoodies",306,4325,null,400]
[null,8,7,"2024-06-25","Milchpulver","Prag","CZ",{"$f":"VLOOKUP(G9,Tabelle2!$B$3:$C$38,2,)","v":{"$error":"#VALUE!"}},"Tradeaux","Erfurt","DE",{"$f":"VLOOKUP(K9,Tabelle2!$B$3:$C$38,2,)","v":{"$error":"#VALUE!"}},"Sellplan",344,5378,null,0]
[null,9,15,"2024-06-26","Große Eisenrohre","Metz","FR",{"$f":"VLOOKUP(G10,Tabelle2!$B$3:$C$38,2,)","v":{"$error":"#VALUE!"}},"PoSped","Frankfurt","DE",{"$f":"VLOOKUP(K10,Tabelle2!$B$3:$C$38,2,)","v":{"$error":"#VALUE!"}},"WGCC",351,7947,null,400]
[null,10,11,"2024-06-26","Rohrleitungszbehör","Salzburg","AT",{"$f":"VLOOKUP(G11,Tabelle2!$B$3:$C$38,2,)","v":{"$error":"#VALUE!"}},"RTLog","Stuttgart","DE",{"$f":"VLOOKUP(K11,Tabelle2!$B$3:$C$38,2,)","v":{"$error":"#VALUE!"}},"Stokes",349,7723,null,0]
[null,11,13,"2024-06-26","Altkunststoff","Bern","CH",{"$f":"VLOOKUP(G12,Tabelle2!$B$3:$C$38,2,)","v":{"$error":"#VALUE!"}},"Sellplan","Dijon","FR",{"$f":"VLOOKUP(K12,Tabelle2!$B$3:$C$38,2,)","v":{"$error":"#VALUE!"}},"Stokes",216,3536,null,0]
[null,12,9,"2024-06-26","Stilles Mineralwasser in Flaschen","Salzburg","AT",{"$f":"VLOOKUP(G13,Tabelle2!$B$3:$C$38,2,)","v":{"$error":"#VALUE!"}},"Shuttle Cola","Brünn","CZ",{"$f":"VLOOKUP(K13,Tabelle2!$B$3:$C$38,2,)","v":{"$error":"#VALUE!"}},"LKWLog",336,7334,null,0]
[null,13,12,"2024-06-26","Milch ","Stuttgart","DE",{"$f":"VLOOKUP(G14,Tabelle2!$B$3:$C$38,2,)","v":{"$error":"#VALUE!"}},"Stokes","Bern","CH",{"$f":"VLOOKUP(K14,Tabelle2!$B$3:$C$38,2,)","v":{"$error":"#VALUE!"}},"Sellplan",336,8772,null,0]
[null,14,14,"2024-06-26","Mineralwasser","Dijon","FR",{"$f":"VLOOKUP(G15,Tabelle2!$B$3:$C$38,2,)","v":{"$error":"#VALUE!"}},"Stokes","Metz","FR",{"$f":"VLOOKUP(K15,Tabelle2!$B$3:$C$38,2,)","v":{"$error":"#VALUE!"}},"PoSped",251,5496,null,0]
[null,15,10,"2024-06-26","Gabelstapler","Brünn","CZ",{"$f":"VLOOKUP(G16,Tabelle2!$B$3:$C$38,2,)","v":{"$error":"#VALUE!"}},"Trameri","Salzburg","AT",{"$f":"VLOOKUP(K16,Tabelle2!$B$3:$C$38,2,)","v":{"$error":"#VALUE!"}},"RTLog",343,8367,null,0]
[null,16,16,"2024-06-26","Gabelstapler","Frankfurt","DE",{"$f":"VLOOKUP(G17,Tabelle2!$B$3:$C$38,2,)","v":{"$error":"#VALUE!"}},"WGCC","Luxemburg","LU",{"$f":"VLOOKUP(K17,Tabelle2!$B$3:$C$38,2,)","v":{"$error":"#VALUE!"}},"SanBuilders",330,8480,21720,800]
[null,17,19,"2024-06-27","Autos","Manchester","GB",{"$f":"VLOOKUP(G18,Tabelle2!$B$3:$C$38,2,)","v":{"$error":"#VALUE!"}},"FCP","Amsterdam","NL",{"$f":"VLOOKUP(K18,Tabelle2!$B$3:$C$38,2,)","v":{"$error":"#VALUE!"}},"LKWLog",301,8802,null,0]
[null,18,20,"2024-06-27","Rohrleitunngszubehör","Amsterdam","NL",{"$f":"VLOOKUP(G19,Tabelle2!$B$3:$C$38,2,)","v":{"$error":"#VALUE!"}},"LKWLog","Hannover","DE",{"$f":"VLOOKUP(K19,Tabelle2!$B$3:$C$38,2,)","v":{"$error":"#VALUE!"}},"Tradeaux",328,7563,null,0]
[null,19,18,"2024-06-27","Reifen","Rotterdam","NL",{"$f":"VLOOKUP(G20,Tabelle2!$B$3:$C$38,2,)","v":{"$error":"#VALUE!"}},"PoSped","Manchester","GB",{"$f":"VLOOKUP(K20,Tabelle2!$B$3:$C$38,2,)","v":{"$error":"#VALUE!"}},"FCP",227,6321,null,0]
[null,20,17,"2024-06-27","Raupenbagger","Luxemburg","LU",{"$f":"VLOOKUP(G21,Tabelle2!$B$3:$C$38,2,)","v":{"$error":"#VALUE!"}},"SanBuilders","Rotterdam","NL",{"$f":"VLOOKUP(K21,Tabelle2!$B$3:$C$38,2,)","v":{"$error":"#VALUE!"}},"PoSped",343,8763,null,0]
[null,21,22,"2024-06-28","Leere Paletten","Rostock","DE",{"$f":"VLOOKUP(G22,Tabelle2!$B$3:$C$38,2,)","v":{"$error":"#VALUE!"}},"Sellplan","Prag","CZ",{"$f":"VLOOKUP(K22,Tabelle2!$B$3:$C$38,2,)","v":{"$error":"#VALUE!"}},"Tradeaux",550,10964,null,0]
[null,22,21,"2024-06-28","Einmachgläser","Hanover","DE",{"$f":"VLOOKUP(G23,Tabelle2!$B$3:$C$38,2,)","v":{"$error":"#VALUE!"}},"Tradeaux","Rostock","DE",{"$f":"VLOOKUP(K23,Tabelle2!$B$3:$C$38,2,)","v":{"$error":"#VALUE!"}},"Sellplan",346,9085,null,400]
[null,23,23,"2024-06-28","Äpfel","Prag","CZ",{"$f":"VLOOKUP(G24,Tabelle2!$B$3:$C$38,2,)","v":{"$error":"#VALUE!"}},"Tradeaux","Salzburg","AT",{"$f":"VLOOKUP(K24,Tabelle2!$B$3:$C$38,2,)","v":{"$error":"#VALUE!"}},"RTLog",381,8967,null,0]
[null,24,25,"2024-06-30","Kautschuk","Bratislava","SK",{"$f":"VLOOKUP(G25,Tabelle2!$B$3:$C$38,2,)","v":{"$error":"#VALUE!"}},"PoSped","Linz","AT",{"$f":"VLOOKUP(K25,Tabelle2!$B$3:$C$38,2,)","v":{"$error":"#VALUE!"}},"PoSped",330,8278,21730,0]
[null,25,26,"2024-06-30","Mandeln","Linz","AT",{"$f":"VLOOKUP(G26,Tabelle2!$B$3:$C$38,2,)","v":{"$error":"#VALUE!"}},"PoSped","Klagenfurt a.W.","AT",{"$f":"VLOOKUP(K26,Tabelle2!$B$3:$C$38,2,)","v":{"$error":"#VALUE!"}},"Tradeaux",324,7068,17460,0]
[null,26,28,"2024-06-30","Klebebandrollen","Verona","IT",{"$f":"VLOOKUP(G27,Tabelle2!$B$3:$C$38,2,)","v":{"$error":"#VALUE!"}},"PoSped","Torino","IT",{"$f":"VLOOKUP(K27,Tabelle2!$B$3:$C$38,2,)","v":{"$error":"#VALUE!"}},"transinet",350,7132,18018,0]
[null,27,24,"2024-06-30","Klebebandrollen","Salzburg","AT",{"$f":"VLOOKUP(G28,Tabelle2!$B$3:$C$38,2,)","v":{"$error":"#VALUE!"}},"RTLog","Bratislava","SK",{"$f":"VLOOKUP(K28,Tabelle2!$B$3:$C$38,2,)","v":{"$error":"#VALUE!"}},"PoSped",320,5604,12492,0]
[null,28,27,"2024-06-30","Schnittblumen","Klagenfurt a.W.","AT",{"$f":"VLOOKUP(G29,Tabelle2!$B$3:$C$38,2,)","v":{"$error":"#VALUE!"}},"Tradeaux","Verona","IT",{"$f":"VLOOKUP(K29,Tabelle2!$B$3:$C$38,2,)","v":{"$error":"#VALUE!"}},"PoSped",450,11727,1759,0]
[null,29,29,"2024-06-30","Beton-Bodenplatten","Torino","IT",{"$f":"VLOOKUP(G30,Tabelle2!$B$3:$C$38,2,)","v":{"$error":"#VALUE!"}},"transinet","Zürich","CH",{"$f":"VLOOKUP(K30,Tabelle2!$B$3:$C$38,2,)","v":{"$error":"#VALUE!"}},"RTLog",511,8929,19188,0]
[null,30,4,"2024-07-01","Eiskaffee in Dosen","Mannheim","DE",{"$f":"VLOOKUP(G31,Tabelle2!$B$3:$C$38,2,)","v":{"$error":"#VALUE!"}},"EuroGoodies","Lille","FR",{"$f":"VLOOKUP(K31,Tabelle2!$B$3:$C$38,2,)","v":{"$error":"#VALUE!"}},"Tradeaux",546,12933,21259,0]
[null,31,2,"2024-07-01","Motoröl","Verona","IT",{"$f":"VLOOKUP(G32,Tabelle2!$B$3:$C$38,2,)","v":{"$error":"#VALUE!"}},"PoSped","Innsbruck","AT",{"$f":"VLOOKUP(K32,Tabelle2!$B$3:$C$38,2,)","v":{"$error":"#VALUE!"}},"RTLog",281,7255,18754,0]
[null,32,1,"2024-07-01","Geräucherter Aal","Zürich","CH",{"$f":"VLOOKUP(G33,Tabelle2!$B$3:$C$38,2,)","v":{"$error":"#VALUE!"}},"RTLog","Verona","IT",{"$f":"VLOOKUP(K33,Tabelle2!$B$3:$C$38,2,)","v":{"$error":"#VALUE!"}},"PoSped",492,12231,11481,0]
[null,33,3,"2024-07-01","Milch","Innsbruck","AT",{"$f":"VLOOKUP(G34,Tabelle2!$B$3:$C$38,2,)","v":{"$error":"#VALUE!"}},"RTLog","Mannheim","DE",{"$f":"VLOOKUP(K34,Tabelle2!$B$3:$C$38,2,)","v":{"$error":"#VALUE!"}},"EuroGoodies",548,13474,20500,0]
[null,34,5,"2024-07-02","Radlader","Graz","AT",{"$f":"VLOOKUP(G35,Tabelle2!$B$3:$C$38,2,)","v":{"$error":"#VALUE!"}},"FCP","Nürnberg","DE",{"$f":"VLOOKUP(K35,Tabelle2!$B$3:$C$38,2,)","v":{"$error":"#VALUE!"}},"SanBuilders",515,14881,null,520]
[null,35,8,"2024-07-03","Kokosnussöl","Reims","FR",{"$f":"VLOOKUP(G36,Tabelle2!$B$3:$C$38,2,)","v":{"$error":"#VALUE!"}},"EuroGoodies","Calais","FR",{"$f":"VLOOKUP(K36,Tabelle2!$B$3:$C$38,2,)","v":{"$error":"#VALUE!"}},"Stokes",269,6705,23631,0]
[null,36,7,"2024-07-03","Fischstäbchen","Dortmund","DE",{"$f":"VLOOKUP(G37,Tabelle2!$B$3:$C$38,2,)","v":{"$error":"#VALUE!"}},"LKWLog","Reims","FR",{"$f":"VLOOKUP(K37,Tabelle2!$B$3:$C$38,2,)","v":{"$error":"#VALUE!"}},"Eurogoodies",485,12051,17160,0]
[null,37,10,"2024-07-03","Industrieruß","Birmingham","GB",{"$f":"VLOOKUP(G38,Tabelle2!$B$3:$C$38,2,)","v":{"$error":"#VALUE!"}},"PoSped","Manchester","GB",{"$f":"VLOOKUP(K38,Tabelle2!$B$3:$C$38,2,)","v":{"$error":"#VALUE!"}},"LKWLog",201,2480,3783,0]
[null,38,6,"2024-07-03","Leere Paletten","Nürnberg","DE",{"$f":"VLOOKUP(G39,Tabelle2!$B$3:$C$38,2,)","v":{"$error":"#VALUE!"}},"SanBuilders","Dortmund","DE",{"$f":"VLOOKUP(K39,Tabelle2!$B$3:$C$38,2,)","v":{"$error":"#VALUE!"}},"LKWLog",479,7305,15385,0]
[null,39,9,"2024-07-03","Eisenrohre","Calais","FR",{"$f":"VLOOKUP(G40,Tabelle2!$B$3:$C$38,2,)","v":{"$error":"#VALUE!"}},"Stokes","Birmingham","BG",{"$f":"VLOOKUP(K40,Tabelle2!$B$3:$C$38,2,)","v":{"$error":"#VALUE!"}},"PoSped",342,7760,18760,0]
[null,40,11,"2024-07-04","Autos","Manchester","GB",{"$f":"VLOOKUP(G41,Tabelle2!$B$3:$C$38,2,)","v":{"$error":"#VALUE!"}},"FCP","Rotterdam","NL",{"$f":"VLOOKUP(K41,Tabelle2!$B$3:$C$38,2,)","v":{"$error":"#VALUE!"}},"transinet",225,8178,7350,400]
[null,41,14,"2024-07-04","LPG","Hamburg","DE",{"$f":"VLOOKUP(G42,Tabelle2!$B$3:$C$38,2,)","v":{"$error":"#VALUE!"}},"NSOil","Leipzig","DE",{"$f":"VLOOKUP(K42,Tabelle2!$B$3:$C$38,2,)","v":{"$error":"#VALUE!"}},"Tree-Et",449,15322,22000,360]
[null,42,12,"2024-07-04","Flour","Rotterdam","NL",{"$f":"VLOOKUP(G43,Tabelle2!$B$3:$C$38,2,)","v":{"$error":"#VALUE!"}},"WGCC","Frankfurt","DE",{"$f":"VLOOKUP(K43,Tabelle2!$B$3:$C$38,2,)","v":{"$error":"#VALUE!"}},"WGCC",463,15654,14790,0]
[null,43,13,"2024-07-04","Kraftstofftank","Frankfurt","DE",{"$f":"VLOOKUP(G44,Tabelle2!$B$3:$C$38,2,)","v":{"$error":"#VALUE!"}},"WGCC","Hamburg","DE",{"$f":"VLOOKUP(K44,Tabelle2!$B$3:$C$38,2,)","v":{"$error":"#VALUE!"}},"AI Automotive",518,14215,9600,0]
[null,44,16,"2024-07-05","Milch","Bremen","DE",{"$f":"VLOOKUP(G45,Tabelle2!$B$3:$C$38,2,)","v":{"$error":"#VALUE!"}},"EuroAcres","Groningen","NL",{"$f":"VLOOKUP(K45,Tabelle2!$B$3:$C$38,2,)","v":{"$error":"#VALUE!"}},"Sellplan",193,6080,25075,3200]
[null,45,17,"2024-07-05","Milch","Groningen","NL",{"$f":"VLOOKUP(G46,Tabelle2!$B$3:$C$38,2,)","v":{"$error":"#VALUE!"}},"EuroAcres","Dresden","DE",{"$f":"VLOOKUP(K46,Tabelle2!$B$3:$C$38,2,)","v":{"$error":"#VALUE!"}},"transinet",765,25271,25075,3940]
[null,46,15,"2024-07-05","Saftkonzentrat","Leipzig","DE",{"$f":"VLOOKUP(G47,Tabelle2!$B$3:$C$38,2,)","v":{"$error":"#VALUE!"}},"EuroGoodies","Bremen","DE",{"$f":"VLOOKUP(K47,Tabelle2!$B$3:$C$38,2,)","v":{"$error":"#VALUE!"}},"EuroAcres",511,10053,24820,0]
[null,47,19,"2024-07-05","Große Eisenrohre","Lüttich","BE",{"$f":"VLOOKUP(G48,Tabelle2!$B$3:$C$38,2,)","v":{"$error":"#VALUE!"}},"ITCC","Swansea","GB",{"$f":"VLOOKUP(K48,Tabelle2!$B$3:$C$38,2,)","v":{"$error":"#VALUE!"}},"PoSped",781,20181,22840,400]
[null,48,18,"2024-07-05","Altkunststoff","Dresden","DE",{"$f":"VLOOKUP(G49,Tabelle2!$B$3:$C$38,2,)","v":{"$error":"#VALUE!"}},"Trameri","Lüttich","BE",{"$f":"VLOOKUP(K49,Tabelle2!$B$3:$C$38,2,)","v":{"$error":"#VALUE!"}},"Stokes",714,13172,9762,0]
[null,49,20,"2024-07-06","Medizinische Ausrüstung","Graz","AT",{"$f":"VLOOKUP(G50,Tabelle2!$B$3:$C$38,2,)","v":{"$error":"#VALUE!"}},"LKWLog","Wien","AT",{"$f":"VLOOKUP(K50,Tabelle2!$B$3:$C$38,2,)","v":{"$error":"#VALUE!"}},"Stokes",234,5430,5214,0]
[null,50,22,"2024-07-06","Raupenbagger","Graz","AT",{"$f":"VLOOKUP(G51,Tabelle2!$B$3:$C$38,2,)","v":{"$error":"#VALUE!"}},"Steinbruch","Graz","AT",{"$f":"VLOOKUP(K51,Tabelle2!$B$3:$C$38,2,)","v":{"$error":"#VALUE!"}},"Steinbruch",55,101603,21720,360]
[null,51,23,"2024-07-06","Steine","Graz","AT",{"$f":"VLOOKUP(G52,Tabelle2!$B$3:$C$38,2,)","v":{"$error":"#VALUE!"}},"Steinbruch","Graz","AT",{"$f":"VLOOKUP(K52,Tabelle2!$B$3:$C$38,2,)","v":{"$error":"#VALUE!"}},"FCP",45,34998,23100,0]
[null,52,21,"2024-07-06","Abgassysteme","Wien","AT",{"$f":"VLOOKUP(G53,Tabelle2!$B$3:$C$38,2,)","v":{"$error":"#VALUE!"}},"Stokes","Graz","AT",{"$f":"VLOOKUP(K53,Tabelle2!$B$3:$C$38,2,)","v":{"$error":"#VALUE!"}},"Steinbruch",190,2664,3753,0]
[null,53,24,"2024-07-07","Bagger","Graz","AT",{"$f":"VLOOKUP(G54,Tabelle2!$B$3:$C$38,2,)","v":{"$error":"#VALUE!"}},"FCP","Graz","AT",{"$f":"VLOOKUP(K54,Tabelle2!$B$3:$C$38,2,)","v":{"$error":"#VALUE!"}},"Tree-Et",212,102806,23780,0]
[null,54,27,"2024-07-07","Autos","Graz","AT",{"$f":"VLOOKUP(G55,Tabelle2!$B$3:$C$38,2,)","v":{"$error":"#VALUE!"}},"RTLog","Frankfurt","DE",{"$f":"VLOOKUP(K55,Tabelle2!$B$3:$C$38,2,)","v":{"$error":"#VALUE!"}},"WGCC",692,26100,10400,0]
[null,55,29,"2024-07-07","Getränke","Genf","CH",{"$f":"VLOOKUP(G56,Tabelle2!$B$3:$C$38,2,)","v":{"$error":"#VALUE!"}},"RTLog","Strassburg","FR",{"$f":"VLOOKUP(K56,Tabelle2!$B$3:$C$38,2,)","v":{"$error":"#VALUE!"}},"Kaarfor",452,12931,25000,0]
[null,56,26,"2024-07-07","Bagger","Graz","AT",{"$f":"VLOOKUP(G57,Tabelle2!$B$3:$C$38,2,)","v":{"$error":"#VALUE!"}},"Steinbruch","Graz","AT",{"$f":"VLOOKUP(K57,Tabelle2!$B$3:$C$38,2,)","v":{"$error":"#VALUE!"}},"EuroAcres",176,102806,23780,0]
[null,57,25,"2024-07-07","Fertighauswände","Graz","AT",{"$f":"VLOOKUP(G58,Tabelle2!$B$3:$C$38,2,)","v":{"$error":"#VALUE!"}},"Tree-Et","Graz","AT",{"$f":"VLOOKUP(K58,Tabelle2!$B$3:$C$38,2,)","v":{"$error":"#VALUE!"}},"FCP",153,78308,20999,0]
[null,58,28,"2024-07-07","Neon","Frankfurt","DE",{"$f":"VLOOKUP(G59,Tabelle2!$B$3:$C$38,2,)","v":{"$error":"#VALUE!"}},"WGCC","Genf","CH",{"$f":"VLOOKUP(K59,Tabelle2!$B$3:$C$38,2,)","v":{"$error":"#VALUE!"}},"Kathode",645,19621,9600,0]
[null,59,32,"2024-07-08","Traktoren","Wien","AT",{"$f":"VLOOKUP(G60,Tabelle2!$B$3:$C$38,2,)","v":{"$error":"#VALUE!"}},"EuroGoodies","Klagenfurt a.W.","AT",{"$f":"VLOOKUP(K60,Tabelle2!$B$3:$C$38,2,)","v":{"$error":"#VALUE!"}},"EuroAcres",336,5495,5695,880]
[null,60,33,"2024-07-08","Bagger","Graz","AT",{"$f":"VLOOKUP(G61,Tabelle2!$B$3:$C$38,2,)","v":{"$error":"#VALUE!"}},"FCP","Livorno","IT",{"$f":"VLOOKUP(K61,Tabelle2!$B$3:$C$38,2,)","v":{"$error":"#VALUE!"}},"SALSRL",779,24889,23780,0]
[null,61,30,"2024-07-08","Raupenbagger","Strassburg","FR",{"$f":"VLOOKUP(G62,Tabelle2!$B$3:$C$38,2,)","v":{"$error":"#VALUE!"}},"Kaarfor","Travemünde","DE",{"$f":"VLOOKUP(K62,Tabelle2!$B$3:$C$38,2,)","v":{"$error":"#VALUE!"}},"Marina",760,25659,21720,0]
[null,62,31,"2024-07-08","Atlantisches Kabeljaufilet","Travemünde","DE",{"$f":"VLOOKUP(G63,Tabelle2!$B$3:$C$38,2,)","v":{"$error":"#VALUE!"}},"Marina","Wien","AT",{"$f":"VLOOKUP(K63,Tabelle2!$B$3:$C$38,2,)","v":{"$error":"#VALUE!"}},"EuroGoodies",1132,26147,16450,0]
[null,63,35,"2024-07-09","Glasscheiben","Sarajevo","BIH",{"$f":"VLOOKUP(G64,Tabelle2!$B$3:$C$38,2,)","v":{"$error":"#VALUE!"}},"Belkan Loco","Göteborg","SE",{"$f":"VLOOKUP(K64,Tabelle2!$B$3:$C$38,2,)","v":{"$error":"#VALUE!"}},"AgroNord",2144,600,null,800]
[null,64,34,"2024-07-09","Computerprozessoren","Livorno","IT",{"$f":"VLOOKUP(G65,Tabelle2!$B$3:$C$38,2,)","v":{"$error":"#VALUE!"}},"SALSRL","Sarajevo","BIH",{"$f":"VLOOKUP(K65,Tabelle2!$B$3:$C$38,2,)","v":{"$error":"#VALUE!"}},"Balkan Loco",1383,44610,3854,0]
[null,65,36,"2024-07-09","Zugmaschinen-Volvo","Göteborg","SE",{"$f":"VLOOKUP(G66,Tabelle2!$B$3:$C$38,2,)","v":{"$error":"#VALUE!"}},"VOLVO","Göteborg","SE",{"$f":"VLOOKUP(K66,Tabelle2!$B$3:$C$38,2,)","v":{"$error":"#VALUE!"}},"VPC",14,142445,14680,0]
[null,66,38,"2024-07-10","Sand","Graz","AT",{"$f":"VLOOKUP(G67,Tabelle2!$B$3:$C$38,2,)","v":{"$error":"#VALUE!"}},"Steinbruch","Istanbul","TR",{"$f":"VLOOKUP(K67,Tabelle2!$B$3:$C$38,2,)","v":{"$error":"#VALUE!"}},"Baltrak Lojistik",1659,53523,47586,0]
[null,67,37,"2024-07-10","Zugmaschinen-Volvo","Göteborg","SE",{"$f":"VLOOKUP(G68,Tabelle2!$B$3:$C$38,2,)","v":{"$error":"#VALUE!"}},"VOLVO","Graz","AT",{"$f":"VLOOKUP(K68,Tabelle2!$B$3:$C$38,2,)","v":{"$error":"#VALUE!"}},"FCP",1826,60230,14680,800]
[null,68,39,"2024-07-12","Limonade","Istanbul","TR",{"$f":"VLOOKUP(G69,Tabelle2!$B$3:$C$38,2,)","v":{"$error":"#VALUE!"}},"Baltrak Lojistic","Villa San Giovanni","IT",{"$f":"VLOOKUP(K69,Tabelle2!$B$3:$C$38,2,)","v":{"$error":"#VALUE!"}},"Eolo Lines",1581,49679,23998,300]
[null,69,40,"2024-07-12","Wassermelonen","Villa San Giovanni","IT",{"$f":"VLOOKUP(G70,Tabelle2!$B$3:$C$38,2,)","v":{"$error":"#VALUE!"}},"Eolo Lines","Uppsala","SE",{"$f":"VLOOKUP(K70,Tabelle2!$B$3:$C$38,2,)","v":{"$error":"#VALUE!"}},"Dekkar Trans",2965,81534,20170,0]
[null,70,42,"2024-07-13","Gabelstapler","Helsingborg","SE",{"$f":"VLOOKUP(G71,Tabelle2!$B$3:$C$38,2,)","v":{"$error":"#VALUE!"}},"BHV","Graz","AT",{"$f":"VLOOKUP(K71,Tabelle2!$B$3:$C$38,2,)","v":{"$error":"#VALUE!"}},"Steinbruch",1307,47695,11230,400]
[null,71,41,"2024-07-13","Gerüstmaterial","Uppsala","SE",{"$f":"VLOOKUP(G72,Tabelle2!$B$3:$C$38,2,)","v":{"$error":"#VALUE!"}},"Drekkar Trans","Helsingborg","SE",{"$f":"VLOOKUP(K72,Tabelle2!$B$3:$C$38,2,)","v":{"$error":"#VALUE!"}},"BHV",594,16201,22126,0]
[null,72,43,"2024-07-13","Bremsflüssigkeit","Graz","AT",{"$f":"VLOOKUP(G73,Tabelle2!$B$3:$C$38,2,)","v":{"$error":"#VALUE!"}},"FCP","Göteborg","SE",{"$f":"VLOOKUP(K73,Tabelle2!$B$3:$C$38,2,)","v":{"$error":"#VALUE!"}},"VOLVO",1403,34138,5316,0]
[null,73,44,"2024-07-13","Zugmaschinen-Volvo","Göteborg","SE",{"$f":"VLOOKUP(G74,Tabelle2!$B$3:$C$38,2,)","v":{"$error":"#VALUE!"}},"VOLVO","Göteborg","SE",{"$f":"VLOOKUP(K74,Tabelle2!$B$3:$C$38,2,)","v":{"$error":"#VALUE!"}},"VPC",15,158388,14680,0]
[null,74,48,"2024-07-14","Baumstämme","St.Petersburg","RU",{"$f":"VLOOKUP(G75,Tabelle2!$B$3:$C$38,2,)","v":{"$error":"#VALUE!"}},"Baltomorsk","Helsinki","FI",{"$f":"VLOOKUP(K75,Tabelle2!$B$3:$C$38,2,)","v":{"$error":"#VALUE!"}},"AeroBaltika",554,15298,22740,780]
[null,75,46,"2024-07-14","Scania - Zugmaschinen","Algeciras","ES",{"$f":"VLOOKUP(G76,Tabelle2!$B$3:$C$38,2,)","v":{"$error":"#VALUE!"}},"CESTA S.L","Graz","AT",{"$f":"VLOOKUP(K76,Tabelle2!$B$3:$C$38,2,)","v":{"$error":"#VALUE!"}},"Tree-Et",3026,137238,14590,0]
[null,76,47,"2024-07-14","Autos","Graz","AT",{"$f":"VLOOKUP(G77,Tabelle2!$B$3:$C$38,2,)","v":{"$error":"#VALUE!"}},"FCP","St.Petersburg","RU",{"$f":"VLOOKUP(K77,Tabelle2!$B$3:$C$38,2,)","v":{"$error":"#VALUE!"}},"Baltomorsk",1995,83894,9010,0]
[null,77,45,"2024-07-14","Zugmaschinen-Volvo","Göteborg","SE",{"$f":"VLOOKUP(G78,Tabelle2!$B$3:$C$38,2,)","v":{"$error":"#VALUE!"}},"VPC","Algeciras","ES",{"$f":"VLOOKUP(K78,Tabelle2!$B$3:$C$38,2,)","v":{"$error":"#VALUE!"}},"CESTA S.L",3402,169514,14680,400]
[null,78,49,"2024-07-15","Dieselgeneratoren","Helsinki","FI",{"$f":"VLOOKUP(G79,Tabelle2!$B$3:$C$38,2,)","v":{"$error":"#VALUE!"}},"AeroBaltika","Oslo","NO",{"$f":"VLOOKUP(K79,Tabelle2!$B$3:$C$38,2,)","v":{"$error":"#VALUE!"}},"ContainerPort",856,44738,21516,0]
[null,79,51,"2024-07-17","Hochspannungsleitungen","Köln","DE",{"$f":"VLOOKUP(G80,Tabelle2!$B$3:$C$38,2,)","v":{"$error":"#VALUE!"}},"ITCC","Aberdeen","GB",{"$f":"VLOOKUP(K80,Tabelle2!$B$3:$C$38,2,)","v":{"$error":"#VALUE!"}},"NBFC",1467,52535,21480,0]
[null,80,50,"2024-07-17","Zugmaschinen-Volvo","Oslo","NO",{"$f":"VLOOKUP(G81,Tabelle2!$B$3:$C$38,2,)","v":{"$error":"#VALUE!"}},"RenarLogistik","Köln","DE",{"$f":"VLOOKUP(K81,Tabelle2!$B$3:$C$38,2,)","v":{"$error":"#VALUE!"}},"ITCC",1509,67410,14680,0]
[null,81,54,"2024-07-19","Zugmaschinen-Volvo","Berlin","DE",{"$f":"VLOOKUP(G82,Tabelle2!$B$3:$C$38,2,)","v":{"$error":"#VALUE!"}},"NBFC","Linz","AT",{"$f":"VLOOKUP(K82,Tabelle2!$B$3:$C$38,2,)","v":{"$error":"#VALUE!"}},"ITCC",616,33861,14680,0]
[null,82,52,"2024-07-19","Chlor","Aberdeen","GB",{"$f":"VLOOKUP(G83,Tabelle2!$B$3:$C$38,2,)","v":{"$error":"#VALUE!"}},"NSChemicals","Malmö","SE",{"$f":"VLOOKUP(K83,Tabelle2!$B$3:$C$38,2,)","v":{"$error":"#VALUE!"}},"NBFC",1009,39011,18270,400]
[null,83,53,"2024-07-19","Wasserfreies Amoniak","Malmö","SE",{"$f":"VLOOKUP(G84,Tabelle2!$B$3:$C$38,2,)","v":{"$error":"#VALUE!"}},"NSChemicals","Berlin","DE",{"$f":"VLOOKUP(K84,Tabelle2!$B$3:$C$38,2,)","v":{"$error":"#VALUE!"}},"NBFC",434,16891,18980,0]
[null,84,56,"2024-07-21","Kleintransporter","Le Mans","FR",{"$f":"VLOOKUP(G85,Tabelle2!$B$3:$C$38,2,)","v":{"$error":"#VALUE!"}},"BHV","Rennes","FR",{"$f":"VLOOKUP(K85,Tabelle2!$B$3:$C$38,2,)","v":{"$error":"#VALUE!"}},"Globeur",155,5965,840,400]
[null,85,58,"2024-07-21","Wäschetrockner","Bukarest","RO",{"$f":"VLOOKUP(G86,Tabelle2!$B$3:$C$38,2,)","v":{"$error":"#VALUE!"}},"Brawen","Graz","AT",{"$f":"VLOOKUP(K86,Tabelle2!$B$3:$C$38,2,)","v":{"$error":"#VALUE!"}},"RTLog",1155,43440,13256,360]
[null,86,57,"2024-07-21","Drehgestell","Rennes","FR",{"$f":"VLOOKUP(G87,Tabelle2!$B$3:$C$38,2,)","v":{"$error":"#VALUE!"}},"Globeur","Bukarest","RO",{"$f":"VLOOKUP(K87,Tabelle2!$B$3:$C$38,2,)","v":{"$error":"#VALUE!"}},"Brawen",2750,123114,20740,0]
[null,87,55,"2024-07-21","Dünger","Linz","AT",{"$f":"VLOOKUP(G88,Tabelle2!$B$3:$C$38,2,)","v":{"$error":"#VALUE!"}},"RTLog","Le Mans","FR",{"$f":"VLOOKUP(K88,Tabelle2!$B$3:$C$38,2,)","v":{"$error":"#VALUE!"}},"WilnetTransport",2036,41151,20282,0]
[null,88,60,"2024-07-22","Diesel ","Graz","AT",{"$f":"VLOOKUP(G89,Tabelle2!$B$3:$C$38,2,)","v":{"$error":"#VALUE!"}},"FCP","Stuttgart","DE",{"$f":"VLOOKUP(K89,Tabelle2!$B$3:$C$38,2,)","v":{"$error":"#VALUE!"}},"BCP",624,31553,23800,0]
[null,89,59,"2024-07-22","Drehgestell","Graz","AT",{"$f":"VLOOKUP(G90,Tabelle2!$B$3:$C$38,2,)","v":{"$error":"#VALUE!"}},"Steinbruch","Luxemburg","LU",{"$f":"VLOOKUP(K90,Tabelle2!$B$3:$C$38,2,)","v":{"$error":"#VALUE!"}},"ITCC",999,45346,20740,0]
[null,90,63,"2024-07-23","Aluminiumbarren","Wien","AT",{"$f":"VLOOKUP(G91,Tabelle2!$B$3:$C$38,2,)","v":{"$error":"#VALUE!"}},"CNP","Linz","AT",{"$f":"VLOOKUP(K91,Tabelle2!$B$3:$C$38,2,)","v":{"$error":"#VALUE!"}},"DomDepo",173,7771,24157,800]
[null,91,64,"2024-07-23","Acetylen","Linz","AT",{"$f":"VLOOKUP(G92,Tabelle2!$B$3:$C$38,2,)","v":{"$error":"#VALUE!"}},"DomDepo","Salzburg","AT",{"$f":"VLOOKUP(K92,Tabelle2!$B$3:$C$38,2,)","v":{"$error":"#VALUE!"}},"Steinbruch",409,3890,4800,0]
[null,92,67,"2024-07-23","Äpfel","Klagenfurt a.W.","AT",{"$f":"VLOOKUP(G93,Tabelle2!$B$3:$C$38,2,)","v":{"$error":"#VALUE!"}},"Euroacres","Graz","AT",{"$f":"VLOOKUP(K93,Tabelle2!$B$3:$C$38,2,)","v":{"$error":"#VALUE!"}},"EuroAcres",369,7694,18336,8600]
[null,93,66,"2024-07-23","Atlantisches Kabeljaufilet","Innsbruck","AT",{"$f":"VLOOKUP(G94,Tabelle2!$B$3:$C$38,2,)","v":{"$error":"#VALUE!"}},"EuroGoodies","Klagenfurt a.W.","AT",{"$f":"VLOOKUP(K94,Tabelle2!$B$3:$C$38,2,)","v":{"$error":"#VALUE!"}},"EuroAcres",341,14984,16450,0]
[null,94,62,"2024-07-23","Bagger","Graz","AT",{"$f":"VLOOKUP(G95,Tabelle2!$B$3:$C$38,2,)","v":{"$error":"#VALUE!"}},"FCP","Wien","AT",{"$f":"VLOOKUP(K95,Tabelle2!$B$3:$C$38,2,)","v":{"$error":"#VALUE!"}},"CNP",179,7948,23780,760]
[null,95,65,"2024-07-23","Dieselgeneratoren","Salzburg","AT",{"$f":"VLOOKUP(G96,Tabelle2!$B$3:$C$38,2,)","v":{"$error":"#VALUE!"}},"Steinbruch","Innsbruck","AT",{"$f":"VLOOKUP(K96,Tabelle2!$B$3:$C$38,2,)","v":{"$error":"#VALUE!"}},"EuroGoodies",163,11166,21516,0]
[null,96,68,"2024-07-23","Granitblöcke","Graz","AT",{"$f":"VLOOKUP(G97,Tabelle2!$B$3:$C$38,2,)","v":{"$error":"#VALUE!"}},"Steinbruch","Wien","AT",{"$f":"VLOOKUP(K97,Tabelle2!$B$3:$C$38,2,)","v":{"$error":"#VALUE!"}},"EuroAcres",289,2739,23000,0]
[null,97,61,"2024-07-23","Zugmaschinen-Volvo","Stuttgart","DE",{"$f":"VLOOKUP(G98,Tabelle2!$B$3:$C$38,2,)","v":{"$error":"#VALUE!"}},"Stokes","Graz","AT",{"$f":"VLOOKUP(K98,Tabelle2!$B$3:$C$38,2,)","v":{"$error":"#VALUE!"}},"FCP",741,33500,14680,0]
[null,98,69,"2024-07-24","Computerprozessoren","Wien","AT",{"$f":"VLOOKUP(G99,Tabelle2!$B$3:$C$38,2,)","v":{"$error":"#VALUE!"}},"EuroAcres","Linz","AT",{"$f":"VLOOKUP(K99,Tabelle2!$B$3:$C$38,2,)","v":{"$error":"#VALUE!"}},"ITCC",255,11323,3854,800]
[null,99,74,"2024-07-24","Fertigtreppen (Beton","Graz","AT",{"$f":"VLOOKUP(G100,Tabelle2!$B$3:$C$38,2,)","v":{"$error":"#VALUE!"}},"FCP","Wien","AT",{"$f":"VLOOKUP(K100,Tabelle2!$B$3:$C$38,2,)","v":{"$error":"#VALUE!"}},"NSOil",162,6162,21565,1600]
[null,100,70,"2024-07-24","Dynamit","Linz","AT",{"$f":"VLOOKUP(G101,Tabelle2!$B$3:$C$38,2,)","v":{"$error":"#VALUE!"}},"ITCC","Salzburg","AT",{"$f":"VLOOKUP(K101,Tabelle2!$B$3:$C$38,2,)","v":{"$error":"#VALUE!"}},"Renat",105,8219,17160,400]
[null,101,76,"2024-07-24","Grosse Eisenrohre","Linz","AT",{"$f":"VLOOKUP(G102,Tabelle2!$B$3:$C$38,2,)","v":{"$error":"#VALUE!"}},"ITCC","Salzburg","AT",{"$f":"VLOOKUP(K102,Tabelle2!$B$3:$C$38,2,)","v":{"$error":"#VALUE!"}},"SanBuilders",241,5727,22840,0]
[null,102,73,"2024-07-24","Feuerwerk","Klagenfurt a.W.","AT",{"$f":"VLOOKUP(G103,Tabelle2!$B$3:$C$38,2,)","v":{"$error":"#VALUE!"}},"Kathode","Graz","AT",{"$f":"VLOOKUP(K103,Tabelle2!$B$3:$C$38,2,)","v":{"$error":"#VALUE!"}},"FCP",127,8866,9900,200]
[null,103,75,"2024-07-24","Benzin","Wien","AT",{"$f":"VLOOKUP(G104,Tabelle2!$B$3:$C$38,2,)","v":{"$error":"#VALUE!"}},"NSOil","Linz","AT",{"$f":"VLOOKUP(K104,Tabelle2!$B$3:$C$38,2,)","v":{"$error":"#VALUE!"}},"ITCC",212,12679,21750,0]
[null,104,71,"2024-07-24","Chemisches Sorptionsmittel","Salzburg","AT",{"$f":"VLOOKUP(G105,Tabelle2!$B$3:$C$38,2,)","v":{"$error":"#VALUE!"}},"Renat","Innsbruck","AT",{"$f":"VLOOKUP(K105,Tabelle2!$B$3:$C$38,2,)","v":{"$error":"#VALUE!"}},"RTLog",253,5890,8752,0]
[null,105,72,"2024-07-24","Autos","Innsbruck","AT",{"$f":"VLOOKUP(G106,Tabelle2!$B$3:$C$38,2,)","v":{"$error":"#VALUE!"}},"RTLog","Klagenfurt a.W.","AT",{"$f":"VLOOKUP(K106,Tabelle2!$B$3:$C$38,2,)","v":{"$error":"#VALUE!"}},"Kathode",447,19878,7000,0]
[null,106,77,"2024-07-24","Bagger","Salzburg","AT",{"$f":"VLOOKUP(G107,Tabelle2!$B$3:$C$38,2,)","v":{"$error":"#VALUE!"}},"SanBuilders","Innsbruck","AT",{"$f":"VLOOKUP(K107,Tabelle2!$B$3:$C$38,2,)","v":{"$error":"#VALUE!"}},"Trameri",296,9683,23780,0]
[null,107,78,"2024-07-24","Heiße Chemikalien","Innsbruck","AT",{"$f":"VLOOKUP(G108,Tabelle2!$B$3:$C$38,2,)","v":{"$error":"#VALUE!"}},"Trameri","Klagenfurt a.W.","AT",{"$f":"VLOOKUP(K108,Tabelle2!$B$3:$C$38,2,)","v":{"$error":"#VALUE!"}},"Sellplan",465,23139,19800,460]
[null,108,85,"2024-07-26","Luxus-SUV´s","Graz","AT",{"$f":"VLOOKUP(G109,Tabelle2!$B$3:$C$38,2,)","v":{"$error":"#VALUE!"}},"LKWLog","Wien","AT",{"$f":"VLOOKUP(K109,Tabelle2!$B$3:$C$38,2,)","v":{"$error":"#VALUE!"}},"Stokes",150,9819,11100,0]
[null,109,82,"2024-07-26","Kaminsysteme","Linz","AT",{"$f":"VLOOKUP(G110,Tabelle2!$B$3:$C$38,2,)","v":{"$error":"#VALUE!"}},"PoSped","Salzburg","AT",{"$f":"VLOOKUP(K110,Tabelle2!$B$3:$C$38,2,)","v":{"$error":"#VALUE!"}},"SanBuilders",212,6015,18450,0]
[null,110,83,"2024-07-26","Quecksilberchlorid","Salzburg","AT",{"$f":"VLOOKUP(G111,Tabelle2!$B$3:$C$38,2,)","v":{"$error":"#VALUE!"}},"SanBuilders","Klagenfurt a.W.","AT",{"$f":"VLOOKUP(K111,Tabelle2!$B$3:$C$38,2,)","v":{"$error":"#VALUE!"}},"Tradeaux",333,11852,15660,0]
[null,111,79,"2024-07-26","Erz","Klagenfurt a.W.","AT",{"$f":"VLOOKUP(G112,Tabelle2!$B$3:$C$38,2,)","v":{"$error":"#VALUE!"}},"Sellplan","Graz","AT",{"$f":"VLOOKUP(K112,Tabelle2!$B$3:$C$38,2,)","v":{"$error":"#VALUE!"}},"Steinbruch",61,2738,22200,0]
[null,112,81,"2024-07-26","Kaliumhydroxid","Wien","AT",{"$f":"VLOOKUP(G113,Tabelle2!$B$3:$C$38,2,)","v":{"$error":"#VALUE!"}},"Sellplan","Linz","AT",{"$f":"VLOOKUP(K113,Tabelle2!$B$3:$C$38,2,)","v":{"$error":"#VALUE!"}},"PoSped",226,10991,19800,400]
[null,113,80,"2024-07-26","Mamorplatte","Graz","AT",{"$f":"VLOOKUP(G114,Tabelle2!$B$3:$C$38,2,)","v":{"$error":"#VALUE!"}},"Steinbruch","Wien","AT",{"$f":"VLOOKUP(K114,Tabelle2!$B$3:$C$38,2,)","v":{"$error":"#VALUE!"}},"Sellplan",160,5754,23500,0]
[null,114,84,"2024-07-26","Getränke","Klagenfurt a.W.","AT",{"$f":"VLOOKUP(G115,Tabelle2!$B$3:$C$38,2,)","v":{"$error":"#VALUE!"}},"Tradeaux","Graz","AT",{"$f":"VLOOKUP(K115,Tabelle2!$B$3:$C$38,2,)","v":{"$error":"#VALUE!"}},"LKWLog",110,4480,23526,0]
[null,115,91,"2024-07-27","Hochdruck-Schieberventile","Innsbruck","AT",{"$f":"VLOOKUP(G116,Tabelle2!$B$3:$C$38,2,)","v":{"$error":"#VALUE!"}},"EuroGoodies","Klagenfurt a.W.","AT",{"$f":"VLOOKUP(K116,Tabelle2!$B$3:$C$38,2,)","v":{"$error":"#VALUE!"}},"Trameri",646,15050,19077,0]
[null,116,90,"2024-07-27","Alkoholfreies Bier","Zürich","CH",{"$f":"VLOOKUP(G117,Tabelle2!$B$3:$C$38,2,)","v":{"$error":"#VALUE!"}},"Kathode","Innsbruck","AT",{"$f":"VLOOKUP(K117,Tabelle2!$B$3:$C$38,2,)","v":{"$error":"#VALUE!"}},"EuroGoodies",310,11136,22156,400]
[null,117,87,"2024-07-27","Computerprozessoren","Linz","AT",{"$f":"VLOOKUP(G118,Tabelle2!$B$3:$C$38,2,)","v":{"$error":"#VALUE!"}},"PoSped","Salzburg","AT",{"$f":"VLOOKUP(K118,Tabelle2!$B$3:$C$38,2,)","v":{"$error":"#VALUE!"}},"Shuttle Cola",171,8864,3854,0]
[null,118,88,"2024-07-27","Bagger","Salzburg","AT",{"$f":"VLOOKUP(G119,Tabelle2!$B$3:$C$38,2,)","v":{"$error":"#VALUE!"}},"Shuttle Cola","Innsbruck","AT",{"$f":"VLOOKUP(K119,Tabelle2!$B$3:$C$38,2,)","v":{"$error":"#VALUE!"}},"Steinbruch",226,10007,23780,0]
[null,119,89,"2024-07-27","Beton-Bodenplatten","Innsbruck","AT",{"$f":"VLOOKUP(G120,Tabelle2!$B$3:$C$38,2,)","v":{"$error":"#VALUE!"}},"Steinbruch","Zürich","AT",{"$f":"VLOOKUP(K120,Tabelle2!$B$3:$C$38,2,)","v":{"$error":"#VALUE!"}},"Stokes",353,9260,19188,0]
[null,120,86,"2024-07-27","Jacht - Queen V39","Wien","AT",{"$f":"VLOOKUP(G121,Tabelle2!$B$3:$C$38,2,)","v":{"$error":"#VALUE!"}},"Stokes","Linz","AT",{"$f":"VLOOKUP(K121,Tabelle2!$B$3:$C$38,2,)","v":{"$error":"#VALUE!"}},"RTLog",196,13511,9900,0]
[null,121,95,"2024-07-28","Geräucherte Sprotten","Wien","AT",{"$f":"VLOOKUP(G122,Tabelle2!$B$3:$C$38,2,)","v":{"$error":"#VALUE!"}},"EuroAcres","Brünn","CZ",{"$f":"VLOOKUP(K122,Tabelle2!$B$3:$C$38,2,)","v":{"$error":"#VALUE!"}},"SanBuilders",138,5936,17572,800]
[null,122,97,"2024-07-28","Gesteinsmehl","Wien","AT",{"$f":"VLOOKUP(G123,Tabelle2!$B$3:$C$38,2,)","v":{"$error":"#VALUE!"}},"EuroAcres","Bratislava",null,{"$f":"VLOOKUP(K123,Tabelle2!$B$3:$C$38,2,)","v":{"$error":"#N/A"}},"WGCC",136,2725,22100,400]
[null,123,94,"2024-07-28","Geräucherter Aal","Wien","AT",{"$f":"VLOOKUP(G124,Tabelle2!$B$3:$C$38,2,)","v":{"$error":"#VALUE!"}},"EuroGoodies","Wien",null,{"$f":"VLOOKUP(K124,Tabelle2!$B$3:$C$38,2,)","v":{"$error":"#N/A"}},"EuroAcres",161,106280,11481,800]
[null,124,93,"2024-07-28","Kleintransporter","Graz","AT",{"$f":"VLOOKUP(G125,Tabelle2!$B$3:$C$38,2,)","v":{"$error":"#VALUE!"}},"FCP","Wien",null,{"$f":"VLOOKUP(K125,Tabelle2!$B$3:$C$38,2,)","v":{"$error":"#N/A"}},"EuroGoodies",147,7947,6150,0]
[null,125,100,"2024-07-28","Gabelstapler","Budapest","HU",{"$f":"VLOOKUP(G126,Tabelle2!$B$3:$C$38,2,)","v":{"$error":"#VALUE!"}},"Kaarfor","Graz",null,{"$f":"VLOOKUP(K126,Tabelle2!$B$3:$C$38,2,)","v":{"$error":"#N/A"}},"Tree-Et",478,15377,11230,0]
[null,126,99,"2024-07-28","Gerüstmaterial","Wien","AT",{"$f":"VLOOKUP(G127,Tabelle2!$B$3:$C$38,2,)","v":{"$error":"#VALUE!"}},"NSOil","Budapest",null,{"$f":"VLOOKUP(K127,Tabelle2!$B$3:$C$38,2,)","v":{"$error":"#N/A"}},"Trameri",466,10077,21456,400]
[null,127,96,"2024-07-28","Leberwurst","Brünn","CZ",{"$f":"VLOOKUP(G128,Tabelle2!$B$3:$C$38,2,)","v":{"$error":"#VALUE!"}},"SanBuilders","Wien",null,{"$f":"VLOOKUP(K128,Tabelle2!$B$3:$C$38,2,)","v":{"$error":"#N/A"}},"EuroAcres",120,5495,17411,0]
[null,128,92,"2024-07-28","Salzsäure","Klagenfurt a.W.","AT",{"$f":"VLOOKUP(G129,Tabelle2!$B$3:$C$38,2,)","v":{"$error":"#VALUE!"}},"Tradeaux","Graz",null,{"$f":"VLOOKUP(K129,Tabelle2!$B$3:$C$38,2,)","v":{"$error":"#N/A"}},"FCP",105,7728,21780,0]
[null,129,101,"2024-07-28","Baumstämme","Graz","AT",{"$f":"VLOOKUP(G130,Tabelle2!$B$3:$C$38,2,)","v":{"$error":"#VALUE!"}},"Tree-Et","Wien",null,{"$f":"VLOOKUP(K130,Tabelle2!$B$3:$C$38,2,)","v":{"$error":"#N/A"}},"NSOil",173,5167,22740,0]
[null,130,98,"2024-07-28","Kleidung","Bratislava","SK",{"$f":"VLOOKUP(G131,Tabelle2!$B$3:$C$38,2,)","v":{"$error":"#VALUE!"}},"WGCC","Wien",null,{"$f":"VLOOKUP(K131,Tabelle2!$B$3:$C$38,2,)","v":{"$error":"#N/A"}},"NSOil",318,4172,18720,0]
[null,131,104,"2024-07-29","Graphitfett","Maribor","SLO",{"$f":"VLOOKUP(G132,Tabelle2!$B$3:$C$38,2,)","v":{"$error":"#N/A"}},"Balkan Loco","Graz",null,{"$f":"VLOOKUP(K132,Tabelle2!$B$3:$C$38,2,)","v":{"$error":"#N/A"}},"Steinbruch",78,4910,16909,160]
[null,132,103,"2024-07-29","Desinfektionsmittel","Graz","AT",{"$f":"VLOOKUP(G133,Tabelle2!$B$3:$C$38,2,)","v":{"$error":"#VALUE!"}},"EuroAcres","Maribor",null,{"$f":"VLOOKUP(K133,Tabelle2!$B$3:$C$38,2,)","v":{"$error":"#N/A"}},"Balkan Loco",423,4250,16820,0]
[null,133,102,"2024-07-29","Spannplatten","Graz","AT",{"$f":"VLOOKUP(G134,Tabelle2!$B$3:$C$38,2,)","v":{"$error":"#VALUE!"}},"Steinbruch","Graz",null,{"$f":"VLOOKUP(K134,Tabelle2!$B$3:$C$38,2,)","v":{"$error":"#N/A"}},"EuroAcres",529,109589,21599,400]
[null,134,105,"2024-07-29","Gabelstapler","Graz","AT",{"$f":"VLOOKUP(G135,Tabelle2!$B$3:$C$38,2,)","v":{"$error":"#VALUE!"}},"Steinbruch","Graz",null,{"$f":"VLOOKUP(K135,Tabelle2!$B$3:$C$38,2,)","v":{"$error":"#N/A"}},"Steinbruch",50,129244,11230,0]
[null,135,106,"2024-07-29","Gesteinsmehl","Graz","AT",{"$f":"VLOOKUP(G136,Tabelle2!$B$3:$C$38,2,)","v":{"$error":"#VALUE!"}},"Steinbruch","Nürnberg",null,{"$f":"VLOOKUP(K136,Tabelle2!$B$3:$C$38,2,)","v":{"$error":"#N/A"}},"Kathode",696,7399,22100,1000]
[null,136,107,"2024-07-30","Acetylen","Nürnberg","DE",{"$f":"VLOOKUP(G137,Tabelle2!$B$3:$C$38,2,)","v":{"$error":"#VALUE!"}},"Kathode","Nürnberg",null,{"$f":"VLOOKUP(K137,Tabelle2!$B$3:$C$38,2,)","v":{"$error":"#N/A"}},"SanBuilders",11,126031,9600,0]
[null,137,108,"2024-07-30","Außenfliesen","Nürnberg","DE",{"$f":"VLOOKUP(G138,Tabelle2!$B$3:$C$38,2,)","v":{"$error":"#VALUE!"}},"SanBuilders","Salzburg",null,{"$f":"VLOOKUP(K138,Tabelle2!$B$3:$C$38,2,)","v":{"$error":"#N/A"}},"Sellplan",392,10492,20579,0]
[null,138,109,"2024-07-30","Atlantisches Kabeljaufilet","Salzburg","AT",{"$f":"VLOOKUP(G139,Tabelle2!$B$3:$C$38,2,)","v":{"$error":"#VALUE!"}},"Sellplan","Salzburg",null,{"$f":"VLOOKUP(K139,Tabelle2!$B$3:$C$38,2,)","v":{"$error":"#N/A"}},"Tree-Et",267,103817,16450,0]
[null,139,112,"2024-07-30","Jacht - Queen V39","Triest","IT",{"$f":"VLOOKUP(G140,Tabelle2!$B$3:$C$38,2,)","v":{"$error":"#VALUE!"}},"Terminal Container","Ljubljana",null,{"$f":"VLOOKUP(K140,Tabelle2!$B$3:$C$38,2,)","v":{"$error":"#N/A"}},"Balkan Loco",208,12750,9900,0]
[null,140,110,"2024-07-30","Bauholz","Salzburg","AT",{"$f":"VLOOKUP(G141,Tabelle2!$B$3:$C$38,2,)","v":{"$error":"#VALUE!"}},"Tree-Et","Klagenfurt a.W.",null,{"$f":"VLOOKUP(K141,Tabelle2!$B$3:$C$38,2,)","v":{"$error":"#N/A"}},"Tree-Et",278,8436,17520,0]
[null,141,111,"2024-07-30","Gabelstapler","Klagenfurt a.W.","AT",{"$f":"VLOOKUP(G142,Tabelle2!$B$3:$C$38,2,)","v":{"$error":"#VALUE!"}},"Tree-Et","Triest",null,{"$f":"VLOOKUP(K142,Tabelle2!$B$3:$C$38,2,)","v":{"$error":"#N/A"}},"Terminal Container",345,16070,11230,0]
[null,142,113,"2024-07-31","Kugelventile","Ljubiljana","SLO",{"$f":"VLOOKUP(G143,Tabelle2!$B$3:$C$38,2,)","v":{"$error":"#N/A"}},"AI  Automotive","Salzburg",null,{"$f":"VLOOKUP(K143,Tabelle2!$B$3:$C$38,2,)","v":{"$error":"#N/A"}},"RTLog",366,11629,22173,360]
[null,143,115,"2024-07-31","Dieselgeneratoren","Salzburg","AT",{"$f":"VLOOKUP(G144,Tabelle2!$B$3:$C$38,2,)","v":{"$error":"#VALUE!"}},"Renat","Salzburg",null,{"$f":"VLOOKUP(K144,Tabelle2!$B$3:$C$38,2,)","v":{"$error":"#N/A"}},"Tree-Et",296,150570,21516,0]
[null,144,114,"2024-07-31","Benzin","Salzburg","AT",{"$f":"VLOOKUP(G145,Tabelle2!$B$3:$C$38,2,)","v":{"$error":"#VALUE!"}},"RTLog","Salzburg",null,{"$f":"VLOOKUP(K145,Tabelle2!$B$3:$C$38,2,)","v":{"$error":"#N/A"}},"Renat",61,178083,21750,0]
[null,145,116,"2024-07-31","Zugmaschinen-Volvo","Salzburg","AT",{"$f":"VLOOKUP(G146,Tabelle2!$B$3:$C$38,2,)","v":{"$error":"#VALUE!"}},"Tree-Et","Klagenfurt a.W.",null,{"$f":"VLOOKUP(K146,Tabelle2!$B$3:$C$38,2,)","v":{"$error":"#N/A"}},"EuroAcres",378,17205,14680,720]
[null,146,1,"2024-08-03","Lebende Schweine","Klagenfurt a.W.","AT",{"$f":"VLOOKUP(G147,Tabelle2!$B$3:$C$38,2,)","v":{"$error":"#VALUE!"}},"Euroacres","Salzburg",null,{"$f":"VLOOKUP(K147,Tabelle2!$B$3:$C$38,2,)","v":{"$error":"#N/A"}},"SanBuilders",254,5812,6000,2760]
[null,147,4,"2024-08-03","Arbeitskleidung","Venedig","IT",{"$f":"VLOOKUP(G148,Tabelle2!$B$3:$C$38,2,)","v":{"$error":"#VALUE!"}},"EuroGoodies","Ljubljana",null,{"$f":"VLOOKUP(K148,Tabelle2!$B$3:$C$38,2,)","v":{"$error":"#N/A"}},"ITCC",427,12046,16454,0]
[null,148,3,"2024-08-03","Dachfenster","Ljubiljana","SLO",{"$f":"VLOOKUP(G149,Tabelle2!$B$3:$C$38,2,)","v":{"$error":"#N/A"}},"ITCC","Venedig",null,{"$f":"VLOOKUP(K149,Tabelle2!$B$3:$C$38,2,)","v":{"$error":"#N/A"}},"EuroGoodies",397,13876,5273,0]
[null,149,5,"2024-08-03","Eisenrohre","Ljubiljana","SLO",{"$f":"VLOOKUP(G150,Tabelle2!$B$3:$C$38,2,)","v":{"$error":"#N/A"}},"ITCC","Klagenfurt a.W.",null,{"$f":"VLOOKUP(K150,Tabelle2!$B$3:$C$38,2,)","v":{"$error":"#N/A"}},"Trameri",190,8439,24380,0]
[null,150,2,"2024-08-03","Atlantisches Kabeljaufilet","Salzburg","AT",{"$f":"VLOOKUP(G151,Tabelle2!$B$3:$C$38,2,)","v":{"$error":"#VALUE!"}},"Sellplan","Ljubljana",null,{"$f":"VLOOKUP(K151,Tabelle2!$B$3:$C$38,2,)","v":{"$error":"#N/A"}},"ITCC",260,10914,16450,0]
[null,151,7,"2024-08-03","Altkunststoff","Salzburg","AT",{"$f":"VLOOKUP(G152,Tabelle2!$B$3:$C$38,2,)","v":{"$error":"#VALUE!"}},"Sellplan","Linz",null,{"$f":"VLOOKUP(K152,Tabelle2!$B$3:$C$38,2,)","v":{"$error":"#N/A"}},"PoSped",222,3642,9672,0]
[null,152,6,"2024-08-03","Explosivstoffe","Klagenfurt a.W.","AT",{"$f":"VLOOKUP(G153,Tabelle2!$B$3:$C$38,2,)","v":{"$error":"#VALUE!"}},"Trameri","Salzburg",null,{"$f":"VLOOKUP(K153,Tabelle2!$B$3:$C$38,2,)","v":{"$error":"#N/A"}},"Sellplan",385,13707,11680,0]
[null,153,13,"2024-08-04","Dachziegel","Verona","IT",{"$f":"VLOOKUP(G154,Tabelle2!$B$3:$C$38,2,)","v":{"$error":"#VALUE!"}},"BCP","Stuttgart",null,{"$f":"VLOOKUP(K154,Tabelle2!$B$3:$C$38,2,)","v":{"$error":"#N/A"}},"FLE",788,19859,20364,0]
[null,154,9,"2024-08-04","LKW-Batterien","Nürnberg","DE",{"$f":"VLOOKUP(G155,Tabelle2!$B$3:$C$38,2,)","v":{"$error":"#VALUE!"}},"CNP","Salzburg",null,{"$f":"VLOOKUP(K155,Tabelle2!$B$3:$C$38,2,)","v":{"$error":"#N/A"}},"Renat",338,10282,15976,0]
[null,155,11,"2024-08-04","Motorräder","Nürnberg","DE",{"$f":"VLOOKUP(G156,Tabelle2!$B$3:$C$38,2,)","v":{"$error":"#VALUE!"}},"DFH","Innsbruck",null,{"$f":"VLOOKUP(K156,Tabelle2!$B$3:$C$38,2,)","v":{"$error":"#N/A"}},"RTLog",401,18199,15048,0]
[null,156,14,"2024-08-04","Ahornsirup","Stuttgart","DE",{"$f":"VLOOKUP(G157,Tabelle2!$B$3:$C$38,2,)","v":{"$error":"#VALUE!"}},"FLE","Salzburg",null,{"$f":"VLOOKUP(K157,Tabelle2!$B$3:$C$38,2,)","v":{"$error":"#N/A"}},"Tree-Et",536,11739,17213,0]
[null,157,8,"2024-08-04","Elektronik","Llinz","AT",{"$f":"VLOOKUP(G158,Tabelle2!$B$3:$C$38,2,)","v":{"$error":"#VALUE!"}},"PoSped","Nürnberg",null,{"$f":"VLOOKUP(K158,Tabelle2!$B$3:$C$38,2,)","v":{"$error":"#N/A"}},"CNP",350,14529,8194,0]
[null,158,10,"2024-08-04","Propan","Salzburg","AT",{"$f":"VLOOKUP(G159,Tabelle2!$B$3:$C$38,2,)","v":{"$error":"#VALUE!"}},"Renat","Nürnberg",null,{"$f":"VLOOKUP(K159,Tabelle2!$B$3:$C$38,2,)","v":{"$error":"#N/A"}},"DFH",393,14056,19720,0]
[null,159,12,"2024-08-04","Autos","Innsbruck","AT",{"$f":"VLOOKUP(G160,Tabelle2!$B$3:$C$38,2,)","v":{"$error":"#VALUE!"}},"RTLog","Verona",null,{"$f":"VLOOKUP(K160,Tabelle2!$B$3:$C$38,2,)","v":{"$error":"#N/A"}},"BCP",295,13360,6400,0]
[null,160,15,"2024-08-05","Kerosin","Graz","AT",{"$f":"VLOOKUP(G161,Tabelle2!$B$3:$C$38,2,)","v":{"$error":"#VALUE!"}},"Steinbruch","Amsterdam",null,{"$f":"VLOOKUP(K161,Tabelle2!$B$3:$C$38,2,)","v":{"$error":"#N/A"}},"Kaarfor",1223,64770,23580,0]
[null,161,16,"2024-08-05","Rollrasen","Amsterdam","NL",{"$f":"VLOOKUP(G162,Tabelle2!$B$3:$C$38,2,)","v":{"$error":"#VALUE!"}},"Stokes","Groningen",null,{"$f":"VLOOKUP(K162,Tabelle2!$B$3:$C$38,2,)","v":{"$error":"#N/A"}},"EuroAcres",190,6292,15299,0]
[null,162,17,"2024-08-06","Lebende Schweine","Groningen","NL",{"$f":"VLOOKUP(G163,Tabelle2!$B$3:$C$38,2,)","v":{"$error":"#VALUE!"}},"EuroAcres","Osnabrück",null,{"$f":"VLOOKUP(K163,Tabelle2!$B$3:$C$38,2,)","v":{"$error":"#N/A"}},"EuroAcres",248,3954,6000,400]
[null,163,18,"2024-08-06","Metallträger","Osnabrück","DE",{"$f":"VLOOKUP(G164,Tabelle2!$B$3:$C$38,2,)","v":{"$error":"#VALUE!"}},"EuroAcres","Groningen",null,{"$f":"VLOOKUP(K164,Tabelle2!$B$3:$C$38,2,)","v":{"$error":"#N/A"}},"EuroAcres",207,7380,24380,1820]
[null,164,19,"2024-08-06","Frischer Fisch","Groningen","NL",{"$f":"VLOOKUP(G165,Tabelle2!$B$3:$C$38,2,)","v":{"$error":"#VALUE!"}},"EuroAcres","Groningen",null,{"$f":"VLOOKUP(K165,Tabelle2!$B$3:$C$38,2,)","v":{"$error":"#N/A"}},"EuroGoodies",10,113074,18520,1160]
[null,165,20,"2024-08-06","Gabelstapler","Groningen","NL",{"$f":"VLOOKUP(G166,Tabelle2!$B$3:$C$38,2,)","v":{"$error":"#VALUE!"}},"Sellplan","Amsterdam",null,{"$f":"VLOOKUP(K166,Tabelle2!$B$3:$C$38,2,)","v":{"$error":"#N/A"}},"Trameri",286,8813,11230,0]
[null,166,21,"2024-08-07","Dachziegel ","Amsterdam","NL",{"$f":"VLOOKUP(G167,Tabelle2!$B$3:$C$38,2,)","v":{"$error":"#VALUE!"}},"Trameri","Duisburg",null,{"$f":"VLOOKUP(K167,Tabelle2!$B$3:$C$38,2,)","v":{"$error":"#N/A"}},"ITCC",329,5910,20364,200]
[null,167,22,"2024-08-09","Pestizide","Duisburg","DE",{"$f":"VLOOKUP(G168,Tabelle2!$B$3:$C$38,2,)","v":{"$error":"#VALUE!"}},"Kaarfor","Amsterdam",null,{"$f":"VLOOKUP(K168,Tabelle2!$B$3:$C$38,2,)","v":{"$error":"#N/A"}},"Stokes",261,6578,21600,0]
[null,168,23,"2024-08-09","Abgassysteme","Amsterdam","NL",{"$f":"VLOOKUP(G169,Tabelle2!$B$3:$C$38,2,)","v":{"$error":"#VALUE!"}},"Stokes","Rotterdam",null,{"$f":"VLOOKUP(K169,Tabelle2!$B$3:$C$38,2,)","v":{"$error":"#N/A"}},"SanBuilders",82,3589,7506,0]
[null,169,24,"2024-08-09","Acetylen","Rotterdam","NL",{"$f":"VLOOKUP(G170,Tabelle2!$B$3:$C$38,2,)","v":{"$error":"#VALUE!"}},"WGCC","Lüttich",null,{"$f":"VLOOKUP(K170,Tabelle2!$B$3:$C$38,2,)","v":{"$error":"#N/A"}},"Tree-Et",323,6339,4800,0]
[null,170,27,"2024-08-11","Fertigtreppen (Beton","Lüttich","BE",{"$f":"VLOOKUP(G171,Tabelle2!$B$3:$C$38,2,)","v":{"$error":"#VALUE!"}},"ITCC","Kalmar",null,{"$f":"VLOOKUP(K171,Tabelle2!$B$3:$C$38,2,)","v":{"$error":"#N/A"}},"GNT",1292,44985,22239,0]
[null,171,26,"2024-08-11","Alkoholfreies Bier","Reims","FR",{"$f":"VLOOKUP(G172,Tabelle2!$B$3:$C$38,2,)","v":{"$error":"#VALUE!"}},"Steinbruch","Lüttich",null,{"$f":"VLOOKUP(K172,Tabelle2!$B$3:$C$38,2,)","v":{"$error":"#N/A"}},"EuroGoodies",186,8774,22156,0]
[null,172,25,"2024-08-11","Ahornsirup","Lüttich","BE",{"$f":"VLOOKUP(G173,Tabelle2!$B$3:$C$38,2,)","v":{"$error":"#VALUE!"}},"Tree-Et","Reims",null,{"$f":"VLOOKUP(K173,Tabelle2!$B$3:$C$38,2,)","v":{"$error":"#N/A"}},"Steinbruch",187,8653,17213,0]
[null,173,29,"2024-08-12","Milch","Brüssel","BE",{"$f":"VLOOKUP(G174,Tabelle2!$B$3:$C$38,2,)","v":{"$error":"#VALUE!"}},"EuroAcres","Lille",null,{"$f":"VLOOKUP(K174,Tabelle2!$B$3:$C$38,2,)","v":{"$error":"#N/A"}},"Tradeaux",87,3366,23069,0]
[null,174,28,"2024-08-12","Altkunststoff","Kalmar","SE",{"$f":"VLOOKUP(G175,Tabelle2!$B$3:$C$38,2,)","v":{"$error":"#VALUE!"}},"GNT","Brüssel",null,{"$f":"VLOOKUP(K175,Tabelle2!$B$3:$C$38,2,)","v":{"$error":"#N/A"}},"FCP",1303,28326,8793,0]
[null,175,30,"2024-08-12","Zement","Lille","FR",{"$f":"VLOOKUP(G176,Tabelle2!$B$3:$C$38,2,)","v":{"$error":"#VALUE!"}},"Tradeaux","Brüssel",null,{"$f":"VLOOKUP(K176,Tabelle2!$B$3:$C$38,2,)","v":{"$error":"#N/A"}},"transinet",303,2069,21630,0]
[null,176,31,"2024-08-13","Altkunststoff","Brüssel","BE",{"$f":"VLOOKUP(G177,Tabelle2!$B$3:$C$38,2,)","v":{"$error":"#VALUE!"}},"Transinet","Plymouth",null,{"$f":"VLOOKUP(K177,Tabelle2!$B$3:$C$38,2,)","v":{"$error":"#N/A"}},"Trameri",664,15037,7135,0]
[null,177,32,"2024-08-15","Lebendrind","Plymouth","GB",{"$f":"VLOOKUP(G178,Tabelle2!$B$3:$C$38,2,)","v":{"$error":"#VALUE!"}},"EuroAcres","Cambridge",null,{"$f":"VLOOKUP(K178,Tabelle2!$B$3:$C$38,2,)","v":{"$error":"#N/A"}},"EuroAcres",479,28032,21760,2480]
[null,178,33,"2024-08-15","Blumenkohl","Cambridge","GB",{"$f":"VLOOKUP(G179,Tabelle2!$B$3:$C$38,2,)","v":{"$error":"#VALUE!"}},"EuroAcres","Aberdeen",null,{"$f":"VLOOKUP(K179,Tabelle2!$B$3:$C$38,2,)","v":{"$error":"#N/A"}},"Stokes",832,25620,9580,4340]
[null,179,35,"2024-08-15","Zement","Carlisle","GB",{"$f":"VLOOKUP(G180,Tabelle2!$B$3:$C$38,2,)","v":{"$error":"#VALUE!"}},"PoSped","Glasgow",null,{"$f":"VLOOKUP(K180,Tabelle2!$B$3:$C$38,2,)","v":{"$error":"#N/A"}},"ITCC",246,3053,21630,0]
[null,180,38,"2024-08-15","Saftkonzentrat","London","GB",{"$f":"VLOOKUP(G181,Tabelle2!$B$3:$C$38,2,)","v":{"$error":"#VALUE!"}},"PoSped","Felixstowe",null,{"$f":"VLOOKUP(K181,Tabelle2!$B$3:$C$38,2,)","v":{"$error":"#N/A"}},"LKWLog",152,4197,23513,0]
[null,181,34,"2024-08-15","Holzspäne","Aberdeen","GB",{"$f":"VLOOKUP(G182,Tabelle2!$B$3:$C$38,2,)","v":{"$error":"#VALUE!"}},"Tree-Et","Carlisle",null,{"$f":"VLOOKUP(K182,Tabelle2!$B$3:$C$38,2,)","v":{"$error":"#N/A"}},"EuroAcres",414,3903,4890,0]
[null,182,37,"2024-08-15","Holzbalken","Manchester","GB",{"$f":"VLOOKUP(G183,Tabelle2!$B$3:$C$38,2,)","v":{"$error":"#VALUE!"}},"Tree-Et","London",null,{"$f":"VLOOKUP(K183,Tabelle2!$B$3:$C$38,2,)","v":{"$error":"#N/A"}},"SanBuilders",556,11273,22361,0]
[null,183,36,"2024-08-15","Natriumhydroxid","Glasgow","GB",{"$f":"VLOOKUP(G184,Tabelle2!$B$3:$C$38,2,)","v":{"$error":"#VALUE!"}},"WGCC","Liverpool",null,{"$f":"VLOOKUP(K184,Tabelle2!$B$3:$C$38,2,)","v":{"$error":"#N/A"}},"NBFC",385,12357,18400,160]
[null,184,41,"2024-08-16","Stilles Mineralwasser in Flaschen","Grimsby","GB",{"$f":"VLOOKUP(G185,Tabelle2!$B$3:$C$38,2,)","v":{"$error":"#VALUE!"}},"EuroGoodies","Sheffield",null,{"$f":"VLOOKUP(K185,Tabelle2!$B$3:$C$38,2,)","v":{"$error":"#N/A"}},"transinet",110,3341,23464,0]
[null,185,42,"2024-08-16","Fertigtreppen (Beton)","Sheffield","GB",{"$f":"VLOOKUP(G186,Tabelle2!$B$3:$C$38,2,)","v":{"$error":"#VALUE!"}},"ITCC","Newcastle",null,{"$f":"VLOOKUP(K186,Tabelle2!$B$3:$C$38,2,)","v":{"$error":"#N/A"}},"SanBuilders",217,6529,22239,0]
[null,186,40,"2024-08-16","Altkunststoff","Southampton","GB",{"$f":"VLOOKUP(G187,Tabelle2!$B$3:$C$38,2,)","v":{"$error":"#VALUE!"}},"Sellplan","Grimsby",null,{"$f":"VLOOKUP(K187,Tabelle2!$B$3:$C$38,2,)","v":{"$error":"#N/A"}},"Tradeaux",459,9257,7153,0]
[null,187,39,"2024-08-16","Holzspäne","Felixstowe","GB",{"$f":"VLOOKUP(G188,Tabelle2!$B$3:$C$38,2,)","v":{"$error":"#VALUE!"}},"Tree-Et","Southampton",null,{"$f":"VLOOKUP(K188,Tabelle2!$B$3:$C$38,2,)","v":{"$error":"#N/A"}},"transinet",324,3006,4890,360]
[null,188,43,"2024-08-17","Pasta","Newcastle","GB",{"$f":"VLOOKUP(G189,Tabelle2!$B$3:$C$38,2,)","v":{"$error":"#VALUE!"}},"EuroGoodies","Edinburgh",null,{"$f":"VLOOKUP(K189,Tabelle2!$B$3:$C$38,2,)","v":{"$error":"#N/A"}},"EuroGoodies",260,5906,20407,0]
[null,189,47,"2024-08-17","Dosenschweinefleisch","Glasgow","GB",{"$f":"VLOOKUP(G190,Tabelle2!$B$3:$C$38,2,)","v":{"$error":"#VALUE!"}},"EuroGoodies","Newcastle",null,{"$f":"VLOOKUP(K190,Tabelle2!$B$3:$C$38,2,)","v":{"$error":"#N/A"}},"Sellplan",254,11337,22460,0]
[null,190,46,"2024-08-17","Gummibärchen","Edinburgh","GB",{"$f":"VLOOKUP(G191,Tabelle2!$B$3:$C$38,2,)","v":{"$error":"#VALUE!"}},"Kaarfor","Glasgow",null,{"$f":"VLOOKUP(K191,Tabelle2!$B$3:$C$38,2,)","v":{"$error":"#N/A"}},"EuroGoodies",99,4813,21288,0]
[null,191,49,"2024-08-17","Erdnussbutter","Carlisle","GB",{"$f":"VLOOKUP(G192,Tabelle2!$B$3:$C$38,2,)","v":{"$error":"#VALUE!"}},"PoSped","Grimsby",null,{"$f":"VLOOKUP(K192,Tabelle2!$B$3:$C$38,2,)","v":{"$error":"#N/A"}},"WGCC",344,11208,19539,0]
[null,192,44,"2024-08-17","Bagger","Edinburgh","GB",{"$f":"VLOOKUP(G193,Tabelle2!$B$3:$C$38,2,)","v":{"$error":"#VALUE!"}},"SanBuilders","Glasgow",null,{"$f":"VLOOKUP(K193,Tabelle2!$B$3:$C$38,2,)","v":{"$error":"#N/A"}},"Steinbruch",154,5395,23780,0]
[null,193,48,"2024-08-17","Eisenrohre","Newcastle","GB",{"$f":"VLOOKUP(G194,Tabelle2!$B$3:$C$38,2,)","v":{"$error":"#VALUE!"}},"Sellplan","Carlisle",null,{"$f":"VLOOKUP(K194,Tabelle2!$B$3:$C$38,2,)","v":{"$error":"#N/A"}},"Trameri",154,4032,18760,0]
[null,194,45,"2024-08-17","Mamorblöcke","Glasgow","GB",{"$f":"VLOOKUP(G195,Tabelle2!$B$3:$C$38,2,)","v":{"$error":"#VALUE!"}},"Steinbruch","Edinburgh",null,{"$f":"VLOOKUP(K195,Tabelle2!$B$3:$C$38,2,)","v":{"$error":"#N/A"}},"Kaarfor",229,4467,22500,0]
[null,195,54,"2024-08-18","Dünger","Felixstowe","GB",{"$f":"VLOOKUP(G196,Tabelle2!$B$3:$C$38,2,)","v":{"$error":"#VALUE!"}},"LKWLog","Cambridge",null,{"$f":"VLOOKUP(K196,Tabelle2!$B$3:$C$38,2,)","v":{"$error":"#N/A"}},"transinet",149,6587,20282,0]
[null,196,52,"2024-08-18","Spanplatten","London","GB",{"$f":"VLOOKUP(G197,Tabelle2!$B$3:$C$38,2,)","v":{"$error":"#VALUE!"}},"Sellplan","Birmingham",null,{"$f":"VLOOKUP(K197,Tabelle2!$B$3:$C$38,2,)","v":{"$error":"#N/A"}},"Tree-Et",362,8257,21559,0]
[null,197,51,"2024-08-18","Steine","Sheffield","GB",{"$f":"VLOOKUP(G198,Tabelle2!$B$3:$C$38,2,)","v":{"$error":"#VALUE!"}},"Steinbruch","London",null,{"$f":"VLOOKUP(K198,Tabelle2!$B$3:$C$38,2,)","v":{"$error":"#N/A"}},"NBFC",357,5283,27300,0]
[null,198,53,"2024-08-18","Bauholz","Birmingham","GB",{"$f":"VLOOKUP(G199,Tabelle2!$B$3:$C$38,2,)","v":{"$error":"#VALUE!"}},"Tree-Et","Felixstowe",null,{"$f":"VLOOKUP(K199,Tabelle2!$B$3:$C$38,2,)","v":{"$error":"#N/A"}},"Tradeaux",374,7996,17520,0]
[null,199,50,"2024-08-18","Dieselgeneratoren","Grimsby","GB",{"$f":"VLOOKUP(G200,Tabelle2!$B$3:$C$38,2,)","v":{"$error":"#VALUE!"}},"WGCC","Sheffield",null,{"$f":"VLOOKUP(K200,Tabelle2!$B$3:$C$38,2,)","v":{"$error":"#N/A"}},"Sellplan",109,7076,21516,0]
[null,200,58,"2024-08-19","Cyanid","Birmingham","GB",{"$f":"VLOOKUP(G201,Tabelle2!$B$3:$C$38,2,)","v":{"$error":"#VALUE!"}},"BCP","Liverpool",null,{"$f":"VLOOKUP(K201,Tabelle2!$B$3:$C$38,2,)","v":{"$error":"#N/A"}},"EuroAcres",166,8832,14400,300]
[null,201,59,"2024-08-19","Scania - Zugmaschinen","Liverpool","GB",{"$f":"VLOOKUP(G202,Tabelle2!$B$3:$C$38,2,)","v":{"$error":"#VALUE!"}},"EuroAcres","Manchester",null,{"$f":"VLOOKUP(K202,Tabelle2!$B$3:$C$38,2,)","v":{"$error":"#N/A"}},"Scania",98,6792,14590,800]
[null,202,60,"2024-08-19","Flugzeugreifen","Manchester","GB",{"$f":"VLOOKUP(G203,Tabelle2!$B$3:$C$38,2,)","v":{"$error":"#VALUE!"}},"FCP","Liverpool",null,{"$f":"VLOOKUP(K203,Tabelle2!$B$3:$C$38,2,)","v":{"$error":"#N/A"}},"EuroGoodies",101,4393,18117,0]
[null,203,55,"2024-08-19","Dachziegel","Cambridge","GB",{"$f":"VLOOKUP(G204,Tabelle2!$B$3:$C$38,2,)","v":{"$error":"#VALUE!"}},"Kaarfor","Birmingham",null,{"$f":"VLOOKUP(K204,Tabelle2!$B$3:$C$38,2,)","v":{"$error":"#N/A"}},"SanBuilders",208,7334,20364,0]
[null,204,57,"2024-08-19","IBC-Container","Dover","GB",{"$f":"VLOOKUP(G205,Tabelle2!$B$3:$C$38,2,)","v":{"$error":"#VALUE!"}},"LKWLog","Birmingham",null,{"$f":"VLOOKUP(K205,Tabelle2!$B$3:$C$38,2,)","v":{"$error":"#N/A"}},"BCP",349,11044,11138,800]
[null,205,56,"2024-08-19","Gabelstapler","Birmingham","GB",{"$f":"VLOOKUP(G206,Tabelle2!$B$3:$C$38,2,)","v":{"$error":"#VALUE!"}},"SanBuilders","Dover",null,{"$f":"VLOOKUP(K206,Tabelle2!$B$3:$C$38,2,)","v":{"$error":"#N/A"}},"EuroGoodies",408,14811,11230,0]
[null,206,61,"2024-08-19","Graphitfett","Liverpool","GB",{"$f":"VLOOKUP(G207,Tabelle2!$B$3:$C$38,2,)","v":{"$error":"#VALUE!"}},"Trameri","Manchester",null,{"$f":"VLOOKUP(K207,Tabelle2!$B$3:$C$38,2,)","v":{"$error":"#N/A"}},"WGCC",76,3866,16909,0]
[null,207,62,"2024-08-19","Autos","Manchester","GB",{"$f":"VLOOKUP(G208,Tabelle2!$B$3:$C$38,2,)","v":{"$error":"#VALUE!"}},"WGCC","Cardiff",null,{"$f":"VLOOKUP(K208,Tabelle2!$B$3:$C$38,2,)","v":{"$error":"#N/A"}},"Stokes",335,19827,6160,1120]
[null,208,66,"2024-08-20","Bagger","Birmingham","GB",{"$f":"VLOOKUP(G209,Tabelle2!$B$3:$C$38,2,)","v":{"$error":"#VALUE!"}},"BCP","Cardiff",null,{"$f":"VLOOKUP(K209,Tabelle2!$B$3:$C$38,2,)","v":{"$error":"#N/A"}},"Steinbruch",220,11324,23780,380]
[null,209,65,"2024-08-20","Kokosnussmilch","Swansea","GB",{"$f":"VLOOKUP(G210,Tabelle2!$B$3:$C$38,2,)","v":{"$error":"#VALUE!"}},"EuroAcres","Birmingham",null,{"$f":"VLOOKUP(K210,Tabelle2!$B$3:$C$38,2,)","v":{"$error":"#N/A"}},"BCP",324,10813,23278,0]
[null,210,64,"2024-08-20","Kupferdachrinnen","Newcastle","GB",{"$f":"VLOOKUP(G211,Tabelle2!$B$3:$C$38,2,)","v":{"$error":"#VALUE!"}},"SanBuilders","Swansea",null,{"$f":"VLOOKUP(K211,Tabelle2!$B$3:$C$38,2,)","v":{"$error":"#N/A"}},"EuroAcres",556,17511,8250,0]
[null,211,63,"2024-08-20","Baumstämme","Cardiff","GB",{"$f":"VLOOKUP(G212,Tabelle2!$B$3:$C$38,2,)","v":{"$error":"#VALUE!"}},"Stokes","Newcastle",null,{"$f":"VLOOKUP(K212,Tabelle2!$B$3:$C$38,2,)","v":{"$error":"#N/A"}},"SanBuilders",628,16010,22740,0]
[null,212,68,"2024-08-21","Basilikum","Plymouth","GB",{"$f":"VLOOKUP(G213,Tabelle2!$B$3:$C$38,2,)","v":{"$error":"#VALUE!"}},"EuroGoodies","Cardiff",null,{"$f":"VLOOKUP(K213,Tabelle2!$B$3:$C$38,2,)","v":{"$error":"#N/A"}},"EuroGoodies",281,8827,24935,0]
[null,213,69,"2024-08-21","Diesel","Cardiff","GB",{"$f":"VLOOKUP(G214,Tabelle2!$B$3:$C$38,2,)","v":{"$error":"#VALUE!"}},"EuroGoodies","Swansea",null,{"$f":"VLOOKUP(K214,Tabelle2!$B$3:$C$38,2,)","v":{"$error":"#N/A"}},"Trameri",78,6653,23800,0]
[null,214,70,"2024-08-21","Desinfektionsmittel","Swansea","GB",{"$f":"VLOOKUP(G215,Tabelle2!$B$3:$C$38,2,)","v":{"$error":"#VALUE!"}},"Kaarfor","Dover",null,{"$f":"VLOOKUP(K215,Tabelle2!$B$3:$C$38,2,)","v":{"$error":"#N/A"}},"EuroAcres",509,15045,16820,0]
[null,215,67,"2024-08-21","Erz","Cardiff","GB",{"$f":"VLOOKUP(G216,Tabelle2!$B$3:$C$38,2,)","v":{"$error":"#VALUE!"}},"Steinbruch","Plymouth",null,{"$f":"VLOOKUP(K216,Tabelle2!$B$3:$C$38,2,)","v":{"$error":"#N/A"}},"Stokes",321,4643,22200,0]
[null,216,71,"2024-08-22","Atlantisches Kabeljaufilet","Swansea","GB",{"$f":"VLOOKUP(G217,Tabelle2!$B$3:$C$38,2,)","v":{"$error":"#VALUE!"}},"PoSped","Southampton",null,{"$f":"VLOOKUP(K217,Tabelle2!$B$3:$C$38,2,)","v":{"$error":"#N/A"}},"Tree-Et",277,10561,16450,0]
[null,217,73,"2024-08-24","Ölfilter","Ljubiljana","SLO",{"$f":"VLOOKUP(G218,Tabelle2!$B$3:$C$38,2,)","v":{"$error":"#N/A"}},"AI  Automotive","Maribor",null,{"$f":"VLOOKUP(K218,Tabelle2!$B$3:$C$38,2,)","v":{"$error":"#N/A"}},"Balkan Loco",109,3098,9554,220]
[null,218,78,"2024-08-24","Äpfel","Koper","SLO",{"$f":"VLOOKUP(G219,Tabelle2!$B$3:$C$38,2,)","v":{"$error":"#N/A"}},"EuroGoodies","Triest",null,{"$f":"VLOOKUP(K219,Tabelle2!$B$3:$C$38,2,)","v":{"$error":"#N/A"}},"Terminal Container",121,4908,20170,0]
[null,219,76,"2024-08-24","Hochspannungsleitungen","Maribor","SLO",{"$f":"VLOOKUP(G220,Tabelle2!$B$3:$C$38,2,)","v":{"$error":"#N/A"}},"ITCC","Ljubljana",null,{"$f":"VLOOKUP(K220,Tabelle2!$B$3:$C$38,2,)","v":{"$error":"#N/A"}},"Brawen",126,5507,21480,0]
[null,220,72,"2024-08-24","Frischer Fisch","Aberdeen","GB",{"$f":"VLOOKUP(G221,Tabelle2!$B$3:$C$38,2,)","v":{"$error":"#VALUE!"}},"Stokes","Maribor",null,{"$f":"VLOOKUP(K221,Tabelle2!$B$3:$C$38,2,)","v":{"$error":"#N/A"}},"Eumefa",2386,89179,18520,0]
[null,221,74,"2024-08-24","Hühnerfleisch","Maribor","SLO",{"$f":"VLOOKUP(G222,Tabelle2!$B$3:$C$38,2,)","v":{"$error":"#N/A"}},"Stokes","Ljubljana",null,{"$f":"VLOOKUP(K222,Tabelle2!$B$3:$C$38,2,)","v":{"$error":"#N/A"}},"Vilco",111,3416,17094,0]
[null,222,75,"2024-08-24","Autos","Ljubiljana","SLO",{"$f":"VLOOKUP(G223,Tabelle2!$B$3:$C$38,2,)","v":{"$error":"#N/A"}},"Vilco","Maribor",null,{"$f":"VLOOKUP(K223,Tabelle2!$B$3:$C$38,2,)","v":{"$error":"#N/A"}},"ITCC",143,7220,7000,0]
[null,223,77,"2024-08-24","Gefrorener Seehecht","Ljubiljana","SLO",{"$f":"VLOOKUP(G224,Tabelle2!$B$3:$C$38,2,)","v":{"$error":"#N/A"}},"Vilco","Koper",null,{"$f":"VLOOKUP(K224,Tabelle2!$B$3:$C$38,2,)","v":{"$error":"#N/A"}},"ContainerPort",200,6728,17411,0]
[null,224,89,"2024-08-25","Gefrorene Oktopsse","Ljubiljana","SLO",{"$f":"VLOOKUP(G225,Tabelle2!$B$3:$C$38,2,)","v":{"$error":"#N/A"}},"AI  Automotive","Zagreb",null,{"$f":"VLOOKUP(K225,Tabelle2!$B$3:$C$38,2,)","v":{"$error":"#N/A"}},"Slava",126,6617,14401,220]
[null,225,92,"2024-08-25","Alkoholfreies Bier","Fünfkirchen(Pecs)","HU",{"$f":"VLOOKUP(G226,Tabelle2!$B$3:$C$38,2,)","v":{"$error":"#VALUE!"}},"BCP","Graz",null,{"$f":"VLOOKUP(K226,Tabelle2!$B$3:$C$38,2,)","v":{"$error":"#N/A"}},"FCP",331,12334,21485,0]
[null,226,86,"2024-08-25","Äpfel","Ljubiljana","SLO",{"$f":"VLOOKUP(G227,Tabelle2!$B$3:$C$38,2,)","v":{"$error":"#N/A"}},"ITCC","Novo Mesto",null,{"$f":"VLOOKUP(K227,Tabelle2!$B$3:$C$38,2,)","v":{"$error":"#N/A"}},"Larus",152,3629,20170,0]
[null,227,91,"2024-08-25","Erz","Ljubiljana","SLO",{"$f":"VLOOKUP(G228,Tabelle2!$B$3:$C$38,2,)","v":{"$error":"#N/A"}},"ITCC","Fünfkirchen(Pecs)",null,{"$f":"VLOOKUP(K228,Tabelle2!$B$3:$C$38,2,)","v":{"$error":"#N/A"}},"BCP",446,8079,25900,0]
[null,228,85,"2024-08-25","Birnen","Klagenfurt a.W.","AT",{"$f":"VLOOKUP(G229,Tabelle2!$B$3:$C$38,2,)","v":{"$error":"#VALUE!"}},"Kathode","Ljubljana",null,{"$f":"VLOOKUP(K229,Tabelle2!$B$3:$C$38,2,)","v":{"$error":"#N/A"}},"ITCC",217,8585,15408,0]
[null,229,83,"2024-08-25","Frische Kräuter","Novo Mesto","SLO",{"$f":"VLOOKUP(G230,Tabelle2!$B$3:$C$38,2,)","v":{"$error":"#N/A"}},"Larus","Ljubljana",null,{"$f":"VLOOKUP(K230,Tabelle2!$B$3:$C$38,2,)","v":{"$error":"#N/A"}},"Vilco",64,3503,5650,0]
[null,230,87,"2024-08-25","Eiskaffee in Dosen","Novo Mesto","SLO",{"$f":"VLOOKUP(G231,Tabelle2!$B$3:$C$38,2,)","v":{"$error":"#N/A"}},"Larus","Triest",null,{"$f":"VLOOKUP(K231,Tabelle2!$B$3:$C$38,2,)","v":{"$error":"#N/A"}},"Terminal Container",230,8666,21259,1300]
[null,231,81,"2024-08-25","Einmachgläser","Venedig","IT",{"$f":"VLOOKUP(G232,Tabelle2!$B$3:$C$38,2,)","v":{"$error":"#VALUE!"}},"Sellplan","Koper",null,{"$f":"VLOOKUP(K232,Tabelle2!$B$3:$C$38,2,)","v":{"$error":"#N/A"}},"TDC",340,15552,7342,0]
[null,232,90,"2024-08-25","Autos","Zagreb","HR",{"$f":"VLOOKUP(G233,Tabelle2!$B$3:$C$38,2,)","v":{"$error":"#VALUE!"}},"Slava Auto","Ljubljana",null,{"$f":"VLOOKUP(K233,Tabelle2!$B$3:$C$38,2,)","v":{"$error":"#N/A"}},"ITCC",204,9001,6400,0]
[null,233,80,"2024-08-25","Blumenkohl","Koper","SLO",{"$f":"VLOOKUP(G234,Tabelle2!$B$3:$C$38,2,)","v":{"$error":"#N/A"}},"TDC","Venedig",null,{"$f":"VLOOKUP(K234,Tabelle2!$B$3:$C$38,2,)","v":{"$error":"#N/A"}},"Sellplan",360,12352,9580,0]
[null,234,82,"2024-08-25","Dosenthunfisch","Koper","SLO",{"$f":"VLOOKUP(G235,Tabelle2!$B$3:$C$38,2,)","v":{"$error":"#N/A"}},"TDC","Novo Mesto",null,{"$f":"VLOOKUP(K235,Tabelle2!$B$3:$C$38,2,)","v":{"$error":"#N/A"}},"Larus",220,7107,18919,0]
[null,235,79,"2024-08-25","Arsen","Triest","IT",{"$f":"VLOOKUP(G236,Tabelle2!$B$3:$C$38,2,)","v":{"$error":"#VALUE!"}},"Terminal Container","Koper",null,{"$f":"VLOOKUP(K236,Tabelle2!$B$3:$C$38,2,)","v":{"$error":"#N/A"}},"TDC",92,5628,18400,0]
[null,236,88,"2024-08-25","Klebebandrollen","Triest","IT",{"$f":"VLOOKUP(G237,Tabelle2!$B$3:$C$38,2,)","v":{"$error":"#VALUE!"}},"Terminal Container","Ljubljana",null,{"$f":"VLOOKUP(K237,Tabelle2!$B$3:$C$38,2,)","v":{"$error":"#N/A"}},"AI Automotive",245,7003,18018,0]
[null,237,84,"2024-08-25","Dachziegel","Ljubiljana","SLO",{"$f":"VLOOKUP(G238,Tabelle2!$B$3:$C$38,2,)","v":{"$error":"#N/A"}},"Vilco","Klagenfurt a.W.",null,{"$f":"VLOOKUP(K238,Tabelle2!$B$3:$C$38,2,)","v":{"$error":"#N/A"}},"Kathode",253,8333,20364,0]
[null,238,95,"2024-08-27","Essig","Maribor","SLO",{"$f":"VLOOKUP(G239,Tabelle2!$B$3:$C$38,2,)","v":{"$error":"#N/A"}},"Eumefa","Zagreb",null,{"$f":"VLOOKUP(K239,Tabelle2!$B$3:$C$38,2,)","v":{"$error":"#N/A"}},"Fallow Cargo",214,3287,6954,660]
[null,239,96,"2024-08-27","Eiskaffee in Dosen","Zagreb","HR",{"$f":"VLOOKUP(G240,Tabelle2!$B$3:$C$38,2,)","v":{"$error":"#VALUE!"}},"Fallow Crago","Maribor",null,{"$f":"VLOOKUP(K240,Tabelle2!$B$3:$C$38,2,)","v":{"$error":"#N/A"}},"Stokes",195,6705,21259,400]
[null,240,93,"2024-08-27","Mineralwasser","Graz","AT",{"$f":"VLOOKUP(G241,Tabelle2!$B$3:$C$38,2,)","v":{"$error":"#VALUE!"}},"FCP","Fünfkirchen(Pecs)",null,{"$f":"VLOOKUP(K241,Tabelle2!$B$3:$C$38,2,)","v":{"$error":"#N/A"}},"Tradeaux",473,11619,23448,160]
[null,241,97,"2024-08-27","Granitblöcke","Maribor","SLO",{"$f":"VLOOKUP(G242,Tabelle2!$B$3:$C$38,2,)","v":{"$error":"#N/A"}},"Stokes","Rijeka",null,{"$f":"VLOOKUP(K242,Tabelle2!$B$3:$C$38,2,)","v":{"$error":"#N/A"}},"IKA Bohag",60,3900,23000,0]
[null,242,94,"2024-08-27","Baumstämme","Fünfkirchen(Pecs)","HU",{"$f":"VLOOKUP(G243,Tabelle2!$B$3:$C$38,2,)","v":{"$error":"#VALUE!"}},"Tradeaux","Maribor",null,{"$f":"VLOOKUP(K243,Tabelle2!$B$3:$C$38,2,)","v":{"$error":"#N/A"}},"Eumefa",286,9248,22740,0]
[null,243,100,"2024-08-28","Zement","Zagreb","HR",{"$f":"VLOOKUP(G244,Tabelle2!$B$3:$C$38,2,)","v":{"$error":"#VALUE!"}},"Fallow Crago","Rijeka",null,{"$f":"VLOOKUP(K244,Tabelle2!$B$3:$C$38,2,)","v":{"$error":"#N/A"}},"Adrica",203,2878,17304,0]
[null,244,99,"2024-08-28","Alkoholfreies Bier","Osijek","HR",{"$f":"VLOOKUP(G245,Tabelle2!$B$3:$C$38,2,)","v":{"$error":"#VALUE!"}},"Shuttle Cola","Zagreb",null,{"$f":"VLOOKUP(K245,Tabelle2!$B$3:$C$38,2,)","v":{"$error":"#N/A"}},"Fallow Cargo",255,6614,18128,360]
[null,245,98,"2024-08-28","Erbsen","Rijeka","HR",{"$f":"VLOOKUP(G246,Tabelle2!$B$3:$C$38,2,)","v":{"$error":"#VALUE!"}},"Stokes","Osijek",null,{"$f":"VLOOKUP(K246,Tabelle2!$B$3:$C$38,2,)","v":{"$error":"#N/A"}},"Vilco",410,12483,18239,0]
[null,246,101,"2024-08-29","Computerprozessoren","Rijeka","HR",{"$f":"VLOOKUP(G247,Tabelle2!$B$3:$C$38,2,)","v":{"$error":"#VALUE!"}},"Adrica","Genf",null,{"$f":"VLOOKUP(K247,Tabelle2!$B$3:$C$38,2,)","v":{"$error":"#N/A"}},"RTLog",1159,59729,3854,0]
[null,247,103,"2024-08-30","Gerüstmaterial","Saint Alban","FR",{"$f":"VLOOKUP(G248,Tabelle2!$B$3:$C$38,2,)","v":{"$error":"#VALUE!"}},"Nucleon","Genf",null,{"$f":"VLOOKUP(K248,Tabelle2!$B$3:$C$38,2,)","v":{"$error":"#N/A"}},"Sellplan",264,9406,22126,0]
[null,248,102,"2024-08-30","Dachpappe","Genf","CH",{"$f":"VLOOKUP(G249,Tabelle2!$B$3:$C$38,2,)","v":{"$error":"#VALUE!"}},"RTLog","Saint Alban",null,{"$f":"VLOOKUP(K249,Tabelle2!$B$3:$C$38,2,)","v":{"$error":"#N/A"}},"Nucleon",278,11526,19219,0]
[null,249,105,"2024-08-31","Lebende Schweine","Zürich","CH",{"$f":"VLOOKUP(G250,Tabelle2!$B$3:$C$38,2,)","v":{"$error":"#VALUE!"}},"EuroAcres","Bern",null,{"$f":"VLOOKUP(K250,Tabelle2!$B$3:$C$38,2,)","v":{"$error":"#N/A"}},"RTLog",208,4019,6000,1600]
[null,250,109,"2024-08-31","Explosivstoffe","Bern","CH",{"$f":"VLOOKUP(G251,Tabelle2!$B$3:$C$38,2,)","v":{"$error":"#VALUE!"}},"EuroAcres","Turin",null,{"$f":"VLOOKUP(K251,Tabelle2!$B$3:$C$38,2,)","v":{"$error":"#N/A"}},"EuroAcres",381,21549,12045,760]
[null,251,110,"2024-08-31","Ethan","Turin","IT",{"$f":"VLOOKUP(G252,Tabelle2!$B$3:$C$38,2,)","v":{"$error":"#VALUE!"}},"EuroAcres","Genf",null,{"$f":"VLOOKUP(K252,Tabelle2!$B$3:$C$38,2,)","v":{"$error":"#N/A"}},"Chamery",309,17236,21760,0]
[null,252,106,"2024-08-31","Erdaushub","Bern","CH",{"$f":"VLOOKUP(G253,Tabelle2!$B$3:$C$38,2,)","v":{"$error":"#VALUE!"}},"RTLog","Zürich",null,{"$f":"VLOOKUP(K253,Tabelle2!$B$3:$C$38,2,)","v":{"$error":"#N/A"}},"Steinbruch",261,4905,22100,0]
[null,253,104,"2024-08-31","Bremsflüssigkeit","Genf","CH",{"$f":"VLOOKUP(G254,Tabelle2!$B$3:$C$38,2,)","v":{"$error":"#VALUE!"}},"Sellplan","Zürich",null,{"$f":"VLOOKUP(K254,Tabelle2!$B$3:$C$38,2,)","v":{"$error":"#N/A"}},"EuroAcres",341,8231,5316,400]
[null,254,108,"2024-08-31","Frischer Fisch","Mailand","IT",{"$f":"VLOOKUP(G255,Tabelle2!$B$3:$C$38,2,)","v":{"$error":"#VALUE!"}},"Spinelli","Bern",null,{"$f":"VLOOKUP(K255,Tabelle2!$B$3:$C$38,2,)","v":{"$error":"#N/A"}},"EuroAcres",394,15455,18520,0]
[null,255,107,"2024-08-31","Acetylen","Zürich","CH",{"$f":"VLOOKUP(G256,Tabelle2!$B$3:$C$38,2,)","v":{"$error":"#VALUE!"}},"Steinbruch","Mailand",null,{"$f":"VLOOKUP(K256,Tabelle2!$B$3:$C$38,2,)","v":{"$error":"#N/A"}},"Spinelli",358,17020,9600,0]
[null,256,1,"2024-09-01","Autos","Genf","CH",{"$f":"VLOOKUP(G257,Tabelle2!$B$3:$C$38,2,)","v":{"$error":"#VALUE!"}},"Chamery","Bern",null,{"$f":"VLOOKUP(K257,Tabelle2!$B$3:$C$38,2,)","v":{"$error":"#N/A"}},"Chamery",151,9924,9010,0]
[null,257,2,"2024-09-01","Bauholz","Bern","CH",{"$f":"VLOOKUP(G258,Tabelle2!$B$3:$C$38,2,)","v":{"$error":"#VALUE!"}},"Chamery","Bern",null,{"$f":"VLOOKUP(K258,Tabelle2!$B$3:$C$38,2,)","v":{"$error":"#N/A"}},"Tree-Et",226,85415,17520,1200]
[null,258,6,"2024-09-01","Arbeitskleidung","Genf","CH",{"$f":"VLOOKUP(G259,Tabelle2!$B$3:$C$38,2,)","v":{"$error":"#VALUE!"}},"EuroAcres","Bern",null,{"$f":"VLOOKUP(K259,Tabelle2!$B$3:$C$38,2,)","v":{"$error":"#N/A"}},"SanBuilders",174,5947,16454,0]
[null,259,5,"2024-09-01","Chemikalien","Zürich","CH",{"$f":"VLOOKUP(G260,Tabelle2!$B$3:$C$38,2,)","v":{"$error":"#VALUE!"}},"NSOil","Genf",null,{"$f":"VLOOKUP(K260,Tabelle2!$B$3:$C$38,2,)","v":{"$error":"#N/A"}},"EuroAcres",297,14338,18810,100]
[null,260,4,"2024-09-01","Getsteinsmehl","Strassburg","FR",{"$f":"VLOOKUP(G261,Tabelle2!$B$3:$C$38,2,)","v":{"$error":"#VALUE!"}},"Steinbruch","Zürich",null,{"$f":"VLOOKUP(K261,Tabelle2!$B$3:$C$38,2,)","v":{"$error":"#N/A"}},"NSOil",227,4000,22100,400]
[null,261,7,"2024-09-01","Kies","Bern","CH",{"$f":"VLOOKUP(G262,Tabelle2!$B$3:$C$38,2,)","v":{"$error":"#VALUE!"}},"Steinbruch","Zürich",null,{"$f":"VLOOKUP(K262,Tabelle2!$B$3:$C$38,2,)","v":{"$error":"#N/A"}},"RTLog",245,3361,21970,0]
[null,262,3,"2024-09-01","Baumstämme","Bern","CH",{"$f":"VLOOKUP(G263,Tabelle2!$B$3:$C$38,2,)","v":{"$error":"#VALUE!"}},"Tree-Et","Strassburg",null,{"$f":"VLOOKUP(K263,Tabelle2!$B$3:$C$38,2,)","v":{"$error":"#N/A"}},"Steinbruch",413,8143,22740,0]
[null,263,9,"2024-09-04","Gabelstapler","Strassburg","FR",{"$f":"VLOOKUP(G264,Tabelle2!$B$3:$C$38,2,)","v":{"$error":"#VALUE!"}},"Kaarfor","Zürich",null,{"$f":"VLOOKUP(K264,Tabelle2!$B$3:$C$38,2,)","v":{"$error":"#N/A"}},"Steinbruch",348,10517,11230,400]
[null,264,8,"2024-09-04","Dachziegel","Zürich","CH",{"$f":"VLOOKUP(G265,Tabelle2!$B$3:$C$38,2,)","v":{"$error":"#VALUE!"}},"RTLog","Strassburg",null,{"$f":"VLOOKUP(K265,Tabelle2!$B$3:$C$38,2,)","v":{"$error":"#N/A"}},"Kaarfor",264,8624,20364,0]
[null,265,10,"2024-09-04","Gesteinsmehl","Zürich","CH",{"$f":"VLOOKUP(G266,Tabelle2!$B$3:$C$38,2,)","v":{"$error":"#VALUE!"}},"Steinbruch","Mailand",null,{"$f":"VLOOKUP(K266,Tabelle2!$B$3:$C$38,2,)","v":{"$error":"#N/A"}},"Cargotras",456,22100,22100,360]
[null,266,11,"2024-09-05","Atlantisches Kabeljaufilet","Mailand","IT",{"$f":"VLOOKUP(G267,Tabelle2!$B$3:$C$38,2,)","v":{"$error":"#VALUE!"}},"Cargotras","München",null,{"$f":"VLOOKUP(K267,Tabelle2!$B$3:$C$38,2,)","v":{"$error":"#N/A"}},"Kaarfor",563,21708,16450,160]
[null,267,14,"2024-09-06","Zement","Genf","CH",{"$f":"VLOOKUP(G268,Tabelle2!$B$3:$C$38,2,)","v":{"$error":"#VALUE!"}},"Chamery","Lyon",null,{"$f":"VLOOKUP(K268,Tabelle2!$B$3:$C$38,2,)","v":{"$error":"#N/A"}},"Trameri",193,3366,21630,980]
[null,268,13,"2024-09-06","Autos","Bern","CH",{"$f":"VLOOKUP(G269,Tabelle2!$B$3:$C$38,2,)","v":{"$error":"#VALUE!"}},"SanBuilders","Genf",null,{"$f":"VLOOKUP(K269,Tabelle2!$B$3:$C$38,2,)","v":{"$error":"#N/A"}},"Chamery",190,7181,9010,0]
[null,269,12,"2024-09-06","Klimanlagen","Zürich","CH",{"$f":"VLOOKUP(G270,Tabelle2!$B$3:$C$38,2,)","v":{"$error":"#VALUE!"}},"Stokes","Bern",null,{"$f":"VLOOKUP(K270,Tabelle2!$B$3:$C$38,2,)","v":{"$error":"#N/A"}},"SanBuilders",175,9455,9010,0]
[null,270,15,"2024-09-06","Elektrische Leitungen","Lyon","FR",{"$f":"VLOOKUP(G271,Tabelle2!$B$3:$C$38,2,)","v":{"$error":"#VALUE!"}},"Trameri","Genf",null,{"$f":"VLOOKUP(K271,Tabelle2!$B$3:$C$38,2,)","v":{"$error":"#N/A"}},"RTLog",170,5771,15358,0]
[null,271,16,"2024-09-07","Mozzarella","Bern","CH",{"$f":"VLOOKUP(G272,Tabelle2!$B$3:$C$38,2,)","v":{"$error":"#VALUE!"}},"RTLog","Mailand",null,{"$f":"VLOOKUP(K272,Tabelle2!$B$3:$C$38,2,)","v":{"$error":"#N/A"}},"IKA Bohag",370,15234,20080,0]
[null,272,17,"2024-09-07","Kokosnussöl","Zürich","CH",{"$f":"VLOOKUP(G273,Tabelle2!$B$3:$C$38,2,)","v":{"$error":"#VALUE!"}},"Stokes","Beja",null,{"$f":"VLOOKUP(K273,Tabelle2!$B$3:$C$38,2,)","v":{"$error":"#N/A"}},"Huerta del Mar Menor ",2348,79941,22199,0]
[null,273,18,"2024-09-08","Kerosin","Beja","PT",{"$f":"VLOOKUP(G274,Tabelle2!$B$3:$C$38,2,)","v":{"$error":"#VALUE!"}},"Huerta Del Mar","Oslo",null,{"$f":"VLOOKUP(K274,Tabelle2!$B$3:$C$38,2,)","v":{"$error":"#N/A"}},"ContainerPort",3892,222657,23580,400]
[null,274,23,"2024-09-08","Leitplanken","Oslo","NO",{"$f":"VLOOKUP(G275,Tabelle2!$B$3:$C$38,2,)","v":{"$error":"#VALUE!"}},"IKA Bohag","Oslo",null,{"$f":"VLOOKUP(K275,Tabelle2!$B$3:$C$38,2,)","v":{"$error":"#N/A"}},"MS Stein ",105,1158,22427,0]
[null,275,20,"2024-09-08","Magnesium","Oslo","NO",{"$f":"VLOOKUP(G276,Tabelle2!$B$3:$C$38,2,)","v":{"$error":"#VALUE!"}},"Konstnorr","Oslo",null,{"$f":"VLOOKUP(K276,Tabelle2!$B$3:$C$38,2,)","v":{"$error":"#N/A"}},"Marina",42,967,8800,1060]
[null,276,21,"2024-09-08","Leere Weinflaschen","Oslo","NO",{"$f":"VLOOKUP(G277,Tabelle2!$B$3:$C$38,2,)","v":{"$error":"#VALUE!"}},"Marina","Oslo",null,{"$f":"VLOOKUP(K277,Tabelle2!$B$3:$C$38,2,)","v":{"$error":"#N/A"}},"Sag&Tre",135,1327,13942,0]
[null,277,24,"2024-09-08","Speiseeis","Oslo","NO",{"$f":"VLOOKUP(G278,Tabelle2!$B$3:$C$38,2,)","v":{"$error":"#VALUE!"}},"MS Stein","Oslo",null,{"$f":"VLOOKUP(K278,Tabelle2!$B$3:$C$38,2,)","v":{"$error":"#N/A"}},"Norford",107,1184,14101,0]
[null,278,25,"2024-09-08","Containerbäume","Oslo","NO",{"$f":"VLOOKUP(G279,Tabelle2!$B$3:$C$38,2,)","v":{"$error":"#VALUE!"}},"Norford","Oslo",null,{"$f":"VLOOKUP(K279,Tabelle2!$B$3:$C$38,2,)","v":{"$error":"#N/A"}},"Polaris Lines",61,1118,4620,800]
[null,279,19,"2024-09-08","Styroporkisten","Oslo","NO",{"$f":"VLOOKUP(G280,Tabelle2!$B$3:$C$38,2,)","v":{"$error":"#VALUE!"}},"NSOil","Oslo",null,{"$f":"VLOOKUP(K280,Tabelle2!$B$3:$C$38,2,)","v":{"$error":"#N/A"}},"Kostnorr",127,855,3122,800]
[null,280,22,"2024-09-08","Saftkonzentrat","Oslo","NO",{"$f":"VLOOKUP(G281,Tabelle2!$B$3:$C$38,2,)","v":{"$error":"#VALUE!"}},"Sag&Tre","Oslo",null,{"$f":"VLOOKUP(K281,Tabelle2!$B$3:$C$38,2,)","v":{"$error":"#N/A"}},"IKA Bohag",116,1131,21789,0]
[null,281,28,"2024-09-10","Computerprozessoren","Bergen","NO",{"$f":"VLOOKUP(G282,Tabelle2!$B$3:$C$38,2,)","v":{"$error":"#VALUE!"}},"Drekkar Trans","Bergen",null,{"$f":"VLOOKUP(K282,Tabelle2!$B$3:$C$38,2,)","v":{"$error":"#N/A"}},"GNT",26,1346,3854,0]
[null,282,29,"2024-09-10","Schwefelsäure","Bergen","NO",{"$f":"VLOOKUP(G283,Tabelle2!$B$3:$C$38,2,)","v":{"$error":"#VALUE!"}},"GNT","Bergen",null,{"$f":"VLOOKUP(K283,Tabelle2!$B$3:$C$38,2,)","v":{"$error":"#N/A"}},"Nordic Crow",15,1230,14400,1000]
[null,283,30,"2024-09-10","Frischer Fisch","Bergen","NO",{"$f":"VLOOKUP(G284,Tabelle2!$B$3:$C$38,2,)","v":{"$error":"#VALUE!"}},"Nordic Crow","Bergen",null,{"$f":"VLOOKUP(K284,Tabelle2!$B$3:$C$38,2,)","v":{"$error":"#N/A"}},"Polar Fish",1,1212,18520,0]
[null,284,31,"2024-09-10","Lebende Schweine","Bergen","NO",{"$f":"VLOOKUP(G285,Tabelle2!$B$3:$C$38,2,)","v":{"$error":"#VALUE!"}},"Polar Fish","Bergen",null,{"$f":"VLOOKUP(K285,Tabelle2!$B$3:$C$38,2,)","v":{"$error":"#N/A"}},"Polaris Lines",17,931,6000,0]
[null,285,26,"2024-09-10","Gabelstapler","Oslo","NO",{"$f":"VLOOKUP(G286,Tabelle2!$B$3:$C$38,2,)","v":{"$error":"#VALUE!"}},"Polaris Lines","Bergen",null,{"$f":"VLOOKUP(K286,Tabelle2!$B$3:$C$38,2,)","v":{"$error":"#N/A"}},"Polaris Lines",613,23555,11230,0]
[null,286,27,"2024-09-10","Kerosin","Bergen","NO",{"$f":"VLOOKUP(G287,Tabelle2!$B$3:$C$38,2,)","v":{"$error":"#VALUE!"}},"Polaris Lines","Bergen",null,{"$f":"VLOOKUP(K287,Tabelle2!$B$3:$C$38,2,)","v":{"$error":"#N/A"}},"Drekkar Trans",19,1656,23580,0]
[null,287,32,"2024-09-10","Leere Weinflaschen","Bergen","NO",{"$f":"VLOOKUP(G288,Tabelle2!$B$3:$C$38,2,)","v":{"$error":"#VALUE!"}},"Polaris Lines","Stavanger",null,{"$f":"VLOOKUP(K288,Tabelle2!$B$3:$C$38,2,)","v":{"$error":"#N/A"}},"Renar Logistic",447,20350,13942,0]
[null,288,42,"2024-09-11","Eiskaffee in Dosen","Kristiansand","NO",{"$f":"VLOOKUP(G289,Tabelle2!$B$3:$C$38,2,)","v":{"$error":"#VALUE!"}},"AgroNord","Kristiansand",null,{"$f":"VLOOKUP(K289,Tabelle2!$B$3:$C$38,2,)","v":{"$error":"#N/A"}},"BHV",25,21000,979,0]
[null,289,43,"2024-09-11","Radlader","Kristiansand","NO",{"$f":"VLOOKUP(G290,Tabelle2!$B$3:$C$38,2,)","v":{"$error":"#VALUE!"}},"BHV","Kristiansand",null,{"$f":"VLOOKUP(K290,Tabelle2!$B$3:$C$38,2,)","v":{"$error":"#N/A"}},"Bjork",21,15000,1167,0]
[null,290,44,"2024-09-11","Sardinen in Dosen","Kristiansand","NO",{"$f":"VLOOKUP(G291,Tabelle2!$B$3:$C$38,2,)","v":{"$error":"#VALUE!"}},"Bjork","Kristiansand",null,{"$f":"VLOOKUP(K291,Tabelle2!$B$3:$C$38,2,)","v":{"$error":"#N/A"}},"GNT",25,18000,979,2180]
[null,291,45,"2024-09-11","Cyanid","Kristiansand","NO",{"$f":"VLOOKUP(G292,Tabelle2!$B$3:$C$38,2,)","v":{"$error":"#VALUE!"}},"GNT","Kristiansand",null,{"$f":"VLOOKUP(K292,Tabelle2!$B$3:$C$38,2,)","v":{"$error":"#N/A"}},"NS Chemicals",4,14000,709,1420]
[null,292,34,"2024-09-11","Motor Öl","Stavanger","NO",{"$f":"VLOOKUP(G293,Tabelle2!$B$3:$C$38,2,)","v":{"$error":"#VALUE!"}},"IKA Bohag","Stavanger",null,{"$f":"VLOOKUP(K293,Tabelle2!$B$3:$C$38,2,)","v":{"$error":"#N/A"}},"Nordic Crow",3,14000,637,360]
[null,293,39,"2024-09-11","Erdaushub","Stavanger","NO",{"$f":"VLOOKUP(G294,Tabelle2!$B$3:$C$38,2,)","v":{"$error":"#VALUE!"}},"MS Stein","Oslo",null,{"$f":"VLOOKUP(K294,Tabelle2!$B$3:$C$38,2,)","v":{"$error":"#N/A"}},"MS Stein ",365,22000,3531,0]
[null,294,40,"2024-09-11","Steine","Oslo","NO",{"$f":"VLOOKUP(G295,Tabelle2!$B$3:$C$38,2,)","v":{"$error":"#VALUE!"}},"MS Stein","Kristiansand",null,{"$f":"VLOOKUP(K295,Tabelle2!$B$3:$C$38,2,)","v":{"$error":"#N/A"}},"MS Stein ",284,23000,2404,960]
[null,295,41,"2024-09-11","Arbeitskleidung","Kristiansand","NO",{"$f":"VLOOKUP(G296,Tabelle2!$B$3:$C$38,2,)","v":{"$error":"#VALUE!"}},"MS Stein","Kristiansand",null,{"$f":"VLOOKUP(K296,Tabelle2!$B$3:$C$38,2,)","v":{"$error":"#N/A"}},"AgroNord",25,16000,953,0]
[null,296,35,"2024-09-11","Kerosin","Satvanger","NO",{"$f":"VLOOKUP(G297,Tabelle2!$B$3:$C$38,2,)","v":{"$error":"#VALUE!"}},"Noric Crow","Stavanger",null,{"$f":"VLOOKUP(K297,Tabelle2!$B$3:$C$38,2,)","v":{"$error":"#N/A"}},"NSOil",25,24000,1535,0]
[null,297,46,"2024-09-11","Desinfektionsmittel","Kristiansand","NO",{"$f":"VLOOKUP(G298,Tabelle2!$B$3:$C$38,2,)","v":{"$error":"#VALUE!"}},"NS Chemicals","Kristiansand",null,{"$f":"VLOOKUP(K298,Tabelle2!$B$3:$C$38,2,)","v":{"$error":"#N/A"}},"Polaris Lines",2,17000,630,0]
[null,298,36,"2024-09-11","Frischer Fisch","Stavanger","NO",{"$f":"VLOOKUP(G299,Tabelle2!$B$3:$C$38,2,)","v":{"$error":"#VALUE!"}},"NSOil","Stavanger",null,{"$f":"VLOOKUP(K299,Tabelle2!$B$3:$C$38,2,)","v":{"$error":"#N/A"}},"Polar Fish",25,19000,1001,160]
[null,299,37,"2024-09-11","Styroporkisten","Stavanger","NO",{"$f":"VLOOKUP(G300,Tabelle2!$B$3:$C$38,2,)","v":{"$error":"#VALUE!"}},"Polar Fish","Stavanger",null,{"$f":"VLOOKUP(K300,Tabelle2!$B$3:$C$38,2,)","v":{"$error":"#N/A"}},"Polaris Lines",23,3000,907,0]
[null,300,38,"2024-09-11","Bagger","Stavanger","NO",{"$f":"VLOOKUP(G301,Tabelle2!$B$3:$C$38,2,)","v":{"$error":"#VALUE!"}},"Polaris Lines","Stavanger",null,{"$f":"VLOOKUP(K301,Tabelle2!$B$3:$C$38,2,)","v":{"$error":"#N/A"}},"MS Stein ",25,22000,1273,0]
[null,301,47,"2024-09-11","Ziegelsteine","Kristiansand","NO",{"$f":"VLOOKUP(G302,Tabelle2!$B$3:$C$38,2,)","v":{"$error":"#VALUE!"}},"Polaris Lines","Stavanger",null,{"$f":"VLOOKUP(K302,Tabelle2!$B$3:$C$38,2,)","v":{"$error":"#N/A"}},"Polaris Lines",175,20257,2924,0]
[null,302,48,"2024-09-11","Saatgut","Stavanger","NO",{"$f":"VLOOKUP(G303,Tabelle2!$B$3:$C$38,2,)","v":{"$error":"#VALUE!"}},"Polaris Lines","Oslo",null,{"$f":"VLOOKUP(K303,Tabelle2!$B$3:$C$38,2,)","v":{"$error":"#N/A"}},"Polaris Lines",536,19000,8748,0]
[null,303,33,"2024-09-11","Gabelstapler","Stavanger","NO",{"$f":"VLOOKUP(G304,Tabelle2!$B$3:$C$38,2,)","v":{"$error":"#VALUE!"}},"Renar Logistik","Stavanger",null,{"$f":"VLOOKUP(K304,Tabelle2!$B$3:$C$38,2,)","v":{"$error":"#N/A"}},"IKA Bohag",25,11000,1265,0]
[null,304,50,"2024-09-12","Motorkühler","Göteborg","SE",{"$f":"VLOOKUP(G305,Tabelle2!$B$3:$C$38,2,)","v":{"$error":"#VALUE!"}},"AgroNord","Oslo",null,{"$f":"VLOOKUP(K305,Tabelle2!$B$3:$C$38,2,)","v":{"$error":"#N/A"}},"Marina",277,9877,9187,0]
[null,305,54,"2024-09-12","Topfpflanzen","Uppsala","SE",{"$f":"VLOOKUP(G306,Tabelle2!$B$3:$C$38,2,)","v":{"$error":"#VALUE!"}},"GNT","Uppsala",null,{"$f":"VLOOKUP(K306,Tabelle2!$B$3:$C$38,2,)","v":{"$error":"#N/A"}},"Norrfood",2,1344,3620,0]
[null,306,53,"2024-09-12","Dieselgeneratoren","Uppsala","SE",{"$f":"VLOOKUP(G307,Tabelle2!$B$3:$C$38,2,)","v":{"$error":"#VALUE!"}},"IKA Bohag","Uppsala",null,{"$f":"VLOOKUP(K307,Tabelle2!$B$3:$C$38,2,)","v":{"$error":"#N/A"}},"GNT",2,1481,21516,860]
[null,307,56,"2024-09-12","Chemisches Sorptionsmittel","Stockholm","SE",{"$f":"VLOOKUP(G308,Tabelle2!$B$3:$C$38,2,)","v":{"$error":"#VALUE!"}},"Marina","Stockholm",null,{"$f":"VLOOKUP(K308,Tabelle2!$B$3:$C$38,2,)","v":{"$error":"#N/A"}},"NS Chemicals",66,1163,11883,0]
[null,308,55,"2024-09-12","Munition","Uppsala","SE",{"$f":"VLOOKUP(G309,Tabelle2!$B$3:$C$38,2,)","v":{"$error":"#VALUE!"}},"Norrfood","Stockholm",null,{"$f":"VLOOKUP(K309,Tabelle2!$B$3:$C$38,2,)","v":{"$error":"#N/A"}},"Marina",70,4094,18810,600]
[null,309,49,"2024-09-12","Ziegelsteine","Oslo","NO",{"$f":"VLOOKUP(G310,Tabelle2!$B$3:$C$38,2,)","v":{"$error":"#VALUE!"}},"Polaris Lines","Göteborg",null,{"$f":"VLOOKUP(K310,Tabelle2!$B$3:$C$38,2,)","v":{"$error":"#N/A"}},"AgroNord",328,20257,10218,0]
[null,310,52,"2024-09-12","Walze -DYNA CC-2200","Kapellskär","SE",{"$f":"VLOOKUP(G311,Tabelle2!$B$3:$C$38,2,)","v":{"$error":"#VALUE!"}},"Polaris Lines","Uppsala",null,{"$f":"VLOOKUP(K311,Tabelle2!$B$3:$C$38,2,)","v":{"$error":"#N/A"}},"IKA Bohag",124,5903,8500,0]
[null,311,51,"2024-09-12","Kaviar","Oslo","NO",{"$f":"VLOOKUP(G312,Tabelle2!$B$3:$C$38,2,)","v":{"$error":"#VALUE!"}},"Renar Logistik","Kapellskär",null,{"$f":"VLOOKUP(K312,Tabelle2!$B$3:$C$38,2,)","v":{"$error":"#N/A"}},"Polaris Lines",588,21347,14629,0]
[null,312,71,"2024-09-13","Topfpflanzen","Kalmar","SE",{"$f":"VLOOKUP(G313,Tabelle2!$B$3:$C$38,2,)","v":{"$error":"#VALUE!"}},"AgroNord","Kalmar",null,{"$f":"VLOOKUP(K313,Tabelle2!$B$3:$C$38,2,)","v":{"$error":"#N/A"}},"Norrfood",15,1349,3620,0]
[null,313,60,"2024-09-13","Motorräder","Stockholm","SE",{"$f":"VLOOKUP(G314,Tabelle2!$B$3:$C$38,2,)","v":{"$error":"#VALUE!"}},"BHV","Stockholm",null,{"$f":"VLOOKUP(K314,Tabelle2!$B$3:$C$38,2,)","v":{"$error":"#N/A"}},"NS Chemicals",42,1558,15048,0]
[null,314,75,"2024-09-13","Arsen","Växjö","SE",{"$f":"VLOOKUP(G315,Tabelle2!$B$3:$C$38,2,)","v":{"$error":"#VALUE!"}},"BHV","Växjö",null,{"$f":"VLOOKUP(K315,Tabelle2!$B$3:$C$38,2,)","v":{"$error":"#N/A"}},"Bjork",92,1341,20010,0]
[null,315,81,"2024-09-13","Luftpost","Linköping","SE",{"$f":"VLOOKUP(G316,Tabelle2!$B$3:$C$38,2,)","v":{"$error":"#VALUE!"}},"BHV","Linköping",null,{"$f":"VLOOKUP(K316,Tabelle2!$B$3:$C$38,2,)","v":{"$error":"#N/A"}},"Dekkar Trans",2,1274,10897,0]
[null,316,76,"2024-09-13","Baumstämme","Växjö","SE",{"$f":"VLOOKUP(G317,Tabelle2!$B$3:$C$38,2,)","v":{"$error":"#VALUE!"}},"Bjork","Växjö",null,{"$f":"VLOOKUP(K317,Tabelle2!$B$3:$C$38,2,)","v":{"$error":"#N/A"}},"Drekkar Trans",117,1118,22740,0]
[null,317,77,"2024-09-13","Motorkühler","Växjö","SE",{"$f":"VLOOKUP(G318,Tabelle2!$B$3:$C$38,2,)","v":{"$error":"#VALUE!"}},"Drekkar Trans","Växjö",null,{"$f":"VLOOKUP(K318,Tabelle2!$B$3:$C$38,2,)","v":{"$error":"#N/A"}},"Norrfood",2,1129,9877,0]
[null,318,82,"2024-09-13","Dosenschweinefleisch","Linköping","SE",{"$f":"VLOOKUP(G319,Tabelle2!$B$3:$C$38,2,)","v":{"$error":"#VALUE!"}},"Drekkar Trans","Linköping",null,{"$f":"VLOOKUP(K319,Tabelle2!$B$3:$C$38,2,)","v":{"$error":"#N/A"}},"IKA Bohag",3,1169,22460,0]
[null,319,59,"2024-09-13","Vierkantrohre","Stockholm","SE",{"$f":"VLOOKUP(G320,Tabelle2!$B$3:$C$38,2,)","v":{"$error":"#VALUE!"}},"IKA Bohag","Stockholm",null,{"$f":"VLOOKUP(K320,Tabelle2!$B$3:$C$38,2,)","v":{"$error":"#N/A"}},"BHV",16,904,12195,800]
[null,320,73,"2024-09-13","Heizöl","Kalmar","SE",{"$f":"VLOOKUP(G321,Tabelle2!$B$3:$C$38,2,)","v":{"$error":"#VALUE!"}},"IKA Bohag","Växjö",null,{"$f":"VLOOKUP(K321,Tabelle2!$B$3:$C$38,2,)","v":{"$error":"#N/A"}},"Nordic Stenbrott",144,4682,25710,0]
[null,321,83,"2024-09-13","Yacht-Queen V39","Linköping","SE",{"$f":"VLOOKUP(G322,Tabelle2!$B$3:$C$38,2,)","v":{"$error":"#VALUE!"}},"IKA Bohag","Linköping",null,{"$f":"VLOOKUP(K322,Tabelle2!$B$3:$C$38,2,)","v":{"$error":"#N/A"}},"Kostnorr",2,166,9900,400]
[null,322,58,"2024-09-13","Hüttenkäse","Stockholm","SE",{"$f":"VLOOKUP(G323,Tabelle2!$B$3:$C$38,2,)","v":{"$error":"#VALUE!"}},"Konstnorr","Stockholm",null,{"$f":"VLOOKUP(K323,Tabelle2!$B$3:$C$38,2,)","v":{"$error":"#N/A"}},"IKA Bohag",14,1206,18751,400]
[null,323,84,"2024-09-13","Desinfektionsmittel","Linköping","SE",{"$f":"VLOOKUP(G324,Tabelle2!$B$3:$C$38,2,)","v":{"$error":"#VALUE!"}},"Konstnorr","Linköping",null,{"$f":"VLOOKUP(K324,Tabelle2!$B$3:$C$38,2,)","v":{"$error":"#N/A"}},"Kostnorr",29,1183,16820,0]
[null,324,85,"2024-09-13","Weißer Phosphor","Linköping","SE",{"$f":"VLOOKUP(G325,Tabelle2!$B$3:$C$38,2,)","v":{"$error":"#VALUE!"}},"Konstnorr","Linköping",null,{"$f":"VLOOKUP(K325,Tabelle2!$B$3:$C$38,2,)","v":{"$error":"#N/A"}},"Norrfood",30,1372,11310,0]
[null,325,69,"2024-09-13","Erdaushub","Kalmar","SE",{"$f":"VLOOKUP(G326,Tabelle2!$B$3:$C$38,2,)","v":{"$error":"#VALUE!"}},"Nordic Stenbrott","Kalmar",null,{"$f":"VLOOKUP(K326,Tabelle2!$B$3:$C$38,2,)","v":{"$error":"#N/A"}},"NSOil",100,898,22100,0]
[null,326,74,"2024-09-13","Gabelstapler","Växjö","SE",{"$f":"VLOOKUP(G327,Tabelle2!$B$3:$C$38,2,)","v":{"$error":"#VALUE!"}},"Nordic Stenbrott","Växjö",null,{"$f":"VLOOKUP(K327,Tabelle2!$B$3:$C$38,2,)","v":{"$error":"#N/A"}},"BHV",56,1361,11320,0]
[null,327,80,"2024-09-13","Kugelventile","Linköping","SE",{"$f":"VLOOKUP(G328,Tabelle2!$B$3:$C$38,2,)","v":{"$error":"#VALUE!"}},"Nordic Stenbrott","Linköping",null,{"$f":"VLOOKUP(K328,Tabelle2!$B$3:$C$38,2,)","v":{"$error":"#N/A"}},"BHV",71,1242,22173,0]
[null,328,62,"2024-09-13","Erbsen","Stockholm","SE",{"$f":"VLOOKUP(G329,Tabelle2!$B$3:$C$38,2,)","v":{"$error":"#VALUE!"}},"Norrfood","Stockholm",null,{"$f":"VLOOKUP(K329,Tabelle2!$B$3:$C$38,2,)","v":{"$error":"#N/A"}},"Norsken",12,1178,18239,0]
[null,329,72,"2024-09-13","Gabelstapler","Kalmar","SE",{"$f":"VLOOKUP(G330,Tabelle2!$B$3:$C$38,2,)","v":{"$error":"#VALUE!"}},"Norrfood","Kalmar",null,{"$f":"VLOOKUP(K330,Tabelle2!$B$3:$C$38,2,)","v":{"$error":"#N/A"}},"IKA Bohag",8,1361,11230,0]
[null,330,78,"2024-09-13","Desinfektionsmittel","Växjö","SE",{"$f":"VLOOKUP(G331,Tabelle2!$B$3:$C$38,2,)","v":{"$error":"#VALUE!"}},"Norrfood","Växjö",null,{"$f":"VLOOKUP(K331,Tabelle2!$B$3:$C$38,2,)","v":{"$error":"#N/A"}},"Renar Logistic",3,1183,16820,0]
[null,331,86,"2024-09-13","Fettversiegelte Lager","Linköping","SE",{"$f":"VLOOKUP(G332,Tabelle2!$B$3:$C$38,2,)","v":{"$error":"#VALUE!"}},"Norrfood","Linköping",null,{"$f":"VLOOKUP(K332,Tabelle2!$B$3:$C$38,2,)","v":{"$error":"#N/A"}},"Sag&Tre",17,1200,21582,1560]
[null,332,63,"2024-09-13","Kleintransporter","Stockholm","SE",{"$f":"VLOOKUP(G333,Tabelle2!$B$3:$C$38,2,)","v":{"$error":"#VALUE!"}},"Norsken","Stockholm",null,{"$f":"VLOOKUP(K333,Tabelle2!$B$3:$C$38,2,)","v":{"$error":"#N/A"}},"Scania",3,1447,8400,0]
[null,333,64,"2024-09-13","Digger 100","Stockholm","SE",{"$f":"VLOOKUP(G334,Tabelle2!$B$3:$C$38,2,)","v":{"$error":"#VALUE!"}},"Norsken","Nynäshamn",null,{"$f":"VLOOKUP(K334,Tabelle2!$B$3:$C$38,2,)","v":{"$error":"#N/A"}},"Polaris Lines",31,2560,15400,0]
[null,334,57,"2024-09-13","Salz&Gewürze","Stockholm","SE",{"$f":"VLOOKUP(G335,Tabelle2!$B$3:$C$38,2,)","v":{"$error":"#VALUE!"}},"NS Chemicals","Stockholm",null,{"$f":"VLOOKUP(K335,Tabelle2!$B$3:$C$38,2,)","v":{"$error":"#N/A"}},"Konstnorr",64,1022,12644,0]
[null,335,61,"2024-09-13","Bremsbeläge","Stockholm","SE",{"$f":"VLOOKUP(G336,Tabelle2!$B$3:$C$38,2,)","v":{"$error":"#VALUE!"}},"NS Chemicals","Stockholm",null,{"$f":"VLOOKUP(K336,Tabelle2!$B$3:$C$38,2,)","v":{"$error":"#N/A"}},"Norrfood",49,1178,20810,0]
[null,336,70,"2024-09-13","Kerosin","Kalmar","SE",{"$f":"VLOOKUP(G337,Tabelle2!$B$3:$C$38,2,)","v":{"$error":"#VALUE!"}},"NSOil","Kalmar",null,{"$f":"VLOOKUP(K337,Tabelle2!$B$3:$C$38,2,)","v":{"$error":"#N/A"}},"AgroNord",13,1665,23580,0]
[null,337,65,"2024-09-13","Motoröl","Nynäshamn","SE",{"$f":"VLOOKUP(G338,Tabelle2!$B$3:$C$38,2,)","v":{"$error":"#VALUE!"}},"Polaris Lines","Södertälje",null,{"$f":"VLOOKUP(K338,Tabelle2!$B$3:$C$38,2,)","v":{"$error":"#N/A"}},"Scania Fabrik",44,1879,18754,0]
[null,338,79,"2024-09-13","Digger 100","Växjö","SE",{"$f":"VLOOKUP(G339,Tabelle2!$B$3:$C$38,2,)","v":{"$error":"#VALUE!"}},"Renar Logistik","Linköping",null,{"$f":"VLOOKUP(K339,Tabelle2!$B$3:$C$38,2,)","v":{"$error":"#N/A"}},"Nordic Stenbrott",275,9867,15400,400]
[null,339,66,"2024-09-13","Scania - Zugmaschinen","Södertälje","SE",{"$f":"VLOOKUP(G340,Tabelle2!$B$3:$C$38,2,)","v":{"$error":"#VALUE!"}},"Scania Fabrik","Stockholm",null,{"$f":"VLOOKUP(K340,Tabelle2!$B$3:$C$38,2,)","v":{"$error":"#N/A"}},"Scania Händler",37,5301,14590,0]
[null,340,68,"2024-09-13","Raupenbagger","Södertälje","SE",{"$f":"VLOOKUP(G341,Tabelle2!$B$3:$C$38,2,)","v":{"$error":"#VALUE!"}},"Scania Fabrik","Kalmar",null,{"$f":"VLOOKUP(K341,Tabelle2!$B$3:$C$38,2,)","v":{"$error":"#N/A"}},"Nordic Stenbrott",355,12991,21720,0]
[null,341,67,"2024-09-13","Heizöl","Stockholm","SE",{"$f":"VLOOKUP(G342,Tabelle2!$B$3:$C$38,2,)","v":{"$error":"#VALUE!"}},"Scania Händler","Södertälje",null,{"$f":"VLOOKUP(K342,Tabelle2!$B$3:$C$38,2,)","v":{"$error":"#N/A"}},"Scania Fabrik",33,2303,25710,0]
[null,342,114,"2024-09-14","Styroporkisten","Göteborg","SE",{"$f":"VLOOKUP(G343,Tabelle2!$B$3:$C$38,2,)","v":{"$error":"#VALUE!"}},"AgroNord","Jönköping",null,{"$f":"VLOOKUP(K343,Tabelle2!$B$3:$C$38,2,)","v":{"$error":"#N/A"}},"Aria Food",106,2555,3122,0]
[null,343,100,"2024-09-14","Fettversiegelte Lager","Trelleborg","SE",{"$f":"VLOOKUP(G344,Tabelle2!$B$3:$C$38,2,)","v":{"$error":"#VALUE!"}},"Aria Food","Trelleborg",null,{"$f":"VLOOKUP(K344,Tabelle2!$B$3:$C$38,2,)","v":{"$error":"#N/A"}},"Polaris Lines",18,1200,21582,1000]
[null,344,101,"2024-09-14","Kleintransporter","Trelleborg","SE",{"$f":"VLOOKUP(G345,Tabelle2!$B$3:$C$38,2,)","v":{"$error":"#VALUE!"}},"Aria Food","Jönköping",null,{"$f":"VLOOKUP(K345,Tabelle2!$B$3:$C$38,2,)","v":{"$error":"#N/A"}},"Aria Food",440,12435,6150,460]
[null,345,102,"2024-09-14","Wasserfreies Amoniak","Jönköping","SE",{"$f":"VLOOKUP(G346,Tabelle2!$B$3:$C$38,2,)","v":{"$error":"#VALUE!"}},"Aria Food","Jönköping",null,{"$f":"VLOOKUP(K346,Tabelle2!$B$3:$C$38,2,)","v":{"$error":"#N/A"}},"BHV",169,1562,22630,980]
[null,346,115,"2024-09-14","Klimanlagen","Jönköping","SE",{"$f":"VLOOKUP(G347,Tabelle2!$B$3:$C$38,2,)","v":{"$error":"#VALUE!"}},"Aria Food","Örebro",null,{"$f":"VLOOKUP(K347,Tabelle2!$B$3:$C$38,2,)","v":{"$error":"#N/A"}},"IKA Bohag",203,8308,11000,280]
[null,347,87,"2024-09-14","Sojamilch","Linköping","SE",{"$f":"VLOOKUP(G348,Tabelle2!$B$3:$C$38,2,)","v":{"$error":"#VALUE!"}},"BHV","Västeras",null,{"$f":"VLOOKUP(K348,Tabelle2!$B$3:$C$38,2,)","v":{"$error":"#N/A"}},"Norrfood",240,6243,23738,160]
[null,348,92,"2024-09-14","Erz","Örebro","SE",{"$f":"VLOOKUP(G349,Tabelle2!$B$3:$C$38,2,)","v":{"$error":"#VALUE!"}},"BHV","Örebro",null,{"$f":"VLOOKUP(K349,Tabelle2!$B$3:$C$38,2,)","v":{"$error":"#N/A"}},"IKA Bohag",64,866,22200,0]
[null,349,95,"2024-09-14","Dachfenster","Örebro","SE",{"$f":"VLOOKUP(G350,Tabelle2!$B$3:$C$38,2,)","v":{"$error":"#VALUE!"}},"BHV","Karlskrona",null,{"$f":"VLOOKUP(K350,Tabelle2!$B$3:$C$38,2,)","v":{"$error":"#N/A"}},"Polaris Lines",548,13473,11873,560]
[null,350,103,"2024-09-14","Schnittblumen","Jönköping","SE",{"$f":"VLOOKUP(G351,Tabelle2!$B$3:$C$38,2,)","v":{"$error":"#VALUE!"}},"BHV","Jönköping",null,{"$f":"VLOOKUP(K351,Tabelle2!$B$3:$C$38,2,)","v":{"$error":"#N/A"}},"GNT",2,1236,1759,0]
[null,351,108,"2024-09-14","Sand","Göteborg","SE",{"$f":"VLOOKUP(G352,Tabelle2!$B$3:$C$38,2,)","v":{"$error":"#VALUE!"}},"BHV","Göteborg",null,{"$f":"VLOOKUP(K352,Tabelle2!$B$3:$C$38,2,)","v":{"$error":"#N/A"}},"Norrsken",3,955,23072,1960]
[null,352,97,"2024-09-14","Altkunststoff","Karlskrona","SE",{"$f":"VLOOKUP(G353,Tabelle2!$B$3:$C$38,2,)","v":{"$error":"#VALUE!"}},"Drekkar Trans","Karlskrona",null,{"$f":"VLOOKUP(K353,Tabelle2!$B$3:$C$38,2,)","v":{"$error":"#N/A"}},"Norrfood",3,979,7153,800]
[null,353,104,"2024-09-14","Honig","Jönköping","SE",{"$f":"VLOOKUP(G354,Tabelle2!$B$3:$C$38,2,)","v":{"$error":"#VALUE!"}},"GNT","Jönköping",null,{"$f":"VLOOKUP(K354,Tabelle2!$B$3:$C$38,2,)","v":{"$error":"#N/A"}},"Nordic Stenbrott",77,1210,20242,2000]
[null,354,106,"2024-09-14","Sandwichpaneele","Jönköping","SE",{"$f":"VLOOKUP(G355,Tabelle2!$B$3:$C$38,2,)","v":{"$error":"#VALUE!"}},"GNT","Göteborg",null,{"$f":"VLOOKUP(K355,Tabelle2!$B$3:$C$38,2,)","v":{"$error":"#N/A"}},"Sag&Tre",159,4809,12319,760]
[null,355,93,"2024-09-14","Motorradgabeln","Örebro","SE",{"$f":"VLOOKUP(G356,Tabelle2!$B$3:$C$38,2,)","v":{"$error":"#VALUE!"}},"IKA Bohag","Örebro",null,{"$f":"VLOOKUP(K356,Tabelle2!$B$3:$C$38,2,)","v":{"$error":"#N/A"}},"Nordic Crow",59,1333,16959,0]
[null,356,89,"2024-09-14","Erdaushub","Västeras","SE",{"$f":"VLOOKUP(G357,Tabelle2!$B$3:$C$38,2,)","v":{"$error":"#VALUE!"}},"Konstnorr","Västeras",null,{"$f":"VLOOKUP(K357,Tabelle2!$B$3:$C$38,2,)","v":{"$error":"#N/A"}},"Renar Logistic",4,901,22100,200]
[null,357,94,"2024-09-14","Arsen","Örebro","SE",{"$f":"VLOOKUP(G358,Tabelle2!$B$3:$C$38,2,)","v":{"$error":"#VALUE!"}},"Nordic Crow","Örebro",null,{"$f":"VLOOKUP(K358,Tabelle2!$B$3:$C$38,2,)","v":{"$error":"#N/A"}},"Norrsken",3,1341,20010,0]
[null,358,105,"2024-09-14","Postpakete","Jönköping","SE",{"$f":"VLOOKUP(G359,Tabelle2!$B$3:$C$38,2,)","v":{"$error":"#VALUE!"}},"Nordic Stenbrott","Jönköping",null,{"$f":"VLOOKUP(K359,Tabelle2!$B$3:$C$38,2,)","v":{"$error":"#N/A"}},"Norrfood",70,1315,11474,800]
[null,359,88,"2024-09-14","Explosivstoffe","Västeras","SE",{"$f":"VLOOKUP(G360,Tabelle2!$B$3:$C$38,2,)","v":{"$error":"#VALUE!"}},"Norrfood","Västeras",null,{"$f":"VLOOKUP(K360,Tabelle2!$B$3:$C$38,2,)","v":{"$error":"#N/A"}},"Konstnorr",3,1478,12045,0]
[null,360,98,"2024-09-14","Gefrorener Seehecht","Karlskrona","SE",{"$f":"VLOOKUP(G361,Tabelle2!$B$3:$C$38,2,)","v":{"$error":"#VALUE!"}},"Norrfood","Karlskrona",null,{"$f":"VLOOKUP(K361,Tabelle2!$B$3:$C$38,2,)","v":{"$error":"#N/A"}},"Norrsken",2,1190,17411,0]
[null,361,99,"2024-09-14","Pesto","Karlskrona","SE",{"$f":"VLOOKUP(G362,Tabelle2!$B$3:$C$38,2,)","v":{"$error":"#VALUE!"}},"Norrsken","Trelleborg",null,{"$f":"VLOOKUP(K362,Tabelle2!$B$3:$C$38,2,)","v":{"$error":"#N/A"}},"Aria Food",177,6632,18926,0]
[null,362,109,"2024-09-14","Mamorblöcke","Göteborg","SE",{"$f":"VLOOKUP(G363,Tabelle2!$B$3:$C$38,2,)","v":{"$error":"#VALUE!"}},"Norrsken","Göteborg",null,{"$f":"VLOOKUP(K363,Tabelle2!$B$3:$C$38,2,)","v":{"$error":"#N/A"}},"NSOil",102,1159,22500,0]
[null,363,113,"2024-09-14","Nylonschnurr","Göteborg","SE",{"$f":"VLOOKUP(G364,Tabelle2!$B$3:$C$38,2,)","v":{"$error":"#VALUE!"}},"Norrsken","Göteborg",null,{"$f":"VLOOKUP(K364,Tabelle2!$B$3:$C$38,2,)","v":{"$error":"#N/A"}},"AgroNord",147,1144,23232,0]
[null,364,110,"2024-09-14","Kleintransporter","Göteborg","SE",{"$f":"VLOOKUP(G365,Tabelle2!$B$3:$C$38,2,)","v":{"$error":"#VALUE!"}},"NSOil","Göteborg",null,{"$f":"VLOOKUP(K365,Tabelle2!$B$3:$C$38,2,)","v":{"$error":"#N/A"}},"Polar Fish",1,1453,8400,0]
[null,365,111,"2024-09-14","Baumstämme","Göteborg","SE",{"$f":"VLOOKUP(G366,Tabelle2!$B$3:$C$38,2,)","v":{"$error":"#VALUE!"}},"Polar Fish","Göteborg",null,{"$f":"VLOOKUP(K366,Tabelle2!$B$3:$C$38,2,)","v":{"$error":"#N/A"}},"Polaris Lines",86,1118,22740,400]
[null,366,96,"2024-09-14","Getränke","Karlskrona","SE",{"$f":"VLOOKUP(G367,Tabelle2!$B$3:$C$38,2,)","v":{"$error":"#VALUE!"}},"Polaris Lines","Karlskrona",null,{"$f":"VLOOKUP(K367,Tabelle2!$B$3:$C$38,2,)","v":{"$error":"#N/A"}},"Drekkar Trans",18,1245,23000,0]
[null,367,112,"2024-09-14","Arbeitskleidung","Göteborg","SE",{"$f":"VLOOKUP(G368,Tabelle2!$B$3:$C$38,2,)","v":{"$error":"#VALUE!"}},"Polaris Lines","Göteborg",null,{"$f":"VLOOKUP(K368,Tabelle2!$B$3:$C$38,2,)","v":{"$error":"#N/A"}},"VPC",57,1142,16454,0]
[null,368,90,"2024-09-14","Autos","Västeras","SE",{"$f":"VLOOKUP(G369,Tabelle2!$B$3:$C$38,2,)","v":{"$error":"#VALUE!"}},"Renar Logistik","Södertälje",null,{"$f":"VLOOKUP(K369,Tabelle2!$B$3:$C$38,2,)","v":{"$error":"#N/A"}},"Scania",181,7081,9010,400]
[null,369,107,"2024-09-14","Bremsflüssigkeit","Göteborg","SE",{"$f":"VLOOKUP(G370,Tabelle2!$B$3:$C$38,2,)","v":{"$error":"#VALUE!"}},"Sag&Tre","Göteborg",null,{"$f":"VLOOKUP(K370,Tabelle2!$B$3:$C$38,2,)","v":{"$error":"#N/A"}},"BHV",244,1096,5848,0]
[null,370,91,"2024-09-14","Motorradgabeln","Södertälje","SE",{"$f":"VLOOKUP(G371,Tabelle2!$B$3:$C$38,2,)","v":{"$error":"#VALUE!"}},"Scania","Örebro",null,{"$f":"VLOOKUP(K371,Tabelle2!$B$3:$C$38,2,)","v":{"$error":"#N/A"}},"BHV",172,6110,16959,0]
[null,371,119,"2024-09-15","Stickstoff","Växjö","SE",{"$f":"VLOOKUP(G372,Tabelle2!$B$3:$C$38,2,)","v":{"$error":"#VALUE!"}},"Bjork","Helsingborg",null,{"$f":"VLOOKUP(K372,Tabelle2!$B$3:$C$38,2,)","v":{"$error":"#N/A"}},"GNT",163,7632,7830,400]
[null,372,123,"2024-09-15","Kautschuk","Malmö","SE",{"$f":"VLOOKUP(G373,Tabelle2!$B$3:$C$38,2,)","v":{"$error":"#VALUE!"}},"Drekkar Trans","Malmö",null,{"$f":"VLOOKUP(K373,Tabelle2!$B$3:$C$38,2,)","v":{"$error":"#N/A"}},"IKA Bohag",30,1267,31730,400]
[null,373,120,"2024-09-15","Raupenbagger","Helsingborg","SE",{"$f":"VLOOKUP(G374,Tabelle2!$B$3:$C$38,2,)","v":{"$error":"#VALUE!"}},"GNT","Helsingborg",null,{"$f":"VLOOKUP(K374,Tabelle2!$B$3:$C$38,2,)","v":{"$error":"#N/A"}},"Konstnorr",5,1372,21720,0]
[null,374,122,"2024-09-15","Erz","Helsingborg","SE",{"$f":"VLOOKUP(G375,Tabelle2!$B$3:$C$38,2,)","v":{"$error":"#VALUE!"}},"GNT","Malmö",null,{"$f":"VLOOKUP(K375,Tabelle2!$B$3:$C$38,2,)","v":{"$error":"#N/A"}},"Drekkar Trans",116,1292,22200,0]
[null,375,116,"2024-09-15","Schutzkleidung","Örebro","SE",{"$f":"VLOOKUP(G376,Tabelle2!$B$3:$C$38,2,)","v":{"$error":"#VALUE!"}},"IKA Bohag","Jönköping",null,{"$f":"VLOOKUP(K376,Tabelle2!$B$3:$C$38,2,)","v":{"$error":"#N/A"}},"Nordic Stenbrott",303,6773,20536,0]
[null,376,124,"2024-09-15","Natriumhypochlorit","Malmö","SE",{"$f":"VLOOKUP(G377,Tabelle2!$B$3:$C$38,2,)","v":{"$error":"#VALUE!"}},"IKA Bohag","Malmö",null,{"$f":"VLOOKUP(K377,Tabelle2!$B$3:$C$38,2,)","v":{"$error":"#N/A"}},"Konstnorr",3,1429,18810,800]
[null,377,121,"2024-09-15","Olivenbäume","Helsingborg","SE",{"$f":"VLOOKUP(G378,Tabelle2!$B$3:$C$38,2,)","v":{"$error":"#VALUE!"}},"Konstnorr","Helsingborg",null,{"$f":"VLOOKUP(K378,Tabelle2!$B$3:$C$38,2,)","v":{"$error":"#N/A"}},"Norrfood",2,1226,4620,0]
[null,378,125,"2024-09-15","Autos","Malmö","SE",{"$f":"VLOOKUP(G379,Tabelle2!$B$3:$C$38,2,)","v":{"$error":"#VALUE!"}},"Konstnorr","Malmö",null,{"$f":"VLOOKUP(K379,Tabelle2!$B$3:$C$38,2,)","v":{"$error":"#N/A"}},"Norrsken",6,1537,9010,800]
[null,379,117,"2024-09-15","Steinwolle","Jönköping","SE",{"$f":"VLOOKUP(G380,Tabelle2!$B$3:$C$38,2,)","v":{"$error":"#VALUE!"}},"Nordic Stenbrott","Göteborg",null,{"$f":"VLOOKUP(K380,Tabelle2!$B$3:$C$38,2,)","v":{"$error":"#N/A"}},"Norrsken",97,5034,5280,0]
[null,380,126,"2024-09-15","Granitblöcke","Malmö","SE",{"$f":"VLOOKUP(G381,Tabelle2!$B$3:$C$38,2,)","v":{"$error":"#VALUE!"}},"Norrsken","Malmö",null,{"$f":"VLOOKUP(K381,Tabelle2!$B$3:$C$38,2,)","v":{"$error":"#N/A"}},"NS Chemicals",5,822,23000,0]
[null,381,127,"2024-09-15","Computerprozessoren","Trelleborg","SE",{"$f":"VLOOKUP(G382,Tabelle2!$B$3:$C$38,2,)","v":{"$error":"#VALUE!"}},"Polaris Lines","Södertälje",null,{"$f":"VLOOKUP(K382,Tabelle2!$B$3:$C$38,2,)","v":{"$error":"#N/A"}},"Scania",574,21809,3854,0]
[null,382,118,"2024-09-15","Digger 100","Göteborg","SE",{"$f":"VLOOKUP(G383,Tabelle2!$B$3:$C$38,2,)","v":{"$error":"#VALUE!"}},"Sag&Tre","Växjö",null,{"$f":"VLOOKUP(K383,Tabelle2!$B$3:$C$38,2,)","v":{"$error":"#N/A"}},"Bjork",209,9828,15400,0]
[null,383,128,"2024-09-15","Scania - Zugmaschinen","Södertälje","SE",{"$f":"VLOOKUP(G384,Tabelle2!$B$3:$C$38,2,)","v":{"$error":"#VALUE!"}},"Scania","Hirtshals",null,{"$f":"VLOOKUP(K384,Tabelle2!$B$3:$C$38,2,)","v":{"$error":"#N/A"}},"Polaris Lines",514,29861,14590,0]
[null,384,136,"2024-09-16","Aluminiumprofile","Esbjerg","DK",{"$f":"VLOOKUP(G385,Tabelle2!$B$3:$C$38,2,)","v":{"$error":"#VALUE!"}},"AgroNord","Aalborg",null,{"$f":"VLOOKUP(K385,Tabelle2!$B$3:$C$38,2,)","v":{"$error":"#N/A"}},"Polar Fish",250,8148,22400,0]
[null,385,131,"2024-09-16","Schutzkleidung","Aalborg","DK",{"$f":"VLOOKUP(G386,Tabelle2!$B$3:$C$38,2,)","v":{"$error":"#VALUE!"}},"Aria Food","Aalborg",null,{"$f":"VLOOKUP(K386,Tabelle2!$B$3:$C$38,2,)","v":{"$error":"#N/A"}},"IKA Bohag",9,116817,20536,0]
[null,386,138,"2024-09-16","Ahornsirup","Esbjerg","DK",{"$f":"VLOOKUP(G387,Tabelle2!$B$3:$C$38,2,)","v":{"$error":"#VALUE!"}},"Aria Food","Aalborg",null,{"$f":"VLOOKUP(K387,Tabelle2!$B$3:$C$38,2,)","v":{"$error":"#N/A"}},"Vitas Power",282,9423,17213,320]
[null,387,141,"2024-09-16","Blei","Odense","DK",{"$f":"VLOOKUP(G388,Tabelle2!$B$3:$C$38,2,)","v":{"$error":"#VALUE!"}},"BHV","Esbjerg",null,{"$f":"VLOOKUP(K388,Tabelle2!$B$3:$C$38,2,)","v":{"$error":"#N/A"}},"Konstnorr",233,7650,18400,400]
[null,388,140,"2024-09-16","Benzin","Esbjerg","DK",{"$f":"VLOOKUP(G389,Tabelle2!$B$3:$C$38,2,)","v":{"$error":"#VALUE!"}},"Container  Port","Odense",null,{"$f":"VLOOKUP(K389,Tabelle2!$B$3:$C$38,2,)","v":{"$error":"#N/A"}},"BHV",149,10908,21750,400]
[null,389,143,"2024-09-16","Acetylen","Odense","DK",{"$f":"VLOOKUP(G390,Tabelle2!$B$3:$C$38,2,)","v":{"$error":"#VALUE!"}},"Drekkar Trans","Esbjerg",null,{"$f":"VLOOKUP(K390,Tabelle2!$B$3:$C$38,2,)","v":{"$error":"#N/A"}},"Marina",146,9456,9600,400]
[null,390,132,"2024-09-16","Äpfel","Aalborg","DK",{"$f":"VLOOKUP(G391,Tabelle2!$B$3:$C$38,2,)","v":{"$error":"#VALUE!"}},"IKA Bohag","Aalborg",null,{"$f":"VLOOKUP(K391,Tabelle2!$B$3:$C$38,2,)","v":{"$error":"#N/A"}},"Nordic Crow",22,117399,20170,800]
[null,391,145,"2024-09-16","Topfpflanzen","Odense","DK",{"$f":"VLOOKUP(G392,Tabelle2!$B$3:$C$38,2,)","v":{"$error":"#VALUE!"}},"IKA Bohag","Esbjerg",null,{"$f":"VLOOKUP(K392,Tabelle2!$B$3:$C$38,2,)","v":{"$error":"#N/A"}},"Polaris Lines",140,6265,3620,800]
[null,392,142,"2024-09-16","Gabelstapler","Esbjerg","DK",{"$f":"VLOOKUP(G393,Tabelle2!$B$3:$C$38,2,)","v":{"$error":"#VALUE!"}},"Konstnorr","Odense",null,{"$f":"VLOOKUP(K393,Tabelle2!$B$3:$C$38,2,)","v":{"$error":"#N/A"}},"Drekkar Trans",258,9839,11230,0]
[null,393,144,"2024-09-16","Hüttenkäse","Esbjerg","DK",{"$f":"VLOOKUP(G394,Tabelle2!$B$3:$C$38,2,)","v":{"$error":"#VALUE!"}},"Marina","Odense",null,{"$f":"VLOOKUP(K394,Tabelle2!$B$3:$C$38,2,)","v":{"$error":"#N/A"}},"Drekkar Trans",147,6781,18751,400]
[null,394,133,"2024-09-16","Atlantisches Kabeljaufilet","Aalborg","DK",{"$f":"VLOOKUP(G395,Tabelle2!$B$3:$C$38,2,)","v":{"$error":"#VALUE!"}},"Nordic Crow","Aalborg",null,{"$f":"VLOOKUP(K395,Tabelle2!$B$3:$C$38,2,)","v":{"$error":"#N/A"}},"Norrsken",22,118562,16450,0]
[null,395,149,"2024-09-16","Arbeitskleidung","Odense","DK",{"$f":"VLOOKUP(G396,Tabelle2!$B$3:$C$38,2,)","v":{"$error":"#VALUE!"}},"Nordic Crow","Gedser",null,{"$f":"VLOOKUP(K396,Tabelle2!$B$3:$C$38,2,)","v":{"$error":"#N/A"}},"Konstnorr",201,7868,16454,0]
[null,396,147,"2024-09-16","Alkoholfreies Bier","Odense","DK",{"$f":"VLOOKUP(G397,Tabelle2!$B$3:$C$38,2,)","v":{"$error":"#VALUE!"}},"Norrfood","Esbjerg",null,{"$f":"VLOOKUP(K397,Tabelle2!$B$3:$C$38,2,)","v":{"$error":"#N/A"}},"Vitas Power",136,6584,22156,0]
[null,397,134,"2024-09-16","Autos","Aalborg","DK",{"$f":"VLOOKUP(G398,Tabelle2!$B$3:$C$38,2,)","v":{"$error":"#VALUE!"}},"Norrsken","Aalborg",null,{"$f":"VLOOKUP(K398,Tabelle2!$B$3:$C$38,2,)","v":{"$error":"#N/A"}},"NSOil",62,169923,7350,0]
[null,398,135,"2024-09-16","Äpfel","Aalborg","DK",{"$f":"VLOOKUP(G399,Tabelle2!$B$3:$C$38,2,)","v":{"$error":"#VALUE!"}},"NSOil","Esbjerg",null,{"$f":"VLOOKUP(K399,Tabelle2!$B$3:$C$38,2,)","v":{"$error":"#N/A"}},"AgroNord",262,8691,20170,0]
[null,399,137,"2024-09-16","Bohnen","Aalborg","DK",{"$f":"VLOOKUP(G400,Tabelle2!$B$3:$C$38,2,)","v":{"$error":"#VALUE!"}},"Polar Fish","Esbjerg",null,{"$f":"VLOOKUP(K400,Tabelle2!$B$3:$C$38,2,)","v":{"$error":"#N/A"}},"Aria Food",249,8948,12358,0]
[null,400,129,"2024-09-16","Ahornsirup","Hirtshals","DK",{"$f":"VLOOKUP(G401,Tabelle2!$B$3:$C$38,2,)","v":{"$error":"#VALUE!"}},"Polaris Lines","Frederikshavn",null,{"$f":"VLOOKUP(K401,Tabelle2!$B$3:$C$38,2,)","v":{"$error":"#N/A"}},"Polaris Lines",81,4119,17213,0]
[null,401,130,"2024-09-16","Nitrocellulose","Frederikshavn","DK",{"$f":"VLOOKUP(G402,Tabelle2!$B$3:$C$38,2,)","v":{"$error":"#VALUE!"}},"Polaris Lines","Aalborg",null,{"$f":"VLOOKUP(K402,Tabelle2!$B$3:$C$38,2,)","v":{"$error":"#N/A"}},"Aria Food",125,6914,13600,400]
[null,402,146,"2024-09-16","Speiseeis","Esbjerg","DK",{"$f":"VLOOKUP(G403,Tabelle2!$B$3:$C$38,2,)","v":{"$error":"#VALUE!"}},"Polaris Lines","Odense",null,{"$f":"VLOOKUP(K403,Tabelle2!$B$3:$C$38,2,)","v":{"$error":"#N/A"}},"Norrfood",169,4136,14101,0]
[null,403,139,"2024-09-16","Außenfliesen","Aalborg","DK",{"$f":"VLOOKUP(G404,Tabelle2!$B$3:$C$38,2,)","v":{"$error":"#VALUE!"}},"Vitas Power","Esbjerg",null,{"$f":"VLOOKUP(K404,Tabelle2!$B$3:$C$38,2,)","v":{"$error":"#N/A"}},"ContainerPort",254,8034,16214,0]
[null,404,148,"2024-09-16","Äpfel","Esbjerg","DK",{"$f":"VLOOKUP(G405,Tabelle2!$B$3:$C$38,2,)","v":{"$error":"#VALUE!"}},"Vitas Power","Odense",null,{"$f":"VLOOKUP(K405,Tabelle2!$B$3:$C$38,2,)","v":{"$error":"#N/A"}},"Nordic Crow",143,6564,20170,0]
[null,405,151,"2024-09-17","Ahornsirup","Kopenhagen","DK",{"$f":"VLOOKUP(G406,Tabelle2!$B$3:$C$38,2,)","v":{"$error":"#VALUE!"}},"BHV","Gedser",null,{"$f":"VLOOKUP(K406,Tabelle2!$B$3:$C$38,2,)","v":{"$error":"#N/A"}},"Polaris Lines",126,5674,17213,200]
[null,406,154,"2024-09-17","Autos","Malmö","SE",{"$f":"VLOOKUP(G407,Tabelle2!$B$3:$C$38,2,)","v":{"$error":"#VALUE!"}},"Drekkar Trans","Kopenhagen",null,{"$f":"VLOOKUP(K407,Tabelle2!$B$3:$C$38,2,)","v":{"$error":"#N/A"}},"Konstnorr",65,6084,7000,1840]
[null,407,156,"2024-09-17","Birnen","Malmö","SE",{"$f":"VLOOKUP(G408,Tabelle2!$B$3:$C$38,2,)","v":{"$error":"#VALUE!"}},"Drekkar Trans","Kopenhagen",null,{"$f":"VLOOKUP(K408,Tabelle2!$B$3:$C$38,2,)","v":{"$error":"#N/A"}},"Norrfood",67,4243,15408,1200]
[null,408,153,"2024-09-17","Atlantisches Kabeljaufilet","Kopenhagen","DK",{"$f":"VLOOKUP(G409,Tabelle2!$B$3:$C$38,2,)","v":{"$error":"#VALUE!"}},"IKA Bohag","Malmö",null,{"$f":"VLOOKUP(K409,Tabelle2!$B$3:$C$38,2,)","v":{"$error":"#N/A"}},"Drekkar Trans",77,4316,16450,0]
[null,409,150,"2024-09-17","Acetylen","Gedser","DK",{"$f":"VLOOKUP(G410,Tabelle2!$B$3:$C$38,2,)","v":{"$error":"#VALUE!"}},"Konstnorr","Kopenhagen",null,{"$f":"VLOOKUP(K410,Tabelle2!$B$3:$C$38,2,)","v":{"$error":"#N/A"}},"BHV",113,3844,4800,0]
[null,410,155,"2024-09-17","Arbeitskleidung","Kopenhagen","DK",{"$f":"VLOOKUP(G411,Tabelle2!$B$3:$C$38,2,)","v":{"$error":"#VALUE!"}},"Konstnorr","Malmö",null,{"$f":"VLOOKUP(K411,Tabelle2!$B$3:$C$38,2,)","v":{"$error":"#N/A"}},"Drekkar Trans",75,3895,16454,360]
[null,411,157,"2024-09-17","Karotten","Kopenhagen","DK",{"$f":"VLOOKUP(G412,Tabelle2!$B$3:$C$38,2,)","v":{"$error":"#VALUE!"}},"Norrfood","Malmö",null,{"$f":"VLOOKUP(K412,Tabelle2!$B$3:$C$38,2,)","v":{"$error":"#N/A"}},"Drekkar Trans",78,3856,15378,400]
[null,412,158,"2024-09-17","Benzin","Malmö","SE",{"$f":"VLOOKUP(G413,Tabelle2!$B$3:$C$38,2,)","v":{"$error":"#VALUE!"}},"NS Chemicals","Kopenhagen",null,{"$f":"VLOOKUP(K413,Tabelle2!$B$3:$C$38,2,)","v":{"$error":"#N/A"}},"Renar Logistic",67,6841,21750,0]
[null,413,152,"2024-09-17","Äpfel","Gedser","DK",{"$f":"VLOOKUP(G414,Tabelle2!$B$3:$C$38,2,)","v":{"$error":"#VALUE!"}},"Polaris Lines","Kopenhagen",null,{"$f":"VLOOKUP(K414,Tabelle2!$B$3:$C$38,2,)","v":{"$error":"#N/A"}},"IKA Bohag",119,5734,20170,400]
[null,414,164,"2024-09-18","Lebendrind","Esbjerg","DK",{"$f":"VLOOKUP(G415,Tabelle2!$B$3:$C$38,2,)","v":{"$error":"#VALUE!"}},"Aria Food","Aalborg",null,{"$f":"VLOOKUP(K415,Tabelle2!$B$3:$C$38,2,)","v":{"$error":"#N/A"}},"Aria Food",246,18846,21760,0]
[null,415,160,"2024-09-18","Leere Fässer","München","DE",{"$f":"VLOOKUP(G416,Tabelle2!$B$3:$C$38,2,)","v":{"$error":"#VALUE!"}},"BCP","Köln",null,{"$f":"VLOOKUP(K416,Tabelle2!$B$3:$C$38,2,)","v":{"$error":"#N/A"}},"RTLog",569,17312,9227,0]
[null,416,167,"2024-09-18","Leere Paletten","Düsseldorf","DE",{"$f":"VLOOKUP(G417,Tabelle2!$B$3:$C$38,2,)","v":{"$error":"#VALUE!"}},"FCP","Erfurt",null,{"$f":"VLOOKUP(K417,Tabelle2!$B$3:$C$38,2,)","v":{"$error":"#N/A"}},"Stokes",451,6961,11371,0]
[null,417,165,"2024-09-18","Topfpflanzen","Aalborg","DK",{"$f":"VLOOKUP(G418,Tabelle2!$B$3:$C$38,2,)","v":{"$error":"#VALUE!"}},"IKA Bohag","Kassel",null,{"$f":"VLOOKUP(K418,Tabelle2!$B$3:$C$38,2,)","v":{"$error":"#N/A"}},"transinet",654,27426,3620,1160]
[null,418,169,"2024-09-18","Kunstoffgranulat","Frankfurt","DE",{"$f":"VLOOKUP(G419,Tabelle2!$B$3:$C$38,2,)","v":{"$error":"#VALUE!"}},"LKWLog","Duisburg",null,{"$f":"VLOOKUP(K419,Tabelle2!$B$3:$C$38,2,)","v":{"$error":"#N/A"}},"LKWLog",291,4781,18200,200]
[null,419,159,"2024-09-18","Kerosin","Kopenhagen","DK",{"$f":"VLOOKUP(G420,Tabelle2!$B$3:$C$38,2,)","v":{"$error":"#VALUE!"}},"Renar Logistik","München",null,{"$f":"VLOOKUP(K420,Tabelle2!$B$3:$C$38,2,)","v":{"$error":"#N/A"}},"BCP",872,59405,23580,0]
[null,420,161,"2024-09-18","Gesteinsmehl","Köln","DE",{"$f":"VLOOKUP(G421,Tabelle2!$B$3:$C$38,2,)","v":{"$error":"#VALUE!"}},"RTLog","Dortmund",null,{"$f":"VLOOKUP(K421,Tabelle2!$B$3:$C$38,2,)","v":{"$error":"#N/A"}},"Steinbruch",156,2224,17000,0]
[null,421,162,"2024-09-18","Zement","Dortmund","DE",{"$f":"VLOOKUP(G422,Tabelle2!$B$3:$C$38,2,)","v":{"$error":"#VALUE!"}},"Steinbruch","Mannheim",null,{"$f":"VLOOKUP(K422,Tabelle2!$B$3:$C$38,2,)","v":{"$error":"#N/A"}},"transinet",315,4666,17304,0]
[null,422,168,"2024-09-18","Saftkonzentrat","Erfurt","DE",{"$f":"VLOOKUP(G423,Tabelle2!$B$3:$C$38,2,)","v":{"$error":"#VALUE!"}},"Stokes","Frankfurt",null,{"$f":"VLOOKUP(K423,Tabelle2!$B$3:$C$38,2,)","v":{"$error":"#N/A"}},"LKWLog",232,5114,19594,0]
[null,423,163,"2024-09-18","Lebende Schweine","Mannheim","DE",{"$f":"VLOOKUP(G424,Tabelle2!$B$3:$C$38,2,)","v":{"$error":"#VALUE!"}},"Transinet","Esbjerg",null,{"$f":"VLOOKUP(K424,Tabelle2!$B$3:$C$38,2,)","v":{"$error":"#N/A"}},"Vitas Power",823,16094,6000,0]
[null,424,166,"2024-09-18","Reifen","Kassel","DE",{"$f":"VLOOKUP(G425,Tabelle2!$B$3:$C$38,2,)","v":{"$error":"#VALUE!"}},"Transinet","Düsseldorf",null,{"$f":"VLOOKUP(K425,Tabelle2!$B$3:$C$38,2,)","v":{"$error":"#N/A"}},"FCP",190,6645,16286,760]
[null,425,176,"2024-09-19","Kunstoffgranulat","Frankfurt","DE",{"$f":"VLOOKUP(G426,Tabelle2!$B$3:$C$38,2,)","v":{"$error":"#VALUE!"}},"DomDepo","Mannheim",null,{"$f":"VLOOKUP(K426,Tabelle2!$B$3:$C$38,2,)","v":{"$error":"#N/A"}},"Trameri",92,1886,18200,0]
[null,426,172,"2024-09-19","Lebende Schweine","Dresden","DE",{"$f":"VLOOKUP(G427,Tabelle2!$B$3:$C$38,2,)","v":{"$error":"#VALUE!"}},"EuroAcres","Berlin",null,{"$f":"VLOOKUP(K427,Tabelle2!$B$3:$C$38,2,)","v":{"$error":"#N/A"}},"EuroAcres",222,4416,6000,1200]
[null,427,173,"2024-09-19","Tomaten","Berlin","DE",{"$f":"VLOOKUP(G428,Tabelle2!$B$3:$C$38,2,)","v":{"$error":"#VALUE!"}},"EuroAcres","Köln",null,{"$f":"VLOOKUP(K428,Tabelle2!$B$3:$C$38,2,)","v":{"$error":"#N/A"}},"Sellplan",598,19137,14370,1340]
[null,428,170,"2024-09-19","Saftkonzentrat","Duisburg","DE",{"$f":"VLOOKUP(G429,Tabelle2!$B$3:$C$38,2,)","v":{"$error":"#VALUE!"}},"LKWLog","Rostock",null,{"$f":"VLOOKUP(K429,Tabelle2!$B$3:$C$38,2,)","v":{"$error":"#N/A"}},"RTLog",608,13464,19594,0]
[null,429,175,"2024-09-19","Zement","Köln","DE",{"$f":"VLOOKUP(G430,Tabelle2!$B$3:$C$38,2,)","v":{"$error":"#VALUE!"}},"LKWLog","Frankfurt",null,{"$f":"VLOOKUP(K430,Tabelle2!$B$3:$C$38,2,)","v":{"$error":"#N/A"}},"DomDepo",227,3461,17304,400]
[null,430,171,"2024-09-19","Lebende Schweine","Rostock","DE",{"$f":"VLOOKUP(G431,Tabelle2!$B$3:$C$38,2,)","v":{"$error":"#VALUE!"}},"RTLog","Dresden",null,{"$f":"VLOOKUP(K431,Tabelle2!$B$3:$C$38,2,)","v":{"$error":"#N/A"}},"EuroAcres",462,8960,6000,400]
[null,431,179,"2024-09-19","Milch","Travemünde","DE",{"$f":"VLOOKUP(G432,Tabelle2!$B$3:$C$38,2,)","v":{"$error":"#VALUE!"}},"RTLog","Kiel",null,{"$f":"VLOOKUP(K432,Tabelle2!$B$3:$C$38,2,)","v":{"$error":"#N/A"}},"LKWLog",77,3003,20060,0]
[null,432,174,"2024-09-19","Altkunststoff","Köln","DE",{"$f":"VLOOKUP(G433,Tabelle2!$B$3:$C$38,2,)","v":{"$error":"#VALUE!"}},"Sellplan","Köln",null,{"$f":"VLOOKUP(K433,Tabelle2!$B$3:$C$38,2,)","v":{"$error":"#N/A"}},"LKWLog",12,765,9672,0]
[null,433,178,"2024-09-19","Medizinische Ausrüstung","Hannover","DE",{"$f":"VLOOKUP(G434,Tabelle2!$B$3:$C$38,2,)","v":{"$error":"#VALUE!"}},"Tradeaux","Travemünde",null,{"$f":"VLOOKUP(K434,Tabelle2!$B$3:$C$38,2,)","v":{"$error":"#N/A"}},"RTLog",237,11660,5214,0]
[null,434,177,"2024-09-19","Altverpackungen","Mannheim","DE",{"$f":"VLOOKUP(G435,Tabelle2!$B$3:$C$38,2,)","v":{"$error":"#VALUE!"}},"Trameri","Hannover",null,{"$f":"VLOOKUP(K435,Tabelle2!$B$3:$C$38,2,)","v":{"$error":"#N/A"}},"Tradeaux",400,10240,18411,0]
[null,435,165,"2024-09-20","Schwefelsäure","Bremen","DE",{"$f":"VLOOKUP(G436,Tabelle2!$B$3:$C$38,2,)","v":{"$error":"#VALUE!"}},"Container  Port","Nürnberg",null,{"$f":"VLOOKUP(K436,Tabelle2!$B$3:$C$38,2,)","v":{"$error":"#N/A"}},"RTLog",711,14400,25579,0]
[null,436,164,"2024-09-20","Helicopter -1808TX","Kiel","DE",{"$f":"VLOOKUP(G437,Tabelle2!$B$3:$C$38,2,)","v":{"$error":"#VALUE!"}},"LKWLog","Bremen",null,{"$f":"VLOOKUP(K437,Tabelle2!$B$3:$C$38,2,)","v":{"$error":"#N/A"}},"ContainerPort",294,15721,3500,0]
[null,437,166,"2024-09-20","Chlor","Nürnberg","DE",{"$f":"VLOOKUP(G438,Tabelle2!$B$3:$C$38,2,)","v":{"$error":"#VALUE!"}},"RTLog","Zürich",null,{"$f":"VLOOKUP(K438,Tabelle2!$B$3:$C$38,2,)","v":{"$error":"#N/A"}},"RTLog",433,20667,18744,400]
[null,438,167,"2024-09-20","Digger 1000 ","Zürich","CH",{"$f":"VLOOKUP(G439,Tabelle2!$B$3:$C$38,2,)","v":{"$error":"#VALUE!"}},"RTLog","München",null,{"$f":"VLOOKUP(K439,Tabelle2!$B$3:$C$38,2,)","v":{"$error":"#N/A"}},"WGCC",370,19451,15400,0]
[null,439,168,"2024-09-20","Blei","München","DE",{"$f":"VLOOKUP(G440,Tabelle2!$B$3:$C$38,2,)","v":{"$error":"#VALUE!"}},"WGCC","Hamburg",null,{"$f":"VLOOKUP(K440,Tabelle2!$B$3:$C$38,2,)","v":{"$error":"#N/A"}},"RTLog",738,15137,9200,0]
[null,440,171,"2024-09-22","Olivenöl","Mannheim","DE",{"$f":"VLOOKUP(G441,Tabelle2!$B$3:$C$38,2,)","v":{"$error":"#VALUE!"}},"EuroGoodies","Leipzig",null,{"$f":"VLOOKUP(K441,Tabelle2!$B$3:$C$38,2,)","v":{"$error":"#N/A"}},"EuroGoodies",500,13322,19320,0]
[null,441,172,"2024-09-22","Mozzarella","Leipzig","DE",{"$f":"VLOOKUP(G442,Tabelle2!$B$3:$C$38,2,)","v":{"$error":"#VALUE!"}},"EuroGoodies","Kiel",null,{"$f":"VLOOKUP(K442,Tabelle2!$B$3:$C$38,2,)","v":{"$error":"#N/A"}},"Polaris Lines",535,15975,17646,400]
[null,442,169,"2024-09-22","Fischstäbchen","Hamburg","DE",{"$f":"VLOOKUP(G443,Tabelle2!$B$3:$C$38,2,)","v":{"$error":"#VALUE!"}},"RTLog","Frankfurt",null,{"$f":"VLOOKUP(K443,Tabelle2!$B$3:$C$38,2,)","v":{"$error":"#N/A"}},"transinet",460,15775,17160,0]
[null,443,170,"2024-09-22","Tranformator - PK900","Frankfurt","DE",{"$f":"VLOOKUP(G444,Tabelle2!$B$3:$C$38,2,)","v":{"$error":"#VALUE!"}},"Transinet","Mannheim",null,{"$f":"VLOOKUP(K444,Tabelle2!$B$3:$C$38,2,)","v":{"$error":"#N/A"}},"transinet",107,5469,47850,0]
[null,444,176,"2024-09-23","Lebende Schweine","Osnabrück","DE",{"$f":"VLOOKUP(G445,Tabelle2!$B$3:$C$38,2,)","v":{"$error":"#VALUE!"}},"EuroAcres","Berlin",null,{"$f":"VLOOKUP(K445,Tabelle2!$B$3:$C$38,2,)","v":{"$error":"#N/A"}},"EuroAcres",392,7546,6000,0]
[null,445,174,"2024-09-23","Blumenkohl","Kassel","DE",{"$f":"VLOOKUP(G446,Tabelle2!$B$3:$C$38,2,)","v":{"$error":"#VALUE!"}},"EuroGoodies","Erfurt",null,{"$f":"VLOOKUP(K446,Tabelle2!$B$3:$C$38,2,)","v":{"$error":"#N/A"}},"Sellplan",182,6096,9580,160]
[null,446,177,"2024-09-23","Wärmetauscher","Berlin","DE",{"$f":"VLOOKUP(G447,Tabelle2!$B$3:$C$38,2,)","v":{"$error":"#VALUE!"}},"NBFC","Stettin",null,{"$f":"VLOOKUP(K447,Tabelle2!$B$3:$C$38,2,)","v":{"$error":"#N/A"}},"ITCC",191,14265,70000,0]
[null,447,173,"2024-09-23","Industriekabeltrommel","Kiel","DE",{"$f":"VLOOKUP(G448,Tabelle2!$B$3:$C$38,2,)","v":{"$error":"#VALUE!"}},"Ocean Solution","Kassel",null,{"$f":"VLOOKUP(K448,Tabelle2!$B$3:$C$38,2,)","v":{"$error":"#N/A"}},"Tradeaux",400,11331,34520,0]
[null,448,175,"2024-09-23","Sand","Erfurt","DE",{"$f":"VLOOKUP(G449,Tabelle2!$B$3:$C$38,2,)","v":{"$error":"#VALUE!"}},"Steinbruch","Osnabrück",null,{"$f":"VLOOKUP(K449,Tabelle2!$B$3:$C$38,2,)","v":{"$error":"#N/A"}},"ITCC",342,5835,18746,0]
[null,449,178,"2024-09-23","Zement","Stettin","PL",{"$f":"VLOOKUP(G450,Tabelle2!$B$3:$C$38,2,)","v":{"$error":"#VALUE!"}},"Transinet","Berlin",null,{"$f":"VLOOKUP(K450,Tabelle2!$B$3:$C$38,2,)","v":{"$error":"#N/A"}},"SanBuilders",190,3009,17304,360]
[null,450,179,"2024-09-24","Frische Kräuter","Berlin","DE",{"$f":"VLOOKUP(G451,Tabelle2!$B$3:$C$38,2,)","v":{"$error":"#VALUE!"}},"EuroAcres","Dresden",null,{"$f":"VLOOKUP(K451,Tabelle2!$B$3:$C$38,2,)","v":{"$error":"#N/A"}},"Sellplan",204,6501,5650,0]
[null,451,180,"2024-09-24","Computerprozessoren","Dresden","DE",{"$f":"VLOOKUP(G452,Tabelle2!$B$3:$C$38,2,)","v":{"$error":"#VALUE!"}},"Transinet","Hamburg",null,{"$f":"VLOOKUP(K452,Tabelle2!$B$3:$C$38,2,)","v":{"$error":"#N/A"}},"DFH",543,22160,3854,0]
[null,452,181,"2024-09-24","LPG","Hamburg","DE",{"$f":"VLOOKUP(G453,Tabelle2!$B$3:$C$38,2,)","v":{"$error":"#VALUE!"}},"NSOil","Hannover",null,{"$f":"VLOOKUP(K453,Tabelle2!$B$3:$C$38,2,)","v":{"$error":"#N/A"}},"FCP",163,6628,19250,0]
[null,453,182,"2024-09-24","Klimanlagen","Hannover","DE",{"$f":"VLOOKUP(G454,Tabelle2!$B$3:$C$38,2,)","v":{"$error":"#VALUE!"}},"AI  Automotive","Rostock",null,{"$f":"VLOOKUP(K454,Tabelle2!$B$3:$C$38,2,)","v":{"$error":"#N/A"}},"granoro",437,18451,11000,0]
[null,454,183,"2024-09-25","Saftkonzentrat","Rostock","DE",{"$f":"VLOOKUP(G455,Tabelle2!$B$3:$C$38,2,)","v":{"$error":"#VALUE!"}},"DFH","Bremen",null,{"$f":"VLOOKUP(K455,Tabelle2!$B$3:$C$38,2,)","v":{"$error":"#N/A"}},"DFH",360,8310,19594,0]
[null,455,184,"2024-09-25","Großes Silo","Bremen","DE",{"$f":"VLOOKUP(G456,Tabelle2!$B$3:$C$38,2,)","v":{"$error":"#VALUE!"}},"EuroAcres","Travemünde",null,{"$f":"VLOOKUP(K456,Tabelle2!$B$3:$C$38,2,)","v":{"$error":"#N/A"}},"Polaris Lines",230,15274,40000,0]
[null,456,185,"2024-09-25","Industriekabeltrommel","Travemünde","DE",{"$f":"VLOOKUP(G457,Tabelle2!$B$3:$C$38,2,)","v":{"$error":"#VALUE!"}},"RTLog","Stettin",null,{"$f":"VLOOKUP(K457,Tabelle2!$B$3:$C$38,2,)","v":{"$error":"#N/A"}},"ITCC",371,10941,34520,400]
[null,457,186,"2024-09-25","Elektronik","Stettin","PL",{"$f":"VLOOKUP(G458,Tabelle2!$B$3:$C$38,2,)","v":{"$error":"#VALUE!"}},"Transinet","Berlin",null,{"$f":"VLOOKUP(K458,Tabelle2!$B$3:$C$38,2,)","v":{"$error":"#N/A"}},"BCP",176,7530,8194,0]
[null,458,187,"2024-09-25","Schinken","Berlin","DE",{"$f":"VLOOKUP(G459,Tabelle2!$B$3:$C$38,2,)","v":{"$error":"#VALUE!"}},"EuroGoodies","Magdeburg",null,{"$f":"VLOOKUP(K459,Tabelle2!$B$3:$C$38,2,)","v":{"$error":"#N/A"}},"Kaarfor",156,4738,16101,0]
[null,459,188,"2024-09-25","Lebende Schweine","Magdeburg","DE",{"$f":"VLOOKUP(G460,Tabelle2!$B$3:$C$38,2,)","v":{"$error":"#VALUE!"}},"EuroAcres","Bremen",null,{"$f":"VLOOKUP(K460,Tabelle2!$B$3:$C$38,2,)","v":{"$error":"#N/A"}},"EuroAcres",219,4438,6000,0]
[null,460,189,"2024-10-13","Altkunststoff","Bermen","DE",{"$f":"VLOOKUP(G461,Tabelle2!$B$3:$C$38,2,)","v":{"$error":"#VALUE!"}},"AI  Automotive","Duisburg",null,{"$f":"VLOOKUP(K461,Tabelle2!$B$3:$C$38,2,)","v":{"$error":"#N/A"}},"ContainerPort",259,1000,9672,0]
[null,461,190,"2024-10-13","Zement","Duisburg","DE",{"$f":"VLOOKUP(G462,Tabelle2!$B$3:$C$38,2,)","v":{"$error":"#VALUE!"}},"ITCC","Nürnberg",null,{"$f":"VLOOKUP(K462,Tabelle2!$B$3:$C$38,2,)","v":{"$error":"#N/A"}},"LKWLog",458,2000,17304,0]
[null,462,1,"2024-10-13","Mobilkran","Nürnberg","DE",{"$f":"VLOOKUP(G463,Tabelle2!$B$3:$C$38,2,)","v":{"$error":"#VALUE!"}},"SanBuilders","Nürnberg",null,{"$f":"VLOOKUP(K463,Tabelle2!$B$3:$C$38,2,)","v":{"$error":"#N/A"}},"CNP",2,1061,18700,0]
[null,463,2,"2024-10-13","Gesteinsmehl","Nürnberg","DE",{"$f":"VLOOKUP(G464,Tabelle2!$B$3:$C$38,2,)","v":{"$error":"#VALUE!"}},"RTLog","Frankfurt",null,{"$f":"VLOOKUP(K464,Tabelle2!$B$3:$C$38,2,)","v":{"$error":"#N/A"}},"SanBuilders",259,2805,18700,0]
[null,464,3,"2024-10-13","LPG","Frankfurt","DE",{"$f":"VLOOKUP(G465,Tabelle2!$B$3:$C$38,2,)","v":{"$error":"#VALUE!"}},"NSOil","Köln",null,{"$f":"VLOOKUP(K465,Tabelle2!$B$3:$C$38,2,)","v":{"$error":"#N/A"}},"SanBuilders",205,4760,10600,0]
[null,465,4,"2024-10-13","High-Tech-Gerät","Köln","DE",{"$f":"VLOOKUP(G466,Tabelle2!$B$3:$C$38,2,)","v":{"$error":"#VALUE!"}},"ITCC","Amsterdam",null,{"$f":"VLOOKUP(K466,Tabelle2!$B$3:$C$38,2,)","v":{"$error":"#N/A"}},"Kaarfor",349,23132,45000,0]
[null,466,5,"2024-10-15","Altkunststoff","Amsterdam","NL",{"$f":"VLOOKUP(G467,Tabelle2!$B$3:$C$38,2,)","v":{"$error":"#VALUE!"}},"Kaarfor","Osnabrück",null,{"$f":"VLOOKUP(K467,Tabelle2!$B$3:$C$38,2,)","v":{"$error":"#N/A"}},"LKWLog",195,4866,7868,160]
[null,467,6,"2024-10-15","Gerste","Osnabrück","DE",{"$f":"VLOOKUP(G468,Tabelle2!$B$3:$C$38,2,)","v":{"$error":"#VALUE!"}},"EuroAcres","Köln",null,{"$f":"VLOOKUP(K468,Tabelle2!$B$3:$C$38,2,)","v":{"$error":"#N/A"}},"EuroGoodies",261,5171,18000,360]
[null,468,7,"2024-10-15","Altkunststoff","Amsterdam","NL",{"$f":"VLOOKUP(G469,Tabelle2!$B$3:$C$38,2,)","v":{"$error":"#VALUE!"}},"Kaarfor","Düsseldorf",null,{"$f":"VLOOKUP(K469,Tabelle2!$B$3:$C$38,2,)","v":{"$error":"#N/A"}},"Tradeaux",202,2619,3576,0]
[null,469,8,"2024-10-17","Bewehrungsstahl","Duisburg","DE",{"$f":"VLOOKUP(G470,Tabelle2!$B$3:$C$38,2,)","v":{"$error":"#VALUE!"}},"CNP","Dortmund",null,{"$f":"VLOOKUP(K470,Tabelle2!$B$3:$C$38,2,)","v":{"$error":"#N/A"}},"SanBuilders",74,3722,24380,0]
[null,470,9,"2024-10-17","Bagger","Dortmund","DE",{"$f":"VLOOKUP(G471,Tabelle2!$B$3:$C$38,2,)","v":{"$error":"#VALUE!"}},"ITCC","Magdeburg",null,{"$f":"VLOOKUP(K471,Tabelle2!$B$3:$C$38,2,)","v":{"$error":"#N/A"}},"Steinbruch",345,18154,23780,400]
[null,471,10,"2024-10-18","Bauholz","Magdeburg","DE",{"$f":"VLOOKUP(G472,Tabelle2!$B$3:$C$38,2,)","v":{"$error":"#VALUE!"}},"Granoro","Stuttgart",null,{"$f":"VLOOKUP(K472,Tabelle2!$B$3:$C$38,2,)","v":{"$error":"#N/A"}},"Steinbruch",646,18361,17520,0]
[null,472,11,"2024-10-18","Gerüstmaterial","Stuttgart","DE",{"$f":"VLOOKUP(G473,Tabelle2!$B$3:$C$38,2,)","v":{"$error":"#VALUE!"}},"SanBuilders","Strassburg",null,{"$f":"VLOOKUP(K473,Tabelle2!$B$3:$C$38,2,)","v":{"$error":"#N/A"}},"WGCC",198,7533,21546,0]
[null,473,12,"2024-10-18","Äpfel","Strassburg","FR",{"$f":"VLOOKUP(G474,Tabelle2!$B$3:$C$38,2,)","v":{"$error":"#VALUE!"}},"PoSped","Frankfurt",null,{"$f":"VLOOKUP(K474,Tabelle2!$B$3:$C$38,2,)","v":{"$error":"#N/A"}},"FLE",570,9215,18336,360]
[null,474,13,"2024-10-18","Büropapier","Frankfurt","DE",{"$f":"VLOOKUP(G475,Tabelle2!$B$3:$C$38,2,)","v":{"$error":"#VALUE!"}},"IKA Bohag","Stuttgart",null,{"$f":"VLOOKUP(K475,Tabelle2!$B$3:$C$38,2,)","v":{"$error":"#N/A"}},"FLE",260,9484,18229,0]
[null,475,14,"2024-10-18","Atlantisches Kabeljaufilet","Stuttgart","DE",{"$f":"VLOOKUP(G476,Tabelle2!$B$3:$C$38,2,)","v":{"$error":"#VALUE!"}},"FLE","Düsseldorf",null,{"$f":"VLOOKUP(K476,Tabelle2!$B$3:$C$38,2,)","v":{"$error":"#N/A"}},"EuroGoodies",504,17654,16450,1600]
[null,476,15,"2024-10-18","Baumstämme","Düsseldorf","DE",{"$f":"VLOOKUP(G477,Tabelle2!$B$3:$C$38,2,)","v":{"$error":"#VALUE!"}},"FLE","Travemünde",null,{"$f":"VLOOKUP(K477,Tabelle2!$B$3:$C$38,2,)","v":{"$error":"#N/A"}},"EuroAcres",561,16206,22740,0]
[null,477,16,"2024-10-19","Aluminiumprofile","Rostock","DE",{"$f":"VLOOKUP(G478,Tabelle2!$B$3:$C$38,2,)","v":{"$error":"#VALUE!"}},"Marina","Nürnberg",null,{"$f":"VLOOKUP(K478,Tabelle2!$B$3:$C$38,2,)","v":{"$error":"#N/A"}},"Sellplan",673,20378,22400,0]
[null,478,17,"2024-10-19","Autos","Nürnberg","DE",{"$f":"VLOOKUP(G479,Tabelle2!$B$3:$C$38,2,)","v":{"$error":"#VALUE!"}},"AI  Automotive","Zürich",null,{"$f":"VLOOKUP(K479,Tabelle2!$B$3:$C$38,2,)","v":{"$error":"#N/A"}},"Kathode",428,24239,7000,400]
[null,479,18,"2024-10-19","Gebrauchte Autobatterien","Zürich","CH",{"$f":"VLOOKUP(G480,Tabelle2!$B$3:$C$38,2,)","v":{"$error":"#VALUE!"}},"Kathode","Nürnberg",null,{"$f":"VLOOKUP(K480,Tabelle2!$B$3:$C$38,2,)","v":{"$error":"#N/A"}},"DFH",449,16241,17229,400]
[null,480,19,"2024-10-21","Bremsflüssigkeit","Nürnberg","DE",{"$f":"VLOOKUP(G481,Tabelle2!$B$3:$C$38,2,)","v":{"$error":"#VALUE!"}},"Tree-Et","Rostock",null,{"$f":"VLOOKUP(K481,Tabelle2!$B$3:$C$38,2,)","v":{"$error":"#N/A"}},"Vitas Power",671,20513,5848,0]
[null,481,20,"2024-10-21","Dachpappe","Rostock","DE",{"$f":"VLOOKUP(G482,Tabelle2!$B$3:$C$38,2,)","v":{"$error":"#VALUE!"}},"Vitas Power","Magdeburg",null,{"$f":"VLOOKUP(K482,Tabelle2!$B$3:$C$38,2,)","v":{"$error":"#N/A"}},"Vitas Power",329,13035,19219,0]
[null,482,21,"2024-10-21","Lebendrind","Magdeburg","DE",{"$f":"VLOOKUP(G483,Tabelle2!$B$3:$C$38,2,)","v":{"$error":"#VALUE!"}},"LKWLog","Dortmund",null,{"$f":"VLOOKUP(K483,Tabelle2!$B$3:$C$38,2,)","v":{"$error":"#N/A"}},"EuroGoodies",356,27514,21760,0]
[null,483,22,"2024-10-21","Lüftungsschacht","Dortmund","DE",{"$f":"VLOOKUP(G484,Tabelle2!$B$3:$C$38,2,)","v":{"$error":"#VALUE!"}},"IKA Bohag","Bremen",null,{"$f":"VLOOKUP(K484,Tabelle2!$B$3:$C$38,2,)","v":{"$error":"#N/A"}},"Shuttle Cola",276,11277,4830,0]
[null,484,23,"2024-10-22","Chlor","Bremen","DE",{"$f":"VLOOKUP(G485,Tabelle2!$B$3:$C$38,2,)","v":{"$error":"#VALUE!"}},"Container  Port","Hannover",null,{"$f":"VLOOKUP(K485,Tabelle2!$B$3:$C$38,2,)","v":{"$error":"#N/A"}},"Hannover Expo",295,11976,16800,0]
[null,485,24,"2024-10-22","Sand","Hannover","DE",{"$f":"VLOOKUP(G486,Tabelle2!$B$3:$C$38,2,)","v":{"$error":"#VALUE!"}},"Steinbruch","Kassel",null,{"$f":"VLOOKUP(K486,Tabelle2!$B$3:$C$38,2,)","v":{"$error":"#N/A"}},"AI Automotive",146,3982,21630,0]
[null,486,25,"2024-10-22","Getränke","Kassel","DE",{"$f":"VLOOKUP(G487,Tabelle2!$B$3:$C$38,2,)","v":{"$error":"#VALUE!"}},"Kaarfor","Hannover",null,{"$f":"VLOOKUP(K487,Tabelle2!$B$3:$C$38,2,)","v":{"$error":"#N/A"}},"SanBuilders",161,7231,22100,700]
[null,487,26,"2024-10-22","Mettalschrott","Hannover","DE",{"$f":"VLOOKUP(G488,Tabelle2!$B$3:$C$38,2,)","v":{"$error":"#VALUE!"}},"Tradeaux","Düsseldorf",null,{"$f":"VLOOKUP(K488,Tabelle2!$B$3:$C$38,2,)","v":{"$error":"#N/A"}},"Kathode",306,4125,21200,0]
[null,488,27,"2024-10-22","Dosenschweinefleisch","Düsseldorf","DE",{"$f":"VLOOKUP(G489,Tabelle2!$B$3:$C$38,2,)","v":{"$error":"#VALUE!"}},"ITCC","Erfurt",null,{"$f":"VLOOKUP(K489,Tabelle2!$B$3:$C$38,2,)","v":{"$error":"#N/A"}},"EuroAcres",463,15459,21099,0]
[null,489,28,"2024-10-22","Marmorblöcke","Erfurt","DE",{"$f":"VLOOKUP(G490,Tabelle2!$B$3:$C$38,2,)","v":{"$error":"#VALUE!"}},"EuroAcres","Kiel",null,{"$f":"VLOOKUP(K490,Tabelle2!$B$3:$C$38,2,)","v":{"$error":"#N/A"}},"Kaarfor",473,17164,22500,800]
[null,490,29,"2024-10-23","Kaviar","Kiel","DE",{"$f":"VLOOKUP(G491,Tabelle2!$B$3:$C$38,2,)","v":{"$error":"#VALUE!"}},"IKA Bohag","Hamburg",null,{"$f":"VLOOKUP(K491,Tabelle2!$B$3:$C$38,2,)","v":{"$error":"#N/A"}},"ContainerPort",120,6012,14629,0]
[null,491,30,"2024-10-23","Bauholz","Hamburg","DE",{"$f":"VLOOKUP(G492,Tabelle2!$B$3:$C$38,2,)","v":{"$error":"#VALUE!"}},"Container  Port","Leipzig",null,{"$f":"VLOOKUP(K492,Tabelle2!$B$3:$C$38,2,)","v":{"$error":"#N/A"}},"FCP",434,12685,17520,800]
[null,492,31,"2024-10-23","Weißer Phosphor","Leipzig","DE",{"$f":"VLOOKUP(G493,Tabelle2!$B$3:$C$38,2,)","v":{"$error":"#VALUE!"}},"Tree-Et","Osnabrück",null,{"$f":"VLOOKUP(K493,Tabelle2!$B$3:$C$38,2,)","v":{"$error":"#N/A"}},"ITCC",590,10249,5200,0]
[null,493,32,"2024-10-23","Acetylen","Osnabrück","DE",{"$f":"VLOOKUP(G494,Tabelle2!$B$3:$C$38,2,)","v":{"$error":"#VALUE!"}},"ITCC","Osnabrück",null,{"$f":"VLOOKUP(K494,Tabelle2!$B$3:$C$38,2,)","v":{"$error":"#N/A"}},"ITCC",7,164774,10440,0]
[null,494,33,"2024-10-26","Arbeitskleidung","Graz","AT",{"$f":"VLOOKUP(G495,Tabelle2!$B$3:$C$38,2,)","v":{"$error":"#VALUE!"}},"FCP","München",null,{"$f":"VLOOKUP(K495,Tabelle2!$B$3:$C$38,2,)","v":{"$error":"#N/A"}},"EuroGoodies",463,14789,16454,400]
[null,495,34,"2024-10-26","Verpackte Lebensmittel","München","DE",{"$f":"VLOOKUP(G496,Tabelle2!$B$3:$C$38,2,)","v":{"$error":"#VALUE!"}},"EuroGoodies","Breslau(Wroclaw)",null,{"$f":"VLOOKUP(K496,Tabelle2!$B$3:$C$38,2,)","v":{"$error":"#N/A"}},"EuroGoodies",570,22761,17365,0]
[null,496,35,"2024-10-26","Halloween Treats","Breslau(Wroclaw)","PL",{"$f":"VLOOKUP(G497,Tabelle2!$B$3:$C$38,2,)","v":{"$error":"#VALUE!"}},"EuroGoodies","Lodoz",null,{"$f":"VLOOKUP(K497,Tabelle2!$B$3:$C$38,2,)","v":{"$error":"#N/A"}},"LKWLog",222,11214,19084,0]
[null,497,36,"2024-10-27","Halloween Treats","München","DE",{"$f":"VLOOKUP(G498,Tabelle2!$B$3:$C$38,2,)","v":{"$error":"#VALUE!"}},"EuroGoodies","Nürnberg",null,{"$f":"VLOOKUP(K498,Tabelle2!$B$3:$C$38,2,)","v":{"$error":"#N/A"}},"Tree-Et",236,11936,19084,0]
[null,498,37,"2024-10-27","Halloween Treats","Nürnberg","DE",{"$f":"VLOOKUP(G499,Tabelle2!$B$3:$C$38,2,)","v":{"$error":"#VALUE!"}},"Tree-Et","Mannheim",null,{"$f":"VLOOKUP(K499,Tabelle2!$B$3:$C$38,2,)","v":{"$error":"#N/A"}},"EuroGoodies",225,11596,19084,0]
[null,499,38,"2024-10-27","Halloween Treats","Mannheim","DE",{"$f":"VLOOKUP(G500,Tabelle2!$B$3:$C$38,2,)","v":{"$error":"#VALUE!"}},"EuroGoodies","Metz",null,{"$f":"VLOOKUP(K500,Tabelle2!$B$3:$C$38,2,)","v":{"$error":"#N/A"}},"EuroGoodies",240,12764,19084,0]
[null,500,39,"2024-10-27","Halloween Treats","Metz","FR",{"$f":"VLOOKUP(G501,Tabelle2!$B$3:$C$38,2,)","v":{"$error":"#VALUE!"}},"EuroGoodies","Mannheim",null,{"$f":"VLOOKUP(K501,Tabelle2!$B$3:$C$38,2,)","v":{"$error":"#N/A"}},"EuroGoodies",249,12618,19084,0]
[null,501,40,"2024-10-27","Halloween Treats","Mannheim","DE",{"$f":"VLOOKUP(G502,Tabelle2!$B$3:$C$38,2,)","v":{"$error":"#VALUE!"}},"EuroGoodies","Stuttgart",null,{"$f":"VLOOKUP(K502,Tabelle2!$B$3:$C$38,2,)","v":{"$error":"#N/A"}},"Stokes",227,11450,19084,0]
[null,502,41,"2024-10-27","Halloween Treats","Stuttgart","DE",{"$f":"VLOOKUP(G503,Tabelle2!$B$3:$C$38,2,)","v":{"$error":"#VALUE!"}},"Stokes","Duisburg",null,{"$f":"VLOOKUP(K503,Tabelle2!$B$3:$C$38,2,)","v":{"$error":"#N/A"}},"DFH",519,24804,19084,400]
[null,503,42,"2024-10-28","Halloween Treats","Dortmund","DE",{"$f":"VLOOKUP(G504,Tabelle2!$B$3:$C$38,2,)","v":{"$error":"#VALUE!"}},"EuroGoodies","Frankfurt",null,{"$f":"VLOOKUP(K504,Tabelle2!$B$3:$C$38,2,)","v":{"$error":"#N/A"}},"transinet",233,11888,19084,160]
[null,504,43,"2024-10-28","Halloween Treats","Frankfurt","DE",{"$f":"VLOOKUP(G505,Tabelle2!$B$3:$C$38,2,)","v":{"$error":"#VALUE!"}},"LKWLog","Köln",null,{"$f":"VLOOKUP(K505,Tabelle2!$B$3:$C$38,2,)","v":{"$error":"#N/A"}},"RTLog",233,11838,19084,400]
[null,505,44,"2024-10-28","Halloween Treats","Köln","DE",{"$f":"VLOOKUP(G506,Tabelle2!$B$3:$C$38,2,)","v":{"$error":"#VALUE!"}},"RTLog","Kassel",null,{"$f":"VLOOKUP(K506,Tabelle2!$B$3:$C$38,2,)","v":{"$error":"#N/A"}},"Tradeaux",302,15607,19084,0]
[null,506,45,"2024-10-28","Halloween Treats","Kassel","DE",{"$f":"VLOOKUP(G507,Tabelle2!$B$3:$C$38,2,)","v":{"$error":"#VALUE!"}},"Kaarfor","Leipzig",null,{"$f":"VLOOKUP(K507,Tabelle2!$B$3:$C$38,2,)","v":{"$error":"#N/A"}},"EuroGoodies",239,12130,19084,0]
[null,507,46,"2024-10-28","Halloween Treats","Leipzig","DE",{"$f":"VLOOKUP(G508,Tabelle2!$B$3:$C$38,2,)","v":{"$error":"#VALUE!"}},"Tree-Et","Nürnberg",null,{"$f":"VLOOKUP(K508,Tabelle2!$B$3:$C$38,2,)","v":{"$error":"#N/A"}},"Tree-Et",331,15956,19084,0]
[null,508,47,"2024-10-28","Halloween Treats","Nürnberg","DE",{"$f":"VLOOKUP(G509,Tabelle2!$B$3:$C$38,2,)","v":{"$error":"#VALUE!"}},"Tree-Et","München",null,{"$f":"VLOOKUP(K509,Tabelle2!$B$3:$C$38,2,)","v":{"$error":"#N/A"}},"EuroGoodies",242,12278,19084,0]
[null,509,48,"2024-10-29","Frischer Fisch","Jönköping","SE",{"$f":"VLOOKUP(G510,Tabelle2!$B$3:$C$38,2,)","v":{"$error":"#VALUE!"}},"Aria Food","Warschau",null,{"$f":"VLOOKUP(K510,Tabelle2!$B$3:$C$38,2,)","v":{"$error":"#N/A"}},"PoSped",1243,25881,18520,0]
[null,510,49,"2024-10-30","Gas-Pipline-Teile","Warschau","PL",{"$f":"VLOOKUP(G511,Tabelle2!$B$3:$C$38,2,)","v":{"$error":"#VALUE!"}},"PoSped","Warschau",null,{"$f":"VLOOKUP(K511,Tabelle2!$B$3:$C$38,2,)","v":{"$error":"#N/A"}},"SanBuilders",5,1358,21800,0]
[null,511,50,"2024-10-30","Dosenschweinefleisch","Warschau","PL",{"$f":"VLOOKUP(G512,Tabelle2!$B$3:$C$38,2,)","v":{"$error":"#VALUE!"}},"SanBuilders","Warschau",null,{"$f":"VLOOKUP(K512,Tabelle2!$B$3:$C$38,2,)","v":{"$error":"#N/A"}},"Stokes",3,1215,22460,0]
[null,512,51,"2024-10-30","Explosivstoffe","Warschau","PL",{"$f":"VLOOKUP(G513,Tabelle2!$B$3:$C$38,2,)","v":{"$error":"#VALUE!"}},"Stokes","Warschau",null,{"$f":"VLOOKUP(K513,Tabelle2!$B$3:$C$38,2,)","v":{"$error":"#N/A"}},"Trameri",6,1539,12045,0]
[null,513,52,"2024-10-30","Windkraftwerksturm","Warschau","PL",{"$f":"VLOOKUP(G514,Tabelle2!$B$3:$C$38,2,)","v":{"$error":"#VALUE!"}},"Trameri","Danzig",null,{"$f":"VLOOKUP(K514,Tabelle2!$B$3:$C$38,2,)","v":{"$error":"#N/A"}},"BCP",309,8007,9810,0]
[null,514,53,"2024-10-30","Kies","Danzig","PL",{"$f":"VLOOKUP(G515,Tabelle2!$B$3:$C$38,2,)","v":{"$error":"#VALUE!"}},"BCP","Danzig",null,{"$f":"VLOOKUP(K515,Tabelle2!$B$3:$C$38,2,)","v":{"$error":"#N/A"}},"EuroAcres",44,914,21970,0]
[null,515,54,"2024-10-30","Limonade","Danzig","PL",{"$f":"VLOOKUP(G516,Tabelle2!$B$3:$C$38,2,)","v":{"$error":"#VALUE!"}},"EuroAcres","Danzig",null,{"$f":"VLOOKUP(K516,Tabelle2!$B$3:$C$38,2,)","v":{"$error":"#N/A"}},"LKWLog",80,1185,21816,0]
[null,516,55,"2024-10-30","Milchpulver","Danzig","PL",{"$f":"VLOOKUP(G517,Tabelle2!$B$3:$C$38,2,)","v":{"$error":"#VALUE!"}},"LKWLog","Danzig",null,{"$f":"VLOOKUP(K517,Tabelle2!$B$3:$C$38,2,)","v":{"$error":"#N/A"}},"SanBuilders",4,1242,18602,0]
[null,517,56,"2024-10-30","Chemisches Sorptionsmittel","Danzig","PL",{"$f":"VLOOKUP(G518,Tabelle2!$B$3:$C$38,2,)","v":{"$error":"#VALUE!"}},"SanBuilders","Danzig",null,{"$f":"VLOOKUP(K518,Tabelle2!$B$3:$C$38,2,)","v":{"$error":"#N/A"}},"WGCC",3,1134,9627,0]
[null,518,57,"2024-10-30","Frischer Fisch","Danzig","PL",{"$f":"VLOOKUP(G519,Tabelle2!$B$3:$C$38,2,)","v":{"$error":"#VALUE!"}},"WGCC","Stettin",null,{"$f":"VLOOKUP(K519,Tabelle2!$B$3:$C$38,2,)","v":{"$error":"#N/A"}},"EuroGoodies",398,12496,18520,0]
[null,519,58,"2024-10-30","Pumpen","Stettin","PL",{"$f":"VLOOKUP(G520,Tabelle2!$B$3:$C$38,2,)","v":{"$error":"#VALUE!"}},"EuroGoodies","Kalingrad",null,{"$f":"VLOOKUP(K520,Tabelle2!$B$3:$C$38,2,)","v":{"$error":"#N/A"}},"Pocmapk",503,19403,14467,360]
[null,520,59,"2024-10-30","Reis","Kalingrad","RU",{"$f":"VLOOKUP(G521,Tabelle2!$B$3:$C$38,2,)","v":{"$error":"#VALUE!"}},"Pocmapk","Danzig",null,{"$f":"VLOOKUP(K521,Tabelle2!$B$3:$C$38,2,)","v":{"$error":"#N/A"}},"EuroAcres",133,5439,18747,0]
[null,521,60,"2024-10-31","Schwefelsäure","Danzig","PL",{"$f":"VLOOKUP(G522,Tabelle2!$B$3:$C$38,2,)","v":{"$error":"#VALUE!"}},"WGCC","Allenstein",null,{"$f":"VLOOKUP(K522,Tabelle2!$B$3:$C$38,2,)","v":{"$error":"#N/A"}},"EuroGoodies",166,4979,14400,560]
[null,522,61,"2024-10-31","Oliven","Allenstein","PL",{"$f":"VLOOKUP(G523,Tabelle2!$B$3:$C$38,2,)","v":{"$error":"#VALUE!"}},"EuroGoodies","Allenstein",null,{"$f":"VLOOKUP(K523,Tabelle2!$B$3:$C$38,2,)","v":{"$error":"#N/A"}},"FCP",3,1251,18312,0]
[null,523,62,"2024-10-31","Fertighauswände","Allenstein","PL",{"$f":"VLOOKUP(G524,Tabelle2!$B$3:$C$38,2,)","v":{"$error":"#VALUE!"}},"FCP","Allenstein",null,{"$f":"VLOOKUP(K524,Tabelle2!$B$3:$C$38,2,)","v":{"$error":"#N/A"}},"Sellplan",2,1201,20999,0]
[null,524,63,"2024-10-31","Abgassysteme","Allenstein","PL",{"$f":"VLOOKUP(G525,Tabelle2!$B$3:$C$38,2,)","v":{"$error":"#VALUE!"}},"Sellplan","Allenstein",null,{"$f":"VLOOKUP(K525,Tabelle2!$B$3:$C$38,2,)","v":{"$error":"#N/A"}},"Tradeaux",3,1151,7506,0]
[null,525,64,"2024-10-31","Hüttenkäse","Allenstein","PL",{"$f":"VLOOKUP(G526,Tabelle2!$B$3:$C$38,2,)","v":{"$error":"#VALUE!"}},"Tradeaux","Allenstein",null,{"$f":"VLOOKUP(K526,Tabelle2!$B$3:$C$38,2,)","v":{"$error":"#N/A"}},"Tree-Et",9,1267,18751,0]
[null,526,65,"2024-10-31","Autos","Allenstein","PL",{"$f":"VLOOKUP(G527,Tabelle2!$B$3:$C$38,2,)","v":{"$error":"#VALUE!"}},"Tree-Et","Bialystok",null,{"$f":"VLOOKUP(K527,Tabelle2!$B$3:$C$38,2,)","v":{"$error":"#N/A"}},"EuroAcres",305,14660,10400,960]
[null,527,66,"2024-10-31","Leberwurst","Bialystok","PL",{"$f":"VLOOKUP(G528,Tabelle2!$B$3:$C$38,2,)","v":{"$error":"#VALUE!"}},"EuroAcres","Bialystok",null,{"$f":"VLOOKUP(K528,Tabelle2!$B$3:$C$38,2,)","v":{"$error":"#N/A"}},"ITCC",14,1226,17411,0]
[null,528,67,"2024-10-31","Dachziegel","Bialystok","PL",{"$f":"VLOOKUP(G529,Tabelle2!$B$3:$C$38,2,)","v":{"$error":"#VALUE!"}},"ITCC","Bialystok",null,{"$f":"VLOOKUP(K529,Tabelle2!$B$3:$C$38,2,)","v":{"$error":"#N/A"}},"transinet",3,1239,20364,0]
[null,529,68,"2024-10-31","Kieselsäure","Bialystok","PL",{"$f":"VLOOKUP(G530,Tabelle2!$B$3:$C$38,2,)","v":{"$error":"#VALUE!"}},"Transinet","Bialystok",null,{"$f":"VLOOKUP(K530,Tabelle2!$B$3:$C$38,2,)","v":{"$error":"#N/A"}},"Tree-Et",19,1240,19114,0]
[null,530,69,"2024-10-31","Öl","Bialystok","PL",{"$f":"VLOOKUP(G531,Tabelle2!$B$3:$C$38,2,)","v":{"$error":"#VALUE!"}},"Transinet","Lublin",null,{"$f":"VLOOKUP(K531,Tabelle2!$B$3:$C$38,2,)","v":{"$error":"#N/A"}},"EuroGoodies",231,9962,23100,0]
[null,531,70,"2024-10-31","Autos","Lublin","PL",{"$f":"VLOOKUP(G532,Tabelle2!$B$3:$C$38,2,)","v":{"$error":"#VALUE!"}},"EuroGoodies","Lublin",null,{"$f":"VLOOKUP(K532,Tabelle2!$B$3:$C$38,2,)","v":{"$error":"#N/A"}},"Kaarfor",3,1510,6160,0]
[null,532,71,"2024-10-31","Kokosnussöl","Lublin","PL",{"$f":"VLOOKUP(G533,Tabelle2!$B$3:$C$38,2,)","v":{"$error":"#VALUE!"}},"Kaarfor","Lublin",null,{"$f":"VLOOKUP(K533,Tabelle2!$B$3:$C$38,2,)","v":{"$error":"#N/A"}},"LKWLog",2,1206,21483,0]
[null,533,72,"2024-10-31","Tomaten","Lublin","PL",{"$f":"VLOOKUP(G534,Tabelle2!$B$3:$C$38,2,)","v":{"$error":"#VALUE!"}},"LKWLog","Lublin",null,{"$f":"VLOOKUP(K534,Tabelle2!$B$3:$C$38,2,)","v":{"$error":"#N/A"}},"PoSped",2,1255,18239,0]
[null,534,73,"2024-10-31","Klebebandrollen","Lublin","PL",{"$f":"VLOOKUP(G535,Tabelle2!$B$3:$C$38,2,)","v":{"$error":"#VALUE!"}},"LKWLog","Kaschau",null,{"$f":"VLOOKUP(K535,Tabelle2!$B$3:$C$38,2,)","v":{"$error":"#N/A"}},"BCP",320,7481,11357,360]
[null,535,74,"2024-10-31","Ahornsirup","Kaschau (Kosice)","SK",{"$f":"VLOOKUP(G536,Tabelle2!$B$3:$C$38,2,)","v":{"$error":"#VALUE!"}},"BCP","Krakau",null,{"$f":"VLOOKUP(K536,Tabelle2!$B$3:$C$38,2,)","v":{"$error":"#N/A"}},"EuroAcres",338,10941,17213,0]
[null,536,1,"2024-11-01","Baggerschaufel","Krakau","PL",{"$f":"VLOOKUP(G537,Tabelle2!$B$3:$C$38,2,)","v":{"$error":"#VALUE!"}},"Tradeaux","Banská Bystrica",null,{"$f":"VLOOKUP(K537,Tabelle2!$B$3:$C$38,2,)","v":{"$error":"#N/A"}},"Stokes",207,12773,25000,300]
[null,537,2,"2024-11-01","Halloween Treats","Banská Bystrica","SK",{"$f":"VLOOKUP(G538,Tabelle2!$B$3:$C$38,2,)","v":{"$error":"#VALUE!"}},"Tree-Et","Kattowitz",null,{"$f":"VLOOKUP(K538,Tabelle2!$B$3:$C$38,2,)","v":{"$error":"#N/A"}},"PoSped",230,11542,19084,0]
[null,538,3,"2024-11-01","High-Tech-Gerät","Krakau","PL",{"$f":"VLOOKUP(G539,Tabelle2!$B$3:$C$38,2,)","v":{"$error":"#VALUE!"}},"Tradeaux","Banská Bystrica",null,{"$f":"VLOOKUP(K539,Tabelle2!$B$3:$C$38,2,)","v":{"$error":"#N/A"}},"Stokes",207,14514,45000,800]
[null,539,4,"2024-11-01","Baggerschaufel","München","DE",{"$f":"VLOOKUP(G540,Tabelle2!$B$3:$C$38,2,)","v":{"$error":"#VALUE!"}},"WGCC","Salzburg",null,{"$f":"VLOOKUP(K540,Tabelle2!$B$3:$C$38,2,)","v":{"$error":"#N/A"}},"Tree-Et",247,15387,25000,0]
[null,540,5,"2024-11-01","Schweres technisches Teil","Berlin","DE",{"$f":"VLOOKUP(G541,Tabelle2!$B$3:$C$38,2,)","v":{"$error":"#VALUE!"}},"NBFC","Stettin",null,{"$f":"VLOOKUP(K541,Tabelle2!$B$3:$C$38,2,)","v":{"$error":"#N/A"}},"ITCC",189,14348,44000,0]
[null,541,6,"2024-11-02","Druckbehälter","Stettin","PL",{"$f":"VLOOKUP(G542,Tabelle2!$B$3:$C$38,2,)","v":{"$error":"#VALUE!"}},"ITCC","Krakau",null,{"$f":"VLOOKUP(K542,Tabelle2!$B$3:$C$38,2,)","v":{"$error":"#N/A"}},"SanBuilders",589,31038,12380,0]
[null,542,7,"2024-11-02","Vierkantrohre","Krakau","PL",{"$f":"VLOOKUP(G543,Tabelle2!$B$3:$C$38,2,)","v":{"$error":"#VALUE!"}},"SanBuilders","Krakau",null,{"$f":"VLOOKUP(K543,Tabelle2!$B$3:$C$38,2,)","v":{"$error":"#N/A"}},"Trameri",1,938,12195,0]
[null,543,8,"2024-11-02","Schutzkleidung","Krakau","PL",{"$f":"VLOOKUP(G544,Tabelle2!$B$3:$C$38,2,)","v":{"$error":"#VALUE!"}},"Tradeaux","Kattowitz",null,{"$f":"VLOOKUP(K544,Tabelle2!$B$3:$C$38,2,)","v":{"$error":"#N/A"}},"Steinbruch",109,2886,20536,960]
[null,544,9,"2024-11-02","Kaminsysteme","Kattowitz","PL",{"$f":"VLOOKUP(G545,Tabelle2!$B$3:$C$38,2,)","v":{"$error":"#VALUE!"}},"Steinbruch","Kattowitz",null,{"$f":"VLOOKUP(K545,Tabelle2!$B$3:$C$38,2,)","v":{"$error":"#N/A"}},"Stokes",40,1269,18450,0]
[null,545,10,"2024-11-02","Motorradgabeln","Kattowitz","PL",{"$f":"VLOOKUP(G546,Tabelle2!$B$3:$C$38,2,)","v":{"$error":"#VALUE!"}},"Stokes","Kattowitz",null,{"$f":"VLOOKUP(K546,Tabelle2!$B$3:$C$38,2,)","v":{"$error":"#N/A"}},"Tree-Et",3,1407,16989,0]
[null,546,11,"2024-11-02","Erz","Kattowitz","PL",{"$f":"VLOOKUP(G547,Tabelle2!$B$3:$C$38,2,)","v":{"$error":"#VALUE!"}},"PoSped","Lodoz",null,{"$f":"VLOOKUP(K547,Tabelle2!$B$3:$C$38,2,)","v":{"$error":"#N/A"}},"EuroGoodies",154,2828,22200,0]
[null,547,12,"2024-11-02","Dachfenster","Lodoz","PL",{"$f":"VLOOKUP(G548,Tabelle2!$B$3:$C$38,2,)","v":{"$error":"#VALUE!"}},"EuroGoodies","Lodoz",null,{"$f":"VLOOKUP(K548,Tabelle2!$B$3:$C$38,2,)","v":{"$error":"#N/A"}},"LKWLog",2,1186,11873,0]
[null,548,13,"2024-11-02","Ziegelsteine","Lodoz","PL",{"$f":"VLOOKUP(G549,Tabelle2!$B$3:$C$38,2,)","v":{"$error":"#VALUE!"}},"LKWLog","Lodoz",null,{"$f":"VLOOKUP(K549,Tabelle2!$B$3:$C$38,2,)","v":{"$error":"#N/A"}},"PoSped",1,1161,20257,0]
[null,549,14,"2024-11-02","Mettalschrott","Lodoz","PL",{"$f":"VLOOKUP(G550,Tabelle2!$B$3:$C$38,2,)","v":{"$error":"#VALUE!"}},"PoSped","Lodoz",null,{"$f":"VLOOKUP(K550,Tabelle2!$B$3:$C$38,2,)","v":{"$error":"#N/A"}},"Sellplan",3,844,26500,0]
[null,550,15,"2024-11-03","Kerosin","Lodoz","PL",{"$f":"VLOOKUP(G551,Tabelle2!$B$3:$C$38,2,)","v":{"$error":"#VALUE!"}},"EuroGoodies","Lissabon",null,{"$f":"VLOOKUP(K551,Tabelle2!$B$3:$C$38,2,)","v":{"$error":"#N/A"}},"TSAtlas",3218,227910,23580,0]
[null,551,16,"2024-11-03","Leere Fässer","Lissabon","PT",{"$f":"VLOOKUP(G552,Tabelle2!$B$3:$C$38,2,)","v":{"$error":"#VALUE!"}},"Ortiz","Wien",null,{"$f":"VLOOKUP(K552,Tabelle2!$B$3:$C$38,2,)","v":{"$error":"#N/A"}},"NSOil",3015,102883,9227,0]
[null,552,17,"2024-11-03","Lebendrind","Wien","AT",{"$f":"VLOOKUP(G553,Tabelle2!$B$3:$C$38,2,)","v":{"$error":"#VALUE!"}},"EuroAcres","Breslau(Wroclaw)",null,{"$f":"VLOOKUP(K553,Tabelle2!$B$3:$C$38,2,)","v":{"$error":"#N/A"}},"EuroAcres",403,22534,21760,0]
[null,553,18,"2024-11-03","Eiskaffee in Dosen","Breslau(Wroclaw)","PL",{"$f":"VLOOKUP(G554,Tabelle2!$B$3:$C$38,2,)","v":{"$error":"#VALUE!"}},"EuroAcres","Breslau(Wroclaw)",null,{"$f":"VLOOKUP(K554,Tabelle2!$B$3:$C$38,2,)","v":{"$error":"#N/A"}},"Trameri",59,1247,21259,0]
[null,554,19,"2024-11-03","Orangenb","Breslau(Wroclaw)","PL",{"$f":"VLOOKUP(G555,Tabelle2!$B$3:$C$38,2,)","v":{"$error":"#VALUE!"}},"EuroGoodies","Breslau(Wroclaw)",null,{"$f":"VLOOKUP(K555,Tabelle2!$B$3:$C$38,2,)","v":{"$error":"#N/A"}},"Steinbruch",73,1247,20312,360]
[null,555,20,"2024-11-04","Leere Fässer","Krakau","PL",{"$f":"VLOOKUP(G556,Tabelle2!$B$3:$C$38,2,)","v":{"$error":"#VALUE!"}},"Trameri","Posen",null,{"$f":"VLOOKUP(K556,Tabelle2!$B$3:$C$38,2,)","v":{"$error":"#N/A"}},"Stokes",344,12444,9227,2300]
[null,556,21,"2024-11-05","Autos","Posen","PL",{"$f":"VLOOKUP(G557,Tabelle2!$B$3:$C$38,2,)","v":{"$error":"#VALUE!"}},"FCP","Posen",null,{"$f":"VLOOKUP(K557,Tabelle2!$B$3:$C$38,2,)","v":{"$error":"#N/A"}},"Kaarfor",1,190646,9010,0]
[null,557,22,"2024-11-05","Planierraupe - Z35K","Posen","PL",{"$f":"VLOOKUP(G558,Tabelle2!$B$3:$C$38,2,)","v":{"$error":"#VALUE!"}},"Kaarfor","Posen",null,{"$f":"VLOOKUP(K558,Tabelle2!$B$3:$C$38,2,)","v":{"$error":"#N/A"}},"Tree-Et",24,1705,39010,0]
[null,558,23,"2024-11-08","Raupenbagger Volvo EC220E","Graz","AT",{"$f":"VLOOKUP(G559,Tabelle2!$B$3:$C$38,2,)","v":{"$error":"#VALUE!"}},"Steinbruch","Mailand",null,{"$f":"VLOOKUP(K559,Tabelle2!$B$3:$C$38,2,)","v":{"$error":"#N/A"}},"Cargotras",683,31565,20470,0]
[null,559,24,"2024-11-08","Halloween Treats","Mailand","IT",{"$f":"VLOOKUP(G560,Tabelle2!$B$3:$C$38,2,)","v":{"$error":"#VALUE!"}},"Spinelli","Parma",null,{"$f":"VLOOKUP(K560,Tabelle2!$B$3:$C$38,2,)","v":{"$error":"#N/A"}},"TE Logistica",204,12893,23089,0]
[null,560,25,"2024-11-08","Sojamilch","Parma","IT",{"$f":"VLOOKUP(G561,Tabelle2!$B$3:$C$38,2,)","v":{"$error":"#VALUE!"}},"TE Logistica","Bologna",null,{"$f":"VLOOKUP(K561,Tabelle2!$B$3:$C$38,2,)","v":{"$error":"#N/A"}},"Exomar",166,6077,23738,0]
[null,561,26,"2024-11-08","Erdbauwalze Volvo SD160B","Bologna","IT",{"$f":"VLOOKUP(G562,Tabelle2!$B$3:$C$38,2,)","v":{"$error":"#VALUE!"}},"Exomar","Rom",null,{"$f":"VLOOKUP(K562,Tabelle2!$B$3:$C$38,2,)","v":{"$error":"#N/A"}},"Transporti  Mediterrano",436,18819,16691,0]
[null,562,27,"2024-11-09","Atlantisches Kabeljaufilet","Rom","IT",{"$f":"VLOOKUP(G563,Tabelle2!$B$3:$C$38,2,)","v":{"$error":"#VALUE!"}},"AA-Auto di Alonso","Mailand",null,{"$f":"VLOOKUP(K563,Tabelle2!$B$3:$C$38,2,)","v":{"$error":"#N/A"}},"ACI SRL",542,22052,16451,800]
[null,563,28,"2024-11-09","Eisenrohre","Mailand","IT",{"$f":"VLOOKUP(G564,Tabelle2!$B$3:$C$38,2,)","v":{"$error":"#VALUE!"}},"ACI SRL","Turin",null,{"$f":"VLOOKUP(K564,Tabelle2!$B$3:$C$38,2,)","v":{"$error":"#N/A"}},"EuroAcres",185,7058,24380,0]
[null,564,29,"2024-11-09","Aluminiumbarren","Turin","IT",{"$f":"VLOOKUP(G565,Tabelle2!$B$3:$C$38,2,)","v":{"$error":"#VALUE!"}},"EuroAcres","Mailand",null,{"$f":"VLOOKUP(K565,Tabelle2!$B$3:$C$38,2,)","v":{"$error":"#N/A"}},"Cargotras",185,5722,17493,360]
[null,565,30,"2024-11-09","Autos","Mailand","IT",{"$f":"VLOOKUP(G566,Tabelle2!$B$3:$C$38,2,)","v":{"$error":"#VALUE!"}},"Cargotras","Turin",null,{"$f":"VLOOKUP(K566,Tabelle2!$B$3:$C$38,2,)","v":{"$error":"#N/A"}},"FCP",201,9755,7860,360]
[null,566,31,"2024-11-09","Semi-Tiefbett-Auflieger","Turin","IT",{"$f":"VLOOKUP(G567,Tabelle2!$B$3:$C$38,2,)","v":{"$error":"#VALUE!"}},"FCP","Mailand",null,{"$f":"VLOOKUP(K567,Tabelle2!$B$3:$C$38,2,)","v":{"$error":"#N/A"}},"Cesare Supermercato",150,8213,17600,0]
[null,567,32,"2024-11-09","Weintrauben","Mailand","IT",{"$f":"VLOOKUP(G568,Tabelle2!$B$3:$C$38,2,)","v":{"$error":"#VALUE!"}},"Cesare Supermercato","Turin",null,{"$f":"VLOOKUP(K568,Tabelle2!$B$3:$C$38,2,)","v":{"$error":"#N/A"}},"Sellplan",179,7200,14619,4180]
[null,568,33,"2024-11-09","Autos","Turin","IT",{"$f":"VLOOKUP(G569,Tabelle2!$B$3:$C$38,2,)","v":{"$error":"#VALUE!"}},"Sellplan","Mailand",null,{"$f":"VLOOKUP(K569,Tabelle2!$B$3:$C$38,2,)","v":{"$error":"#N/A"}},"IKA Bohag",192,10864,7350,0]
[null,569,34,"2024-11-09","Kokosnussmilch","Mailand","IT",{"$f":"VLOOKUP(G570,Tabelle2!$B$3:$C$38,2,)","v":{"$error":"#VALUE!"}},"IKA Bohag","Turin",null,{"$f":"VLOOKUP(K570,Tabelle2!$B$3:$C$38,2,)","v":{"$error":"#N/A"}},"transinet",177,7266,23790,0]
[null,570,35,"2024-11-09","Kleintransporter","Turin","IT",{"$f":"VLOOKUP(G571,Tabelle2!$B$3:$C$38,2,)","v":{"$error":"#VALUE!"}},"Transinet","Mailand",null,{"$f":"VLOOKUP(K571,Tabelle2!$B$3:$C$38,2,)","v":{"$error":"#N/A"}},"Libellula",170,10444,8400,0]
[null,571,36,"2024-11-09","Bremsbeläge","Mailand","IT",{"$f":"VLOOKUP(G572,Tabelle2!$B$3:$C$38,2,)","v":{"$error":"#VALUE!"}},"Libellula","Turin",null,{"$f":"VLOOKUP(K572,Tabelle2!$B$3:$C$38,2,)","v":{"$error":"#N/A"}},"EuroAcres",107,7135,20810,400]
[null,572,37,"2024-11-09","Rollrasen","Turin","IT",{"$f":"VLOOKUP(G573,Tabelle2!$B$3:$C$38,2,)","v":{"$error":"#VALUE!"}},"EuroAcres","Mailand",null,{"$f":"VLOOKUP(K573,Tabelle2!$B$3:$C$38,2,)","v":{"$error":"#N/A"}},"Scania ",183,7086,15299,0]
[null,573,38,"2024-11-10","Knickgelenk-Dumper Volvo A25G","Mailand","IT",{"$f":"VLOOKUP(G574,Tabelle2!$B$3:$C$38,2,)","v":{"$error":"#VALUE!"}},"Tesoro Gustoso","St.Petersburg",null,{"$f":"VLOOKUP(K574,Tabelle2!$B$3:$C$38,2,)","v":{"$error":"#N/A"}},"Finnische Reifen Финские шины ",2746,130914,25000,1600]
[null,574,39,"2024-11-10","Asphaltfräse - AM0880","St.Petersburg","RU",{"$f":"VLOOKUP(G575,Tabelle2!$B$3:$C$38,2,)","v":{"$error":"#VALUE!"}},"Finnische Reifen Финские шины ","Faro",null,{"$f":"VLOOKUP(K575,Tabelle2!$B$3:$C$38,2,)","v":{"$error":"#N/A"}},"APP ",4696,258195,44050,400]
[null,575,40,"2024-11-10","Helicopter -1808TX","Faro","PT",{"$f":"VLOOKUP(G576,Tabelle2!$B$3:$C$38,2,)","v":{"$error":"#VALUE!"}},"APP","Sassari",null,{"$f":"VLOOKUP(K576,Tabelle2!$B$3:$C$38,2,)","v":{"$error":"#N/A"}},"Cargotras",1253,122308,3500,400]
[null,576,41,"2024-11-12","Baggerlader JCB 4CX","Sassari","IT",{"$f":"VLOOKUP(G577,Tabelle2!$B$3:$C$38,2,)","v":{"$error":"#VALUE!"}},"Cargotras","Olbia",null,{"$f":"VLOOKUP(K577,Tabelle2!$B$3:$C$38,2,)","v":{"$error":"#N/A"}},"Marina",153,6406,8380,400]
[null,577,42,"2024-11-12","Minibagger,Minidumper","Olbia","IT",{"$f":"VLOOKUP(G578,Tabelle2!$B$3:$C$38,2,)","v":{"$error":"#VALUE!"}},"Marina","Cagliari",null,{"$f":"VLOOKUP(K578,Tabelle2!$B$3:$C$38,2,)","v":{"$error":"#N/A"}},"Marina",347,4870,4800,0]
[null,578,43,"2024-11-12","Industriekondensator","Cagliari","IT",{"$f":"VLOOKUP(G579,Tabelle2!$B$3:$C$38,2,)","v":{"$error":"#VALUE!"}},"Eolo Lines","Olbia",null,{"$f":"VLOOKUP(K579,Tabelle2!$B$3:$C$38,2,)","v":{"$error":"#N/A"}},"PP Chimica Italia",185,14537,60000,0]
[null,579,44,"2024-11-13","Bohnen","Olbia","IT",{"$f":"VLOOKUP(G580,Tabelle2!$B$3:$C$38,2,)","v":{"$error":"#VALUE!"}},"PP Chimical Italia","Sassari",null,{"$f":"VLOOKUP(K580,Tabelle2!$B$3:$C$38,2,)","v":{"$error":"#N/A"}},"Cesare Supermercato",140,3537,12359,0]
[null,580,45,"2024-11-13","Dosenrindfleisch","Sassari","IT",{"$f":"VLOOKUP(G581,Tabelle2!$B$3:$C$38,2,)","v":{"$error":"#VALUE!"}},"Cesare Supermercato","Olbia",null,{"$f":"VLOOKUP(K581,Tabelle2!$B$3:$C$38,2,)","v":{"$error":"#N/A"}},"Cantiere Navale",101,3659,22110,0]
[null,581,46,"2024-11-13","Gebrauchte Autobatterien","Olbia","IT",{"$f":"VLOOKUP(G582,Tabelle2!$B$3:$C$38,2,)","v":{"$error":"#VALUE!"}},"Cantiere Navale","Cagliari",null,{"$f":"VLOOKUP(K582,Tabelle2!$B$3:$C$38,2,)","v":{"$error":"#N/A"}},"AA - Auto di Alonso",245,8880,17229,0]
[null,582,47,"2024-11-13","Windkraftwerksturm","Cagliari","IT",{"$f":"VLOOKUP(G583,Tabelle2!$B$3:$C$38,2,)","v":{"$error":"#VALUE!"}},"AA-Auto di Alonso","Sassari",null,{"$f":"VLOOKUP(K583,Tabelle2!$B$3:$C$38,2,)","v":{"$error":"#N/A"}},"Construzione di Edfici",207,5942,9810,0]
[null,583,48,"2024-11-15","Stickstoff","Sassari","IT",{"$f":"VLOOKUP(G584,Tabelle2!$B$3:$C$38,2,)","v":{"$error":"#VALUE!"}},"Cargotras","Sassari",null,{"$f":"VLOOKUP(K584,Tabelle2!$B$3:$C$38,2,)","v":{"$error":"#N/A"}},"Cesare Supermercato",2,1610,7830,0]
[null,584,49,"2024-11-15","Mineralwasser","Sassari","IT",{"$f":"VLOOKUP(G585,Tabelle2!$B$3:$C$38,2,)","v":{"$error":"#VALUE!"}},"Cesare Supermercato","Sassari",null,{"$f":"VLOOKUP(K585,Tabelle2!$B$3:$C$38,2,)","v":{"$error":"#N/A"}},"Construzione di Edfici",4,1149,21792,400]
[null,585,50,"2024-11-15","Dieselgeneratoren","Sassari","IT",{"$f":"VLOOKUP(G586,Tabelle2!$B$3:$C$38,2,)","v":{"$error":"#VALUE!"}},"Construzione di Edfici","Sassari",null,{"$f":"VLOOKUP(K586,Tabelle2!$B$3:$C$38,2,)","v":{"$error":"#N/A"}},"Eolo Lines",35,1591,21519,400]
[null,586,51,"2024-11-15","Baumstämme","Sassari","IT",{"$f":"VLOOKUP(G587,Tabelle2!$B$3:$C$38,2,)","v":{"$error":"#VALUE!"}},"Eolo Lines","Sassari",null,{"$f":"VLOOKUP(K587,Tabelle2!$B$3:$C$38,2,)","v":{"$error":"#N/A"}},"Marmo SpA",65,1189,22740,0]
[null,587,52,"2024-11-15","Kettenbagger JCB 245XR","Sassari","IT",{"$f":"VLOOKUP(G588,Tabelle2!$B$3:$C$38,2,)","v":{"$error":"#VALUE!"}},"Marmo SpA","Sassari",null,{"$f":"VLOOKUP(K588,Tabelle2!$B$3:$C$38,2,)","v":{"$error":"#N/A"}},"S.A.L.S.R.L",54,1773,28000,0]
[null,588,53,"2024-11-15","Rindfleisch","Sassari","IT",{"$f":"VLOOKUP(G589,Tabelle2!$B$3:$C$38,2,)","v":{"$error":"#VALUE!"}},"S.A.L.S.A.R","Sassari",null,{"$f":"VLOOKUP(K589,Tabelle2!$B$3:$C$38,2,)","v":{"$error":"#N/A"}},"TE Logistica",77,1235,21622,0]
[null,589,54,"2024-11-15","Halloween Treats","Sassari","IT",{"$f":"VLOOKUP(G590,Tabelle2!$B$3:$C$38,2,)","v":{"$error":"#VALUE!"}},"S.A.L.S.A.R","Ancona",null,{"$f":"VLOOKUP(K590,Tabelle2!$B$3:$C$38,2,)","v":{"$error":"#N/A"}},"Marina",695,47979,23089,0]
[null,590,55,"2024-11-16","Nutzfahrzeug-Chassis","Dortmund","DE",{"$f":"VLOOKUP(G591,Tabelle2!$B$3:$C$38,2,)","v":{"$error":"#VALUE!"}},"Steinbruch","Hannover",null,{"$f":"VLOOKUP(K591,Tabelle2!$B$3:$C$38,2,)","v":{"$error":"#N/A"}},"Steinbruch",293,21280,55000,0]
[null,591,56,"2024-11-17","Umschlagbagger Volvo EW240E MH","Hannover","DE",{"$f":"VLOOKUP(G592,Tabelle2!$B$3:$C$38,2,)","v":{"$error":"#VALUE!"}},"Steinbruch","Rom",null,{"$f":"VLOOKUP(K592,Tabelle2!$B$3:$C$38,2,)","v":{"$error":"#N/A"}},"Exomar",1538,69093,26000,400]
[null,592,57,"2024-11-18","Betonträger","Rom","IT",{"$f":"VLOOKUP(G593,Tabelle2!$B$3:$C$38,2,)","v":{"$error":"#VALUE!"}},"Transporti Mediterrano","Pescara",null,{"$f":"VLOOKUP(K593,Tabelle2!$B$3:$C$38,2,)","v":{"$error":"#N/A"}},"Cargotras",225,8590,51030,0]
[null,593,58,"2024-11-18","Räder mit Volvo-Felgen","Pescara","IT",{"$f":"VLOOKUP(G594,Tabelle2!$B$3:$C$38,2,)","v":{"$error":"#VALUE!"}},"Cargotras","Rom",null,{"$f":"VLOOKUP(K594,Tabelle2!$B$3:$C$38,2,)","v":{"$error":"#N/A"}},"Transporti  Mediterrano",241,6739,10000,0]
[null,594,59,"2024-11-18","Postpakete","Rom","IT",{"$f":"VLOOKUP(G595,Tabelle2!$B$3:$C$38,2,)","v":{"$error":"#VALUE!"}},"ACI SRL","Livorno",null,{"$f":"VLOOKUP(K595,Tabelle2!$B$3:$C$38,2,)","v":{"$error":"#N/A"}},"Cargotras",327,14458,11474,0]
[null,595,60,"2024-11-18","Baggerlader JCB 4CX","Livorno","IT",{"$f":"VLOOKUP(G596,Tabelle2!$B$3:$C$38,2,)","v":{"$error":"#VALUE!"}},"S.A.L.S.A.R","Rom",null,{"$f":"VLOOKUP(K596,Tabelle2!$B$3:$C$38,2,)","v":{"$error":"#N/A"}},"Transporti  Mediterrano",341,9440,8380,0]
[null,596,61,"2024-11-19","Topfpflanzen","Rom","IT",{"$f":"VLOOKUP(G597,Tabelle2!$B$3:$C$38,2,)","v":{"$error":"#VALUE!"}},"IKA Bohag","Cagliari",null,{"$f":"VLOOKUP(K597,Tabelle2!$B$3:$C$38,2,)","v":{"$error":"#N/A"}},"Eolo Lines",274,13403,3620,0]
[null,597,62,"2024-11-19","Windkrftwerksgondel","Cagliari","IT",{"$f":"VLOOKUP(G598,Tabelle2!$B$3:$C$38,2,)","v":{"$error":"#VALUE!"}},"ACI SRL","Cagliari",null,{"$f":"VLOOKUP(K598,Tabelle2!$B$3:$C$38,2,)","v":{"$error":"#N/A"}},"Construzione di Edfici",99,1569,21300,0]
[null,598,63,"2024-11-19","Zucker","Cagliari","IT",{"$f":"VLOOKUP(G599,Tabelle2!$B$3:$C$38,2,)","v":{"$error":"#VALUE!"}},"TE Logistica","Cagliari",null,{"$f":"VLOOKUP(K599,Tabelle2!$B$3:$C$38,2,)","v":{"$error":"#N/A"}},"Transporti  Mediterrano",27,1278,22371,0]
[null,599,null,"2024-11-19","Holzbalken","Cagliari","IT",{"$f":"VLOOKUP(G600,Tabelle2!$B$3:$C$38,2,)","v":{"$error":"#VALUE!"}},"Construzione di Edfici","Cagliari",null,{"$f":"VLOOKUP(K600,Tabelle2!$B$3:$C$38,2,)","v":{"$error":"#N/A"}},"TE Logistica",20,1115,22000,0]
[null,600,64,"2024-11-19","Fertigtreppen Beton","Cagliari","IT",{"$f":"VLOOKUP(G601,Tabelle2!$B$3:$C$38,2,)","v":{"$error":"#VALUE!"}},"Transporti Mediterrano","Olbia",null,{"$f":"VLOOKUP(K601,Tabelle2!$B$3:$C$38,2,)","v":{"$error":"#N/A"}},"Cargotras",279,88,22239,800]
[null,601,65,"2024-11-20","Schokolade","Olbia","IT",{"$f":"VLOOKUP(G602,Tabelle2!$B$3:$C$38,2,)","v":{"$error":"#VALUE!"}},"Cargotras","Olbia",null,{"$f":"VLOOKUP(K602,Tabelle2!$B$3:$C$38,2,)","v":{"$error":"#N/A"}},"Exomar",4,1269,23120,0]
[null,602,66,"2024-11-20","Computerprozessoren","Olbia","IT",{"$f":"VLOOKUP(G603,Tabelle2!$B$3:$C$38,2,)","v":{"$error":"#VALUE!"}},"Exomar","Olbia",null,{"$f":"VLOOKUP(K603,Tabelle2!$B$3:$C$38,2,)","v":{"$error":"#N/A"}},"FUI Spa",78,1431,3854,0]
[null,603,67,"2024-11-20","Getränke","Olbia","IT",{"$f":"VLOOKUP(G604,Tabelle2!$B$3:$C$38,2,)","v":{"$error":"#VALUE!"}},"FUI SpA","Olbia",null,{"$f":"VLOOKUP(K604,Tabelle2!$B$3:$C$38,2,)","v":{"$error":"#N/A"}},"Marmo SpA",68,955,10694,0]
[null,604,68,"2024-11-20","Diesel","Olbia","IT",{"$f":"VLOOKUP(G605,Tabelle2!$B$3:$C$38,2,)","v":{"$error":"#VALUE!"}},"Marmo SpA","Olbia",null,{"$f":"VLOOKUP(K605,Tabelle2!$B$3:$C$38,2,)","v":{"$error":"#N/A"}},"PP Chimica Italia",105,1821,25500,0]
[null,605,69,"2024-11-20","Asphaltfräse - AM0880","Olbia","IT",{"$f":"VLOOKUP(G606,Tabelle2!$B$3:$C$38,2,)","v":{"$error":"#VALUE!"}},"ACI SRL","Triest",null,{"$f":"VLOOKUP(K606,Tabelle2!$B$3:$C$38,2,)","v":{"$error":"#N/A"}},"Terminal Container",1071,92630,44050,400]
[null,606,70,"2024-11-25","Betonträger","Triest","IT",{"$f":"VLOOKUP(G607,Tabelle2!$B$3:$C$38,2,)","v":{"$error":"#VALUE!"}},"Terminal Container","Venedig",null,{"$f":"VLOOKUP(K607,Tabelle2!$B$3:$C$38,2,)","v":{"$error":"#N/A"}},"LKWLog",308,23760,102060,0]
[null,607,71,"2024-11-25","Industriekabeltrommel","Venedig","IT",{"$f":"VLOOKUP(G608,Tabelle2!$B$3:$C$38,2,)","v":{"$error":"#VALUE!"}},"LKWLog","Bologna",null,{"$f":"VLOOKUP(K608,Tabelle2!$B$3:$C$38,2,)","v":{"$error":"#N/A"}},"PP Chimica Italia",124,4198,34520,0]
[null,608,72,"2024-11-25","LPG","Bologna","IT",{"$f":"VLOOKUP(G609,Tabelle2!$B$3:$C$38,2,)","v":{"$error":"#VALUE!"}},"PP Chimical Italia","Livorno",null,{"$f":"VLOOKUP(K609,Tabelle2!$B$3:$C$38,2,)","v":{"$error":"#N/A"}},"CNP",248,12473,22000,0]
[null,609,73,"2024-11-25","Knickgelenk-Dumper Volvo A25G","Livorno","IT",{"$f":"VLOOKUP(G610,Tabelle2!$B$3:$C$38,2,)","v":{"$error":"#VALUE!"}},"CNP","Genua",null,{"$f":"VLOOKUP(K610,Tabelle2!$B$3:$C$38,2,)","v":{"$error":"#N/A"}},"Construzione di Edfici",247,10731,25000,360]
[null,610,74,"2024-11-26","Gas-Pipline-Teile","Genua","IT",{"$f":"VLOOKUP(G611,Tabelle2!$B$3:$C$38,2,)","v":{"$error":"#VALUE!"}},"ACI SRL","Turin",null,{"$f":"VLOOKUP(K611,Tabelle2!$B$3:$C$38,2,)","v":{"$error":"#N/A"}},"transinet",154,9131,21800,0]
[null,611,75,"2024-11-26","Asphaltfräse - AM0880","Turin","IT",{"$f":"VLOOKUP(G612,Tabelle2!$B$3:$C$38,2,)","v":{"$error":"#VALUE!"}},"Transinet","Genua","IT",{"$f":"VLOOKUP(K612,Tabelle2!$B$3:$C$38,2,)","v":{"$error":"#VALUE!"}},"Terminal Container",173,11187,44050,800]
[null,612,76,"2024-11-26","Lokomotive - Vossloh G6","Genua","IT",{"$f":"VLOOKUP(G613,Tabelle2!$B$3:$C$38,2,)","v":{"$error":"#VALUE!"}},"Transporti Mediterrano","Turin","IT",{"$f":"VLOOKUP(K613,Tabelle2!$B$3:$C$38,2,)","v":{"$error":"#VALUE!"}},"Sellplan",153,11886,61750,400]
[null,613,77,"2024-11-26","Mobilkran - UTM SD-833","Turin","IT",{"$f":"VLOOKUP(G614,Tabelle2!$B$3:$C$38,2,)","v":{"$error":"#VALUE!"}},"Sellplan","Genua","IT",{"$f":"VLOOKUP(K614,Tabelle2!$B$3:$C$38,2,)","v":{"$error":"#VALUE!"}},"Marina",172,11366,36150,0]
[null,614,78,"2024-11-26","Planierraupe - Z35K","Genua","IT",{"$f":"VLOOKUP(G615,Tabelle2!$B$3:$C$38,2,)","v":{"$error":"#VALUE!"}},"Transporti Mediterrano","Nizza","FR",{"$f":"VLOOKUP(K615,Tabelle2!$B$3:$C$38,2,)","v":{"$error":"#VALUE!"}},"MVM Carriere",205,14575,39010,400]
[null,615,79,"2024-11-26","Tranformator - PK900","Nizza","FR",{"$f":"VLOOKUP(G616,Tabelle2!$B$3:$C$38,2,)","v":{"$error":"#VALUE!"}},"MVM Carriere","Turin","IT",{"$f":"VLOOKUP(K616,Tabelle2!$B$3:$C$38,2,)","v":{"$error":"#VALUE!"}},"Sellplan",257,16441,47850,0]
[null,616,80,"2024-11-27","Industriekabeltrommel","Turin","IT",{"$f":"VLOOKUP(G617,Tabelle2!$B$3:$C$38,2,)","v":{"$error":"#VALUE!"}},"Sellplan","Nizza","FR",{"$f":"VLOOKUP(K617,Tabelle2!$B$3:$C$38,2,)","v":{"$error":"#VALUE!"}},"BHV",260,8530,34520,800]
[null,617,81,"2024-11-27","Industriekabeltrommel","Nizza","FR",{"$f":"VLOOKUP(G618,Tabelle2!$B$3:$C$38,2,)","v":{"$error":"#VALUE!"}},"BHV","Genua","IT",{"$f":"VLOOKUP(K618,Tabelle2!$B$3:$C$38,2,)","v":{"$error":"#VALUE!"}},"ACI SRL",193,6379,34520,400]
[null,618,82,"2024-11-27","Lokomotive - Vossloh G6","Genua","IT",{"$f":"VLOOKUP(G619,Tabelle2!$B$3:$C$38,2,)","v":{"$error":"#VALUE!"}},"Transporti Mediterrano","Livorno","IT",{"$f":"VLOOKUP(K619,Tabelle2!$B$3:$C$38,2,)","v":{"$error":"#VALUE!"}},"Terminal Container",233,10865,61750,0]
[null,619,83,"2024-11-27","Asphaltfräse - AM0880","Livorno","IT",{"$f":"VLOOKUP(G620,Tabelle2!$B$3:$C$38,2,)","v":{"$error":"#VALUE!"}},"CNP","Livorno","IT",{"$f":"VLOOKUP(K620,Tabelle2!$B$3:$C$38,2,)","v":{"$error":"#VALUE!"}},"Libellula",42,1591,44050,0]
[null,620,84,"2024-11-27","Betonträger","Livorno","IT",{"$f":"VLOOKUP(G621,Tabelle2!$B$3:$C$38,2,)","v":{"$error":"#VALUE!"}},"Libellula","Livorno","IT",{"$f":"VLOOKUP(K621,Tabelle2!$B$3:$C$38,2,)","v":{"$error":"#VALUE!"}},"Marmo SpA",126,1223,51030,0]
[null,621,85,"2024-11-27","Marmorblöcke","Livorno","IT",{"$f":"VLOOKUP(G622,Tabelle2!$B$3:$C$38,2,)","v":{"$error":"#VALUE!"}},"Marmo SpA","Parma","IT",{"$f":"VLOOKUP(K622,Tabelle2!$B$3:$C$38,2,)","v":{"$error":"#VALUE!"}},"INI Tankstelle",251,7747,22500,0]
[null,622,86,"2024-11-29","Knickgelenk-Dumper Volvo A25G","Parma","IT",{"$f":"VLOOKUP(G623,Tabelle2!$B$3:$C$38,2,)","v":{"$error":"#VALUE!"}},"PIAC","Paris","FR",{"$f":"VLOOKUP(K623,Tabelle2!$B$3:$C$38,2,)","v":{"$error":"#VALUE!"}},"Bätisse",1092,56544,25000,0]
[null,623,87,"2024-11-29","Betonträger","Paris","FR",{"$f":"VLOOKUP(G624,Tabelle2!$B$3:$C$38,2,)","v":{"$error":"#VALUE!"}},"Bätisse","Strassburg","FR",{"$f":"VLOOKUP(K624,Tabelle2!$B$3:$C$38,2,)","v":{"$error":"#VALUE!"}},"Kaarfor",473,16826,51030,0]
[null,624,88,"2024-11-29","Planierraupe - Z35K","Strassburg","FR",{"$f":"VLOOKUP(G625,Tabelle2!$B$3:$C$38,2,)","v":{"$error":"#VALUE!"}},"Kaarfor","München","DE",{"$f":"VLOOKUP(K625,Tabelle2!$B$3:$C$38,2,)","v":{"$error":"#VALUE!"}},"BCP",328,19765,39010,0]
[null,625,89,"2024-11-29","Industriekabeltrommel","München","DE",{"$f":"VLOOKUP(G626,Tabelle2!$B$3:$C$38,2,)","v":{"$error":"#VALUE!"}},"Kaarfor","Wien","AT",{"$f":"VLOOKUP(K626,Tabelle2!$B$3:$C$38,2,)","v":{"$error":"#VALUE!"}},"CNP",404,13300,34520,0]
[null,626,90,"2024-11-29","Lokomotive - Vossloh G6","Wien","AT",{"$f":"VLOOKUP(G627,Tabelle2!$B$3:$C$38,2,)","v":{"$error":"#VALUE!"}},"CNP","Budapest","HU",{"$f":"VLOOKUP(K627,Tabelle2!$B$3:$C$38,2,)","v":{"$error":"#VALUE!"}},"Tradeaux",298,16564,61750,200]
[null,627,91,"2024-11-29","Lehrgerüst","Budapest","HU",{"$f":"VLOOKUP(G628,Tabelle2!$B$3:$C$38,2,)","v":{"$error":"#VALUE!"}},"Tradeaux","Bukarest","RO",{"$f":"VLOOKUP(K628,Tabelle2!$B$3:$C$38,2,)","v":{"$error":"#VALUE!"}},"Brawen",833,33970,28200,5420]
[null,628,92,"2002-11-30","Kunststoffrohre","Bukarest","RO",{"$f":"VLOOKUP(G629,Tabelle2!$B$3:$C$38,2,)","v":{"$error":"#VALUE!"}},"Brawen","Istanbul","TR",{"$f":"VLOOKUP(K629,Tabelle2!$B$3:$C$38,2,)","v":{"$error":"#VALUE!"}},"Baltrak Lojistik",605,13385,12380,0]
[null,629,93,"2002-11-30","Fertighauswände","Istanbul","TR",{"$f":"VLOOKUP(G630,Tabelle2!$B$3:$C$38,2,)","v":{"$error":"#VALUE!"}},"Fallow Crago"," Burgas (Бургас)","BG",{"$f":"VLOOKUP(K630,Tabelle2!$B$3:$C$38,2,)","v":{"$error":"#VALUE!"}},"CNP",379,10298,19193,0]
[null,630,94,"2002-11-30","Frische Kräuter"," Burgas (Бургас)","BG",{"$f":"VLOOKUP(G631,Tabelle2!$B$3:$C$38,2,)","v":{"$error":"#VALUE!"}},"Radus (Радус)"," Varna ( Варна)","BG",{"$f":"VLOOKUP(K631,Tabelle2!$B$3:$C$38,2,)","v":{"$error":"#VALUE!"}},"Ocean Solution",85,5161,5650,400]
[null,631,95,"2002-11-30","Motorroller"," Varna ( Варна)","BG",{"$f":"VLOOKUP(G632,Tabelle2!$B$3:$C$38,2,)","v":{"$error":"#VALUE!"}},"Ocean Solution","Mangalia","RO",{"$f":"VLOOKUP(K632,Tabelle2!$B$3:$C$38,2,)","v":{"$error":"#VALUE!"}},"Ocean Solution",61,3745,9979,0]
[null,632,96,"2002-11-30","Gerüstmaterial","Mangalia","RO",{"$f":"VLOOKUP(G633,Tabelle2!$B$3:$C$38,2,)","v":{"$error":"#VALUE!"}},"Ocean Solution","Konstanza","RO",{"$f":"VLOOKUP(K633,Tabelle2!$B$3:$C$38,2,)","v":{"$error":"#VALUE!"}},"CNP",104,1793,21456,0]
[null,633,97,"2002-11-30","Steine","Konstanza","RO",{"$f":"VLOOKUP(G634,Tabelle2!$B$3:$C$38,2,)","v":{"$error":"#VALUE!"}},"Kaarfor","Mangalia","RO",{"$f":"VLOOKUP(K634,Tabelle2!$B$3:$C$38,2,)","v":{"$error":"#VALUE!"}},"Ocean Solution",49,2034,23100,0]
[null,634,1,"2024-12-01","Traktor JCB Fastrac 420","Mangalia","RO",{"$f":"VLOOKUP(G635,Tabelle2!$B$3:$C$38,2,)","v":{"$error":"#VALUE!"}},"Ocean Solution","Istanbul","TR",{"$f":"VLOOKUP(K635,Tabelle2!$B$3:$C$38,2,)","v":{"$error":"#VALUE!"}},"FLE",528,24288,13400,400]
[null,635,2,"2024-12-01","Medizinische Impfstoffe","Istanbul","TR",{"$f":"VLOOKUP(G636,Tabelle2!$B$3:$C$38,2,)","v":{"$error":"#VALUE!"}},"FLE","Clermont -Ferrand",null,{"$f":"VLOOKUP(K636,Tabelle2!$B$3:$C$38,2,)","v":{"$error":"#N/A"}},"Tradeaux",2745,215447,8719,800]
[null,636,3,"2024-12-02","Stickstoff","Clermont -Ferrand","FR",{"$f":"VLOOKUP(G637,Tabelle2!$B$3:$C$38,2,)","v":{"$error":"#VALUE!"}},"Tradeaux","Parma","IT",{"$f":"VLOOKUP(K637,Tabelle2!$B$3:$C$38,2,)","v":{"$error":"#VALUE!"}},"Spinelli",807,22276,3600,0]
[null,637,4,"2024-12-02","Ketchup","Parma","IT",{"$f":"VLOOKUP(G638,Tabelle2!$B$3:$C$38,2,)","v":{"$error":"#VALUE!"}},"Spinelli","Parma","IT",{"$f":"VLOOKUP(K638,Tabelle2!$B$3:$C$38,2,)","v":{"$error":"#VALUE!"}},"Tesoro Gustoso",20,1236,15352,400]
[null,638,5,"2024-12-02","Klebebandrollen","Parma","IT",{"$f":"VLOOKUP(G639,Tabelle2!$B$3:$C$38,2,)","v":{"$error":"#VALUE!"}},"Tesoro Gustoso","Bologna","IT",{"$f":"VLOOKUP(K639,Tabelle2!$B$3:$C$38,2,)","v":{"$error":"#VALUE!"}},"ACI SRL",93,4950,18018,0]
[null,639,6,"2024-12-02","Zugachsen","Bologna","IT",{"$f":"VLOOKUP(G640,Tabelle2!$B$3:$C$38,2,)","v":{"$error":"#VALUE!"}},"ACI SRL","Bologna","IT",{"$f":"VLOOKUP(K640,Tabelle2!$B$3:$C$38,2,)","v":{"$error":"#VALUE!"}},"IKA Bohag",32,1627,20740,0]
[null,640,7,"2024-12-02","Schnittblumen","Bologna","IT",{"$f":"VLOOKUP(G641,Tabelle2!$B$3:$C$38,2,)","v":{"$error":"#VALUE!"}},"IKA Bohag","Bologna","IT",{"$f":"VLOOKUP(K641,Tabelle2!$B$3:$C$38,2,)","v":{"$error":"#VALUE!"}},"INI Tankstelle",99,1346,1759,0]
[null,641,8,"2024-12-02","Druckbehälter","Bologna","IT",{"$f":"VLOOKUP(G642,Tabelle2!$B$3:$C$38,2,)","v":{"$error":"#VALUE!"}},"Libellula","Bologna","IT",{"$f":"VLOOKUP(K642,Tabelle2!$B$3:$C$38,2,)","v":{"$error":"#VALUE!"}},"PIAC",24,1631,12380,0]
[null,642,9,"2024-12-03","Ziegelsteine","Bologna","IT",{"$f":"VLOOKUP(G643,Tabelle2!$B$3:$C$38,2,)","v":{"$error":"#VALUE!"}},"PIAC","Ancona","IT",{"$f":"VLOOKUP(K643,Tabelle2!$B$3:$C$38,2,)","v":{"$error":"#VALUE!"}},"Cantiere Navale",259,7524,20257,1200]
[null,643,10,"2024-12-03","Lammmägen","Ancona","IT",{"$f":"VLOOKUP(G644,Tabelle2!$B$3:$C$38,2,)","v":{"$error":"#VALUE!"}},"Cantiere Navale","Ancona","IT",{"$f":"VLOOKUP(K644,Tabelle2!$B$3:$C$38,2,)","v":{"$error":"#VALUE!"}},"CNP",14,1321,13210,0]
[null,644,11,"2024-12-03","Luftpost","Ancona","IT",{"$f":"VLOOKUP(G645,Tabelle2!$B$3:$C$38,2,)","v":{"$error":"#VALUE!"}},"CNP","Ancona","IT",{"$f":"VLOOKUP(K645,Tabelle2!$B$3:$C$38,2,)","v":{"$error":"#VALUE!"}},"Exomar",74,1397,10897,0]
[null,645,12,"2024-12-03","Verpackte Lebensmittel","Ancona","IT",{"$f":"VLOOKUP(G646,Tabelle2!$B$3:$C$38,2,)","v":{"$error":"#VALUE!"}},"Exomar","Ancona","IT",{"$f":"VLOOKUP(K646,Tabelle2!$B$3:$C$38,2,)","v":{"$error":"#VALUE!"}},"IKA Bohag",1,1382,17365,0]
[null,646,13,"2024-12-03","Dachpappe","Ancona","IT",{"$f":"VLOOKUP(G647,Tabelle2!$B$3:$C$38,2,)","v":{"$error":"#VALUE!"}},"Libellula","Ancona","IT",{"$f":"VLOOKUP(K647,Tabelle2!$B$3:$C$38,2,)","v":{"$error":"#VALUE!"}},"Marina",100,1294,19219,0]
[null,647,14,"2024-12-03","Beton-Lehrgerüst","Ancona","IT",{"$f":"VLOOKUP(G648,Tabelle2!$B$3:$C$38,2,)","v":{"$error":"#VALUE!"}},"Marina","Ancona","IT",{"$f":"VLOOKUP(K648,Tabelle2!$B$3:$C$38,2,)","v":{"$error":"#VALUE!"}},"Terminal Container",5,1049,18400,0]
[null,648,15,"2024-12-03","Semi-Tiefbett-Auflieger","Ancona","IT",{"$f":"VLOOKUP(G649,Tabelle2!$B$3:$C$38,2,)","v":{"$error":"#VALUE!"}},"IKA Bohag","Ancona","IT",{"$f":"VLOOKUP(K649,Tabelle2!$B$3:$C$38,2,)","v":{"$error":"#VALUE!"}},"Libellula",118,1358,17600,0]
[null,649,16,"2024-12-06","Altkunststoff","Ancona","IT",{"$f":"VLOOKUP(G650,Tabelle2!$B$3:$C$38,2,)","v":{"$error":"#VALUE!"}},"Cantiere Navale","Bari","IT",{"$f":"VLOOKUP(K650,Tabelle2!$B$3:$C$38,2,)","v":{"$error":"#VALUE!"}},"ACI SRL",486,11139,7153,0]
[null,650,17,"2024-12-06","Kartoffeln","Bari","IT",{"$f":"VLOOKUP(G651,Tabelle2!$B$3:$C$38,2,)","v":{"$error":"#VALUE!"}},"ACI SRL","Bari","IT",{"$f":"VLOOKUP(K651,Tabelle2!$B$3:$C$38,2,)","v":{"$error":"#VALUE!"}},"Marina",6,1292,22160,0]
[null,651,18,"2024-12-06","Milch","Bari","IT",{"$f":"VLOOKUP(G652,Tabelle2!$B$3:$C$38,2,)","v":{"$error":"#VALUE!"}},"Marina","Bari","IT",{"$f":"VLOOKUP(K652,Tabelle2!$B$3:$C$38,2,)","v":{"$error":"#VALUE!"}},"Quadrelli SpA",24,1327,20500,0]
[null,652,19,"2024-12-06","Schweinefleisch","Bari","IT",{"$f":"VLOOKUP(G653,Tabelle2!$B$3:$C$38,2,)","v":{"$error":"#VALUE!"}},"Quadrelli SpA","Bari","IT",{"$f":"VLOOKUP(K653,Tabelle2!$B$3:$C$38,2,)","v":{"$error":"#VALUE!"}},"Terminal Container",30,1255,18734,0]
[null,653,20,"2024-12-06","Autos","Bari","IT",{"$f":"VLOOKUP(G654,Tabelle2!$B$3:$C$38,2,)","v":{"$error":"#VALUE!"}},"Terminal Container","Bari","IT",{"$f":"VLOOKUP(K654,Tabelle2!$B$3:$C$38,2,)","v":{"$error":"#VALUE!"}},"Transporti  Mediterrano",25,1553,7860,0]
[null,654,21,"2024-12-06","Minibagger,Minidumper","Bari","IT",{"$f":"VLOOKUP(G655,Tabelle2!$B$3:$C$38,2,)","v":{"$error":"#VALUE!"}},"Transporti Mediterrano","Trikala (Τρίκαλα )","IT",{"$f":"VLOOKUP(K655,Tabelle2!$B$3:$C$38,2,)","v":{"$error":"#VALUE!"}},"Brawen",294,5481,4800,160]
[null,655,22,"2024-12-06","Tranformator - PK900","Trikala (Τρίκαλα )","GR",{"$f":"VLOOKUP(G656,Tabelle2!$B$3:$C$38,2,)","v":{"$error":"#VALUE!"}},"Brawen","Messina","IT",{"$f":"VLOOKUP(K656,Tabelle2!$B$3:$C$38,2,)","v":{"$error":"#VALUE!"}},"Cantiere Navale",677,38056,47850,0]
[null,656,23,"2024-12-07","Altverpackungen","Messina","IT",{"$f":"VLOOKUP(G657,Tabelle2!$B$3:$C$38,2,)","v":{"$error":"#VALUE!"}},"Cantiere Navale","Patras (Πάτρα )","GR",{"$f":"VLOOKUP(K657,Tabelle2!$B$3:$C$38,2,)","v":{"$error":"#VALUE!"}},"Fallow Cargo",741,24805,20252,0]
[null,657,24,"2024-12-07","Radlader-Schaufel Volvo SPN P T SEG","Patras (Πάτρα )","GR",{"$f":"VLOOKUP(G658,Tabelle2!$B$3:$C$38,2,)","v":{"$error":"#VALUE!"}},"Fallow Crago","Lamia (Λαμία )","GR",{"$f":"VLOOKUP(K658,Tabelle2!$B$3:$C$38,2,)","v":{"$error":"#VALUE!"}},"Brawen",318,10450,3600,400]
[null,658,25,"2024-12-07","Knoblauch","Lamia (Λαμία )","GR",{"$f":"VLOOKUP(G659,Tabelle2!$B$3:$C$38,2,)","v":{"$error":"#VALUE!"}},"Low Field","Kavala ( Καβάλα)","GR",{"$f":"VLOOKUP(K659,Tabelle2!$B$3:$C$38,2,)","v":{"$error":"#VALUE!"}},"Villco",552,20832,12385,0]
[null,659,26,"2024-12-07","Jacht - Queen V39","Kavala ( Καβάλα)","GR",{"$f":"VLOOKUP(G660,Tabelle2!$B$3:$C$38,2,)","v":{"$error":"#VALUE!"}},"Marina","Thessaloniki (Θεσσαλονίκη)","GR",{"$f":"VLOOKUP(K660,Tabelle2!$B$3:$C$38,2,)","v":{"$error":"#VALUE!"}},"Brawen",206,12937,9900,360]
[null,660,27,"2024-12-07","Radlader-Schaufel Volvo SPN P T SEG","Thessaloniki (Θεσσαλονίκη)","GR",{"$f":"VLOOKUP(G661,Tabelle2!$B$3:$C$38,2,)","v":{"$error":"#VALUE!"}},"Celler","Argostoli (Αργοστόλι)","GR",{"$f":"VLOOKUP(K661,Tabelle2!$B$3:$C$38,2,)","v":{"$error":"#VALUE!"}},"Icaria",342,11513,3600,0]
[null,661,28,"2024-12-08","Strohballen","Argostoli (Αργοστόλι)","GR",{"$f":"VLOOKUP(G662,Tabelle2!$B$3:$C$38,2,)","v":{"$error":"#VALUE!"}},"Low Field","Heraklion ( Ηράκλειο)","GR",{"$f":"VLOOKUP(K662,Tabelle2!$B$3:$C$38,2,)","v":{"$error":"#VALUE!"}},"Icaria",293,11138,15352,0]
[null,662,29,"2024-12-08","Altkunststoff","Heraklion ( Ηράκλειο)","GR",{"$f":"VLOOKUP(G663,Tabelle2!$B$3:$C$38,2,)","v":{"$error":"#VALUE!"}},"Eumefa","Kalamata ( Καλαμάτα)","GR",{"$f":"VLOOKUP(K663,Tabelle2!$B$3:$C$38,2,)","v":{"$error":"#VALUE!"}},"Icaria",223,5875,9672,0]
[null,663,30,"2024-12-08","Kunststoffgranulat","Kalamata ( Καλαμάτα)","GR",{"$f":"VLOOKUP(G664,Tabelle2!$B$3:$C$38,2,)","v":{"$error":"#VALUE!"}},"Christopoukos Oikodomika","Rhodos (Ρόδος )","GR",{"$f":"VLOOKUP(K664,Tabelle2!$B$3:$C$38,2,)","v":{"$error":"#VALUE!"}},"Icaria",300,8379,22100,0]
[null,664,31,"2024-12-08","Altverpackungen","Rhodos (Ρόδος )","GR",{"$f":"VLOOKUP(G665,Tabelle2!$B$3:$C$38,2,)","v":{"$error":"#VALUE!"}},"Artemia","Larissa (Λάρισα)","GR",{"$f":"VLOOKUP(K665,Tabelle2!$B$3:$C$38,2,)","v":{"$error":"#VALUE!"}},"Fallow Cargo",333,12158,20252,0]
[null,665,32,"2024-12-09","Tranformator - PK900","Larissa (Λάρισα)","GR",{"$f":"VLOOKUP(G666,Tabelle2!$B$3:$C$38,2,)","v":{"$error":"#VALUE!"}},"Eumefa","Athen (Αθήνα)","GR",{"$f":"VLOOKUP(K666,Tabelle2!$B$3:$C$38,2,)","v":{"$error":"#VALUE!"}},"CNP",379,21142,47850,0]
[null,666,33,"2024-12-09","Raddumper JCB 6T-2","Athen (Αθήνα)","GR",{"$f":"VLOOKUP(G667,Tabelle2!$B$3:$C$38,2,)","v":{"$error":"#VALUE!"}},"CNP","Neapel","IT",{"$f":"VLOOKUP(K667,Tabelle2!$B$3:$C$38,2,)","v":{"$error":"#VALUE!"}},"TE Logistica",727,12001,5000,0]
[null,667,34,"2024-12-10","Räder mit Volvo-Felgen","Neapel","IT",{"$f":"VLOOKUP(G668,Tabelle2!$B$3:$C$38,2,)","v":{"$error":"#VALUE!"}},"TE Logistica","Ioannina (Ιωάννινα)","GR",{"$f":"VLOOKUP(K668,Tabelle2!$B$3:$C$38,2,)","v":{"$error":"#VALUE!"}},"Brawen",313,9800,10000,0]
[null,668,35,"2024-12-10","Getränke","Ioannina (Ιωάννινα)","GR",{"$f":"VLOOKUP(G669,Tabelle2!$B$3:$C$38,2,)","v":{"$error":"#VALUE!"}},"Shuttle Cola","Chania (Χανιά)","GR",{"$f":"VLOOKUP(K669,Tabelle2!$B$3:$C$38,2,)","v":{"$error":"#VALUE!"}},"Icaria",524,23090,24000,0]
[null,669,36,"2024-12-10","Erdnussbutter","Chania (Χανιά)","GR",{"$f":"VLOOKUP(G670,Tabelle2!$B$3:$C$38,2,)","v":{"$error":"#VALUE!"}},"Ernte  Συγκομιδή","Mitilini (Μυτιλήνη )","GR",{"$f":"VLOOKUP(K670,Tabelle2!$B$3:$C$38,2,)","v":{"$error":"#VALUE!"}},"Icaria",17,3098,19539,0]
[null,670,37,"2024-12-11","Zwiebeln","Mitilini (Μυτιλήνη )","GR",{"$f":"VLOOKUP(G671,Tabelle2!$B$3:$C$38,2,)","v":{"$error":"#VALUE!"}},"Low Field","Larissa (Λάρισα)","GR",{"$f":"VLOOKUP(K671,Tabelle2!$B$3:$C$38,2,)","v":{"$error":"#VALUE!"}},"Fallow Cargo",367,15157,17493,400]
[null,671,38,"2024-12-11","Dachfenster","Larissa (Λάρισα)","GR",{"$f":"VLOOKUP(G672,Tabelle2!$B$3:$C$38,2,)","v":{"$error":"#VALUE!"}},"Eumefa","Chios ( Χίος)","GR",{"$f":"VLOOKUP(K672,Tabelle2!$B$3:$C$38,2,)","v":{"$error":"#VALUE!"}},"Icaria",303,11250,11873,360]
[null,672,39,"2024-12-11","Glasscheiben","Chios ( Χίος)","GR",{"$f":"VLOOKUP(G673,Tabelle2!$B$3:$C$38,2,)","v":{"$error":"#VALUE!"}},"Christopoukos Oikodomika","Istanbul","TR",{"$f":"VLOOKUP(K673,Tabelle2!$B$3:$C$38,2,)","v":{"$error":"#VALUE!"}},"Baltrak Lojistik",453,21054,19310,400]
[null,673,40,"2024-12-12","Acetylen","Istanbul","TR",{"$f":"VLOOKUP(G674,Tabelle2!$B$3:$C$38,2,)","v":{"$error":"#VALUE!"}},"Baltrak Lojistic","Dijon","FR",{"$f":"VLOOKUP(K674,Tabelle2!$B$3:$C$38,2,)","v":{"$error":"#VALUE!"}},"EuroAcres",2541,57414,4800,3940]
[null,674,41,"2024-12-12","Chemisches Sorptionsmittel","Dijon","FR",{"$f":"VLOOKUP(G675,Tabelle2!$B$3:$C$38,2,)","v":{"$error":"#VALUE!"}},"EuroGoodies","Verona","IT",{"$f":"VLOOKUP(K675,Tabelle2!$B$3:$C$38,2,)","v":{"$error":"#VALUE!"}},"EuroAcres",772,29274,11882,0]
[null,675,42,"2024-12-12","Essig","Verona","IT",{"$f":"VLOOKUP(G676,Tabelle2!$B$3:$C$38,2,)","v":{"$error":"#VALUE!"}},"EuroAcres","Cassino","IT",{"$f":"VLOOKUP(K676,Tabelle2!$B$3:$C$38,2,)","v":{"$error":"#VALUE!"}},"PIAC",672,30869,17617,0]
[null,676,43,"2024-12-12","Aluminiumprofile","Cassino","IT",{"$f":"VLOOKUP(G677,Tabelle2!$B$3:$C$38,2,)","v":{"$error":"#VALUE!"}},"PIAC","Cassino","IT",{"$f":"VLOOKUP(K677,Tabelle2!$B$3:$C$38,2,)","v":{"$error":"#VALUE!"}},"Spinelli",33,115264,22400,0]
[null,677,44,"2024-12-13","Glasscheiben","Cassino","IT",{"$f":"VLOOKUP(G678,Tabelle2!$B$3:$C$38,2,)","v":{"$error":"#VALUE!"}},"Spinelli","Catania","IT",{"$f":"VLOOKUP(K678,Tabelle2!$B$3:$C$38,2,)","v":{"$error":"#VALUE!"}},"ACC",718,34335,21008,0]
[null,678,45,"2024-12-13","Klebebandrollen","Catania","IT",{"$f":"VLOOKUP(G679,Tabelle2!$B$3:$C$38,2,)","v":{"$error":"#VALUE!"}},"ACC","Catania","IT",{"$f":"VLOOKUP(K679,Tabelle2!$B$3:$C$38,2,)","v":{"$error":"#VALUE!"}},"CNP",51,1075,11375,0]
[null,679,46,"2024-12-13","Gefrorener Seehecht","Catania","IT",{"$f":"VLOOKUP(G680,Tabelle2!$B$3:$C$38,2,)","v":{"$error":"#VALUE!"}},"CNP","Catania","IT",{"$f":"VLOOKUP(K680,Tabelle2!$B$3:$C$38,2,)","v":{"$error":"#VALUE!"}},"FUI Spa",142,1309,17411,0]
[null,680,47,"2024-12-13","Kleintransporter","Catania","IT",{"$f":"VLOOKUP(G681,Tabelle2!$B$3:$C$38,2,)","v":{"$error":"#VALUE!"}},"FUI SpA","Catania","IT",{"$f":"VLOOKUP(K681,Tabelle2!$B$3:$C$38,2,)","v":{"$error":"#VALUE!"}},"IKA Bohag",95,1578,6150,0]
[null,681,48,"2024-12-13","Kautschuk","Catania","IT",{"$f":"VLOOKUP(G682,Tabelle2!$B$3:$C$38,2,)","v":{"$error":"#VALUE!"}},"IKA Bohag","Catania","IT",{"$f":"VLOOKUP(K682,Tabelle2!$B$3:$C$38,2,)","v":{"$error":"#VALUE!"}},"Marina",13,1401,21731,0]
[null,682,49,"2024-12-13","Gebrauchte Autobatterien","Catania","IT",{"$f":"VLOOKUP(G683,Tabelle2!$B$3:$C$38,2,)","v":{"$error":"#VALUE!"}},"Marina","Catania","IT",{"$f":"VLOOKUP(K683,Tabelle2!$B$3:$C$38,2,)","v":{"$error":"#VALUE!"}},"Quadrelli SpA",62,1271,17229,0]
[null,683,50,"2024-12-13","LPG","Catania","IT",{"$f":"VLOOKUP(G684,Tabelle2!$B$3:$C$38,2,)","v":{"$error":"#VALUE!"}},"Quadrelli SpA","Catania","IT",{"$f":"VLOOKUP(K684,Tabelle2!$B$3:$C$38,2,)","v":{"$error":"#VALUE!"}},"Transporti  Mediterrano",68,1595,21200,0]
[null,684,51,"2024-12-13","Medizinische Ausrüstung","Catania","IT",{"$f":"VLOOKUP(G685,Tabelle2!$B$3:$C$38,2,)","v":{"$error":"#VALUE!"}},"Transporti Mediterrano","Catania","IT",{"$f":"VLOOKUP(K685,Tabelle2!$B$3:$C$38,2,)","v":{"$error":"#VALUE!"}},"INI Tankstelle",51,1665,5214,0]
[null,685,52,"2024-12-13","Industriekondensator","Palermo","IT",{"$f":"VLOOKUP(G686,Tabelle2!$B$3:$C$38,2,)","v":{"$error":"#VALUE!"}},"Hafen (Harbor)","Catania","IT",{"$f":"VLOOKUP(K686,Tabelle2!$B$3:$C$38,2,)","v":{"$error":"#VALUE!"}},"FUI Spa",179,14731,60000,0]
[null,686,53,"2024-12-13","Blei","Catania","IT",{"$f":"VLOOKUP(G687,Tabelle2!$B$3:$C$38,2,)","v":{"$error":"#VALUE!"}},"FUI SpA","Palermo","IT",{"$f":"VLOOKUP(K687,Tabelle2!$B$3:$C$38,2,)","v":{"$error":"#VALUE!"}},"Eolo Lines",169,9072,18400,0]
[null,687,54,"2024-12-13","Baggerlader JCB 4CX","Palermo","IT",{"$f":"VLOOKUP(G688,Tabelle2!$B$3:$C$38,2,)","v":{"$error":"#VALUE!"}},"Eolo Lines","Catania","IT",{"$f":"VLOOKUP(K688,Tabelle2!$B$3:$C$38,2,)","v":{"$error":"#VALUE!"}},"Quadrelli SpA",232,7760,8380,0]
[null,688,55,"2024-12-13","Mettalspulen","Catania","IT",{"$f":"VLOOKUP(G689,Tabelle2!$B$3:$C$38,2,)","v":{"$error":"#VALUE!"}},"Quadrelli SpA","Palermo","IT",{"$f":"VLOOKUP(K689,Tabelle2!$B$3:$C$38,2,)","v":{"$error":"#VALUE!"}},"Cargotras",249,7813,24250,0]
[null,689,56,"2024-12-13","Zucker","Palermo","IT",{"$f":"VLOOKUP(G690,Tabelle2!$B$3:$C$38,2,)","v":{"$error":"#VALUE!"}},"Cargotras","Catania","IT",{"$f":"VLOOKUP(K690,Tabelle2!$B$3:$C$38,2,)","v":{"$error":"#VALUE!"}},"Marina",182,9977,21693,400]
[null,690,57,"2024-12-13","Säure","Catania","IT",{"$f":"VLOOKUP(G691,Tabelle2!$B$3:$C$38,2,)","v":{"$error":"#VALUE!"}},"Marina","Palermo","IT",{"$f":"VLOOKUP(K691,Tabelle2!$B$3:$C$38,2,)","v":{"$error":"#VALUE!"}},"Cesare Supermercato",192,12476,19800,1720]
[null,691,58,"2024-12-13","Tafelgeschirr","Palermo","IT",{"$f":"VLOOKUP(G692,Tabelle2!$B$3:$C$38,2,)","v":{"$error":"#VALUE!"}},"Cesare Supermercato","Palermo","IT",{"$f":"VLOOKUP(K692,Tabelle2!$B$3:$C$38,2,)","v":{"$error":"#VALUE!"}},"Construzione di Edfici",90,1486,16424,0]
[null,692,59,"2024-12-13","Lebendrind","Palermo","IT",{"$f":"VLOOKUP(G693,Tabelle2!$B$3:$C$38,2,)","v":{"$error":"#VALUE!"}},"Construzione di Edfici","Palermo","IT",{"$f":"VLOOKUP(K693,Tabelle2!$B$3:$C$38,2,)","v":{"$error":"#VALUE!"}},"Marmo SpA",38,1982,21760,0]
[null,693,60,"2024-12-13","Erdaushub","Palermo","IT",{"$f":"VLOOKUP(G694,Tabelle2!$B$3:$C$38,2,)","v":{"$error":"#VALUE!"}},"Marmo SpA","Messina","IT",{"$f":"VLOOKUP(K694,Tabelle2!$B$3:$C$38,2,)","v":{"$error":"#VALUE!"}},"Cantiere Navale",243,4398,22100,360]
[null,694,61,"2024-12-15","Gerüstmaterial","Messina","IT",{"$f":"VLOOKUP(G695,Tabelle2!$B$3:$C$38,2,)","v":{"$error":"#VALUE!"}},"Cantiere Navale","Messina","IT",{"$f":"VLOOKUP(K695,Tabelle2!$B$3:$C$38,2,)","v":{"$error":"#VALUE!"}},"Eolo Lines",3,1234,21456,0]
[null,695,62,"2024-12-15","Reifen","Messina","IT",{"$f":"VLOOKUP(G696,Tabelle2!$B$3:$C$38,2,)","v":{"$error":"#VALUE!"}},"Eolo Lines","Messina","IT",{"$f":"VLOOKUP(K696,Tabelle2!$B$3:$C$38,2,)","v":{"$error":"#VALUE!"}},"TE Logistica",2,1358,16286,0]
[null,696,63,"2024-12-15","Arbeitskleidung","Messina","IT",{"$f":"VLOOKUP(G697,Tabelle2!$B$3:$C$38,2,)","v":{"$error":"#VALUE!"}},"TE Logistica","Catanzaro","IT",{"$f":"VLOOKUP(K697,Tabelle2!$B$3:$C$38,2,)","v":{"$error":"#VALUE!"}},"ACI SRL",169,89510,16454,400]
[null,697,64,"2024-12-15","Pickup-Trucks","Catanzaro","IT",{"$f":"VLOOKUP(G698,Tabelle2!$B$3:$C$38,2,)","v":{"$error":"#VALUE!"}},"ACI SRL","Catanzaro","IT",{"$f":"VLOOKUP(K698,Tabelle2!$B$3:$C$38,2,)","v":{"$error":"#VALUE!"}},"Cargotras",49,1661,6200,0]
[null,698,65,"2024-12-15","Betonträger","Catanzaro","IT",{"$f":"VLOOKUP(G699,Tabelle2!$B$3:$C$38,2,)","v":{"$error":"#VALUE!"}},"Cargotras","Catanzaro","IT",{"$f":"VLOOKUP(K699,Tabelle2!$B$3:$C$38,2,)","v":{"$error":"#VALUE!"}},"Construzione di Edfici",1,1252,51030,0]
[null,699,66,"2024-12-15","Äpfel","Catanzaro","IT",{"$f":"VLOOKUP(G700,Tabelle2!$B$3:$C$38,2,)","v":{"$error":"#VALUE!"}},"Construzione di Edfici","Catanzaro","IT",{"$f":"VLOOKUP(K700,Tabelle2!$B$3:$C$38,2,)","v":{"$error":"#VALUE!"}},"FUI Spa",149,922,9168,0]
[null,700,67,"2024-12-15","Gefrorener Seehecht","Catanzaro","IT",{"$f":"VLOOKUP(G701,Tabelle2!$B$3:$C$38,2,)","v":{"$error":"#VALUE!"}},"FUI SpA","Catanzaro","IT",{"$f":"VLOOKUP(K701,Tabelle2!$B$3:$C$38,2,)","v":{"$error":"#VALUE!"}},"INI Tankstelle",163,1314,17411,0]
[null,701,68,"2024-12-15","Chlor","Catanzaro","IT",{"$f":"VLOOKUP(G702,Tabelle2!$B$3:$C$38,2,)","v":{"$error":"#VALUE!"}},"Cargotras","Florenz","IT",{"$f":"VLOOKUP(K702,Tabelle2!$B$3:$C$38,2,)","v":{"$error":"#VALUE!"}},"Construzione di Edfici",860,45035,18270,1040]
[null,702,69,"2024-12-15","Altkunststoff","Florenz","IT",{"$f":"VLOOKUP(G703,Tabelle2!$B$3:$C$38,2,)","v":{"$error":"#VALUE!"}},"Construzione di Edfici","Florenz","IT",{"$f":"VLOOKUP(K703,Tabelle2!$B$3:$C$38,2,)","v":{"$error":"#VALUE!"}},"FUI Spa",108,990,9672,400]
[null,703,70,"2024-12-15","Getriebe","Florenz","IT",{"$f":"VLOOKUP(G704,Tabelle2!$B$3:$C$38,2,)","v":{"$error":"#VALUE!"}},"FUI SpA","Florenz","IT",{"$f":"VLOOKUP(K704,Tabelle2!$B$3:$C$38,2,)","v":{"$error":"#VALUE!"}},"IKA Bohag",137,1597,14240,400]
[null,704,71,"2024-12-15","Aluminiumprofile","Florenz","IT",{"$f":"VLOOKUP(G705,Tabelle2!$B$3:$C$38,2,)","v":{"$error":"#VALUE!"}},"IKA Bohag","Florenz","IT",{"$f":"VLOOKUP(K705,Tabelle2!$B$3:$C$38,2,)","v":{"$error":"#VALUE!"}},"Marmo SpA",156,1286,25600,0]
[null,705,72,"2024-12-15","Kraftstofftank","Florenz","IT",{"$f":"VLOOKUP(G706,Tabelle2!$B$3:$C$38,2,)","v":{"$error":"#VALUE!"}},"Marmo SpA","Florenz","IT",{"$f":"VLOOKUP(K706,Tabelle2!$B$3:$C$38,2,)","v":{"$error":"#VALUE!"}},"TE Logistica",157,1409,9600,0]
[null,706,73,"2024-12-15","Käse","Florenz","IT",{"$f":"VLOOKUP(G707,Tabelle2!$B$3:$C$38,2,)","v":{"$error":"#VALUE!"}},"TE Logistica","Florenz","IT",{"$f":"VLOOKUP(K707,Tabelle2!$B$3:$C$38,2,)","v":{"$error":"#VALUE!"}},"Tesoro Gustoso",89,1336,18229,0]
[null,707,74,"2024-12-15","Nitrocellulose","Florenz","IT",{"$f":"VLOOKUP(G708,Tabelle2!$B$3:$C$38,2,)","v":{"$error":"#VALUE!"}},"Tesoro Gustoso","Florenz","IT",{"$f":"VLOOKUP(K708,Tabelle2!$B$3:$C$38,2,)","v":{"$error":"#VALUE!"}},"Scania ",82,1595,14790,0]
[null,708,75,"2024-12-16","Christmas Confectionery","Florenz","IT",{"$f":"VLOOKUP(G709,Tabelle2!$B$3:$C$38,2,)","v":{"$error":"#VALUE!"}},"Tesoro Gustoso","Town Square","WL",{"$f":"VLOOKUP(K709,Tabelle2!$B$3:$C$38,2,)","v":{"$error":"#VALUE!"}},"Christmas Market",94,5222,19084,0]
[null,709,76,"2024-12-16","Christmas Market Hampers","Town Square","WL",{"$f":"VLOOKUP(G710,Tabelle2!$B$3:$C$38,2,)","v":{"$error":"#VALUE!"}},"Christmas Market","Rom","IT",{"$f":"VLOOKUP(K710,Tabelle2!$B$3:$C$38,2,)","v":{"$error":"#VALUE!"}},"PP Chimica Italia",139,5984,19084,0]
[null,710,77,"2024-12-16","Christmas Fibre Stuffing","Rom","IT",{"$f":"VLOOKUP(G711,Tabelle2!$B$3:$C$38,2,)","v":{"$error":"#VALUE!"}},"Fattoria Felice","Arts Workshop","WL",{"$f":"VLOOKUP(K711,Tabelle2!$B$3:$C$38,2,)","v":{"$error":"#VALUE!"}},"Rudolph´s Crafts",165,7559,19084,0]
[null,711,78,"2024-12-16","Master Craft Gift Packs","Arts Workshop","WL",{"$f":"VLOOKUP(G712,Tabelle2!$B$3:$C$38,2,)","v":{"$error":"#VALUE!"}},"Rudolph´s Crafts","Terni","IT",{"$f":"VLOOKUP(K712,Tabelle2!$B$3:$C$38,2,)","v":{"$error":"#VALUE!"}},"PP Chimica Italia",60,3537,19084,0]
[null,712,79,"2024-12-16","Christmas Dried Fruits","Rom","IT",{"$f":"VLOOKUP(G713,Tabelle2!$B$3:$C$38,2,)","v":{"$error":"#VALUE!"}},"FUI SpA","Town Square","WL",{"$f":"VLOOKUP(K713,Tabelle2!$B$3:$C$38,2,)","v":{"$error":"#VALUE!"}},"Christmas Market",104,5768,19084,0]
[null,713,80,"2024-12-16","Chocolate Gift Packs","Chocolate Factory","WL",{"$f":"VLOOKUP(G714,Tabelle2!$B$3:$C$38,2,)","v":{"$error":"#VALUE!"}},"Marigold´s","Kauschau (Kosice)","SK",{"$f":"VLOOKUP(K714,Tabelle2!$B$3:$C$38,2,)","v":{"$error":"#VALUE!"}},"LKWLog",60,3700,19084,860]
[null,714,81,"2024-12-17","Christmas Gift Parcels","Kaschau (Kosice)","SK",{"$f":"VLOOKUP(G715,Tabelle2!$B$3:$C$38,2,)","v":{"$error":"#VALUE!"}},"BCP","Post Office","WL",{"$f":"VLOOKUP(K715,Tabelle2!$B$3:$C$38,2,)","v":{"$error":"#VALUE!"}},"Northstar",142,4952,19084,0]
[null,715,82,"2024-12-17","Mountain Fun Gift Packs","Mountain Ressort","WL",{"$f":"VLOOKUP(G716,Tabelle2!$B$3:$C$38,2,)","v":{"$error":"#VALUE!"}},"Snowy Peaks","Palermo","IT",{"$f":"VLOOKUP(K716,Tabelle2!$B$3:$C$38,2,)","v":{"$error":"#VALUE!"}},"Cesare Supermercato",71,4297,19084,0]
[null,716,83,"2024-12-17","Christmas Assorted Meats","Palermo","IT",{"$f":"VLOOKUP(G717,Tabelle2!$B$3:$C$38,2,)","v":{"$error":"#VALUE!"}},"Eolo Lines","Town Square","WL",{"$f":"VLOOKUP(K717,Tabelle2!$B$3:$C$38,2,)","v":{"$error":"#VALUE!"}},"Christmas Market",76,4064,19084,200]
[null,717,84,"2024-12-17","Mail & Gift Parcels","Post Office","WL",{"$f":"VLOOKUP(G718,Tabelle2!$B$3:$C$38,2,)","v":{"$error":"#VALUE!"}},"Northstar","Badajoz","ES",{"$f":"VLOOKUP(K718,Tabelle2!$B$3:$C$38,2,)","v":{"$error":"#VALUE!"}},"Lawish Foods",155,8868,19084,400]
[null,718,85,"2024-12-17","Christmas Special Pet Food","Badajoz","ES",{"$f":"VLOOKUP(G719,Tabelle2!$B$3:$C$38,2,)","v":{"$error":"#VALUE!"}},"Lawish Foods","Town Square","WL",{"$f":"VLOOKUP(K719,Tabelle2!$B$3:$C$38,2,)","v":{"$error":"#VALUE!"}},"Christmas Market",158,8595,19084,400]
[null,719,86,"2024-12-17","Christmas Market Hampers","Town Square","WL",{"$f":"VLOOKUP(G720,Tabelle2!$B$3:$C$38,2,)","v":{"$error":"#VALUE!"}},"Christmas Market","Olbia","IT",{"$f":"VLOOKUP(K720,Tabelle2!$B$3:$C$38,2,)","v":{"$error":"#VALUE!"}},"Marina",156,6964,19084,0]
[null,720,87,"2024-12-17","Christmas Decorations","Olbia","IT",{"$f":"VLOOKUP(G721,Tabelle2!$B$3:$C$38,2,)","v":{"$error":"#VALUE!"}},"Marina","Town Square","WL",{"$f":"VLOOKUP(K721,Tabelle2!$B$3:$C$38,2,)","v":{"$error":"#VALUE!"}},"Christmas Market",119,6996,19084,960]
[null,721,88,"2024-12-17","Christmas Market Hampers","Town Square","WL",{"$f":"VLOOKUP(G722,Tabelle2!$B$3:$C$38,2,)","v":{"$error":"#VALUE!"}},"Christmas Market","Le Mans","FR",{"$f":"VLOOKUP(K722,Tabelle2!$B$3:$C$38,2,)","v":{"$error":"#VALUE!"}},"Lisette Logistics",121,5658,19084,0]
[null,722,89,"2024-12-17","Christmas Food Parcels","Le Mans","FR",{"$f":"VLOOKUP(G723,Tabelle2!$B$3:$C$38,2,)","v":{"$error":"#VALUE!"}},"Lisette Logistics","Post Office","WL",{"$f":"VLOOKUP(K723,Tabelle2!$B$3:$C$38,2,)","v":{"$error":"#VALUE!"}},"Northstar",148,4786,19084,0]
[null,723,90,"2024-12-18","Teleskoplader JCB 540-180","Florenz","IT",{"$f":"VLOOKUP(G724,Tabelle2!$B$3:$C$38,2,)","v":{"$error":"#VALUE!"}},"IKA Bohag","Neapel","IT",{"$f":"VLOOKUP(K724,Tabelle2!$B$3:$C$38,2,)","v":{"$error":"#VALUE!"}},"CNP",551,19152,11380,0]
[null,724,91,"2024-12-18","Leere Paletten","Neapel","IT",{"$f":"VLOOKUP(G725,Tabelle2!$B$3:$C$38,2,)","v":{"$error":"#VALUE!"}},"CNP","Neapel","IT",{"$f":"VLOOKUP(K725,Tabelle2!$B$3:$C$38,2,)","v":{"$error":"#VALUE!"}},"Eolo Lines",4,1220,22074,0]
[null,725,92,"2024-12-18","Baggerlader JCB 4CX","Neapel","IT",{"$f":"VLOOKUP(G726,Tabelle2!$B$3:$C$38,2,)","v":{"$error":"#VALUE!"}},"Eolo Lines","Neapel","IT",{"$f":"VLOOKUP(K726,Tabelle2!$B$3:$C$38,2,)","v":{"$error":"#VALUE!"}},"Fattoria Felice",186,1133,8380,0]
[null,726,93,"2024-12-18","Baumrinde","Neapel","IT",{"$f":"VLOOKUP(G727,Tabelle2!$B$3:$C$38,2,)","v":{"$error":"#VALUE!"}},"Fattoria Felice","Neapel","IT",{"$f":"VLOOKUP(K727,Tabelle2!$B$3:$C$38,2,)","v":{"$error":"#VALUE!"}},"IKA Bohag",180,784,6480,0]
[null,727,94,"2024-12-18","Mettalschrott","Neapel","IT",{"$f":"VLOOKUP(G728,Tabelle2!$B$3:$C$38,2,)","v":{"$error":"#VALUE!"}},"IKA Bohag","Neapel","IT",{"$f":"VLOOKUP(K728,Tabelle2!$B$3:$C$38,2,)","v":{"$error":"#VALUE!"}},"Marina",8,870,26500,0]
[null,728,95,"2024-12-19","Umschlagbagger Volvo EW240E MH","Neapel","IT",{"$f":"VLOOKUP(G729,Tabelle2!$B$3:$C$38,2,)","v":{"$error":"#VALUE!"}},"Marina","Neapel","IT",{"$f":"VLOOKUP(K729,Tabelle2!$B$3:$C$38,2,)","v":{"$error":"#VALUE!"}},"PIAC",8,1513,26000,0]
[null,729,96,"2024-12-19","Drehgestell","Neapel","IT",{"$f":"VLOOKUP(G730,Tabelle2!$B$3:$C$38,2,)","v":{"$error":"#VALUE!"}},"PIAC","Neapel","IT",{"$f":"VLOOKUP(K730,Tabelle2!$B$3:$C$38,2,)","v":{"$error":"#VALUE!"}},"TE Logistica",17,1660,20740,0]
[null,730,97,"2024-12-19","Dieselgeneratoren","Neapel","IT",{"$f":"VLOOKUP(G731,Tabelle2!$B$3:$C$38,2,)","v":{"$error":"#VALUE!"}},"TE Logistica","Neapel","IT",{"$f":"VLOOKUP(K731,Tabelle2!$B$3:$C$38,2,)","v":{"$error":"#VALUE!"}},"Tesoro Gustoso",1,1651,21519,0]
[null,731,98,"2024-12-19","Baggerlader JCB 4CX","Neapel","IT",{"$f":"VLOOKUP(G732,Tabelle2!$B$3:$C$38,2,)","v":{"$error":"#VALUE!"}},"Tesoro Gustoso","Neapel","IT",{"$f":"VLOOKUP(K732,Tabelle2!$B$3:$C$38,2,)","v":{"$error":"#VALUE!"}},"Terminal Container",24,1133,8380,0]
[null,732,99,"2024-12-19","Acetylen","Neapel","IT",{"$f":"VLOOKUP(G733,Tabelle2!$B$3:$C$38,2,)","v":{"$error":"#VALUE!"}},"Terminal Container","Neapel","IT",{"$f":"VLOOKUP(K733,Tabelle2!$B$3:$C$38,2,)","v":{"$error":"#VALUE!"}},"Volvo Dealer",22,1556,10440,0]
[null,733,100,"2024-12-19","Lebendrind","Neapel","IT",{"$f":"VLOOKUP(G734,Tabelle2!$B$3:$C$38,2,)","v":{"$error":"#VALUE!"}},"TE Logistica","Neapel","IT",{"$f":"VLOOKUP(K734,Tabelle2!$B$3:$C$38,2,)","v":{"$error":"#VALUE!"}},"INI Tankstelle",91,1989,21760,0]
[null,734,101,"2024-12-19","Betonträger","Neapel","IT",{"$f":"VLOOKUP(G735,Tabelle2!$B$3:$C$38,2,)","v":{"$error":"#VALUE!"}},"TE Logistica","Pescara","IT",{"$f":"VLOOKUP(K735,Tabelle2!$B$3:$C$38,2,)","v":{"$error":"#VALUE!"}},"AA - Auto di Alonso",245,9980,51030,0]
[null,735,102,"2024-12-19","Kleintransporter","Pescara","IT",{"$f":"VLOOKUP(G736,Tabelle2!$B$3:$C$38,2,)","v":{"$error":"#VALUE!"}},"AA-Auto di Alonso","Pescara","IT",{"$f":"VLOOKUP(K736,Tabelle2!$B$3:$C$38,2,)","v":{"$error":"#VALUE!"}},"Cargotras",1,1588,6150,0]
[null,736,103,"2024-12-19","Mobiler Stapler","Pescara","IT",{"$f":"VLOOKUP(G737,Tabelle2!$B$3:$C$38,2,)","v":{"$error":"#VALUE!"}},"Cargotras","Pescara","IT",{"$f":"VLOOKUP(K737,Tabelle2!$B$3:$C$38,2,)","v":{"$error":"#VALUE!"}},"Cesare Supermercato",1,1257,10800,0]
[null,737,104,"2024-12-19","Leere Paletten","Pescara","IT",{"$f":"VLOOKUP(G738,Tabelle2!$B$3:$C$38,2,)","v":{"$error":"#VALUE!"}},"Cesare Supermercato","Pescara","IT",{"$f":"VLOOKUP(K738,Tabelle2!$B$3:$C$38,2,)","v":{"$error":"#VALUE!"}},"Construzione di Edfici",108,1220,22074,1200]
[null,738,105,"2024-12-19","Kleintransporter","Pescara","IT",{"$f":"VLOOKUP(G739,Tabelle2!$B$3:$C$38,2,)","v":{"$error":"#VALUE!"}},"Construzione di Edfici","Pescara","IT",{"$f":"VLOOKUP(K739,Tabelle2!$B$3:$C$38,2,)","v":{"$error":"#VALUE!"}},"IKA Bohag",146,1588,6150,0]
[null,739,106,"2024-12-19","Salzsäure","Pescara","IT",{"$f":"VLOOKUP(G740,Tabelle2!$B$3:$C$38,2,)","v":{"$error":"#VALUE!"}},"IKA Bohag","Pescara","IT",{"$f":"VLOOKUP(K740,Tabelle2!$B$3:$C$38,2,)","v":{"$error":"#VALUE!"}},"Quadrelli SpA",39,1608,21780,0]
[null,740,107,"2024-12-19","Raupentraktor","Pescara","IT",{"$f":"VLOOKUP(G741,Tabelle2!$B$3:$C$38,2,)","v":{"$error":"#VALUE!"}},"Quadrelli SpA","Pescara","IT",{"$f":"VLOOKUP(K741,Tabelle2!$B$3:$C$38,2,)","v":{"$error":"#VALUE!"}},"S.A.L.S.R.L",80,1501,13400,0]
[null,741,108,"2024-12-19","Beton-Bodenplatten","Pescara","IT",{"$f":"VLOOKUP(G742,Tabelle2!$B$3:$C$38,2,)","v":{"$error":"#VALUE!"}},"S.A.L.S.A.R","Pescara","IT",{"$f":"VLOOKUP(K742,Tabelle2!$B$3:$C$38,2,)","v":{"$error":"#VALUE!"}},"INI Tankstelle",105,1246,21060,0]
[null,742,109,"2024-12-19","Säure","Pescara","IT",{"$f":"VLOOKUP(G743,Tabelle2!$B$3:$C$38,2,)","v":{"$error":"#VALUE!"}},"Cargotras","Rom","IT",{"$f":"VLOOKUP(K743,Tabelle2!$B$3:$C$38,2,)","v":{"$error":"#VALUE!"}},"Tesoro Gustoso",273,13712,19800,400]
[null,743,110,"2024-12-20","Schinken","Rom","IT",{"$f":"VLOOKUP(G744,Tabelle2!$B$3:$C$38,2,)","v":{"$error":"#VALUE!"}},"Exomar","Suzzara","IT",{"$f":"VLOOKUP(K744,Tabelle2!$B$3:$C$38,2,)","v":{"$error":"#VALUE!"}},"Comoto",499,22007,16101,800]
[null,744,111,"2024-12-20","Autos","Suzzara","IT",{"$f":"VLOOKUP(G745,Tabelle2!$B$3:$C$38,2,)","v":{"$error":"#VALUE!"}},"Comoto","Suzzara","IT",{"$f":"VLOOKUP(K745,Tabelle2!$B$3:$C$38,2,)","v":{"$error":"#VALUE!"}},"INI Tankstelle",46,1666,8400,400]
[null,745,112,"2024-12-20","Wasserstoff","Suzzara","IT",{"$f":"VLOOKUP(G746,Tabelle2!$B$3:$C$38,2,)","v":{"$error":"#VALUE!"}},"Comoto","Taranto","IT",{"$f":"VLOOKUP(K746,Tabelle2!$B$3:$C$38,2,)","v":{"$error":"#VALUE!"}},"AA - Auto di Alonso",859,41418,5680,400]
[null,746,113,"2024-12-20","Klimanlagen","Tarranto","IT",{"$f":"VLOOKUP(G747,Tabelle2!$B$3:$C$38,2,)","v":{"$error":"#VALUE!"}},"AA-Auto di Alonso","Taranto","IT",{"$f":"VLOOKUP(K747,Tabelle2!$B$3:$C$38,2,)","v":{"$error":"#VALUE!"}},"ACC",22,1524,10920,0]
[null,747,114,"2024-12-20","Klimanlagen","Tarranto","IT",{"$f":"VLOOKUP(G748,Tabelle2!$B$3:$C$38,2,)","v":{"$error":"#VALUE!"}},"ACC","Taranto","IT",{"$f":"VLOOKUP(K748,Tabelle2!$B$3:$C$38,2,)","v":{"$error":"#VALUE!"}},"CNP",10,1478,11000,0]
[null,748,115,"2024-12-22","Kunststoffgranulat","Tarranto","IT",{"$f":"VLOOKUP(G749,Tabelle2!$B$3:$C$38,2,)","v":{"$error":"#VALUE!"}},"CNP","Taranto","IT",{"$f":"VLOOKUP(K749,Tabelle2!$B$3:$C$38,2,)","v":{"$error":"#VALUE!"}},"Construzione di Edfici",93,996,22100,0]
[null,749,116,"2024-12-22","Flugzeugreifen","Tarranto","IT",{"$f":"VLOOKUP(G750,Tabelle2!$B$3:$C$38,2,)","v":{"$error":"#VALUE!"}},"Construzione di Edfici","Taranto","IT",{"$f":"VLOOKUP(K750,Tabelle2!$B$3:$C$38,2,)","v":{"$error":"#VALUE!"}},"Exomar",155,1428,18117,0]
[null,750,117,"2024-12-22","Luftpost","Tarranto","IT",{"$f":"VLOOKUP(G751,Tabelle2!$B$3:$C$38,2,)","v":{"$error":"#VALUE!"}},"Exomar","Taranto","IT",{"$f":"VLOOKUP(K751,Tabelle2!$B$3:$C$38,2,)","v":{"$error":"#VALUE!"}},"Marina",35,1420,10897,0]
[null,751,118,"2024-12-22","Mandeln","Tarranto","IT",{"$f":"VLOOKUP(G752,Tabelle2!$B$3:$C$38,2,)","v":{"$error":"#VALUE!"}},"Marina","Taranto","IT",{"$f":"VLOOKUP(K752,Tabelle2!$B$3:$C$38,2,)","v":{"$error":"#VALUE!"}},"Vitas Power",57,1266,17460,0]
[null,752,119,"2024-12-22","Aluminiumbarren","Tarranto","IT",{"$f":"VLOOKUP(G753,Tabelle2!$B$3:$C$38,2,)","v":{"$error":"#VALUE!"}},"Vitas Power","Taranto","IT",{"$f":"VLOOKUP(K753,Tabelle2!$B$3:$C$38,2,)","v":{"$error":"#VALUE!"}},"INI Tankstelle",37,1124,17493,0]
[null,753,120,"2024-12-22","Aluminiumprofile","Tarranto","IT",{"$f":"VLOOKUP(G754,Tabelle2!$B$3:$C$38,2,)","v":{"$error":"#VALUE!"}},"ACC","Terni","IT",{"$f":"VLOOKUP(K754,Tabelle2!$B$3:$C$38,2,)","v":{"$error":"#VALUE!"}},"ACC",552,18030,22400,400]
[null,754,121,"2024-12-22","Äpfel","Terni","IT",{"$f":"VLOOKUP(G755,Tabelle2!$B$3:$C$38,2,)","v":{"$error":"#VALUE!"}},"ACC","Terni","IT",{"$f":"VLOOKUP(K755,Tabelle2!$B$3:$C$38,2,)","v":{"$error":"#VALUE!"}},"S.A.L.S.R.L",92,1314,20170,0]
[null,755,122,"2024-12-22","Äpfel","Terni","IT",{"$f":"VLOOKUP(G756,Tabelle2!$B$3:$C$38,2,)","v":{"$error":"#VALUE!"}},"S.A.L.S.A.R","Verona","IT",{"$f":"VLOOKUP(K756,Tabelle2!$B$3:$C$38,2,)","v":{"$error":"#VALUE!"}},"Kaarfor",531,17269,20170,0]
[null,756,123,"2024-12-22","Arsen","Verona","IT",{"$f":"VLOOKUP(G757,Tabelle2!$B$3:$C$38,2,)","v":{"$error":"#VALUE!"}},"BCP","Villa San Giovanni","IT",{"$f":"VLOOKUP(K757,Tabelle2!$B$3:$C$38,2,)","v":{"$error":"#VALUE!"}},"Eolo Lines",1161,27870,9200,800]
[null,757,124,"2024-12-27","Quecksilberchlorid","Neapel","IT",{"$f":"VLOOKUP(G758,Tabelle2!$B$3:$C$38,2,)","v":{"$error":"#VALUE!"}},"TE Logistica","Berlin","DE",{"$f":"VLOOKUP(K758,Tabelle2!$B$3:$C$38,2,)","v":{"$error":"#VALUE!"}},"DFH",1645,87790,14400,0]
[null,758,125,"2024-12-27","Tierfutter","Berlin","DE",{"$f":"VLOOKUP(G759,Tabelle2!$B$3:$C$38,2,)","v":{"$error":"#VALUE!"}},"DFH","Berlin","DE",{"$f":"VLOOKUP(K759,Tabelle2!$B$3:$C$38,2,)","v":{"$error":"#VALUE!"}},"EuroGoodies",3,1260,20569,0]
[null,759,126,"2024-12-27","Kerosin","Berlin","DE",{"$f":"VLOOKUP(G760,Tabelle2!$B$3:$C$38,2,)","v":{"$error":"#VALUE!"}},"EuroGoodies","Berlin","DE",{"$f":"VLOOKUP(K760,Tabelle2!$B$3:$C$38,2,)","v":{"$error":"#VALUE!"}},"FCP",82,1896,23580,0]
[null,760,127,"2024-12-27","Drehgestell","Berlin","DE",{"$f":"VLOOKUP(G761,Tabelle2!$B$3:$C$38,2,)","v":{"$error":"#VALUE!"}},"FCP","Berlin","DE",{"$f":"VLOOKUP(K761,Tabelle2!$B$3:$C$38,2,)","v":{"$error":"#VALUE!"}},"NBFC",78,1660,20740,0]
[null,761,128,"2024-12-27","Dieselgenerator JCB G100RS","Berlin","DE",{"$f":"VLOOKUP(G762,Tabelle2!$B$3:$C$38,2,)","v":{"$error":"#VALUE!"}},"NBFC","Berlin","DE",{"$f":"VLOOKUP(K762,Tabelle2!$B$3:$C$38,2,)","v":{"$error":"#VALUE!"}},"NSOil",2,1034,8370,0]
[null,762,129,"2024-12-27","Essig","Berlin","DE",{"$f":"VLOOKUP(G763,Tabelle2!$B$3:$C$38,2,)","v":{"$error":"#VALUE!"}},"NSOil","Berlin","DE",{"$f":"VLOOKUP(K763,Tabelle2!$B$3:$C$38,2,)","v":{"$error":"#VALUE!"}},"SanBuilders",85,1146,9813,0]
[null,763,130,"2024-12-27","Kautschuk","Berlin","DE",{"$f":"VLOOKUP(G764,Tabelle2!$B$3:$C$38,2,)","v":{"$error":"#VALUE!"}},"SanBuilders","Berlin","DE",{"$f":"VLOOKUP(K764,Tabelle2!$B$3:$C$38,2,)","v":{"$error":"#VALUE!"}},"SanBuilders",73,1412,21731,0]
[null,764,131,"2024-12-27","Alkoholfreies Bier","Berlin","DE",{"$f":"VLOOKUP(G765,Tabelle2!$B$3:$C$38,2,)","v":{"$error":"#VALUE!"}},"SanBuilders","München","DE",{"$f":"VLOOKUP(K765,Tabelle2!$B$3:$C$38,2,)","v":{"$error":"#VALUE!"}},"IKA Bohag",605,22467,22156,400]
[null,765,132,"2024-12-27","Autos","München","DE",{"$f":"VLOOKUP(G766,Tabelle2!$B$3:$C$38,2,)","v":{"$error":"#VALUE!"}},"IKA Bohag","München","DE",{"$f":"VLOOKUP(K766,Tabelle2!$B$3:$C$38,2,)","v":{"$error":"#VALUE!"}},"Kathode",5,1616,7000,0]
[null,766,133,"2024-12-27","Magnesium","München","DE",{"$f":"VLOOKUP(G767,Tabelle2!$B$3:$C$38,2,)","v":{"$error":"#VALUE!"}},"Kathode","München","DE",{"$f":"VLOOKUP(K767,Tabelle2!$B$3:$C$38,2,)","v":{"$error":"#VALUE!"}},"SanBuilders",8,1041,8800,0]
[null,767,134,"2024-12-27","Pickup-Trucks","München","DE",{"$f":"VLOOKUP(G768,Tabelle2!$B$3:$C$38,2,)","v":{"$error":"#VALUE!"}},"SanBuilders","München","DE",{"$f":"VLOOKUP(K768,Tabelle2!$B$3:$C$38,2,)","v":{"$error":"#VALUE!"}},"Steinbruch",5,1666,6200,0]
[null,768,135,"2024-12-27","Erntebehälter","München","DE",{"$f":"VLOOKUP(G769,Tabelle2!$B$3:$C$38,2,)","v":{"$error":"#VALUE!"}},"Steinbruch","München","DE",{"$f":"VLOOKUP(K769,Tabelle2!$B$3:$C$38,2,)","v":{"$error":"#VALUE!"}},"transinet",4,1234,2825,0]
[null,769,136,"2024-12-28","Pasta","München","DE",{"$f":"VLOOKUP(G770,Tabelle2!$B$3:$C$38,2,)","v":{"$error":"#VALUE!"}},"Kathode","Leipzig","DE",{"$f":"VLOOKUP(K770,Tabelle2!$B$3:$C$38,2,)","v":{"$error":"#VALUE!"}},"EuroGoodies",388,15218,20407,0]
[null,770,137,"2024-12-28","Medizinische Impfstoffe","Leipzig","DE",{"$f":"VLOOKUP(G771,Tabelle2!$B$3:$C$38,2,)","v":{"$error":"#VALUE!"}},"EuroGoodies","Leipzig","DE",{"$f":"VLOOKUP(K771,Tabelle2!$B$3:$C$38,2,)","v":{"$error":"#VALUE!"}},"FCP",10,1996,5429,0]
[null,771,138,"2024-12-28","Äpfel","Leipzig","DE",{"$f":"VLOOKUP(G772,Tabelle2!$B$3:$C$38,2,)","v":{"$error":"#VALUE!"}},"FCP","Leipzig","DE",{"$f":"VLOOKUP(K772,Tabelle2!$B$3:$C$38,2,)","v":{"$error":"#VALUE!"}},"FLE",13,1314,20170,0]
[null,772,139,"2024-12-28","Zugachsen","Leipzig","DE",{"$f":"VLOOKUP(G773,Tabelle2!$B$3:$C$38,2,)","v":{"$error":"#VALUE!"}},"FLE","Leipzig","DE",{"$f":"VLOOKUP(K773,Tabelle2!$B$3:$C$38,2,)","v":{"$error":"#VALUE!"}},"Renat",21,1660,20740,0]
[null,773,140,"2024-12-28","Heizöl","Leipzig","DE",{"$f":"VLOOKUP(G774,Tabelle2!$B$3:$C$38,2,)","v":{"$error":"#VALUE!"}},"Renat","Leipzig","DE",{"$f":"VLOOKUP(K774,Tabelle2!$B$3:$C$38,2,)","v":{"$error":"#VALUE!"}},"SanBuilders",5,1776,23139,0]
[null,774,141,"2024-12-28","Holzspäne","Leipzig","DE",{"$f":"VLOOKUP(G775,Tabelle2!$B$3:$C$38,2,)","v":{"$error":"#VALUE!"}},"SanBuilders","Leipzig","DE",{"$f":"VLOOKUP(K775,Tabelle2!$B$3:$C$38,2,)","v":{"$error":"#VALUE!"}},"Tree-Et",61,804,4890,0]
[null,775,142,"2024-12-28","Möbel","Leipzig","DE",{"$f":"VLOOKUP(G776,Tabelle2!$B$3:$C$38,2,)","v":{"$error":"#VALUE!"}},"Tree-Et","Dresden","DE",{"$f":"VLOOKUP(K776,Tabelle2!$B$3:$C$38,2,)","v":{"$error":"#VALUE!"}},"DFH",132,4898,16381,0]
[null,776,143,"2024-12-28","Frische Kräuter","Dresden","DE",{"$f":"VLOOKUP(G777,Tabelle2!$B$3:$C$38,2,)","v":{"$error":"#VALUE!"}},"DFH","Dresden","DE",{"$f":"VLOOKUP(K777,Tabelle2!$B$3:$C$38,2,)","v":{"$error":"#VALUE!"}},"EuroAcres",7,1284,5650,0]
[null,777,144,"2024-12-28","Außenfliesen","Dresden","DE",{"$f":"VLOOKUP(G778,Tabelle2!$B$3:$C$38,2,)","v":{"$error":"#VALUE!"}},"EuroAcres","Dresden","DE",{"$f":"VLOOKUP(K778,Tabelle2!$B$3:$C$38,2,)","v":{"$error":"#VALUE!"}},"NSOil",4,1348,20579,0]
[null,778,145,"2024-12-28","Traktoren","Dresden","DE",{"$f":"VLOOKUP(G779,Tabelle2!$B$3:$C$38,2,)","v":{"$error":"#VALUE!"}},"NSOil","Dresden","DE",{"$f":"VLOOKUP(K779,Tabelle2!$B$3:$C$38,2,)","v":{"$error":"#VALUE!"}},"Sellplan",6,1652,11390,0]
[null,779,146,"2024-12-28","Erntebehälter","Dresden","DE",{"$f":"VLOOKUP(G780,Tabelle2!$B$3:$C$38,2,)","v":{"$error":"#VALUE!"}},"Sellplan","Dresden","DE",{"$f":"VLOOKUP(K780,Tabelle2!$B$3:$C$38,2,)","v":{"$error":"#VALUE!"}},"Trameri",5,1234,2825,0]
[null,780,147,"2024-12-28","Kugelventile","Dresden","DE",{"$f":"VLOOKUP(G781,Tabelle2!$B$3:$C$38,2,)","v":{"$error":"#VALUE!"}},"NSOil","Mannheim","DE",{"$f":"VLOOKUP(K781,Tabelle2!$B$3:$C$38,2,)","v":{"$error":"#VALUE!"}},"SanBuilders",527,25443,22173,0]
[null,781,148,"2024-12-28","Pickup-Trucks","Mannheim","DE",{"$f":"VLOOKUP(G782,Tabelle2!$B$3:$C$38,2,)","v":{"$error":"#VALUE!"}},"SanBuilders","Mannheim","DE",{"$f":"VLOOKUP(K782,Tabelle2!$B$3:$C$38,2,)","v":{"$error":"#VALUE!"}},"Steinbruch",38,1666,6200,0]
[null,782,149,"2024-12-28","Borsäure","Mannheim","DE",{"$f":"VLOOKUP(G783,Tabelle2!$B$3:$C$38,2,)","v":{"$error":"#VALUE!"}},"Steinbruch","Mannheim","DE",{"$f":"VLOOKUP(K783,Tabelle2!$B$3:$C$38,2,)","v":{"$error":"#VALUE!"}},"transinet",38,1508,16880,360]
[null,783,150,"2024-12-30","Kork","Mannheim","DE",{"$f":"VLOOKUP(G784,Tabelle2!$B$3:$C$38,2,)","v":{"$error":"#VALUE!"}},"Transinet","Mannheim","DE",{"$f":"VLOOKUP(K784,Tabelle2!$B$3:$C$38,2,)","v":{"$error":"#VALUE!"}},"Tree-Et",32,1222,5132,0]
[null,784,151,"2024-12-30","Sand","Mannheim","DE",{"$f":"VLOOKUP(G785,Tabelle2!$B$3:$C$38,2,)","v":{"$error":"#VALUE!"}},"Tree-Et","Mannheim","DE",{"$f":"VLOOKUP(K785,Tabelle2!$B$3:$C$38,2,)","v":{"$error":"#VALUE!"}},"WGCC",38,1032,23072,0]
[null,785,152,"2024-12-30","Dynamit","Mannheim","DE",{"$f":"VLOOKUP(G786,Tabelle2!$B$3:$C$38,2,)","v":{"$error":"#VALUE!"}},"WGCC","Neapel","IT",{"$f":"VLOOKUP(K786,Tabelle2!$B$3:$C$38,2,)","v":{"$error":"#VALUE!"}},"Eolo Lines",1441,82018,17160,1820]
[null,786,1,"2025-01-03","Acetylen","Neapel","IT",{"$f":"VLOOKUP(G787,Tabelle2!$B$3:$C$38,2,)","v":{"$error":"#VALUE!"}},"CNP","Istanbul","TR",{"$f":"VLOOKUP(K787,Tabelle2!$B$3:$C$38,2,)","v":{"$error":"#VALUE!"}},"Log n Stick",1151,82808,9600,100]
[null,787,2,"2025-01-04","Heizöl","Istanbul","TR",{"$f":"VLOOKUP(G788,Tabelle2!$B$3:$C$38,2,)","v":{"$error":"#VALUE!"}},"Log n Stick","Marseille","FR",{"$f":"VLOOKUP(K788,Tabelle2!$B$3:$C$38,2,)","v":{"$error":"#VALUE!"}},"Eolo Lines",2629,181028,25710,1000]
[null,788,3,"2025-01-04","Heizöl","Marseille","FR",{"$f":"VLOOKUP(G789,Tabelle2!$B$3:$C$38,2,)","v":{"$error":"#VALUE!"}},"Port de Contneur","Luxemburg","LU",{"$f":"VLOOKUP(K789,Tabelle2!$B$3:$C$38,2,)","v":{"$error":"#VALUE!"}},"ITCC",778,52436,23139,400]
[null,789,4,"2025-01-04","Industriekondensator","Luxemburg","LU",{"$f":"VLOOKUP(G790,Tabelle2!$B$3:$C$38,2,)","v":{"$error":"#VALUE!"}},"ITCC","Lüttich","BE",{"$f":"VLOOKUP(K790,Tabelle2!$B$3:$C$38,2,)","v":{"$error":"#VALUE!"}},"ITCC",145,12304,60000,0]
[null,790,5,"2025-01-04","Heizöl","Lüttich","BE",{"$f":"VLOOKUP(G791,Tabelle2!$B$3:$C$38,2,)","v":{"$error":"#VALUE!"}},"ITCC","Sheffield","GB",{"$f":"VLOOKUP(K791,Tabelle2!$B$3:$C$38,2,)","v":{"$error":"#VALUE!"}},"ITCC",779,58039,23139,400]
[null,791,6,"2025-01-04","Großreifen","Sheffield","GB",{"$f":"VLOOKUP(G792,Tabelle2!$B$3:$C$38,2,)","v":{"$error":"#VALUE!"}},"ITCC","Birmingham","GB",{"$f":"VLOOKUP(K792,Tabelle2!$B$3:$C$38,2,)","v":{"$error":"#VALUE!"}},"SanBuilders",152,10510,20000,0]
[null,792,7,"2025-01-04","Heizöl","Birmingham","GB",{"$f":"VLOOKUP(G793,Tabelle2!$B$3:$C$38,2,)","v":{"$error":"#VALUE!"}},"SanBuilders","Berlin","DE",{"$f":"VLOOKUP(K793,Tabelle2!$B$3:$C$38,2,)","v":{"$error":"#VALUE!"}},"NSOil",1323,95466,23139,400]
[null,793,"<>","2025-01-05","Industriekondensator","Berlin","DE",{"$f":"VLOOKUP(G794,Tabelle2!$B$3:$C$38,2,)","v":{"$error":"#VALUE!"}},"NBFC","Stettin","PL",{"$f":"VLOOKUP(K794,Tabelle2!$B$3:$C$38,2,)","v":{"$error":"#VALUE!"}},"ITCC",122,10448,60000,0]
[null,794,8,"2025-01-05","Großes Silo","Bremen","DE",{"$f":"VLOOKUP(G795,Tabelle2!$B$3:$C$38,2,)","v":{"$error":"#VALUE!"}},"EuroAcres","Travemünde","DE",{"$f":"VLOOKUP(K795,Tabelle2!$B$3:$C$38,2,)","v":{"$error":"#VALUE!"}},"Polaris Lines",236,17309,40000,0]
[null,795,9,"2025-01-05","Heizöl","Travemünde","DE",{"$f":"VLOOKUP(G796,Tabelle2!$B$3:$C$38,2,)","v":{"$error":"#VALUE!"}},"Marina","Bratislava","SK",{"$f":"VLOOKUP(K796,Tabelle2!$B$3:$C$38,2,)","v":{"$error":"#VALUE!"}},"BCP",954,63086,23139,1900]
[null,796,10,"2025-01-05","Wärmetauscher","Bratislava","SK",{"$f":"VLOOKUP(G797,Tabelle2!$B$3:$C$38,2,)","v":{"$error":"#VALUE!"}},"WGCC","Graz","AT",{"$f":"VLOOKUP(K797,Tabelle2!$B$3:$C$38,2,)","v":{"$error":"#VALUE!"}},"FCP",249,21474,70000,3200]
[null,797,11,"2025-01-05","Heizöl","Graz","AT",{"$f":"VLOOKUP(G798,Tabelle2!$B$3:$C$38,2,)","v":{"$error":"#VALUE!"}},"FCP","Reims","FR",{"$f":"VLOOKUP(K798,Tabelle2!$B$3:$C$38,2,)","v":{"$error":"#VALUE!"}},"EuroAcres",1036,79373,25710,400]
[null,798,12,"2025-01-05","Baggerschaufel","Reims","FR",{"$f":"VLOOKUP(G799,Tabelle2!$B$3:$C$38,2,)","v":{"$error":"#VALUE!"}},"Steinbruch","Strassburg","FR",{"$f":"VLOOKUP(K799,Tabelle2!$B$3:$C$38,2,)","v":{"$error":"#VALUE!"}},"Steinbruch",383,26658,25000,0]
[null,799,13,"2025-01-06","Heizöl","Strassburg","FR",{"$f":"VLOOKUP(G800,Tabelle2!$B$3:$C$38,2,)","v":{"$error":"#VALUE!"}},"Kaarfor","Dresden","DE",{"$f":"VLOOKUP(K800,Tabelle2!$B$3:$C$38,2,)","v":{"$error":"#VALUE!"}},"EuroAcres",658,45988,23139,360]
[null,800,"<>","2025-01-06","Heizöl","Dresden","DE",{"$f":"VLOOKUP(G801,Tabelle2!$B$3:$C$38,2,)","v":{"$error":"#VALUE!"}},"NSOil","Dortmund","DE",{"$f":"VLOOKUP(K801,Tabelle2!$B$3:$C$38,2,)","v":{"$error":"#VALUE!"}},"Steinbruch",453,39792,23139,0]
[null,801,"<>","2025-01-06","Großreifen","Dortmund","DE",{"$f":"VLOOKUP(G802,Tabelle2!$B$3:$C$38,2,)","v":{"$error":"#VALUE!"}},"ITCC","Hannover","DE",{"$f":"VLOOKUP(K802,Tabelle2!$B$3:$C$38,2,)","v":{"$error":"#VALUE!"}},"Steinbruch",293,20118,20000,0]
[null,802,14,"2025-01-06","Wärmetauscher","Brüssel","BE",{"$f":"VLOOKUP(G803,Tabelle2!$B$3:$C$38,2,)","v":{"$error":"#VALUE!"}},"FCP","Amsterdam","NL",{"$f":"VLOOKUP(K803,Tabelle2!$B$3:$C$38,2,)","v":{"$error":"#VALUE!"}},"Hafen (Harbor)",214,18372,70000,0]
[null,803,15,"2025-01-06","Wärmetauscher","Dijon","FR",{"$f":"VLOOKUP(G804,Tabelle2!$B$3:$C$38,2,)","v":{"$error":"#VALUE!"}},"Stokes","Genf","CH",{"$f":"VLOOKUP(K804,Tabelle2!$B$3:$C$38,2,)","v":{"$error":"#VALUE!"}},"Tradeaux",227,19630,70000,0]
[null,804,16,"2025-01-06","Industriekondensator","Koper","HR",{"$f":"VLOOKUP(G805,Tabelle2!$B$3:$C$38,2,)","v":{"$error":"#VALUE!"}},"Container  Port","Novo Mesto","SL",{"$f":"VLOOKUP(K805,Tabelle2!$B$3:$C$38,2,)","v":{"$error":"#N/A"}},"Larus",197,16502,60000,0]
[null,805,17,"2025-01-06","Essig","Burgas (Бургас)","BG",{"$f":"VLOOKUP(G806,Tabelle2!$B$3:$C$38,2,)","v":{"$error":"#VALUE!"}},"CNP","Vrana ( Варна )","BG",{"$f":"VLOOKUP(K806,Tabelle2!$B$3:$C$38,2,)","v":{"$error":"#VALUE!"}},"Ocean Solution",87,4524,15299,0]
[null,806,18,"2025-01-06","Schweres technisches Teil","Prag","CZ",{"$f":"VLOOKUP(G807,Tabelle2!$B$3:$C$38,2,)","v":{"$error":"#VALUE!"}},"Steinbruch","Nürnberg","DE",{"$f":"VLOOKUP(K807,Tabelle2!$B$3:$C$38,2,)","v":{"$error":"#VALUE!"}},"SanBuilders",301,25345,44000,800]
[null,807,"<>","2025-01-07","Kesselelment","München","DE",{"$f":"VLOOKUP(G808,Tabelle2!$B$3:$C$38,2,)","v":{"$error":"#VALUE!"}},"Kathode","Salzburg","AT",{"$f":"VLOOKUP(K808,Tabelle2!$B$3:$C$38,2,)","v":{"$error":"#VALUE!"}},"Tree-Et",228,14739,45000,0]
[null,808,19,"2025-01-07","Industriekondensator","Linz","AT",{"$f":"VLOOKUP(G809,Tabelle2!$B$3:$C$38,2,)","v":{"$error":"#VALUE!"}},"ITCC","Brünn","CZ",{"$f":"VLOOKUP(K809,Tabelle2!$B$3:$C$38,2,)","v":{"$error":"#VALUE!"}},"SanBuilders",272,22952,60000,0]
[null,809,20,"2025-01-07","High-Tech-Gerät","Köln","DE",{"$f":"VLOOKUP(G810,Tabelle2!$B$3:$C$38,2,)","v":{"$error":"#VALUE!"}},"ITCC","Amsterdam","NL",{"$f":"VLOOKUP(K810,Tabelle2!$B$3:$C$38,2,)","v":{"$error":"#VALUE!"}},"Trameri",336,26181,45000,400]
[null,810,21,"2025-01-07","High-Tech-Gerät","Glasgow","GB",{"$f":"VLOOKUP(G811,Tabelle2!$B$3:$C$38,2,)","v":{"$error":"#VALUE!"}},"WGCC","Aberdeen","GB",{"$f":"VLOOKUP(K811,Tabelle2!$B$3:$C$38,2,)","v":{"$error":"#VALUE!"}},"NBFC",238,18185,45000,0]
[null,811,22,"2025-01-07","Nottreppenelement","London","GB",{"$f":"VLOOKUP(G812,Tabelle2!$B$3:$C$38,2,)","v":{"$error":"#VALUE!"}},"SanBuilders","Felixstowe","GB",{"$f":"VLOOKUP(K812,Tabelle2!$B$3:$C$38,2,)","v":{"$error":"#VALUE!"}},"Hafen (Harbor)",147,10639,50000,0]
[null,812,23,"2025-01-07","Kesselelment","Cardiff","GB",{"$f":"VLOOKUP(G813,Tabelle2!$B$3:$C$38,2,)","v":{"$error":"#VALUE!"}},"Stokes","Birmingham","GB",{"$f":"VLOOKUP(K813,Tabelle2!$B$3:$C$38,2,)","v":{"$error":"#VALUE!"}},"Tree-Et",247,19004,45000,800]
[null,813,"<>","2025-01-07","Großreifen","Plymouth","GB",{"$f":"VLOOKUP(G814,Tabelle2!$B$3:$C$38,2,)","v":{"$error":"#VALUE!"}},"Stokes","Dover","GB",{"$f":"VLOOKUP(K814,Tabelle2!$B$3:$C$38,2,)","v":{"$error":"#VALUE!"}},"Hafen (Harbor)",456,31624,20000,0]
[null,814,"<>","2025-01-07","Heizöl","Nantes","FR",{"$f":"VLOOKUP(G815,Tabelle2!$B$3:$C$38,2,)","v":{"$error":"#VALUE!"}},"Bätisse","Nates","FR",{"$f":"VLOOKUP(K815,Tabelle2!$B$3:$C$38,2,)","v":{"$error":"#VALUE!"}},"Kaarfor",246,20892,23139,0]
[null,815,"<>","2025-01-07","Industriekondensator","Nantes","FR",{"$f":"VLOOKUP(G816,Tabelle2!$B$3:$C$38,2,)","v":{"$error":"#VALUE!"}},"Wilnet Transport","Civaux","FR",{"$f":"VLOOKUP(K816,Tabelle2!$B$3:$C$38,2,)","v":{"$error":"#VALUE!"}},"Hafen (Harbor)",398,32601,60000,0]
[null,816,"<>","2025-01-07","Baggerschaufel","Nizza","FR",{"$f":"VLOOKUP(G817,Tabelle2!$B$3:$C$38,2,)","v":{"$error":"#VALUE!"}},"Tradeaux","Nizza","FR",{"$f":"VLOOKUP(K817,Tabelle2!$B$3:$C$38,2,)","v":{"$error":"#VALUE!"}},"MVM Carriere",84,6011,25000,0]
[null,817,24,"2025-01-08","Baggerschaufel","Toulouse","FR",{"$f":"VLOOKUP(G818,Tabelle2!$B$3:$C$38,2,)","v":{"$error":"#VALUE!"}},"Wilnet Transport","Montpellier","FR",{"$f":"VLOOKUP(K818,Tabelle2!$B$3:$C$38,2,)","v":{"$error":"#VALUE!"}},"FLE",296,20252,25000,0]
[null,818,25,"2025-01-08","Heizöl","Nantes","FR",{"$f":"VLOOKUP(G819,Tabelle2!$B$3:$C$38,2,)","v":{"$error":"#VALUE!"}},"BHV","Brest","FR",{"$f":"VLOOKUP(K819,Tabelle2!$B$3:$C$38,2,)","v":{"$error":"#VALUE!"}},"Tradeaux",269,19646,23139,0]
[null,819,26,"2025-01-08","Nottreppenelement","Brest","FR",{"$f":"VLOOKUP(G820,Tabelle2!$B$3:$C$38,2,)","v":{"$error":"#VALUE!"}},"Marina","Rennes","FR",{"$f":"VLOOKUP(K820,Tabelle2!$B$3:$C$38,2,)","v":{"$error":"#VALUE!"}},"Bätisse",210,13894,50000,0]
[null,820,27,"2025-01-08","Wärmetauscher","Kaschau (Kosice)","SK",{"$f":"VLOOKUP(G821,Tabelle2!$B$3:$C$38,2,)","v":{"$error":"#VALUE!"}},"ITCC","Budapest","HU",{"$f":"VLOOKUP(K821,Tabelle2!$B$3:$C$38,2,)","v":{"$error":"#VALUE!"}},"NBFC",229,19630,70000,0]
[null,821,28,"2025-01-08","Kesselelment","Szeged","HU",{"$f":"VLOOKUP(G822,Tabelle2!$B$3:$C$38,2,)","v":{"$error":"#VALUE!"}},"EuroAcres","Debrecen","HU",{"$f":"VLOOKUP(K822,Tabelle2!$B$3:$C$38,2,)","v":{"$error":"#VALUE!"}},"EuroAcres",230,17663,45000,0]
[null,822,29,"2025-01-08","Großreifen","Allenstein","PL",{"$f":"VLOOKUP(G823,Tabelle2!$B$3:$C$38,2,)","v":{"$error":"#VALUE!"}},"FCP","Bialystok","PL",{"$f":"VLOOKUP(K823,Tabelle2!$B$3:$C$38,2,)","v":{"$error":"#VALUE!"}},"ITCC",249,16769,20000,400]
[null,823,30,"2025-01-08","Wärmetauscher","Krakau","PL",{"$f":"VLOOKUP(G824,Tabelle2!$B$3:$C$38,2,)","v":{"$error":"#VALUE!"}},"Tradeaux","Banská Bystrica","SK",{"$f":"VLOOKUP(K824,Tabelle2!$B$3:$C$38,2,)","v":{"$error":"#VALUE!"}},"Stokes",205,17785,70000,0]
[null,824,31,"2025-01-08","Nutzfahrzeug-Chassis","Warschau","PL",{"$f":"VLOOKUP(G825,Tabelle2!$B$3:$C$38,2,)","v":{"$error":"#VALUE!"}},"SanBuilders","Kattowitz","PL",{"$f":"VLOOKUP(K825,Tabelle2!$B$3:$C$38,2,)","v":{"$error":"#VALUE!"}},"Steinbruch",284,22380,55000,400]
[null,825,32,"2025-01-08","Baggerschaufel","Stavanger","NO",{"$f":"VLOOKUP(G826,Tabelle2!$B$3:$C$38,2,)","v":{"$error":"#VALUE!"}},"MS Stein","Oslo","NO",{"$f":"VLOOKUP(K826,Tabelle2!$B$3:$C$38,2,)","v":{"$error":"#VALUE!"}},"MS Stein ",378,26588,25000,0]
[null,826,33,"2025-01-08","Lotsenboot","Odense","DK",{"$f":"VLOOKUP(G827,Tabelle2!$B$3:$C$38,2,)","v":{"$error":"#VALUE!"}},"Drekkar Trans","Hirtshals","DK",{"$f":"VLOOKUP(K827,Tabelle2!$B$3:$C$38,2,)","v":{"$error":"#VALUE!"}},"Hafen (Harbor)",304,24630,25000,0]
[null,827,34,"2025-01-08","Baggerschaufel","Göteborg","SE",{"$f":"VLOOKUP(G828,Tabelle2!$B$3:$C$38,2,)","v":{"$error":"#VALUE!"}},"Polaris Lines","Helsingborg","SE",{"$f":"VLOOKUP(K828,Tabelle2!$B$3:$C$38,2,)","v":{"$error":"#VALUE!"}},"Konstnorr",245,16509,25000,0]
[null,828,35,"2025-01-08","Baggerschaufel","Linköping","SE",{"$f":"VLOOKUP(G829,Tabelle2!$B$3:$C$38,2,)","v":{"$error":"#VALUE!"}},"Nordic Stenbrott","Kalmar","SE",{"$f":"VLOOKUP(K829,Tabelle2!$B$3:$C$38,2,)","v":{"$error":"#VALUE!"}},"Nordic Stenbrott",181,12336,25000,0]
[null,829,36,"2025-01-08","Industriekondensator","Trelleborg","SE",{"$f":"VLOOKUP(G830,Tabelle2!$B$3:$C$38,2,)","v":{"$error":"#VALUE!"}},"Polaris Lines","Esbjerg","DE",{"$f":"VLOOKUP(K830,Tabelle2!$B$3:$C$38,2,)","v":{"$error":"#VALUE!"}},"ContainerPort",337,28312,60000,0]
[null,830,37,"2025-01-09","Industriekondensator","Neapel","IT",{"$f":"VLOOKUP(G831,Tabelle2!$B$3:$C$38,2,)","v":{"$error":"#VALUE!"}},"Terminal Container","Terni","IT",{"$f":"VLOOKUP(K831,Tabelle2!$B$3:$C$38,2,)","v":{"$error":"#VALUE!"}},"ACC",343,28726,60000,0]
[null,831,"<>","2025-01-09","Großes Silo","Verona","IT",{"$f":"VLOOKUP(G832,Tabelle2!$B$3:$C$38,2,)","v":{"$error":"#VALUE!"}},"EuroAcres","Parma","IT",{"$f":"VLOOKUP(K832,Tabelle2!$B$3:$C$38,2,)","v":{"$error":"#VALUE!"}},"Hafen (Harbor)",243,17953,40000,0]
[null,832,38,"2025-01-09","Industriekondensator","Palermo","IT",{"$f":"VLOOKUP(G833,Tabelle2!$B$3:$C$38,2,)","v":{"$error":"#VALUE!"}},"Hafen (Harbor)","Catania","IT",{"$f":"VLOOKUP(K833,Tabelle2!$B$3:$C$38,2,)","v":{"$error":"#VALUE!"}},"FUI Spa",178,14141,60000,0]
[null,833,39,"2025-01-09","Kesselelment","Cagliari","IT",{"$f":"VLOOKUP(G834,Tabelle2!$B$3:$C$38,2,)","v":{"$error":"#VALUE!"}},"Eolo Lines","Sassari","IT",{"$f":"VLOOKUP(K834,Tabelle2!$B$3:$C$38,2,)","v":{"$error":"#VALUE!"}},"PP Chimica Italia",185,12934,45000,0]
[null,834,40,"2025-01-09","High-Tech-Gerät","St.Petersburg  (Санкт-Петербург)","RU",{"$f":"VLOOKUP(G835,Tabelle2!$B$3:$C$38,2,)","v":{"$error":"#VALUE!"}},"Container  Port","St.Petersburg  (Санкт-Петербург)","RU",{"$f":"VLOOKUP(K835,Tabelle2!$B$3:$C$38,2,)","v":{"$error":"#VALUE!"}},"Zelenye Polja",229,17514,45000,0]
[null,835,41,"2025-01-09","Junge Setzlinge","Helsinki","FI",{"$f":"VLOOKUP(G836,Tabelle2!$B$3:$C$38,2,)","v":{"$error":"#VALUE!"}},"AeroBaltika","Pori","FI",{"$f":"VLOOKUP(K836,Tabelle2!$B$3:$C$38,2,)","v":{"$error":"#VALUE!"}},"Baltic Metallurgy",260,11237,3637,0]
[null,836,42,"2025-01-10","Großreifen","Pori","FI",{"$f":"VLOOKUP(G837,Tabelle2!$B$3:$C$38,2,)","v":{"$error":"#VALUE!"}},"Container  Port","Helsinki","FI",{"$f":"VLOOKUP(K837,Tabelle2!$B$3:$C$38,2,)","v":{"$error":"#VALUE!"}},"ContainerPort",330,22449,20000,0]
[null,837,43,"2025-01-10","Leere Weinflaschen","Pskov (Псков)","RU",{"$f":"VLOOKUP(G838,Tabelle2!$B$3:$C$38,2,)","v":{"$error":"#VALUE!"}},"Baltomorsk","Daugavpils","LV",{"$f":"VLOOKUP(K838,Tabelle2!$B$3:$C$38,2,)","v":{"$error":"#VALUE!"}},"Baltomorsk",270,12749,13943,0]
[null,838,44,"2025-01-10","Industriekondensator","Daugavpils","LV",{"$f":"VLOOKUP(G839,Tabelle2!$B$3:$C$38,2,)","v":{"$error":"#VALUE!"}},"Renat","Rezekne","LV",{"$f":"VLOOKUP(K839,Tabelle2!$B$3:$C$38,2,)","v":{"$error":"#VALUE!"}},"Renat",112,9560,60000,0]
[null,839,45,"2025-01-10","LPG","Bukarest","RO",{"$f":"VLOOKUP(G840,Tabelle2!$B$3:$C$38,2,)","v":{"$error":"#VALUE!"}},"Brawen","Galati","RO",{"$f":"VLOOKUP(K840,Tabelle2!$B$3:$C$38,2,)","v":{"$error":"#VALUE!"}},"BHV",172,10124,21200,0]
[null,840,46,"2025-01-10","Industriekondensator","Galati","RO",{"$f":"VLOOKUP(G841,Tabelle2!$B$3:$C$38,2,)","v":{"$error":"#VALUE!"}},"Otel impecabli","Iasi","RO",{"$f":"VLOOKUP(K841,Tabelle2!$B$3:$C$38,2,)","v":{"$error":"#VALUE!"}},"Kolico",206,17148,60000,0]
[null,841,47,"2025-01-10","Chlor","Cariova","RO",{"$f":"VLOOKUP(G842,Tabelle2!$B$3:$C$38,2,)","v":{"$error":"#VALUE!"}},"Balkan Loco","Resita","RO",{"$f":"VLOOKUP(K842,Tabelle2!$B$3:$C$38,2,)","v":{"$error":"#VALUE!"}},"Renat",186,14186,21868,0]
[null,842,48,"2025-01-10","High-Tech-Gerät","Resita","RO",{"$f":"VLOOKUP(G843,Tabelle2!$B$3:$C$38,2,)","v":{"$error":"#VALUE!"}},"Otel impecabli","Targu Mures","RO",{"$f":"VLOOKUP(K843,Tabelle2!$B$3:$C$38,2,)","v":{"$error":"#VALUE!"}},"NSOil",369,29291,45000,1180]
[null,843,49,"2025-01-10","High-Tech-Gerät","Istanbul","TR",{"$f":"VLOOKUP(G844,Tabelle2!$B$3:$C$38,2,)","v":{"$error":"#VALUE!"}},"Baltrak Lojistic","Edrine","TR",{"$f":"VLOOKUP(K844,Tabelle2!$B$3:$C$38,2,)","v":{"$error":"#VALUE!"}},"Balkan Loco",199,15534,45000,160]
[null,844,50,"2025-01-10","Eiskaffee in Dosen","Bukarest","RO",{"$f":"VLOOKUP(G845,Tabelle2!$B$3:$C$38,2,)","v":{"$error":"#VALUE!"}},"Brawen","Pleven ( Плевен )","BG",{"$f":"VLOOKUP(K845,Tabelle2!$B$3:$C$38,2,)","v":{"$error":"#VALUE!"}},"Renat",196,4245,21259,800]
[null,845,51,"2025-01-10","Wärmetauscher","Pleven(Плевен)","BG",{"$f":"VLOOKUP(G846,Tabelle2!$B$3:$C$38,2,)","v":{"$error":"#VALUE!"}},"Radus (Радус)","Sofia (Со́фия )","BG",{"$f":"VLOOKUP(K846,Tabelle2!$B$3:$C$38,2,)","v":{"$error":"#VALUE!"}},"Radus (Радус)",161,14013,70000,0]
[null,846,52,"2025-01-10","Nottreppenelement","Madrid","ES",{"$f":"VLOOKUP(G847,Tabelle2!$B$3:$C$38,2,)","v":{"$error":"#VALUE!"}},"ACC","Puertollano","ES",{"$f":"VLOOKUP(K847,Tabelle2!$B$3:$C$38,2,)","v":{"$error":"#VALUE!"}},"Energon",244,17199,50000,0]
[null,847,53,"2025-01-10","Großes Silo","Lissabon","PT",{"$f":"VLOOKUP(G848,Tabelle2!$B$3:$C$38,2,)","v":{"$error":"#VALUE!"}},"TS Atlas","Ponte de Sor","PT",{"$f":"VLOOKUP(K848,Tabelle2!$B$3:$C$38,2,)","v":{"$error":"#VALUE!"}},"Cortica Prima",159,11881,40000,0]
[null,848,54,"2025-01-10","Großes Silo","Huelva","ES",{"$f":"VLOOKUP(G849,Tabelle2!$B$3:$C$38,2,)","v":{"$error":"#VALUE!"}},"Eolo Lines","Sevilla ","ES",{"$f":"VLOOKUP(K849,Tabelle2!$B$3:$C$38,2,)","v":{"$error":"#VALUE!"}},"Huerta del Mar Menor ",218,16095,40000,0]
[null,849,55,"2025-01-10","Industriekondensator","Gijon","ES",{"$f":"VLOOKUP(G850,Tabelle2!$B$3:$C$38,2,)","v":{"$error":"#VALUE!"}},"ACC","Navia","ES",{"$f":"VLOOKUP(K850,Tabelle2!$B$3:$C$38,2,)","v":{"$error":"#VALUE!"}},"SCS Paper",159,13353,60000,0]
[null,850,56,"2025-01-10","Lotsenboot","Olhao","PT",{"$f":"VLOOKUP(G851,Tabelle2!$B$3:$C$38,2,)","v":{"$error":"#VALUE!"}},"Marina","Setubal","PT",{"$f":"VLOOKUP(K851,Tabelle2!$B$3:$C$38,2,)","v":{"$error":"#VALUE!"}},"Ocean Solution",255,20743,25000,0]
[null,851,57,"2025-01-10","Industriekondensator","Soria","ES",{"$f":"VLOOKUP(G852,Tabelle2!$B$3:$C$38,2,)","v":{"$error":"#VALUE!"}},"Tree-Et","Teruel","ES",{"$f":"VLOOKUP(K852,Tabelle2!$B$3:$C$38,2,)","v":{"$error":"#VALUE!"}},"Tree-Et",319,26909,60000,0]
[null,852,58,"2025-01-10","Industriekondensator","Barcelona","ES",{"$f":"VLOOKUP(G853,Tabelle2!$B$3:$C$38,2,)","v":{"$error":"#VALUE!"}},"TS Atlas","Vandellos","ES",{"$f":"VLOOKUP(K853,Tabelle2!$B$3:$C$38,2,)","v":{"$error":"#VALUE!"}},"Iberatomica",210,17390,60000,0]
[null,853,"<>","2025-01-11","Industriekondensator","Zenica  (Зеница)","BIH",{"$f":"VLOOKUP(G854,Tabelle2!$B$3:$C$38,2,)","v":{"$error":"#VALUE!"}},"Syllurgy","Karakaj","BIH",{"$f":"VLOOKUP(K854,Tabelle2!$B$3:$C$38,2,)","v":{"$error":"#VALUE!"}},"Aluxion",201,16746,60000,0]
[null,854,59,"2025-01-11","Großreifen","Skopje (Скопје)","MK",{"$f":"VLOOKUP(G855,Tabelle2!$B$3:$C$38,2,)","v":{"$error":"#VALUE!"}},"Rock Eater Quarry","Bitola","MK",{"$f":"VLOOKUP(K855,Tabelle2!$B$3:$C$38,2,)","v":{"$error":"#VALUE!"}},"Rock Eater  Quarry",242,16444,20000,0]
[null,855,"<>","2025-01-11","Baggerschaufel","Belgrad (Београд)","RS",{"$f":"VLOOKUP(G856,Tabelle2!$B$3:$C$38,2,)","v":{"$error":"#VALUE!"}},"Luka DunaVia","Kragujevac (Крагуjевац)","RS",{"$f":"VLOOKUP(K856,Tabelle2!$B$3:$C$38,2,)","v":{"$error":"#VALUE!"}},"Rock Eater  Quarry",318,21784,25000,0]
[null,856,60,"2025-01-11","Industriekondensator","Kragujevac (Крагуjевац)","RS",{"$f":"VLOOKUP(G857,Tabelle2!$B$3:$C$38,2,)","v":{"$error":"#VALUE!"}},"PIAC","Neusatz (Novisad)","RS",{"$f":"VLOOKUP(K857,Tabelle2!$B$3:$C$38,2,)","v":{"$error":"#VALUE!"}},"Vesna",322,27077,60000,0]
[null,857,61,"2025-01-11","Industriekondensator","Athen (Αθήνα)","GR",{"$f":"VLOOKUP(G858,Tabelle2!$B$3:$C$38,2,)","v":{"$error":"#VALUE!"}},"Ocean Solution","Athen (Αθήνα)","GR",{"$f":"VLOOKUP(K858,Tabelle2!$B$3:$C$38,2,)","v":{"$error":"#VALUE!"}},"CNP",113,9480,60000,0]
[null,858,62,"2025-01-11","High-Tech-Gerät","Ioannina (Ιωάννινα)","GR",{"$f":"VLOOKUP(G859,Tabelle2!$B$3:$C$38,2,)","v":{"$error":"#VALUE!"}},"Shuttle Cola","Vlore","AL",{"$f":"VLOOKUP(K859,Tabelle2!$B$3:$C$38,2,)","v":{"$error":"#VALUE!"}},"Shuttle Cola",332,24391,45000,800]
[null,859,63,"2025-01-11","High-Tech-Gerät","Thessaloniki (Θεσσαλονίκη)","GR",{"$f":"VLOOKUP(G860,Tabelle2!$B$3:$C$38,2,)","v":{"$error":"#VALUE!"}},"Syllurgy","Trikala (Τρίκαλα )","GR",{"$f":"VLOOKUP(K860,Tabelle2!$B$3:$C$38,2,)","v":{"$error":"#VALUE!"}},"Sygomidi (Συγκομιδή)",203,15727,45000,800]
[null,860,64,"2025-01-11","Heizöl","Faro","PT",{"$f":"VLOOKUP(G861,Tabelle2!$B$3:$C$38,2,)","v":{"$error":"#VALUE!"}},"BHV","Rijeka","HR",{"$f":"VLOOKUP(K861,Tabelle2!$B$3:$C$38,2,)","v":{"$error":"#VALUE!"}},"Adrica",2986,205980,23139,1560]
[null,861,65,"2025-01-12","Heizöl","Rijeka","HR",{"$f":"VLOOKUP(G862,Tabelle2!$B$3:$C$38,2,)","v":{"$error":"#VALUE!"}},"Adrica","Zadar","HR",{"$f":"VLOOKUP(K862,Tabelle2!$B$3:$C$38,2,)","v":{"$error":"#VALUE!"}},"Adrica",382,25482,23139,0]
[null,862,66,"2025-01-12","Acetylen","Zadar","HR",{"$f":"VLOOKUP(G863,Tabelle2!$B$3:$C$38,2,)","v":{"$error":"#VALUE!"}},"Betunija","Split","HR",{"$f":"VLOOKUP(K863,Tabelle2!$B$3:$C$38,2,)","v":{"$error":"#VALUE!"}},"Adrica",137,8659,9600,0]
[null,863,67,"2025-01-12","Benzin","Split","HR",{"$f":"VLOOKUP(G864,Tabelle2!$B$3:$C$38,2,)","v":{"$error":"#VALUE!"}},"Adrica","Niksic ( Никшић)","ME",{"$f":"VLOOKUP(K864,Tabelle2!$B$3:$C$38,2,)","v":{"$error":"#VALUE!"}},"Aluxion",349,22877,21750,0]
[null,864,68,null,null,null,null,{"$f":"VLOOKUP(G865,Tabelle2!$B$3:$C$38,2,)","v":{"$error":"#N/A"}},null,null,null,{"$f":"VLOOKUP(K865,Tabelle2!$B$3:$C$38,2,)","v":{"$error":"#N/A"}}]
[null,865,69,null,null,null,null,{"$f":"VLOOKUP(G866,Tabelle2!$B$3:$C$38,2,)","v":{"$error":"#N/A"}},null,null,null,{"$f":"VLOOKUP(K866,Tabelle2!$B$3:$C$38,2,)","v":{"$error":"#N/A"}}]
[null,866,70,null,null,null,null,{"$f":"VLOOKUP(G867,Tabelle2!$B$3:$C$38,2,)","v":{"$error":"#N/A"}},null,null,null,{"$f":"VLOOKUP(K867,Tabelle2!$B$3:$C$38,2,)","v":{"$error":"#N/A"}}]
[null,867,71,null,null,null,null,{"$f":"VLOOKUP(G868,Tabelle2!$B$3:$C$38,2,)","v":{"$error":"#N/A"}},null,null,null,{"$f":"VLOOKUP(K868,Tabelle2!$B$3:$C$38,2,)","v":{"$error":"#N/A"}}]
[null,868,72,null,null,null,null,{"$f":"VLOOKUP(G869,Tabelle2!$B$3:$C$38,2,)","v":{"$error":"#N/A"}},null,null,null,{"$f":"VLOOKUP(K869,Tabelle2!$B$3:$C$38,2,)","v":{"$error":"#N/A"}}]
[null,869,73,null,null,null,null,{"$f":"VLOOKUP(G870,Tabelle2!$B$3:$C$38,2,)","v":{"$error":"#N/A"}},null,null,null,{"$f":"VLOOKUP(K870,Tabelle2!$B$3:$C$38,2,)","v":{"$error":"#N/A"}}]
[null,870,74,null,null,null,null,{"$f":"VLOOKUP(G871,Tabelle2!$B$3:$C$38,2,)","v":{"$error":"#N/A"}},null,null,null,{"$f":"VLOOKUP(K871,Tabelle2!$B$3:$C$38,2,)","v":{"$error":"#N/A"}}]
[null,871,75,null,null,null,null,{"$f":"VLOOKUP(G872,Tabelle2!$B$3:$C$38,2,)","v":{"$error":"#N/A"}},null,null,null,{"$f":"VLOOKUP(K872,Tabelle2!$B$3:$C$38,2,)","v":{"$error":"#N/A"}}]
[null,872,76,null,null,null,null,{"$f":"VLOOKUP(G873,Tabelle2!$B$3:$C$38,2,)","v":{"$error":"#N/A"}},null,null,null,{"$f":"VLOOKUP(K873,Tabelle2!$B$3:$C$38,2,)","v":{"$error":"#N/A"}}]
[null,873,77,null,null,null,null,{"$f":"VLOOKUP(G874,Tabelle2!$B$3:$C$38,2,)","v":{"$error":"#N/A"}},null,null,null,{"$f":"VLOOKUP(K874,Tabelle2!$B$3:$C$38,2,)","v":{"$error":"#N/A"}}]
[null,874,78,null,null,null,null,{"$f":"VLOOKUP(G875,Tabelle2!$B$3:$C$38,2,)","v":{"$error":"#N/A"}},null,null,null,{"$f":"VLOOKUP(K875,Tabelle2!$B$3:$C$38,2,)","v":{"$error":"#N/A"}}]
[null,875,79,null,null,null,null,{"$f":"VLOOKUP(G876,Tabelle2!$B$3:$C$38,2,)","v":{"$error":"#N/A"}},null,null,null,{"$f":"VLOOKUP(K876,Tabelle2!$B$3:$C$38,2,)","v":{"$error":"#N/A"}}]
[null,876,80,null,null,null,null,{"$f":"VLOOKUP(G877,Tabelle2!$B$3:$C$38,2,)","v":{"$error":"#N/A"}},null,null,null,{"$f":"VLOOKUP(K877,Tabelle2!$B$3:$C$38,2,)","v":{"$error":"#N/A"}},null,null,null,null,null,"Strafen  /1000 km"]
[null,null,null,null,null,null,null,null,null,null,null,null,null,{"$f":"SUM(N2:N877)","v":277765},{"$f":"SUM(O2:O877)","v":14505045},{"$f":"SUM(P2:P877)","v":16282775},{"$f":"SUM(Q2:Q877)","v":180320},{"$f":"Q878*1000/N878","v":649.18186236566885},666.56]
[null,null,null,null,null,null,null,null,null,null,null,null,null,{"$f":"SUM(N787:N877)","v":29224},{"$f":"SUM(O787:O877)","v":2130453},{"$f":"SUM(P787:P877)","v":3049966},{"$f":"SUM(Q787:Q877)","v":16260},{"$f":"R878-S878","v":-17.378137634331097},null,671.01]

{"sheet":"Tabelle2","index":1,"n_rows":38,"n_cols":3,"rows_kept":38,"cut":false,"hidden":false,"merged":[]}
[]
["Länder","LC","Flagge"]
[{"$error":"#VALUE!"},{"$f":"_FV(A3,\"Abkürzung\")","v":"AL"},{"$f":"_FV(A3,\"Bild\")","v":{"$error":"#VALUE!"}}]
[{"$error":"#VALUE!"},{"$f":"_FV(A4,\"Abkürzung\")","v":"BE"},{"$f":"_FV(A4,\"Bild\")","v":{"$error":"#VALUE!"}}]
[{"$error":"#VALUE!"},"BIH",{"$f":"_FV(A5,\"Bild\")","v":{"$error":"#VALUE!"}}]
[{"$error":"#VALUE!"},{"$f":"_FV(A6,\"Abkürzung\")","v":"BG"},{"$f":"_FV(A6,\"Bild\")","v":{"$error":"#VALUE!"}}]
[{"$error":"#VALUE!"},{"$f":"_FV(A7,\"Abkürzung\")","v":"DK"},{"$f":"_FV(A7,\"Bild\")","v":{"$error":"#VALUE!"}}]
[{"$error":"#VALUE!"},{"$f":"_FV(A8,\"Abkürzung\")","v":"DE"},{"$f":"_FV(A8,\"Bild\")","v":{"$error":"#VALUE!"}}]
[{"$error":"#VALUE!"},{"$f":"_FV(A9,\"Abkürzung\")","v":"EE"},{"$f":"_FV(A9,\"Bild\")","v":{"$error":"#VALUE!"}}]
[{"$error":"#VALUE!"},{"$f":"_FV(A10,\"Abkürzung\")","v":"FI"},{"$f":"_FV(A10,\"Bild\")","v":{"$error":"#VALUE!"}}]
[{"$error":"#VALUE!"},{"$f":"_FV(A11,\"Abkürzung\")","v":"FR"},{"$f":"_FV(A11,\"Bild\")","v":{"$error":"#VALUE!"}}]
[{"$error":"#VALUE!"},{"$f":"_FV(A12,\"Abkürzung\")","v":"GR"},{"$f":"_FV(A12,\"Bild\")","v":{"$error":"#VALUE!"}}]
[{"$error":"#VALUE!"},{"$f":"_FV(A13,\"Abkürzung\")","v":"IT"},{"$f":"_FV(A13,\"Bild\")","v":{"$error":"#VALUE!"}}]
[{"$error":"#VALUE!"},{"$f":"_FV(A14,\"Abkürzung\")","v":{"$error":"#VALUE!"}},{"$f":"_FV(A14,\"Bild\")","v":{"$error":"#VALUE!"}}]
[{"$error":"#VALUE!"},{"$f":"_FV(A15,\"Abkürzung\")","v":"HR"},{"$f":"_FV(A15,\"Bild\")","v":{"$error":"#VALUE!"}}]
[{"$error":"#VALUE!"},{"$f":"_FV(A16,\"Abkürzung\")","v":"LV"},{"$f":"_FV(A16,\"Bild\")","v":{"$error":"#VALUE!"}}]
[{"$error":"#VALUE!"},{"$f":"_FV(A17,\"Abkürzung\")","v":"LT"},{"$f":"_FV(A17,\"Bild\")","v":{"$error":"#VALUE!"}}]
[{"$error":"#VALUE!"},{"$f":"_FV(A18,\"Abkürzung\")","v":"LU"},{"$f":"_FV(A18,\"Bild\")","v":{"$error":"#VALUE!"}}]
[{"$error":"#VALUE!"},{"$f":"_FV(A19,\"Abkürzung\")","v":"ME"},{"$f":"_FV(A19,\"Bild\")","v":{"$error":"#VALUE!"}}]
[{"$error":"#VALUE!"},{"$f":"_FV(A20,\"Abkürzung\")","v":"NL"},{"$f":"_FV(A20,\"Bild\")","v":{"$error":"#VALUE!"}}]
[{"$error":"#VALUE!"},"MK",{"$f":"_FV(A21,\"Bild\")","v":{"$error":"#VALUE!"}}]
[{"$error":"#VALUE!"},{"$f":"_FV(A22,\"Abkürzung\")","v":"NO"},{"$f":"_FV(A22,\"Bild\")","v":{"$error":"#VALUE!"}}]
[{"$error":"#VALUE!"},{"$f":"_FV(A23,\"Abkürzung\")","v":"AT"},{"$f":"_FV(A23,\"Bild\")","v":{"$error":"#VALUE!"}}]
[{"$error":"#VALUE!"},{"$f":"_FV(A24,\"Abkürzung\")","v":"PL"},{"$f":"_FV(A24,\"Bild\")","v":{"$error":"#VALUE!"}}]
[{"$error":"#VALUE!"},{"$f":"_FV(A25,\"Abkürzung\")","v":"PT"},{"$f":"_FV(A25,\"Bild\")","v":{"$error":"#VALUE!"}}]
[{"$error":"#VALUE!"},{"$f":"_FV(A26,\"Abkürzung\")","v":"RO"},{"$f":"_FV(A26,\"Bild\")","v":{"$error":"#VALUE!"}}]
[{"$error":"#VALUE!"},{"$f":"_FV(A27,\"Abkürzung\")","v":"RU"},{"$f":"_FV(A27,\"Bild\")","v":{"$error":"#VALUE!"}}]
[{"$error":"#VALUE!"},{"$f":"_FV(A28,\"Abkürzung\")","v":"SE"},{"$f":"_FV(A28,\"Bild\")","v":{"$error":"#VALUE!"}}]
[{"$error":"#VALUE!"},{"$f":"_FV(A29,\"Abkürzung\")","v":"CH"},{"$f":"_FV(A29,\"Bild\")","v":{"$error":"#VALUE!"}}]
[{"$error":"#VALUE!"},{"$f":"_FV(A30,\"Abkürzung\")","v":"RS"},{"$f":"_FV(A30,\"Bild\")","v":{"$error":"#VALUE!"}}]
[{"$error":"#VALUE!"},{"$f":"_FV(A31,\"Abkürzung\")","v":"SK"},{"$f":"_FV(A31,\"Bild\")","v":{"$error":"#VALUE!"}}]
[{"$error":"#VALUE!"},{"$f":"_FV(A32,\"Abkürzung\")","v":"SI"},{"$f":"_FV(A32,\"Bild\")","v":{"$error":"#VALUE!"}}]
[{"$error":"#VALUE!"},{"$f":"_FV(A33,\"Abkürzung\")","v":"ES"},{"$f":"_FV(A33,\"Bild\")","v":{"$error":"#VALUE!"}}]
[{"$error":"#VALUE!"},{"$f":"_FV(A34,\"Abkürzung\")","v":"CZ"},{"$f":"_FV(A34,\"Bild\")","v":{"$error":"#VALUE!"}}]
[{"$error":"#VALUE!"},{"$f":"_FV(A35,\"Abkürzung\")","v":"TR"},{"$f":"_FV(A35,\"Bild\")","v":{"$error":"#VALUE!"}}]
[{"$error":"#VALUE!"},{"$f":"_FV(A36,\"Abkürzung\")","v":"HU"},{"$f":"_FV(A36,\"Bild\")","v":{"$error":"#VALUE!"}}]
[{"$error":"#VALUE!"},{"$f":"_FV(A37,\"Abkürzung\")","v":"GB"},{"$f":"_FV(A37,\"Bild\")","v":{"$error":"#VALUE!"}}]
["Winterwonderland","WL",{"$f":"_xlfn.IMAGE(\"https://trucksbook.eu/data/system/flags/small/xl.png\")","v":{"$error":"#VALUE!"}}]

{"sheet":"Tabelle1 (2)","index":2,"n_rows":879,"n_cols":17,"rows_kept":879,"cut":false,"hidden":false,"merged":[]}
[null,"Nr.","Nr","Datum","Fracht","Start","LC","Spedition","Ziel","LC","Spedition","km","Vergütung","Gewicht Lieferung","Strafen"]
[null,1,2,"2024-06-25","Traktoren","Graz",{"$f":"VLOOKUP(\"DE\",Tabelle2!$B$3:$C$38,2,FALSE)","v":{"$error":"#VALUE!"}},"FCP","Linz","AT","RTLog",249,4663,null,0]
[null,2,3,"2024-06-25","Traktoren","Graz",{"$f":"VLOOKUP(\"at\",Tabelle2!$B$3:$C$38,2,FALSE)","v":{"$error":"#VALUE!"}},"FCP","Klagenfurt a.W.","AT","EuroAcres",218,4667,null,0]
[null,3,6,"2024-06-25","Große Eisenrohre","Linz","AT","ITCC","Innsbruck",{"$f":"VLOOKUP(\"at\",Tabelle2!$B$3:$C$38,2,FALSE)","v":{"$error":"#VALUE!"}},"RTLog",325,5080,null,0]
[null,4,1,"2024-06-25","Äpfel","Graz","AT","LKWLog","Graz","AT","RTLog",1,362,null,200]
[null,5,8,"2024-06-25","Motorradreifen","Graz","AT","LKWLog","Salzburg","AT","RTLog",281,5968,null,0]
[null,6,4,"2024-06-25","Traktoren","Linz","AT","PoSped","Graz","AT","RTLog",249,5304,null,0]
[null,7,5,"2024-06-25","Olivenöl","Linz",{"$f":"VLOOKUP(\"tr\",Tabelle2!$B$3:$C$38,2,FALSE)","v":{"$error":"#VALUE!"}},"PoSped","Prag",{"$f":"VLOOKUP(\"tr\",Tabelle2!$B$3:$C$38,2,FALSE)","v":{"$error":"#VALUE!"}},"EuroGoodies",306,4325,null,400]
[null,8,7,"2024-06-25","Milchpulver","Prag","CZ","Tradeaux","Erfurt","DE","Sellplan",344,5378,null,0]
[null,9,15,"2024-06-26","Große Eisenrohre","Metz","FR","PoSped","Frankfurt","DE","WGCC",351,7947,null,400]
[null,10,11,"2024-06-26","Rohrleitungszbehör","Salzburg","AT","RTLog","Stuttgart","DE","Stokes",349,7723,null,0]
[null,11,13,"2024-06-26","Altkunststoff","Bern","CH","Sellplan","Dijon","FR","Stokes",216,3536,null,0]
[null,12,9,"2024-06-26","Stilles Mineralwasser in Flaschen","Salzburg","AT","Shuttle Cola","Brünn","CZ","LKWLog",336,7334,null,0]
[null,13,12,"2024-06-26","Milch ","Stuttgart","DE","Stokes","Bern","CH","Sellplan",336,8772,null,0]
[null,14,14,"2024-06-26","Mineralwasser","Dijon","FR","Stokes","Metz","FR","PoSped",251,5496,null,0]
[null,15,10,"2024-06-26","Gabelstapler","Brünn","CZ","Trameri","Salzburg","AT","RTLog",343,8367,null,0]
[null,16,16,"2024-06-26","Gabelstapler","Frankfurt","DE","WGCC","Luxemburg","LU","SanBuilders",330,8480,21720,800]
[null,17,19,"2024-06-27","Autos","Manchester","GB","FCP","Amsterdam","NL","LKWLog",301,8802,null,0]
[null,18,20,"2024-06-27","Rohrleitunngszubehör","Amsterdam","NL","LKWLog","Hannover","DE","Tradeaux",328,7563,null,0]
[null,19,18,"2024-06-27","Reifen","Rotterdam","NL","PoSped","Manchester","GB","FCP",227,6321,null,0]
[null,20,17,"2024-06-27","Raupenbagger","Luxemburg","LU","SanBuilders","Rotterdam","NL","PoSped",343,8763,null,0]
[null,21,22,"2024-06-28","Leere Paletten","Rostock","DE","Sellplan","Prag","CZ","Tradeaux",550,10964,null,0]
[null,22,21,"2024-06-28","Einmachgläser","Hanover","DE","Tradeaux","Rostock","DE","Sellplan",346,9085,null,400]
[null,23,23,"2024-06-28","Äpfel","Prag","CZ","Tradeaux","Salzburg","AT","RTLog",381,8967,null,0]
[null,24,25,"2024-06-30","Kautschuk","Bratislava","SK","PoSped","Linz","AT","PoSped",330,8278,21730,0]
[null,25,26,"2024-06-30","Mandeln","Linz","AT","PoSped","Klagenfurt a.W.","AT","Tradeaux",324,7068,17460,0]
[null,26,28,"2024-06-30","Klebebandrollen","Verona","IT","PoSped","Torino","IT","transinet",350,7132,18018,0]
[null,27,24,"2024-06-30","Klebebandrollen","Salzburg","AT","RTLog","Bratislava","SK","PoSped",320,5604,12492,0]
[null,28,27,"2024-06-30","Schnittblumen","Klagenfurt a.W.","AT","Tradeaux","Verona","IT","PoSped",450,11727,1759,0]
[null,29,29,"2024-06-30","Beton-Bodenplatten","Torino","IT","transinet","Zürich","CH","RTLog",511,8929,19188,0]
[null,30,4,"2024-07-01","Eiskaffee in Dosen","Mannheim","DE","EuroGoodies","Lille","FR","Tradeaux",546,12933,21259,0]
[null,31,2,"2024-07-01","Motoröl","Verona","IT","PoSped","Innsbruck","AT","RTLog",281,7255,18754,0]
[null,32,1,"2024-07-01","Geräucherter Aal","Zürich","CH","RTLog","Verona","IT","PoSped",492,12231,11481,0]
[null,33,3,"2024-07-01","Milch","Innsbruck","AT","RTLog","Mannheim","DE","EuroGoodies",548,13474,20500,0]
[null,34,5,"2024-07-02","Radlader","Graz","AT","FCP","Nürnberg","DE","SanBuilders",515,14881,null,520]
[null,35,8,"2024-07-03","Kokosnussöl","Reims","FR","EuroGoodies","Calais","FR","Stokes",269,6705,23631,0]
[null,36,7,"2024-07-03","Fischstäbchen","Dortmund","DE","LKWLog","Reims","FR","Eurogoodies",485,12051,17160,0]
[null,37,10,"2024-07-03","Industrieruß","Birmingham","GB","PoSped","Manchester","GB","LKWLog",201,2480,3783,0]
[null,38,6,"2024-07-03","Leere Paletten","Nürnberg","DE","SanBuilders","Dortmund","DE","LKWLog",479,7305,15385,0]
[null,39,9,"2024-07-03","Eisenrohre","Calais","FR","Stokes","Birmingham","BG","PoSped",342,7760,18760,0]
[null,40,11,"2024-07-04","Autos","Manchester","GB","FCP","Rotterdam","NL","transinet",225,8178,7350,400]
[null,41,14,"2024-07-04","LPG","Hamburg","DE","NSOil","Leipzig","DE","Tree-Et",449,15322,22000,360]
[null,42,12,"2024-07-04","Flour","Rotterdam","NL","WGCC","Frankfurt","DE","WGCC",463,15654,14790,0]
[null,43,13,"2024-07-04","Kraftstofftank","Frankfurt","DE","WGCC","Hamburg","DE","AI Automotive",518,14215,9600,0]
[null,44,16,"2024-07-05","Milch","Bremen","DE","EuroAcres","Groningen","NL","Sellplan",193,6080,25075,3200]
[null,45,17,"2024-07-05","Milch","Groningen","NL","EuroAcres","Dresden","DE","transinet",765,25271,25075,3940]
[null,46,15,"2024-07-05","Saftkonzentrat","Leipzig","DE","EuroGoodies","Bremen","DE","EuroAcres",511,10053,24820,0]
[null,47,19,"2024-07-05","Große Eisenrohre","Lüttich","BE","ITCC","Swansea","GB","PoSped",781,20181,22840,400]
[null,48,18,"2024-07-05","Altkunststoff","Dresden","DE","Trameri","Lüttich","BE","Stokes",714,13172,9762,0]
[null,49,20,"2024-07-06","Medizinische Ausrüstung","Graz","AT","LKWLog","Wien","AT","Stokes",234,5430,5214,0]
[null,50,22,"2024-07-06","Raupenbagger","Graz","AT","Steinbruch","Graz","AT","Steinbruch",55,101603,21720,360]
[null,51,23,"2024-07-06","Steine","Graz","AT","Steinbruch","Graz","AT","FCP",45,34998,23100,0]
[null,52,21,"2024-07-06","Abgassysteme","Wien","AT","Stokes","Graz","AT","Steinbruch",190,2664,3753,0]
[null,53,24,"2024-07-07","Bagger","Graz","AT","FCP","Graz","AT","Tree-Et",212,102806,23780,0]
[null,54,27,"2024-07-07","Autos","Graz","AT","RTLog","Frankfurt","DE","WGCC",692,26100,10400,0]
[null,55,29,"2024-07-07","Getränke","Genf","CH","RTLog","Strassburg","FR","Kaarfor",452,12931,25000,0]
[null,56,26,"2024-07-07","Bagger","Graz","AT","Steinbruch","Graz","AT","EuroAcres",176,102806,23780,0]
[null,57,25,"2024-07-07","Fertighauswände","Graz","AT","Tree-Et","Graz","AT","FCP",153,78308,20999,0]
[null,58,28,"2024-07-07","Neon","Frankfurt","DE","WGCC","Genf","CH","Kathode",645,19621,9600,0]
[null,59,32,"2024-07-08","Traktoren","Wien","AT","EuroGoodies","Klagenfurt a.W.","AT","EuroAcres",336,5495,5695,880]
[null,60,33,"2024-07-08","Bagger","Graz","AT","FCP","Livorno","IT","SALSRL",779,24889,23780,0]
[null,61,30,"2024-07-08","Raupenbagger","Strassburg","FR","Kaarfor","Travemünde","DE","Marina",760,25659,21720,0]
[null,62,31,"2024-07-08","Atlantisches Kabeljaufilet","Travemünde","DE","Marina","Wien","AT","EuroGoodies",1132,26147,16450,0]
[null,63,35,"2024-07-09","Glasscheiben","Sarajevo","BIH","Belkan Loco","Göteborg","SE","AgroNord",2144,600,null,800]
[null,64,34,"2024-07-09","Computerprozessoren","Livorno","IT","SALSRL","Sarajevo","BIH","Balkan Loco",1383,44610,3854,0]
[null,65,36,"2024-07-09","Zugmaschinen-Volvo","Göteborg","SE","VOLVO","Göteborg","SE","VPC",14,142445,14680,0]
[null,66,38,"2024-07-10","Sand","Graz","AT","Steinbruch","Istanbul","TR","Baltrak Lojistik",1659,53523,47586,0]
[null,67,37,"2024-07-10","Zugmaschinen-Volvo","Göteborg","SE","VOLVO","Graz","AT","FCP",1826,60230,14680,800]
[null,68,39,"2024-07-12","Limonade","Istanbul","TR","Baltrak Lojistic","Villa San Giovanni","IT","Eolo Lines",1581,49679,23998,300]
[null,69,40,"2024-07-12","Wassermelonen","Villa San Giovanni","IT","Eolo Lines","Uppsala","SE","Dekkar Trans",2965,81534,20170,0]
[null,70,42,"2024-07-13","Gabelstapler","Helsingborg","SE","BHV","Graz","AT","Steinbruch",1307,47695,11230,400]
[null,71,41,"2024-07-13","Gerüstmaterial","Uppsala","SE","Drekkar Trans","Helsingborg","SE","BHV",594,16201,22126,0]
[null,72,43,"2024-07-13","Bremsflüssigkeit","Graz","AT","FCP","Göteborg","SE","VOLVO",1403,34138,5316,0]
[null,73,44,"2024-07-13","Zugmaschinen-Volvo","Göteborg","SE","VOLVO","Göteborg","SE","VPC",15,158388,14680,0]
[null,74,48,"2024-07-14","Baumstämme","St.Petersburg","RU","Baltomorsk","Helsinki","FI","AeroBaltika",554,15298,22740,780]
[null,75,46,"2024-07-14","Scania - Zugmaschinen","Algeciras","ES","CESTA S.L","Graz","AT","Tree-Et",3026,137238,14590,0]
[null,76,47,"2024-07-14","Autos","Graz","AT","FCP","St.Petersburg","RU","Baltomorsk",1995,83894,9010,0]
[null,77,45,"2024-07-14","Zugmaschinen-Volvo","Göteborg","SE","VPC","Algeciras","ES","CESTA S.L",3402,169514,14680,400]
[null,78,49,"2024-07-15","Dieselgeneratoren","Helsinki","FI","AeroBaltika","Oslo","NO","ContainerPort",856,44738,21516,0]
[null,79,51,"2024-07-17","Hochspannungsleitungen","Köln","DE","ITCC","Aberdeen","GB","NBFC",1467,52535,21480,0]
[null,80,50,"2024-07-17","Zugmaschinen-Volvo","Oslo","NO","RenarLogistik","Köln","DE","ITCC",1509,67410,14680,0]
[null,81,54,"2024-07-19","Zugmaschinen-Volvo","Berlin","DE","NBFC","Linz","AT","ITCC",616,33861,14680,0]
[null,82,52,"2024-07-19","Chlor","Aberdeen","GB","NSChemicals","Malmö","SE","NBFC",1009,39011,18270,400]
[null,83,53,"2024-07-19","Wasserfreies Amoniak","Malmö","SE","NSChemicals","Berlin","DE","NBFC",434,16891,18980,0]
[null,84,56,"2024-07-21","Kleintransporter","Le Mans","FR","BHV","Rennes","FR","Globeur",155,5965,840,400]
[null,85,58,"2024-07-21","Wäschetrockner","Bukarest","RO","Brawen","Graz","AT","RTLog",1155,43440,13256,360]
[null,86,57,"2024-07-21","Drehgestell","Rennes","FR","Globeur","Bukarest","RO","Brawen",2750,123114,20740,0]
[null,87,55,"2024-07-21","Dünger","Linz","AT","RTLog","Le Mans","FR","WilnetTransport",2036,41151,20282,0]
[null,88,60,"2024-07-22","Diesel ","Graz","AT","FCP","Stuttgart","DE","BCP",624,31553,23800,0]
[null,89,59,"2024-07-22","Drehgestell","Graz","AT","Steinbruch","Luxemburg","LU","ITCC",999,45346,20740,0]
[null,90,63,"2024-07-23","Aluminiumbarren","Wien","AT","CNP","Linz","AT","DomDepo",173,7771,24157,800]
[null,91,64,"2024-07-23","Acetylen","Linz","AT","DomDepo","Salzburg","AT","Steinbruch",409,3890,4800,0]
[null,92,67,"2024-07-23","Äpfel","Klagenfurt a.W.","AT","Euroacres","Graz","AT","EuroAcres",369,7694,18336,8600]
[null,93,66,"2024-07-23","Atlantisches Kabeljaufilet","Innsbruck","AT","EuroGoodies","Klagenfurt a.W.","AT","EuroAcres",341,14984,16450,0]
[null,94,62,"2024-07-23","Bagger","Graz","AT","FCP","Wien","AT","CNP",179,7948,23780,760]
[null,95,65,"2024-07-23","Dieselgeneratoren","Salzburg","AT","Steinbruch","Innsbruck","AT","EuroGoodies",163,11166,21516,0]
[null,96,68,"2024-07-23","Granitblöcke","Graz","AT","Steinbruch","Wien","AT","EuroAcres",289,2739,23000,0]
[null,97,61,"2024-07-23","Zugmaschinen-Volvo","Stuttgart","DE","Stokes","Graz","AT","FCP",741,33500,14680,0]
[null,98,69,"2024-07-24","Computerprozessoren","Wien","AT","EuroAcres","Linz","AT","ITCC",255,11323,3854,800]
[null,99,74,"2024-07-24","Fertigtreppen (Beton","Graz","AT","FCP","Wien","AT","NSOil",162,6162,21565,1600]
[null,100,70,"2024-07-24","Dynamit","Linz","AT","ITCC","Salzburg","AT","Renat",105,8219,17160,400]
[null,101,76,"2024-07-24","Grosse Eisenrohre","Linz","AT","ITCC","Salzburg","AT","SanBuilders",241,5727,22840,0]
[null,102,73,"2024-07-24","Feuerwerk","Klagenfurt a.W.","AT","Kathode","Graz","AT","FCP",127,8866,9900,200]
[null,103,75,"2024-07-24","Benzin","Wien","AT","NSOil","Linz","AT","ITCC",212,12679,21750,0]
[null,104,71,"2024-07-24","Chemisches Sorptionsmittel","Salzburg","AT","Renat","Innsbruck","AT","RTLog",253,5890,8752,0]
[null,105,72,"2024-07-24","Autos","Innsbruck","AT","RTLog","Klagenfurt a.W.","AT","Kathode",447,19878,7000,0]
[null,106,77,"2024-07-24","Bagger","Salzburg","AT","SanBuilders","Innsbruck","AT","Trameri",296,9683,23780,0]
[null,107,78,"2024-07-24","Heiße Chemikalien","Innsbruck","AT","Trameri","Klagenfurt a.W.","AT","Sellplan",465,23139,19800,460]
[null,108,85,"2024-07-26","Luxus-SUV´s","Graz","AT","LKWLog","Wien","AT","Stokes",150,9819,11100,0]
[null,109,82,"2024-07-26","Kaminsysteme","Linz","AT","PoSped","Salzburg","AT","SanBuilders",212,6015,18450,0]
[null,110,83,"2024-07-26","Quecksilberchlorid","Salzburg","AT","SanBuilders","Klagenfurt a.W.","AT","Tradeaux",333,11852,15660,0]
[null,111,79,"2024-07-26","Erz","Klagenfurt a.W.","AT","Sellplan","Graz","AT","Steinbruch",61,2738,22200,0]
[null,112,81,"2024-07-26","Kaliumhydroxid","Wien","AT","Sellplan","Linz","AT","PoSped",226,10991,19800,400]
[null,113,80,"2024-07-26","Mamorplatte","Graz","AT","Steinbruch","Wien","AT","Sellplan",160,5754,23500,0]
[null,114,84,"2024-07-26","Getränke","Klagenfurt a.W.","AT","Tradeaux","Graz","AT","LKWLog",110,4480,23526,0]
[null,115,91,"2024-07-27","Hochdruck-Schieberventile","Innsbruck","AT","EuroGoodies","Klagenfurt a.W.","AT","Trameri",646,15050,19077,0]
[null,116,90,"2024-07-27","Alkoholfreies Bier","Zürich","CH","Kathode","Innsbruck","AT","EuroGoodies",310,11136,22156,400]
[null,117,87,"2024-07-27","Computerprozessoren","Linz","AT","PoSped","Salzburg","AT","Shuttle Cola",171,8864,3854,0]
[null,118,88,"2024-07-27","Bagger","Salzburg","AT","Shuttle Cola","Innsbruck","AT","Steinbruch",226,10007,23780,0]
[null,119,89,"2024-07-27","Beton-Bodenplatten","Innsbruck","AT","Steinbruch","Zürich","AT","Stokes",353,9260,19188,0]
[null,120,86,"2024-07-27","Jacht - Queen V39","Wien","AT","Stokes","Linz","AT","RTLog",196,13511,9900,0]
[null,121,95,"2024-07-28","Geräucherte Sprotten","Wien","AT","EuroAcres","Brünn","CZ","SanBuilders",138,5936,17572,800]
[null,122,97,"2024-07-28","Gesteinsmehl","Wien","AT","EuroAcres","Bratislava",null,"WGCC",136,2725,22100,400]
[null,123,94,"2024-07-28","Geräucherter Aal","Wien","AT","EuroGoodies","Wien",null,"EuroAcres",161,106280,11481,800]
[null,124,93,"2024-07-28","Kleintransporter","Graz","AT","FCP","Wien",null,"EuroGoodies",147,7947,6150,0]
[null,125,100,"2024-07-28","Gabelstapler","Budapest","HU","Kaarfor","Graz",null,"Tree-Et",478,15377,11230,0]
[null,126,99,"2024-07-28","Gerüstmaterial","Wien","AT","NSOil","Budapest",null,"Trameri",466,10077,21456,400]
[null,127,96,"2024-07-28","Leberwurst","Brünn","CZ","SanBuilders","Wien",null,"EuroAcres",120,5495,17411,0]
[null,128,92,"2024-07-28","Salzsäure","Klagenfurt a.W.","AT","Tradeaux","Graz",null,"FCP",105,7728,21780,0]
[null,129,101,"2024-07-28","Baumstämme","Graz","AT","Tree-Et","Wien",null,"NSOil",173,5167,22740,0]
[null,130,98,"2024-07-28","Kleidung","Bratislava","SK","WGCC","Wien",null,"NSOil",318,4172,18720,0]
[null,131,104,"2024-07-29","Graphitfett","Maribor","SLO","Balkan Loco","Graz",null,"Steinbruch",78,4910,16909,160]
[null,132,103,"2024-07-29","Desinfektionsmittel","Graz","AT","EuroAcres","Maribor",null,"Balkan Loco",423,4250,16820,0]
[null,133,102,"2024-07-29","Spannplatten","Graz","AT","Steinbruch","Graz",null,"EuroAcres",529,109589,21599,400]
[null,134,105,"2024-07-29","Gabelstapler","Graz","AT","Steinbruch","Graz",null,"Steinbruch",50,129244,11230,0]
[null,135,106,"2024-07-29","Gesteinsmehl","Graz","AT","Steinbruch","Nürnberg",null,"Kathode",696,7399,22100,1000]
[null,136,107,"2024-07-30","Acetylen","Nürnberg","DE","Kathode","Nürnberg",null,"SanBuilders",11,126031,9600,0]
[null,137,108,"2024-07-30","Außenfliesen","Nürnberg","DE","SanBuilders","Salzburg",null,"Sellplan",392,10492,20579,0]
[null,138,109,"2024-07-30","Atlantisches Kabeljaufilet","Salzburg","AT","Sellplan","Salzburg",null,"Tree-Et",267,103817,16450,0]
[null,139,112,"2024-07-30","Jacht - Queen V39","Triest","IT","Terminal Container","Ljubljana",null,"Balkan Loco",208,12750,9900,0]
[null,140,110,"2024-07-30","Bauholz","Salzburg","AT","Tree-Et","Klagenfurt a.W.",null,"Tree-Et",278,8436,17520,0]
[null,141,111,"2024-07-30","Gabelstapler","Klagenfurt a.W.","AT","Tree-Et","Triest",null,"Terminal Container",345,16070,11230,0]
[null,142,113,"2024-07-31","Kugelventile","Ljubiljana","SLO","AI  Automotive","Salzburg",null,"RTLog",366,11629,22173,360]
[null,143,115,"2024-07-31","Dieselgeneratoren","Salzburg","AT","Renat","Salzburg",null,"Tree-Et",296,150570,21516,0]
[null,144,114,"2024-07-31","Benzin","Salzburg","AT","RTLog","Salzburg",null,"Renat",61,178083,21750,0]
[null,145,116,"2024-07-31","Zugmaschinen-Volvo","Salzburg","AT","Tree-Et","Klagenfurt a.W.",null,"EuroAcres",378,17205,14680,720]
[null,146,1,"2024-08-03","Lebende Schweine","Klagenfurt a.W.","AT","Euroacres","Salzburg",null,"SanBuilders",254,5812,6000,2760]
[null,147,4,"2024-08-03","Arbeitskleidung","Venedig","IT","EuroGoodies","Ljubljana",null,"ITCC",427,12046,16454,0]
[null,148,3,"2024-08-03","Dachfenster","Ljubiljana","SLO","ITCC","Venedig",null,"EuroGoodies",397,13876,5273,0]
[null,149,5,"2024-08-03","Eisenrohre","Ljubiljana","SLO","ITCC","Klagenfurt a.W.",null,"Trameri",190,8439,24380,0]
[null,150,2,"2024-08-03","Atlantisches Kabeljaufilet","Salzburg","AT","Sellplan","Ljubljana",null,"ITCC",260,10914,16450,0]
[null,151,7,"2024-08-03","Altkunststoff","Salzburg","AT","Sellplan","Linz",null,"PoSped",222,3642,9672,0]
[null,152,6,"2024-08-03","Explosivstoffe","Klagenfurt a.W.","AT","Trameri","Salzburg",null,"Sellplan",385,13707,11680,0]
[null,153,13,"2024-08-04","Dachziegel","Verona","IT","BCP","Stuttgart",null,"FLE",788,19859,20364,0]
[null,154,9,"2024-08-04","LKW-Batterien","Nürnberg","DE","CNP","Salzburg",null,"Renat",338,10282,15976,0]
[null,155,11,"2024-08-04","Motorräder","Nürnberg","DE","DFH","Innsbruck",null,"RTLog",401,18199,15048,0]
[null,156,14,"2024-08-04","Ahornsirup","Stuttgart","DE","FLE","Salzburg",null,"Tree-Et",536,11739,17213,0]
[null,157,8,"2024-08-04","Elektronik","Llinz","AT","PoSped","Nürnberg",null,"CNP",350,14529,8194,0]
[null,158,10,"2024-08-04","Propan","Salzburg","AT","Renat","Nürnberg",null,"DFH",393,14056,19720,0]
[null,159,12,"2024-08-04","Autos","Innsbruck","AT","RTLog","Verona",null,"BCP",295,13360,6400,0]
[null,160,15,"2024-08-05","Kerosin","Graz","AT","Steinbruch","Amsterdam",null,"Kaarfor",1223,64770,23580,0]
[null,161,16,"2024-08-05","Rollrasen","Amsterdam","NL","Stokes","Groningen",null,"EuroAcres",190,6292,15299,0]
[null,162,17,"2024-08-06","Lebende Schweine","Groningen","NL","EuroAcres","Osnabrück",null,"EuroAcres",248,3954,6000,400]
[null,163,18,"2024-08-06","Metallträger","Osnabrück","DE","EuroAcres","Groningen",null,"EuroAcres",207,7380,24380,1820]
[null,164,19,"2024-08-06","Frischer Fisch","Groningen","NL","EuroAcres","Groningen",null,"EuroGoodies",10,113074,18520,1160]
[null,165,20,"2024-08-06","Gabelstapler","Groningen","NL","Sellplan","Amsterdam",null,"Trameri",286,8813,11230,0]
[null,166,21,"2024-08-07","Dachziegel ","Amsterdam","NL","Trameri","Duisburg",null,"ITCC",329,5910,20364,200]
[null,167,22,"2024-08-09","Pestizide","Duisburg","DE","Kaarfor","Amsterdam",null,"Stokes",261,6578,21600,0]
[null,168,23,"2024-08-09","Abgassysteme","Amsterdam","NL","Stokes","Rotterdam",null,"SanBuilders",82,3589,7506,0]
[null,169,24,"2024-08-09","Acetylen","Rotterdam","NL","WGCC","Lüttich",null,"Tree-Et",323,6339,4800,0]
[null,170,27,"2024-08-11","Fertigtreppen (Beton","Lüttich","BE","ITCC","Kalmar",null,"GNT",1292,44985,22239,0]
[null,171,26,"2024-08-11","Alkoholfreies Bier","Reims","FR","Steinbruch","Lüttich",null,"EuroGoodies",186,8774,22156,0]
[null,172,25,"2024-08-11","Ahornsirup","Lüttich","BE","Tree-Et","Reims",null,"Steinbruch",187,8653,17213,0]
[null,173,29,"2024-08-12","Milch","Brüssel","BE","EuroAcres","Lille",null,"Tradeaux",87,3366,23069,0]
[null,174,28,"2024-08-12","Altkunststoff","Kalmar","SE","GNT","Brüssel",null,"FCP",1303,28326,8793,0]
[null,175,30,"2024-08-12","Zement","Lille","FR","Tradeaux","Brüssel",null,"transinet",303,2069,21630,0]
[null,176,31,"2024-08-13","Altkunststoff","Brüssel","BE","Transinet","Plymouth",null,"Trameri",664,15037,7135,0]
[null,177,32,"2024-08-15","Lebendrind","Plymouth","GB","EuroAcres","Cambridge",null,"EuroAcres",479,28032,21760,2480]
[null,178,33,"2024-08-15","Blumenkohl","Cambridge","GB","EuroAcres","Aberdeen",null,"Stokes",832,25620,9580,4340]
[null,179,35,"2024-08-15","Zement","Carlisle","GB","PoSped","Glasgow",null,"ITCC",246,3053,21630,0]
[null,180,38,"2024-08-15","Saftkonzentrat","London","GB","PoSped","Felixstowe",null,"LKWLog",152,4197,23513,0]
[null,181,34,"2024-08-15","Holzspäne","Aberdeen","GB","Tree-Et","Carlisle",null,"EuroAcres",414,3903,4890,0]
[null,182,37,"2024-08-15","Holzbalken","Manchester","GB","Tree-Et","London",null,"SanBuilders",556,11273,22361,0]
[null,183,36,"2024-08-15","Natriumhydroxid","Glasgow","GB","WGCC","Liverpool",null,"NBFC",385,12357,18400,160]
[null,184,41,"2024-08-16","Stilles Mineralwasser in Flaschen","Grimsby","GB","EuroGoodies","Sheffield",null,"transinet",110,3341,23464,0]
[null,185,42,"2024-08-16","Fertigtreppen (Beton)","Sheffield","GB","ITCC","Newcastle",null,"SanBuilders",217,6529,22239,0]
[null,186,40,"2024-08-16","Altkunststoff","Southampton","GB","Sellplan","Grimsby",null,"Tradeaux",459,9257,7153,0]
[null,187,39,"2024-08-16","Holzspäne","Felixstowe","GB","Tree-Et","Southampton",null,"transinet",324,3006,4890,360]
[null,188,43,"2024-08-17","Pasta","Newcastle","GB","EuroGoodies","Edinburgh",null,"EuroGoodies",260,5906,20407,0]
[null,189,47,"2024-08-17","Dosenschweinefleisch","Glasgow","GB","EuroGoodies","Newcastle",null,"Sellplan",254,11337,22460,0]
[null,190,46,"2024-08-17","Gummibärchen","Edinburgh","GB","Kaarfor","Glasgow",null,"EuroGoodies",99,4813,21288,0]
[null,191,49,"2024-08-17","Erdnussbutter","Carlisle","GB","PoSped","Grimsby",null,"WGCC",344,11208,19539,0]
[null,192,44,"2024-08-17","Bagger","Edinburgh","GB","SanBuilders","Glasgow",null,"Steinbruch",154,5395,23780,0]
[null,193,48,"2024-08-17","Eisenrohre","Newcastle","GB","Sellplan","Carlisle",null,"Trameri",154,4032,18760,0]
[null,194,45,"2024-08-17","Mamorblöcke","Glasgow","GB","Steinbruch","Edinburgh",null,"Kaarfor",229,4467,22500,0]
[null,195,54,"2024-08-18","Dünger","Felixstowe","GB","LKWLog","Cambridge",null,"transinet",149,6587,20282,0]
[null,196,52,"2024-08-18","Spanplatten","London","GB","Sellplan","Birmingham",null,"Tree-Et",362,8257,21559,0]
[null,197,51,"2024-08-18","Steine","Sheffield","GB","Steinbruch","London",null,"NBFC",357,5283,27300,0]
[null,198,53,"2024-08-18","Bauholz","Birmingham","GB","Tree-Et","Felixstowe",null,"Tradeaux",374,7996,17520,0]
[null,199,50,"2024-08-18","Dieselgeneratoren","Grimsby","GB","WGCC","Sheffield",null,"Sellplan",109,7076,21516,0]
[null,200,58,"2024-08-19","Cyanid","Birmingham","GB","BCP","Liverpool",null,"EuroAcres",166,8832,14400,300]
[null,201,59,"2024-08-19","Scania - Zugmaschinen","Liverpool","GB","EuroAcres","Manchester",null,"Scania",98,6792,14590,800]
[null,202,60,"2024-08-19","Flugzeugreifen","Manchester","GB","FCP","Liverpool",null,"EuroGoodies",101,4393,18117,0]
[null,203,55,"2024-08-19","Dachziegel","Cambridge","GB","Kaarfor","Birmingham",null,"SanBuilders",208,7334,20364,0]
[null,204,57,"2024-08-19","IBC-Container","Dover","GB","LKWLog","Birmingham",null,"BCP",349,11044,11138,800]
[null,205,56,"2024-08-19","Gabelstapler","Birmingham","GB","SanBuilders","Dover",null,"EuroGoodies",408,14811,11230,0]
[null,206,61,"2024-08-19","Graphitfett","Liverpool","GB","Trameri","Manchester",null,"WGCC",76,3866,16909,0]
[null,207,62,"2024-08-19","Autos","Manchester","GB","WGCC","Cardiff",null,"Stokes",335,19827,6160,1120]
[null,208,66,"2024-08-20","Bagger","Birmingham","GB","BCP","Cardiff",null,"Steinbruch",220,11324,23780,380]
[null,209,65,"2024-08-20","Kokosnussmilch","Swansea","GB","EuroAcres","Birmingham",null,"BCP",324,10813,23278,0]
[null,210,64,"2024-08-20","Kupferdachrinnen","Newcastle","GB","SanBuilders","Swansea",null,"EuroAcres",556,17511,8250,0]
[null,211,63,"2024-08-20","Baumstämme","Cardiff","GB","Stokes","Newcastle",null,"SanBuilders",628,16010,22740,0]
[null,212,68,"2024-08-21","Basilikum","Plymouth","GB","EuroGoodies","Cardiff",null,"EuroGoodies",281,8827,24935,0]
[null,213,69,"2024-08-21","Diesel","Cardiff","GB","EuroGoodies","Swansea",null,"Trameri",78,6653,23800,0]
[null,214,70,"2024-08-21","Desinfektionsmittel","Swansea","GB","Kaarfor","Dover",null,"EuroAcres",509,15045,16820,0]
[null,215,67,"2024-08-21","Erz","Cardiff","GB","Steinbruch","Plymouth",null,"Stokes",321,4643,22200,0]
[null,216,71,"2024-08-22","Atlantisches Kabeljaufilet","Swansea","GB","PoSped","Southampton",null,"Tree-Et",277,10561,16450,0]
[null,217,73,"2024-08-24","Ölfilter","Ljubiljana","SLO","AI  Automotive","Maribor",null,"Balkan Loco",109,3098,9554,220]
[null,218,78,"2024-08-24","Äpfel","Koper","SLO","EuroGoodies","Triest",null,"Terminal Container",121,4908,20170,0]
[null,219,76,"2024-08-24","Hochspannungsleitungen","Maribor","SLO","ITCC","Ljubljana",null,"Brawen",126,5507,21480,0]
[null,220,72,"2024-08-24","Frischer Fisch","Aberdeen","GB","Stokes","Maribor",null,"Eumefa",2386,89179,18520,0]
[null,221,74,"2024-08-24","Hühnerfleisch","Maribor","SLO","Stokes","Ljubljana",null,"Vilco",111,3416,17094,0]
[null,222,75,"2024-08-24","Autos","Ljubiljana","SLO","Vilco","Maribor",null,"ITCC",143,7220,7000,0]
[null,223,77,"2024-08-24","Gefrorener Seehecht","Ljubiljana","SLO","Vilco","Koper",null,"ContainerPort",200,6728,17411,0]
[null,224,89,"2024-08-25","Gefrorene Oktopsse","Ljubiljana","SLO","AI  Automotive","Zagreb",null,"Slava",126,6617,14401,220]
[null,225,92,"2024-08-25","Alkoholfreies Bier","Fünfkirchen(Pecs)","HU","BCP","Graz",null,"FCP",331,12334,21485,0]
[null,226,86,"2024-08-25","Äpfel","Ljubiljana","SLO","ITCC","Novo Mesto",null,"Larus",152,3629,20170,0]
[null,227,91,"2024-08-25","Erz","Ljubiljana","SLO","ITCC","Fünfkirchen(Pecs)",null,"BCP",446,8079,25900,0]
[null,228,85,"2024-08-25","Birnen","Klagenfurt a.W.","AT","Kathode","Ljubljana",null,"ITCC",217,8585,15408,0]
[null,229,83,"2024-08-25","Frische Kräuter","Novo Mesto","SLO","Larus","Ljubljana",null,"Vilco",64,3503,5650,0]
[null,230,87,"2024-08-25","Eiskaffee in Dosen","Novo Mesto","SLO","Larus","Triest",null,"Terminal Container",230,8666,21259,1300]
[null,231,81,"2024-08-25","Einmachgläser","Venedig","IT","Sellplan","Koper",null,"TDC",340,15552,7342,0]
[null,232,90,"2024-08-25","Autos","Zagreb","HR","Slava Auto","Ljubljana",null,"ITCC",204,9001,6400,0]
[null,233,80,"2024-08-25","Blumenkohl","Koper","SLO","TDC","Venedig",null,"Sellplan",360,12352,9580,0]
[null,234,82,"2024-08-25","Dosenthunfisch","Koper","SLO","TDC","Novo Mesto",null,"Larus",220,7107,18919,0]
[null,235,79,"2024-08-25","Arsen","Triest","IT","Terminal Container","Koper",null,"TDC",92,5628,18400,0]
[null,236,88,"2024-08-25","Klebebandrollen","Triest","IT","Terminal Container","Ljubljana",null,"AI Automotive",245,7003,18018,0]
[null,237,84,"2024-08-25","Dachziegel","Ljubiljana","SLO","Vilco","Klagenfurt a.W.",null,"Kathode",253,8333,20364,0]
[null,238,95,"2024-08-27","Essig","Maribor","SLO","Eumefa","Zagreb",null,"Fallow Cargo",214,3287,6954,660]
[null,239,96,"2024-08-27","Eiskaffee in Dosen","Zagreb","HR","Fallow Crago","Maribor",null,"Stokes",195,6705,21259,400]
[null,240,93,"2024-08-27","Mineralwasser","Graz","AT","FCP","Fünfkirchen(Pecs)",null,"Tradeaux",473,11619,23448,160]
[null,241,97,"2024-08-27","Granitblöcke","Maribor","SLO","Stokes","Rijeka",null,"IKA Bohag",60,3900,23000,0]
[null,242,94,"2024-08-27","Baumstämme","Fünfkirchen(Pecs)","HU","Tradeaux","Maribor",null,"Eumefa",286,9248,22740,0]
[null,243,100,"2024-08-28","Zement","Zagreb","HR","Fallow Crago","Rijeka",null,"Adrica",203,2878,17304,0]
[null,244,99,"2024-08-28","Alkoholfreies Bier","Osijek","HR","Shuttle Cola","Zagreb",null,"Fallow Cargo",255,6614,18128,360]
[null,245,98,"2024-08-28","Erbsen","Rijeka","HR","Stokes","Osijek",null,"Vilco",410,12483,18239,0]
[null,246,101,"2024-08-29","Computerprozessoren","Rijeka","HR","Adrica","Genf",null,"RTLog",1159,59729,3854,0]
[null,247,103,"2024-08-30","Gerüstmaterial","Saint Alban","FR","Nucleon","Genf",null,"Sellplan",264,9406,22126,0]
[null,248,102,"2024-08-30","Dachpappe","Genf","CH","RTLog","Saint Alban",null,"Nucleon",278,11526,19219,0]
[null,249,105,"2024-08-31","Lebende Schweine","Zürich","CH","EuroAcres","Bern",null,"RTLog",208,4019,6000,1600]
[null,250,109,"2024-08-31","Explosivstoffe","Bern","CH","EuroAcres","Turin",null,"EuroAcres",381,21549,12045,760]
[null,251,110,"2024-08-31","Ethan","Turin","IT","EuroAcres","Genf",null,"Chamery",309,17236,21760,0]
[null,252,106,"2024-08-31","Erdaushub","Bern","CH","RTLog","Zürich",null,"Steinbruch",261,4905,22100,0]
[null,253,104,"2024-08-31","Bremsflüssigkeit","Genf","CH","Sellplan","Zürich",null,"EuroAcres",341,8231,5316,400]
[null,254,108,"2024-08-31","Frischer Fisch","Mailand","IT","Spinelli","Bern",null,"EuroAcres",394,15455,18520,0]
[null,255,107,"2024-08-31","Acetylen","Zürich","CH","Steinbruch","Mailand",null,"Spinelli",358,17020,9600,0]
[null,256,1,"2024-09-01","Autos","Genf","CH","Chamery","Bern",null,"Chamery",151,9924,9010,0]
[null,257,2,"2024-09-01","Bauholz","Bern","CH","Chamery","Bern",null,"Tree-Et",226,85415,17520,1200]
[null,258,6,"2024-09-01","Arbeitskleidung","Genf","CH","EuroAcres","Bern",null,"SanBuilders",174,5947,16454,0]
[null,259,5,"2024-09-01","Chemikalien","Zürich","CH","NSOil","Genf",null,"EuroAcres",297,14338,18810,100]
[null,260,4,"2024-09-01","Getsteinsmehl","Strassburg","FR","Steinbruch","Zürich",null,"NSOil",227,4000,22100,400]
[null,261,7,"2024-09-01","Kies","Bern","CH","Steinbruch","Zürich",null,"RTLog",245,3361,21970,0]
[null,262,3,"2024-09-01","Baumstämme","Bern","CH","Tree-Et","Strassburg",null,"Steinbruch",413,8143,22740,0]
[null,263,9,"2024-09-04","Gabelstapler","Strassburg","FR","Kaarfor","Zürich",null,"Steinbruch",348,10517,11230,400]
[null,264,8,"2024-09-04","Dachziegel","Zürich","CH","RTLog","Strassburg",null,"Kaarfor",264,8624,20364,0]
[null,265,10,"2024-09-04","Gesteinsmehl","Zürich","CH","Steinbruch","Mailand",null,"Cargotras",456,22100,22100,360]
[null,266,11,"2024-09-05","Atlantisches Kabeljaufilet","Mailand","IT","Cargotras","München",null,"Kaarfor",563,21708,16450,160]
[null,267,14,"2024-09-06","Zement","Genf","CH","Chamery","Lyon",null,"Trameri",193,3366,21630,980]
[null,268,13,"2024-09-06","Autos","Bern","CH","SanBuilders","Genf",null,"Chamery",190,7181,9010,0]
[null,269,12,"2024-09-06","Klimanlagen","Zürich","CH","Stokes","Bern",null,"SanBuilders",175,9455,9010,0]
[null,270,15,"2024-09-06","Elektrische Leitungen","Lyon","FR","Trameri","Genf",null,"RTLog",170,5771,15358,0]
[null,271,16,"2024-09-07","Mozzarella","Bern","CH","RTLog","Mailand",null,"IKA Bohag",370,15234,20080,0]
[null,272,17,"2024-09-07","Kokosnussöl","Zürich","CH","Stokes","Beja",null,"Huerta del Mar Menor ",2348,79941,22199,0]
[null,273,18,"2024-09-08","Kerosin","Beja","PT","Huerta Del Mar","Oslo",null,"ContainerPort",3892,222657,23580,400]
[null,274,23,"2024-09-08","Leitplanken","Oslo","NO","IKA Bohag","Oslo",null,"MS Stein ",105,1158,22427,0]
[null,275,20,"2024-09-08","Magnesium","Oslo","NO","Konstnorr","Oslo",null,"Marina",42,967,8800,1060]
[null,276,21,"2024-09-08","Leere Weinflaschen","Oslo","NO","Marina","Oslo",null,"Sag&Tre",135,1327,13942,0]
[null,277,24,"2024-09-08","Speiseeis","Oslo","NO","MS Stein","Oslo",null,"Norford",107,1184,14101,0]
[null,278,25,"2024-09-08","Containerbäume","Oslo","NO","Norford","Oslo",null,"Polaris Lines",61,1118,4620,800]
[null,279,19,"2024-09-08","Styroporkisten","Oslo","NO","NSOil","Oslo",null,"Kostnorr",127,855,3122,800]
[null,280,22,"2024-09-08","Saftkonzentrat","Oslo","NO","Sag&Tre","Oslo",null,"IKA Bohag",116,1131,21789,0]
[null,281,28,"2024-09-10","Computerprozessoren","Bergen","NO","Drekkar Trans","Bergen",null,"GNT",26,1346,3854,0]
[null,282,29,"2024-09-10","Schwefelsäure","Bergen","NO","GNT","Bergen",null,"Nordic Crow",15,1230,14400,1000]
[null,283,30,"2024-09-10","Frischer Fisch","Bergen","NO","Nordic Crow","Bergen",null,"Polar Fish",1,1212,18520,0]
[null,284,31,"2024-09-10","Lebende Schweine","Bergen","NO","Polar Fish","Bergen",null,"Polaris Lines",17,931,6000,0]
[null,285,26,"2024-09-10","Gabelstapler","Oslo","NO","Polaris Lines","Bergen",null,"Polaris Lines",613,23555,11230,0]
[null,286,27,"2024-09-10","Kerosin","Bergen","NO","Polaris Lines","Bergen",null,"Drekkar Trans",19,1656,23580,0]
[null,287,32,"2024-09-10","Leere Weinflaschen","Bergen","NO","Polaris Lines","Stavanger",null,"Renar Logistic",447,20350,13942,0]
[null,288,42,"2024-09-11","Eiskaffee in Dosen","Kristiansand","NO","AgroNord","Kristiansand",null,"BHV",25,21000,979,0]
[null,289,43,"2024-09-11","Radlader","Kristiansand","NO","BHV","Kristiansand",null,"Bjork",21,15000,1167,0]
[null,290,44,"2024-09-11","Sardinen in Dosen","Kristiansand","NO","Bjork","Kristiansand",null,"GNT",25,18000,979,2180]
[null,291,45,"2024-09-11","Cyanid","Kristiansand","NO","GNT","Kristiansand",null,"NS Chemicals",4,14000,709,1420]
[null,292,34,"2024-09-11","Motor Öl","Stavanger","NO","IKA Bohag","Stavanger",null,"Nordic Crow",3,14000,637,360]
[null,293,39,"2024-09-11","Erdaushub","Stavanger","NO","MS Stein","Oslo",null,"MS Stein ",365,22000,3531,0]
[null,294,40,"2024-09-11","Steine","Oslo","NO","MS Stein","Kristiansand",null,"MS Stein ",284,23000,2404,960]
[null,295,41,"2024-09-11","Arbeitskleidung","Kristiansand","NO","MS Stein","Kristiansand",null,"AgroNord",25,16000,953,0]
[null,296,35,"2024-09-11","Kerosin","Satvanger","NO","Noric Crow","Stavanger",null,"NSOil",25,24000,1535,0]
[null,297,46,"2024-09-11","Desinfektionsmittel","Kristiansand","NO","NS Chemicals","Kristiansand",null,"Polaris Lines",2,17000,630,0]
[null,298,36,"2024-09-11","Frischer Fisch","Stavanger","NO","NSOil","Stavanger",null,"Polar Fish",25,19000,1001,160]
[null,299,37,"2024-09-11","Styroporkisten","Stavanger","NO","Polar Fish","Stavanger",null,"Polaris Lines",23,3000,907,0]
[null,300,38,"2024-09-11","Bagger","Stavanger","NO","Polaris Lines","Stavanger",null,"MS Stein ",25,22000,1273,0]
[null,301,47,"2024-09-11","Ziegelsteine","Kristiansand","NO","Polaris Lines","Stavanger",null,"Polaris Lines",175,20257,2924,0]
[null,302,48,"2024-09-11","Saatgut","Stavanger","NO","Polaris Lines","Oslo",null,"Polaris Lines",536,19000,8748,0]
[null,303,33,"2024-09-11","Gabelstapler","Stavanger","NO","Renar Logistik","Stavanger",null,"IKA Bohag",25,11000,1265,0]
[null,304,50,"2024-09-12","Motorkühler","Göteborg","SE","AgroNord","Oslo",null,"Marina",277,9877,9187,0]
[null,305,54,"2024-09-12","Topfpflanzen","Uppsala","SE","GNT","Uppsala",null,"Norrfood",2,1344,3620,0]
[null,306,53,"2024-09-12","Dieselgeneratoren","Uppsala","SE","IKA Bohag","Uppsala",null,"GNT",2,1481,21516,860]
[null,307,56,"2024-09-12","Chemisches Sorptionsmittel","Stockholm","SE","Marina","Stockholm",null,"NS Chemicals",66,1163,11883,0]
[null,308,55,"2024-09-12","Munition","Uppsala","SE","Norrfood","Stockholm",null,"Marina",70,4094,18810,600]
[null,309,49,"2024-09-12","Ziegelsteine","Oslo","NO","Polaris Lines","Göteborg",null,"AgroNord",328,20257,10218,0]
[null,310,52,"2024-09-12","Walze -DYNA CC-2200","Kapellskär","SE","Polaris Lines","Uppsala",null,"IKA Bohag",124,5903,8500,0]
[null,311,51,"2024-09-12","Kaviar","Oslo","NO","Renar Logistik","Kapellskär",null,"Polaris Lines",588,21347,14629,0]
[null,312,71,"2024-09-13","Topfpflanzen","Kalmar","SE","AgroNord","Kalmar",null,"Norrfood",15,1349,3620,0]
[null,313,60,"2024-09-13","Motorräder","Stockholm","SE","BHV","Stockholm",null,"NS Chemicals",42,1558,15048,0]
[null,314,75,"2024-09-13","Arsen","Växjö","SE","BHV","Växjö",null,"Bjork",92,1341,20010,0]
[null,315,81,"2024-09-13","Luftpost","Linköping","SE","BHV","Linköping",null,"Dekkar Trans",2,1274,10897,0]
[null,316,76,"2024-09-13","Baumstämme","Växjö","SE","Bjork","Växjö",null,"Drekkar Trans",117,1118,22740,0]
[null,317,77,"2024-09-13","Motorkühler","Växjö","SE","Drekkar Trans","Växjö",null,"Norrfood",2,1129,9877,0]
[null,318,82,"2024-09-13","Dosenschweinefleisch","Linköping","SE","Drekkar Trans","Linköping",null,"IKA Bohag",3,1169,22460,0]
[null,319,59,"2024-09-13","Vierkantrohre","Stockholm","SE","IKA Bohag","Stockholm",null,"BHV",16,904,12195,800]
[null,320,73,"2024-09-13","Heizöl","Kalmar","SE","IKA Bohag","Växjö",null,"Nordic Stenbrott",144,4682,25710,0]
[null,321,83,"2024-09-13","Yacht-Queen V39","Linköping","SE","IKA Bohag","Linköping",null,"Kostnorr",2,166,9900,400]
[null,322,58,"2024-09-13","Hüttenkäse","Stockholm","SE","Konstnorr","Stockholm",null,"IKA Bohag",14,1206,18751,400]
[null,323,84,"2024-09-13","Desinfektionsmittel","Linköping","SE","Konstnorr","Linköping",null,"Kostnorr",29,1183,16820,0]
[null,324,85,"2024-09-13","Weißer Phosphor","Linköping","SE","Konstnorr","Linköping",null,"Norrfood",30,1372,11310,0]
[null,325,69,"2024-09-13","Erdaushub","Kalmar","SE","Nordic Stenbrott","Kalmar",null,"NSOil",100,898,22100,0]
[null,326,74,"2024-09-13","Gabelstapler","Växjö","SE","Nordic Stenbrott","Växjö",null,"BHV",56,1361,11320,0]
[null,327,80,"2024-09-13","Kugelventile","Linköping","SE","Nordic Stenbrott","Linköping",null,"BHV",71,1242,22173,0]
[null,328,62,"2024-09-13","Erbsen","Stockholm","SE","Norrfood","Stockholm",null,"Norsken",12,1178,18239,0]
[null,329,72,"2024-09-13","Gabelstapler","Kalmar","SE","Norrfood","Kalmar",null,"IKA Bohag",8,1361,11230,0]
[null,330,78,"2024-09-13","Desinfektionsmittel","Växjö","SE","Norrfood","Växjö",null,"Renar Logistic",3,1183,16820,0]
[null,331,86,"2024-09-13","Fettversiegelte Lager","Linköping","SE","Norrfood","Linköping",null,"Sag&Tre",17,1200,21582,1560]
[null,332,63,"2024-09-13","Kleintransporter","Stockholm","SE","Norsken","Stockholm",null,"Scania",3,1447,8400,0]
[null,333,64,"2024-09-13","Digger 100","Stockholm","SE","Norsken","Nynäshamn",null,"Polaris Lines",31,2560,15400,0]
[null,334,57,"2024-09-13","Salz&Gewürze","Stockholm","SE","NS Chemicals","Stockholm",null,"Konstnorr",64,1022,12644,0]
[null,335,61,"2024-09-13","Bremsbeläge","Stockholm","SE","NS Chemicals","Stockholm",null,"Norrfood",49,1178,20810,0]
[null,336,70,"2024-09-13","Kerosin","Kalmar","SE","NSOil","Kalmar",null,"AgroNord",13,1665,23580,0]
[null,337,65,"2024-09-13","Motoröl","Nynäshamn","SE","Polaris Lines","Södertälje",null,"Scania Fabrik",44,1879,18754,0]
[null,338,79,"2024-09-13","Digger 100","Växjö","SE","Renar Logistik","Linköping",null,"Nordic Stenbrott",275,9867,15400,400]
[null,339,66,"2024-09-13","Scania - Zugmaschinen","Södertälje","SE","Scania Fabrik","Stockholm",null,"Scania Händler",37,5301,14590,0]
[null,340,68,"2024-09-13","Raupenbagger","Södertälje","SE","Scania Fabrik","Kalmar",null,"Nordic Stenbrott",355,12991,21720,0]
[null,341,67,"2024-09-13","Heizöl","Stockholm","SE","Scania Händler","Södertälje",null,"Scania Fabrik",33,2303,25710,0]
[null,342,114,"2024-09-14","Styroporkisten","Göteborg","SE","AgroNord","Jönköping",null,"Aria Food",106,2555,3122,0]
[null,343,100,"2024-09-14","Fettversiegelte Lager","Trelleborg","SE","Aria Food","Trelleborg",null,"Polaris Lines",18,1200,21582,1000]
[null,344,101,"2024-09-14","Kleintransporter","Trelleborg","SE","Aria Food","Jönköping",null,"Aria Food",440,12435,6150,460]
[null,345,102,"2024-09-14","Wasserfreies Amoniak","Jönköping","SE","Aria Food","Jönköping",null,"BHV",169,1562,22630,980]
[null,346,115,"2024-09-14","Klimanlagen","Jönköping","SE","Aria Food","Örebro",null,"IKA Bohag",203,8308,11000,280]
[null,347,87,"2024-09-14","Sojamilch","Linköping","SE","BHV","Västeras",null,"Norrfood",240,6243,23738,160]
[null,348,92,"2024-09-14","Erz","Örebro","SE","BHV","Örebro",null,"IKA Bohag",64,866,22200,0]
[null,349,95,"2024-09-14","Dachfenster","Örebro","SE","BHV","Karlskrona",null,"Polaris Lines",548,13473,11873,560]
[null,350,103,"2024-09-14","Schnittblumen","Jönköping","SE","BHV","Jönköping",null,"GNT",2,1236,1759,0]
[null,351,108,"2024-09-14","Sand","Göteborg","SE","BHV","Göteborg",null,"Norrsken",3,955,23072,1960]
[null,352,97,"2024-09-14","Altkunststoff","Karlskrona","SE","Drekkar Trans","Karlskrona",null,"Norrfood",3,979,7153,800]
[null,353,104,"2024-09-14","Honig","Jönköping","SE","GNT","Jönköping",null,"Nordic Stenbrott",77,1210,20242,2000]
[null,354,106,"2024-09-14","Sandwichpaneele","Jönköping","SE","GNT","Göteborg",null,"Sag&Tre",159,4809,12319,760]
[null,355,93,"2024-09-14","Motorradgabeln","Örebro","SE","IKA Bohag","Örebro",null,"Nordic Crow",59,1333,16959,0]
[null,356,89,"2024-09-14","Erdaushub","Västeras","SE","Konstnorr","Västeras",null,"Renar Logistic",4,901,22100,200]
[null,357,94,"2024-09-14","Arsen","Örebro","SE","Nordic Crow","Örebro",null,"Norrsken",3,1341,20010,0]
[null,358,105,"2024-09-14","Postpakete","Jönköping","SE","Nordic Stenbrott","Jönköping",null,"Norrfood",70,1315,11474,800]
[null,359,88,"2024-09-14","Explosivstoffe","Västeras","SE","Norrfood","Västeras",null,"Konstnorr",3,1478,12045,0]
[null,360,98,"2024-09-14","Gefrorener Seehecht","Karlskrona","SE","Norrfood","Karlskrona",null,"Norrsken",2,1190,17411,0]
[null,361,99,"2024-09-14","Pesto","Karlskrona","SE","Norrsken","Trelleborg",null,"Aria Food",177,6632,18926,0]
[null,362,109,"2024-09-14","Mamorblöcke","Göteborg","SE","Norrsken","Göteborg",null,"NSOil",102,1159,22500,0]
[null,363,113,"2024-09-14","Nylonschnurr","Göteborg","SE","Norrsken","Göteborg",null,"AgroNord",147,1144,23232,0]
[null,364,110,"2024-09-14","Kleintransporter","Göteborg","SE","NSOil","Göteborg",null,"Polar Fish",1,1453,8400,0]
[null,365,111,"2024-09-14","Baumstämme","Göteborg","SE","Polar Fish","Göteborg",null,"Polaris Lines",86,1118,22740,400]
[null,366,96,"2024-09-14","Getränke","Karlskrona","SE","Polaris Lines","Karlskrona",null,"Drekkar Trans",18,1245,23000,0]
[null,367,112,"2024-09-14","Arbeitskleidung","Göteborg","SE","Polaris Lines","Göteborg",null,"VPC",57,1142,16454,0]
[null,368,90,"2024-09-14","Autos","Västeras","SE","Renar Logistik","Södertälje",null,"Scania",181,7081,9010,400]
[null,369,107,"2024-09-14","Bremsflüssigkeit","Göteborg","SE","Sag&Tre","Göteborg",null,"BHV",244,1096,5848,0]
[null,370,91,"2024-09-14","Motorradgabeln","Södertälje","SE","Scania","Örebro",null,"BHV",172,6110,16959,0]
[null,371,119,"2024-09-15","Stickstoff","Växjö","SE","Bjork","Helsingborg",null,"GNT",163,7632,7830,400]
[null,372,123,"2024-09-15","Kautschuk","Malmö","SE","Drekkar Trans","Malmö",null,"IKA Bohag",30,1267,31730,400]
[null,373,120,"2024-09-15","Raupenbagger","Helsingborg","SE","GNT","Helsingborg",null,"Konstnorr",5,1372,21720,0]
[null,374,122,"2024-09-15","Erz","Helsingborg","SE","GNT","Malmö",null,"Drekkar Trans",116,1292,22200,0]
[null,375,116,"2024-09-15","Schutzkleidung","Örebro","SE","IKA Bohag","Jönköping",null,"Nordic Stenbrott",303,6773,20536,0]
[null,376,124,"2024-09-15","Natriumhypochlorit","Malmö","SE","IKA Bohag","Malmö",null,"Konstnorr",3,1429,18810,800]
[null,377,121,"2024-09-15","Olivenbäume","Helsingborg","SE","Konstnorr","Helsingborg",null,"Norrfood",2,1226,4620,0]
[null,378,125,"2024-09-15","Autos","Malmö","SE","Konstnorr","Malmö",null,"Norrsken",6,1537,9010,800]
[null,379,117,"2024-09-15","Steinwolle","Jönköping","SE","Nordic Stenbrott","Göteborg",null,"Norrsken",97,5034,5280,0]
[null,380,126,"2024-09-15","Granitblöcke","Malmö","SE","Norrsken","Malmö",null,"NS Chemicals",5,822,23000,0]
[null,381,127,"2024-09-15","Computerprozessoren","Trelleborg","SE","Polaris Lines","Södertälje",null,"Scania",574,21809,3854,0]
[null,382,118,"2024-09-15","Digger 100","Göteborg","SE","Sag&Tre","Växjö",null,"Bjork",209,9828,15400,0]
[null,383,128,"2024-09-15","Scania - Zugmaschinen","Södertälje","SE","Scania","Hirtshals",null,"Polaris Lines",514,29861,14590,0]
[null,384,136,"2024-09-16","Aluminiumprofile","Esbjerg","DK","AgroNord","Aalborg",null,"Polar Fish",250,8148,22400,0]
[null,385,131,"2024-09-16","Schutzkleidung","Aalborg","DK","Aria Food","Aalborg",null,"IKA Bohag",9,116817,20536,0]
[null,386,138,"2024-09-16","Ahornsirup","Esbjerg","DK","Aria Food","Aalborg",null,"Vitas Power",282,9423,17213,320]
[null,387,141,"2024-09-16","Blei","Odense","DK","BHV","Esbjerg",null,"Konstnorr",233,7650,18400,400]
[null,388,140,"2024-09-16","Benzin","Esbjerg","DK","Container  Port","Odense",null,"BHV",149,10908,21750,400]
[null,389,143,"2024-09-16","Acetylen","Odense","DK","Drekkar Trans","Esbjerg",null,"Marina",146,9456,9600,400]
[null,390,132,"2024-09-16","Äpfel","Aalborg","DK","IKA Bohag","Aalborg",null,"Nordic Crow",22,117399,20170,800]
[null,391,145,"2024-09-16","Topfpflanzen","Odense","DK","IKA Bohag","Esbjerg",null,"Polaris Lines",140,6265,3620,800]
[null,392,142,"2024-09-16","Gabelstapler","Esbjerg","DK","Konstnorr","Odense",null,"Drekkar Trans",258,9839,11230,0]
[null,393,144,"2024-09-16","Hüttenkäse","Esbjerg","DK","Marina","Odense",null,"Drekkar Trans",147,6781,18751,400]
[null,394,133,"2024-09-16","Atlantisches Kabeljaufilet","Aalborg","DK","Nordic Crow","Aalborg",null,"Norrsken",22,118562,16450,0]
[null,395,149,"2024-09-16","Arbeitskleidung","Odense","DK","Nordic Crow","Gedser",null,"Konstnorr",201,7868,16454,0]
[null,396,147,"2024-09-16","Alkoholfreies Bier","Odense","DK","Norrfood","Esbjerg",null,"Vitas Power",136,6584,22156,0]
[null,397,134,"2024-09-16","Autos","Aalborg","DK","Norrsken","Aalborg",null,"NSOil",62,169923,7350,0]
[null,398,135,"2024-09-16","Äpfel","Aalborg","DK","NSOil","Esbjerg",null,"AgroNord",262,8691,20170,0]
[null,399,137,"2024-09-16","Bohnen","Aalborg","DK","Polar Fish","Esbjerg",null,"Aria Food",249,8948,12358,0]
[null,400,129,"2024-09-16","Ahornsirup","Hirtshals","DK","Polaris Lines","Frederikshavn",null,"Polaris Lines",81,4119,17213,0]
[null,401,130,"2024-09-16","Nitrocellulose","Frederikshavn","DK","Polaris Lines","Aalborg",null,"Aria Food",125,6914,13600,400]
[null,402,146,"2024-09-16","Speiseeis","Esbjerg","DK","Polaris Lines","Odense",null,"Norrfood",169,4136,14101,0]
[null,403,139,"2024-09-16","Außenfliesen","Aalborg","DK","Vitas Power","Esbjerg",null,"ContainerPort",254,8034,16214,0]
[null,404,148,"2024-09-16","Äpfel","Esbjerg","DK","Vitas Power","Odense",null,"Nordic Crow",143,6564,20170,0]
[null,405,151,"2024-09-17","Ahornsirup","Kopenhagen","DK","BHV","Gedser",null,"Polaris Lines",126,5674,17213,200]
[null,406,154,"2024-09-17","Autos","Malmö","SE","Drekkar Trans","Kopenhagen",null,"Konstnorr",65,6084,7000,1840]
[null,407,156,"2024-09-17","Birnen","Malmö","SE","Drekkar Trans","Kopenhagen",null,"Norrfood",67,4243,15408,1200]
[null,408,153,"2024-09-17","Atlantisches Kabeljaufilet","Kopenhagen","DK","IKA Bohag","Malmö",null,"Drekkar Trans",77,4316,16450,0]
[null,409,150,"2024-09-17","Acetylen","Gedser","DK","Konstnorr","Kopenhagen",null,"BHV",113,3844,4800,0]
[null,410,155,"2024-09-17","Arbeitskleidung","Kopenhagen","DK","Konstnorr","Malmö",null,"Drekkar Trans",75,3895,16454,360]
[null,411,157,"2024-09-17","Karotten","Kopenhagen","DK","Norrfood","Malmö",null,"Drekkar Trans",78,3856,15378,400]
[null,412,158,"2024-09-17","Benzin","Malmö","SE","NS Chemicals","Kopenhagen",null,"Renar Logistic",67,6841,21750,0]
[null,413,152,"2024-09-17","Äpfel","Gedser","DK","Polaris Lines","Kopenhagen",null,"IKA Bohag",119,5734,20170,400]
[null,414,164,"2024-09-18","Lebendrind","Esbjerg","DK","Aria Food","Aalborg",null,"Aria Food",246,18846,21760,0]
[null,415,160,"2024-09-18","Leere Fässer","München","DE","BCP","Köln",null,"RTLog",569,17312,9227,0]
[null,416,167,"2024-09-18","Leere Paletten","Düsseldorf","DE","FCP","Erfurt",null,"Stokes",451,6961,11371,0]
[null,417,165,"2024-09-18","Topfpflanzen","Aalborg","DK","IKA Bohag","Kassel",null,"transinet",654,27426,3620,1160]
[null,418,169,"2024-09-18","Kunstoffgranulat","Frankfurt","DE","LKWLog","Duisburg",null,"LKWLog",291,4781,18200,200]
[null,419,159,"2024-09-18","Kerosin","Kopenhagen","DK","Renar Logistik","München",null,"BCP",872,59405,23580,0]
[null,420,161,"2024-09-18","Gesteinsmehl","Köln","DE","RTLog","Dortmund",null,"Steinbruch",156,2224,17000,0]
[null,421,162,"2024-09-18","Zement","Dortmund","DE","Steinbruch","Mannheim",null,"transinet",315,4666,17304,0]
[null,422,168,"2024-09-18","Saftkonzentrat","Erfurt","DE","Stokes","Frankfurt",null,"LKWLog",232,5114,19594,0]
[null,423,163,"2024-09-18","Lebende Schweine","Mannheim","DE","Transinet","Esbjerg",null,"Vitas Power",823,16094,6000,0]
[null,424,166,"2024-09-18","Reifen","Kassel","DE","Transinet","Düsseldorf",null,"FCP",190,6645,16286,760]
[null,425,176,"2024-09-19","Kunstoffgranulat","Frankfurt","DE","DomDepo","Mannheim",null,"Trameri",92,1886,18200,0]
[null,426,172,"2024-09-19","Lebende Schweine","Dresden","DE","EuroAcres","Berlin",null,"EuroAcres",222,4416,6000,1200]
[null,427,173,"2024-09-19","Tomaten","Berlin","DE","EuroAcres","Köln",null,"Sellplan",598,19137,14370,1340]
[null,428,170,"2024-09-19","Saftkonzentrat","Duisburg","DE","LKWLog","Rostock",null,"RTLog",608,13464,19594,0]
[null,429,175,"2024-09-19","Zement","Köln","DE","LKWLog","Frankfurt",null,"DomDepo",227,3461,17304,400]
[null,430,171,"2024-09-19","Lebende Schweine","Rostock","DE","RTLog","Dresden",null,"EuroAcres",462,8960,6000,400]
[null,431,179,"2024-09-19","Milch","Travemünde","DE","RTLog","Kiel",null,"LKWLog",77,3003,20060,0]
[null,432,174,"2024-09-19","Altkunststoff","Köln","DE","Sellplan","Köln",null,"LKWLog",12,765,9672,0]
[null,433,178,"2024-09-19","Medizinische Ausrüstung","Hannover","DE","Tradeaux","Travemünde",null,"RTLog",237,11660,5214,0]
[null,434,177,"2024-09-19","Altverpackungen","Mannheim","DE","Trameri","Hannover",null,"Tradeaux",400,10240,18411,0]
[null,435,165,"2024-09-20","Schwefelsäure","Bremen","DE","Container  Port","Nürnberg",null,"RTLog",711,14400,25579,0]
[null,436,164,"2024-09-20","Helicopter -1808TX","Kiel","DE","LKWLog","Bremen",null,"ContainerPort",294,15721,3500,0]
[null,437,166,"2024-09-20","Chlor","Nürnberg","DE","RTLog","Zürich",null,"RTLog",433,20667,18744,400]
[null,438,167,"2024-09-20","Digger 1000 ","Zürich","CH","RTLog","München",null,"WGCC",370,19451,15400,0]
[null,439,168,"2024-09-20","Blei","München","DE","WGCC","Hamburg",null,"RTLog",738,15137,9200,0]
[null,440,171,"2024-09-22","Olivenöl","Mannheim","DE","EuroGoodies","Leipzig",null,"EuroGoodies",500,13322,19320,0]
[null,441,172,"2024-09-22","Mozzarella","Leipzig","DE","EuroGoodies","Kiel",null,"Polaris Lines",535,15975,17646,400]
[null,442,169,"2024-09-22","Fischstäbchen","Hamburg","DE","RTLog","Frankfurt",null,"transinet",460,15775,17160,0]
[null,443,170,"2024-09-22","Tranformator - PK900","Frankfurt","DE","Transinet","Mannheim",null,"transinet",107,5469,47850,0]
[null,444,176,"2024-09-23","Lebende Schweine","Osnabrück","DE","EuroAcres","Berlin",null,"EuroAcres",392,7546,6000,0]
[null,445,174,"2024-09-23","Blumenkohl","Kassel","DE","EuroGoodies","Erfurt",null,"Sellplan",182,6096,9580,160]
[null,446,177,"2024-09-23","Wärmetauscher","Berlin","DE","NBFC","Stettin",null,"ITCC",191,14265,70000,0]
[null,447,173,"2024-09-23","Industriekabeltrommel","Kiel","DE","Ocean Solution","Kassel",null,"Tradeaux",400,11331,34520,0]
[null,448,175,"2024-09-23","Sand","Erfurt","DE","Steinbruch","Osnabrück",null,"ITCC",342,5835,18746,0]
[null,449,178,"2024-09-23","Zement","Stettin","PL","Transinet","Berlin",null,"SanBuilders",190,3009,17304,360]
[null,450,179,"2024-09-24","Frische Kräuter","Berlin","DE","EuroAcres","Dresden",null,"Sellplan",204,6501,5650,0]
[null,451,180,"2024-09-24","Computerprozessoren","Dresden","DE","Transinet","Hamburg",null,"DFH",543,22160,3854,0]
[null,452,181,"2024-09-24","LPG","Hamburg","DE","NSOil","Hannover",null,"FCP",163,6628,19250,0]
[null,453,182,"2024-09-24","Klimanlagen","Hannover","DE","AI  Automotive","Rostock",null,"granoro",437,18451,11000,0]
[null,454,183,"2024-09-25","Saftkonzentrat","Rostock","DE","DFH","Bremen",null,"DFH",360,8310,19594,0]
[null,455,184,"2024-09-25","Großes Silo","Bremen","DE","EuroAcres","Travemünde",null,"Polaris Lines",230,15274,40000,0]
[null,456,185,"2024-09-25","Industriekabeltrommel","Travemünde","DE","RTLog","Stettin",null,"ITCC",371,10941,34520,400]
[null,457,186,"2024-09-25","Elektronik","Stettin","PL","Transinet","Berlin",null,"BCP",176,7530,8194,0]
[null,458,187,"2024-09-25","Schinken","Berlin","DE","EuroGoodies","Magdeburg",null,"Kaarfor",156,4738,16101,0]
[null,459,188,"2024-09-25","Lebende Schweine","Magdeburg","DE","EuroAcres","Bremen",null,"EuroAcres",219,4438,6000,0]
[null,460,189,"2024-10-13","Altkunststoff","Bermen","DE","AI  Automotive","Duisburg",null,"ContainerPort",259,1000,9672,0]
[null,461,190,"2024-10-13","Zement","Duisburg","DE","ITCC","Nürnberg",null,"LKWLog",458,2000,17304,0]
[null,462,1,"2024-10-13","Mobilkran","Nürnberg","DE","SanBuilders","Nürnberg",null,"CNP",2,1061,18700,0]
[null,463,2,"2024-10-13","Gesteinsmehl","Nürnberg","DE","RTLog","Frankfurt",null,"SanBuilders",259,2805,18700,0]
[null,464,3,"2024-10-13","LPG","Frankfurt","DE","NSOil","Köln",null,"SanBuilders",205,4760,10600,0]
[null,465,4,"2024-10-13","High-Tech-Gerät","Köln","DE","ITCC","Amsterdam",null,"Kaarfor",349,23132,45000,0]
[null,466,5,"2024-10-15","Altkunststoff","Amsterdam","NL","Kaarfor","Osnabrück",null,"LKWLog",195,4866,7868,160]
[null,467,6,"2024-10-15","Gerste","Osnabrück","DE","EuroAcres","Köln",null,"EuroGoodies",261,5171,18000,360]
[null,468,7,"2024-10-15","Altkunststoff","Amsterdam","NL","Kaarfor","Düsseldorf",null,"Tradeaux",202,2619,3576,0]
[null,469,8,"2024-10-17","Bewehrungsstahl","Duisburg","DE","CNP","Dortmund",null,"SanBuilders",74,3722,24380,0]
[null,470,9,"2024-10-17","Bagger","Dortmund","DE","ITCC","Magdeburg",null,"Steinbruch",345,18154,23780,400]
[null,471,10,"2024-10-18","Bauholz","Magdeburg","DE","Granoro","Stuttgart",null,"Steinbruch",646,18361,17520,0]
[null,472,11,"2024-10-18","Gerüstmaterial","Stuttgart","DE","SanBuilders","Strassburg",null,"WGCC",198,7533,21546,0]
[null,473,12,"2024-10-18","Äpfel","Strassburg","FR","PoSped","Frankfurt",null,"FLE",570,9215,18336,360]
[null,474,13,"2024-10-18","Büropapier","Frankfurt","DE","IKA Bohag","Stuttgart",null,"FLE",260,9484,18229,0]
[null,475,14,"2024-10-18","Atlantisches Kabeljaufilet","Stuttgart","DE","FLE","Düsseldorf",null,"EuroGoodies",504,17654,16450,1600]
[null,476,15,"2024-10-18","Baumstämme","Düsseldorf","DE","FLE","Travemünde",null,"EuroAcres",561,16206,22740,0]
[null,477,16,"2024-10-19","Aluminiumprofile","Rostock","DE","Marina","Nürnberg",null,"Sellplan",673,20378,22400,0]
[null,478,17,"2024-10-19","Autos","Nürnberg","DE","AI  Automotive","Zürich",null,"Kathode",428,24239,7000,400]
[null,479,18,"2024-10-19","Gebrauchte Autobatterien","Zürich","CH","Kathode","Nürnberg",null,"DFH",449,16241,17229,400]
[null,480,19,"2024-10-21","Bremsflüssigkeit","Nürnberg","DE","Tree-Et","Rostock",null,"Vitas Power",671,20513,5848,0]
[null,481,20,"2024-10-21","Dachpappe","Rostock","DE","Vitas Power","Magdeburg",null,"Vitas Power",329,13035,19219,0]
[null,482,21,"2024-10-21","Lebendrind","Magdeburg","DE","LKWLog","Dortmund",null,"EuroGoodies",356,27514,21760,0]
[null,483,22,"2024-10-21","Lüftungsschacht","Dortmund","DE","IKA Bohag","Bremen",null,"Shuttle Cola",276,11277,4830,0]
[null,484,23,"2024-10-22","Chlor","Bremen","DE","Container  Port","Hannover",null,"Hannover Expo",295,11976,16800,0]
[null,485,24,"2024-10-22","Sand","Hannover","DE","Steinbruch","Kassel",null,"AI Automotive",146,3982,21630,0]
[null,486,25,"2024-10-22","Getränke","Kassel","DE","Kaarfor","Hannover",null,"SanBuilders",161,7231,22100,700]
[null,487,26,"2024-10-22","Mettalschrott","Hannover","DE","Tradeaux","Düsseldorf",null,"Kathode",306,4125,21200,0]
[null,488,27,"2024-10-22","Dosenschweinefleisch","Düsseldorf","DE","ITCC","Erfurt",null,"EuroAcres",463,15459,21099,0]
[null,489,28,"2024-10-22","Marmorblöcke","Erfurt","DE","EuroAcres","Kiel",null,"Kaarfor",473,17164,22500,800]
[null,490,29,"2024-10-23","Kaviar","Kiel","DE","IKA Bohag","Hamburg",null,"ContainerPort",120,6012,14629,0]
[null,491,30,"2024-10-23","Bauholz","Hamburg","DE","Container  Port","Leipzig",null,"FCP",434,12685,17520,800]
[null,492,31,"2024-10-23","Weißer Phosphor","Leipzig","DE","Tree-Et","Osnabrück",null,"ITCC",590,10249,5200,0]
[null,493,32,"2024-10-23","Acetylen","Osnabrück","DE","ITCC","Osnabrück",null,"ITCC",7,164774,10440,0]
[null,494,33,"2024-10-26","Arbeitskleidung","Graz","AT","FCP","München",null,"EuroGoodies",463,14789,16454,400]
[null,495,34,"2024-10-26","Verpackte Lebensmittel","München","DE","EuroGoodies","Breslau(Wroclaw)",null,"EuroGoodies",570,22761,17365,0]
[null,496,35,"2024-10-26","Halloween Treats","Breslau(Wroclaw)","PL","EuroGoodies","Lodoz",null,"LKWLog",222,11214,19084,0]
[null,497,36,"2024-10-27","Halloween Treats","München","DE","EuroGoodies","Nürnberg",null,"Tree-Et",236,11936,19084,0]
[null,498,37,"2024-10-27","Halloween Treats","Nürnberg","DE","Tree-Et","Mannheim",null,"EuroGoodies",225,11596,19084,0]
[null,499,38,"2024-10-27","Halloween Treats","Mannheim","DE","EuroGoodies","Metz",null,"EuroGoodies",240,12764,19084,0]
[null,500,39,"2024-10-27","Halloween Treats","Metz","FR","EuroGoodies","Mannheim",null,"EuroGoodies",249,12618,19084,0]
[null,501,40,"2024-10-27","Halloween Treats","Mannheim","DE","EuroGoodies","Stuttgart",null,"Stokes",227,11450,19084,0]
[null,502,41,"2024-10-27","Halloween Treats","Stuttgart","DE","Stokes","Duisburg",null,"DFH",519,24804,19084,400]
[null,503,42,"2024-10-28","Halloween Treats","Dortmund","DE","EuroGoodies","Frankfurt",null,"transinet",233,11888,19084,160]
[null,504,43,"2024-10-28","Halloween Treats","Frankfurt","DE","LKWLog","Köln",null,"RTLog",233,11838,19084,400]
[null,505,44,"2024-10-28","Halloween Treats","Köln","DE","RTLog","Kassel",null,"Tradeaux",302,15607,19084,0]
[null,506,45,"2024-10-28","Halloween Treats","Kassel","DE","Kaarfor","Leipzig",null,"EuroGoodies",239,12130,19084,0]
[null,507,46,"2024-10-28","Halloween Treats","Leipzig","DE","Tree-Et","Nürnberg",null,"Tree-Et",331,15956,19084,0]
[null,508,47,"2024-10-28","Halloween Treats","Nürnberg","DE","Tree-Et","München",null,"EuroGoodies",242,12278,19084,0]
[null,509,48,"2024-10-29","Frischer Fisch","Jönköping","SE","Aria Food","Warschau",null,"PoSped",1243,25881,18520,0]
[null,510,49,"2024-10-30","Gas-Pipline-Teile","Warschau","PL","PoSped","Warschau",null,"SanBuilders",5,1358,21800,0]
[null,511,50,"2024-10-30","Dosenschweinefleisch","Warschau","PL","SanBuilders","Warschau",null,"Stokes",3,1215,22460,0]
[null,512,51,"2024-10-30","Explosivstoffe","Warschau","PL","Stokes","Warschau",null,"Trameri",6,1539,12045,0]
[null,513,52,"2024-10-30","Windkraftwerksturm","Warschau","PL","Trameri","Danzig",null,"BCP",309,8007,9810,0]
[null,514,53,"2024-10-30","Kies","Danzig","PL","BCP","Danzig",null,"EuroAcres",44,914,21970,0]
[null,515,54,"2024-10-30","Limonade","Danzig","PL","EuroAcres","Danzig",null,"LKWLog",80,1185,21816,0]
[null,516,55,"2024-10-30","Milchpulver","Danzig","PL","LKWLog","Danzig",null,"SanBuilders",4,1242,18602,0]
[null,517,56,"2024-10-30","Chemisches Sorptionsmittel","Danzig","PL","SanBuilders","Danzig",null,"WGCC",3,1134,9627,0]
[null,518,57,"2024-10-30","Frischer Fisch","Danzig","PL","WGCC","Stettin",null,"EuroGoodies",398,12496,18520,0]
[null,519,58,"2024-10-30","Pumpen","Stettin","PL","EuroGoodies","Kalingrad",null,"Pocmapk",503,19403,14467,360]
[null,520,59,"2024-10-30","Reis","Kalingrad","RU","Pocmapk","Danzig",null,"EuroAcres",133,5439,18747,0]
[null,521,60,"2024-10-31","Schwefelsäure","Danzig","PL","WGCC","Allenstein",null,"EuroGoodies",166,4979,14400,560]
[null,522,61,"2024-10-31","Oliven","Allenstein","PL","EuroGoodies","Allenstein",null,"FCP",3,1251,18312,0]
[null,523,62,"2024-10-31","Fertighauswände","Allenstein","PL","FCP","Allenstein",null,"Sellplan",2,1201,20999,0]
[null,524,63,"2024-10-31","Abgassysteme","Allenstein","PL","Sellplan","Allenstein",null,"Tradeaux",3,1151,7506,0]
[null,525,64,"2024-10-31","Hüttenkäse","Allenstein","PL","Tradeaux","Allenstein",null,"Tree-Et",9,1267,18751,0]
[null,526,65,"2024-10-31","Autos","Allenstein","PL","Tree-Et","Bialystok",null,"EuroAcres",305,14660,10400,960]
[null,527,66,"2024-10-31","Leberwurst","Bialystok","PL","EuroAcres","Bialystok",null,"ITCC",14,1226,17411,0]
[null,528,67,"2024-10-31","Dachziegel","Bialystok","PL","ITCC","Bialystok",null,"transinet",3,1239,20364,0]
[null,529,68,"2024-10-31","Kieselsäure","Bialystok","PL","Transinet","Bialystok",null,"Tree-Et",19,1240,19114,0]
[null,530,69,"2024-10-31","Öl","Bialystok","PL","Transinet","Lublin",null,"EuroGoodies",231,9962,23100,0]
[null,531,70,"2024-10-31","Autos","Lublin","PL","EuroGoodies","Lublin",null,"Kaarfor",3,1510,6160,0]
[null,532,71,"2024-10-31","Kokosnussöl","Lublin","PL","Kaarfor","Lublin",null,"LKWLog",2,1206,21483,0]
[null,533,72,"2024-10-31","Tomaten","Lublin","PL","LKWLog","Lublin",null,"PoSped",2,1255,18239,0]
[null,534,73,"2024-10-31","Klebebandrollen","Lublin","PL","LKWLog","Kaschau",null,"BCP",320,7481,11357,360]
[null,535,74,"2024-10-31","Ahornsirup","Kaschau (Kosice)","SK","BCP","Krakau",null,"EuroAcres",338,10941,17213,0]
[null,536,1,"2024-11-01","Baggerschaufel","Krakau","PL","Tradeaux","Banská Bystrica",null,"Stokes",207,12773,25000,300]
[null,537,2,"2024-11-01","Halloween Treats","Banská Bystrica","SK","Tree-Et","Kattowitz",null,"PoSped",230,11542,19084,0]
[null,538,3,"2024-11-01","High-Tech-Gerät","Krakau","PL","Tradeaux","Banská Bystrica",null,"Stokes",207,14514,45000,800]
[null,539,4,"2024-11-01","Baggerschaufel","München","DE","WGCC","Salzburg",null,"Tree-Et",247,15387,25000,0]
[null,540,5,"2024-11-01","Schweres technisches Teil","Berlin","DE","NBFC","Stettin",null,"ITCC",189,14348,44000,0]
[null,541,6,"2024-11-02","Druckbehälter","Stettin","PL","ITCC","Krakau",null,"SanBuilders",589,31038,12380,0]
[null,542,7,"2024-11-02","Vierkantrohre","Krakau","PL","SanBuilders","Krakau",null,"Trameri",1,938,12195,0]
[null,543,8,"2024-11-02","Schutzkleidung","Krakau","PL","Tradeaux","Kattowitz",null,"Steinbruch",109,2886,20536,960]
[null,544,9,"2024-11-02","Kaminsysteme","Kattowitz","PL","Steinbruch","Kattowitz",null,"Stokes",40,1269,18450,0]
[null,545,10,"2024-11-02","Motorradgabeln","Kattowitz","PL","Stokes","Kattowitz",null,"Tree-Et",3,1407,16989,0]
[null,546,11,"2024-11-02","Erz","Kattowitz","PL","PoSped","Lodoz",null,"EuroGoodies",154,2828,22200,0]
[null,547,12,"2024-11-02","Dachfenster","Lodoz","PL","EuroGoodies","Lodoz",null,"LKWLog",2,1186,11873,0]
[null,548,13,"2024-11-02","Ziegelsteine","Lodoz","PL","LKWLog","Lodoz",null,"PoSped",1,1161,20257,0]
[null,549,14,"2024-11-02","Mettalschrott","Lodoz","PL","PoSped","Lodoz",null,"Sellplan",3,844,26500,0]
[null,550,15,"2024-11-03","Kerosin","Lodoz","PL","EuroGoodies","Lissabon",null,"TSAtlas",3218,227910,23580,0]
[null,551,16,"2024-11-03","Leere Fässer","Lissabon","PT","Ortiz","Wien",null,"NSOil",3015,102883,9227,0]
[null,552,17,"2024-11-03","Lebendrind","Wien","AT","EuroAcres","Breslau(Wroclaw)",null,"EuroAcres",403,22534,21760,0]
[null,553,18,"2024-11-03","Eiskaffee in Dosen","Breslau(Wroclaw)","PL","EuroAcres","Breslau(Wroclaw)",null,"Trameri",59,1247,21259,0]
[null,554,19,"2024-11-03","Orangenb","Breslau(Wroclaw)","PL","EuroGoodies","Breslau(Wroclaw)",null,"Steinbruch",73,1247,20312,360]
[null,555,20,"2024-11-04","Leere Fässer","Krakau","PL","Trameri","Posen",null,"Stokes",344,12444,9227,2300]
[null,556,21,"2024-11-05","Autos","Posen","PL","FCP","Posen",null,"Kaarfor",1,190646,9010,0]
[null,557,22,"2024-11-05","Planierraupe - Z35K","Posen","PL","Kaarfor","Posen",null,"Tree-Et",24,1705,39010,0]
[null,558,23,"2024-11-08","Raupenbagger Volvo EC220E","Graz","AT","Steinbruch","Mailand",null,"Cargotras",683,31565,20470,0]
[null,559,24,"2024-11-08","Halloween Treats","Mailand","IT","Spinelli","Parma",null,"TE Logistica",204,12893,23089,0]
[null,560,25,"2024-11-08","Sojamilch","Parma","IT","TE Logistica","Bologna",null,"Exomar",166,6077,23738,0]
[null,561,26,"2024-11-08","Erdbauwalze Volvo SD160B","Bologna","IT","Exomar","Rom",null,"Transporti  Mediterrano",436,18819,16691,0]
[null,562,27,"2024-11-09","Atlantisches Kabeljaufilet","Rom","IT","AA-Auto di Alonso","Mailand",null,"ACI SRL",542,22052,16451,800]
[null,563,28,"2024-11-09","Eisenrohre","Mailand","IT","ACI SRL","Turin",null,"EuroAcres",185,7058,24380,0]
[null,564,29,"2024-11-09","Aluminiumbarren","Turin","IT","EuroAcres","Mailand",null,"Cargotras",185,5722,17493,360]
[null,565,30,"2024-11-09","Autos","Mailand","IT","Cargotras","Turin",null,"FCP",201,9755,7860,360]
[null,566,31,"2024-11-09","Semi-Tiefbett-Auflieger","Turin","IT","FCP","Mailand",null,"Cesare Supermercato",150,8213,17600,0]
[null,567,32,"2024-11-09","Weintrauben","Mailand","IT","Cesare Supermercato","Turin",null,"Sellplan",179,7200,14619,4180]
[null,568,33,"2024-11-09","Autos","Turin","IT","Sellplan","Mailand",null,"IKA Bohag",192,10864,7350,0]
[null,569,34,"2024-11-09","Kokosnussmilch","Mailand","IT","IKA Bohag","Turin",null,"transinet",177,7266,23790,0]
[null,570,35,"2024-11-09","Kleintransporter","Turin","IT","Transinet","Mailand",null,"Libellula",170,10444,8400,0]
[null,571,36,"2024-11-09","Bremsbeläge","Mailand","IT","Libellula","Turin",null,"EuroAcres",107,7135,20810,400]
[null,572,37,"2024-11-09","Rollrasen","Turin","IT","EuroAcres","Mailand",null,"Scania ",183,7086,15299,0]
[null,573,38,"2024-11-10","Knickgelenk-Dumper Volvo A25G","Mailand","IT","Tesoro Gustoso","St.Petersburg",null,"Finnische Reifen Финские шины ",2746,130914,25000,1600]
[null,574,39,"2024-11-10","Asphaltfräse - AM0880","St.Petersburg","RU","Finnische Reifen Финские шины ","Faro",null,"APP ",4696,258195,44050,400]
[null,575,40,"2024-11-10","Helicopter -1808TX","Faro","PT","APP","Sassari",null,"Cargotras",1253,122308,3500,400]
[null,576,41,"2024-11-12","Baggerlader JCB 4CX","Sassari","IT","Cargotras","Olbia",null,"Marina",153,6406,8380,400]
[null,577,42,"2024-11-12","Minibagger,Minidumper","Olbia","IT","Marina","Cagliari",null,"Marina",347,4870,4800,0]
[null,578,43,"2024-11-12","Industriekondensator","Cagliari","IT","Eolo Lines","Olbia",null,"PP Chimica Italia",185,14537,60000,0]
[null,579,44,"2024-11-13","Bohnen","Olbia","IT","PP Chimical Italia","Sassari",null,"Cesare Supermercato",140,3537,12359,0]
[null,580,45,"2024-11-13","Dosenrindfleisch","Sassari","IT","Cesare Supermercato","Olbia",null,"Cantiere Navale",101,3659,22110,0]
[null,581,46,"2024-11-13","Gebrauchte Autobatterien","Olbia","IT","Cantiere Navale","Cagliari",null,"AA - Auto di Alonso",245,8880,17229,0]
[null,582,47,"2024-11-13","Windkraftwerksturm","Cagliari","IT","AA-Auto di Alonso","Sassari",null,"Construzione di Edfici",207,5942,9810,0]
[null,583,48,"2024-11-15","Stickstoff","Sassari","IT","Cargotras","Sassari",null,"Cesare Supermercato",2,1610,7830,0]
[null,584,49,"2024-11-15","Mineralwasser","Sassari","IT","Cesare Supermercato","Sassari",null,"Construzione di Edfici",4,1149,21792,400]
[null,585,50,"2024-11-15","Dieselgeneratoren","Sassari","IT","Construzione di Edfici","Sassari",null,"Eolo Lines",35,1591,21519,400]
[null,586,51,"2024-11-15","Baumstämme","Sassari","IT","Eolo Lines","Sassari",null,"Marmo SpA",65,1189,22740,0]
[null,587,52,"2024-11-15","Kettenbagger JCB 245XR","Sassari","IT","Marmo SpA","Sassari",null,"S.A.L.S.R.L",54,1773,28000,0]
[null,588,53,"2024-11-15","Rindfleisch","Sassari","IT","S.A.L.S.A.R","Sassari",null,"TE Logistica",77,1235,21622,0]
[null,589,54,"2024-11-15","Halloween Treats","Sassari","IT","S.A.L.S.A.R","Ancona",null,"Marina",695,47979,23089,0]
[null,590,55,"2024-11-16","Nutzfahrzeug-Chassis","Dortmund","DE","Steinbruch","Hannover",null,"Steinbruch",293,21280,55000,0]
[null,591,56,"2024-11-17","Umschlagbagger Volvo EW240E MH","Hannover","DE","Steinbruch","Rom",null,"Exomar",1538,69093,26000,400]
[null,592,57,"2024-11-18","Betonträger","Rom","IT","Transporti Mediterrano","Pescara",null,"Cargotras",225,8590,51030,0]
[null,593,58,"2024-11-18","Räder mit Volvo-Felgen","Pescara","IT","Cargotras","Rom",null,"Transporti  Mediterrano",241,6739,10000,0]
[null,594,59,"2024-11-18","Postpakete","Rom","IT","ACI SRL","Livorno",null,"Cargotras",327,14458,11474,0]
[null,595,60,"2024-11-18","Baggerlader JCB 4CX","Livorno","IT","S.A.L.S.A.R","Rom",null,"Transporti  Mediterrano",341,9440,8380,0]
[null,596,61,"2024-11-19","Topfpflanzen","Rom","IT","IKA Bohag","Cagliari",null,"Eolo Lines",274,13403,3620,0]
[null,597,62,"2024-11-19","Windkrftwerksgondel","Cagliari","IT","ACI SRL","Cagliari",null,"Construzione di Edfici",99,1569,21300,0]
[null,598,63,"2024-11-19","Zucker","Cagliari","IT","TE Logistica","Cagliari",null,"Transporti  Mediterrano",27,1278,22371,0]
[null,599,null,"2024-11-19","Holzbalken","Cagliari","IT","Construzione di Edfici","Cagliari",null,"TE Logistica",20,1115,22000,0]
[null,600,64,"2024-11-19","Fertigtreppen Beton","Cagliari","IT","Transporti Mediterrano","Olbia",null,"Cargotras",279,88,22239,800]
[null,601,65,"2024-11-20","Schokolade","Olbia","IT","Cargotras","Olbia",null,"Exomar",4,1269,23120,0]
[null,602,66,"2024-11-20","Computerprozessoren","Olbia","IT","Exomar","Olbia",null,"FUI Spa",78,1431,3854,0]
[null,603,67,"2024-11-20","Getränke","Olbia","IT","FUI SpA","Olbia",null,"Marmo SpA",68,955,10694,0]
[null,604,68,"2024-11-20","Diesel","Olbia","IT","Marmo SpA","Olbia",null,"PP Chimica Italia",105,1821,25500,0]
[null,605,69,"2024-11-20","Asphaltfräse - AM0880","Olbia","IT","ACI SRL","Triest",null,"Terminal Container",1071,92630,44050,400]
[null,606,70,"2024-11-25","Betonträger","Triest","IT","Terminal Container","Venedig",null,"LKWLog",308,23760,102060,0]
[null,607,71,"2024-11-25","Industriekabeltrommel","Venedig","IT","LKWLog","Bologna",null,"PP Chimica Italia",124,4198,34520,0]
[null,608,72,"2024-11-25","LPG","Bologna","IT","PP Chimical Italia","Livorno",null,"CNP",248,12473,22000,0]
[null,609,73,"2024-11-25","Knickgelenk-Dumper Volvo A25G","Livorno","IT","CNP","Genua",null,"Construzione di Edfici",247,10731,25000,360]
[null,610,74,"2024-11-26","Gas-Pipline-Teile","Genua","IT","ACI SRL","Turin",null,"transinet",154,9131,21800,0]
[null,611,75,"2024-11-26","Asphaltfräse - AM0880","Turin","IT","Transinet","Genua","IT","Terminal Container",173,11187,44050,800]
[null,612,76,"2024-11-26","Lokomotive - Vossloh G6","Genua","IT","Transporti Mediterrano","Turin","IT","Sellplan",153,11886,61750,400]
[null,613,77,"2024-11-26","Mobilkran - UTM SD-833","Turin","IT","Sellplan","Genua","IT","Marina",172,11366,36150,0]
[null,614,78,"2024-11-26","Planierraupe - Z35K","Genua","IT","Transporti Mediterrano","Nizza","FR","MVM Carriere",205,14575,39010,400]
[null,615,79,"2024-11-26","Tranformator - PK900","Nizza","FR","MVM Carriere","Turin","IT","Sellplan",257,16441,47850,0]
[null,616,80,"2024-11-27","Industriekabeltrommel","Turin","IT","Sellplan","Nizza","FR","BHV",260,8530,34520,800]
[null,617,81,"2024-11-27","Industriekabeltrommel","Nizza","FR","BHV","Genua","IT","ACI SRL",193,6379,34520,400]
[null,618,82,"2024-11-27","Lokomotive - Vossloh G6","Genua","IT","Transporti Mediterrano","Livorno","IT","Terminal Container",233,10865,61750,0]
[null,619,83,"2024-11-27","Asphaltfräse - AM0880","Livorno","IT","CNP","Livorno","IT","Libellula",42,1591,44050,0]
[null,620,84,"2024-11-27","Betonträger","Livorno","IT","Libellula","Livorno","IT","Marmo SpA",126,1223,51030,0]
[null,621,85,"2024-11-27","Marmorblöcke","Livorno","IT","Marmo SpA","Parma","IT","INI Tankstelle",251,7747,22500,0]
[null,622,86,"2024-11-29","Knickgelenk-Dumper Volvo A25G","Parma","IT","PIAC","Paris","FR","Bätisse",1092,56544,25000,0]
[null,623,87,"2024-11-29","Betonträger","Paris","FR","Bätisse","Strassburg","FR","Kaarfor",473,16826,51030,0]
[null,624,88,"2024-11-29","Planierraupe - Z35K","Strassburg","FR","Kaarfor","München","DE","BCP",328,19765,39010,0]
[null,625,89,"2024-11-29","Industriekabeltrommel","München","DE","Kaarfor","Wien","AT","CNP",404,13300,34520,0]
[null,626,90,"2024-11-29","Lokomotive - Vossloh G6","Wien","AT","CNP","Budapest","HU","Tradeaux",298,16564,61750,200]
[null,627,91,"2024-11-29","Lehrgerüst","Budapest","HU","Tradeaux","Bukarest","RO","Brawen",833,33970,28200,5420]
[null,628,92,"2002-11-30","Kunststoffrohre","Bukarest","RO","Brawen","Istanbul","TR","Baltrak Lojistik",605,13385,12380,0]
[null,629,93,"2002-11-30","Fertighauswände","Istanbul","TR","Fallow Crago"," Burgas (Бургас)","BG","CNP",379,10298,19193,0]
[null,630,94,"2002-11-30","Frische Kräuter"," Burgas (Бургас)","BG","Radus (Радус)"," Varna ( Варна)","BG","Ocean Solution",85,5161,5650,400]
[null,631,95,"2002-11-30","Motorroller"," Varna ( Варна)","BG","Ocean Solution","Mangalia","RO","Ocean Solution",61,3745,9979,0]
[null,632,96,"2002-11-30","Gerüstmaterial","Mangalia","RO","Ocean Solution","Konstanza","RO","CNP",104,1793,21456,0]
[null,633,97,"2002-11-30","Steine","Konstanza","RO","Kaarfor","Mangalia","RO","Ocean Solution",49,2034,23100,0]
[null,634,1,"2024-12-01","Traktor JCB Fastrac 420","Mangalia","RO","Ocean Solution","Istanbul","TR","FLE",528,24288,13400,400]
[null,635,2,"2024-12-01","Medizinische Impfstoffe","Istanbul","TR","FLE","Clermont -Ferrand",null,"Tradeaux",2745,215447,8719,800]
[null,636,3,"2024-12-02","Stickstoff","Clermont -Ferrand","FR","Tradeaux","Parma","IT","Spinelli",807,22276,3600,0]
[null,637,4,"2024-12-02","Ketchup","Parma","IT","Spinelli","Parma","IT","Tesoro Gustoso",20,1236,15352,400]
[null,638,5,"2024-12-02","Klebebandrollen","Parma","IT","Tesoro Gustoso","Bologna","IT","ACI SRL",93,4950,18018,0]
[null,639,6,"2024-12-02","Zugachsen","Bologna","IT","ACI SRL","Bologna","IT","IKA Bohag",32,1627,20740,0]
[null,640,7,"2024-12-02","Schnittblumen","Bologna","IT","IKA Bohag","Bologna","IT","INI Tankstelle",99,1346,1759,0]
[null,641,8,"2024-12-02","Druckbehälter","Bologna","IT","Libellula","Bologna","IT","PIAC",24,1631,12380,0]
[null,642,9,"2024-12-03","Ziegelsteine","Bologna","IT","PIAC","Ancona","IT","Cantiere Navale",259,7524,20257,1200]
[null,643,10,"2024-12-03","Lammmägen","Ancona","IT","Cantiere Navale","Ancona","IT","CNP",14,1321,13210,0]
[null,644,11,"2024-12-03","Luftpost","Ancona","IT","CNP","Ancona","IT","Exomar",74,1397,10897,0]
[null,645,12,"2024-12-03","Verpackte Lebensmittel","Ancona","IT","Exomar","Ancona","IT","IKA Bohag",1,1382,17365,0]
[null,646,13,"2024-12-03","Dachpappe","Ancona","IT","Libellula","Ancona","IT","Marina",100,1294,19219,0]
[null,647,14,"2024-12-03","Beton-Lehrgerüst","Ancona","IT","Marina","Ancona","IT","Terminal Container",5,1049,18400,0]
[null,648,15,"2024-12-03","Semi-Tiefbett-Auflieger","Ancona","IT","IKA Bohag","Ancona","IT","Libellula",118,1358,17600,0]
[null,649,16,"2024-12-06","Altkunststoff","Ancona","IT","Cantiere Navale","Bari","IT","ACI SRL",486,11139,7153,0]
[null,650,17,"2024-12-06","Kartoffeln","Bari","IT","ACI SRL","Bari","IT","Marina",6,1292,22160,0]
[null,651,18,"2024-12-06","Milch","Bari","IT","Marina","Bari","IT","Quadrelli SpA",24,1327,20500,0]
[null,652,19,"2024-12-06","Schweinefleisch","Bari","IT","Quadrelli SpA","Bari","IT","Terminal Container",30,1255,18734,0]
[null,653,20,"2024-12-06","Autos","Bari","IT","Terminal Container","Bari","IT","Transporti  Mediterrano",25,1553,7860,0]
[null,654,21,"2024-12-06","Minibagger,Minidumper","Bari","IT","Transporti Mediterrano","Trikala (Τρίκαλα )","IT","Brawen",294,5481,4800,160]
[null,655,22,"2024-12-06","Tranformator - PK900","Trikala (Τρίκαλα )","GR","Brawen","Messina","IT","Cantiere Navale",677,38056,47850,0]
[null,656,23,"2024-12-07","Altverpackungen","Messina","IT","Cantiere Navale","Patras (Πάτρα )","GR","Fallow Cargo",741,24805,20252,0]
[null,657,24,"2024-12-07","Radlader-Schaufel Volvo SPN P T SEG","Patras (Πάτρα )","GR","Fallow Crago","Lamia (Λαμία )","GR","Brawen",318,10450,3600,400]
[null,658,25,"2024-12-07","Knoblauch","Lamia (Λαμία )","GR","Low Field","Kavala ( Καβάλα)","GR","Villco",552,20832,12385,0]
[null,659,26,"2024-12-07","Jacht - Queen V39","Kavala ( Καβάλα)","GR","Marina","Thessaloniki (Θεσσαλονίκη)","GR","Brawen",206,12937,9900,360]
[null,660,27,"2024-12-07","Radlader-Schaufel Volvo SPN P T SEG","Thessaloniki (Θεσσαλονίκη)","GR","Celler","Argostoli (Αργοστόλι)","GR","Icaria",342,11513,3600,0]
[null,661,28,"2024-12-08","Strohballen","Argostoli (Αργοστόλι)","GR","Low Field","Heraklion ( Ηράκλειο)","GR","Icaria",293,11138,15352,0]
[null,662,29,"2024-12-08","Altkunststoff","Heraklion ( Ηράκλειο)","GR","Eumefa","Kalamata ( Καλαμάτα)","GR","Icaria",223,5875,9672,0]
[null,663,30,"2024-12-08","Kunststoffgranulat","Kalamata ( Καλαμάτα)","GR","Christopoukos Oikodomika","Rhodos (Ρόδος )","GR","Icaria",300,8379,22100,0]
[null,664,31,"2024-12-08","Altverpackungen","Rhodos (Ρόδος )","GR","Artemia","Larissa (Λάρισα)","GR","Fallow Cargo",333,12158,20252,0]
[null,665,32,"2024-12-09","Tranformator - PK900","Larissa (Λάρισα)","GR","Eumefa","Athen (Αθήνα)","GR","CNP",379,21142,47850,0]
[null,666,33,"2024-12-09","Raddumper JCB 6T-2","Athen (Αθήνα)","GR","CNP","Neapel","IT","TE Logistica",727,12001,5000,0]
[null,667,34,"2024-12-10","Räder mit Volvo-Felgen","Neapel","IT","TE Logistica","Ioannina (Ιωάννινα)","GR","Brawen",313,9800,10000,0]
[null,668,35,"2024-12-10","Getränke","Ioannina (Ιωάννινα)","GR","Shuttle Cola","Chania (Χανιά)","GR","Icaria",524,23090,24000,0]
[null,669,36,"2024-12-10","Erdnussbutter","Chania (Χανιά)","GR","Ernte  Συγκομιδή","Mitilini (Μυτιλήνη )","GR","Icaria",17,3098,19539,0]
[null,670,37,"2024-12-11","Zwiebeln","Mitilini (Μυτιλήνη )","GR","Low Field","Larissa (Λάρισα)","GR","Fallow Cargo",367,15157,17493,400]
[null,671,38,"2024-12-11","Dachfenster","Larissa (Λάρισα)","GR","Eumefa","Chios ( Χίος)","GR","Icaria",303,11250,11873,360]
[null,672,39,"2024-12-11","Glasscheiben","Chios ( Χίος)","GR","Christopoukos Oikodomika","Istanbul","TR","Baltrak Lojistik",453,21054,19310,400]
[null,673,40,"2024-12-12","Acetylen","Istanbul","TR","Baltrak Lojistic","Dijon","FR","EuroAcres",2541,57414,4800,3940]
[null,674,41,"2024-12-12","Chemisches Sorptionsmittel","Dijon","FR","EuroGoodies","Verona","IT","EuroAcres",772,29274,11882,0]
[null,675,42,"2024-12-12","Essig","Verona","IT","EuroAcres","Cassino","IT","PIAC",672,30869,17617,0]
[null,676,43,"2024-12-12","Aluminiumprofile","Cassino","IT","PIAC","Cassino","IT","Spinelli",33,115264,22400,0]
[null,677,44,"2024-12-13","Glasscheiben","Cassino","IT","Spinelli","Catania","IT","ACC",718,34335,21008,0]
[null,678,45,"2024-12-13","Klebebandrollen","Catania","IT","ACC","Catania","IT","CNP",51,1075,11375,0]
[null,679,46,"2024-12-13","Gefrorener Seehecht","Catania","IT","CNP","Catania","IT","FUI Spa",142,1309,17411,0]
[null,680,47,"2024-12-13","Kleintransporter","Catania","IT","FUI SpA","Catania","IT","IKA Bohag",95,1578,6150,0]
[null,681,48,"2024-12-13","Kautschuk","Catania","IT","IKA Bohag","Catania","IT","Marina",13,1401,21731,0]
[null,682,49,"2024-12-13","Gebrauchte Autobatterien","Catania","IT","Marina","Catania","IT","Quadrelli SpA",62,1271,17229,0]
[null,683,50,"2024-12-13","LPG","Catania","IT","Quadrelli SpA","Catania","IT","Transporti  Mediterrano",68,1595,21200,0]
[null,684,51,"2024-12-13","Medizinische Ausrüstung","Catania","IT","Transporti Mediterrano","Catania","IT","INI Tankstelle",51,1665,5214,0]
[null,685,52,"2024-12-13","Industriekondensator","Palermo","IT","Hafen (Harbor)","Catania","IT","FUI Spa",179,14731,60000,0]
[null,686,53,"2024-12-13","Blei","Catania","IT","FUI SpA","Palermo","IT","Eolo Lines",169,9072,18400,0]
[null,687,54,"2024-12-13","Baggerlader JCB 4CX","Palermo","IT","Eolo Lines","Catania","IT","Quadrelli SpA",232,7760,8380,0]
[null,688,55,"2024-12-13","Mettalspulen","Catania","IT","Quadrelli SpA","Palermo","IT","Cargotras",249,7813,24250,0]
[null,689,56,"2024-12-13","Zucker","Palermo","IT","Cargotras","Catania","IT","Marina",182,9977,21693,400]
[null,690,57,"2024-12-13","Säure","Catania","IT","Marina","Palermo","IT","Cesare Supermercato",192,12476,19800,1720]
[null,691,58,"2024-12-13","Tafelgeschirr","Palermo","IT","Cesare Supermercato","Palermo","IT","Construzione di Edfici",90,1486,16424,0]
[null,692,59,"2024-12-13","Lebendrind","Palermo","IT","Construzione di Edfici","Palermo","IT","Marmo SpA",38,1982,21760,0]
[null,693,60,"2024-12-13","Erdaushub","Palermo","IT","Marmo SpA","Messina","IT","Cantiere Navale",243,4398,22100,360]
[null,694,61,"2024-12-15","Gerüstmaterial","Messina","IT","Cantiere Navale","Messina","IT","Eolo Lines",3,1234,21456,0]
[null,695,62,"2024-12-15","Reifen","Messina","IT","Eolo Lines","Messina","IT","TE Logistica",2,1358,16286,0]
[null,696,63,"2024-12-15","Arbeitskleidung","Messina","IT","TE Logistica","Catanzaro","IT","ACI SRL",169,89510,16454,400]
[null,697,64,"2024-12-15","Pickup-Trucks","Catanzaro","IT","ACI SRL","Catanzaro","IT","Cargotras",49,1661,6200,0]
[null,698,65,"2024-12-15","Betonträger","Catanzaro","IT","Cargotras","Catanzaro","IT","Construzione di Edfici",1,1252,51030,0]
[null,699,66,"2024-12-15","Äpfel","Catanzaro","IT","Construzione di Edfici","Catanzaro","IT","FUI Spa",149,922,9168,0]
[null,700,67,"2024-12-15","Gefrorener Seehecht","Catanzaro","IT","FUI SpA","Catanzaro","IT","INI Tankstelle",163,1314,17411,0]
[null,701,68,"2024-12-15","Chlor","Catanzaro","IT","Cargotras","Florenz","IT","Construzione di Edfici",860,45035,18270,1040]
[null,702,69,"2024-12-15","Altkunststoff","Florenz","IT","Construzione di Edfici","Florenz","IT","FUI Spa",108,990,9672,400]
[null,703,70,"2024-12-15","Getriebe","Florenz","IT","FUI SpA","Florenz","IT","IKA Bohag",137,1597,14240,400]
[null,704,71,"2024-12-15","Aluminiumprofile","Florenz","IT","IKA Bohag","Florenz","IT","Marmo SpA",156,1286,25600,0]
[null,705,72,"2024-12-15","Kraftstofftank","Florenz","IT","Marmo SpA","Florenz","IT","TE Logistica",157,1409,9600,0]
[null,706,73,"2024-12-15","Käse","Florenz","IT","TE Logistica","Florenz","IT","Tesoro Gustoso",89,1336,18229,0]
[null,707,74,"2024-12-15","Nitrocellulose","Florenz","IT","Tesoro Gustoso","Florenz","IT","Scania ",82,1595,14790,0]
[null,708,75,"2024-12-16","Christmas Confectionery","Florenz","IT","Tesoro Gustoso","Town Square","WL","Christmas Market",94,5222,19084,0]
[null,709,76,"2024-12-16","Christmas Market Hampers","Town Square","WL","Christmas Market","Rom","IT","PP Chimica Italia",139,5984,19084,0]
[null,710,77,"2024-12-16","Christmas Fibre Stuffing","Rom","IT","Fattoria Felice","Arts Workshop","WL","Rudolph´s Crafts",165,7559,19084,0]
[null,711,78,"2024-12-16","Master Craft Gift Packs","Arts Workshop","WL","Rudolph´s Crafts","Terni","IT","PP Chimica Italia",60,3537,19084,0]
[null,712,79,"2024-12-16","Christmas Dried Fruits","Rom","IT","FUI SpA","Town Square","WL","Christmas Market",104,5768,19084,0]
[null,713,80,"2024-12-16","Chocolate Gift Packs","Chocolate Factory","WL","Marigold´s","Kauschau (Kosice)","SK","LKWLog",60,3700,19084,860]
[null,714,81,"2024-12-17","Christmas Gift Parcels","Kaschau (Kosice)","SK","BCP","Post Office","WL","Northstar",142,4952,19084,0]
[null,715,82,"2024-12-17","Mountain Fun Gift Packs","Mountain Ressort","WL","Snowy Peaks","Palermo","IT","Cesare Supermercato",71,4297,19084,0]
[null,716,83,"2024-12-17","Christmas Assorted Meats","Palermo","IT","Eolo Lines","Town Square","WL","Christmas Market",76,4064,19084,200]
[null,717,84,"2024-12-17","Mail & Gift Parcels","Post Office","WL","Northstar","Badajoz","ES","Lawish Foods",155,8868,19084,400]
[null,718,85,"2024-12-17","Christmas Special Pet Food","Badajoz","ES","Lawish Foods","Town Square","WL","Christmas Market",158,8595,19084,400]
[null,719,86,"2024-12-17","Christmas Market Hampers","Town Square","WL","Christmas Market","Olbia","IT","Marina",156,6964,19084,0]
[null,720,87,"2024-12-17","Christmas Decorations","Olbia","IT","Marina","Town Square","WL","Christmas Market",119,6996,19084,960]
[null,721,88,"2024-12-17","Christmas Market Hampers","Town Square","WL","Christmas Market","Le Mans","FR","Lisette Logistics",121,5658,19084,0]
[null,722,89,"2024-12-17","Christmas Food Parcels","Le Mans","FR","Lisette Logistics","Post Office","WL","Northstar",148,4786,19084,0]
[null,723,90,"2024-12-18","Teleskoplader JCB 540-180","Florenz","IT","IKA Bohag","Neapel","IT","CNP",551,19152,11380,0]
[null,724,91,"2024-12-18","Leere Paletten","Neapel","IT","CNP","Neapel","IT","Eolo Lines",4,1220,22074,0]
[null,725,92,"2024-12-18","Baggerlader JCB 4CX","Neapel","IT","Eolo Lines","Neapel","IT","Fattoria Felice",186,1133,8380,0]
[null,726,93,"2024-12-18","Baumrinde","Neapel","IT","Fattoria Felice","Neapel","IT","IKA Bohag",180,784,6480,0]
[null,727,94,"2024-12-18","Mettalschrott","Neapel","IT","IKA Bohag","Neapel","IT","Marina",8,870,26500,0]
[null,728,95,"2024-12-19","Umschlagbagger Volvo EW240E MH","Neapel","IT","Marina","Neapel","IT","PIAC",8,1513,26000,0]
[null,729,96,"2024-12-19","Drehgestell","Neapel","IT","PIAC","Neapel","IT","TE Logistica",17,1660,20740,0]
[null,730,97,"2024-12-19","Dieselgeneratoren","Neapel","IT","TE Logistica","Neapel","IT","Tesoro Gustoso",1,1651,21519,0]
[null,731,98,"2024-12-19","Baggerlader JCB 4CX","Neapel","IT","Tesoro Gustoso","Neapel","IT","Terminal Container",24,1133,8380,0]
[null,732,99,"2024-12-19","Acetylen","Neapel","IT","Terminal Container","Neapel","IT","Volvo Dealer",22,1556,10440,0]
[null,733,100,"2024-12-19","Lebendrind","Neapel","IT","TE Logistica","Neapel","IT","INI Tankstelle",91,1989,21760,0]
[null,734,101,"2024-12-19","Betonträger","Neapel","IT","TE Logistica","Pescara","IT","AA - Auto di Alonso",245,9980,51030,0]
[null,735,102,"2024-12-19","Kleintransporter","Pescara","IT","AA-Auto di Alonso","Pescara","IT","Cargotras",1,1588,6150,0]
[null,736,103,"2024-12-19","Mobiler Stapler","Pescara","IT","Cargotras","Pescara","IT","Cesare Supermercato",1,1257,10800,0]
[null,737,104,"2024-12-19","Leere Paletten","Pescara","IT","Cesare Supermercato","Pescara","IT","Construzione di Edfici",108,1220,22074,1200]
[null,738,105,"2024-12-19","Kleintransporter","Pescara","IT","Construzione di Edfici","Pescara","IT","IKA Bohag",146,1588,6150,0]
[null,739,106,"2024-12-19","Salzsäure","Pescara","IT","IKA Bohag","Pescara","IT","Quadrelli SpA",39,1608,21780,0]
[null,740,107,"2024-12-19","Raupentraktor","Pescara","IT","Quadrelli SpA","Pescara","IT","S.A.L.S.R.L",80,1501,13400,0]
[null,741,108,"2024-12-19","Beton-Bodenplatten","Pescara","IT","S.A.L.S.A.R","Pescara","IT","INI Tankstelle",105,1246,21060,0]
[null,742,109,"2024-12-19","Säure","Pescara","IT","Cargotras","Rom","IT","Tesoro Gustoso",273,13712,19800,400]
[null,743,110,"2024-12-20","Schinken","Rom","IT","Exomar","Suzzara","IT","Comoto",499,22007,16101,800]
[null,744,111,"2024-12-20","Autos","Suzzara","IT","Comoto","Suzzara","IT","INI Tankstelle",46,1666,8400,400]
[null,745,112,"2024-12-20","Wasserstoff","Suzzara","IT","Comoto","Taranto","IT","AA - Auto di Alonso",859,41418,5680,400]
[null,746,113,"2024-12-20","Klimanlagen","Tarranto","IT","AA-Auto di Alonso","Taranto","IT","ACC",22,1524,10920,0]
[null,747,114,"2024-12-20","Klimanlagen","Tarranto","IT","ACC","Taranto","IT","CNP",10,1478,11000,0]
[null,748,115,"2024-12-22","Kunststoffgranulat","Tarranto","IT","CNP","Taranto","IT","Construzione di Edfici",93,996,22100,0]
[null,749,116,"2024-12-22","Flugzeugreifen","Tarranto","IT","Construzione di Edfici","Taranto","IT","Exomar",155,1428,18117,0]
[null,750,117,"2024-12-22","Luftpost","Tarranto","IT","Exomar","Taranto","IT","Marina",35,1420,10897,0]
[null,751,118,"2024-12-22","Mandeln","Tarranto","IT","Marina","Taranto","IT","Vitas Power",57,1266,17460,0]
[null,752,119,"2024-12-22","Aluminiumbarren","Tarranto","IT","Vitas Power","Taranto","IT","INI Tankstelle",37,1124,17493,0]
[null,753,120,"2024-12-22","Aluminiumprofile","Tarranto","IT","ACC","Terni","IT","ACC",552,18030,22400,400]
[null,754,121,"2024-12-22","Äpfel","Terni","IT","ACC","Terni","IT","S.A.L.S.R.L",92,1314,20170,0]
[null,755,122,"2024-12-22","Äpfel","Terni","IT","S.A.L.S.A.R","Verona","IT","Kaarfor",531,17269,20170,0]
[null,756,123,"2024-12-22","Arsen","Verona","IT","BCP","Villa San Giovanni","IT","Eolo Lines",1161,27870,9200,800]
[null,757,124,"2024-12-27","Quecksilberchlorid","Neapel","IT","TE Logistica","Berlin","DE","DFH",1645,87790,14400,0]
[null,758,125,"2024-12-27","Tierfutter","Berlin","DE","DFH","Berlin","DE","EuroGoodies",3,1260,20569,0]
[null,759,126,"2024-12-27","Kerosin","Berlin","DE","EuroGoodies","Berlin","DE","FCP",82,1896,23580,0]
[null,760,127,"2024-12-27","Drehgestell","Berlin","DE","FCP","Berlin","DE","NBFC",78,1660,20740,0]
[null,761,128,"2024-12-27","Dieselgenerator JCB G100RS","Berlin","DE","NBFC","Berlin","DE","NSOil",2,1034,8370,0]
[null,762,129,"2024-12-27","Essig","Berlin","DE","NSOil","Berlin","DE","SanBuilders",85,1146,9813,0]
[null,763,130,"2024-12-27","Kautschuk","Berlin","DE","SanBuilders","Berlin","DE","SanBuilders",73,1412,21731,0]
[null,764,131,"2024-12-27","Alkoholfreies Bier","Berlin","DE","SanBuilders","München","DE","IKA Bohag",605,22467,22156,400]
[null,765,132,"2024-12-27","Autos","München","DE","IKA Bohag","München","DE","Kathode",5,1616,7000,0]
[null,766,133,"2024-12-27","Magnesium","München","DE","Kathode","München","DE","SanBuilders",8,1041,8800,0]
[null,767,134,"2024-12-27","Pickup-Trucks","München","DE","SanBuilders","München","DE","Steinbruch",5,1666,6200,0]
[null,768,135,"2024-12-27","Erntebehälter","München","DE","Steinbruch","München","DE","transinet",4,1234,2825,0]
[null,769,136,"2024-12-28","Pasta","München","DE","Kathode","Leipzig","DE","EuroGoodies",388,15218,20407,0]
[null,770,137,"2024-12-28","Medizinische Impfstoffe","Leipzig","DE","EuroGoodies","Leipzig","DE","FCP",10,1996,5429,0]
[null,771,138,"2024-12-28","Äpfel","Leipzig","DE","FCP","Leipzig","DE","FLE",13,1314,20170,0]
[null,772,139,"2024-12-28","Zugachsen","Leipzig","DE","FLE","Leipzig","DE","Renat",21,1660,20740,0]
[null,773,140,"2024-12-28","Heizöl","Leipzig","DE","Renat","Leipzig","DE","SanBuilders",5,1776,23139,0]
[null,774,141,"2024-12-28","Holzspäne","Leipzig","DE","SanBuilders","Leipzig","DE","Tree-Et",61,804,4890,0]
[null,775,142,"2024-12-28","Möbel","Leipzig","DE","Tree-Et","Dresden","DE","DFH",132,4898,16381,0]
[null,776,143,"2024-12-28","Frische Kräuter","Dresden","DE","DFH","Dresden","DE","EuroAcres",7,1284,5650,0]
[null,777,144,"2024-12-28","Außenfliesen","Dresden","DE","EuroAcres","Dresden","DE","NSOil",4,1348,20579,0]
[null,778,145,"2024-12-28","Traktoren","Dresden","DE","NSOil","Dresden","DE","Sellplan",6,1652,11390,0]
[null,779,146,"2024-12-28","Erntebehälter","Dresden","DE","Sellplan","Dresden","DE","Trameri",5,1234,2825,0]
[null,780,147,"2024-12-28","Kugelventile","Dresden","DE","NSOil","Mannheim","DE","SanBuilders",527,25443,22173,0]
[null,781,148,"2024-12-28","Pickup-Trucks","Mannheim","DE","SanBuilders","Mannheim","DE","Steinbruch",38,1666,6200,0]
[null,782,149,"2024-12-28","Borsäure","Mannheim","DE","Steinbruch","Mannheim","DE","transinet",38,1508,16880,360]
[null,783,150,"2024-12-30","Kork","Mannheim","DE","Transinet","Mannheim","DE","Tree-Et",32,1222,5132,0]
[null,784,151,"2024-12-30","Sand","Mannheim","DE","Tree-Et","Mannheim","DE","WGCC",38,1032,23072,0]
[null,785,152,"2024-12-30","Dynamit","Mannheim","DE","WGCC","Neapel","IT","Eolo Lines",1441,82018,17160,1820]
[null,786,1,"2025-01-03","Acetylen","Neapel","IT","CNP","Istanbul","TR","Log n Stick",1151,82808,9600,100]
[null,787,2,"2025-01-04","Heizöl","Istanbul","TR","Log n Stick","Marseille","FR","Eolo Lines",2629,181028,25710,1000]
[null,788,3,"2025-01-04","Heizöl","Marseille","FR","Port de Contneur","Luxemburg","LU","ITCC",778,52436,23139,400]
[null,789,4,"2025-01-04","Industriekondensator","Luxemburg","LU","ITCC","Lüttich","BE","ITCC",145,12304,60000,0]
[null,790,5,"2025-01-04","Heizöl","Lüttich","BE","ITCC","Sheffield","GB","ITCC",779,58039,23139,400]
[null,791,6,"2025-01-04","Großreifen","Sheffield","GB","ITCC","Birmingham","GB","SanBuilders",152,10510,20000,0]
[null,792,7,"2025-01-04","Heizöl","Birmingham","GB","SanBuilders","Berlin","DE","NSOil",1323,95466,23139,400]
[null,793,"<>","2025-01-05","Industriekondensator","Berlin","DE","NBFC","Stettin","PL","ITCC",122,10448,60000,0]
[null,794,8,"2025-01-05","Großes Silo","Bremen","DE","EuroAcres","Travemünde","DE","Polaris Lines",236,17309,40000,0]
[null,795,9,"2025-01-05","Heizöl","Travemünde","DE","Marina","Bratislava","SK","BCP",954,63086,23139,1900]
[null,796,10,"2025-01-05","Wärmetauscher","Bratislava","SK","WGCC","Graz","AT","FCP",249,21474,70000,3200]
[null,797,11,"2025-01-05","Heizöl","Graz","AT","FCP","Reims","FR","EuroAcres",1036,79373,25710,400]
[null,798,12,"2025-01-05","Baggerschaufel","Reims","FR","Steinbruch","Strassburg","FR","Steinbruch",383,26658,25000,0]
[null,799,13,"2025-01-06","Heizöl","Strassburg","FR","Kaarfor","Dresden","DE","EuroAcres",658,45988,23139,360]
[null,800,"<>","2025-01-06","Heizöl","Dresden","DE","NSOil","Dortmund","DE","Steinbruch",453,39792,23139,0]
[null,801,"<>","2025-01-06","Großreifen","Dortmund","DE","ITCC","Hannover","DE","Steinbruch",293,20118,20000,0]
[null,802,14,"2025-01-06","Wärmetauscher","Brüssel","BE","FCP","Amsterdam","NL","Hafen (Harbor)",214,18372,70000,0]
[null,803,15,"2025-01-06","Wärmetauscher","Dijon","FR","Stokes","Genf","CH","Tradeaux",227,19630,70000,0]
[null,804,16,"2025-01-06","Industriekondensator","Koper","HR","Container  Port","Novo Mesto","SL","Larus",197,16502,60000,0]
[null,805,17,"2025-01-06","Essig","Burgas (Бургас)","BG","CNP","Vrana ( Варна )","BG","Ocean Solution",87,4524,15299,0]
[null,806,18,"2025-01-06","Schweres technisches Teil","Prag","CZ","Steinbruch","Nürnberg","DE","SanBuilders",301,25345,44000,800]
[null,807,"<>","2025-01-07","Kesselelment","München","DE","Kathode","Salzburg","AT","Tree-Et",228,14739,45000,0]
[null,808,19,"2025-01-07","Industriekondensator","Linz","AT","ITCC","Brünn","CZ","SanBuilders",272,22952,60000,0]
[null,809,20,"2025-01-07","High-Tech-Gerät","Köln","DE","ITCC","Amsterdam","NL","Trameri",336,26181,45000,400]
[null,810,21,"2025-01-07","High-Tech-Gerät","Glasgow","GB","WGCC","Aberdeen","GB","NBFC",238,18185,45000,0]
[null,811,22,"2025-01-07","Nottreppenelement","London","GB","SanBuilders","Felixstowe","GB","Hafen (Harbor)",147,10639,50000,0]
[null,812,23,"2025-01-07","Kesselelment","Cardiff","GB","Stokes","Birmingham","GB","Tree-Et",247,19004,45000,800]
[null,813,"<>","2025-01-07","Großreifen","Plymouth","GB","Stokes","Dover","GB","Hafen (Harbor)",456,31624,20000,0]
[null,814,"<>","2025-01-07","Heizöl","Nantes","FR","Bätisse","Nates","FR","Kaarfor",246,20892,23139,0]
[null,815,"<>","2025-01-07","Industriekondensator","Nantes","FR","Wilnet Transport","Civaux","FR","Hafen (Harbor)",398,32601,60000,0]
[null,816,"<>","2025-01-07","Baggerschaufel","Nizza","FR","Tradeaux","Nizza","FR","MVM Carriere",84,6011,25000,0]
[null,817,24,"2025-01-08","Baggerschaufel","Toulouse","FR","Wilnet Transport","Montpellier","FR","FLE",296,20252,25000,0]
[null,818,25,"2025-01-08","Heizöl","Nantes","FR","BHV","Brest","FR","Tradeaux",269,19646,23139,0]
[null,819,26,"2025-01-08","Nottreppenelement","Brest","FR","Marina","Rennes","FR","Bätisse",210,13894,50000,0]
[null,820,27,"2025-01-08","Wärmetauscher","Kaschau (Kosice)","SK","ITCC","Budapest","HU","NBFC",229,19630,70000,0]
[null,821,28,"2025-01-08","Kesselelment","Szeged","HU","EuroAcres","Debrecen","HU","EuroAcres",230,17663,45000,0]
[null,822,29,"2025-01-08","Großreifen","Allenstein","PL","FCP","Bialystok","PL","ITCC",249,16769,20000,400]
[null,823,30,"2025-01-08","Wärmetauscher","Krakau","PL","Tradeaux","Banská Bystrica","SK","Stokes",205,17785,70000,0]
[null,824,31,"2025-01-08","Nutzfahrzeug-Chassis","Warschau","PL","SanBuilders","Kattowitz","PL","Steinbruch",284,22380,55000,400]
[null,825,32,"2025-01-08","Baggerschaufel","Stavanger","NO","MS Stein","Oslo","NO","MS Stein ",378,26588,25000,0]
[null,826,33,"2025-01-08","Lotsenboot","Odense","DK","Drekkar Trans","Hirtshals","DK","Hafen (Harbor)",304,24630,25000,0]
[null,827,34,"2025-01-08","Baggerschaufel","Göteborg","SE","Polaris Lines","Helsingborg","SE","Konstnorr",245,16509,25000,0]
[null,828,35,"2025-01-08","Baggerschaufel","Linköping","SE","Nordic Stenbrott","Kalmar","SE","Nordic Stenbrott",181,12336,25000,0]
[null,829,36,"2025-01-08","Industriekondensator","Trelleborg","SE","Polaris Lines","Esbjerg","DE","ContainerPort",337,28312,60000,0]
[null,830,37,"2025-01-09","Industriekondensator","Neapel","IT","Terminal Container","Terni","IT","ACC",343,28726,60000,0]
[null,831,"<>","2025-01-09","Großes Silo","Verona","IT","EuroAcres","Parma","IT","Hafen (Harbor)",243,17953,40000,0]
[null,832,38,"2025-01-09","Industriekondensator","Palermo","IT","Hafen (Harbor)","Catania","IT","FUI Spa",178,14141,60000,0]
[null,833,39,"2025-01-09","Kesselelment","Cagliari","IT","Eolo Lines","Sassari","IT","PP Chimica Italia",185,12934,45000,0]
[null,834,40,"2025-01-09","High-Tech-Gerät","St.Petersburg  (Санкт-Петербург)","RU","Container  Port","St.Petersburg  (Санкт-Петербург)","RU","Zelenye Polja",229,17514,45000,0]
[null,835,41,"2025-01-09","Junge Setzlinge","Helsinki","FI","AeroBaltika","Pori","FI","Baltic Metallurgy",260,11237,3637,0]
[null,836,42,"2025-01-10","Großreifen","Pori","FI","Container  Port","Helsinki","FI","ContainerPort",330,22449,20000,0]
[null,837,43,"2025-01-10","Leere Weinflaschen","Pskov (Псков)","RU","Baltomorsk","Daugavpils","LV","Baltomorsk",270,12749,13943,0]
[null,838,44,"2025-01-10","Industriekondensator","Daugavpils","LV","Renat","Rezekne","LV","Renat",112,9560,60000,0]
[null,839,45,"2025-01-10","LPG","Bukarest","RO","Brawen","Galati","RO","BHV",172,10124,21200,0]
[null,840,46,"2025-01-10","Industriekondensator","Galati","RO","Otel impecabli","Iasi","RO","Kolico",206,17148,60000,0]
[null,841,47,"2025-01-10","Chlor","Cariova","RO","Balkan Loco","Resita","RO","Renat",186,14186,21868,0]
[null,842,48,"2025-01-10","High-Tech-Gerät","Resita","RO","Otel impecabli","Targu Mures","RO","NSOil",369,29291,45000,1180]
[null,843,49,"2025-01-10","High-Tech-Gerät","Istanbul","TR","Baltrak Lojistic","Edrine","TR","Balkan Loco",199,15534,45000,160]
[null,844,50,"2025-01-10","Eiskaffee in Dosen","Bukarest","RO","Brawen","Pleven ( Плевен )","BG","Renat",196,4245,21259,800]
[null,845,51,"2025-01-10","Wärmetauscher","Pleven(Плевен)","BG","Radus (Радус)","Sofia (Со́фия )","BG","Radus (Радус)",161,14013,70000,0]
[null,846,52,"2025-01-10","Nottreppenelement","Madrid","ES","ACC","Puertollano","ES","Energon",244,17199,50000,0]
[null,847,53,"2025-01-10","Großes Silo","Lissabon","PT","TS Atlas","Ponte de Sor","PT","Cortica Prima",159,11881,40000,0]
[null,848,54,"2025-01-10","Großes Silo","Huelva","ES","Eolo Lines","Sevilla ","ES","Huerta del Mar Menor ",218,16095,40000,0]
[null,849,55,"2025-01-10","Industriekondensator","Gijon","ES","ACC","Navia","ES","SCS Paper",159,13353,60000,0]
[null,850,56,"2025-01-10","Lotsenboot","Olhao","PT","Marina","Setubal","PT","Ocean Solution",255,20743,25000,0]
[null,851,57,"2025-01-10","Industriekondensator","Soria","ES","Tree-Et","Teruel","ES","Tree-Et",319,26909,60000,0]
[null,852,58,"2025-01-10","Industriekondensator","Barcelona","ES","TS Atlas","Vandellos","ES","Iberatomica",210,17390,60000,0]
[null,853,"<>","2025-01-11","Industriekondensator","Zenica  (Зеница)","BIH","Syllurgy","Karakaj","BIH","Aluxion",201,16746,60000,0]
[null,854,59,"2025-01-11","Großreifen","Skopje (Скопје)","MK","Rock Eater Quarry","Bitola","MK","Rock Eater  Quarry",242,16444,20000,0]
[null,855,"<>","2025-01-11","Baggerschaufel","Belgrad (Београд)","RS","Luka DunaVia","Kragujevac (Крагуjевац)","RS","Rock Eater  Quarry",318,21784,25000,0]
[null,856,60,"2025-01-11","Industriekondensator","Kragujevac (Крагуjевац)","RS","PIAC","Neusatz (Novisad)","RS","Vesna",322,27077,60000,0]
[null,857,61,"2025-01-11","Industriekondensator","Athen (Αθήνα)","GR","Ocean Solution","Athen (Αθήνα)","GR","CNP",113,9480,60000,0]
[null,858,62,"2025-01-11","High-Tech-Gerät","Ioannina (Ιωάννινα)","GR","Shuttle Cola","Vlore","AL","Shuttle Cola",332,24391,45000,800]
[null,859,63,"2025-01-11","High-Tech-Gerät","Thessaloniki (Θεσσαλονίκη)","GR","Syllurgy","Trikala (Τρίκαλα )","GR","Sygomidi (Συγκομιδή)",203,15727,45000,800]
[null,860,64,"2025-01-11","Heizöl","Faro","PT","BHV","Rijeka","HR","Adrica",2986,205980,23139,1560]
[null,861,65,"2025-01-12","Heizöl","Rijeka","HR","Adrica","Zadar","HR","Adrica",382,25482,23139,0]
[null,862,66,"2025-01-12","Acetylen","Zadar","HR","Betunija","Split","HR","Adrica",137,8659,9600,0]
[null,863,67,"2025-01-12","Benzin","Split","HR","Adrica","Niksic ( Никшић)","ME","Aluxion",349,22877,21750,0]
[null,864,68]
[null,865,69]
[null,866,70]
[null,867,71]
[null,868,72]
[null,869,73]
[null,870,74]
[null,871,75]
[null,872,76]
[null,873,77]
[null,874,78]
[null,875,79]
[null,876,80]
[null,null,null,null,null,null,null,null,null,null,null,{"$f":"SUM(L2:L877)","v":277765},{"$f":"SUM(M2:M877)","v":14505045},{"$f":"SUM(N2:N877)","v":16282775},{"$f":"SUM(O2:O877)","v":180320},666.56]
[null,null,null,null,null,null,null,null,null,null,null,{"$f":"SUM(L787:L877)","v":29224},{"$f":"SUM(M787:M877)","v":2130453},{"$f":"SUM(N787:N877)","v":3049966},{"$f":"SUM(O787:O877)","v":16260},null,671.01]