{"text_format":"1","workbook":"xlsx","n_sheets":24,"sheets":["Rd. 1","Rd. 2","Rd. 3","Rd. 4","Rd. 5","Rd. 6","Rd. 7","Rd. 8","Rd. 9","Rd. 10","Rd. 11","Rd. 12","Siegerliste","Runde1","Runde2","Runde3","Runde4","Runde5","Runde6","Runde7","Runde8","Runde9","Runde10","Namen"],"not_rendered":{"charts":0,"images":1,"macros":1,"external_links":0,"defined_names":9,"comments":0,"pivot_tables":0},"unopened":[],"bounds":{"document_bytes":16777216,"sheet_cells":100000,"rows_first":2000,"rows_last":500,"rows_between":2000,"halvings":0,"cell_chars":16384,"cell_head_chars":4096},"cells_cut":0,"cells_raw":0,"read":"whole","date_system":"1900"}

{"sheet":"Rd. 1","index":0,"n_rows":37,"n_cols":15,"rows_kept":37,"cut":false,"hidden":false,"merged":[[23,4,30,5],[31,4,32,5],[23,11,30,12],[31,11,32,12],[0,3,0,4],[0,10,0,11],[7,4,7,5],[7,11,7,12],[8,4,9,5],[8,11,9,12],[10,4,11,5],[10,11,11,12],[12,4,15,5],[12,11,15,12],[16,4,22,5],[16,11,22,12]]}
[null,null,null,null,null,"Sp. 1",null,null,null,null,null,null,"Sp. 2",null,{"$f":"INDEX(D36:D37,MATCH(LARGE(E36:E37,1),E36:E37,0))","v":0}]
[null,null,null,"Punkte",501,"Start",null,null,null,null,"Punkte",501,"Start",null,{"$f":"INDEX(D36:D37,MATCH(LARGE(E36:E37,2),E36:E37,0))","v":0}]
[null,null,null,"Geworfen",{"$f":"SUM(D34)","v":0},"Punkte",null,null,null,null,"Geworfen",{"$f":"SUM(K34)","v":0},"Punkte"]
["RD 1",{"$f":"COUNT(D4)*1","v":1},{"$f":"COUNT(D4)*3","v":3},0,{"$f":"SUM(E2-E3)","v":501},"Rest",null,"RD 1",{"$f":"COUNT(K4)*1","v":0},{"$f":"COUNT(K4)*3","v":0},null,{"$f":"SUM(L2-L3)","v":501},"Rest"]
["RD 2",0,0,null,null,null,null,"RD 2",0,0]
["RD 3",0,0,null,"ø pro Spiel",{"$f":"SUM(L3)/B34","v":0},null,"RD 3",0,0,null,"ø pro Spiel",{"$f":"SUM(L3)/I34","v":{"$error":"#DIV/0!"}}]
["RD 4",0,0,null,"ø pro Pfeil",{"$f":"SUM(E3)/C34","v":0},null,"RD 4",0,0,null,"ø pro Pfeil",{"$f":"SUM(L3)/J34","v":{"$error":"#DIV/0!"}}]
["RD 5",0,0,null,"Average",null,null,"RD 5",0,0,null,"Average"]
["RD 6",0,0,null,{"$f":"SUM(F6)","v":0},null,null,"RD 6",0,0,null,{"$f":"SUM(M6)","v":{"$error":"#DIV/0!"}}]
["RD 7",0,0,null,null,null,null,"RD 7",0,0]
["RD 8",0,0,null,"Nicht Gut",null,null,"RD 8",0,0,null,"Nicht Gut"]
["RD 9",0,0,null,null,null,null,"RD 9",0,0]
["RD 10",0,0,null,"Gut",null,null,"RD 10",0,0,null,"Gut"]
["RD 11",0,0,null,null,null,null,"RD 11",0,0]
["RD 12",0,0,null,null,null,null,"RD 12",0,0]
["RD 13",0,0,null,null,null,null,"RD 13",0,0]
["RD 14",0,0,null,"Sehr  Gut",null,null,"RD 14",0,0,null,"Sehr  Gut"]
["RD 15",0,0,null,null,null,null,"RD 15",0,0]
["RD 16",0,0,null,null,null,null,"RD 16",0,0]
["RD 17",0,0,null,null,null,null,"RD 17",0,0]
["RD 18",0,0,null,null,null,null,"RD 18",0,0]
["RD 19",0,0,null,null,null,null,"RD 19",0,0]
["RD 20",0,0,null,null,null,null,"RD 20",0,0]
["RD 21",0,0,null,{"$f":"IF(E4=0,\"Sieg\",\"\")","v":""},null,null,"RD 21",0,0,null,{"$f":"IF(E4=0,\"Sieg\",\"\")","v":""}]
["RD 22",0,0,null,null,null,null,"RD 22",0,0]
["RD 23",0,0,null,null,null,null,"RD 23",0,0]
["RD 24",0,0,null,null,null,null,"RD 24",0,0]
["RD 25",0,0,null,null,null,null,"RD 25",0,0]
["RD 26",0,0,null,null,null,null,"RD 26",0,0]
["RD 27",0,0,null,null,null,null,"RD 27",0,0]
["RD 28",0,0,null,null,null,null,"RD 28",0,0]
["RD 29",0,0,null,{"$f":"IF(E4=0,\"Sieg\",\"\")","v":""},null,null,"RD 29",0,0,null,{"$f":"IF(E4=0,\"Sieg\",\"\")","v":""}]
["RD 30",0,0,null,null,null,null,"RD 30",0,0]
[null,{"$f":"SUM(B4:B33)","v":1},{"$f":"SUM(C4:C33)","v":3},{"$f":"SUM(D4:D33)","v":0},null,null,null,null,{"$f":"SUM(I4:I33)","v":0},{"$f":"SUM(J4:J33)","v":0},{"$f":"SUM(K4:K33)","v":0}]
[]
[null,null,null,{"$f":"D1","v":0},{"$f":"E3","v":0},null,null,null,null,null,{"$f":"INDEX(D36:D37,MATCH(LARGE(E36:E37,1),E36:E37,0))","v":0}]
[null,null,null,{"$f":"K1","v":0},{"$f":"L3","v":0},null,null,null,null,null,{"$f":"INDEX(D36:D37,MATCH(LARGE(E36:E37,2),E36:E37,0))","v":0}]

{"sheet":"Rd. 2","index":1,"n_rows":37,"n_cols":15,"rows_kept":37,"cut":false,"hidden":false,"merged":[[23,4,30,5],[31,4,32,5],[31,11,32,12],[23,11,30,12],[0,3,0,4],[0,10,0,11],[7,4,7,5],[7,11,7,12],[8,4,9,5],[8,11,9,12],[10,4,11,5],[10,11,11,12],[12,4,15,5],[12,11,15,12],[16,4,22,5],[16,11,22,12]]}
[null,null,null,{"$f":"'Rd. 1'!O2","v":0},null,"Sp. 1",null,null,null,null,{"$f":"'Rd. 1'!O1","v":0},null,"Sp. 2",null,{"$f":"INDEX(D36:D37,MATCH(LARGE(E36:E37,1),E36:E37,0))","v":0}]
[null,null,null,"Punkte",501,"Start",null,null,null,null,"Punkte",501,"Start",null,{"$f":"INDEX(D36:D37,MATCH(LARGE(E36:E37,2),E36:E37,0))","v":0}]
[null,null,null,"Geworfen",{"$f":"SUM(D34)","v":0},"Punkte",null,null,null,null,"Geworfen",{"$f":"SUM(K34)","v":0},"Punkte"]
["RD 1",{"$f":"COUNT(D4)*1","v":0},{"$f":"COUNT(D4)*3","v":0},null,{"$f":"SUM(E2-E3)","v":501},"Rest",null,"RD 1",{"$f":"COUNT(K4)*1","v":0},{"$f":"COUNT(K4)*3","v":0},null,{"$f":"SUM(L2-L3)","v":501},"Rest"]
["RD 2",0,0,null,null,null,null,"RD 2",0,0]
["RD 3",0,0,null,"ø pro Spiel",{"$f":"SUM(L3)/B34","v":{"$error":"#DIV/0!"}},null,"RD 3",0,0,null,"ø pro Spiel",{"$f":"SUM(L3)/I34","v":{"$error":"#DIV/0!"}}]
["RD 4",0,0,null,"ø pro Pfeil",{"$f":"SUM(E3)/C34","v":{"$error":"#DIV/0!"}},null,"RD 4",0,0,null,"ø pro Pfeil",{"$f":"SUM(L3)/J34","v":{"$error":"#DIV/0!"}}]
["RD 5",0,0,null,"Average",null,null,"RD 5",0,0,null,"Average"]
["RD 6",0,0,null,{"$f":"SUM(F6)","v":{"$error":"#DIV/0!"}},null,null,"RD 6",0,0,null,{"$f":"SUM(M6)","v":{"$error":"#DIV/0!"}}]
["RD 7",0,0,null,null,null,null,"RD 7",0,0]
["RD 8",0,0,null,"Nicht Gut",null,null,"RD 8",0,0,null,"Nicht Gut"]
["RD 9",0,0,null,null,null,null,"RD 9",0,0]
["RD 10",0,0,null,"Gut",null,null,"RD 10",0,0,null,"Gut"]
["RD 11",0,0,null,null,null,null,"RD 11",0,0]
["RD 12",0,0,null,null,null,null,"RD 12",0,0]
["RD 13",0,0,null,null,null,null,"RD 13",0,0]
["RD 14",0,0,null,"Sehr  Gut",null,null,"RD 14",0,0,null,"Sehr  Gut"]
["RD 15",0,0,null,null,null,null,"RD 15",0,0]
["RD 16",0,0,null,null,null,null,"RD 16",0,0]
["RD 17",0,0,null,null,null,null,"RD 17",0,0]
["RD 18",0,0,null,null,null,null,"RD 18",0,0]
["RD 19",0,0,null,null,null,null,"RD 19",0,0]
["RD 20",0,0,null,null,null,null,"RD 20",0,0]
["RD 21",0,0,null,{"$f":"IF(E4=0,\"Sieg\",\"\")","v":""},null,null,"RD 21",0,0,null,{"$f":"IF(E4=0,\"Sieg\",\"\")","v":""}]
["RD 22",0,0,null,null,null,null,"RD 22",0,0]
["RD 23",0,0,null,null,null,null,"RD 23",0,0]
["RD 24",0,0,null,null,null,null,"RD 24",0,0]
["RD 25",0,0,null,null,null,null,"RD 25",0,0]
["RD 26",0,0,null,null,null,null,"RD 26",0,0]
["RD 27",0,0,null,null,null,null,"RD 27",0,0]
["RD 28",0,0,null,null,null,null,"RD 28",0,0]
["RD 29",0,0,null,{"$f":"IF(E4=0,\"Sieg\",\"\")","v":""},null,null,"RD 29",0,0,null,{"$f":"IF(E4=0,\"Sieg\",\"\")","v":""}]
["RD 30",0,0,null,null,null,null,"RD 30",0,0]
[null,{"$f":"SUM(B4:B33)","v":0},{"$f":"SUM(C4:C33)","v":0},{"$f":"SUM(D4:D33)","v":0},null,null,null,null,{"$f":"SUM(I4:I33)","v":0},{"$f":"SUM(J4:J33)","v":0},{"$f":"SUM(K4:K33)","v":0}]
[null,null,null,null,{"$f":"IF(E3 > L3, D1, IF(D2 > L3, K1, \"Unentschieden\"))","v":0}]
[null,null,null,{"$f":"D1","v":0},{"$f":"E3","v":0},null,null,null,null,null,{"$f":"INDEX(D36:D37,MATCH(LARGE(E36:E37,1),E36:E37,0))","v":0}]
[null,null,null,{"$f":"K1","v":0},{"$f":"L3","v":0},null,null,null,null,null,{"$f":"INDEX(D36:D37,MATCH(LARGE(E36:E37,2),E36:E37,0))","v":0}]

{"sheet":"Rd. 3","index":2,"n_rows":37,"n_cols":15,"rows_kept":37,"cut":false,"hidden":false,"merged":[[10,4,11,5],[10,11,11,12],[12,4,15,5],[12,11,15,12],[0,3,0,4],[0,10,0,11],[7,4,7,5],[7,11,7,12],[8,4,9,5],[8,11,9,12],[16,4,22,5],[16,11,22,12],[23,4,30,5],[23,11,30,12],[31,4,32,5],[31,11,32,12]]}
[null,null,null,{"$f":"'Rd. 2'!O2","v":0},null,"Sp. 1",null,null,null,null,{"$f":"'Rd. 2'!O1","v":0},null,"Sp. 2",null,{"$f":"INDEX(D36:D37,MATCH(LARGE(E36:E37,1),E36:E37,0))","v":0}]
[null,null,null,"Punkte",501,"Start",null,null,null,null,"Punkte",501,"Start",null,{"$f":"INDEX(D36:D37,MATCH(LARGE(E36:E37,2),E36:E37,0))","v":0}]
[null,null,null,"Geworfen",{"$f":"SUM(D34)","v":0},"Punkte",null,null,null,null,"Geworfen",{"$f":"SUM(K34)","v":0},"Punkte"]
["RD 1",{"$f":"COUNT(D4)*1","v":0},{"$f":"COUNT(D4)*3","v":0},null,{"$f":"SUM(E2-E3)","v":501},"Rest",null,"RD 1",{"$f":"COUNT(K4)*1","v":0},{"$f":"COUNT(K4)*3","v":0},null,{"$f":"SUM(L2-L3)","v":501},"Rest"]
["RD 2",0,0,null,null,null,null,"RD 2",0,0]
["RD 3",0,0,null,"ø pro Spiel",{"$f":"SUM(L3)/B34","v":{"$error":"#DIV/0!"}},null,"RD 3",0,0,null,"ø pro Spiel",{"$f":"SUM(L3)/I34","v":{"$error":"#DIV/0!"}}]
["RD 4",0,0,null,"ø pro Pfeil",{"$f":"SUM(E3)/C34","v":{"$error":"#DIV/0!"}},null,"RD 4",0,0,null,"ø pro Pfeil",{"$f":"SUM(L3)/J34","v":{"$error":"#DIV/0!"}}]
["RD 5",0,0,null,"Average",null,null,"RD 5",0,0,null,"Average"]
["RD 6",0,0,null,{"$f":"SUM(F6)","v":{"$error":"#DIV/0!"}},null,null,"RD 6",0,0,null,{"$f":"SUM(M6)","v":{"$error":"#DIV/0!"}}]
["RD 7",0,0,null,null,null,null,"RD 7",0,0]
["RD 8",0,0,null,"Nicht Gut",null,null,"RD 8",0,0,null,"Nicht Gut"]
["RD 9",0,0,null,null,null,null,"RD 9",0,0]
["RD 10",0,0,null,"Gut",null,null,"RD 10",0,0,null,"Gut"]
["RD 11",0,0,null,null,null,null,"RD 11",0,0]
["RD 12",0,0,null,null,null,null,"RD 12",0,0]
["RD 13",0,0,null,null,null,null,"RD 13",0,0]
["RD 14",0,0,null,"Sehr  Gut",null,null,"RD 14",0,0,null,"Sehr  Gut"]
["RD 15",0,0,null,null,null,null,"RD 15",0,0]
["RD 16",0,0,null,null,null,null,"RD 16",0,0]
["RD 17",0,0,null,null,null,null,"RD 17",0,0]
["RD 18",0,0,null,null,null,null,"RD 18",0,0]
["RD 19",0,0,null,null,null,null,"RD 19",0,0]
["RD 20",0,0,null,null,null,null,"RD 20",0,0]
["RD 21",0,0,null,{"$f":"IF(E4=0,\"Sieg\",\"\")","v":""},null,null,"RD 21",0,0,null,{"$f":"IF(E4=0,\"Sieg\",\"\")","v":""}]
["RD 22",0,0,null,null,null,null,"RD 22",0,0]
["RD 23",0,0,null,null,null,null,"RD 23",0,0]
["RD 24",0,0,null,null,null,null,"RD 24",0,0]
["RD 25",0,0,null,null,null,null,"RD 25",0,0]
["RD 26",0,0,null,null,null,null,"RD 26",0,0]
["RD 27",0,0,null,null,null,null,"RD 27",0,0]
["RD 28",0,0,null,null,null,null,"RD 28",0,0]
["RD 29",0,0,null,{"$f":"IF(E4=0,\"Sieg\",\"\")","v":""},null,null,"RD 29",0,0,null,{"$f":"IF(E4=0,\"Sieg\",\"\")","v":""}]
["RD 30",0,0,null,null,null,null,"RD 30",0,0]
[null,{"$f":"SUM(B4:B33)","v":0},{"$f":"SUM(C4:C33)","v":0},{"$f":"SUM(D4:D33)","v":0},null,null,null,null,{"$f":"SUM(I4:I33)","v":0},{"$f":"SUM(J4:J33)","v":0},{"$f":"SUM(K4:K33)","v":0}]
[null,null,null,null,{"$f":"IF(E3 > L3, D1, IF(D2 > L3, K1, \"Unentschieden\"))","v":0}]
[null,null,null,{"$f":"D1","v":0},{"$f":"E3","v":0},null,null,null,null,null,{"$f":"INDEX(D36:D37,MATCH(LARGE(E36:E37,1),E36:E37,0))","v":0}]
[null,null,null,{"$f":"K1","v":0},{"$f":"L3","v":0},null,null,null,null,null,{"$f":"INDEX(D36:D37,MATCH(LARGE(E36:E37,2),E36:E37,0))","v":0}]

{"sheet":"Rd. 4","index":3,"n_rows":37,"n_cols":15,"rows_kept":37,"cut":false,"hidden":false,"merged":[[10,4,11,5],[10,11,11,12],[12,4,15,5],[12,11,15,12],[0,3,0,4],[0,10,0,11],[7,4,7,5],[7,11,7,12],[8,4,9,5],[8,11,9,12],[16,4,22,5],[16,11,22,12],[23,4,30,5],[23,11,30,12],[31,4,32,5],[31,11,32,12]]}
[null,null,null,{"$f":"'Rd. 3'!O2","v":0},null,"Sp. 1",null,null,null,null,{"$f":"'Rd. 3'!O1","v":0},null,"Sp. 2",null,{"$f":"INDEX(D36:D37,MATCH(LARGE(E36:E37,1),E36:E37,0))","v":0}]
[null,null,null,"Punkte",501,"Start",null,null,null,null,"Punkte",501,"Start",null,{"$f":"INDEX(D36:D37,MATCH(LARGE(E36:E37,2),E36:E37,0))","v":0}]
[null,null,null,"Geworfen",{"$f":"SUM(D34)","v":0},"Punkte",null,null,null,null,"Geworfen",{"$f":"SUM(K34)","v":0},"Punkte"]
["RD 1",{"$f":"COUNT(D4)*1","v":0},{"$f":"COUNT(D4)*3","v":0},null,{"$f":"SUM(E2-E3)","v":501},"Rest",null,"RD 1",{"$f":"COUNT(K4)*1","v":0},{"$f":"COUNT(K4)*3","v":0},null,{"$f":"SUM(L2-L3)","v":501},"Rest"]
["RD 2",0,0,null,null,null,null,"RD 2",0,0]
["RD 3",0,0,null,"ø pro Spiel",{"$f":"SUM(L3)/B34","v":{"$error":"#DIV/0!"}},null,"RD 3",0,0,null,"ø pro Spiel",{"$f":"SUM(L3)/I34","v":{"$error":"#DIV/0!"}}]
["RD 4",0,0,null,"ø pro Pfeil",{"$f":"SUM(E3)/C34","v":{"$error":"#DIV/0!"}},null,"RD 4",0,0,null,"ø pro Pfeil",{"$f":"SUM(L3)/J34","v":{"$error":"#DIV/0!"}}]
["RD 5",0,0,null,"Average",null,null,"RD 5",0,0,null,"Average"]
["RD 6",0,0,null,{"$f":"SUM(F6)","v":{"$error":"#DIV/0!"}},null,null,"RD 6",0,0,null,{"$f":"SUM(M6)","v":{"$error":"#DIV/0!"}}]
["RD 7",0,0,null,null,null,null,"RD 7",0,0]
["RD 8",0,0,null,"Nicht Gut",null,null,"RD 8",0,0,null,"Nicht Gut"]
["RD 9",0,0,null,null,null,null,"RD 9",0,0]
["RD 10",0,0,null,"Gut",null,null,"RD 10",0,0,null,"Gut"]
["RD 11",0,0,null,null,null,null,"RD 11",0,0]
["RD 12",0,0,null,null,null,null,"RD 12",0,0]
["RD 13",0,0,null,null,null,null,"RD 13",0,0]
["RD 14",0,0,null,"Sehr  Gut",null,null,"RD 14",0,0,null,"Sehr  Gut"]
["RD 15",0,0,null,null,null,null,"RD 15",0,0]
["RD 16",0,0,null,null,null,null,"RD 16",0,0]
["RD 17",0,0,null,null,null,null,"RD 17",0,0]
["RD 18",0,0,null,null,null,null,"RD 18",0,0]
["RD 19",0,0,null,null,null,null,"RD 19",0,0]
["RD 20",0,0,null,null,null,null,"RD 20",0,0]
["RD 21",0,0,null,{"$f":"IF(E4=0,\"Sieg\",\"\")","v":""},null,null,"RD 21",0,0,null,{"$f":"IF(E4=0,\"Sieg\",\"\")","v":""}]
["RD 22",0,0,null,null,null,null,"RD 22",0,0]
["RD 23",0,0,null,null,null,null,"RD 23",0,0]
["RD 24",0,0,null,null,null,null,"RD 24",0,0]
["RD 25",0,0,null,null,null,null,"RD 25",0,0]
["RD 26",0,0,null,null,null,null,"RD 26",0,0]
["RD 27",0,0,null,null,null,null,"RD 27",0,0]
["RD 28",0,0,null,null,null,null,"RD 28",0,0]
["RD 29",0,0,null,{"$f":"IF(E4=0,\"Sieg\",\"\")","v":""},null,null,"RD 29",0,0,null,{"$f":"IF(E4=0,\"Sieg\",\"\")","v":""}]
["RD 30",0,0,null,null,null,null,"RD 30",0,0]
[null,{"$f":"SUM(B4:B33)","v":0},{"$f":"SUM(C4:C33)","v":0},{"$f":"SUM(D4:D33)","v":0},null,null,null,null,{"$f":"SUM(I4:I33)","v":0},{"$f":"SUM(J4:J33)","v":0},{"$f":"SUM(K4:K33)","v":0}]
[null,null,null,null,{"$f":"IF(E3 > L3, D1, IF(D2 > L3, K1, \"Unentschieden\"))","v":0}]
[null,null,null,{"$f":"D1","v":0},{"$f":"E3","v":0},null,null,null,null,null,{"$f":"INDEX(D36:D37,MATCH(LARGE(E36:E37,1),E36:E37,0))","v":0}]
[null,null,null,{"$f":"K1","v":0},{"$f":"L3","v":0},null,null,null,null,null,{"$f":"INDEX(D36:D37,MATCH(LARGE(E36:E37,2),E36:E37,0))","v":0}]

{"sheet":"Rd. 5","index":4,"n_rows":37,"n_cols":15,"rows_kept":37,"cut":false,"hidden":false,"merged":[[10,4,11,5],[10,11,11,12],[12,4,15,5],[12,11,15,12],[0,3,0,4],[0,10,0,11],[7,4,7,5],[7,11,7,12],[8,4,9,5],[8,11,9,12],[16,4,22,5],[16,11,22,12],[23,4,30,5],[23,11,30,12],[31,4,32,5],[31,11,32,12]]}
[null,null,null,{"$f":"'Rd. 4'!O2","v":0},null,"Sp. 1",null,null,null,null,{"$f":"'Rd. 4'!O1","v":0},null,"Sp. 2",null,{"$f":"INDEX(D36:D37,MATCH(LARGE(E36:E37,1),E36:E37,0))","v":0}]
[null,null,null,"Punkte",501,"Start",null,null,null,null,"Punkte",501,"Start",null,{"$f":"INDEX(D36:D37,MATCH(LARGE(E36:E37,2),E36:E37,0))","v":0}]
[null,null,null,"Geworfen",{"$f":"SUM(D34)","v":0},"Punkte",null,null,null,null,"Geworfen",{"$f":"SUM(K34)","v":0},"Punkte"]
["RD 1",{"$f":"COUNT(D4)*1","v":0},{"$f":"COUNT(D4)*3","v":0},null,{"$f":"SUM(E2-E3)","v":501},"Rest",null,"RD 1",{"$f":"COUNT(K4)*1","v":0},{"$f":"COUNT(K4)*3","v":0},null,{"$f":"SUM(L2-L3)","v":501},"Rest"]
["RD 2",0,0,null,null,null,null,"RD 2",0,0]
["RD 3",0,0,null,"ø pro Spiel",{"$f":"SUM(L3)/B34","v":{"$error":"#DIV/0!"}},null,"RD 3",0,0,null,"ø pro Spiel",{"$f":"SUM(L3)/I34","v":{"$error":"#DIV/0!"}}]
["RD 4",0,0,null,"ø pro Pfeil",{"$f":"SUM(E3)/C34","v":{"$error":"#DIV/0!"}},null,"RD 4",0,0,null,"ø pro Pfeil",{"$f":"SUM(L3)/J34","v":{"$error":"#DIV/0!"}}]
["RD 5",0,0,null,"Average",null,null,"RD 5",0,0,null,"Average"]
["RD 6",0,0,null,{"$f":"SUM(F6)","v":{"$error":"#DIV/0!"}},null,null,"RD 6",0,0,null,{"$f":"SUM(M6)","v":{"$error":"#DIV/0!"}}]
["RD 7",0,0,null,null,null,null,"RD 7",0,0]
["RD 8",0,0,null,"Nicht Gut",null,null,"RD 8",0,0,null,"Nicht Gut"]
["RD 9",0,0,null,null,null,null,"RD 9",0,0]
["RD 10",0,0,null,"Gut",null,null,"RD 10",0,0,null,"Gut"]
["RD 11",0,0,null,null,null,null,"RD 11",0,0]
["RD 12",0,0,null,null,null,null,"RD 12",0,0]
["RD 13",0,0,null,null,null,null,"RD 13",0,0]
["RD 14",0,0,null,"Sehr  Gut",null,null,"RD 14",0,0,null,"Sehr  Gut"]
["RD 15",0,0,null,null,null,null,"RD 15",0,0]
["RD 16",0,0,null,null,null,null,"RD 16",0,0]
["RD 17",0,0,null,null,null,null,"RD 17",0,0]
["RD 18",0,0,null,null,null,null,"RD 18",0,0]
["RD 19",0,0,null,null,null,null,"RD 19",0,0]
["RD 20",0,0,null,null,null,null,"RD 20",0,0]
["RD 21",0,0,null,{"$f":"IF(E4=0,\"Sieg\",\"\")","v":""},null,null,"RD 21",0,0,null,{"$f":"IF(E4=0,\"Sieg\",\"\")","v":""}]
["RD 22",0,0,null,null,null,null,"RD 22",0,0]
["RD 23",0,0,null,null,null,null,"RD 23",0,0]
["RD 24",0,0,null,null,null,null,"RD 24",0,0]
["RD 25",0,0,null,null,null,null,"RD 25",0,0]
["RD 26",0,0,null,null,null,null,"RD 26",0,0]
["RD 27",0,0,null,null,null,null,"RD 27",0,0]
["RD 28",0,0,null,null,null,null,"RD 28",0,0]
["RD 29",0,0,null,{"$f":"IF(E4=0,\"Sieg\",\"\")","v":""},null,null,"RD 29",0,0,null,{"$f":"IF(E4=0,\"Sieg\",\"\")","v":""}]
["RD 30",0,0,null,null,null,null,"RD 30",0,0]
[null,{"$f":"SUM(B4:B33)","v":0},{"$f":"SUM(C4:C33)","v":0},{"$f":"SUM(D4:D33)","v":0},null,null,null,null,{"$f":"SUM(I4:I33)","v":0},{"$f":"SUM(J4:J33)","v":0},{"$f":"SUM(K4:K33)","v":0}]
[null,null,null,null,{"$f":"IF(E3 > L3, D1, IF(D2 > L3, K1, \"Unentschieden\"))","v":0}]
[null,null,null,{"$f":"D1","v":0},{"$f":"E3","v":0},null,null,null,null,null,{"$f":"INDEX(D36:D37,MATCH(LARGE(E36:E37,1),E36:E37,0))","v":0}]
[null,null,null,{"$f":"K1","v":0},{"$f":"L3","v":0},null,null,null,null,null,{"$f":"INDEX(D36:D37,MATCH(LARGE(E36:E37,2),E36:E37,0))","v":0}]

{"sheet":"Rd. 6","index":5,"n_rows":37,"n_cols":15,"rows_kept":37,"cut":false,"hidden":false,"merged":[[10,4,11,5],[10,11,11,12],[12,4,15,5],[12,11,15,12],[0,3,0,4],[0,10,0,11],[7,4,7,5],[7,11,7,12],[8,4,9,5],[8,11,9,12],[16,4,22,5],[16,11,22,12],[23,4,30,5],[23,11,30,12],[31,4,32,5],[31,11,32,12]]}
[null,null,null,{"$f":"'Rd. 5'!O2","v":0},null,"Sp. 1",null,null,null,null,{"$f":"'Rd. 5'!O1","v":0},null,"Sp. 2",null,{"$f":"INDEX(D36:D37,MATCH(LARGE(E36:E37,1),E36:E37,0))","v":0}]
[null,null,null,"Punkte",501,"Start",null,null,null,null,"Punkte",501,"Start",null,{"$f":"INDEX(D36:D37,MATCH(LARGE(E36:E37,2),E36:E37,0))","v":0}]
[null,null,null,"Geworfen",{"$f":"SUM(D34)","v":0},"Punkte",null,null,null,null,"Geworfen",{"$f":"SUM(K34)","v":0},"Punkte"]
["RD 1",{"$f":"COUNT(D4)*1","v":0},{"$f":"COUNT(D4)*3","v":0},null,{"$f":"SUM(E2-E3)","v":501},"Rest",null,"RD 1",{"$f":"COUNT(K4)*1","v":0},{"$f":"COUNT(K4)*3","v":0},null,{"$f":"SUM(L2-L3)","v":501},"Rest"]
["RD 2",0,0,null,null,null,null,"RD 2",0,0]
["RD 3",0,0,null,"ø pro Spiel",{"$f":"SUM(L3)/B34","v":{"$error":"#DIV/0!"}},null,"RD 3",0,0,null,"ø pro Spiel",{"$f":"SUM(L3)/I34","v":{"$error":"#DIV/0!"}}]
["RD 4",0,0,null,"ø pro Pfeil",{"$f":"SUM(E3)/C34","v":{"$error":"#DIV/0!"}},null,"RD 4",0,0,null,"ø pro Pfeil",{"$f":"SUM(L3)/J34","v":{"$error":"#DIV/0!"}}]
["RD 5",0,0,null,"Average",null,null,"RD 5",0,0,null,"Average"]
["RD 6",0,0,null,{"$f":"SUM(F6)","v":{"$error":"#DIV/0!"}},null,null,"RD 6",0,0,null,{"$f":"SUM(M6)","v":{"$error":"#DIV/0!"}}]
["RD 7",0,0,null,null,null,null,"RD 7",0,0]
["RD 8",0,0,null,"Nicht Gut",null,null,"RD 8",0,0,null,"Nicht Gut"]
["RD 9",0,0,null,null,null,null,"RD 9",0,0]
["RD 10",0,0,null,"Gut",null,null,"RD 10",0,0,null,"Gut"]
["RD 11",0,0,null,null,null,null,"RD 11",0,0]
["RD 12",0,0,null,null,null,null,"RD 12",0,0]
["RD 13",0,0,null,null,null,null,"RD 13",0,0]
["RD 14",0,0,null,"Sehr  Gut",null,null,"RD 14",0,0,null,"Sehr  Gut"]
["RD 15",0,0,null,null,null,null,"RD 15",0,0]
["RD 16",0,0,null,null,null,null,"RD 16",0,0]
["RD 17",0,0,null,null,null,null,"RD 17",0,0]
["RD 18",0,0,null,null,null,null,"RD 18",0,0]
["RD 19",0,0,null,null,null,null,"RD 19",0,0]
["RD 20",0,0,null,null,null,null,"RD 20",0,0]
["RD 21",0,0,null,{"$f":"IF(E4=0,\"Sieg\",\"\")","v":""},null,null,"RD 21",0,0,null,{"$f":"IF(E4=0,\"Sieg\",\"\")","v":""}]
["RD 22",0,0,null,null,null,null,"RD 22",0,0]
["RD 23",0,0,null,null,null,null,"RD 23",0,0]
["RD 24",0,0,null,null,null,null,"RD 24",0,0]
["RD 25",0,0,null,null,null,null,"RD 25",0,0]
["RD 26",0,0,null,null,null,null,"RD 26",0,0]
["RD 27",0,0,null,null,null,null,"RD 27",0,0]
["RD 28",0,0,null,null,null,null,"RD 28",0,0]
["RD 29",0,0,null,{"$f":"IF(E4=0,\"Sieg\",\"\")","v":""},null,null,"RD 29",0,0,null,{"$f":"IF(E4=0,\"Sieg\",\"\")","v":""}]
["RD 30",0,0,null,null,null,null,"RD 30",0,0]
[null,{"$f":"SUM(B4:B33)","v":0},{"$f":"SUM(C4:C33)","v":0},{"$f":"SUM(D4:D33)","v":0},null,null,null,null,{"$f":"SUM(I4:I33)","v":0},{"$f":"SUM(J4:J33)","v":0},{"$f":"SUM(K4:K33)","v":0}]
[null,null,null,null,{"$f":"IF(E3 > L3, D1, IF(D2 > L3, K1, \"Unentschieden\"))","v":0}]
[null,null,null,{"$f":"D1","v":0},{"$f":"E3","v":0},null,null,null,null,null,{"$f":"INDEX(D36:D37,MATCH(LARGE(E36:E37,1),E36:E37,0))","v":0}]
[null,null,null,{"$f":"K1","v":0},{"$f":"L3","v":0},null,null,null,null,null,{"$f":"INDEX(D36:D37,MATCH(LARGE(E36:E37,2),E36:E37,0))","v":0}]

{"sheet":"Rd. 7","index":6,"n_rows":37,"n_cols":15,"rows_kept":37,"cut":false,"hidden":false,"merged":[[10,4,11,5],[10,11,11,12],[12,4,15,5],[12,11,15,12],[0,3,0,4],[0,10,0,11],[7,4,7,5],[7,11,7,12],[8,4,9,5],[8,11,9,12],[16,4,22,5],[16,11,22,12],[23,4,30,5],[23,11,30,12],[31,4,32,5],[31,11,32,12]]}
[null,null,null,{"$f":"'Rd. 6'!O2","v":0},null,"Sp. 1",null,null,null,null,{"$f":"'Rd. 6'!O1","v":0},null,"Sp. 2",null,{"$f":"INDEX(D36:D37,MATCH(LARGE(E36:E37,1),E36:E37,0))","v":0}]
[null,null,null,"Punkte",501,"Start",null,null,null,null,"Punkte",501,"Start",null,{"$f":"INDEX(D36:D37,MATCH(LARGE(E36:E37,2),E36:E37,0))","v":0}]
[null,null,null,"Geworfen",{"$f":"SUM(D34)","v":0},"Punkte",null,null,null,null,"Geworfen",{"$f":"SUM(K34)","v":0},"Punkte"]
["RD 1",{"$f":"COUNT(D4)*1","v":0},{"$f":"COUNT(D4)*3","v":0},null,{"$f":"SUM(E2-E3)","v":501},"Rest",null,"RD 1",{"$f":"COUNT(K4)*1","v":0},{"$f":"COUNT(K4)*3","v":0},null,{"$f":"SUM(L2-L3)","v":501},"Rest"]
["RD 2",0,0,null,null,null,null,"RD 2",0,0]
["RD 3",0,0,null,"ø pro Spiel",{"$f":"SUM(L3)/B34","v":{"$error":"#DIV/0!"}},null,"RD 3",0,0,null,"ø pro Spiel",{"$f":"SUM(L3)/I34","v":{"$error":"#DIV/0!"}}]
["RD 4",0,0,null,"ø pro Pfeil",{"$f":"SUM(E3)/C34","v":{"$error":"#DIV/0!"}},null,"RD 4",0,0,null,"ø pro Pfeil",{"$f":"SUM(L3)/J34","v":{"$error":"#DIV/0!"}}]
["RD 5",0,0,null,"Average",null,null,"RD 5",0,0,null,"Average"]
["RD 6",0,0,null,{"$f":"SUM(F6)","v":{"$error":"#DIV/0!"}},null,null,"RD 6",0,0,null,{"$f":"SUM(M6)","v":{"$error":"#DIV/0!"}}]
["RD 7",0,0,null,null,null,null,"RD 7",0,0]
["RD 8",0,0,null,"Nicht Gut",null,null,"RD 8",0,0,null,"Nicht Gut"]
["RD 9",0,0,null,null,null,null,"RD 9",0,0]
["RD 10",0,0,null,"Gut",null,null,"RD 10",0,0,null,"Gut"]
["RD 11",0,0,null,null,null,null,"RD 11",0,0]
["RD 12",0,0,null,null,null,null,"RD 12",0,0]
["RD 13",0,0,null,null,null,null,"RD 13",0,0]
["RD 14",0,0,null,"Sehr  Gut",null,null,"RD 14",0,0,null,"Sehr  Gut"]
["RD 15",0,0,null,null,null,null,"RD 15",0,0]
["RD 16",0,0,null,null,null,null,"RD 16",0,0]
["RD 17",0,0,null,null,null,null,"RD 17",0,0]
["RD 18",0,0,null,null,null,null,"RD 18",0,0]
["RD 19",0,0,null,null,null,null,"RD 19",0,0]
["RD 20",0,0,null,null,null,null,"RD 20",0,0]
["RD 21",0,0,null,{"$f":"IF(E4=0,\"Sieg\",\"\")","v":""},null,null,"RD 21",0,0,null,{"$f":"IF(E4=0,\"Sieg\",\"\")","v":""}]
["RD 22",0,0,null,null,null,null,"RD 22",0,0]
["RD 23",0,0,null,null,null,null,"RD 23",0,0]
["RD 24",0,0,null,null,null,null,"RD 24",0,0]
["RD 25",0,0,null,null,null,null,"RD 25",0,0]
["RD 26",0,0,null,null,null,null,"RD 26",0,0]
["RD 27",0,0,null,null,null,null,"RD 27",0,0]
["RD 28",0,0,null,null,null,null,"RD 28",0,0]
["RD 29",0,0,null,{"$f":"IF(E4=0,\"Sieg\",\"\")","v":""},null,null,"RD 29",0,0,null,{"$f":"IF(E4=0,\"Sieg\",\"\")","v":""}]
["RD 30",0,0,null,null,null,null,"RD 30",0,0]
[null,{"$f":"SUM(B4:B33)","v":0},{"$f":"SUM(C4:C33)","v":0},{"$f":"SUM(D4:D33)","v":0},null,null,null,null,{"$f":"SUM(I4:I33)","v":0},{"$f":"SUM(J4:J33)","v":0},{"$f":"SUM(K4:K33)","v":0}]
[null,null,null,null,{"$f":"IF(E3 > L3, D1, IF(D2 > L3, K1, \"Unentschieden\"))","v":0}]
[null,null,null,{"$f":"D1","v":0},{"$f":"E3","v":0},null,null,null,null,null,{"$f":"INDEX(D36:D37,MATCH(LARGE(E36:E37,1),E36:E37,0))","v":0}]
[null,null,null,{"$f":"K1","v":0},{"$f":"L3","v":0},null,null,null,null,null,{"$f":"INDEX(D36:D37,MATCH(LARGE(E36:E37,2),E36:E37,0))","v":0}]

{"sheet":"Rd. 8","index":7,"n_rows":37,"n_cols":15,"rows_kept":37,"cut":false,"hidden":false,"merged":[[10,4,11,5],[10,11,11,12],[12,4,15,5],[12,11,15,12],[0,3,0,4],[0,10,0,11],[7,4,7,5],[7,11,7,12],[8,4,9,5],[8,11,9,12],[16,4,22,5],[16,11,22,12],[23,4,30,5],[23,11,30,12],[31,4,32,5],[31,11,32,12]]}
[null,null,null,{"$f":"'Rd. 7'!O2","v":0},null,"Sp. 1",null,null,null,null,{"$f":"'Rd. 7'!O1","v":0},null,"Sp. 2",null,{"$f":"INDEX(D36:D37,MATCH(LARGE(E36:E37,1),E36:E37,0))","v":0}]
[null,null,null,"Punkte",501,"Start",null,null,null,null,"Punkte",501,"Start",null,{"$f":"INDEX(D36:D37,MATCH(LARGE(E36:E37,2),E36:E37,0))","v":0}]
[null,null,null,"Geworfen",{"$f":"SUM(D34)","v":0},"Punkte",null,null,null,null,"Geworfen",{"$f":"SUM(K34)","v":0},"Punkte"]
["RD 1",{"$f":"COUNT(D4)*1","v":0},{"$f":"COUNT(D4)*3","v":0},null,{"$f":"SUM(E2-E3)","v":501},"Rest",null,"RD 1",{"$f":"COUNT(K4)*1","v":0},{"$f":"COUNT(K4)*3","v":0},null,{"$f":"SUM(L2-L3)","v":501},"Rest"]
["RD 2",0,0,null,null,null,null,"RD 2",0,0]
["RD 3",0,0,null,"ø pro Spiel",{"$f":"SUM(L3)/B34","v":{"$error":"#DIV/0!"}},null,"RD 3",0,0,null,"ø pro Spiel",{"$f":"SUM(L3)/I34","v":{"$error":"#DIV/0!"}}]
["RD 4",0,0,null,"ø pro Pfeil",{"$f":"SUM(E3)/C34","v":{"$error":"#DIV/0!"}},null,"RD 4",0,0,null,"ø pro Pfeil",{"$f":"SUM(L3)/J34","v":{"$error":"#DIV/0!"}}]
["RD 5",0,0,null,"Average",null,null,"RD 5",0,0,null,"Average"]
["RD 6",0,0,null,{"$f":"SUM(F6)","v":{"$error":"#DIV/0!"}},null,null,"RD 6",0,0,null,{"$f":"SUM(M6)","v":{"$error":"#DIV/0!"}}]
["RD 7",0,0,null,null,null,null,"RD 7",0,0]
["RD 8",0,0,null,"Nicht Gut",null,null,"RD 8",0,0,null,"Nicht Gut"]
["RD 9",0,0,null,null,null,null,"RD 9",0,0]
["RD 10",0,0,null,"Gut",null,null,"RD 10",0,0,null,"Gut"]
["RD 11",0,0,null,null,null,null,"RD 11",0,0]
["RD 12",0,0,null,null,null,null,"RD 12",0,0]
["RD 13",0,0,null,null,null,null,"RD 13",0,0]
["RD 14",0,0,null,"Sehr  Gut",null,null,"RD 14",0,0,null,"Sehr  Gut"]
["RD 15",0,0,null,null,null,null,"RD 15",0,0]
["RD 16",0,0,null,null,null,null,"RD 16",0,0]
["RD 17",0,0,null,null,null,null,"RD 17",0,0]
["RD 18",0,0,null,null,null,null,"RD 18",0,0]
["RD 19",0,0,null,null,null,null,"RD 19",0,0]
["RD 20",0,0,null,null,null,null,"RD 20",0,0]
["RD 21",0,0,null,{"$f":"IF(E4=0,\"Sieg\",\"\")","v":""},null,null,"RD 21",0,0,null,{"$f":"IF(E4=0,\"Sieg\",\"\")","v":""}]
["RD 22",0,0,null,null,null,null,"RD 22",0,0]
["RD 23",0,0,null,null,null,null,"RD 23",0,0]
["RD 24",0,0,null,null,null,null,"RD 24",0,0]
["RD 25",0,0,null,null,null,null,"RD 25",0,0]
["RD 26",0,0,null,null,null,null,"RD 26",0,0]
["RD 27",0,0,null,null,null,null,"RD 27",0,0]
["RD 28",0,0,null,null,null,null,"RD 28",0,0]
["RD 29",0,0,null,{"$f":"IF(E4=0,\"Sieg\",\"\")","v":""},null,null,"RD 29",0,0,null,{"$f":"IF(E4=0,\"Sieg\",\"\")","v":""}]
["RD 30",0,0,null,null,null,null,"RD 30",0,0]
[null,{"$f":"SUM(B4:B33)","v":0},{"$f":"SUM(C4:C33)","v":0},{"$f":"SUM(D4:D33)","v":0},null,null,null,null,{"$f":"SUM(I4:I33)","v":0},{"$f":"SUM(J4:J33)","v":0},{"$f":"SUM(K4:K33)","v":0}]
[null,null,null,null,{"$f":"IF(E3 > L3, D1, IF(D2 > L3, K1, \"Unentschieden\"))","v":0}]
[null,null,null,{"$f":"D1","v":0},{"$f":"E3","v":0},null,null,null,null,null,{"$f":"INDEX(D36:D37,MATCH(LARGE(E36:E37,1),E36:E37,0))","v":0}]
[null,null,null,{"$f":"K1","v":0},{"$f":"L3","v":0},null,null,null,null,null,{"$f":"INDEX(D36:D37,MATCH(LARGE(E36:E37,2),E36:E37,0))","v":0}]

{"sheet":"Rd. 9","index":8,"n_rows":37,"n_cols":15,"rows_kept":37,"cut":false,"hidden":false,"merged":[[10,4,11,5],[10,11,11,12],[12,4,15,5],[12,11,15,12],[0,3,0,4],[0,10,0,11],[7,4,7,5],[7,11,7,12],[8,4,9,5],[8,11,9,12],[16,4,22,5],[16,11,22,12],[23,4,30,5],[23,11,30,12],[31,4,32,5],[31,11,32,12]]}
[null,null,null,{"$f":"'Rd. 8'!O2","v":0},null,"Sp. 1",null,null,null,null,{"$f":"'Rd. 8'!O1","v":0},null,"Sp. 2",null,{"$f":"INDEX(D36:D37,MATCH(LARGE(E36:E37,1),E36:E37,0))","v":0}]
[null,null,null,"Punkte",501,"Start",null,null,null,null,"Punkte",501,"Start",null,{"$f":"INDEX(D36:D37,MATCH(LARGE(E36:E37,2),E36:E37,0))","v":0}]
[null,null,null,"Geworfen",{"$f":"SUM(D34)","v":0},"Punkte",null,null,null,null,"Geworfen",{"$f":"SUM(K34)","v":0},"Punkte"]
["RD 1",{"$f":"COUNT(D4)*1","v":0},{"$f":"COUNT(D4)*3","v":0},null,{"$f":"SUM(E2-E3)","v":501},"Rest",null,"RD 1",{"$f":"COUNT(K4)*1","v":0},{"$f":"COUNT(K4)*3","v":0},null,{"$f":"SUM(L2-L3)","v":501},"Rest"]
["RD 2",0,0,null,null,null,null,"RD 2",0,0]
["RD 3",0,0,null,"ø pro Spiel",{"$f":"SUM(L3)/B34","v":{"$error":"#DIV/0!"}},null,"RD 3",0,0,null,"ø pro Spiel",{"$f":"SUM(L3)/I34","v":{"$error":"#DIV/0!"}}]
["RD 4",0,0,null,"ø pro Pfeil",{"$f":"SUM(E3)/C34","v":{"$error":"#DIV/0!"}},null,"RD 4",0,0,null,"ø pro Pfeil",{"$f":"SUM(L3)/J34","v":{"$error":"#DIV/0!"}}]
["RD 5",0,0,null,"Average",null,null,"RD 5",0,0,null,"Average"]
["RD 6",0,0,null,{"$f":"SUM(F6)","v":{"$error":"#DIV/0!"}},null,null,"RD 6",0,0,null,{"$f":"SUM(M6)","v":{"$error":"#DIV/0!"}}]
["RD 7",0,0,null,null,null,null,"RD 7",0,0]
["RD 8",0,0,null,"Nicht Gut",null,null,"RD 8",0,0,null,"Nicht Gut"]
["RD 9",0,0,null,null,null,null,"RD 9",0,0]
["RD 10",0,0,null,"Gut",null,null,"RD 10",0,0,null,"Gut"]
["RD 11",0,0,null,null,null,null,"RD 11",0,0]
["RD 12",0,0,null,null,null,null,"RD 12",0,0]
["RD 13",0,0,null,null,null,null,"RD 13",0,0]
["RD 14",0,0,null,"Sehr  Gut",null,null,"RD 14",0,0,null,"Sehr  Gut"]
["RD 15",0,0,null,null,null,null,"RD 15",0,0]
["RD 16",0,0,null,null,null,null,"RD 16",0,0]
["RD 17",0,0,null,null,null,null,"RD 17",0,0]
["RD 18",0,0,null,null,null,null,"RD 18",0,0]
["RD 19",0,0,null,null,null,null,"RD 19",0,0]
["RD 20",0,0,null,null,null,null,"RD 20",0,0]
["RD 21",0,0,null,{"$f":"IF(E4=0,\"Sieg\",\"\")","v":""},null,null,"RD 21",0,0,null,{"$f":"IF(E4=0,\"Sieg\",\"\")","v":""}]
["RD 22",0,0,null,null,null,null,"RD 22",0,0]
["RD 23",0,0,null,null,null,null,"RD 23",0,0]
["RD 24",0,0,null,null,null,null,"RD 24",0,0]
["RD 25",0,0,null,null,null,null,"RD 25",0,0]
["RD 26",0,0,null,null,null,null,"RD 26",0,0]
["RD 27",0,0,null,null,null,null,"RD 27",0,0]
["RD 28",0,0,null,null,null,null,"RD 28",0,0]
["RD 29",0,0,null,{"$f":"IF(E4=0,\"Sieg\",\"\")","v":""},null,null,"RD 29",0,0,null,{"$f":"IF(E4=0,\"Sieg\",\"\")","v":""}]
["RD 30",0,0,null,null,null,null,"RD 30",0,0]
[null,{"$f":"SUM(B4:B33)","v":0},{"$f":"SUM(C4:C33)","v":0},{"$f":"SUM(D4:D33)","v":0},null,null,null,null,{"$f":"SUM(I4:I33)","v":0},{"$f":"SUM(J4:J33)","v":0},{"$f":"SUM(K4:K33)","v":0}]
[null,null,null,null,{"$f":"IF(E3 > L3, D1, IF(D2 > L3, K1, \"Unentschieden\"))","v":0}]
[null,null,null,{"$f":"D1","v":0},{"$f":"E3","v":0},null,null,null,null,null,{"$f":"INDEX(D36:D37,MATCH(LARGE(E36:E37,1),E36:E37,0))","v":0}]
[null,null,null,{"$f":"K1","v":0},{"$f":"L3","v":0},null,null,null,null,null,{"$f":"INDEX(D36:D37,MATCH(LARGE(E36:E37,2),E36:E37,0))","v":0}]

{"sheet":"Rd. 10","index":9,"n_rows":37,"n_cols":15,"rows_kept":37,"cut":false,"hidden":false,"merged":[[10,4,11,5],[10,11,11,12],[12,4,15,5],[12,11,15,12],[0,3,0,4],[0,10,0,11],[7,4,7,5],[7,11,7,12],[8,4,9,5],[8,11,9,12],[16,4,22,5],[16,11,22,12],[23,4,30,5],[23,11,30,12],[31,4,32,5],[31,11,32,12]]}
[null,null,null,{"$f":"'Rd. 9'!O2","v":0},null,"Sp. 1",null,null,null,null,{"$f":"'Rd. 9'!O1","v":0},null,"Sp. 2",null,{"$f":"INDEX(D36:D37,MATCH(LARGE(E36:E37,1),E36:E37,0))","v":0}]
[null,null,null,"Punkte",501,"Start",null,null,null,null,"Punkte",501,"Start",null,{"$f":"INDEX(D36:D37,MATCH(LARGE(E36:E37,2),E36:E37,0))","v":0}]
[null,null,null,"Geworfen",{"$f":"SUM(D34)","v":0},"Punkte",null,null,null,null,"Geworfen",{"$f":"SUM(K34)","v":0},"Punkte"]
["RD 1",{"$f":"COUNT(D4)*1","v":0},{"$f":"COUNT(D4)*3","v":0},null,{"$f":"SUM(E2-E3)","v":501},"Rest",null,"RD 1",{"$f":"COUNT(K4)*1","v":0},{"$f":"COUNT(K4)*3","v":0},null,{"$f":"SUM(L2-L3)","v":501},"Rest"]
["RD 2",0,0,null,null,null,null,"RD 2",0,0]
["RD 3",0,0,null,"ø pro Spiel",{"$f":"SUM(L3)/B34","v":{"$error":"#DIV/0!"}},null,"RD 3",0,0,null,"ø pro Spiel",{"$f":"SUM(L3)/I34","v":{"$error":"#DIV/0!"}}]
["RD 4",0,0,null,"ø pro Pfeil",{"$f":"SUM(E3)/C34","v":{"$error":"#DIV/0!"}},null,"RD 4",0,0,null,"ø pro Pfeil",{"$f":"SUM(L3)/J34","v":{"$error":"#DIV/0!"}}]
["RD 5",0,0,null,"Average",null,null,"RD 5",0,0,null,"Average"]
["RD 6",0,0,null,{"$f":"SUM(F6)","v":{"$error":"#DIV/0!"}},null,null,"RD 6",0,0,null,{"$f":"SUM(M6)","v":{"$error":"#DIV/0!"}}]
["RD 7",0,0,null,null,null,null,"RD 7",0,0]
["RD 8",0,0,null,"Nicht Gut",null,null,"RD 8",0,0,null,"Nicht Gut"]
["RD 9",0,0,null,null,null,null,"RD 9",0,0]
["RD 10",0,0,null,"Gut",null,null,"RD 10",0,0,null,"Gut"]
["RD 11",0,0,null,null,null,null,"RD 11",0,0]
["RD 12",0,0,null,null,null,null,"RD 12",0,0]
["RD 13",0,0,null,null,null,null,"RD 13",0,0]
["RD 14",0,0,null,"Sehr  Gut",null,null,"RD 14",0,0,null,"Sehr  Gut"]
["RD 15",0,0,null,null,null,null,"RD 15",0,0]
["RD 16",0,0,null,null,null,null,"RD 16",0,0]
["RD 17",0,0,null,null,null,null,"RD 17",0,0]
["RD 18",0,0,null,null,null,null,"RD 18",0,0]
["RD 19",0,0,null,null,null,null,"RD 19",0,0]
["RD 20",0,0,null,null,null,null,"RD 20",0,0]
["RD 21",0,0,null,{"$f":"IF(E4=0,\"Sieg\",\"\")","v":""},null,null,"RD 21",0,0,null,{"$f":"IF(E4=0,\"Sieg\",\"\")","v":""}]
["RD 22",0,0,null,null,null,null,"RD 22",0,0]
["RD 23",0,0,null,null,null,null,"RD 23",0,0]
["RD 24",0,0,null,null,null,null,"RD 24",0,0]
["RD 25",0,0,null,null,null,null,"RD 25",0,0]
["RD 26",0,0,null,null,null,null,"RD 26",0,0]
["RD 27",0,0,null,null,null,null,"RD 27",0,0]
["RD 28",0,0,null,null,null,null,"RD 28",0,0]
["RD 29",0,0,null,{"$f":"IF(E4=0,\"Sieg\",\"\")","v":""},null,null,"RD 29",0,0,null,{"$f":"IF(E4=0,\"Sieg\",\"\")","v":""}]
["RD 30",0,0,null,null,null,null,"RD 30",0,0]
[null,{"$f":"SUM(B4:B33)","v":0},{"$f":"SUM(C4:C33)","v":0},{"$f":"SUM(D4:D33)","v":0},null,null,null,null,{"$f":"SUM(I4:I33)","v":0},{"$f":"SUM(J4:J33)","v":0},{"$f":"SUM(K4:K33)","v":0}]
[null,null,null,null,{"$f":"IF(E3 > L3, D1, IF(D2 > L3, K1, \"Unentschieden\"))","v":0}]
[null,null,null,{"$f":"D1","v":0},{"$f":"E3","v":0},null,null,null,null,null,{"$f":"INDEX(D36:D37,MATCH(LARGE(E36:E37,1),E36:E37,0))","v":0}]
[null,null,null,{"$f":"K1","v":0},{"$f":"L3","v":0},null,null,null,null,null,{"$f":"INDEX(D36:D37,MATCH(LARGE(E36:E37,2),E36:E37,0))","v":0}]

{"sheet":"Rd. 11","index":10,"n_rows":37,"n_cols":15,"rows_kept":37,"cut":false,"hidden":false,"merged":[[0,3,0,4],[0,10,0,11],[7,4,7,5],[7,11,7,12],[8,4,9,5],[8,11,9,12],[23,11,30,12],[31,4,32,5],[31,11,32,12],[10,4,11,5],[10,11,11,12],[12,4,15,5],[12,11,15,12],[16,4,22,5],[16,11,22,12],[23,4,30,5]]}
[null,null,null,{"$f":"'Rd. 10'!O2","v":0},null,"Sp. 1",null,null,null,null,{"$f":"'Rd. 10'!O1","v":0},null,"Sp. 2",null,{"$f":"INDEX(D36:D37,MATCH(LARGE(E36:E37,1),E36:E37,0))","v":0}]
[null,null,null,"Punkte",501,"Start",null,null,null,null,"Punkte",501,"Start",null,{"$f":"INDEX(D36:D37,MATCH(LARGE(E36:E37,2),E36:E37,0))","v":0}]
[null,null,null,"Geworfen",{"$f":"SUM(D34)","v":0},"Punkte",null,null,null,null,"Geworfen",{"$f":"SUM(K34)","v":0},"Punkte"]
["RD 1",{"$f":"COUNT(D4)*1","v":0},{"$f":"COUNT(D4)*3","v":0},null,{"$f":"SUM(E2-E3)","v":501},"Rest",null,"RD 1",{"$f":"COUNT(K4)*1","v":0},{"$f":"COUNT(K4)*3","v":0},null,{"$f":"SUM(L2-L3)","v":501},"Rest"]
["RD 2",0,0,null,null,null,null,"RD 2",0,0]
["RD 3",0,0,null,"ø pro Spiel",{"$f":"SUM(L3)/B34","v":{"$error":"#DIV/0!"}},null,"RD 3",0,0,null,"ø pro Spiel",{"$f":"SUM(L3)/I34","v":{"$error":"#DIV/0!"}}]
["RD 4",0,0,null,"ø pro Pfeil",{"$f":"SUM(E3)/C34","v":{"$error":"#DIV/0!"}},null,"RD 4",0,0,null,"ø pro Pfeil",{"$f":"SUM(L3)/J34","v":{"$error":"#DIV/0!"}}]
["RD 5",0,0,null,"Average",null,null,"RD 5",0,0,null,"Average"]
["RD 6",0,0,null,{"$f":"SUM(F6)","v":{"$error":"#DIV/0!"}},null,null,"RD 6",0,0,null,{"$f":"SUM(M6)","v":{"$error":"#DIV/0!"}}]
["RD 7",0,0,null,null,null,null,"RD 7",0,0]
["RD 8",0,0,null,"Nicht Gut",null,null,"RD 8",0,0,null,"Nicht Gut"]
["RD 9",0,0,null,null,null,null,"RD 9",0,0]
["RD 10",0,0,null,"Gut",null,null,"RD 10",0,0,null,"Gut"]
["RD 11",0,0,null,null,null,null,"RD 11",0,0]
["RD 12",0,0,null,null,null,null,"RD 12",0,0]
["RD 13",0,0,null,null,null,null,"RD 13",0,0]
["RD 14",0,0,null,"Sehr  Gut",null,null,"RD 14",0,0,null,"Sehr  Gut"]
["RD 15",0,0,null,null,null,null,"RD 15",0,0]
["RD 16",0,0,null,null,null,null,"RD 16",0,0]
["RD 17",0,0,null,null,null,null,"RD 17",0,0]
["RD 18",0,0,null,null,null,null,"RD 18",0,0]
["RD 19",0,0,null,null,null,null,"RD 19",0,0]
["RD 20",0,0,null,null,null,null,"RD 20",0,0]
["RD 21",0,0,null,{"$f":"IF(E4=0,\"Sieg\",\"\")","v":""},null,null,"RD 21",0,0,null,{"$f":"IF(E4=0,\"Sieg\",\"\")","v":""}]
["RD 22",0,0,null,null,null,null,"RD 22",0,0]
["RD 23",0,0,null,null,null,null,"RD 23",0,0]
["RD 24",0,0,null,null,null,null,"RD 24",0,0]
["RD 25",0,0,null,null,null,null,"RD 25",0,0]
["RD 26",0,0,null,null,null,null,"RD 26",0,0]
["RD 27",0,0,null,null,null,null,"RD 27",0,0]
["RD 28",0,0,null,null,null,null,"RD 28",0,0]
["RD 29",0,0,null,{"$f":"IF(E4=0,\"Sieg\",\"\")","v":""},null,null,"RD 29",0,0,null,{"$f":"IF(E4=0,\"Sieg\",\"\")","v":""}]
["RD 30",0,0,null,null,null,null,"RD 30",0,0]
[null,{"$f":"SUM(B4:B33)","v":0},{"$f":"SUM(C4:C33)","v":0},{"$f":"SUM(D4:D33)","v":0},null,null,null,null,{"$f":"SUM(I4:I33)","v":0},{"$f":"SUM(J4:J33)","v":0},{"$f":"SUM(K4:K33)","v":0}]
[null,null,null,null,{"$f":"IF(E3 > L3, D1, IF(D2 > L3, K1, \"Unentschieden\"))","v":0}]
[null,null,null,{"$f":"D1","v":0},{"$f":"E3","v":0},null,null,null,null,null,{"$f":"INDEX(D36:D37,MATCH(LARGE(E36:E37,1),E36:E37,0))","v":0}]
[null,null,null,{"$f":"K1","v":0},{"$f":"L3","v":0},null,null,null,null,null,{"$f":"INDEX(D36:D37,MATCH(LARGE(E36:E37,2),E36:E37,0))","v":0}]

{"sheet":"Rd. 12","index":11,"n_rows":37,"n_cols":15,"rows_kept":37,"cut":false,"hidden":false,"merged":[[23,4,30,5],[23,11,30,12],[31,4,32,5],[31,11,32,12],[0,3,0,4],[0,10,0,11],[7,4,7,5],[7,11,7,12],[8,4,9,5],[8,11,9,12],[10,4,11,5],[10,11,11,12],[12,4,15,5],[12,11,15,12],[16,4,22,5],[16,11,22,12]]}
[null,null,null,{"$f":"'Rd. 11'!O2","v":0},null,"Sp. 1",null,null,null,null,{"$f":"'Rd. 11'!O1","v":0},null,"Sp. 2",null,{"$f":"INDEX(D36:D37,MATCH(LARGE(E36:E37,1),E36:E37,0))","v":0}]
[null,null,null,"Punkte",501,"Start",null,null,null,null,"Punkte",501,"Start",null,{"$f":"INDEX(D36:D37,MATCH(LARGE(E36:E37,2),E36:E37,0))","v":0}]
[null,null,null,"Geworfen",{"$f":"SUM(D34)","v":0},"Punkte",null,null,null,null,"Geworfen",{"$f":"SUM(K34)","v":0},"Punkte"]
["RD 1",{"$f":"COUNT(D4)*1","v":0},{"$f":"COUNT(D4)*3","v":0},null,{"$f":"SUM(E2-E3)","v":501},"Rest",null,"RD 1",{"$f":"COUNT(K4)*1","v":0},{"$f":"COUNT(K4)*3","v":0},null,{"$f":"SUM(L2-L3)","v":501},"Rest"]
["RD 2",0,0,null,null,null,null,"RD 2",0,0]
["RD 3",0,0,null,"ø pro Spiel",{"$f":"SUM(L3)/B34","v":{"$error":"#DIV/0!"}},null,"RD 3",0,0,null,"ø pro Spiel",{"$f":"SUM(L3)/I34","v":{"$error":"#DIV/0!"}}]
["RD 4",0,0,null,"ø pro Pfeil",{"$f":"SUM(E3)/C34","v":{"$error":"#DIV/0!"}},null,"RD 4",0,0,null,"ø pro Pfeil",{"$f":"SUM(L3)/J34","v":{"$error":"#DIV/0!"}}]
["RD 5",0,0,null,"Average",null,null,"RD 5",0,0,null,"Average"]
["RD 6",0,0,null,{"$f":"SUM(F6)","v":{"$error":"#DIV/0!"}},null,null,"RD 6",0,0,null,{"$f":"SUM(M6)","v":{"$error":"#DIV/0!"}}]
["RD 7",0,0,null,null,null,null,"RD 7",0,0]
["RD 8",0,0,null,"Nicht Gut",null,null,"RD 8",0,0,null,"Nicht Gut"]
["RD 9",0,0,null,null,null,null,"RD 9",0,0]
["RD 10",0,0,null,"Gut",null,null,"RD 10",0,0,null,"Gut"]
["RD 11",0,0,null,null,null,null,"RD 11",0,0]
["RD 12",0,0,null,null,null,null,"RD 12",0,0]
["RD 13",0,0,null,null,null,null,"RD 13",0,0]
["RD 14",0,0,null,"Sehr  Gut",null,null,"RD 14",0,0,null,"Sehr  Gut"]
["RD 15",0,0,null,null,null,null,"RD 15",0,0]
["RD 16",0,0,null,null,null,null,"RD 16",0,0]
["RD 17",0,0,null,null,null,null,"RD 17",0,0]
["RD 18",0,0,null,null,null,null,"RD 18",0,0]
["RD 19",0,0,null,null,null,null,"RD 19",0,0]
["RD 20",0,0,null,null,null,null,"RD 20",0,0]
["RD 21",0,0,null,{"$f":"IF(E4=0,\"Sieg\",\"\")","v":""},null,null,"RD 21",0,0,null,{"$f":"IF(E4=0,\"Sieg\",\"\")","v":""}]
["RD 22",0,0,null,null,null,null,"RD 22",0,0]
["RD 23",0,0,null,null,null,null,"RD 23",0,0]
["RD 24",0,0,null,null,null,null,"RD 24",0,0]
["RD 25",0,0,null,null,null,null,"RD 25",0,0]
["RD 26",0,0,null,null,null,null,"RD 26",0,0]
["RD 27",0,0,null,null,null,null,"RD 27",0,0]
["RD 28",0,0,null,null,null,null,"RD 28",0,0]
["RD 29",0,0,null,{"$f":"IF(E4=0,\"Sieg\",\"\")","v":""},null,null,"RD 29",0,0,null,{"$f":"IF(E4=0,\"Sieg\",\"\")","v":""}]
["RD 30",0,0,null,null,null,null,"RD 30",0,0]
[null,{"$f":"SUM(B4:B33)","v":0},{"$f":"SUM(C4:C33)","v":0},{"$f":"SUM(D4:D33)","v":0},null,null,null,null,{"$f":"SUM(I4:I33)","v":0},{"$f":"SUM(J4:J33)","v":0},{"$f":"SUM(K4:K33)","v":0}]
[null,null,null,null,{"$f":"IF(E3 > L3, D1, IF(D2 > L3, K1, \"Unentschieden\"))","v":0}]
[null,null,null,{"$f":"D1","v":0},{"$f":"E3","v":0},null,null,null,null,null,{"$f":"INDEX(D36:D37,MATCH(LARGE(E36:E37,1),E36:E37,0))","v":0}]
[null,null,null,{"$f":"K1","v":0},{"$f":"L3","v":0},null,null,null,null,null,{"$f":"INDEX(D36:D37,MATCH(LARGE(E36:E37,2),E36:E37,0))","v":0}]

{"sheet":"Siegerliste","index":12,"n_rows":13,"n_cols":2,"rows_kept":13,"cut":false,"hidden":false,"merged":[[12,1,12,2],[6,1,6,2],[7,1,7,2],[8,1,8,2],[9,1,9,2],[10,1,10,2],[11,1,11,2],[5,1,5,2],[0,1,0,2],[1,1,1,2],[2,1,2,2],[3,1,3,2],[4,1,4,2]]}
[null,"Sieger"]
["Rd.1",{"$f":"'Rd. 1'!K36","v":0}]
["Rd.2",{"$f":"CONCATENATE('Rd. 2'!E35)","v":"0"}]
["Rd.3",{"$f":"CONCATENATE('Rd. 3'!E35)","v":"0"}]
["Rd.4",{"$f":"CONCATENATE('Rd. 4'!E35)","v":"0"}]
["Rd.5",{"$f":"CONCATENATE('Rd. 5'!E35)","v":"0"}]
["Rd.6",{"$f":"CONCATENATE('Rd. 6'!E35)","v":"0"}]
["Rd.7",{"$f":"CONCATENATE('Rd. 7'!E35)","v":"0"}]
["Rd.8",{"$f":"CONCATENATE('Rd. 8'!E35)","v":"0"}]
["Rd.9",{"$f":"CONCATENATE('Rd. 9'!E35)","v":"0"}]
["Rd.10",{"$f":"CONCATENATE('Rd. 10'!E35)","v":"0"}]
["Rd.11",{"$f":"CONCATENATE('Rd. 11'!E35)","v":"0"}]
["Rd.12",{"$f":"CONCATENATE('Rd. 12'!E35)","v":"0"}]

{"sheet":"Runde1","index":13,"n_rows":31,"n_cols":12,"rows_kept":31,"cut":false,"hidden":false,"merged":[[0,0,0,4],[0,6,0,10]]}
[{"$f":"CONCATENATE('Rd. 1'!D1)","v":""},null,null,null,null,501,{"$f":"CONCATENATE('Rd. 1'!K1)","v":""},null,null,null,null,501]
["Rd.1",null,null,null,{"$f":"SUM(B2:D2)","v":0},{"$f":"SUM(F1)-E2","v":501},"Rd.1",null,null,null,{"$f":"SUM(H2:J2)","v":0},{"$f":"SUM(L1)-K2","v":501}]
["Rd.2",null,null,null,{"$f":"SUM(B3:D3)","v":0},{"$f":"SUM(F2)-E3","v":501},"Rd.2",null,null,null,{"$f":"SUM(H3:J3)","v":0},{"$f":"SUM(L2)-K3","v":501}]
["Rd.3",null,null,null,{"$f":"SUM(B4:D4)","v":0},{"$f":"SUM(F3)-E4","v":501},"Rd.3",null,null,null,0,{"$f":"SUM(L3)-K4","v":501}]
["Rd.4",null,null,null,{"$f":"SUM(B5:D5)","v":0},{"$f":"SUM(F4)-E5","v":501},"Rd.4",null,null,null,0,{"$f":"SUM(L4)-K5","v":501}]
["Rd.5",null,null,null,{"$f":"SUM(B6:D6)","v":0},501,"Rd.5",null,null,null,0,501]
["Rd.6",null,null,null,0,501,"Rd.6",null,null,null,0,501]
["Rd.7",null,null,null,0,501,"Rd.7",null,null,null,0,501]
["Rd.8",null,null,null,0,501,"Rd.8",null,null,null,0,501]
["Rd.9",null,null,null,0,501,"Rd.9",null,null,null,0,501]
["Rd.10",null,null,null,0,501,"Rd.10",null,null,null,0,501]
["Rd.11",null,null,null,0,501,"Rd.11",null,null,null,0,501]
["Rd.12",null,null,null,0,501,"Rd.12",null,null,null,0,501]
["Rd.13",null,null,null,0,501,"Rd.13",null,null,null,0,501]
["Rd.14",null,null,null,0,501,"Rd.14",null,null,null,0,501]
["Rd.15",null,null,null,0,501,"Rd.15",null,null,null,0,501]
["Rd.16",null,null,null,0,501,"Rd.16",null,null,null,0,501]
["Rd.17",null,null,null,0,501,"Rd.17",null,null,null,0,501]
["Rd.18",null,null,null,0,501,"Rd.18",null,null,null,0,501]
["Rd.19",null,null,null,0,501,"Rd.19",null,null,null,0,501]
["Rd.20",null,null,null,0,501,"Rd.20",null,null,null,0,501]
["Rd.21",null,null,null,0,501,"Rd.21",null,null,null,0,501]
["Rd.22",null,null,null,0,501,"Rd.22",null,null,null,0,501]
["Rd.23",null,null,null,0,501,"Rd.23",null,null,null,0,501]
["Rd.24",null,null,null,0,501,"Rd.24",null,null,null,0,501]
["Rd.25",null,null,null,0,501,"Rd.25",null,null,null,0,501]
["Rd.26",null,null,null,0,501,"Rd.26",null,null,null,0,501]
["Rd.27",null,null,null,0,501,"Rd.27",null,null,null,0,501]
["Rd.28",null,null,null,0,501,"Rd.28",null,null,null,0,501]
["Rd.29",null,null,null,0,501,"Rd.29",null,null,null,0,501]
["Rd.30",null,null,null,0,501,"Rd.30",null,null,null,0,501]

{"sheet":"Runde2","index":14,"n_rows":31,"n_cols":12,"rows_kept":31,"cut":false,"hidden":false,"merged":[[0,0,0,4],[0,6,0,10]]}
[{"$f":"CONCATENATE('Rd. 2'!D1)","v":"0"},null,null,null,null,501,{"$f":"CONCATENATE('Rd. 2'!K1)","v":"0"},null,null,null,null,501]
["Rd.1",null,null,null,{"$f":"SUM(B2:D2)","v":0},{"$f":"SUM(F1)-E2","v":501},"Rd.1",null,null,null,{"$f":"SUM(H2:J2)","v":0},{"$f":"SUM(L1)-K2","v":501}]
["Rd.2",null,null,null,{"$f":"SUM(B3:D3)","v":0},{"$f":"SUM(F2)-E3","v":501},"Rd.2",null,null,null,{"$f":"SUM(H3:J3)","v":0},{"$f":"SUM(L2)-K3","v":501}]
["Rd.3",null,null,null,{"$f":"SUM(B4:D4)","v":0},{"$f":"SUM(F3)-E4","v":501},"Rd.3",null,null,null,0,{"$f":"SUM(L3)-K4","v":501}]
["Rd.4",null,null,null,{"$f":"SUM(B5:D5)","v":0},{"$f":"SUM(F4)-E5","v":501},"Rd.4",null,null,null,0,{"$f":"SUM(L4)-K5","v":501}]
["Rd.5",null,null,null,{"$f":"SUM(B6:D6)","v":0},501,"Rd.5",null,null,null,0,501]
["Rd.6",null,null,null,0,501,"Rd.6",null,null,null,0,501]
["Rd.7",null,null,null,0,501,"Rd.7",null,null,null,0,501]
["Rd.8",null,null,null,0,501,"Rd.8",null,null,null,0,501]
["Rd.9",null,null,null,0,501,"Rd.9",null,null,null,0,501]
["Rd.10",null,null,null,0,501,"Rd.10",null,null,null,0,501]
["Rd.11",null,null,null,0,501,"Rd.11",null,null,null,0,501]
["Rd.12",null,null,null,0,501,"Rd.12",null,null,null,0,501]
["Rd.13",null,null,null,0,501,"Rd.13",null,null,null,0,501]
["Rd.14",null,null,null,0,501,"Rd.14",null,null,null,0,501]
["Rd.15",null,null,null,0,501,"Rd.15",null,null,null,0,501]
["Rd.16",null,null,null,0,501,"Rd.16",null,null,null,0,501]
["Rd.17",null,null,null,0,501,"Rd.17",null,null,null,0,501]
["Rd.18",null,null,null,0,501,"Rd.18",null,null,null,0,501]
["Rd.19",null,null,null,0,501,"Rd.19",null,null,null,0,501]
["Rd.20",null,null,null,0,501,"Rd.20",null,null,null,0,501]
["Rd.21",null,null,null,0,501,"Rd.21",null,null,null,0,501]
["Rd.22",null,null,null,0,501,"Rd.22",null,null,null,0,501]
["Rd.23",null,null,null,0,501,"Rd.23",null,null,null,0,501]
["Rd.24",null,null,null,0,501,"Rd.24",null,null,null,0,501]
["Rd.25",null,null,null,0,501,"Rd.25",null,null,null,0,501]
["Rd.26",null,null,null,0,501,"Rd.26",null,null,null,0,501]
["Rd.27",null,null,null,0,501,"Rd.27",null,null,null,0,501]
["Rd.28",null,null,null,0,501,"Rd.28",null,null,null,0,501]
["Rd.29",null,null,null,0,501,"Rd.29",null,null,null,0,501]
["Rd.30",null,null,null,0,501,"Rd.30",null,null,null,0,501]

{"sheet":"Runde3","index":15,"n_rows":31,"n_cols":12,"rows_kept":31,"cut":false,"hidden":false,"merged":[[0,0,0,4],[0,6,0,10]]}
[{"$f":"CONCATENATE('Rd. 3'!D1)","v":"0"},null,null,null,null,501,{"$f":"CONCATENATE('Rd. 3'!K1)","v":"0"},null,null,null,null,501]
["Rd.1",66,null,null,{"$f":"SUM(B2:D2)","v":66},{"$f":"SUM(F1)-E2","v":435},"Rd.1",99,null,null,{"$f":"SUM(H2:J2)","v":99},{"$f":"SUM(L1)-K2","v":402}]
["Rd.2",null,null,null,{"$f":"SUM(B3:D3)","v":0},{"$f":"SUM(F2)-E3","v":435},"Rd.2",null,null,null,{"$f":"SUM(H3:J3)","v":0},{"$f":"SUM(L2)-K3","v":402}]
["Rd.3",null,null,null,{"$f":"SUM(B4:D4)","v":0},{"$f":"SUM(F3)-E4","v":435},"Rd.3",null,null,null,0,{"$f":"SUM(L3)-K4","v":402}]
["Rd.4",null,null,null,{"$f":"SUM(B5:D5)","v":0},{"$f":"SUM(F4)-E5","v":435},"Rd.4",null,null,null,0,{"$f":"SUM(L4)-K5","v":402}]
["Rd.5",null,null,null,{"$f":"SUM(B6:D6)","v":0},435,"Rd.5",null,null,null,0,402]
["Rd.6",null,null,null,0,435,"Rd.6",null,null,null,0,402]
["Rd.7",null,null,null,0,435,"Rd.7",null,null,null,0,402]
["Rd.8",null,null,null,0,435,"Rd.8",null,null,null,0,402]
["Rd.9",null,null,null,0,435,"Rd.9",null,null,null,0,402]
["Rd.10",null,null,null,0,435,"Rd.10",null,null,null,0,402]
["Rd.11",null,null,null,0,435,"Rd.11",null,null,null,0,402]
["Rd.12",null,null,null,0,435,"Rd.12",null,null,null,0,402]
["Rd.13",null,null,null,0,435,"Rd.13",null,null,null,0,402]
["Rd.14",null,null,null,0,435,"Rd.14",null,null,null,0,402]
["Rd.15",null,null,null,0,435,"Rd.15",null,null,null,0,402]
["Rd.16",null,null,null,0,435,"Rd.16",null,null,null,0,402]
["Rd.17",null,null,null,0,435,"Rd.17",null,null,null,0,402]
["Rd.18",null,null,null,0,435,"Rd.18",null,null,null,0,402]
["Rd.19",null,null,null,0,435,"Rd.19",null,null,null,0,402]
["Rd.20",null,null,null,0,435,"Rd.20",null,null,null,0,402]
["Rd.21",null,null,null,0,435,"Rd.21",null,null,null,0,402]
["Rd.22",null,null,null,0,435,"Rd.22",null,null,null,0,402]
["Rd.23",null,null,null,0,435,"Rd.23",null,null,null,0,402]
["Rd.24",null,null,null,0,435,"Rd.24",null,null,null,0,402]
["Rd.25",null,null,null,0,435,"Rd.25",null,null,null,0,402]
["Rd.26",null,null,null,0,435,"Rd.26",null,null,null,0,402]
["Rd.27",null,null,null,0,435,"Rd.27",null,null,null,0,402]
["Rd.28",null,null,null,0,435,"Rd.28",null,null,null,0,402]
["Rd.29",null,null,null,0,435,"Rd.29",null,null,null,0,402]
["Rd.30",null,null,null,0,435,"Rd.30",null,null,null,0,402]

{"sheet":"Runde4","index":16,"n_rows":31,"n_cols":12,"rows_kept":31,"cut":false,"hidden":false,"merged":[[0,0,0,4],[0,6,0,10]]}
[{"$f":"CONCATENATE('Rd. 4'!D1)","v":"0"},null,null,null,null,501,{"$f":"CONCATENATE('Rd. 4'!K1)","v":"0"},null,null,null,null,501]
["Rd.1",33,12,19,{"$f":"SUM(B2:D2)","v":64},{"$f":"SUM(F1)-E2","v":437},"Rd.1",33,22,50,{"$f":"SUM(H2:J2)","v":105},{"$f":"SUM(L1)-K2","v":396}]
["Rd.2",null,null,null,{"$f":"SUM(B3:D3)","v":0},{"$f":"SUM(F2)-E3","v":437},"Rd.2",null,null,null,{"$f":"SUM(H3:J3)","v":0},{"$f":"SUM(L2)-K3","v":396}]
["Rd.3",null,null,null,{"$f":"SUM(B4:D4)","v":0},{"$f":"SUM(F3)-E4","v":437},"Rd.3",null,null,null,0,{"$f":"SUM(L3)-K4","v":396}]
["Rd.4",null,null,null,{"$f":"SUM(B5:D5)","v":0},{"$f":"SUM(F4)-E5","v":437},"Rd.4",null,null,null,0,{"$f":"SUM(L4)-K5","v":396}]
["Rd.5",null,null,null,{"$f":"SUM(B6:D6)","v":0},437,"Rd.5",null,null,null,0,396]
["Rd.6",null,null,null,0,437,"Rd.6",null,null,null,0,396]
["Rd.7",null,null,null,0,437,"Rd.7",null,null,null,0,396]
["Rd.8",null,null,null,0,437,"Rd.8",null,null,null,0,396]
["Rd.9",null,null,null,0,437,"Rd.9",null,null,null,0,396]
["Rd.10",null,null,null,0,437,"Rd.10",null,null,null,0,396]
["Rd.11",null,null,null,0,437,"Rd.11",null,null,null,0,396]
["Rd.12",null,null,null,0,437,"Rd.12",null,null,null,0,396]
["Rd.13",null,null,null,0,437,"Rd.13",null,null,null,0,396]
["Rd.14",null,null,null,0,437,"Rd.14",null,null,null,0,396]
["Rd.15",null,null,null,0,437,"Rd.15",null,null,null,0,396]
["Rd.16",null,null,null,0,437,"Rd.16",null,null,null,0,396]
["Rd.17",null,null,null,0,437,"Rd.17",null,null,null,0,396]
["Rd.18",null,null,null,0,437,"Rd.18",null,null,null,0,396]
["Rd.19",null,null,null,0,437,"Rd.19",null,null,null,0,396]
["Rd.20",null,null,null,0,437,"Rd.20",null,null,null,0,396]
["Rd.21",null,null,null,0,437,"Rd.21",null,null,null,0,396]
["Rd.22",null,null,null,0,437,"Rd.22",null,null,null,0,396]
["Rd.23",null,null,null,0,437,"Rd.23",null,null,null,0,396]
["Rd.24",null,null,null,0,437,"Rd.24",null,null,null,0,396]
["Rd.25",null,null,null,0,437,"Rd.25",null,null,null,0,396]
["Rd.26",null,null,null,0,437,"Rd.26",null,null,null,0,396]
["Rd.27",null,null,null,0,437,"Rd.27",null,null,null,0,396]
["Rd.28",null,null,null,0,437,"Rd.28",null,null,null,0,396]
["Rd.29",null,null,null,0,437,"Rd.29",null,null,null,0,396]
["Rd.30",null,null,null,0,437,"Rd.30",null,null,null,0,396]

{"sheet":"Runde5","index":17,"n_rows":31,"n_cols":12,"rows_kept":31,"cut":false,"hidden":false,"merged":[[0,0,0,4],[0,6,0,10]]}
[{"$f":"CONCATENATE('Rd. 5'!D1)","v":"0"},null,null,null,null,501,{"$f":"CONCATENATE('Rd. 5'!K1)","v":"0"},null,null,null,null,501]
["Rd.1",null,null,null,{"$f":"SUM(B2:D2)","v":0},{"$f":"SUM(F1)-E2","v":501},"Rd.1",null,null,null,{"$f":"SUM(H2:J2)","v":0},{"$f":"SUM(L1)-K2","v":501}]
["Rd.2",null,null,null,{"$f":"SUM(B3:D3)","v":0},{"$f":"SUM(F2)-E3","v":501},"Rd.2",null,null,null,{"$f":"SUM(H3:J3)","v":0},{"$f":"SUM(L2)-K3","v":501}]
["Rd.3",null,null,null,{"$f":"SUM(B4:D4)","v":0},{"$f":"SUM(F3)-E4","v":501},"Rd.3",null,null,null,0,{"$f":"SUM(L3)-K4","v":501}]
["Rd.4",null,null,null,{"$f":"SUM(B5:D5)","v":0},{"$f":"SUM(F4)-E5","v":501},"Rd.4",null,null,null,0,{"$f":"SUM(L4)-K5","v":501}]
["Rd.5",null,null,null,{"$f":"SUM(B6:D6)","v":0},501,"Rd.5",null,null,null,0,501]
["Rd.6",null,null,null,0,501,"Rd.6",null,null,null,0,501]
["Rd.7",null,null,null,0,501,"Rd.7",null,null,null,0,501]
["Rd.8",null,null,null,0,501,"Rd.8",null,null,null,0,501]
["Rd.9",null,null,null,0,501,"Rd.9",null,null,null,0,501]
["Rd.10",null,null,null,0,501,"Rd.10",null,null,null,0,501]
["Rd.11",null,null,null,0,501,"Rd.11",null,null,null,0,501]
["Rd.12",null,null,null,0,501,"Rd.12",null,null,null,0,501]
["Rd.13",null,null,null,0,501,"Rd.13",null,null,null,0,501]
["Rd.14",null,null,null,0,501,"Rd.14",null,null,null,0,501]
["Rd.15",null,null,null,0,501,"Rd.15",null,null,null,0,501]
["Rd.16",null,null,null,0,501,"Rd.16",null,null,null,0,501]
["Rd.17",null,null,null,0,501,"Rd.17",null,null,null,0,501]
["Rd.18",null,null,null,0,501,"Rd.18",null,null,null,0,501]
["Rd.19",null,null,null,0,501,"Rd.19",null,null,null,0,501]
["Rd.20",null,null,null,0,501,"Rd.20",null,null,null,0,501]
["Rd.21",null,null,null,0,501,"Rd.21",null,null,null,0,501]
["Rd.22",null,null,null,0,501,"Rd.22",null,null,null,0,501]
["Rd.23",null,null,null,0,501,"Rd.23",null,null,null,0,501]
["Rd.24",null,null,null,0,501,"Rd.24",null,null,null,0,501]
["Rd.25",null,null,null,0,501,"Rd.25",null,null,null,0,501]
["Rd.26",null,null,null,0,501,"Rd.26",null,null,null,0,501]
["Rd.27",null,null,null,0,501,"Rd.27",null,null,null,0,501]
["Rd.28",null,null,null,0,501,"Rd.28",null,null,null,0,501]
["Rd.29",null,null,null,0,501,"Rd.29",null,null,null,0,501]
["Rd.30",null,null,null,0,501,"Rd.30",null,null,null,0,501]

{"sheet":"Runde6","index":18,"n_rows":31,"n_cols":12,"rows_kept":31,"cut":false,"hidden":false,"merged":[[0,0,0,4],[0,6,0,10]]}
[{"$f":"CONCATENATE('Rd. 6'!D1)","v":"0"},null,null,null,null,null,{"$f":"CONCATENATE('Rd. 6'!K1)","v":"0"},null,null,null,null,501]
["Rd.1",null,null,null,{"$f":"SUM(B2:D2)","v":0},{"$f":"SUM(F1)-E2","v":0},"Rd.1",null,null,null,{"$f":"SUM(H2:J2)","v":0},{"$f":"SUM(L1)-K2","v":501}]
["Rd.2",null,null,null,{"$f":"SUM(B3:D3)","v":0},{"$f":"SUM(F2)-E3","v":0},"Rd.2",null,null,null,{"$f":"SUM(H3:J3)","v":0},{"$f":"SUM(L2)-K3","v":501}]
["Rd.3",null,null,null,{"$f":"SUM(B4:D4)","v":0},{"$f":"SUM(F3)-E4","v":0},"Rd.3",null,null,null,0,{"$f":"SUM(L3)-K4","v":501}]
["Rd.4",null,null,null,{"$f":"SUM(B5:D5)","v":0},{"$f":"SUM(F4)-E5","v":0},"Rd.4",null,null,null,0,{"$f":"SUM(L4)-K5","v":501}]
["Rd.5",null,null,null,{"$f":"SUM(B6:D6)","v":0},0,"Rd.5",null,null,null,0,501]
["Rd.6",null,null,null,0,0,"Rd.6",null,null,null,0,501]
["Rd.7",null,null,null,0,0,"Rd.7",null,null,null,0,501]
["Rd.8",null,null,null,0,0,"Rd.8",null,null,null,0,501]
["Rd.9",null,null,null,0,0,"Rd.9",null,null,null,0,501]
["Rd.10",null,null,null,0,0,"Rd.10",null,null,null,0,501]
["Rd.11",null,null,null,0,0,"Rd.11",null,null,null,0,501]
["Rd.12",null,null,null,0,0,"Rd.12",null,null,null,0,501]
["Rd.13",null,null,null,0,0,"Rd.13",null,null,null,0,501]
["Rd.14",null,null,null,0,0,"Rd.14",null,null,null,0,501]
["Rd.15",null,null,null,0,0,"Rd.15",null,null,null,0,501]
["Rd.16",null,null,null,0,0,"Rd.16",null,null,null,0,501]
["Rd.17",null,null,null,0,0,"Rd.17",null,null,null,0,501]
["Rd.18",null,null,null,0,0,"Rd.18",null,null,null,0,501]
["Rd.19",null,null,null,0,0,"Rd.19",null,null,null,0,501]
["Rd.20",null,null,null,0,0,"Rd.20",null,null,null,0,501]
["Rd.21",null,null,null,0,0,"Rd.21",null,null,null,0,501]
["Rd.22",null,null,null,0,0,"Rd.22",null,null,null,0,501]
["Rd.23",null,null,null,0,0,"Rd.23",null,null,null,0,501]
["Rd.24",null,null,null,0,0,"Rd.24",null,null,null,0,501]
["Rd.25",null,null,null,0,0,"Rd.25",null,null,null,0,501]
["Rd.26",null,null,null,0,0,"Rd.26",null,null,null,0,501]
["Rd.27",null,null,null,0,0,"Rd.27",null,null,null,0,501]
["Rd.28",null,null,null,0,0,"Rd.28",null,null,null,0,501]
["Rd.29",null,null,null,0,0,"Rd.29",null,null,null,0,501]
["Rd.30",null,null,null,0,0,"Rd.30",null,null,null,0,501]

{"sheet":"Runde7","index":19,"n_rows":31,"n_cols":12,"rows_kept":31,"cut":false,"hidden":false,"merged":[[0,0,0,4],[0,6,0,10]]}
[{"$f":"CONCATENATE('Rd. 7'!D1)","v":"0"},null,null,null,null,501,{"$f":"CONCATENATE('Rd. 7'!K1)","v":"0"},null,null,null,null,501]
["Rd.1",null,null,null,{"$f":"SUM(B2:D2)","v":0},{"$f":"SUM(F1)-E2","v":501},"Rd.1",null,null,null,{"$f":"SUM(H2:J2)","v":0},{"$f":"SUM(L1)-K2","v":501}]
["Rd.2",null,null,null,{"$f":"SUM(B3:D3)","v":0},{"$f":"SUM(F2)-E3","v":501},"Rd.2",null,null,null,{"$f":"SUM(H3:J3)","v":0},{"$f":"SUM(L2)-K3","v":501}]
["Rd.3",null,null,null,{"$f":"SUM(B4:D4)","v":0},{"$f":"SUM(F3)-E4","v":501},"Rd.3",null,null,null,{"$f":"SUM(H4:J4)","v":0},{"$f":"SUM(L3)-K4","v":501}]
["Rd.4",null,null,null,{"$f":"SUM(B5:D5)","v":0},{"$f":"SUM(F4)-E5","v":501},"Rd.4",null,null,null,{"$f":"SUM(H5:J5)","v":0},{"$f":"SUM(L4)-K5","v":501}]
["Rd.5",null,null,null,{"$f":"SUM(B6:D6)","v":0},501,"Rd.5",null,null,null,{"$f":"SUM(H6:J6)","v":0},501]
["Rd.6",null,null,null,0,501,"Rd.6",null,null,null,0,501]
["Rd.7",null,null,null,0,501,"Rd.7",null,null,null,0,501]
["Rd.8",null,null,null,0,501,"Rd.8",null,null,null,0,501]
["Rd.9",null,null,null,0,501,"Rd.9",null,null,null,0,501]
["Rd.10",null,null,null,0,501,"Rd.10",null,null,null,0,501]
["Rd.11",null,null,null,0,501,"Rd.11",null,null,null,0,501]
["Rd.12",null,null,null,0,501,"Rd.12",null,null,null,0,501]
["Rd.13",null,null,null,0,501,"Rd.13",null,null,null,0,501]
["Rd.14",null,null,null,0,501,"Rd.14",null,null,null,0,501]
["Rd.15",null,null,null,0,501,"Rd.15",null,null,null,0,501]
["Rd.16",null,null,null,0,501,"Rd.16",null,null,null,0,501]
["Rd.17",null,null,null,0,501,"Rd.17",null,null,null,0,501]
["Rd.18",null,null,null,0,501,"Rd.18",null,null,null,0,501]
["Rd.19",null,null,null,0,501,"Rd.19",null,null,null,0,501]
["Rd.20",null,null,null,0,501,"Rd.20",null,null,null,0,501]
["Rd.21",null,null,null,0,501,"Rd.21",null,null,null,0,501]
["Rd.22",null,null,null,0,501,"Rd.22",null,null,null,0,501]
["Rd.23",null,null,null,0,501,"Rd.23",null,null,null,0,501]
["Rd.24",null,null,null,0,501,"Rd.24",null,null,null,0,501]
["Rd.25",null,null,null,0,501,"Rd.25",null,null,null,0,501]
["Rd.26",null,null,null,0,501,"Rd.26",null,null,null,0,501]
["Rd.27",null,null,null,0,501,"Rd.27",null,null,null,0,501]
["Rd.28",null,null,null,0,501,"Rd.28",null,null,null,0,501]
["Rd.29",null,null,null,0,501,"Rd.29",null,null,null,0,501]
["Rd.30",null,null,null,0,501,"Rd.30",null,null,null,0,501]

{"sheet":"Runde8","index":20,"n_rows":31,"n_cols":12,"rows_kept":31,"cut":false,"hidden":false,"merged":[[0,0,0,4],[0,6,0,10]]}
[{"$f":"CONCATENATE('Rd. 8'!D1)","v":"0"},null,null,null,null,501,{"$f":"CONCATENATE('Rd. 8'!K1)","v":"0"},null,null,null,null,501]
["Rd.1",null,null,null,{"$f":"SUM(B2:D2)","v":0},{"$f":"SUM(F1)-E2","v":501},"Rd.1",null,null,null,{"$f":"SUM(H2:J2)","v":0},{"$f":"SUM(L1)-K2","v":501}]
["Rd.2",null,null,null,{"$f":"SUM(B3:D3)","v":0},{"$f":"SUM(F2)-E3","v":501},"Rd.2",null,null,null,{"$f":"SUM(H3:J3)","v":0},{"$f":"SUM(L2)-K3","v":501}]
["Rd.3",null,null,null,{"$f":"SUM(B4:D4)","v":0},{"$f":"SUM(F3)-E4","v":501},"Rd.3",null,null,null,{"$f":"SUM(H4:J4)","v":0},{"$f":"SUM(L3)-K4","v":501}]
["Rd.4",null,null,null,{"$f":"SUM(B5:D5)","v":0},{"$f":"SUM(F4)-E5","v":501},"Rd.4",null,null,null,{"$f":"SUM(H5:J5)","v":0},{"$f":"SUM(L4)-K5","v":501}]
["Rd.5",null,null,null,{"$f":"SUM(B6:D6)","v":0},501,"Rd.5",null,null,null,{"$f":"SUM(H6:J6)","v":0},501]
["Rd.6",null,null,null,0,501,"Rd.6",null,null,null,0,501]
["Rd.7",null,null,null,0,501,"Rd.7",null,null,null,0,501]
["Rd.8",null,null,null,0,501,"Rd.8",null,null,null,0,501]
["Rd.9",null,null,null,0,501,"Rd.9",null,null,null,0,501]
["Rd.10",null,null,null,0,501,"Rd.10",null,null,null,0,501]
["Rd.11",null,null,null,0,501,"Rd.11",null,null,null,0,501]
["Rd.12",null,null,null,0,501,"Rd.12",null,null,null,0,501]
["Rd.13",null,null,null,0,501,"Rd.13",null,null,null,0,501]
["Rd.14",null,null,null,0,501,"Rd.14",null,null,null,0,501]
["Rd.15",null,null,null,0,501,"Rd.15",null,null,null,0,501]
["Rd.16",null,null,null,0,501,"Rd.16",null,null,null,0,501]
["Rd.17",null,null,null,0,501,"Rd.17",null,null,null,0,501]
["Rd.18",null,null,null,0,501,"Rd.18",null,null,null,0,501]
["Rd.19",null,null,null,0,501,"Rd.19",null,null,null,0,501]
["Rd.20",null,null,null,0,501,"Rd.20",null,null,null,0,501]
["Rd.21",null,null,null,0,501,"Rd.21",null,null,null,0,501]
["Rd.22",null,null,null,0,501,"Rd.22",null,null,null,0,501]
["Rd.23",null,null,null,0,501,"Rd.23",null,null,null,0,501]
["Rd.24",null,null,null,0,501,"Rd.24",null,null,null,0,501]
["Rd.25",null,null,null,0,501,"Rd.25",null,null,null,0,501]
["Rd.26",null,null,null,0,501,"Rd.26",null,null,null,0,501]
["Rd.27",null,null,null,0,501,"Rd.27",null,null,null,0,501]
["Rd.28",null,null,null,0,501,"Rd.28",null,null,null,0,501]
["Rd.29",null,null,null,0,501,"Rd.29",null,null,null,0,501]
["Rd.30",null,null,null,0,501,"Rd.30",null,null,null,0,501]

{"sheet":"Runde9","index":21,"n_rows":31,"n_cols":12,"rows_kept":31,"cut":false,"hidden":false,"merged":[[0,0,0,4],[0,6,0,10]]}
[{"$f":"CONCATENATE('Rd. 9'!D1)","v":"0"},null,null,null,null,501,{"$f":"CONCATENATE('Rd. 9'!K1)","v":"0"},null,null,null,null,501]
["Rd.1",null,null,null,{"$f":"SUM(B2:D2)","v":0},{"$f":"SUM(F1)-E2","v":501},"Rd.1",null,null,null,{"$f":"SUM(H2:J2)","v":0},{"$f":"SUM(L1)-K2","v":501}]
["Rd.2",null,null,null,{"$f":"SUM(B3:D3)","v":0},{"$f":"SUM(F2)-E3","v":501},"Rd.2",null,null,null,{"$f":"SUM(H3:J3)","v":0},{"$f":"SUM(L2)-K3","v":501}]
["Rd.3",null,null,null,{"$f":"SUM(B4:D4)","v":0},{"$f":"SUM(F3)-E4","v":501},"Rd.3",null,null,null,{"$f":"SUM(H4:J4)","v":0},{"$f":"SUM(L3)-K4","v":501}]
["Rd.4",null,null,null,{"$f":"SUM(B5:D5)","v":0},{"$f":"SUM(F4)-E5","v":501},"Rd.4",null,null,null,{"$f":"SUM(H5:J5)","v":0},{"$f":"SUM(L4)-K5","v":501}]
["Rd.5",null,null,null,{"$f":"SUM(B6:D6)","v":0},501,"Rd.5",null,null,null,{"$f":"SUM(H6:J6)","v":0},501]
["Rd.6",null,null,null,0,501,"Rd.6",null,null,null,0,501]
["Rd.7",null,null,null,0,501,"Rd.7",null,null,null,0,501]
["Rd.8",null,null,null,0,501,"Rd.8",null,null,null,0,501]
["Rd.9",null,null,null,0,501,"Rd.9",null,null,null,0,501]
["Rd.10",null,null,null,0,501,"Rd.10",null,null,null,0,501]
["Rd.11",null,null,null,0,501,"Rd.11",null,null,null,0,501]
["Rd.12",null,null,null,0,501,"Rd.12",null,null,null,0,501]
["Rd.13",null,null,null,0,501,"Rd.13",null,null,null,0,501]
["Rd.14",null,null,null,0,501,"Rd.14",null,null,null,0,501]
["Rd.15",null,null,null,0,501,"Rd.15",null,null,null,0,501]
["Rd.16",null,null,null,0,501,"Rd.16",null,null,null,0,501]
["Rd.17",null,null,null,0,501,"Rd.17",null,null,null,0,501]
["Rd.18",null,null,null,0,501,"Rd.18",null,null,null,0,501]
["Rd.19",null,null,null,0,501,"Rd.19",null,null,null,0,501]
["Rd.20",null,null,null,0,501,"Rd.20",null,null,null,0,501]
["Rd.21",null,null,null,0,501,"Rd.21",null,null,null,0,501]
["Rd.22",null,null,null,0,501,"Rd.22",null,null,null,0,501]
["Rd.23",null,null,null,0,501,"Rd.23",null,null,null,0,501]
["Rd.24",null,null,null,0,501,"Rd.24",null,null,null,0,501]
["Rd.25",null,null,null,0,501,"Rd.25",null,null,null,0,501]
["Rd.26",null,null,null,0,501,"Rd.26",null,null,null,0,501]
["Rd.27",null,null,null,0,501,"Rd.27",null,null,null,0,501]
["Rd.28",null,null,null,0,501,"Rd.28",null,null,null,0,501]
["Rd.29",null,null,null,0,501,"Rd.29",null,null,null,0,501]
["Rd.30",null,null,null,0,501,"Rd.30",null,null,null,0,501]

{"sheet":"Runde10","index":22,"n_rows":31,"n_cols":12,"rows_kept":31,"cut":false,"hidden":false,"merged":[[0,0,0,4],[0,6,0,10]]}
[{"$f":"CONCATENATE('Rd. 10'!D1)","v":"0"},null,null,null,null,501,{"$f":"CONCATENATE('Rd. 10'!K1)","v":"0"},null,null,null,null,501]
["Rd.1",50,20,12,{"$f":"SUM(B2:D2)","v":82},{"$f":"SUM(F1)-E2","v":419},"Rd.1",17,18,33,{"$f":"SUM(H2:J2)","v":68},{"$f":"SUM(L1)-K2","v":433}]
["Rd.2",null,null,null,{"$f":"SUM(B3:D3)","v":0},{"$f":"SUM(F2)-E3","v":419},"Rd.2",null,null,null,{"$f":"SUM(H3:J3)","v":0},{"$f":"SUM(L2)-K3","v":433}]
["Rd.3",null,null,null,{"$f":"SUM(B4:D4)","v":0},{"$f":"SUM(F3)-E4","v":419},"Rd.3",null,null,null,{"$f":"SUM(H4:J4)","v":0},{"$f":"SUM(L3)-K4","v":433}]
["Rd.4",null,null,null,{"$f":"SUM(B5:D5)","v":0},{"$f":"SUM(F4)-E5","v":419},"Rd.4",null,null,null,{"$f":"SUM(H5:J5)","v":0},{"$f":"SUM(L4)-K5","v":433}]
["Rd.5",null,null,null,{"$f":"SUM(B6:D6)","v":0},419,"Rd.5",null,null,null,{"$f":"SUM(H6:J6)","v":0},433]
["Rd.6",null,null,null,0,419,"Rd.6",null,null,null,0,433]
["Rd.7",null,null,null,0,419,"Rd.7",null,null,null,0,433]
["Rd.8",null,null,null,0,419,"Rd.8",null,null,null,0,433]
["Rd.9",null,null,null,0,419,"Rd.9",null,null,null,0,433]
["Rd.10",null,null,null,0,419,"Rd.10",null,null,null,0,433]
["Rd.11",null,null,null,0,419,"Rd.11",null,null,null,0,433]
["Rd.12",null,null,null,0,419,"Rd.12",null,null,null,0,433]
["Rd.13",null,null,null,0,419,"Rd.13",null,null,null,0,433]
["Rd.14",null,null,null,0,419,"Rd.14",null,null,null,0,433]
["Rd.15",null,null,null,0,419,"Rd.15",null,null,null,0,433]
["Rd.16",null,null,null,0,419,"Rd.16",null,null,null,0,433]
["Rd.17",null,null,null,0,419,"Rd.17",null,null,null,0,433]
["Rd.18",null,null,null,0,419,"Rd.18",null,null,null,0,433]
["Rd.19",null,null,null,0,419,"Rd.19",null,null,null,0,433]
["Rd.20",null,null,null,0,419,"Rd.20",null,null,null,0,433]
["Rd.21",null,null,null,0,419,"Rd.21",null,null,null,0,433]
["Rd.22",null,null,null,0,419,"Rd.22",null,null,null,0,433]
["Rd.23",null,null,null,0,419,"Rd.23",null,null,null,0,433]
["Rd.24",null,null,null,0,419,"Rd.24",null,null,null,0,433]
["Rd.25",null,null,null,0,419,"Rd.25",null,null,null,0,433]
["Rd.26",null,null,null,0,419,"Rd.26",null,null,null,0,433]
["Rd.27",null,null,null,0,419,"Rd.27",null,null,null,0,433]
["Rd.28",null,null,null,0,419,"Rd.28",null,null,null,0,433]
["Rd.29",null,null,null,0,419,"Rd.29",null,null,null,0,433]
["Rd.30",null,null,null,0,419,"Rd.30",null,null,null,0,433]

{"sheet":"Namen","index":23,"n_rows":13,"n_cols":1,"rows_kept":13,"cut":false,"hidden":false,"merged":[]}
[]
["Anja"]
["Erich"]
["Siggi"]
["Ralf M."]
["Ralf Kl."]
["Volker"]
["Rene"]
["Nicole"]
["Frank"]
["Rosi"]
["Werner"]
["Gast"]