{"text_format":"1","workbook":"xlsx","n_sheets":3,"sheets":["A (Beleg, Abbuchung)","B geplant - Tabelle","Tabelle2"],"not_rendered":{"charts":0,"images":0,"macros":1,"external_links":0,"defined_names":0,"comments":0,"pivot_tables":0},"unopened":[],"bounds":{"document_bytes":16777216,"sheet_cells":100000,"rows_first":2000,"rows_last":500,"rows_between":2000,"halvings":0,"cell_chars":16384,"cell_head_chars":4096},"cells_cut":0,"cells_raw":0,"read":"whole","date_system":"1900"}

{"sheet":"A (Beleg, Abbuchung)","index":0,"n_rows":99,"n_cols":9,"rows_kept":99,"cut":false,"hidden":false,"merged":[]}
[]
[]
[]
[" Brutto "," Betrag eingezogen ","Text","Nutzer",null,"Übereinstimmung"]
[null,null,"B230129M","xx",null,{"$f":"IF(VLOOKUP(C5,'B geplant - Tabelle'!A3:E43,5,FALSE)>0,\"Ja\",\"Fehlt\")","v":{"$error":"#N/A"}},null,"Find"]
[null,null,"B161973M","xx",null,{"$f":"IF(VLOOKUP(C6,'B geplant - Tabelle'!A4:E44,5,FALSE)>0,\"Ja\",\"Fehlt\")","v":{"$error":"#N/A"}},null,"Find"]
[null,null,"B161973M","xx",{"$f":"SUM(B5:B7)","v":0},{"$f":"IF(VLOOKUP(C7,'B geplant - Tabelle'!A5:E45,5,FALSE)>0,\"Ja\",\"Fehlt\")","v":{"$error":"#N/A"}},null,null,"Fehler"]
[null,null,"B157113M","xx",null,{"$f":"IF(VLOOKUP(C8,'B geplant - Tabelle'!A6:E46,5,FALSE)>0,\"Ja\",\"Fehlt\")","v":{"$error":"#N/A"}},null,null,"Fehler"]
[null,null,"B157113M","xx",null,{"$f":"IF(VLOOKUP(C9,'B geplant - Tabelle'!A7:E47,5,FALSE)>0,\"Ja\",\"Fehlt\")","v":{"$error":"#N/A"}},null,null,"Fehler"]
[null,null,"B154200M","xx",{"$f":"SUM(B8:B10)","v":0},{"$f":"IF(VLOOKUP(C10,'B geplant - Tabelle'!A8:E48,5,FALSE)>0,\"Ja\",\"Fehlt\")","v":{"$error":"#N/A"}},null,"Find"]
[null,null,"B151349M","xx",null,{"$f":"IF(VLOOKUP(C11,'B geplant - Tabelle'!A9:E49,5,FALSE)>0,\"Ja\",\"Fehlt\")","v":{"$error":"#N/A"}},null,null,"Fehler"]
[null,null,"B151349M","xx",{"$f":"SUM(B11:B12)","v":0},{"$f":"IF(VLOOKUP(C12,'B geplant - Tabelle'!A10:E50,5,FALSE)>0,\"Ja\",\"Fehlt\")","v":{"$error":"#N/A"}},null,null,"Fehler"]
[null,null,"B143761M","xx",null,{"$f":"IF(VLOOKUP(C13,'B geplant - Tabelle'!A11:E51,5,FALSE)>0,\"Ja\",\"Fehlt\")","v":{"$error":"#N/A"}},null,null,"Fehler"]
[null,null,"B143761M","xx",{"$f":"SUM(B13:B14)","v":0},{"$f":"IF(VLOOKUP(C14,'B geplant - Tabelle'!A12:E52,5,FALSE)>0,\"Ja\",\"Fehlt\")","v":{"$error":"#N/A"}},null,null,"Fehler"]
[null,null,"B140942M","xx",null,{"$f":"IF(VLOOKUP(C15,'B geplant - Tabelle'!A13:E53,5,FALSE)>0,\"Ja\",\"Fehlt\")","v":{"$error":"#N/A"}},null,null,"Fehler"]
[null,null,"B140942M","xx",{"$f":"SUM(B15:B16)","v":0},{"$f":"IF(VLOOKUP(C16,'B geplant - Tabelle'!A14:E54,5,FALSE)>0,\"Ja\",\"Fehlt\")","v":{"$error":"#N/A"}},null,null,"Fehler"]
[null,null,"B140940M","xx",null,{"$f":"IF(VLOOKUP(C17,'B geplant - Tabelle'!A15:E55,5,FALSE)>0,\"Ja\",\"Fehlt\")","v":{"$error":"#N/A"}},null,null,"Fehler"]
[null,null,"B140940M","xx",{"$f":"SUM(B17:B18)","v":0},{"$f":"IF(VLOOKUP(C18,'B geplant - Tabelle'!A16:E56,5,FALSE)>0,\"Ja\",\"Fehlt\")","v":{"$error":"#N/A"}},null,null,"Fehler"]
[null,null," B230129M","xx",null,{"$f":"IF(VLOOKUP(C19,'B geplant - Tabelle'!A17:E57,5,FALSE)>0,\"Ja\",\"Fehlt\")","v":{"$error":"#N/A"}},null,null,"Fehler"]
[null,null," B230129M","xx",null,{"$f":"IF(VLOOKUP(C20,'B geplant - Tabelle'!A18:E58,5,FALSE)>0,\"Ja\",\"Fehlt\")","v":{"$error":"#N/A"}},null,null,"Fehler"]
[null,null," B230129M","xx",{"$f":"SUM(B19:B21)","v":0},{"$f":"IF(VLOOKUP(C21,'B geplant - Tabelle'!A19:E59,5,FALSE)>0,\"Ja\",\"Fehlt\")","v":{"$error":"#N/A"}},null,null,"Fehler"]
[null,null," B230129M","xx",null,{"$f":"IF(VLOOKUP(C22,'B geplant - Tabelle'!A20:E60,5,FALSE)>0,\"Ja\",\"Fehlt\")","v":{"$error":"#N/A"}},null,null,"Fehler"]
[null,null," B230129M","xx",{"$f":"SUM(B22:B23)","v":0},{"$f":"IF(VLOOKUP(C23,'B geplant - Tabelle'!A21:E61,5,FALSE)>0,\"Ja\",\"Fehlt\")","v":{"$error":"#N/A"}},null,null,"Fehler"]
[null,null," B224520M","xx",null,{"$f":"IF(VLOOKUP(C24,'B geplant - Tabelle'!A22:E62,5,FALSE)>0,\"Ja\",\"Fehlt\")","v":{"$error":"#N/A"}},null,"Find"]
[null,null," B224520M","xx",null,{"$f":"IF(VLOOKUP(C25,'B geplant - Tabelle'!A23:E63,5,FALSE)>0,\"Ja\",\"Fehlt\")","v":{"$error":"#N/A"}},null,null,"Fehler"]
[null,null," B224520M","xx",{"$f":"SUM(B24:B26)","v":0},{"$f":"IF(VLOOKUP(C26,'B geplant - Tabelle'!A24:E64,5,FALSE)>0,\"Ja\",\"Fehlt\")","v":{"$error":"#N/A"}},null,null,"Fehler"]
[null,null," B221986M","xx",null,{"$f":"IF(VLOOKUP(C27,'B geplant - Tabelle'!A25:E65,5,FALSE)>0,\"Ja\",\"Fehlt\")","v":{"$error":"#N/A"}},null,"Find"]
[null,null," B221986M","xx",null,{"$f":"IF(VLOOKUP(C28,'B geplant - Tabelle'!A26:E66,5,FALSE)>0,\"Ja\",\"Fehlt\")","v":{"$error":"#N/A"}},null,null,"Fehler"]
[null,null," B221986M","xx",{"$f":"SUM(B27:B29)","v":0},{"$f":"IF(VLOOKUP(C29,'B geplant - Tabelle'!A27:E67,5,FALSE)>0,\"Ja\",\"Fehlt\")","v":{"$error":"#N/A"}},null,null,"Fehler"]
[null,null," B221985M","xx",null,{"$f":"IF(VLOOKUP(C30,'B geplant - Tabelle'!A28:E68,5,FALSE)>0,\"Ja\",\"Fehlt\")","v":{"$error":"#N/A"}},null,"Find"]
[null,null," B221985M","xx",null,{"$f":"IF(VLOOKUP(C31,'B geplant - Tabelle'!A29:E69,5,FALSE)>0,\"Ja\",\"Fehlt\")","v":{"$error":"#N/A"}},null,null,"Fehler"]
[null,null," B221985M","xx",null,{"$f":"IF(VLOOKUP(C32,'B geplant - Tabelle'!A30:E70,5,FALSE)>0,\"Ja\",\"Fehlt\")","v":{"$error":"#N/A"}},null,null,"Fehler"]
[null,null," B221983M","xx",null,{"$f":"IF(VLOOKUP(C33,'B geplant - Tabelle'!A31:E71,5,FALSE)>0,\"Ja\",\"Fehlt\")","v":{"$error":"#N/A"}},null,"Find"]
[null,null," B221983M","xx",null,{"$f":"IF(VLOOKUP(C34,'B geplant - Tabelle'!A32:E72,5,FALSE)>0,\"Ja\",\"Fehlt\")","v":{"$error":"#N/A"}},null,null,"Fehler"]
[null,null," B221983M","xx",{"$f":"SUM(B30:B35)","v":0},{"$f":"IF(VLOOKUP(C35,'B geplant - Tabelle'!A33:E73,5,FALSE)>0,\"Ja\",\"Fehlt\")","v":{"$error":"#N/A"}},null,null,"Fehler"]
[null,null," B207969M","xx",null,{"$f":"IF(VLOOKUP(C36,'B geplant - Tabelle'!A34:E74,5,FALSE)>0,\"Ja\",\"Fehlt\")","v":{"$error":"#N/A"}},null,"Find"]
[null,null," B207969M","xx",null,{"$f":"IF(VLOOKUP(C37,'B geplant - Tabelle'!A35:E75,5,FALSE)>0,\"Ja\",\"Fehlt\")","v":{"$error":"#N/A"}},null,null,"Fehler"]
[null,null," B207969M","xx",{"$f":"SUM(B36:B38)","v":0},{"$f":"IF(VLOOKUP(C38,'B geplant - Tabelle'!A36:E76,5,FALSE)>0,\"Ja\",\"Fehlt\")","v":{"$error":"#N/A"}},null,null,"Fehler"]
[null,null," B207050M","xx",null,{"$f":"IF(VLOOKUP(C39,'B geplant - Tabelle'!A37:E77,5,FALSE)>0,\"Ja\",\"Fehlt\")","v":{"$error":"#N/A"}},null,"Find"]
[null,null," B207050M","xx",null,{"$f":"IF(VLOOKUP(C40,'B geplant - Tabelle'!A38:E78,5,FALSE)>0,\"Ja\",\"Fehlt\")","v":{"$error":"#N/A"}},null,null,"Fehler"]
[null,null," B207050M","xx",{"$f":"SUM(B39:B41)","v":0},{"$f":"IF(VLOOKUP(C41,'B geplant - Tabelle'!A39:E79,5,FALSE)>0,\"Ja\",\"Fehlt\")","v":{"$error":"#N/A"}},null,null,"Fehler"]
[null,null," B205428M","xx",null,{"$f":"IF(VLOOKUP(C42,'B geplant - Tabelle'!A40:E80,5,FALSE)>0,\"Ja\",\"Fehlt\")","v":{"$error":"#N/A"}},null,"Find"]
[null,null," B205428M","xx",null,{"$f":"IF(VLOOKUP(C43,'B geplant - Tabelle'!A41:E81,5,FALSE)>0,\"Ja\",\"Fehlt\")","v":{"$error":"#N/A"}},null,null,"Fehler"]
[null,null," B205428M","xx",{"$f":"SUM(B42:B44)","v":0},{"$f":"IF(VLOOKUP(C44,'B geplant - Tabelle'!A42:E82,5,FALSE)>0,\"Ja\",\"Fehlt\")","v":{"$error":"#N/A"}},null,null,"Fehler"]
[null,null," B204396M","xx",null,{"$f":"IF(VLOOKUP(C45,'B geplant - Tabelle'!A43:E83,5,FALSE)>0,\"Ja\",\"Fehlt\")","v":{"$error":"#N/A"}},null,"Find"]
[null,null," B204396M","xx",null,{"$f":"IF(VLOOKUP(C46,'B geplant - Tabelle'!A44:E84,5,FALSE)>0,\"Ja\",\"Fehlt\")","v":{"$error":"#N/A"}},null,null,"Fehler"]
[null,null," B204396M","xx",{"$f":"SUM(B45:B47)","v":0},{"$f":"IF(VLOOKUP(C47,'B geplant - Tabelle'!A45:E85,5,FALSE)>0,\"Ja\",\"Fehlt\")","v":{"$error":"#N/A"}},null,null,"Fehler"]
[null,null," B203458M","xx",null,{"$f":"IF(VLOOKUP(C48,'B geplant - Tabelle'!A46:E86,5,FALSE)>0,\"Ja\",\"Fehlt\")","v":{"$error":"#N/A"}},null,"Find"]
[null,null," B203458M","xx",null,{"$f":"IF(VLOOKUP(C49,'B geplant - Tabelle'!A47:E87,5,FALSE)>0,\"Ja\",\"Fehlt\")","v":{"$error":"#N/A"}},null,null,"Fehler"]
[null,null," B203458M","xx",{"$f":"SUM(B48:B50)","v":0},{"$f":"IF(VLOOKUP(C50,'B geplant - Tabelle'!A48:E88,5,FALSE)>0,\"Ja\",\"Fehlt\")","v":{"$error":"#N/A"}},null,null,"Fehler"]
[null,null," B203024M","xx",null,{"$f":"IF(VLOOKUP(C51,'B geplant - Tabelle'!A49:E89,5,FALSE)>0,\"Ja\",\"Fehlt\")","v":{"$error":"#N/A"}},null,"Find"]
[null,null," B203024M","xx",null,{"$f":"IF(VLOOKUP(C52,'B geplant - Tabelle'!A50:E90,5,FALSE)>0,\"Ja\",\"Fehlt\")","v":{"$error":"#N/A"}},null,null,"Fehler"]
[null,null," B203024M","xx",{"$f":"SUM(B51:B53)","v":0},{"$f":"IF(VLOOKUP(C53,'B geplant - Tabelle'!A51:E91,5,FALSE)>0,\"Ja\",\"Fehlt\")","v":{"$error":"#N/A"}},null,null,"Fehler"]
[null,null," B202687M","xx",null,{"$f":"IF(VLOOKUP(C54,'B geplant - Tabelle'!A52:E92,5,FALSE)>0,\"Ja\",\"Fehlt\")","v":{"$error":"#N/A"}},null,"Find"]
[null,null," B202687M","xx",null,{"$f":"IF(VLOOKUP(C55,'B geplant - Tabelle'!A53:E93,5,FALSE)>0,\"Ja\",\"Fehlt\")","v":{"$error":"#N/A"}},null,null,"Fehler"]
[null,null," B202687M","xx",{"$f":"SUM(B54:B56)","v":0},{"$f":"IF(VLOOKUP(C56,'B geplant - Tabelle'!A54:E94,5,FALSE)>0,\"Ja\",\"Fehlt\")","v":{"$error":"#N/A"}},null,null,"Fehler"]
[null,null," B197838M","xx",null,{"$f":"IF(VLOOKUP(C57,'B geplant - Tabelle'!A55:E95,5,FALSE)>0,\"Ja\",\"Fehlt\")","v":{"$error":"#N/A"}},null,"Find"]
[null,null," B197838M","xx",{"$f":"SUM(B57:B58)","v":0},{"$f":"IF(VLOOKUP(C58,'B geplant - Tabelle'!A56:E96,5,FALSE)>0,\"Ja\",\"Fehlt\")","v":{"$error":"#N/A"}},null,null,"Fehler"]
[null,null," B196772M","xx",null,{"$f":"IF(VLOOKUP(C59,'B geplant - Tabelle'!A57:E97,5,FALSE)>0,\"Ja\",\"Fehlt\")","v":{"$error":"#N/A"}},null,"Find"]
[null,null," B196772M","xx",{"$f":"SUM(B59:B60)","v":0},{"$f":"IF(VLOOKUP(C60,'B geplant - Tabelle'!A58:E98,5,FALSE)>0,\"Ja\",\"Fehlt\")","v":{"$error":"#N/A"}},null,null,"Fehler"]
[null,null," B188730M","xx",null,{"$f":"IF(VLOOKUP(C61,'B geplant - Tabelle'!A59:E99,5,FALSE)>0,\"Ja\",\"Fehlt\")","v":{"$error":"#N/A"}},null,"Find"]
[null,null," B188730M","xx",null,{"$f":"IF(VLOOKUP(C62,'B geplant - Tabelle'!A60:E100,5,FALSE)>0,\"Ja\",\"Fehlt\")","v":{"$error":"#N/A"}},null,null,"Fehler"]
[null,null," B188729M","xx",null,{"$f":"IF(VLOOKUP(C63,'B geplant - Tabelle'!A61:E101,5,FALSE)>0,\"Ja\",\"Fehlt\")","v":{"$error":"#N/A"}},null,"Find"]
[null,null," B188729M","xx",{"$f":"SUM(B61:B64)","v":0},{"$f":"IF(VLOOKUP(C64,'B geplant - Tabelle'!A62:E102,5,FALSE)>0,\"Ja\",\"Fehlt\")","v":{"$error":"#N/A"}},null,null,"Fehler"]
[null,null," B183874M","xx",null,{"$f":"IF(VLOOKUP(C65,'B geplant - Tabelle'!A63:E103,5,FALSE)>0,\"Ja\",\"Fehlt\")","v":{"$error":"#N/A"}},null,"Find"]
[null,null," B183874M","xx",{"$f":"SUM(B65:B66)","v":0},{"$f":"IF(VLOOKUP(C66,'B geplant - Tabelle'!A64:E104,5,FALSE)>0,\"Ja\",\"Fehlt\")","v":{"$error":"#N/A"}},null,null,"Fehler"]
[null,null," B183629M","xx",null,{"$f":"IF(VLOOKUP(C67,'B geplant - Tabelle'!A65:E105,5,FALSE)>0,\"Ja\",\"Fehlt\")","v":{"$error":"#N/A"}},null,"Find"]
[null,null," B183629M","xx",{"$f":"SUM(B67:B68)","v":0},{"$f":"IF(VLOOKUP(C68,'B geplant - Tabelle'!A66:E106,5,FALSE)>0,\"Ja\",\"Fehlt\")","v":{"$error":"#N/A"}},null,null,"Fehler"]
[null,null," B182332M","xx",null,{"$f":"IF(VLOOKUP(C69,'B geplant - Tabelle'!A67:E107,5,FALSE)>0,\"Ja\",\"Fehlt\")","v":{"$error":"#N/A"}},null,"Find"]
[null,null," B182332M","xx",{"$f":"SUM(B69:B70)","v":0},{"$f":"IF(VLOOKUP(C70,'B geplant - Tabelle'!A68:E108,5,FALSE)>0,\"Ja\",\"Fehlt\")","v":{"$error":"#N/A"}},null,null,"Fehler"]
[null,null," B182110M","xx",null,{"$f":"IF(VLOOKUP(C71,'B geplant - Tabelle'!A69:E109,5,FALSE)>0,\"Ja\",\"Fehlt\")","v":{"$error":"#N/A"}},null,"Find"]
[null,null," B182110M","xx",{"$f":"SUM(B71:B72)","v":0},{"$f":"IF(VLOOKUP(C72,'B geplant - Tabelle'!A70:E110,5,FALSE)>0,\"Ja\",\"Fehlt\")","v":{"$error":"#N/A"}},null,null,"Fehler"]
[null,null," B181239M","xx",null,{"$f":"IF(VLOOKUP(C73,'B geplant - Tabelle'!A71:E111,5,FALSE)>0,\"Ja\",\"Fehlt\")","v":{"$error":"#N/A"}},null,"Find"]
[null,null," B181239M","xx",{"$f":"SUM(B73:B74)","v":0},{"$f":"IF(VLOOKUP(C74,'B geplant - Tabelle'!A72:E112,5,FALSE)>0,\"Ja\",\"Fehlt\")","v":{"$error":"#N/A"}},null,null,"Fehler"]
[null,null," B180800M","xx",null,{"$f":"IF(VLOOKUP(C75,'B geplant - Tabelle'!A73:E113,5,FALSE)>0,\"Ja\",\"Fehlt\")","v":{"$error":"#N/A"}},null,"Find"]
[null,null," B180800M","xx",{"$f":"SUM(B75:B76)","v":0},{"$f":"IF(VLOOKUP(C76,'B geplant - Tabelle'!A74:E114,5,FALSE)>0,\"Ja\",\"Fehlt\")","v":{"$error":"#N/A"}},null,null,"Fehler"]
[null,null," B173358M","xx",null,{"$f":"IF(VLOOKUP(C77,'B geplant - Tabelle'!A75:E115,5,FALSE)>0,\"Ja\",\"Fehlt\")","v":{"$error":"#N/A"}},null,"Find"]
[null,null," B173358M","xx",null,{"$f":"IF(VLOOKUP(C78,'B geplant - Tabelle'!A76:E116,5,FALSE)>0,\"Ja\",\"Fehlt\")","v":{"$error":"#N/A"}},null,null,"Fehler"]
[null,null," B173357M","xx",null,{"$f":"IF(VLOOKUP(C79,'B geplant - Tabelle'!A77:E117,5,FALSE)>0,\"Ja\",\"Fehlt\")","v":{"$error":"#N/A"}},null,"Find"]
[null,null," B173357M","xx",{"$f":"SUM(B77:B80)","v":0},{"$f":"IF(VLOOKUP(C80,'B geplant - Tabelle'!A78:E118,5,FALSE)>0,\"Ja\",\"Fehlt\")","v":{"$error":"#N/A"}},null,null,"Fehler"]
[null,null," B173178M","xx",null,{"$f":"IF(VLOOKUP(C81,'B geplant - Tabelle'!A79:E119,5,FALSE)>0,\"Ja\",\"Fehlt\")","v":{"$error":"#N/A"}},null,"Find"]
[null,null," B173178M","xx",null,{"$f":"IF(VLOOKUP(C82,'B geplant - Tabelle'!A80:E120,5,FALSE)>0,\"Ja\",\"Fehlt\")","v":{"$error":"#N/A"}},null,null,"Fehler"]
[null,null," B172890M","xx",null,{"$f":"IF(VLOOKUP(C83,'B geplant - Tabelle'!A81:E121,5,FALSE)>0,\"Ja\",\"Fehlt\")","v":{"$error":"#N/A"}},null,"Find"]
[null,null," B172890M","xx",{"$f":"SUM(B81:B84)","v":0},{"$f":"IF(VLOOKUP(C84,'B geplant - Tabelle'!A82:E122,5,FALSE)>0,\"Ja\",\"Fehlt\")","v":{"$error":"#N/A"}},null,null,"Fehler"]
[null,null," B172887M","xx",null,{"$f":"IF(VLOOKUP(C85,'B geplant - Tabelle'!A83:E123,5,FALSE)>0,\"Ja\",\"Fehlt\")","v":{"$error":"#N/A"}},null,"Find"]
[null,null," B172887M","xx",{"$f":"SUM(B85:B86)","v":0},{"$f":"IF(VLOOKUP(C86,'B geplant - Tabelle'!A84:E124,5,FALSE)>0,\"Ja\",\"Fehlt\")","v":{"$error":"#N/A"}},null,null,"Fehler"]
[null,null," B172306M","xx",null,{"$f":"IF(VLOOKUP(C87,'B geplant - Tabelle'!A85:E125,5,FALSE)>0,\"Ja\",\"Fehlt\")","v":{"$error":"#N/A"}},null,"Find"]
[null,null," B172306M","xx",{"$f":"SUM(B87:B88)","v":0},{"$f":"IF(VLOOKUP(C88,'B geplant - Tabelle'!A86:E126,5,FALSE)>0,\"Ja\",\"Fehlt\")","v":{"$error":"#N/A"}},null,null,"Fehler"]
[null,null," B168699M","xx",null,{"$f":"IF(VLOOKUP(C89,'B geplant - Tabelle'!A87:E127,5,FALSE)>0,\"Ja\",\"Fehlt\")","v":{"$error":"#N/A"}},null,"Find"]
[null,null," B168699M","xx",{"$f":"SUM(B89:B90)","v":0},{"$f":"IF(VLOOKUP(C90,'B geplant - Tabelle'!A88:E128,5,FALSE)>0,\"Ja\",\"Fehlt\")","v":{"$error":"#N/A"}},null,null,"Fehler"]
[null,null," B154200M","xx",{"$f":"SUM(B91)","v":0},{"$f":"IF(VLOOKUP(C91,'B geplant - Tabelle'!A89:E129,5,FALSE)>0,\"Ja\",\"Fehlt\")","v":{"$error":"#N/A"}},null,null,"Fehler"]
[null,null," B145146M","xx",null,{"$f":"IF(VLOOKUP(C92,'B geplant - Tabelle'!A90:E130,5,FALSE)>0,\"Ja\",\"Fehlt\")","v":{"$error":"#N/A"}},null,null,"Fehler"]
[null,null," B145146M","xx",{"$f":"SUM(B92:B93)","v":0},{"$f":"IF(VLOOKUP(C93,'B geplant - Tabelle'!A91:E131,5,FALSE)>0,\"Ja\",\"Fehlt\")","v":{"$error":"#N/A"}},null,null,"Fehler"]
[null,null," B140517M","xx",null,{"$f":"IF(VLOOKUP(C94,'B geplant - Tabelle'!A92:E132,5,FALSE)>0,\"Ja\",\"Fehlt\")","v":{"$error":"#N/A"}},null,null,"Fehler"]
[null,null," B140517M","xx",{"$f":"SUM(B94:B95)","v":0},{"$f":"IF(VLOOKUP(C95,'B geplant - Tabelle'!A93:E133,5,FALSE)>0,\"Ja\",\"Fehlt\")","v":{"$error":"#N/A"}},null,null,"Fehler"]
[null,null," B128854M","xx",null,{"$f":"IF(VLOOKUP(C96,'B geplant - Tabelle'!A94:E134,5,FALSE)>0,\"Ja\",\"Fehlt\")","v":{"$error":"#N/A"}},null,null,"Fehler"]
[null,null," B128854M","xx",{"$f":"SUM(B96:B97)","v":0},{"$f":"IF(VLOOKUP(C97,'B geplant - Tabelle'!A95:E135,5,FALSE)>0,\"Ja\",\"Fehlt\")","v":{"$error":"#N/A"}},null,null,"Fehler"]
[null,null," B126016M","xx",null,{"$f":"IF(VLOOKUP(C98,'B geplant - Tabelle'!A96:E136,5,FALSE)>0,\"Ja\",\"Fehlt\")","v":{"$error":"#N/A"}},null,null,"Fehler"]
[null,null," B126016M","xx",{"$f":"SUM(B98:B99)","v":0},{"$f":"IF(VLOOKUP(C99,'B geplant - Tabelle'!A97:E137,5,FALSE)>0,\"Ja\",\"Fehlt\")","v":{"$error":"#N/A"}},null,null,"Fehler"]

{"sheet":"B geplant - Tabelle","index":1,"n_rows":43,"n_cols":7,"rows_kept":43,"cut":false,"hidden":false,"merged":[]}
[]
["BuchNr.","rel. Periode","Betrag [EUR]","Saldo EUR","Buchungstext"]
[256627,"2025-01",null,null,"B230129M",null,"Find"]
[256716,"2025-01",null,null,"B224520M",null,"Find"]
[256713,"2025-01",null,null,"B221986M",null,"Find"]
[256717,"2025-01",null,null,"B221985M",null,"Find"]
[256718,"2025-01",null,null,"B221983M",null,"Find"]
[256704,"2025-01",null,null,"B207969M",null,"Find"]
[256702,"2025-01",null,null,"B207050M",null,"Find"]
[256703,"2025-01",null,null,"B205428M",null,"Find"]
[256692,"2025-01",null,null,"B204396M",null,"Find"]
[256694,"2025-01",null,null,"B203458M",null,"Find"]
[256693,"2025-01",null,null,"B203024M",null,"Find"]
[256695,"2025-01",null,null,"B202687M",null,"Find"]
[256679,"2025-01",null,null,"B197838M",null,"Find"]
[256676,"2025-01",null,null,"B196772M",null,"Find"]
[256672,"2025-01",null,null,"B188730M",null,"Find"]
[256674,"2025-01",null,null,"B188729M",null,"Find"]
[256671,"2025-01",null,null,"B183874M",null,"Find"]
[256669,"2025-01",null,null,"B183629M",null,"Find"]
[256667,"2025-01",null,null,"B182332M",null,"Find"]
[256668,"2025-01",null,null,"B182110M",null,"Find"]
[256666,"2025-01",null,null,"B181239M",null,"Find"]
[256670,"2025-01",null,null,"B180800M",null,"Find"]
[256690,"2025-01",null,null,"B173358M",null,"Find"]
[256691,"2025-01",null,null,"B173357M",null,"Find"]
[256663,"2025-01",null,null,"B173178M",null,"Find"]
[256664,"2025-01",null,null,"B172890M",null,"Find"]
[256665,"2025-01",null,null,"B172887M",null,"Find"]
[256662,"2025-01",null,null,"B172306M",null,"Find"]
[256660,"2025-01",null,null,"B168699M",null,"Find"]
[256688,"2025-01",null,null,"B161973M",null,"Find"]
[256656,"2025-01",null,null,"B157113M-2"]
[256659,"2025-01",null,null,"B154200M",null,"Find"]
[256678,"2025-01",null,null,"B151349M-2"]
[256655,"2025-01",null,null,"B145146M-2"]
[256654,"2025-01",null,null,"B143761M-2"]
[256677,"2025-01",null,null,"B140942M-2"]
[256653,"2025-01",null,null,"B140940M-2"]
[256652,"2025-01",null,null,"B140517M-2"]
[256651,"2025-01",null,null,"B128854M-2"]
[256650,"2025-01",null,null,"B126016M-2"]
[256649,"2025-01",null,null,"B119118M-2"]

{"sheet":"Tabelle2","index":2,"n_rows":0,"n_cols":0,"rows_kept":0,"cut":false,"hidden":false,"merged":[]}