{"text_format":"1","workbook":"xlsx","n_sheets":2,"sheets":["Rechnung","Dateien"],"not_rendered":{"charts":0,"images":0,"macros":1,"external_links":0,"defined_names":1,"comments":0,"pivot_tables":0},"unopened":[],"bounds":{"document_bytes":16777216,"sheet_cells":100000,"rows_first":2000,"rows_last":500,"rows_between":2000,"halvings":0,"cell_chars":16384,"cell_head_chars":4096},"cells_cut":0,"cells_raw":0,"read":"whole","date_system":"1900"}

{"sheet":"Rechnung","index":0,"n_rows":31,"n_cols":8,"rows_kept":31,"cut":false,"hidden":false,"merged":[]}
[]
[null,null,null,null,null,null,null,"Jenna Ortega"]
[null,null,null,null,null,null,null,"Nicole Wallace"]
[null,null,null,null,null,null,null,"Rachel Zegler"]
[null,null,null,null,null,null,null,"Angourie Rice"]
[null,null,null,null,null,null,null,"Auli'i Cravalho"]
[null,null,null,null,null,null,null,"Reneé Rapp"]
[null,null,null,null,null,null,null,"Kiernan Shipka"]
[null,null,null,null,null,null,null,"Lily-Rose Depp"]
[null,null,null,null,null,null,null,"Mikey Madison"]
[null,null,null,null,null,null,null,"Hunter Schafer"]
[null,null,null,null,null,null,null,"Cailee Spaeny"]
[null,null,null,null,null,null,null,"Daisy Edgar-Jones"]
[null,null,null,null,null,null,null,"Elle Fanning"]
[null,null,null,null,null,null,null,"Peyton List"]
[null,null,null,null,null,null,null,"Bella Thorne"]
[null,null,null,null,null,null,null,"Sydney Sweeney"]
[null,null,null,null,null,null,null,"Chloë Grace Moretz"]
[null,null,null,null,null,null,null,"Kaitlyn Dever"]
[null,null,null,null,null,null,null,"Thea Sofie Loch Næss"]
[null,null,null,null,null,null,null,"Ella Purnell"]
[null,null,null,null,null,null,null,"Zendaya"]
[null,null,null,null,null,null,null,"Anya Taylor-Joy"]
[null,null,null,null,null,null,null,"Abigail Breslin"]
[null,null,null,null,null,null,null,"Sophie Turner"]
[null,null,null,null,null,null,null,"Emma Mackey"]
[null,null,null,null,null,null,null,"Florence Pugh"]
[null,null,null,null,null,null,null,"Hannah Einbinder"]
[null,null,null,null,null,null,null,"Nicola Peltz Beckham"]
[null,null,null,null,null,null,null,"Jess Darrow"]
[null,null,null,null,null,null,null,"Zoey Deutch"]

{"sheet":"Dateien","index":1,"n_rows":1395,"n_cols":7,"rows_kept":1395,"cut":false,"hidden":false,"merged":[]}
["Dateien in E:\\Videos","Bedingung 1","Text aus Spalte A ohne letztes Wort","Bedingung 2","kopieren ja/nein",null,"Dateien in E:\\U30"]
["MRS 05053 Once Upon a Time in America (12.10.1984) - Jennifer Connelly (12.12.1970) 13-304 1944.mp4",{"$f":"IF(SUMPRODUCT(--ISNUMBER(SEARCH(Rechnung!H$2:H$31, A2)))>0,\"X\",\"\")","v":""},{"$f":"LEFT(A2, LEN(A2) - LEN(MID(A2, FIND(\"~\", SUBSTITUTE(A2,\" \",\"~\", LEN(A2)-LEN(SUBSTITUTE(A2,\" \",\"\")))), LEN(A2))))","v":"MRS 05053 Once Upon a Time in America (12.10.1984) - Jennifer Connelly (12.12.1970) 13-304"},0,{"$f":"IF(AND(B2=\"X\",D2=0),\"ja\",\"nein\")","v":"nein"},null,"MRS 05716 New Year's Eve (08.12.2011) - Abigail Breslin (14.04.1996) 15-238.mp4"]
["MRS 05053 Once Upon a Time in America (12.10.1984) - Jennifer Connelly (12.12.1970) 13-304 1945.mp4",{"$f":"IF(SUMPRODUCT(--ISNUMBER(SEARCH(Rechnung!H$2:H$31, A3)))>0,\"X\",\"\")","v":""},{"$f":"LEFT(A3, LEN(A3) - LEN(MID(A3, FIND(\"~\", SUBSTITUTE(A3,\" \",\"~\", LEN(A3)-LEN(SUBSTITUTE(A3,\" \",\"\")))), LEN(A3))))","v":"MRS 05053 Once Upon a Time in America (12.10.1984) - Jennifer Connelly (12.12.1970) 13-304"},0,{"$f":"IF(AND(B3=\"X\",D3=0),\"ja\",\"nein\")","v":"nein"},null,"MRS 06359 Every Day (31.05.2018) - Angourie Rice (01.01.2001) 17-150.mp4"]
["MRS 05716 New Year's Eve (08.12.2011) - Abigail Breslin (14.04.1996) 15-238 1832.mp4",{"$f":"IF(SUMPRODUCT(--ISNUMBER(SEARCH(Rechnung!H$2:H$31, A4)))>0,\"X\",\"\")","v":"X"},"MRS 05716 New Year's Eve (08.12.2011) - Abigail Breslin (14.04.1996) 15-238",1,"nein",null,"MRS 06520 Clouds of Sils Maria (18.12.2014) - Chloë Grace Moretz (10.02.1997) 17-311.mp4"]
["MRS 05720 Return to the Blue Lagoon (15.08.1991) - Milla Jovovich (17.12.1975) 15-242 651.mp4",{"$f":"IF(SUMPRODUCT(--ISNUMBER(SEARCH(Rechnung!H$2:H$31, A5)))>0,\"X\",\"\")","v":""},"MRS 05720 Return to the Blue Lagoon (15.08.1991) - Milla Jovovich (17.12.1975) 15-242",0,"nein",null,"MRS 06645 Martha Marcy May Marlene (12.04.2012) - Julia Garner (01.02.1994) 18-70 löschen.mp4"]
["MRS 05720 Return to the Blue Lagoon (15.08.1991) - Milla Jovovich (17.12.1975) 15-242 652.mp4",{"$f":"IF(SUMPRODUCT(--ISNUMBER(SEARCH(Rechnung!H$2:H$31, A6)))>0,\"X\",\"\")","v":""},"MRS 05720 Return to the Blue Lagoon (15.08.1991) - Milla Jovovich (17.12.1975) 15-242",0,"nein",null,"MRS 06770 Another Me (04.09.2014) - Sophie Turner (21.02.1996) 18-196 204.mp4"]
["MRS 05720 Return to the Blue Lagoon (15.08.1991) - Milla Jovovich (17.12.1975) 15-242 653.mp4",{"$f":"IF(SUMPRODUCT(--ISNUMBER(SEARCH(Rechnung!H$2:H$31, A7)))>0,\"X\",\"\")","v":""},"MRS 05720 Return to the Blue Lagoon (15.08.1991) - Milla Jovovich (17.12.1975) 15-242",0,"nein",null,"MRS 06925 Chilling Adventures of Sabrina Chapter One October Country (26.10.2018) - Kiernan Shipka (10.11.1999) 18-351.mp4"]
["MRS 05720 Return to the Blue Lagoon (15.08.1991) - Milla Jovovich (17.12.1975) 15-242 654.mp4",{"$f":"IF(SUMPRODUCT(--ISNUMBER(SEARCH(Rechnung!H$2:H$31, A8)))>0,\"X\",\"\")","v":""},"MRS 05720 Return to the Blue Lagoon (15.08.1991) - Milla Jovovich (17.12.1975) 15-242",0,"nein",null,"MRS 07072 The Fallout (06.02.2022) - Jenna Ortega (27.09.2002) 19-132.mp4"]
["MRS 06359 Every Day (31.05.2018) - Angourie Rice (01.01.2001) 17-150 827.mp4",{"$f":"IF(SUMPRODUCT(--ISNUMBER(SEARCH(Rechnung!H$2:H$31, A9)))>0,\"X\",\"\")","v":"X"},"MRS 06359 Every Day (31.05.2018) - Angourie Rice (01.01.2001) 17-150",1,"nein",null,"MRS 07086 Chilling Adventures of Sabrina Chapter Nineteen The Mandrake (05.04.2019) - Kiernan Shipka (10.11.1999) 19-147.mp4"]
["MRS 06359 Every Day (31.05.2018) - Angourie Rice (01.01.2001) 17-150 828.mp4",{"$f":"IF(SUMPRODUCT(--ISNUMBER(SEARCH(Rechnung!H$2:H$31, A10)))>0,\"X\",\"\")","v":"X"},"MRS 06359 Every Day (31.05.2018) - Angourie Rice (01.01.2001) 17-150",1,"nein",null,"MRS 07115 How I Live Now (04.10.2013) - Saoirse Ronan (12.04.1994) 19-175 löschen.mp4"]
["MRS 06359 Every Day (31.05.2018) - Angourie Rice (01.01.2001) 17-150 829.mp4",{"$f":"IF(SUMPRODUCT(--ISNUMBER(SEARCH(Rechnung!H$2:H$31, A11)))>0,\"X\",\"\")","v":"X"},"MRS 06359 Every Day (31.05.2018) - Angourie Rice (01.01.2001) 17-150",1,"nein",null,"MRS 07153 L'homme fidèle (26.12.2018) - Lily-Rose Depp (27.05.1999) 19-213.mp4"]
["MRS 06359 Every Day (31.05.2018) - Angourie Rice (01.01.2001) 17-150 830.mp4",{"$f":"IF(SUMPRODUCT(--ISNUMBER(SEARCH(Rechnung!H$2:H$31, A12)))>0,\"X\",\"\")","v":"X"},"MRS 06359 Every Day (31.05.2018) - Angourie Rice (01.01.2001) 17-150",1,"nein",null,"MRS 07160 X (05.05.2022) - Jenna Ortega (27.09.2002) 19-220.mp4"]
["MRS 06359 Every Day (31.05.2018) - Angourie Rice (01.01.2001) 17-150 831.mp4",{"$f":"IF(SUMPRODUCT(--ISNUMBER(SEARCH(Rechnung!H$2:H$31, A13)))>0,\"X\",\"\")","v":"X"},"MRS 06359 Every Day (31.05.2018) - Angourie Rice (01.01.2001) 17-150",1,"nein",null,"MRS 07181 Les fauves (23.01.2019) - Lily-Rose Depp (27.05.1999) 19-241.mp4"]
["MRS 06488 Una rosa de Francia (03.02.2006) - Ana de Armas (30.04.1988) 17-279 3202.mp4",{"$f":"IF(SUMPRODUCT(--ISNUMBER(SEARCH(Rechnung!H$2:H$31, A14)))>0,\"X\",\"\")","v":""},"MRS 06488 Una rosa de Francia (03.02.2006) - Ana de Armas (30.04.1988) 17-279",0,"nein",null,"MRS 07338 The VVitch A New-England Folktale (19.05.2016) - Anya Taylor-Joy (16.04.1996) 20-33.mp4"]
["MRS 06490 Inocência (23.06.1983) - Fernanda Torres (15.09.1965) 17-281 303.mp4",{"$f":"IF(SUMPRODUCT(--ISNUMBER(SEARCH(Rechnung!H$2:H$31, A15)))>0,\"X\",\"\")","v":""},"MRS 06490 Inocência (23.06.1983) - Fernanda Torres (15.09.1965) 17-281",0,"nein",null,"MRS 07404 Marcella Episode #1.2 (11.04.2016) - Florence Pugh (03.01.1996) 20-99.mp4"]
["MRS 06520 Clouds of Sils Maria (18.12.2014) - Chloë Grace Moretz (10.02.1997) 17-311 446.mp4",{"$f":"IF(SUMPRODUCT(--ISNUMBER(SEARCH(Rechnung!H$2:H$31, A16)))>0,\"X\",\"\")","v":"X"},"MRS 06520 Clouds of Sils Maria (18.12.2014) - Chloë Grace Moretz (10.02.1997) 17-311",1,"nein",null,"MRS 07409 The Quiet Ones (10.04.2014) - Olivia Cooke (27.12.1993) 20-104 löschen.mp4"]
["MRS 06525 Chaplin (28.10.1993) - Milla Jovovich (17.12.1975) 17-316 623.mp4",{"$f":"IF(SUMPRODUCT(--ISNUMBER(SEARCH(Rechnung!H$2:H$31, A17)))>0,\"X\",\"\")","v":""},"MRS 06525 Chaplin (28.10.1993) - Milla Jovovich (17.12.1975) 17-316",0,"nein",null,"MRS 07426 Very Good Girls (24.06.2014) - Dakota Fanning (23.02.1994) 20-121 löschen.mp4"]
["MRS 06645 Martha Marcy May Marlene (12.04.2012) - Julia Garner (01.02.1994) 18-70 1706.mp4",{"$f":"IF(SUMPRODUCT(--ISNUMBER(SEARCH(Rechnung!H$2:H$31, A18)))>0,\"X\",\"\")","v":""},"MRS 06645 Martha Marcy May Marlene (12.04.2012) - Julia Garner (01.02.1994) 18-70",1,"nein",null,"MRS 07452 Mare of Easttown Poor Sisyphus (28.05.2021) - Angourie Rice (01.01.2001) 20-147.mp4"]
["MRS 06704 Lucky Girl (08.04.2001) - Elisha Cuthbert (30.11.1982) 18-129 1587.mp4",{"$f":"IF(SUMPRODUCT(--ISNUMBER(SEARCH(Rechnung!H$2:H$31, A19)))>0,\"X\",\"\")","v":""},"MRS 06704 Lucky Girl (08.04.2001) - Elisha Cuthbert (30.11.1982) 18-129",0,"nein",null,"MRS 07493 Euphoria Shook Ones Pt II (07.07.2019) - Hunter Schafer (31.12.1998) 20-188.mp4"]
["MRS 06704 Lucky Girl (08.04.2001) - Elisha Cuthbert (30.11.1982) 18-129 1588.mp4",{"$f":"IF(SUMPRODUCT(--ISNUMBER(SEARCH(Rechnung!H$2:H$31, A20)))>0,\"X\",\"\")","v":""},"MRS 06704 Lucky Girl (08.04.2001) - Elisha Cuthbert (30.11.1982) 18-129",0,"nein",null,"MRS 07507 Euphoria The Next Episode (21.07.2019) - Hunter Schafer (31.12.1998) 20-202.mp4"]
["MRS 06754 Cyborg 2 Glass Shadow (30.11.1993) - Angelina Jolie (04.06.1975) 18-179 476.mp4",{"$f":"IF(SUMPRODUCT(--ISNUMBER(SEARCH(Rechnung!H$2:H$31, A21)))>0,\"X\",\"\")","v":""},"MRS 06754 Cyborg 2 Glass Shadow (30.11.1993) - Angelina Jolie (04.06.1975) 18-179",0,"nein",null,"MRS 07516 Marcella Episode #1.1 (01.08.2016) - Florence Pugh (03.01.1996) 20-211.mp4"]
["MRS 06754 Cyborg 2 Glass Shadow (30.11.1993) - Angelina Jolie (04.06.1975) 18-179 477.mp4",{"$f":"IF(SUMPRODUCT(--ISNUMBER(SEARCH(Rechnung!H$2:H$31, A22)))>0,\"X\",\"\")","v":""},"MRS 06754 Cyborg 2 Glass Shadow (30.11.1993) - Angelina Jolie (04.06.1975) 18-179",0,"nein",null,"MRS 07521 Euphoria And Salt the Earth Behind You (04.08.2019) - Hunter Schafer (31.12.1998) 20-216.mp4"]
["MRS 06767 Walkabout (01.07.1971) - Jenny Agutter (20.12.1952) 18-193 3294.mp4",{"$f":"IF(SUMPRODUCT(--ISNUMBER(SEARCH(Rechnung!H$2:H$31, A23)))>0,\"X\",\"\")","v":""},"MRS 06767 Walkabout (01.07.1971) - Jenny Agutter (20.12.1952) 18-193",0,"nein",null,"MRS 07525 West Side Story (09.12.2021) - Rachel Zegler (03.05.2001) 20-220.mp4"]
["MRS 06767 Walkabout (01.07.1971) - Jenny Agutter (20.12.1952) 18-193 3295.mp4",{"$f":"IF(SUMPRODUCT(--ISNUMBER(SEARCH(Rechnung!H$2:H$31, A24)))>0,\"X\",\"\")","v":""},"MRS 06767 Walkabout (01.07.1971) - Jenny Agutter (20.12.1952) 18-193",0,"nein",null,"MRS 07556 Som om himmelen revna (04.08.2017) - Thea Sofie Loch Næss (26.11.1996) 20-251.mp4"]
["MRS 06767 Walkabout (01.07.1971) - Jenny Agutter (20.12.1952) 18-193 3296.mp4",{"$f":"IF(SUMPRODUCT(--ISNUMBER(SEARCH(Rechnung!H$2:H$31, A25)))>0,\"X\",\"\")","v":""},"MRS 06767 Walkabout (01.07.1971) - Jenny Agutter (20.12.1952) 18-193",0,"nein",null,"MRS 07590 Split (26.01.2017) - Anya Taylor-Joy (16.04.1996) 20-285.mp4"]
["MRS 06770 Another Me (04.09.2014) - Sophie Turner (21.02.1996) 18-196 204.mp4",{"$f":"IF(SUMPRODUCT(--ISNUMBER(SEARCH(Rechnung!H$2:H$31, A26)))>0,\"X\",\"\")","v":"X"},"MRS 06770 Another Me (04.09.2014) - Sophie Turner (21.02.1996) 18-196",1,"nein",null,"MRS 07690 Stockholm, Pennsylvania (02.05.2015) - Saoirse Ronan (12.04.1994) 21-20 löschen.mp4"]
["MRS 06918 Selena Gomez & the Scene Love You Like a Love Song (01.07.2011) - Selena Gomez (22.07.1992) 18-344 1581.mp4",{"$f":"IF(SUMPRODUCT(--ISNUMBER(SEARCH(Rechnung!H$2:H$31, A27)))>0,\"X\",\"\")","v":""},"MRS 06918 Selena Gomez & the Scene Love You Like a Love Song (01.07.2011) - Selena Gomez (22.07.1992) 18-344",0,"nein",null,"MRS 07748 Culpa mía (08.06.2023) - Nicole Wallace (22.03.2002) 21-78.mp4"]
["MRS 06925 Chilling Adventures of Sabrina Chapter One October Country (26.10.2018) - Kiernan Shipka (10.11.1999) 18-351 429.mp4",{"$f":"IF(SUMPRODUCT(--ISNUMBER(SEARCH(Rechnung!H$2:H$31, A28)))>0,\"X\",\"\")","v":"X"},"MRS 06925 Chilling Adventures of Sabrina Chapter One October Country (26.10.2018) - Kiernan Shipka (10.11.1999) 18-351",1,"nein",null,"MRS 07787 I Believe in Unicorns (29.05.2015) - Julia Garner (01.02.1994) 21-117 löschen.mp4"]
["MRS 06926 Fireflies in the Garden (07.08.2008) - Hayden Panettiere (21.08.1989) 18-351 860.mp4",{"$f":"IF(SUMPRODUCT(--ISNUMBER(SEARCH(Rechnung!H$2:H$31, A29)))>0,\"X\",\"\")","v":""},"MRS 06926 Fireflies in the Garden (07.08.2008) - Hayden Panettiere (21.08.1989) 18-351",0,"nein",null,"MRS 07839 Miller's Girl (14.03.2024) - Jenna Ortega (27.09.2002) 21-169.mp4"]
["MRS 06943 El edén perdido (04.05.2007) - Ana de Armas (30.04.1988) 19-4 702.mp4",{"$f":"IF(SUMPRODUCT(--ISNUMBER(SEARCH(Rechnung!H$2:H$31, A30)))>0,\"X\",\"\")","v":""},"MRS 06943 El edén perdido (04.05.2007) - Ana de Armas (30.04.1988) 19-4",0,"nein",null,"MRS 07856 Crush (27.05.2022) - Auli'i Cravalho (22.11.2000) 21-186.mp4"]
["MRS 06982 Silent Witness Redhill Part 1 (22.04.2012) - Jodie Comer (11.03.1993) 19-42 2311.mp4",{"$f":"IF(SUMPRODUCT(--ISNUMBER(SEARCH(Rechnung!H$2:H$31, A31)))>0,\"X\",\"\")","v":""},"MRS 06982 Silent Witness Redhill Part 1 (22.04.2012) - Jodie Comer (11.03.1993) 19-42",0,"nein",null,"MRS 07879 The Miseducation of Cameron Post (07.09.2018) - Chloë Grace Moretz (10.02.1997) 21-209.mp4"]
["MRS 06991 How Harry Became a Tree (01.03.2002) - Kerry Condon (09.01.1983) 19-51 1171.mp4",{"$f":"IF(SUMPRODUCT(--ISNUMBER(SEARCH(Rechnung!H$2:H$31, A32)))>0,\"X\",\"\")","v":""},"MRS 06991 How Harry Became a Tree (01.03.2002) - Kerry Condon (09.01.1983) 19-51",0,"nein",null,"MRS 07915 Sweetbitter Everyone Is Soigné (20.05.2018) - Ella Purnell (17.09.1996) 21-245.mp4"]
["MRS 06991 How Harry Became a Tree (01.03.2002) - Kerry Condon (09.01.1983) 19-51 272.mp4",{"$f":"IF(SUMPRODUCT(--ISNUMBER(SEARCH(Rechnung!H$2:H$31, A33)))>0,\"X\",\"\")","v":""},"MRS 06991 How Harry Became a Tree (01.03.2002) - Kerry Condon (09.01.1983) 19-51",0,"nein",null,"MRS 07948 Suspiria (15.11.2018) - Chloë Grace Moretz (10.02.1997) 21-278.mp4"]
["MRS 06991 How Harry Became a Tree (01.03.2002) - Kerry Condon (09.01.1983) 19-51 273.mp4",{"$f":"IF(SUMPRODUCT(--ISNUMBER(SEARCH(Rechnung!H$2:H$31, A34)))>0,\"X\",\"\")","v":""},"MRS 06991 How Harry Became a Tree (01.03.2002) - Kerry Condon (09.01.1983) 19-51",0,"nein",null,"MRS 07974 Lady Macbeth (02.11.2017) - Florence Pugh (03.01.1996) 21-304.mp4"]
["MRS 07039 Heavenly Creatures (12.01.1995) - Kate Winslet (05.10.1975) 19-99 1098.mp4",{"$f":"IF(SUMPRODUCT(--ISNUMBER(SEARCH(Rechnung!H$2:H$31, A35)))>0,\"X\",\"\")","v":""},"MRS 07039 Heavenly Creatures (12.01.1995) - Kate Winslet (05.10.1975) 19-99",0,"nein",null,"MRS 07982 Euphoria The Next Episode (21.07.2019) - Sydney Sweeney (12.09.1997) 21-312.mp4"]
["MRS 07072 The Fallout (06.02.2022) - Jenna Ortega (27.09.2002) 19-132 2690.mp4",{"$f":"IF(SUMPRODUCT(--ISNUMBER(SEARCH(Rechnung!H$2:H$31, A36)))>0,\"X\",\"\")","v":"X"},"MRS 07072 The Fallout (06.02.2022) - Jenna Ortega (27.09.2002) 19-132",1,"nein",null,"MRS 07989 Euphoria The Trials and Tribulations of Trying to Pee While Depressed (28.07.2019) - Sydney Sweeney (12.09.1997) 21-319.mp4"]
["MRS 07072 The Fallout (06.02.2022) - Jenna Ortega (27.09.2002) 19-132 2691.mp4",{"$f":"IF(SUMPRODUCT(--ISNUMBER(SEARCH(Rechnung!H$2:H$31, A37)))>0,\"X\",\"\")","v":"X"},"MRS 07072 The Fallout (06.02.2022) - Jenna Ortega (27.09.2002) 19-132",1,"nein",null,"MRS 07995 All the Bright Places (28.02.2020) - Elle Fanning (09.04.1998) 21-325.mp4"]
["MRS 07086 Chilling Adventures of Sabrina Chapter Nineteen The Mandrake (05.04.2019) - Kiernan Shipka (10.11.1999) 19-147 430.mp4",{"$f":"IF(SUMPRODUCT(--ISNUMBER(SEARCH(Rechnung!H$2:H$31, A38)))>0,\"X\",\"\")","v":"X"},"MRS 07086 Chilling Adventures of Sabrina Chapter Nineteen The Mandrake (05.04.2019) - Kiernan Shipka (10.11.1999) 19-147",1,"nein",null,"MRS 08001 Sabrina Carpenter Taste (23.08.2024) - Jenna Ortega (27.09.2002) 21-330.mp4"]
["MRS 07115 How I Live Now (04.10.2013) - Saoirse Ronan (12.04.1994) 19-175 1172.mp4",{"$f":"IF(SUMPRODUCT(--ISNUMBER(SEARCH(Rechnung!H$2:H$31, A39)))>0,\"X\",\"\")","v":""},"MRS 07115 How I Live Now (04.10.2013) - Saoirse Ronan (12.04.1994) 19-175",1,"nein",null,"MRS 08008 Normal People Episode #1.11 (26.04.2020) - Daisy Edgar-Jones (24.05.1998) 21-337.mp4"]
["MRS 07129 Windrider (26.12.1986) - Nicole Kidman (20.06.1967) 19-189 3363.mp4",{"$f":"IF(SUMPRODUCT(--ISNUMBER(SEARCH(Rechnung!H$2:H$31, A40)))>0,\"X\",\"\")","v":""},"MRS 07129 Windrider (26.12.1986) - Nicole Kidman (20.06.1967) 19-189",0,"nein",null,"MRS 08008 Normal People Episode #1.12 (26.04.2020) - Daisy Edgar-Jones (24.05.1998) 21-337.mp4"]
["MRS 07129 Windrider (26.12.1986) - Nicole Kidman (20.06.1967) 19-189 3364.mp4",{"$f":"IF(SUMPRODUCT(--ISNUMBER(SEARCH(Rechnung!H$2:H$31, A41)))>0,\"X\",\"\")","v":""},"MRS 07129 Windrider (26.12.1986) - Nicole Kidman (20.06.1967) 19-189",0,"nein",null,"MRS 08008 Normal People Episode #1.2 (26.04.2020) - Daisy Edgar-Jones (24.05.1998) 21-337.mp4"]
["MRS 07129 Windrider (26.12.1986) - Nicole Kidman (20.06.1967) 19-189 3365.mp4",{"$f":"IF(SUMPRODUCT(--ISNUMBER(SEARCH(Rechnung!H$2:H$31, A42)))>0,\"X\",\"\")","v":""},"MRS 07129 Windrider (26.12.1986) - Nicole Kidman (20.06.1967) 19-189",0,"nein",null,"MRS 08008 Normal People Episode #1.5 (26.04.2020) - Daisy Edgar-Jones (24.05.1998) 21-337.mp4"]
["MRS 07129 Windrider (26.12.1986) - Nicole Kidman (20.06.1967) 19-189 3366.mp4",{"$f":"IF(SUMPRODUCT(--ISNUMBER(SEARCH(Rechnung!H$2:H$31, A43)))>0,\"X\",\"\")","v":""},"MRS 07129 Windrider (26.12.1986) - Nicole Kidman (20.06.1967) 19-189",0,"nein",null,"MRS 08008 Normal People Episode #1.6 (26.04.2020) - Daisy Edgar-Jones (24.05.1998) 21-337.mp4"]
["MRS 07129 Windrider (26.12.1986) - Nicole Kidman (20.06.1967) 19-189 3367.mp4",{"$f":"IF(SUMPRODUCT(--ISNUMBER(SEARCH(Rechnung!H$2:H$31, A44)))>0,\"X\",\"\")","v":""},"MRS 07129 Windrider (26.12.1986) - Nicole Kidman (20.06.1967) 19-189",0,"nein",null,"MRS 08008 Normal People Episode #1.9 (26.04.2020) - Daisy Edgar-Jones (24.05.1998) 21-337.mp4"]
["MRS 07153 L'homme fidèle (26.12.2018) - Lily-Rose Depp (27.05.1999) 19-213 46.mp4",{"$f":"IF(SUMPRODUCT(--ISNUMBER(SEARCH(Rechnung!H$2:H$31, A45)))>0,\"X\",\"\")","v":"X"},"MRS 07153 L'homme fidèle (26.12.2018) - Lily-Rose Depp (27.05.1999) 19-213",1,"nein",null,"MRS 08009 Euphoria Trouble Don't Last Always (04.12.2020) - Hunter Schafer (31.12.1998) 21-338.mp4"]
["MRS 07160 X (05.05.2022) - Jenna Ortega (27.09.2002) 19-220 3395.mp4",{"$f":"IF(SUMPRODUCT(--ISNUMBER(SEARCH(Rechnung!H$2:H$31, A46)))>0,\"X\",\"\")","v":"X"},"MRS 07160 X (05.05.2022) - Jenna Ortega (27.09.2002) 19-220",1,"nein",null,"MRS 08069 Euphoria Pilot (16.10.2019) - Sydney Sweeney (12.09.1997) 22-34.mp4"]
["MRS 07171 Olgas Sommer (18.06.2002) - Clémence Poésy (30.10.1982) 19-231 1928.mp4",{"$f":"IF(SUMPRODUCT(--ISNUMBER(SEARCH(Rechnung!H$2:H$31, A47)))>0,\"X\",\"\")","v":""},"MRS 07171 Olgas Sommer (18.06.2002) - Clémence Poésy (30.10.1982) 19-231",0,"nein",null,"MRS 08106 Ni una más A sangre o lágrimas (31.05.2024) - Nicole Wallace (22.03.2002) 22-70.mp4"]
["MRS 07181 Les fauves (23.01.2019) - Lily-Rose Depp (27.05.1999) 19-241 2240.mp4",{"$f":"IF(SUMPRODUCT(--ISNUMBER(SEARCH(Rechnung!H$2:H$31, A48)))>0,\"X\",\"\")","v":"X"},"MRS 07181 Les fauves (23.01.2019) - Lily-Rose Depp (27.05.1999) 19-241",1,"nein",null,"MRS 08106 Ni una más Piloto (31.05.2024) - Nicole Wallace (22.03.2002) 22-70.mp4"]
["MRS 07197 Lady Jane (07.02.1986) - Helena Bonham Carter (26.05.1966) 19-257 1456.mp4",{"$f":"IF(SUMPRODUCT(--ISNUMBER(SEARCH(Rechnung!H$2:H$31, A49)))>0,\"X\",\"\")","v":""},"MRS 07197 Lady Jane (07.02.1986) - Helena Bonham Carter (26.05.1966) 19-257",0,"nein",null,"MRS 08106 The Great The Great (18.06.2020) - Elle Fanning (09.04.1998) 22-70.mp4"]
["MRS 07197 Lady Jane (07.02.1986) - Helena Bonham Carter (26.05.1966) 19-257 1457.mp4",{"$f":"IF(SUMPRODUCT(--ISNUMBER(SEARCH(Rechnung!H$2:H$31, A50)))>0,\"X\",\"\")","v":""},"MRS 07197 Lady Jane (07.02.1986) - Helena Bonham Carter (26.05.1966) 19-257",0,"nein",null,"MRS 08130 Greta (16.05.2019) - Chloë Grace Moretz (10.02.1997) 22-95.mp4"]
["MRS 07197 Waterland (17.06.1993) - Lena Headey (03.10.1973) 19-257 608.mp4",{"$f":"IF(SUMPRODUCT(--ISNUMBER(SEARCH(Rechnung!H$2:H$31, A51)))>0,\"X\",\"\")","v":""},"MRS 07197 Waterland (17.06.1993) - Lena Headey (03.10.1973) 19-257",0,"nein",null,"MRS 08274 Clementine (08.05.2020) - Sydney Sweeney (12.09.1997) 22-238.mp4"]
["MRS 07197 Waterland (17.06.1993) - Lena Headey (03.10.1973) 19-257 609.mp4",{"$f":"IF(SUMPRODUCT(--ISNUMBER(SEARCH(Rechnung!H$2:H$31, A52)))>0,\"X\",\"\")","v":""},"MRS 07197 Waterland (17.06.1993) - Lena Headey (03.10.1973) 19-257",0,"nein",null,"MRS 08303 Wolf (18.02.2022) - Lily-Rose Depp (27.05.1999) 22-267.mp4"]
["MRS 07213 La gifle (27.03.1975) - Isabelle Adjani (27.06.1955) 19-274 348.mp4",{"$f":"IF(SUMPRODUCT(--ISNUMBER(SEARCH(Rechnung!H$2:H$31, A53)))>0,\"X\",\"\")","v":""},"MRS 07213 La gifle (27.03.1975) - Isabelle Adjani (27.06.1955) 19-274",0,"nein",null,"MRS 08335 Sweetbitter The Pork Special (14.07.2019) - Ella Purnell (17.09.1996) 22-300.mp4"]
["MRS 07249 Time Out (12.02.1988) - Patricia Arquette (08.04.1968) 19-310 3159.mp4",{"$f":"IF(SUMPRODUCT(--ISNUMBER(SEARCH(Rechnung!H$2:H$31, A54)))>0,\"X\",\"\")","v":""},"MRS 07249 Time Out (12.02.1988) - Patricia Arquette (08.04.1968) 19-310",0,"nein",null,"MRS 08337 Mare of Easttown Fathers (21.05.2021) - Cailee Spaeny (24.07.1998) 22-301.mp4"]
["MRS 07253 Slums of Beverly Hills (11.02.1999) - Natasha Lyonne (04.04.1979) 19-313 2326.mp4",{"$f":"IF(SUMPRODUCT(--ISNUMBER(SEARCH(Rechnung!H$2:H$31, A55)))>0,\"X\",\"\")","v":""},"MRS 07253 Slums of Beverly Hills (11.02.1999) - Natasha Lyonne (04.04.1979) 19-313",0,"nein",null,"MRS 08337 Mare of Easttown Miss Lady Hawk Herself (21.05.2021) - Cailee Spaeny (24.07.1998) 22-301.mp4"]
["MRS 07253 Slums of Beverly Hills (11.02.1999) - Natasha Lyonne (04.04.1979) 19-313 2327.mp4",{"$f":"IF(SUMPRODUCT(--ISNUMBER(SEARCH(Rechnung!H$2:H$31, A56)))>0,\"X\",\"\")","v":""},"MRS 07253 Slums of Beverly Hills (11.02.1999) - Natasha Lyonne (04.04.1979) 19-313",0,"nein",null,"MRS 08344 Euphoria Shook Ones Pt II (07.07.2019) - Zendaya (01.09.1996) 22-309.mp4"]
["MRS 07253 Slums of Beverly Hills (11.02.1999) - Natasha Lyonne (04.04.1979) 19-313 2328.mp4",{"$f":"IF(SUMPRODUCT(--ISNUMBER(SEARCH(Rechnung!H$2:H$31, A57)))>0,\"X\",\"\")","v":""},"MRS 07253 Slums of Beverly Hills (11.02.1999) - Natasha Lyonne (04.04.1979) 19-313",0,"nein",null,"MRS 08346 Outlaw King (09.11.2018) - Florence Pugh (03.01.1996) 22-311.mp4"]
["MRS 07253 Slums of Beverly Hills (11.02.1999) - Natasha Lyonne (04.04.1979) 19-313 2329.mp4",{"$f":"IF(SUMPRODUCT(--ISNUMBER(SEARCH(Rechnung!H$2:H$31, A58)))>0,\"X\",\"\")","v":""},"MRS 07253 Slums of Beverly Hills (11.02.1999) - Natasha Lyonne (04.04.1979) 19-313",0,"nein",null,"MRS 08358 Euphoria The Next Episode (21.07.2019) - Zendaya (01.09.1996) 22-323.mp4"]
["MRS 07253 Slums of Beverly Hills (11.02.1999) - Natasha Lyonne (04.04.1979) 19-313 2330.mp4",{"$f":"IF(SUMPRODUCT(--ISNUMBER(SEARCH(Rechnung!H$2:H$31, A59)))>0,\"X\",\"\")","v":""},"MRS 07253 Slums of Beverly Hills (11.02.1999) - Natasha Lyonne (04.04.1979) 19-313",0,"nein",null,"MRS 08358 The Little Drummer Girl Episode #1.6 (21.11.2018) - Florence Pugh (03.01.1996) 22-323.mp4"]
["MRS 07254 Bring It On (09.11.2000) - Eliza Dushku (30.12.1980) 19-314 336.mp4",{"$f":"IF(SUMPRODUCT(--ISNUMBER(SEARCH(Rechnung!H$2:H$31, A60)))>0,\"X\",\"\")","v":""},"MRS 07254 Bring It On (09.11.2000) - Eliza Dushku (30.12.1980) 19-314",0,"nein",null,"MRS 08363 Booksmart (14.11.2019) - Kaitlyn Dever (21.12.1996) 22-328.mp4"]
["MRS 07254 Bring It On (09.11.2000) - Eliza Dushku (30.12.1980) 19-314 337.mp4",{"$f":"IF(SUMPRODUCT(--ISNUMBER(SEARCH(Rechnung!H$2:H$31, A61)))>0,\"X\",\"\")","v":""},"MRS 07254 Bring It On (09.11.2000) - Eliza Dushku (30.12.1980) 19-314",0,"nein",null,"MRS 08372 Euphoria And Salt the Earth Behind You (04.08.2019) - Zendaya (01.09.1996) 22-337.mp4"]
["MRS 07254 Bring It On (09.11.2000) - Eliza Dushku (30.12.1980) 19-314 338.mp4",{"$f":"IF(SUMPRODUCT(--ISNUMBER(SEARCH(Rechnung!H$2:H$31, A62)))>0,\"X\",\"\")","v":""},"MRS 07254 Bring It On (09.11.2000) - Eliza Dushku (30.12.1980) 19-314",0,"nein",null,"MRS 08378 Novitiate (30.09.2017) - Margaret Qualley (23.10.1994) 22-342 löschen.mp4"]
["MRS 07254 Bring It On (09.11.2000) - Eliza Dushku (30.12.1980) 19-314 339.mp4",{"$f":"IF(SUMPRODUCT(--ISNUMBER(SEARCH(Rechnung!H$2:H$31, A63)))>0,\"X\",\"\")","v":""},"MRS 07254 Bring It On (09.11.2000) - Eliza Dushku (30.12.1980) 19-314",0,"nein",null,"MRS 08417 Euphoria Out of Touch (16.01.2022) - Hunter Schafer (31.12.1998) 23-16.mp4"]
["MRS 07254 Bring It On (09.11.2000) - Eliza Dushku (30.12.1980) 19-314 340.mp4",{"$f":"IF(SUMPRODUCT(--ISNUMBER(SEARCH(Rechnung!H$2:H$31, A64)))>0,\"X\",\"\")","v":""},"MRS 07254 Bring It On (09.11.2000) - Eliza Dushku (30.12.1980) 19-314",0,"nein",null,"MRS 08424 Euphoria Ruminations Big and Little Bullys (23.01.2022) - Hunter Schafer (31.12.1998) 23-23.mp4"]
["MRS 07254 Bring It On (09.11.2000) - Eliza Dushku (30.12.1980) 19-314 341.mp4",{"$f":"IF(SUMPRODUCT(--ISNUMBER(SEARCH(Rechnung!H$2:H$31, A65)))>0,\"X\",\"\")","v":""},"MRS 07254 Bring It On (09.11.2000) - Eliza Dushku (30.12.1980) 19-314",0,"nein",null,"MRS 08431 Euphoria You Who Cannot See, Think of Those Who Can (30.01.2022) - Hunter Schafer (31.12.1998) 23-30.mp4"]
["MRS 07283 The Jacket (04.03.2005) - Keira Knightley (26.03.1985) 19-343 2779.mp4",{"$f":"IF(SUMPRODUCT(--ISNUMBER(SEARCH(Rechnung!H$2:H$31, A66)))>0,\"X\",\"\")","v":""},"MRS 07283 The Jacket (04.03.2005) - Keira Knightley (26.03.1985) 19-343",0,"nein",null,"MRS 08480 One Percent More Humid (21.04.2017) - Julia Garner (01.02.1994) 23-79 löschen.mp4"]
["MRS 07283 The Jacket (04.03.2005) - Keira Knightley (26.03.1985) 19-343 2780.mp4",{"$f":"IF(SUMPRODUCT(--ISNUMBER(SEARCH(Rechnung!H$2:H$31, A67)))>0,\"X\",\"\")","v":""},{"$f":"LEFT(A67, LEN(A67) - LEN(MID(A67, FIND(\"~\", SUBSTITUTE(A67,\" \",\"~\", LEN(A67)-LEN(SUBSTITUTE(A67,\" \",\"\")))), LEN(A67))))","v":"MRS 07283 The Jacket (04.03.2005) - Keira Knightley (26.03.1985) 19-343"},0,{"$f":"IF(AND(B67=\"X\",D67=0),\"ja\",\"nein\")","v":"nein"},null,"MRS 08527 Flower (16.03.2018) - Zoey Deutch (10.11.1994) 23-126.mp4"]
["MRS 07310 The Babysitter (13.10.2017) - Bella Thorne (08.10.1997) 20-5 85.mp4",{"$f":"IF(SUMPRODUCT(--ISNUMBER(SEARCH(Rechnung!H$2:H$31, A68)))>0,\"X\",\"\")","v":"X"},"MRS 07310 The Babysitter (13.10.2017) - Bella Thorne (08.10.1997) 20-5",0,"ja",null,"MRS 08532 Wildflower (21.03.2023) - Kiernan Shipka (10.11.1999) 23-132.mp4"]
["MRS 07312 Rachael (12.01.2012) - Suki Waterhouse (05.01.1992) 20-7 761.mp4",{"$f":"IF(SUMPRODUCT(--ISNUMBER(SEARCH(Rechnung!H$2:H$31, A69)))>0,\"X\",\"\")","v":""},"MRS 07312 Rachael (12.01.2012) - Suki Waterhouse (05.01.1992) 20-7",0,"nein",null,"MRS 08625 The Great Seven Days (19.11.2021) - Elle Fanning (09.04.1998) 23-224.mp4"]
["MRS 07312 Rachael (12.01.2012) - Suki Waterhouse (05.01.1992) 20-7 762.mp4",{"$f":"IF(SUMPRODUCT(--ISNUMBER(SEARCH(Rechnung!H$2:H$31, A70)))>0,\"X\",\"\")","v":""},"MRS 07312 Rachael (12.01.2012) - Suki Waterhouse (05.01.1992) 20-7",0,"nein",null,"MRS 08625 The Great Walnut Season (19.11.2021) - Elle Fanning (09.04.1998) 23-224.mp4"]
["MRS 07328 Keep Watching (31.10.2017) - Bella Thorne (08.10.1997) 20-23 78.mp4",{"$f":"IF(SUMPRODUCT(--ISNUMBER(SEARCH(Rechnung!H$2:H$31, A71)))>0,\"X\",\"\")","v":"X"},"MRS 07328 Keep Watching (31.10.2017) - Bella Thorne (08.10.1997) 20-23",0,"ja",null,"MRS 08625 The Great Wedding (19.11.2021) - Elle Fanning (09.04.1998) 23-224.mp4"]
["MRS 07328 Keep Watching (31.10.2017) - Bella Thorne (08.10.1997) 20-23 79.mp4",{"$f":"IF(SUMPRODUCT(--ISNUMBER(SEARCH(Rechnung!H$2:H$31, A72)))>0,\"X\",\"\")","v":"X"},"MRS 07328 Keep Watching (31.10.2017) - Bella Thorne (08.10.1997) 20-23",0,"ja",null,"MRS 08681 Brimstone (30.11.2017) - Dakota Fanning (23.02.1994) 23-280 löschen.mp4"]
["MRS 07338 Modern Vampires (07.05.1999) - Natasha Lyonne (04.04.1979) 20-33 1729.mp4",{"$f":"IF(SUMPRODUCT(--ISNUMBER(SEARCH(Rechnung!H$2:H$31, A73)))>0,\"X\",\"\")","v":""},"MRS 07338 Modern Vampires (07.05.1999) - Natasha Lyonne (04.04.1979) 20-33",0,"nein",null,"MRS 08739 Aileen Wuornos American Boogeywoman (10.03.2022) - Peyton List (06.04.1998) 23-338.mp4"]
["MRS 07338 The VVitch A New-England Folktale (19.05.2016) - Anya Taylor-Joy (16.04.1996) 20-33 3124.mp4",{"$f":"IF(SUMPRODUCT(--ISNUMBER(SEARCH(Rechnung!H$2:H$31, A74)))>0,\"X\",\"\")","v":"X"},"MRS 07338 The VVitch A New-England Folktale (19.05.2016) - Anya Taylor-Joy (16.04.1996) 20-33",1,"nein",null,"MRS 08764 The Voyeurs (10.09.2021) - Sydney Sweeney (12.09.1997) 23-363.mp4"]
["MRS 07341 The Hot Spot (17.01.1991) - Jennifer Connelly (12.12.1970) 20-36 2732.mp4",{"$f":"IF(SUMPRODUCT(--ISNUMBER(SEARCH(Rechnung!H$2:H$31, A75)))>0,\"X\",\"\")","v":""},"MRS 07341 The Hot Spot (17.01.1991) - Jennifer Connelly (12.12.1970) 20-36",0,"nein",null,"MRS 08775 The Idol Pop Tarts & Rat Tales (05.06.2023) - Lily-Rose Depp (27.05.1999) 24-9.mp4"]
["MRS 07343 Much Ado About Nothing (02.09.1993) - Kate Beckinsale (26.07.1973) 20-38 1778.mp4",{"$f":"IF(SUMPRODUCT(--ISNUMBER(SEARCH(Rechnung!H$2:H$31, A76)))>0,\"X\",\"\")","v":""},"MRS 07343 Much Ado About Nothing (02.09.1993) - Kate Beckinsale (26.07.1973) 20-38",0,"nein",null,"MRS 08781 The Idol Double Fantasy (11.06.2023) - Lily-Rose Depp (27.05.1999) 24-15.mp4"]
["MRS 07343 Sam & Cat #ToddlerClimbing (03.08.2013) - Ariana Grande (26.06.1993) 20-38 2232.mp4",{"$f":"IF(SUMPRODUCT(--ISNUMBER(SEARCH(Rechnung!H$2:H$31, A77)))>0,\"X\",\"\")","v":""},"MRS 07343 Sam & Cat #ToddlerClimbing (03.08.2013) - Ariana Grande (26.06.1993) 20-38",0,"nein",null,"MRS 08788 The Idol Daybreak (18.06.2023) - Lily-Rose Depp (27.05.1999) 24-22.mp4"]
["MRS 07354 The Hollow (18.01.2006) - Kaley Cuoco (30.11.1985) 20-49 2730.mp4",{"$f":"IF(SUMPRODUCT(--ISNUMBER(SEARCH(Rechnung!H$2:H$31, A78)))>0,\"X\",\"\")","v":""},"MRS 07354 The Hollow (18.01.2006) - Kaley Cuoco (30.11.1985) 20-49",0,"nein",null,"MRS 08795 The Idol Stars Belong to the World (25.06.2023) - Lily-Rose Depp (27.05.1999) 24-29.mp4"]
["MRS 07372 I Still Know What You Did Last Summer (29.04.1999) - Jennifer Love Hewitt (21.02.1979) 20-67 1186.mp4",{"$f":"IF(SUMPRODUCT(--ISNUMBER(SEARCH(Rechnung!H$2:H$31, A79)))>0,\"X\",\"\")","v":""},"MRS 07372 I Still Know What You Did Last Summer (29.04.1999) - Jennifer Love Hewitt (21.02.1979) 20-67",0,"nein",null,"MRS 08802 The Idol Jocelyn Forever (02.07.2023) - Lily-Rose Depp (27.05.1999) 24-36.mp4"]
["MRS 07372 I Still Know What You Did Last Summer (29.04.1999) - Jennifer Love Hewitt (21.02.1979) 20-67 1187.mp4",{"$f":"IF(SUMPRODUCT(--ISNUMBER(SEARCH(Rechnung!H$2:H$31, A80)))>0,\"X\",\"\")","v":""},"MRS 07372 I Still Know What You Did Last Summer (29.04.1999) - Jennifer Love Hewitt (21.02.1979) 20-67",0,"nein",null,"MRS 08836 On Chesil Beach (21.06.2018) - Saoirse Ronan (12.04.1994) 24-70 löschen.mp4"]
["MRS 07374 I Love You, Beth Cooper (29.10.2009) - Hayden Panettiere (21.08.1989) 20-69 1182.mp4",{"$f":"IF(SUMPRODUCT(--ISNUMBER(SEARCH(Rechnung!H$2:H$31, A81)))>0,\"X\",\"\")","v":""},"MRS 07374 I Love You, Beth Cooper (29.10.2009) - Hayden Panettiere (21.08.1989) 20-69",0,"nein",null,"MRS 08852 Where the Crawdads Sing (18.08.2022) - Daisy Edgar-Jones (24.05.1998) 24-86.mp4"]
["MRS 07374 I Love You, Beth Cooper (29.10.2009) - Hayden Panettiere (21.08.1989) 20-69 1183.mp4",{"$f":"IF(SUMPRODUCT(--ISNUMBER(SEARCH(Rechnung!H$2:H$31, A82)))>0,\"X\",\"\")","v":""},"MRS 07374 I Love You, Beth Cooper (29.10.2009) - Hayden Panettiere (21.08.1989) 20-69",0,"nein",null,"MRS 08853 IO (18.01.2019) - Margaret Qualley (23.10.1994) 24-87 löschen.mp4"]
["MRS 07404 Marcella Episode #1.2 (11.04.2016) - Florence Pugh (03.01.1996) 20-99 1671.mp4",{"$f":"IF(SUMPRODUCT(--ISNUMBER(SEARCH(Rechnung!H$2:H$31, A83)))>0,\"X\",\"\")","v":"X"},"MRS 07404 Marcella Episode #1.2 (11.04.2016) - Florence Pugh (03.01.1996) 20-99",1,"nein",null,"MRS 08860 Euphoria Trouble Don't Last Always (04.12.2020) - Zendaya (01.09.1996) 24-94.mp4"]
["MRS 07409 The Quiet Ones (10.04.2014) - Olivia Cooke (27.12.1993) 20-104 2972.mp4",{"$f":"IF(SUMPRODUCT(--ISNUMBER(SEARCH(Rechnung!H$2:H$31, A84)))>0,\"X\",\"\")","v":""},"MRS 07409 The Quiet Ones (10.04.2014) - Olivia Cooke (27.12.1993) 20-104",1,"nein",null,"MRS 08878 Katie Says Goodbye (18.04.2018) - Olivia Cooke (27.12.1993) 24-112 löschen.mp4"]
["MRS 07412 Career Opportunities (29.03.1991) - Jennifer Connelly (12.12.1970) 20-107 372.mp4",{"$f":"IF(SUMPRODUCT(--ISNUMBER(SEARCH(Rechnung!H$2:H$31, A85)))>0,\"X\",\"\")","v":""},"MRS 07412 Career Opportunities (29.03.1991) - Jennifer Connelly (12.12.1970) 20-107",0,"nein",null,"MRS 08881 Donnybrook (15.02.2019) - Margaret Qualley (23.10.1994) 24-115 löschen.mp4"]
["MRS 07424 The Rules of Attraction (01.05.2003) - Kate Bosworth (02.01.1983) 20-119 2976.mp4",{"$f":"IF(SUMPRODUCT(--ISNUMBER(SEARCH(Rechnung!H$2:H$31, A86)))>0,\"X\",\"\")","v":""},"MRS 07424 The Rules of Attraction (01.05.2003) - Kate Bosworth (02.01.1983) 20-119",0,"nein",null,"MRS 08892 Euphoria Out of Touch (16.01.2022) - Sydney Sweeney (12.09.1997) 24-126.mp4"]
["MRS 07426 Very Good Girls (24.06.2014) - Dakota Fanning (23.02.1994) 20-121 3251.mp4",{"$f":"IF(SUMPRODUCT(--ISNUMBER(SEARCH(Rechnung!H$2:H$31, A87)))>0,\"X\",\"\")","v":""},"MRS 07426 Very Good Girls (24.06.2014) - Dakota Fanning (23.02.1994) 20-121",1,"nein",null,"MRS 08958 Euphoria Trying to Get to Heaven Before They Close the Door (23.03.2022) - Sydney Sweeney (12.09.1997) 24-192.mp4"]
["MRS 07426 Very Good Girls (24.06.2014) - Dakota Fanning (23.02.1994) 20-121 3252.mp4",{"$f":"IF(SUMPRODUCT(--ISNUMBER(SEARCH(Rechnung!H$2:H$31, A88)))>0,\"X\",\"\")","v":""},"MRS 07426 Very Good Girls (24.06.2014) - Dakota Fanning (23.02.1994) 20-121",1,"nein",null,"MRS 08975 Swimming with Sharks Chapter Four (06.06.2024) - Kiernan Shipka (10.11.1999) 24-209.mp4"]
["MRS 07441 Cracks (04.12.2009) - Juno Temple (21.07.1989) 20-136 457.mp4",{"$f":"IF(SUMPRODUCT(--ISNUMBER(SEARCH(Rechnung!H$2:H$31, A89)))>0,\"X\",\"\")","v":""},"MRS 07441 Cracks (04.12.2009) - Juno Temple (21.07.1989) 20-136",0,"nein",null,"MRS 08999 The Tonight Show Starring Jimmy Fallon Benedict CumberbatchSydney SweeneyFather John Misty (03.05.2022) - Sydney Sweeney (12.09.1997) 24-233.mp4"]
["MRS 07452 Mare of Easttown Poor Sisyphus (28.05.2021) - Angourie Rice (01.01.2001) 20-147 1680.mp4",{"$f":"IF(SUMPRODUCT(--ISNUMBER(SEARCH(Rechnung!H$2:H$31, A90)))>0,\"X\",\"\")","v":"X"},"MRS 07452 Mare of Easttown Poor Sisyphus (28.05.2021) - Angourie Rice (01.01.2001) 20-147",1,"nein",null,"MRS 09046 Mary Queen of Scots (17.01.2019) - Saoirse Ronan (12.04.1994) 24-280 löschen.mp4"]
["MRS 07459 Bienvenue chez les Rozes (02.04.2003) - Clémence Poésy (30.10.1982) 20-154 251.mp4",{"$f":"IF(SUMPRODUCT(--ISNUMBER(SEARCH(Rechnung!H$2:H$31, A91)))>0,\"X\",\"\")","v":""},"MRS 07459 Bienvenue chez les Rozes (02.04.2003) - Clémence Poésy (30.10.1982) 20-154",0,"nein",null,"MRS 09062 Dopesick First Bottle (13.10.2021) - Kaitlyn Dever (21.12.1996) 24-296.mp4"]
["MRS 07459 Bienvenue chez les Rozes (02.04.2003) - Clémence Poésy (30.10.1982) 20-154 252.mp4",{"$f":"IF(SUMPRODUCT(--ISNUMBER(SEARCH(Rechnung!H$2:H$31, A92)))>0,\"X\",\"\")","v":""},"MRS 07459 Bienvenue chez les Rozes (02.04.2003) - Clémence Poésy (30.10.1982) 20-154",0,"nein",null,"MRS 09092 Dopesick Breakthrough Pain (12.11.2021) - Kaitlyn Dever (21.12.1996) 24-326.mp4"]
["MRS 07465 Nymphomaniac Vol. II (03.04.2014) - Mia Goth (25.10.1993) 20-160 1900.mp4",{"$f":"IF(SUMPRODUCT(--ISNUMBER(SEARCH(Rechnung!H$2:H$31, A93)))>0,\"X\",\"\")","v":""},"MRS 07465 Nymphomaniac Vol. II (03.04.2014) - Mia Goth (25.10.1993) 20-160",0,"nein",null,"MRS 09158 Adam (19.11.2019) - Margaret Qualley (23.10.1994) 25-27 löschen.mp4"]
["MRS 07465 Nymphomaniac Vol. II (03.04.2014) - Mia Goth (25.10.1993) 20-160 1901.mp4",{"$f":"IF(SUMPRODUCT(--ISNUMBER(SEARCH(Rechnung!H$2:H$31, A94)))>0,\"X\",\"\")","v":""},"MRS 07465 Nymphomaniac Vol. II (03.04.2014) - Mia Goth (25.10.1993) 20-160",0,"nein",null,"MRS 09164 The Great Fun (12.05.2023) - Elle Fanning (09.04.1998) 25-33.mp4"]
["MRS 07465 Nymphomaniac Vol. II (03.04.2014) - Mia Goth (25.10.1993) 20-160 1902.mp4",{"$f":"IF(SUMPRODUCT(--ISNUMBER(SEARCH(Rechnung!H$2:H$31, A95)))>0,\"X\",\"\")","v":""},"MRS 07465 Nymphomaniac Vol. II (03.04.2014) - Mia Goth (25.10.1993) 20-160",0,"nein",null,"MRS 09268 Euphoria Out of Touch (16.01.2022) - Zendaya (01.09.1996) 25-137.mp4"]
["MRS 07479 Trainspotting (15.08.1996) - Kelly Macdonald (23.02.1976) 20-174 3178.mp4",{"$f":"IF(SUMPRODUCT(--ISNUMBER(SEARCH(Rechnung!H$2:H$31, A96)))>0,\"X\",\"\")","v":""},"MRS 07479 Trainspotting (15.08.1996) - Kelly Macdonald (23.02.1976) 20-174",0,"nein",null,"MRS 09275 Euphoria Ruminations Big and Little Bullys (23.01.2022) - Zendaya (01.09.1996) 25-144.mp4"]
["MRS 07479 Trainspotting (15.08.1996) - Kelly Macdonald (23.02.1976) 20-174 3179.mp4",{"$f":"IF(SUMPRODUCT(--ISNUMBER(SEARCH(Rechnung!H$2:H$31, A97)))>0,\"X\",\"\")","v":""},"MRS 07479 Trainspotting (15.08.1996) - Kelly Macdonald (23.02.1976) 20-174",0,"nein",null,"MRS 09279 Stillwater (09.09.2021) - Abigail Breslin (14.04.1996) 25-148.mp4"]
["MRS 07493 Euphoria Shook Ones Pt II (07.07.2019) - Hunter Schafer (31.12.1998) 20-188 804.mp4",{"$f":"IF(SUMPRODUCT(--ISNUMBER(SEARCH(Rechnung!H$2:H$31, A98)))>0,\"X\",\"\")","v":"X"},"MRS 07493 Euphoria Shook Ones Pt II (07.07.2019) - Hunter Schafer (31.12.1998) 20-188",1,"nein",null,"MRS 09282 Euphoria You Who Cannot See, Think of Those Who Can (30.01.2022) - Zendaya (01.09.1996) 25-151.mp4"]
["MRS 07497 Four Rooms (29.02.1996) - Alicia Witt (21.08.1975) 20-192 899.mp4",{"$f":"IF(SUMPRODUCT(--ISNUMBER(SEARCH(Rechnung!H$2:H$31, A99)))>0,\"X\",\"\")","v":""},"MRS 07497 Four Rooms (29.02.1996) - Alicia Witt (21.08.1975) 20-192",0,"nein",null,"MRS 09317 Kinds of Kindness (04.07.2024) - Hunter Schafer (31.12.1998) 25-185.mp4"]
["MRS 07507 Euphoria The Next Episode (21.07.2019) - Hunter Schafer (31.12.1998) 20-202 809.mp4",{"$f":"IF(SUMPRODUCT(--ISNUMBER(SEARCH(Rechnung!H$2:H$31, A100)))>0,\"X\",\"\")","v":"X"},"MRS 07507 Euphoria The Next Episode (21.07.2019) - Hunter Schafer (31.12.1998) 20-202",1,"nein",null,"MRS 09352 Anora (31.10.2024) - Mikey Madison (25.03.1999) 25-220.mp4"]
["MRS 07516 Marcella Episode #1.1 (01.08.2016) - Florence Pugh (03.01.1996) 20-211 1670.mp4",{"$f":"IF(SUMPRODUCT(--ISNUMBER(SEARCH(Rechnung!H$2:H$31, A101)))>0,\"X\",\"\")","v":"X"},"MRS 07516 Marcella Episode #1.1 (01.08.2016) - Florence Pugh (03.01.1996) 20-211",1,"nein",null,"MRS 09373 Cuckoo (29.08.2024) - Hunter Schafer (31.12.1998) 25-241.mp4"]
["MRS 07519 Eu Sei Que Vou Te Amar (17.04.1986) - Fernanda Torres (15.09.1965) 20-214 295.mp4",{"$f":"IF(SUMPRODUCT(--ISNUMBER(SEARCH(Rechnung!H$2:H$31, A102)))>0,\"X\",\"\")","v":""},"MRS 07519 Eu Sei Que Vou Te Amar (17.04.1986) - Fernanda Torres (15.09.1965) 20-214",0,"nein",null,"MRS 09450 Eiffel (18.11.2021) - Emma Mackey (04.01.1996) 25-319.mp4"]
["MRS 07519 Eu Sei Que Vou Te Amar (17.04.1986) - Fernanda Torres (15.09.1965) 20-214 296.mp4",{"$f":"IF(SUMPRODUCT(--ISNUMBER(SEARCH(Rechnung!H$2:H$31, A103)))>0,\"X\",\"\")","v":""},"MRS 07519 Eu Sei Que Vou Te Amar (17.04.1986) - Fernanda Torres (15.09.1965) 20-214",0,"nein",null,"MRS 09498 Rainsford Love Me Like You Hate Me (24.10.2020) - Margaret Qualley (23.10.1994) 26-1 löschen.mp4"]
["MRS 07519 Eu Sei Que Vou Te Amar (17.04.1986) - Fernanda Torres (15.09.1965) 20-214 297.mp4",{"$f":"IF(SUMPRODUCT(--ISNUMBER(SEARCH(Rechnung!H$2:H$31, A104)))>0,\"X\",\"\")","v":""},"MRS 07519 Eu Sei Que Vou Te Amar (17.04.1986) - Fernanda Torres (15.09.1965) 20-214",0,"nein",null,"MRS 09508 The Northman (28.04.2022) - Anya Taylor-Joy (16.04.1996) 26-12.mp4"]
["MRS 07519 Eu Sei Que Vou Te Amar (17.04.1986) - Fernanda Torres (15.09.1965) 20-214 298.mp4",{"$f":"IF(SUMPRODUCT(--ISNUMBER(SEARCH(Rechnung!H$2:H$31, A105)))>0,\"X\",\"\")","v":""},"MRS 07519 Eu Sei Que Vou Te Amar (17.04.1986) - Fernanda Torres (15.09.1965) 20-214",0,"nein",null,"MRS 09624 Anyone But You (18.01.2024) - Sydney Sweeney (12.09.1997) 26-128.mp4"]
["MRS 07519 Eu Sei Que Vou Te Amar (17.04.1986) - Fernanda Torres (15.09.1965) 20-214 299.mp4",{"$f":"IF(SUMPRODUCT(--ISNUMBER(SEARCH(Rechnung!H$2:H$31, A106)))>0,\"X\",\"\")","v":""},"MRS 07519 Eu Sei Que Vou Te Amar (17.04.1986) - Fernanda Torres (15.09.1965) 20-214",0,"nein",null,"MRS 09759 Don't Worry Darling (22.09.2022) - Florence Pugh (03.01.1996) 26-263.mp4"]
["MRS 07519 Eu Sei Que Vou Te Amar (17.04.1986) - Fernanda Torres (15.09.1965) 20-214 300.mp4",{"$f":"IF(SUMPRODUCT(--ISNUMBER(SEARCH(Rechnung!H$2:H$31, A107)))>0,\"X\",\"\")","v":""},"MRS 07519 Eu Sei Que Vou Te Amar (17.04.1986) - Fernanda Torres (15.09.1965) 20-214",0,"nein",null,"MRS 09821 Emily (24.11.2022) - Emma Mackey (04.01.1996) 26-325.mp4"]
["MRS 07519 Eu Sei Que Vou Te Amar (17.04.1986) - Fernanda Torres (15.09.1965) 20-214 301.mp4",{"$f":"IF(SUMPRODUCT(--ISNUMBER(SEARCH(Rechnung!H$2:H$31, A108)))>0,\"X\",\"\")","v":""},"MRS 07519 Eu Sei Que Vou Te Amar (17.04.1986) - Fernanda Torres (15.09.1965) 20-214",0,"nein",null,"MRS 09840 Maid Bear Hunt (01.10.2021) - Margaret Qualley (23.10.1994) 26-343 löschen.mp4"]
["MRS 07521 Euphoria And Salt the Earth Behind You (04.08.2019) - Hunter Schafer (31.12.1998) 20-216 807.mp4",{"$f":"IF(SUMPRODUCT(--ISNUMBER(SEARCH(Rechnung!H$2:H$31, A109)))>0,\"X\",\"\")","v":"X"},"MRS 07521 Euphoria And Salt the Earth Behind You (04.08.2019) - Hunter Schafer (31.12.1998) 20-216",1,"nein",null,"MRS 09844 Accused Esme's Story (28.03.2023) - Abigail Breslin (14.04.1996) 26-348.mp4"]
["MRS 07525 West Side Story (09.12.2021) - Rachel Zegler (03.05.2001) 20-220 3325.mp4",{"$f":"IF(SUMPRODUCT(--ISNUMBER(SEARCH(Rechnung!H$2:H$31, A110)))>0,\"X\",\"\")","v":"X"},"MRS 07525 West Side Story (09.12.2021) - Rachel Zegler (03.05.2001) 20-220",1,"nein",null,"MRS 10060 Oppenheimer (20.07.2023) - Florence Pugh (03.01.1996) 27-199.mp4"]
["MRS 07536 Henry VIII (12.10.2003) - Emily Blunt (23.02.1983) 20-231 1109.mp4",{"$f":"IF(SUMPRODUCT(--ISNUMBER(SEARCH(Rechnung!H$2:H$31, A111)))>0,\"X\",\"\")","v":""},"MRS 07536 Henry VIII (12.10.2003) - Emily Blunt (23.02.1983) 20-231",0,"nein",null,"MRS 10068 Ammonite (04.11.2021) - Saoirse Ronan (12.04.1994) 27-206 löschen.mp4"]
["MRS 07547 Spring Breakers (21.03.2013) - Selena Gomez (22.07.1992) 20-242 2383.mp4",{"$f":"IF(SUMPRODUCT(--ISNUMBER(SEARCH(Rechnung!H$2:H$31, A112)))>0,\"X\",\"\")","v":""},"MRS 07547 Spring Breakers (21.03.2013) - Selena Gomez (22.07.1992) 20-242",0,"nein",null,"MRS 10098 Challengers (25.04.2024) - Zendaya (01.09.1996) 27-236.mp4"]
["MRS 07551 The Rocketeer (15.08.1991) - Jennifer Connelly (12.12.1970) 20-246 2975.mp4",{"$f":"IF(SUMPRODUCT(--ISNUMBER(SEARCH(Rechnung!H$2:H$31, A113)))>0,\"X\",\"\")","v":""},"MRS 07551 The Rocketeer (15.08.1991) - Jennifer Connelly (12.12.1970) 20-246",0,"nein",null,"MRS 10122 Sex Education Episode 1 (21.09.2023) - Emma Mackey (04.01.1996) 27-261.mp4"]
["MRS 07556 Fair Game (11.06.1994) - Lena Headey (03.10.1973) 20-251 591.mp4",{"$f":"IF(SUMPRODUCT(--ISNUMBER(SEARCH(Rechnung!H$2:H$31, A114)))>0,\"X\",\"\")","v":""},"MRS 07556 Fair Game (11.06.1994) - Lena Headey (03.10.1973) 20-251",0,"nein",null,"MRS 10284 Dune Part Two (29.02.2024) - Florence Pugh (03.01.1996) 28-57.mp4"]
["MRS 07556 Som om himmelen revna (04.08.2017) - Thea Sofie Loch Næss (26.11.1996) 20-251 2356.mp4",{"$f":"IF(SUMPRODUCT(--ISNUMBER(SEARCH(Rechnung!H$2:H$31, A115)))>0,\"X\",\"\")","v":"X"},"MRS 07556 Som om himmelen revna (04.08.2017) - Thea Sofie Loch Næss (26.11.1996) 20-251",1,"nein",null,"MRS 10448 Joan Episode #1.3 (29.09.2024) - Sophie Turner (21.02.1996) 28-221.mp4"]
["MRS 07580 The Kevin Bishop Show Episode #1.6 (29.08.2008) - Karen Gillan (28.11.1987) 20-275 2789.mp4",{"$f":"IF(SUMPRODUCT(--ISNUMBER(SEARCH(Rechnung!H$2:H$31, A116)))>0,\"X\",\"\")","v":""},"MRS 07580 The Kevin Bishop Show Episode #1.6 (29.08.2008) - Karen Gillan (28.11.1987) 20-275",0,"nein",null,"MRS 10565 Naked Singularity (30.11.2022) - Olivia Cooke (27.12.1993) 28-338 löschen.mp4"]
["MRS 07582 The Beaver (19.05.2011) - Jennifer Lawrence (15.08.1990) 20-277 2525.mp4",{"$f":"IF(SUMPRODUCT(--ISNUMBER(SEARCH(Rechnung!H$2:H$31, A117)))>0,\"X\",\"\")","v":""},"MRS 07582 The Beaver (19.05.2011) - Jennifer Lawrence (15.08.1990) 20-277",0,"nein",null,"MRS 10574 Stars at Noon (05.10.2023) - Margaret Qualley (23.10.1994) 28-347 löschen.mp4"]
["MRS 07583 Domino (29.12.2005) - Keira Knightley (26.03.1985) 20-278 629.mp4",{"$f":"IF(SUMPRODUCT(--ISNUMBER(SEARCH(Rechnung!H$2:H$31, A118)))>0,\"X\",\"\")","v":""},"MRS 07583 Domino (29.12.2005) - Keira Knightley (26.03.1985) 20-278",0,"nein",null,"MRS 10599 We Live in Time (09.01.2025) - Florence Pugh (03.01.1996) 29-6.mp4"]
["MRS 07583 Domino (29.12.2005) - Keira Knightley (26.03.1985) 20-278 630.mp4",{"$f":"IF(SUMPRODUCT(--ISNUMBER(SEARCH(Rechnung!H$2:H$31, A119)))>0,\"X\",\"\")","v":""},"MRS 07583 Domino (29.12.2005) - Keira Knightley (26.03.1985) 20-278",0,"nein",null,"MRS 10678 Bleachers Tiny Moves (17.01.2024) - Margaret Qualley (23.10.1994) 29-86 löschen.mp4"]
["MRS 07583 Domino (29.12.2005) - Keira Knightley (26.03.1985) 20-278 631.mp4",{"$f":"IF(SUMPRODUCT(--ISNUMBER(SEARCH(Rechnung!H$2:H$31, A120)))>0,\"X\",\"\")","v":""},"MRS 07583 Domino (29.12.2005) - Keira Knightley (26.03.1985) 20-278",0,"nein",null,"MRS 10728 Drive-Away Dolls (07.03.2024) - Margaret Qualley (23.10.1994) 29-136 löschen.mp4"]
["MRS 07590 Split (26.01.2017) - Anya Taylor-Joy (16.04.1996) 20-285 2382.mp4",{"$f":"IF(SUMPRODUCT(--ISNUMBER(SEARCH(Rechnung!H$2:H$31, A121)))>0,\"X\",\"\")","v":"X"},"MRS 07590 Split (26.01.2017) - Anya Taylor-Joy (16.04.1996) 20-285",1,"nein",null,"MRS 10847 Kinds of Kindness (04.07.2024) - Margaret Qualley (23.10.1994) 29-254 löschen.mp4"]
["MRS 07600 Wonderland (24.10.2003) - Kate Bosworth (02.01.1983) 20-295 3394.mp4",{"$f":"IF(SUMPRODUCT(--ISNUMBER(SEARCH(Rechnung!H$2:H$31, A122)))>0,\"X\",\"\")","v":""},"MRS 07600 Wonderland (24.10.2003) - Kate Bosworth (02.01.1983) 20-295",0,"nein",null,"MRS 10860 Foe (05.01.2024) - Saoirse Ronan (12.04.1994) 29-268 löschen.mp4"]
["MRS 07603 The Haunting of Molly Hartley (31.10.2008) - Haley Bennett (07.01.1988) 20-298 2722.mp4",{"$f":"IF(SUMPRODUCT(--ISNUMBER(SEARCH(Rechnung!H$2:H$31, A123)))>0,\"X\",\"\")","v":""},"MRS 07603 The Haunting of Molly Hartley (31.10.2008) - Haley Bennett (07.01.1988) 20-298",0,"nein",null,"MRS 10924 The Substance (19.09.2024) - Margaret Qualley (23.10.1994) 29-331 löschen.mp4"]
["MRS 07603 The Haunting of Molly Hartley (31.10.2008) - Haley Bennett (07.01.1988) 20-298 2723.mp4",{"$f":"IF(SUMPRODUCT(--ISNUMBER(SEARCH(Rechnung!H$2:H$31, A124)))>0,\"X\",\"\")","v":""},"MRS 07603 The Haunting of Molly Hartley (31.10.2008) - Haley Bennett (07.01.1988) 20-298",0,"nein"]
["MRS 07610 Com Licença, Eu Vou à Luta (17.07.1986) - Fernanda Torres (15.09.1965) 20-305 290.mp4",{"$f":"IF(SUMPRODUCT(--ISNUMBER(SEARCH(Rechnung!H$2:H$31, A125)))>0,\"X\",\"\")","v":""},"MRS 07610 Com Licença, Eu Vou à Luta (17.07.1986) - Fernanda Torres (15.09.1965) 20-305",0,"nein"]
["MRS 07621 Wetherby (21.11.1985) - Joely Richardson (09.01.1965) 20-316 514.mp4",{"$f":"IF(SUMPRODUCT(--ISNUMBER(SEARCH(Rechnung!H$2:H$31, A126)))>0,\"X\",\"\")","v":""},"MRS 07621 Wetherby (21.11.1985) - Joely Richardson (09.01.1965) 20-316",0,"nein"]
["MRS 07636 Mentiras y gordas (27.03.2009) - Ana de Armas (30.04.1988) 20-331 2270.mp4",{"$f":"IF(SUMPRODUCT(--ISNUMBER(SEARCH(Rechnung!H$2:H$31, A127)))>0,\"X\",\"\")","v":""},"MRS 07636 Mentiras y gordas (27.03.2009) - Ana de Armas (30.04.1988) 20-331",0,"nein"]
["MRS 07636 Mentiras y gordas (27.03.2009) - Ana de Armas (30.04.1988) 20-331 2271.mp4",{"$f":"IF(SUMPRODUCT(--ISNUMBER(SEARCH(Rechnung!H$2:H$31, A128)))>0,\"X\",\"\")","v":""},"MRS 07636 Mentiras y gordas (27.03.2009) - Ana de Armas (30.04.1988) 20-331",0,"nein"]
["MRS 07636 Mentiras y gordas (27.03.2009) - Ana de Armas (30.04.1988) 20-331 2279.mp4",{"$f":"IF(SUMPRODUCT(--ISNUMBER(SEARCH(Rechnung!H$2:H$31, A129)))>0,\"X\",\"\")","v":""},"MRS 07636 Mentiras y gordas (27.03.2009) - Ana de Armas (30.04.1988) 20-331",0,"nein"]
["MRS 07644 I Know What You Did Last Summer (19.03.1998) - Sarah Michelle Gellar (14.04.1977) 20-339 753.mp4",{"$f":"IF(SUMPRODUCT(--ISNUMBER(SEARCH(Rechnung!H$2:H$31, A130)))>0,\"X\",\"\")","v":""},"MRS 07644 I Know What You Did Last Summer (19.03.1998) - Sarah Michelle Gellar (14.04.1977) 20-339",0,"nein"]
["MRS 07657 Mr. Nobody (08.07.2010) - Juno Temple (21.07.1989) 20-352 1771.mp4",{"$f":"IF(SUMPRODUCT(--ISNUMBER(SEARCH(Rechnung!H$2:H$31, A131)))>0,\"X\",\"\")","v":""},{"$f":"LEFT(A131, LEN(A131) - LEN(MID(A131, FIND(\"~\", SUBSTITUTE(A131,\" \",\"~\", LEN(A131)-LEN(SUBSTITUTE(A131,\" \",\"\")))), LEN(A131))))","v":"MRS 07657 Mr. Nobody (08.07.2010) - Juno Temple (21.07.1989) 20-352"},0,{"$f":"IF(AND(B131=\"X\",D131=0),\"ja\",\"nein\")","v":"nein"}]
["MRS 07660 Mes copines (21.06.2006) - Léa Seydoux (01.07.1985) 20-355 1721.mp4",{"$f":"IF(SUMPRODUCT(--ISNUMBER(SEARCH(Rechnung!H$2:H$31, A132)))>0,\"X\",\"\")","v":""},"MRS 07660 Mes copines (21.06.2006) - Léa Seydoux (01.07.1985) 20-355",0,"nein"]
["MRS 07674 I Still See You (12.10.2018) - Bella Thorne (08.10.1997) 21-4 73.mp4",{"$f":"IF(SUMPRODUCT(--ISNUMBER(SEARCH(Rechnung!H$2:H$31, A133)))>0,\"X\",\"\")","v":"X"},"MRS 07674 I Still See You (12.10.2018) - Bella Thorne (08.10.1997) 21-4",0,"ja"]
["MRS 07674 I Still See You (12.10.2018) - Bella Thorne (08.10.1997) 21-4 74.mp4",{"$f":"IF(SUMPRODUCT(--ISNUMBER(SEARCH(Rechnung!H$2:H$31, A134)))>0,\"X\",\"\")","v":"X"},"MRS 07674 I Still See You (12.10.2018) - Bella Thorne (08.10.1997) 21-4",0,"ja"]
["MRS 07674 I Still See You (12.10.2018) - Bella Thorne (08.10.1997) 21-4 75.mp4",{"$f":"IF(SUMPRODUCT(--ISNUMBER(SEARCH(Rechnung!H$2:H$31, A135)))>0,\"X\",\"\")","v":"X"},"MRS 07674 I Still See You (12.10.2018) - Bella Thorne (08.10.1997) 21-4",0,"ja"]
["MRS 07674 I Still See You (12.10.2018) - Bella Thorne (08.10.1997) 21-4 76.mp4",{"$f":"IF(SUMPRODUCT(--ISNUMBER(SEARCH(Rechnung!H$2:H$31, A136)))>0,\"X\",\"\")","v":"X"},"MRS 07674 I Still See You (12.10.2018) - Bella Thorne (08.10.1997) 21-4",0,"ja"]
["MRS 07674 I Still See You (12.10.2018) - Bella Thorne (08.10.1997) 21-4 77.mp4",{"$f":"IF(SUMPRODUCT(--ISNUMBER(SEARCH(Rechnung!H$2:H$31, A137)))>0,\"X\",\"\")","v":"X"},"MRS 07674 I Still See You (12.10.2018) - Bella Thorne (08.10.1997) 21-4",0,"ja"]
["MRS 07680 Hackers (13.06.1996) - Angelina Jolie (04.06.1975) 21-9 1048.mp4",{"$f":"IF(SUMPRODUCT(--ISNUMBER(SEARCH(Rechnung!H$2:H$31, A138)))>0,\"X\",\"\")","v":""},"MRS 07680 Hackers (13.06.1996) - Angelina Jolie (04.06.1975) 21-9",0,"nein"]
["MRS 07680 Hackers (13.06.1996) - Angelina Jolie (04.06.1975) 21-9 1049.mp4",{"$f":"IF(SUMPRODUCT(--ISNUMBER(SEARCH(Rechnung!H$2:H$31, A139)))>0,\"X\",\"\")","v":""},"MRS 07680 Hackers (13.06.1996) - Angelina Jolie (04.06.1975) 21-9",0,"nein"]
["MRS 07680 Hackers (13.06.1996) - Angelina Jolie (04.06.1975) 21-9 1050.mp4",{"$f":"IF(SUMPRODUCT(--ISNUMBER(SEARCH(Rechnung!H$2:H$31, A140)))>0,\"X\",\"\")","v":""},"MRS 07680 Hackers (13.06.1996) - Angelina Jolie (04.06.1975) 21-9",0,"nein"]
["MRS 07685 Gypsy Eyes (31.12.1992) - Claire Forlani (17.12.1971) 21-14 1037.mp4",{"$f":"IF(SUMPRODUCT(--ISNUMBER(SEARCH(Rechnung!H$2:H$31, A141)))>0,\"X\",\"\")","v":""},"MRS 07685 Gypsy Eyes (31.12.1992) - Claire Forlani (17.12.1971) 21-14",0,"nein"]
["MRS 07685 Gypsy Eyes (31.12.1992) - Claire Forlani (17.12.1971) 21-14 1038.mp4",{"$f":"IF(SUMPRODUCT(--ISNUMBER(SEARCH(Rechnung!H$2:H$31, A142)))>0,\"X\",\"\")","v":""},"MRS 07685 Gypsy Eyes (31.12.1992) - Claire Forlani (17.12.1971) 21-14",0,"nein"]
["MRS 07685 Gypsy Eyes (31.12.1992) - Claire Forlani (17.12.1971) 21-14 1039.mp4",{"$f":"IF(SUMPRODUCT(--ISNUMBER(SEARCH(Rechnung!H$2:H$31, A143)))>0,\"X\",\"\")","v":""},"MRS 07685 Gypsy Eyes (31.12.1992) - Claire Forlani (17.12.1971) 21-14",0,"nein"]
["MRS 07690 Stockholm, Pennsylvania (02.05.2015) - Saoirse Ronan (12.04.1994) 21-20 2415.mp4",{"$f":"IF(SUMPRODUCT(--ISNUMBER(SEARCH(Rechnung!H$2:H$31, A144)))>0,\"X\",\"\")","v":""},"MRS 07690 Stockholm, Pennsylvania (02.05.2015) - Saoirse Ronan (12.04.1994) 21-20",1,"nein"]
["MRS 07693 A Good Woman (15.12.2005) - Scarlett Johansson (22.11.1984) 21-23 47.mp4",{"$f":"IF(SUMPRODUCT(--ISNUMBER(SEARCH(Rechnung!H$2:H$31, A145)))>0,\"X\",\"\")","v":""},"MRS 07693 A Good Woman (15.12.2005) - Scarlett Johansson (22.11.1984) 21-23",0,"nein"]
["MRS 07716 Heroes Chapter Five 'Tabula Rasa' (06.10.2010) - Hayden Panettiere (21.08.1989) 21-46 1113.mp4",{"$f":"IF(SUMPRODUCT(--ISNUMBER(SEARCH(Rechnung!H$2:H$31, A146)))>0,\"X\",\"\")","v":""},"MRS 07716 Heroes Chapter Five 'Tabula Rasa' (06.10.2010) - Hayden Panettiere (21.08.1989) 21-46",0,"nein"]
["MRS 07721 I'm a Hoe 2 (28.11.2018) - Bella Thorne (08.10.1997) 21-51 86.mp4",{"$f":"IF(SUMPRODUCT(--ISNUMBER(SEARCH(Rechnung!H$2:H$31, A147)))>0,\"X\",\"\")","v":"X"},"MRS 07721 I'm a Hoe 2 (28.11.2018) - Bella Thorne (08.10.1997) 21-51",0,"ja"]
["MRS 07724 Wild Cherry (15.05.2009) - Tania Raymonde (22.03.1988) 21-54 3348.mp4",{"$f":"IF(SUMPRODUCT(--ISNUMBER(SEARCH(Rechnung!H$2:H$31, A148)))>0,\"X\",\"\")","v":""},"MRS 07724 Wild Cherry (15.05.2009) - Tania Raymonde (22.03.1988) 21-54",0,"nein"]
["MRS 07748 Culpa mía (08.06.2023) - Nicole Wallace (22.03.2002) 21-78 1788.mp4",{"$f":"IF(SUMPRODUCT(--ISNUMBER(SEARCH(Rechnung!H$2:H$31, A149)))>0,\"X\",\"\")","v":"X"},"MRS 07748 Culpa mía (08.06.2023) - Nicole Wallace (22.03.2002) 21-78",1,"nein"]
["MRS 07748 Culpa mía (08.06.2023) - Nicole Wallace (22.03.2002) 21-78 1789.mp4",{"$f":"IF(SUMPRODUCT(--ISNUMBER(SEARCH(Rechnung!H$2:H$31, A150)))>0,\"X\",\"\")","v":"X"},"MRS 07748 Culpa mía (08.06.2023) - Nicole Wallace (22.03.2002) 21-78",1,"nein"]
["MRS 07748 Culpa mía (08.06.2023) - Nicole Wallace (22.03.2002) 21-78 1790.mp4",{"$f":"IF(SUMPRODUCT(--ISNUMBER(SEARCH(Rechnung!H$2:H$31, A151)))>0,\"X\",\"\")","v":"X"},"MRS 07748 Culpa mía (08.06.2023) - Nicole Wallace (22.03.2002) 21-78",1,"nein"]
["MRS 07751 Foxfire (23.08.1996) - Angelina Jolie (04.06.1975) 21-80 900.mp4",{"$f":"IF(SUMPRODUCT(--ISNUMBER(SEARCH(Rechnung!H$2:H$31, A152)))>0,\"X\",\"\")","v":""},"MRS 07751 Foxfire (23.08.1996) - Angelina Jolie (04.06.1975) 21-80",0,"nein"]
["MRS 07751 Foxfire (23.08.1996) - Angelina Jolie (04.06.1975) 21-80 901.mp4",{"$f":"IF(SUMPRODUCT(--ISNUMBER(SEARCH(Rechnung!H$2:H$31, A153)))>0,\"X\",\"\")","v":""},"MRS 07751 Foxfire (23.08.1996) - Angelina Jolie (04.06.1975) 21-80",0,"nein"]
["MRS 07751 Foxfire (23.08.1996) - Angelina Jolie (04.06.1975) 21-80 902.mp4",{"$f":"IF(SUMPRODUCT(--ISNUMBER(SEARCH(Rechnung!H$2:H$31, A154)))>0,\"X\",\"\")","v":""},"MRS 07751 Foxfire (23.08.1996) - Angelina Jolie (04.06.1975) 21-80",0,"nein"]
["MRS 07751 Foxfire (23.08.1996) - Angelina Jolie (04.06.1975) 21-80 903.mp4",{"$f":"IF(SUMPRODUCT(--ISNUMBER(SEARCH(Rechnung!H$2:H$31, A155)))>0,\"X\",\"\")","v":""},"MRS 07751 Foxfire (23.08.1996) - Angelina Jolie (04.06.1975) 21-80",0,"nein"]
["MRS 07751 Foxfire (23.08.1996) - Angelina Jolie (04.06.1975) 21-80 904.mp4",{"$f":"IF(SUMPRODUCT(--ISNUMBER(SEARCH(Rechnung!H$2:H$31, A156)))>0,\"X\",\"\")","v":""},"MRS 07751 Foxfire (23.08.1996) - Angelina Jolie (04.06.1975) 21-80",0,"nein"]
["MRS 07776 Bram Stoker's Dracula (11.02.1993) - Winona Ryder (29.10.1971) 21-105 668.mp4",{"$f":"IF(SUMPRODUCT(--ISNUMBER(SEARCH(Rechnung!H$2:H$31, A157)))>0,\"X\",\"\")","v":""},"MRS 07776 Bram Stoker's Dracula (11.02.1993) - Winona Ryder (29.10.1971) 21-105",0,"nein"]
["MRS 07779 Alpha Dog (22.03.2007) - Amanda Seyfried (03.12.1985) 21-109 31.mp4",{"$f":"IF(SUMPRODUCT(--ISNUMBER(SEARCH(Rechnung!H$2:H$31, A158)))>0,\"X\",\"\")","v":""},"MRS 07779 Alpha Dog (22.03.2007) - Amanda Seyfried (03.12.1985) 21-109",0,"nein"]
["MRS 07787 I Believe in Unicorns (29.05.2015) - Julia Garner (01.02.1994) 21-117 1179.mp4",{"$f":"IF(SUMPRODUCT(--ISNUMBER(SEARCH(Rechnung!H$2:H$31, A159)))>0,\"X\",\"\")","v":""},"MRS 07787 I Believe in Unicorns (29.05.2015) - Julia Garner (01.02.1994) 21-117",1,"nein"]
["MRS 07795 Jude (06.02.1997) - Kate Winslet (05.10.1975) 21-124 1306.mp4",{"$f":"IF(SUMPRODUCT(--ISNUMBER(SEARCH(Rechnung!H$2:H$31, A160)))>0,\"X\",\"\")","v":""},"MRS 07795 Jude (06.02.1997) - Kate Winslet (05.10.1975) 21-124",0,"nein"]
["MRS 07795 Jude (06.02.1997) - Kate Winslet (05.10.1975) 21-124 1307.mp4",{"$f":"IF(SUMPRODUCT(--ISNUMBER(SEARCH(Rechnung!H$2:H$31, A161)))>0,\"X\",\"\")","v":""},"MRS 07795 Jude (06.02.1997) - Kate Winslet (05.10.1975) 21-124",0,"nein"]
["MRS 07799 Elvis and Anabelle (31.12.2008) - Blake Lively (25.08.1987) 21-128 711.mp4",{"$f":"IF(SUMPRODUCT(--ISNUMBER(SEARCH(Rechnung!H$2:H$31, A162)))>0,\"X\",\"\")","v":""},"MRS 07799 Elvis and Anabelle (31.12.2008) - Blake Lively (25.08.1987) 21-128",0,"nein"]
["MRS 07799 Elvis and Anabelle (31.12.2008) - Blake Lively (25.08.1987) 21-128 712.mp4",{"$f":"IF(SUMPRODUCT(--ISNUMBER(SEARCH(Rechnung!H$2:H$31, A163)))>0,\"X\",\"\")","v":""},"MRS 07799 Elvis and Anabelle (31.12.2008) - Blake Lively (25.08.1987) 21-128",0,"nein"]
["MRS 07806 Gunpowder, Treason & Plot (14.03.2004) - Clémence Poésy (30.10.1982) 21-136 1035.mp4",{"$f":"IF(SUMPRODUCT(--ISNUMBER(SEARCH(Rechnung!H$2:H$31, A164)))>0,\"X\",\"\")","v":""},"MRS 07806 Gunpowder, Treason & Plot (14.03.2004) - Clémence Poésy (30.10.1982) 21-136",0,"nein"]
["MRS 07820 Mojave Moon (31.10.1996) - Angelina Jolie (04.06.1975) 21-149 1731.mp4",{"$f":"IF(SUMPRODUCT(--ISNUMBER(SEARCH(Rechnung!H$2:H$31, A165)))>0,\"X\",\"\")","v":""},"MRS 07820 Mojave Moon (31.10.1996) - Angelina Jolie (04.06.1975) 21-149",0,"nein"]
["MRS 07820 Mojave Moon (31.10.1996) - Angelina Jolie (04.06.1975) 21-149 1732.mp4",{"$f":"IF(SUMPRODUCT(--ISNUMBER(SEARCH(Rechnung!H$2:H$31, A166)))>0,\"X\",\"\")","v":""},"MRS 07820 Mojave Moon (31.10.1996) - Angelina Jolie (04.06.1975) 21-149",0,"nein"]
["MRS 07820 Mojave Moon (31.10.1996) - Angelina Jolie (04.06.1975) 21-149 1733.mp4",{"$f":"IF(SUMPRODUCT(--ISNUMBER(SEARCH(Rechnung!H$2:H$31, A167)))>0,\"X\",\"\")","v":""},"MRS 07820 Mojave Moon (31.10.1996) - Angelina Jolie (04.06.1975) 21-149",0,"nein"]
["MRS 07820 Mojave Moon (31.10.1996) - Angelina Jolie (04.06.1975) 21-149 1734.mp4",{"$f":"IF(SUMPRODUCT(--ISNUMBER(SEARCH(Rechnung!H$2:H$31, A168)))>0,\"X\",\"\")","v":""},"MRS 07820 Mojave Moon (31.10.1996) - Angelina Jolie (04.06.1975) 21-149",0,"nein"]
["MRS 07833 Uncovered (05.01.1995) - Kate Beckinsale (26.07.1973) 21-163 3203.mp4",{"$f":"IF(SUMPRODUCT(--ISNUMBER(SEARCH(Rechnung!H$2:H$31, A169)))>0,\"X\",\"\")","v":""},"MRS 07833 Uncovered (05.01.1995) - Kate Beckinsale (26.07.1973) 21-163",0,"nein"]
["MRS 07833 Uncovered (05.01.1995) - Kate Beckinsale (26.07.1973) 21-163 3204.mp4",{"$f":"IF(SUMPRODUCT(--ISNUMBER(SEARCH(Rechnung!H$2:H$31, A170)))>0,\"X\",\"\")","v":""},"MRS 07833 Uncovered (05.01.1995) - Kate Beckinsale (26.07.1973) 21-163",0,"nein"]
["MRS 07833 Uncovered (05.01.1995) - Kate Beckinsale (26.07.1973) 21-163 3205.mp4",{"$f":"IF(SUMPRODUCT(--ISNUMBER(SEARCH(Rechnung!H$2:H$31, A171)))>0,\"X\",\"\")","v":""},"MRS 07833 Uncovered (05.01.1995) - Kate Beckinsale (26.07.1973) 21-163",0,"nein"]
["MRS 07839 Miller's Girl (14.03.2024) - Jenna Ortega (27.09.2002) 21-169 1723.mp4",{"$f":"IF(SUMPRODUCT(--ISNUMBER(SEARCH(Rechnung!H$2:H$31, A172)))>0,\"X\",\"\")","v":"X"},"MRS 07839 Miller's Girl (14.03.2024) - Jenna Ortega (27.09.2002) 21-169",1,"nein"]
["MRS 07839 Miller's Girl (14.03.2024) - Jenna Ortega (27.09.2002) 21-169 1724.mp4",{"$f":"IF(SUMPRODUCT(--ISNUMBER(SEARCH(Rechnung!H$2:H$31, A173)))>0,\"X\",\"\")","v":"X"},"MRS 07839 Miller's Girl (14.03.2024) - Jenna Ortega (27.09.2002) 21-169",1,"nein"]
["MRS 07855 I Know Who Killed Me (03.01.2008) - Lindsay Lohan (02.07.1986) 21-185 1181.mp4",{"$f":"IF(SUMPRODUCT(--ISNUMBER(SEARCH(Rechnung!H$2:H$31, A174)))>0,\"X\",\"\")","v":""},"MRS 07855 I Know Who Killed Me (03.01.2008) - Lindsay Lohan (02.07.1986) 21-185",0,"nein"]
["MRS 07856 Crush (27.05.2022) - Auli'i Cravalho (22.11.2000) 21-186 473.mp4",{"$f":"IF(SUMPRODUCT(--ISNUMBER(SEARCH(Rechnung!H$2:H$31, A175)))>0,\"X\",\"\")","v":"X"},"MRS 07856 Crush (27.05.2022) - Auli'i Cravalho (22.11.2000) 21-186",1,"nein"]
["MRS 07879 The Miseducation of Cameron Post (07.09.2018) - Chloë Grace Moretz (10.02.1997) 21-209 2879.mp4",{"$f":"IF(SUMPRODUCT(--ISNUMBER(SEARCH(Rechnung!H$2:H$31, A176)))>0,\"X\",\"\")","v":"X"},"MRS 07879 The Miseducation of Cameron Post (07.09.2018) - Chloë Grace Moretz (10.02.1997) 21-209",1,"nein"]
["MRS 07879 The Miseducation of Cameron Post (07.09.2018) - Chloë Grace Moretz (10.02.1997) 21-209 2880.mp4",{"$f":"IF(SUMPRODUCT(--ISNUMBER(SEARCH(Rechnung!H$2:H$31, A177)))>0,\"X\",\"\")","v":"X"},"MRS 07879 The Miseducation of Cameron Post (07.09.2018) - Chloë Grace Moretz (10.02.1997) 21-209",1,"nein"]
["MRS 07879 The Miseducation of Cameron Post (07.09.2018) - Chloë Grace Moretz (10.02.1997) 21-209 2881.mp4",{"$f":"IF(SUMPRODUCT(--ISNUMBER(SEARCH(Rechnung!H$2:H$31, A178)))>0,\"X\",\"\")","v":"X"},"MRS 07879 The Miseducation of Cameron Post (07.09.2018) - Chloë Grace Moretz (10.02.1997) 21-209",1,"nein"]
["MRS 07879 The Miseducation of Cameron Post (07.09.2018) - Chloë Grace Moretz (10.02.1997) 21-209 2882.mp4",{"$f":"IF(SUMPRODUCT(--ISNUMBER(SEARCH(Rechnung!H$2:H$31, A179)))>0,\"X\",\"\")","v":"X"},"MRS 07879 The Miseducation of Cameron Post (07.09.2018) - Chloë Grace Moretz (10.02.1997) 21-209",1,"nein"]
["MRS 07894 House Broken (13.05.2011) - Brie Larson (01.10.1989) 21-224 87.mp4",{"$f":"IF(SUMPRODUCT(--ISNUMBER(SEARCH(Rechnung!H$2:H$31, A180)))>0,\"X\",\"\")","v":""},"MRS 07894 House Broken (13.05.2011) - Brie Larson (01.10.1989) 21-224",0,"nein"]
["MRS 07904 The Gypsy Moths (14.11.1969) - Bonnie Bedelia (25.03.1948) 21-234 2720.mp4",{"$f":"IF(SUMPRODUCT(--ISNUMBER(SEARCH(Rechnung!H$2:H$31, A181)))>0,\"X\",\"\")","v":""},"MRS 07904 The Gypsy Moths (14.11.1969) - Bonnie Bedelia (25.03.1948) 21-234",0,"nein"]
["MRS 07905 Freeway II Confessions of a Trickbaby (24.11.2000) - Natasha Lyonne (04.04.1979) 21-234 909.mp4",{"$f":"IF(SUMPRODUCT(--ISNUMBER(SEARCH(Rechnung!H$2:H$31, A182)))>0,\"X\",\"\")","v":""},"MRS 07905 Freeway II Confessions of a Trickbaby (24.11.2000) - Natasha Lyonne (04.04.1979) 21-234",0,"nein"]
["MRS 07905 Freeway II Confessions of a Trickbaby (24.11.2000) - Natasha Lyonne (04.04.1979) 21-234 910.mp4",{"$f":"IF(SUMPRODUCT(--ISNUMBER(SEARCH(Rechnung!H$2:H$31, A183)))>0,\"X\",\"\")","v":""},"MRS 07905 Freeway II Confessions of a Trickbaby (24.11.2000) - Natasha Lyonne (04.04.1979) 21-234",0,"nein"]
["MRS 07905 Tales XO Tour Llif3 (31.05.2019) - Bella Thorne (08.10.1997) 21-235 81.mp4",{"$f":"IF(SUMPRODUCT(--ISNUMBER(SEARCH(Rechnung!H$2:H$31, A184)))>0,\"X\",\"\")","v":"X"},"MRS 07905 Tales XO Tour Llif3 (31.05.2019) - Bella Thorne (08.10.1997) 21-235",0,"ja"]
["MRS 07914 Hamlet (05.06.1997) - Kate Winslet (05.10.1975) 21-244 1055.mp4",{"$f":"IF(SUMPRODUCT(--ISNUMBER(SEARCH(Rechnung!H$2:H$31, A185)))>0,\"X\",\"\")","v":""},"MRS 07914 Hamlet (05.06.1997) - Kate Winslet (05.10.1975) 21-244",0,"nein"]
["MRS 07915 Sweetbitter Everyone Is Soigné (20.05.2018) - Ella Purnell (17.09.1996) 21-245 2481.mp4",{"$f":"IF(SUMPRODUCT(--ISNUMBER(SEARCH(Rechnung!H$2:H$31, A186)))>0,\"X\",\"\")","v":"X"},"MRS 07915 Sweetbitter Everyone Is Soigné (20.05.2018) - Ella Purnell (17.09.1996) 21-245",1,"nein"]
["MRS 07925 The Fifth Element (28.08.1997) - Milla Jovovich (17.12.1975) 21-255 661.mp4",{"$f":"IF(SUMPRODUCT(--ISNUMBER(SEARCH(Rechnung!H$2:H$31, A187)))>0,\"X\",\"\")","v":""},"MRS 07925 The Fifth Element (28.08.1997) - Milla Jovovich (17.12.1975) 21-255",0,"nein"]
["MRS 07925 The Fifth Element (28.08.1997) - Milla Jovovich (17.12.1975) 21-255 662.mp4",{"$f":"IF(SUMPRODUCT(--ISNUMBER(SEARCH(Rechnung!H$2:H$31, A188)))>0,\"X\",\"\")","v":""},"MRS 07925 The Fifth Element (28.08.1997) - Milla Jovovich (17.12.1975) 21-255",0,"nein"]
["MRS 07925 The Fifth Element (28.08.1997) - Milla Jovovich (17.12.1975) 21-255 663.mp4",{"$f":"IF(SUMPRODUCT(--ISNUMBER(SEARCH(Rechnung!H$2:H$31, A189)))>0,\"X\",\"\")","v":""},"MRS 07925 The Fifth Element (28.08.1997) - Milla Jovovich (17.12.1975) 21-255",0,"nein"]
["MRS 07925 The Fifth Element (28.08.1997) - Milla Jovovich (17.12.1975) 21-255 664.mp4",{"$f":"IF(SUMPRODUCT(--ISNUMBER(SEARCH(Rechnung!H$2:H$31, A190)))>0,\"X\",\"\")","v":""},"MRS 07925 The Fifth Element (28.08.1997) - Milla Jovovich (17.12.1975) 21-255",0,"nein"]
["MRS 07932 But I'm a Cheerleader (21.12.2000) - Natasha Lyonne (04.04.1979) 21-261 355.mp4",{"$f":"IF(SUMPRODUCT(--ISNUMBER(SEARCH(Rechnung!H$2:H$31, A191)))>0,\"X\",\"\")","v":""},"MRS 07932 But I'm a Cheerleader (21.12.2000) - Natasha Lyonne (04.04.1979) 21-261",0,"nein"]
["MRS 07932 But I'm a Cheerleader (21.12.2000) - Natasha Lyonne (04.04.1979) 21-261 356.mp4",{"$f":"IF(SUMPRODUCT(--ISNUMBER(SEARCH(Rechnung!H$2:H$31, A192)))>0,\"X\",\"\")","v":""},"MRS 07932 But I'm a Cheerleader (21.12.2000) - Natasha Lyonne (04.04.1979) 21-261",0,"nein"]
["MRS 07932 But I'm a Cheerleader (21.12.2000) - Natasha Lyonne (04.04.1979) 21-261 357.mp4",{"$f":"IF(SUMPRODUCT(--ISNUMBER(SEARCH(Rechnung!H$2:H$31, A193)))>0,\"X\",\"\")","v":""},"MRS 07932 But I'm a Cheerleader (21.12.2000) - Natasha Lyonne (04.04.1979) 21-261",0,"nein"]
["MRS 07947 Twelve (14.10.2010) - Emily Meade (10.01.1989) 21-277 184.mp4",{"$f":"IF(SUMPRODUCT(--ISNUMBER(SEARCH(Rechnung!H$2:H$31, A194)))>0,\"X\",\"\")","v":""},"MRS 07947 Twelve (14.10.2010) - Emily Meade (10.01.1989) 21-277",0,"nein"]
["MRS 07948 Suspiria (15.11.2018) - Chloë Grace Moretz (10.02.1997) 21-278 2451.mp4",{"$f":"IF(SUMPRODUCT(--ISNUMBER(SEARCH(Rechnung!H$2:H$31, A195)))>0,\"X\",\"\")","v":"X"},{"$f":"LEFT(A195, LEN(A195) - LEN(MID(A195, FIND(\"~\", SUBSTITUTE(A195,\" \",\"~\", LEN(A195)-LEN(SUBSTITUTE(A195,\" \",\"\")))), LEN(A195))))","v":"MRS 07948 Suspiria (15.11.2018) - Chloë Grace Moretz (10.02.1997) 21-278"},1,{"$f":"IF(AND(B195=\"X\",D195=0),\"ja\",\"nein\")","v":"nein"}]
["MRS 07948 Suspiria (15.11.2018) - Chloë Grace Moretz (10.02.1997) 21-278 2452.mp4",{"$f":"IF(SUMPRODUCT(--ISNUMBER(SEARCH(Rechnung!H$2:H$31, A196)))>0,\"X\",\"\")","v":"X"},"MRS 07948 Suspiria (15.11.2018) - Chloë Grace Moretz (10.02.1997) 21-278",1,"nein"]
["MRS 07959 2 Days in the Valley (22.05.1997) - Charlize Theron (07.08.1975) 21-289 2.mp4",{"$f":"IF(SUMPRODUCT(--ISNUMBER(SEARCH(Rechnung!H$2:H$31, A197)))>0,\"X\",\"\")","v":""},"MRS 07959 2 Days in the Valley (22.05.1997) - Charlize Theron (07.08.1975) 21-289",0,"nein"]
["MRS 07959 2 Days in the Valley (22.05.1997) - Charlize Theron (07.08.1975) 21-289 3.mp4",{"$f":"IF(SUMPRODUCT(--ISNUMBER(SEARCH(Rechnung!H$2:H$31, A198)))>0,\"X\",\"\")","v":""},"MRS 07959 2 Days in the Valley (22.05.1997) - Charlize Theron (07.08.1975) 21-289",0,"nein"]
["MRS 07966 Silent Witness Fraternity Part 2 (31.01.2014) - Daisy Ridley (10.04.1992) 21-296 2312.mp4",{"$f":"IF(SUMPRODUCT(--ISNUMBER(SEARCH(Rechnung!H$2:H$31, A199)))>0,\"X\",\"\")","v":""},"MRS 07966 Silent Witness Fraternity Part 2 (31.01.2014) - Daisy Ridley (10.04.1992) 21-296",0,"nein"]
["MRS 07973 The Spectacular Now (13.09.2013) - Shailene Woodley (15.11.1991) 21-303 3006.mp4",{"$f":"IF(SUMPRODUCT(--ISNUMBER(SEARCH(Rechnung!H$2:H$31, A200)))>0,\"X\",\"\")","v":""},"MRS 07973 The Spectacular Now (13.09.2013) - Shailene Woodley (15.11.1991) 21-303",0,"nein"]
["MRS 07974 Lady Macbeth (02.11.2017) - Florence Pugh (03.01.1996) 21-304 1464.mp4",{"$f":"IF(SUMPRODUCT(--ISNUMBER(SEARCH(Rechnung!H$2:H$31, A201)))>0,\"X\",\"\")","v":"X"},"MRS 07974 Lady Macbeth (02.11.2017) - Florence Pugh (03.01.1996) 21-304",1,"nein"]
["MRS 07974 Lady Macbeth (02.11.2017) - Florence Pugh (03.01.1996) 21-304 1465.mp4",{"$f":"IF(SUMPRODUCT(--ISNUMBER(SEARCH(Rechnung!H$2:H$31, A202)))>0,\"X\",\"\")","v":"X"},"MRS 07974 Lady Macbeth (02.11.2017) - Florence Pugh (03.01.1996) 21-304",1,"nein"]
["MRS 07974 Lady Macbeth (02.11.2017) - Florence Pugh (03.01.1996) 21-304 1466.mp4",{"$f":"IF(SUMPRODUCT(--ISNUMBER(SEARCH(Rechnung!H$2:H$31, A203)))>0,\"X\",\"\")","v":"X"},"MRS 07974 Lady Macbeth (02.11.2017) - Florence Pugh (03.01.1996) 21-304",1,"nein"]
["MRS 07974 Lady Macbeth (02.11.2017) - Florence Pugh (03.01.1996) 21-304 1467.mp4",{"$f":"IF(SUMPRODUCT(--ISNUMBER(SEARCH(Rechnung!H$2:H$31, A204)))>0,\"X\",\"\")","v":"X"},"MRS 07974 Lady Macbeth (02.11.2017) - Florence Pugh (03.01.1996) 21-304",1,"nein"]
["MRS 07974 Lady Macbeth (02.11.2017) - Florence Pugh (03.01.1996) 21-304 1468.mp4",{"$f":"IF(SUMPRODUCT(--ISNUMBER(SEARCH(Rechnung!H$2:H$31, A205)))>0,\"X\",\"\")","v":"X"},"MRS 07974 Lady Macbeth (02.11.2017) - Florence Pugh (03.01.1996) 21-304",1,"nein"]
["MRS 07974 Lady Macbeth (02.11.2017) - Florence Pugh (03.01.1996) 21-304 1469.mp4",{"$f":"IF(SUMPRODUCT(--ISNUMBER(SEARCH(Rechnung!H$2:H$31, A206)))>0,\"X\",\"\")","v":"X"},"MRS 07974 Lady Macbeth (02.11.2017) - Florence Pugh (03.01.1996) 21-304",1,"nein"]
["MRS 07974 Lady Macbeth (02.11.2017) - Florence Pugh (03.01.1996) 21-304 1470.mp4",{"$f":"IF(SUMPRODUCT(--ISNUMBER(SEARCH(Rechnung!H$2:H$31, A207)))>0,\"X\",\"\")","v":"X"},"MRS 07974 Lady Macbeth (02.11.2017) - Florence Pugh (03.01.1996) 21-304",1,"nein"]
["MRS 07975 The New Guy (31.10.2002) - Eliza Dushku (30.12.1980) 21-305 2895.mp4",{"$f":"IF(SUMPRODUCT(--ISNUMBER(SEARCH(Rechnung!H$2:H$31, A208)))>0,\"X\",\"\")","v":""},"MRS 07975 The New Guy (31.10.2002) - Eliza Dushku (30.12.1980) 21-305",0,"nein"]
["MRS 07975 The New Guy (31.10.2002) - Eliza Dushku (30.12.1980) 21-305 2896.mp4",{"$f":"IF(SUMPRODUCT(--ISNUMBER(SEARCH(Rechnung!H$2:H$31, A209)))>0,\"X\",\"\")","v":""},"MRS 07975 The New Guy (31.10.2002) - Eliza Dushku (30.12.1980) 21-305",0,"nein"]
["MRS 07975 The New Guy (31.10.2002) - Eliza Dushku (30.12.1980) 21-305 2897.mp4",{"$f":"IF(SUMPRODUCT(--ISNUMBER(SEARCH(Rechnung!H$2:H$31, A210)))>0,\"X\",\"\")","v":""},"MRS 07975 The New Guy (31.10.2002) - Eliza Dushku (30.12.1980) 21-305",0,"nein"]
["MRS 07975 The New Guy (31.10.2002) - Eliza Dushku (30.12.1980) 21-305 2898.mp4",{"$f":"IF(SUMPRODUCT(--ISNUMBER(SEARCH(Rechnung!H$2:H$31, A211)))>0,\"X\",\"\")","v":""},"MRS 07975 The New Guy (31.10.2002) - Eliza Dushku (30.12.1980) 21-305",0,"nein"]
["MRS 07975 The New Guy (31.10.2002) - Eliza Dushku (30.12.1980) 21-305 2899.mp4",{"$f":"IF(SUMPRODUCT(--ISNUMBER(SEARCH(Rechnung!H$2:H$31, A212)))>0,\"X\",\"\")","v":""},"MRS 07975 The New Guy (31.10.2002) - Eliza Dushku (30.12.1980) 21-305",0,"nein"]
["MRS 07982 Euphoria The Next Episode (21.07.2019) - Sydney Sweeney (12.09.1997) 21-312 810.mp4",{"$f":"IF(SUMPRODUCT(--ISNUMBER(SEARCH(Rechnung!H$2:H$31, A213)))>0,\"X\",\"\")","v":"X"},"MRS 07982 Euphoria The Next Episode (21.07.2019) - Sydney Sweeney (12.09.1997) 21-312",1,"nein"]
["MRS 07982 Euphoria The Next Episode (21.07.2019) - Sydney Sweeney (12.09.1997) 21-312 811.mp4",{"$f":"IF(SUMPRODUCT(--ISNUMBER(SEARCH(Rechnung!H$2:H$31, A214)))>0,\"X\",\"\")","v":"X"},"MRS 07982 Euphoria The Next Episode (21.07.2019) - Sydney Sweeney (12.09.1997) 21-312",1,"nein"]
["MRS 07989 Euphoria The Trials and Tribulations of Trying to Pee While Depressed (28.07.2019) - Sydney Sweeney (12.09.1997) 21-319 806.mp4",{"$f":"IF(SUMPRODUCT(--ISNUMBER(SEARCH(Rechnung!H$2:H$31, A215)))>0,\"X\",\"\")","v":"X"},"MRS 07989 Euphoria The Trials and Tribulations of Trying to Pee While Depressed (28.07.2019) - Sydney Sweeney (12.09.1997) 21-319",1,"nein"]
["MRS 07990 The Sex Lives of College Girls That Comment Tho (25.11.2021) - Reneé Rapp (10.01.2000) 21-320 739.mp4",{"$f":"IF(SUMPRODUCT(--ISNUMBER(SEARCH(Rechnung!H$2:H$31, A216)))>0,\"X\",\"\")","v":"X"},"MRS 07990 The Sex Lives of College Girls That Comment Tho (25.11.2021) - Reneé Rapp (10.01.2000) 21-320",0,"ja"]
["MRS 07995 All the Bright Places (28.02.2020) - Elle Fanning (09.04.1998) 21-325 123.mp4",{"$f":"IF(SUMPRODUCT(--ISNUMBER(SEARCH(Rechnung!H$2:H$31, A217)))>0,\"X\",\"\")","v":"X"},"MRS 07995 All the Bright Places (28.02.2020) - Elle Fanning (09.04.1998) 21-325",1,"nein"]
["MRS 07997 The Sex Lives of College Girls I Think I'm a Sex Addict (02.12.2021) - Reneé Rapp (10.01.2000) 21-327 740.mp4",{"$f":"IF(SUMPRODUCT(--ISNUMBER(SEARCH(Rechnung!H$2:H$31, A218)))>0,\"X\",\"\")","v":"X"},"MRS 07997 The Sex Lives of College Girls I Think I'm a Sex Addict (02.12.2021) - Reneé Rapp (10.01.2000) 21-327",0,"ja"]
["MRS 08000 Kaboom (16.06.2011) - Juno Temple (21.07.1989) 21-330 1322.mp4",{"$f":"IF(SUMPRODUCT(--ISNUMBER(SEARCH(Rechnung!H$2:H$31, A219)))>0,\"X\",\"\")","v":""},"MRS 08000 Kaboom (16.06.2011) - Juno Temple (21.07.1989) 21-330",0,"nein"]
["MRS 08000 Kaboom (16.06.2011) - Juno Temple (21.07.1989) 21-330 1323.mp4",{"$f":"IF(SUMPRODUCT(--ISNUMBER(SEARCH(Rechnung!H$2:H$31, A220)))>0,\"X\",\"\")","v":""},"MRS 08000 Kaboom (16.06.2011) - Juno Temple (21.07.1989) 21-330",0,"nein"]
["MRS 08000 Kaboom (16.06.2011) - Juno Temple (21.07.1989) 21-330 1324.mp4",{"$f":"IF(SUMPRODUCT(--ISNUMBER(SEARCH(Rechnung!H$2:H$31, A221)))>0,\"X\",\"\")","v":""},"MRS 08000 Kaboom (16.06.2011) - Juno Temple (21.07.1989) 21-330",0,"nein"]
["MRS 08000 Kaboom (16.06.2011) - Juno Temple (21.07.1989) 21-330 1325.mp4",{"$f":"IF(SUMPRODUCT(--ISNUMBER(SEARCH(Rechnung!H$2:H$31, A222)))>0,\"X\",\"\")","v":""},"MRS 08000 Kaboom (16.06.2011) - Juno Temple (21.07.1989) 21-330",0,"nein"]
["MRS 08000 Kaboom (16.06.2011) - Juno Temple (21.07.1989) 21-330 1326.mp4",{"$f":"IF(SUMPRODUCT(--ISNUMBER(SEARCH(Rechnung!H$2:H$31, A223)))>0,\"X\",\"\")","v":""},"MRS 08000 Kaboom (16.06.2011) - Juno Temple (21.07.1989) 21-330",0,"nein"]
["MRS 08000 Kaboom (16.06.2011) - Juno Temple (21.07.1989) 21-330 1327.mp4",{"$f":"IF(SUMPRODUCT(--ISNUMBER(SEARCH(Rechnung!H$2:H$31, A224)))>0,\"X\",\"\")","v":""},"MRS 08000 Kaboom (16.06.2011) - Juno Temple (21.07.1989) 21-330",0,"nein"]
["MRS 08001 Sabrina Carpenter Taste (23.08.2024) - Jenna Ortega (27.09.2002) 21-330 2509.mp4",{"$f":"IF(SUMPRODUCT(--ISNUMBER(SEARCH(Rechnung!H$2:H$31, A225)))>0,\"X\",\"\")","v":"X"},"MRS 08001 Sabrina Carpenter Taste (23.08.2024) - Jenna Ortega (27.09.2002) 21-330",1,"nein"]
["MRS 08004 The Sex Lives of College Girls Cheating (09.12.2021) - Reneé Rapp (10.01.2000) 21-334 741.mp4",{"$f":"IF(SUMPRODUCT(--ISNUMBER(SEARCH(Rechnung!H$2:H$31, A226)))>0,\"X\",\"\")","v":"X"},"MRS 08004 The Sex Lives of College Girls Cheating (09.12.2021) - Reneé Rapp (10.01.2000) 21-334",0,"ja"]
["MRS 08008 Her & Him (11.09.2019) - Bella Thorne (08.10.1997) 21-338 72.mp4",{"$f":"IF(SUMPRODUCT(--ISNUMBER(SEARCH(Rechnung!H$2:H$31, A227)))>0,\"X\",\"\")","v":"X"},"MRS 08008 Her & Him (11.09.2019) - Bella Thorne (08.10.1997) 21-338",0,"ja"]
["MRS 08008 Normal People Episode #1.11 (26.04.2020) - Daisy Edgar-Jones (24.05.1998) 21-337 1873.mp4",{"$f":"IF(SUMPRODUCT(--ISNUMBER(SEARCH(Rechnung!H$2:H$31, A228)))>0,\"X\",\"\")","v":"X"},"MRS 08008 Normal People Episode #1.11 (26.04.2020) - Daisy Edgar-Jones (24.05.1998) 21-337",1,"nein"]
["MRS 08008 Normal People Episode #1.12 (26.04.2020) - Daisy Edgar-Jones (24.05.1998) 21-337 1874.mp4",{"$f":"IF(SUMPRODUCT(--ISNUMBER(SEARCH(Rechnung!H$2:H$31, A229)))>0,\"X\",\"\")","v":"X"},"MRS 08008 Normal People Episode #1.12 (26.04.2020) - Daisy Edgar-Jones (24.05.1998) 21-337",1,"nein"]
["MRS 08008 Normal People Episode #1.2 (26.04.2020) - Daisy Edgar-Jones (24.05.1998) 21-337 1862.mp4",{"$f":"IF(SUMPRODUCT(--ISNUMBER(SEARCH(Rechnung!H$2:H$31, A230)))>0,\"X\",\"\")","v":"X"},"MRS 08008 Normal People Episode #1.2 (26.04.2020) - Daisy Edgar-Jones (24.05.1998) 21-337",1,"nein"]
["MRS 08008 Normal People Episode #1.2 (26.04.2020) - Daisy Edgar-Jones (24.05.1998) 21-337 1863.mp4",{"$f":"IF(SUMPRODUCT(--ISNUMBER(SEARCH(Rechnung!H$2:H$31, A231)))>0,\"X\",\"\")","v":"X"},"MRS 08008 Normal People Episode #1.2 (26.04.2020) - Daisy Edgar-Jones (24.05.1998) 21-337",1,"nein"]
["MRS 08008 Normal People Episode #1.5 (26.04.2020) - Daisy Edgar-Jones (24.05.1998) 21-337 1864.mp4",{"$f":"IF(SUMPRODUCT(--ISNUMBER(SEARCH(Rechnung!H$2:H$31, A232)))>0,\"X\",\"\")","v":"X"},"MRS 08008 Normal People Episode #1.5 (26.04.2020) - Daisy Edgar-Jones (24.05.1998) 21-337",1,"nein"]
["MRS 08008 Normal People Episode #1.5 (26.04.2020) - Daisy Edgar-Jones (24.05.1998) 21-337 1865.mp4",{"$f":"IF(SUMPRODUCT(--ISNUMBER(SEARCH(Rechnung!H$2:H$31, A233)))>0,\"X\",\"\")","v":"X"},"MRS 08008 Normal People Episode #1.5 (26.04.2020) - Daisy Edgar-Jones (24.05.1998) 21-337",1,"nein"]
["MRS 08008 Normal People Episode #1.5 (26.04.2020) - Daisy Edgar-Jones (24.05.1998) 21-337 1866.mp4",{"$f":"IF(SUMPRODUCT(--ISNUMBER(SEARCH(Rechnung!H$2:H$31, A234)))>0,\"X\",\"\")","v":"X"},"MRS 08008 Normal People Episode #1.5 (26.04.2020) - Daisy Edgar-Jones (24.05.1998) 21-337",1,"nein"]
["MRS 08008 Normal People Episode #1.6 (26.04.2020) - Daisy Edgar-Jones (24.05.1998) 21-337 1867.mp4",{"$f":"IF(SUMPRODUCT(--ISNUMBER(SEARCH(Rechnung!H$2:H$31, A235)))>0,\"X\",\"\")","v":"X"},"MRS 08008 Normal People Episode #1.6 (26.04.2020) - Daisy Edgar-Jones (24.05.1998) 21-337",1,"nein"]
["MRS 08008 Normal People Episode #1.6 (26.04.2020) - Daisy Edgar-Jones (24.05.1998) 21-337 1868.mp4",{"$f":"IF(SUMPRODUCT(--ISNUMBER(SEARCH(Rechnung!H$2:H$31, A236)))>0,\"X\",\"\")","v":"X"},"MRS 08008 Normal People Episode #1.6 (26.04.2020) - Daisy Edgar-Jones (24.05.1998) 21-337",1,"nein"]
["MRS 08008 Normal People Episode #1.6 (26.04.2020) - Daisy Edgar-Jones (24.05.1998) 21-337 1869.mp4",{"$f":"IF(SUMPRODUCT(--ISNUMBER(SEARCH(Rechnung!H$2:H$31, A237)))>0,\"X\",\"\")","v":"X"},"MRS 08008 Normal People Episode #1.6 (26.04.2020) - Daisy Edgar-Jones (24.05.1998) 21-337",1,"nein"]
["MRS 08008 Normal People Episode #1.9 (26.04.2020) - Daisy Edgar-Jones (24.05.1998) 21-337 1870.mp4",{"$f":"IF(SUMPRODUCT(--ISNUMBER(SEARCH(Rechnung!H$2:H$31, A238)))>0,\"X\",\"\")","v":"X"},"MRS 08008 Normal People Episode #1.9 (26.04.2020) - Daisy Edgar-Jones (24.05.1998) 21-337",1,"nein"]
["MRS 08008 Normal People Episode #1.9 (26.04.2020) - Daisy Edgar-Jones (24.05.1998) 21-337 1871.mp4",{"$f":"IF(SUMPRODUCT(--ISNUMBER(SEARCH(Rechnung!H$2:H$31, A239)))>0,\"X\",\"\")","v":"X"},"MRS 08008 Normal People Episode #1.9 (26.04.2020) - Daisy Edgar-Jones (24.05.1998) 21-337",1,"nein"]
["MRS 08008 Normal People Episode #1.9 (26.04.2020) - Daisy Edgar-Jones (24.05.1998) 21-337 1872.mp4",{"$f":"IF(SUMPRODUCT(--ISNUMBER(SEARCH(Rechnung!H$2:H$31, A240)))>0,\"X\",\"\")","v":"X"},"MRS 08008 Normal People Episode #1.9 (26.04.2020) - Daisy Edgar-Jones (24.05.1998) 21-337",1,"nein"]
["MRS 08009 Euphoria Trouble Don't Last Always (04.12.2020) - Hunter Schafer (31.12.1998) 21-338 813.mp4",{"$f":"IF(SUMPRODUCT(--ISNUMBER(SEARCH(Rechnung!H$2:H$31, A241)))>0,\"X\",\"\")","v":"X"},"MRS 08009 Euphoria Trouble Don't Last Always (04.12.2020) - Hunter Schafer (31.12.1998) 21-338",1,"nein"]
["MRS 08021 Dirty Girl (07.07.2011) - Juno Temple (21.07.1989) 21-351 628.mp4",{"$f":"IF(SUMPRODUCT(--ISNUMBER(SEARCH(Rechnung!H$2:H$31, A242)))>0,\"X\",\"\")","v":""},"MRS 08021 Dirty Girl (07.07.2011) - Juno Temple (21.07.1989) 21-351",0,"nein"]
["MRS 08024 The Girl Next Door (18.11.2004) - Elisha Cuthbert (30.11.1982) 21-353 2699.mp4",{"$f":"IF(SUMPRODUCT(--ISNUMBER(SEARCH(Rechnung!H$2:H$31, A243)))>0,\"X\",\"\")","v":""},"MRS 08024 The Girl Next Door (18.11.2004) - Elisha Cuthbert (30.11.1982) 21-353",0,"nein"]
["MRS 08028 The House of the Spirits (21.10.1993) - Winona Ryder (29.10.1971) 21-358 2741.mp4",{"$f":"IF(SUMPRODUCT(--ISNUMBER(SEARCH(Rechnung!H$2:H$31, A244)))>0,\"X\",\"\")","v":""},"MRS 08028 The House of the Spirits (21.10.1993) - Winona Ryder (29.10.1971) 21-358",0,"nein"]
["MRS 08028 The House of the Spirits (21.10.1993) - Winona Ryder (29.10.1971) 21-358 2742.mp4",{"$f":"IF(SUMPRODUCT(--ISNUMBER(SEARCH(Rechnung!H$2:H$31, A245)))>0,\"X\",\"\")","v":""},"MRS 08028 The House of the Spirits (21.10.1993) - Winona Ryder (29.10.1971) 21-358",0,"nein"]
["MRS 08039 Burning Palms (14.01.2011) - Emily Meade (10.01.1989) 22-4 182.mp4",{"$f":"IF(SUMPRODUCT(--ISNUMBER(SEARCH(Rechnung!H$2:H$31, A246)))>0,\"X\",\"\")","v":""},"MRS 08039 Burning Palms (14.01.2011) - Emily Meade (10.01.1989) 22-4",0,"nein"]
["MRS 08040 Easy A (11.11.2010) - Emma Stone (06.11.1988) 22-5 686.mp4",{"$f":"IF(SUMPRODUCT(--ISNUMBER(SEARCH(Rechnung!H$2:H$31, A247)))>0,\"X\",\"\")","v":""},"MRS 08040 Easy A (11.11.2010) - Emma Stone (06.11.1988) 22-5",0,"nein"]
["MRS 08054 Till det som är vackert (22.10.2010) - Alicia Vikander (03.10.1988) 22-19 2093.mp4",{"$f":"IF(SUMPRODUCT(--ISNUMBER(SEARCH(Rechnung!H$2:H$31, A248)))>0,\"X\",\"\")","v":""},"MRS 08054 Till det som är vackert (22.10.2010) - Alicia Vikander (03.10.1988) 22-19",0,"nein"]
["MRS 08054 Till det som är vackert (22.10.2010) - Alicia Vikander (03.10.1988) 22-19 2094.mp4",{"$f":"IF(SUMPRODUCT(--ISNUMBER(SEARCH(Rechnung!H$2:H$31, A249)))>0,\"X\",\"\")","v":""},"MRS 08054 Till det som är vackert (22.10.2010) - Alicia Vikander (03.10.1988) 22-19",0,"nein"]
["MRS 08058 Euphoria Fuck Anyone Who's Not a Sea Blob (22.01.2021) - Hunter Schafer (31.12.1998) 22-22 815.mp4",{"$f":"IF(SUMPRODUCT(--ISNUMBER(SEARCH(Rechnung!H$2:H$31, A250)))>0,\"X\",\"\")","v":"X"},"MRS 08058 Euphoria Fuck Anyone Who's Not a Sea Blob (22.01.2021) - Hunter Schafer (31.12.1998) 22-22",0,"ja"]
["MRS 08062 Prom Night (18.12.1980) - Jamie Lee Curtis (22.11.1958) 22-26 429.mp4",{"$f":"IF(SUMPRODUCT(--ISNUMBER(SEARCH(Rechnung!H$2:H$31, A251)))>0,\"X\",\"\")","v":""},"MRS 08062 Prom Night (18.12.1980) - Jamie Lee Curtis (22.11.1958) 22-26",0,"nein"]
["MRS 08062 Prom Night (18.12.1980) - Jamie Lee Curtis (22.11.1958) 22-26 430.mp4",{"$f":"IF(SUMPRODUCT(--ISNUMBER(SEARCH(Rechnung!H$2:H$31, A252)))>0,\"X\",\"\")","v":""},"MRS 08062 Prom Night (18.12.1980) - Jamie Lee Curtis (22.11.1958) 22-26",0,"nein"]
["MRS 08065 Albatross (14.10.2011) - Jessica Brown Findlay (14.09.1989) 22-30 450.mp4",{"$f":"IF(SUMPRODUCT(--ISNUMBER(SEARCH(Rechnung!H$2:H$31, A253)))>0,\"X\",\"\")","v":""},"MRS 08065 Albatross (14.10.2011) - Jessica Brown Findlay (14.09.1989) 22-30",0,"nein"]
["MRS 08065 Albatross (14.10.2011) - Jessica Brown Findlay (14.09.1989) 22-30 451.mp4",{"$f":"IF(SUMPRODUCT(--ISNUMBER(SEARCH(Rechnung!H$2:H$31, A254)))>0,\"X\",\"\")","v":""},"MRS 08065 Albatross (14.10.2011) - Jessica Brown Findlay (14.09.1989) 22-30",0,"nein"]
["MRS 08065 Albatross (14.10.2011) - Jessica Brown Findlay (14.09.1989) 22-30 452.mp4",{"$f":"IF(SUMPRODUCT(--ISNUMBER(SEARCH(Rechnung!H$2:H$31, A255)))>0,\"X\",\"\")","v":""},"MRS 08065 Albatross (14.10.2011) - Jessica Brown Findlay (14.09.1989) 22-30",0,"nein"]
["MRS 08065 Albatross (14.10.2011) - Jessica Brown Findlay (14.09.1989) 22-30 453.mp4",{"$f":"IF(SUMPRODUCT(--ISNUMBER(SEARCH(Rechnung!H$2:H$31, A256)))>0,\"X\",\"\")","v":""},"MRS 08065 Albatross (14.10.2011) - Jessica Brown Findlay (14.09.1989) 22-30",0,"nein"]
["MRS 08065 Albatross (14.10.2011) - Jessica Brown Findlay (14.09.1989) 22-30 454.mp4",{"$f":"IF(SUMPRODUCT(--ISNUMBER(SEARCH(Rechnung!H$2:H$31, A257)))>0,\"X\",\"\")","v":""},"MRS 08065 Albatross (14.10.2011) - Jessica Brown Findlay (14.09.1989) 22-30",0,"nein"]
["MRS 08065 Albatross (14.10.2011) - Jessica Brown Findlay (14.09.1989) 22-30 455.mp4",{"$f":"IF(SUMPRODUCT(--ISNUMBER(SEARCH(Rechnung!H$2:H$31, A258)))>0,\"X\",\"\")","v":""},"MRS 08065 Albatross (14.10.2011) - Jessica Brown Findlay (14.09.1989) 22-30",0,"nein"]
["MRS 08065 Albatross (14.10.2011) - Jessica Brown Findlay (14.09.1989) 22-30 456.mp4",{"$f":"IF(SUMPRODUCT(--ISNUMBER(SEARCH(Rechnung!H$2:H$31, A259)))>0,\"X\",\"\")","v":""},{"$f":"LEFT(A259, LEN(A259) - LEN(MID(A259, FIND(\"~\", SUBSTITUTE(A259,\" \",\"~\", LEN(A259)-LEN(SUBSTITUTE(A259,\" \",\"\")))), LEN(A259))))","v":"MRS 08065 Albatross (14.10.2011) - Jessica Brown Findlay (14.09.1989) 22-30"},0,{"$f":"IF(AND(B259=\"X\",D259=0),\"ja\",\"nein\")","v":"nein"}]
["MRS 08065 Albatross (14.10.2011) - Jessica Brown Findlay (14.09.1989) 22-30 457.mp4",{"$f":"IF(SUMPRODUCT(--ISNUMBER(SEARCH(Rechnung!H$2:H$31, A260)))>0,\"X\",\"\")","v":""},"MRS 08065 Albatross (14.10.2011) - Jessica Brown Findlay (14.09.1989) 22-30",0,"nein"]
["MRS 08065 Albatross (14.10.2011) - Jessica Brown Findlay (14.09.1989) 22-30 458.mp4",{"$f":"IF(SUMPRODUCT(--ISNUMBER(SEARCH(Rechnung!H$2:H$31, A261)))>0,\"X\",\"\")","v":""},"MRS 08065 Albatross (14.10.2011) - Jessica Brown Findlay (14.09.1989) 22-30",0,"nein"]
["MRS 08065 Albatross (14.10.2011) - Jessica Brown Findlay (14.09.1989) 22-30 459.mp4",{"$f":"IF(SUMPRODUCT(--ISNUMBER(SEARCH(Rechnung!H$2:H$31, A262)))>0,\"X\",\"\")","v":""},"MRS 08065 Albatross (14.10.2011) - Jessica Brown Findlay (14.09.1989) 22-30",0,"nein"]
["MRS 08069 Euphoria Pilot (16.10.2019) - Sydney Sweeney (12.09.1997) 22-34 742.mp4",{"$f":"IF(SUMPRODUCT(--ISNUMBER(SEARCH(Rechnung!H$2:H$31, A263)))>0,\"X\",\"\")","v":"X"},"MRS 08069 Euphoria Pilot (16.10.2019) - Sydney Sweeney (12.09.1997) 22-34",1,"nein"]
["MRS 08069 Euphoria Pilot (16.10.2019) - Sydney Sweeney (12.09.1997) 22-34 743.mp4",{"$f":"IF(SUMPRODUCT(--ISNUMBER(SEARCH(Rechnung!H$2:H$31, A264)))>0,\"X\",\"\")","v":"X"},"MRS 08069 Euphoria Pilot (16.10.2019) - Sydney Sweeney (12.09.1997) 22-34",1,"nein"]
["MRS 08073 Dead Calm (27.07.1989) - Nicole Kidman (20.06.1967) 22-37 576.mp4",{"$f":"IF(SUMPRODUCT(--ISNUMBER(SEARCH(Rechnung!H$2:H$31, A265)))>0,\"X\",\"\")","v":""},"MRS 08073 Dead Calm (27.07.1989) - Nicole Kidman (20.06.1967) 22-37",0,"nein"]
["MRS 08073 Dead Calm (27.07.1989) - Nicole Kidman (20.06.1967) 22-37 577.mp4",{"$f":"IF(SUMPRODUCT(--ISNUMBER(SEARCH(Rechnung!H$2:H$31, A266)))>0,\"X\",\"\")","v":""},"MRS 08073 Dead Calm (27.07.1989) - Nicole Kidman (20.06.1967) 22-37",0,"nein"]
["MRS 08073 Dead Calm (27.07.1989) - Nicole Kidman (20.06.1967) 22-37 578.mp4",{"$f":"IF(SUMPRODUCT(--ISNUMBER(SEARCH(Rechnung!H$2:H$31, A267)))>0,\"X\",\"\")","v":""},"MRS 08073 Dead Calm (27.07.1989) - Nicole Kidman (20.06.1967) 22-37",0,"nein"]
["MRS 08076 It Follows (09.07.2015) - Maika Monroe (29.05.1993) 22-41 1258.mp4",{"$f":"IF(SUMPRODUCT(--ISNUMBER(SEARCH(Rechnung!H$2:H$31, A268)))>0,\"X\",\"\")","v":""},"MRS 08076 It Follows (09.07.2015) - Maika Monroe (29.05.1993) 22-41",0,"nein"]
["MRS 08079 Boardwalk Empire Anastasia (23.02.2011) - Emily Meade (10.01.1989) 22-44 181.mp4",{"$f":"IF(SUMPRODUCT(--ISNUMBER(SEARCH(Rechnung!H$2:H$31, A269)))>0,\"X\",\"\")","v":""},"MRS 08079 Boardwalk Empire Anastasia (23.02.2011) - Emily Meade (10.01.1989) 22-44",0,"nein"]
["MRS 08106 Ni una más A sangre o lágrimas (31.05.2024) - Nicole Wallace (22.03.2002) 22-70 2136.mp4",{"$f":"IF(SUMPRODUCT(--ISNUMBER(SEARCH(Rechnung!H$2:H$31, A270)))>0,\"X\",\"\")","v":"X"},"MRS 08106 Ni una más A sangre o lágrimas (31.05.2024) - Nicole Wallace (22.03.2002) 22-70",1,"nein"]
["MRS 08106 Ni una más Piloto (31.05.2024) - Nicole Wallace (22.03.2002) 22-70 2135.mp4",{"$f":"IF(SUMPRODUCT(--ISNUMBER(SEARCH(Rechnung!H$2:H$31, A271)))>0,\"X\",\"\")","v":"X"},"MRS 08106 Ni una más Piloto (31.05.2024) - Nicole Wallace (22.03.2002) 22-70",1,"nein"]
["MRS 08106 The Great The Great (18.06.2020) - Elle Fanning (09.04.1998) 22-70 2715.mp4",{"$f":"IF(SUMPRODUCT(--ISNUMBER(SEARCH(Rechnung!H$2:H$31, A272)))>0,\"X\",\"\")","v":"X"},"MRS 08106 The Great The Great (18.06.2020) - Elle Fanning (09.04.1998) 22-70",1,"nein"]
["MRS 08109 The Camomile Lawn Episode #1.2 (12.03.1992) - Jennifer Ehle (29.12.1969) 22-74 2571.mp4",{"$f":"IF(SUMPRODUCT(--ISNUMBER(SEARCH(Rechnung!H$2:H$31, A273)))>0,\"X\",\"\")","v":""},"MRS 08109 The Camomile Lawn Episode #1.2 (12.03.1992) - Jennifer Ehle (29.12.1969) 22-74",0,"nein"]
["MRS 08109 The Camomile Lawn Episode #1.2 (12.03.1992) - Jennifer Ehle (29.12.1969) 22-74 2572.mp4",{"$f":"IF(SUMPRODUCT(--ISNUMBER(SEARCH(Rechnung!H$2:H$31, A274)))>0,\"X\",\"\")","v":""},"MRS 08109 The Camomile Lawn Episode #1.2 (12.03.1992) - Jennifer Ehle (29.12.1969) 22-74",0,"nein"]
["MRS 08116 The Camomile Lawn Episode #1.3 (19.03.1992) - Jennifer Ehle (29.12.1969) 22-81 2573.mp4",{"$f":"IF(SUMPRODUCT(--ISNUMBER(SEARCH(Rechnung!H$2:H$31, A275)))>0,\"X\",\"\")","v":""},"MRS 08116 The Camomile Lawn Episode #1.3 (19.03.1992) - Jennifer Ehle (29.12.1969) 22-81",0,"nein"]
["MRS 08116 The Camomile Lawn Episode #1.3 (19.03.1992) - Jennifer Ehle (29.12.1969) 22-81 2574.mp4",{"$f":"IF(SUMPRODUCT(--ISNUMBER(SEARCH(Rechnung!H$2:H$31, A276)))>0,\"X\",\"\")","v":""},"MRS 08116 The Camomile Lawn Episode #1.3 (19.03.1992) - Jennifer Ehle (29.12.1969) 22-81",0,"nein"]
["MRS 08116 The Camomile Lawn Episode #1.3 (19.03.1992) - Jennifer Ehle (29.12.1969) 22-81 2575.mp4",{"$f":"IF(SUMPRODUCT(--ISNUMBER(SEARCH(Rechnung!H$2:H$31, A277)))>0,\"X\",\"\")","v":""},"MRS 08116 The Camomile Lawn Episode #1.3 (19.03.1992) - Jennifer Ehle (29.12.1969) 22-81",0,"nein"]
["MRS 08116 The Camomile Lawn Episode #1.3 (19.03.1992) - Jennifer Ehle (29.12.1969) 22-81 2576.mp4",{"$f":"IF(SUMPRODUCT(--ISNUMBER(SEARCH(Rechnung!H$2:H$31, A278)))>0,\"X\",\"\")","v":""},"MRS 08116 The Camomile Lawn Episode #1.3 (19.03.1992) - Jennifer Ehle (29.12.1969) 22-81",0,"nein"]
["MRS 08116 The Camomile Lawn Episode #1.3 (19.03.1992) - Jennifer Ehle (29.12.1969) 22-81 2577.mp4",{"$f":"IF(SUMPRODUCT(--ISNUMBER(SEARCH(Rechnung!H$2:H$31, A279)))>0,\"X\",\"\")","v":""},"MRS 08116 The Camomile Lawn Episode #1.3 (19.03.1992) - Jennifer Ehle (29.12.1969) 22-81",0,"nein"]
["MRS 08116 The Camomile Lawn Episode #1.3 (19.03.1992) - Jennifer Ehle (29.12.1969) 22-81 2578.mp4",{"$f":"IF(SUMPRODUCT(--ISNUMBER(SEARCH(Rechnung!H$2:H$31, A280)))>0,\"X\",\"\")","v":""},"MRS 08116 The Camomile Lawn Episode #1.3 (19.03.1992) - Jennifer Ehle (29.12.1969) 22-81",0,"nein"]
["MRS 08118 Three and Out (25.04.2008) - Gemma Arterton (02.02.1986) 22-82 3154.mp4",{"$f":"IF(SUMPRODUCT(--ISNUMBER(SEARCH(Rechnung!H$2:H$31, A281)))>0,\"X\",\"\")","v":""},"MRS 08118 Three and Out (25.04.2008) - Gemma Arterton (02.02.1986) 22-82",0,"nein"]
["MRS 08130 Greta (16.05.2019) - Chloë Grace Moretz (10.02.1997) 22-95 1034.mp4",{"$f":"IF(SUMPRODUCT(--ISNUMBER(SEARCH(Rechnung!H$2:H$31, A282)))>0,\"X\",\"\")","v":"X"},"MRS 08130 Greta (16.05.2019) - Chloë Grace Moretz (10.02.1997) 22-95",1,"nein"]
["MRS 08131 Titanic (08.01.1998) - Kate Winslet (05.10.1975) 22-95 3164.mp4",{"$f":"IF(SUMPRODUCT(--ISNUMBER(SEARCH(Rechnung!H$2:H$31, A283)))>0,\"X\",\"\")","v":""},"MRS 08131 Titanic (08.01.1998) - Kate Winslet (05.10.1975) 22-95",0,"nein"]
["MRS 08131 Titanic (08.01.1998) - Kate Winslet (05.10.1975) 22-95 3165.mp4",{"$f":"IF(SUMPRODUCT(--ISNUMBER(SEARCH(Rechnung!H$2:H$31, A284)))>0,\"X\",\"\")","v":""},"MRS 08131 Titanic (08.01.1998) - Kate Winslet (05.10.1975) 22-95",0,"nein"]
["MRS 08131 Titanic (08.01.1998) - Kate Winslet (05.10.1975) 22-95 3166.mp4",{"$f":"IF(SUMPRODUCT(--ISNUMBER(SEARCH(Rechnung!H$2:H$31, A285)))>0,\"X\",\"\")","v":""},"MRS 08131 Titanic (08.01.1998) - Kate Winslet (05.10.1975) 22-95",0,"nein"]
["MRS 08131 Titanic (08.01.1998) - Kate Winslet (05.10.1975) 22-95 3167.mp4",{"$f":"IF(SUMPRODUCT(--ISNUMBER(SEARCH(Rechnung!H$2:H$31, A286)))>0,\"X\",\"\")","v":""},"MRS 08131 Titanic (08.01.1998) - Kate Winslet (05.10.1975) 22-95",0,"nein"]
["MRS 08145 The Survivalist (12.02.2016) - Mia Goth (25.10.1993) 22-110 3043.mp4",{"$f":"IF(SUMPRODUCT(--ISNUMBER(SEARCH(Rechnung!H$2:H$31, A287)))>0,\"X\",\"\")","v":""},"MRS 08145 The Survivalist (12.02.2016) - Mia Goth (25.10.1993) 22-110",0,"nein"]
["MRS 08145 The Survivalist (12.02.2016) - Mia Goth (25.10.1993) 22-110 3044.mp4",{"$f":"IF(SUMPRODUCT(--ISNUMBER(SEARCH(Rechnung!H$2:H$31, A288)))>0,\"X\",\"\")","v":""},"MRS 08145 The Survivalist (12.02.2016) - Mia Goth (25.10.1993) 22-110",0,"nein"]
["MRS 08145 The Survivalist (12.02.2016) - Mia Goth (25.10.1993) 22-110 3045.mp4",{"$f":"IF(SUMPRODUCT(--ISNUMBER(SEARCH(Rechnung!H$2:H$31, A289)))>0,\"X\",\"\")","v":""},"MRS 08145 The Survivalist (12.02.2016) - Mia Goth (25.10.1993) 22-110",0,"nein"]
["MRS 08145 The Survivalist (12.02.2016) - Mia Goth (25.10.1993) 22-110 3046.mp4",{"$f":"IF(SUMPRODUCT(--ISNUMBER(SEARCH(Rechnung!H$2:H$31, A290)))>0,\"X\",\"\")","v":""},"MRS 08145 The Survivalist (12.02.2016) - Mia Goth (25.10.1993) 22-110",0,"nein"]
["MRS 08145 The Survivalist (12.02.2016) - Mia Goth (25.10.1993) 22-110 3047.mp4",{"$f":"IF(SUMPRODUCT(--ISNUMBER(SEARCH(Rechnung!H$2:H$31, A291)))>0,\"X\",\"\")","v":""},"MRS 08145 The Survivalist (12.02.2016) - Mia Goth (25.10.1993) 22-110",0,"nein"]
["MRS 08145 The Survivalist (12.02.2016) - Mia Goth (25.10.1993) 22-110 3048.mp4",{"$f":"IF(SUMPRODUCT(--ISNUMBER(SEARCH(Rechnung!H$2:H$31, A292)))>0,\"X\",\"\")","v":""},"MRS 08145 The Survivalist (12.02.2016) - Mia Goth (25.10.1993) 22-110",0,"nein"]
["MRS 08146 Blame It on Rio (01.03.1985) - Demi Moore (11.11.1962) 22-110 281.mp4",{"$f":"IF(SUMPRODUCT(--ISNUMBER(SEARCH(Rechnung!H$2:H$31, A293)))>0,\"X\",\"\")","v":""},"MRS 08146 Blame It on Rio (01.03.1985) - Demi Moore (11.11.1962) 22-110",0,"nein"]
["MRS 08153 D.E.B.S. (09.09.2004) - Alexandra Breckenridge (15.05.1982) 22-117 485.mp4",{"$f":"IF(SUMPRODUCT(--ISNUMBER(SEARCH(Rechnung!H$2:H$31, A294)))>0,\"X\",\"\")","v":""},"MRS 08153 D.E.B.S. (09.09.2004) - Alexandra Breckenridge (15.05.1982) 22-117",0,"nein"]
["MRS 08153 D.E.B.S. (09.09.2004) - Alexandra Breckenridge (15.05.1982) 22-117 486.mp4",{"$f":"IF(SUMPRODUCT(--ISNUMBER(SEARCH(Rechnung!H$2:H$31, A295)))>0,\"X\",\"\")","v":""},"MRS 08153 D.E.B.S. (09.09.2004) - Alexandra Breckenridge (15.05.1982) 22-117",0,"nein"]
["MRS 08162 Haunted (30.11.1995) - Kate Beckinsale (26.07.1973) 22-127 1057.mp4",{"$f":"IF(SUMPRODUCT(--ISNUMBER(SEARCH(Rechnung!H$2:H$31, A296)))>0,\"X\",\"\")","v":""},"MRS 08162 Haunted (30.11.1995) - Kate Beckinsale (26.07.1973) 22-127",0,"nein"]
["MRS 08162 Haunted (30.11.1995) - Kate Beckinsale (26.07.1973) 22-127 1058.mp4",{"$f":"IF(SUMPRODUCT(--ISNUMBER(SEARCH(Rechnung!H$2:H$31, A297)))>0,\"X\",\"\")","v":""},"MRS 08162 Haunted (30.11.1995) - Kate Beckinsale (26.07.1973) 22-127",0,"nein"]
["MRS 08162 Haunted (30.11.1995) - Kate Beckinsale (26.07.1973) 22-127 1059.mp4",{"$f":"IF(SUMPRODUCT(--ISNUMBER(SEARCH(Rechnung!H$2:H$31, A298)))>0,\"X\",\"\")","v":""},"MRS 08162 Haunted (30.11.1995) - Kate Beckinsale (26.07.1973) 22-127",0,"nein"]
["MRS 08163 My Summer of Love (30.06.2005) - Emily Blunt (23.02.1983) 22-127 1806.mp4",{"$f":"IF(SUMPRODUCT(--ISNUMBER(SEARCH(Rechnung!H$2:H$31, A299)))>0,\"X\",\"\")","v":""},"MRS 08163 My Summer of Love (30.06.2005) - Emily Blunt (23.02.1983) 22-127",0,"nein"]
["MRS 08163 My Summer of Love (30.06.2005) - Emily Blunt (23.02.1983) 22-127 1807.mp4",{"$f":"IF(SUMPRODUCT(--ISNUMBER(SEARCH(Rechnung!H$2:H$31, A300)))>0,\"X\",\"\")","v":""},"MRS 08163 My Summer of Love (30.06.2005) - Emily Blunt (23.02.1983) 22-127",0,"nein"]
["MRS 08163 My Summer of Love (30.06.2005) - Emily Blunt (23.02.1983) 22-127 1808.mp4",{"$f":"IF(SUMPRODUCT(--ISNUMBER(SEARCH(Rechnung!H$2:H$31, A301)))>0,\"X\",\"\")","v":""},"MRS 08163 My Summer of Love (30.06.2005) - Emily Blunt (23.02.1983) 22-127",0,"nein"]
["MRS 08169 Cruel Intentions (26.08.1999) - Sarah Michelle Gellar (14.04.1977) 22-134 747.mp4",{"$f":"IF(SUMPRODUCT(--ISNUMBER(SEARCH(Rechnung!H$2:H$31, A302)))>0,\"X\",\"\")","v":""},"MRS 08169 Cruel Intentions (26.08.1999) - Sarah Michelle Gellar (14.04.1977) 22-134",0,"nein"]
["MRS 08169 Cruel Intentions (26.08.1999) - Sarah Michelle Gellar (14.04.1977) 22-134 748.mp4",{"$f":"IF(SUMPRODUCT(--ISNUMBER(SEARCH(Rechnung!H$2:H$31, A303)))>0,\"X\",\"\")","v":""},"MRS 08169 Cruel Intentions (26.08.1999) - Sarah Michelle Gellar (14.04.1977) 22-134",0,"nein"]
["MRS 08169 Cruel Intentions (26.08.1999) - Sarah Michelle Gellar (14.04.1977) 22-134 749.mp4",{"$f":"IF(SUMPRODUCT(--ISNUMBER(SEARCH(Rechnung!H$2:H$31, A304)))>0,\"X\",\"\")","v":""},"MRS 08169 Cruel Intentions (26.08.1999) - Sarah Michelle Gellar (14.04.1977) 22-134",0,"nein"]
["MRS 08169 Cruel Intentions (26.08.1999) - Sarah Michelle Gellar (14.04.1977) 22-134 750.mp4",{"$f":"IF(SUMPRODUCT(--ISNUMBER(SEARCH(Rechnung!H$2:H$31, A305)))>0,\"X\",\"\")","v":""},"MRS 08169 Cruel Intentions (26.08.1999) - Sarah Michelle Gellar (14.04.1977) 22-134",0,"nein"]
["MRS 08196 The Investigator (31.12.1997) - Laura Fraser (24.07.1975) 22-160 561.mp4",{"$f":"IF(SUMPRODUCT(--ISNUMBER(SEARCH(Rechnung!H$2:H$31, A306)))>0,\"X\",\"\")","v":""},"MRS 08196 The Investigator (31.12.1997) - Laura Fraser (24.07.1975) 22-160",0,"nein"]
["MRS 08196 The Investigator (31.12.1997) - Laura Fraser (24.07.1975) 22-160 562.mp4",{"$f":"IF(SUMPRODUCT(--ISNUMBER(SEARCH(Rechnung!H$2:H$31, A307)))>0,\"X\",\"\")","v":""},"MRS 08196 The Investigator (31.12.1997) - Laura Fraser (24.07.1975) 22-160",0,"nein"]
["MRS 08196 The Investigator (31.12.1997) - Laura Fraser (24.07.1975) 22-160 563.mp4",{"$f":"IF(SUMPRODUCT(--ISNUMBER(SEARCH(Rechnung!H$2:H$31, A308)))>0,\"X\",\"\")","v":""},"MRS 08196 The Investigator (31.12.1997) - Laura Fraser (24.07.1975) 22-160",0,"nein"]
["MRS 08196 The Investigator (31.12.1997) - Laura Fraser (24.07.1975) 22-160 564.mp4",{"$f":"IF(SUMPRODUCT(--ISNUMBER(SEARCH(Rechnung!H$2:H$31, A309)))>0,\"X\",\"\")","v":""},"MRS 08196 The Investigator (31.12.1997) - Laura Fraser (24.07.1975) 22-160",0,"nein"]
["MRS 08196 The Investigator (31.12.1997) - Laura Fraser (24.07.1975) 22-160 565.mp4",{"$f":"IF(SUMPRODUCT(--ISNUMBER(SEARCH(Rechnung!H$2:H$31, A310)))>0,\"X\",\"\")","v":""},"MRS 08196 The Investigator (31.12.1997) - Laura Fraser (24.07.1975) 22-160",0,"nein"]
["MRS 08203 Swimming with Sharks Chapter One (26.04.2022) - Kiernan Shipka (10.11.1999) 22-168 2485.mp4",{"$f":"IF(SUMPRODUCT(--ISNUMBER(SEARCH(Rechnung!H$2:H$31, A311)))>0,\"X\",\"\")","v":"X"},"MRS 08203 Swimming with Sharks Chapter One (26.04.2022) - Kiernan Shipka (10.11.1999) 22-168",0,"ja"]
["MRS 08204 The Devil's Advocate (22.01.1998) - Charlize Theron (07.08.1975) 22-168 604.mp4",{"$f":"IF(SUMPRODUCT(--ISNUMBER(SEARCH(Rechnung!H$2:H$31, A312)))>0,\"X\",\"\")","v":""},"MRS 08204 The Devil's Advocate (22.01.1998) - Charlize Theron (07.08.1975) 22-168",0,"nein"]
["MRS 08204 The Devil's Advocate (22.01.1998) - Charlize Theron (07.08.1975) 22-168 605.mp4",{"$f":"IF(SUMPRODUCT(--ISNUMBER(SEARCH(Rechnung!H$2:H$31, A313)))>0,\"X\",\"\")","v":""},"MRS 08204 The Devil's Advocate (22.01.1998) - Charlize Theron (07.08.1975) 22-168",0,"nein"]
["MRS 08210 Restraint (19.08.2008) - Teresa Palmer (26.02.1986) 22-174 2174.mp4",{"$f":"IF(SUMPRODUCT(--ISNUMBER(SEARCH(Rechnung!H$2:H$31, A314)))>0,\"X\",\"\")","v":""},"MRS 08210 Restraint (19.08.2008) - Teresa Palmer (26.02.1986) 22-174",0,"nein"]
["MRS 08210 Restraint (19.08.2008) - Teresa Palmer (26.02.1986) 22-174 2175.mp4",{"$f":"IF(SUMPRODUCT(--ISNUMBER(SEARCH(Rechnung!H$2:H$31, A315)))>0,\"X\",\"\")","v":""},"MRS 08210 Restraint (19.08.2008) - Teresa Palmer (26.02.1986) 22-174",0,"nein"]
["MRS 08213 Dead Man's Curve (17.09.1998) - Keri Russell (23.03.1976) 22-178 586.mp4",{"$f":"IF(SUMPRODUCT(--ISNUMBER(SEARCH(Rechnung!H$2:H$31, A316)))>0,\"X\",\"\")","v":""},"MRS 08213 Dead Man's Curve (17.09.1998) - Keri Russell (23.03.1976) 22-178",0,"nein"]
["MRS 08213 Hispania, la leyenda El nacimiento de la leyenda (25.10.2010) - Ana de Armas (30.04.1988) 22-178 1131.mp4",{"$f":"IF(SUMPRODUCT(--ISNUMBER(SEARCH(Rechnung!H$2:H$31, A317)))>0,\"X\",\"\")","v":""},"MRS 08213 Hispania, la leyenda El nacimiento de la leyenda (25.10.2010) - Ana de Armas (30.04.1988) 22-178",0,"nein"]
["MRS 08214 On the Road (04.10.2012) - Kristen Stewart (09.04.1990) 22-178 1931.mp4",{"$f":"IF(SUMPRODUCT(--ISNUMBER(SEARCH(Rechnung!H$2:H$31, A318)))>0,\"X\",\"\")","v":""},"MRS 08214 On the Road (04.10.2012) - Kristen Stewart (09.04.1990) 22-178",0,"nein"]
["MRS 08214 On the Road (04.10.2012) - Kristen Stewart (09.04.1990) 22-178 1932.mp4",{"$f":"IF(SUMPRODUCT(--ISNUMBER(SEARCH(Rechnung!H$2:H$31, A319)))>0,\"X\",\"\")","v":""},"MRS 08214 On the Road (04.10.2012) - Kristen Stewart (09.04.1990) 22-178",0,"nein"]
["MRS 08214 On the Road (04.10.2012) - Kristen Stewart (09.04.1990) 22-178 1933.mp4",{"$f":"IF(SUMPRODUCT(--ISNUMBER(SEARCH(Rechnung!H$2:H$31, A320)))>0,\"X\",\"\")","v":""},"MRS 08214 On the Road (04.10.2012) - Kristen Stewart (09.04.1990) 22-178",0,"nein"]
["MRS 08214 On the Road (04.10.2012) - Kristen Stewart (09.04.1990) 22-178 1934.mp4",{"$f":"IF(SUMPRODUCT(--ISNUMBER(SEARCH(Rechnung!H$2:H$31, A321)))>0,\"X\",\"\")","v":""},"MRS 08214 On the Road (04.10.2012) - Kristen Stewart (09.04.1990) 22-178",0,"nein"]
["MRS 08214 On the Road (04.10.2012) - Kristen Stewart (09.04.1990) 22-178 1935.mp4",{"$f":"IF(SUMPRODUCT(--ISNUMBER(SEARCH(Rechnung!H$2:H$31, A322)))>0,\"X\",\"\")","v":""},"MRS 08214 On the Road (04.10.2012) - Kristen Stewart (09.04.1990) 22-178",0,"nein"]
["MRS 08223 No Small Affair (17.05.1985) - Demi Moore (11.11.1962) 22-187 1833.mp4",{"$f":"IF(SUMPRODUCT(--ISNUMBER(SEARCH(Rechnung!H$2:H$31, A323)))>0,\"X\",\"\")","v":""},{"$f":"LEFT(A323, LEN(A323) - LEN(MID(A323, FIND(\"~\", SUBSTITUTE(A323,\" \",\"~\", LEN(A323)-LEN(SUBSTITUTE(A323,\" \",\"\")))), LEN(A323))))","v":"MRS 08223 No Small Affair (17.05.1985) - Demi Moore (11.11.1962) 22-187"},0,{"$f":"IF(AND(B323=\"X\",D323=0),\"ja\",\"nein\")","v":"nein"}]
["MRS 08231 How to Lose Friends & Alienate People (27.11.2008) - Megan Fox (16.05.1986) 22-195 1177.mp4",{"$f":"IF(SUMPRODUCT(--ISNUMBER(SEARCH(Rechnung!H$2:H$31, A324)))>0,\"X\",\"\")","v":""},"MRS 08231 How to Lose Friends & Alienate People (27.11.2008) - Megan Fox (16.05.1986) 22-195",0,"nein"]
["MRS 08231 How to Lose Friends & Alienate People (27.11.2008) - Megan Fox (16.05.1986) 22-195 1178.mp4",{"$f":"IF(SUMPRODUCT(--ISNUMBER(SEARCH(Rechnung!H$2:H$31, A325)))>0,\"X\",\"\")","v":""},"MRS 08231 How to Lose Friends & Alienate People (27.11.2008) - Megan Fox (16.05.1986) 22-195",0,"nein"]
["MRS 08274 Clementine (08.05.2020) - Sydney Sweeney (12.09.1997) 22-238 441.mp4",{"$f":"IF(SUMPRODUCT(--ISNUMBER(SEARCH(Rechnung!H$2:H$31, A326)))>0,\"X\",\"\")","v":"X"},"MRS 08274 Clementine (08.05.2020) - Sydney Sweeney (12.09.1997) 22-238",1,"nein"]
["MRS 08275 Five Easy Pieces (25.03.1971) - Sally Struthers (28.07.1948) 22-240 861.mp4",{"$f":"IF(SUMPRODUCT(--ISNUMBER(SEARCH(Rechnung!H$2:H$31, A327)))>0,\"X\",\"\")","v":""},"MRS 08275 Five Easy Pieces (25.03.1971) - Sally Struthers (28.07.1948) 22-240",0,"nein"]
["MRS 08276 Californication Pilot (14.05.2008) - Madeline Zima (16.09.1985) 22-240 369.mp4",{"$f":"IF(SUMPRODUCT(--ISNUMBER(SEARCH(Rechnung!H$2:H$31, A328)))>0,\"X\",\"\")","v":""},"MRS 08276 Californication Pilot (14.05.2008) - Madeline Zima (16.09.1985) 22-240",0,"nein"]
["MRS 08276 Californication Pilot (14.05.2008) - Madeline Zima (16.09.1985) 22-240 371.mp4",{"$f":"IF(SUMPRODUCT(--ISNUMBER(SEARCH(Rechnung!H$2:H$31, A329)))>0,\"X\",\"\")","v":""},"MRS 08276 Californication Pilot (14.05.2008) - Madeline Zima (16.09.1985) 22-240",0,"nein"]
["MRS 08277 Misfits Episode #3.1 (30.10.2011) - Nathalie Emmanuel (02.03.1989) 22-242 1728.mp4",{"$f":"IF(SUMPRODUCT(--ISNUMBER(SEARCH(Rechnung!H$2:H$31, A330)))>0,\"X\",\"\")","v":""},"MRS 08277 Misfits Episode #3.1 (30.10.2011) - Nathalie Emmanuel (02.03.1989) 22-242",0,"nein"]
["MRS 08286 Pretty Woman (05.07.1990) - Julia Roberts (28.10.1967) 22-251 2077.mp4",{"$f":"IF(SUMPRODUCT(--ISNUMBER(SEARCH(Rechnung!H$2:H$31, A331)))>0,\"X\",\"\")","v":""},"MRS 08286 Pretty Woman (05.07.1990) - Julia Roberts (28.10.1967) 22-251",0,"nein"]
["MRS 08288 Arcadia Lost (16.09.2010) - Haley Bennett (07.01.1988) 22-253 216.mp4",{"$f":"IF(SUMPRODUCT(--ISNUMBER(SEARCH(Rechnung!H$2:H$31, A332)))>0,\"X\",\"\")","v":""},"MRS 08288 Arcadia Lost (16.09.2010) - Haley Bennett (07.01.1988) 22-253",0,"nein"]
["MRS 08288 Arcadia Lost (16.09.2010) - Haley Bennett (07.01.1988) 22-253 217.mp4",{"$f":"IF(SUMPRODUCT(--ISNUMBER(SEARCH(Rechnung!H$2:H$31, A333)))>0,\"X\",\"\")","v":""},"MRS 08288 Arcadia Lost (16.09.2010) - Haley Bennett (07.01.1988) 22-253",0,"nein"]
["MRS 08299 The Sex Lives of College Girls Welcome to Essex (30.09.2022) - Reneé Rapp (10.01.2000) 22-264 738.mp4",{"$f":"IF(SUMPRODUCT(--ISNUMBER(SEARCH(Rechnung!H$2:H$31, A334)))>0,\"X\",\"\")","v":"X"},"MRS 08299 The Sex Lives of College Girls Welcome to Essex (30.09.2022) - Reneé Rapp (10.01.2000) 22-264",0,"ja"]
["MRS 08301 Turistas (01.12.2006) - Olivia Wilde (10.03.1984) 22-266 3199.mp4",{"$f":"IF(SUMPRODUCT(--ISNUMBER(SEARCH(Rechnung!H$2:H$31, A335)))>0,\"X\",\"\")","v":""},"MRS 08301 Turistas (01.12.2006) - Olivia Wilde (10.03.1984) 22-266",0,"nein"]
["MRS 08303 Wolf (18.02.2022) - Lily-Rose Depp (27.05.1999) 22-267 3386.mp4",{"$f":"IF(SUMPRODUCT(--ISNUMBER(SEARCH(Rechnung!H$2:H$31, A336)))>0,\"X\",\"\")","v":"X"},"MRS 08303 Wolf (18.02.2022) - Lily-Rose Depp (27.05.1999) 22-267",1,"nein"]
["MRS 08303 Wolf (18.02.2022) - Lily-Rose Depp (27.05.1999) 22-267 3387.mp4",{"$f":"IF(SUMPRODUCT(--ISNUMBER(SEARCH(Rechnung!H$2:H$31, A337)))>0,\"X\",\"\")","v":"X"},"MRS 08303 Wolf (18.02.2022) - Lily-Rose Depp (27.05.1999) 22-267",1,"nein"]
["MRS 08303 Wolf (18.02.2022) - Lily-Rose Depp (27.05.1999) 22-267 3388.mp4",{"$f":"IF(SUMPRODUCT(--ISNUMBER(SEARCH(Rechnung!H$2:H$31, A338)))>0,\"X\",\"\")","v":"X"},"MRS 08303 Wolf (18.02.2022) - Lily-Rose Depp (27.05.1999) 22-267",1,"nein"]
["MRS 08303 Wolf (18.02.2022) - Lily-Rose Depp (27.05.1999) 22-267 3389.mp4",{"$f":"IF(SUMPRODUCT(--ISNUMBER(SEARCH(Rechnung!H$2:H$31, A339)))>0,\"X\",\"\")","v":"X"},"MRS 08303 Wolf (18.02.2022) - Lily-Rose Depp (27.05.1999) 22-267",1,"nein"]
["MRS 08304 Kronjuvelerna (29.06.2011) - Alicia Vikander (03.10.1988) 22-269 2620.mp4",{"$f":"IF(SUMPRODUCT(--ISNUMBER(SEARCH(Rechnung!H$2:H$31, A340)))>0,\"X\",\"\")","v":""},"MRS 08304 Kronjuvelerna (29.06.2011) - Alicia Vikander (03.10.1988) 22-269",0,"nein"]
["MRS 08304 Kronjuvelerna (29.06.2011) - Alicia Vikander (03.10.1988) 22-269 2621.mp4",{"$f":"IF(SUMPRODUCT(--ISNUMBER(SEARCH(Rechnung!H$2:H$31, A341)))>0,\"X\",\"\")","v":""},"MRS 08304 Kronjuvelerna (29.06.2011) - Alicia Vikander (03.10.1988) 22-269",0,"nein"]
["MRS 08313 Layer Cake (01.10.2004) - Sienna Miller (28.12.1981) 22-277 1488.mp4",{"$f":"IF(SUMPRODUCT(--ISNUMBER(SEARCH(Rechnung!H$2:H$31, A342)))>0,\"X\",\"\")","v":""},"MRS 08313 Layer Cake (01.10.2004) - Sienna Miller (28.12.1981) 22-277",0,"nein"]
["MRS 08313 Quantum of Solace (06.11.2008) - Gemma Arterton (02.02.1986) 22-277 2099.mp4",{"$f":"IF(SUMPRODUCT(--ISNUMBER(SEARCH(Rechnung!H$2:H$31, A343)))>0,\"X\",\"\")","v":""},"MRS 08313 Quantum of Solace (06.11.2008) - Gemma Arterton (02.02.1986) 22-277",0,"nein"]
["MRS 08335 Sweetbitter The Pork Special (14.07.2019) - Ella Purnell (17.09.1996) 22-300 2482.mp4",{"$f":"IF(SUMPRODUCT(--ISNUMBER(SEARCH(Rechnung!H$2:H$31, A344)))>0,\"X\",\"\")","v":"X"},"MRS 08335 Sweetbitter The Pork Special (14.07.2019) - Ella Purnell (17.09.1996) 22-300",1,"nein"]
["MRS 08337 Mare of Easttown Fathers (21.05.2021) - Cailee Spaeny (24.07.1998) 22-301 1679.mp4",{"$f":"IF(SUMPRODUCT(--ISNUMBER(SEARCH(Rechnung!H$2:H$31, A345)))>0,\"X\",\"\")","v":"X"},"MRS 08337 Mare of Easttown Fathers (21.05.2021) - Cailee Spaeny (24.07.1998) 22-301",1,"nein"]
["MRS 08337 Mare of Easttown Miss Lady Hawk Herself (21.05.2021) - Cailee Spaeny (24.07.1998) 22-301 1678.mp4",{"$f":"IF(SUMPRODUCT(--ISNUMBER(SEARCH(Rechnung!H$2:H$31, A346)))>0,\"X\",\"\")","v":"X"},"MRS 08337 Mare of Easttown Miss Lady Hawk Herself (21.05.2021) - Cailee Spaeny (24.07.1998) 22-301",1,"nein"]
["MRS 08338 Bedtime Stories (25.12.2008) - Teresa Palmer (26.02.1986) 22-302 241.mp4",{"$f":"IF(SUMPRODUCT(--ISNUMBER(SEARCH(Rechnung!H$2:H$31, A347)))>0,\"X\",\"\")","v":""},"MRS 08338 Bedtime Stories (25.12.2008) - Teresa Palmer (26.02.1986) 22-302",0,"nein"]
["MRS 08344 Euphoria Shook Ones Pt II (07.07.2019) - Zendaya (01.09.1996) 22-309 805.mp4",{"$f":"IF(SUMPRODUCT(--ISNUMBER(SEARCH(Rechnung!H$2:H$31, A348)))>0,\"X\",\"\")","v":"X"},"MRS 08344 Euphoria Shook Ones Pt II (07.07.2019) - Zendaya (01.09.1996) 22-309",1,"nein"]
["MRS 08346 Outlaw King (09.11.2018) - Florence Pugh (03.01.1996) 22-311 1995.mp4",{"$f":"IF(SUMPRODUCT(--ISNUMBER(SEARCH(Rechnung!H$2:H$31, A349)))>0,\"X\",\"\")","v":"X"},"MRS 08346 Outlaw King (09.11.2018) - Florence Pugh (03.01.1996) 22-311",1,"nein"]
["MRS 08346 Silk (31.01.2008) - Keira Knightley (26.03.1985) 22-311 2313.mp4",{"$f":"IF(SUMPRODUCT(--ISNUMBER(SEARCH(Rechnung!H$2:H$31, A350)))>0,\"X\",\"\")","v":""},"MRS 08346 Silk (31.01.2008) - Keira Knightley (26.03.1985) 22-311",0,"nein"]
["MRS 08346 Silk (31.01.2008) - Keira Knightley (26.03.1985) 22-311 2314.mp4",{"$f":"IF(SUMPRODUCT(--ISNUMBER(SEARCH(Rechnung!H$2:H$31, A351)))>0,\"X\",\"\")","v":""},"MRS 08346 Silk (31.01.2008) - Keira Knightley (26.03.1985) 22-311",0,"nein"]
["MRS 08346 Silk (31.01.2008) - Keira Knightley (26.03.1985) 22-311 2315.mp4",{"$f":"IF(SUMPRODUCT(--ISNUMBER(SEARCH(Rechnung!H$2:H$31, A352)))>0,\"X\",\"\")","v":""},"MRS 08346 Silk (31.01.2008) - Keira Knightley (26.03.1985) 22-311",0,"nein"]
["MRS 08346 The Private Lives of Pippa Lee (01.07.2010) - Blake Lively (25.08.1987) 22-311 2971.mp4",{"$f":"IF(SUMPRODUCT(--ISNUMBER(SEARCH(Rechnung!H$2:H$31, A353)))>0,\"X\",\"\")","v":""},"MRS 08346 The Private Lives of Pippa Lee (01.07.2010) - Blake Lively (25.08.1987) 22-311",0,"nein"]
["MRS 08347 The Sex Lives of College Girls Frat Problems (17.11.2022) - Reneé Rapp (10.01.2000) 22-312 742.mp4",{"$f":"IF(SUMPRODUCT(--ISNUMBER(SEARCH(Rechnung!H$2:H$31, A354)))>0,\"X\",\"\")","v":"X"},"MRS 08347 The Sex Lives of College Girls Frat Problems (17.11.2022) - Reneé Rapp (10.01.2000) 22-312",0,"ja"]
["MRS 08348 The Go-Getter (30.09.2007) - Jena Malone (21.11.1984) 22-313 2700.mp4",{"$f":"IF(SUMPRODUCT(--ISNUMBER(SEARCH(Rechnung!H$2:H$31, A355)))>0,\"X\",\"\")","v":""},"MRS 08348 The Go-Getter (30.09.2007) - Jena Malone (21.11.1984) 22-313",0,"nein"]
["MRS 08350 White Bird in a Blizzard (25.09.2014) - Shailene Woodley (15.11.1991) 22-315 3328.mp4",{"$f":"IF(SUMPRODUCT(--ISNUMBER(SEARCH(Rechnung!H$2:H$31, A356)))>0,\"X\",\"\")","v":""},"MRS 08350 White Bird in a Blizzard (25.09.2014) - Shailene Woodley (15.11.1991) 22-315",0,"nein"]
["MRS 08350 White Bird in a Blizzard (25.09.2014) - Shailene Woodley (15.11.1991) 22-315 3329.mp4",{"$f":"IF(SUMPRODUCT(--ISNUMBER(SEARCH(Rechnung!H$2:H$31, A357)))>0,\"X\",\"\")","v":""},"MRS 08350 White Bird in a Blizzard (25.09.2014) - Shailene Woodley (15.11.1991) 22-315",0,"nein"]
["MRS 08350 White Bird in a Blizzard (25.09.2014) - Shailene Woodley (15.11.1991) 22-315 3330.mp4",{"$f":"IF(SUMPRODUCT(--ISNUMBER(SEARCH(Rechnung!H$2:H$31, A358)))>0,\"X\",\"\")","v":""},"MRS 08350 White Bird in a Blizzard (25.09.2014) - Shailene Woodley (15.11.1991) 22-315",0,"nein"]
["MRS 08350 White Bird in a Blizzard (25.09.2014) - Shailene Woodley (15.11.1991) 22-315 3331.mp4",{"$f":"IF(SUMPRODUCT(--ISNUMBER(SEARCH(Rechnung!H$2:H$31, A359)))>0,\"X\",\"\")","v":""},"MRS 08350 White Bird in a Blizzard (25.09.2014) - Shailene Woodley (15.11.1991) 22-315",0,"nein"]
["MRS 08354 The Sex Lives of College Girls The Short King (24.11.2022) - Reneé Rapp (10.01.2000) 22-319 743.mp4",{"$f":"IF(SUMPRODUCT(--ISNUMBER(SEARCH(Rechnung!H$2:H$31, A360)))>0,\"X\",\"\")","v":"X"},"MRS 08354 The Sex Lives of College Girls The Short King (24.11.2022) - Reneé Rapp (10.01.2000) 22-319",0,"ja"]
["MRS 08358 Euphoria The Next Episode (21.07.2019) - Zendaya (01.09.1996) 22-323 812.mp4",{"$f":"IF(SUMPRODUCT(--ISNUMBER(SEARCH(Rechnung!H$2:H$31, A361)))>0,\"X\",\"\")","v":"X"},"MRS 08358 Euphoria The Next Episode (21.07.2019) - Zendaya (01.09.1996) 22-323",1,"nein"]
["MRS 08358 The Little Drummer Girl Episode #1.6 (21.11.2018) - Florence Pugh (03.01.1996) 22-323 2844.mp4",{"$f":"IF(SUMPRODUCT(--ISNUMBER(SEARCH(Rechnung!H$2:H$31, A362)))>0,\"X\",\"\")","v":"X"},"MRS 08358 The Little Drummer Girl Episode #1.6 (21.11.2018) - Florence Pugh (03.01.1996) 22-323",1,"nein"]
["MRS 08363 Booksmart (14.11.2019) - Kaitlyn Dever (21.12.1996) 22-328 296.mp4",{"$f":"IF(SUMPRODUCT(--ISNUMBER(SEARCH(Rechnung!H$2:H$31, A363)))>0,\"X\",\"\")","v":"X"},"MRS 08363 Booksmart (14.11.2019) - Kaitlyn Dever (21.12.1996) 22-328",1,"nein"]
["MRS 08368 The Sex Lives of College Girls Pre-Frosh Weekend (08.12.2022) - Reneé Rapp (10.01.2000) 22-333 745.mp4",{"$f":"IF(SUMPRODUCT(--ISNUMBER(SEARCH(Rechnung!H$2:H$31, A364)))>0,\"X\",\"\")","v":"X"},"MRS 08368 The Sex Lives of College Girls Pre-Frosh Weekend (08.12.2022) - Reneé Rapp (10.01.2000) 22-333",0,"ja"]
["MRS 08368 The Sex Lives of College Girls The Essex College Food Workers Strike (08.12.2022) - Reneé Rapp (10.01.2000) 22-333 744.mp4",{"$f":"IF(SUMPRODUCT(--ISNUMBER(SEARCH(Rechnung!H$2:H$31, A365)))>0,\"X\",\"\")","v":"X"},"MRS 08368 The Sex Lives of College Girls The Essex College Food Workers Strike (08.12.2022) - Reneé Rapp (10.01.2000) 22-333",0,"ja"]
["MRS 08372 Euphoria And Salt the Earth Behind You (04.08.2019) - Zendaya (01.09.1996) 22-337 808.mp4",{"$f":"IF(SUMPRODUCT(--ISNUMBER(SEARCH(Rechnung!H$2:H$31, A366)))>0,\"X\",\"\")","v":"X"},"MRS 08372 Euphoria And Salt the Earth Behind You (04.08.2019) - Zendaya (01.09.1996) 22-337",1,"nein"]
["MRS 08374 Havoc (16.10.2005) - Anne Hathaway (12.11.1982) 22-338 1070.mp4",{"$f":"IF(SUMPRODUCT(--ISNUMBER(SEARCH(Rechnung!H$2:H$31, A367)))>0,\"X\",\"\")","v":""},"MRS 08374 Havoc (16.10.2005) - Anne Hathaway (12.11.1982) 22-338",0,"nein"]
["MRS 08374 Havoc (16.10.2005) - Anne Hathaway (12.11.1982) 22-338 1071.mp4",{"$f":"IF(SUMPRODUCT(--ISNUMBER(SEARCH(Rechnung!H$2:H$31, A368)))>0,\"X\",\"\")","v":""},"MRS 08374 Havoc (16.10.2005) - Anne Hathaway (12.11.1982) 22-338",0,"nein"]
["MRS 08374 Havoc (16.10.2005) - Anne Hathaway (12.11.1982) 22-338 1072.mp4",{"$f":"IF(SUMPRODUCT(--ISNUMBER(SEARCH(Rechnung!H$2:H$31, A369)))>0,\"X\",\"\")","v":""},"MRS 08374 Havoc (16.10.2005) - Anne Hathaway (12.11.1982) 22-338",0,"nein"]
["MRS 08374 Havoc (16.10.2005) - Anne Hathaway (12.11.1982) 22-338 1073.mp4",{"$f":"IF(SUMPRODUCT(--ISNUMBER(SEARCH(Rechnung!H$2:H$31, A370)))>0,\"X\",\"\")","v":""},"MRS 08374 Havoc (16.10.2005) - Anne Hathaway (12.11.1982) 22-338",0,"nein"]
["MRS 08374 Havoc (16.10.2005) - Anne Hathaway (12.11.1982) 22-338 1074.mp4",{"$f":"IF(SUMPRODUCT(--ISNUMBER(SEARCH(Rechnung!H$2:H$31, A371)))>0,\"X\",\"\")","v":""},"MRS 08374 Havoc (16.10.2005) - Anne Hathaway (12.11.1982) 22-338",0,"nein"]
["MRS 08375 Eight Days a Week (26.02.1999) - Keri Russell (23.03.1976) 22-340 699.mp4",{"$f":"IF(SUMPRODUCT(--ISNUMBER(SEARCH(Rechnung!H$2:H$31, A372)))>0,\"X\",\"\")","v":""},"MRS 08375 Eight Days a Week (26.02.1999) - Keri Russell (23.03.1976) 22-340",0,"nein"]
["MRS 08375 Eight Days a Week (26.02.1999) - Keri Russell (23.03.1976) 22-340 700.mp4",{"$f":"IF(SUMPRODUCT(--ISNUMBER(SEARCH(Rechnung!H$2:H$31, A373)))>0,\"X\",\"\")","v":""},"MRS 08375 Eight Days a Week (26.02.1999) - Keri Russell (23.03.1976) 22-340",0,"nein"]
["MRS 08378 Novitiate (30.09.2017) - Margaret Qualley (23.10.1994) 22-342 1881.mp4",{"$f":"IF(SUMPRODUCT(--ISNUMBER(SEARCH(Rechnung!H$2:H$31, A374)))>0,\"X\",\"\")","v":""},"MRS 08378 Novitiate (30.09.2017) - Margaret Qualley (23.10.1994) 22-342",1,"nein"]
["MRS 08378 Novitiate (30.09.2017) - Margaret Qualley (23.10.1994) 22-342 1882.mp4",{"$f":"IF(SUMPRODUCT(--ISNUMBER(SEARCH(Rechnung!H$2:H$31, A375)))>0,\"X\",\"\")","v":""},"MRS 08378 Novitiate (30.09.2017) - Margaret Qualley (23.10.1994) 22-342",1,"nein"]
["MRS 08378 Novitiate (30.09.2017) - Margaret Qualley (23.10.1994) 22-342 1883.mp4",{"$f":"IF(SUMPRODUCT(--ISNUMBER(SEARCH(Rechnung!H$2:H$31, A376)))>0,\"X\",\"\")","v":""},"MRS 08378 Novitiate (30.09.2017) - Margaret Qualley (23.10.1994) 22-342",1,"nein"]
["MRS 08379 Killer Joe (29.06.2012) - Juno Temple (21.07.1989) 22-343 1365.mp4",{"$f":"IF(SUMPRODUCT(--ISNUMBER(SEARCH(Rechnung!H$2:H$31, A377)))>0,\"X\",\"\")","v":""},"MRS 08379 Killer Joe (29.06.2012) - Juno Temple (21.07.1989) 22-343",0,"nein"]
["MRS 08379 Killer Joe (29.06.2012) - Juno Temple (21.07.1989) 22-343 1366.mp4",{"$f":"IF(SUMPRODUCT(--ISNUMBER(SEARCH(Rechnung!H$2:H$31, A378)))>0,\"X\",\"\")","v":""},"MRS 08379 Killer Joe (29.06.2012) - Juno Temple (21.07.1989) 22-343",0,"nein"]
["MRS 08379 Killer Joe (29.06.2012) - Juno Temple (21.07.1989) 22-343 1367.mp4",{"$f":"IF(SUMPRODUCT(--ISNUMBER(SEARCH(Rechnung!H$2:H$31, A379)))>0,\"X\",\"\")","v":""},"MRS 08379 Killer Joe (29.06.2012) - Juno Temple (21.07.1989) 22-343",0,"nein"]
["MRS 08380 Getting It Right (05.05.1989) - Helena Bonham Carter (26.05.1966) 22-344 992.mp4",{"$f":"IF(SUMPRODUCT(--ISNUMBER(SEARCH(Rechnung!H$2:H$31, A380)))>0,\"X\",\"\")","v":""},"MRS 08380 Getting It Right (05.05.1989) - Helena Bonham Carter (26.05.1966) 22-344",0,"nein"]
["MRS 08395 Des poupées et des anges (25.06.2008) - Léa Seydoux (01.07.1985) 22-359 603.mp4",{"$f":"IF(SUMPRODUCT(--ISNUMBER(SEARCH(Rechnung!H$2:H$31, A381)))>0,\"X\",\"\")","v":""},"MRS 08395 Des poupées et des anges (25.06.2008) - Léa Seydoux (01.07.1985) 22-359",0,"nein"]
["MRS 08407 Rome The Stolen Eagle (15.01.2006) - Kerry Condon (09.01.1983) 23-6 2209.mp4",{"$f":"IF(SUMPRODUCT(--ISNUMBER(SEARCH(Rechnung!H$2:H$31, A382)))>0,\"X\",\"\")","v":""},"MRS 08407 Rome The Stolen Eagle (15.01.2006) - Kerry Condon (09.01.1983) 23-6",0,"nein"]
["MRS 08412 Alpha Dog (22.03.2007) - Olivia Wilde (10.03.1984) 23-12 128.mp4",{"$f":"IF(SUMPRODUCT(--ISNUMBER(SEARCH(Rechnung!H$2:H$31, A383)))>0,\"X\",\"\")","v":""},"MRS 08412 Alpha Dog (22.03.2007) - Olivia Wilde (10.03.1984) 23-12",0,"nein"]
["MRS 08412 Alpha Dog (22.03.2007) - Olivia Wilde (10.03.1984) 23-12 129.mp4",{"$f":"IF(SUMPRODUCT(--ISNUMBER(SEARCH(Rechnung!H$2:H$31, A384)))>0,\"X\",\"\")","v":""},"MRS 08412 Alpha Dog (22.03.2007) - Olivia Wilde (10.03.1984) 23-12",0,"nein"]
["MRS 08417 Euphoria Out of Touch (16.01.2022) - Hunter Schafer (31.12.1998) 23-16 820.mp4",{"$f":"IF(SUMPRODUCT(--ISNUMBER(SEARCH(Rechnung!H$2:H$31, A385)))>0,\"X\",\"\")","v":"X"},"MRS 08417 Euphoria Out of Touch (16.01.2022) - Hunter Schafer (31.12.1998) 23-16",1,"nein"]
["MRS 08417 Euphoria Out of Touch (16.01.2022) - Hunter Schafer (31.12.1998) 23-16 821.mp4",{"$f":"IF(SUMPRODUCT(--ISNUMBER(SEARCH(Rechnung!H$2:H$31, A386)))>0,\"X\",\"\")","v":"X"},"MRS 08417 Euphoria Out of Touch (16.01.2022) - Hunter Schafer (31.12.1998) 23-16",1,"nein"]
["MRS 08421 Rome An Owl in a Thornbush (29.01.2006) - Kerry Condon (09.01.1983) 23-20 2207.mp4",{"$f":"IF(SUMPRODUCT(--ISNUMBER(SEARCH(Rechnung!H$2:H$31, A387)))>0,\"X\",\"\")","v":""},{"$f":"LEFT(A387, LEN(A387) - LEN(MID(A387, FIND(\"~\", SUBSTITUTE(A387,\" \",\"~\", LEN(A387)-LEN(SUBSTITUTE(A387,\" \",\"\")))), LEN(A387))))","v":"MRS 08421 Rome An Owl in a Thornbush (29.01.2006) - Kerry Condon (09.01.1983) 23-20"},0,{"$f":"IF(AND(B387=\"X\",D387=0),\"ja\",\"nein\")","v":"nein"}]
["MRS 08424 Band of the Hand (20.11.1986) - Lauren Holly (28.10.1963) 23-23 227.mp4",{"$f":"IF(SUMPRODUCT(--ISNUMBER(SEARCH(Rechnung!H$2:H$31, A388)))>0,\"X\",\"\")","v":""},"MRS 08424 Band of the Hand (20.11.1986) - Lauren Holly (28.10.1963) 23-23",0,"nein"]
["MRS 08424 Euphoria Ruminations Big and Little Bullys (23.01.2022) - Hunter Schafer (31.12.1998) 23-23 818.mp4",{"$f":"IF(SUMPRODUCT(--ISNUMBER(SEARCH(Rechnung!H$2:H$31, A389)))>0,\"X\",\"\")","v":"X"},"MRS 08424 Euphoria Ruminations Big and Little Bullys (23.01.2022) - Hunter Schafer (31.12.1998) 23-23",1,"nein"]
["MRS 08431 Euphoria You Who Cannot See, Think of Those Who Can (30.01.2022) - Hunter Schafer (31.12.1998) 23-30 824.mp4",{"$f":"IF(SUMPRODUCT(--ISNUMBER(SEARCH(Rechnung!H$2:H$31, A390)))>0,\"X\",\"\")","v":"X"},"MRS 08431 Euphoria You Who Cannot See, Think of Those Who Can (30.01.2022) - Hunter Schafer (31.12.1998) 23-30",1,"nein"]
["MRS 08431 Euphoria You Who Cannot See, Think of Those Who Can (30.01.2022) - Hunter Schafer (31.12.1998) 23-30 825.mp4",{"$f":"IF(SUMPRODUCT(--ISNUMBER(SEARCH(Rechnung!H$2:H$31, A391)))>0,\"X\",\"\")","v":"X"},"MRS 08431 Euphoria You Who Cannot See, Think of Those Who Can (30.01.2022) - Hunter Schafer (31.12.1998) 23-30",1,"nein"]
["MRS 08436 He Got Game (21.01.1999) - Milla Jovovich (17.12.1975) 23-35 629.mp4",{"$f":"IF(SUMPRODUCT(--ISNUMBER(SEARCH(Rechnung!H$2:H$31, A392)))>0,\"X\",\"\")","v":""},"MRS 08436 He Got Game (21.01.1999) - Milla Jovovich (17.12.1975) 23-35",0,"nein"]
["MRS 08436 Lovers and Other Strangers (30.04.1971) - Bonnie Bedelia (25.03.1948) 23-36 1583.mp4",{"$f":"IF(SUMPRODUCT(--ISNUMBER(SEARCH(Rechnung!H$2:H$31, A393)))>0,\"X\",\"\")","v":""},"MRS 08436 Lovers and Other Strangers (30.04.1971) - Bonnie Bedelia (25.03.1948) 23-36",0,"nein"]
["MRS 08441 The Death and Life of Bobby Z (20.04.2007) - Olivia Wilde (10.03.1984) 23-41 291.mp4",{"$f":"IF(SUMPRODUCT(--ISNUMBER(SEARCH(Rechnung!H$2:H$31, A394)))>0,\"X\",\"\")","v":""},"MRS 08441 The Death and Life of Bobby Z (20.04.2007) - Olivia Wilde (10.03.1984) 23-41",0,"nein"]
["MRS 08456 Martha Marcy May Marlene (12.04.2012) - Elizabeth Olsen (16.02.1989) 23-55 1695.mp4",{"$f":"IF(SUMPRODUCT(--ISNUMBER(SEARCH(Rechnung!H$2:H$31, A395)))>0,\"X\",\"\")","v":""},"MRS 08456 Martha Marcy May Marlene (12.04.2012) - Elizabeth Olsen (16.02.1989) 23-55",0,"nein"]
["MRS 08456 Martha Marcy May Marlene (12.04.2012) - Elizabeth Olsen (16.02.1989) 23-55 1696.mp4",{"$f":"IF(SUMPRODUCT(--ISNUMBER(SEARCH(Rechnung!H$2:H$31, A396)))>0,\"X\",\"\")","v":""},"MRS 08456 Martha Marcy May Marlene (12.04.2012) - Elizabeth Olsen (16.02.1989) 23-55",0,"nein"]
["MRS 08456 Martha Marcy May Marlene (12.04.2012) - Elizabeth Olsen (16.02.1989) 23-55 1697.mp4",{"$f":"IF(SUMPRODUCT(--ISNUMBER(SEARCH(Rechnung!H$2:H$31, A397)))>0,\"X\",\"\")","v":""},"MRS 08456 Martha Marcy May Marlene (12.04.2012) - Elizabeth Olsen (16.02.1989) 23-55",0,"nein"]
["MRS 08456 Martha Marcy May Marlene (12.04.2012) - Elizabeth Olsen (16.02.1989) 23-55 1698.mp4",{"$f":"IF(SUMPRODUCT(--ISNUMBER(SEARCH(Rechnung!H$2:H$31, A398)))>0,\"X\",\"\")","v":""},"MRS 08456 Martha Marcy May Marlene (12.04.2012) - Elizabeth Olsen (16.02.1989) 23-55",0,"nein"]
["MRS 08456 Martha Marcy May Marlene (12.04.2012) - Elizabeth Olsen (16.02.1989) 23-55 1699.mp4",{"$f":"IF(SUMPRODUCT(--ISNUMBER(SEARCH(Rechnung!H$2:H$31, A399)))>0,\"X\",\"\")","v":""},"MRS 08456 Martha Marcy May Marlene (12.04.2012) - Elizabeth Olsen (16.02.1989) 23-55",0,"nein"]
["MRS 08456 Rome Caesarion (05.03.2006) - Kerry Condon (09.01.1983) 23-55 2208.mp4",{"$f":"IF(SUMPRODUCT(--ISNUMBER(SEARCH(Rechnung!H$2:H$31, A400)))>0,\"X\",\"\")","v":""},"MRS 08456 Rome Caesarion (05.03.2006) - Kerry Condon (09.01.1983) 23-55",0,"nein"]
["MRS 08463 Rome Utica (12.03.2006) - Kerry Condon (09.01.1983) 23-62 2210.mp4",{"$f":"IF(SUMPRODUCT(--ISNUMBER(SEARCH(Rechnung!H$2:H$31, A401)))>0,\"X\",\"\")","v":""},"MRS 08463 Rome Utica (12.03.2006) - Kerry Condon (09.01.1983) 23-62",0,"nein"]
["MRS 08473 Alfie (10.03.2005) - Sienna Miller (28.12.1981) 23-72 107.mp4",{"$f":"IF(SUMPRODUCT(--ISNUMBER(SEARCH(Rechnung!H$2:H$31, A402)))>0,\"X\",\"\")","v":""},"MRS 08473 Alfie (10.03.2005) - Sienna Miller (28.12.1981) 23-72",0,"nein"]
["MRS 08474 La belle personne (12.09.2008) - Léa Seydoux (01.07.1985) 23-73 2520.mp4",{"$f":"IF(SUMPRODUCT(--ISNUMBER(SEARCH(Rechnung!H$2:H$31, A403)))>0,\"X\",\"\")","v":""},"MRS 08474 La belle personne (12.09.2008) - Léa Seydoux (01.07.1985) 23-73",0,"nein"]
["MRS 08480 One Percent More Humid (21.04.2017) - Julia Garner (01.02.1994) 23-79 1949.mp4",{"$f":"IF(SUMPRODUCT(--ISNUMBER(SEARCH(Rechnung!H$2:H$31, A404)))>0,\"X\",\"\")","v":""},"MRS 08480 One Percent More Humid (21.04.2017) - Julia Garner (01.02.1994) 23-79",1,"nein"]
["MRS 08480 One Percent More Humid (21.04.2017) - Julia Garner (01.02.1994) 23-79 1950.mp4",{"$f":"IF(SUMPRODUCT(--ISNUMBER(SEARCH(Rechnung!H$2:H$31, A405)))>0,\"X\",\"\")","v":""},"MRS 08480 One Percent More Humid (21.04.2017) - Julia Garner (01.02.1994) 23-79",1,"nein"]
["MRS 08511 Gia (22.09.1998) - Angelina Jolie (04.06.1975) 23-110 1000.mp4",{"$f":"IF(SUMPRODUCT(--ISNUMBER(SEARCH(Rechnung!H$2:H$31, A406)))>0,\"X\",\"\")","v":""},"MRS 08511 Gia (22.09.1998) - Angelina Jolie (04.06.1975) 23-110",0,"nein"]
["MRS 08511 Gia (22.09.1998) - Angelina Jolie (04.06.1975) 23-110 1001.mp4",{"$f":"IF(SUMPRODUCT(--ISNUMBER(SEARCH(Rechnung!H$2:H$31, A407)))>0,\"X\",\"\")","v":""},"MRS 08511 Gia (22.09.1998) - Angelina Jolie (04.06.1975) 23-110",0,"nein"]
["MRS 08511 Gia (22.09.1998) - Angelina Jolie (04.06.1975) 23-110 1002.mp4",{"$f":"IF(SUMPRODUCT(--ISNUMBER(SEARCH(Rechnung!H$2:H$31, A408)))>0,\"X\",\"\")","v":""},"MRS 08511 Gia (22.09.1998) - Angelina Jolie (04.06.1975) 23-110",0,"nein"]
["MRS 08511 Gia (22.09.1998) - Angelina Jolie (04.06.1975) 23-110 1003.mp4",{"$f":"IF(SUMPRODUCT(--ISNUMBER(SEARCH(Rechnung!H$2:H$31, A409)))>0,\"X\",\"\")","v":""},"MRS 08511 Gia (22.09.1998) - Angelina Jolie (04.06.1975) 23-110",0,"nein"]
["MRS 08511 Gia (22.09.1998) - Angelina Jolie (04.06.1975) 23-110 1004.mp4",{"$f":"IF(SUMPRODUCT(--ISNUMBER(SEARCH(Rechnung!H$2:H$31, A410)))>0,\"X\",\"\")","v":""},"MRS 08511 Gia (22.09.1998) - Angelina Jolie (04.06.1975) 23-110",0,"nein"]
["MRS 08511 Gia (22.09.1998) - Angelina Jolie (04.06.1975) 23-110 1005.mp4",{"$f":"IF(SUMPRODUCT(--ISNUMBER(SEARCH(Rechnung!H$2:H$31, A411)))>0,\"X\",\"\")","v":""},"MRS 08511 Gia (22.09.1998) - Angelina Jolie (04.06.1975) 23-110",0,"nein"]
["MRS 08511 Gia (22.09.1998) - Angelina Jolie (04.06.1975) 23-110 1006.mp4",{"$f":"IF(SUMPRODUCT(--ISNUMBER(SEARCH(Rechnung!H$2:H$31, A412)))>0,\"X\",\"\")","v":""},"MRS 08511 Gia (22.09.1998) - Angelina Jolie (04.06.1975) 23-110",0,"nein"]
["MRS 08511 Gia (22.09.1998) - Angelina Jolie (04.06.1975) 23-110 1007.mp4",{"$f":"IF(SUMPRODUCT(--ISNUMBER(SEARCH(Rechnung!H$2:H$31, A413)))>0,\"X\",\"\")","v":""},"MRS 08511 Gia (22.09.1998) - Angelina Jolie (04.06.1975) 23-110",0,"nein"]
["MRS 08511 Gia (22.09.1998) - Angelina Jolie (04.06.1975) 23-110 1008.mp4",{"$f":"IF(SUMPRODUCT(--ISNUMBER(SEARCH(Rechnung!H$2:H$31, A414)))>0,\"X\",\"\")","v":""},"MRS 08511 Gia (22.09.1998) - Angelina Jolie (04.06.1975) 23-110",0,"nein"]
["MRS 08511 Gia (22.09.1998) - Angelina Jolie (04.06.1975) 23-110 998.mp4",{"$f":"IF(SUMPRODUCT(--ISNUMBER(SEARCH(Rechnung!H$2:H$31, A415)))>0,\"X\",\"\")","v":""},"MRS 08511 Gia (22.09.1998) - Angelina Jolie (04.06.1975) 23-110",0,"nein"]
["MRS 08511 Gia (22.09.1998) - Angelina Jolie (04.06.1975) 23-110 999.mp4",{"$f":"IF(SUMPRODUCT(--ISNUMBER(SEARCH(Rechnung!H$2:H$31, A416)))>0,\"X\",\"\")","v":""},"MRS 08511 Gia (22.09.1998) - Angelina Jolie (04.06.1975) 23-110",0,"nein"]
["MRS 08518 Brokeback Mountain (09.03.2006) - Anne Hathaway (12.11.1982) 23-117 348.mp4",{"$f":"IF(SUMPRODUCT(--ISNUMBER(SEARCH(Rechnung!H$2:H$31, A417)))>0,\"X\",\"\")","v":""},"MRS 08518 Brokeback Mountain (09.03.2006) - Anne Hathaway (12.11.1982) 23-117",0,"nein"]
["MRS 08518 Brokeback Mountain (09.03.2006) - Anne Hathaway (12.11.1982) 23-117 349.mp4",{"$f":"IF(SUMPRODUCT(--ISNUMBER(SEARCH(Rechnung!H$2:H$31, A418)))>0,\"X\",\"\")","v":""},"MRS 08518 Brokeback Mountain (09.03.2006) - Anne Hathaway (12.11.1982) 23-117",0,"nein"]
["MRS 08522 A Cure for Wellness (23.02.2017) - Mia Goth (25.10.1993) 23-121 26.mp4",{"$f":"IF(SUMPRODUCT(--ISNUMBER(SEARCH(Rechnung!H$2:H$31, A419)))>0,\"X\",\"\")","v":""},"MRS 08522 A Cure for Wellness (23.02.2017) - Mia Goth (25.10.1993) 23-121",0,"nein"]
["MRS 08522 A Cure for Wellness (23.02.2017) - Mia Goth (25.10.1993) 23-121 27.mp4",{"$f":"IF(SUMPRODUCT(--ISNUMBER(SEARCH(Rechnung!H$2:H$31, A420)))>0,\"X\",\"\")","v":""},"MRS 08522 A Cure for Wellness (23.02.2017) - Mia Goth (25.10.1993) 23-121",0,"nein"]
["MRS 08523 Labyrinth Episode #1.1 (14.01.2013) - Jessica Brown Findlay (14.09.1989) 23-122 464.mp4",{"$f":"IF(SUMPRODUCT(--ISNUMBER(SEARCH(Rechnung!H$2:H$31, A421)))>0,\"X\",\"\")","v":""},"MRS 08523 Labyrinth Episode #1.1 (14.01.2013) - Jessica Brown Findlay (14.09.1989) 23-122",0,"nein"]
["MRS 08523 The Bling Ring (15.08.2013) - Emma Watson (15.04.1990) 23-122 2527.mp4",{"$f":"IF(SUMPRODUCT(--ISNUMBER(SEARCH(Rechnung!H$2:H$31, A422)))>0,\"X\",\"\")","v":""},"MRS 08523 The Bling Ring (15.08.2013) - Emma Watson (15.04.1990) 23-122",0,"nein"]
["MRS 08523 The Bling Ring (15.08.2013) - Emma Watson (15.04.1990) 23-122 2528.mp4",{"$f":"IF(SUMPRODUCT(--ISNUMBER(SEARCH(Rechnung!H$2:H$31, A423)))>0,\"X\",\"\")","v":""},"MRS 08523 The Bling Ring (15.08.2013) - Emma Watson (15.04.1990) 23-122",0,"nein"]
["MRS 08525 Narcos The Sword of Simón Bolivar (28.08.2015) - Adria Arjona (25.04.1992) 23-125 1828.mp4",{"$f":"IF(SUMPRODUCT(--ISNUMBER(SEARCH(Rechnung!H$2:H$31, A424)))>0,\"X\",\"\")","v":""},"MRS 08525 Narcos The Sword of Simón Bolivar (28.08.2015) - Adria Arjona (25.04.1992) 23-125",0,"nein"]
["MRS 08527 Flower (16.03.2018) - Zoey Deutch (10.11.1994) 23-126 873.mp4",{"$f":"IF(SUMPRODUCT(--ISNUMBER(SEARCH(Rechnung!H$2:H$31, A425)))>0,\"X\",\"\")","v":"X"},"MRS 08527 Flower (16.03.2018) - Zoey Deutch (10.11.1994) 23-126",1,"nein"]
["MRS 08532 Wildflower (21.03.2023) - Kiernan Shipka (10.11.1999) 23-132 3355.mp4",{"$f":"IF(SUMPRODUCT(--ISNUMBER(SEARCH(Rechnung!H$2:H$31, A426)))>0,\"X\",\"\")","v":"X"},"MRS 08532 Wildflower (21.03.2023) - Kiernan Shipka (10.11.1999) 23-132",1,"nein"]
["MRS 08560 Lindsay's Private Party (08.12.2009) - Lindsay Lohan (02.07.1986) 23-159 1514.mp4",{"$f":"IF(SUMPRODUCT(--ISNUMBER(SEARCH(Rechnung!H$2:H$31, A427)))>0,\"X\",\"\")","v":""},"MRS 08560 Lindsay's Private Party (08.12.2009) - Lindsay Lohan (02.07.1986) 23-159",0,"nein"]
["MRS 08561 Kaboom (16.06.2011) - Haley Bennett (07.01.1988) 23-161 1315.mp4",{"$f":"IF(SUMPRODUCT(--ISNUMBER(SEARCH(Rechnung!H$2:H$31, A428)))>0,\"X\",\"\")","v":""},"MRS 08561 Kaboom (16.06.2011) - Haley Bennett (07.01.1988) 23-161",0,"nein"]
["MRS 08561 Kaboom (16.06.2011) - Haley Bennett (07.01.1988) 23-161 1316.mp4",{"$f":"IF(SUMPRODUCT(--ISNUMBER(SEARCH(Rechnung!H$2:H$31, A429)))>0,\"X\",\"\")","v":""},"MRS 08561 Kaboom (16.06.2011) - Haley Bennett (07.01.1988) 23-161",0,"nein"]
["MRS 08561 Kaboom (16.06.2011) - Haley Bennett (07.01.1988) 23-161 1317.mp4",{"$f":"IF(SUMPRODUCT(--ISNUMBER(SEARCH(Rechnung!H$2:H$31, A430)))>0,\"X\",\"\")","v":""},"MRS 08561 Kaboom (16.06.2011) - Haley Bennett (07.01.1988) 23-161",0,"nein"]
["MRS 08571 Any Human Heart Episode #1.1 (14.09.2011) - Holliday Grainger (27.03.1988) 23-171 208.mp4",{"$f":"IF(SUMPRODUCT(--ISNUMBER(SEARCH(Rechnung!H$2:H$31, A431)))>0,\"X\",\"\")","v":""},"MRS 08571 Any Human Heart Episode #1.1 (14.09.2011) - Holliday Grainger (27.03.1988) 23-171",0,"nein"]
["MRS 08574 Jennifer's Body (05.11.2009) - Megan Fox (16.05.1986) 23-173 1295.mp4",{"$f":"IF(SUMPRODUCT(--ISNUMBER(SEARCH(Rechnung!H$2:H$31, A432)))>0,\"X\",\"\")","v":""},"MRS 08574 Jennifer's Body (05.11.2009) - Megan Fox (16.05.1986) 23-173",0,"nein"]
["MRS 08583 American Hustle (13.02.2014) - Jennifer Lawrence (15.08.1990) 23-182 138.mp4",{"$f":"IF(SUMPRODUCT(--ISNUMBER(SEARCH(Rechnung!H$2:H$31, A433)))>0,\"X\",\"\")","v":""},"MRS 08583 American Hustle (13.02.2014) - Jennifer Lawrence (15.08.1990) 23-182",0,"nein"]
["MRS 08583 American Hustle (13.02.2014) - Jennifer Lawrence (15.08.1990) 23-182 139.mp4",{"$f":"IF(SUMPRODUCT(--ISNUMBER(SEARCH(Rechnung!H$2:H$31, A434)))>0,\"X\",\"\")","v":""},"MRS 08583 American Hustle (13.02.2014) - Jennifer Lawrence (15.08.1990) 23-182",0,"nein"]
["MRS 08585 Braveheart (05.10.1995) - Catherine McCormack (03.04.1972) 23-185 304.mp4",{"$f":"IF(SUMPRODUCT(--ISNUMBER(SEARCH(Rechnung!H$2:H$31, A435)))>0,\"X\",\"\")","v":""},"MRS 08585 Braveheart (05.10.1995) - Catherine McCormack (03.04.1972) 23-185",0,"nein"]
["MRS 08590 Lilian's Story (09.05.1996) - Toni Collette (01.11.1972) 23-189 1499.mp4",{"$f":"IF(SUMPRODUCT(--ISNUMBER(SEARCH(Rechnung!H$2:H$31, A436)))>0,\"X\",\"\")","v":""},"MRS 08590 Lilian's Story (09.05.1996) - Toni Collette (01.11.1972) 23-189",0,"nein"]
["MRS 08590 Lilian's Story (09.05.1996) - Toni Collette (01.11.1972) 23-189 1500.mp4",{"$f":"IF(SUMPRODUCT(--ISNUMBER(SEARCH(Rechnung!H$2:H$31, A437)))>0,\"X\",\"\")","v":""},"MRS 08590 Lilian's Story (09.05.1996) - Toni Collette (01.11.1972) 23-189",0,"nein"]
["MRS 08590 Lilian's Story (09.05.1996) - Toni Collette (01.11.1972) 23-189 1501.mp4",{"$f":"IF(SUMPRODUCT(--ISNUMBER(SEARCH(Rechnung!H$2:H$31, A438)))>0,\"X\",\"\")","v":""},"MRS 08590 Lilian's Story (09.05.1996) - Toni Collette (01.11.1972) 23-189",0,"nein"]
["MRS 08590 Lilian's Story (09.05.1996) - Toni Collette (01.11.1972) 23-189 1502.mp4",{"$f":"IF(SUMPRODUCT(--ISNUMBER(SEARCH(Rechnung!H$2:H$31, A439)))>0,\"X\",\"\")","v":""},"MRS 08590 Lilian's Story (09.05.1996) - Toni Collette (01.11.1972) 23-189",0,"nein"]
["MRS 08590 Lilian's Story (09.05.1996) - Toni Collette (01.11.1972) 23-189 1503.mp4",{"$f":"IF(SUMPRODUCT(--ISNUMBER(SEARCH(Rechnung!H$2:H$31, A440)))>0,\"X\",\"\")","v":""},"MRS 08590 Lilian's Story (09.05.1996) - Toni Collette (01.11.1972) 23-189",0,"nein"]
["MRS 08593 Hideous Kinky (15.04.1999) - Kate Winslet (05.10.1975) 23-193 1116.mp4",{"$f":"IF(SUMPRODUCT(--ISNUMBER(SEARCH(Rechnung!H$2:H$31, A441)))>0,\"X\",\"\")","v":""},"MRS 08593 Hideous Kinky (15.04.1999) - Kate Winslet (05.10.1975) 23-193",0,"nein"]
["MRS 08593 Twenty8k (10.09.2012) - Nathalie Emmanuel (02.03.1989) 23-192 3201.mp4",{"$f":"IF(SUMPRODUCT(--ISNUMBER(SEARCH(Rechnung!H$2:H$31, A442)))>0,\"X\",\"\")","v":""},"MRS 08593 Twenty8k (10.09.2012) - Nathalie Emmanuel (02.03.1989) 23-192",0,"nein"]
["MRS 08595 Paprika (14.11.1991) - Debora Caprioglio (03.05.1968) 23-195 100.mp4",{"$f":"IF(SUMPRODUCT(--ISNUMBER(SEARCH(Rechnung!H$2:H$31, A443)))>0,\"X\",\"\")","v":""},"MRS 08595 Paprika (14.11.1991) - Debora Caprioglio (03.05.1968) 23-195",0,"nein"]
["MRS 08595 Paprika (14.11.1991) - Debora Caprioglio (03.05.1968) 23-195 101.mp4",{"$f":"IF(SUMPRODUCT(--ISNUMBER(SEARCH(Rechnung!H$2:H$31, A444)))>0,\"X\",\"\")","v":""},"MRS 08595 Paprika (14.11.1991) - Debora Caprioglio (03.05.1968) 23-195",0,"nein"]
["MRS 08595 Paprika (14.11.1991) - Debora Caprioglio (03.05.1968) 23-195 102.mp4",{"$f":"IF(SUMPRODUCT(--ISNUMBER(SEARCH(Rechnung!H$2:H$31, A445)))>0,\"X\",\"\")","v":""},"MRS 08595 Paprika (14.11.1991) - Debora Caprioglio (03.05.1968) 23-195",0,"nein"]
["MRS 08595 Paprika (14.11.1991) - Debora Caprioglio (03.05.1968) 23-195 103.mp4",{"$f":"IF(SUMPRODUCT(--ISNUMBER(SEARCH(Rechnung!H$2:H$31, A446)))>0,\"X\",\"\")","v":""},"MRS 08595 Paprika (14.11.1991) - Debora Caprioglio (03.05.1968) 23-195",0,"nein"]
["MRS 08595 Paprika (14.11.1991) - Debora Caprioglio (03.05.1968) 23-195 104.mp4",{"$f":"IF(SUMPRODUCT(--ISNUMBER(SEARCH(Rechnung!H$2:H$31, A447)))>0,\"X\",\"\")","v":""},"MRS 08595 Paprika (14.11.1991) - Debora Caprioglio (03.05.1968) 23-195",0,"nein"]
["MRS 08595 Paprika (14.11.1991) - Debora Caprioglio (03.05.1968) 23-195 105.mp4",{"$f":"IF(SUMPRODUCT(--ISNUMBER(SEARCH(Rechnung!H$2:H$31, A448)))>0,\"X\",\"\")","v":""},"MRS 08595 Paprika (14.11.1991) - Debora Caprioglio (03.05.1968) 23-195",0,"nein"]
["MRS 08595 Paprika (14.11.1991) - Debora Caprioglio (03.05.1968) 23-195 106.mp4",{"$f":"IF(SUMPRODUCT(--ISNUMBER(SEARCH(Rechnung!H$2:H$31, A449)))>0,\"X\",\"\")","v":""},"MRS 08595 Paprika (14.11.1991) - Debora Caprioglio (03.05.1968) 23-195",0,"nein"]
["MRS 08595 Paprika (14.11.1991) - Debora Caprioglio (03.05.1968) 23-195 107.mp4",{"$f":"IF(SUMPRODUCT(--ISNUMBER(SEARCH(Rechnung!H$2:H$31, A450)))>0,\"X\",\"\")","v":""},"MRS 08595 Paprika (14.11.1991) - Debora Caprioglio (03.05.1968) 23-195",0,"nein"]
["MRS 08595 Paprika (14.11.1991) - Debora Caprioglio (03.05.1968) 23-195 108.mp4",{"$f":"IF(SUMPRODUCT(--ISNUMBER(SEARCH(Rechnung!H$2:H$31, A451)))>0,\"X\",\"\")","v":""},{"$f":"LEFT(A451, LEN(A451) - LEN(MID(A451, FIND(\"~\", SUBSTITUTE(A451,\" \",\"~\", LEN(A451)-LEN(SUBSTITUTE(A451,\" \",\"\")))), LEN(A451))))","v":"MRS 08595 Paprika (14.11.1991) - Debora Caprioglio (03.05.1968) 23-195"},0,{"$f":"IF(AND(B451=\"X\",D451=0),\"ja\",\"nein\")","v":"nein"}]
["MRS 08595 Paprika (14.11.1991) - Debora Caprioglio (03.05.1968) 23-195 109.mp4",{"$f":"IF(SUMPRODUCT(--ISNUMBER(SEARCH(Rechnung!H$2:H$31, A452)))>0,\"X\",\"\")","v":""},"MRS 08595 Paprika (14.11.1991) - Debora Caprioglio (03.05.1968) 23-195",0,"nein"]
["MRS 08595 Paprika (14.11.1991) - Debora Caprioglio (03.05.1968) 23-195 110.mp4",{"$f":"IF(SUMPRODUCT(--ISNUMBER(SEARCH(Rechnung!H$2:H$31, A453)))>0,\"X\",\"\")","v":""},"MRS 08595 Paprika (14.11.1991) - Debora Caprioglio (03.05.1968) 23-195",0,"nein"]
["MRS 08595 Paprika (14.11.1991) - Debora Caprioglio (03.05.1968) 23-195 111.mp4",{"$f":"IF(SUMPRODUCT(--ISNUMBER(SEARCH(Rechnung!H$2:H$31, A454)))>0,\"X\",\"\")","v":""},"MRS 08595 Paprika (14.11.1991) - Debora Caprioglio (03.05.1968) 23-195",0,"nein"]
["MRS 08595 Paprika (14.11.1991) - Debora Caprioglio (03.05.1968) 23-195 112.mp4",{"$f":"IF(SUMPRODUCT(--ISNUMBER(SEARCH(Rechnung!H$2:H$31, A455)))>0,\"X\",\"\")","v":""},"MRS 08595 Paprika (14.11.1991) - Debora Caprioglio (03.05.1968) 23-195",0,"nein"]
["MRS 08595 Paprika (14.11.1991) - Debora Caprioglio (03.05.1968) 23-195 113.mp4",{"$f":"IF(SUMPRODUCT(--ISNUMBER(SEARCH(Rechnung!H$2:H$31, A456)))>0,\"X\",\"\")","v":""},"MRS 08595 Paprika (14.11.1991) - Debora Caprioglio (03.05.1968) 23-195",0,"nein"]
["MRS 08595 Paprika (14.11.1991) - Debora Caprioglio (03.05.1968) 23-195 114.mp4",{"$f":"IF(SUMPRODUCT(--ISNUMBER(SEARCH(Rechnung!H$2:H$31, A457)))>0,\"X\",\"\")","v":""},"MRS 08595 Paprika (14.11.1991) - Debora Caprioglio (03.05.1968) 23-195",0,"nein"]
["MRS 08595 Paprika (14.11.1991) - Debora Caprioglio (03.05.1968) 23-195 115.mp4",{"$f":"IF(SUMPRODUCT(--ISNUMBER(SEARCH(Rechnung!H$2:H$31, A458)))>0,\"X\",\"\")","v":""},"MRS 08595 Paprika (14.11.1991) - Debora Caprioglio (03.05.1968) 23-195",0,"nein"]
["MRS 08595 Paprika (14.11.1991) - Debora Caprioglio (03.05.1968) 23-195 116.mp4",{"$f":"IF(SUMPRODUCT(--ISNUMBER(SEARCH(Rechnung!H$2:H$31, A459)))>0,\"X\",\"\")","v":""},"MRS 08595 Paprika (14.11.1991) - Debora Caprioglio (03.05.1968) 23-195",0,"nein"]
["MRS 08595 Paprika (14.11.1991) - Debora Caprioglio (03.05.1968) 23-195 117.mp4",{"$f":"IF(SUMPRODUCT(--ISNUMBER(SEARCH(Rechnung!H$2:H$31, A460)))>0,\"X\",\"\")","v":""},"MRS 08595 Paprika (14.11.1991) - Debora Caprioglio (03.05.1968) 23-195",0,"nein"]
["MRS 08595 Paprika (14.11.1991) - Debora Caprioglio (03.05.1968) 23-195 95.mp4",{"$f":"IF(SUMPRODUCT(--ISNUMBER(SEARCH(Rechnung!H$2:H$31, A461)))>0,\"X\",\"\")","v":""},"MRS 08595 Paprika (14.11.1991) - Debora Caprioglio (03.05.1968) 23-195",0,"nein"]
["MRS 08595 Paprika (14.11.1991) - Debora Caprioglio (03.05.1968) 23-195 96.mp4",{"$f":"IF(SUMPRODUCT(--ISNUMBER(SEARCH(Rechnung!H$2:H$31, A462)))>0,\"X\",\"\")","v":""},"MRS 08595 Paprika (14.11.1991) - Debora Caprioglio (03.05.1968) 23-195",0,"nein"]
["MRS 08595 Paprika (14.11.1991) - Debora Caprioglio (03.05.1968) 23-195 97.mp4",{"$f":"IF(SUMPRODUCT(--ISNUMBER(SEARCH(Rechnung!H$2:H$31, A463)))>0,\"X\",\"\")","v":""},"MRS 08595 Paprika (14.11.1991) - Debora Caprioglio (03.05.1968) 23-195",0,"nein"]
["MRS 08595 Paprika (14.11.1991) - Debora Caprioglio (03.05.1968) 23-195 98.mp4",{"$f":"IF(SUMPRODUCT(--ISNUMBER(SEARCH(Rechnung!H$2:H$31, A464)))>0,\"X\",\"\")","v":""},"MRS 08595 Paprika (14.11.1991) - Debora Caprioglio (03.05.1968) 23-195",0,"nein"]
["MRS 08595 Paprika (14.11.1991) - Debora Caprioglio (03.05.1968) 23-195 99.mp4",{"$f":"IF(SUMPRODUCT(--ISNUMBER(SEARCH(Rechnung!H$2:H$31, A465)))>0,\"X\",\"\")","v":""},"MRS 08595 Paprika (14.11.1991) - Debora Caprioglio (03.05.1968) 23-195",0,"nein"]
["MRS 08596 Giving It Up (11.09.1999) - Ali Larter (28.02.1976) 23-196 1031.mp4",{"$f":"IF(SUMPRODUCT(--ISNUMBER(SEARCH(Rechnung!H$2:H$31, A466)))>0,\"X\",\"\")","v":""},"MRS 08596 Giving It Up (11.09.1999) - Ali Larter (28.02.1976) 23-196",0,"nein"]
["MRS 08599 En kongelig affære (19.04.2012) - Alicia Vikander (03.10.1988) 23-198 52.mp4",{"$f":"IF(SUMPRODUCT(--ISNUMBER(SEARCH(Rechnung!H$2:H$31, A467)))>0,\"X\",\"\")","v":""},"MRS 08599 En kongelig affære (19.04.2012) - Alicia Vikander (03.10.1988) 23-198",0,"nein"]
["MRS 08599 En kongelig affære (19.04.2012) - Alicia Vikander (03.10.1988) 23-198 53.mp4",{"$f":"IF(SUMPRODUCT(--ISNUMBER(SEARCH(Rechnung!H$2:H$31, A468)))>0,\"X\",\"\")","v":""},"MRS 08599 En kongelig affære (19.04.2012) - Alicia Vikander (03.10.1988) 23-198",0,"nein"]
["MRS 08599 The Wolf of Wall Street (16.01.2014) - Margot Robbie (02.07.1990) 23-198 3131.mp4",{"$f":"IF(SUMPRODUCT(--ISNUMBER(SEARCH(Rechnung!H$2:H$31, A469)))>0,\"X\",\"\")","v":""},"MRS 08599 The Wolf of Wall Street (16.01.2014) - Margot Robbie (02.07.1990) 23-198",0,"nein"]
["MRS 08599 The Wolf of Wall Street (16.01.2014) - Margot Robbie (02.07.1990) 23-198 3132.mp4",{"$f":"IF(SUMPRODUCT(--ISNUMBER(SEARCH(Rechnung!H$2:H$31, A470)))>0,\"X\",\"\")","v":""},"MRS 08599 The Wolf of Wall Street (16.01.2014) - Margot Robbie (02.07.1990) 23-198",0,"nein"]
["MRS 08599 The Wolf of Wall Street (16.01.2014) - Margot Robbie (02.07.1990) 23-198 3133.mp4",{"$f":"IF(SUMPRODUCT(--ISNUMBER(SEARCH(Rechnung!H$2:H$31, A471)))>0,\"X\",\"\")","v":""},"MRS 08599 The Wolf of Wall Street (16.01.2014) - Margot Robbie (02.07.1990) 23-198",0,"nein"]
["MRS 08599 The Wolf of Wall Street (16.01.2014) - Margot Robbie (02.07.1990) 23-198 3134.mp4",{"$f":"IF(SUMPRODUCT(--ISNUMBER(SEARCH(Rechnung!H$2:H$31, A472)))>0,\"X\",\"\")","v":""},"MRS 08599 The Wolf of Wall Street (16.01.2014) - Margot Robbie (02.07.1990) 23-198",0,"nein"]
["MRS 08599 The Wolf of Wall Street (16.01.2014) - Margot Robbie (02.07.1990) 23-198 3135.mp4",{"$f":"IF(SUMPRODUCT(--ISNUMBER(SEARCH(Rechnung!H$2:H$31, A473)))>0,\"X\",\"\")","v":""},"MRS 08599 The Wolf of Wall Street (16.01.2014) - Margot Robbie (02.07.1990) 23-198",0,"nein"]
["MRS 08599 The Wolf of Wall Street (16.01.2014) - Margot Robbie (02.07.1990) 23-198 3136.mp4",{"$f":"IF(SUMPRODUCT(--ISNUMBER(SEARCH(Rechnung!H$2:H$31, A474)))>0,\"X\",\"\")","v":""},"MRS 08599 The Wolf of Wall Street (16.01.2014) - Margot Robbie (02.07.1990) 23-198",0,"nein"]
["MRS 08600 The Dreamers (22.01.2004) - Eva Green (06.07.1980) 23-200 2664.mp4",{"$f":"IF(SUMPRODUCT(--ISNUMBER(SEARCH(Rechnung!H$2:H$31, A475)))>0,\"X\",\"\")","v":""},"MRS 08600 The Dreamers (22.01.2004) - Eva Green (06.07.1980) 23-200",0,"nein"]
["MRS 08600 The Dreamers (22.01.2004) - Eva Green (06.07.1980) 23-200 2665.mp4",{"$f":"IF(SUMPRODUCT(--ISNUMBER(SEARCH(Rechnung!H$2:H$31, A476)))>0,\"X\",\"\")","v":""},"MRS 08600 The Dreamers (22.01.2004) - Eva Green (06.07.1980) 23-200",0,"nein"]
["MRS 08600 The Dreamers (22.01.2004) - Eva Green (06.07.1980) 23-200 2666.mp4",{"$f":"IF(SUMPRODUCT(--ISNUMBER(SEARCH(Rechnung!H$2:H$31, A477)))>0,\"X\",\"\")","v":""},"MRS 08600 The Dreamers (22.01.2004) - Eva Green (06.07.1980) 23-200",0,"nein"]
["MRS 08600 The Dreamers (22.01.2004) - Eva Green (06.07.1980) 23-200 2667.mp4",{"$f":"IF(SUMPRODUCT(--ISNUMBER(SEARCH(Rechnung!H$2:H$31, A478)))>0,\"X\",\"\")","v":""},"MRS 08600 The Dreamers (22.01.2004) - Eva Green (06.07.1980) 23-200",0,"nein"]
["MRS 08600 The Dreamers (22.01.2004) - Eva Green (06.07.1980) 23-200 2668.mp4",{"$f":"IF(SUMPRODUCT(--ISNUMBER(SEARCH(Rechnung!H$2:H$31, A479)))>0,\"X\",\"\")","v":""},"MRS 08600 The Dreamers (22.01.2004) - Eva Green (06.07.1980) 23-200",0,"nein"]
["MRS 08600 The Dreamers (22.01.2004) - Eva Green (06.07.1980) 23-200 2669.mp4",{"$f":"IF(SUMPRODUCT(--ISNUMBER(SEARCH(Rechnung!H$2:H$31, A480)))>0,\"X\",\"\")","v":""},"MRS 08600 The Dreamers (22.01.2004) - Eva Green (06.07.1980) 23-200",0,"nein"]
["MRS 08600 The Dreamers (22.01.2004) - Eva Green (06.07.1980) 23-200 2670.mp4",{"$f":"IF(SUMPRODUCT(--ISNUMBER(SEARCH(Rechnung!H$2:H$31, A481)))>0,\"X\",\"\")","v":""},"MRS 08600 The Dreamers (22.01.2004) - Eva Green (06.07.1980) 23-200",0,"nein"]
["MRS 08600 The Dreamers (22.01.2004) - Eva Green (06.07.1980) 23-200 2671.mp4",{"$f":"IF(SUMPRODUCT(--ISNUMBER(SEARCH(Rechnung!H$2:H$31, A482)))>0,\"X\",\"\")","v":""},"MRS 08600 The Dreamers (22.01.2004) - Eva Green (06.07.1980) 23-200",0,"nein"]
["MRS 08600 The Dreamers (22.01.2004) - Eva Green (06.07.1980) 23-200 2672.mp4",{"$f":"IF(SUMPRODUCT(--ISNUMBER(SEARCH(Rechnung!H$2:H$31, A483)))>0,\"X\",\"\")","v":""},"MRS 08600 The Dreamers (22.01.2004) - Eva Green (06.07.1980) 23-200",0,"nein"]
["MRS 08600 The Dreamers (22.01.2004) - Eva Green (06.07.1980) 23-200 2673.mp4",{"$f":"IF(SUMPRODUCT(--ISNUMBER(SEARCH(Rechnung!H$2:H$31, A484)))>0,\"X\",\"\")","v":""},"MRS 08600 The Dreamers (22.01.2004) - Eva Green (06.07.1980) 23-200",0,"nein"]
["MRS 08600 The Dreamers (22.01.2004) - Eva Green (06.07.1980) 23-200 2674.mp4",{"$f":"IF(SUMPRODUCT(--ISNUMBER(SEARCH(Rechnung!H$2:H$31, A485)))>0,\"X\",\"\")","v":""},"MRS 08600 The Dreamers (22.01.2004) - Eva Green (06.07.1980) 23-200",0,"nein"]
["MRS 08600 The Dreamers (22.01.2004) - Eva Green (06.07.1980) 23-200 2675.mp4",{"$f":"IF(SUMPRODUCT(--ISNUMBER(SEARCH(Rechnung!H$2:H$31, A486)))>0,\"X\",\"\")","v":""},"MRS 08600 The Dreamers (22.01.2004) - Eva Green (06.07.1980) 23-200",0,"nein"]
["MRS 08600 The Dreamers (22.01.2004) - Eva Green (06.07.1980) 23-200 2676.mp4",{"$f":"IF(SUMPRODUCT(--ISNUMBER(SEARCH(Rechnung!H$2:H$31, A487)))>0,\"X\",\"\")","v":""},"MRS 08600 The Dreamers (22.01.2004) - Eva Green (06.07.1980) 23-200",0,"nein"]
["MRS 08600 The Dreamers (22.01.2004) - Eva Green (06.07.1980) 23-200 2677.mp4",{"$f":"IF(SUMPRODUCT(--ISNUMBER(SEARCH(Rechnung!H$2:H$31, A488)))>0,\"X\",\"\")","v":""},"MRS 08600 The Dreamers (22.01.2004) - Eva Green (06.07.1980) 23-200",0,"nein"]
["MRS 08610 Zapping (30.07.1999) - Paz Vega (02.01.1976) 23-210 3419.mp4",{"$f":"IF(SUMPRODUCT(--ISNUMBER(SEARCH(Rechnung!H$2:H$31, A489)))>0,\"X\",\"\")","v":""},"MRS 08610 Zapping (30.07.1999) - Paz Vega (02.01.1976) 23-210",0,"nein"]
["MRS 08610 Zapping (30.07.1999) - Paz Vega (02.01.1976) 23-210 3420.mp4",{"$f":"IF(SUMPRODUCT(--ISNUMBER(SEARCH(Rechnung!H$2:H$31, A490)))>0,\"X\",\"\")","v":""},"MRS 08610 Zapping (30.07.1999) - Paz Vega (02.01.1976) 23-210",0,"nein"]
["MRS 08610 Zapping (30.07.1999) - Paz Vega (02.01.1976) 23-210 3421.mp4",{"$f":"IF(SUMPRODUCT(--ISNUMBER(SEARCH(Rechnung!H$2:H$31, A491)))>0,\"X\",\"\")","v":""},"MRS 08610 Zapping (30.07.1999) - Paz Vega (02.01.1976) 23-210",0,"nein"]
["MRS 08611 The Naked Ape (01.08.1973) - Victoria Principal (03.01.1950) 23-210 2887.mp4",{"$f":"IF(SUMPRODUCT(--ISNUMBER(SEARCH(Rechnung!H$2:H$31, A492)))>0,\"X\",\"\")","v":""},"MRS 08611 The Naked Ape (01.08.1973) - Victoria Principal (03.01.1950) 23-210",0,"nein"]
["MRS 08611 The Naked Ape (01.08.1973) - Victoria Principal (03.01.1950) 23-210 2888.mp4",{"$f":"IF(SUMPRODUCT(--ISNUMBER(SEARCH(Rechnung!H$2:H$31, A493)))>0,\"X\",\"\")","v":""},"MRS 08611 The Naked Ape (01.08.1973) - Victoria Principal (03.01.1950) 23-210",0,"nein"]
["MRS 08616 Angie X (10.03.2017) - Francesca Eastwood (07.08.1993) 23-215 1717.mp4",{"$f":"IF(SUMPRODUCT(--ISNUMBER(SEARCH(Rechnung!H$2:H$31, A494)))>0,\"X\",\"\")","v":""},"MRS 08616 Angie X (10.03.2017) - Francesca Eastwood (07.08.1993) 23-215",0,"nein"]
["MRS 08619 Closer (13.01.2005) - Natalie Portman (09.06.1981) 23-218 443.mp4",{"$f":"IF(SUMPRODUCT(--ISNUMBER(SEARCH(Rechnung!H$2:H$31, A495)))>0,\"X\",\"\")","v":""},"MRS 08619 Closer (13.01.2005) - Natalie Portman (09.06.1981) 23-218",0,"nein"]
["MRS 08621 Loup (09.12.2009) - Pom Klementieff (03.05.1986) 23-220 1558.mp4",{"$f":"IF(SUMPRODUCT(--ISNUMBER(SEARCH(Rechnung!H$2:H$31, A496)))>0,\"X\",\"\")","v":""},"MRS 08621 Loup (09.12.2009) - Pom Klementieff (03.05.1986) 23-220",0,"nein"]
["MRS 08624 Kama Sutra A Tale of Love (08.05.1997) - Indira Varma (27.09.1973) 23-223 1338.mp4",{"$f":"IF(SUMPRODUCT(--ISNUMBER(SEARCH(Rechnung!H$2:H$31, A497)))>0,\"X\",\"\")","v":""},"MRS 08624 Kama Sutra A Tale of Love (08.05.1997) - Indira Varma (27.09.1973) 23-223",0,"nein"]
["MRS 08624 Kama Sutra A Tale of Love (08.05.1997) - Indira Varma (27.09.1973) 23-223 1339.mp4",{"$f":"IF(SUMPRODUCT(--ISNUMBER(SEARCH(Rechnung!H$2:H$31, A498)))>0,\"X\",\"\")","v":""},"MRS 08624 Kama Sutra A Tale of Love (08.05.1997) - Indira Varma (27.09.1973) 23-223",0,"nein"]
["MRS 08624 Kama Sutra A Tale of Love (08.05.1997) - Indira Varma (27.09.1973) 23-223 1340.mp4",{"$f":"IF(SUMPRODUCT(--ISNUMBER(SEARCH(Rechnung!H$2:H$31, A499)))>0,\"X\",\"\")","v":""},"MRS 08624 Kama Sutra A Tale of Love (08.05.1997) - Indira Varma (27.09.1973) 23-223",0,"nein"]
["MRS 08624 Kama Sutra A Tale of Love (08.05.1997) - Indira Varma (27.09.1973) 23-223 1341.mp4",{"$f":"IF(SUMPRODUCT(--ISNUMBER(SEARCH(Rechnung!H$2:H$31, A500)))>0,\"X\",\"\")","v":""},"MRS 08624 Kama Sutra A Tale of Love (08.05.1997) - Indira Varma (27.09.1973) 23-223",0,"nein"]
["MRS 08624 Kama Sutra A Tale of Love (08.05.1997) - Indira Varma (27.09.1973) 23-223 1342.mp4",{"$f":"IF(SUMPRODUCT(--ISNUMBER(SEARCH(Rechnung!H$2:H$31, A501)))>0,\"X\",\"\")","v":""},"MRS 08624 Kama Sutra A Tale of Love (08.05.1997) - Indira Varma (27.09.1973) 23-223",0,"nein"]
["MRS 08624 Kama Sutra A Tale of Love (08.05.1997) - Indira Varma (27.09.1973) 23-223 1343.mp4",{"$f":"IF(SUMPRODUCT(--ISNUMBER(SEARCH(Rechnung!H$2:H$31, A502)))>0,\"X\",\"\")","v":""},"MRS 08624 Kama Sutra A Tale of Love (08.05.1997) - Indira Varma (27.09.1973) 23-223",0,"nein"]
["MRS 08625 The Great Seven Days (19.11.2021) - Elle Fanning (09.04.1998) 23-224 2716.mp4",{"$f":"IF(SUMPRODUCT(--ISNUMBER(SEARCH(Rechnung!H$2:H$31, A503)))>0,\"X\",\"\")","v":"X"},"MRS 08625 The Great Seven Days (19.11.2021) - Elle Fanning (09.04.1998) 23-224",1,"nein"]
["MRS 08625 The Great Walnut Season (19.11.2021) - Elle Fanning (09.04.1998) 23-224 2717.mp4",{"$f":"IF(SUMPRODUCT(--ISNUMBER(SEARCH(Rechnung!H$2:H$31, A504)))>0,\"X\",\"\")","v":"X"},"MRS 08625 The Great Walnut Season (19.11.2021) - Elle Fanning (09.04.1998) 23-224",1,"nein"]
["MRS 08625 The Great Wedding (19.11.2021) - Elle Fanning (09.04.1998) 23-224 2718.mp4",{"$f":"IF(SUMPRODUCT(--ISNUMBER(SEARCH(Rechnung!H$2:H$31, A505)))>0,\"X\",\"\")","v":"X"},"MRS 08625 The Great Wedding (19.11.2021) - Elle Fanning (09.04.1998) 23-224",1,"nein"]
["MRS 08634 The Borgias Lucrezia's Wedding (16.11.2011) - Holliday Grainger (27.03.1988) 23-234 2547.mp4",{"$f":"IF(SUMPRODUCT(--ISNUMBER(SEARCH(Rechnung!H$2:H$31, A506)))>0,\"X\",\"\")","v":""},"MRS 08634 The Borgias Lucrezia's Wedding (16.11.2011) - Holliday Grainger (27.03.1988) 23-234",0,"nein"]
["MRS 08638 Spartan (12.03.2004) - Kristen Bell (18.07.1980) 23-238 2373.mp4",{"$f":"IF(SUMPRODUCT(--ISNUMBER(SEARCH(Rechnung!H$2:H$31, A507)))>0,\"X\",\"\")","v":""},"MRS 08638 Spartan (12.03.2004) - Kristen Bell (18.07.1980) 23-238",0,"nein"]
["MRS 08645 Ánima (31.12.2011) - Ana de Armas (30.04.1988) 23-245 159.mp4",{"$f":"IF(SUMPRODUCT(--ISNUMBER(SEARCH(Rechnung!H$2:H$31, A508)))>0,\"X\",\"\")","v":""},"MRS 08645 Ánima (31.12.2011) - Ana de Armas (30.04.1988) 23-245",0,"nein"]
["MRS 08645 Ánima (31.12.2011) - Ana de Armas (30.04.1988) 23-245 160.mp4",{"$f":"IF(SUMPRODUCT(--ISNUMBER(SEARCH(Rechnung!H$2:H$31, A509)))>0,\"X\",\"\")","v":""},"MRS 08645 Ánima (31.12.2011) - Ana de Armas (30.04.1988) 23-245",0,"nein"]
["MRS 08650 Thirteen Episode #1.1 (15.11.2016) - Jodie Comer (11.03.1993) 23-249 3151.mp4",{"$f":"IF(SUMPRODUCT(--ISNUMBER(SEARCH(Rechnung!H$2:H$31, A510)))>0,\"X\",\"\")","v":""},"MRS 08650 Thirteen Episode #1.1 (15.11.2016) - Jodie Comer (11.03.1993) 23-249",0,"nein"]
["MRS 08650 Thirteen Episode #1.1 (15.11.2016) - Jodie Comer (11.03.1993) 23-249 3152.mp4",{"$f":"IF(SUMPRODUCT(--ISNUMBER(SEARCH(Rechnung!H$2:H$31, A511)))>0,\"X\",\"\")","v":""},"MRS 08650 Thirteen Episode #1.1 (15.11.2016) - Jodie Comer (11.03.1993) 23-249",0,"nein"]
["MRS 08654 Small Apartments (31.03.2013) - Juno Temple (21.07.1989) 23-253 2334.mp4",{"$f":"IF(SUMPRODUCT(--ISNUMBER(SEARCH(Rechnung!H$2:H$31, A512)))>0,\"X\",\"\")","v":""},"MRS 08654 Small Apartments (31.03.2013) - Juno Temple (21.07.1989) 23-253",0,"nein"]
["MRS 08660 Irresistible (09.11.2006) - Emily Blunt (23.02.1983) 23-259 1255.mp4",{"$f":"IF(SUMPRODUCT(--ISNUMBER(SEARCH(Rechnung!H$2:H$31, A513)))>0,\"X\",\"\")","v":""},"MRS 08660 Irresistible (09.11.2006) - Emily Blunt (23.02.1983) 23-259",0,"nein"]
["MRS 08666 Go Behind the Scenes at Selena Gomez's Sexy GQ Photo Shoot (13.04.2016) - Selena Gomez (22.07.1992) 23-265 1033.mp4",{"$f":"IF(SUMPRODUCT(--ISNUMBER(SEARCH(Rechnung!H$2:H$31, A514)))>0,\"X\",\"\")","v":""},"MRS 08666 Go Behind the Scenes at Selena Gomez's Sexy GQ Photo Shoot (13.04.2016) - Selena Gomez (22.07.1992) 23-265",0,"nein"]
["MRS 08667 Hot Tub Time Machine (30.09.2010) - Lyndsy Fonseca (07.01.1987) 23-266 611.mp4",{"$f":"IF(SUMPRODUCT(--ISNUMBER(SEARCH(Rechnung!H$2:H$31, A515)))>0,\"X\",\"\")","v":""},{"$f":"LEFT(A515, LEN(A515) - LEN(MID(A515, FIND(\"~\", SUBSTITUTE(A515,\" \",\"~\", LEN(A515)-LEN(SUBSTITUTE(A515,\" \",\"\")))), LEN(A515))))","v":"MRS 08667 Hot Tub Time Machine (30.09.2010) - Lyndsy Fonseca (07.01.1987) 23-266"},0,{"$f":"IF(AND(B515=\"X\",D515=0),\"ja\",\"nein\")","v":"nein"}]
["MRS 08668 Dumb and Dumberer When Harry Met Lloyd (02.10.2003) - Rachel Nichols (08.01.1980) 23-268 729.mp4",{"$f":"IF(SUMPRODUCT(--ISNUMBER(SEARCH(Rechnung!H$2:H$31, A516)))>0,\"X\",\"\")","v":""},"MRS 08668 Dumb and Dumberer When Harry Met Lloyd (02.10.2003) - Rachel Nichols (08.01.1980) 23-268",0,"nein"]
["MRS 08681 Brimstone (30.11.2017) - Dakota Fanning (23.02.1994) 23-280 334.mp4",{"$f":"IF(SUMPRODUCT(--ISNUMBER(SEARCH(Rechnung!H$2:H$31, A517)))>0,\"X\",\"\")","v":""},"MRS 08681 Brimstone (30.11.2017) - Dakota Fanning (23.02.1994) 23-280",1,"nein"]
["MRS 08681 Brimstone (30.11.2017) - Dakota Fanning (23.02.1994) 23-280 335.mp4",{"$f":"IF(SUMPRODUCT(--ISNUMBER(SEARCH(Rechnung!H$2:H$31, A518)))>0,\"X\",\"\")","v":""},"MRS 08681 Brimstone (30.11.2017) - Dakota Fanning (23.02.1994) 23-280",1,"nein"]
["MRS 08681 X-Men Days of Future Past (22.05.2014) - Jennifer Lawrence (15.08.1990) 23-280 3406.mp4",{"$f":"IF(SUMPRODUCT(--ISNUMBER(SEARCH(Rechnung!H$2:H$31, A519)))>0,\"X\",\"\")","v":""},"MRS 08681 X-Men Days of Future Past (22.05.2014) - Jennifer Lawrence (15.08.1990) 23-280",0,"nein"]
["MRS 08688 The Tuxedo (05.12.2002) - Jennifer Love Hewitt (21.02.1979) 23-287 3091.mp4",{"$f":"IF(SUMPRODUCT(--ISNUMBER(SEARCH(Rechnung!H$2:H$31, A520)))>0,\"X\",\"\")","v":""},"MRS 08688 The Tuxedo (05.12.2002) - Jennifer Love Hewitt (21.02.1979) 23-287",0,"nein"]
["MRS 08693 Penny Dreadful Predators Far and Near (09.05.2016) - Jessica Barden (21.07.1992) 23-292 2049.mp4",{"$f":"IF(SUMPRODUCT(--ISNUMBER(SEARCH(Rechnung!H$2:H$31, A521)))>0,\"X\",\"\")","v":""},"MRS 08693 Penny Dreadful Predators Far and Near (09.05.2016) - Jessica Barden (21.07.1992) 23-292",0,"nein"]
["MRS 08699 Of Love and Shadows (06.10.1994) - Jennifer Connelly (12.12.1970) 23-298 1913.mp4",{"$f":"IF(SUMPRODUCT(--ISNUMBER(SEARCH(Rechnung!H$2:H$31, A522)))>0,\"X\",\"\")","v":""},"MRS 08699 Of Love and Shadows (06.10.1994) - Jennifer Connelly (12.12.1970) 23-298",0,"nein"]
["MRS 08700 Penny Dreadful Good and Evil Braided Be (16.05.2016) - Jessica Barden (21.07.1992) 23-299 2050.mp4",{"$f":"IF(SUMPRODUCT(--ISNUMBER(SEARCH(Rechnung!H$2:H$31, A523)))>0,\"X\",\"\")","v":""},"MRS 08700 Penny Dreadful Good and Evil Braided Be (16.05.2016) - Jessica Barden (21.07.1992) 23-299",0,"nein"]
["MRS 08700 Penny Dreadful Good and Evil Braided Be (16.05.2016) - Jessica Barden (21.07.1992) 23-299 2051.mp4",{"$f":"IF(SUMPRODUCT(--ISNUMBER(SEARCH(Rechnung!H$2:H$31, A524)))>0,\"X\",\"\")","v":""},"MRS 08700 Penny Dreadful Good and Evil Braided Be (16.05.2016) - Jessica Barden (21.07.1992) 23-299",0,"nein"]
["MRS 08713 Drowning by Numbers (17.11.1988) - Joely Richardson (09.01.1965) 23-312 502.mp4",{"$f":"IF(SUMPRODUCT(--ISNUMBER(SEARCH(Rechnung!H$2:H$31, A525)))>0,\"X\",\"\")","v":""},"MRS 08713 Drowning by Numbers (17.11.1988) - Joely Richardson (09.01.1965) 23-312",0,"nein"]
["MRS 08713 Drowning by Numbers (17.11.1988) - Joely Richardson (09.01.1965) 23-312 503.mp4",{"$f":"IF(SUMPRODUCT(--ISNUMBER(SEARCH(Rechnung!H$2:H$31, A526)))>0,\"X\",\"\")","v":""},"MRS 08713 Drowning by Numbers (17.11.1988) - Joely Richardson (09.01.1965) 23-312",0,"nein"]
["MRS 08713 Drowning by Numbers (17.11.1988) - Joely Richardson (09.01.1965) 23-312 504.mp4",{"$f":"IF(SUMPRODUCT(--ISNUMBER(SEARCH(Rechnung!H$2:H$31, A527)))>0,\"X\",\"\")","v":""},"MRS 08713 Drowning by Numbers (17.11.1988) - Joely Richardson (09.01.1965) 23-312",0,"nein"]
["MRS 08713 Drowning by Numbers (17.11.1988) - Joely Richardson (09.01.1965) 23-312 505.mp4",{"$f":"IF(SUMPRODUCT(--ISNUMBER(SEARCH(Rechnung!H$2:H$31, A528)))>0,\"X\",\"\")","v":""},"MRS 08713 Drowning by Numbers (17.11.1988) - Joely Richardson (09.01.1965) 23-312",0,"nein"]
["MRS 08713 Drowning by Numbers (17.11.1988) - Joely Richardson (09.01.1965) 23-312 506.mp4",{"$f":"IF(SUMPRODUCT(--ISNUMBER(SEARCH(Rechnung!H$2:H$31, A529)))>0,\"X\",\"\")","v":""},"MRS 08713 Drowning by Numbers (17.11.1988) - Joely Richardson (09.01.1965) 23-312",0,"nein"]
["MRS 08719 About Last Night... (25.09.1986) - Demi Moore (11.11.1962) 23-318 64.mp4",{"$f":"IF(SUMPRODUCT(--ISNUMBER(SEARCH(Rechnung!H$2:H$31, A530)))>0,\"X\",\"\")","v":""},"MRS 08719 About Last Night... (25.09.1986) - Demi Moore (11.11.1962) 23-318",0,"nein"]
["MRS 08719 About Last Night... (25.09.1986) - Demi Moore (11.11.1962) 23-318 65.mp4",{"$f":"IF(SUMPRODUCT(--ISNUMBER(SEARCH(Rechnung!H$2:H$31, A531)))>0,\"X\",\"\")","v":""},"MRS 08719 About Last Night... (25.09.1986) - Demi Moore (11.11.1962) 23-318",0,"nein"]
["MRS 08719 About Last Night... (25.09.1986) - Demi Moore (11.11.1962) 23-318 66.mp4",{"$f":"IF(SUMPRODUCT(--ISNUMBER(SEARCH(Rechnung!H$2:H$31, A532)))>0,\"X\",\"\")","v":""},"MRS 08719 About Last Night... (25.09.1986) - Demi Moore (11.11.1962) 23-318",0,"nein"]
["MRS 08719 About Last Night... (25.09.1986) - Demi Moore (11.11.1962) 23-318 67.mp4",{"$f":"IF(SUMPRODUCT(--ISNUMBER(SEARCH(Rechnung!H$2:H$31, A533)))>0,\"X\",\"\")","v":""},"MRS 08719 About Last Night... (25.09.1986) - Demi Moore (11.11.1962) 23-318",0,"nein"]
["MRS 08719 The Collector (31.07.2009) - Madeline Zima (16.09.1985) 23-318 2614.mp4",{"$f":"IF(SUMPRODUCT(--ISNUMBER(SEARCH(Rechnung!H$2:H$31, A534)))>0,\"X\",\"\")","v":""},"MRS 08719 The Collector (31.07.2009) - Madeline Zima (16.09.1985) 23-318",0,"nein"]
["MRS 08737 Mrs Dalloway (04.09.1997) - Lena Headey (03.10.1973) 23-336 596.mp4",{"$f":"IF(SUMPRODUCT(--ISNUMBER(SEARCH(Rechnung!H$2:H$31, A535)))>0,\"X\",\"\")","v":""},"MRS 08737 Mrs Dalloway (04.09.1997) - Lena Headey (03.10.1973) 23-336",0,"nein"]
["MRS 08738 Jennifer's Body (05.11.2009) - Amanda Seyfried (03.12.1985) 23-337 59.mp4",{"$f":"IF(SUMPRODUCT(--ISNUMBER(SEARCH(Rechnung!H$2:H$31, A536)))>0,\"X\",\"\")","v":""},"MRS 08738 Jennifer's Body (05.11.2009) - Amanda Seyfried (03.12.1985) 23-337",0,"nein"]
["MRS 08738 The Fundamentals of Caring (24.06.2016) - Selena Gomez (22.07.1992) 23-337 2698.mp4",{"$f":"IF(SUMPRODUCT(--ISNUMBER(SEARCH(Rechnung!H$2:H$31, A537)))>0,\"X\",\"\")","v":""},"MRS 08738 The Fundamentals of Caring (24.06.2016) - Selena Gomez (22.07.1992) 23-337",0,"nein"]
["MRS 08739 Aileen Wuornos American Boogeywoman (10.03.2022) - Peyton List (06.04.1998) 23-338 104.mp4",{"$f":"IF(SUMPRODUCT(--ISNUMBER(SEARCH(Rechnung!H$2:H$31, A538)))>0,\"X\",\"\")","v":"X"},"MRS 08739 Aileen Wuornos American Boogeywoman (10.03.2022) - Peyton List (06.04.1998) 23-338",1,"nein"]
["MRS 08739 Aileen Wuornos American Boogeywoman (10.03.2022) - Peyton List (06.04.1998) 23-338 105.mp4",{"$f":"IF(SUMPRODUCT(--ISNUMBER(SEARCH(Rechnung!H$2:H$31, A539)))>0,\"X\",\"\")","v":"X"},"MRS 08739 Aileen Wuornos American Boogeywoman (10.03.2022) - Peyton List (06.04.1998) 23-338",1,"nein"]
["MRS 08739 Turistas (01.12.2006) - Beau Garrett (28.12.1982) 23-338 3194.mp4",{"$f":"IF(SUMPRODUCT(--ISNUMBER(SEARCH(Rechnung!H$2:H$31, A540)))>0,\"X\",\"\")","v":""},"MRS 08739 Turistas (01.12.2006) - Beau Garrett (28.12.1982) 23-338",0,"nein"]
["MRS 08739 Turistas (01.12.2006) - Beau Garrett (28.12.1982) 23-338 3195.mp4",{"$f":"IF(SUMPRODUCT(--ISNUMBER(SEARCH(Rechnung!H$2:H$31, A541)))>0,\"X\",\"\")","v":""},"MRS 08739 Turistas (01.12.2006) - Beau Garrett (28.12.1982) 23-338",0,"nein"]
["MRS 08739 Turistas (01.12.2006) - Beau Garrett (28.12.1982) 23-338 3196.mp4",{"$f":"IF(SUMPRODUCT(--ISNUMBER(SEARCH(Rechnung!H$2:H$31, A542)))>0,\"X\",\"\")","v":""},"MRS 08739 Turistas (01.12.2006) - Beau Garrett (28.12.1982) 23-338",0,"nein"]
["MRS 08739 Turistas (01.12.2006) - Beau Garrett (28.12.1982) 23-338 3197.mp4",{"$f":"IF(SUMPRODUCT(--ISNUMBER(SEARCH(Rechnung!H$2:H$31, A543)))>0,\"X\",\"\")","v":""},"MRS 08739 Turistas (01.12.2006) - Beau Garrett (28.12.1982) 23-338",0,"nein"]
["MRS 08739 Turistas (01.12.2006) - Beau Garrett (28.12.1982) 23-338 3198.mp4",{"$f":"IF(SUMPRODUCT(--ISNUMBER(SEARCH(Rechnung!H$2:H$31, A544)))>0,\"X\",\"\")","v":""},"MRS 08739 Turistas (01.12.2006) - Beau Garrett (28.12.1982) 23-338",0,"nein"]
["MRS 08744 Virtual Sexuality (02.07.1999) - Laura Fraser (24.07.1975) 23-344 569.mp4",{"$f":"IF(SUMPRODUCT(--ISNUMBER(SEARCH(Rechnung!H$2:H$31, A545)))>0,\"X\",\"\")","v":""},"MRS 08744 Virtual Sexuality (02.07.1999) - Laura Fraser (24.07.1975) 23-344",0,"nein"]
["MRS 08748 The Spectacular Now (13.09.2013) - Brie Larson (01.10.1989) 23-347 89.mp4",{"$f":"IF(SUMPRODUCT(--ISNUMBER(SEARCH(Rechnung!H$2:H$31, A546)))>0,\"X\",\"\")","v":""},"MRS 08748 The Spectacular Now (13.09.2013) - Brie Larson (01.10.1989) 23-347",0,"nein"]
["MRS 08748 The Spectacular Now (13.09.2013) - Brie Larson (01.10.1989) 23-347 90.mp4",{"$f":"IF(SUMPRODUCT(--ISNUMBER(SEARCH(Rechnung!H$2:H$31, A547)))>0,\"X\",\"\")","v":""},"MRS 08748 The Spectacular Now (13.09.2013) - Brie Larson (01.10.1989) 23-347",0,"nein"]
["MRS 08748 The Spectacular Now (13.09.2013) - Brie Larson (01.10.1989) 23-347 91.mp4",{"$f":"IF(SUMPRODUCT(--ISNUMBER(SEARCH(Rechnung!H$2:H$31, A548)))>0,\"X\",\"\")","v":""},"MRS 08748 The Spectacular Now (13.09.2013) - Brie Larson (01.10.1989) 23-347",0,"nein"]
["MRS 08748 The Spectacular Now (13.09.2013) - Brie Larson (01.10.1989) 23-347 92.mp4",{"$f":"IF(SUMPRODUCT(--ISNUMBER(SEARCH(Rechnung!H$2:H$31, A549)))>0,\"X\",\"\")","v":""},"MRS 08748 The Spectacular Now (13.09.2013) - Brie Larson (01.10.1989) 23-347",0,"nein"]
["MRS 08760 Sports Illustrated Swimsuit 2009 (31.12.2009) - Irina Shayk (06.01.1986) 23-359 324.mp4",{"$f":"IF(SUMPRODUCT(--ISNUMBER(SEARCH(Rechnung!H$2:H$31, A550)))>0,\"X\",\"\")","v":""},"MRS 08760 Sports Illustrated Swimsuit 2009 (31.12.2009) - Irina Shayk (06.01.1986) 23-359",0,"nein"]
["MRS 08764 Casanova (09.02.2006) - Natalie Dormer (11.02.1982) 23-363 402.mp4",{"$f":"IF(SUMPRODUCT(--ISNUMBER(SEARCH(Rechnung!H$2:H$31, A551)))>0,\"X\",\"\")","v":""},"MRS 08764 Casanova (09.02.2006) - Natalie Dormer (11.02.1982) 23-363",0,"nein"]
["MRS 08764 The Voyeurs (10.09.2021) - Sydney Sweeney (12.09.1997) 23-363 3094.mp4",{"$f":"IF(SUMPRODUCT(--ISNUMBER(SEARCH(Rechnung!H$2:H$31, A552)))>0,\"X\",\"\")","v":"X"},"MRS 08764 The Voyeurs (10.09.2021) - Sydney Sweeney (12.09.1997) 23-363",1,"nein"]
["MRS 08764 The Voyeurs (10.09.2021) - Sydney Sweeney (12.09.1997) 23-363 3095.mp4",{"$f":"IF(SUMPRODUCT(--ISNUMBER(SEARCH(Rechnung!H$2:H$31, A553)))>0,\"X\",\"\")","v":"X"},"MRS 08764 The Voyeurs (10.09.2021) - Sydney Sweeney (12.09.1997) 23-363",1,"nein"]
["MRS 08764 The Voyeurs (10.09.2021) - Sydney Sweeney (12.09.1997) 23-363 3096.mp4",{"$f":"IF(SUMPRODUCT(--ISNUMBER(SEARCH(Rechnung!H$2:H$31, A554)))>0,\"X\",\"\")","v":"X"},"MRS 08764 The Voyeurs (10.09.2021) - Sydney Sweeney (12.09.1997) 23-363",1,"nein"]
["MRS 08764 The Voyeurs (10.09.2021) - Sydney Sweeney (12.09.1997) 23-363 3097.mp4",{"$f":"IF(SUMPRODUCT(--ISNUMBER(SEARCH(Rechnung!H$2:H$31, A555)))>0,\"X\",\"\")","v":"X"},"MRS 08764 The Voyeurs (10.09.2021) - Sydney Sweeney (12.09.1997) 23-363",1,"nein"]
["MRS 08764 The Voyeurs (10.09.2021) - Sydney Sweeney (12.09.1997) 23-363 3098.mp4",{"$f":"IF(SUMPRODUCT(--ISNUMBER(SEARCH(Rechnung!H$2:H$31, A556)))>0,\"X\",\"\")","v":"X"},"MRS 08764 The Voyeurs (10.09.2021) - Sydney Sweeney (12.09.1997) 23-363",1,"nein"]
["MRS 08764 The Voyeurs (10.09.2021) - Sydney Sweeney (12.09.1997) 23-363 3099.mp4",{"$f":"IF(SUMPRODUCT(--ISNUMBER(SEARCH(Rechnung!H$2:H$31, A557)))>0,\"X\",\"\")","v":"X"},"MRS 08764 The Voyeurs (10.09.2021) - Sydney Sweeney (12.09.1997) 23-363",1,"nein"]
["MRS 08764 The Voyeurs (10.09.2021) - Sydney Sweeney (12.09.1997) 23-363 3100.mp4",{"$f":"IF(SUMPRODUCT(--ISNUMBER(SEARCH(Rechnung!H$2:H$31, A558)))>0,\"X\",\"\")","v":"X"},"MRS 08764 The Voyeurs (10.09.2021) - Sydney Sweeney (12.09.1997) 23-363",1,"nein"]
["MRS 08764 The Voyeurs (10.09.2021) - Sydney Sweeney (12.09.1997) 23-363 3101.mp4",{"$f":"IF(SUMPRODUCT(--ISNUMBER(SEARCH(Rechnung!H$2:H$31, A559)))>0,\"X\",\"\")","v":"X"},"MRS 08764 The Voyeurs (10.09.2021) - Sydney Sweeney (12.09.1997) 23-363",1,"nein"]
["MRS 08764 The Voyeurs (10.09.2021) - Sydney Sweeney (12.09.1997) 23-363 3102.mp4",{"$f":"IF(SUMPRODUCT(--ISNUMBER(SEARCH(Rechnung!H$2:H$31, A560)))>0,\"X\",\"\")","v":"X"},"MRS 08764 The Voyeurs (10.09.2021) - Sydney Sweeney (12.09.1997) 23-363",1,"nein"]
["MRS 08764 The Voyeurs (10.09.2021) - Sydney Sweeney (12.09.1997) 23-363 3103.mp4",{"$f":"IF(SUMPRODUCT(--ISNUMBER(SEARCH(Rechnung!H$2:H$31, A561)))>0,\"X\",\"\")","v":"X"},"MRS 08764 The Voyeurs (10.09.2021) - Sydney Sweeney (12.09.1997) 23-363",1,"nein"]
["MRS 08764 The Voyeurs (10.09.2021) - Sydney Sweeney (12.09.1997) 23-363 3104.mp4",{"$f":"IF(SUMPRODUCT(--ISNUMBER(SEARCH(Rechnung!H$2:H$31, A562)))>0,\"X\",\"\")","v":"X"},"MRS 08764 The Voyeurs (10.09.2021) - Sydney Sweeney (12.09.1997) 23-363",1,"nein"]
["MRS 08764 The Voyeurs (10.09.2021) - Sydney Sweeney (12.09.1997) 23-363 3105.mp4",{"$f":"IF(SUMPRODUCT(--ISNUMBER(SEARCH(Rechnung!H$2:H$31, A563)))>0,\"X\",\"\")","v":"X"},"MRS 08764 The Voyeurs (10.09.2021) - Sydney Sweeney (12.09.1997) 23-363",1,"nein"]
["MRS 08764 The Voyeurs (10.09.2021) - Sydney Sweeney (12.09.1997) 23-363 3106.mp4",{"$f":"IF(SUMPRODUCT(--ISNUMBER(SEARCH(Rechnung!H$2:H$31, A564)))>0,\"X\",\"\")","v":"X"},"MRS 08764 The Voyeurs (10.09.2021) - Sydney Sweeney (12.09.1997) 23-363",1,"nein"]
["MRS 08765 Saint Tropez, Saint Tropez (02.05.1992) - Debora Caprioglio (03.05.1968) 23-364 118.mp4",{"$f":"IF(SUMPRODUCT(--ISNUMBER(SEARCH(Rechnung!H$2:H$31, A565)))>0,\"X\",\"\")","v":""},"MRS 08765 Saint Tropez, Saint Tropez (02.05.1992) - Debora Caprioglio (03.05.1968) 23-364",0,"nein"]
["MRS 08766 The Duchess (26.03.2009) - Keira Knightley (26.03.1985) 24-0 2685.mp4",{"$f":"IF(SUMPRODUCT(--ISNUMBER(SEARCH(Rechnung!H$2:H$31, A566)))>0,\"X\",\"\")","v":""},"MRS 08766 The Duchess (26.03.2009) - Keira Knightley (26.03.1985) 24-0",0,"nein"]
["MRS 08771 Crimen con vista al mar (16.08.2013) - Úrsula Corberó (11.08.1989) 24-5 458.mp4",{"$f":"IF(SUMPRODUCT(--ISNUMBER(SEARCH(Rechnung!H$2:H$31, A567)))>0,\"X\",\"\")","v":""},"MRS 08771 Crimen con vista al mar (16.08.2013) - Úrsula Corberó (11.08.1989) 24-5",0,"nein"]
["MRS 08775 The Idol Pop Tarts & Rat Tales (05.06.2023) - Lily-Rose Depp (27.05.1999) 24-9 2761.mp4",{"$f":"IF(SUMPRODUCT(--ISNUMBER(SEARCH(Rechnung!H$2:H$31, A568)))>0,\"X\",\"\")","v":"X"},"MRS 08775 The Idol Pop Tarts & Rat Tales (05.06.2023) - Lily-Rose Depp (27.05.1999) 24-9",1,"nein"]
["MRS 08775 The Idol Pop Tarts & Rat Tales (05.06.2023) - Lily-Rose Depp (27.05.1999) 24-9 2762.mp4",{"$f":"IF(SUMPRODUCT(--ISNUMBER(SEARCH(Rechnung!H$2:H$31, A569)))>0,\"X\",\"\")","v":"X"},"MRS 08775 The Idol Pop Tarts & Rat Tales (05.06.2023) - Lily-Rose Depp (27.05.1999) 24-9",1,"nein"]
["MRS 08775 The Idol Pop Tarts & Rat Tales (05.06.2023) - Lily-Rose Depp (27.05.1999) 24-9 2763.mp4",{"$f":"IF(SUMPRODUCT(--ISNUMBER(SEARCH(Rechnung!H$2:H$31, A570)))>0,\"X\",\"\")","v":"X"},"MRS 08775 The Idol Pop Tarts & Rat Tales (05.06.2023) - Lily-Rose Depp (27.05.1999) 24-9",1,"nein"]
["MRS 08775 The Idol Pop Tarts & Rat Tales (05.06.2023) - Lily-Rose Depp (27.05.1999) 24-9 2764.mp4",{"$f":"IF(SUMPRODUCT(--ISNUMBER(SEARCH(Rechnung!H$2:H$31, A571)))>0,\"X\",\"\")","v":"X"},"MRS 08775 The Idol Pop Tarts & Rat Tales (05.06.2023) - Lily-Rose Depp (27.05.1999) 24-9",1,"nein"]
["MRS 08778 Vicky Cristina Barcelona (04.12.2008) - Scarlett Johansson (22.11.1984) 24-12 3258.mp4",{"$f":"IF(SUMPRODUCT(--ISNUMBER(SEARCH(Rechnung!H$2:H$31, A572)))>0,\"X\",\"\")","v":""},"MRS 08778 Vicky Cristina Barcelona (04.12.2008) - Scarlett Johansson (22.11.1984) 24-12",0,"nein"]
["MRS 08778 Vicky Cristina Barcelona (04.12.2008) - Scarlett Johansson (22.11.1984) 24-12 3259.mp4",{"$f":"IF(SUMPRODUCT(--ISNUMBER(SEARCH(Rechnung!H$2:H$31, A573)))>0,\"X\",\"\")","v":""},"MRS 08778 Vicky Cristina Barcelona (04.12.2008) - Scarlett Johansson (22.11.1984) 24-12",0,"nein"]
["MRS 08778 Vicky Cristina Barcelona (04.12.2008) - Scarlett Johansson (22.11.1984) 24-12 3260.mp4",{"$f":"IF(SUMPRODUCT(--ISNUMBER(SEARCH(Rechnung!H$2:H$31, A574)))>0,\"X\",\"\")","v":""},"MRS 08778 Vicky Cristina Barcelona (04.12.2008) - Scarlett Johansson (22.11.1984) 24-12",0,"nein"]
["MRS 08778 Vicky Cristina Barcelona (04.12.2008) - Scarlett Johansson (22.11.1984) 24-12 3261.mp4",{"$f":"IF(SUMPRODUCT(--ISNUMBER(SEARCH(Rechnung!H$2:H$31, A575)))>0,\"X\",\"\")","v":""},"MRS 08778 Vicky Cristina Barcelona (04.12.2008) - Scarlett Johansson (22.11.1984) 24-12",0,"nein"]
["MRS 08778 Vicky Cristina Barcelona (04.12.2008) - Scarlett Johansson (22.11.1984) 24-12 3262.mp4",{"$f":"IF(SUMPRODUCT(--ISNUMBER(SEARCH(Rechnung!H$2:H$31, A576)))>0,\"X\",\"\")","v":""},"MRS 08778 Vicky Cristina Barcelona (04.12.2008) - Scarlett Johansson (22.11.1984) 24-12",0,"nein"]
["MRS 08778 Vicky Cristina Barcelona (04.12.2008) - Scarlett Johansson (22.11.1984) 24-12 3263.mp4",{"$f":"IF(SUMPRODUCT(--ISNUMBER(SEARCH(Rechnung!H$2:H$31, A577)))>0,\"X\",\"\")","v":""},"MRS 08778 Vicky Cristina Barcelona (04.12.2008) - Scarlett Johansson (22.11.1984) 24-12",0,"nein"]
["MRS 08778 Vicky Cristina Barcelona (04.12.2008) - Scarlett Johansson (22.11.1984) 24-12 3264.mp4",{"$f":"IF(SUMPRODUCT(--ISNUMBER(SEARCH(Rechnung!H$2:H$31, A578)))>0,\"X\",\"\")","v":""},"MRS 08778 Vicky Cristina Barcelona (04.12.2008) - Scarlett Johansson (22.11.1984) 24-12",0,"nein"]
["MRS 08778 Vicky Cristina Barcelona (04.12.2008) - Scarlett Johansson (22.11.1984) 24-12 3265.mp4",{"$f":"IF(SUMPRODUCT(--ISNUMBER(SEARCH(Rechnung!H$2:H$31, A579)))>0,\"X\",\"\")","v":""},{"$f":"LEFT(A579, LEN(A579) - LEN(MID(A579, FIND(\"~\", SUBSTITUTE(A579,\" \",\"~\", LEN(A579)-LEN(SUBSTITUTE(A579,\" \",\"\")))), LEN(A579))))","v":"MRS 08778 Vicky Cristina Barcelona (04.12.2008) - Scarlett Johansson (22.11.1984) 24-12"},0,{"$f":"IF(AND(B579=\"X\",D579=0),\"ja\",\"nein\")","v":"nein"}]
["MRS 08778 Vicky Cristina Barcelona (04.12.2008) - Scarlett Johansson (22.11.1984) 24-12 3266.mp4",{"$f":"IF(SUMPRODUCT(--ISNUMBER(SEARCH(Rechnung!H$2:H$31, A580)))>0,\"X\",\"\")","v":""},"MRS 08778 Vicky Cristina Barcelona (04.12.2008) - Scarlett Johansson (22.11.1984) 24-12",0,"nein"]
["MRS 08778 Vicky Cristina Barcelona (04.12.2008) - Scarlett Johansson (22.11.1984) 24-12 3267.mp4",{"$f":"IF(SUMPRODUCT(--ISNUMBER(SEARCH(Rechnung!H$2:H$31, A581)))>0,\"X\",\"\")","v":""},"MRS 08778 Vicky Cristina Barcelona (04.12.2008) - Scarlett Johansson (22.11.1984) 24-12",0,"nein"]
["MRS 08780 Feeling Minnesota (13.09.1996) - Cameron Diaz (30.08.1972) 24-14 856.mp4",{"$f":"IF(SUMPRODUCT(--ISNUMBER(SEARCH(Rechnung!H$2:H$31, A582)))>0,\"X\",\"\")","v":""},"MRS 08780 Feeling Minnesota (13.09.1996) - Cameron Diaz (30.08.1972) 24-14",0,"nein"]
["MRS 08780 Feeling Minnesota (13.09.1996) - Cameron Diaz (30.08.1972) 24-14 857.mp4",{"$f":"IF(SUMPRODUCT(--ISNUMBER(SEARCH(Rechnung!H$2:H$31, A583)))>0,\"X\",\"\")","v":""},"MRS 08780 Feeling Minnesota (13.09.1996) - Cameron Diaz (30.08.1972) 24-14",0,"nein"]
["MRS 08781 The Idol Double Fantasy (11.06.2023) - Lily-Rose Depp (27.05.1999) 24-15 2765.mp4",{"$f":"IF(SUMPRODUCT(--ISNUMBER(SEARCH(Rechnung!H$2:H$31, A584)))>0,\"X\",\"\")","v":"X"},"MRS 08781 The Idol Double Fantasy (11.06.2023) - Lily-Rose Depp (27.05.1999) 24-15",1,"nein"]
["MRS 08781 The Idol Double Fantasy (11.06.2023) - Lily-Rose Depp (27.05.1999) 24-15 2766.mp4",{"$f":"IF(SUMPRODUCT(--ISNUMBER(SEARCH(Rechnung!H$2:H$31, A585)))>0,\"X\",\"\")","v":"X"},"MRS 08781 The Idol Double Fantasy (11.06.2023) - Lily-Rose Depp (27.05.1999) 24-15",1,"nein"]
["MRS 08781 The Idol Double Fantasy (11.06.2023) - Lily-Rose Depp (27.05.1999) 24-15 2767.mp4",{"$f":"IF(SUMPRODUCT(--ISNUMBER(SEARCH(Rechnung!H$2:H$31, A586)))>0,\"X\",\"\")","v":"X"},"MRS 08781 The Idol Double Fantasy (11.06.2023) - Lily-Rose Depp (27.05.1999) 24-15",1,"nein"]
["MRS 08784 Lovelace (08.08.2013) - Juno Temple (21.07.1989) 24-18 1582.mp4",{"$f":"IF(SUMPRODUCT(--ISNUMBER(SEARCH(Rechnung!H$2:H$31, A587)))>0,\"X\",\"\")","v":""},"MRS 08784 Lovelace (08.08.2013) - Juno Temple (21.07.1989) 24-18",0,"nein"]
["MRS 08785 Left Luggage (12.08.1999) - Laura Fraser (24.07.1975) 24-19 559.mp4",{"$f":"IF(SUMPRODUCT(--ISNUMBER(SEARCH(Rechnung!H$2:H$31, A588)))>0,\"X\",\"\")","v":""},"MRS 08785 Left Luggage (12.08.1999) - Laura Fraser (24.07.1975) 24-19",0,"nein"]
["MRS 08785 Left Luggage (12.08.1999) - Laura Fraser (24.07.1975) 24-19 560.mp4",{"$f":"IF(SUMPRODUCT(--ISNUMBER(SEARCH(Rechnung!H$2:H$31, A589)))>0,\"X\",\"\")","v":""},"MRS 08785 Left Luggage (12.08.1999) - Laura Fraser (24.07.1975) 24-19",0,"nein"]
["MRS 08786 Spiando Marina (23.05.1992) - Debora Caprioglio (03.05.1968) 24-20 130.mp4",{"$f":"IF(SUMPRODUCT(--ISNUMBER(SEARCH(Rechnung!H$2:H$31, A590)))>0,\"X\",\"\")","v":""},"MRS 08786 Spiando Marina (23.05.1992) - Debora Caprioglio (03.05.1968) 24-20",0,"nein"]
["MRS 08786 Spiando Marina (23.05.1992) - Debora Caprioglio (03.05.1968) 24-20 131.mp4",{"$f":"IF(SUMPRODUCT(--ISNUMBER(SEARCH(Rechnung!H$2:H$31, A591)))>0,\"X\",\"\")","v":""},"MRS 08786 Spiando Marina (23.05.1992) - Debora Caprioglio (03.05.1968) 24-20",0,"nein"]
["MRS 08786 Spiando Marina (23.05.1992) - Debora Caprioglio (03.05.1968) 24-20 132.mp4",{"$f":"IF(SUMPRODUCT(--ISNUMBER(SEARCH(Rechnung!H$2:H$31, A592)))>0,\"X\",\"\")","v":""},"MRS 08786 Spiando Marina (23.05.1992) - Debora Caprioglio (03.05.1968) 24-20",0,"nein"]
["MRS 08786 Spiando Marina (23.05.1992) - Debora Caprioglio (03.05.1968) 24-20 133.mp4",{"$f":"IF(SUMPRODUCT(--ISNUMBER(SEARCH(Rechnung!H$2:H$31, A593)))>0,\"X\",\"\")","v":""},"MRS 08786 Spiando Marina (23.05.1992) - Debora Caprioglio (03.05.1968) 24-20",0,"nein"]
["MRS 08786 Spiando Marina (23.05.1992) - Debora Caprioglio (03.05.1968) 24-20 134.mp4",{"$f":"IF(SUMPRODUCT(--ISNUMBER(SEARCH(Rechnung!H$2:H$31, A594)))>0,\"X\",\"\")","v":""},"MRS 08786 Spiando Marina (23.05.1992) - Debora Caprioglio (03.05.1968) 24-20",0,"nein"]
["MRS 08786 Spiando Marina (23.05.1992) - Debora Caprioglio (03.05.1968) 24-20 135.mp4",{"$f":"IF(SUMPRODUCT(--ISNUMBER(SEARCH(Rechnung!H$2:H$31, A595)))>0,\"X\",\"\")","v":""},"MRS 08786 Spiando Marina (23.05.1992) - Debora Caprioglio (03.05.1968) 24-20",0,"nein"]
["MRS 08786 Spiando Marina (23.05.1992) - Debora Caprioglio (03.05.1968) 24-20 136.mp4",{"$f":"IF(SUMPRODUCT(--ISNUMBER(SEARCH(Rechnung!H$2:H$31, A596)))>0,\"X\",\"\")","v":""},"MRS 08786 Spiando Marina (23.05.1992) - Debora Caprioglio (03.05.1968) 24-20",0,"nein"]
["MRS 08786 Spiando Marina (23.05.1992) - Debora Caprioglio (03.05.1968) 24-20 137.mp4",{"$f":"IF(SUMPRODUCT(--ISNUMBER(SEARCH(Rechnung!H$2:H$31, A597)))>0,\"X\",\"\")","v":""},"MRS 08786 Spiando Marina (23.05.1992) - Debora Caprioglio (03.05.1968) 24-20",0,"nein"]
["MRS 08786 Spiando Marina (23.05.1992) - Debora Caprioglio (03.05.1968) 24-20 138.mp4",{"$f":"IF(SUMPRODUCT(--ISNUMBER(SEARCH(Rechnung!H$2:H$31, A598)))>0,\"X\",\"\")","v":""},"MRS 08786 Spiando Marina (23.05.1992) - Debora Caprioglio (03.05.1968) 24-20",0,"nein"]
["MRS 08788 The Idol Daybreak (18.06.2023) - Lily-Rose Depp (27.05.1999) 24-22 2768.mp4",{"$f":"IF(SUMPRODUCT(--ISNUMBER(SEARCH(Rechnung!H$2:H$31, A599)))>0,\"X\",\"\")","v":"X"},"MRS 08788 The Idol Daybreak (18.06.2023) - Lily-Rose Depp (27.05.1999) 24-22",1,"nein"]
["MRS 08788 The Idol Daybreak (18.06.2023) - Lily-Rose Depp (27.05.1999) 24-22 2769.mp4",{"$f":"IF(SUMPRODUCT(--ISNUMBER(SEARCH(Rechnung!H$2:H$31, A600)))>0,\"X\",\"\")","v":"X"},"MRS 08788 The Idol Daybreak (18.06.2023) - Lily-Rose Depp (27.05.1999) 24-22",1,"nein"]
["MRS 08791 Year of the Carnivore (10.09.2009) - Cristin Milioti (16.08.1985) 24-25 3407.mp4",{"$f":"IF(SUMPRODUCT(--ISNUMBER(SEARCH(Rechnung!H$2:H$31, A601)))>0,\"X\",\"\")","v":""},"MRS 08791 Year of the Carnivore (10.09.2009) - Cristin Milioti (16.08.1985) 24-25",0,"nein"]
["MRS 08791 Year of the Carnivore (10.09.2009) - Cristin Milioti (16.08.1985) 24-25 3408.mp4",{"$f":"IF(SUMPRODUCT(--ISNUMBER(SEARCH(Rechnung!H$2:H$31, A602)))>0,\"X\",\"\")","v":""},"MRS 08791 Year of the Carnivore (10.09.2009) - Cristin Milioti (16.08.1985) 24-25",0,"nein"]
["MRS 08795 The Idol Stars Belong to the World (25.06.2023) - Lily-Rose Depp (27.05.1999) 24-29 2770.mp4",{"$f":"IF(SUMPRODUCT(--ISNUMBER(SEARCH(Rechnung!H$2:H$31, A603)))>0,\"X\",\"\")","v":"X"},"MRS 08795 The Idol Stars Belong to the World (25.06.2023) - Lily-Rose Depp (27.05.1999) 24-29",1,"nein"]
["MRS 08795 The Idol Stars Belong to the World (25.06.2023) - Lily-Rose Depp (27.05.1999) 24-29 2771.mp4",{"$f":"IF(SUMPRODUCT(--ISNUMBER(SEARCH(Rechnung!H$2:H$31, A604)))>0,\"X\",\"\")","v":"X"},"MRS 08795 The Idol Stars Belong to the World (25.06.2023) - Lily-Rose Depp (27.05.1999) 24-29",1,"nein"]
["MRS 08795 The Idol Stars Belong to the World (25.06.2023) - Lily-Rose Depp (27.05.1999) 24-29 2772.mp4",{"$f":"IF(SUMPRODUCT(--ISNUMBER(SEARCH(Rechnung!H$2:H$31, A605)))>0,\"X\",\"\")","v":"X"},"MRS 08795 The Idol Stars Belong to the World (25.06.2023) - Lily-Rose Depp (27.05.1999) 24-29",1,"nein"]
["MRS 08796 Higher Learning (11.01.1995) - Jennifer Connelly (12.12.1970) 24-30 1127.mp4",{"$f":"IF(SUMPRODUCT(--ISNUMBER(SEARCH(Rechnung!H$2:H$31, A606)))>0,\"X\",\"\")","v":""},"MRS 08796 Higher Learning (11.01.1995) - Jennifer Connelly (12.12.1970) 24-30",0,"nein"]
["MRS 08799 Casanova (09.02.2006) - Lauren Cohan (07.01.1982) 24-33 570.mp4",{"$f":"IF(SUMPRODUCT(--ISNUMBER(SEARCH(Rechnung!H$2:H$31, A607)))>0,\"X\",\"\")","v":""},"MRS 08799 Casanova (09.02.2006) - Lauren Cohan (07.01.1982) 24-33",0,"nein"]
["MRS 08802 The Idol Jocelyn Forever (02.07.2023) - Lily-Rose Depp (27.05.1999) 24-36 2773.mp4",{"$f":"IF(SUMPRODUCT(--ISNUMBER(SEARCH(Rechnung!H$2:H$31, A608)))>0,\"X\",\"\")","v":"X"},"MRS 08802 The Idol Jocelyn Forever (02.07.2023) - Lily-Rose Depp (27.05.1999) 24-36",1,"nein"]
["MRS 08804 Magic Magic (28.08.2013) - Juno Temple (21.07.1989) 24-38 1623.mp4",{"$f":"IF(SUMPRODUCT(--ISNUMBER(SEARCH(Rechnung!H$2:H$31, A609)))>0,\"X\",\"\")","v":""},"MRS 08804 Magic Magic (28.08.2013) - Juno Temple (21.07.1989) 24-38",0,"nein"]
["MRS 08804 Magic Magic (28.08.2013) - Juno Temple (21.07.1989) 24-38 1624.mp4",{"$f":"IF(SUMPRODUCT(--ISNUMBER(SEARCH(Rechnung!H$2:H$31, A610)))>0,\"X\",\"\")","v":""},"MRS 08804 Magic Magic (28.08.2013) - Juno Temple (21.07.1989) 24-38",0,"nein"]
["MRS 08804 Magic Magic (28.08.2013) - Juno Temple (21.07.1989) 24-38 1625.mp4",{"$f":"IF(SUMPRODUCT(--ISNUMBER(SEARCH(Rechnung!H$2:H$31, A611)))>0,\"X\",\"\")","v":""},"MRS 08804 Magic Magic (28.08.2013) - Juno Temple (21.07.1989) 24-38",0,"nein"]
["MRS 08822 House of Cards Chapter 24 (06.09.2014) - Rachel Brosnahan (12.07.1990) 24-56 1169.mp4",{"$f":"IF(SUMPRODUCT(--ISNUMBER(SEARCH(Rechnung!H$2:H$31, A612)))>0,\"X\",\"\")","v":""},"MRS 08822 House of Cards Chapter 24 (06.09.2014) - Rachel Brosnahan (12.07.1990) 24-56",0,"nein"]
["MRS 08833 M.F.A. (13.10.2017) - Francesca Eastwood (07.08.1993) 24-67 1589.mp4",{"$f":"IF(SUMPRODUCT(--ISNUMBER(SEARCH(Rechnung!H$2:H$31, A613)))>0,\"X\",\"\")","v":""},"MRS 08833 M.F.A. (13.10.2017) - Francesca Eastwood (07.08.1993) 24-67",0,"nein"]
["MRS 08833 M.F.A. (13.10.2017) - Francesca Eastwood (07.08.1993) 24-67 1590.mp4",{"$f":"IF(SUMPRODUCT(--ISNUMBER(SEARCH(Rechnung!H$2:H$31, A614)))>0,\"X\",\"\")","v":""},"MRS 08833 M.F.A. (13.10.2017) - Francesca Eastwood (07.08.1993) 24-67",0,"nein"]
["MRS 08833 M.F.A. (13.10.2017) - Francesca Eastwood (07.08.1993) 24-67 1591.mp4",{"$f":"IF(SUMPRODUCT(--ISNUMBER(SEARCH(Rechnung!H$2:H$31, A615)))>0,\"X\",\"\")","v":""},"MRS 08833 M.F.A. (13.10.2017) - Francesca Eastwood (07.08.1993) 24-67",0,"nein"]
["MRS 08836 On Chesil Beach (21.06.2018) - Saoirse Ronan (12.04.1994) 24-70 1929.mp4",{"$f":"IF(SUMPRODUCT(--ISNUMBER(SEARCH(Rechnung!H$2:H$31, A616)))>0,\"X\",\"\")","v":""},"MRS 08836 On Chesil Beach (21.06.2018) - Saoirse Ronan (12.04.1994) 24-70",1,"nein"]
["MRS 08836 On Chesil Beach (21.06.2018) - Saoirse Ronan (12.04.1994) 24-70 1930.mp4",{"$f":"IF(SUMPRODUCT(--ISNUMBER(SEARCH(Rechnung!H$2:H$31, A617)))>0,\"X\",\"\")","v":""},"MRS 08836 On Chesil Beach (21.06.2018) - Saoirse Ronan (12.04.1994) 24-70",1,"nein"]
["MRS 08839 Bickford Shmeckler's Cool Ideas (22.05.2008) - Olivia Wilde (10.03.1984) 24-73 247.mp4",{"$f":"IF(SUMPRODUCT(--ISNUMBER(SEARCH(Rechnung!H$2:H$31, A618)))>0,\"X\",\"\")","v":""},"MRS 08839 Bickford Shmeckler's Cool Ideas (22.05.2008) - Olivia Wilde (10.03.1984) 24-73",0,"nein"]
["MRS 08839 Bickford Shmeckler's Cool Ideas (22.05.2008) - Olivia Wilde (10.03.1984) 24-73 248.mp4",{"$f":"IF(SUMPRODUCT(--ISNUMBER(SEARCH(Rechnung!H$2:H$31, A619)))>0,\"X\",\"\")","v":""},"MRS 08839 Bickford Shmeckler's Cool Ideas (22.05.2008) - Olivia Wilde (10.03.1984) 24-73",0,"nein"]
["MRS 08839 Bickford Shmeckler's Cool Ideas (22.05.2008) - Olivia Wilde (10.03.1984) 24-73 249.mp4",{"$f":"IF(SUMPRODUCT(--ISNUMBER(SEARCH(Rechnung!H$2:H$31, A620)))>0,\"X\",\"\")","v":""},"MRS 08839 Bickford Shmeckler's Cool Ideas (22.05.2008) - Olivia Wilde (10.03.1984) 24-73",0,"nein"]
["MRS 08839 Bickford Shmeckler's Cool Ideas (22.05.2008) - Olivia Wilde (10.03.1984) 24-73 250.mp4",{"$f":"IF(SUMPRODUCT(--ISNUMBER(SEARCH(Rechnung!H$2:H$31, A621)))>0,\"X\",\"\")","v":""},"MRS 08839 Bickford Shmeckler's Cool Ideas (22.05.2008) - Olivia Wilde (10.03.1984) 24-73",0,"nein"]
["MRS 08840 Logan's Run (04.03.1977) - Jenny Agutter (20.12.1952) 24-74 1532.mp4",{"$f":"IF(SUMPRODUCT(--ISNUMBER(SEARCH(Rechnung!H$2:H$31, A622)))>0,\"X\",\"\")","v":""},"MRS 08840 Logan's Run (04.03.1977) - Jenny Agutter (20.12.1952) 24-74",0,"nein"]
["MRS 08840 Logan's Run (04.03.1977) - Jenny Agutter (20.12.1952) 24-74 1533.mp4",{"$f":"IF(SUMPRODUCT(--ISNUMBER(SEARCH(Rechnung!H$2:H$31, A623)))>0,\"X\",\"\")","v":""},"MRS 08840 Logan's Run (04.03.1977) - Jenny Agutter (20.12.1952) 24-74",0,"nein"]
["MRS 08848 Holy Smoke (26.12.1999) - Kate Winslet (05.10.1975) 24-82 1132.mp4",{"$f":"IF(SUMPRODUCT(--ISNUMBER(SEARCH(Rechnung!H$2:H$31, A624)))>0,\"X\",\"\")","v":""},"MRS 08848 Holy Smoke (26.12.1999) - Kate Winslet (05.10.1975) 24-82",0,"nein"]
["MRS 08848 Holy Smoke (26.12.1999) - Kate Winslet (05.10.1975) 24-82 1133.mp4",{"$f":"IF(SUMPRODUCT(--ISNUMBER(SEARCH(Rechnung!H$2:H$31, A625)))>0,\"X\",\"\")","v":""},"MRS 08848 Holy Smoke (26.12.1999) - Kate Winslet (05.10.1975) 24-82",0,"nein"]
["MRS 08848 Holy Smoke (26.12.1999) - Kate Winslet (05.10.1975) 24-82 1134.mp4",{"$f":"IF(SUMPRODUCT(--ISNUMBER(SEARCH(Rechnung!H$2:H$31, A626)))>0,\"X\",\"\")","v":""},"MRS 08848 Holy Smoke (26.12.1999) - Kate Winslet (05.10.1975) 24-82",0,"nein"]
["MRS 08848 Holy Smoke (26.12.1999) - Kate Winslet (05.10.1975) 24-82 1135.mp4",{"$f":"IF(SUMPRODUCT(--ISNUMBER(SEARCH(Rechnung!H$2:H$31, A627)))>0,\"X\",\"\")","v":""},"MRS 08848 Holy Smoke (26.12.1999) - Kate Winslet (05.10.1975) 24-82",0,"nein"]
["MRS 08850 Nashville She's Got You (13.11.2013) - Hayden Panettiere (21.08.1989) 24-84 1831.mp4",{"$f":"IF(SUMPRODUCT(--ISNUMBER(SEARCH(Rechnung!H$2:H$31, A628)))>0,\"X\",\"\")","v":""},"MRS 08850 Nashville She's Got You (13.11.2013) - Hayden Panettiere (21.08.1989) 24-84",0,"nein"]
["MRS 08852 Where the Crawdads Sing (18.08.2022) - Daisy Edgar-Jones (24.05.1998) 24-86 3327.mp4",{"$f":"IF(SUMPRODUCT(--ISNUMBER(SEARCH(Rechnung!H$2:H$31, A629)))>0,\"X\",\"\")","v":"X"},"MRS 08852 Where the Crawdads Sing (18.08.2022) - Daisy Edgar-Jones (24.05.1998) 24-86",1,"nein"]
["MRS 08853 IO (18.01.2019) - Margaret Qualley (23.10.1994) 24-87 1235.mp4",{"$f":"IF(SUMPRODUCT(--ISNUMBER(SEARCH(Rechnung!H$2:H$31, A630)))>0,\"X\",\"\")","v":""},"MRS 08853 IO (18.01.2019) - Margaret Qualley (23.10.1994) 24-87",1,"nein"]
["MRS 08853 The Disappearance of Alice Creed (30.04.2010) - Gemma Arterton (02.02.1986) 24-87 2642.mp4",{"$f":"IF(SUMPRODUCT(--ISNUMBER(SEARCH(Rechnung!H$2:H$31, A631)))>0,\"X\",\"\")","v":""},"MRS 08853 The Disappearance of Alice Creed (30.04.2010) - Gemma Arterton (02.02.1986) 24-87",0,"nein"]
["MRS 08853 The Disappearance of Alice Creed (30.04.2010) - Gemma Arterton (02.02.1986) 24-87 2643.mp4",{"$f":"IF(SUMPRODUCT(--ISNUMBER(SEARCH(Rechnung!H$2:H$31, A632)))>0,\"X\",\"\")","v":""},"MRS 08853 The Disappearance of Alice Creed (30.04.2010) - Gemma Arterton (02.02.1986) 24-87",0,"nein"]
["MRS 08853 The Disappearance of Alice Creed (30.04.2010) - Gemma Arterton (02.02.1986) 24-87 2644.mp4",{"$f":"IF(SUMPRODUCT(--ISNUMBER(SEARCH(Rechnung!H$2:H$31, A633)))>0,\"X\",\"\")","v":""},"MRS 08853 The Disappearance of Alice Creed (30.04.2010) - Gemma Arterton (02.02.1986) 24-87",0,"nein"]
["MRS 08853 The Disappearance of Alice Creed (30.04.2010) - Gemma Arterton (02.02.1986) 24-87 2645.mp4",{"$f":"IF(SUMPRODUCT(--ISNUMBER(SEARCH(Rechnung!H$2:H$31, A634)))>0,\"X\",\"\")","v":""},"MRS 08853 The Disappearance of Alice Creed (30.04.2010) - Gemma Arterton (02.02.1986) 24-87",0,"nein"]
["MRS 08853 The Long Weekend (29.06.2006) - Cobie Smulders (03.04.1982) 24-87 2846.mp4",{"$f":"IF(SUMPRODUCT(--ISNUMBER(SEARCH(Rechnung!H$2:H$31, A635)))>0,\"X\",\"\")","v":""},"MRS 08853 The Long Weekend (29.06.2006) - Cobie Smulders (03.04.1982) 24-87",0,"nein"]
["MRS 08856 Mother, May I Sleep with Danger (18.06.2016) - Leila George (20.03.1992) 24-90 1760.mp4",{"$f":"IF(SUMPRODUCT(--ISNUMBER(SEARCH(Rechnung!H$2:H$31, A636)))>0,\"X\",\"\")","v":""},"MRS 08856 Mother, May I Sleep with Danger (18.06.2016) - Leila George (20.03.1992) 24-90",0,"nein"]
["MRS 08860 Euphoria Trouble Don't Last Always (04.12.2020) - Zendaya (01.09.1996) 24-94 814.mp4",{"$f":"IF(SUMPRODUCT(--ISNUMBER(SEARCH(Rechnung!H$2:H$31, A637)))>0,\"X\",\"\")","v":"X"},"MRS 08860 Euphoria Trouble Don't Last Always (04.12.2020) - Zendaya (01.09.1996) 24-94",1,"nein"]
["MRS 08862 ¿Quién mató a Bambi (15.11.2013) - Úrsula Corberó (11.08.1989) 24-96 2107.mp4",{"$f":"IF(SUMPRODUCT(--ISNUMBER(SEARCH(Rechnung!H$2:H$31, A638)))>0,\"X\",\"\")","v":""},"MRS 08862 ¿Quién mató a Bambi (15.11.2013) - Úrsula Corberó (11.08.1989) 24-96",0,"nein"]
["MRS 08864 The Borgias Paolo (03.07.2012) - Holliday Grainger (27.03.1988) 24-98 2548.mp4",{"$f":"IF(SUMPRODUCT(--ISNUMBER(SEARCH(Rechnung!H$2:H$31, A639)))>0,\"X\",\"\")","v":""},"MRS 08864 The Borgias Paolo (03.07.2012) - Holliday Grainger (27.03.1988) 24-98",0,"nein"]
["MRS 08864 The Borgias Paolo (03.07.2012) - Holliday Grainger (27.03.1988) 24-98 2549.mp4",{"$f":"IF(SUMPRODUCT(--ISNUMBER(SEARCH(Rechnung!H$2:H$31, A640)))>0,\"X\",\"\")","v":""},"MRS 08864 The Borgias Paolo (03.07.2012) - Holliday Grainger (27.03.1988) 24-98",0,"nein"]
["MRS 08878 Katie Says Goodbye (18.04.2018) - Olivia Cooke (27.12.1993) 24-112 1354.mp4",{"$f":"IF(SUMPRODUCT(--ISNUMBER(SEARCH(Rechnung!H$2:H$31, A641)))>0,\"X\",\"\")","v":""},"MRS 08878 Katie Says Goodbye (18.04.2018) - Olivia Cooke (27.12.1993) 24-112",1,"nein"]
["MRS 08878 Katie Says Goodbye (18.04.2018) - Olivia Cooke (27.12.1993) 24-112 1355.mp4",{"$f":"IF(SUMPRODUCT(--ISNUMBER(SEARCH(Rechnung!H$2:H$31, A642)))>0,\"X\",\"\")","v":""},"MRS 08878 Katie Says Goodbye (18.04.2018) - Olivia Cooke (27.12.1993) 24-112",1,"nein"]
["MRS 08878 Katie Says Goodbye (18.04.2018) - Olivia Cooke (27.12.1993) 24-112 1356.mp4",{"$f":"IF(SUMPRODUCT(--ISNUMBER(SEARCH(Rechnung!H$2:H$31, A643)))>0,\"X\",\"\")","v":""},{"$f":"LEFT(A643, LEN(A643) - LEN(MID(A643, FIND(\"~\", SUBSTITUTE(A643,\" \",\"~\", LEN(A643)-LEN(SUBSTITUTE(A643,\" \",\"\")))), LEN(A643))))","v":"MRS 08878 Katie Says Goodbye (18.04.2018) - Olivia Cooke (27.12.1993) 24-112"},1,{"$f":"IF(AND(B643=\"X\",D643=0),\"ja\",\"nein\")","v":"nein"}]
["MRS 08878 Katie Says Goodbye (18.04.2018) - Olivia Cooke (27.12.1993) 24-112 1357.mp4",{"$f":"IF(SUMPRODUCT(--ISNUMBER(SEARCH(Rechnung!H$2:H$31, A644)))>0,\"X\",\"\")","v":""},"MRS 08878 Katie Says Goodbye (18.04.2018) - Olivia Cooke (27.12.1993) 24-112",1,"nein"]
["MRS 08878 Katie Says Goodbye (18.04.2018) - Olivia Cooke (27.12.1993) 24-112 1358.mp4",{"$f":"IF(SUMPRODUCT(--ISNUMBER(SEARCH(Rechnung!H$2:H$31, A645)))>0,\"X\",\"\")","v":""},"MRS 08878 Katie Says Goodbye (18.04.2018) - Olivia Cooke (27.12.1993) 24-112",1,"nein"]
["MRS 08878 Katie Says Goodbye (18.04.2018) - Olivia Cooke (27.12.1993) 24-112 1359.mp4",{"$f":"IF(SUMPRODUCT(--ISNUMBER(SEARCH(Rechnung!H$2:H$31, A646)))>0,\"X\",\"\")","v":""},"MRS 08878 Katie Says Goodbye (18.04.2018) - Olivia Cooke (27.12.1993) 24-112",1,"nein"]
["MRS 08878 Teen Choice Awards 2016 (31.07.2016) - Daisy Ridley (10.04.1992) 24-112 2512.mp4",{"$f":"IF(SUMPRODUCT(--ISNUMBER(SEARCH(Rechnung!H$2:H$31, A647)))>0,\"X\",\"\")","v":""},"MRS 08878 Teen Choice Awards 2016 (31.07.2016) - Daisy Ridley (10.04.1992) 24-112",0,"nein"]
["MRS 08881 Donnybrook (15.02.2019) - Margaret Qualley (23.10.1994) 24-115 640.mp4",{"$f":"IF(SUMPRODUCT(--ISNUMBER(SEARCH(Rechnung!H$2:H$31, A648)))>0,\"X\",\"\")","v":""},"MRS 08881 Donnybrook (15.02.2019) - Margaret Qualley (23.10.1994) 24-115",1,"nein"]
["MRS 08885 The Edge of Love (23.07.2009) - Keira Knightley (26.03.1985) 24-119 2686.mp4",{"$f":"IF(SUMPRODUCT(--ISNUMBER(SEARCH(Rechnung!H$2:H$31, A649)))>0,\"X\",\"\")","v":""},"MRS 08885 The Edge of Love (23.07.2009) - Keira Knightley (26.03.1985) 24-119",0,"nein"]
["MRS 08889 Allegiant (17.03.2016) - Shailene Woodley (15.11.1991) 24-123 125.mp4",{"$f":"IF(SUMPRODUCT(--ISNUMBER(SEARCH(Rechnung!H$2:H$31, A650)))>0,\"X\",\"\")","v":""},"MRS 08889 Allegiant (17.03.2016) - Shailene Woodley (15.11.1991) 24-123",0,"nein"]
["MRS 08891 Machete (04.11.2010) - Lindsay Lohan (02.07.1986) 24-125 1601.mp4",{"$f":"IF(SUMPRODUCT(--ISNUMBER(SEARCH(Rechnung!H$2:H$31, A651)))>0,\"X\",\"\")","v":""},"MRS 08891 Machete (04.11.2010) - Lindsay Lohan (02.07.1986) 24-125",0,"nein"]
["MRS 08891 Machete (04.11.2010) - Lindsay Lohan (02.07.1986) 24-125 1602.mp4",{"$f":"IF(SUMPRODUCT(--ISNUMBER(SEARCH(Rechnung!H$2:H$31, A652)))>0,\"X\",\"\")","v":""},"MRS 08891 Machete (04.11.2010) - Lindsay Lohan (02.07.1986) 24-125",0,"nein"]
["MRS 08891 May in the Summer (21.08.2013) - Alia Shawkat (18.04.1989) 24-125 1715.mp4",{"$f":"IF(SUMPRODUCT(--ISNUMBER(SEARCH(Rechnung!H$2:H$31, A653)))>0,\"X\",\"\")","v":""},"MRS 08891 May in the Summer (21.08.2013) - Alia Shawkat (18.04.1989) 24-125",0,"nein"]
["MRS 08892 Euphoria Out of Touch (16.01.2022) - Sydney Sweeney (12.09.1997) 24-126 822.mp4",{"$f":"IF(SUMPRODUCT(--ISNUMBER(SEARCH(Rechnung!H$2:H$31, A654)))>0,\"X\",\"\")","v":"X"},"MRS 08892 Euphoria Out of Touch (16.01.2022) - Sydney Sweeney (12.09.1997) 24-126",1,"nein"]
["MRS 08906 Chloe (22.04.2010) - Amanda Seyfried (03.12.1985) 24-140 45.mp4",{"$f":"IF(SUMPRODUCT(--ISNUMBER(SEARCH(Rechnung!H$2:H$31, A655)))>0,\"X\",\"\")","v":""},"MRS 08906 Chloe (22.04.2010) - Amanda Seyfried (03.12.1985) 24-140",0,"nein"]
["MRS 08906 Chloe (22.04.2010) - Amanda Seyfried (03.12.1985) 24-140 46.mp4",{"$f":"IF(SUMPRODUCT(--ISNUMBER(SEARCH(Rechnung!H$2:H$31, A656)))>0,\"X\",\"\")","v":""},"MRS 08906 Chloe (22.04.2010) - Amanda Seyfried (03.12.1985) 24-140",0,"nein"]
["MRS 08906 Chloe (22.04.2010) - Amanda Seyfried (03.12.1985) 24-140 47.mp4",{"$f":"IF(SUMPRODUCT(--ISNUMBER(SEARCH(Rechnung!H$2:H$31, A657)))>0,\"X\",\"\")","v":""},"MRS 08906 Chloe (22.04.2010) - Amanda Seyfried (03.12.1985) 24-140",0,"nein"]
["MRS 08906 Chloe (22.04.2010) - Amanda Seyfried (03.12.1985) 24-140 48.mp4",{"$f":"IF(SUMPRODUCT(--ISNUMBER(SEARCH(Rechnung!H$2:H$31, A658)))>0,\"X\",\"\")","v":""},"MRS 08906 Chloe (22.04.2010) - Amanda Seyfried (03.12.1985) 24-140",0,"nein"]
["MRS 08906 Chloe (22.04.2010) - Amanda Seyfried (03.12.1985) 24-140 49.mp4",{"$f":"IF(SUMPRODUCT(--ISNUMBER(SEARCH(Rechnung!H$2:H$31, A659)))>0,\"X\",\"\")","v":""},"MRS 08906 Chloe (22.04.2010) - Amanda Seyfried (03.12.1985) 24-140",0,"nein"]
["MRS 08906 Chloe (22.04.2010) - Amanda Seyfried (03.12.1985) 24-140 50.mp4",{"$f":"IF(SUMPRODUCT(--ISNUMBER(SEARCH(Rechnung!H$2:H$31, A660)))>0,\"X\",\"\")","v":""},"MRS 08906 Chloe (22.04.2010) - Amanda Seyfried (03.12.1985) 24-140",0,"nein"]
["MRS 08906 Chloe (22.04.2010) - Amanda Seyfried (03.12.1985) 24-140 51.mp4",{"$f":"IF(SUMPRODUCT(--ISNUMBER(SEARCH(Rechnung!H$2:H$31, A661)))>0,\"X\",\"\")","v":""},"MRS 08906 Chloe (22.04.2010) - Amanda Seyfried (03.12.1985) 24-140",0,"nein"]
["MRS 08909 The Knick Williams and Walker (27.11.2015) - Eve Hewson (07.07.1991) 24-143 2790.mp4",{"$f":"IF(SUMPRODUCT(--ISNUMBER(SEARCH(Rechnung!H$2:H$31, A662)))>0,\"X\",\"\")","v":""},"MRS 08909 The Knick Williams and Walker (27.11.2015) - Eve Hewson (07.07.1991) 24-143",0,"nein"]
["MRS 08912 England Is Mine (04.08.2017) - Jodie Comer (11.03.1993) 24-146 718.mp4",{"$f":"IF(SUMPRODUCT(--ISNUMBER(SEARCH(Rechnung!H$2:H$31, A663)))>0,\"X\",\"\")","v":""},"MRS 08912 England Is Mine (04.08.2017) - Jodie Comer (11.03.1993) 24-146",0,"nein"]
["MRS 08912 England Is Mine (04.08.2017) - Jodie Comer (11.03.1993) 24-146 719.mp4",{"$f":"IF(SUMPRODUCT(--ISNUMBER(SEARCH(Rechnung!H$2:H$31, A664)))>0,\"X\",\"\")","v":""},"MRS 08912 England Is Mine (04.08.2017) - Jodie Comer (11.03.1993) 24-146",0,"nein"]
["MRS 08912 England Is Mine (04.08.2017) - Jodie Comer (11.03.1993) 24-146 720.mp4",{"$f":"IF(SUMPRODUCT(--ISNUMBER(SEARCH(Rechnung!H$2:H$31, A665)))>0,\"X\",\"\")","v":""},"MRS 08912 England Is Mine (04.08.2017) - Jodie Comer (11.03.1993) 24-146",0,"nein"]
["MRS 08920 Dear John (06.05.2010) - Amanda Seyfried (03.12.1985) 24-154 54.mp4",{"$f":"IF(SUMPRODUCT(--ISNUMBER(SEARCH(Rechnung!H$2:H$31, A666)))>0,\"X\",\"\")","v":""},"MRS 08920 Dear John (06.05.2010) - Amanda Seyfried (03.12.1985) 24-154",0,"nein"]
["MRS 08920 Dear John (06.05.2010) - Amanda Seyfried (03.12.1985) 24-154 55.mp4",{"$f":"IF(SUMPRODUCT(--ISNUMBER(SEARCH(Rechnung!H$2:H$31, A667)))>0,\"X\",\"\")","v":""},"MRS 08920 Dear John (06.05.2010) - Amanda Seyfried (03.12.1985) 24-154",0,"nein"]
["MRS 08920 Dear John (06.05.2010) - Amanda Seyfried (03.12.1985) 24-154 56.mp4",{"$f":"IF(SUMPRODUCT(--ISNUMBER(SEARCH(Rechnung!H$2:H$31, A668)))>0,\"X\",\"\")","v":""},"MRS 08920 Dear John (06.05.2010) - Amanda Seyfried (03.12.1985) 24-154",0,"nein"]
["MRS 08925 Wide Sargasso Sea (09.10.2006) - Rebecca Hall (03.05.1982) 24-159 3341.mp4",{"$f":"IF(SUMPRODUCT(--ISNUMBER(SEARCH(Rechnung!H$2:H$31, A669)))>0,\"X\",\"\")","v":""},"MRS 08925 Wide Sargasso Sea (09.10.2006) - Rebecca Hall (03.05.1982) 24-159",0,"nein"]
["MRS 08925 Wide Sargasso Sea (09.10.2006) - Rebecca Hall (03.05.1982) 24-159 3342.mp4",{"$f":"IF(SUMPRODUCT(--ISNUMBER(SEARCH(Rechnung!H$2:H$31, A670)))>0,\"X\",\"\")","v":""},"MRS 08925 Wide Sargasso Sea (09.10.2006) - Rebecca Hall (03.05.1982) 24-159",0,"nein"]
["MRS 08925 Wide Sargasso Sea (09.10.2006) - Rebecca Hall (03.05.1982) 24-159 3343.mp4",{"$f":"IF(SUMPRODUCT(--ISNUMBER(SEARCH(Rechnung!H$2:H$31, A671)))>0,\"X\",\"\")","v":""},"MRS 08925 Wide Sargasso Sea (09.10.2006) - Rebecca Hall (03.05.1982) 24-159",0,"nein"]
["MRS 08925 Wide Sargasso Sea (09.10.2006) - Rebecca Hall (03.05.1982) 24-159 3344.mp4",{"$f":"IF(SUMPRODUCT(--ISNUMBER(SEARCH(Rechnung!H$2:H$31, A672)))>0,\"X\",\"\")","v":""},"MRS 08925 Wide Sargasso Sea (09.10.2006) - Rebecca Hall (03.05.1982) 24-159",0,"nein"]
["MRS 08933 Twin Peaks Fire Walk with Me (20.08.1992) - Moira Kelly (06.03.1968) 24-167 699.mp4",{"$f":"IF(SUMPRODUCT(--ISNUMBER(SEARCH(Rechnung!H$2:H$31, A673)))>0,\"X\",\"\")","v":""},"MRS 08933 Twin Peaks Fire Walk with Me (20.08.1992) - Moira Kelly (06.03.1968) 24-167",0,"nein"]
["MRS 08950 Some Voices (25.08.2000) - Kelly Macdonald (23.02.1976) 24-184 2358.mp4",{"$f":"IF(SUMPRODUCT(--ISNUMBER(SEARCH(Rechnung!H$2:H$31, A674)))>0,\"X\",\"\")","v":""},"MRS 08950 Some Voices (25.08.2000) - Kelly Macdonald (23.02.1976) 24-184",0,"nein"]
["MRS 08952 Marie Antoinette (02.11.2006) - Kirsten Dunst (30.04.1982) 24-186 1688.mp4",{"$f":"IF(SUMPRODUCT(--ISNUMBER(SEARCH(Rechnung!H$2:H$31, A675)))>0,\"X\",\"\")","v":""},"MRS 08952 Marie Antoinette (02.11.2006) - Kirsten Dunst (30.04.1982) 24-186",0,"nein"]
["MRS 08952 Marie Antoinette (02.11.2006) - Kirsten Dunst (30.04.1982) 24-186 1689.mp4",{"$f":"IF(SUMPRODUCT(--ISNUMBER(SEARCH(Rechnung!H$2:H$31, A676)))>0,\"X\",\"\")","v":""},"MRS 08952 Marie Antoinette (02.11.2006) - Kirsten Dunst (30.04.1982) 24-186",0,"nein"]
["MRS 08956 The Sopranos D-Girl (27.02.2000) - Alicia Witt (21.08.1975) 24-190 3005.mp4",{"$f":"IF(SUMPRODUCT(--ISNUMBER(SEARCH(Rechnung!H$2:H$31, A677)))>0,\"X\",\"\")","v":""},"MRS 08956 The Sopranos D-Girl (27.02.2000) - Alicia Witt (21.08.1975) 24-190",0,"nein"]
["MRS 08958 Euphoria Trying to Get to Heaven Before They Close the Door (23.03.2022) - Sydney Sweeney (12.09.1997) 24-192 816.mp4",{"$f":"IF(SUMPRODUCT(--ISNUMBER(SEARCH(Rechnung!H$2:H$31, A678)))>0,\"X\",\"\")","v":"X"},"MRS 08958 Euphoria Trying to Get to Heaven Before They Close the Door (23.03.2022) - Sydney Sweeney (12.09.1997) 24-192",1,"nein"]
["MRS 08958 Euphoria Trying to Get to Heaven Before They Close the Door (23.03.2022) - Sydney Sweeney (12.09.1997) 24-192 817.mp4",{"$f":"IF(SUMPRODUCT(--ISNUMBER(SEARCH(Rechnung!H$2:H$31, A679)))>0,\"X\",\"\")","v":"X"},"MRS 08958 Euphoria Trying to Get to Heaven Before They Close the Door (23.03.2022) - Sydney Sweeney (12.09.1997) 24-192",1,"nein"]
["MRS 08960 My Name Is Tanino (30.05.2003) - Rachel McAdams (17.11.1978) 24-194 1795.mp4",{"$f":"IF(SUMPRODUCT(--ISNUMBER(SEARCH(Rechnung!H$2:H$31, A680)))>0,\"X\",\"\")","v":""},"MRS 08960 My Name Is Tanino (30.05.2003) - Rachel McAdams (17.11.1978) 24-194",0,"nein"]
["MRS 08960 My Name Is Tanino (30.05.2003) - Rachel McAdams (17.11.1978) 24-194 1796.mp4",{"$f":"IF(SUMPRODUCT(--ISNUMBER(SEARCH(Rechnung!H$2:H$31, A681)))>0,\"X\",\"\")","v":""},"MRS 08960 My Name Is Tanino (30.05.2003) - Rachel McAdams (17.11.1978) 24-194",0,"nein"]
["MRS 08960 My Name Is Tanino (30.05.2003) - Rachel McAdams (17.11.1978) 24-194 1797.mp4",{"$f":"IF(SUMPRODUCT(--ISNUMBER(SEARCH(Rechnung!H$2:H$31, A682)))>0,\"X\",\"\")","v":""},"MRS 08960 My Name Is Tanino (30.05.2003) - Rachel McAdams (17.11.1978) 24-194",0,"nein"]
["MRS 08962 Habit (22.04.2022) - Bella Thorne (08.10.1997) 24-196 65.mp4",{"$f":"IF(SUMPRODUCT(--ISNUMBER(SEARCH(Rechnung!H$2:H$31, A683)))>0,\"X\",\"\")","v":"X"},"MRS 08962 Habit (22.04.2022) - Bella Thorne (08.10.1997) 24-196",0,"ja"]
["MRS 08962 Habit (22.04.2022) - Bella Thorne (08.10.1997) 24-196 66.mp4",{"$f":"IF(SUMPRODUCT(--ISNUMBER(SEARCH(Rechnung!H$2:H$31, A684)))>0,\"X\",\"\")","v":"X"},"MRS 08962 Habit (22.04.2022) - Bella Thorne (08.10.1997) 24-196",0,"ja"]
["MRS 08962 Habit (22.04.2022) - Bella Thorne (08.10.1997) 24-196 67.mp4",{"$f":"IF(SUMPRODUCT(--ISNUMBER(SEARCH(Rechnung!H$2:H$31, A685)))>0,\"X\",\"\")","v":"X"},"MRS 08962 Habit (22.04.2022) - Bella Thorne (08.10.1997) 24-196",0,"ja"]
["MRS 08962 Habit (22.04.2022) - Bella Thorne (08.10.1997) 24-196 68.mp4",{"$f":"IF(SUMPRODUCT(--ISNUMBER(SEARCH(Rechnung!H$2:H$31, A686)))>0,\"X\",\"\")","v":"X"},"MRS 08962 Habit (22.04.2022) - Bella Thorne (08.10.1997) 24-196",0,"ja"]
["MRS 08962 Habit (22.04.2022) - Bella Thorne (08.10.1997) 24-196 69.mp4",{"$f":"IF(SUMPRODUCT(--ISNUMBER(SEARCH(Rechnung!H$2:H$31, A687)))>0,\"X\",\"\")","v":"X"},"MRS 08962 Habit (22.04.2022) - Bella Thorne (08.10.1997) 24-196",0,"ja"]
["MRS 08962 Habit (22.04.2022) - Bella Thorne (08.10.1997) 24-196 70.mp4",{"$f":"IF(SUMPRODUCT(--ISNUMBER(SEARCH(Rechnung!H$2:H$31, A688)))>0,\"X\",\"\")","v":"X"},"MRS 08962 Habit (22.04.2022) - Bella Thorne (08.10.1997) 24-196",0,"ja"]
["MRS 08962 Habit (22.04.2022) - Bella Thorne (08.10.1997) 24-196 71.mp4",{"$f":"IF(SUMPRODUCT(--ISNUMBER(SEARCH(Rechnung!H$2:H$31, A689)))>0,\"X\",\"\")","v":"X"},"MRS 08962 Habit (22.04.2022) - Bella Thorne (08.10.1997) 24-196",0,"ja"]
["MRS 08971 Loaded (25.10.1996) - Catherine McCormack (03.04.1972) 24-205 1530.mp4",{"$f":"IF(SUMPRODUCT(--ISNUMBER(SEARCH(Rechnung!H$2:H$31, A690)))>0,\"X\",\"\")","v":""},"MRS 08971 Loaded (25.10.1996) - Catherine McCormack (03.04.1972) 24-205",0,"nein"]
["MRS 08971 Loaded (25.10.1996) - Catherine McCormack (03.04.1972) 24-205 1531.mp4",{"$f":"IF(SUMPRODUCT(--ISNUMBER(SEARCH(Rechnung!H$2:H$31, A691)))>0,\"X\",\"\")","v":""},"MRS 08971 Loaded (25.10.1996) - Catherine McCormack (03.04.1972) 24-205",0,"nein"]
["MRS 08975 Swimming with Sharks Chapter Four (06.06.2024) - Kiernan Shipka (10.11.1999) 24-209 2486.mp4",{"$f":"IF(SUMPRODUCT(--ISNUMBER(SEARCH(Rechnung!H$2:H$31, A692)))>0,\"X\",\"\")","v":"X"},"MRS 08975 Swimming with Sharks Chapter Four (06.06.2024) - Kiernan Shipka (10.11.1999) 24-209",1,"nein"]
["MRS 08984 The Strange Vengeance of Rosalie (29.10.1972) - Bonnie Bedelia (25.03.1948) 24-218 3011.mp4",{"$f":"IF(SUMPRODUCT(--ISNUMBER(SEARCH(Rechnung!H$2:H$31, A693)))>0,\"X\",\"\")","v":""},"MRS 08984 The Strange Vengeance of Rosalie (29.10.1972) - Bonnie Bedelia (25.03.1948) 24-218",0,"nein"]
["MRS 08988 The Cider House Rules (16.03.2000) - Charlize Theron (07.08.1975) 24-222 2608.mp4",{"$f":"IF(SUMPRODUCT(--ISNUMBER(SEARCH(Rechnung!H$2:H$31, A694)))>0,\"X\",\"\")","v":""},"MRS 08988 The Cider House Rules (16.03.2000) - Charlize Theron (07.08.1975) 24-222",0,"nein"]
["MRS 08988 The Cider House Rules (16.03.2000) - Charlize Theron (07.08.1975) 24-222 2609.mp4",{"$f":"IF(SUMPRODUCT(--ISNUMBER(SEARCH(Rechnung!H$2:H$31, A695)))>0,\"X\",\"\")","v":""},"MRS 08988 The Cider House Rules (16.03.2000) - Charlize Theron (07.08.1975) 24-222",0,"nein"]
["MRS 08999 The Tonight Show Starring Jimmy Fallon Benedict CumberbatchSydney SweeneyFather John Misty (03.05.2022) - Sydney Sweeney (12.09.1997) 24-233 3075.mp4",{"$f":"IF(SUMPRODUCT(--ISNUMBER(SEARCH(Rechnung!H$2:H$31, A696)))>0,\"X\",\"\")","v":"X"},"MRS 08999 The Tonight Show Starring Jimmy Fallon Benedict CumberbatchSydney SweeneyFather John Misty (03.05.2022) - Sydney Sweeney (12.09.1997) 24-233",1,"nein"]
["MRS 09000 Without Name (17.02.2017) - Niamh Algar (28.06.1992) 24-234 714.mp4",{"$f":"IF(SUMPRODUCT(--ISNUMBER(SEARCH(Rechnung!H$2:H$31, A697)))>0,\"X\",\"\")","v":""},"MRS 09000 Without Name (17.02.2017) - Niamh Algar (28.06.1992) 24-234",0,"nein"]
["MRS 09000 Without Name (17.02.2017) - Niamh Algar (28.06.1992) 24-234 715.mp4",{"$f":"IF(SUMPRODUCT(--ISNUMBER(SEARCH(Rechnung!H$2:H$31, A698)))>0,\"X\",\"\")","v":""},"MRS 09000 Without Name (17.02.2017) - Niamh Algar (28.06.1992) 24-234",0,"nein"]
["MRS 09002 My Name Is Emily (08.04.2016) - Evanna Lynch (16.08.1991) 24-236 1794.mp4",{"$f":"IF(SUMPRODUCT(--ISNUMBER(SEARCH(Rechnung!H$2:H$31, A699)))>0,\"X\",\"\")","v":""},"MRS 09002 My Name Is Emily (08.04.2016) - Evanna Lynch (16.08.1991) 24-236",0,"nein"]
["MRS 09011 Billy Bathgate (20.02.1992) - Nicole Kidman (20.06.1967) 24-245 262.mp4",{"$f":"IF(SUMPRODUCT(--ISNUMBER(SEARCH(Rechnung!H$2:H$31, A700)))>0,\"X\",\"\")","v":""},"MRS 09011 Billy Bathgate (20.02.1992) - Nicole Kidman (20.06.1967) 24-245",0,"nein"]
["MRS 09011 Billy Bathgate (20.02.1992) - Nicole Kidman (20.06.1967) 24-245 263.mp4",{"$f":"IF(SUMPRODUCT(--ISNUMBER(SEARCH(Rechnung!H$2:H$31, A701)))>0,\"X\",\"\")","v":""},"MRS 09011 Billy Bathgate (20.02.1992) - Nicole Kidman (20.06.1967) 24-245",0,"nein"]
["MRS 09012 Focus (05.03.2015) - Margot Robbie (02.07.1990) 24-246 884.mp4",{"$f":"IF(SUMPRODUCT(--ISNUMBER(SEARCH(Rechnung!H$2:H$31, A702)))>0,\"X\",\"\")","v":""},"MRS 09012 Focus (05.03.2015) - Margot Robbie (02.07.1990) 24-246",0,"nein"]
["MRS 09016 Rome Passover (16.09.2007) - Kerry Condon (09.01.1983) 24-250 2212.mp4",{"$f":"IF(SUMPRODUCT(--ISNUMBER(SEARCH(Rechnung!H$2:H$31, A703)))>0,\"X\",\"\")","v":""},"MRS 09016 Rome Passover (16.09.2007) - Kerry Condon (09.01.1983) 24-250",0,"nein"]
["MRS 09019 Clouds of Sils Maria (18.12.2014) - Kristen Stewart (09.04.1990) 24-253 447.mp4",{"$f":"IF(SUMPRODUCT(--ISNUMBER(SEARCH(Rechnung!H$2:H$31, A704)))>0,\"X\",\"\")","v":""},"MRS 09019 Clouds of Sils Maria (18.12.2014) - Kristen Stewart (09.04.1990) 24-253",0,"nein"]
["MRS 09019 Manderlay (10.11.2005) - Bryce Dallas Howard (02.03.1981) 24-253 1645.mp4",{"$f":"IF(SUMPRODUCT(--ISNUMBER(SEARCH(Rechnung!H$2:H$31, A705)))>0,\"X\",\"\")","v":""},"MRS 09019 Manderlay (10.11.2005) - Bryce Dallas Howard (02.03.1981) 24-253",0,"nein"]
["MRS 09019 Manderlay (10.11.2005) - Bryce Dallas Howard (02.03.1981) 24-253 1646.mp4",{"$f":"IF(SUMPRODUCT(--ISNUMBER(SEARCH(Rechnung!H$2:H$31, A706)))>0,\"X\",\"\")","v":""},"MRS 09019 Manderlay (10.11.2005) - Bryce Dallas Howard (02.03.1981) 24-253",0,"nein"]
["MRS 09030 The Yards (27.04.2000) - Charlize Theron (07.08.1975) 24-264 3143.mp4",{"$f":"IF(SUMPRODUCT(--ISNUMBER(SEARCH(Rechnung!H$2:H$31, A707)))>0,\"X\",\"\")","v":""},{"$f":"LEFT(A707, LEN(A707) - LEN(MID(A707, FIND(\"~\", SUBSTITUTE(A707,\" \",\"~\", LEN(A707)-LEN(SUBSTITUTE(A707,\" \",\"\")))), LEN(A707))))","v":"MRS 09030 The Yards (27.04.2000) - Charlize Theron (07.08.1975) 24-264"},0,{"$f":"IF(AND(B707=\"X\",D707=0),\"ja\",\"nein\")","v":"nein"}]
["MRS 09032 100 Girls (01.09.2000) - Emmanuelle Chriqui (10.12.1975) 24-266 185.mp4",{"$f":"IF(SUMPRODUCT(--ISNUMBER(SEARCH(Rechnung!H$2:H$31, A708)))>0,\"X\",\"\")","v":""},"MRS 09032 100 Girls (01.09.2000) - Emmanuelle Chriqui (10.12.1975) 24-266",0,"nein"]
["MRS 09040 Dirt Come Together (13.02.2007) - Alexandra Breckenridge (15.05.1982) 24-274 626.mp4",{"$f":"IF(SUMPRODUCT(--ISNUMBER(SEARCH(Rechnung!H$2:H$31, A709)))>0,\"X\",\"\")","v":""},"MRS 09040 Dirt Come Together (13.02.2007) - Alexandra Breckenridge (15.05.1982) 24-274",0,"nein"]
["MRS 09046 Mary Queen of Scots (17.01.2019) - Saoirse Ronan (12.04.1994) 24-280 1708.mp4",{"$f":"IF(SUMPRODUCT(--ISNUMBER(SEARCH(Rechnung!H$2:H$31, A710)))>0,\"X\",\"\")","v":""},"MRS 09046 Mary Queen of Scots (17.01.2019) - Saoirse Ronan (12.04.1994) 24-280",1,"nein"]
["MRS 09046 V for Vendetta (16.03.2006) - Natalie Portman (09.06.1981) 24-280 3233.mp4",{"$f":"IF(SUMPRODUCT(--ISNUMBER(SEARCH(Rechnung!H$2:H$31, A711)))>0,\"X\",\"\")","v":""},"MRS 09046 V for Vendetta (16.03.2006) - Natalie Portman (09.06.1981) 24-280",0,"nein"]
["MRS 09055 Rome Philippi (25.10.2007) - Kerry Condon (09.01.1983) 24-289 2211.mp4",{"$f":"IF(SUMPRODUCT(--ISNUMBER(SEARCH(Rechnung!H$2:H$31, A712)))>0,\"X\",\"\")","v":""},"MRS 09055 Rome Philippi (25.10.2007) - Kerry Condon (09.01.1983) 24-289",0,"nein"]
["MRS 09058 Oldboy (05.12.2013) - Elizabeth Olsen (16.02.1989) 24-292 1918.mp4",{"$f":"IF(SUMPRODUCT(--ISNUMBER(SEARCH(Rechnung!H$2:H$31, A713)))>0,\"X\",\"\")","v":""},"MRS 09058 Oldboy (05.12.2013) - Elizabeth Olsen (16.02.1989) 24-292",0,"nein"]
["MRS 09058 Oldboy (05.12.2013) - Elizabeth Olsen (16.02.1989) 24-292 1919.mp4",{"$f":"IF(SUMPRODUCT(--ISNUMBER(SEARCH(Rechnung!H$2:H$31, A714)))>0,\"X\",\"\")","v":""},"MRS 09058 Oldboy (05.12.2013) - Elizabeth Olsen (16.02.1989) 24-292",0,"nein"]
["MRS 09058 Oldboy (05.12.2013) - Elizabeth Olsen (16.02.1989) 24-292 1920.mp4",{"$f":"IF(SUMPRODUCT(--ISNUMBER(SEARCH(Rechnung!H$2:H$31, A715)))>0,\"X\",\"\")","v":""},"MRS 09058 Oldboy (05.12.2013) - Elizabeth Olsen (16.02.1989) 24-292",0,"nein"]
["MRS 09058 Oldboy (05.12.2013) - Elizabeth Olsen (16.02.1989) 24-292 1921.mp4",{"$f":"IF(SUMPRODUCT(--ISNUMBER(SEARCH(Rechnung!H$2:H$31, A716)))>0,\"X\",\"\")","v":""},"MRS 09058 Oldboy (05.12.2013) - Elizabeth Olsen (16.02.1989) 24-292",0,"nein"]
["MRS 09058 Oldboy (05.12.2013) - Elizabeth Olsen (16.02.1989) 24-292 1922.mp4",{"$f":"IF(SUMPRODUCT(--ISNUMBER(SEARCH(Rechnung!H$2:H$31, A717)))>0,\"X\",\"\")","v":""},"MRS 09058 Oldboy (05.12.2013) - Elizabeth Olsen (16.02.1989) 24-292",0,"nein"]
["MRS 09062 Dopesick First Bottle (13.10.2021) - Kaitlyn Dever (21.12.1996) 24-296 653.mp4",{"$f":"IF(SUMPRODUCT(--ISNUMBER(SEARCH(Rechnung!H$2:H$31, A718)))>0,\"X\",\"\")","v":"X"},"MRS 09062 Dopesick First Bottle (13.10.2021) - Kaitlyn Dever (21.12.1996) 24-296",1,"nein"]
["MRS 09062 Dopesick First Bottle (13.10.2021) - Kaitlyn Dever (21.12.1996) 24-296 654.mp4",{"$f":"IF(SUMPRODUCT(--ISNUMBER(SEARCH(Rechnung!H$2:H$31, A719)))>0,\"X\",\"\")","v":"X"},"MRS 09062 Dopesick First Bottle (13.10.2021) - Kaitlyn Dever (21.12.1996) 24-296",1,"nein"]
["MRS 09069 Kingdom of Heaven (05.05.2005) - Eva Green (06.07.1980) 24-303 1389.mp4",{"$f":"IF(SUMPRODUCT(--ISNUMBER(SEARCH(Rechnung!H$2:H$31, A720)))>0,\"X\",\"\")","v":""},"MRS 09069 Kingdom of Heaven (05.05.2005) - Eva Green (06.07.1980) 24-303",0,"nein"]
["MRS 09071 White Chicks (07.10.2004) - Jennifer Carpenter (07.12.1979) 24-305 3339.mp4",{"$f":"IF(SUMPRODUCT(--ISNUMBER(SEARCH(Rechnung!H$2:H$31, A721)))>0,\"X\",\"\")","v":""},"MRS 09071 White Chicks (07.10.2004) - Jennifer Carpenter (07.12.1979) 24-305",0,"nein"]
["MRS 09071 White Chicks (07.10.2004) - Jennifer Carpenter (07.12.1979) 24-305 3340.mp4",{"$f":"IF(SUMPRODUCT(--ISNUMBER(SEARCH(Rechnung!H$2:H$31, A722)))>0,\"X\",\"\")","v":""},"MRS 09071 White Chicks (07.10.2004) - Jennifer Carpenter (07.12.1979) 24-305",0,"nein"]
["MRS 09078 Snowden (22.09.2016) - Shailene Woodley (15.11.1991) 24-312 2351.mp4",{"$f":"IF(SUMPRODUCT(--ISNUMBER(SEARCH(Rechnung!H$2:H$31, A723)))>0,\"X\",\"\")","v":""},"MRS 09078 Snowden (22.09.2016) - Shailene Woodley (15.11.1991) 24-312",0,"nein"]
["MRS 09083 Tammy and the T-Rex (31.12.1995) - Denise Richards (17.02.1971) 24-317 140.mp4",{"$f":"IF(SUMPRODUCT(--ISNUMBER(SEARCH(Rechnung!H$2:H$31, A724)))>0,\"X\",\"\")","v":""},"MRS 09083 Tammy and the T-Rex (31.12.1995) - Denise Richards (17.02.1971) 24-317",0,"nein"]
["MRS 09092 Dopesick Breakthrough Pain (12.11.2021) - Kaitlyn Dever (21.12.1996) 24-326 655.mp4",{"$f":"IF(SUMPRODUCT(--ISNUMBER(SEARCH(Rechnung!H$2:H$31, A725)))>0,\"X\",\"\")","v":"X"},"MRS 09092 Dopesick Breakthrough Pain (12.11.2021) - Kaitlyn Dever (21.12.1996) 24-326",1,"nein"]
["MRS 09093 Big Love The Mighty and Strong (26.10.2010) - Amanda Seyfried (03.12.1985) 24-327 37.mp4",{"$f":"IF(SUMPRODUCT(--ISNUMBER(SEARCH(Rechnung!H$2:H$31, A726)))>0,\"X\",\"\")","v":""},"MRS 09093 Big Love The Mighty and Strong (26.10.2010) - Amanda Seyfried (03.12.1985) 24-327",0,"nein"]
["MRS 09094 Van Wilder 2 The Rise of Taj (01.12.2006) - Lauren Cohan (07.01.1982) 24-328 572.mp4",{"$f":"IF(SUMPRODUCT(--ISNUMBER(SEARCH(Rechnung!H$2:H$31, A727)))>0,\"X\",\"\")","v":""},"MRS 09094 Van Wilder 2 The Rise of Taj (01.12.2006) - Lauren Cohan (07.01.1982) 24-328",0,"nein"]
["MRS 09094 Van Wilder 2 The Rise of Taj (01.12.2006) - Lauren Cohan (07.01.1982) 24-328 573.mp4",{"$f":"IF(SUMPRODUCT(--ISNUMBER(SEARCH(Rechnung!H$2:H$31, A728)))>0,\"X\",\"\")","v":""},"MRS 09094 Van Wilder 2 The Rise of Taj (01.12.2006) - Lauren Cohan (07.01.1982) 24-328",0,"nein"]
["MRS 09094 Van Wilder 2 The Rise of Taj (01.12.2006) - Lauren Cohan (07.01.1982) 24-328 574.mp4",{"$f":"IF(SUMPRODUCT(--ISNUMBER(SEARCH(Rechnung!H$2:H$31, A729)))>0,\"X\",\"\")","v":""},"MRS 09094 Van Wilder 2 The Rise of Taj (01.12.2006) - Lauren Cohan (07.01.1982) 24-328",0,"nein"]
["MRS 09094 Van Wilder 2 The Rise of Taj (01.12.2006) - Lauren Cohan (07.01.1982) 24-328 575.mp4",{"$f":"IF(SUMPRODUCT(--ISNUMBER(SEARCH(Rechnung!H$2:H$31, A730)))>0,\"X\",\"\")","v":""},"MRS 09094 Van Wilder 2 The Rise of Taj (01.12.2006) - Lauren Cohan (07.01.1982) 24-328",0,"nein"]
["MRS 09097 Tamara Drewe (30.12.2010) - Gemma Arterton (02.02.1986) 24-331 2503.mp4",{"$f":"IF(SUMPRODUCT(--ISNUMBER(SEARCH(Rechnung!H$2:H$31, A731)))>0,\"X\",\"\")","v":""},"MRS 09097 Tamara Drewe (30.12.2010) - Gemma Arterton (02.02.1986) 24-331",0,"nein"]
["MRS 09097 Tamara Drewe (30.12.2010) - Gemma Arterton (02.02.1986) 24-331 2504.mp4",{"$f":"IF(SUMPRODUCT(--ISNUMBER(SEARCH(Rechnung!H$2:H$31, A732)))>0,\"X\",\"\")","v":""},"MRS 09097 Tamara Drewe (30.12.2010) - Gemma Arterton (02.02.1986) 24-331",0,"nein"]
["MRS 09108 From Hell (28.02.2002) - Joanna Page (23.03.1977) 24-342 913.mp4",{"$f":"IF(SUMPRODUCT(--ISNUMBER(SEARCH(Rechnung!H$2:H$31, A733)))>0,\"X\",\"\")","v":""},"MRS 09108 From Hell (28.02.2002) - Joanna Page (23.03.1977) 24-342",0,"nein"]
["MRS 09111 Sans moi (10.10.2007) - Clémence Poésy (30.10.1982) 24-345 2233.mp4",{"$f":"IF(SUMPRODUCT(--ISNUMBER(SEARCH(Rechnung!H$2:H$31, A734)))>0,\"X\",\"\")","v":""},"MRS 09111 Sans moi (10.10.2007) - Clémence Poésy (30.10.1982) 24-345",0,"nein"]
["MRS 09111 Sans moi (10.10.2007) - Clémence Poésy (30.10.1982) 24-345 2234.mp4",{"$f":"IF(SUMPRODUCT(--ISNUMBER(SEARCH(Rechnung!H$2:H$31, A735)))>0,\"X\",\"\")","v":""},"MRS 09111 Sans moi (10.10.2007) - Clémence Poésy (30.10.1982) 24-345",0,"nein"]
["MRS 09124 AVPR Aliens vs Predator - Requiem (26.12.2007) - Kristen Hager (02.01.1983) 24-358 122.mp4",{"$f":"IF(SUMPRODUCT(--ISNUMBER(SEARCH(Rechnung!H$2:H$31, A736)))>0,\"X\",\"\")","v":""},"MRS 09124 AVPR Aliens vs Predator - Requiem (26.12.2007) - Kristen Hager (02.01.1983) 24-358",0,"nein"]
["MRS 09141 Born (08.01.2008) - Alison Brie (29.12.1982) 25-10 298.mp4",{"$f":"IF(SUMPRODUCT(--ISNUMBER(SEARCH(Rechnung!H$2:H$31, A737)))>0,\"X\",\"\")","v":""},"MRS 09141 Born (08.01.2008) - Alison Brie (29.12.1982) 25-10",0,"nein"]
["MRS 09141 Born (08.01.2008) - Alison Brie (29.12.1982) 25-10 299.mp4",{"$f":"IF(SUMPRODUCT(--ISNUMBER(SEARCH(Rechnung!H$2:H$31, A738)))>0,\"X\",\"\")","v":""},"MRS 09141 Born (08.01.2008) - Alison Brie (29.12.1982) 25-10",0,"nein"]
["MRS 09143 The Longest Ride (30.04.2015) - Britt Robertson (18.04.1990) 25-12 2849.mp4",{"$f":"IF(SUMPRODUCT(--ISNUMBER(SEARCH(Rechnung!H$2:H$31, A739)))>0,\"X\",\"\")","v":""},"MRS 09143 The Longest Ride (30.04.2015) - Britt Robertson (18.04.1990) 25-12",0,"nein"]
["MRS 09149 American Horror Stories Drive (26.10.2022) - Bella Thorne (08.10.1997) 25-18 61.mp4",{"$f":"IF(SUMPRODUCT(--ISNUMBER(SEARCH(Rechnung!H$2:H$31, A740)))>0,\"X\",\"\")","v":"X"},"MRS 09149 American Horror Stories Drive (26.10.2022) - Bella Thorne (08.10.1997) 25-18",0,"ja"]
["MRS 09151 Heroes Chapter Five 'Tabula Rasa' (06.10.2010) - Madeline Zima (16.09.1985) 25-20 1114.mp4",{"$f":"IF(SUMPRODUCT(--ISNUMBER(SEARCH(Rechnung!H$2:H$31, A741)))>0,\"X\",\"\")","v":""},"MRS 09151 Heroes Chapter Five 'Tabula Rasa' (06.10.2010) - Madeline Zima (16.09.1985) 25-20",0,"nein"]
["MRS 09152 House M.D. Lucky Thirteen (31.03.2009) - Olivia Wilde (10.03.1984) 25-21 1170.mp4",{"$f":"IF(SUMPRODUCT(--ISNUMBER(SEARCH(Rechnung!H$2:H$31, A742)))>0,\"X\",\"\")","v":""},"MRS 09152 House M.D. Lucky Thirteen (31.03.2009) - Olivia Wilde (10.03.1984) 25-21",0,"nein"]
["MRS 09152 Suspiria (15.11.2018) - Mia Goth (25.10.1993) 25-21 2453.mp4",{"$f":"IF(SUMPRODUCT(--ISNUMBER(SEARCH(Rechnung!H$2:H$31, A743)))>0,\"X\",\"\")","v":""},"MRS 09152 Suspiria (15.11.2018) - Mia Goth (25.10.1993) 25-21",0,"nein"]
["MRS 09152 Suspiria (15.11.2018) - Mia Goth (25.10.1993) 25-21 2454.mp4",{"$f":"IF(SUMPRODUCT(--ISNUMBER(SEARCH(Rechnung!H$2:H$31, A744)))>0,\"X\",\"\")","v":""},"MRS 09152 Suspiria (15.11.2018) - Mia Goth (25.10.1993) 25-21",0,"nein"]
["MRS 09155 Trading Places (16.12.1983) - Jamie Lee Curtis (22.11.1958) 25-24 437.mp4",{"$f":"IF(SUMPRODUCT(--ISNUMBER(SEARCH(Rechnung!H$2:H$31, A745)))>0,\"X\",\"\")","v":""},"MRS 09155 Trading Places (16.12.1983) - Jamie Lee Curtis (22.11.1958) 25-24",0,"nein"]
["MRS 09155 Trading Places (16.12.1983) - Jamie Lee Curtis (22.11.1958) 25-24 438.mp4",{"$f":"IF(SUMPRODUCT(--ISNUMBER(SEARCH(Rechnung!H$2:H$31, A746)))>0,\"X\",\"\")","v":""},"MRS 09155 Trading Places (16.12.1983) - Jamie Lee Curtis (22.11.1958) 25-24",0,"nein"]
["MRS 09156 The Borgias The Purge (21.04.2013) - Holliday Grainger (27.03.1988) 25-25 2550.mp4",{"$f":"IF(SUMPRODUCT(--ISNUMBER(SEARCH(Rechnung!H$2:H$31, A747)))>0,\"X\",\"\")","v":""},"MRS 09156 The Borgias The Purge (21.04.2013) - Holliday Grainger (27.03.1988) 25-25",0,"nein"]
["MRS 09157 Pushing Tin (29.06.2000) - Angelina Jolie (04.06.1975) 25-25 2095.mp4",{"$f":"IF(SUMPRODUCT(--ISNUMBER(SEARCH(Rechnung!H$2:H$31, A748)))>0,\"X\",\"\")","v":""},"MRS 09157 Pushing Tin (29.06.2000) - Angelina Jolie (04.06.1975) 25-25",0,"nein"]
["MRS 09158 Adam (19.11.2019) - Margaret Qualley (23.10.1994) 25-27 86.mp4",{"$f":"IF(SUMPRODUCT(--ISNUMBER(SEARCH(Rechnung!H$2:H$31, A749)))>0,\"X\",\"\")","v":""},"MRS 09158 Adam (19.11.2019) - Margaret Qualley (23.10.1994) 25-27",1,"nein"]
["MRS 09164 The Great Fun (12.05.2023) - Elle Fanning (09.04.1998) 25-33 2719.mp4",{"$f":"IF(SUMPRODUCT(--ISNUMBER(SEARCH(Rechnung!H$2:H$31, A750)))>0,\"X\",\"\")","v":"X"},"MRS 09164 The Great Fun (12.05.2023) - Elle Fanning (09.04.1998) 25-33",1,"nein"]
["MRS 09169 Love & Savagery (31.08.2009) - Sarah Greene (24.07.1984) 25-38 1559.mp4",{"$f":"IF(SUMPRODUCT(--ISNUMBER(SEARCH(Rechnung!H$2:H$31, A751)))>0,\"X\",\"\")","v":""},"MRS 09169 Love & Savagery (31.08.2009) - Sarah Greene (24.07.1984) 25-38",0,"nein"]
["MRS 09170 The Borgias The Banquet of Chestnuts (05.05.2013) - Holliday Grainger (27.03.1988) 25-39 2551.mp4",{"$f":"IF(SUMPRODUCT(--ISNUMBER(SEARCH(Rechnung!H$2:H$31, A752)))>0,\"X\",\"\")","v":""},"MRS 09170 The Borgias The Banquet of Chestnuts (05.05.2013) - Holliday Grainger (27.03.1988) 25-39",0,"nein"]
["MRS 09173 The L Word Life, Loss, Leaving (20.02.2005) - Sarah Shahi (10.01.1980) 25-41 2820.mp4",{"$f":"IF(SUMPRODUCT(--ISNUMBER(SEARCH(Rechnung!H$2:H$31, A753)))>0,\"X\",\"\")","v":""},"MRS 09173 The L Word Life, Loss, Leaving (20.02.2005) - Sarah Shahi (10.01.1980) 25-41",0,"nein"]
["MRS 09177 In Secret (03.04.2014) - Elizabeth Olsen (16.02.1989) 25-46 1189.mp4",{"$f":"IF(SUMPRODUCT(--ISNUMBER(SEARCH(Rechnung!H$2:H$31, A754)))>0,\"X\",\"\")","v":""},"MRS 09177 In Secret (03.04.2014) - Elizabeth Olsen (16.02.1989) 25-46",0,"nein"]
["MRS 09179 Savages (11.10.2012) - Blake Lively (25.08.1987) 25-47 2241.mp4",{"$f":"IF(SUMPRODUCT(--ISNUMBER(SEARCH(Rechnung!H$2:H$31, A755)))>0,\"X\",\"\")","v":""},"MRS 09179 Savages (11.10.2012) - Blake Lively (25.08.1987) 25-47",0,"nein"]
["MRS 09186 Blood (22.10.2004) - Emily Hampshire (29.08.1979) 25-54 288.mp4",{"$f":"IF(SUMPRODUCT(--ISNUMBER(SEARCH(Rechnung!H$2:H$31, A756)))>0,\"X\",\"\")","v":""},"MRS 09186 Blood (22.10.2004) - Emily Hampshire (29.08.1979) 25-54",0,"nein"]
["MRS 09186 Blood (22.10.2004) - Emily Hampshire (29.08.1979) 25-54 289.mp4",{"$f":"IF(SUMPRODUCT(--ISNUMBER(SEARCH(Rechnung!H$2:H$31, A757)))>0,\"X\",\"\")","v":""},"MRS 09186 Blood (22.10.2004) - Emily Hampshire (29.08.1979) 25-54",0,"nein"]
["MRS 09186 Blood (22.10.2004) - Emily Hampshire (29.08.1979) 25-54 290.mp4",{"$f":"IF(SUMPRODUCT(--ISNUMBER(SEARCH(Rechnung!H$2:H$31, A758)))>0,\"X\",\"\")","v":""},"MRS 09186 Blood (22.10.2004) - Emily Hampshire (29.08.1979) 25-54",0,"nein"]
["MRS 09187 The L Word Loneliest Number (06.03.2005) - Sarah Shahi (10.01.1980) 25-55 2825.mp4",{"$f":"IF(SUMPRODUCT(--ISNUMBER(SEARCH(Rechnung!H$2:H$31, A759)))>0,\"X\",\"\")","v":""},"MRS 09187 The L Word Loneliest Number (06.03.2005) - Sarah Shahi (10.01.1980) 25-55",0,"nein"]
["MRS 09190 Sin City A Dame to Kill For (18.09.2014) - Juno Temple (21.07.1989) 25-59 2320.mp4",{"$f":"IF(SUMPRODUCT(--ISNUMBER(SEARCH(Rechnung!H$2:H$31, A760)))>0,\"X\",\"\")","v":""},"MRS 09190 Sin City A Dame to Kill For (18.09.2014) - Juno Temple (21.07.1989) 25-59",0,"nein"]
["MRS 09215 Bear (21.05.2011) - Teresa Palmer (26.02.1986) 25-84 238.mp4",{"$f":"IF(SUMPRODUCT(--ISNUMBER(SEARCH(Rechnung!H$2:H$31, A761)))>0,\"X\",\"\")","v":""},"MRS 09215 Bear (21.05.2011) - Teresa Palmer (26.02.1986) 25-84",0,"nein"]
["MRS 09224 Equus (23.03.1978) - Jenny Agutter (20.12.1952) 25-93 729.mp4",{"$f":"IF(SUMPRODUCT(--ISNUMBER(SEARCH(Rechnung!H$2:H$31, A762)))>0,\"X\",\"\")","v":""},"MRS 09224 Equus (23.03.1978) - Jenny Agutter (20.12.1952) 25-93",0,"nein"]
["MRS 09228 Petit tailleur (06.10.2010) - Léa Seydoux (01.07.1985) 25-97 2068.mp4",{"$f":"IF(SUMPRODUCT(--ISNUMBER(SEARCH(Rechnung!H$2:H$31, A763)))>0,\"X\",\"\")","v":""},"MRS 09228 Petit tailleur (06.10.2010) - Léa Seydoux (01.07.1985) 25-97",0,"nein"]
["MRS 09229 The L Word Late, Later, Latent (17.04.2005) - Sarah Shahi (10.01.1980) 25-98 2819.mp4",{"$f":"IF(SUMPRODUCT(--ISNUMBER(SEARCH(Rechnung!H$2:H$31, A764)))>0,\"X\",\"\")","v":""},"MRS 09229 The L Word Late, Later, Latent (17.04.2005) - Sarah Shahi (10.01.1980) 25-98",0,"nein"]
["MRS 09233 The Safe House (28.10.2002) - Kelly Reilly (18.07.1977) 25-102 2979.mp4",{"$f":"IF(SUMPRODUCT(--ISNUMBER(SEARCH(Rechnung!H$2:H$31, A765)))>0,\"X\",\"\")","v":""},"MRS 09233 The Safe House (28.10.2002) - Kelly Reilly (18.07.1977) 25-102",0,"nein"]
["MRS 09234 Deep Powder (19.04.2013) - Haley Bennett (07.01.1988) 25-103 593.mp4",{"$f":"IF(SUMPRODUCT(--ISNUMBER(SEARCH(Rechnung!H$2:H$31, A766)))>0,\"X\",\"\")","v":""},"MRS 09234 Deep Powder (19.04.2013) - Haley Bennett (07.01.1988) 25-103",0,"nein"]
["MRS 09234 Deep Powder (19.04.2013) - Haley Bennett (07.01.1988) 25-103 594.mp4",{"$f":"IF(SUMPRODUCT(--ISNUMBER(SEARCH(Rechnung!H$2:H$31, A767)))>0,\"X\",\"\")","v":""},"MRS 09234 Deep Powder (19.04.2013) - Haley Bennett (07.01.1988) 25-103",0,"nein"]
["MRS 09249 Paperback Hero (21.09.1973) - Dayle Haddon (26.05.1948) 25-118 2016.mp4",{"$f":"IF(SUMPRODUCT(--ISNUMBER(SEARCH(Rechnung!H$2:H$31, A768)))>0,\"X\",\"\")","v":""},"MRS 09249 Paperback Hero (21.09.1973) - Dayle Haddon (26.05.1948) 25-118",0,"nein"]
["MRS 09254 Reindeer Games (07.12.2000) - Charlize Theron (07.08.1975) 25-122 2156.mp4",{"$f":"IF(SUMPRODUCT(--ISNUMBER(SEARCH(Rechnung!H$2:H$31, A769)))>0,\"X\",\"\")","v":""},"MRS 09254 Reindeer Games (07.12.2000) - Charlize Theron (07.08.1975) 25-122",0,"nein"]
["MRS 09254 Reindeer Games (07.12.2000) - Charlize Theron (07.08.1975) 25-122 2157.mp4",{"$f":"IF(SUMPRODUCT(--ISNUMBER(SEARCH(Rechnung!H$2:H$31, A770)))>0,\"X\",\"\")","v":""},"MRS 09254 Reindeer Games (07.12.2000) - Charlize Theron (07.08.1975) 25-122",0,"nein"]
["MRS 09259 Very Good Girls (24.06.2014) - Elizabeth Olsen (16.02.1989) 25-128 3255.mp4",{"$f":"IF(SUMPRODUCT(--ISNUMBER(SEARCH(Rechnung!H$2:H$31, A771)))>0,\"X\",\"\")","v":""},{"$f":"LEFT(A771, LEN(A771) - LEN(MID(A771, FIND(\"~\", SUBSTITUTE(A771,\" \",\"~\", LEN(A771)-LEN(SUBSTITUTE(A771,\" \",\"\")))), LEN(A771))))","v":"MRS 09259 Very Good Girls (24.06.2014) - Elizabeth Olsen (16.02.1989) 25-128"},0,{"$f":"IF(AND(B771=\"X\",D771=0),\"ja\",\"nein\")","v":"nein"}]
["MRS 09259 Very Good Girls (24.06.2014) - Elizabeth Olsen (16.02.1989) 25-128 3257.mp4",{"$f":"IF(SUMPRODUCT(--ISNUMBER(SEARCH(Rechnung!H$2:H$31, A772)))>0,\"X\",\"\")","v":""},"MRS 09259 Very Good Girls (24.06.2014) - Elizabeth Olsen (16.02.1989) 25-128",0,"nein"]
["MRS 09264 Shameless Pilot (23.01.2012) - Emmy Rossum (12.09.1986) 25-133 279.mp4",{"$f":"IF(SUMPRODUCT(--ISNUMBER(SEARCH(Rechnung!H$2:H$31, A773)))>0,\"X\",\"\")","v":""},"MRS 09264 Shameless Pilot (23.01.2012) - Emmy Rossum (12.09.1986) 25-133",0,"nein"]
["MRS 09267 After Everything (12.10.2018) - Maika Monroe (29.05.1993) 25-136 93.mp4",{"$f":"IF(SUMPRODUCT(--ISNUMBER(SEARCH(Rechnung!H$2:H$31, A774)))>0,\"X\",\"\")","v":""},"MRS 09267 After Everything (12.10.2018) - Maika Monroe (29.05.1993) 25-136",0,"nein"]
["MRS 09267 After Everything (12.10.2018) - Maika Monroe (29.05.1993) 25-136 94.mp4",{"$f":"IF(SUMPRODUCT(--ISNUMBER(SEARCH(Rechnung!H$2:H$31, A775)))>0,\"X\",\"\")","v":""},"MRS 09267 After Everything (12.10.2018) - Maika Monroe (29.05.1993) 25-136",0,"nein"]
["MRS 09268 Euphoria Out of Touch (16.01.2022) - Zendaya (01.09.1996) 25-137 823.mp4",{"$f":"IF(SUMPRODUCT(--ISNUMBER(SEARCH(Rechnung!H$2:H$31, A776)))>0,\"X\",\"\")","v":"X"},"MRS 09268 Euphoria Out of Touch (16.01.2022) - Zendaya (01.09.1996) 25-137",1,"nein"]
["MRS 09274 Kissed (20.11.1997) - Molly Parker (30.06.1972) 25-143 1407.mp4",{"$f":"IF(SUMPRODUCT(--ISNUMBER(SEARCH(Rechnung!H$2:H$31, A777)))>0,\"X\",\"\")","v":""},"MRS 09274 Kissed (20.11.1997) - Molly Parker (30.06.1972) 25-143",0,"nein"]
["MRS 09275 Euphoria Ruminations Big and Little Bullys (23.01.2022) - Zendaya (01.09.1996) 25-144 819.mp4",{"$f":"IF(SUMPRODUCT(--ISNUMBER(SEARCH(Rechnung!H$2:H$31, A778)))>0,\"X\",\"\")","v":"X"},"MRS 09275 Euphoria Ruminations Big and Little Bullys (23.01.2022) - Zendaya (01.09.1996) 25-144",1,"nein"]
["MRS 09276 A Life Less Ordinary (22.01.1998) - Cameron Diaz (30.08.1972) 25-145 51.mp4",{"$f":"IF(SUMPRODUCT(--ISNUMBER(SEARCH(Rechnung!H$2:H$31, A779)))>0,\"X\",\"\")","v":""},"MRS 09276 A Life Less Ordinary (22.01.1998) - Cameron Diaz (30.08.1972) 25-145",0,"nein"]
["MRS 09279 Stillwater (09.09.2021) - Abigail Breslin (14.04.1996) 25-148 2412.mp4",{"$f":"IF(SUMPRODUCT(--ISNUMBER(SEARCH(Rechnung!H$2:H$31, A780)))>0,\"X\",\"\")","v":"X"},"MRS 09279 Stillwater (09.09.2021) - Abigail Breslin (14.04.1996) 25-148",1,"nein"]
["MRS 09279 Stillwater (09.09.2021) - Abigail Breslin (14.04.1996) 25-148 2413.mp4",{"$f":"IF(SUMPRODUCT(--ISNUMBER(SEARCH(Rechnung!H$2:H$31, A781)))>0,\"X\",\"\")","v":"X"},"MRS 09279 Stillwater (09.09.2021) - Abigail Breslin (14.04.1996) 25-148",1,"nein"]
["MRS 09282 Euphoria You Who Cannot See, Think of Those Who Can (30.01.2022) - Zendaya (01.09.1996) 25-151 826.mp4",{"$f":"IF(SUMPRODUCT(--ISNUMBER(SEARCH(Rechnung!H$2:H$31, A782)))>0,\"X\",\"\")","v":"X"},"MRS 09282 Euphoria You Who Cannot See, Think of Those Who Can (30.01.2022) - Zendaya (01.09.1996) 25-151",1,"nein"]
["MRS 09283 Game of Thrones The Kingsroad (23.03.2012) - Emilia Clarke (23.10.1986) 25-151 984.mp4",{"$f":"IF(SUMPRODUCT(--ISNUMBER(SEARCH(Rechnung!H$2:H$31, A783)))>0,\"X\",\"\")","v":""},"MRS 09283 Game of Thrones The Kingsroad (23.03.2012) - Emilia Clarke (23.10.1986) 25-151",0,"nein"]
["MRS 09283 Game of Thrones Winter Is Coming (23.03.2012) - Emilia Clarke (23.10.1986) 25-151 982.mp4",{"$f":"IF(SUMPRODUCT(--ISNUMBER(SEARCH(Rechnung!H$2:H$31, A784)))>0,\"X\",\"\")","v":""},"MRS 09283 Game of Thrones Winter Is Coming (23.03.2012) - Emilia Clarke (23.10.1986) 25-151",0,"nein"]
["MRS 09283 Game of Thrones Winter Is Coming (23.03.2012) - Emilia Clarke (23.10.1986) 25-151 983.mp4",{"$f":"IF(SUMPRODUCT(--ISNUMBER(SEARCH(Rechnung!H$2:H$31, A785)))>0,\"X\",\"\")","v":""},"MRS 09283 Game of Thrones Winter Is Coming (23.03.2012) - Emilia Clarke (23.10.1986) 25-151",0,"nein"]
["MRS 09285 Game of Thrones Fire and Blood (25.03.2012) - Emilia Clarke (23.10.1986) 25-153 985.mp4",{"$f":"IF(SUMPRODUCT(--ISNUMBER(SEARCH(Rechnung!H$2:H$31, A786)))>0,\"X\",\"\")","v":""},"MRS 09285 Game of Thrones Fire and Blood (25.03.2012) - Emilia Clarke (23.10.1986) 25-153",0,"nein"]
["MRS 09286 Quills (08.03.2001) - Kate Winslet (05.10.1975) 25-155 2113.mp4",{"$f":"IF(SUMPRODUCT(--ISNUMBER(SEARCH(Rechnung!H$2:H$31, A787)))>0,\"X\",\"\")","v":""},"MRS 09286 Quills (08.03.2001) - Kate Winslet (05.10.1975) 25-155",0,"nein"]
["MRS 09286 Quills (08.03.2001) - Kate Winslet (05.10.1975) 25-155 2114.mp4",{"$f":"IF(SUMPRODUCT(--ISNUMBER(SEARCH(Rechnung!H$2:H$31, A788)))>0,\"X\",\"\")","v":""},"MRS 09286 Quills (08.03.2001) - Kate Winslet (05.10.1975) 25-155",0,"nein"]
["MRS 09288 Big Little Lies Living the Dream (20.04.2017) - Shailene Woodley (15.11.1991) 25-157 260.mp4",{"$f":"IF(SUMPRODUCT(--ISNUMBER(SEARCH(Rechnung!H$2:H$31, A789)))>0,\"X\",\"\")","v":""},"MRS 09288 Big Little Lies Living the Dream (20.04.2017) - Shailene Woodley (15.11.1991) 25-157",0,"nein"]
["MRS 09288 Big Little Lies Living the Dream (20.04.2017) - Shailene Woodley (15.11.1991) 25-157 261.mp4",{"$f":"IF(SUMPRODUCT(--ISNUMBER(SEARCH(Rechnung!H$2:H$31, A790)))>0,\"X\",\"\")","v":""},"MRS 09288 Big Little Lies Living the Dream (20.04.2017) - Shailene Woodley (15.11.1991) 25-157",0,"nein"]
["MRS 09288 Love Letters (27.04.1984) - Jamie Lee Curtis (22.11.1958) 25-156 416.mp4",{"$f":"IF(SUMPRODUCT(--ISNUMBER(SEARCH(Rechnung!H$2:H$31, A791)))>0,\"X\",\"\")","v":""},"MRS 09288 Love Letters (27.04.1984) - Jamie Lee Curtis (22.11.1958) 25-156",0,"nein"]
["MRS 09288 Love Letters (27.04.1984) - Jamie Lee Curtis (22.11.1958) 25-156 417.mp4",{"$f":"IF(SUMPRODUCT(--ISNUMBER(SEARCH(Rechnung!H$2:H$31, A792)))>0,\"X\",\"\")","v":""},"MRS 09288 Love Letters (27.04.1984) - Jamie Lee Curtis (22.11.1958) 25-156",0,"nein"]
["MRS 09288 Love Letters (27.04.1984) - Jamie Lee Curtis (22.11.1958) 25-156 418.mp4",{"$f":"IF(SUMPRODUCT(--ISNUMBER(SEARCH(Rechnung!H$2:H$31, A793)))>0,\"X\",\"\")","v":""},"MRS 09288 Love Letters (27.04.1984) - Jamie Lee Curtis (22.11.1958) 25-156",0,"nein"]
["MRS 09288 Love Letters (27.04.1984) - Jamie Lee Curtis (22.11.1958) 25-156 419.mp4",{"$f":"IF(SUMPRODUCT(--ISNUMBER(SEARCH(Rechnung!H$2:H$31, A794)))>0,\"X\",\"\")","v":""},"MRS 09288 Love Letters (27.04.1984) - Jamie Lee Curtis (22.11.1958) 25-156",0,"nein"]
["MRS 09288 Love Letters (27.04.1984) - Jamie Lee Curtis (22.11.1958) 25-156 420.mp4",{"$f":"IF(SUMPRODUCT(--ISNUMBER(SEARCH(Rechnung!H$2:H$31, A795)))>0,\"X\",\"\")","v":""},"MRS 09288 Love Letters (27.04.1984) - Jamie Lee Curtis (22.11.1958) 25-156",0,"nein"]
["MRS 09288 Love Letters (27.04.1984) - Jamie Lee Curtis (22.11.1958) 25-156 421.mp4",{"$f":"IF(SUMPRODUCT(--ISNUMBER(SEARCH(Rechnung!H$2:H$31, A796)))>0,\"X\",\"\")","v":""},"MRS 09288 Love Letters (27.04.1984) - Jamie Lee Curtis (22.11.1958) 25-156",0,"nein"]
["MRS 09288 Love Letters (27.04.1984) - Jamie Lee Curtis (22.11.1958) 25-156 422.mp4",{"$f":"IF(SUMPRODUCT(--ISNUMBER(SEARCH(Rechnung!H$2:H$31, A797)))>0,\"X\",\"\")","v":""},"MRS 09288 Love Letters (27.04.1984) - Jamie Lee Curtis (22.11.1958) 25-156",0,"nein"]
["MRS 09288 Love Letters (27.04.1984) - Jamie Lee Curtis (22.11.1958) 25-156 423.mp4",{"$f":"IF(SUMPRODUCT(--ISNUMBER(SEARCH(Rechnung!H$2:H$31, A798)))>0,\"X\",\"\")","v":""},"MRS 09288 Love Letters (27.04.1984) - Jamie Lee Curtis (22.11.1958) 25-156",0,"nein"]
["MRS 09298 Goya's Ghosts (23.11.2006) - Natalie Portman (09.06.1981) 25-167 1032.mp4",{"$f":"IF(SUMPRODUCT(--ISNUMBER(SEARCH(Rechnung!H$2:H$31, A799)))>0,\"X\",\"\")","v":""},"MRS 09298 Goya's Ghosts (23.11.2006) - Natalie Portman (09.06.1981) 25-167",0,"nein"]
["MRS 09299 Plein sud (16.12.2010) - Léa Seydoux (01.07.1985) 25-168 2069.mp4",{"$f":"IF(SUMPRODUCT(--ISNUMBER(SEARCH(Rechnung!H$2:H$31, A800)))>0,\"X\",\"\")","v":""},"MRS 09299 Plein sud (16.12.2010) - Léa Seydoux (01.07.1985) 25-168",0,"nein"]
["MRS 09299 Plein sud (16.12.2010) - Léa Seydoux (01.07.1985) 25-168 2070.mp4",{"$f":"IF(SUMPRODUCT(--ISNUMBER(SEARCH(Rechnung!H$2:H$31, A801)))>0,\"X\",\"\")","v":""},"MRS 09299 Plein sud (16.12.2010) - Léa Seydoux (01.07.1985) 25-168",0,"nein"]
["MRS 09299 Shameless Killer Carl (27.02.2012) - Emmy Rossum (12.09.1986) 25-168 280.mp4",{"$f":"IF(SUMPRODUCT(--ISNUMBER(SEARCH(Rechnung!H$2:H$31, A802)))>0,\"X\",\"\")","v":""},"MRS 09299 Shameless Killer Carl (27.02.2012) - Emmy Rossum (12.09.1986) 25-168",0,"nein"]
["MRS 09306 Shameless Frank Gallagher Loving Husband, Devoted Father (05.03.2012) - Emmy Rossum (12.09.1986) 25-175 281.mp4",{"$f":"IF(SUMPRODUCT(--ISNUMBER(SEARCH(Rechnung!H$2:H$31, A803)))>0,\"X\",\"\")","v":""},"MRS 09306 Shameless Frank Gallagher Loving Husband, Devoted Father (05.03.2012) - Emmy Rossum (12.09.1986) 25-175",0,"nein"]
["MRS 09310 Louder Than Bombs (07.01.2016) - Rachel Brosnahan (12.07.1990) 25-179 1551.mp4",{"$f":"IF(SUMPRODUCT(--ISNUMBER(SEARCH(Rechnung!H$2:H$31, A804)))>0,\"X\",\"\")","v":""},"MRS 09310 Louder Than Bombs (07.01.2016) - Rachel Brosnahan (12.07.1990) 25-179",0,"nein"]
["MRS 09313 Lady in the Water (31.08.2006) - Bryce Dallas Howard (02.03.1981) 25-182 1454.mp4",{"$f":"IF(SUMPRODUCT(--ISNUMBER(SEARCH(Rechnung!H$2:H$31, A805)))>0,\"X\",\"\")","v":""},"MRS 09313 Lady in the Water (31.08.2006) - Bryce Dallas Howard (02.03.1981) 25-182",0,"nein"]
["MRS 09317 Kinds of Kindness (04.07.2024) - Hunter Schafer (31.12.1998) 25-185 1.mp4",{"$f":"IF(SUMPRODUCT(--ISNUMBER(SEARCH(Rechnung!H$2:H$31, A806)))>0,\"X\",\"\")","v":"X"},"MRS 09317 Kinds of Kindness (04.07.2024) - Hunter Schafer (31.12.1998) 25-185",1,"nein"]
["MRS 09325 The Messenger (03.06.2010) - Jena Malone (21.11.1984) 25-194 2872.mp4",{"$f":"IF(SUMPRODUCT(--ISNUMBER(SEARCH(Rechnung!H$2:H$31, A807)))>0,\"X\",\"\")","v":""},"MRS 09325 The Messenger (03.06.2010) - Jena Malone (21.11.1984) 25-194",0,"nein"]
["MRS 09334 Shameless Daddyz Girl (02.04.2012) - Emmy Rossum (12.09.1986) 25-202 282.mp4",{"$f":"IF(SUMPRODUCT(--ISNUMBER(SEARCH(Rechnung!H$2:H$31, A808)))>0,\"X\",\"\")","v":""},"MRS 09334 Shameless Daddyz Girl (02.04.2012) - Emmy Rossum (12.09.1986) 25-202",0,"nein"]
["MRS 09338 L'annulaire (08.06.2005) - Olga Kurylenko (14.11.1979) 25-207 725.mp4",{"$f":"IF(SUMPRODUCT(--ISNUMBER(SEARCH(Rechnung!H$2:H$31, A809)))>0,\"X\",\"\")","v":""},"MRS 09338 L'annulaire (08.06.2005) - Olga Kurylenko (14.11.1979) 25-207",0,"nein"]
["MRS 09338 L'annulaire (08.06.2005) - Olga Kurylenko (14.11.1979) 25-207 726.mp4",{"$f":"IF(SUMPRODUCT(--ISNUMBER(SEARCH(Rechnung!H$2:H$31, A810)))>0,\"X\",\"\")","v":""},"MRS 09338 L'annulaire (08.06.2005) - Olga Kurylenko (14.11.1979) 25-207",0,"nein"]
["MRS 09338 L'annulaire (08.06.2005) - Olga Kurylenko (14.11.1979) 25-207 727.mp4",{"$f":"IF(SUMPRODUCT(--ISNUMBER(SEARCH(Rechnung!H$2:H$31, A811)))>0,\"X\",\"\")","v":""},"MRS 09338 L'annulaire (08.06.2005) - Olga Kurylenko (14.11.1979) 25-207",0,"nein"]
["MRS 09338 L'annulaire (08.06.2005) - Olga Kurylenko (14.11.1979) 25-207 728.mp4",{"$f":"IF(SUMPRODUCT(--ISNUMBER(SEARCH(Rechnung!H$2:H$31, A812)))>0,\"X\",\"\")","v":""},"MRS 09338 L'annulaire (08.06.2005) - Olga Kurylenko (14.11.1979) 25-207",0,"nein"]
["MRS 09341 Undefeated (26.07.2003) - Vanessa Ferlito (28.12.1977) 25-210 3212.mp4",{"$f":"IF(SUMPRODUCT(--ISNUMBER(SEARCH(Rechnung!H$2:H$31, A813)))>0,\"X\",\"\")","v":""},"MRS 09341 Undefeated (26.07.2003) - Vanessa Ferlito (28.12.1977) 25-210",0,"nein"]
["MRS 09341 Undefeated (26.07.2003) - Vanessa Ferlito (28.12.1977) 25-210 3213.mp4",{"$f":"IF(SUMPRODUCT(--ISNUMBER(SEARCH(Rechnung!H$2:H$31, A814)))>0,\"X\",\"\")","v":""},"MRS 09341 Undefeated (26.07.2003) - Vanessa Ferlito (28.12.1977) 25-210",0,"nein"]
["MRS 09341 Undefeated (26.07.2003) - Vanessa Ferlito (28.12.1977) 25-210 3214.mp4",{"$f":"IF(SUMPRODUCT(--ISNUMBER(SEARCH(Rechnung!H$2:H$31, A815)))>0,\"X\",\"\")","v":""},"MRS 09341 Undefeated (26.07.2003) - Vanessa Ferlito (28.12.1977) 25-210",0,"nein"]
["MRS 09348 High Life (30.05.2019) - Mia Goth (25.10.1993) 25-217 1123.mp4",{"$f":"IF(SUMPRODUCT(--ISNUMBER(SEARCH(Rechnung!H$2:H$31, A816)))>0,\"X\",\"\")","v":""},"MRS 09348 High Life (30.05.2019) - Mia Goth (25.10.1993) 25-217",0,"nein"]
["MRS 09348 Shameless Summertime (16.04.2012) - Emmy Rossum (12.09.1986) 25-216 287.mp4",{"$f":"IF(SUMPRODUCT(--ISNUMBER(SEARCH(Rechnung!H$2:H$31, A817)))>0,\"X\",\"\")","v":""},"MRS 09348 Shameless Summertime (16.04.2012) - Emmy Rossum (12.09.1986) 25-216",0,"nein"]
["MRS 09352 Anora (31.10.2024) - Mikey Madison (25.03.1999) 25-220 164.mp4",{"$f":"IF(SUMPRODUCT(--ISNUMBER(SEARCH(Rechnung!H$2:H$31, A818)))>0,\"X\",\"\")","v":"X"},"MRS 09352 Anora (31.10.2024) - Mikey Madison (25.03.1999) 25-220",1,"nein"]
["MRS 09352 Anora (31.10.2024) - Mikey Madison (25.03.1999) 25-220 165.mp4",{"$f":"IF(SUMPRODUCT(--ISNUMBER(SEARCH(Rechnung!H$2:H$31, A819)))>0,\"X\",\"\")","v":"X"},"MRS 09352 Anora (31.10.2024) - Mikey Madison (25.03.1999) 25-220",1,"nein"]
["MRS 09352 Anora (31.10.2024) - Mikey Madison (25.03.1999) 25-220 166.mp4",{"$f":"IF(SUMPRODUCT(--ISNUMBER(SEARCH(Rechnung!H$2:H$31, A820)))>0,\"X\",\"\")","v":"X"},"MRS 09352 Anora (31.10.2024) - Mikey Madison (25.03.1999) 25-220",1,"nein"]
["MRS 09352 Anora (31.10.2024) - Mikey Madison (25.03.1999) 25-220 167.mp4",{"$f":"IF(SUMPRODUCT(--ISNUMBER(SEARCH(Rechnung!H$2:H$31, A821)))>0,\"X\",\"\")","v":"X"},"MRS 09352 Anora (31.10.2024) - Mikey Madison (25.03.1999) 25-220",1,"nein"]
["MRS 09352 Anora (31.10.2024) - Mikey Madison (25.03.1999) 25-220 168.mp4",{"$f":"IF(SUMPRODUCT(--ISNUMBER(SEARCH(Rechnung!H$2:H$31, A822)))>0,\"X\",\"\")","v":"X"},"MRS 09352 Anora (31.10.2024) - Mikey Madison (25.03.1999) 25-220",1,"nein"]
["MRS 09352 Anora (31.10.2024) - Mikey Madison (25.03.1999) 25-220 169.mp4",{"$f":"IF(SUMPRODUCT(--ISNUMBER(SEARCH(Rechnung!H$2:H$31, A823)))>0,\"X\",\"\")","v":"X"},"MRS 09352 Anora (31.10.2024) - Mikey Madison (25.03.1999) 25-220",1,"nein"]
["MRS 09352 Anora (31.10.2024) - Mikey Madison (25.03.1999) 25-220 170.mp4",{"$f":"IF(SUMPRODUCT(--ISNUMBER(SEARCH(Rechnung!H$2:H$31, A824)))>0,\"X\",\"\")","v":"X"},"MRS 09352 Anora (31.10.2024) - Mikey Madison (25.03.1999) 25-220",1,"nein"]
["MRS 09352 Anora (31.10.2024) - Mikey Madison (25.03.1999) 25-220 171.mp4",{"$f":"IF(SUMPRODUCT(--ISNUMBER(SEARCH(Rechnung!H$2:H$31, A825)))>0,\"X\",\"\")","v":"X"},"MRS 09352 Anora (31.10.2024) - Mikey Madison (25.03.1999) 25-220",1,"nein"]
["MRS 09352 Anora (31.10.2024) - Mikey Madison (25.03.1999) 25-220 172.mp4",{"$f":"IF(SUMPRODUCT(--ISNUMBER(SEARCH(Rechnung!H$2:H$31, A826)))>0,\"X\",\"\")","v":"X"},"MRS 09352 Anora (31.10.2024) - Mikey Madison (25.03.1999) 25-220",1,"nein"]
["MRS 09352 Anora (31.10.2024) - Mikey Madison (25.03.1999) 25-220 173.mp4",{"$f":"IF(SUMPRODUCT(--ISNUMBER(SEARCH(Rechnung!H$2:H$31, A827)))>0,\"X\",\"\")","v":"X"},"MRS 09352 Anora (31.10.2024) - Mikey Madison (25.03.1999) 25-220",1,"nein"]
["MRS 09352 Anora (31.10.2024) - Mikey Madison (25.03.1999) 25-220 174.mp4",{"$f":"IF(SUMPRODUCT(--ISNUMBER(SEARCH(Rechnung!H$2:H$31, A828)))>0,\"X\",\"\")","v":"X"},"MRS 09352 Anora (31.10.2024) - Mikey Madison (25.03.1999) 25-220",1,"nein"]
["MRS 09352 Anora (31.10.2024) - Mikey Madison (25.03.1999) 25-220 175.mp4",{"$f":"IF(SUMPRODUCT(--ISNUMBER(SEARCH(Rechnung!H$2:H$31, A829)))>0,\"X\",\"\")","v":"X"},"MRS 09352 Anora (31.10.2024) - Mikey Madison (25.03.1999) 25-220",1,"nein"]
["MRS 09352 Anora (31.10.2024) - Mikey Madison (25.03.1999) 25-220 176.mp4",{"$f":"IF(SUMPRODUCT(--ISNUMBER(SEARCH(Rechnung!H$2:H$31, A830)))>0,\"X\",\"\")","v":"X"},"MRS 09352 Anora (31.10.2024) - Mikey Madison (25.03.1999) 25-220",1,"nein"]
["MRS 09352 Anora (31.10.2024) - Mikey Madison (25.03.1999) 25-220 177.mp4",{"$f":"IF(SUMPRODUCT(--ISNUMBER(SEARCH(Rechnung!H$2:H$31, A831)))>0,\"X\",\"\")","v":"X"},"MRS 09352 Anora (31.10.2024) - Mikey Madison (25.03.1999) 25-220",1,"nein"]
["MRS 09352 Anora (31.10.2024) - Mikey Madison (25.03.1999) 25-220 178.mp4",{"$f":"IF(SUMPRODUCT(--ISNUMBER(SEARCH(Rechnung!H$2:H$31, A832)))>0,\"X\",\"\")","v":"X"},"MRS 09352 Anora (31.10.2024) - Mikey Madison (25.03.1999) 25-220",1,"nein"]
["MRS 09352 Anora (31.10.2024) - Mikey Madison (25.03.1999) 25-220 179.mp4",{"$f":"IF(SUMPRODUCT(--ISNUMBER(SEARCH(Rechnung!H$2:H$31, A833)))>0,\"X\",\"\")","v":"X"},"MRS 09352 Anora (31.10.2024) - Mikey Madison (25.03.1999) 25-220",1,"nein"]
["MRS 09352 Anora (31.10.2024) - Mikey Madison (25.03.1999) 25-220 180.mp4",{"$f":"IF(SUMPRODUCT(--ISNUMBER(SEARCH(Rechnung!H$2:H$31, A834)))>0,\"X\",\"\")","v":"X"},"MRS 09352 Anora (31.10.2024) - Mikey Madison (25.03.1999) 25-220",1,"nein"]
["MRS 09352 Anora (31.10.2024) - Mikey Madison (25.03.1999) 25-220 181.mp4",{"$f":"IF(SUMPRODUCT(--ISNUMBER(SEARCH(Rechnung!H$2:H$31, A835)))>0,\"X\",\"\")","v":"X"},{"$f":"LEFT(A835, LEN(A835) - LEN(MID(A835, FIND(\"~\", SUBSTITUTE(A835,\" \",\"~\", LEN(A835)-LEN(SUBSTITUTE(A835,\" \",\"\")))), LEN(A835))))","v":"MRS 09352 Anora (31.10.2024) - Mikey Madison (25.03.1999) 25-220"},1,{"$f":"IF(AND(B835=\"X\",D835=0),\"ja\",\"nein\")","v":"nein"}]
["MRS 09352 Anora (31.10.2024) - Mikey Madison (25.03.1999) 25-220 182.mp4",{"$f":"IF(SUMPRODUCT(--ISNUMBER(SEARCH(Rechnung!H$2:H$31, A836)))>0,\"X\",\"\")","v":"X"},"MRS 09352 Anora (31.10.2024) - Mikey Madison (25.03.1999) 25-220",1,"nein"]
["MRS 09352 Anora (31.10.2024) - Mikey Madison (25.03.1999) 25-220 183.mp4",{"$f":"IF(SUMPRODUCT(--ISNUMBER(SEARCH(Rechnung!H$2:H$31, A837)))>0,\"X\",\"\")","v":"X"},"MRS 09352 Anora (31.10.2024) - Mikey Madison (25.03.1999) 25-220",1,"nein"]
["MRS 09352 Anora (31.10.2024) - Mikey Madison (25.03.1999) 25-220 184.mp4",{"$f":"IF(SUMPRODUCT(--ISNUMBER(SEARCH(Rechnung!H$2:H$31, A838)))>0,\"X\",\"\")","v":"X"},"MRS 09352 Anora (31.10.2024) - Mikey Madison (25.03.1999) 25-220",1,"nein"]
["MRS 09352 Anora (31.10.2024) - Mikey Madison (25.03.1999) 25-220 185.mp4",{"$f":"IF(SUMPRODUCT(--ISNUMBER(SEARCH(Rechnung!H$2:H$31, A839)))>0,\"X\",\"\")","v":"X"},"MRS 09352 Anora (31.10.2024) - Mikey Madison (25.03.1999) 25-220",1,"nein"]
["MRS 09352 Anora (31.10.2024) - Mikey Madison (25.03.1999) 25-220 186.mp4",{"$f":"IF(SUMPRODUCT(--ISNUMBER(SEARCH(Rechnung!H$2:H$31, A840)))>0,\"X\",\"\")","v":"X"},"MRS 09352 Anora (31.10.2024) - Mikey Madison (25.03.1999) 25-220",1,"nein"]
["MRS 09352 Anora (31.10.2024) - Mikey Madison (25.03.1999) 25-220 187.mp4",{"$f":"IF(SUMPRODUCT(--ISNUMBER(SEARCH(Rechnung!H$2:H$31, A841)))>0,\"X\",\"\")","v":"X"},"MRS 09352 Anora (31.10.2024) - Mikey Madison (25.03.1999) 25-220",1,"nein"]
["MRS 09352 Anora (31.10.2024) - Mikey Madison (25.03.1999) 25-220 188.mp4",{"$f":"IF(SUMPRODUCT(--ISNUMBER(SEARCH(Rechnung!H$2:H$31, A842)))>0,\"X\",\"\")","v":"X"},"MRS 09352 Anora (31.10.2024) - Mikey Madison (25.03.1999) 25-220",1,"nein"]
["MRS 09352 Anora (31.10.2024) - Mikey Madison (25.03.1999) 25-220 189.mp4",{"$f":"IF(SUMPRODUCT(--ISNUMBER(SEARCH(Rechnung!H$2:H$31, A843)))>0,\"X\",\"\")","v":"X"},"MRS 09352 Anora (31.10.2024) - Mikey Madison (25.03.1999) 25-220",1,"nein"]
["MRS 09352 Anora (31.10.2024) - Mikey Madison (25.03.1999) 25-220 190.mp4",{"$f":"IF(SUMPRODUCT(--ISNUMBER(SEARCH(Rechnung!H$2:H$31, A844)))>0,\"X\",\"\")","v":"X"},"MRS 09352 Anora (31.10.2024) - Mikey Madison (25.03.1999) 25-220",1,"nein"]
["MRS 09352 Anora (31.10.2024) - Mikey Madison (25.03.1999) 25-220 191.mp4",{"$f":"IF(SUMPRODUCT(--ISNUMBER(SEARCH(Rechnung!H$2:H$31, A845)))>0,\"X\",\"\")","v":"X"},"MRS 09352 Anora (31.10.2024) - Mikey Madison (25.03.1999) 25-220",1,"nein"]
["MRS 09352 Anora (31.10.2024) - Mikey Madison (25.03.1999) 25-220 192.mp4",{"$f":"IF(SUMPRODUCT(--ISNUMBER(SEARCH(Rechnung!H$2:H$31, A846)))>0,\"X\",\"\")","v":"X"},"MRS 09352 Anora (31.10.2024) - Mikey Madison (25.03.1999) 25-220",1,"nein"]
["MRS 09352 Anora (31.10.2024) - Mikey Madison (25.03.1999) 25-220 193.mp4",{"$f":"IF(SUMPRODUCT(--ISNUMBER(SEARCH(Rechnung!H$2:H$31, A847)))>0,\"X\",\"\")","v":"X"},"MRS 09352 Anora (31.10.2024) - Mikey Madison (25.03.1999) 25-220",1,"nein"]
["MRS 09352 Anora (31.10.2024) - Mikey Madison (25.03.1999) 25-220 194.mp4",{"$f":"IF(SUMPRODUCT(--ISNUMBER(SEARCH(Rechnung!H$2:H$31, A848)))>0,\"X\",\"\")","v":"X"},"MRS 09352 Anora (31.10.2024) - Mikey Madison (25.03.1999) 25-220",1,"nein"]
["MRS 09358 Amore, piombo e furore (04.08.1978) - Jenny Agutter (20.12.1952) 25-227 431.mp4",{"$f":"IF(SUMPRODUCT(--ISNUMBER(SEARCH(Rechnung!H$2:H$31, A849)))>0,\"X\",\"\")","v":""},"MRS 09358 Amore, piombo e furore (04.08.1978) - Jenny Agutter (20.12.1952) 25-227",0,"nein"]
["MRS 09358 Amore, piombo e furore (04.08.1978) - Jenny Agutter (20.12.1952) 25-227 432.mp4",{"$f":"IF(SUMPRODUCT(--ISNUMBER(SEARCH(Rechnung!H$2:H$31, A850)))>0,\"X\",\"\")","v":""},"MRS 09358 Amore, piombo e furore (04.08.1978) - Jenny Agutter (20.12.1952) 25-227",0,"nein"]
["MRS 09358 Amore, piombo e furore (04.08.1978) - Jenny Agutter (20.12.1952) 25-227 433.mp4",{"$f":"IF(SUMPRODUCT(--ISNUMBER(SEARCH(Rechnung!H$2:H$31, A851)))>0,\"X\",\"\")","v":""},"MRS 09358 Amore, piombo e furore (04.08.1978) - Jenny Agutter (20.12.1952) 25-227",0,"nein"]
["MRS 09358 Amore, piombo e furore (04.08.1978) - Jenny Agutter (20.12.1952) 25-227 434.mp4",{"$f":"IF(SUMPRODUCT(--ISNUMBER(SEARCH(Rechnung!H$2:H$31, A852)))>0,\"X\",\"\")","v":""},"MRS 09358 Amore, piombo e furore (04.08.1978) - Jenny Agutter (20.12.1952) 25-227",0,"nein"]
["MRS 09361 Hell's Kitchen (19.01.2001) - Angelina Jolie (04.06.1975) 25-229 1103.mp4",{"$f":"IF(SUMPRODUCT(--ISNUMBER(SEARCH(Rechnung!H$2:H$31, A853)))>0,\"X\",\"\")","v":""},"MRS 09361 Hell's Kitchen (19.01.2001) - Angelina Jolie (04.06.1975) 25-229",0,"nein"]
["MRS 09362 Shameless I'll Light a Candle for You Every Day (30.04.2012) - Emmy Rossum (12.09.1986) 25-230 285.mp4",{"$f":"IF(SUMPRODUCT(--ISNUMBER(SEARCH(Rechnung!H$2:H$31, A854)))>0,\"X\",\"\")","v":""},"MRS 09362 Shameless I'll Light a Candle for You Every Day (30.04.2012) - Emmy Rossum (12.09.1986) 25-230",0,"nein"]
["MRS 09364 The New Romantic (11.03.2018) - Jessica Barden (21.07.1992) 25-233 2900.mp4",{"$f":"IF(SUMPRODUCT(--ISNUMBER(SEARCH(Rechnung!H$2:H$31, A855)))>0,\"X\",\"\")","v":""},"MRS 09364 The New Romantic (11.03.2018) - Jessica Barden (21.07.1992) 25-233",0,"nein"]
["MRS 09367 Chaplin (28.10.1993) - Moira Kelly (06.03.1968) 25-236 670.mp4",{"$f":"IF(SUMPRODUCT(--ISNUMBER(SEARCH(Rechnung!H$2:H$31, A856)))>0,\"X\",\"\")","v":""},"MRS 09367 Chaplin (28.10.1993) - Moira Kelly (06.03.1968) 25-236",0,"nein"]
["MRS 09367 The Horror Show (24.08.1989) - Dedee Pfeiffer (01.01.1964) 25-236 2731.mp4",{"$f":"IF(SUMPRODUCT(--ISNUMBER(SEARCH(Rechnung!H$2:H$31, A857)))>0,\"X\",\"\")","v":""},"MRS 09367 The Horror Show (24.08.1989) - Dedee Pfeiffer (01.01.1964) 25-236",0,"nein"]
["MRS 09373 Cuckoo (29.08.2024) - Hunter Schafer (31.12.1998) 25-241 474.mp4",{"$f":"IF(SUMPRODUCT(--ISNUMBER(SEARCH(Rechnung!H$2:H$31, A858)))>0,\"X\",\"\")","v":"X"},"MRS 09373 Cuckoo (29.08.2024) - Hunter Schafer (31.12.1998) 25-241",1,"nein"]
["MRS 09375 Eating Las Vegas (31.12.1997) - Julie Benz (01.05.1972) 25-244 687.mp4",{"$f":"IF(SUMPRODUCT(--ISNUMBER(SEARCH(Rechnung!H$2:H$31, A859)))>0,\"X\",\"\")","v":""},"MRS 09375 Eating Las Vegas (31.12.1997) - Julie Benz (01.05.1972) 25-244",0,"nein"]
["MRS 09386 Grandview, U.S.A. (03.08.1984) - Jamie Lee Curtis (22.11.1958) 25-254 403.mp4",{"$f":"IF(SUMPRODUCT(--ISNUMBER(SEARCH(Rechnung!H$2:H$31, A860)))>0,\"X\",\"\")","v":""},"MRS 09386 Grandview, U.S.A. (03.08.1984) - Jamie Lee Curtis (22.11.1958) 25-254",0,"nein"]
["MRS 09386 Grandview, U.S.A. (03.08.1984) - Jamie Lee Curtis (22.11.1958) 25-254 404.mp4",{"$f":"IF(SUMPRODUCT(--ISNUMBER(SEARCH(Rechnung!H$2:H$31, A861)))>0,\"X\",\"\")","v":""},"MRS 09386 Grandview, U.S.A. (03.08.1984) - Jamie Lee Curtis (22.11.1958) 25-254",0,"nein"]
["MRS 09387 Devil's Den (22.10.2006) - Dawn Olivieri (08.02.1981) 25-256 2636.mp4",{"$f":"IF(SUMPRODUCT(--ISNUMBER(SEARCH(Rechnung!H$2:H$31, A862)))>0,\"X\",\"\")","v":""},"MRS 09387 Devil's Den (22.10.2006) - Dawn Olivieri (08.02.1981) 25-256",0,"nein"]
["MRS 09392 The Bad Batch (22.09.2017) - Suki Waterhouse (05.01.1992) 25-261 764.mp4",{"$f":"IF(SUMPRODUCT(--ISNUMBER(SEARCH(Rechnung!H$2:H$31, A863)))>0,\"X\",\"\")","v":""},"MRS 09392 The Bad Batch (22.09.2017) - Suki Waterhouse (05.01.1992) 25-261",0,"nein"]
["MRS 09392 Zapped! (27.05.1983) - Heather Thomas (08.09.1957) 25-261 3416.mp4",{"$f":"IF(SUMPRODUCT(--ISNUMBER(SEARCH(Rechnung!H$2:H$31, A864)))>0,\"X\",\"\")","v":""},"MRS 09392 Zapped! (27.05.1983) - Heather Thomas (08.09.1957) 25-261",0,"nein"]
["MRS 09394 Entourage The Script and the Sherpa (16.09.2008) - Beau Garrett (28.12.1982) 25-262 727.mp4",{"$f":"IF(SUMPRODUCT(--ISNUMBER(SEARCH(Rechnung!H$2:H$31, A865)))>0,\"X\",\"\")","v":""},"MRS 09394 Entourage The Script and the Sherpa (16.09.2008) - Beau Garrett (28.12.1982) 25-262",0,"nein"]
["MRS 09394 Entourage The Script and the Sherpa (16.09.2008) - Beau Garrett (28.12.1982) 25-262 728.mp4",{"$f":"IF(SUMPRODUCT(--ISNUMBER(SEARCH(Rechnung!H$2:H$31, A866)))>0,\"X\",\"\")","v":""},"MRS 09394 Entourage The Script and the Sherpa (16.09.2008) - Beau Garrett (28.12.1982) 25-262",0,"nein"]
["MRS 09402 Time Is Up 2 (06.07.2023) - Bella Thorne (08.10.1997) 25-271 63.mp4",{"$f":"IF(SUMPRODUCT(--ISNUMBER(SEARCH(Rechnung!H$2:H$31, A867)))>0,\"X\",\"\")","v":"X"},"MRS 09402 Time Is Up 2 (06.07.2023) - Bella Thorne (08.10.1997) 25-271",0,"ja"]
["MRS 09402 Time Is Up 2 (06.07.2023) - Bella Thorne (08.10.1997) 25-271 64.mp4",{"$f":"IF(SUMPRODUCT(--ISNUMBER(SEARCH(Rechnung!H$2:H$31, A868)))>0,\"X\",\"\")","v":"X"},"MRS 09402 Time Is Up 2 (06.07.2023) - Bella Thorne (08.10.1997) 25-271",0,"ja"]
["MRS 09410 Last Night (30.12.2010) - Keira Knightley (26.03.1985) 25-279 1485.mp4",{"$f":"IF(SUMPRODUCT(--ISNUMBER(SEARCH(Rechnung!H$2:H$31, A869)))>0,\"X\",\"\")","v":""},"MRS 09410 Last Night (30.12.2010) - Keira Knightley (26.03.1985) 25-279",0,"nein"]
["MRS 09412 Dead Bodies (25.04.2003) - Kelly Reilly (18.07.1977) 25-281 571.mp4",{"$f":"IF(SUMPRODUCT(--ISNUMBER(SEARCH(Rechnung!H$2:H$31, A870)))>0,\"X\",\"\")","v":""},"MRS 09412 Dead Bodies (25.04.2003) - Kelly Reilly (18.07.1977) 25-281",0,"nein"]
["MRS 09412 Dead Bodies (25.04.2003) - Kelly Reilly (18.07.1977) 25-281 572.mp4",{"$f":"IF(SUMPRODUCT(--ISNUMBER(SEARCH(Rechnung!H$2:H$31, A871)))>0,\"X\",\"\")","v":""},"MRS 09412 Dead Bodies (25.04.2003) - Kelly Reilly (18.07.1977) 25-281",0,"nein"]
["MRS 09414 A Violent Separation (17.05.2019) - Francesca Eastwood (07.08.1993) 25-283 59.mp4",{"$f":"IF(SUMPRODUCT(--ISNUMBER(SEARCH(Rechnung!H$2:H$31, A872)))>0,\"X\",\"\")","v":""},"MRS 09414 A Violent Separation (17.05.2019) - Francesca Eastwood (07.08.1993) 25-283",0,"nein"]
["MRS 09414 A Violent Separation (17.05.2019) - Francesca Eastwood (07.08.1993) 25-283 60.mp4",{"$f":"IF(SUMPRODUCT(--ISNUMBER(SEARCH(Rechnung!H$2:H$31, A873)))>0,\"X\",\"\")","v":""},"MRS 09414 A Violent Separation (17.05.2019) - Francesca Eastwood (07.08.1993) 25-283",0,"nein"]
["MRS 09421 Afternoon Delight (07.05.2015) - Juno Temple (21.07.1989) 25-290 96.mp4",{"$f":"IF(SUMPRODUCT(--ISNUMBER(SEARCH(Rechnung!H$2:H$31, A874)))>0,\"X\",\"\")","v":""},"MRS 09421 Afternoon Delight (07.05.2015) - Juno Temple (21.07.1989) 25-290",0,"nein"]
["MRS 09421 Afternoon Delight (07.05.2015) - Juno Temple (21.07.1989) 25-290 97.mp4",{"$f":"IF(SUMPRODUCT(--ISNUMBER(SEARCH(Rechnung!H$2:H$31, A875)))>0,\"X\",\"\")","v":""},"MRS 09421 Afternoon Delight (07.05.2015) - Juno Temple (21.07.1989) 25-290",0,"nein"]
["MRS 09421 Afternoon Delight (07.05.2015) - Juno Temple (21.07.1989) 25-290 98.mp4",{"$f":"IF(SUMPRODUCT(--ISNUMBER(SEARCH(Rechnung!H$2:H$31, A876)))>0,\"X\",\"\")","v":""},"MRS 09421 Afternoon Delight (07.05.2015) - Juno Temple (21.07.1989) 25-290",0,"nein"]
["MRS 09421 Afternoon Delight (07.05.2015) - Juno Temple (21.07.1989) 25-290 99.mp4",{"$f":"IF(SUMPRODUCT(--ISNUMBER(SEARCH(Rechnung!H$2:H$31, A877)))>0,\"X\",\"\")","v":""},"MRS 09421 Afternoon Delight (07.05.2015) - Juno Temple (21.07.1989) 25-290",0,"nein"]
["MRS 09421 The Notebook (02.09.2004) - Rachel McAdams (17.11.1978) 25-289 2916.mp4",{"$f":"IF(SUMPRODUCT(--ISNUMBER(SEARCH(Rechnung!H$2:H$31, A878)))>0,\"X\",\"\")","v":""},"MRS 09421 The Notebook (02.09.2004) - Rachel McAdams (17.11.1978) 25-289",0,"nein"]
["MRS 09421 The Notebook (02.09.2004) - Rachel McAdams (17.11.1978) 25-289 2917.mp4",{"$f":"IF(SUMPRODUCT(--ISNUMBER(SEARCH(Rechnung!H$2:H$31, A879)))>0,\"X\",\"\")","v":""},"MRS 09421 The Notebook (02.09.2004) - Rachel McAdams (17.11.1978) 25-289",0,"nein"]
["MRS 09421 The Notebook (02.09.2004) - Rachel McAdams (17.11.1978) 25-289 2918.mp4",{"$f":"IF(SUMPRODUCT(--ISNUMBER(SEARCH(Rechnung!H$2:H$31, A880)))>0,\"X\",\"\")","v":""},"MRS 09421 The Notebook (02.09.2004) - Rachel McAdams (17.11.1978) 25-289",0,"nein"]
["MRS 09421 The Notebook (02.09.2004) - Rachel McAdams (17.11.1978) 25-289 2919.mp4",{"$f":"IF(SUMPRODUCT(--ISNUMBER(SEARCH(Rechnung!H$2:H$31, A881)))>0,\"X\",\"\")","v":""},"MRS 09421 The Notebook (02.09.2004) - Rachel McAdams (17.11.1978) 25-289",0,"nein"]
["MRS 09421 The Notebook (02.09.2004) - Rachel McAdams (17.11.1978) 25-289 2920.mp4",{"$f":"IF(SUMPRODUCT(--ISNUMBER(SEARCH(Rechnung!H$2:H$31, A882)))>0,\"X\",\"\")","v":""},"MRS 09421 The Notebook (02.09.2004) - Rachel McAdams (17.11.1978) 25-289",0,"nein"]
["MRS 09425 Shameless Fiona Interrupted (02.07.2012) - Emmy Rossum (12.09.1986) 25-293 284.mp4",{"$f":"IF(SUMPRODUCT(--ISNUMBER(SEARCH(Rechnung!H$2:H$31, A883)))>0,\"X\",\"\")","v":""},"MRS 09425 Shameless Fiona Interrupted (02.07.2012) - Emmy Rossum (12.09.1986) 25-293",0,"nein"]
["MRS 09425 True Romance (27.01.1994) - Patricia Arquette (08.04.1968) 25-294 3186.mp4",{"$f":"IF(SUMPRODUCT(--ISNUMBER(SEARCH(Rechnung!H$2:H$31, A884)))>0,\"X\",\"\")","v":""},"MRS 09425 True Romance (27.01.1994) - Patricia Arquette (08.04.1968) 25-294",0,"nein"]
["MRS 09425 True Romance (27.01.1994) - Patricia Arquette (08.04.1968) 25-294 3187.mp4",{"$f":"IF(SUMPRODUCT(--ISNUMBER(SEARCH(Rechnung!H$2:H$31, A885)))>0,\"X\",\"\")","v":""},"MRS 09425 True Romance (27.01.1994) - Patricia Arquette (08.04.1968) 25-294",0,"nein"]
["MRS 09426 The Seventh Sign (01.09.1988) - Demi Moore (11.11.1962) 25-294 2991.mp4",{"$f":"IF(SUMPRODUCT(--ISNUMBER(SEARCH(Rechnung!H$2:H$31, A886)))>0,\"X\",\"\")","v":""},"MRS 09426 The Seventh Sign (01.09.1988) - Demi Moore (11.11.1962) 25-294",0,"nein"]
["MRS 09430 Bokeh (24.03.2019) - Maika Monroe (29.05.1993) 25-299 292.mp4",{"$f":"IF(SUMPRODUCT(--ISNUMBER(SEARCH(Rechnung!H$2:H$31, A887)))>0,\"X\",\"\")","v":""},"MRS 09430 Bokeh (24.03.2019) - Maika Monroe (29.05.1993) 25-299",0,"nein"]
["MRS 09435 Manhattan A New Approach to Nuclear Cosmology (11.05.2016) - Rachel Brosnahan (12.07.1990) 25-303 1661.mp4",{"$f":"IF(SUMPRODUCT(--ISNUMBER(SEARCH(Rechnung!H$2:H$31, A888)))>0,\"X\",\"\")","v":""},"MRS 09435 Manhattan A New Approach to Nuclear Cosmology (11.05.2016) - Rachel Brosnahan (12.07.1990) 25-303",0,"nein"]
["MRS 09435 Manhattan The New World (11.05.2016) - Rachel Brosnahan (12.07.1990) 25-303 1662.mp4",{"$f":"IF(SUMPRODUCT(--ISNUMBER(SEARCH(Rechnung!H$2:H$31, A889)))>0,\"X\",\"\")","v":""},"MRS 09435 Manhattan The New World (11.05.2016) - Rachel Brosnahan (12.07.1990) 25-303",0,"nein"]
["MRS 09441 Bereavement (20.01.2012) - Alexandra Daddario (16.03.1986) 25-310 242.mp4",{"$f":"IF(SUMPRODUCT(--ISNUMBER(SEARCH(Rechnung!H$2:H$31, A890)))>0,\"X\",\"\")","v":""},"MRS 09441 Bereavement (20.01.2012) - Alexandra Daddario (16.03.1986) 25-310",0,"nein"]
["MRS 09441 Mulholland Falls (17.10.1996) - Jennifer Connelly (12.12.1970) 25-309 1779.mp4",{"$f":"IF(SUMPRODUCT(--ISNUMBER(SEARCH(Rechnung!H$2:H$31, A891)))>0,\"X\",\"\")","v":""},"MRS 09441 Mulholland Falls (17.10.1996) - Jennifer Connelly (12.12.1970) 25-309",0,"nein"]
["MRS 09441 Mulholland Falls (17.10.1996) - Jennifer Connelly (12.12.1970) 25-309 1780.mp4",{"$f":"IF(SUMPRODUCT(--ISNUMBER(SEARCH(Rechnung!H$2:H$31, A892)))>0,\"X\",\"\")","v":""},"MRS 09441 Mulholland Falls (17.10.1996) - Jennifer Connelly (12.12.1970) 25-309",0,"nein"]
["MRS 09441 Mulholland Falls (17.10.1996) - Jennifer Connelly (12.12.1970) 25-309 1781.mp4",{"$f":"IF(SUMPRODUCT(--ISNUMBER(SEARCH(Rechnung!H$2:H$31, A893)))>0,\"X\",\"\")","v":""},"MRS 09441 Mulholland Falls (17.10.1996) - Jennifer Connelly (12.12.1970) 25-309",0,"nein"]
["MRS 09449 Not Another Happy Ending (11.10.2013) - Karen Gillan (28.11.1987) 25-318 1875.mp4",{"$f":"IF(SUMPRODUCT(--ISNUMBER(SEARCH(Rechnung!H$2:H$31, A894)))>0,\"X\",\"\")","v":""},"MRS 09449 Not Another Happy Ending (11.10.2013) - Karen Gillan (28.11.1987) 25-318",0,"nein"]
["MRS 09449 Not Another Happy Ending (11.10.2013) - Karen Gillan (28.11.1987) 25-318 1876.mp4",{"$f":"IF(SUMPRODUCT(--ISNUMBER(SEARCH(Rechnung!H$2:H$31, A895)))>0,\"X\",\"\")","v":""},"MRS 09449 Not Another Happy Ending (11.10.2013) - Karen Gillan (28.11.1987) 25-318",0,"nein"]
["MRS 09449 Not Another Happy Ending (11.10.2013) - Karen Gillan (28.11.1987) 25-318 1877.mp4",{"$f":"IF(SUMPRODUCT(--ISNUMBER(SEARCH(Rechnung!H$2:H$31, A896)))>0,\"X\",\"\")","v":""},"MRS 09449 Not Another Happy Ending (11.10.2013) - Karen Gillan (28.11.1987) 25-318",0,"nein"]
["MRS 09449 Not Another Happy Ending (11.10.2013) - Karen Gillan (28.11.1987) 25-318 1878.mp4",{"$f":"IF(SUMPRODUCT(--ISNUMBER(SEARCH(Rechnung!H$2:H$31, A897)))>0,\"X\",\"\")","v":""},"MRS 09449 Not Another Happy Ending (11.10.2013) - Karen Gillan (28.11.1987) 25-318",0,"nein"]
["MRS 09449 Not Another Happy Ending (11.10.2013) - Karen Gillan (28.11.1987) 25-318 1879.mp4",{"$f":"IF(SUMPRODUCT(--ISNUMBER(SEARCH(Rechnung!H$2:H$31, A898)))>0,\"X\",\"\")","v":""},"MRS 09449 Not Another Happy Ending (11.10.2013) - Karen Gillan (28.11.1987) 25-318",0,"nein"]
["MRS 09450 Eiffel (18.11.2021) - Emma Mackey (04.01.1996) 25-319 688.mp4",{"$f":"IF(SUMPRODUCT(--ISNUMBER(SEARCH(Rechnung!H$2:H$31, A899)))>0,\"X\",\"\")","v":"X"},{"$f":"LEFT(A899, LEN(A899) - LEN(MID(A899, FIND(\"~\", SUBSTITUTE(A899,\" \",\"~\", LEN(A899)-LEN(SUBSTITUTE(A899,\" \",\"\")))), LEN(A899))))","v":"MRS 09450 Eiffel (18.11.2021) - Emma Mackey (04.01.1996) 25-319"},1,{"$f":"IF(AND(B899=\"X\",D899=0),\"ja\",\"nein\")","v":"nein"}]
["MRS 09450 Eiffel (18.11.2021) - Emma Mackey (04.01.1996) 25-319 689.mp4",{"$f":"IF(SUMPRODUCT(--ISNUMBER(SEARCH(Rechnung!H$2:H$31, A900)))>0,\"X\",\"\")","v":"X"},"MRS 09450 Eiffel (18.11.2021) - Emma Mackey (04.01.1996) 25-319",1,"nein"]
["MRS 09455 Amanda Knox (11.07.2015) - Hayden Panettiere (21.08.1989) 25-324 137.mp4",{"$f":"IF(SUMPRODUCT(--ISNUMBER(SEARCH(Rechnung!H$2:H$31, A901)))>0,\"X\",\"\")","v":""},"MRS 09455 Amanda Knox (11.07.2015) - Hayden Panettiere (21.08.1989) 25-324",0,"nein"]
["MRS 09457 Broad City Coat Check (10.03.2015) - Alia Shawkat (18.04.1989) 25-326 345.mp4",{"$f":"IF(SUMPRODUCT(--ISNUMBER(SEARCH(Rechnung!H$2:H$31, A902)))>0,\"X\",\"\")","v":""},"MRS 09457 Broad City Coat Check (10.03.2015) - Alia Shawkat (18.04.1989) 25-326",0,"nein"]
["MRS 09457 Broad City Coat Check (10.03.2015) - Alia Shawkat (18.04.1989) 25-326 346.mp4",{"$f":"IF(SUMPRODUCT(--ISNUMBER(SEARCH(Rechnung!H$2:H$31, A903)))>0,\"X\",\"\")","v":""},"MRS 09457 Broad City Coat Check (10.03.2015) - Alia Shawkat (18.04.1989) 25-326",0,"nein"]
["MRS 09457 Broad City Coat Check (10.03.2015) - Alia Shawkat (18.04.1989) 25-326 347.mp4",{"$f":"IF(SUMPRODUCT(--ISNUMBER(SEARCH(Rechnung!H$2:H$31, A904)))>0,\"X\",\"\")","v":""},"MRS 09457 Broad City Coat Check (10.03.2015) - Alia Shawkat (18.04.1989) 25-326",0,"nein"]
["MRS 09466 Possession (27.05.1981) - Isabelle Adjani (27.06.1955) 25-335 376.mp4",{"$f":"IF(SUMPRODUCT(--ISNUMBER(SEARCH(Rechnung!H$2:H$31, A905)))>0,\"X\",\"\")","v":""},"MRS 09466 Possession (27.05.1981) - Isabelle Adjani (27.06.1955) 25-335",0,"nein"]
["MRS 09466 Possession (27.05.1981) - Isabelle Adjani (27.06.1955) 25-335 377.mp4",{"$f":"IF(SUMPRODUCT(--ISNUMBER(SEARCH(Rechnung!H$2:H$31, A906)))>0,\"X\",\"\")","v":""},"MRS 09466 Possession (27.05.1981) - Isabelle Adjani (27.06.1955) 25-335",0,"nein"]
["MRS 09466 Possession (27.05.1981) - Isabelle Adjani (27.06.1955) 25-335 378.mp4",{"$f":"IF(SUMPRODUCT(--ISNUMBER(SEARCH(Rechnung!H$2:H$31, A907)))>0,\"X\",\"\")","v":""},"MRS 09466 Possession (27.05.1981) - Isabelle Adjani (27.06.1955) 25-335",0,"nein"]
["MRS 09469 Game of Thrones The Mountain and the Viper (03.02.2015) - Nathalie Emmanuel (02.03.1989) 25-338 987.mp4",{"$f":"IF(SUMPRODUCT(--ISNUMBER(SEARCH(Rechnung!H$2:H$31, A908)))>0,\"X\",\"\")","v":""},"MRS 09469 Game of Thrones The Mountain and the Viper (03.02.2015) - Nathalie Emmanuel (02.03.1989) 25-338",0,"nein"]
["MRS 09479 Killing Eve Don't I Know You (22.02.2019) - Jodie Comer (11.03.1993) 25-348 1380.mp4",{"$f":"IF(SUMPRODUCT(--ISNUMBER(SEARCH(Rechnung!H$2:H$31, A909)))>0,\"X\",\"\")","v":""},"MRS 09479 Killing Eve Don't I Know You (22.02.2019) - Jodie Comer (11.03.1993) 25-348",0,"nein"]
["MRS 09492 Sweet November (02.08.2001) - Charlize Theron (07.08.1975) 25-361 2459.mp4",{"$f":"IF(SUMPRODUCT(--ISNUMBER(SEARCH(Rechnung!H$2:H$31, A910)))>0,\"X\",\"\")","v":""},"MRS 09492 Sweet November (02.08.2001) - Charlize Theron (07.08.1975) 25-361",0,"nein"]
["MRS 09492 Sweet November (02.08.2001) - Charlize Theron (07.08.1975) 25-361 2460.mp4",{"$f":"IF(SUMPRODUCT(--ISNUMBER(SEARCH(Rechnung!H$2:H$31, A911)))>0,\"X\",\"\")","v":""},"MRS 09492 Sweet November (02.08.2001) - Charlize Theron (07.08.1975) 25-361",0,"nein"]
["MRS 09492 Sweet November (02.08.2001) - Charlize Theron (07.08.1975) 25-361 2461.mp4",{"$f":"IF(SUMPRODUCT(--ISNUMBER(SEARCH(Rechnung!H$2:H$31, A912)))>0,\"X\",\"\")","v":""},"MRS 09492 Sweet November (02.08.2001) - Charlize Theron (07.08.1975) 25-361",0,"nein"]
["MRS 09498 Rainsford Love Me Like You Hate Me (24.10.2020) - Margaret Qualley (23.10.1994) 26-1 1580.mp4",{"$f":"IF(SUMPRODUCT(--ISNUMBER(SEARCH(Rechnung!H$2:H$31, A913)))>0,\"X\",\"\")","v":""},"MRS 09498 Rainsford Love Me Like You Hate Me (24.10.2020) - Margaret Qualley (23.10.1994) 26-1",1,"nein"]
["MRS 09498 Rainsford Love Me Like You Hate Me (24.10.2020) - Margaret Qualley (23.10.1994) 26-1 2126.mp4",{"$f":"IF(SUMPRODUCT(--ISNUMBER(SEARCH(Rechnung!H$2:H$31, A914)))>0,\"X\",\"\")","v":""},"MRS 09498 Rainsford Love Me Like You Hate Me (24.10.2020) - Margaret Qualley (23.10.1994) 26-1",1,"nein"]
["MRS 09498 Rainsford Love Me Like You Hate Me (24.10.2020) - Margaret Qualley (23.10.1994) 26-1 2127.mp4",{"$f":"IF(SUMPRODUCT(--ISNUMBER(SEARCH(Rechnung!H$2:H$31, A915)))>0,\"X\",\"\")","v":""},"MRS 09498 Rainsford Love Me Like You Hate Me (24.10.2020) - Margaret Qualley (23.10.1994) 26-1",1,"nein"]
["MRS 09498 The Dictator (17.05.2012) - Megan Fox (16.05.1986) 26-1 2641.mp4",{"$f":"IF(SUMPRODUCT(--ISNUMBER(SEARCH(Rechnung!H$2:H$31, A916)))>0,\"X\",\"\")","v":""},"MRS 09498 The Dictator (17.05.2012) - Megan Fox (16.05.1986) 26-1",0,"nein"]
["MRS 09502 The L Word Lost Weekend (15.01.2006) - Sarah Shahi (10.01.1980) 26-5 2826.mp4",{"$f":"IF(SUMPRODUCT(--ISNUMBER(SEARCH(Rechnung!H$2:H$31, A917)))>0,\"X\",\"\")","v":""},"MRS 09502 The L Word Lost Weekend (15.01.2006) - Sarah Shahi (10.01.1980) 26-5",0,"nein"]
["MRS 09508 The Northman (28.04.2022) - Anya Taylor-Joy (16.04.1996) 26-12 2903.mp4",{"$f":"IF(SUMPRODUCT(--ISNUMBER(SEARCH(Rechnung!H$2:H$31, A918)))>0,\"X\",\"\")","v":"X"},"MRS 09508 The Northman (28.04.2022) - Anya Taylor-Joy (16.04.1996) 26-12",1,"nein"]
["MRS 09508 The Northman (28.04.2022) - Anya Taylor-Joy (16.04.1996) 26-12 2904.mp4",{"$f":"IF(SUMPRODUCT(--ISNUMBER(SEARCH(Rechnung!H$2:H$31, A919)))>0,\"X\",\"\")","v":"X"},"MRS 09508 The Northman (28.04.2022) - Anya Taylor-Joy (16.04.1996) 26-12",1,"nein"]
["MRS 09508 The Northman (28.04.2022) - Anya Taylor-Joy (16.04.1996) 26-12 2905.mp4",{"$f":"IF(SUMPRODUCT(--ISNUMBER(SEARCH(Rechnung!H$2:H$31, A920)))>0,\"X\",\"\")","v":"X"},"MRS 09508 The Northman (28.04.2022) - Anya Taylor-Joy (16.04.1996) 26-12",1,"nein"]
["MRS 09508 The Northman (28.04.2022) - Anya Taylor-Joy (16.04.1996) 26-12 2906.mp4",{"$f":"IF(SUMPRODUCT(--ISNUMBER(SEARCH(Rechnung!H$2:H$31, A921)))>0,\"X\",\"\")","v":"X"},"MRS 09508 The Northman (28.04.2022) - Anya Taylor-Joy (16.04.1996) 26-12",1,"nein"]
["MRS 09508 The Northman (28.04.2022) - Anya Taylor-Joy (16.04.1996) 26-12 2907.mp4",{"$f":"IF(SUMPRODUCT(--ISNUMBER(SEARCH(Rechnung!H$2:H$31, A922)))>0,\"X\",\"\")","v":"X"},"MRS 09508 The Northman (28.04.2022) - Anya Taylor-Joy (16.04.1996) 26-12",1,"nein"]
["MRS 09508 The Northman (28.04.2022) - Anya Taylor-Joy (16.04.1996) 26-12 2908.mp4",{"$f":"IF(SUMPRODUCT(--ISNUMBER(SEARCH(Rechnung!H$2:H$31, A923)))>0,\"X\",\"\")","v":"X"},"MRS 09508 The Northman (28.04.2022) - Anya Taylor-Joy (16.04.1996) 26-12",1,"nein"]
["MRS 09509 Son of a Gun (16.10.2014) - Alicia Vikander (03.10.1988) 26-13 2363.mp4",{"$f":"IF(SUMPRODUCT(--ISNUMBER(SEARCH(Rechnung!H$2:H$31, A924)))>0,\"X\",\"\")","v":""},"MRS 09509 Son of a Gun (16.10.2014) - Alicia Vikander (03.10.1988) 26-13",0,"nein"]
["MRS 09510 Hacks Tunnel of Love (03.06.2021) - Hannah Einbinder (21.05.1995) 26-13 318.mp4",{"$f":"IF(SUMPRODUCT(--ISNUMBER(SEARCH(Rechnung!H$2:H$31, A925)))>0,\"X\",\"\")","v":"X"},"MRS 09510 Hacks Tunnel of Love (03.06.2021) - Hannah Einbinder (21.05.1995) 26-13",0,"ja"]
["MRS 09510 Hacks Tunnel of Love (03.06.2021) - Hannah Einbinder (21.05.1995) 26-13 322.mp4",{"$f":"IF(SUMPRODUCT(--ISNUMBER(SEARCH(Rechnung!H$2:H$31, A926)))>0,\"X\",\"\")","v":"X"},"MRS 09510 Hacks Tunnel of Love (03.06.2021) - Hannah Einbinder (21.05.1995) 26-13",0,"ja"]
["MRS 09512 Horns (06.08.2015) - Juno Temple (21.07.1989) 26-16 1141.mp4",{"$f":"IF(SUMPRODUCT(--ISNUMBER(SEARCH(Rechnung!H$2:H$31, A927)))>0,\"X\",\"\")","v":""},"MRS 09512 Horns (06.08.2015) - Juno Temple (21.07.1989) 26-16",0,"nein"]
["MRS 09512 Por un puñado de besos (16.05.2014) - Ana de Armas (30.04.1988) 26-16 2073.mp4",{"$f":"IF(SUMPRODUCT(--ISNUMBER(SEARCH(Rechnung!H$2:H$31, A928)))>0,\"X\",\"\")","v":""},"MRS 09512 Por un puñado de besos (16.05.2014) - Ana de Armas (30.04.1988) 26-16",0,"nein"]
["MRS 09513 Under Heaven (17.07.1998) - Molly Parker (30.06.1972) 26-17 1192.mp4",{"$f":"IF(SUMPRODUCT(--ISNUMBER(SEARCH(Rechnung!H$2:H$31, A929)))>0,\"X\",\"\")","v":""},"MRS 09513 Under Heaven (17.07.1998) - Molly Parker (30.06.1972) 26-17",0,"nein"]
["MRS 09516 Confessions of a Sociopathic Social Climber (12.03.2005) - Jennifer Love Hewitt (21.02.1979) 26-19 449.mp4",{"$f":"IF(SUMPRODUCT(--ISNUMBER(SEARCH(Rechnung!H$2:H$31, A930)))>0,\"X\",\"\")","v":""},"MRS 09516 Confessions of a Sociopathic Social Climber (12.03.2005) - Jennifer Love Hewitt (21.02.1979) 26-19",0,"nein"]
["MRS 09516 Confessions of a Sociopathic Social Climber (12.03.2005) - Jennifer Love Hewitt (21.02.1979) 26-19 450.mp4",{"$f":"IF(SUMPRODUCT(--ISNUMBER(SEARCH(Rechnung!H$2:H$31, A931)))>0,\"X\",\"\")","v":""},"MRS 09516 Confessions of a Sociopathic Social Climber (12.03.2005) - Jennifer Love Hewitt (21.02.1979) 26-19",0,"nein"]
["MRS 09516 Confessions of a Sociopathic Social Climber (12.03.2005) - Jennifer Love Hewitt (21.02.1979) 26-19 451.mp4",{"$f":"IF(SUMPRODUCT(--ISNUMBER(SEARCH(Rechnung!H$2:H$31, A932)))>0,\"X\",\"\")","v":""},"MRS 09516 Confessions of a Sociopathic Social Climber (12.03.2005) - Jennifer Love Hewitt (21.02.1979) 26-19",0,"nein"]
["MRS 09516 Confessions of a Sociopathic Social Climber (12.03.2005) - Jennifer Love Hewitt (21.02.1979) 26-19 452.mp4",{"$f":"IF(SUMPRODUCT(--ISNUMBER(SEARCH(Rechnung!H$2:H$31, A933)))>0,\"X\",\"\")","v":""},"MRS 09516 Confessions of a Sociopathic Social Climber (12.03.2005) - Jennifer Love Hewitt (21.02.1979) 26-19",0,"nein"]
["MRS 09516 Confessions of a Sociopathic Social Climber (12.03.2005) - Jennifer Love Hewitt (21.02.1979) 26-19 453.mp4",{"$f":"IF(SUMPRODUCT(--ISNUMBER(SEARCH(Rechnung!H$2:H$31, A934)))>0,\"X\",\"\")","v":""},"MRS 09516 Confessions of a Sociopathic Social Climber (12.03.2005) - Jennifer Love Hewitt (21.02.1979) 26-19",0,"nein"]
["MRS 09516 Confessions of a Sociopathic Social Climber (12.03.2005) - Jennifer Love Hewitt (21.02.1979) 26-19 454.mp4",{"$f":"IF(SUMPRODUCT(--ISNUMBER(SEARCH(Rechnung!H$2:H$31, A935)))>0,\"X\",\"\")","v":""},"MRS 09516 Confessions of a Sociopathic Social Climber (12.03.2005) - Jennifer Love Hewitt (21.02.1979) 26-19",0,"nein"]
["MRS 09517 Hacks Interview (10.06.2021) - Hannah Einbinder (21.05.1995) 26-20 319.mp4",{"$f":"IF(SUMPRODUCT(--ISNUMBER(SEARCH(Rechnung!H$2:H$31, A936)))>0,\"X\",\"\")","v":"X"},"MRS 09517 Hacks Interview (10.06.2021) - Hannah Einbinder (21.05.1995) 26-20",0,"ja"]
["MRS 09521 Velvet Goldmine (26.11.1998) - Toni Collette (01.11.1972) 26-25 3239.mp4",{"$f":"IF(SUMPRODUCT(--ISNUMBER(SEARCH(Rechnung!H$2:H$31, A937)))>0,\"X\",\"\")","v":""},"MRS 09521 Velvet Goldmine (26.11.1998) - Toni Collette (01.11.1972) 26-25",0,"nein"]
["MRS 09521 Velvet Goldmine (26.11.1998) - Toni Collette (01.11.1972) 26-25 3240.mp4",{"$f":"IF(SUMPRODUCT(--ISNUMBER(SEARCH(Rechnung!H$2:H$31, A938)))>0,\"X\",\"\")","v":""},"MRS 09521 Velvet Goldmine (26.11.1998) - Toni Collette (01.11.1972) 26-25",0,"nein"]
["MRS 09521 Velvet Goldmine (26.11.1998) - Toni Collette (01.11.1972) 26-25 3241.mp4",{"$f":"IF(SUMPRODUCT(--ISNUMBER(SEARCH(Rechnung!H$2:H$31, A939)))>0,\"X\",\"\")","v":""},"MRS 09521 Velvet Goldmine (26.11.1998) - Toni Collette (01.11.1972) 26-25",0,"nein"]
["MRS 09529 Rumble Through the Dark (10.11.2023) - Bella Thorne (08.10.1997) 26-33 80.mp4",{"$f":"IF(SUMPRODUCT(--ISNUMBER(SEARCH(Rechnung!H$2:H$31, A940)))>0,\"X\",\"\")","v":"X"},"MRS 09529 Rumble Through the Dark (10.11.2023) - Bella Thorne (08.10.1997) 26-33",0,"ja"]
["MRS 09530 The L Word Lifesize (12.02.2006) - Sarah Shahi (10.01.1980) 26-33 2823.mp4",{"$f":"IF(SUMPRODUCT(--ISNUMBER(SEARCH(Rechnung!H$2:H$31, A941)))>0,\"X\",\"\")","v":""},"MRS 09530 The L Word Lifesize (12.02.2006) - Sarah Shahi (10.01.1980) 26-33",0,"nein"]
["MRS 09535 Original Sin (12.07.2001) - Angelina Jolie (04.06.1975) 26-38 1966.mp4",{"$f":"IF(SUMPRODUCT(--ISNUMBER(SEARCH(Rechnung!H$2:H$31, A942)))>0,\"X\",\"\")","v":""},"MRS 09535 Original Sin (12.07.2001) - Angelina Jolie (04.06.1975) 26-38",0,"nein"]
["MRS 09535 Original Sin (12.07.2001) - Angelina Jolie (04.06.1975) 26-38 1967.mp4",{"$f":"IF(SUMPRODUCT(--ISNUMBER(SEARCH(Rechnung!H$2:H$31, A943)))>0,\"X\",\"\")","v":""},"MRS 09535 Original Sin (12.07.2001) - Angelina Jolie (04.06.1975) 26-38",0,"nein"]
["MRS 09535 Original Sin (12.07.2001) - Angelina Jolie (04.06.1975) 26-38 1968.mp4",{"$f":"IF(SUMPRODUCT(--ISNUMBER(SEARCH(Rechnung!H$2:H$31, A944)))>0,\"X\",\"\")","v":""},"MRS 09535 Original Sin (12.07.2001) - Angelina Jolie (04.06.1975) 26-38",0,"nein"]
["MRS 09535 Original Sin (12.07.2001) - Angelina Jolie (04.06.1975) 26-38 1969.mp4",{"$f":"IF(SUMPRODUCT(--ISNUMBER(SEARCH(Rechnung!H$2:H$31, A945)))>0,\"X\",\"\")","v":""},"MRS 09535 Original Sin (12.07.2001) - Angelina Jolie (04.06.1975) 26-38",0,"nein"]
["MRS 09536 L'année prochaine... si tout va bien (05.08.1981) - Isabelle Adjani (27.06.1955) 26-39 357.mp4",{"$f":"IF(SUMPRODUCT(--ISNUMBER(SEARCH(Rechnung!H$2:H$31, A946)))>0,\"X\",\"\")","v":""},"MRS 09536 L'année prochaine... si tout va bien (05.08.1981) - Isabelle Adjani (27.06.1955) 26-39",0,"nein"]
["MRS 09544 Suicide Squad (18.08.2016) - Margot Robbie (02.07.1990) 26-47 2433.mp4",{"$f":"IF(SUMPRODUCT(--ISNUMBER(SEARCH(Rechnung!H$2:H$31, A947)))>0,\"X\",\"\")","v":""},"MRS 09544 Suicide Squad (18.08.2016) - Margot Robbie (02.07.1990) 26-47",0,"nein"]
["MRS 09544 Suicide Squad (18.08.2016) - Margot Robbie (02.07.1990) 26-47 2434.mp4",{"$f":"IF(SUMPRODUCT(--ISNUMBER(SEARCH(Rechnung!H$2:H$31, A948)))>0,\"X\",\"\")","v":""},"MRS 09544 Suicide Squad (18.08.2016) - Margot Robbie (02.07.1990) 26-47",0,"nein"]
["MRS 09545 The Obituary of Tunde Johnson (26.02.2021) - Nicola Peltz Beckham (09.01.1995) 26-48 717.mp4",{"$f":"IF(SUMPRODUCT(--ISNUMBER(SEARCH(Rechnung!H$2:H$31, A949)))>0,\"X\",\"\")","v":"X"},"MRS 09545 The Obituary of Tunde Johnson (26.02.2021) - Nicola Peltz Beckham (09.01.1995) 26-48",0,"ja"]
["MRS 09557 La cugina (26.07.1974) - Dayle Haddon (26.05.1948) 26-61 1416.mp4",{"$f":"IF(SUMPRODUCT(--ISNUMBER(SEARCH(Rechnung!H$2:H$31, A950)))>0,\"X\",\"\")","v":""},"MRS 09557 La cugina (26.07.1974) - Dayle Haddon (26.05.1948) 26-61",0,"nein"]
["MRS 09557 La cugina (26.07.1974) - Dayle Haddon (26.05.1948) 26-61 1417.mp4",{"$f":"IF(SUMPRODUCT(--ISNUMBER(SEARCH(Rechnung!H$2:H$31, A951)))>0,\"X\",\"\")","v":""},"MRS 09557 La cugina (26.07.1974) - Dayle Haddon (26.05.1948) 26-61",0,"nein"]
["MRS 09557 La cugina (26.07.1974) - Dayle Haddon (26.05.1948) 26-61 1418.mp4",{"$f":"IF(SUMPRODUCT(--ISNUMBER(SEARCH(Rechnung!H$2:H$31, A952)))>0,\"X\",\"\")","v":""},"MRS 09557 La cugina (26.07.1974) - Dayle Haddon (26.05.1948) 26-61",0,"nein"]
["MRS 09560 Promised Land (22.01.1988) - Meg Ryan (19.11.1961) 26-64 2080.mp4",{"$f":"IF(SUMPRODUCT(--ISNUMBER(SEARCH(Rechnung!H$2:H$31, A953)))>0,\"X\",\"\")","v":""},"MRS 09560 Promised Land (22.01.1988) - Meg Ryan (19.11.1961) 26-64",0,"nein"]
["MRS 09561 Divinity (12.12.2023) - Bella Thorne (08.10.1997) 26-65 62.mp4",{"$f":"IF(SUMPRODUCT(--ISNUMBER(SEARCH(Rechnung!H$2:H$31, A954)))>0,\"X\",\"\")","v":"X"},"MRS 09561 Divinity (12.12.2023) - Bella Thorne (08.10.1997) 26-65",0,"ja"]
["MRS 09591 Resident Evil (21.03.2002) - Milla Jovovich (17.12.1975) 26-95 638.mp4",{"$f":"IF(SUMPRODUCT(--ISNUMBER(SEARCH(Rechnung!H$2:H$31, A955)))>0,\"X\",\"\")","v":""},"MRS 09591 Resident Evil (21.03.2002) - Milla Jovovich (17.12.1975) 26-95",0,"nein"]
["MRS 09591 Resident Evil (21.03.2002) - Milla Jovovich (17.12.1975) 26-95 639.mp4",{"$f":"IF(SUMPRODUCT(--ISNUMBER(SEARCH(Rechnung!H$2:H$31, A956)))>0,\"X\",\"\")","v":""},"MRS 09591 Resident Evil (21.03.2002) - Milla Jovovich (17.12.1975) 26-95",0,"nein"]
["MRS 09591 Resident Evil (21.03.2002) - Milla Jovovich (17.12.1975) 26-95 640.mp4",{"$f":"IF(SUMPRODUCT(--ISNUMBER(SEARCH(Rechnung!H$2:H$31, A957)))>0,\"X\",\"\")","v":""},"MRS 09591 Resident Evil (21.03.2002) - Milla Jovovich (17.12.1975) 26-95",0,"nein"]
["MRS 09593 The Accused (23.02.1989) - Jodie Foster (19.11.1962) 26-96 494.mp4",{"$f":"IF(SUMPRODUCT(--ISNUMBER(SEARCH(Rechnung!H$2:H$31, A958)))>0,\"X\",\"\")","v":""},"MRS 09593 The Accused (23.02.1989) - Jodie Foster (19.11.1962) 26-96",0,"nein"]
["MRS 09600 The Bisexual Episode #1.4 (10.10.2018) - Niamh Algar (28.06.1992) 26-104 711.mp4",{"$f":"IF(SUMPRODUCT(--ISNUMBER(SEARCH(Rechnung!H$2:H$31, A959)))>0,\"X\",\"\")","v":""},"MRS 09600 The Bisexual Episode #1.4 (10.10.2018) - Niamh Algar (28.06.1992) 26-104",0,"nein"]
["MRS 09606 Gone (22.03.2012) - Amanda Seyfried (03.12.1985) 26-109 57.mp4",{"$f":"IF(SUMPRODUCT(--ISNUMBER(SEARCH(Rechnung!H$2:H$31, A960)))>0,\"X\",\"\")","v":""},"MRS 09606 Gone (22.03.2012) - Amanda Seyfried (03.12.1985) 26-109",0,"nein"]
["MRS 09613 The Tudors Wolsey, Wolsey, Wolsey! (07.06.2008) - Natalie Dormer (11.02.1982) 26-116 3089.mp4",{"$f":"IF(SUMPRODUCT(--ISNUMBER(SEARCH(Rechnung!H$2:H$31, A961)))>0,\"X\",\"\")","v":""},"MRS 09613 The Tudors Wolsey, Wolsey, Wolsey! (07.06.2008) - Natalie Dormer (11.02.1982) 26-116",0,"nein"]
["MRS 09624 Anyone But You (18.01.2024) - Sydney Sweeney (12.09.1997) 26-128 209.mp4",{"$f":"IF(SUMPRODUCT(--ISNUMBER(SEARCH(Rechnung!H$2:H$31, A962)))>0,\"X\",\"\")","v":"X"},"MRS 09624 Anyone But You (18.01.2024) - Sydney Sweeney (12.09.1997) 26-128",1,"nein"]
["MRS 09624 Anyone But You (18.01.2024) - Sydney Sweeney (12.09.1997) 26-128 210.mp4",{"$f":"IF(SUMPRODUCT(--ISNUMBER(SEARCH(Rechnung!H$2:H$31, A963)))>0,\"X\",\"\")","v":"X"},{"$f":"LEFT(A963, LEN(A963) - LEN(MID(A963, FIND(\"~\", SUBSTITUTE(A963,\" \",\"~\", LEN(A963)-LEN(SUBSTITUTE(A963,\" \",\"\")))), LEN(A963))))","v":"MRS 09624 Anyone But You (18.01.2024) - Sydney Sweeney (12.09.1997) 26-128"},1,{"$f":"IF(AND(B963=\"X\",D963=0),\"ja\",\"nein\")","v":"nein"}]
["MRS 09624 Anyone But You (18.01.2024) - Sydney Sweeney (12.09.1997) 26-128 211.mp4",{"$f":"IF(SUMPRODUCT(--ISNUMBER(SEARCH(Rechnung!H$2:H$31, A964)))>0,\"X\",\"\")","v":"X"},"MRS 09624 Anyone But You (18.01.2024) - Sydney Sweeney (12.09.1997) 26-128",1,"nein"]
["MRS 09624 Anyone But You (18.01.2024) - Sydney Sweeney (12.09.1997) 26-128 212.mp4",{"$f":"IF(SUMPRODUCT(--ISNUMBER(SEARCH(Rechnung!H$2:H$31, A965)))>0,\"X\",\"\")","v":"X"},"MRS 09624 Anyone But You (18.01.2024) - Sydney Sweeney (12.09.1997) 26-128",1,"nein"]
["MRS 09626 Roses à crédit (08.11.2011) - Léa Seydoux (01.07.1985) 26-130 2214.mp4",{"$f":"IF(SUMPRODUCT(--ISNUMBER(SEARCH(Rechnung!H$2:H$31, A966)))>0,\"X\",\"\")","v":""},"MRS 09626 Roses à crédit (08.11.2011) - Léa Seydoux (01.07.1985) 26-130",0,"nein"]
["MRS 09626 Roses à crédit (08.11.2011) - Léa Seydoux (01.07.1985) 26-130 2215.mp4",{"$f":"IF(SUMPRODUCT(--ISNUMBER(SEARCH(Rechnung!H$2:H$31, A967)))>0,\"X\",\"\")","v":""},"MRS 09626 Roses à crédit (08.11.2011) - Léa Seydoux (01.07.1985) 26-130",0,"nein"]
["MRS 09634 The Tudors The Death of Wolsey (28.06.2008) - Natalie Dormer (11.02.1982) 26-137 3088.mp4",{"$f":"IF(SUMPRODUCT(--ISNUMBER(SEARCH(Rechnung!H$2:H$31, A968)))>0,\"X\",\"\")","v":""},"MRS 09634 The Tudors The Death of Wolsey (28.06.2008) - Natalie Dormer (11.02.1982) 26-137",0,"nein"]
["MRS 09637 Future World (25.05.2018) - Suki Waterhouse (05.01.1992) 26-141 757.mp4",{"$f":"IF(SUMPRODUCT(--ISNUMBER(SEARCH(Rechnung!H$2:H$31, A969)))>0,\"X\",\"\")","v":""},"MRS 09637 Future World (25.05.2018) - Suki Waterhouse (05.01.1992) 26-141",0,"nein"]
["MRS 09637 Future World (25.05.2018) - Suki Waterhouse (05.01.1992) 26-141 758.mp4",{"$f":"IF(SUMPRODUCT(--ISNUMBER(SEARCH(Rechnung!H$2:H$31, A970)))>0,\"X\",\"\")","v":""},"MRS 09637 Future World (25.05.2018) - Suki Waterhouse (05.01.1992) 26-141",0,"nein"]
["MRS 09638 Rachel Getting Married (02.04.2009) - Anne Hathaway (12.11.1982) 26-141 2121.mp4",{"$f":"IF(SUMPRODUCT(--ISNUMBER(SEARCH(Rechnung!H$2:H$31, A971)))>0,\"X\",\"\")","v":""},"MRS 09638 Rachel Getting Married (02.04.2009) - Anne Hathaway (12.11.1982) 26-141",0,"nein"]
["MRS 09638 Rachel Getting Married (02.04.2009) - Anne Hathaway (12.11.1982) 26-141 2122.mp4",{"$f":"IF(SUMPRODUCT(--ISNUMBER(SEARCH(Rechnung!H$2:H$31, A972)))>0,\"X\",\"\")","v":""},"MRS 09638 Rachel Getting Married (02.04.2009) - Anne Hathaway (12.11.1982) 26-141",0,"nein"]
["MRS 09640 Passengers (05.01.2017) - Jennifer Lawrence (15.08.1990) 26-143 2019.mp4",{"$f":"IF(SUMPRODUCT(--ISNUMBER(SEARCH(Rechnung!H$2:H$31, A973)))>0,\"X\",\"\")","v":""},"MRS 09640 Passengers (05.01.2017) - Jennifer Lawrence (15.08.1990) 26-143",0,"nein"]
["MRS 09649 Interview (29.05.2008) - Sienna Miller (28.12.1981) 26-152 1211.mp4",{"$f":"IF(SUMPRODUCT(--ISNUMBER(SEARCH(Rechnung!H$2:H$31, A974)))>0,\"X\",\"\")","v":""},"MRS 09649 Interview (29.05.2008) - Sienna Miller (28.12.1981) 26-152",0,"nein"]
["MRS 09649 Interview (29.05.2008) - Sienna Miller (28.12.1981) 26-152 1212.mp4",{"$f":"IF(SUMPRODUCT(--ISNUMBER(SEARCH(Rechnung!H$2:H$31, A975)))>0,\"X\",\"\")","v":""},"MRS 09649 Interview (29.05.2008) - Sienna Miller (28.12.1981) 26-152",0,"nein"]
["MRS 09649 Wind River (08.02.2018) - Kelsey Asbille (09.09.1991) 26-152 3356.mp4",{"$f":"IF(SUMPRODUCT(--ISNUMBER(SEARCH(Rechnung!H$2:H$31, A976)))>0,\"X\",\"\")","v":""},"MRS 09649 Wind River (08.02.2018) - Kelsey Asbille (09.09.1991) 26-152",0,"nein"]
["MRS 09649 Wind River (08.02.2018) - Kelsey Asbille (09.09.1991) 26-152 3357.mp4",{"$f":"IF(SUMPRODUCT(--ISNUMBER(SEARCH(Rechnung!H$2:H$31, A977)))>0,\"X\",\"\")","v":""},"MRS 09649 Wind River (08.02.2018) - Kelsey Asbille (09.09.1991) 26-152",0,"nein"]
["MRS 09650 Snapdragon (01.12.1993) - Pamela Anderson (01.07.1967) 26-153 2335.mp4",{"$f":"IF(SUMPRODUCT(--ISNUMBER(SEARCH(Rechnung!H$2:H$31, A978)))>0,\"X\",\"\")","v":""},"MRS 09650 Snapdragon (01.12.1993) - Pamela Anderson (01.07.1967) 26-153",0,"nein"]
["MRS 09650 Snapdragon (01.12.1993) - Pamela Anderson (01.07.1967) 26-153 2336.mp4",{"$f":"IF(SUMPRODUCT(--ISNUMBER(SEARCH(Rechnung!H$2:H$31, A979)))>0,\"X\",\"\")","v":""},"MRS 09650 Snapdragon (01.12.1993) - Pamela Anderson (01.07.1967) 26-153",0,"nein"]
["MRS 09650 Snapdragon (01.12.1993) - Pamela Anderson (01.07.1967) 26-153 2337.mp4",{"$f":"IF(SUMPRODUCT(--ISNUMBER(SEARCH(Rechnung!H$2:H$31, A980)))>0,\"X\",\"\")","v":""},"MRS 09650 Snapdragon (01.12.1993) - Pamela Anderson (01.07.1967) 26-153",0,"nein"]
["MRS 09650 Snapdragon (01.12.1993) - Pamela Anderson (01.07.1967) 26-153 2338.mp4",{"$f":"IF(SUMPRODUCT(--ISNUMBER(SEARCH(Rechnung!H$2:H$31, A981)))>0,\"X\",\"\")","v":""},"MRS 09650 Snapdragon (01.12.1993) - Pamela Anderson (01.07.1967) 26-153",0,"nein"]
["MRS 09650 Snapdragon (01.12.1993) - Pamela Anderson (01.07.1967) 26-153 2339.mp4",{"$f":"IF(SUMPRODUCT(--ISNUMBER(SEARCH(Rechnung!H$2:H$31, A982)))>0,\"X\",\"\")","v":""},"MRS 09650 Snapdragon (01.12.1993) - Pamela Anderson (01.07.1967) 26-153",0,"nein"]
["MRS 09668 Little Birds (09.01.2016) - Juno Temple (21.07.1989) 26-172 1518.mp4",{"$f":"IF(SUMPRODUCT(--ISNUMBER(SEARCH(Rechnung!H$2:H$31, A983)))>0,\"X\",\"\")","v":""},"MRS 09668 Little Birds (09.01.2016) - Juno Temple (21.07.1989) 26-172",0,"nein"]
["MRS 09668 Little Birds (09.01.2016) - Juno Temple (21.07.1989) 26-172 1519.mp4",{"$f":"IF(SUMPRODUCT(--ISNUMBER(SEARCH(Rechnung!H$2:H$31, A984)))>0,\"X\",\"\")","v":""},"MRS 09668 Little Birds (09.01.2016) - Juno Temple (21.07.1989) 26-172",0,"nein"]
["MRS 09681 El otro lado de la cama (05.07.2002) - Paz Vega (02.01.1976) 26-185 2933.mp4",{"$f":"IF(SUMPRODUCT(--ISNUMBER(SEARCH(Rechnung!H$2:H$31, A985)))>0,\"X\",\"\")","v":""},"MRS 09681 El otro lado de la cama (05.07.2002) - Paz Vega (02.01.1976) 26-185",0,"nein"]
["MRS 09681 El otro lado de la cama (05.07.2002) - Paz Vega (02.01.1976) 26-185 2934.mp4",{"$f":"IF(SUMPRODUCT(--ISNUMBER(SEARCH(Rechnung!H$2:H$31, A986)))>0,\"X\",\"\")","v":""},"MRS 09681 El otro lado de la cama (05.07.2002) - Paz Vega (02.01.1976) 26-185",0,"nein"]
["MRS 09681 El otro lado de la cama (05.07.2002) - Paz Vega (02.01.1976) 26-185 703.mp4",{"$f":"IF(SUMPRODUCT(--ISNUMBER(SEARCH(Rechnung!H$2:H$31, A987)))>0,\"X\",\"\")","v":""},"MRS 09681 El otro lado de la cama (05.07.2002) - Paz Vega (02.01.1976) 26-185",0,"nein"]
["MRS 09692 Egomania - Insel ohne Hoffnung (20.05.1987) - Tilda Swinton (05.11.1960) 26-196 771.mp4",{"$f":"IF(SUMPRODUCT(--ISNUMBER(SEARCH(Rechnung!H$2:H$31, A988)))>0,\"X\",\"\")","v":""},"MRS 09692 Egomania - Insel ohne Hoffnung (20.05.1987) - Tilda Swinton (05.11.1960) 26-196",0,"nein"]
["MRS 09698 Ex Machina (23.04.2015) - Alicia Vikander (03.10.1988) 26-202 832.mp4",{"$f":"IF(SUMPRODUCT(--ISNUMBER(SEARCH(Rechnung!H$2:H$31, A989)))>0,\"X\",\"\")","v":""},"MRS 09698 Ex Machina (23.04.2015) - Alicia Vikander (03.10.1988) 26-202",0,"nein"]
["MRS 09704 Hotel Chevalier (03.01.2008) - Natalie Portman (09.06.1981) 26-208 1147.mp4",{"$f":"IF(SUMPRODUCT(--ISNUMBER(SEARCH(Rechnung!H$2:H$31, A990)))>0,\"X\",\"\")","v":""},"MRS 09704 Hotel Chevalier (03.01.2008) - Natalie Portman (09.06.1981) 26-208",0,"nein"]
["MRS 09704 Hotel Chevalier (03.01.2008) - Natalie Portman (09.06.1981) 26-208 1148.mp4",{"$f":"IF(SUMPRODUCT(--ISNUMBER(SEARCH(Rechnung!H$2:H$31, A991)))>0,\"X\",\"\")","v":""},"MRS 09704 Hotel Chevalier (03.01.2008) - Natalie Portman (09.06.1981) 26-208",0,"nein"]
["MRS 09704 Hotel Chevalier (03.01.2008) - Natalie Portman (09.06.1981) 26-208 1149.mp4",{"$f":"IF(SUMPRODUCT(--ISNUMBER(SEARCH(Rechnung!H$2:H$31, A992)))>0,\"X\",\"\")","v":""},"MRS 09704 Hotel Chevalier (03.01.2008) - Natalie Portman (09.06.1981) 26-208",0,"nein"]
["MRS 09715 Hable con ella (08.08.2002) - Paz Vega (02.01.1976) 26-219 2498.mp4",{"$f":"IF(SUMPRODUCT(--ISNUMBER(SEARCH(Rechnung!H$2:H$31, A993)))>0,\"X\",\"\")","v":""},"MRS 09715 Hable con ella (08.08.2002) - Paz Vega (02.01.1976) 26-219",0,"nein"]
["MRS 09716 Shameless The American Dream (19.04.2013) - Emmy Rossum (12.09.1986) 26-219 283.mp4",{"$f":"IF(SUMPRODUCT(--ISNUMBER(SEARCH(Rechnung!H$2:H$31, A994)))>0,\"X\",\"\")","v":""},"MRS 09716 Shameless The American Dream (19.04.2013) - Emmy Rossum (12.09.1986) 26-219",0,"nein"]
["MRS 09718 Factory Girl (06.08.2008) - Sienna Miller (28.12.1981) 26-221 838.mp4",{"$f":"IF(SUMPRODUCT(--ISNUMBER(SEARCH(Rechnung!H$2:H$31, A995)))>0,\"X\",\"\")","v":""},"MRS 09718 Factory Girl (06.08.2008) - Sienna Miller (28.12.1981) 26-221",0,"nein"]
["MRS 09718 Factory Girl (06.08.2008) - Sienna Miller (28.12.1981) 26-221 839.mp4",{"$f":"IF(SUMPRODUCT(--ISNUMBER(SEARCH(Rechnung!H$2:H$31, A996)))>0,\"X\",\"\")","v":""},"MRS 09718 Factory Girl (06.08.2008) - Sienna Miller (28.12.1981) 26-221",0,"nein"]
["MRS 09718 Factory Girl (06.08.2008) - Sienna Miller (28.12.1981) 26-221 840.mp4",{"$f":"IF(SUMPRODUCT(--ISNUMBER(SEARCH(Rechnung!H$2:H$31, A997)))>0,\"X\",\"\")","v":""},"MRS 09718 Factory Girl (06.08.2008) - Sienna Miller (28.12.1981) 26-221",0,"nein"]
["MRS 09718 Factory Girl (06.08.2008) - Sienna Miller (28.12.1981) 26-221 841.mp4",{"$f":"IF(SUMPRODUCT(--ISNUMBER(SEARCH(Rechnung!H$2:H$31, A998)))>0,\"X\",\"\")","v":""},"MRS 09718 Factory Girl (06.08.2008) - Sienna Miller (28.12.1981) 26-221",0,"nein"]
["MRS 09720 Iris (16.05.2002) - Kate Winslet (05.10.1975) 26-224 1238.mp4",{"$f":"IF(SUMPRODUCT(--ISNUMBER(SEARCH(Rechnung!H$2:H$31, A999)))>0,\"X\",\"\")","v":""},"MRS 09720 Iris (16.05.2002) - Kate Winslet (05.10.1975) 26-224",0,"nein"]
["MRS 09720 Iris (16.05.2002) - Kate Winslet (05.10.1975) 26-224 1239.mp4",{"$f":"IF(SUMPRODUCT(--ISNUMBER(SEARCH(Rechnung!H$2:H$31, A1000)))>0,\"X\",\"\")","v":""},"MRS 09720 Iris (16.05.2002) - Kate Winslet (05.10.1975) 26-224",0,"nein"]
["MRS 09720 Iris (16.05.2002) - Kate Winslet (05.10.1975) 26-224 1240.mp4",{"$f":"IF(SUMPRODUCT(--ISNUMBER(SEARCH(Rechnung!H$2:H$31, A1001)))>0,\"X\",\"\")","v":""},"MRS 09720 Iris (16.05.2002) - Kate Winslet (05.10.1975) 26-224",0,"nein"]
["MRS 09720 Iris (16.05.2002) - Kate Winslet (05.10.1975) 26-224 1241.mp4",{"$f":"IF(SUMPRODUCT(--ISNUMBER(SEARCH(Rechnung!H$2:H$31, A1002)))>0,\"X\",\"\")","v":""},"MRS 09720 Iris (16.05.2002) - Kate Winslet (05.10.1975) 26-224",0,"nein"]
["MRS 09720 Iris (16.05.2002) - Kate Winslet (05.10.1975) 26-224 1242.mp4",{"$f":"IF(SUMPRODUCT(--ISNUMBER(SEARCH(Rechnung!H$2:H$31, A1003)))>0,\"X\",\"\")","v":""},"MRS 09720 Iris (16.05.2002) - Kate Winslet (05.10.1975) 26-224",0,"nein"]
["MRS 09725 A Dangerous Method (10.11.2011) - Keira Knightley (26.03.1985) 26-229 36.mp4",{"$f":"IF(SUMPRODUCT(--ISNUMBER(SEARCH(Rechnung!H$2:H$31, A1004)))>0,\"X\",\"\")","v":""},"MRS 09725 A Dangerous Method (10.11.2011) - Keira Knightley (26.03.1985) 26-229",0,"nein"]
["MRS 09725 A Dangerous Method (10.11.2011) - Keira Knightley (26.03.1985) 26-229 37.mp4",{"$f":"IF(SUMPRODUCT(--ISNUMBER(SEARCH(Rechnung!H$2:H$31, A1005)))>0,\"X\",\"\")","v":""},"MRS 09725 A Dangerous Method (10.11.2011) - Keira Knightley (26.03.1985) 26-229",0,"nein"]
["MRS 09725 A Dangerous Method (10.11.2011) - Keira Knightley (26.03.1985) 26-229 38.mp4",{"$f":"IF(SUMPRODUCT(--ISNUMBER(SEARCH(Rechnung!H$2:H$31, A1006)))>0,\"X\",\"\")","v":""},"MRS 09725 A Dangerous Method (10.11.2011) - Keira Knightley (26.03.1985) 26-229",0,"nein"]
["MRS 09725 A Dangerous Method (10.11.2011) - Keira Knightley (26.03.1985) 26-229 39.mp4",{"$f":"IF(SUMPRODUCT(--ISNUMBER(SEARCH(Rechnung!H$2:H$31, A1007)))>0,\"X\",\"\")","v":""},"MRS 09725 A Dangerous Method (10.11.2011) - Keira Knightley (26.03.1985) 26-229",0,"nein"]
["MRS 09726 Brideshead Revisited (20.11.2008) - Hayley Atwell (05.04.1982) 26-229 325.mp4",{"$f":"IF(SUMPRODUCT(--ISNUMBER(SEARCH(Rechnung!H$2:H$31, A1008)))>0,\"X\",\"\")","v":""},"MRS 09726 Brideshead Revisited (20.11.2008) - Hayley Atwell (05.04.1982) 26-229",0,"nein"]
["MRS 09732 Vinyl He in Racist Fire (13.03.2016) - Juno Temple (21.07.1989) 26-236 3282.mp4",{"$f":"IF(SUMPRODUCT(--ISNUMBER(SEARCH(Rechnung!H$2:H$31, A1009)))>0,\"X\",\"\")","v":""},"MRS 09732 Vinyl He in Racist Fire (13.03.2016) - Juno Temple (21.07.1989) 26-236",0,"nein"]
["MRS 09733 The Rolling Stones Ride 'Em on Down (01.12.2016) - Kristen Stewart (09.04.1990) 26-236 2185.mp4",{"$f":"IF(SUMPRODUCT(--ISNUMBER(SEARCH(Rechnung!H$2:H$31, A1010)))>0,\"X\",\"\")","v":""},"MRS 09733 The Rolling Stones Ride 'Em on Down (01.12.2016) - Kristen Stewart (09.04.1990) 26-236",0,"nein"]
["MRS 09736 Adrift (12.07.2018) - Shailene Woodley (15.11.1991) 26-240 87.mp4",{"$f":"IF(SUMPRODUCT(--ISNUMBER(SEARCH(Rechnung!H$2:H$31, A1011)))>0,\"X\",\"\")","v":""},"MRS 09736 Adrift (12.07.2018) - Shailene Woodley (15.11.1991) 26-240",0,"nein"]
["MRS 09736 Adrift (12.07.2018) - Shailene Woodley (15.11.1991) 26-240 88.mp4",{"$f":"IF(SUMPRODUCT(--ISNUMBER(SEARCH(Rechnung!H$2:H$31, A1012)))>0,\"X\",\"\")","v":""},"MRS 09736 Adrift (12.07.2018) - Shailene Woodley (15.11.1991) 26-240",0,"nein"]
["MRS 09736 Vita coi figli (28.05.1991) - Monica Bellucci (30.09.1964) 26-240 3285.mp4",{"$f":"IF(SUMPRODUCT(--ISNUMBER(SEARCH(Rechnung!H$2:H$31, A1013)))>0,\"X\",\"\")","v":""},"MRS 09736 Vita coi figli (28.05.1991) - Monica Bellucci (30.09.1964) 26-240",0,"nein"]
["MRS 09737 Shameless The Sins of My Caretaker (10.05.2013) - Emmy Rossum (12.09.1986) 26-240 286.mp4",{"$f":"IF(SUMPRODUCT(--ISNUMBER(SEARCH(Rechnung!H$2:H$31, A1014)))>0,\"X\",\"\")","v":""},"MRS 09737 Shameless The Sins of My Caretaker (10.05.2013) - Emmy Rossum (12.09.1986) 26-240",0,"nein"]
["MRS 09738 La città gioca d'azzardo (23.01.1975) - Dayle Haddon (26.05.1948) 26-242 1415.mp4",{"$f":"IF(SUMPRODUCT(--ISNUMBER(SEARCH(Rechnung!H$2:H$31, A1015)))>0,\"X\",\"\")","v":""},"MRS 09738 La città gioca d'azzardo (23.01.1975) - Dayle Haddon (26.05.1948) 26-242",0,"nein"]
["MRS 09738 La città gioca d'azzardo (23.01.1975) - Dayle Haddon (26.05.1948) 26-242 918.mp4",{"$f":"IF(SUMPRODUCT(--ISNUMBER(SEARCH(Rechnung!H$2:H$31, A1016)))>0,\"X\",\"\")","v":""},"MRS 09738 La città gioca d'azzardo (23.01.1975) - Dayle Haddon (26.05.1948) 26-242",0,"nein"]
["MRS 09738 La città gioca d'azzardo (23.01.1975) - Dayle Haddon (26.05.1948) 26-242 919.mp4",{"$f":"IF(SUMPRODUCT(--ISNUMBER(SEARCH(Rechnung!H$2:H$31, A1017)))>0,\"X\",\"\")","v":""},"MRS 09738 La città gioca d'azzardo (23.01.1975) - Dayle Haddon (26.05.1948) 26-242",0,"nein"]
["MRS 09738 La città gioca d'azzardo (23.01.1975) - Dayle Haddon (26.05.1948) 26-242 920.mp4",{"$f":"IF(SUMPRODUCT(--ISNUMBER(SEARCH(Rechnung!H$2:H$31, A1018)))>0,\"X\",\"\")","v":""},"MRS 09738 La città gioca d'azzardo (23.01.1975) - Dayle Haddon (26.05.1948) 26-242",0,"nein"]
["MRS 09738 Love Actually (20.11.2003) - Joanna Page (23.03.1977) 26-242 1563.mp4",{"$f":"IF(SUMPRODUCT(--ISNUMBER(SEARCH(Rechnung!H$2:H$31, A1019)))>0,\"X\",\"\")","v":""},"MRS 09738 Love Actually (20.11.2003) - Joanna Page (23.03.1977) 26-242",0,"nein"]
["MRS 09738 Love Actually (20.11.2003) - Joanna Page (23.03.1977) 26-242 1564.mp4",{"$f":"IF(SUMPRODUCT(--ISNUMBER(SEARCH(Rechnung!H$2:H$31, A1020)))>0,\"X\",\"\")","v":""},"MRS 09738 Love Actually (20.11.2003) - Joanna Page (23.03.1977) 26-242",0,"nein"]
["MRS 09738 Love Actually (20.11.2003) - Joanna Page (23.03.1977) 26-242 1565.mp4",{"$f":"IF(SUMPRODUCT(--ISNUMBER(SEARCH(Rechnung!H$2:H$31, A1021)))>0,\"X\",\"\")","v":""},"MRS 09738 Love Actually (20.11.2003) - Joanna Page (23.03.1977) 26-242",0,"nein"]
["MRS 09738 Love Actually (20.11.2003) - Joanna Page (23.03.1977) 26-242 1566.mp4",{"$f":"IF(SUMPRODUCT(--ISNUMBER(SEARCH(Rechnung!H$2:H$31, A1022)))>0,\"X\",\"\")","v":""},"MRS 09738 Love Actually (20.11.2003) - Joanna Page (23.03.1977) 26-242",0,"nein"]
["MRS 09739 El Turrrf (31.12.2012) - Pom Klementieff (03.05.1986) 26-242 704.mp4",{"$f":"IF(SUMPRODUCT(--ISNUMBER(SEARCH(Rechnung!H$2:H$31, A1023)))>0,\"X\",\"\")","v":""},"MRS 09739 El Turrrf (31.12.2012) - Pom Klementieff (03.05.1986) 26-242",0,"nein"]
["MRS 09741 The Dog Problem (11.09.2006) - Sarah Shahi (10.01.1980) 26-245 2657.mp4",{"$f":"IF(SUMPRODUCT(--ISNUMBER(SEARCH(Rechnung!H$2:H$31, A1024)))>0,\"X\",\"\")","v":""},"MRS 09741 The Dog Problem (11.09.2006) - Sarah Shahi (10.01.1980) 26-245",0,"nein"]
["MRS 09743 Lucía y el sexo (05.09.2002) - Paz Vega (02.01.1976) 26-247 2244.mp4",{"$f":"IF(SUMPRODUCT(--ISNUMBER(SEARCH(Rechnung!H$2:H$31, A1025)))>0,\"X\",\"\")","v":""},"MRS 09743 Lucía y el sexo (05.09.2002) - Paz Vega (02.01.1976) 26-247",0,"nein"]
["MRS 09743 Lucía y el sexo (05.09.2002) - Paz Vega (02.01.1976) 26-247 2245.mp4",{"$f":"IF(SUMPRODUCT(--ISNUMBER(SEARCH(Rechnung!H$2:H$31, A1026)))>0,\"X\",\"\")","v":""},"MRS 09743 Lucía y el sexo (05.09.2002) - Paz Vega (02.01.1976) 26-247",0,"nein"]
["MRS 09743 Lucía y el sexo (05.09.2002) - Paz Vega (02.01.1976) 26-247 2246.mp4",{"$f":"IF(SUMPRODUCT(--ISNUMBER(SEARCH(Rechnung!H$2:H$31, A1027)))>0,\"X\",\"\")","v":""},{"$f":"LEFT(A1027, LEN(A1027) - LEN(MID(A1027, FIND(\"~\", SUBSTITUTE(A1027,\" \",\"~\", LEN(A1027)-LEN(SUBSTITUTE(A1027,\" \",\"\")))), LEN(A1027))))","v":"MRS 09743 Lucía y el sexo (05.09.2002) - Paz Vega (02.01.1976) 26-247"},0,{"$f":"IF(AND(B1027=\"X\",D1027=0),\"ja\",\"nein\")","v":"nein"}]
["MRS 09743 Lucía y el sexo (05.09.2002) - Paz Vega (02.01.1976) 26-247 2247.mp4",{"$f":"IF(SUMPRODUCT(--ISNUMBER(SEARCH(Rechnung!H$2:H$31, A1028)))>0,\"X\",\"\")","v":""},"MRS 09743 Lucía y el sexo (05.09.2002) - Paz Vega (02.01.1976) 26-247",0,"nein"]
["MRS 09743 Lucía y el sexo (05.09.2002) - Paz Vega (02.01.1976) 26-247 2248.mp4",{"$f":"IF(SUMPRODUCT(--ISNUMBER(SEARCH(Rechnung!H$2:H$31, A1029)))>0,\"X\",\"\")","v":""},"MRS 09743 Lucía y el sexo (05.09.2002) - Paz Vega (02.01.1976) 26-247",0,"nein"]
["MRS 09743 Lucía y el sexo (05.09.2002) - Paz Vega (02.01.1976) 26-247 2249.mp4",{"$f":"IF(SUMPRODUCT(--ISNUMBER(SEARCH(Rechnung!H$2:H$31, A1030)))>0,\"X\",\"\")","v":""},"MRS 09743 Lucía y el sexo (05.09.2002) - Paz Vega (02.01.1976) 26-247",0,"nein"]
["MRS 09743 Lucía y el sexo (05.09.2002) - Paz Vega (02.01.1976) 26-247 2250.mp4",{"$f":"IF(SUMPRODUCT(--ISNUMBER(SEARCH(Rechnung!H$2:H$31, A1031)))>0,\"X\",\"\")","v":""},"MRS 09743 Lucía y el sexo (05.09.2002) - Paz Vega (02.01.1976) 26-247",0,"nein"]
["MRS 09752 Leslie, My Name Is Evil (14.09.2009) - Kristen Hager (02.01.1983) 26-255 1663.mp4",{"$f":"IF(SUMPRODUCT(--ISNUMBER(SEARCH(Rechnung!H$2:H$31, A1032)))>0,\"X\",\"\")","v":""},"MRS 09752 Leslie, My Name Is Evil (14.09.2009) - Kristen Hager (02.01.1983) 26-255",0,"nein"]
["MRS 09752 Leslie, My Name Is Evil (14.09.2009) - Kristen Hager (02.01.1983) 26-255 1664.mp4",{"$f":"IF(SUMPRODUCT(--ISNUMBER(SEARCH(Rechnung!H$2:H$31, A1033)))>0,\"X\",\"\")","v":""},"MRS 09752 Leslie, My Name Is Evil (14.09.2009) - Kristen Hager (02.01.1983) 26-255",0,"nein"]
["MRS 09757 Vinyl Pilot (07.04.2016) - Juno Temple (21.07.1989) 26-260 3281.mp4",{"$f":"IF(SUMPRODUCT(--ISNUMBER(SEARCH(Rechnung!H$2:H$31, A1034)))>0,\"X\",\"\")","v":""},"MRS 09757 Vinyl Pilot (07.04.2016) - Juno Temple (21.07.1989) 26-260",0,"nein"]
["MRS 09759 Don't Worry Darling (22.09.2022) - Florence Pugh (03.01.1996) 26-263 650.mp4",{"$f":"IF(SUMPRODUCT(--ISNUMBER(SEARCH(Rechnung!H$2:H$31, A1035)))>0,\"X\",\"\")","v":"X"},"MRS 09759 Don't Worry Darling (22.09.2022) - Florence Pugh (03.01.1996) 26-263",1,"nein"]
["MRS 09759 Don't Worry Darling (22.09.2022) - Florence Pugh (03.01.1996) 26-263 651.mp4",{"$f":"IF(SUMPRODUCT(--ISNUMBER(SEARCH(Rechnung!H$2:H$31, A1036)))>0,\"X\",\"\")","v":"X"},"MRS 09759 Don't Worry Darling (22.09.2022) - Florence Pugh (03.01.1996) 26-263",1,"nein"]
["MRS 09760 Vinyl Rock and Roll Queen (10.04.2016) - Juno Temple (21.07.1989) 26-263 3283.mp4",{"$f":"IF(SUMPRODUCT(--ISNUMBER(SEARCH(Rechnung!H$2:H$31, A1037)))>0,\"X\",\"\")","v":""},"MRS 09760 Vinyl Rock and Roll Queen (10.04.2016) - Juno Temple (21.07.1989) 26-263",0,"nein"]
["MRS 09760 Vinyl Rock and Roll Queen (10.04.2016) - Juno Temple (21.07.1989) 26-263 3284.mp4",{"$f":"IF(SUMPRODUCT(--ISNUMBER(SEARCH(Rechnung!H$2:H$31, A1038)))>0,\"X\",\"\")","v":""},"MRS 09760 Vinyl Rock and Roll Queen (10.04.2016) - Juno Temple (21.07.1989) 26-263",0,"nein"]
["MRS 09764 Nurse Jackie Happy Fcking Birthday (14.04.2013) - Betty Gilpin (21.07.1986) 26-267 1896.mp4",{"$f":"IF(SUMPRODUCT(--ISNUMBER(SEARCH(Rechnung!H$2:H$31, A1039)))>0,\"X\",\"\")","v":""},"MRS 09764 Nurse Jackie Happy Fcking Birthday (14.04.2013) - Betty Gilpin (21.07.1986) 26-267",0,"nein"]
["MRS 09767 Dead Women in Lingerie (01.11.1991) - Maura Tierney (03.02.1965) 26-271 587.mp4",{"$f":"IF(SUMPRODUCT(--ISNUMBER(SEARCH(Rechnung!H$2:H$31, A1040)))>0,\"X\",\"\")","v":""},"MRS 09767 Dead Women in Lingerie (01.11.1991) - Maura Tierney (03.02.1965) 26-271",0,"nein"]
["MRS 09767 Dead Women in Lingerie (01.11.1991) - Maura Tierney (03.02.1965) 26-271 588.mp4",{"$f":"IF(SUMPRODUCT(--ISNUMBER(SEARCH(Rechnung!H$2:H$31, A1041)))>0,\"X\",\"\")","v":""},"MRS 09767 Dead Women in Lingerie (01.11.1991) - Maura Tierney (03.02.1965) 26-271",0,"nein"]
["MRS 09768 MotherFatherSon Episode #1.4 (27.03.2019) - Niamh Algar (28.06.1992) 26-272 703.mp4",{"$f":"IF(SUMPRODUCT(--ISNUMBER(SEARCH(Rechnung!H$2:H$31, A1042)))>0,\"X\",\"\")","v":""},"MRS 09768 MotherFatherSon Episode #1.4 (27.03.2019) - Niamh Algar (28.06.1992) 26-272",0,"nein"]
["MRS 09769 Love Is All You Need (08.12.2018) - Emily Osment (10.03.1992) 26-273 1577.mp4",{"$f":"IF(SUMPRODUCT(--ISNUMBER(SEARCH(Rechnung!H$2:H$31, A1043)))>0,\"X\",\"\")","v":""},"MRS 09769 Love Is All You Need (08.12.2018) - Emily Osment (10.03.1992) 26-273",0,"nein"]
["MRS 09782 Personal Shopper (19.01.2017) - Kristen Stewart (09.04.1990) 26-285 2052.mp4",{"$f":"IF(SUMPRODUCT(--ISNUMBER(SEARCH(Rechnung!H$2:H$31, A1044)))>0,\"X\",\"\")","v":""},"MRS 09782 Personal Shopper (19.01.2017) - Kristen Stewart (09.04.1990) 26-285",0,"nein"]
["MRS 09782 Personal Shopper (19.01.2017) - Kristen Stewart (09.04.1990) 26-285 2053.mp4",{"$f":"IF(SUMPRODUCT(--ISNUMBER(SEARCH(Rechnung!H$2:H$31, A1045)))>0,\"X\",\"\")","v":""},"MRS 09782 Personal Shopper (19.01.2017) - Kristen Stewart (09.04.1990) 26-285",0,"nein"]
["MRS 09789 MotherFatherSon Episode #1.7 (17.04.2019) - Niamh Algar (28.06.1992) 26-293 704.mp4",{"$f":"IF(SUMPRODUCT(--ISNUMBER(SEARCH(Rechnung!H$2:H$31, A1046)))>0,\"X\",\"\")","v":""},"MRS 09789 MotherFatherSon Episode #1.7 (17.04.2019) - Niamh Algar (28.06.1992) 26-293",0,"nein"]
["MRS 09792 Nurse Jackie Good Thing (12.05.2013) - Betty Gilpin (21.07.1986) 26-295 1897.mp4",{"$f":"IF(SUMPRODUCT(--ISNUMBER(SEARCH(Rechnung!H$2:H$31, A1047)))>0,\"X\",\"\")","v":""},"MRS 09792 Nurse Jackie Good Thing (12.05.2013) - Betty Gilpin (21.07.1986) 26-295",0,"nein"]
["MRS 09794 Scary Movie 5 (25.04.2013) - Lindsay Lohan (02.07.1986) 26-297 2242.mp4",{"$f":"IF(SUMPRODUCT(--ISNUMBER(SEARCH(Rechnung!H$2:H$31, A1048)))>0,\"X\",\"\")","v":""},"MRS 09794 Scary Movie 5 (25.04.2013) - Lindsay Lohan (02.07.1986) 26-297",0,"nein"]
["MRS 09798 Saturday Night Live Kristen StewartAlessia Cara (04.02.2017) - Kristen Stewart (09.04.1990) 26-301 2239.mp4",{"$f":"IF(SUMPRODUCT(--ISNUMBER(SEARCH(Rechnung!H$2:H$31, A1049)))>0,\"X\",\"\")","v":""},"MRS 09798 Saturday Night Live Kristen StewartAlessia Cara (04.02.2017) - Kristen Stewart (09.04.1990) 26-301",0,"nein"]
["MRS 09799 Nurse Jackie Walk of Shame (19.05.2013) - Betty Gilpin (21.07.1986) 26-302 1898.mp4",{"$f":"IF(SUMPRODUCT(--ISNUMBER(SEARCH(Rechnung!H$2:H$31, A1050)))>0,\"X\",\"\")","v":""},"MRS 09799 Nurse Jackie Walk of Shame (19.05.2013) - Betty Gilpin (21.07.1986) 26-302",0,"nein"]
["MRS 09806 The White Queen Love and Death (04.11.2013) - Faye Marsay (30.12.1986) 26-309 3112.mp4",{"$f":"IF(SUMPRODUCT(--ISNUMBER(SEARCH(Rechnung!H$2:H$31, A1051)))>0,\"X\",\"\")","v":""},"MRS 09806 The White Queen Love and Death (04.11.2013) - Faye Marsay (30.12.1986) 26-309",0,"nein"]
["MRS 09821 Emily (24.11.2022) - Emma Mackey (04.01.1996) 26-325 713.mp4",{"$f":"IF(SUMPRODUCT(--ISNUMBER(SEARCH(Rechnung!H$2:H$31, A1052)))>0,\"X\",\"\")","v":"X"},"MRS 09821 Emily (24.11.2022) - Emma Mackey (04.01.1996) 26-325",1,"nein"]
["MRS 09821 Emily (24.11.2022) - Emma Mackey (04.01.1996) 26-325 714.mp4",{"$f":"IF(SUMPRODUCT(--ISNUMBER(SEARCH(Rechnung!H$2:H$31, A1053)))>0,\"X\",\"\")","v":"X"},"MRS 09821 Emily (24.11.2022) - Emma Mackey (04.01.1996) 26-325",1,"nein"]
["MRS 09825 The Presidio (13.10.1988) - Meg Ryan (19.11.1961) 26-328 2965.mp4",{"$f":"IF(SUMPRODUCT(--ISNUMBER(SEARCH(Rechnung!H$2:H$31, A1054)))>0,\"X\",\"\")","v":""},"MRS 09825 The Presidio (13.10.1988) - Meg Ryan (19.11.1961) 26-328",0,"nein"]
["MRS 09830 Malice (19.05.1994) - Nicole Kidman (20.06.1967) 26-334 1638.mp4",{"$f":"IF(SUMPRODUCT(--ISNUMBER(SEARCH(Rechnung!H$2:H$31, A1055)))>0,\"X\",\"\")","v":""},"MRS 09830 Malice (19.05.1994) - Nicole Kidman (20.06.1967) 26-334",0,"nein"]
["MRS 09831 Raw Justice (31.05.1994) - Pamela Anderson (01.07.1967) 26-335 2137.mp4",{"$f":"IF(SUMPRODUCT(--ISNUMBER(SEARCH(Rechnung!H$2:H$31, A1056)))>0,\"X\",\"\")","v":""},"MRS 09831 Raw Justice (31.05.1994) - Pamela Anderson (01.07.1967) 26-335",0,"nein"]
["MRS 09831 Raw Justice (31.05.1994) - Pamela Anderson (01.07.1967) 26-335 2138.mp4",{"$f":"IF(SUMPRODUCT(--ISNUMBER(SEARCH(Rechnung!H$2:H$31, A1057)))>0,\"X\",\"\")","v":""},"MRS 09831 Raw Justice (31.05.1994) - Pamela Anderson (01.07.1967) 26-335",0,"nein"]
["MRS 09831 Raw Justice (31.05.1994) - Pamela Anderson (01.07.1967) 26-335 2139.mp4",{"$f":"IF(SUMPRODUCT(--ISNUMBER(SEARCH(Rechnung!H$2:H$31, A1058)))>0,\"X\",\"\")","v":""},"MRS 09831 Raw Justice (31.05.1994) - Pamela Anderson (01.07.1967) 26-335",0,"nein"]
["MRS 09837 Aberdeen (08.09.2000) - Lena Headey (03.10.1973) 26-340 587.mp4",{"$f":"IF(SUMPRODUCT(--ISNUMBER(SEARCH(Rechnung!H$2:H$31, A1059)))>0,\"X\",\"\")","v":""},"MRS 09837 Aberdeen (08.09.2000) - Lena Headey (03.10.1973) 26-340",0,"nein"]
["MRS 09837 Aberdeen (08.09.2000) - Lena Headey (03.10.1973) 26-340 588.mp4",{"$f":"IF(SUMPRODUCT(--ISNUMBER(SEARCH(Rechnung!H$2:H$31, A1060)))>0,\"X\",\"\")","v":""},"MRS 09837 Aberdeen (08.09.2000) - Lena Headey (03.10.1973) 26-340",0,"nein"]
["MRS 09837 Aberdeen (08.09.2000) - Lena Headey (03.10.1973) 26-340 589.mp4",{"$f":"IF(SUMPRODUCT(--ISNUMBER(SEARCH(Rechnung!H$2:H$31, A1061)))>0,\"X\",\"\")","v":""},"MRS 09837 Aberdeen (08.09.2000) - Lena Headey (03.10.1973) 26-340",0,"nein"]
["MRS 09837 Aberdeen (08.09.2000) - Lena Headey (03.10.1973) 26-340 590.mp4",{"$f":"IF(SUMPRODUCT(--ISNUMBER(SEARCH(Rechnung!H$2:H$31, A1062)))>0,\"X\",\"\")","v":""},"MRS 09837 Aberdeen (08.09.2000) - Lena Headey (03.10.1973) 26-340",0,"nein"]
["MRS 09840 Maid Bear Hunt (01.10.2021) - Margaret Qualley (23.10.1994) 26-343 1637.mp4",{"$f":"IF(SUMPRODUCT(--ISNUMBER(SEARCH(Rechnung!H$2:H$31, A1063)))>0,\"X\",\"\")","v":""},"MRS 09840 Maid Bear Hunt (01.10.2021) - Margaret Qualley (23.10.1994) 26-343",1,"nein"]
["MRS 09844 Accused Esme's Story (28.03.2023) - Abigail Breslin (14.04.1996) 26-348 85.mp4",{"$f":"IF(SUMPRODUCT(--ISNUMBER(SEARCH(Rechnung!H$2:H$31, A1064)))>0,\"X\",\"\")","v":"X"},"MRS 09844 Accused Esme's Story (28.03.2023) - Abigail Breslin (14.04.1996) 26-348",1,"nein"]
["MRS 09854 Novo (25.12.2002) - Paz Vega (02.01.1976) 26-358 1888.mp4",{"$f":"IF(SUMPRODUCT(--ISNUMBER(SEARCH(Rechnung!H$2:H$31, A1065)))>0,\"X\",\"\")","v":""},"MRS 09854 Novo (25.12.2002) - Paz Vega (02.01.1976) 26-358",0,"nein"]
["MRS 09861 Dangerous Beauty (03.04.1999) - Catherine McCormack (03.04.1972) 27-0 549.mp4",{"$f":"IF(SUMPRODUCT(--ISNUMBER(SEARCH(Rechnung!H$2:H$31, A1066)))>0,\"X\",\"\")","v":""},"MRS 09861 Dangerous Beauty (03.04.1999) - Catherine McCormack (03.04.1972) 27-0",0,"nein"]
["MRS 09861 Dangerous Beauty (03.04.1999) - Catherine McCormack (03.04.1972) 27-0 550.mp4",{"$f":"IF(SUMPRODUCT(--ISNUMBER(SEARCH(Rechnung!H$2:H$31, A1067)))>0,\"X\",\"\")","v":""},"MRS 09861 Dangerous Beauty (03.04.1999) - Catherine McCormack (03.04.1972) 27-0",0,"nein"]
["MRS 09861 Dangerous Beauty (03.04.1999) - Catherine McCormack (03.04.1972) 27-0 551.mp4",{"$f":"IF(SUMPRODUCT(--ISNUMBER(SEARCH(Rechnung!H$2:H$31, A1068)))>0,\"X\",\"\")","v":""},"MRS 09861 Dangerous Beauty (03.04.1999) - Catherine McCormack (03.04.1972) 27-0",0,"nein"]
["MRS 09861 Lambs of God The Blood of Eden (21.07.2019) - Jessica Barden (21.07.1992) 27-0 1484.mp4",{"$f":"IF(SUMPRODUCT(--ISNUMBER(SEARCH(Rechnung!H$2:H$31, A1069)))>0,\"X\",\"\")","v":""},"MRS 09861 Lambs of God The Blood of Eden (21.07.2019) - Jessica Barden (21.07.1992) 27-0",0,"nein"]
["MRS 09862 Nurses (31.12.2007) - Eliza Dushku (30.12.1980) 27-1 1899.mp4",{"$f":"IF(SUMPRODUCT(--ISNUMBER(SEARCH(Rechnung!H$2:H$31, A1070)))>0,\"X\",\"\")","v":""},"MRS 09862 Nurses (31.12.2007) - Eliza Dushku (30.12.1980) 27-1",0,"nein"]
["MRS 09867 Hacks Retired (26.05.2022) - Hannah Einbinder (21.05.1995) 27-5 320.mp4",{"$f":"IF(SUMPRODUCT(--ISNUMBER(SEARCH(Rechnung!H$2:H$31, A1071)))>0,\"X\",\"\")","v":"X"},"MRS 09867 Hacks Retired (26.05.2022) - Hannah Einbinder (21.05.1995) 27-5",0,"ja"]
["MRS 09873 S.F.W. (20.01.1995) - Joey Lauren Adams (09.01.1968) 27-11 524.mp4",{"$f":"IF(SUMPRODUCT(--ISNUMBER(SEARCH(Rechnung!H$2:H$31, A1072)))>0,\"X\",\"\")","v":""},"MRS 09873 S.F.W. (20.01.1995) - Joey Lauren Adams (09.01.1968) 27-11",0,"nein"]
["MRS 09881 The Last Station (28.01.2010) - Kerry Condon (09.01.1983) 27-19 2830.mp4",{"$f":"IF(SUMPRODUCT(--ISNUMBER(SEARCH(Rechnung!H$2:H$31, A1073)))>0,\"X\",\"\")","v":""},"MRS 09881 The Last Station (28.01.2010) - Kerry Condon (09.01.1983) 27-19",0,"nein"]
["MRS 09881 The Last Station (28.01.2010) - Kerry Condon (09.01.1983) 27-19 2831.mp4",{"$f":"IF(SUMPRODUCT(--ISNUMBER(SEARCH(Rechnung!H$2:H$31, A1074)))>0,\"X\",\"\")","v":""},"MRS 09881 The Last Station (28.01.2010) - Kerry Condon (09.01.1983) 27-19",0,"nein"]
["MRS 09881 The Last Station (28.01.2010) - Kerry Condon (09.01.1983) 27-19 2832.mp4",{"$f":"IF(SUMPRODUCT(--ISNUMBER(SEARCH(Rechnung!H$2:H$31, A1075)))>0,\"X\",\"\")","v":""},"MRS 09881 The Last Station (28.01.2010) - Kerry Condon (09.01.1983) 27-19",0,"nein"]
["MRS 09882 Perfect (12.12.1985) - Jamie Lee Curtis (22.11.1958) 27-20 428.mp4",{"$f":"IF(SUMPRODUCT(--ISNUMBER(SEARCH(Rechnung!H$2:H$31, A1076)))>0,\"X\",\"\")","v":""},"MRS 09882 Perfect (12.12.1985) - Jamie Lee Curtis (22.11.1958) 27-20",0,"nein"]
["MRS 09887 Into the Night (24.05.1985) - Michelle Pfeiffer (29.04.1958) 27-25 1217.mp4",{"$f":"IF(SUMPRODUCT(--ISNUMBER(SEARCH(Rechnung!H$2:H$31, A1077)))>0,\"X\",\"\")","v":""},"MRS 09887 Into the Night (24.05.1985) - Michelle Pfeiffer (29.04.1958) 27-25",0,"nein"]
["MRS 09887 Into the Night (24.05.1985) - Michelle Pfeiffer (29.04.1958) 27-25 1218.mp4",{"$f":"IF(SUMPRODUCT(--ISNUMBER(SEARCH(Rechnung!H$2:H$31, A1078)))>0,\"X\",\"\")","v":""},"MRS 09887 Into the Night (24.05.1985) - Michelle Pfeiffer (29.04.1958) 27-25",0,"nein"]
["MRS 09887 Into the Night (24.05.1985) - Michelle Pfeiffer (29.04.1958) 27-25 1219.mp4",{"$f":"IF(SUMPRODUCT(--ISNUMBER(SEARCH(Rechnung!H$2:H$31, A1079)))>0,\"X\",\"\")","v":""},"MRS 09887 Into the Night (24.05.1985) - Michelle Pfeiffer (29.04.1958) 27-25",0,"nein"]
["MRS 09890 Meet Joe Black (14.01.1999) - Claire Forlani (17.12.1971) 27-28 1720.mp4",{"$f":"IF(SUMPRODUCT(--ISNUMBER(SEARCH(Rechnung!H$2:H$31, A1080)))>0,\"X\",\"\")","v":""},"MRS 09890 Meet Joe Black (14.01.1999) - Claire Forlani (17.12.1971) 27-28",0,"nein"]
["MRS 09892 Mother! (14.09.2017) - Jennifer Lawrence (15.08.1990) 27-30 1756.mp4",{"$f":"IF(SUMPRODUCT(--ISNUMBER(SEARCH(Rechnung!H$2:H$31, A1081)))>0,\"X\",\"\")","v":""},"MRS 09892 Mother! (14.09.2017) - Jennifer Lawrence (15.08.1990) 27-30",0,"nein"]
["MRS 09893 The Canyons (02.08.2013) - Lindsay Lohan (02.07.1986) 27-31 2579.mp4",{"$f":"IF(SUMPRODUCT(--ISNUMBER(SEARCH(Rechnung!H$2:H$31, A1082)))>0,\"X\",\"\")","v":""},"MRS 09893 The Canyons (02.08.2013) - Lindsay Lohan (02.07.1986) 27-31",0,"nein"]
["MRS 09893 The Canyons (02.08.2013) - Lindsay Lohan (02.07.1986) 27-31 2580.mp4",{"$f":"IF(SUMPRODUCT(--ISNUMBER(SEARCH(Rechnung!H$2:H$31, A1083)))>0,\"X\",\"\")","v":""},"MRS 09893 The Canyons (02.08.2013) - Lindsay Lohan (02.07.1986) 27-31",0,"nein"]
["MRS 09893 The Canyons (02.08.2013) - Lindsay Lohan (02.07.1986) 27-31 2581.mp4",{"$f":"IF(SUMPRODUCT(--ISNUMBER(SEARCH(Rechnung!H$2:H$31, A1084)))>0,\"X\",\"\")","v":""},"MRS 09893 The Canyons (02.08.2013) - Lindsay Lohan (02.07.1986) 27-31",0,"nein"]
["MRS 09896 We're No Angels (15.12.1989) - Demi Moore (11.11.1962) 27-34 3320.mp4",{"$f":"IF(SUMPRODUCT(--ISNUMBER(SEARCH(Rechnung!H$2:H$31, A1085)))>0,\"X\",\"\")","v":""},"MRS 09896 We're No Angels (15.12.1989) - Demi Moore (11.11.1962) 27-34",0,"nein"]
["MRS 09899 Little Odessa (13.04.1995) - Moira Kelly (06.03.1968) 27-38 692.mp4",{"$f":"IF(SUMPRODUCT(--ISNUMBER(SEARCH(Rechnung!H$2:H$31, A1086)))>0,\"X\",\"\")","v":""},"MRS 09899 Little Odessa (13.04.1995) - Moira Kelly (06.03.1968) 27-38",0,"nein"]
["MRS 09900 8 ½ Women (10.12.1999) - Toni Collette (01.11.1972) 27-39 18.mp4",{"$f":"IF(SUMPRODUCT(--ISNUMBER(SEARCH(Rechnung!H$2:H$31, A1087)))>0,\"X\",\"\")","v":""},"MRS 09900 8 ½ Women (10.12.1999) - Toni Collette (01.11.1972) 27-39",0,"nein"]
["MRS 09900 8 ½ Women (10.12.1999) - Toni Collette (01.11.1972) 27-39 19.mp4",{"$f":"IF(SUMPRODUCT(--ISNUMBER(SEARCH(Rechnung!H$2:H$31, A1088)))>0,\"X\",\"\")","v":""},"MRS 09900 8 ½ Women (10.12.1999) - Toni Collette (01.11.1972) 27-39",0,"nein"]
["MRS 09907 La riffa (15.11.1991) - Monica Bellucci (30.09.1964) 27-46 1426.mp4",{"$f":"IF(SUMPRODUCT(--ISNUMBER(SEARCH(Rechnung!H$2:H$31, A1089)))>0,\"X\",\"\")","v":""},"MRS 09907 La riffa (15.11.1991) - Monica Bellucci (30.09.1964) 27-46",0,"nein"]
["MRS 09907 La riffa (15.11.1991) - Monica Bellucci (30.09.1964) 27-46 1427.mp4",{"$f":"IF(SUMPRODUCT(--ISNUMBER(SEARCH(Rechnung!H$2:H$31, A1090)))>0,\"X\",\"\")","v":""},"MRS 09907 La riffa (15.11.1991) - Monica Bellucci (30.09.1964) 27-46",0,"nein"]
["MRS 09907 La riffa (15.11.1991) - Monica Bellucci (30.09.1964) 27-46 1428.mp4",{"$f":"IF(SUMPRODUCT(--ISNUMBER(SEARCH(Rechnung!H$2:H$31, A1091)))>0,\"X\",\"\")","v":""},{"$f":"LEFT(A1091, LEN(A1091) - LEN(MID(A1091, FIND(\"~\", SUBSTITUTE(A1091,\" \",\"~\", LEN(A1091)-LEN(SUBSTITUTE(A1091,\" \",\"\")))), LEN(A1091))))","v":"MRS 09907 La riffa (15.11.1991) - Monica Bellucci (30.09.1964) 27-46"},0,{"$f":"IF(AND(B1091=\"X\",D1091=0),\"ja\",\"nein\")","v":"nein"}]
["MRS 09907 La riffa (15.11.1991) - Monica Bellucci (30.09.1964) 27-46 1429.mp4",{"$f":"IF(SUMPRODUCT(--ISNUMBER(SEARCH(Rechnung!H$2:H$31, A1092)))>0,\"X\",\"\")","v":""},"MRS 09907 La riffa (15.11.1991) - Monica Bellucci (30.09.1964) 27-46",0,"nein"]
["MRS 09908 Killing Eve Meetings Have Biscuits (26.04.2020) - Jodie Comer (11.03.1993) 27-46 1381.mp4",{"$f":"IF(SUMPRODUCT(--ISNUMBER(SEARCH(Rechnung!H$2:H$31, A1093)))>0,\"X\",\"\")","v":""},"MRS 09908 Killing Eve Meetings Have Biscuits (26.04.2020) - Jodie Comer (11.03.1993) 27-46",0,"nein"]
["MRS 09929 The L Word Loneliest Number (06.03.2005) - Kate Moennig (29.12.1977) 27-67 2824.mp4",{"$f":"IF(SUMPRODUCT(--ISNUMBER(SEARCH(Rechnung!H$2:H$31, A1094)))>0,\"X\",\"\")","v":""},"MRS 09929 The L Word Loneliest Number (06.03.2005) - Kate Moennig (29.12.1977) 27-67",0,"nein"]
["MRS 09936 The L Word Lynch Pin (13.03.2005) - Kate Moennig (29.12.1977) 27-74 2827.mp4",{"$f":"IF(SUMPRODUCT(--ISNUMBER(SEARCH(Rechnung!H$2:H$31, A1095)))>0,\"X\",\"\")","v":""},"MRS 09936 The L Word Lynch Pin (13.03.2005) - Kate Moennig (29.12.1977) 27-74",0,"nein"]
["MRS 09936 The L Word Lynch Pin (13.03.2005) - Kate Moennig (29.12.1977) 27-74 2828.mp4",{"$f":"IF(SUMPRODUCT(--ISNUMBER(SEARCH(Rechnung!H$2:H$31, A1096)))>0,\"X\",\"\")","v":""},"MRS 09936 The L Word Lynch Pin (13.03.2005) - Kate Moennig (29.12.1977) 27-74",0,"nein"]
["MRS 09944 The Tempest (07.01.2011) - Felicity Jones (17.10.1983) 27-82 288.mp4",{"$f":"IF(SUMPRODUCT(--ISNUMBER(SEARCH(Rechnung!H$2:H$31, A1097)))>0,\"X\",\"\")","v":""},"MRS 09944 The Tempest (07.01.2011) - Felicity Jones (17.10.1983) 27-82",0,"nein"]
["MRS 09993 Sweet William (30.04.1980) - Jenny Agutter (20.12.1952) 27-131 2472.mp4",{"$f":"IF(SUMPRODUCT(--ISNUMBER(SEARCH(Rechnung!H$2:H$31, A1098)))>0,\"X\",\"\")","v":""},"MRS 09993 Sweet William (30.04.1980) - Jenny Agutter (20.12.1952) 27-131",0,"nein"]
["MRS 09993 Sweet William (30.04.1980) - Jenny Agutter (20.12.1952) 27-131 2473.mp4",{"$f":"IF(SUMPRODUCT(--ISNUMBER(SEARCH(Rechnung!H$2:H$31, A1099)))>0,\"X\",\"\")","v":""},"MRS 09993 Sweet William (30.04.1980) - Jenny Agutter (20.12.1952) 27-131",0,"nein"]
["MRS 09993 Sweet William (30.04.1980) - Jenny Agutter (20.12.1952) 27-131 2474.mp4",{"$f":"IF(SUMPRODUCT(--ISNUMBER(SEARCH(Rechnung!H$2:H$31, A1100)))>0,\"X\",\"\")","v":""},"MRS 09993 Sweet William (30.04.1980) - Jenny Agutter (20.12.1952) 27-131",0,"nein"]
["MRS 09994 Daybreak (17.07.1995) - Moira Kelly (06.03.1968) 27-133 683.mp4",{"$f":"IF(SUMPRODUCT(--ISNUMBER(SEARCH(Rechnung!H$2:H$31, A1101)))>0,\"X\",\"\")","v":""},"MRS 09994 Daybreak (17.07.1995) - Moira Kelly (06.03.1968) 27-133",0,"nein"]
["MRS 09994 Daybreak (17.07.1995) - Moira Kelly (06.03.1968) 27-133 684.mp4",{"$f":"IF(SUMPRODUCT(--ISNUMBER(SEARCH(Rechnung!H$2:H$31, A1102)))>0,\"X\",\"\")","v":""},"MRS 09994 Daybreak (17.07.1995) - Moira Kelly (06.03.1968) 27-133",0,"nein"]
["MRS 09994 Daybreak (17.07.1995) - Moira Kelly (06.03.1968) 27-133 685.mp4",{"$f":"IF(SUMPRODUCT(--ISNUMBER(SEARCH(Rechnung!H$2:H$31, A1103)))>0,\"X\",\"\")","v":""},"MRS 09994 Daybreak (17.07.1995) - Moira Kelly (06.03.1968) 27-133",0,"nein"]
["MRS 09997 Catchfire (03.04.1990) - Jodie Foster (19.11.1962) 27-135 472.mp4",{"$f":"IF(SUMPRODUCT(--ISNUMBER(SEARCH(Rechnung!H$2:H$31, A1104)))>0,\"X\",\"\")","v":""},"MRS 09997 Catchfire (03.04.1990) - Jodie Foster (19.11.1962) 27-135",0,"nein"]
["MRS 09997 Catchfire (03.04.1990) - Jodie Foster (19.11.1962) 27-135 473.mp4",{"$f":"IF(SUMPRODUCT(--ISNUMBER(SEARCH(Rechnung!H$2:H$31, A1105)))>0,\"X\",\"\")","v":""},"MRS 09997 Catchfire (03.04.1990) - Jodie Foster (19.11.1962) 27-135",0,"nein"]
["MRS 09997 Catchfire (03.04.1990) - Jodie Foster (19.11.1962) 27-135 474.mp4",{"$f":"IF(SUMPRODUCT(--ISNUMBER(SEARCH(Rechnung!H$2:H$31, A1106)))>0,\"X\",\"\")","v":""},"MRS 09997 Catchfire (03.04.1990) - Jodie Foster (19.11.1962) 27-135",0,"nein"]
["MRS 09997 Catchfire (03.04.1990) - Jodie Foster (19.11.1962) 27-135 475.mp4",{"$f":"IF(SUMPRODUCT(--ISNUMBER(SEARCH(Rechnung!H$2:H$31, A1107)))>0,\"X\",\"\")","v":""},"MRS 09997 Catchfire (03.04.1990) - Jodie Foster (19.11.1962) 27-135",0,"nein"]
["MRS 09997 Catchfire (03.04.1990) - Jodie Foster (19.11.1962) 27-135 476.mp4",{"$f":"IF(SUMPRODUCT(--ISNUMBER(SEARCH(Rechnung!H$2:H$31, A1108)))>0,\"X\",\"\")","v":""},"MRS 09997 Catchfire (03.04.1990) - Jodie Foster (19.11.1962) 27-135",0,"nein"]
["MRS 09999 The L Word Lacuna (15.05.2005) - Kate Moennig (29.12.1977) 27-137 2818.mp4",{"$f":"IF(SUMPRODUCT(--ISNUMBER(SEARCH(Rechnung!H$2:H$31, A1109)))>0,\"X\",\"\")","v":""},"MRS 09999 The L Word Lacuna (15.05.2005) - Kate Moennig (29.12.1977) 27-137",0,"nein"]
["MRS 10001 Sexual Life (19.06.2004) - Kerry Washington (31.01.1977) 27-139 2282.mp4",{"$f":"IF(SUMPRODUCT(--ISNUMBER(SEARCH(Rechnung!H$2:H$31, A1110)))>0,\"X\",\"\")","v":""},"MRS 10001 Sexual Life (19.06.2004) - Kerry Washington (31.01.1977) 27-139",0,"nein"]
["MRS 10001 Sexual Life (19.06.2004) - Kerry Washington (31.01.1977) 27-139 2283.mp4",{"$f":"IF(SUMPRODUCT(--ISNUMBER(SEARCH(Rechnung!H$2:H$31, A1111)))>0,\"X\",\"\")","v":""},"MRS 10001 Sexual Life (19.06.2004) - Kerry Washington (31.01.1977) 27-139",0,"nein"]
["MRS 10023 Celebrity (08.04.1999) - Winona Ryder (29.10.1971) 27-162 415.mp4",{"$f":"IF(SUMPRODUCT(--ISNUMBER(SEARCH(Rechnung!H$2:H$31, A1112)))>0,\"X\",\"\")","v":""},"MRS 10023 Celebrity (08.04.1999) - Winona Ryder (29.10.1971) 27-162",0,"nein"]
["MRS 10033 Psycho Beach Party (07.02.2002) - Amy Adams (20.08.1974) 27-171 2084.mp4",{"$f":"IF(SUMPRODUCT(--ISNUMBER(SEARCH(Rechnung!H$2:H$31, A1113)))>0,\"X\",\"\")","v":""},"MRS 10033 Psycho Beach Party (07.02.2002) - Amy Adams (20.08.1974) 27-171",0,"nein"]
["MRS 10035 Ghost Story (18.12.1981) - Alice Krige (28.06.1954) 27-173 10.mp4",{"$f":"IF(SUMPRODUCT(--ISNUMBER(SEARCH(Rechnung!H$2:H$31, A1114)))>0,\"X\",\"\")","v":""},"MRS 10035 Ghost Story (18.12.1981) - Alice Krige (28.06.1954) 27-173",0,"nein"]
["MRS 10035 Ghost Story (18.12.1981) - Alice Krige (28.06.1954) 27-173 11.mp4",{"$f":"IF(SUMPRODUCT(--ISNUMBER(SEARCH(Rechnung!H$2:H$31, A1115)))>0,\"X\",\"\")","v":""},"MRS 10035 Ghost Story (18.12.1981) - Alice Krige (28.06.1954) 27-173",0,"nein"]
["MRS 10035 Ghost Story (18.12.1981) - Alice Krige (28.06.1954) 27-173 12.mp4",{"$f":"IF(SUMPRODUCT(--ISNUMBER(SEARCH(Rechnung!H$2:H$31, A1116)))>0,\"X\",\"\")","v":""},"MRS 10035 Ghost Story (18.12.1981) - Alice Krige (28.06.1954) 27-173",0,"nein"]
["MRS 10035 Ghost Story (18.12.1981) - Alice Krige (28.06.1954) 27-173 13.mp4",{"$f":"IF(SUMPRODUCT(--ISNUMBER(SEARCH(Rechnung!H$2:H$31, A1117)))>0,\"X\",\"\")","v":""},"MRS 10035 Ghost Story (18.12.1981) - Alice Krige (28.06.1954) 27-173",0,"nein"]
["MRS 10042 She Hate Me (30.07.2004) - Kerry Washington (31.01.1977) 27-180 2296.mp4",{"$f":"IF(SUMPRODUCT(--ISNUMBER(SEARCH(Rechnung!H$2:H$31, A1118)))>0,\"X\",\"\")","v":""},"MRS 10042 She Hate Me (30.07.2004) - Kerry Washington (31.01.1977) 27-180",0,"nein"]
["MRS 10042 She Hate Me (30.07.2004) - Kerry Washington (31.01.1977) 27-180 2297.mp4",{"$f":"IF(SUMPRODUCT(--ISNUMBER(SEARCH(Rechnung!H$2:H$31, A1119)))>0,\"X\",\"\")","v":""},"MRS 10042 She Hate Me (30.07.2004) - Kerry Washington (31.01.1977) 27-180",0,"nein"]
["MRS 10042 She Hate Me (30.07.2004) - Kerry Washington (31.01.1977) 27-180 2298.mp4",{"$f":"IF(SUMPRODUCT(--ISNUMBER(SEARCH(Rechnung!H$2:H$31, A1120)))>0,\"X\",\"\")","v":""},"MRS 10042 She Hate Me (30.07.2004) - Kerry Washington (31.01.1977) 27-180",0,"nein"]
["MRS 10046 Wild Things (20.08.1998) - Denise Richards (17.02.1971) 27-184 152.mp4",{"$f":"IF(SUMPRODUCT(--ISNUMBER(SEARCH(Rechnung!H$2:H$31, A1121)))>0,\"X\",\"\")","v":""},"MRS 10046 Wild Things (20.08.1998) - Denise Richards (17.02.1971) 27-184",0,"nein"]
["MRS 10046 Wild Things (20.08.1998) - Denise Richards (17.02.1971) 27-184 153.mp4",{"$f":"IF(SUMPRODUCT(--ISNUMBER(SEARCH(Rechnung!H$2:H$31, A1122)))>0,\"X\",\"\")","v":""},"MRS 10046 Wild Things (20.08.1998) - Denise Richards (17.02.1971) 27-184",0,"nein"]
["MRS 10046 Wild Things (20.08.1998) - Denise Richards (17.02.1971) 27-184 154.mp4",{"$f":"IF(SUMPRODUCT(--ISNUMBER(SEARCH(Rechnung!H$2:H$31, A1123)))>0,\"X\",\"\")","v":""},"MRS 10046 Wild Things (20.08.1998) - Denise Richards (17.02.1971) 27-184",0,"nein"]
["MRS 10047 The Tie That Binds (08.09.1995) - Moira Kelly (06.03.1968) 27-186 695.mp4",{"$f":"IF(SUMPRODUCT(--ISNUMBER(SEARCH(Rechnung!H$2:H$31, A1124)))>0,\"X\",\"\")","v":""},"MRS 10047 The Tie That Binds (08.09.1995) - Moira Kelly (06.03.1968) 27-186",0,"nein"]
["MRS 10060 Oppenheimer (20.07.2023) - Florence Pugh (03.01.1996) 27-199 1952.mp4",{"$f":"IF(SUMPRODUCT(--ISNUMBER(SEARCH(Rechnung!H$2:H$31, A1125)))>0,\"X\",\"\")","v":"X"},"MRS 10060 Oppenheimer (20.07.2023) - Florence Pugh (03.01.1996) 27-199",1,"nein"]
["MRS 10060 Oppenheimer (20.07.2023) - Florence Pugh (03.01.1996) 27-199 1953.mp4",{"$f":"IF(SUMPRODUCT(--ISNUMBER(SEARCH(Rechnung!H$2:H$31, A1126)))>0,\"X\",\"\")","v":"X"},"MRS 10060 Oppenheimer (20.07.2023) - Florence Pugh (03.01.1996) 27-199",1,"nein"]
["MRS 10060 Oppenheimer (20.07.2023) - Florence Pugh (03.01.1996) 27-199 1954.mp4",{"$f":"IF(SUMPRODUCT(--ISNUMBER(SEARCH(Rechnung!H$2:H$31, A1127)))>0,\"X\",\"\")","v":"X"},"MRS 10060 Oppenheimer (20.07.2023) - Florence Pugh (03.01.1996) 27-199",1,"nein"]
["MRS 10060 Oppenheimer (20.07.2023) - Florence Pugh (03.01.1996) 27-199 1955.mp4",{"$f":"IF(SUMPRODUCT(--ISNUMBER(SEARCH(Rechnung!H$2:H$31, A1128)))>0,\"X\",\"\")","v":"X"},"MRS 10060 Oppenheimer (20.07.2023) - Florence Pugh (03.01.1996) 27-199",1,"nein"]
["MRS 10060 Oppenheimer (20.07.2023) - Florence Pugh (03.01.1996) 27-199 1956.mp4",{"$f":"IF(SUMPRODUCT(--ISNUMBER(SEARCH(Rechnung!H$2:H$31, A1129)))>0,\"X\",\"\")","v":"X"},"MRS 10060 Oppenheimer (20.07.2023) - Florence Pugh (03.01.1996) 27-199",1,"nein"]
["MRS 10060 Oppenheimer (20.07.2023) - Florence Pugh (03.01.1996) 27-199 1957.mp4",{"$f":"IF(SUMPRODUCT(--ISNUMBER(SEARCH(Rechnung!H$2:H$31, A1130)))>0,\"X\",\"\")","v":"X"},"MRS 10060 Oppenheimer (20.07.2023) - Florence Pugh (03.01.1996) 27-199",1,"nein"]
["MRS 10060 Oppenheimer (20.07.2023) - Florence Pugh (03.01.1996) 27-199 1958.mp4",{"$f":"IF(SUMPRODUCT(--ISNUMBER(SEARCH(Rechnung!H$2:H$31, A1131)))>0,\"X\",\"\")","v":"X"},"MRS 10060 Oppenheimer (20.07.2023) - Florence Pugh (03.01.1996) 27-199",1,"nein"]
["MRS 10060 Oppenheimer (20.07.2023) - Florence Pugh (03.01.1996) 27-199 1959.mp4",{"$f":"IF(SUMPRODUCT(--ISNUMBER(SEARCH(Rechnung!H$2:H$31, A1132)))>0,\"X\",\"\")","v":"X"},"MRS 10060 Oppenheimer (20.07.2023) - Florence Pugh (03.01.1996) 27-199",1,"nein"]
["MRS 10060 Red Sparrow (01.03.2018) - Jennifer Lawrence (15.08.1990) 27-198 2148.mp4",{"$f":"IF(SUMPRODUCT(--ISNUMBER(SEARCH(Rechnung!H$2:H$31, A1133)))>0,\"X\",\"\")","v":""},"MRS 10060 Red Sparrow (01.03.2018) - Jennifer Lawrence (15.08.1990) 27-198",0,"nein"]
["MRS 10060 Red Sparrow (01.03.2018) - Jennifer Lawrence (15.08.1990) 27-198 2149.mp4",{"$f":"IF(SUMPRODUCT(--ISNUMBER(SEARCH(Rechnung!H$2:H$31, A1134)))>0,\"X\",\"\")","v":""},"MRS 10060 Red Sparrow (01.03.2018) - Jennifer Lawrence (15.08.1990) 27-198",0,"nein"]
["MRS 10060 Red Sparrow (01.03.2018) - Jennifer Lawrence (15.08.1990) 27-198 2150.mp4",{"$f":"IF(SUMPRODUCT(--ISNUMBER(SEARCH(Rechnung!H$2:H$31, A1135)))>0,\"X\",\"\")","v":""},"MRS 10060 Red Sparrow (01.03.2018) - Jennifer Lawrence (15.08.1990) 27-198",0,"nein"]
["MRS 10060 The Marvelous Mrs. Maisel Pilot (26.01.2018) - Rachel Brosnahan (12.07.1990) 27-198 2870.mp4",{"$f":"IF(SUMPRODUCT(--ISNUMBER(SEARCH(Rechnung!H$2:H$31, A1136)))>0,\"X\",\"\")","v":""},"MRS 10060 The Marvelous Mrs. Maisel Pilot (26.01.2018) - Rachel Brosnahan (12.07.1990) 27-198",0,"nein"]
["MRS 10060 The Marvelous Mrs. Maisel Pilot (26.01.2018) - Rachel Brosnahan (12.07.1990) 27-198 2871.mp4",{"$f":"IF(SUMPRODUCT(--ISNUMBER(SEARCH(Rechnung!H$2:H$31, A1137)))>0,\"X\",\"\")","v":""},"MRS 10060 The Marvelous Mrs. Maisel Pilot (26.01.2018) - Rachel Brosnahan (12.07.1990) 27-198",0,"nein"]
["MRS 10068 Ammonite (04.11.2021) - Saoirse Ronan (12.04.1994) 27-206 143.mp4",{"$f":"IF(SUMPRODUCT(--ISNUMBER(SEARCH(Rechnung!H$2:H$31, A1138)))>0,\"X\",\"\")","v":""},"MRS 10068 Ammonite (04.11.2021) - Saoirse Ronan (12.04.1994) 27-206",1,"nein"]
["MRS 10068 Ammonite (04.11.2021) - Saoirse Ronan (12.04.1994) 27-206 144.mp4",{"$f":"IF(SUMPRODUCT(--ISNUMBER(SEARCH(Rechnung!H$2:H$31, A1139)))>0,\"X\",\"\")","v":""},"MRS 10068 Ammonite (04.11.2021) - Saoirse Ronan (12.04.1994) 27-206",1,"nein"]
["MRS 10068 Ammonite (04.11.2021) - Saoirse Ronan (12.04.1994) 27-206 145.mp4",{"$f":"IF(SUMPRODUCT(--ISNUMBER(SEARCH(Rechnung!H$2:H$31, A1140)))>0,\"X\",\"\")","v":""},"MRS 10068 Ammonite (04.11.2021) - Saoirse Ronan (12.04.1994) 27-206",1,"nein"]
["MRS 10068 Ammonite (04.11.2021) - Saoirse Ronan (12.04.1994) 27-206 146.mp4",{"$f":"IF(SUMPRODUCT(--ISNUMBER(SEARCH(Rechnung!H$2:H$31, A1141)))>0,\"X\",\"\")","v":""},"MRS 10068 Ammonite (04.11.2021) - Saoirse Ronan (12.04.1994) 27-206",1,"nein"]
["MRS 10079 Pure Episode 1 (01.02.2020) - Niamh Algar (28.06.1992) 27-218 707.mp4",{"$f":"IF(SUMPRODUCT(--ISNUMBER(SEARCH(Rechnung!H$2:H$31, A1142)))>0,\"X\",\"\")","v":""},"MRS 10079 Pure Episode 1 (01.02.2020) - Niamh Algar (28.06.1992) 27-218",0,"nein"]
["MRS 10079 Pure Episode 4 (01.02.2020) - Niamh Algar (28.06.1992) 27-218 708.mp4",{"$f":"IF(SUMPRODUCT(--ISNUMBER(SEARCH(Rechnung!H$2:H$31, A1143)))>0,\"X\",\"\")","v":""},"MRS 10079 Pure Episode 4 (01.02.2020) - Niamh Algar (28.06.1992) 27-218",0,"nein"]
["MRS 10090 Satan's Little Helper (02.08.2005) - Katheryn Winnick (17.12.1977) 27-228 2236.mp4",{"$f":"IF(SUMPRODUCT(--ISNUMBER(SEARCH(Rechnung!H$2:H$31, A1144)))>0,\"X\",\"\")","v":""},"MRS 10090 Satan's Little Helper (02.08.2005) - Katheryn Winnick (17.12.1977) 27-228",0,"nein"]
["MRS 10094 Trapped (27.03.2003) - Charlize Theron (07.08.1975) 27-233 3184.mp4",{"$f":"IF(SUMPRODUCT(--ISNUMBER(SEARCH(Rechnung!H$2:H$31, A1145)))>0,\"X\",\"\")","v":""},"MRS 10094 Trapped (27.03.2003) - Charlize Theron (07.08.1975) 27-233",0,"nein"]
["MRS 10098 Challengers (25.04.2024) - Zendaya (01.09.1996) 27-236 416.mp4",{"$f":"IF(SUMPRODUCT(--ISNUMBER(SEARCH(Rechnung!H$2:H$31, A1146)))>0,\"X\",\"\")","v":"X"},"MRS 10098 Challengers (25.04.2024) - Zendaya (01.09.1996) 27-236",1,"nein"]
["MRS 10098 Challengers (25.04.2024) - Zendaya (01.09.1996) 27-236 417.mp4",{"$f":"IF(SUMPRODUCT(--ISNUMBER(SEARCH(Rechnung!H$2:H$31, A1147)))>0,\"X\",\"\")","v":"X"},"MRS 10098 Challengers (25.04.2024) - Zendaya (01.09.1996) 27-236",1,"nein"]
["MRS 10098 Challengers (25.04.2024) - Zendaya (01.09.1996) 27-236 418.mp4",{"$f":"IF(SUMPRODUCT(--ISNUMBER(SEARCH(Rechnung!H$2:H$31, A1148)))>0,\"X\",\"\")","v":"X"},"MRS 10098 Challengers (25.04.2024) - Zendaya (01.09.1996) 27-236",1,"nein"]
["MRS 10098 Challengers (25.04.2024) - Zendaya (01.09.1996) 27-236 419.mp4",{"$f":"IF(SUMPRODUCT(--ISNUMBER(SEARCH(Rechnung!H$2:H$31, A1149)))>0,\"X\",\"\")","v":"X"},"MRS 10098 Challengers (25.04.2024) - Zendaya (01.09.1996) 27-236",1,"nein"]
["MRS 10098 Challengers (25.04.2024) - Zendaya (01.09.1996) 27-236 420.mp4",{"$f":"IF(SUMPRODUCT(--ISNUMBER(SEARCH(Rechnung!H$2:H$31, A1150)))>0,\"X\",\"\")","v":"X"},"MRS 10098 Challengers (25.04.2024) - Zendaya (01.09.1996) 27-236",1,"nein"]
["MRS 10098 Challengers (25.04.2024) - Zendaya (01.09.1996) 27-236 421.mp4",{"$f":"IF(SUMPRODUCT(--ISNUMBER(SEARCH(Rechnung!H$2:H$31, A1151)))>0,\"X\",\"\")","v":"X"},"MRS 10098 Challengers (25.04.2024) - Zendaya (01.09.1996) 27-236",1,"nein"]
["MRS 10098 Challengers (25.04.2024) - Zendaya (01.09.1996) 27-236 422.mp4",{"$f":"IF(SUMPRODUCT(--ISNUMBER(SEARCH(Rechnung!H$2:H$31, A1152)))>0,\"X\",\"\")","v":"X"},"MRS 10098 Challengers (25.04.2024) - Zendaya (01.09.1996) 27-236",1,"nein"]
["MRS 10099 Judas Kiss (23.04.1999) - Carla Gugino (29.08.1971) 27-238 1301.mp4",{"$f":"IF(SUMPRODUCT(--ISNUMBER(SEARCH(Rechnung!H$2:H$31, A1153)))>0,\"X\",\"\")","v":""},"MRS 10099 Judas Kiss (23.04.1999) - Carla Gugino (29.08.1971) 27-238",0,"nein"]
["MRS 10102 Ostinato destino (28.05.1992) - Monica Bellucci (30.09.1964) 27-240 1982.mp4",{"$f":"IF(SUMPRODUCT(--ISNUMBER(SEARCH(Rechnung!H$2:H$31, A1154)))>0,\"X\",\"\")","v":""},"MRS 10102 Ostinato destino (28.05.1992) - Monica Bellucci (30.09.1964) 27-240",0,"nein"]
["MRS 10102 Ostinato destino (28.05.1992) - Monica Bellucci (30.09.1964) 27-240 1983.mp4",{"$f":"IF(SUMPRODUCT(--ISNUMBER(SEARCH(Rechnung!H$2:H$31, A1155)))>0,\"X\",\"\")","v":""},{"$f":"LEFT(A1155, LEN(A1155) - LEN(MID(A1155, FIND(\"~\", SUBSTITUTE(A1155,\" \",\"~\", LEN(A1155)-LEN(SUBSTITUTE(A1155,\" \",\"\")))), LEN(A1155))))","v":"MRS 10102 Ostinato destino (28.05.1992) - Monica Bellucci (30.09.1964) 27-240"},0,{"$f":"IF(AND(B1155=\"X\",D1155=0),\"ja\",\"nein\")","v":"nein"}]
["MRS 10103 Storia d'amore con i crampi (31.12.1995) - Debora Caprioglio (03.05.1968) 27-242 139.mp4",{"$f":"IF(SUMPRODUCT(--ISNUMBER(SEARCH(Rechnung!H$2:H$31, A1156)))>0,\"X\",\"\")","v":""},"MRS 10103 Storia d'amore con i crampi (31.12.1995) - Debora Caprioglio (03.05.1968) 27-242",0,"nein"]
["MRS 10122 Sex Education Episode 1 (21.09.2023) - Emma Mackey (04.01.1996) 27-261 2265.mp4",{"$f":"IF(SUMPRODUCT(--ISNUMBER(SEARCH(Rechnung!H$2:H$31, A1157)))>0,\"X\",\"\")","v":"X"},"MRS 10122 Sex Education Episode 1 (21.09.2023) - Emma Mackey (04.01.1996) 27-261",1,"nein"]
["MRS 10136 Carmen (03.10.2003) - Paz Vega (02.01.1976) 27-275 373.mp4",{"$f":"IF(SUMPRODUCT(--ISNUMBER(SEARCH(Rechnung!H$2:H$31, A1158)))>0,\"X\",\"\")","v":""},"MRS 10136 Carmen (03.10.2003) - Paz Vega (02.01.1976) 27-275",0,"nein"]
["MRS 10136 Carmen (03.10.2003) - Paz Vega (02.01.1976) 27-275 374.mp4",{"$f":"IF(SUMPRODUCT(--ISNUMBER(SEARCH(Rechnung!H$2:H$31, A1159)))>0,\"X\",\"\")","v":""},"MRS 10136 Carmen (03.10.2003) - Paz Vega (02.01.1976) 27-275",0,"nein"]
["MRS 10136 Carmen (03.10.2003) - Paz Vega (02.01.1976) 27-275 375.mp4",{"$f":"IF(SUMPRODUCT(--ISNUMBER(SEARCH(Rechnung!H$2:H$31, A1160)))>0,\"X\",\"\")","v":""},"MRS 10136 Carmen (03.10.2003) - Paz Vega (02.01.1976) 27-275",0,"nein"]
["MRS 10136 Carmen (03.10.2003) - Paz Vega (02.01.1976) 27-275 376.mp4",{"$f":"IF(SUMPRODUCT(--ISNUMBER(SEARCH(Rechnung!H$2:H$31, A1161)))>0,\"X\",\"\")","v":""},"MRS 10136 Carmen (03.10.2003) - Paz Vega (02.01.1976) 27-275",0,"nein"]
["MRS 10136 Carmen (03.10.2003) - Paz Vega (02.01.1976) 27-275 377.mp4",{"$f":"IF(SUMPRODUCT(--ISNUMBER(SEARCH(Rechnung!H$2:H$31, A1162)))>0,\"X\",\"\")","v":""},"MRS 10136 Carmen (03.10.2003) - Paz Vega (02.01.1976) 27-275",0,"nein"]
["MRS 10136 Carmen (03.10.2003) - Paz Vega (02.01.1976) 27-275 378.mp4",{"$f":"IF(SUMPRODUCT(--ISNUMBER(SEARCH(Rechnung!H$2:H$31, A1163)))>0,\"X\",\"\")","v":""},"MRS 10136 Carmen (03.10.2003) - Paz Vega (02.01.1976) 27-275",0,"nein"]
["MRS 10136 Carmen (03.10.2003) - Paz Vega (02.01.1976) 27-275 379.mp4",{"$f":"IF(SUMPRODUCT(--ISNUMBER(SEARCH(Rechnung!H$2:H$31, A1164)))>0,\"X\",\"\")","v":""},"MRS 10136 Carmen (03.10.2003) - Paz Vega (02.01.1976) 27-275",0,"nein"]
["MRS 10136 Carmen (03.10.2003) - Paz Vega (02.01.1976) 27-275 380.mp4",{"$f":"IF(SUMPRODUCT(--ISNUMBER(SEARCH(Rechnung!H$2:H$31, A1165)))>0,\"X\",\"\")","v":""},"MRS 10136 Carmen (03.10.2003) - Paz Vega (02.01.1976) 27-275",0,"nein"]
["MRS 10136 Carmen (03.10.2003) - Paz Vega (02.01.1976) 27-275 381.mp4",{"$f":"IF(SUMPRODUCT(--ISNUMBER(SEARCH(Rechnung!H$2:H$31, A1166)))>0,\"X\",\"\")","v":""},"MRS 10136 Carmen (03.10.2003) - Paz Vega (02.01.1976) 27-275",0,"nein"]
["MRS 10136 Carmen (03.10.2003) - Paz Vega (02.01.1976) 27-275 382.mp4",{"$f":"IF(SUMPRODUCT(--ISNUMBER(SEARCH(Rechnung!H$2:H$31, A1167)))>0,\"X\",\"\")","v":""},"MRS 10136 Carmen (03.10.2003) - Paz Vega (02.01.1976) 27-275",0,"nein"]
["MRS 10146 Mallrats (20.10.1995) - Joey Lauren Adams (09.01.1968) 27-285 522.mp4",{"$f":"IF(SUMPRODUCT(--ISNUMBER(SEARCH(Rechnung!H$2:H$31, A1168)))>0,\"X\",\"\")","v":""},"MRS 10146 Mallrats (20.10.1995) - Joey Lauren Adams (09.01.1968) 27-285",0,"nein"]
["MRS 10146 Mallrats (20.10.1995) - Joey Lauren Adams (09.01.1968) 27-285 523.mp4",{"$f":"IF(SUMPRODUCT(--ISNUMBER(SEARCH(Rechnung!H$2:H$31, A1169)))>0,\"X\",\"\")","v":""},"MRS 10146 Mallrats (20.10.1995) - Joey Lauren Adams (09.01.1968) 27-285",0,"nein"]
["MRS 10173 The Parole Officer (10.08.2001) - Lena Headey (03.10.1973) 27-311 601.mp4",{"$f":"IF(SUMPRODUCT(--ISNUMBER(SEARCH(Rechnung!H$2:H$31, A1170)))>0,\"X\",\"\")","v":""},"MRS 10173 The Parole Officer (10.08.2001) - Lena Headey (03.10.1973) 27-311",0,"nein"]
["MRS 10186 The Other Boleyn Girl (28.03.2003) - Jodhi May (08.05.1975) 27-325 2925.mp4",{"$f":"IF(SUMPRODUCT(--ISNUMBER(SEARCH(Rechnung!H$2:H$31, A1171)))>0,\"X\",\"\")","v":""},"MRS 10186 The Other Boleyn Girl (28.03.2003) - Jodhi May (08.05.1975) 27-325",0,"nein"]
["MRS 10187 Hotel Splendide (22.09.2000) - Toni Collette (01.11.1972) 27-325 1156.mp4",{"$f":"IF(SUMPRODUCT(--ISNUMBER(SEARCH(Rechnung!H$2:H$31, A1172)))>0,\"X\",\"\")","v":""},"MRS 10187 Hotel Splendide (22.09.2000) - Toni Collette (01.11.1972) 27-325",0,"nein"]
["MRS 10187 Hotel Splendide (22.09.2000) - Toni Collette (01.11.1972) 27-325 1157.mp4",{"$f":"IF(SUMPRODUCT(--ISNUMBER(SEARCH(Rechnung!H$2:H$31, A1173)))>0,\"X\",\"\")","v":""},"MRS 10187 Hotel Splendide (22.09.2000) - Toni Collette (01.11.1972) 27-325",0,"nein"]
["MRS 10194 40 gradi all'ombra del lenzuolo (23.04.1976) - Dayle Haddon (26.05.1948) 27-332 2266.mp4",{"$f":"IF(SUMPRODUCT(--ISNUMBER(SEARCH(Rechnung!H$2:H$31, A1174)))>0,\"X\",\"\")","v":""},"MRS 10194 40 gradi all'ombra del lenzuolo (23.04.1976) - Dayle Haddon (26.05.1948) 27-332",0,"nein"]
["MRS 10194 40 gradi all'ombra del lenzuolo (23.04.1976) - Dayle Haddon (26.05.1948) 27-332 2267.mp4",{"$f":"IF(SUMPRODUCT(--ISNUMBER(SEARCH(Rechnung!H$2:H$31, A1175)))>0,\"X\",\"\")","v":""},"MRS 10194 40 gradi all'ombra del lenzuolo (23.04.1976) - Dayle Haddon (26.05.1948) 27-332",0,"nein"]
["MRS 10194 40 gradi all'ombra del lenzuolo (23.04.1976) - Dayle Haddon (26.05.1948) 27-332 2268.mp4",{"$f":"IF(SUMPRODUCT(--ISNUMBER(SEARCH(Rechnung!H$2:H$31, A1176)))>0,\"X\",\"\")","v":""},"MRS 10194 40 gradi all'ombra del lenzuolo (23.04.1976) - Dayle Haddon (26.05.1948) 27-332",0,"nein"]
["MRS 10212 The Five Senses (15.06.2000) - Molly Parker (30.06.1972) 27-350 2695.mp4",{"$f":"IF(SUMPRODUCT(--ISNUMBER(SEARCH(Rechnung!H$2:H$31, A1177)))>0,\"X\",\"\")","v":""},"MRS 10212 The Five Senses (15.06.2000) - Molly Parker (30.06.1972) 27-350",0,"nein"]
["MRS 10224 Sex and the Teenage Mind (31.12.2002) - Danica McKellar (03.01.1975) 27-362 2263.mp4",{"$f":"IF(SUMPRODUCT(--ISNUMBER(SEARCH(Rechnung!H$2:H$31, A1178)))>0,\"X\",\"\")","v":""},"MRS 10224 Sex and the Teenage Mind (31.12.2002) - Danica McKellar (03.01.1975) 27-362",0,"nein"]
["MRS 10237 The L Word Labia Majora (08.01.2006) - Kate Moennig (29.12.1977) 28-10 2817.mp4",{"$f":"IF(SUMPRODUCT(--ISNUMBER(SEARCH(Rechnung!H$2:H$31, A1179)))>0,\"X\",\"\")","v":""},"MRS 10237 The L Word Labia Majora (08.01.2006) - Kate Moennig (29.12.1977) 28-10",0,"nein"]
["MRS 10244 Cloud 9 (03.01.2006) - Katheryn Winnick (17.12.1977) 28-17 445.mp4",{"$f":"IF(SUMPRODUCT(--ISNUMBER(SEARCH(Rechnung!H$2:H$31, A1180)))>0,\"X\",\"\")","v":""},"MRS 10244 Cloud 9 (03.01.2006) - Katheryn Winnick (17.12.1977) 28-17",0,"nein"]
["MRS 10265 The L Word Lifeline (05.02.2006) - Kate Moennig (29.12.1977) 28-38 2821.mp4",{"$f":"IF(SUMPRODUCT(--ISNUMBER(SEARCH(Rechnung!H$2:H$31, A1181)))>0,\"X\",\"\")","v":""},"MRS 10265 The L Word Lifeline (05.02.2006) - Kate Moennig (29.12.1977) 28-38",0,"nein"]
["MRS 10269 Spermula (07.07.1976) - Dayle Haddon (26.05.1948) 28-42 2379.mp4",{"$f":"IF(SUMPRODUCT(--ISNUMBER(SEARCH(Rechnung!H$2:H$31, A1182)))>0,\"X\",\"\")","v":""},"MRS 10269 Spermula (07.07.1976) - Dayle Haddon (26.05.1948) 28-42",0,"nein"]
["MRS 10269 Spermula (07.07.1976) - Dayle Haddon (26.05.1948) 28-42 2380.mp4",{"$f":"IF(SUMPRODUCT(--ISNUMBER(SEARCH(Rechnung!H$2:H$31, A1183)))>0,\"X\",\"\")","v":""},"MRS 10269 Spermula (07.07.1976) - Dayle Haddon (26.05.1948) 28-42",0,"nein"]
["MRS 10284 Dune Part Two (29.02.2024) - Florence Pugh (03.01.1996) 28-57 685.mp4",{"$f":"IF(SUMPRODUCT(--ISNUMBER(SEARCH(Rechnung!H$2:H$31, A1184)))>0,\"X\",\"\")","v":"X"},"MRS 10284 Dune Part Two (29.02.2024) - Florence Pugh (03.01.1996) 28-57",1,"nein"]
["MRS 10284 Wildflower (04.06.1996) - Patricia Arquette (08.04.1968) 28-57 3351.mp4",{"$f":"IF(SUMPRODUCT(--ISNUMBER(SEARCH(Rechnung!H$2:H$31, A1185)))>0,\"X\",\"\")","v":""},"MRS 10284 Wildflower (04.06.1996) - Patricia Arquette (08.04.1968) 28-57",0,"nein"]
["MRS 10297 Untamed Heart (12.02.1993) - Marisa Tomei (04.12.1964) 28-70 3227.mp4",{"$f":"IF(SUMPRODUCT(--ISNUMBER(SEARCH(Rechnung!H$2:H$31, A1186)))>0,\"X\",\"\")","v":""},"MRS 10297 Untamed Heart (12.02.1993) - Marisa Tomei (04.12.1964) 28-70",0,"nein"]
["MRS 10297 Untamed Heart (12.02.1993) - Marisa Tomei (04.12.1964) 28-70 3228.mp4",{"$f":"IF(SUMPRODUCT(--ISNUMBER(SEARCH(Rechnung!H$2:H$31, A1187)))>0,\"X\",\"\")","v":""},"MRS 10297 Untamed Heart (12.02.1993) - Marisa Tomei (04.12.1964) 28-70",0,"nein"]
["MRS 10335 Les poupées russes (03.11.2005) - Kelly Reilly (18.07.1977) 28-108 1498.mp4",{"$f":"IF(SUMPRODUCT(--ISNUMBER(SEARCH(Rechnung!H$2:H$31, A1188)))>0,\"X\",\"\")","v":""},"MRS 10335 Les poupées russes (03.11.2005) - Kelly Reilly (18.07.1977) 28-108",0,"nein"]
["MRS 10335 Les poupées russes (03.11.2005) - Kelly Reilly (18.07.1977) 28-108 2222.mp4",{"$f":"IF(SUMPRODUCT(--ISNUMBER(SEARCH(Rechnung!H$2:H$31, A1189)))>0,\"X\",\"\")","v":""},"MRS 10335 Les poupées russes (03.11.2005) - Kelly Reilly (18.07.1977) 28-108",0,"nein"]
["MRS 10335 Les poupées russes (03.11.2005) - Kelly Reilly (18.07.1977) 28-108 2223.mp4",{"$f":"IF(SUMPRODUCT(--ISNUMBER(SEARCH(Rechnung!H$2:H$31, A1190)))>0,\"X\",\"\")","v":""},"MRS 10335 Les poupées russes (03.11.2005) - Kelly Reilly (18.07.1977) 28-108",0,"nein"]
["MRS 10341 Inventing the Abbotts (05.04.1999) - Jennifer Connelly (12.12.1970) 28-114 1228.mp4",{"$f":"IF(SUMPRODUCT(--ISNUMBER(SEARCH(Rechnung!H$2:H$31, A1191)))>0,\"X\",\"\")","v":""},"MRS 10341 Inventing the Abbotts (05.04.1999) - Jennifer Connelly (12.12.1970) 28-114",0,"nein"]
["MRS 10341 Inventing the Abbotts (05.04.1999) - Jennifer Connelly (12.12.1970) 28-114 1229.mp4",{"$f":"IF(SUMPRODUCT(--ISNUMBER(SEARCH(Rechnung!H$2:H$31, A1192)))>0,\"X\",\"\")","v":""},"MRS 10341 Inventing the Abbotts (05.04.1999) - Jennifer Connelly (12.12.1970) 28-114",0,"nein"]
["MRS 10341 Inventing the Abbotts (05.04.1999) - Jennifer Connelly (12.12.1970) 28-114 1230.mp4",{"$f":"IF(SUMPRODUCT(--ISNUMBER(SEARCH(Rechnung!H$2:H$31, A1193)))>0,\"X\",\"\")","v":""},"MRS 10341 Inventing the Abbotts (05.04.1999) - Jennifer Connelly (12.12.1970) 28-114",0,"nein"]
["MRS 10361 Bram Stoker's Dracula (11.02.1993) - Monica Bellucci (30.09.1964) 28-134 661.mp4",{"$f":"IF(SUMPRODUCT(--ISNUMBER(SEARCH(Rechnung!H$2:H$31, A1194)))>0,\"X\",\"\")","v":""},"MRS 10361 Bram Stoker's Dracula (11.02.1993) - Monica Bellucci (30.09.1964) 28-134",0,"nein"]
["MRS 10361 Bram Stoker's Dracula (11.02.1993) - Monica Bellucci (30.09.1964) 28-134 662.mp4",{"$f":"IF(SUMPRODUCT(--ISNUMBER(SEARCH(Rechnung!H$2:H$31, A1195)))>0,\"X\",\"\")","v":""},"MRS 10361 Bram Stoker's Dracula (11.02.1993) - Monica Bellucci (30.09.1964) 28-134",0,"nein"]
["MRS 10367 Into My Heart (05.05.2000) - Claire Forlani (17.12.1971) 28-140 1214.mp4",{"$f":"IF(SUMPRODUCT(--ISNUMBER(SEARCH(Rechnung!H$2:H$31, A1196)))>0,\"X\",\"\")","v":""},"MRS 10367 Into My Heart (05.05.2000) - Claire Forlani (17.12.1971) 28-140",0,"nein"]
["MRS 10390 Catch Me If You Can (30.01.2003) - Amy Adams (20.08.1974) 28-163 414.mp4",{"$f":"IF(SUMPRODUCT(--ISNUMBER(SEARCH(Rechnung!H$2:H$31, A1197)))>0,\"X\",\"\")","v":""},"MRS 10390 Catch Me If You Can (30.01.2003) - Amy Adams (20.08.1974) 28-163",0,"nein"]
["MRS 10404 To Die For (14.12.1995) - Nicole Kidman (20.06.1967) 28-177 3177.mp4",{"$f":"IF(SUMPRODUCT(--ISNUMBER(SEARCH(Rechnung!H$2:H$31, A1198)))>0,\"X\",\"\")","v":""},"MRS 10404 To Die For (14.12.1995) - Nicole Kidman (20.06.1967) 28-177",0,"nein"]
["MRS 10406 Gia (22.09.1998) - Elizabeth Mitchell (27.03.1970) 28-179 1016.mp4",{"$f":"IF(SUMPRODUCT(--ISNUMBER(SEARCH(Rechnung!H$2:H$31, A1199)))>0,\"X\",\"\")","v":""},"MRS 10406 Gia (22.09.1998) - Elizabeth Mitchell (27.03.1970) 28-179",0,"nein"]
["MRS 10406 Gia (22.09.1998) - Elizabeth Mitchell (27.03.1970) 28-179 1017.mp4",{"$f":"IF(SUMPRODUCT(--ISNUMBER(SEARCH(Rechnung!H$2:H$31, A1200)))>0,\"X\",\"\")","v":""},"MRS 10406 Gia (22.09.1998) - Elizabeth Mitchell (27.03.1970) 28-179",0,"nein"]
["MRS 10406 Gia (22.09.1998) - Elizabeth Mitchell (27.03.1970) 28-179 1018.mp4",{"$f":"IF(SUMPRODUCT(--ISNUMBER(SEARCH(Rechnung!H$2:H$31, A1201)))>0,\"X\",\"\")","v":""},"MRS 10406 Gia (22.09.1998) - Elizabeth Mitchell (27.03.1970) 28-179",0,"nein"]
["MRS 10410 Edenquest Pamela Anderson (31.12.1995) - Pamela Anderson (01.07.1967) 28-183 2010.mp4",{"$f":"IF(SUMPRODUCT(--ISNUMBER(SEARCH(Rechnung!H$2:H$31, A1202)))>0,\"X\",\"\")","v":""},"MRS 10410 Edenquest Pamela Anderson (31.12.1995) - Pamela Anderson (01.07.1967) 28-183",0,"nein"]
["MRS 10419 Three Way (07.09.2004) - Ali Larter (28.02.1976) 28-192 10.mp4",{"$f":"IF(SUMPRODUCT(--ISNUMBER(SEARCH(Rechnung!H$2:H$31, A1203)))>0,\"X\",\"\")","v":""},"MRS 10419 Three Way (07.09.2004) - Ali Larter (28.02.1976) 28-192",0,"nein"]
["MRS 10419 Three Way (07.09.2004) - Ali Larter (28.02.1976) 28-192 11.mp4",{"$f":"IF(SUMPRODUCT(--ISNUMBER(SEARCH(Rechnung!H$2:H$31, A1204)))>0,\"X\",\"\")","v":""},"MRS 10419 Three Way (07.09.2004) - Ali Larter (28.02.1976) 28-192",0,"nein"]
["MRS 10422 Fifteen-Love Episode #1.2 (21.07.2023) - Jess Darrow (07.01.1995) 28-195 446.mp4",{"$f":"IF(SUMPRODUCT(--ISNUMBER(SEARCH(Rechnung!H$2:H$31, A1205)))>0,\"X\",\"\")","v":"X"},"MRS 10422 Fifteen-Love Episode #1.2 (21.07.2023) - Jess Darrow (07.01.1995) 28-195",0,"ja"]
["MRS 10422 Fifteen-Love Episode #1.5 (21.07.2023) - Jess Darrow (07.01.1995) 28-195 447.mp4",{"$f":"IF(SUMPRODUCT(--ISNUMBER(SEARCH(Rechnung!H$2:H$31, A1206)))>0,\"X\",\"\")","v":"X"},"MRS 10422 Fifteen-Love Episode #1.5 (21.07.2023) - Jess Darrow (07.01.1995) 28-195",0,"ja"]
["MRS 10422 Fifteen-Love Episode #1.6 (21.07.2023) - Jess Darrow (07.01.1995) 28-195 448.mp4",{"$f":"IF(SUMPRODUCT(--ISNUMBER(SEARCH(Rechnung!H$2:H$31, A1207)))>0,\"X\",\"\")","v":"X"},"MRS 10422 Fifteen-Love Episode #1.6 (21.07.2023) - Jess Darrow (07.01.1995) 28-195",0,"ja"]
["MRS 10441 Mortelle randonnée (27.01.1984) - Isabelle Adjani (27.06.1955) 28-214 353.mp4",{"$f":"IF(SUMPRODUCT(--ISNUMBER(SEARCH(Rechnung!H$2:H$31, A1208)))>0,\"X\",\"\")","v":""},"MRS 10441 Mortelle randonnée (27.01.1984) - Isabelle Adjani (27.06.1955) 28-214",0,"nein"]
["MRS 10441 Mortelle randonnée (27.01.1984) - Isabelle Adjani (27.06.1955) 28-214 354.mp4",{"$f":"IF(SUMPRODUCT(--ISNUMBER(SEARCH(Rechnung!H$2:H$31, A1209)))>0,\"X\",\"\")","v":""},"MRS 10441 Mortelle randonnée (27.01.1984) - Isabelle Adjani (27.06.1955) 28-214",0,"nein"]
["MRS 10448 Joan Episode #1.3 (29.09.2024) - Sophie Turner (21.02.1996) 28-221 1298.mp4",{"$f":"IF(SUMPRODUCT(--ISNUMBER(SEARCH(Rechnung!H$2:H$31, A1210)))>0,\"X\",\"\")","v":"X"},"MRS 10448 Joan Episode #1.3 (29.09.2024) - Sophie Turner (21.02.1996) 28-221",1,"nein"]
["MRS 10455 Eternal Sunshine of the Spotless Mind (20.05.2004) - Kate Winslet (05.10.1975) 28-228 741.mp4",{"$f":"IF(SUMPRODUCT(--ISNUMBER(SEARCH(Rechnung!H$2:H$31, A1211)))>0,\"X\",\"\")","v":""},"MRS 10455 Eternal Sunshine of the Spotless Mind (20.05.2004) - Kate Winslet (05.10.1975) 28-228",0,"nein"]
["MRS 10476 Jaded (04.05.2000) - Carla Gugino (29.08.1971) 28-249 1260.mp4",{"$f":"IF(SUMPRODUCT(--ISNUMBER(SEARCH(Rechnung!H$2:H$31, A1212)))>0,\"X\",\"\")","v":""},"MRS 10476 Jaded (04.05.2000) - Carla Gugino (29.08.1971) 28-249",0,"nein"]
["MRS 10476 Jaded (04.05.2000) - Carla Gugino (29.08.1971) 28-249 1261.mp4",{"$f":"IF(SUMPRODUCT(--ISNUMBER(SEARCH(Rechnung!H$2:H$31, A1213)))>0,\"X\",\"\")","v":""},"MRS 10476 Jaded (04.05.2000) - Carla Gugino (29.08.1971) 28-249",0,"nein"]
["MRS 10476 Jaded (04.05.2000) - Carla Gugino (29.08.1971) 28-249 1262.mp4",{"$f":"IF(SUMPRODUCT(--ISNUMBER(SEARCH(Rechnung!H$2:H$31, A1214)))>0,\"X\",\"\")","v":""},"MRS 10476 Jaded (04.05.2000) - Carla Gugino (29.08.1971) 28-249",0,"nein"]
["MRS 10476 Jaded (04.05.2000) - Carla Gugino (29.08.1971) 28-249 1263.mp4",{"$f":"IF(SUMPRODUCT(--ISNUMBER(SEARCH(Rechnung!H$2:H$31, A1215)))>0,\"X\",\"\")","v":""},"MRS 10476 Jaded (04.05.2000) - Carla Gugino (29.08.1971) 28-249",0,"nein"]
["MRS 10479 Monster (15.04.2004) - Charlize Theron (07.08.1975) 28-252 1743.mp4",{"$f":"IF(SUMPRODUCT(--ISNUMBER(SEARCH(Rechnung!H$2:H$31, A1216)))>0,\"X\",\"\")","v":""},"MRS 10479 Monster (15.04.2004) - Charlize Theron (07.08.1975) 28-252",0,"nein"]
["MRS 10479 Monster (15.04.2004) - Charlize Theron (07.08.1975) 28-252 1744.mp4",{"$f":"IF(SUMPRODUCT(--ISNUMBER(SEARCH(Rechnung!H$2:H$31, A1217)))>0,\"X\",\"\")","v":""},"MRS 10479 Monster (15.04.2004) - Charlize Theron (07.08.1975) 28-252",0,"nein"]
["MRS 10494 Beyond Borders (26.02.2004) - Angelina Jolie (04.06.1975) 28-267 243.mp4",{"$f":"IF(SUMPRODUCT(--ISNUMBER(SEARCH(Rechnung!H$2:H$31, A1218)))>0,\"X\",\"\")","v":""},"MRS 10494 Beyond Borders (26.02.2004) - Angelina Jolie (04.06.1975) 28-267",0,"nein"]
["MRS 10508 Resident Evil Apocalypse (23.09.2004) - Milla Jovovich (17.12.1975) 28-281 645.mp4",{"$f":"IF(SUMPRODUCT(--ISNUMBER(SEARCH(Rechnung!H$2:H$31, A1219)))>0,\"X\",\"\")","v":""},{"$f":"LEFT(A1219, LEN(A1219) - LEN(MID(A1219, FIND(\"~\", SUBSTITUTE(A1219,\" \",\"~\", LEN(A1219)-LEN(SUBSTITUTE(A1219,\" \",\"\")))), LEN(A1219))))","v":"MRS 10508 Resident Evil Apocalypse (23.09.2004) - Milla Jovovich (17.12.1975) 28-281"},0,{"$f":"IF(AND(B1219=\"X\",D1219=0),\"ja\",\"nein\")","v":"nein"}]
["MRS 10518 L'été meurtrier (13.04.1984) - Isabelle Adjani (27.06.1955) 28-291 362.mp4",{"$f":"IF(SUMPRODUCT(--ISNUMBER(SEARCH(Rechnung!H$2:H$31, A1220)))>0,\"X\",\"\")","v":""},"MRS 10518 L'été meurtrier (13.04.1984) - Isabelle Adjani (27.06.1955) 28-291",0,"nein"]
["MRS 10518 L'été meurtrier (13.04.1984) - Isabelle Adjani (27.06.1955) 28-291 363.mp4",{"$f":"IF(SUMPRODUCT(--ISNUMBER(SEARCH(Rechnung!H$2:H$31, A1221)))>0,\"X\",\"\")","v":""},"MRS 10518 L'été meurtrier (13.04.1984) - Isabelle Adjani (27.06.1955) 28-291",0,"nein"]
["MRS 10518 L'été meurtrier (13.04.1984) - Isabelle Adjani (27.06.1955) 28-291 364.mp4",{"$f":"IF(SUMPRODUCT(--ISNUMBER(SEARCH(Rechnung!H$2:H$31, A1222)))>0,\"X\",\"\")","v":""},"MRS 10518 L'été meurtrier (13.04.1984) - Isabelle Adjani (27.06.1955) 28-291",0,"nein"]
["MRS 10518 L'été meurtrier (13.04.1984) - Isabelle Adjani (27.06.1955) 28-291 365.mp4",{"$f":"IF(SUMPRODUCT(--ISNUMBER(SEARCH(Rechnung!H$2:H$31, A1223)))>0,\"X\",\"\")","v":""},"MRS 10518 L'été meurtrier (13.04.1984) - Isabelle Adjani (27.06.1955) 28-291",0,"nein"]
["MRS 10518 L'été meurtrier (13.04.1984) - Isabelle Adjani (27.06.1955) 28-291 366.mp4",{"$f":"IF(SUMPRODUCT(--ISNUMBER(SEARCH(Rechnung!H$2:H$31, A1224)))>0,\"X\",\"\")","v":""},"MRS 10518 L'été meurtrier (13.04.1984) - Isabelle Adjani (27.06.1955) 28-291",0,"nein"]
["MRS 10518 L'été meurtrier (13.04.1984) - Isabelle Adjani (27.06.1955) 28-291 367.mp4",{"$f":"IF(SUMPRODUCT(--ISNUMBER(SEARCH(Rechnung!H$2:H$31, A1225)))>0,\"X\",\"\")","v":""},"MRS 10518 L'été meurtrier (13.04.1984) - Isabelle Adjani (27.06.1955) 28-291",0,"nein"]
["MRS 10518 L'été meurtrier (13.04.1984) - Isabelle Adjani (27.06.1955) 28-291 368.mp4",{"$f":"IF(SUMPRODUCT(--ISNUMBER(SEARCH(Rechnung!H$2:H$31, A1226)))>0,\"X\",\"\")","v":""},"MRS 10518 L'été meurtrier (13.04.1984) - Isabelle Adjani (27.06.1955) 28-291",0,"nein"]
["MRS 10518 L'été meurtrier (13.04.1984) - Isabelle Adjani (27.06.1955) 28-291 369.mp4",{"$f":"IF(SUMPRODUCT(--ISNUMBER(SEARCH(Rechnung!H$2:H$31, A1227)))>0,\"X\",\"\")","v":""},"MRS 10518 L'été meurtrier (13.04.1984) - Isabelle Adjani (27.06.1955) 28-291",0,"nein"]
["MRS 10518 L'été meurtrier (13.04.1984) - Isabelle Adjani (27.06.1955) 28-291 370.mp4",{"$f":"IF(SUMPRODUCT(--ISNUMBER(SEARCH(Rechnung!H$2:H$31, A1228)))>0,\"X\",\"\")","v":""},"MRS 10518 L'été meurtrier (13.04.1984) - Isabelle Adjani (27.06.1955) 28-291",0,"nein"]
["MRS 10536 Taking Lives (08.04.2004) - Angelina Jolie (04.06.1975) 28-309 2487.mp4",{"$f":"IF(SUMPRODUCT(--ISNUMBER(SEARCH(Rechnung!H$2:H$31, A1229)))>0,\"X\",\"\")","v":""},"MRS 10536 Taking Lives (08.04.2004) - Angelina Jolie (04.06.1975) 28-309",0,"nein"]
["MRS 10538 The Baby of Mâcon (11.11.1993) - Julia Ormond (04.01.1965) 28-311 550.mp4",{"$f":"IF(SUMPRODUCT(--ISNUMBER(SEARCH(Rechnung!H$2:H$31, A1230)))>0,\"X\",\"\")","v":""},"MRS 10538 The Baby of Mâcon (11.11.1993) - Julia Ormond (04.01.1965) 28-311",0,"nein"]
["MRS 10538 The Baby of Mâcon (11.11.1993) - Julia Ormond (04.01.1965) 28-311 551.mp4",{"$f":"IF(SUMPRODUCT(--ISNUMBER(SEARCH(Rechnung!H$2:H$31, A1231)))>0,\"X\",\"\")","v":""},"MRS 10538 The Baby of Mâcon (11.11.1993) - Julia Ormond (04.01.1965) 28-311",0,"nein"]
["MRS 10538 The Baby of Mâcon (11.11.1993) - Julia Ormond (04.01.1965) 28-311 552.mp4",{"$f":"IF(SUMPRODUCT(--ISNUMBER(SEARCH(Rechnung!H$2:H$31, A1232)))>0,\"X\",\"\")","v":""},"MRS 10538 The Baby of Mâcon (11.11.1993) - Julia Ormond (04.01.1965) 28-311",0,"nein"]
["MRS 10548 Kalifornia (25.11.1993) - Michelle Forbes (08.01.1965) 28-321 617.mp4",{"$f":"IF(SUMPRODUCT(--ISNUMBER(SEARCH(Rechnung!H$2:H$31, A1233)))>0,\"X\",\"\")","v":""},"MRS 10548 Kalifornia (25.11.1993) - Michelle Forbes (08.01.1965) 28-321",0,"nein"]
["MRS 10548 Kalifornia (25.11.1993) - Michelle Forbes (08.01.1965) 28-321 618.mp4",{"$f":"IF(SUMPRODUCT(--ISNUMBER(SEARCH(Rechnung!H$2:H$31, A1234)))>0,\"X\",\"\")","v":""},"MRS 10548 Kalifornia (25.11.1993) - Michelle Forbes (08.01.1965) 28-321",0,"nein"]
["MRS 10549 Naked Souls (18.05.1996) - Pamela Anderson (01.07.1967) 28-322 1819.mp4",{"$f":"IF(SUMPRODUCT(--ISNUMBER(SEARCH(Rechnung!H$2:H$31, A1235)))>0,\"X\",\"\")","v":""},"MRS 10549 Naked Souls (18.05.1996) - Pamela Anderson (01.07.1967) 28-322",0,"nein"]
["MRS 10549 Naked Souls (18.05.1996) - Pamela Anderson (01.07.1967) 28-322 1820.mp4",{"$f":"IF(SUMPRODUCT(--ISNUMBER(SEARCH(Rechnung!H$2:H$31, A1236)))>0,\"X\",\"\")","v":""},"MRS 10549 Naked Souls (18.05.1996) - Pamela Anderson (01.07.1967) 28-322",0,"nein"]
["MRS 10549 The Center of the World (18.05.2001) - Molly Parker (30.06.1972) 28-322 2590.mp4",{"$f":"IF(SUMPRODUCT(--ISNUMBER(SEARCH(Rechnung!H$2:H$31, A1237)))>0,\"X\",\"\")","v":""},"MRS 10549 The Center of the World (18.05.2001) - Molly Parker (30.06.1972) 28-322",0,"nein"]
["MRS 10549 The Center of the World (18.05.2001) - Molly Parker (30.06.1972) 28-322 2591.mp4",{"$f":"IF(SUMPRODUCT(--ISNUMBER(SEARCH(Rechnung!H$2:H$31, A1238)))>0,\"X\",\"\")","v":""},"MRS 10549 The Center of the World (18.05.2001) - Molly Parker (30.06.1972) 28-322",0,"nein"]
["MRS 10549 The Center of the World (18.05.2001) - Molly Parker (30.06.1972) 28-322 2592.mp4",{"$f":"IF(SUMPRODUCT(--ISNUMBER(SEARCH(Rechnung!H$2:H$31, A1239)))>0,\"X\",\"\")","v":""},"MRS 10549 The Center of the World (18.05.2001) - Molly Parker (30.06.1972) 28-322",0,"nein"]
["MRS 10549 The Center of the World (18.05.2001) - Molly Parker (30.06.1972) 28-322 2593.mp4",{"$f":"IF(SUMPRODUCT(--ISNUMBER(SEARCH(Rechnung!H$2:H$31, A1240)))>0,\"X\",\"\")","v":""},"MRS 10549 The Center of the World (18.05.2001) - Molly Parker (30.06.1972) 28-322",0,"nein"]
["MRS 10563 Cruel Intentions 2 (22.07.2003) - Amy Adams (20.08.1974) 28-336 472.mp4",{"$f":"IF(SUMPRODUCT(--ISNUMBER(SEARCH(Rechnung!H$2:H$31, A1241)))>0,\"X\",\"\")","v":""},"MRS 10563 Cruel Intentions 2 (22.07.2003) - Amy Adams (20.08.1974) 28-336",0,"nein"]
["MRS 10574 Stars at Noon (05.10.2023) - Margaret Qualley (23.10.1994) 28-347 2384.mp4",{"$f":"IF(SUMPRODUCT(--ISNUMBER(SEARCH(Rechnung!H$2:H$31, A1242)))>0,\"X\",\"\")","v":""},"MRS 10574 Stars at Noon (05.10.2023) - Margaret Qualley (23.10.1994) 28-347",1,"nein"]
["MRS 10574 Stars at Noon (05.10.2023) - Margaret Qualley (23.10.1994) 28-347 2385.mp4",{"$f":"IF(SUMPRODUCT(--ISNUMBER(SEARCH(Rechnung!H$2:H$31, A1243)))>0,\"X\",\"\")","v":""},"MRS 10574 Stars at Noon (05.10.2023) - Margaret Qualley (23.10.1994) 28-347",1,"nein"]
["MRS 10574 Stars at Noon (05.10.2023) - Margaret Qualley (23.10.1994) 28-347 2386.mp4",{"$f":"IF(SUMPRODUCT(--ISNUMBER(SEARCH(Rechnung!H$2:H$31, A1244)))>0,\"X\",\"\")","v":""},"MRS 10574 Stars at Noon (05.10.2023) - Margaret Qualley (23.10.1994) 28-347",1,"nein"]
["MRS 10574 Stars at Noon (05.10.2023) - Margaret Qualley (23.10.1994) 28-347 2387.mp4",{"$f":"IF(SUMPRODUCT(--ISNUMBER(SEARCH(Rechnung!H$2:H$31, A1245)))>0,\"X\",\"\")","v":""},"MRS 10574 Stars at Noon (05.10.2023) - Margaret Qualley (23.10.1994) 28-347",1,"nein"]
["MRS 10574 Stars at Noon (05.10.2023) - Margaret Qualley (23.10.1994) 28-347 2388.mp4",{"$f":"IF(SUMPRODUCT(--ISNUMBER(SEARCH(Rechnung!H$2:H$31, A1246)))>0,\"X\",\"\")","v":""},"MRS 10574 Stars at Noon (05.10.2023) - Margaret Qualley (23.10.1994) 28-347",1,"nein"]
["MRS 10574 Stars at Noon (05.10.2023) - Margaret Qualley (23.10.1994) 28-347 2389.mp4",{"$f":"IF(SUMPRODUCT(--ISNUMBER(SEARCH(Rechnung!H$2:H$31, A1247)))>0,\"X\",\"\")","v":""},"MRS 10574 Stars at Noon (05.10.2023) - Margaret Qualley (23.10.1994) 28-347",1,"nein"]
["MRS 10574 Stars at Noon (05.10.2023) - Margaret Qualley (23.10.1994) 28-347 2390.mp4",{"$f":"IF(SUMPRODUCT(--ISNUMBER(SEARCH(Rechnung!H$2:H$31, A1248)))>0,\"X\",\"\")","v":""},"MRS 10574 Stars at Noon (05.10.2023) - Margaret Qualley (23.10.1994) 28-347",1,"nein"]
["MRS 10574 Stars at Noon (05.10.2023) - Margaret Qualley (23.10.1994) 28-347 2391.mp4",{"$f":"IF(SUMPRODUCT(--ISNUMBER(SEARCH(Rechnung!H$2:H$31, A1249)))>0,\"X\",\"\")","v":""},"MRS 10574 Stars at Noon (05.10.2023) - Margaret Qualley (23.10.1994) 28-347",1,"nein"]
["MRS 10576 Autumn in New York (12.10.2000) - Winona Ryder (29.10.1971) 28-349 219.mp4",{"$f":"IF(SUMPRODUCT(--ISNUMBER(SEARCH(Rechnung!H$2:H$31, A1250)))>0,\"X\",\"\")","v":""},"MRS 10576 Autumn in New York (12.10.2000) - Winona Ryder (29.10.1971) 28-349",0,"nein"]
["MRS 10576 Autumn in New York (12.10.2000) - Winona Ryder (29.10.1971) 28-349 220.mp4",{"$f":"IF(SUMPRODUCT(--ISNUMBER(SEARCH(Rechnung!H$2:H$31, A1251)))>0,\"X\",\"\")","v":""},"MRS 10576 Autumn in New York (12.10.2000) - Winona Ryder (29.10.1971) 28-349",0,"nein"]
["MRS 10594 Lost Highway (10.04.1997) - Patricia Arquette (08.04.1968) 29-2 1537.mp4",{"$f":"IF(SUMPRODUCT(--ISNUMBER(SEARCH(Rechnung!H$2:H$31, A1252)))>0,\"X\",\"\")","v":""},"MRS 10594 Lost Highway (10.04.1997) - Patricia Arquette (08.04.1968) 29-2",0,"nein"]
["MRS 10594 Lost Highway (10.04.1997) - Patricia Arquette (08.04.1968) 29-2 1538.mp4",{"$f":"IF(SUMPRODUCT(--ISNUMBER(SEARCH(Rechnung!H$2:H$31, A1253)))>0,\"X\",\"\")","v":""},"MRS 10594 Lost Highway (10.04.1997) - Patricia Arquette (08.04.1968) 29-2",0,"nein"]
["MRS 10594 Lost Highway (10.04.1997) - Patricia Arquette (08.04.1968) 29-2 1539.mp4",{"$f":"IF(SUMPRODUCT(--ISNUMBER(SEARCH(Rechnung!H$2:H$31, A1254)))>0,\"X\",\"\")","v":""},"MRS 10594 Lost Highway (10.04.1997) - Patricia Arquette (08.04.1968) 29-2",0,"nein"]
["MRS 10594 Lost Highway (10.04.1997) - Patricia Arquette (08.04.1968) 29-2 1540.mp4",{"$f":"IF(SUMPRODUCT(--ISNUMBER(SEARCH(Rechnung!H$2:H$31, A1255)))>0,\"X\",\"\")","v":""},"MRS 10594 Lost Highway (10.04.1997) - Patricia Arquette (08.04.1968) 29-2",0,"nein"]
["MRS 10594 Lost Highway (10.04.1997) - Patricia Arquette (08.04.1968) 29-2 1541.mp4",{"$f":"IF(SUMPRODUCT(--ISNUMBER(SEARCH(Rechnung!H$2:H$31, A1256)))>0,\"X\",\"\")","v":""},"MRS 10594 Lost Highway (10.04.1997) - Patricia Arquette (08.04.1968) 29-2",0,"nein"]
["MRS 10599 We Live in Time (09.01.2025) - Florence Pugh (03.01.1996) 29-6 3308.mp4",{"$f":"IF(SUMPRODUCT(--ISNUMBER(SEARCH(Rechnung!H$2:H$31, A1257)))>0,\"X\",\"\")","v":"X"},"MRS 10599 We Live in Time (09.01.2025) - Florence Pugh (03.01.1996) 29-6",1,"nein"]
["MRS 10599 We Live in Time (09.01.2025) - Florence Pugh (03.01.1996) 29-6 3309.mp4",{"$f":"IF(SUMPRODUCT(--ISNUMBER(SEARCH(Rechnung!H$2:H$31, A1258)))>0,\"X\",\"\")","v":"X"},"MRS 10599 We Live in Time (09.01.2025) - Florence Pugh (03.01.1996) 29-6",1,"nein"]
["MRS 10599 We Live in Time (09.01.2025) - Florence Pugh (03.01.1996) 29-6 3310.mp4",{"$f":"IF(SUMPRODUCT(--ISNUMBER(SEARCH(Rechnung!H$2:H$31, A1259)))>0,\"X\",\"\")","v":"X"},"MRS 10599 We Live in Time (09.01.2025) - Florence Pugh (03.01.1996) 29-6",1,"nein"]
["MRS 10615 The Tailor of Panama (26.04.2001) - Catherine McCormack (03.04.1972) 29-23 3059.mp4",{"$f":"IF(SUMPRODUCT(--ISNUMBER(SEARCH(Rechnung!H$2:H$31, A1260)))>0,\"X\",\"\")","v":""},"MRS 10615 The Tailor of Panama (26.04.2001) - Catherine McCormack (03.04.1972) 29-23",0,"nein"]
["MRS 10618 I'll Do Anything (04.02.1994) - Joely Richardson (09.01.1965) 29-26 510.mp4",{"$f":"IF(SUMPRODUCT(--ISNUMBER(SEARCH(Rechnung!H$2:H$31, A1261)))>0,\"X\",\"\")","v":""},"MRS 10618 I'll Do Anything (04.02.1994) - Joely Richardson (09.01.1965) 29-26",0,"nein"]
["MRS 10631 Suspicious River (08.08.2001) - Molly Parker (30.06.1972) 29-39 2444.mp4",{"$f":"IF(SUMPRODUCT(--ISNUMBER(SEARCH(Rechnung!H$2:H$31, A1262)))>0,\"X\",\"\")","v":""},"MRS 10631 Suspicious River (08.08.2001) - Molly Parker (30.06.1972) 29-39",0,"nein"]
["MRS 10631 Suspicious River (08.08.2001) - Molly Parker (30.06.1972) 29-39 2445.mp4",{"$f":"IF(SUMPRODUCT(--ISNUMBER(SEARCH(Rechnung!H$2:H$31, A1263)))>0,\"X\",\"\")","v":""},"MRS 10631 Suspicious River (08.08.2001) - Molly Parker (30.06.1972) 29-39",0,"nein"]
["MRS 10631 Suspicious River (08.08.2001) - Molly Parker (30.06.1972) 29-39 2446.mp4",{"$f":"IF(SUMPRODUCT(--ISNUMBER(SEARCH(Rechnung!H$2:H$31, A1264)))>0,\"X\",\"\")","v":""},"MRS 10631 Suspicious River (08.08.2001) - Molly Parker (30.06.1972) 29-39",0,"nein"]
["MRS 10671 Shadow of the Vampire (21.06.2001) - Catherine McCormack (03.04.1972) 29-79 2287.mp4",{"$f":"IF(SUMPRODUCT(--ISNUMBER(SEARCH(Rechnung!H$2:H$31, A1265)))>0,\"X\",\"\")","v":""},"MRS 10671 Shadow of the Vampire (21.06.2001) - Catherine McCormack (03.04.1972) 29-79",0,"nein"]
["MRS 10678 Bleachers Tiny Moves (17.01.2024) - Margaret Qualley (23.10.1994) 29-86 3162.mp4",{"$f":"IF(SUMPRODUCT(--ISNUMBER(SEARCH(Rechnung!H$2:H$31, A1266)))>0,\"X\",\"\")","v":""},"MRS 10678 Bleachers Tiny Moves (17.01.2024) - Margaret Qualley (23.10.1994) 29-86",1,"nein"]
["MRS 10695 Waking the Dead (24.03.2000) - Jennifer Connelly (12.12.1970) 29-102 3289.mp4",{"$f":"IF(SUMPRODUCT(--ISNUMBER(SEARCH(Rechnung!H$2:H$31, A1267)))>0,\"X\",\"\")","v":""},"MRS 10695 Waking the Dead (24.03.2000) - Jennifer Connelly (12.12.1970) 29-102",0,"nein"]
["MRS 10695 Waking the Dead (24.03.2000) - Jennifer Connelly (12.12.1970) 29-102 3290.mp4",{"$f":"IF(SUMPRODUCT(--ISNUMBER(SEARCH(Rechnung!H$2:H$31, A1268)))>0,\"X\",\"\")","v":""},"MRS 10695 Waking the Dead (24.03.2000) - Jennifer Connelly (12.12.1970) 29-102",0,"nein"]
["MRS 10697 Madame Claude (08.09.1977) - Dayle Haddon (26.05.1948) 29-105 1610.mp4",{"$f":"IF(SUMPRODUCT(--ISNUMBER(SEARCH(Rechnung!H$2:H$31, A1269)))>0,\"X\",\"\")","v":""},"MRS 10697 Madame Claude (08.09.1977) - Dayle Haddon (26.05.1948) 29-105",0,"nein"]
["MRS 10697 Madame Claude (08.09.1977) - Dayle Haddon (26.05.1948) 29-105 1611.mp4",{"$f":"IF(SUMPRODUCT(--ISNUMBER(SEARCH(Rechnung!H$2:H$31, A1270)))>0,\"X\",\"\")","v":""},"MRS 10697 Madame Claude (08.09.1977) - Dayle Haddon (26.05.1948) 29-105",0,"nein"]
["MRS 10697 Madame Claude (08.09.1977) - Dayle Haddon (26.05.1948) 29-105 1612.mp4",{"$f":"IF(SUMPRODUCT(--ISNUMBER(SEARCH(Rechnung!H$2:H$31, A1271)))>0,\"X\",\"\")","v":""},"MRS 10697 Madame Claude (08.09.1977) - Dayle Haddon (26.05.1948) 29-105",0,"nein"]
["MRS 10697 Madame Claude (08.09.1977) - Dayle Haddon (26.05.1948) 29-105 1613.mp4",{"$f":"IF(SUMPRODUCT(--ISNUMBER(SEARCH(Rechnung!H$2:H$31, A1272)))>0,\"X\",\"\")","v":""},"MRS 10697 Madame Claude (08.09.1977) - Dayle Haddon (26.05.1948) 29-105",0,"nein"]
["MRS 10697 Madame Claude (08.09.1977) - Dayle Haddon (26.05.1948) 29-105 1614.mp4",{"$f":"IF(SUMPRODUCT(--ISNUMBER(SEARCH(Rechnung!H$2:H$31, A1273)))>0,\"X\",\"\")","v":""},"MRS 10697 Madame Claude (08.09.1977) - Dayle Haddon (26.05.1948) 29-105",0,"nein"]
["MRS 10708 Barb Wire (24.10.1996) - Pamela Anderson (01.07.1967) 29-115 228.mp4",{"$f":"IF(SUMPRODUCT(--ISNUMBER(SEARCH(Rechnung!H$2:H$31, A1274)))>0,\"X\",\"\")","v":""},"MRS 10708 Barb Wire (24.10.1996) - Pamela Anderson (01.07.1967) 29-115",0,"nein"]
["MRS 10708 Barb Wire (24.10.1996) - Pamela Anderson (01.07.1967) 29-115 229.mp4",{"$f":"IF(SUMPRODUCT(--ISNUMBER(SEARCH(Rechnung!H$2:H$31, A1275)))>0,\"X\",\"\")","v":""},"MRS 10708 Barb Wire (24.10.1996) - Pamela Anderson (01.07.1967) 29-115",0,"nein"]
["MRS 10708 Barb Wire (24.10.1996) - Pamela Anderson (01.07.1967) 29-115 230.mp4",{"$f":"IF(SUMPRODUCT(--ISNUMBER(SEARCH(Rechnung!H$2:H$31, A1276)))>0,\"X\",\"\")","v":""},"MRS 10708 Barb Wire (24.10.1996) - Pamela Anderson (01.07.1967) 29-115",0,"nein"]
["MRS 10708 Barb Wire (24.10.1996) - Pamela Anderson (01.07.1967) 29-115 231.mp4",{"$f":"IF(SUMPRODUCT(--ISNUMBER(SEARCH(Rechnung!H$2:H$31, A1277)))>0,\"X\",\"\")","v":""},"MRS 10708 Barb Wire (24.10.1996) - Pamela Anderson (01.07.1967) 29-115",0,"nein"]
["MRS 10708 Barb Wire (24.10.1996) - Pamela Anderson (01.07.1967) 29-115 232.mp4",{"$f":"IF(SUMPRODUCT(--ISNUMBER(SEARCH(Rechnung!H$2:H$31, A1278)))>0,\"X\",\"\")","v":""},"MRS 10708 Barb Wire (24.10.1996) - Pamela Anderson (01.07.1967) 29-115",0,"nein"]
["MRS 10723 An American Werewolf in London (30.04.1982) - Jenny Agutter (20.12.1952) 29-131 156.mp4",{"$f":"IF(SUMPRODUCT(--ISNUMBER(SEARCH(Rechnung!H$2:H$31, A1279)))>0,\"X\",\"\")","v":""},"MRS 10723 An American Werewolf in London (30.04.1982) - Jenny Agutter (20.12.1952) 29-131",0,"nein"]
["MRS 10728 Drive-Away Dolls (07.03.2024) - Margaret Qualley (23.10.1994) 29-136 673.mp4",{"$f":"IF(SUMPRODUCT(--ISNUMBER(SEARCH(Rechnung!H$2:H$31, A1280)))>0,\"X\",\"\")","v":""},"MRS 10728 Drive-Away Dolls (07.03.2024) - Margaret Qualley (23.10.1994) 29-136",1,"nein"]
["MRS 10728 Drive-Away Dolls (07.03.2024) - Margaret Qualley (23.10.1994) 29-136 674.mp4",{"$f":"IF(SUMPRODUCT(--ISNUMBER(SEARCH(Rechnung!H$2:H$31, A1281)))>0,\"X\",\"\")","v":""},"MRS 10728 Drive-Away Dolls (07.03.2024) - Margaret Qualley (23.10.1994) 29-136",1,"nein"]
["MRS 10728 Drive-Away Dolls (07.03.2024) - Margaret Qualley (23.10.1994) 29-136 675.mp4",{"$f":"IF(SUMPRODUCT(--ISNUMBER(SEARCH(Rechnung!H$2:H$31, A1282)))>0,\"X\",\"\")","v":""},"MRS 10728 Drive-Away Dolls (07.03.2024) - Margaret Qualley (23.10.1994) 29-136",1,"nein"]
["MRS 10739 Vanilla Sky (24.01.2002) - Cameron Diaz (30.08.1972) 29-147 3236.mp4",{"$f":"IF(SUMPRODUCT(--ISNUMBER(SEARCH(Rechnung!H$2:H$31, A1283)))>0,\"X\",\"\")","v":""},{"$f":"LEFT(A1283, LEN(A1283) - LEN(MID(A1283, FIND(\"~\", SUBSTITUTE(A1283,\" \",\"~\", LEN(A1283)-LEN(SUBSTITUTE(A1283,\" \",\"\")))), LEN(A1283))))","v":"MRS 10739 Vanilla Sky (24.01.2002) - Cameron Diaz (30.08.1972) 29-147"},0,{"$f":"IF(AND(B1283=\"X\",D1283=0),\"ja\",\"nein\")","v":"nein"}]
["MRS 10740 Hacks Better Late (15.10.2024) - Hannah Einbinder (21.05.1995) 29-147 321.mp4",{"$f":"IF(SUMPRODUCT(--ISNUMBER(SEARCH(Rechnung!H$2:H$31, A1284)))>0,\"X\",\"\")","v":"X"},"MRS 10740 Hacks Better Late (15.10.2024) - Hannah Einbinder (21.05.1995) 29-147",0,"ja"]
["MRS 10740 Hacks Par for the Course (15.10.2024) - Hannah Einbinder (21.05.1995) 29-147 323.mp4",{"$f":"IF(SUMPRODUCT(--ISNUMBER(SEARCH(Rechnung!H$2:H$31, A1285)))>0,\"X\",\"\")","v":"X"},"MRS 10740 Hacks Par for the Course (15.10.2024) - Hannah Einbinder (21.05.1995) 29-147",0,"ja"]
["MRS 10756 The Doors (02.05.1991) - Meg Ryan (19.11.1961) 29-164 2658.mp4",{"$f":"IF(SUMPRODUCT(--ISNUMBER(SEARCH(Rechnung!H$2:H$31, A1286)))>0,\"X\",\"\")","v":""},"MRS 10756 The Doors (02.05.1991) - Meg Ryan (19.11.1961) 29-164",0,"nein"]
["MRS 10760 Elizabeth (29.10.1998) - Cate Blanchett (14.05.1969) 29-168 707.mp4",{"$f":"IF(SUMPRODUCT(--ISNUMBER(SEARCH(Rechnung!H$2:H$31, A1287)))>0,\"X\",\"\")","v":""},"MRS 10760 Elizabeth (29.10.1998) - Cate Blanchett (14.05.1969) 29-168",0,"nein"]
["MRS 10769 City of Industry (28.05.1998) - Lucy Liu (02.12.1968) 29-177 437.mp4",{"$f":"IF(SUMPRODUCT(--ISNUMBER(SEARCH(Rechnung!H$2:H$31, A1288)))>0,\"X\",\"\")","v":""},"MRS 10769 City of Industry (28.05.1998) - Lucy Liu (02.12.1968) 29-177",0,"nein"]
["MRS 10769 City of Industry (28.05.1998) - Lucy Liu (02.12.1968) 29-177 438.mp4",{"$f":"IF(SUMPRODUCT(--ISNUMBER(SEARCH(Rechnung!H$2:H$31, A1289)))>0,\"X\",\"\")","v":""},"MRS 10769 City of Industry (28.05.1998) - Lucy Liu (02.12.1968) 29-177",0,"nein"]
["MRS 10793 The Postman (12.02.1998) - Olivia Williams (26.07.1968) 29-201 2957.mp4",{"$f":"IF(SUMPRODUCT(--ISNUMBER(SEARCH(Rechnung!H$2:H$31, A1290)))>0,\"X\",\"\")","v":""},"MRS 10793 The Postman (12.02.1998) - Olivia Williams (26.07.1968) 29-201",0,"nein"]
["MRS 10796 Chasing Amy (31.07.1997) - Joey Lauren Adams (09.01.1968) 29-204 517.mp4",{"$f":"IF(SUMPRODUCT(--ISNUMBER(SEARCH(Rechnung!H$2:H$31, A1291)))>0,\"X\",\"\")","v":""},"MRS 10796 Chasing Amy (31.07.1997) - Joey Lauren Adams (09.01.1968) 29-204",0,"nein"]
["MRS 10796 The Portrait of a Lady (09.01.1997) - Nicole Kidman (20.06.1967) 29-203 2951.mp4",{"$f":"IF(SUMPRODUCT(--ISNUMBER(SEARCH(Rechnung!H$2:H$31, A1292)))>0,\"X\",\"\")","v":""},"MRS 10796 The Portrait of a Lady (09.01.1997) - Nicole Kidman (20.06.1967) 29-203",0,"nein"]
["MRS 10818 Nostradamus (18.08.1994) - Julia Ormond (04.01.1965) 29-226 528.mp4",{"$f":"IF(SUMPRODUCT(--ISNUMBER(SEARCH(Rechnung!H$2:H$31, A1293)))>0,\"X\",\"\")","v":""},"MRS 10818 Nostradamus (18.08.1994) - Julia Ormond (04.01.1965) 29-226",0,"nein"]
["MRS 10825 Dragon The Bruce Lee Story (17.06.1993) - Lauren Holly (28.10.1963) 29-233 669.mp4",{"$f":"IF(SUMPRODUCT(--ISNUMBER(SEARCH(Rechnung!H$2:H$31, A1294)))>0,\"X\",\"\")","v":""},"MRS 10825 Dragon The Bruce Lee Story (17.06.1993) - Lauren Holly (28.10.1963) 29-233",0,"nein"]
["MRS 10847 Kinds of Kindness (04.07.2024) - Margaret Qualley (23.10.1994) 29-254 1385.mp4",{"$f":"IF(SUMPRODUCT(--ISNUMBER(SEARCH(Rechnung!H$2:H$31, A1295)))>0,\"X\",\"\")","v":""},"MRS 10847 Kinds of Kindness (04.07.2024) - Margaret Qualley (23.10.1994) 29-254",1,"nein"]
["MRS 10847 Kinds of Kindness (04.07.2024) - Margaret Qualley (23.10.1994) 29-254 1386.mp4",{"$f":"IF(SUMPRODUCT(--ISNUMBER(SEARCH(Rechnung!H$2:H$31, A1296)))>0,\"X\",\"\")","v":""},"MRS 10847 Kinds of Kindness (04.07.2024) - Margaret Qualley (23.10.1994) 29-254",1,"nein"]
["MRS 10847 Kinds of Kindness (04.07.2024) - Margaret Qualley (23.10.1994) 29-254 1387.mp4",{"$f":"IF(SUMPRODUCT(--ISNUMBER(SEARCH(Rechnung!H$2:H$31, A1297)))>0,\"X\",\"\")","v":""},"MRS 10847 Kinds of Kindness (04.07.2024) - Margaret Qualley (23.10.1994) 29-254",1,"nein"]
["MRS 10855 Breaking the Waves (03.10.1996) - Emily Watson (14.01.1967) 29-262 313.mp4",{"$f":"IF(SUMPRODUCT(--ISNUMBER(SEARCH(Rechnung!H$2:H$31, A1298)))>0,\"X\",\"\")","v":""},"MRS 10855 Breaking the Waves (03.10.1996) - Emily Watson (14.01.1967) 29-262",0,"nein"]
["MRS 10855 Breaking the Waves (03.10.1996) - Emily Watson (14.01.1967) 29-262 314.mp4",{"$f":"IF(SUMPRODUCT(--ISNUMBER(SEARCH(Rechnung!H$2:H$31, A1299)))>0,\"X\",\"\")","v":""},"MRS 10855 Breaking the Waves (03.10.1996) - Emily Watson (14.01.1967) 29-262",0,"nein"]
["MRS 10855 Breaking the Waves (03.10.1996) - Emily Watson (14.01.1967) 29-262 315.mp4",{"$f":"IF(SUMPRODUCT(--ISNUMBER(SEARCH(Rechnung!H$2:H$31, A1300)))>0,\"X\",\"\")","v":""},"MRS 10855 Breaking the Waves (03.10.1996) - Emily Watson (14.01.1967) 29-262",0,"nein"]
["MRS 10855 The Center of the World (18.05.2001) - Carla Gugino (29.08.1971) 29-263 2589.mp4",{"$f":"IF(SUMPRODUCT(--ISNUMBER(SEARCH(Rechnung!H$2:H$31, A1301)))>0,\"X\",\"\")","v":""},"MRS 10855 The Center of the World (18.05.2001) - Carla Gugino (29.08.1971) 29-263",0,"nein"]
["MRS 10924 The Substance (19.09.2024) - Margaret Qualley (23.10.1994) 29-331 3018.mp4",{"$f":"IF(SUMPRODUCT(--ISNUMBER(SEARCH(Rechnung!H$2:H$31, A1302)))>0,\"X\",\"\")","v":""},"MRS 10924 The Substance (19.09.2024) - Margaret Qualley (23.10.1994) 29-331",1,"nein"]
["MRS 10924 The Substance (19.09.2024) - Margaret Qualley (23.10.1994) 29-331 3020.mp4",{"$f":"IF(SUMPRODUCT(--ISNUMBER(SEARCH(Rechnung!H$2:H$31, A1303)))>0,\"X\",\"\")","v":""},"MRS 10924 The Substance (19.09.2024) - Margaret Qualley (23.10.1994) 29-331",1,"nein"]
["MRS 10924 The Substance (19.09.2024) - Margaret Qualley (23.10.1994) 29-331 3021.mp4",{"$f":"IF(SUMPRODUCT(--ISNUMBER(SEARCH(Rechnung!H$2:H$31, A1304)))>0,\"X\",\"\")","v":""},"MRS 10924 The Substance (19.09.2024) - Margaret Qualley (23.10.1994) 29-331",1,"nein"]
["MRS 10924 The Substance (19.09.2024) - Margaret Qualley (23.10.1994) 29-331 3022.mp4",{"$f":"IF(SUMPRODUCT(--ISNUMBER(SEARCH(Rechnung!H$2:H$31, A1305)))>0,\"X\",\"\")","v":""},"MRS 10924 The Substance (19.09.2024) - Margaret Qualley (23.10.1994) 29-331",1,"nein"]
["MRS 10924 The Substance (19.09.2024) - Margaret Qualley (23.10.1994) 29-331 3023.mp4",{"$f":"IF(SUMPRODUCT(--ISNUMBER(SEARCH(Rechnung!H$2:H$31, A1306)))>0,\"X\",\"\")","v":""},"MRS 10924 The Substance (19.09.2024) - Margaret Qualley (23.10.1994) 29-331",1,"nein"]
["MRS 10924 The Substance (19.09.2024) - Margaret Qualley (23.10.1994) 29-331 3024.mp4",{"$f":"IF(SUMPRODUCT(--ISNUMBER(SEARCH(Rechnung!H$2:H$31, A1307)))>0,\"X\",\"\")","v":""},"MRS 10924 The Substance (19.09.2024) - Margaret Qualley (23.10.1994) 29-331",1,"nein"]
["MRS 10924 The Substance (19.09.2024) - Margaret Qualley (23.10.1994) 29-331 3025.mp4",{"$f":"IF(SUMPRODUCT(--ISNUMBER(SEARCH(Rechnung!H$2:H$31, A1308)))>0,\"X\",\"\")","v":""},"MRS 10924 The Substance (19.09.2024) - Margaret Qualley (23.10.1994) 29-331",1,"nein"]
["MRS 10924 The Substance (19.09.2024) - Margaret Qualley (23.10.1994) 29-331 3026.mp4",{"$f":"IF(SUMPRODUCT(--ISNUMBER(SEARCH(Rechnung!H$2:H$31, A1309)))>0,\"X\",\"\")","v":""},"MRS 10924 The Substance (19.09.2024) - Margaret Qualley (23.10.1994) 29-331",1,"nein"]
["MRS 10924 The Substance (19.09.2024) - Margaret Qualley (23.10.1994) 29-331 3027.mp4",{"$f":"IF(SUMPRODUCT(--ISNUMBER(SEARCH(Rechnung!H$2:H$31, A1310)))>0,\"X\",\"\")","v":""},"MRS 10924 The Substance (19.09.2024) - Margaret Qualley (23.10.1994) 29-331",1,"nein"]
["MRS 10924 The Substance (19.09.2024) - Margaret Qualley (23.10.1994) 29-331 3028.mp4",{"$f":"IF(SUMPRODUCT(--ISNUMBER(SEARCH(Rechnung!H$2:H$31, A1311)))>0,\"X\",\"\")","v":""},"MRS 10924 The Substance (19.09.2024) - Margaret Qualley (23.10.1994) 29-331",1,"nein"]
["MRS 10924 The Substance (19.09.2024) - Margaret Qualley (23.10.1994) 29-331 3029.mp4",{"$f":"IF(SUMPRODUCT(--ISNUMBER(SEARCH(Rechnung!H$2:H$31, A1312)))>0,\"X\",\"\")","v":""},"MRS 10924 The Substance (19.09.2024) - Margaret Qualley (23.10.1994) 29-331",1,"nein"]
["MRS 10924 The Substance (19.09.2024) - Margaret Qualley (23.10.1994) 29-331 3030.mp4",{"$f":"IF(SUMPRODUCT(--ISNUMBER(SEARCH(Rechnung!H$2:H$31, A1313)))>0,\"X\",\"\")","v":""},"MRS 10924 The Substance (19.09.2024) - Margaret Qualley (23.10.1994) 29-331",1,"nein"]
["MRS 10924 The Substance (19.09.2024) - Margaret Qualley (23.10.1994) 29-331 3031.mp4",{"$f":"IF(SUMPRODUCT(--ISNUMBER(SEARCH(Rechnung!H$2:H$31, A1314)))>0,\"X\",\"\")","v":""},"MRS 10924 The Substance (19.09.2024) - Margaret Qualley (23.10.1994) 29-331",1,"nein"]
["MRS 10924 The Substance (19.09.2024) - Margaret Qualley (23.10.1994) 29-331 3032.mp4",{"$f":"IF(SUMPRODUCT(--ISNUMBER(SEARCH(Rechnung!H$2:H$31, A1315)))>0,\"X\",\"\")","v":""},"MRS 10924 The Substance (19.09.2024) - Margaret Qualley (23.10.1994) 29-331",1,"nein"]
["MRS 10936 La supplente (05.05.1978) - Dayle Haddon (26.05.1948) 29-344 1449.mp4",{"$f":"IF(SUMPRODUCT(--ISNUMBER(SEARCH(Rechnung!H$2:H$31, A1316)))>0,\"X\",\"\")","v":""},"MRS 10936 La supplente (05.05.1978) - Dayle Haddon (26.05.1948) 29-344",0,"nein"]
["MRS 10936 La supplente (05.05.1978) - Dayle Haddon (26.05.1948) 29-344 1450.mp4",{"$f":"IF(SUMPRODUCT(--ISNUMBER(SEARCH(Rechnung!H$2:H$31, A1317)))>0,\"X\",\"\")","v":""},"MRS 10936 La supplente (05.05.1978) - Dayle Haddon (26.05.1948) 29-344",0,"nein"]
["MRS 10986 Sunshine (27.01.2000) - Jennifer Ehle (29.12.1969) 30-29 2435.mp4",{"$f":"IF(SUMPRODUCT(--ISNUMBER(SEARCH(Rechnung!H$2:H$31, A1318)))>0,\"X\",\"\")","v":""},"MRS 10986 Sunshine (27.01.2000) - Jennifer Ehle (29.12.1969) 30-29",0,"nein"]
["MRS 10986 Sunshine (27.01.2000) - Jennifer Ehle (29.12.1969) 30-29 2436.mp4",{"$f":"IF(SUMPRODUCT(--ISNUMBER(SEARCH(Rechnung!H$2:H$31, A1319)))>0,\"X\",\"\")","v":""},"MRS 10986 Sunshine (27.01.2000) - Jennifer Ehle (29.12.1969) 30-29",0,"nein"]
["MRS 11016 Dream On ...And Sheep Are Nervous (28.02.1994) - Dedee Pfeiffer (01.01.1964) 30-58 672.mp4",{"$f":"IF(SUMPRODUCT(--ISNUMBER(SEARCH(Rechnung!H$2:H$31, A1320)))>0,\"X\",\"\")","v":""},"MRS 11016 Dream On ...And Sheep Are Nervous (28.02.1994) - Dedee Pfeiffer (01.01.1964) 30-58",0,"nein"]
["MRS 11042 Legends of the Fall (30.03.1995) - Julia Ormond (04.01.1965) 30-85 527.mp4",{"$f":"IF(SUMPRODUCT(--ISNUMBER(SEARCH(Rechnung!H$2:H$31, A1321)))>0,\"X\",\"\")","v":""},"MRS 11042 Legends of the Fall (30.03.1995) - Julia Ormond (04.01.1965) 30-85",0,"nein"]
["MRS 11049 Briganti Amore e libertà (31.12.1994) - Monica Bellucci (30.09.1964) 30-92 326.mp4",{"$f":"IF(SUMPRODUCT(--ISNUMBER(SEARCH(Rechnung!H$2:H$31, A1322)))>0,\"X\",\"\")","v":""},"MRS 11049 Briganti Amore e libertà (31.12.1994) - Monica Bellucci (30.09.1964) 30-92",0,"nein"]
["MRS 11049 Briganti Amore e libertà (31.12.1994) - Monica Bellucci (30.09.1964) 30-92 327.mp4",{"$f":"IF(SUMPRODUCT(--ISNUMBER(SEARCH(Rechnung!H$2:H$31, A1323)))>0,\"X\",\"\")","v":""},"MRS 11049 Briganti Amore e libertà (31.12.1994) - Monica Bellucci (30.09.1964) 30-92",0,"nein"]
["MRS 11049 Briganti Amore e libertà (31.12.1994) - Monica Bellucci (30.09.1964) 30-92 328.mp4",{"$f":"IF(SUMPRODUCT(--ISNUMBER(SEARCH(Rechnung!H$2:H$31, A1324)))>0,\"X\",\"\")","v":""},"MRS 11049 Briganti Amore e libertà (31.12.1994) - Monica Bellucci (30.09.1964) 30-92",0,"nein"]
["MRS 11056 Payback (11.03.1999) - Lucy Liu (02.12.1968) 30-99 2022.mp4",{"$f":"IF(SUMPRODUCT(--ISNUMBER(SEARCH(Rechnung!H$2:H$31, A1325)))>0,\"X\",\"\")","v":""},"MRS 11056 Payback (11.03.1999) - Lucy Liu (02.12.1968) 30-99",0,"nein"]
["MRS 11063 Double Exposure (16.04.1994) - Dedee Pfeiffer (01.01.1964) 30-106 656.mp4",{"$f":"IF(SUMPRODUCT(--ISNUMBER(SEARCH(Rechnung!H$2:H$31, A1326)))>0,\"X\",\"\")","v":""},"MRS 11063 Double Exposure (16.04.1994) - Dedee Pfeiffer (01.01.1964) 30-106",0,"nein"]
["MRS 11064 Terra Estrangeira (31.12.1995) - Fernanda Torres (15.09.1965) 30-107 302.mp4",{"$f":"IF(SUMPRODUCT(--ISNUMBER(SEARCH(Rechnung!H$2:H$31, A1327)))>0,\"X\",\"\")","v":""},"MRS 11064 Terra Estrangeira (31.12.1995) - Fernanda Torres (15.09.1965) 30-107",0,"nein"]
["MRS 11103 The Hours (27.03.2003) - Toni Collette (01.11.1972) 30-146 2740.mp4",{"$f":"IF(SUMPRODUCT(--ISNUMBER(SEARCH(Rechnung!H$2:H$31, A1328)))>0,\"X\",\"\")","v":""},"MRS 11103 The Hours (27.03.2003) - Toni Collette (01.11.1972) 30-146",0,"nein"]
["MRS 11104 Cat People (26.08.1982) - Annette O'Toole (01.04.1952) 30-147 403.mp4",{"$f":"IF(SUMPRODUCT(--ISNUMBER(SEARCH(Rechnung!H$2:H$31, A1329)))>0,\"X\",\"\")","v":""},"MRS 11104 Cat People (26.08.1982) - Annette O'Toole (01.04.1952) 30-147",0,"nein"]
["MRS 11104 Cat People (26.08.1982) - Annette O'Toole (01.04.1952) 30-147 404.mp4",{"$f":"IF(SUMPRODUCT(--ISNUMBER(SEARCH(Rechnung!H$2:H$31, A1330)))>0,\"X\",\"\")","v":""},"MRS 11104 Cat People (26.08.1982) - Annette O'Toole (01.04.1952) 30-147",0,"nein"]
["MRS 11131 Gangs of New York (20.02.2003) - Cameron Diaz (30.08.1972) 30-174 988.mp4",{"$f":"IF(SUMPRODUCT(--ISNUMBER(SEARCH(Rechnung!H$2:H$31, A1331)))>0,\"X\",\"\")","v":""},"MRS 11131 Gangs of New York (20.02.2003) - Cameron Diaz (30.08.1972) 30-174",0,"nein"]
["MRS 11146 Always Say Goodbye (07.06.1997) - Katherine LaNasa (01.12.1966) 30-188 554.mp4",{"$f":"IF(SUMPRODUCT(--ISNUMBER(SEARCH(Rechnung!H$2:H$31, A1332)))>0,\"X\",\"\")","v":""},"MRS 11146 Always Say Goodbye (07.06.1997) - Katherine LaNasa (01.12.1966) 30-188",0,"nein"]
["MRS 11148 Indecent Proposal (20.05.1993) - Demi Moore (11.11.1962) 30-190 1198.mp4",{"$f":"IF(SUMPRODUCT(--ISNUMBER(SEARCH(Rechnung!H$2:H$31, A1333)))>0,\"X\",\"\")","v":""},"MRS 11148 Indecent Proposal (20.05.1993) - Demi Moore (11.11.1962) 30-190",0,"nein"]
["MRS 11148 Indecent Proposal (20.05.1993) - Demi Moore (11.11.1962) 30-190 1199.mp4",{"$f":"IF(SUMPRODUCT(--ISNUMBER(SEARCH(Rechnung!H$2:H$31, A1334)))>0,\"X\",\"\")","v":""},"MRS 11148 Indecent Proposal (20.05.1993) - Demi Moore (11.11.1962) 30-190",0,"nein"]
["MRS 11185 Flypaper (18.07.1999) - Lucy Liu (02.12.1968) 30-228 875.mp4",{"$f":"IF(SUMPRODUCT(--ISNUMBER(SEARCH(Rechnung!H$2:H$31, A1335)))>0,\"X\",\"\")","v":""},"MRS 11185 Flypaper (18.07.1999) - Lucy Liu (02.12.1968) 30-228",0,"nein"]
["MRS 11286 Tequila Sunrise (23.03.1989) - Michelle Pfeiffer (29.04.1958) 30-328 2513.mp4",{"$f":"IF(SUMPRODUCT(--ISNUMBER(SEARCH(Rechnung!H$2:H$31, A1336)))>0,\"X\",\"\")","v":""},"MRS 11286 Tequila Sunrise (23.03.1989) - Michelle Pfeiffer (29.04.1958) 30-328",0,"nein"]
["MRS 11306 Margaret's Museum (09.05.1997) - Helena Bonham Carter (26.05.1966) 30-348 1681.mp4",{"$f":"IF(SUMPRODUCT(--ISNUMBER(SEARCH(Rechnung!H$2:H$31, A1337)))>0,\"X\",\"\")","v":""},"MRS 11306 Margaret's Museum (09.05.1997) - Helena Bonham Carter (26.05.1966) 30-348",0,"nein"]
["MRS 11306 The Tall Guy (29.03.1990) - Emma Thompson (15.04.1959) 30-349 3063.mp4",{"$f":"IF(SUMPRODUCT(--ISNUMBER(SEARCH(Rechnung!H$2:H$31, A1338)))>0,\"X\",\"\")","v":""},"MRS 11306 The Tall Guy (29.03.1990) - Emma Thompson (15.04.1959) 30-349",0,"nein"]
["MRS 11319 Quartet (23.06.1986) - Isabelle Adjani (27.06.1955) 30-362 387.mp4",{"$f":"IF(SUMPRODUCT(--ISNUMBER(SEARCH(Rechnung!H$2:H$31, A1339)))>0,\"X\",\"\")","v":""},"MRS 11319 Quartet (23.06.1986) - Isabelle Adjani (27.06.1955) 30-362",0,"nein"]
["MRS 11319 Quartet (23.06.1986) - Isabelle Adjani (27.06.1955) 30-362 388.mp4",{"$f":"IF(SUMPRODUCT(--ISNUMBER(SEARCH(Rechnung!H$2:H$31, A1340)))>0,\"X\",\"\")","v":""},"MRS 11319 Quartet (23.06.1986) - Isabelle Adjani (27.06.1955) 30-362",0,"nein"]
["MRS 11344 King David (19.07.1985) - Alice Krige (28.06.1954) 31-21 27.mp4",{"$f":"IF(SUMPRODUCT(--ISNUMBER(SEARCH(Rechnung!H$2:H$31, A1341)))>0,\"X\",\"\")","v":""},"MRS 11344 King David (19.07.1985) - Alice Krige (28.06.1954) 31-21",0,"nein"]
["MRS 11350 48 Hrs. (29.04.1983) - Annette O'Toole (01.04.1952) 31-28 14.mp4",{"$f":"IF(SUMPRODUCT(--ISNUMBER(SEARCH(Rechnung!H$2:H$31, A1342)))>0,\"X\",\"\")","v":""},"MRS 11350 48 Hrs. (29.04.1983) - Annette O'Toole (01.04.1952) 31-28",0,"nein"]
["MRS 11350 48 Hrs. (29.04.1983) - Annette O'Toole (01.04.1952) 31-28 15.mp4",{"$f":"IF(SUMPRODUCT(--ISNUMBER(SEARCH(Rechnung!H$2:H$31, A1343)))>0,\"X\",\"\")","v":""},"MRS 11350 48 Hrs. (29.04.1983) - Annette O'Toole (01.04.1952) 31-28",0,"nein"]
["MRS 11386 The Net (28.09.1995) - Sandra Bullock (26.07.1964) 31-64 2894.mp4",{"$f":"IF(SUMPRODUCT(--ISNUMBER(SEARCH(Rechnung!H$2:H$31, A1344)))>0,\"X\",\"\")","v":""},"MRS 11386 The Net (28.09.1995) - Sandra Bullock (26.07.1964) 31-64",0,"nein"]
["MRS 11437 Deadly Past (25.04.1995) - Dedee Pfeiffer (01.01.1964) 31-115 592.mp4",{"$f":"IF(SUMPRODUCT(--ISNUMBER(SEARCH(Rechnung!H$2:H$31, A1345)))>0,\"X\",\"\")","v":""},"MRS 11437 Deadly Past (25.04.1995) - Dedee Pfeiffer (01.01.1964) 31-115",0,"nein"]
["MRS 11478 Blue Steel (26.04.1990) - Jamie Lee Curtis (22.11.1958) 31-155 394.mp4",{"$f":"IF(SUMPRODUCT(--ISNUMBER(SEARCH(Rechnung!H$2:H$31, A1346)))>0,\"X\",\"\")","v":""},"MRS 11478 Blue Steel (26.04.1990) - Jamie Lee Curtis (22.11.1958) 31-155",0,"nein"]
["MRS 11482 Turkey Shoot (23.09.1982) - Olivia Hussey (17.04.1951) 31-159 3200.mp4",{"$f":"IF(SUMPRODUCT(--ISNUMBER(SEARCH(Rechnung!H$2:H$31, A1347)))>0,\"X\",\"\")","v":""},{"$f":"LEFT(A1347, LEN(A1347) - LEN(MID(A1347, FIND(\"~\", SUBSTITUTE(A1347,\" \",\"~\", LEN(A1347)-LEN(SUBSTITUTE(A1347,\" \",\"\")))), LEN(A1347))))","v":"MRS 11482 Turkey Shoot (23.09.1982) - Olivia Hussey (17.04.1951) 31-159"},0,{"$f":"IF(AND(B1347=\"X\",D1347=0),\"ja\",\"nein\")","v":"nein"}]
["MRS 11482 Turkey Shoot (23.09.1982) - Olivia Hussey (17.04.1951) 31-159 737.mp4",{"$f":"IF(SUMPRODUCT(--ISNUMBER(SEARCH(Rechnung!H$2:H$31, A1348)))>0,\"X\",\"\")","v":""},"MRS 11482 Turkey Shoot (23.09.1982) - Olivia Hussey (17.04.1951) 31-159",0,"nein"]
["MRS 11483 Dumb and Dumber (06.04.1995) - Lauren Holly (28.10.1963) 31-161 683.mp4",{"$f":"IF(SUMPRODUCT(--ISNUMBER(SEARCH(Rechnung!H$2:H$31, A1349)))>0,\"X\",\"\")","v":""},"MRS 11483 Dumb and Dumber (06.04.1995) - Lauren Holly (28.10.1963) 31-161",0,"nein"]
["MRS 11627 Mountains of the Moon (10.05.1990) - Fiona Shaw (10.07.1958) 31-304 1765.mp4",{"$f":"IF(SUMPRODUCT(--ISNUMBER(SEARCH(Rechnung!H$2:H$31, A1350)))>0,\"X\",\"\")","v":""},"MRS 11627 Mountains of the Moon (10.05.1990) - Fiona Shaw (10.07.1958) 31-304",0,"nein"]
["MRS 11627 Mountains of the Moon (10.05.1990) - Fiona Shaw (10.07.1958) 31-304 1766.mp4",{"$f":"IF(SUMPRODUCT(--ISNUMBER(SEARCH(Rechnung!H$2:H$31, A1351)))>0,\"X\",\"\")","v":""},"MRS 11627 Mountains of the Moon (10.05.1990) - Fiona Shaw (10.07.1958) 31-304",0,"nein"]
["MRS 11674 Flesh and Bone (05.11.1993) - Meg Ryan (19.11.1961) 31-351 866.mp4",{"$f":"IF(SUMPRODUCT(--ISNUMBER(SEARCH(Rechnung!H$2:H$31, A1352)))>0,\"X\",\"\")","v":""},"MRS 11674 Flesh and Bone (05.11.1993) - Meg Ryan (19.11.1961) 31-351",0,"nein"]
["MRS 11674 Flesh and Bone (05.11.1993) - Meg Ryan (19.11.1961) 31-351 867.mp4",{"$f":"IF(SUMPRODUCT(--ISNUMBER(SEARCH(Rechnung!H$2:H$31, A1353)))>0,\"X\",\"\")","v":""},"MRS 11674 Flesh and Bone (05.11.1993) - Meg Ryan (19.11.1961) 31-351",0,"nein"]
["MRS 11759 Looking for Mr. Goodbar (17.03.1978) - Diane Keaton (05.01.1946) 32-71 157.mp4",{"$f":"IF(SUMPRODUCT(--ISNUMBER(SEARCH(Rechnung!H$2:H$31, A1354)))>0,\"X\",\"\")","v":""},"MRS 11759 Looking for Mr. Goodbar (17.03.1978) - Diane Keaton (05.01.1946) 32-71",0,"nein"]
["MRS 11759 Looking for Mr. Goodbar (17.03.1978) - Diane Keaton (05.01.1946) 32-71 158.mp4",{"$f":"IF(SUMPRODUCT(--ISNUMBER(SEARCH(Rechnung!H$2:H$31, A1355)))>0,\"X\",\"\")","v":""},"MRS 11759 Looking for Mr. Goodbar (17.03.1978) - Diane Keaton (05.01.1946) 32-71",0,"nein"]
["MRS 11759 Looking for Mr. Goodbar (17.03.1978) - Diane Keaton (05.01.1946) 32-71 159.mp4",{"$f":"IF(SUMPRODUCT(--ISNUMBER(SEARCH(Rechnung!H$2:H$31, A1356)))>0,\"X\",\"\")","v":""},"MRS 11759 Looking for Mr. Goodbar (17.03.1978) - Diane Keaton (05.01.1946) 32-71",0,"nein"]
["MRS 11759 Looking for Mr. Goodbar (17.03.1978) - Diane Keaton (05.01.1946) 32-71 160.mp4",{"$f":"IF(SUMPRODUCT(--ISNUMBER(SEARCH(Rechnung!H$2:H$31, A1357)))>0,\"X\",\"\")","v":""},"MRS 11759 Looking for Mr. Goodbar (17.03.1978) - Diane Keaton (05.01.1946) 32-71",0,"nein"]
["MRS 11759 Looking for Mr. Goodbar (17.03.1978) - Diane Keaton (05.01.1946) 32-71 161.mp4",{"$f":"IF(SUMPRODUCT(--ISNUMBER(SEARCH(Rechnung!H$2:H$31, A1358)))>0,\"X\",\"\")","v":""},"MRS 11759 Looking for Mr. Goodbar (17.03.1978) - Diane Keaton (05.01.1946) 32-71",0,"nein"]
["MRS 11759 Looking for Mr. Goodbar (17.03.1978) - Diane Keaton (05.01.1946) 32-71 162.mp4",{"$f":"IF(SUMPRODUCT(--ISNUMBER(SEARCH(Rechnung!H$2:H$31, A1359)))>0,\"X\",\"\")","v":""},"MRS 11759 Looking for Mr. Goodbar (17.03.1978) - Diane Keaton (05.01.1946) 32-71",0,"nein"]
["MRS 11759 Looking for Mr. Goodbar (17.03.1978) - Diane Keaton (05.01.1946) 32-71 163.mp4",{"$f":"IF(SUMPRODUCT(--ISNUMBER(SEARCH(Rechnung!H$2:H$31, A1360)))>0,\"X\",\"\")","v":""},"MRS 11759 Looking for Mr. Goodbar (17.03.1978) - Diane Keaton (05.01.1946) 32-71",0,"nein"]
["MRS 11772 Orlando (28.01.1993) - Tilda Swinton (05.11.1960) 32-84 777.mp4",{"$f":"IF(SUMPRODUCT(--ISNUMBER(SEARCH(Rechnung!H$2:H$31, A1361)))>0,\"X\",\"\")","v":""},"MRS 11772 Orlando (28.01.1993) - Tilda Swinton (05.11.1960) 32-84",0,"nein"]
["MRS 11784 Nell (23.02.1995) - Jodie Foster (19.11.1962) 32-96 488.mp4",{"$f":"IF(SUMPRODUCT(--ISNUMBER(SEARCH(Rechnung!H$2:H$31, A1362)))>0,\"X\",\"\")","v":""},"MRS 11784 Nell (23.02.1995) - Jodie Foster (19.11.1962) 32-96",0,"nein"]
["MRS 11784 Nell (23.02.1995) - Jodie Foster (19.11.1962) 32-96 489.mp4",{"$f":"IF(SUMPRODUCT(--ISNUMBER(SEARCH(Rechnung!H$2:H$31, A1363)))>0,\"X\",\"\")","v":""},"MRS 11784 Nell (23.02.1995) - Jodie Foster (19.11.1962) 32-96",0,"nein"]
["MRS 11784 Nell (23.02.1995) - Jodie Foster (19.11.1962) 32-96 490.mp4",{"$f":"IF(SUMPRODUCT(--ISNUMBER(SEARCH(Rechnung!H$2:H$31, A1364)))>0,\"X\",\"\")","v":""},"MRS 11784 Nell (23.02.1995) - Jodie Foster (19.11.1962) 32-96",0,"nein"]
["MRS 11784 Nell (23.02.1995) - Jodie Foster (19.11.1962) 32-96 491.mp4",{"$f":"IF(SUMPRODUCT(--ISNUMBER(SEARCH(Rechnung!H$2:H$31, A1365)))>0,\"X\",\"\")","v":""},"MRS 11784 Nell (23.02.1995) - Jodie Foster (19.11.1962) 32-96",0,"nein"]
["MRS 11784 Nell (23.02.1995) - Jodie Foster (19.11.1962) 32-96 492.mp4",{"$f":"IF(SUMPRODUCT(--ISNUMBER(SEARCH(Rechnung!H$2:H$31, A1366)))>0,\"X\",\"\")","v":""},"MRS 11784 Nell (23.02.1995) - Jodie Foster (19.11.1962) 32-96",0,"nein"]
["MRS 11889 Ishtar (14.01.1988) - Isabelle Adjani (27.06.1955) 32-201 342.mp4",{"$f":"IF(SUMPRODUCT(--ISNUMBER(SEARCH(Rechnung!H$2:H$31, A1367)))>0,\"X\",\"\")","v":""},"MRS 11889 Ishtar (14.01.1988) - Isabelle Adjani (27.06.1955) 32-201",0,"nein"]
["MRS 11925 When a Man Loves a Woman (14.07.1994) - Meg Ryan (19.11.1961) 32-237 3326.mp4",{"$f":"IF(SUMPRODUCT(--ISNUMBER(SEARCH(Rechnung!H$2:H$31, A1368)))>0,\"X\",\"\")","v":""},"MRS 11925 When a Man Loves a Woman (14.07.1994) - Meg Ryan (19.11.1961) 32-237",0,"nein"]
["MRS 12520 Doctors' Wives (16.04.1971) - Dyan Cannon (04.01.1937) 34-102 175.mp4",{"$f":"IF(SUMPRODUCT(--ISNUMBER(SEARCH(Rechnung!H$2:H$31, A1369)))>0,\"X\",\"\")","v":""},"MRS 12520 Doctors' Wives (16.04.1971) - Dyan Cannon (04.01.1937) 34-102",0,"nein"]
["MRS 12559 Much Ado About Nothing (02.09.1993) - Emma Thompson (15.04.1959) 34-140 1.mp4",{"$f":"IF(SUMPRODUCT(--ISNUMBER(SEARCH(Rechnung!H$2:H$31, A1370)))>0,\"X\",\"\")","v":""},"MRS 12559 Much Ado About Nothing (02.09.1993) - Emma Thompson (15.04.1959) 34-140",0,"nein"]
["MRS 12559 Much Ado About Nothing (02.09.1993) - Emma Thompson (15.04.1959) 34-140 2.mp4",{"$f":"IF(SUMPRODUCT(--ISNUMBER(SEARCH(Rechnung!H$2:H$31, A1371)))>0,\"X\",\"\")","v":""},"MRS 12559 Much Ado About Nothing (02.09.1993) - Emma Thompson (15.04.1959) 34-140",0,"nein"]
["MRS 12657 Blue Velvet (12.02.1987) - Isabella Rossellini (18.06.1952) 34-239 334.mp4",{"$f":"IF(SUMPRODUCT(--ISNUMBER(SEARCH(Rechnung!H$2:H$31, A1372)))>0,\"X\",\"\")","v":""},"MRS 12657 Blue Velvet (12.02.1987) - Isabella Rossellini (18.06.1952) 34-239",0,"nein"]
["MRS 12657 Blue Velvet (12.02.1987) - Isabella Rossellini (18.06.1952) 34-239 335.mp4",{"$f":"IF(SUMPRODUCT(--ISNUMBER(SEARCH(Rechnung!H$2:H$31, A1373)))>0,\"X\",\"\")","v":""},"MRS 12657 Blue Velvet (12.02.1987) - Isabella Rossellini (18.06.1952) 34-239",0,"nein"]
["MRS 12657 Blue Velvet (12.02.1987) - Isabella Rossellini (18.06.1952) 34-239 336.mp4",{"$f":"IF(SUMPRODUCT(--ISNUMBER(SEARCH(Rechnung!H$2:H$31, A1374)))>0,\"X\",\"\")","v":""},"MRS 12657 Blue Velvet (12.02.1987) - Isabella Rossellini (18.06.1952) 34-239",0,"nein"]
["MRS 12657 Blue Velvet (12.02.1987) - Isabella Rossellini (18.06.1952) 34-239 337.mp4",{"$f":"IF(SUMPRODUCT(--ISNUMBER(SEARCH(Rechnung!H$2:H$31, A1375)))>0,\"X\",\"\")","v":""},"MRS 12657 Blue Velvet (12.02.1987) - Isabella Rossellini (18.06.1952) 34-239",0,"nein"]
["MRS 12657 Blue Velvet (12.02.1987) - Isabella Rossellini (18.06.1952) 34-239 338.mp4",{"$f":"IF(SUMPRODUCT(--ISNUMBER(SEARCH(Rechnung!H$2:H$31, A1376)))>0,\"X\",\"\")","v":""},"MRS 12657 Blue Velvet (12.02.1987) - Isabella Rossellini (18.06.1952) 34-239",0,"nein"]
["MRS 12679 Darling Lili (18.06.1970) - Julie Andrews (01.10.1935) 34-261 566.mp4",{"$f":"IF(SUMPRODUCT(--ISNUMBER(SEARCH(Rechnung!H$2:H$31, A1377)))>0,\"X\",\"\")","v":""},"MRS 12679 Darling Lili (18.06.1970) - Julie Andrews (01.10.1935) 34-261",0,"nein"]
["MRS 13009 Cross My Heart (13.11.1987) - Annette O'Toole (01.04.1952) 35-226 459.mp4",{"$f":"IF(SUMPRODUCT(--ISNUMBER(SEARCH(Rechnung!H$2:H$31, A1378)))>0,\"X\",\"\")","v":""},"MRS 13009 Cross My Heart (13.11.1987) - Annette O'Toole (01.04.1952) 35-226",0,"nein"]
["MRS 13009 Cross My Heart (13.11.1987) - Annette O'Toole (01.04.1952) 35-226 460.mp4",{"$f":"IF(SUMPRODUCT(--ISNUMBER(SEARCH(Rechnung!H$2:H$31, A1379)))>0,\"X\",\"\")","v":""},"MRS 13009 Cross My Heart (13.11.1987) - Annette O'Toole (01.04.1952) 35-226",0,"nein"]
["MRS 13009 Cross My Heart (13.11.1987) - Annette O'Toole (01.04.1952) 35-226 461.mp4",{"$f":"IF(SUMPRODUCT(--ISNUMBER(SEARCH(Rechnung!H$2:H$31, A1380)))>0,\"X\",\"\")","v":""},"MRS 13009 Cross My Heart (13.11.1987) - Annette O'Toole (01.04.1952) 35-226",0,"nein"]
["MRS 13009 Cross My Heart (13.11.1987) - Annette O'Toole (01.04.1952) 35-226 462.mp4",{"$f":"IF(SUMPRODUCT(--ISNUMBER(SEARCH(Rechnung!H$2:H$31, A1381)))>0,\"X\",\"\")","v":""},"MRS 13009 Cross My Heart (13.11.1987) - Annette O'Toole (01.04.1952) 35-226",0,"nein"]
["MRS 13227 Such Good Friends (23.03.1973) - Dyan Cannon (04.01.1937) 36-78 178.mp4",{"$f":"IF(SUMPRODUCT(--ISNUMBER(SEARCH(Rechnung!H$2:H$31, A1382)))>0,\"X\",\"\")","v":""},"MRS 13227 Such Good Friends (23.03.1973) - Dyan Cannon (04.01.1937) 36-78",0,"nein"]
["MRS 13257 Reds (23.04.1982) - Diane Keaton (05.01.1946) 36-108 169.mp4",{"$f":"IF(SUMPRODUCT(--ISNUMBER(SEARCH(Rechnung!H$2:H$31, A1383)))>0,\"X\",\"\")","v":""},"MRS 13257 Reds (23.04.1982) - Diane Keaton (05.01.1946) 36-108",0,"nein"]
["MRS 13257 Reds (23.04.1982) - Diane Keaton (05.01.1946) 36-108 170.mp4",{"$f":"IF(SUMPRODUCT(--ISNUMBER(SEARCH(Rechnung!H$2:H$31, A1384)))>0,\"X\",\"\")","v":""},"MRS 13257 Reds (23.04.1982) - Diane Keaton (05.01.1946) 36-108",0,"nein"]
["MRS 13794 Child Under a Leaf (11.10.1974) - Dyan Cannon (04.01.1937) 37-280 174.mp4",{"$f":"IF(SUMPRODUCT(--ISNUMBER(SEARCH(Rechnung!H$2:H$31, A1385)))>0,\"X\",\"\")","v":""},"MRS 13794 Child Under a Leaf (11.10.1974) - Dyan Cannon (04.01.1937) 37-280",0,"nein"]
["MRS 14302 Dames galantes (15.08.1991) - Isabella Rossellini (18.06.1952) 39-58 340.mp4",{"$f":"IF(SUMPRODUCT(--ISNUMBER(SEARCH(Rechnung!H$2:H$31, A1386)))>0,\"X\",\"\")","v":""},"MRS 14302 Dames galantes (15.08.1991) - Isabella Rossellini (18.06.1952) 39-58",0,"nein"]
["MRS 14452 Psycho IV The Beginning (10.11.1990) - Olivia Hussey (17.04.1951) 39-207 2087.mp4",{"$f":"IF(SUMPRODUCT(--ISNUMBER(SEARCH(Rechnung!H$2:H$31, A1387)))>0,\"X\",\"\")","v":""},"MRS 14452 Psycho IV The Beginning (10.11.1990) - Olivia Hussey (17.04.1951) 39-207",0,"nein"]
["MRS 14498 The Stranger (04.12.1987) - Bonnie Bedelia (25.03.1948) 39-254 3013.mp4",{"$f":"IF(SUMPRODUCT(--ISNUMBER(SEARCH(Rechnung!H$2:H$31, A1388)))>0,\"X\",\"\")","v":""},"MRS 14498 The Stranger (04.12.1987) - Bonnie Bedelia (25.03.1948) 39-254",0,"nein"]
["MRS 14498 The Stranger (04.12.1987) - Bonnie Bedelia (25.03.1948) 39-254 3014.mp4",{"$f":"IF(SUMPRODUCT(--ISNUMBER(SEARCH(Rechnung!H$2:H$31, A1389)))>0,\"X\",\"\")","v":""},"MRS 14498 The Stranger (04.12.1987) - Bonnie Bedelia (25.03.1948) 39-254",0,"nein"]
["MRS 15129 The Hitchhiker Dead Man's Curve (27.10.1989) - Dayle Haddon (26.05.1948) 41-154 2729.mp4",{"$f":"IF(SUMPRODUCT(--ISNUMBER(SEARCH(Rechnung!H$2:H$31, A1390)))>0,\"X\",\"\")","v":""},"MRS 15129 The Hitchhiker Dead Man's Curve (27.10.1989) - Dayle Haddon (26.05.1948) 41-154",0,"nein"]
["MRS 15839 The Good Mother (18.05.1989) - Diane Keaton (05.01.1946) 43-133 172.mp4",{"$f":"IF(SUMPRODUCT(--ISNUMBER(SEARCH(Rechnung!H$2:H$31, A1391)))>0,\"X\",\"\")","v":""},"MRS 15839 The Good Mother (18.05.1989) - Diane Keaton (05.01.1946) 43-133",0,"nein"]
["MRS 16155 California Suite (22.03.1979) - Maggie Smith (28.12.1934) 44-84 366.mp4",{"$f":"IF(SUMPRODUCT(--ISNUMBER(SEARCH(Rechnung!H$2:H$31, A1392)))>0,\"X\",\"\")","v":""},"MRS 16155 California Suite (22.03.1979) - Maggie Smith (28.12.1934) 44-84",0,"nein"]
["MRS 16950 S.O.B. (26.02.1982) - Julie Andrews (01.10.1935) 46-148 2226.mp4",{"$f":"IF(SUMPRODUCT(--ISNUMBER(SEARCH(Rechnung!H$2:H$31, A1393)))>0,\"X\",\"\")","v":""},"MRS 16950 S.O.B. (26.02.1982) - Julie Andrews (01.10.1935) 46-148",0,"nein"]
["MRS 18778 Duet for One (28.02.1987) - Julie Andrews (01.10.1935) 51-150 681.mp4",{"$f":"IF(SUMPRODUCT(--ISNUMBER(SEARCH(Rechnung!H$2:H$31, A1394)))>0,\"X\",\"\")","v":""},"MRS 18778 Duet for One (28.02.1987) - Julie Andrews (01.10.1935) 51-150",0,"nein"]
["MRS 18778 Duet for One (28.02.1987) - Julie Andrews (01.10.1935) 51-150 682.mp4",{"$f":"IF(SUMPRODUCT(--ISNUMBER(SEARCH(Rechnung!H$2:H$31, A1395)))>0,\"X\",\"\")","v":""},"MRS 18778 Duet for One (28.02.1987) - Julie Andrews (01.10.1935) 51-150",0,"nein"]