{"text_format":"1","workbook":"xlsx","n_sheets":2,"sheets":["Start","Tabellen"],"not_rendered":{"charts":0,"images":0,"macros":0,"external_links":0,"defined_names":0,"comments":1,"pivot_tables":0},"unopened":[],"bounds":{"document_bytes":16777216,"sheet_cells":100000,"rows_first":2000,"rows_last":500,"rows_between":2000,"halvings":0,"cell_chars":16384,"cell_head_chars":4096},"cells_cut":0,"cells_raw":0,"read":"whole","date_system":"1900"}

{"sheet":"Start","index":0,"n_rows":26,"n_cols":4,"rows_kept":26,"cut":false,"hidden":false,"merged":[]}
[null,null,null,{"$f":"RAND()","v":0.52024369112015401}]
["Robert",null,"Kevin",0.23784207626183762]
["Volker",null,"Freilos 3",0.34350065521008744]
["Siggi",null,"Anja",0.34334087980120798]
["Anja",null,"Sasha",0.72428890799260404]
["Vincent",null,"Christian",0.34779293545360823]
["Ralf",null,"Erich",5.9106308266654306E-2]
["Erich",null,"Klaus",0.21955030759150695]
["Rene",null,"Rosi P.",0.79162110978936029]
["Nicole",null,"Robert",0.55317480502160321]
["Frank",null,"Nicole",0.25011246805280596]
["Sasha",null,"Kerstin",0.88233899362071355]
["Klaus",null,"Rene",0.41026861482634558]
["Manuel",null,"Stefan",0.54802565991987839]
["Christian",null,"Aline",0.41859059247463215]
["Kerstin",null,"Manuel",0.98174609360076026]
["Dirk",null,"Rosi N.",0.44944841704211258]
["Kevin",null,"Volker",0.88464729028518829]
["Aline",null,"Otto",0.98144803728881358]
["Rosi N.",null,"Frank",0.87884906193787937]
["Rosi P.",null,"Vincent",0.18720375822171387]
["Stefan",null,"Dirk",0.35231154836477729]
["Werner",null,"Ralf",0.76572067312975134]
["Achim",null,"Achim",0.90067435981305555]
["Freilos 3",null,"Werner",0.1093109883256429]
["Otto",null,"Siggi",0.38973028948363775]

{"sheet":"Tabellen","index":1,"n_rows":29,"n_cols":20,"rows_kept":29,"cut":false,"hidden":false,"merged":[]}
[{"$f":"Start!C2","v":"Kevin"},null,null,null,null,null,{"$f":"Start!C8","v":"Klaus"},null,null,null,null,null,{"$f":"Start!C14","v":"Stefan"},null,null,null,null,null,{"$f":"Start!C21","v":"Vincent"}]
[{"$f":"Start!C3","v":"Freilos 3"},null,null,null,null,null,{"$f":"Start!C9","v":"Rosi P."},null,null,null,null,null,{"$f":"Start!C15","v":"Aline"},null,null,null,null,null,{"$f":"Start!C22","v":"Dirk"}]
[{"$f":"Start!C4","v":"Anja"},null,null,null,null,null,{"$f":"Start!C10","v":"Robert"},null,null,null,null,null,{"$f":"Start!C16","v":"Manuel"},null,null,null,null,null,{"$f":"Start!C23","v":"Ralf"}]
[{"$f":"Start!C5","v":"Sasha"},null,null,null,null,null,{"$f":"Start!C11","v":"Nicole"},null,null,null,null,null,{"$f":"Start!C17","v":"Rosi N."},null,null,null,null,null,{"$f":"Start!C24","v":"Achim"}]
[{"$f":"Start!C6","v":"Christian"},null,null,null,null,null,{"$f":"Start!C12","v":"Kerstin"},null,null,null,null,null,{"$f":"Start!C18","v":"Volker"},null,null,null,null,null,{"$f":"Start!C25","v":"Werner"}]
[{"$f":"Start!C7","v":"Erich"},null,null,null,null,null,{"$f":"Start!C13","v":"Rene"},null,null,null,null,null,{"$f":"Start!C19","v":"Otto"},null,null,null,null,null,{"$f":"Start!C26","v":"Siggi"}]
[]
[{"$f":"A1","v":"Kevin"},{"$f":"A4","v":"Sasha"},null,null,null,null,{"$f":"G1","v":"Klaus"},{"$f":"G4","v":"Nicole"},null,null,null,null,{"$f":"M1","v":"Stefan"},{"$f":"M4","v":"Rosi N."},null,null,null,null,{"$f":"S1","v":"Vincent"},{"$f":"S4","v":"Achim"}]
[{"$f":"A2","v":"Freilos 3"},{"$f":"A5","v":"Christian"},null,null,null,null,{"$f":"G2","v":"Rosi P."},{"$f":"G5","v":"Kerstin"},null,null,null,null,{"$f":"M2","v":"Aline"},{"$f":"M5","v":"Volker"},null,null,null,null,{"$f":"S2","v":"Dirk"},{"$f":"S5","v":"Werner"}]
["Anja","Erich",null,null,null,null,"Robert","Rene",null,null,null,null,"Manuel","Otto",null,null,null,null,"Ralf","Siggi"]
["Sasha",{"$f":"A9","v":"Freilos 3"},null,null,null,null,"Nicole",{"$f":"G2","v":"Rosi P."},null,null,null,null,"Rosi N.",{"$f":"M2","v":"Aline"},null,null,null,null,{"$f":"S4","v":"Achim"},{"$f":"S2","v":"Dirk"}]
["Christian",{"$f":"A10","v":"Anja"},null,null,null,null,"Kerstin",{"$f":"G3","v":"Robert"},null,null,null,null,"Volker",{"$f":"M3","v":"Manuel"},null,null,null,null,{"$f":"S5","v":"Werner"},{"$f":"S3","v":"Ralf"}]
["Erich","Sasha",null,null,null,null,"Rene","Nicole",null,null,null,null,"Otto",{"$f":"M4","v":"Rosi N."},null,null,null,null,{"$f":"S6","v":"Siggi"},{"$f":"S4","v":"Achim"}]
[{"$f":"A8","v":"Kevin"},"Christian",null,null,null,null,{"$f":"G1","v":"Klaus"},{"$f":"G5","v":"Kerstin"},null,null,null,null,{"$f":"M1","v":"Stefan"},{"$f":"M5","v":"Volker"},null,null,null,null,{"$f":"S1","v":"Vincent"},{"$f":"S5","v":"Werner"}]
[{"$f":"A9","v":"Freilos 3"},{"$f":"A3","v":"Anja"},null,null,null,null,{"$f":"G2","v":"Rosi P."},{"$f":"G3","v":"Robert"},null,null,null,null,{"$f":"M2","v":"Aline"},{"$f":"M3","v":"Manuel"},null,null,null,null,{"$f":"S2","v":"Dirk"},{"$f":"S3","v":"Ralf"}]
[{"$f":"A6","v":"Erich"},{"$f":"A1","v":"Kevin"},null,null,null,null,{"$f":"G6","v":"Rene"},{"$f":"G1","v":"Klaus"},null,null,null,null,{"$f":"M6","v":"Otto"},{"$f":"M1","v":"Stefan"},null,null,null,null,{"$f":"S6","v":"Siggi"},{"$f":"S1","v":"Vincent"}]
["Sasha",{"$f":"A5","v":"Christian"},null,null,null,null,{"$f":"G4","v":"Nicole"},{"$f":"G5","v":"Kerstin"},null,null,null,null,{"$f":"M4","v":"Rosi N."},{"$f":"M5","v":"Volker"},null,null,null,null,{"$f":"S4","v":"Achim"},{"$f":"S5","v":"Werner"}]
[{"$f":"A1","v":"Kevin"},{"$f":"A3","v":"Anja"},null,null,null,null,{"$f":"G1","v":"Klaus"},{"$f":"G3","v":"Robert"},null,null,null,null,{"$f":"M1","v":"Stefan"},{"$f":"M3","v":"Manuel"},null,null,null,null,{"$f":"S1","v":"Vincent"},{"$f":"S3","v":"Ralf"}]
[{"$f":"A2","v":"Freilos 3"},{"$f":"A6","v":"Erich"},null,null,null,null,{"$f":"G2","v":"Rosi P."},{"$f":"G6","v":"Rene"},null,null,null,null,{"$f":"M2","v":"Aline"},{"$f":"M6","v":"Otto"},null,null,null,null,{"$f":"S2","v":"Dirk"},{"$f":"S6","v":"Siggi"}]
["Anja",{"$f":"A4","v":"Sasha"},null,null,null,null,"Robert",{"$f":"G4","v":"Nicole"},null,null,null,null,"Manuel",{"$f":"M4","v":"Rosi N."},null,null,null,null,{"$f":"S3","v":"Ralf"},{"$f":"S4","v":"Achim"}]
[{"$f":"A1","v":"Kevin"},{"$f":"A2","v":"Freilos 3"},null,null,null,null,{"$f":"G1","v":"Klaus"},{"$f":"G2","v":"Rosi P."},null,null,null,null,{"$f":"M1","v":"Stefan"},{"$f":"M2","v":"Aline"},null,null,null,null,{"$f":"S1","v":"Vincent"},{"$f":"S2","v":"Dirk"}]
[{"$f":"A5","v":"Christian"},{"$f":"A6","v":"Erich"},null,null,null,null,{"$f":"G5","v":"Kerstin"},{"$f":"G6","v":"Rene"},null,null,null,null,{"$f":"M5","v":"Volker"},{"$f":"M6","v":"Otto"},null,null,null,null,{"$f":"S5","v":"Werner"},{"$f":"S6","v":"Siggi"}]
[]
[{"$f":"A1","v":"Kevin"},{"$f":"SUM(C8,C14,E16,C18,C21)","v":0},null,null,null,null,{"$f":"G1","v":"Klaus"},{"$f":"SUM(I8,I14,K16,I18,I21)","v":0},null,null,null,null,{"$f":"M1","v":"Stefan"},{"$f":"SUM(O8,O14,Q16,O18,O21)","v":0},null,null,null,null,{"$f":"S1","v":"Vincent"},{"$f":"SUM(U8,U14,W16,U18,U21)","v":0}]
[{"$f":"A2","v":"Freilos 3"},{"$f":"SUM(B24,C9,D11,C15,C19,D21)","v":0},null,null,null,null,{"$f":"G2","v":"Rosi P."},{"$f":"SUM(H24,I9,J11,I15,I19,J21)","v":0},null,null,null,null,{"$f":"M2","v":"Aline"},{"$f":"SUM(N24,O9,P11,O15,O19,P21)","v":0},null,null,null,null,{"$f":"S2","v":"Dirk"},{"$f":"SUM(T24,U9,V11,U15,U19,V21)","v":0}]
["Anja",{"$f":"SUM(C10,D12,D15,D18,C20)","v":0},null,null,null,null,"Robert",{"$f":"SUM(I10,J12,J15,J18,I20)","v":0},null,null,null,null,"Manuel",{"$f":"SUM(O10,P12,P15,P18,O20)","v":0},null,null,null,null,"Ralf",{"$f":"SUM(U10,V12,V15,V18,U20)","v":0}]
["Sasha",{"$f":"SUM(D8,C11,D13,C17,D20)","v":0},null,null,null,null,"Nicole",{"$f":"SUM(J8,I11,J13,I17,J20)","v":0},null,null,null,null,"Rosi N.",{"$f":"SUM(P8,O11,P13,O17,P20)","v":0},null,null,null,null,"Achim",{"$f":"SUM(V8,U11,V13,U17,V20)","v":0}]
["Christian",{"$f":"SUM(B24:B27,D9,C12,D14,D17,C22)","v":0},null,null,null,null,"Kerstin",{"$f":"SUM(H24:H27,J9,I12,J14,J17,I22)","v":0},null,null,null,null,"Volker",{"$f":"SUM(N24:N27,P9,O12,P14,P17,O22)","v":0},null,null,null,null,"Werner",{"$f":"SUM(T24:T27,V9,U12,V14,V17,U22)","v":0}]
["Erich",{"$f":"SUM(B24:B28,D10,C13,C16,D19,D22)","v":0},null,null,null,null,"Rene",{"$f":"SUM(H24:H28,J10,I13,I16,J19,J22)","v":0},null,null,null,null,"Otto",{"$f":"SUM(N24:N28,P10,O13,O16,P19,P22)","v":0},null,null,null,null,"Siggi",{"$f":"SUM(T24:T28,V10,U13,U16,V19,V22)","v":0}]