{"text_format":"1","workbook":"xlsx","n_sheets":2,"sheets":["Start","Tabellen"],"not_rendered":{"charts":0,"images":0,"macros":1,"external_links":0,"defined_names":0,"comments":1,"pivot_tables":0},"unopened":[],"bounds":{"document_bytes":16777216,"sheet_cells":100000,"rows_first":2000,"rows_last":500,"rows_between":2000,"halvings":0,"cell_chars":16384,"cell_head_chars":4096},"cells_cut":0,"cells_raw":0,"read":"whole","date_system":"1900"}

{"sheet":"Start","index":0,"n_rows":26,"n_cols":15,"rows_kept":26,"cut":false,"hidden":false,"merged":[[0,9,0,11]]}
[null,null,null,{"$f":"RAND()","v":0.36545642683774748},null,"Startgeld",5,"Sielgeld - kalkuliert",4,"       Zu zahlen    ",null,null,null,0,0]
["Robert","SP 1","Rene",{"$f":"RAND()","v":0.37456300183749736},null,{"$f":"C2","v":"Rene"},0,{"$f":"Tabellen!Q59","v":0},0,{"$f":"F2","v":"Rene"},{"$f":"ROUNDUP(H2,0)-I2","v":0},0,null,4,5]
["Volker","SP 2","Erich",{"$f":"RAND()","v":0.26140371971695819},null,{"$f":"C3","v":"Erich"},0,{"$f":"Tabellen!Q60","v":0},0,{"$f":"F3","v":"Erich"},{"$f":"ROUNDUP(H3,0)-I3","v":0},0,null,5,8]
["Siggi","SP 3","Dirk",{"$f":"RAND()","v":0.86786263546238196},null,"Dirk",0,{"$f":"Tabellen!Q61","v":0},0,"Dirk",0,0,null,6,10]
["Anja","SP 4","Sasha",{"$f":"RAND()","v":0.80968080849347313},null,"Sasha",0,{"$f":"Tabellen!Q62","v":0},0,"Sasha",0,0,null,7]
["Vincent","SP 5","Vincent",{"$f":"RAND()","v":0.2989060040653474},null,"Vincent",0,{"$f":"Tabellen!Q63","v":0},0,"Vincent",0,0]
["Ralf","SP 6","Christian",{"$f":"RAND()","v":0.61949708926710112},null,"Christian",0,{"$f":"Tabellen!Q64","v":0},0,"Christian",0,0]
["Erich","SP 7","Nicole",{"$f":"RAND()","v":0.29587745991222381},null,"Nicole",0,{"$f":"Tabellen!Q65","v":0},0,"Nicole",0,0]
["Rene","SP 8","Frank",{"$f":"RAND()","v":0.70790676717250578},null,"Frank",0,{"$f":"Tabellen!Q66","v":0},0,"Frank",0,0]
["Nicole","SP 9","Klaus",{"$f":"RAND()","v":0.35895055969246537},null,"Klaus",0,{"$f":"Tabellen!Q67","v":0},0,"Klaus",0,0]
["Frank","SP 10","Kerstin",{"$f":"RAND()","v":0.6139228361736867},null,"Kerstin",0,{"$f":"Tabellen!Q68","v":0},0,"Kerstin",0,0]
["Sasha","SP 11","Aline",{"$f":"RAND()","v":0.81513734136781046},null,"Aline",0,{"$f":"Tabellen!Q69","v":0},0,"Aline",0,0]
["Klaus","SP 12","Manuel",{"$f":"RAND()","v":0.37502241284211191},null,"Manuel",0,{"$f":"Tabellen!Q70","v":0},0,"Manuel",0,0]
["Manuel","SP 13","Robert",{"$f":"RAND()","v":0.67136168238333793},null,"Robert",0,{"$f":"Tabellen!Q71","v":0},0,"Robert",0,0]
["Christian","SP 14","Werner",{"$f":"RAND()","v":0.26725003934823233},null,"Werner",0,{"$f":"Tabellen!Q72","v":0},0,"Werner",0,0]
["Kerstin","SP 15","Kevin",{"$f":"RAND()","v":0.58133322257180309},null,"Kevin",0,{"$f":"Tabellen!Q73","v":0},0,"Kevin",0,0]
["Dirk","SP 16","Achim",{"$f":"RAND()","v":3.5097146141334301E-2},null,"Achim",0,{"$f":"Tabellen!Q74","v":0},0,"Achim",0,0]
["Kevin","SP 17","Anja",{"$f":"RAND()","v":0.3699308909308805},null,"Anja",0,{"$f":"Tabellen!Q75","v":0},0,"Anja",0,0]
["Aline","SP 18","Rosi N.",{"$f":"RAND()","v":0.85995002644442253},null,"Rosi N.",0,{"$f":"Tabellen!Q76","v":0},0,"Rosi N.",0,0]
["Rosi N.","SP 19","Volker",{"$f":"RAND()","v":0.33794867738142598},null,"Volker",0,{"$f":"Tabellen!Q77","v":0},0,"Volker",0,0]
["Rosi P.","SP 20","Siggi",{"$f":"RAND()","v":0.13323737472539887},null,"Siggi",0,{"$f":"Tabellen!Q78","v":0},0,"Siggi",0,0]
["Stefan","SP 21","Ralf",{"$f":"RAND()","v":2.5017442194644857E-2},null,"Ralf",0,{"$f":"Tabellen!Q79","v":0},0,"Ralf",0,0]
["Werner","SP 22","Otto",{"$f":"RAND()","v":0.65499948335099689},null,"Otto",0,{"$f":"Tabellen!Q80","v":0},0,"Otto",0,0]
["Achim","SP 23","Rosi P.",{"$f":"RAND()","v":0.83717577427062395},null,"Rosi P.",0,{"$f":"Tabellen!Q81","v":0},0,"Rosi P.",0,0]
["Otto","SP 24","Stefan",{"$f":"RAND()","v":0.64077293437387062},null,"Stefan",0,{"$f":"Tabellen!Q82","v":0},0,"Stefan",0,0]
[null,null,null,null,null,null,{"$f":"SUM(G2:G25)","v":0},{"$f":"Tabellen!Q83","v":0},null,null,{"$f":"SUM(K2:K25)","v":0}]

{"sheet":"Tabellen","index":1,"n_rows":83,"n_cols":23,"rows_kept":83,"cut":false,"hidden":false,"merged":[[32,12,32,13],[30,18,30,22],[31,18,31,19],[32,18,32,19],[33,6,33,10],[23,20,23,21],[24,20,24,21],[30,0,30,4],[31,0,31,1],[32,0,32,1],[30,6,30,10],[31,6,31,7],[32,6,32,7],[30,12,30,16],[31,12,31,13],[23,2,23,3],[24,2,24,3],[23,8,23,9],[24,8,24,9],[23,14,23,15],[24,14,24,15],[37,0,37,10],[37,12,37,22],[38,1,38,2],[39,1,39,2],[38,13,38,14],[39,13,39,14],[38,16,38,17],[39,16,39,17],[33,0,33,4],[34,0,34,4],[33,12,33,16],[33,18,33,22],[34,18,34,22],[34,6,34,10],[34,12,34,16],[51,7,51,8],[51,10,51,11],[51,13,51,14],[57,6,57,7],[57,8,57,9],[57,10,57,11],[44,13,44,14],[41,7,42,14],[48,7,49,14],[50,7,50,8],[50,10,50,11],[50,13,50,14],[43,7,43,8],[44,7,44,8],[43,10,43,11],[44,10,44,11],[43,13,43,14],[64,6,64,7],[65,6,65,7],[66,6,66,7],[67,6,67,7],[68,6,68,7],[69,6,69,7],[58,6,58,7],[59,6,59,7],[60,6,60,7],[61,6,61,7],[62,6,62,7],[63,6,63,7],[76,6,76,7],[77,6,77,7],[78,6,78,7],[79,6,79,7],[80,6,80,7],[81,6,81,7],[70,6,70,7],[71,6,71,7],[72,6,72,7],[73,6,73,7],[74,6,74,7],[75,6,75,7],[64,8,64,9],[65,8,65,9],[66,8,66,9],[67,8,67,9],[68,8,68,9],[69,8,69,9],[58,8,58,9],[59,8,59,9],[60,8,60,9],[61,8,61,9],[62,8,62,9],[63,8,63,9],[76,8,76,9],[77,8,77,9],[78,8,78,9],[79,8,79,9],[80,8,80,9],[81,8,81,9],[70,8,70,9],[71,8,71,9],[72,8,72,9],[73,8,73,9],[74,8,74,9],[75,8,75,9],[64,10,64,11],[65,10,65,11],[66,10,66,11],[67,10,67,11],[68,10,68,11],[69,10,69,11],[58,10,58,11],[59,10,59,11],[60,10,60,11],[61,10,61,11],[62,10,62,11],[63,10,63,11],[78,10,78,11],[79,10,79,11],[80,10,80,11],[81,10,81,11],[70,10,70,11],[71,10,71,11],[72,10,72,11],[73,10,73,11],[74,10,74,11],[75,10,75,11],[65,2,65,3],[66,2,66,3],[67,2,67,3],[68,2,68,3],[57,2,57,3],[58,2,58,3],[59,2,59,3],[60,2,60,3],[61,2,61,3],[62,2,62,3],[81,2,81,3],[57,4,57,5],[58,4,58,5],[59,4,59,5],[60,4,60,5],[61,4,61,5],[62,4,62,5],[63,4,63,5],[64,4,64,5],[65,4,65,5],[75,2,75,3],[76,2,76,3],[77,2,77,3],[78,2,78,3],[79,2,79,3],[80,2,80,3],[69,2,69,3],[70,2,70,3],[71,2,71,3],[72,2,72,3],[73,2,73,3],[74,2,74,3],[63,2,63,3],[64,2,64,3],[78,4,78,5],[79,4,79,5],[80,4,80,5],[81,4,81,5],[57,13,57,14],[58,13,58,14],[59,13,59,14],[60,13,60,14],[61,13,61,14],[62,13,62,14],[72,4,72,5],[73,4,73,5],[74,4,74,5],[75,4,75,5],[76,4,76,5],[77,4,77,5],[66,4,66,5],[67,4,67,5],[68,4,68,5],[69,4,69,5],[70,4,70,5],[71,4,71,5],[76,10,76,11],[77,10,77,11],[81,13,81,14],[57,15,57,16],[75,13,75,14],[76,13,76,14],[77,13,77,14],[78,13,78,14],[79,13,79,14],[80,13,80,14],[69,13,69,14],[70,13,70,14],[71,13,71,14],[72,13,72,14],[73,13,73,14],[74,13,74,14],[63,13,63,14],[64,13,64,14],[65,13,65,14],[66,13,66,14],[67,13,67,14],[68,13,68,14]]}
[{"$f":"Start!C2","v":"Rene"},null,null,null,null,null,{"$f":"Start!C8","v":"Nicole"},null,null,null,null,null,{"$f":"Start!C14","v":"Robert"},null,null,null,null,null,{"$f":"Start!C20","v":"Volker"}]
[{"$f":"Start!C3","v":"Erich"},null,null,null,null,null,{"$f":"Start!C9","v":"Frank"},null,null,null,null,null,{"$f":"Start!C15","v":"Werner"},null,null,null,null,null,{"$f":"Start!C21","v":"Siggi"}]
[{"$f":"Start!C4","v":"Dirk"},null,null,null,null,null,{"$f":"Start!C10","v":"Klaus"},null,null,null,null,null,{"$f":"Start!C16","v":"Kevin"},null,null,null,null,null,{"$f":"Start!C22","v":"Ralf"}]
[{"$f":"Start!C5","v":"Sasha"},null,null,null,null,null,{"$f":"Start!C11","v":"Kerstin"},null,null,null,null,null,{"$f":"Start!C17","v":"Achim"},null,null,null,null,null,{"$f":"Start!C23","v":"Otto"}]
[{"$f":"Start!C6","v":"Vincent"},null,null,null,null,null,{"$f":"Start!C12","v":"Aline"},null,null,null,null,null,{"$f":"Start!C18","v":"Anja"},null,null,null,null,null,{"$f":"Start!C24","v":"Rosi P."}]
[{"$f":"Start!C7","v":"Christian"},null,null,null,null,null,{"$f":"Start!C13","v":"Manuel"},null,null,null,null,null,{"$f":"Start!C19","v":"Rosi N."},null,null,null,null,null,{"$f":"Start!C25","v":"Stefan"}]
[]
[{"$f":"A1","v":"Rene"},{"$f":"A4","v":"Sasha"},null,null,null,null,{"$f":"G1","v":"Nicole"},{"$f":"G4","v":"Kerstin"},null,null,null,null,{"$f":"M1","v":"Robert"},{"$f":"M4","v":"Achim"},null,null,null,null,{"$f":"S1","v":"Volker"},{"$f":"S4","v":"Otto"}]
[{"$f":"A2","v":"Erich"},{"$f":"A5","v":"Vincent"},null,null,null,null,{"$f":"G2","v":"Frank"},{"$f":"G5","v":"Aline"},null,null,null,null,{"$f":"M2","v":"Werner"},{"$f":"M5","v":"Anja"},null,null,null,null,{"$f":"S2","v":"Siggi"},{"$f":"S5","v":"Rosi P."}]
["Dirk","Christian",null,null,null,null,"Klaus","Manuel",null,null,null,null,"Kevin","Rosi N.",null,null,null,null,"Ralf","Stefan"]
["Sasha",{"$f":"A9","v":"Erich"},null,null,null,null,"Kerstin",{"$f":"G2","v":"Frank"},null,null,null,null,"Achim",{"$f":"M2","v":"Werner"},null,null,null,null,{"$f":"S4","v":"Otto"},{"$f":"S2","v":"Siggi"}]
["Vincent",{"$f":"A10","v":"Dirk"},null,null,null,null,"Aline",{"$f":"G3","v":"Klaus"},null,null,null,null,"Anja",{"$f":"M3","v":"Kevin"},null,null,null,null,{"$f":"S5","v":"Rosi P."},{"$f":"S3","v":"Ralf"}]
["Christian","Sasha",null,null,null,null,"Manuel","Kerstin",null,null,null,null,"Rosi N.",{"$f":"M4","v":"Achim"},null,null,null,null,{"$f":"S6","v":"Stefan"},{"$f":"S4","v":"Otto"}]
[{"$f":"A8","v":"Rene"},"Vincent",null,null,null,null,{"$f":"G1","v":"Nicole"},{"$f":"G5","v":"Aline"},null,null,null,null,{"$f":"M1","v":"Robert"},{"$f":"M5","v":"Anja"},null,null,null,null,{"$f":"S1","v":"Volker"},{"$f":"S5","v":"Rosi P."}]
[{"$f":"A9","v":"Erich"},{"$f":"A3","v":"Dirk"},null,null,null,null,{"$f":"G2","v":"Frank"},{"$f":"G3","v":"Klaus"},null,null,null,null,{"$f":"M2","v":"Werner"},{"$f":"M3","v":"Kevin"},null,null,null,null,{"$f":"S2","v":"Siggi"},{"$f":"S3","v":"Ralf"}]
[{"$f":"A6","v":"Christian"},{"$f":"A1","v":"Rene"},null,null,null,null,{"$f":"G6","v":"Manuel"},{"$f":"G1","v":"Nicole"},null,null,null,null,{"$f":"M6","v":"Rosi N."},{"$f":"M1","v":"Robert"},null,null,null,null,{"$f":"S6","v":"Stefan"},{"$f":"S1","v":"Volker"}]
["Sasha",{"$f":"A5","v":"Vincent"},null,null,null,null,{"$f":"G4","v":"Kerstin"},{"$f":"G5","v":"Aline"},null,null,null,null,{"$f":"M4","v":"Achim"},{"$f":"M5","v":"Anja"},null,null,null,null,{"$f":"S4","v":"Otto"},{"$f":"S5","v":"Rosi P."}]
[{"$f":"A1","v":"Rene"},{"$f":"A3","v":"Dirk"},null,null,null,null,{"$f":"G1","v":"Nicole"},{"$f":"G3","v":"Klaus"},null,null,null,null,{"$f":"M1","v":"Robert"},{"$f":"M3","v":"Kevin"},null,null,null,null,{"$f":"S1","v":"Volker"},{"$f":"S3","v":"Ralf"}]
[{"$f":"A2","v":"Erich"},{"$f":"A6","v":"Christian"},null,null,null,null,{"$f":"G2","v":"Frank"},{"$f":"G6","v":"Manuel"},null,null,null,null,{"$f":"M2","v":"Werner"},{"$f":"M6","v":"Rosi N."},null,null,null,null,{"$f":"S2","v":"Siggi"},{"$f":"S6","v":"Stefan"}]
["Dirk",{"$f":"A4","v":"Sasha"},null,null,null,null,"Klaus",{"$f":"G4","v":"Kerstin"},null,null,null,null,"Kevin",{"$f":"M4","v":"Achim"},null,null,null,null,{"$f":"S3","v":"Ralf"},{"$f":"S4","v":"Otto"}]
[{"$f":"A1","v":"Rene"},{"$f":"A2","v":"Erich"},null,null,null,null,{"$f":"G1","v":"Nicole"},{"$f":"G2","v":"Frank"},null,null,null,null,{"$f":"M1","v":"Robert"},{"$f":"M2","v":"Werner"},null,null,null,null,{"$f":"S1","v":"Volker"},{"$f":"S2","v":"Siggi"}]
[{"$f":"A5","v":"Vincent"},{"$f":"A6","v":"Christian"},null,null,null,null,{"$f":"G5","v":"Aline"},{"$f":"G6","v":"Manuel"},null,null,null,null,{"$f":"M5","v":"Anja"},{"$f":"M6","v":"Rosi N."},null,null,null,null,{"$f":"S5","v":"Rosi P."},{"$f":"S6","v":"Stefan"}]
[]
[{"$f":"A1","v":"Rene"},{"$f":"SUM(C8,C14,D16,C18,C21)","v":0},"Sieger",null,{"$f":"INDEX(A24:A29,MATCH(LARGE(B24:B29,1),B24:B29,0))","v":"Rene"},null,{"$f":"G1","v":"Nicole"},{"$f":"SUM(I8,I14,J16,I18,I21)","v":0},"Sieger",null,{"$f":"INDEX(G24:G29,MATCH(LARGE(H24:H29,1),H24:H29,0))","v":"Nicole"},null,{"$f":"M1","v":"Robert"},{"$f":"SUM(O8,O14,P16,O18,O21)","v":0},"Sieger",null,{"$f":"INDEX(M24:M29,MATCH(LARGE(N24:N29,1),N24:N29,0))","v":"Robert"},null,{"$f":"S1","v":"Volker"},{"$f":"SUM(U8,U14,V16,U18,U21)","v":0},"Sieger",null,{"$f":"INDEX(S24:S29,MATCH(LARGE(T24:T29,1),T24:T29,0))","v":"Volker"}]
[{"$f":"A2","v":"Erich"},{"$f":"SUM(C9,D11,C15,C19,D21)","v":0},"Zweiter",null,{"$f":"INDEX(A24:A29,MATCH(LARGE(B24:B29,2),B24:B29,0))","v":"Rene"},null,{"$f":"G2","v":"Frank"},{"$f":"SUM(I9,J11,I15,I19,J21)","v":0},"Zweiter",null,{"$f":"INDEX(G24:G29,MATCH(LARGE(H24:H29,2),H24:H29,0))","v":"Nicole"},null,{"$f":"M2","v":"Werner"},{"$f":"SUM(O9,P11,O15,O19,P21)","v":0},"Zweiter",null,{"$f":"INDEX(M24:M29,MATCH(LARGE(N24:N29,2),N24:N29,0))","v":"Robert"},null,{"$f":"S2","v":"Siggi"},{"$f":"SUM(U9,V11,U15,U19,V21)","v":0},"Zweiter",null,{"$f":"INDEX(S24:S29,MATCH(LARGE(T24:T29,2),T24:T29,0))","v":"Volker"}]
["Dirk",{"$f":"SUM(C10,D12,D15,D18,C20)","v":0},null,null,{"$f":"INDEX(A24:A29,MATCH(LARGE(B24:B29,3),B24:B29,0))","v":"Rene"},null,"Klaus",{"$f":"SUM(I10,J12,J15,J18,I20)","v":0},null,null,{"$f":"INDEX(G24:G29,MATCH(LARGE(H24:H29,3),H24:H29,0))","v":"Nicole"},null,"Kevin",{"$f":"SUM(O10,P12,P15,P18,O20)","v":0},null,null,{"$f":"INDEX(M24:M29,MATCH(LARGE(N24:N29,3),N24:N29,0))","v":"Robert"},null,"Ralf",{"$f":"SUM(U10,V12,V15,V18,U20)","v":0},null,null,{"$f":"INDEX(S24:S29,MATCH(LARGE(T24:T29,3),T24:T29,0))","v":"Volker"}]
["Sasha",{"$f":"SUM(D8,C11,D13,C17,D20)","v":0},null,null,{"$f":"INDEX(A24:A29,MATCH(LARGE(B24:B29,4),B24:B29,0))","v":"Rene"},null,"Kerstin",{"$f":"SUM(J8,I11,J13,I17,J20)","v":0},null,null,{"$f":"INDEX(G24:G29,MATCH(LARGE(H24:H29,4),H24:H29,0))","v":"Nicole"},null,"Achim",{"$f":"SUM(P8,O11,P13,O17,P20)","v":0},null,null,{"$f":"INDEX(M24:M29,MATCH(LARGE(N24:N29,4),N24:N29,0))","v":"Robert"},null,"Otto",{"$f":"SUM(V8,U11,V13,U17,V20)","v":0},null,null,{"$f":"INDEX(S24:S29,MATCH(LARGE(T24:T29,4),T24:T29,0))","v":"Volker"}]
["Vincent",{"$f":"SUM(,D9,C12,D14,D17,C22)","v":0},null,null,{"$f":"INDEX(A24:A29,MATCH(LARGE(B24:B29,5),B24:B29,0))","v":"Rene"},null,"Aline",{"$f":"SUM(,J9,I12,J14,J17,I22)","v":0},null,null,{"$f":"INDEX(G24:G29,MATCH(LARGE(H24:H29,5),H24:H29,0))","v":"Nicole"},null,"Anja",{"$f":"SUM(,P9,O12,P14,P17,O22)","v":0},null,null,{"$f":"INDEX(M24:M29,MATCH(LARGE(N24:N29,5),N24:N29,0))","v":"Robert"},null,"Rosi P.",{"$f":"SUM(,V9,U12,V14,V17,U22)","v":0},null,null,{"$f":"INDEX(S24:S29,MATCH(LARGE(T24:T29,5),T24:T29,0))","v":"Volker"}]
["Christian",{"$f":"SUM(D10,C13,C16,D19,D22)","v":0},null,null,{"$f":"INDEX(A24:A29,MATCH(LARGE(B24:B29,6),B24:B29,0))","v":"Rene"},null,"Manuel",{"$f":"SUM(J10,I13,I16,J19,J22)","v":0},null,null,{"$f":"INDEX(G24:G29,MATCH(LARGE(H24:H29,6),H24:H29,0))","v":"Nicole"},null,"Rosi N.",{"$f":"SUM(P10,O13,O16,P19,P22)","v":0},null,null,{"$f":"INDEX(M24:M29,MATCH(LARGE(N24:N29,6),N24:N29,0))","v":"Robert"},null,"Stefan",{"$f":"SUM(V10,U13,U16,V19,V22)","v":0},null,null,{"$f":"INDEX(S24:S29,MATCH(LARGE(T24:T29,6),T24:T29,0))","v":"Volker"}]
[null,{"$f":"SUM(B24:B29)","v":0},null,null,null,null,null,{"$f":"SUM(H24:H29)","v":0},null,null,null,null,null,{"$f":"SUM(N24:N29)","v":0},null,null,null,null,null,{"$f":"SUM(T24:T29)","v":0}]
["Viertelfinale 1",null,null,null,null,null,"Viertelfinale 2",null,null,null,null,null,"Viertelfinale 3",null,null,null,null,null,"Viertelfinale 3"]
["Sieger Gruppe 1",null,{"$f":"E24","v":"Rene"},0,{"$f":"INDEX(C32:C33,MATCH(LARGE(D32:D33,1),D32:D33,0))","v":"Rene"},null,"Sieger Gruppe 3",null,{"$f":"Q24","v":"Robert"},0,{"$f":"INDEX(I32:I33,MATCH(LARGE(J32:J33,1),J32:J33,0))","v":"Robert"},null,"Sieger Gruppe 2",null,{"$f":"K24","v":"Nicole"},0,{"$f":"INDEX(O32:O33,MATCH(LARGE(P32:P33,1),P32:P33,0))","v":"Nicole"},null,"Sieger Gruppe 4",null,{"$f":"W24","v":"Volker"},0,{"$f":"INDEX(U32:U33,MATCH(LARGE(V32:V33,1),V32:V33,0))","v":"Volker"}]
["Zweiter Gruppe 3",null,{"$f":"Q25","v":"Robert"},0,{"$f":"INDEX(C32:C33,MATCH(LARGE(D32:D33,2),D32:D33,0))","v":"Rene"},null,"Zweiter Gruppe 1",null,{"$f":"E25","v":"Rene"},0,{"$f":"INDEX(I32:I33,MATCH(LARGE(J32:J33,2),J32:J33,0))","v":"Robert"},null,"Zweiter Gruppe 4",null,{"$f":"W25","v":"Volker"},0,{"$f":"INDEX(O32:O33,MATCH(LARGE(P32:P33,2),P32:P33,0))","v":"Nicole"},null,"Zweiter Gruppe 2",null,{"$f":"K25","v":"Nicole"},0,{"$f":"INDEX(U32:U33,MATCH(LARGE(V32:V33,2),V32:V33,0))","v":"Volker"}]
["Sieger",null,null,null,null,null,"Sieger",null,null,null,null,null,"Sieger",null,null,null,null,null,"Sieger"]
[{"$f":"E32","v":"Rene"},null,null,null,null,null,{"$f":"K32","v":"Robert"},null,null,null,null,null,{"$f":"O32","v":"Nicole"},null,null,null,null,null,{"$f":"U32","v":"Volker"}]
[null,null,null,{"$f":"SUM(D32:D33)","v":0},{"$f":"SUM(D36)/2*0.5","v":0},null,null,null,null,{"$f":"SUM(J32:J33)","v":0},{"$f":"SUM(J36)/2*0.5","v":0},null,null,null,null,{"$f":"SUM(P32:P33)","v":0},{"$f":"SUM(P36)/2*0.5","v":0},null,null,null,null,{"$f":"SUM(V32:V33)","v":0},{"$f":"SUM(V36)/2*0.5","v":0}]
[null,null,null,3,{"$f":"SUM(D37)/2*0.5","v":0.75},null,null,null,null,{"$f":"SUM(J32:J33)","v":0},{"$f":"SUM(J37)/2*0.5","v":0},null,null,null,null,{"$f":"SUM(P32:P33)","v":0},{"$f":"SUM(P37)/2*0.5","v":0},null,null,null,null,{"$f":"SUM(V32:V33)","v":0},{"$f":"SUM(V37)/2*0.5","v":0}]
["Halbfinale 1",null,null,null,null,null,null,null,null,null,null,null,"Halbfinale 2"]
[null,{"$f":"A35","v":"Rene"},null,0,"Sieger:",null,{"$f":"INDEX(B39:B40,MATCH(LARGE(D39:D40,1),D39:D40,0))","v":"Rene"},null,null,null,null,null,null,{"$f":"M35","v":"Nicole"},null,0,"Sieger:",null,{"$f":"INDEX(N39:N40,MATCH(LARGE(P39:P40,1),P39:P40,0))","v":"Nicole"}]
[null,{"$f":"G35","v":"Robert"},null,0,"Zweiter:",null,{"$f":"INDEX(B39:B40,MATCH(LARGE(D39:D40,2),D39:D40,0))","v":"Rene"},null,null,null,null,null,null,{"$f":"S35","v":"Volker"},null,0,"Zweiter:",null,{"$f":"INDEX(N39:N40,MATCH(LARGE(P39:P40,2),P39:P40,0))","v":"Nicole"}]
[null,null,null,{"$f":"SUM(D39:D40)","v":0},{"$f":"SUM(D41)/2*0.5","v":0},null,null,null,null,null,null,null,null,null,null,null,{"$f":"SUM(P39:P40)","v":0},null,{"$f":"SUM(Q41)/2*0.5","v":0}]
[null,null,null,{"$f":"SUM(D39:D40)","v":0},{"$f":"SUM(D42)/2*0.5","v":0},null,null,"Spiel um Platz 3",null,null,null,null,null,null,null,null,{"$f":"SUM(P39:P40)","v":0},null,{"$f":"SUM(S41)","v":0}]
[]
[null,null,null,null,null,null,null,{"$f":"G40","v":"Rene"},null,0,null,null,{"$f":"INDEX(H44:H45,MATCH(LARGE(J44:J45,1),J44:J45,0))","v":"Rene"},"Dritter"]
[null,null,null,null,null,null,null,{"$f":"S40","v":"Nicole"},null,0,null,null,{"$f":"INDEX(H44:H45,MATCH(LARGE(J44:J45,2),J44:J45,0))","v":"Rene"},"Vierter"]
[null,null,null,null,null,null,null,null,null,{"$f":"SUM(J44:J45)","v":0},{"$f":"SUM(J46)/2*0.5","v":0}]
[null,null,null,null,null,null,null,null,null,null,{"$f":"K46","v":0}]
[]
[null,null,null,null,null,null,null,"Finale"]
[]
[null,null,null,null,null,null,null,{"$f":"G39","v":"Rene"},null,null,null,null,{"$f":"INDEX(H51:H52,MATCH(LARGE(J51:J52,1),J51:J52,0))","v":{"$error":"#NUM!"}},"Sieger"]
[null,null,null,null,null,null,null,{"$f":"S39","v":"Nicole"},null,null,null,null,{"$f":"INDEX(H51:H52,MATCH(LARGE(J51:J52,2),J51:J52,0))","v":{"$error":"#NUM!"}},"Zweiter"]
[null,null,null,null,null,null,null,null,null,{"$f":"SUM(J51:J52)","v":0},{"$f":"SUM(J53)/2*0.5","v":0}]
[null,null,null,null,null,null,null,null,null,null,{"$f":"K53","v":0}]
[]
[]
[]
[null,"Vorunde","Viertelfinale 1",null,"Viertelfinale 2",null,"Viertelfinale 3",null,"Viertelfinale 4",null,"Halbfinale 1",null,"Halbfinale 2","Spiel um Platz 3",null,"Finale"]
[{"$f":"A1","v":"Rene"},{"$f":"SUM(B30)/6*0.5","v":0},{"$f":"SUMIF(C32:C33,A59,E36)","v":0},null,{"$f":"SUMIF(I32:I33,A59,K36)","v":0},null,{"$f":"SUMIF(O32:O33,A59,Q36)","v":0},null,{"$f":"SUMIF(U32:U33,A59,W36)","v":0},null,{"$f":"SUMIF(B39:B40,A59,E41)","v":0},null,{"$f":"SUMIF(N39:N40,A59,S41)","v":0},{"$f":"SUMIF(H44:H45,A59,K46)","v":0},null,{"$f":"SUMIF(H51:H52,A59,K53)","v":0},{"$f":"SUM(B59:P59)","v":0},null,{"$f":"ROUNDUP(Q59,0)","v":0}]
[{"$f":"A2","v":"Erich"},{"$f":"SUM(B30)/6*0.5","v":0},{"$f":"SUMIF(C32:C33,A60,E36)","v":0},null,{"$f":"SUMIF(I32:I33,A60,K36)","v":0},null,{"$f":"SUMIF(O32:O33,A60,Q36)","v":0},null,{"$f":"SUMIF(U32:U33,A60,W36)","v":0},null,{"$f":"SUMIF(B39:B40,A60,E41)","v":0},null,{"$f":"SUMIF(N39:N40,A60,S41)","v":0},{"$f":"SUMIF(H44:H45,A60,K46)","v":0},null,{"$f":"SUMIF(H51:H52,A60,K53)","v":0},{"$f":"SUM(B60:P60)","v":0},null,{"$f":"ROUNDUP(Q60,0)","v":0}]
["Dirk",{"$f":"SUM(B30)/6*0.5","v":0},{"$f":"SUMIF(C32:C33,A61,E36)","v":0},null,{"$f":"SUMIF(I32:I33,A61,K36)","v":0},null,{"$f":"SUMIF(O32:O33,A61,Q36)","v":0},null,{"$f":"SUMIF(U32:U33,A61,W36)","v":0},null,{"$f":"SUMIF(B39:B40,A61,E41)","v":0},null,{"$f":"SUMIF(N39:N40,A61,S41)","v":0},{"$f":"SUMIF(H44:H45,A61,K46)","v":0},null,{"$f":"SUMIF(H51:H52,A61,K53)","v":0},0,null,0]
["Sasha",{"$f":"SUM(B30)/6*0.5","v":0},{"$f":"SUMIF(C32:C33,A62,E36)","v":0},null,{"$f":"SUMIF(I32:I33,A62,K36)","v":0},null,{"$f":"SUMIF(O32:O33,A62,Q36)","v":0},null,{"$f":"SUMIF(U32:U33,A62,W36)","v":0},null,{"$f":"SUMIF(B39:B40,A62,E41)","v":0},null,{"$f":"SUMIF(N39:N40,A62,S41)","v":0},{"$f":"SUMIF(H44:H45,A62,K46)","v":0},null,{"$f":"SUMIF(H51:H52,A62,K53)","v":0},0,null,0]
["Vincent",{"$f":"SUM(B30)/6*0.5","v":0},{"$f":"SUMIF(C32:C33,A63,E36)","v":0},null,{"$f":"SUMIF(I32:I33,A63,K36)","v":0},null,{"$f":"SUMIF(O32:O33,A63,Q36)","v":0},null,{"$f":"SUMIF(U32:U33,A63,W36)","v":0},null,{"$f":"SUMIF(B39:B40,A63,E41)","v":0},null,{"$f":"SUMIF(N39:N40,A63,S41)","v":0},{"$f":"SUMIF(H44:H45,A63,K46)","v":0},null,{"$f":"SUMIF(H51:H52,A63,K53)","v":0},0,null,0]
["Christian",{"$f":"SUM(B30)/6*0.5","v":0},{"$f":"SUMIF(C32:C33,A64,E36)","v":0},null,{"$f":"SUMIF(I32:I33,A64,K36)","v":0},null,{"$f":"SUMIF(O32:O33,A64,Q36)","v":0},null,{"$f":"SUMIF(U32:U33,A64,W36)","v":0},null,{"$f":"SUMIF(B39:B40,A64,E41)","v":0},null,{"$f":"SUMIF(N39:N40,A64,S41)","v":0},{"$f":"SUMIF(H44:H45,A64,K46)","v":0},null,{"$f":"SUMIF(H51:H52,A64,K53)","v":0},0,null,0]
[{"$f":"G1","v":"Nicole"},{"$f":"SUM(H30)/6*0.5","v":0},{"$f":"SUMIF(C32:C33,A65,E36)","v":0},null,{"$f":"SUMIF(I32:I33,A65,K36)","v":0},null,{"$f":"SUMIF(O32:O33,A65,Q36)","v":0},null,{"$f":"SUMIF(U32:U33,A65,W36)","v":0},null,{"$f":"SUMIF(B39:B40,A65,E41)","v":0},null,{"$f":"SUMIF(N39:N40,A65,S41)","v":0},{"$f":"SUMIF(H44:H45,A65,K46)","v":0},null,{"$f":"SUMIF(H51:H52,A65,K53)","v":0},0,null,0]
[{"$f":"G2","v":"Frank"},{"$f":"SUM(H30)/6*0.5","v":0},{"$f":"SUMIF(C32:C33,A66,E36)","v":0},null,{"$f":"SUMIF(I32:I33,A66,K36)","v":0},null,{"$f":"SUMIF(O32:O33,A66,Q36)","v":0},null,{"$f":"SUMIF(U32:U33,A66,W36)","v":0},null,{"$f":"SUMIF(B39:B40,A66,E41)","v":0},null,{"$f":"SUMIF(N39:N40,A66,S41)","v":0},{"$f":"SUMIF(H44:H45,A66,K46)","v":0},null,{"$f":"SUMIF(H51:H52,A66,K53)","v":0},0,null,0]
["Klaus",{"$f":"SUM(H30)/6*0.5","v":0},{"$f":"SUMIF(C32:C33,A67,E36)","v":0},null,{"$f":"SUMIF(I32:I33,A67,K36)","v":0},null,{"$f":"SUMIF(O32:O33,A67,Q36)","v":0},null,{"$f":"SUMIF(U32:U33,A67,W36)","v":0},null,{"$f":"SUMIF(B39:B40,A67,E41)","v":0},null,{"$f":"SUMIF(N39:N40,A67,S41)","v":0},{"$f":"SUMIF(H44:H45,A67,K46)","v":0},null,{"$f":"SUMIF(H51:H52,A67,K53)","v":0},0,null,0]
["Kerstin",{"$f":"SUM(H30)/6*0.5","v":0},{"$f":"SUMIF(C32:C33,A68,E36)","v":0},null,{"$f":"SUMIF(I32:I33,A68,K36)","v":0},null,{"$f":"SUMIF(O32:O33,A68,Q36)","v":0},null,{"$f":"SUMIF(U32:U33,A68,W36)","v":0},null,{"$f":"SUMIF(B39:B40,A68,E41)","v":0},null,{"$f":"SUMIF(N39:N40,A68,S41)","v":0},{"$f":"SUMIF(H44:H45,A68,K46)","v":0},null,{"$f":"SUMIF(H51:H52,A68,K53)","v":0},0,null,0]
["Aline",{"$f":"SUM(H30)/6*0.5","v":0},{"$f":"SUMIF(C32:C33,A69,E36)","v":0},null,{"$f":"SUMIF(I32:I33,A69,K36)","v":0},null,{"$f":"SUMIF(O32:O33,A69,Q36)","v":0},null,{"$f":"SUMIF(U32:U33,A69,W36)","v":0},null,{"$f":"SUMIF(B39:B40,A69,E41)","v":0},null,{"$f":"SUMIF(N39:N40,A69,S41)","v":0},{"$f":"SUMIF(H44:H45,A69,K46)","v":0},null,{"$f":"SUMIF(H51:H52,A69,K53)","v":0},0,null,0]
["Manuel",{"$f":"SUM(H30)/6*0.5","v":0},{"$f":"SUMIF(C32:C33,A70,E36)","v":0},null,{"$f":"SUMIF(I32:I33,A70,K36)","v":0},null,{"$f":"SUMIF(O32:O33,A70,Q36)","v":0},null,{"$f":"SUMIF(U32:U33,A70,W36)","v":0},null,{"$f":"SUMIF(B39:B40,A70,E41)","v":0},null,{"$f":"SUMIF(N39:N40,A70,S41)","v":0},{"$f":"SUMIF(H44:H45,A70,K46)","v":0},null,{"$f":"SUMIF(H51:H52,A70,K53)","v":0},0,null,0]
[{"$f":"M1","v":"Robert"},{"$f":"SUM(N30)/6*0.5","v":0},{"$f":"SUMIF(C32:C33,A59,E36)","v":0},null,{"$f":"SUMIF(I32:I33,A71,K36)","v":0},null,{"$f":"SUMIF(O32:O33,A71,Q36)","v":0},null,{"$f":"SUMIF(U32:U33,A71,W36)","v":0},null,{"$f":"SUMIF(B39:B40,A71,E41)","v":0},null,{"$f":"SUMIF(N39:N40,A71,S41)","v":0},{"$f":"SUMIF(H44:H45,A71,K46)","v":0},null,{"$f":"SUMIF(H51:H52,A71,K53)","v":0},0,null,0]
[{"$f":"M2","v":"Werner"},{"$f":"SUM(N30)/6*0.5","v":0},{"$f":"SUMIF(C32:C33,A72,E36)","v":0},null,{"$f":"SUMIF(I32:I33,A72,K36)","v":0},null,{"$f":"SUMIF(O32:O33,A72,Q36)","v":0},null,{"$f":"SUMIF(U32:U33,A72,W36)","v":0},null,{"$f":"SUMIF(B39:B40,A72,E41)","v":0},null,{"$f":"SUMIF(N39:N40,A72,S41)","v":0},{"$f":"SUMIF(H44:H45,A72,K46)","v":0},null,{"$f":"SUMIF(H51:H52,A72,K53)","v":0},0,null,0]
["Kevin",{"$f":"SUM(N30)/6*0.5","v":0},{"$f":"SUMIF(C32:C33,A73,E36)","v":0},null,{"$f":"SUMIF(I32:I33,A73,K36)","v":0},null,{"$f":"SUMIF(O32:O33,A73,Q36)","v":0},null,{"$f":"SUMIF(U32:U33,A73,W36)","v":0},null,{"$f":"SUMIF(B39:B40,A73,E41)","v":0},null,{"$f":"SUMIF(N39:N40,A73,S41)","v":0},{"$f":"SUMIF(H44:H45,A73,K46)","v":0},null,{"$f":"SUMIF(H51:H52,A73,K53)","v":0},0,null,0]
["Achim",{"$f":"SUM(N30)/6*0.5","v":0},{"$f":"SUMIF(C32:C33,A74,E36)","v":0},null,{"$f":"SUMIF(I32:I33,A74,K36)","v":0},null,{"$f":"SUMIF(O32:O33,A74,Q36)","v":0},null,{"$f":"SUMIF(U32:U33,A74,W36)","v":0},null,{"$f":"SUMIF(B39:B40,A74,E41)","v":0},null,{"$f":"SUMIF(N39:N40,A74,S41)","v":0},{"$f":"SUMIF(H44:H45,A74,K46)","v":0},null,{"$f":"SUMIF(H51:H52,A74,K53)","v":0},0,null,0]
["Anja",{"$f":"SUM(N30)/6*0.5","v":0},{"$f":"SUMIF(C32:C33,A75,E36)","v":0},null,{"$f":"SUMIF(I32:I33,A75,K36)","v":0},null,{"$f":"SUMIF(O32:O33,A75,Q36)","v":0},null,{"$f":"SUMIF(U32:U33,A75,W36)","v":0},null,{"$f":"SUMIF(B39:B40,A75,E41)","v":0},null,{"$f":"SUMIF(N39:N40,A75,S41)","v":0},{"$f":"SUMIF(H44:H45,A75,K46)","v":0},null,{"$f":"SUMIF(H51:H52,A75,K53)","v":0},0,null,0]
["Rosi N.",{"$f":"SUM(N30)/6*0.5","v":0},{"$f":"SUMIF(C32:C33,A76,E36)","v":0},null,{"$f":"SUMIF(I32:I33,A76,K36)","v":0},null,{"$f":"SUMIF(O32:O33,A76,Q36)","v":0},null,{"$f":"SUMIF(U32:U33,A76,W36)","v":0},null,{"$f":"SUMIF(B39:B40,A76,E41)","v":0},null,{"$f":"SUMIF(N39:N40,A76,S41)","v":0},{"$f":"SUMIF(H44:H45,A76,K46)","v":0},null,{"$f":"SUMIF(H51:H52,A76,K53)","v":0},0,null,0]
[{"$f":"S1","v":"Volker"},{"$f":"SUM(T30)/6*0.5","v":0},{"$f":"SUMIF(C32:C33,A77,E36)","v":0},null,{"$f":"SUMIF(I32:I33,A77,K36)","v":0},null,{"$f":"SUMIF(O32:O33,A77,Q36)","v":0},null,{"$f":"SUMIF(U32:U33,A77,W36)","v":0},null,{"$f":"SUMIF(B39:B40,A77,E41)","v":0},null,{"$f":"SUMIF(N39:N40,A77,S41)","v":0},{"$f":"SUMIF(H44:H45,A77,K46)","v":0},null,{"$f":"SUMIF(H51:H52,A77,K53)","v":0},0,null,0]
[{"$f":"S2","v":"Siggi"},{"$f":"SUM(T30)/6*0.5","v":0},{"$f":"SUMIF(C32:C33,A78,E36)","v":0},null,{"$f":"SUMIF(I32:I33,A78,K36)","v":0},null,{"$f":"SUMIF(O32:O33,A78,Q36)","v":0},null,{"$f":"SUMIF(U32:U33,A78,W36)","v":0},null,{"$f":"SUMIF(B39:B40,A78,E41)","v":0},null,{"$f":"SUMIF(N39:N40,A78,S41)","v":0},{"$f":"SUMIF(H44:H45,A78,K46)","v":0},null,{"$f":"SUMIF(H51:H52,A78,K53)","v":0},0,null,0]
["Ralf",{"$f":"SUM(T30)/6*0.5","v":0},{"$f":"SUMIF(C32:C33,A79,E36)","v":0},null,{"$f":"SUMIF(I32:I33,A79,K36)","v":0},null,{"$f":"SUMIF(O32:O33,A79,Q36)","v":0},null,{"$f":"SUMIF(U32:U33,A79,W36)","v":0},null,{"$f":"SUMIF(B39:B40,A79,E41)","v":0},null,{"$f":"SUMIF(N39:N40,A79,S41)","v":0},{"$f":"SUMIF(H44:H45,A79,K46)","v":0},null,{"$f":"SUMIF(H51:H52,A79,K53)","v":0},0,null,0]
["Otto",{"$f":"SUM(T30)/6*0.5","v":0},{"$f":"SUMIF(C32:C33,A80,E36)","v":0},null,{"$f":"SUMIF(I32:I33,A80,K36)","v":0},null,{"$f":"SUMIF(O32:O33,A80,Q36)","v":0},null,{"$f":"SUMIF(U32:U33,A80,W36)","v":0},null,{"$f":"SUMIF(B39:B40,A80,E41)","v":0},null,{"$f":"SUMIF(N39:N40,A80,S41)","v":0},{"$f":"SUMIF(H44:H45,A80,K46)","v":0},null,{"$f":"SUMIF(H51:H52,A80,K53)","v":0},0,null,0]
["Rosi P.",{"$f":"SUM(T30)/6*0.5","v":0},{"$f":"SUMIF(C32:C33,A81,E36)","v":0},null,{"$f":"SUMIF(I32:I33,A81,K36)","v":0},null,{"$f":"SUMIF(O32:O33,A81,Q36)","v":0},null,{"$f":"SUMIF(U32:U33,A81,W36)","v":0},null,{"$f":"SUMIF(B39:B40,A81,E41)","v":0},null,{"$f":"SUMIF(N39:N40,A81,S41)","v":0},{"$f":"SUMIF(H44:H45,A81,K46)","v":0},null,{"$f":"SUMIF(H51:H52,A81,K53)","v":0},0,null,0]
["Stefan",{"$f":"SUM(T30)/6*0.5","v":0},{"$f":"SUMIF(C32:C33,A82,E36)","v":0},null,{"$f":"SUMIF(I32:I33,A82,K36)","v":0},null,{"$f":"SUMIF(O32:O33,A82,Q36)","v":0},null,{"$f":"SUMIF(U32:U33,A82,W36)","v":0},null,{"$f":"SUMIF(B39:B40,A82,E41)","v":0},null,{"$f":"SUMIF(N39:N40,A82,S41)","v":0},{"$f":"SUMIF(H44:H45,A82,K46)","v":0},null,{"$f":"SUMIF(H51:H52,A82,K53)","v":0},0,null,0]
[null,null,null,null,null,null,null,null,null,null,null,null,null,null,null,null,{"$f":"SUM(Q59:Q82)","v":0},null,{"$f":"SUM(S59:S82)","v":0}]