{"text_format":"1","workbook":"xlsx","n_sheets":2,"sheets":["Tabelle1","Tabelle2"],"not_rendered":{"charts":0,"images":1,"macros":1,"external_links":0,"defined_names":19,"comments":0,"pivot_tables":0},"unopened":[],"bounds":{"document_bytes":16777216,"sheet_cells":100000,"rows_first":2000,"rows_last":500,"rows_between":2000,"halvings":0,"cell_chars":16384,"cell_head_chars":4096},"cells_cut":0,"cells_raw":0,"read":"whole","date_system":"1900"}

{"sheet":"Tabelle1","index":0,"n_rows":24,"n_cols":17,"rows_kept":24,"cut":false,"hidden":false,"merged":[]}
[]
[null,null,null,null,null,"9 x 1500 mm, 8 x 600 mm, 8 x 220 mm, 30 x 630 mm, 2 x 430 mm, 13 x 390 mm"]
[]
[null,null,"Lattenlänge","Verlust"]
[null,null,2000,5]
[null,null,"Anzahl","Länge",null,null,null,null,null,null,null,1500,600,220,630,430,390]
[null,{"$f":"_xlfn._xlws.FILTER(D7:D16,D7:D16=4)","v":{"$error":"#VALUE!"}},9,1500,{"$f":"IF(C7=0,\"\",C7*D7)","v":13500},null,null,null,null,null,1500]
[null,null,30,630,{"$f":"IF(C8=0,\"\",C8*D8)","v":18900},null,null,null,null,null,600]
[null,null,8,600,4800,null,null,null,null,null,220]
[null,null,2,430,860,null,null,null,null,null,630]
[null,null,13,390,5070,null,null,null,null,null,430]
[null,null,8,220,1760,null,null,null,null,null,390]
[null,null,null,null,""]
[null,null,null,null,""]
[null,null,null,null,""]
[null,null,null,null,""]
[]
[]
[]
[]
[]
[]
[null,null,null,"Summe",{"$f":"SUM(E7:E22)","v":44890}]
[null,null,null,"theor. Anzahl ideal",{"$f":"E23/C5","v":22.445}]

{"sheet":"Tabelle2","index":1,"n_rows":42,"n_cols":12,"rows_kept":42,"cut":false,"hidden":false,"merged":[]}
["Zuschnitt","Zuschnitt","Zuschnitt","Zuschnitt","Zuschnitt","Zuschnitt","Zuschnitt","Zuschnitt","Zuschnitt","Zuschnitt","Summe","Latte Nr"]
[1500,430,null,null,null,null,null,null,null,null,{"$f":"IF(A2=\"\",\"\",SUM(A2:J2)+(COUNTA(A2:J2)-1)*Tabelle1!$D$5)","v":1935},{"$f":"IF(K2=\"\",\"\",ROW()-1)","v":1}]
[1500,430,null,null,null,null,null,null,null,null,{"$f":"IF(A3=\"\",\"\",SUM(A3:J3)+(COUNTA(A3:J3)-1)*Tabelle1!$D$5)","v":1935},{"$f":"IF(K3=\"\",\"\",ROW()-1)","v":2}]
[1500,390,null,null,null,null,null,null,null,null,{"$f":"IF(A4=\"\",\"\",SUM(A4:J4)+(COUNTA(A4:J4)-1)*Tabelle1!$D$5)","v":1895},3]
[1500,390,null,null,null,null,null,null,null,null,{"$f":"IF(A5=\"\",\"\",SUM(A5:J5)+(COUNTA(A5:J5)-1)*Tabelle1!$D$5)","v":1895},4]
[1500,390,null,null,null,null,null,null,null,null,{"$f":"IF(A6=\"\",\"\",SUM(A6:J6)+(COUNTA(A6:J6)-1)*Tabelle1!$D$5)","v":1895},5]
[1500,390,null,null,null,null,null,null,null,null,{"$f":"IF(A7=\"\",\"\",SUM(A7:J7)+(COUNTA(A7:J7)-1)*Tabelle1!$D$5)","v":1895},6]
[1500,390,null,null,null,null,null,null,null,null,{"$f":"IF(A8=\"\",\"\",SUM(A8:J8)+(COUNTA(A8:J8)-1)*Tabelle1!$D$5)","v":1895},7]
[1500,390,null,null,null,null,null,null,null,null,{"$f":"IF(A9=\"\",\"\",SUM(A9:J9)+(COUNTA(A9:J9)-1)*Tabelle1!$D$5)","v":1895},8]
[1500,390,null,null,null,null,null,null,null,null,{"$f":"IF(A10=\"\",\"\",SUM(A10:J10)+(COUNTA(A10:J10)-1)*Tabelle1!$D$5)","v":1895},9]
[630,630,630,null,null,null,null,null,null,null,{"$f":"IF(A11=\"\",\"\",SUM(A11:J11)+(COUNTA(A11:J11)-1)*Tabelle1!$D$5)","v":1900},10]
[630,630,630,null,null,null,null,null,null,null,{"$f":"IF(A12=\"\",\"\",SUM(A12:J12)+(COUNTA(A12:J12)-1)*Tabelle1!$D$5)","v":1900},11]
[630,630,630,null,null,null,null,null,null,null,{"$f":"IF(A13=\"\",\"\",SUM(A13:J13)+(COUNTA(A13:J13)-1)*Tabelle1!$D$5)","v":1900},12]
[630,630,630,null,null,null,null,null,null,null,{"$f":"IF(A14=\"\",\"\",SUM(A14:J14)+(COUNTA(A14:J14)-1)*Tabelle1!$D$5)","v":1900},13]
[630,630,630,null,null,null,null,null,null,null,{"$f":"IF(A15=\"\",\"\",SUM(A15:J15)+(COUNTA(A15:J15)-1)*Tabelle1!$D$5)","v":1900},14]
[630,630,630,null,null,null,null,null,null,null,{"$f":"IF(A16=\"\",\"\",SUM(A16:J16)+(COUNTA(A16:J16)-1)*Tabelle1!$D$5)","v":1900},15]
[630,630,630,null,null,null,null,null,null,null,{"$f":"IF(A17=\"\",\"\",SUM(A17:J17)+(COUNTA(A17:J17)-1)*Tabelle1!$D$5)","v":1900},16]
[630,630,630,null,null,null,null,null,null,null,{"$f":"IF(A18=\"\",\"\",SUM(A18:J18)+(COUNTA(A18:J18)-1)*Tabelle1!$D$5)","v":1900},17]
[630,630,630,null,null,null,null,null,null,null,{"$f":"IF(A19=\"\",\"\",SUM(A19:J19)+(COUNTA(A19:J19)-1)*Tabelle1!$D$5)","v":1900},18]
[630,630,630,null,null,null,null,null,null,null,{"$f":"IF(A20=\"\",\"\",SUM(A20:J20)+(COUNTA(A20:J20)-1)*Tabelle1!$D$5)","v":1900},19]
[600,600,600,null,null,null,null,null,null,null,{"$f":"IF(A21=\"\",\"\",SUM(A21:J21)+(COUNTA(A21:J21)-1)*Tabelle1!$D$5)","v":1810},20]
[600,600,600,null,null,null,null,null,null,null,{"$f":"IF(A22=\"\",\"\",SUM(A22:J22)+(COUNTA(A22:J22)-1)*Tabelle1!$D$5)","v":1810},21]
[600,600,390,390,null,null,null,null,null,null,{"$f":"IF(A23=\"\",\"\",SUM(A23:J23)+(COUNTA(A23:J23)-1)*Tabelle1!$D$5)","v":1995},22]
[390,390,390,390,220,null,null,null,null,null,{"$f":"IF(A24=\"\",\"\",SUM(A24:J24)+(COUNTA(A24:J24)-1)*Tabelle1!$D$5)","v":1800},23]
[220,220,220,220,220,220,220,null,null,null,{"$f":"IF(A25=\"\",\"\",SUM(A25:J25)+(COUNTA(A25:J25)-1)*Tabelle1!$D$5)","v":1570},24]
[null,null,null,null,null,null,null,null,null,null,{"$f":"IF(A26=\"\",\"\",SUM(A26:J26)+(COUNTA(A26:J26)-1)*Tabelle1!$D$5)","v":""},""]
[null,null,null,null,null,null,null,null,null,null,{"$f":"IF(A27=\"\",\"\",SUM(A27:J27)+(COUNTA(A27:J27)-1)*Tabelle1!$D$5)","v":""},""]
[null,null,null,null,null,null,null,null,null,null,{"$f":"IF(A28=\"\",\"\",SUM(A28:J28)+(COUNTA(A28:J28)-1)*Tabelle1!$D$5)","v":""},""]
[null,null,null,null,null,null,null,null,null,null,{"$f":"IF(A29=\"\",\"\",SUM(A29:J29)+(COUNTA(A29:J29)-1)*Tabelle1!$D$5)","v":""},""]
[null,null,null,null,null,null,null,null,null,null,{"$f":"IF(A30=\"\",\"\",SUM(A30:J30)+(COUNTA(A30:J30)-1)*Tabelle1!$D$5)","v":""},""]
[null,null,null,null,null,null,null,null,null,null,{"$f":"IF(A31=\"\",\"\",SUM(A31:J31)+(COUNTA(A31:J31)-1)*Tabelle1!$D$5)","v":""},""]
[null,null,null,null,null,null,null,null,null,null,{"$f":"IF(A32=\"\",\"\",SUM(A32:J32)+(COUNTA(A32:J32)-1)*Tabelle1!$D$5)","v":""},""]
[null,null,null,null,null,null,null,null,null,null,{"$f":"IF(A33=\"\",\"\",SUM(A33:J33)+(COUNTA(A33:J33)-1)*Tabelle1!$D$5)","v":""},""]
[null,null,null,null,null,null,null,null,null,null,{"$f":"IF(A34=\"\",\"\",SUM(A34:J34)+(COUNTA(A34:J34)-1)*Tabelle1!$D$5)","v":""},""]
[null,null,null,null,null,null,null,null,null,null,{"$f":"IF(A35=\"\",\"\",SUM(A35:J35)+(COUNTA(A35:J35)-1)*Tabelle1!$D$5)","v":""}]
[null,null,null,null,null,null,null,null,null,null,{"$f":"IF(A36=\"\",\"\",SUM(A36:J36)+(COUNTA(A36:J36)-1)*Tabelle1!$D$5)","v":""}]
[null,null,null,null,null,null,null,null,null,null,{"$f":"IF(A37=\"\",\"\",SUM(A37:J37)+(COUNTA(A37:J37)-1)*Tabelle1!D40)","v":""}]
[null,null,null,null,null,null,null,null,null,null,{"$f":"IF(A38=\"\",\"\",SUM(A38:J38)+(COUNTA(A38:J38)-1)*Tabelle1!D41)","v":""}]
[null,null,null,null,null,null,null,null,null,null,{"$f":"IF(A39=\"\",\"\",SUM(A39:J39)+(COUNTA(A39:J39)-1)*Tabelle1!D42)","v":""}]
[null,null,null,null,null,null,null,null,null,null,{"$f":"IF(A40=\"\",\"\",SUM(A40:J40)+(COUNTA(A40:J40)-1)*Tabelle1!D43)","v":""}]
[null,null,null,null,null,null,null,null,null,null,{"$f":"IF(A41=\"\",\"\",SUM(A41:J41)+(COUNTA(A41:J41)-1)*Tabelle1!D44)","v":""}]
[null,null,null,null,null,null,null,null,null,null,{"$f":"IF(A42=\"\",\"\",SUM(A42:J42)+(COUNTA(A42:J42)-1)*Tabelle1!D45)","v":""}]