{"text_format":"1","workbook":"xlsx","n_sheets":2,"sheets":["Start","Tabellen"],"not_rendered":{"charts":0,"images":0,"macros":1,"external_links":0,"defined_names":0,"comments":1,"pivot_tables":0},"unopened":[],"bounds":{"document_bytes":16777216,"sheet_cells":100000,"rows_first":2000,"rows_last":500,"rows_between":2000,"halvings":0,"cell_chars":16384,"cell_head_chars":4096},"cells_cut":0,"cells_raw":0,"read":"whole","date_system":"1900"}

{"sheet":"Start","index":0,"n_rows":26,"n_cols":15,"rows_kept":26,"cut":false,"hidden":false,"merged":[[0,9,0,11]]}
[null,null,null,{"$f":"RAND()","v":0.28895400909042412},null,"Startgeld",5,"Sielgeld - kalkuliert",4,"       Zu zahlen    ",null,null,null,0,0]
["Robert","SP 1","Rene",{"$f":"RAND()","v":0.69066135349970126},null,{"$f":"C2","v":"Rene"},0,{"$f":"Tabellen!R71","v":0},0,{"$f":"F2","v":"Rene"},{"$f":"ROUNDUP(H2,0)-I2","v":0},0,null,4,5]
["Volker","SP 2","Erich",0.46075733010363984,null,{"$f":"C3","v":"Erich"},0,{"$f":"Tabellen!R72","v":0},0,{"$f":"F3","v":"Erich"},{"$f":"ROUNDUP(H3,0)-I3","v":0},0,null,5,8]
["Siggi","SP 3","Dirk",0.90069360596306713,null,"Dirk",0,{"$f":"Tabellen!R73","v":0},0,"Dirk",0,0,null,6,10]
["Anja","SP 4","Sasha",0.96645365170401298,null,"Sasha",0,{"$f":"Tabellen!R74","v":0},0,"Sasha",0,0,null,7]
["Vincent","SP 5","Vincent",0.24951442535503254,null,"Vincent",0,{"$f":"Tabellen!R75","v":0},0,"Vincent",0,0]
["Ralf","SP 6","Christian",0.99923181791513849,null,"Christian",0,{"$f":"Tabellen!R76","v":0},0,"Christian",0,0]
["Erich","SP 7","Nicole",5.7775567754657309E-2,null,"Nicole",0,{"$f":"Tabellen!R77","v":0},0,"Nicole",0,0]
["Rene","SP 8","Frank",4.9747051864071912E-3,null,"Frank",0,{"$f":"Tabellen!R78","v":0},0,"Frank",0,0]
["Nicole","SP 9","Klaus",0.78594868398044959,null,"Klaus",0,{"$f":"Tabellen!R79","v":0},0,"Klaus",0,0]
["Frank","SP 10","Kerstin",0.65030311797796525,null,"Kerstin",0,{"$f":"Tabellen!R80","v":0},0,"Kerstin",0,0]
["Sasha","SP 11","Aline",0.47133131105997517,null,"Aline",0,{"$f":"Tabellen!R81","v":0},0,"Aline",0,0]
["Klaus","SP 12","Manuel",0.8891833740056484,null,"Manuel",0,{"$f":"Tabellen!R82","v":0},0,"Manuel",0,0]
["Manuel","SP 13","Robert",0.48121912428654623,null,"Robert",0,{"$f":"Tabellen!R83","v":0},0,"Robert",0,0]
["Christian","SP 14","Werner",1.4457264639634704E-2,null,"Werner",0,{"$f":"Tabellen!R84","v":0},0,"Werner",0,0]
["Kerstin","SP 15","Kevin",0.91799820763934703,null,"Kevin",0,{"$f":"Tabellen!R85","v":0},0,"Kevin",0,0]
["Dirk","SP 16","Achim",0.20286186597072686,null,"Achim",0,{"$f":"Tabellen!R86","v":0},0,"Achim",0,0]
["Kevin","SP 17","Anja",0.54017285347470956,null,"Anja",0,{"$f":"Tabellen!R87","v":0},0,"Anja",0,0]
["Aline","SP 18","Rosi N.",0.2050689878492733,null,"Rosi N.",0,{"$f":"Tabellen!R88","v":0},0,"Rosi N.",0,0]
["Rosi N.","SP 19","Volker",0.74040972173878761,null,"Volker",0,{"$f":"Tabellen!R89","v":0},0,"Volker",0,0]
["Rosi P.","SP 20","Siggi",0.94282533005098068,null,"Siggi",0,{"$f":"Tabellen!R90","v":0},0,"Siggi",0,0]
["Stefan","SP 21","Ralf",0.79145650414028978,null,"Ralf",0,{"$f":"Tabellen!R91","v":0},0,"Ralf",0,0]
["Werner","SP 22","Otto",0.73878063155017437,null,"Otto",0,{"$f":"Tabellen!R92","v":0},0,"Otto",0,0]
["Achim","SP 23","Rosi P.",0.73526941618447528,null,"Rosi P.",0,{"$f":"Tabellen!R93","v":0},0,"Rosi P.",0,0]
["Otto","SP 24","Stefan",0.58853438111752077,null,"Stefan",0,{"$f":"Tabellen!R94","v":0},0,"Stefan",0,0]
[null,null,null,null,null,null,{"$f":"SUM(G2:G25)","v":0},{"$f":"Tabellen!R95","v":0},null,null,{"$f":"SUM(K2:K25)","v":0}]

{"sheet":"Tabellen","index":1,"n_rows":95,"n_cols":24,"rows_kept":95,"cut":false,"hidden":false,"merged":[[93,14,93,15],[69,16,69,17],[87,14,87,15],[88,14,88,15],[89,14,89,15],[90,14,90,15],[91,14,91,15],[92,14,92,15],[81,14,81,15],[82,14,82,15],[83,14,83,15],[84,14,84,15],[85,14,85,15],[86,14,86,15],[75,14,75,15],[76,14,76,15],[77,14,77,15],[78,14,78,15],[79,14,79,15],[80,14,80,15],[90,5,90,6],[91,5,91,6],[92,5,92,6],[93,5,93,6],[69,14,69,15],[70,14,70,15],[71,14,71,15],[72,14,72,15],[73,14,73,15],[74,14,74,15],[84,5,84,6],[85,5,85,6],[86,5,86,6],[87,5,87,6],[88,5,88,6],[89,5,89,6],[78,5,78,6],[79,5,79,6],[80,5,80,6],[81,5,81,6],[82,5,82,6],[83,5,83,6],[88,11,88,12],[89,11,89,12],[93,3,93,4],[69,5,69,6],[70,5,70,6],[71,5,71,6],[72,5,72,6],[73,5,73,6],[74,5,74,6],[75,5,75,6],[76,5,76,6],[77,5,77,6],[87,3,87,4],[88,3,88,4],[89,3,89,4],[90,3,90,4],[91,3,91,4],[92,3,92,4],[81,3,81,4],[82,3,82,4],[83,3,83,4],[84,3,84,4],[85,3,85,4],[86,3,86,4],[75,3,75,4],[76,3,76,4],[77,3,77,4],[78,3,78,4],[79,3,79,4],[80,3,80,4],[69,3,69,4],[70,3,70,4],[71,3,71,4],[72,3,72,4],[73,3,73,4],[74,3,74,4],[90,11,90,12],[91,11,91,12],[92,11,92,12],[93,11,93,12],[82,11,82,12],[83,11,83,12],[84,11,84,12],[85,11,85,12],[86,11,86,12],[87,11,87,12],[76,11,76,12],[77,11,77,12],[78,11,78,12],[79,11,79,12],[80,11,80,12],[81,11,81,12],[70,11,70,12],[71,11,71,12],[72,11,72,12],[73,11,73,12],[74,11,74,12],[75,11,75,12],[88,9,88,10],[89,9,89,10],[90,9,90,10],[91,9,91,10],[92,9,92,10],[93,9,93,10],[82,9,82,10],[83,9,83,10],[84,9,84,10],[85,9,85,10],[86,9,86,10],[87,9,87,10],[76,9,76,10],[77,9,77,10],[78,9,78,10],[79,9,79,10],[80,9,80,10],[81,9,81,10],[70,9,70,10],[71,9,71,10],[72,9,72,10],[73,9,73,10],[74,9,74,10],[75,9,75,10],[88,7,88,8],[89,7,89,8],[90,7,90,8],[91,7,91,8],[92,7,92,8],[93,7,93,8],[82,7,82,8],[83,7,83,8],[84,7,84,8],[85,7,85,8],[86,7,86,8],[87,7,87,8],[76,7,76,8],[77,7,77,8],[78,7,78,8],[79,7,79,8],[80,7,80,8],[81,7,81,8],[70,7,70,8],[71,7,71,8],[72,7,72,8],[73,7,73,8],[74,7,74,8],[75,7,75,8],[63,8,63,9],[63,11,63,12],[63,14,63,15],[69,7,69,8],[69,9,69,10],[69,11,69,12],[56,14,56,15],[53,8,54,15],[60,8,61,15],[62,8,62,9],[62,11,62,12],[62,14,62,15],[55,8,55,9],[56,8,56,9],[55,11,55,12],[56,11,56,12],[55,14,55,15],[49,1,49,11],[49,13,49,23],[50,2,50,3],[51,2,51,3],[50,14,50,15],[51,14,51,15],[50,17,50,18],[51,17,51,18],[45,1,45,5],[46,1,46,5],[45,13,45,17],[45,19,45,23],[46,19,46,23],[46,7,46,11],[46,13,46,17],[44,13,44,14],[42,19,42,23],[43,19,43,20],[44,19,44,20],[45,7,45,11],[35,21,35,22],[36,21,36,22],[42,1,42,5],[43,1,43,2],[44,1,44,2],[42,7,42,11],[43,7,43,8],[44,7,44,8],[42,13,42,17],[43,13,43,14],[35,3,35,4],[36,3,36,4],[35,9,35,10],[36,9,36,10],[35,15,35,16],[36,15,36,16]]}
[null,{"$f":"Start!C2","v":"Rene"},null,null,null,null,null,{"$f":"Start!C8","v":"Nicole"},null,null,null,null,null,{"$f":"Start!C14","v":"Robert"},null,null,null,null,null,{"$f":"Start!C20","v":"Volker"}]
[null,{"$f":"Start!C3","v":"Erich"},null,null,null,null,null,{"$f":"Start!C9","v":"Frank"},null,null,null,null,null,{"$f":"Start!C15","v":"Werner"},null,null,null,null,null,{"$f":"Start!C21","v":"Siggi"}]
[null,{"$f":"Start!C4","v":"Dirk"},null,null,null,null,null,{"$f":"Start!C10","v":"Klaus"},null,null,null,null,null,{"$f":"Start!C16","v":"Kevin"},null,null,null,null,null,{"$f":"Start!C22","v":"Ralf"}]
[null,{"$f":"Start!C5","v":"Sasha"},null,null,null,null,null,{"$f":"Start!C11","v":"Kerstin"},null,null,null,null,null,{"$f":"Start!C17","v":"Achim"},null,null,null,null,null,{"$f":"Start!C23","v":"Otto"}]
[null,{"$f":"Start!C6","v":"Vincent"},null,null,null,null,null,{"$f":"Start!C12","v":"Aline"},null,null,null,null,null,{"$f":"Start!C18","v":"Anja"},null,null,null,null,null,{"$f":"Start!C24","v":"Rosi P."}]
[null,{"$f":"Start!C7","v":"Christian"},null,null,null,null,null,{"$f":"Start!C13","v":"Manuel"},null,null,null,null,null,{"$f":"Start!C19","v":"Rosi N."},null,null,null,null,null,{"$f":"Start!C25","v":"Stefan"}]
[]
[]
[]
[]
[]
[]
[]
[]
[]
[]
[]
[]
[]
[]
[]
[]
[]
[]
[]
[]
[]
[]
[]
[]
[]
[]
[]
[]
[]
[null,{"$f":"B1","v":"Rene"},{"$f":"SUM(D8,D14,E16,D18,D21)","v":0},"Sieger",null,{"$f":"INDEX(B36:B41,MATCH(LARGE(C36:C41,1),C36:C41,0))","v":"Rene"},null,{"$f":"H1","v":"Nicole"},{"$f":"SUM(J8,J14,K16,J18,J21)","v":0},"Sieger",null,{"$f":"INDEX(H36:H41,MATCH(LARGE(I36:I41,1),I36:I41,0))","v":"Nicole"},null,{"$f":"N1","v":"Robert"},{"$f":"SUM(P8,P14,Q16,P18,P21)","v":0},"Sieger",null,{"$f":"INDEX(N36:N41,MATCH(LARGE(O36:O41,1),O36:O41,0))","v":"Robert"},null,{"$f":"T1","v":"Volker"},{"$f":"SUM(V8,V14,W16,V18,V21)","v":0},"Sieger",null,{"$f":"INDEX(T36:T41,MATCH(LARGE(U36:U41,1),U36:U41,0))","v":"Volker"}]
[null,"Erich",{"$f":"SUM(D9,E11,D15,D19,E21)","v":0},"Zweiter",null,{"$f":"INDEX(B36:B41,MATCH(LARGE(C36:C41,2),C36:C41,0))","v":"Rene"},null,"Frank",{"$f":"SUM(J9,K11,J15,J19,K21)","v":0},"Zweiter",null,{"$f":"INDEX(H36:H41,MATCH(LARGE(I36:I41,2),I36:I41,0))","v":"Nicole"},null,"Werner",{"$f":"SUM(P9,Q11,P15,P19,Q21)","v":0},"Zweiter",null,{"$f":"INDEX(N36:N41,MATCH(LARGE(O36:O41,2),O36:O41,0))","v":"Robert"},null,"Siggi",{"$f":"SUM(V9,W11,V15,V19,W21)","v":0},"Zweiter",null,{"$f":"INDEX(T36:T41,MATCH(LARGE(U36:U41,2),U36:U41,0))","v":"Volker"}]
[null,"Dirk",{"$f":"SUM(D10,E12,E15,E18,D20)","v":0},null,null,{"$f":"INDEX(B36:B41,MATCH(LARGE(C36:C41,3),C36:C41,0))","v":"Rene"},null,"Klaus",{"$f":"SUM(J10,K12,K15,K18,J20)","v":0},null,null,{"$f":"INDEX(H36:H41,MATCH(LARGE(I36:I41,3),I36:I41,0))","v":"Nicole"},null,"Kevin",{"$f":"SUM(P10,Q12,Q15,Q18,P20)","v":0},null,null,{"$f":"INDEX(N36:N41,MATCH(LARGE(O36:O41,3),O36:O41,0))","v":"Robert"},null,"Ralf",{"$f":"SUM(V10,W12,W15,W18,V20)","v":0},null,null,{"$f":"INDEX(T36:T41,MATCH(LARGE(U36:U41,3),U36:U41,0))","v":"Volker"}]
[null,"Sasha",{"$f":"SUM(E8,D11,E13,D17,E20)","v":0},null,null,{"$f":"INDEX(B36:B41,MATCH(LARGE(C36:C41,4),C36:C41,0))","v":"Rene"},null,"Kerstin",{"$f":"SUM(K8,J11,K13,J17,K20)","v":0},null,null,{"$f":"INDEX(H36:H41,MATCH(LARGE(I36:I41,4),I36:I41,0))","v":"Nicole"},null,"Achim",{"$f":"SUM(Q8,P11,Q13,P17,Q20)","v":0},null,null,{"$f":"INDEX(N36:N41,MATCH(LARGE(O36:O41,4),O36:O41,0))","v":"Robert"},null,"Otto",{"$f":"SUM(W8,V11,W13,V17,W20)","v":0},null,null,{"$f":"INDEX(T36:T41,MATCH(LARGE(U36:U41,4),U36:U41,0))","v":"Volker"}]
[null,"Vincent",{"$f":"SUM(,E9,D12,E14,E17,D22)","v":0},null,null,{"$f":"INDEX(B36:B41,MATCH(LARGE(C36:C41,5),C36:C41,0))","v":"Rene"},null,"Aline",{"$f":"SUM(,K9,J12,K14,K17,J22)","v":0},null,null,{"$f":"INDEX(H36:H41,MATCH(LARGE(I36:I41,5),I36:I41,0))","v":"Nicole"},null,"Anja",{"$f":"SUM(,Q9,P12,Q14,Q17,P22)","v":0},null,null,{"$f":"INDEX(N36:N41,MATCH(LARGE(O36:O41,5),O36:O41,0))","v":"Robert"},null,"Rosi P.",{"$f":"SUM(,W9,V12,W14,W17,V22)","v":0},null,null,{"$f":"INDEX(T36:T41,MATCH(LARGE(U36:U41,5),U36:U41,0))","v":"Volker"}]
[null,"Christian",{"$f":"SUM(E10,D13,D16,E19,E22)","v":0},null,null,{"$f":"INDEX(B36:B41,MATCH(LARGE(C36:C41,6),C36:C41,0))","v":"Rene"},null,"Manuel",{"$f":"SUM(K10,J13,J16,K19,K22)","v":0},null,null,{"$f":"INDEX(H36:H41,MATCH(LARGE(I36:I41,6),I36:I41,0))","v":"Nicole"},null,"Rosi N.",{"$f":"SUM(Q10,P13,P16,Q19,Q22)","v":0},null,null,{"$f":"INDEX(N36:N41,MATCH(LARGE(O36:O41,6),O36:O41,0))","v":"Robert"},null,"Stefan",{"$f":"SUM(W10,V13,V16,W19,W22)","v":0},null,null,{"$f":"INDEX(T36:T41,MATCH(LARGE(U36:U41,6),U36:U41,0))","v":"Volker"}]
[null,null,{"$f":"SUM(C36:C41)","v":0},null,null,null,null,null,{"$f":"SUM(I36:I41)","v":0},null,null,null,null,null,{"$f":"SUM(O36:O41)","v":0},null,null,null,null,null,{"$f":"SUM(U36:U41)","v":0}]
[null,"Viertelfinale 1",null,null,null,null,null,"Viertelfinale 2",null,null,null,null,null,"Viertelfinale 3",null,null,null,null,null,"Viertelfinale 3"]
[null,"Sieger Gruppe 1",null,{"$f":"F36","v":"Rene"},0,{"$f":"INDEX(D44:D45,MATCH(LARGE(E44:E45,1),E44:E45,0))","v":"Rene"},null,"Sieger Gruppe 3",null,{"$f":"R36","v":"Robert"},0,{"$f":"INDEX(J44:J45,MATCH(LARGE(K44:K45,1),K44:K45,0))","v":"Robert"},null,"Sieger Gruppe 2",null,{"$f":"L36","v":"Nicole"},0,{"$f":"INDEX(P44:P45,MATCH(LARGE(Q44:Q45,1),Q44:Q45,0))","v":"Nicole"},null,"Sieger Gruppe 4",null,{"$f":"X36","v":"Volker"},0,{"$f":"INDEX(V44:V45,MATCH(LARGE(W44:W45,1),W44:W45,0))","v":"Volker"}]
[null,"Zweiter Gruppe 3",null,{"$f":"R37","v":"Robert"},0,{"$f":"INDEX(D44:D45,MATCH(LARGE(E44:E45,2),E44:E45,0))","v":"Rene"},null,"Zweiter Gruppe 1",null,{"$f":"F37","v":"Rene"},0,{"$f":"INDEX(J44:J45,MATCH(LARGE(K44:K45,2),K44:K45,0))","v":"Robert"},null,"Zweiter Gruppe 4",null,{"$f":"X37","v":"Volker"},0,{"$f":"INDEX(P44:P45,MATCH(LARGE(Q44:Q45,2),Q44:Q45,0))","v":"Nicole"},null,"Zweiter Gruppe 2",null,{"$f":"L37","v":"Nicole"},0,{"$f":"INDEX(V44:V45,MATCH(LARGE(W44:W45,2),W44:W45,0))","v":"Volker"}]
[null,"Sieger",null,null,null,null,null,"Sieger",null,null,null,null,null,"Sieger",null,null,null,null,null,"Sieger"]
[null,{"$f":"F44","v":"Rene"},null,null,null,null,null,{"$f":"L44","v":"Robert"},null,null,null,null,null,{"$f":"P44","v":"Nicole"},null,null,null,null,null,{"$f":"V44","v":"Volker"}]
[null,null,null,null,{"$f":"SUM(E44:E45)","v":0},{"$f":"SUM(E48)/2*0.5","v":0},null,null,null,null,{"$f":"SUM(K44:K45)","v":0},{"$f":"SUM(K48)/2*0.5","v":0},null,null,null,null,{"$f":"SUM(Q44:Q45)","v":0},{"$f":"SUM(Q48)/2*0.5","v":0},null,null,null,null,{"$f":"SUM(W44:W45)","v":0},{"$f":"SUM(W48)/2*0.5","v":0}]
[null,null,null,null,3,{"$f":"SUM(E49)/2*0.5","v":0.75},null,null,null,null,{"$f":"SUM(K44:K45)","v":0},{"$f":"SUM(K49)/2*0.5","v":0},null,null,null,null,{"$f":"SUM(Q44:Q45)","v":0},{"$f":"SUM(Q49)/2*0.5","v":0},null,null,null,null,{"$f":"SUM(W44:W45)","v":0},{"$f":"SUM(W49)/2*0.5","v":0}]
[null,"Halbfinale 1",null,null,null,null,null,null,null,null,null,null,null,"Halbfinale 2"]
[null,null,{"$f":"B47","v":"Rene"},null,0,"Sieger:",null,{"$f":"INDEX(C51:C52,MATCH(LARGE(E51:E52,1),E51:E52,0))","v":"Rene"},null,null,null,null,null,null,{"$f":"N47","v":"Nicole"},null,0,"Sieger:",null,{"$f":"INDEX(O51:O52,MATCH(LARGE(Q51:Q52,1),Q51:Q52,0))","v":"Nicole"}]
[null,null,{"$f":"H47","v":"Robert"},null,0,"Zweiter:",null,{"$f":"INDEX(C51:C52,MATCH(LARGE(E51:E52,2),E51:E52,0))","v":"Rene"},null,null,null,null,null,null,{"$f":"T47","v":"Volker"},null,0,"Zweiter:",null,{"$f":"INDEX(O51:O52,MATCH(LARGE(Q51:Q52,2),Q51:Q52,0))","v":"Nicole"}]
[null,null,null,null,{"$f":"SUM(E51:E52)","v":0},{"$f":"SUM(E53)/2*0.5","v":0},null,null,null,null,null,null,null,null,null,null,null,{"$f":"SUM(Q51:Q52)","v":0},null,{"$f":"SUM(R53)/2*0.5","v":0}]
[null,null,null,null,{"$f":"SUM(E51:E52)","v":0},{"$f":"SUM(E54)/2*0.5","v":0},null,null,"Spiel um Platz 3",null,null,null,null,null,null,null,null,{"$f":"SUM(Q51:Q52)","v":0},null,{"$f":"SUM(T53)","v":0}]
[]
[null,null,null,null,null,null,null,null,{"$f":"H52","v":"Rene"},null,0,null,null,{"$f":"INDEX(I56:I57,MATCH(LARGE(K56:K57,1),K56:K57,0))","v":"Rene"},"Dritter"]
[null,null,null,null,null,null,null,null,{"$f":"T52","v":"Nicole"},null,0,null,null,{"$f":"INDEX(I56:I57,MATCH(LARGE(K56:K57,2),K56:K57,0))","v":"Rene"},"Vierter"]
[null,null,null,null,null,null,null,null,null,null,{"$f":"SUM(K56:K57)","v":0},{"$f":"SUM(K58)/2*0.5","v":0}]
[null,null,null,null,null,null,null,null,null,null,null,{"$f":"L58","v":0}]
[]
[null,null,null,null,null,null,null,null,"Finale"]
[]
[null,null,null,null,null,null,null,null,{"$f":"H51","v":"Rene"},null,null,null,null,{"$f":"INDEX(I63:I64,MATCH(LARGE(K63:K64,1),K63:K64,0))","v":{"$error":"#NUM!"}},"Sieger"]
[null,null,null,null,null,null,null,null,{"$f":"T51","v":"Nicole"},null,null,null,null,{"$f":"INDEX(I63:I64,MATCH(LARGE(K63:K64,2),K63:K64,0))","v":{"$error":"#NUM!"}},"Zweiter"]
[null,null,null,null,null,null,null,null,null,null,{"$f":"SUM(K63:K64)","v":0},{"$f":"SUM(K65)/2*0.5","v":0}]
[null,null,null,null,null,null,null,null,null,null,null,{"$f":"L65","v":0}]
[]
[]
[]
[null,null,"Vorunde","Viertelfinale 1",null,"Viertelfinale 2",null,"Viertelfinale 3",null,"Viertelfinale 4",null,"Halbfinale 1",null,"Halbfinale 2","Spiel um Platz 3",null,"Finale"]
[null,{"$f":"B1","v":"Rene"},{"$f":"SUM(C42)/6*0.5","v":0},{"$f":"SUMIF(D44:D45,B71,F48)","v":0},null,{"$f":"SUMIF(J44:J45,B71,L48)","v":0},null,{"$f":"SUMIF(P44:P45,B71,R48)","v":0},null,{"$f":"SUMIF(V44:V45,B71,X48)","v":0},null,{"$f":"SUMIF(C51:C52,B71,F53)","v":0},null,{"$f":"SUMIF(O51:O52,B71,T53)","v":0},{"$f":"SUMIF(I56:I57,B71,L58)","v":0},null,{"$f":"SUMIF(I63:I64,B71,L65)","v":0},{"$f":"SUM(C71:Q71)","v":0},null,{"$f":"ROUNDUP(R71,0)","v":0}]
[null,"Erich",{"$f":"SUM(C42)/6*0.5","v":0},{"$f":"SUMIF(D44:D45,B72,F48)","v":0},null,{"$f":"SUMIF(J44:J45,B72,L48)","v":0},null,{"$f":"SUMIF(P44:P45,B72,R48)","v":0},null,{"$f":"SUMIF(V44:V45,B72,X48)","v":0},null,{"$f":"SUMIF(C51:C52,B72,F53)","v":0},null,{"$f":"SUMIF(O51:O52,B72,T53)","v":0},{"$f":"SUMIF(I56:I57,B72,L58)","v":0},null,{"$f":"SUMIF(I63:I64,B72,L65)","v":0},{"$f":"SUM(C72:Q72)","v":0},null,{"$f":"ROUNDUP(R72,0)","v":0}]
[null,"Dirk",{"$f":"SUM(C42)/6*0.5","v":0},{"$f":"SUMIF(D44:D45,B73,F48)","v":0},null,{"$f":"SUMIF(J44:J45,B73,L48)","v":0},null,{"$f":"SUMIF(P44:P45,B73,R48)","v":0},null,{"$f":"SUMIF(V44:V45,B73,X48)","v":0},null,{"$f":"SUMIF(C51:C52,B73,F53)","v":0},null,{"$f":"SUMIF(O51:O52,B73,T53)","v":0},{"$f":"SUMIF(I56:I57,B73,L58)","v":0},null,{"$f":"SUMIF(I63:I64,B73,L65)","v":0},0,null,0]
[null,"Sasha",{"$f":"SUM(C42)/6*0.5","v":0},{"$f":"SUMIF(D44:D45,B74,F48)","v":0},null,{"$f":"SUMIF(J44:J45,B74,L48)","v":0},null,{"$f":"SUMIF(P44:P45,B74,R48)","v":0},null,{"$f":"SUMIF(V44:V45,B74,X48)","v":0},null,{"$f":"SUMIF(C51:C52,B74,F53)","v":0},null,{"$f":"SUMIF(O51:O52,B74,T53)","v":0},{"$f":"SUMIF(I56:I57,B74,L58)","v":0},null,{"$f":"SUMIF(I63:I64,B74,L65)","v":0},0,null,0]
[null,"Vincent",{"$f":"SUM(C42)/6*0.5","v":0},{"$f":"SUMIF(D44:D45,B75,F48)","v":0},null,{"$f":"SUMIF(J44:J45,B75,L48)","v":0},null,{"$f":"SUMIF(P44:P45,B75,R48)","v":0},null,{"$f":"SUMIF(V44:V45,B75,X48)","v":0},null,{"$f":"SUMIF(C51:C52,B75,F53)","v":0},null,{"$f":"SUMIF(O51:O52,B75,T53)","v":0},{"$f":"SUMIF(I56:I57,B75,L58)","v":0},null,{"$f":"SUMIF(I63:I64,B75,L65)","v":0},0,null,0]
[null,"Christian",{"$f":"SUM(C42)/6*0.5","v":0},{"$f":"SUMIF(D44:D45,B76,F48)","v":0},null,{"$f":"SUMIF(J44:J45,B76,L48)","v":0},null,{"$f":"SUMIF(P44:P45,B76,R48)","v":0},null,{"$f":"SUMIF(V44:V45,B76,X48)","v":0},null,{"$f":"SUMIF(C51:C52,B76,F53)","v":0},null,{"$f":"SUMIF(O51:O52,B76,T53)","v":0},{"$f":"SUMIF(I56:I57,B76,L58)","v":0},null,{"$f":"SUMIF(I63:I64,B76,L65)","v":0},0,null,0]
[null,{"$f":"H1","v":"Nicole"},{"$f":"SUM(I42)/6*0.5","v":0},{"$f":"SUMIF(D44:D45,B77,F48)","v":0},null,{"$f":"SUMIF(J44:J45,B77,L48)","v":0},null,{"$f":"SUMIF(P44:P45,B77,R48)","v":0},null,{"$f":"SUMIF(V44:V45,B77,X48)","v":0},null,{"$f":"SUMIF(C51:C52,B77,F53)","v":0},null,{"$f":"SUMIF(O51:O52,B77,T53)","v":0},{"$f":"SUMIF(I56:I57,B77,L58)","v":0},null,{"$f":"SUMIF(I63:I64,B77,L65)","v":0},0,null,0]
[null,{"$f":"H2","v":"Frank"},{"$f":"SUM(I42)/6*0.5","v":0},{"$f":"SUMIF(D44:D45,B78,F48)","v":0},null,{"$f":"SUMIF(J44:J45,B78,L48)","v":0},null,{"$f":"SUMIF(P44:P45,B78,R48)","v":0},null,{"$f":"SUMIF(V44:V45,B78,X48)","v":0},null,{"$f":"SUMIF(C51:C52,B78,F53)","v":0},null,{"$f":"SUMIF(O51:O52,B78,T53)","v":0},{"$f":"SUMIF(I56:I57,B78,L58)","v":0},null,{"$f":"SUMIF(I63:I64,B78,L65)","v":0},0,null,0]
[null,"Klaus",{"$f":"SUM(I42)/6*0.5","v":0},{"$f":"SUMIF(D44:D45,B79,F48)","v":0},null,{"$f":"SUMIF(J44:J45,B79,L48)","v":0},null,{"$f":"SUMIF(P44:P45,B79,R48)","v":0},null,{"$f":"SUMIF(V44:V45,B79,X48)","v":0},null,{"$f":"SUMIF(C51:C52,B79,F53)","v":0},null,{"$f":"SUMIF(O51:O52,B79,T53)","v":0},{"$f":"SUMIF(I56:I57,B79,L58)","v":0},null,{"$f":"SUMIF(I63:I64,B79,L65)","v":0},0,null,0]
[null,"Kerstin",{"$f":"SUM(I42)/6*0.5","v":0},{"$f":"SUMIF(D44:D45,B80,F48)","v":0},null,{"$f":"SUMIF(J44:J45,B80,L48)","v":0},null,{"$f":"SUMIF(P44:P45,B80,R48)","v":0},null,{"$f":"SUMIF(V44:V45,B80,X48)","v":0},null,{"$f":"SUMIF(C51:C52,B80,F53)","v":0},null,{"$f":"SUMIF(O51:O52,B80,T53)","v":0},{"$f":"SUMIF(I56:I57,B80,L58)","v":0},null,{"$f":"SUMIF(I63:I64,B80,L65)","v":0},0,null,0]
[null,"Aline",{"$f":"SUM(I42)/6*0.5","v":0},{"$f":"SUMIF(D44:D45,B81,F48)","v":0},null,{"$f":"SUMIF(J44:J45,B81,L48)","v":0},null,{"$f":"SUMIF(P44:P45,B81,R48)","v":0},null,{"$f":"SUMIF(V44:V45,B81,X48)","v":0},null,{"$f":"SUMIF(C51:C52,B81,F53)","v":0},null,{"$f":"SUMIF(O51:O52,B81,T53)","v":0},{"$f":"SUMIF(I56:I57,B81,L58)","v":0},null,{"$f":"SUMIF(I63:I64,B81,L65)","v":0},0,null,0]
[null,"Manuel",{"$f":"SUM(I42)/6*0.5","v":0},{"$f":"SUMIF(D44:D45,B82,F48)","v":0},null,{"$f":"SUMIF(J44:J45,B82,L48)","v":0},null,{"$f":"SUMIF(P44:P45,B82,R48)","v":0},null,{"$f":"SUMIF(V44:V45,B82,X48)","v":0},null,{"$f":"SUMIF(C51:C52,B82,F53)","v":0},null,{"$f":"SUMIF(O51:O52,B82,T53)","v":0},{"$f":"SUMIF(I56:I57,B82,L58)","v":0},null,{"$f":"SUMIF(I63:I64,B82,L65)","v":0},0,null,0]
[null,{"$f":"N1","v":"Robert"},{"$f":"SUM(O42)/6*0.5","v":0},{"$f":"SUMIF(D44:D45,B71,F48)","v":0},null,{"$f":"SUMIF(J44:J45,B83,L48)","v":0},null,{"$f":"SUMIF(P44:P45,B83,R48)","v":0},null,{"$f":"SUMIF(V44:V45,B83,X48)","v":0},null,{"$f":"SUMIF(C51:C52,B83,F53)","v":0},null,{"$f":"SUMIF(O51:O52,B83,T53)","v":0},{"$f":"SUMIF(I56:I57,B83,L58)","v":0},null,{"$f":"SUMIF(I63:I64,B83,L65)","v":0},0,null,0]
[null,{"$f":"N2","v":"Werner"},{"$f":"SUM(O42)/6*0.5","v":0},{"$f":"SUMIF(D44:D45,B84,F48)","v":0},null,{"$f":"SUMIF(J44:J45,B84,L48)","v":0},null,{"$f":"SUMIF(P44:P45,B84,R48)","v":0},null,{"$f":"SUMIF(V44:V45,B84,X48)","v":0},null,{"$f":"SUMIF(C51:C52,B84,F53)","v":0},null,{"$f":"SUMIF(O51:O52,B84,T53)","v":0},{"$f":"SUMIF(I56:I57,B84,L58)","v":0},null,{"$f":"SUMIF(I63:I64,B84,L65)","v":0},0,null,0]
[null,"Kevin",{"$f":"SUM(O42)/6*0.5","v":0},{"$f":"SUMIF(D44:D45,B85,F48)","v":0},null,{"$f":"SUMIF(J44:J45,B85,L48)","v":0},null,{"$f":"SUMIF(P44:P45,B85,R48)","v":0},null,{"$f":"SUMIF(V44:V45,B85,X48)","v":0},null,{"$f":"SUMIF(C51:C52,B85,F53)","v":0},null,{"$f":"SUMIF(O51:O52,B85,T53)","v":0},{"$f":"SUMIF(I56:I57,B85,L58)","v":0},null,{"$f":"SUMIF(I63:I64,B85,L65)","v":0},0,null,0]
[null,"Achim",{"$f":"SUM(O42)/6*0.5","v":0},{"$f":"SUMIF(D44:D45,B86,F48)","v":0},null,{"$f":"SUMIF(J44:J45,B86,L48)","v":0},null,{"$f":"SUMIF(P44:P45,B86,R48)","v":0},null,{"$f":"SUMIF(V44:V45,B86,X48)","v":0},null,{"$f":"SUMIF(C51:C52,B86,F53)","v":0},null,{"$f":"SUMIF(O51:O52,B86,T53)","v":0},{"$f":"SUMIF(I56:I57,B86,L58)","v":0},null,{"$f":"SUMIF(I63:I64,B86,L65)","v":0},0,null,0]
[null,"Anja",{"$f":"SUM(O42)/6*0.5","v":0},{"$f":"SUMIF(D44:D45,B87,F48)","v":0},null,{"$f":"SUMIF(J44:J45,B87,L48)","v":0},null,{"$f":"SUMIF(P44:P45,B87,R48)","v":0},null,{"$f":"SUMIF(V44:V45,B87,X48)","v":0},null,{"$f":"SUMIF(C51:C52,B87,F53)","v":0},null,{"$f":"SUMIF(O51:O52,B87,T53)","v":0},{"$f":"SUMIF(I56:I57,B87,L58)","v":0},null,{"$f":"SUMIF(I63:I64,B87,L65)","v":0},0,null,0]
[null,"Rosi N.",{"$f":"SUM(O42)/6*0.5","v":0},{"$f":"SUMIF(D44:D45,B88,F48)","v":0},null,{"$f":"SUMIF(J44:J45,B88,L48)","v":0},null,{"$f":"SUMIF(P44:P45,B88,R48)","v":0},null,{"$f":"SUMIF(V44:V45,B88,X48)","v":0},null,{"$f":"SUMIF(C51:C52,B88,F53)","v":0},null,{"$f":"SUMIF(O51:O52,B88,T53)","v":0},{"$f":"SUMIF(I56:I57,B88,L58)","v":0},null,{"$f":"SUMIF(I63:I64,B88,L65)","v":0},0,null,0]
[null,{"$f":"T1","v":"Volker"},{"$f":"SUM(U42)/6*0.5","v":0},{"$f":"SUMIF(D44:D45,B89,F48)","v":0},null,{"$f":"SUMIF(J44:J45,B89,L48)","v":0},null,{"$f":"SUMIF(P44:P45,B89,R48)","v":0},null,{"$f":"SUMIF(V44:V45,B89,X48)","v":0},null,{"$f":"SUMIF(C51:C52,B89,F53)","v":0},null,{"$f":"SUMIF(O51:O52,B89,T53)","v":0},{"$f":"SUMIF(I56:I57,B89,L58)","v":0},null,{"$f":"SUMIF(I63:I64,B89,L65)","v":0},0,null,0]
[null,{"$f":"T2","v":"Siggi"},{"$f":"SUM(U42)/6*0.5","v":0},{"$f":"SUMIF(D44:D45,B90,F48)","v":0},null,{"$f":"SUMIF(J44:J45,B90,L48)","v":0},null,{"$f":"SUMIF(P44:P45,B90,R48)","v":0},null,{"$f":"SUMIF(V44:V45,B90,X48)","v":0},null,{"$f":"SUMIF(C51:C52,B90,F53)","v":0},null,{"$f":"SUMIF(O51:O52,B90,T53)","v":0},{"$f":"SUMIF(I56:I57,B90,L58)","v":0},null,{"$f":"SUMIF(I63:I64,B90,L65)","v":0},0,null,0]
[null,"Ralf",{"$f":"SUM(U42)/6*0.5","v":0},{"$f":"SUMIF(D44:D45,B91,F48)","v":0},null,{"$f":"SUMIF(J44:J45,B91,L48)","v":0},null,{"$f":"SUMIF(P44:P45,B91,R48)","v":0},null,{"$f":"SUMIF(V44:V45,B91,X48)","v":0},null,{"$f":"SUMIF(C51:C52,B91,F53)","v":0},null,{"$f":"SUMIF(O51:O52,B91,T53)","v":0},{"$f":"SUMIF(I56:I57,B91,L58)","v":0},null,{"$f":"SUMIF(I63:I64,B91,L65)","v":0},0,null,0]
[null,"Otto",{"$f":"SUM(U42)/6*0.5","v":0},{"$f":"SUMIF(D44:D45,B92,F48)","v":0},null,{"$f":"SUMIF(J44:J45,B92,L48)","v":0},null,{"$f":"SUMIF(P44:P45,B92,R48)","v":0},null,{"$f":"SUMIF(V44:V45,B92,X48)","v":0},null,{"$f":"SUMIF(C51:C52,B92,F53)","v":0},null,{"$f":"SUMIF(O51:O52,B92,T53)","v":0},{"$f":"SUMIF(I56:I57,B92,L58)","v":0},null,{"$f":"SUMIF(I63:I64,B92,L65)","v":0},0,null,0]
[null,"Rosi P.",{"$f":"SUM(U42)/6*0.5","v":0},{"$f":"SUMIF(D44:D45,B93,F48)","v":0},null,{"$f":"SUMIF(J44:J45,B93,L48)","v":0},null,{"$f":"SUMIF(P44:P45,B93,R48)","v":0},null,{"$f":"SUMIF(V44:V45,B93,X48)","v":0},null,{"$f":"SUMIF(C51:C52,B93,F53)","v":0},null,{"$f":"SUMIF(O51:O52,B93,T53)","v":0},{"$f":"SUMIF(I56:I57,B93,L58)","v":0},null,{"$f":"SUMIF(I63:I64,B93,L65)","v":0},0,null,0]
[null,"Stefan",{"$f":"SUM(U42)/6*0.5","v":0},{"$f":"SUMIF(D44:D45,B94,F48)","v":0},null,{"$f":"SUMIF(J44:J45,B94,L48)","v":0},null,{"$f":"SUMIF(P44:P45,B94,R48)","v":0},null,{"$f":"SUMIF(V44:V45,B94,X48)","v":0},null,{"$f":"SUMIF(C51:C52,B94,F53)","v":0},null,{"$f":"SUMIF(O51:O52,B94,T53)","v":0},{"$f":"SUMIF(I56:I57,B94,L58)","v":0},null,{"$f":"SUMIF(I63:I64,B94,L65)","v":0},0,null,0]
[null,null,null,null,null,null,null,null,null,null,null,null,null,null,null,null,null,{"$f":"SUM(R71:R94)","v":0},null,{"$f":"SUM(T71:T94)","v":0}]