{"text_format":"1","workbook":"xlsx","n_sheets":2,"sheets":["Tabelle1","Tabelle2"],"not_rendered":{"charts":0,"images":1,"macros":1,"external_links":1,"defined_names":26,"comments":0,"pivot_tables":0},"unopened":[],"bounds":{"document_bytes":16777216,"sheet_cells":100000,"rows_first":2000,"rows_last":500,"rows_between":2000,"halvings":0,"cell_chars":16384,"cell_head_chars":4096},"cells_cut":0,"cells_raw":0,"read":"whole","date_system":"1900"}

{"sheet":"Tabelle1","index":0,"n_rows":562,"n_cols":84,"rows_kept":562,"cut":false,"hidden":false,"merged":[[2,72,2,77],[2,78,2,83],[2,48,2,53],[2,54,2,59],[1,11,1,29],[2,60,2,65],[2,66,2,71],[2,30,2,35],[2,36,2,41],[2,42,2,47],[1,81,1,83],[2,0,2,5],[2,6,2,11],[2,12,2,17],[2,18,2,23],[2,24,2,29],[1,3,1,5],[1,75,1,77],[1,33,1,35],[1,45,1,47],[1,51,1,53]]}
[]
[null,null,null,2025,null,null,null,null,null,null,null,"Hauskalender -XY",null,null,null,null,null,null,null,null,null,null,null,null,null,null,null,null,null,null,null,null,null,"Ramadan",null,null,null,null,null,null,null,null,null,null,null,"Kollege1 U",null,null,null,null,null,"Kollege2 U",null,null,null,null,null,null,null,null,null,null,null,null,null,null,null,null,null,null,null,null,null,null,null,{"$f":"D2+1","v":2026}]
["Januar",null,null,null,null,null,"Februar",null,null,"Februar",null,null,"März",null,null,"März",null,null,"April",null,null,"April",null,null,"Mai",null,null,"Mai",null,null,"Juni",null,null,"Juni",null,null,"Juli",null,null,"Juli",null,null,"August",null,null,"August",null,null,"September",null,null,"September",null,null,"Oktober",null,null,"Oktober",null,null,"November",null,null,"November",null,null,"Dezember",null,null,"Dezember",null,null,"Januar",null,null,"November",null,null,"Februar",null,null,"Dezember"]
[{"$f":"B4","v":"2025-01-01"},{"$f":"C4","v":"2025-01-01"},{"$f":"D4","v":"2025-01-01"},{"$f":"E4","v":"2025-01-01"},{"$f":"DATE(D2,1,1)","v":"2025-01-01"},{"$f":"IF(ISNA(VLOOKUP(E4,Tabelle2!$B$3:$D$501,3,FALSE)),\"\",VLOOKUP(E4,Tabelle2!$B$3:$D$501,3,FALSE))","v":"Neujahr"},{"$f":"H4","v":"2025-02-01"},"2025-02-01","2025-02-01",{"$f":"K4","v":"2025-02-01"},{"$f":"EDATE(E4,1)","v":"2025-02-01"},{"$f":"IF(ISNA(VLOOKUP(K4,Tabelle2!$B$3:$D$501,3,FALSE)),\"\",VLOOKUP(K4,Tabelle2!$B$3:$D$501,3,FALSE))","v":""},{"$f":"N4","v":"2025-03-01"},{"$f":"O4","v":"2025-03-01"},{"$f":"P4","v":"2025-03-01"},{"$f":"Q4","v":"2025-03-01"},{"$f":"EDATE(K4,1)","v":"2025-03-01"},{"$f":"IF(ISNA(VLOOKUP(Q4,Tabelle2!$B$3:$D$501,3,FALSE)),\"\",VLOOKUP(Q4,Tabelle2!$B$3:$D$501,3,FALSE))","v":""},{"$f":"T4","v":"2025-04-01"},{"$f":"U4","v":"2025-04-01"},{"$f":"V4","v":"2025-04-01"},{"$f":"W4","v":"2025-04-01"},{"$f":"EDATE(Q4,1)","v":"2025-04-01"},{"$f":"IF(ISNA(VLOOKUP(W4,Tabelle2!$B$3:$D$501,3,FALSE)),\"\",VLOOKUP(W4,Tabelle2!$B$3:$D$501,3,FALSE))","v":""},{"$f":"Z4","v":"2025-05-01"},{"$f":"AA4","v":"2025-05-01"},{"$f":"AB4","v":"2025-05-01"},{"$f":"AC4","v":"2025-05-01"},{"$f":"EDATE(W4,1)","v":"2025-05-01"},{"$f":"IF(ISNA(VLOOKUP(AC4,Tabelle2!$B$3:$D$501,3,FALSE)),\"\",VLOOKUP(AC4,Tabelle2!$B$3:$D$501,3,FALSE))","v":"Tag der Arbeit"},{"$f":"AF4","v":"2025-06-01"},{"$f":"AG4","v":"2025-06-01"},{"$f":"AH4","v":"2025-06-01"},{"$f":"AI4","v":"2025-06-01"},{"$f":"EDATE(AC4,1)","v":"2025-06-01"},{"$f":"IF(ISNA(VLOOKUP(AI4,Tabelle2!$B$3:$D$501,3,FALSE)),\"\",VLOOKUP(AI4,Tabelle2!$B$3:$D$501,3,FALSE))","v":""},{"$f":"AL4","v":"2025-07-01"},{"$f":"AM4","v":"2025-07-01"},{"$f":"AN4","v":"2025-07-01"},{"$f":"AO4","v":"2025-07-01"},{"$f":"EDATE(AI4,1)","v":"2025-07-01"},{"$f":"IF(ISNA(VLOOKUP(AO4,Tabelle2!$B$3:$D$501,3,FALSE)),\"\",VLOOKUP(AO4,Tabelle2!$B$3:$D$501,3,FALSE))","v":""},{"$f":"AR4","v":"2025-08-01"},{"$f":"AS4","v":"2025-08-01"},{"$f":"AT4","v":"2025-08-01"},{"$f":"AU4","v":"2025-08-01"},{"$f":"EDATE(AO4,1)","v":"2025-08-01"},{"$f":"IF(ISNA(VLOOKUP(AU4,Tabelle2!$B$3:$D$501,3,FALSE)),\"\",VLOOKUP(AU4,Tabelle2!$B$3:$D$501,3,FALSE))","v":""},{"$f":"AX4","v":"2025-09-01"},{"$f":"AY4","v":"2025-09-01"},{"$f":"AZ4","v":"2025-09-01"},{"$f":"BA4","v":"2025-09-01"},{"$f":"EDATE(AU4,1)","v":"2025-09-01"},{"$f":"IF(ISNA(VLOOKUP(BA4,Tabelle2!$B$3:$D$501,3,FALSE)),\"\",VLOOKUP(BA4,Tabelle2!$B$3:$D$501,3,FALSE))","v":""},{"$f":"BD4","v":"2025-10-01"},{"$f":"BE4","v":"2025-10-01"},{"$f":"BF4","v":"2025-10-01"},{"$f":"BG4","v":"2025-10-01"},{"$f":"EDATE(BA4,1)","v":"2025-10-01"},{"$f":"IF(ISNA(VLOOKUP(BG4,Tabelle2!$B$3:$D$501,3,FALSE)),\"\",VLOOKUP(BG4,Tabelle2!$B$3:$D$501,3,FALSE))","v":""},{"$f":"BJ4","v":"2025-11-01"},{"$f":"BK4","v":"2025-11-01"},{"$f":"BL4","v":"2025-11-01"},{"$f":"BM4","v":"2025-11-01"},{"$f":"EDATE(BG4,1)","v":"2025-11-01"},{"$f":"IF(ISNA(VLOOKUP(BM4,Tabelle2!$B$3:$D$501,3,FALSE)),\"\",VLOOKUP(BM4,Tabelle2!$B$3:$D$501,3,FALSE))","v":""},{"$f":"BP4","v":"2025-12-01"},{"$f":"BQ4","v":"2025-12-01"},{"$f":"BR4","v":"2025-12-01"},{"$f":"BS4","v":"2025-12-01"},{"$f":"EDATE(BM4,1)","v":"2025-12-01"},{"$f":"IF(ISNA(VLOOKUP(BS4,Tabelle2!$B$3:$D$501,3,FALSE)),\"\",VLOOKUP(BS4,Tabelle2!$B$3:$D$501,3,FALSE))","v":""},{"$f":"BV4","v":"2026-01-01"},{"$f":"BW4","v":"2026-01-01"},{"$f":"BX4","v":"2026-01-01"},{"$f":"BY4","v":"2026-01-01"},{"$f":"EDATE(BS4,1)","v":"2026-01-01"},{"$f":"IF(ISNA(VLOOKUP(BY4,Tabelle2!$B$3:$D$501,3,FALSE)),\"\",VLOOKUP(BY4,Tabelle2!$B$3:$D$501,3,FALSE))","v":"Neujahr"},{"$f":"CB4","v":"2026-02-01"},{"$f":"CC4","v":"2026-02-01"},{"$f":"CD4","v":"2026-02-01"},{"$f":"CE4","v":"2026-02-01"},{"$f":"EDATE(BY4,1)","v":"2026-02-01"},{"$f":"IF(ISNA(VLOOKUP(CE4,Tabelle2!$B$3:$D$501,3,FALSE)),\"\",VLOOKUP(CE4,Tabelle2!$B$3:$D$501,3,FALSE))","v":""}]
[{"$f":"B5","v":"2025-01-02"},"2025-01-02","2025-01-02",{"$f":"IFERROR(IF(MONTH(D4+1)=MONTH(D$4),D4+1,\"\"),\"\")","v":"2025-01-02"},"2025-01-02",{"$f":"IF(ISNA(VLOOKUP(E5,Tabelle2!$B$3:$D$501,3,FALSE)),\"\",VLOOKUP(E5,Tabelle2!$B$3:$D$501,3,FALSE))","v":""},"2025-02-02","2025-02-02","2025-02-02",{"$f":"IFERROR(IF(MONTH(J4+1)=MONTH(J$4),J4+1,\"\"),\"\")","v":"2025-02-02"},"2025-02-02",{"$f":"IF(ISNA(VLOOKUP(K5,Tabelle2!$B$3:$D$501,3,FALSE)),\"\",VLOOKUP(K5,Tabelle2!$B$3:$D$501,3,FALSE))","v":"Max / Paul"},{"$f":"N5","v":"2025-03-02"},"2025-03-02","2025-03-02",{"$f":"IFERROR(IF(MONTH(P4+1)=MONTH(P$4),P4+1,\"\"),\"\")","v":"2025-03-02"},"2025-03-02",{"$f":"IF(ISNA(VLOOKUP(Q5,Tabelle2!$B$3:$D$501,3,FALSE)),\"\",VLOOKUP(Q5,Tabelle2!$B$3:$D$501,3,FALSE))","v":""},{"$f":"T5","v":"2025-04-02"},"2025-04-02","2025-04-02",{"$f":"IFERROR(IF(MONTH(V4+1)=MONTH(V$4),V4+1,\"\"),\"\")","v":"2025-04-02"},"2025-04-02",{"$f":"IF(ISNA(VLOOKUP(W5,Tabelle2!$B$3:$D$501,3,FALSE)),\"\",VLOOKUP(W5,Tabelle2!$B$3:$D$501,3,FALSE))","v":"Bob"},{"$f":"Z5","v":"2025-05-02"},"2025-05-02","2025-05-02",{"$f":"IFERROR(IF(MONTH(AB4+1)=MONTH(AB$4),AB4+1,\"\"),\"\")","v":"2025-05-02"},"2025-05-02",{"$f":"IF(ISNA(VLOOKUP(AC5,Tabelle2!$B$3:$D$501,3,FALSE)),\"\",VLOOKUP(AC5,Tabelle2!$B$3:$D$501,3,FALSE))","v":"Zaccharia"},{"$f":"AF5","v":"2025-06-02"},"2025-06-02","2025-06-02",{"$f":"IFERROR(IF(MONTH(AH4+1)=MONTH(AH$4),AH4+1,\"\"),\"\")","v":"2025-06-02"},"2025-06-02",{"$f":"IF(ISNA(VLOOKUP(AI5,Tabelle2!$B$3:$D$501,3,FALSE)),\"\",VLOOKUP(AI5,Tabelle2!$B$3:$D$501,3,FALSE))","v":"Leni"},{"$f":"AL5","v":"2025-07-02"},"2025-07-02","2025-07-02",{"$f":"IFERROR(IF(MONTH(AN4+1)=MONTH(AN$4),AN4+1,\"\"),\"\")","v":"2025-07-02"},"2025-07-02",{"$f":"IF(ISNA(VLOOKUP(AO5,Tabelle2!$B$3:$D$501,3,FALSE)),\"\",VLOOKUP(AO5,Tabelle2!$B$3:$D$501,3,FALSE))","v":"Elfriede"},{"$f":"AR5","v":"2025-08-02"},"2025-08-02","2025-08-02",{"$f":"IFERROR(IF(MONTH(AT4+1)=MONTH(AT$4),AT4+1,\"\"),\"\")","v":"2025-08-02"},"2025-08-02",{"$f":"IF(ISNA(VLOOKUP(AU5,Tabelle2!$B$3:$D$501,3,FALSE)),\"\",VLOOKUP(AU5,Tabelle2!$B$3:$D$501,3,FALSE))","v":""},{"$f":"AX5","v":"2025-09-02"},"2025-09-02","2025-09-02",{"$f":"IFERROR(IF(MONTH(AZ4+1)=MONTH(AZ$4),AZ4+1,\"\"),\"\")","v":"2025-09-02"},"2025-09-02",{"$f":"IF(ISNA(VLOOKUP(BA5,Tabelle2!$B$3:$D$501,3,FALSE)),\"\",VLOOKUP(BA5,Tabelle2!$B$3:$D$501,3,FALSE))","v":""},{"$f":"BD5","v":"2025-10-02"},"2025-10-02","2025-10-02",{"$f":"IFERROR(IF(MONTH(BF4+1)=MONTH(BF$4),BF4+1,\"\"),\"\")","v":"2025-10-02"},"2025-10-02",{"$f":"IF(ISNA(VLOOKUP(BG5,Tabelle2!$B$3:$D$501,3,FALSE)),\"\",VLOOKUP(BG5,Tabelle2!$B$3:$D$501,3,FALSE))","v":""},{"$f":"BJ5","v":"2025-11-02"},"2025-11-02","2025-11-02",{"$f":"IFERROR(IF(MONTH(BL4+1)=MONTH(BL$4),BL4+1,\"\"),\"\")","v":"2025-11-02"},"2025-11-02",{"$f":"IF(ISNA(VLOOKUP(BM5,Tabelle2!$B$3:$D$501,3,FALSE)),\"\",VLOOKUP(BM5,Tabelle2!$B$3:$D$501,3,FALSE))","v":"Kagami"},{"$f":"BP5","v":"2025-12-02"},"2025-12-02","2025-12-02",{"$f":"IFERROR(IF(MONTH(BR4+1)=MONTH(BR$4),BR4+1,\"\"),\"\")","v":"2025-12-02"},"2025-12-02",{"$f":"IF(ISNA(VLOOKUP(BS5,Tabelle2!$B$3:$D$501,3,FALSE)),\"\",VLOOKUP(BS5,Tabelle2!$B$3:$D$501,3,FALSE))","v":""},{"$f":"BV5","v":"2026-01-02"},"2026-01-02","2026-01-02",{"$f":"IFERROR(IF(MONTH(BX4+1)=MONTH(BX$4),BX4+1,\"\"),\"\")","v":"2026-01-02"},"2026-01-02",{"$f":"IF(ISNA(VLOOKUP(BY5,Tabelle2!$B$3:$D$501,3,FALSE)),\"\",VLOOKUP(BY5,Tabelle2!$B$3:$D$501,3,FALSE))","v":""},{"$f":"CB5","v":"2026-02-02"},"2026-02-02","2026-02-02",{"$f":"IFERROR(IF(MONTH(CD4+1)=MONTH(CD$4),CD4+1,\"\"),\"\")","v":"2026-02-02"},"2026-02-02",{"$f":"IF(ISNA(VLOOKUP(CE5,Tabelle2!$B$3:$D$501,3,FALSE)),\"\",VLOOKUP(CE5,Tabelle2!$B$3:$D$501,3,FALSE))","v":"Max / Paul"}]
["2025-01-03","2025-01-03","2025-01-03","2025-01-03","2025-01-03",{"$f":"IF(ISNA(VLOOKUP(E6,Tabelle2!$B$3:$D$501,3,FALSE)),\"\",VLOOKUP(E6,Tabelle2!$B$3:$D$501,3,FALSE))","v":"Susanne"},"2025-02-03","2025-02-03","2025-02-03","2025-02-03","2025-02-03",{"$f":"IF(ISNA(VLOOKUP(K6,Tabelle2!$B$3:$D$501,3,FALSE)),\"\",VLOOKUP(K6,Tabelle2!$B$3:$D$501,3,FALSE))","v":""},"2025-03-03","2025-03-03","2025-03-03","2025-03-03","2025-03-03",{"$f":"IF(ISNA(VLOOKUP(Q6,Tabelle2!$B$3:$D$501,3,FALSE)),\"\",VLOOKUP(Q6,Tabelle2!$B$3:$D$501,3,FALSE))","v":"Rosenmontag"},"2025-04-03","2025-04-03","2025-04-03","2025-04-03","2025-04-03",{"$f":"IF(ISNA(VLOOKUP(W6,Tabelle2!$B$3:$D$501,3,FALSE)),\"\",VLOOKUP(W6,Tabelle2!$B$3:$D$501,3,FALSE))","v":"Eliana"},"2025-05-03","2025-05-03","2025-05-03","2025-05-03","2025-05-03",{"$f":"IF(ISNA(VLOOKUP(AC6,Tabelle2!$B$3:$D$501,3,FALSE)),\"\",VLOOKUP(AC6,Tabelle2!$B$3:$D$501,3,FALSE))","v":"Jacob"},"2025-06-03","2025-06-03","2025-06-03","2025-06-03","2025-06-03",{"$f":"IF(ISNA(VLOOKUP(AI6,Tabelle2!$B$3:$D$501,3,FALSE)),\"\",VLOOKUP(AI6,Tabelle2!$B$3:$D$501,3,FALSE))","v":"Marlene"},"2025-07-03","2025-07-03","2025-07-03","2025-07-03","2025-07-03",{"$f":"IF(ISNA(VLOOKUP(AO6,Tabelle2!$B$3:$D$501,3,FALSE)),\"\",VLOOKUP(AO6,Tabelle2!$B$3:$D$501,3,FALSE))","v":""},"2025-08-03","2025-08-03","2025-08-03","2025-08-03","2025-08-03",{"$f":"IF(ISNA(VLOOKUP(AU6,Tabelle2!$B$3:$D$501,3,FALSE)),\"\",VLOOKUP(AU6,Tabelle2!$B$3:$D$501,3,FALSE))","v":""},"2025-09-03","2025-09-03","2025-09-03","2025-09-03","2025-09-03",{"$f":"IF(ISNA(VLOOKUP(BA6,Tabelle2!$B$3:$D$501,3,FALSE)),\"\",VLOOKUP(BA6,Tabelle2!$B$3:$D$501,3,FALSE))","v":""},"2025-10-03","2025-10-03","2025-10-03","2025-10-03","2025-10-03",{"$f":"IF(ISNA(VLOOKUP(BG6,Tabelle2!$B$3:$D$501,3,FALSE)),\"\",VLOOKUP(BG6,Tabelle2!$B$3:$D$501,3,FALSE))","v":"Tag d. Dt. Einheit"},"2025-11-03","2025-11-03","2025-11-03","2025-11-03","2025-11-03",{"$f":"IF(ISNA(VLOOKUP(BM6,Tabelle2!$B$3:$D$501,3,FALSE)),\"\",VLOOKUP(BM6,Tabelle2!$B$3:$D$501,3,FALSE))","v":""},"2025-12-03","2025-12-03","2025-12-03","2025-12-03","2025-12-03",{"$f":"IF(ISNA(VLOOKUP(BS6,Tabelle2!$B$3:$D$501,3,FALSE)),\"\",VLOOKUP(BS6,Tabelle2!$B$3:$D$501,3,FALSE))","v":""},"2026-01-03","2026-01-03","2026-01-03","2026-01-03","2026-01-03",{"$f":"IF(ISNA(VLOOKUP(BY6,Tabelle2!$B$3:$D$501,3,FALSE)),\"\",VLOOKUP(BY6,Tabelle2!$B$3:$D$501,3,FALSE))","v":"Susanne"},"2026-02-03","2026-02-03","2026-02-03","2026-02-03","2026-02-03",{"$f":"IF(ISNA(VLOOKUP(CE6,Tabelle2!$B$3:$D$501,3,FALSE)),\"\",VLOOKUP(CE6,Tabelle2!$B$3:$D$501,3,FALSE))","v":""}]
["2025-01-04","2025-01-04","2025-01-04","2025-01-04","2025-01-04",{"$f":"IF(ISNA(VLOOKUP(E7,Tabelle2!$B$3:$D$501,3,FALSE)),\"\",VLOOKUP(E7,Tabelle2!$B$3:$D$501,3,FALSE))","v":""},"2025-02-04","2025-02-04","2025-02-04","2025-02-04","2025-02-04",{"$f":"IF(ISNA(VLOOKUP(K7,Tabelle2!$B$3:$D$501,3,FALSE)),\"\",VLOOKUP(K7,Tabelle2!$B$3:$D$501,3,FALSE))","v":""},"2025-03-04","2025-03-04","2025-03-04","2025-03-04","2025-03-04",{"$f":"IF(ISNA(VLOOKUP(Q7,Tabelle2!$B$3:$D$501,3,FALSE)),\"\",VLOOKUP(Q7,Tabelle2!$B$3:$D$501,3,FALSE))","v":"Faschingsdienstag"},"2025-04-04","2025-04-04","2025-04-04","2025-04-04","2025-04-04",{"$f":"IF(ISNA(VLOOKUP(W7,Tabelle2!$B$3:$D$501,3,FALSE)),\"\",VLOOKUP(W7,Tabelle2!$B$3:$D$501,3,FALSE))","v":""},"2025-05-04","2025-05-04","2025-05-04","2025-05-04","2025-05-04",{"$f":"IF(ISNA(VLOOKUP(AC7,Tabelle2!$B$3:$D$501,3,FALSE)),\"\",VLOOKUP(AC7,Tabelle2!$B$3:$D$501,3,FALSE))","v":"Elias"},"2025-06-04","2025-06-04","2025-06-04","2025-06-04","2025-06-04",{"$f":"IF(ISNA(VLOOKUP(AI7,Tabelle2!$B$3:$D$501,3,FALSE)),\"\",VLOOKUP(AI7,Tabelle2!$B$3:$D$501,3,FALSE))","v":"Uschi"},"2025-07-04","2025-07-04","2025-07-04","2025-07-04","2025-07-04",{"$f":"IF(ISNA(VLOOKUP(AO7,Tabelle2!$B$3:$D$501,3,FALSE)),\"\",VLOOKUP(AO7,Tabelle2!$B$3:$D$501,3,FALSE))","v":""},"2025-08-04","2025-08-04","2025-08-04","2025-08-04","2025-08-04",{"$f":"IF(ISNA(VLOOKUP(AU7,Tabelle2!$B$3:$D$501,3,FALSE)),\"\",VLOOKUP(AU7,Tabelle2!$B$3:$D$501,3,FALSE))","v":"5. W"},"2025-09-04","2025-09-04","2025-09-04","2025-09-04","2025-09-04",{"$f":"IF(ISNA(VLOOKUP(BA7,Tabelle2!$B$3:$D$501,3,FALSE)),\"\",VLOOKUP(BA7,Tabelle2!$B$3:$D$501,3,FALSE))","v":""},"2025-10-04","2025-10-04","2025-10-04","2025-10-04","2025-10-04",{"$f":"IF(ISNA(VLOOKUP(BG7,Tabelle2!$B$3:$D$501,3,FALSE)),\"\",VLOOKUP(BG7,Tabelle2!$B$3:$D$501,3,FALSE))","v":""},"2025-11-04","2025-11-04","2025-11-04","2025-11-04","2025-11-04",{"$f":"IF(ISNA(VLOOKUP(BM7,Tabelle2!$B$3:$D$501,3,FALSE)),\"\",VLOOKUP(BM7,Tabelle2!$B$3:$D$501,3,FALSE))","v":""},"2025-12-04","2025-12-04","2025-12-04","2025-12-04","2025-12-04",{"$f":"IF(ISNA(VLOOKUP(BS7,Tabelle2!$B$3:$D$501,3,FALSE)),\"\",VLOOKUP(BS7,Tabelle2!$B$3:$D$501,3,FALSE))","v":""},"2026-01-04","2026-01-04","2026-01-04","2026-01-04","2026-01-04",{"$f":"IF(ISNA(VLOOKUP(BY7,Tabelle2!$B$3:$D$501,3,FALSE)),\"\",VLOOKUP(BY7,Tabelle2!$B$3:$D$501,3,FALSE))","v":""},"2026-02-04","2026-02-04","2026-02-04","2026-02-04","2026-02-04",{"$f":"IF(ISNA(VLOOKUP(CE7,Tabelle2!$B$3:$D$501,3,FALSE)),\"\",VLOOKUP(CE7,Tabelle2!$B$3:$D$501,3,FALSE))","v":""}]
["2025-01-05","2025-01-05","2025-01-05","2025-01-05","2025-01-05",{"$f":"IF(ISNA(VLOOKUP(E8,Tabelle2!$B$3:$D$501,3,FALSE)),\"\",VLOOKUP(E8,Tabelle2!$B$3:$D$501,3,FALSE))","v":""},"2025-02-05","2025-02-05","2025-02-05","2025-02-05","2025-02-05",{"$f":"IF(ISNA(VLOOKUP(K8,Tabelle2!$B$3:$D$501,3,FALSE)),\"\",VLOOKUP(K8,Tabelle2!$B$3:$D$501,3,FALSE))","v":"Termin IB / Sam"},"2025-03-05","2025-03-05","2025-03-05","2025-03-05","2025-03-05",{"$f":"IF(ISNA(VLOOKUP(Q8,Tabelle2!$B$3:$D$501,3,FALSE)),\"\",VLOOKUP(Q8,Tabelle2!$B$3:$D$501,3,FALSE))","v":"Aschermittwoch"},"2025-04-05","2025-04-05","2025-04-05","2025-04-05","2025-04-05",{"$f":"IF(ISNA(VLOOKUP(W8,Tabelle2!$B$3:$D$501,3,FALSE)),\"\",VLOOKUP(W8,Tabelle2!$B$3:$D$501,3,FALSE))","v":"Luzie"},"2025-05-05","2025-05-05","2025-05-05","2025-05-05","2025-05-05",{"$f":"IF(ISNA(VLOOKUP(AC8,Tabelle2!$B$3:$D$501,3,FALSE)),\"\",VLOOKUP(AC8,Tabelle2!$B$3:$D$501,3,FALSE))","v":""},"2025-06-05","2025-06-05","2025-06-05","2025-06-05","2025-06-05",{"$f":"IF(ISNA(VLOOKUP(AI8,Tabelle2!$B$3:$D$501,3,FALSE)),\"\",VLOOKUP(AI8,Tabelle2!$B$3:$D$501,3,FALSE))","v":"Alina"},"2025-07-05","2025-07-05","2025-07-05","2025-07-05","2025-07-05",{"$f":"IF(ISNA(VLOOKUP(AO8,Tabelle2!$B$3:$D$501,3,FALSE)),\"\",VLOOKUP(AO8,Tabelle2!$B$3:$D$501,3,FALSE))","v":"Karim / Karin"},"2025-08-05","2025-08-05","2025-08-05","2025-08-05","2025-08-05",{"$f":"IF(ISNA(VLOOKUP(AU8,Tabelle2!$B$3:$D$501,3,FALSE)),\"\",VLOOKUP(AU8,Tabelle2!$B$3:$D$501,3,FALSE))","v":""},"2025-09-05","2025-09-05","2025-09-05","2025-09-05","2025-09-05",{"$f":"IF(ISNA(VLOOKUP(BA8,Tabelle2!$B$3:$D$501,3,FALSE)),\"\",VLOOKUP(BA8,Tabelle2!$B$3:$D$501,3,FALSE))","v":""},"2025-10-05","2025-10-05","2025-10-05","2025-10-05","2025-10-05",{"$f":"IF(ISNA(VLOOKUP(BG8,Tabelle2!$B$3:$D$501,3,FALSE)),\"\",VLOOKUP(BG8,Tabelle2!$B$3:$D$501,3,FALSE))","v":"Erntedank"},"2025-11-05","2025-11-05","2025-11-05","2025-11-05","2025-11-05",{"$f":"IF(ISNA(VLOOKUP(BM8,Tabelle2!$B$3:$D$501,3,FALSE)),\"\",VLOOKUP(BM8,Tabelle2!$B$3:$D$501,3,FALSE))","v":""},"2025-12-05","2025-12-05","2025-12-05","2025-12-05","2025-12-05",{"$f":"IF(ISNA(VLOOKUP(BS8,Tabelle2!$B$3:$D$501,3,FALSE)),\"\",VLOOKUP(BS8,Tabelle2!$B$3:$D$501,3,FALSE))","v":""},"2026-01-05","2026-01-05","2026-01-05","2026-01-05","2026-01-05",{"$f":"IF(ISNA(VLOOKUP(BY8,Tabelle2!$B$3:$D$501,3,FALSE)),\"\",VLOOKUP(BY8,Tabelle2!$B$3:$D$501,3,FALSE))","v":""},"2026-02-05","2026-02-05","2026-02-05","2026-02-05","2026-02-05",{"$f":"IF(ISNA(VLOOKUP(CE8,Tabelle2!$B$3:$D$501,3,FALSE)),\"\",VLOOKUP(CE8,Tabelle2!$B$3:$D$501,3,FALSE))","v":"Sam"}]
["2025-01-06","2025-01-06","2025-01-06","2025-01-06","2025-01-06",{"$f":"IF(ISNA(VLOOKUP(E9,Tabelle2!$B$3:$D$501,3,FALSE)),\"\",VLOOKUP(E9,Tabelle2!$B$3:$D$501,3,FALSE))","v":"Heilige 3 Könige / Stefan"},"2025-02-06","2025-02-06","2025-02-06","2025-02-06","2025-02-06",{"$f":"IF(ISNA(VLOOKUP(K9,Tabelle2!$B$3:$D$501,3,FALSE)),\"\",VLOOKUP(K9,Tabelle2!$B$3:$D$501,3,FALSE))","v":"Projekt"},"2025-03-06","2025-03-06","2025-03-06","2025-03-06","2025-03-06",{"$f":"IF(ISNA(VLOOKUP(Q9,Tabelle2!$B$3:$D$501,3,FALSE)),\"\",VLOOKUP(Q9,Tabelle2!$B$3:$D$501,3,FALSE))","v":"Projekt / Tom / Lilu"},"2025-04-06","2025-04-06","2025-04-06","2025-04-06","2025-04-06",{"$f":"IF(ISNA(VLOOKUP(W9,Tabelle2!$B$3:$D$501,3,FALSE)),\"\",VLOOKUP(W9,Tabelle2!$B$3:$D$501,3,FALSE))","v":""},"2025-05-06","2025-05-06","2025-05-06","2025-05-06","2025-05-06",{"$f":"IF(ISNA(VLOOKUP(AC9,Tabelle2!$B$3:$D$501,3,FALSE)),\"\",VLOOKUP(AC9,Tabelle2!$B$3:$D$501,3,FALSE))","v":""},"2025-06-06","2025-06-06","2025-06-06","2025-06-06","2025-06-06",{"$f":"IF(ISNA(VLOOKUP(AI9,Tabelle2!$B$3:$D$501,3,FALSE)),\"\",VLOOKUP(AI9,Tabelle2!$B$3:$D$501,3,FALSE))","v":"Daniel"},"2025-07-06","2025-07-06","2025-07-06","2025-07-06","2025-07-06",{"$f":"IF(ISNA(VLOOKUP(AO9,Tabelle2!$B$3:$D$501,3,FALSE)),\"\",VLOOKUP(AO9,Tabelle2!$B$3:$D$501,3,FALSE))","v":""},"2025-08-06","2025-08-06","2025-08-06","2025-08-06","2025-08-06",{"$f":"IF(ISNA(VLOOKUP(AU9,Tabelle2!$B$3:$D$501,3,FALSE)),\"\",VLOOKUP(AU9,Tabelle2!$B$3:$D$501,3,FALSE))","v":""},"2025-09-06","2025-09-06","2025-09-06","2025-09-06","2025-09-06",{"$f":"IF(ISNA(VLOOKUP(BA9,Tabelle2!$B$3:$D$501,3,FALSE)),\"\",VLOOKUP(BA9,Tabelle2!$B$3:$D$501,3,FALSE))","v":"Jola"},"2025-10-06","2025-10-06","2025-10-06","2025-10-06","2025-10-06",{"$f":"IF(ISNA(VLOOKUP(BG9,Tabelle2!$B$3:$D$501,3,FALSE)),\"\",VLOOKUP(BG9,Tabelle2!$B$3:$D$501,3,FALSE))","v":"1. W"},"2025-11-06","2025-11-06","2025-11-06","2025-11-06","2025-11-06",{"$f":"IF(ISNA(VLOOKUP(BM9,Tabelle2!$B$3:$D$501,3,FALSE)),\"\",VLOOKUP(BM9,Tabelle2!$B$3:$D$501,3,FALSE))","v":""},"2025-12-06","2025-12-06","2025-12-06","2025-12-06","2025-12-06",{"$f":"IF(ISNA(VLOOKUP(BS9,Tabelle2!$B$3:$D$501,3,FALSE)),\"\",VLOOKUP(BS9,Tabelle2!$B$3:$D$501,3,FALSE))","v":"Nikolaus / Thorsten"},"2026-01-06","2026-01-06","2026-01-06","2026-01-06","2026-01-06",{"$f":"IF(ISNA(VLOOKUP(BY9,Tabelle2!$B$3:$D$501,3,FALSE)),\"\",VLOOKUP(BY9,Tabelle2!$B$3:$D$501,3,FALSE))","v":"Heilige 3 Könige / Stefan"},"2026-02-06","2026-02-06","2026-02-06","2026-02-06","2026-02-06",{"$f":"IF(ISNA(VLOOKUP(CE9,Tabelle2!$B$3:$D$501,3,FALSE)),\"\",VLOOKUP(CE9,Tabelle2!$B$3:$D$501,3,FALSE))","v":""}]
["2025-01-07","2025-01-07","2025-01-07","2025-01-07","2025-01-07",{"$f":"IF(ISNA(VLOOKUP(E10,Tabelle2!$B$3:$D$501,3,FALSE)),\"\",VLOOKUP(E10,Tabelle2!$B$3:$D$501,3,FALSE))","v":""},"2025-02-07","2025-02-07","2025-02-07","2025-02-07","2025-02-07",{"$f":"IF(ISNA(VLOOKUP(K10,Tabelle2!$B$3:$D$501,3,FALSE)),\"\",VLOOKUP(K10,Tabelle2!$B$3:$D$501,3,FALSE))","v":""},"2025-03-07","2025-03-07","2025-03-07","2025-03-07","2025-03-07",{"$f":"IF(ISNA(VLOOKUP(Q10,Tabelle2!$B$3:$D$501,3,FALSE)),\"\",VLOOKUP(Q10,Tabelle2!$B$3:$D$501,3,FALSE))","v":""},"2025-04-07","2025-04-07","2025-04-07","2025-04-07","2025-04-07",{"$f":"IF(ISNA(VLOOKUP(W10,Tabelle2!$B$3:$D$501,3,FALSE)),\"\",VLOOKUP(W10,Tabelle2!$B$3:$D$501,3,FALSE))","v":"1. W"},"2025-05-07","2025-05-07","2025-05-07","2025-05-07","2025-05-07",{"$f":"IF(ISNA(VLOOKUP(AC10,Tabelle2!$B$3:$D$501,3,FALSE)),\"\",VLOOKUP(AC10,Tabelle2!$B$3:$D$501,3,FALSE))","v":""},"2025-06-07","2025-06-07","2025-06-07","2025-06-07","2025-06-07",{"$f":"IF(ISNA(VLOOKUP(AI10,Tabelle2!$B$3:$D$501,3,FALSE)),\"\",VLOOKUP(AI10,Tabelle2!$B$3:$D$501,3,FALSE))","v":""},"2025-07-07","2025-07-07","2025-07-07","2025-07-07","2025-07-07",{"$f":"IF(ISNA(VLOOKUP(AO10,Tabelle2!$B$3:$D$501,3,FALSE)),\"\",VLOOKUP(AO10,Tabelle2!$B$3:$D$501,3,FALSE))","v":"1. W / Arda"},"2025-08-07","2025-08-07","2025-08-07","2025-08-07","2025-08-07",{"$f":"IF(ISNA(VLOOKUP(AU10,Tabelle2!$B$3:$D$501,3,FALSE)),\"\",VLOOKUP(AU10,Tabelle2!$B$3:$D$501,3,FALSE))","v":""},"2025-09-07","2025-09-07","2025-09-07","2025-09-07","2025-09-07",{"$f":"IF(ISNA(VLOOKUP(BA10,Tabelle2!$B$3:$D$501,3,FALSE)),\"\",VLOOKUP(BA10,Tabelle2!$B$3:$D$501,3,FALSE))","v":""},"2025-10-07","2025-10-07","2025-10-07","2025-10-07","2025-10-07",{"$f":"IF(ISNA(VLOOKUP(BG10,Tabelle2!$B$3:$D$501,3,FALSE)),\"\",VLOOKUP(BG10,Tabelle2!$B$3:$D$501,3,FALSE))","v":""},"2025-11-07","2025-11-07","2025-11-07","2025-11-07","2025-11-07",{"$f":"IF(ISNA(VLOOKUP(BM10,Tabelle2!$B$3:$D$501,3,FALSE)),\"\",VLOOKUP(BM10,Tabelle2!$B$3:$D$501,3,FALSE))","v":"Rose"},"2025-12-07","2025-12-07","2025-12-07","2025-12-07","2025-12-07",{"$f":"IF(ISNA(VLOOKUP(BS10,Tabelle2!$B$3:$D$501,3,FALSE)),\"\",VLOOKUP(BS10,Tabelle2!$B$3:$D$501,3,FALSE))","v":"2. Advent"},"2026-01-07","2026-01-07","2026-01-07","2026-01-07","2026-01-07",{"$f":"IF(ISNA(VLOOKUP(BY10,Tabelle2!$B$3:$D$501,3,FALSE)),\"\",VLOOKUP(BY10,Tabelle2!$B$3:$D$501,3,FALSE))","v":""},"2026-02-07","2026-02-07","2026-02-07","2026-02-07","2026-02-07",{"$f":"IF(ISNA(VLOOKUP(CE10,Tabelle2!$B$3:$D$501,3,FALSE)),\"\",VLOOKUP(CE10,Tabelle2!$B$3:$D$501,3,FALSE))","v":""}]
["2025-01-08","2025-01-08","2025-01-08","2025-01-08","2025-01-08",{"$f":"IF(ISNA(VLOOKUP(E11,Tabelle2!$B$3:$D$501,3,FALSE)),\"\",VLOOKUP(E11,Tabelle2!$B$3:$D$501,3,FALSE))","v":""},"2025-02-08","2025-02-08","2025-02-08","2025-02-08","2025-02-08",{"$f":"IF(ISNA(VLOOKUP(K11,Tabelle2!$B$3:$D$501,3,FALSE)),\"\",VLOOKUP(K11,Tabelle2!$B$3:$D$501,3,FALSE))","v":""},"2025-03-08","2025-03-08","2025-03-08","2025-03-08","2025-03-08",{"$f":"IF(ISNA(VLOOKUP(Q11,Tabelle2!$B$3:$D$501,3,FALSE)),\"\",VLOOKUP(Q11,Tabelle2!$B$3:$D$501,3,FALSE))","v":""},"2025-04-08","2025-04-08","2025-04-08","2025-04-08","2025-04-08",{"$f":"IF(ISNA(VLOOKUP(W11,Tabelle2!$B$3:$D$501,3,FALSE)),\"\",VLOOKUP(W11,Tabelle2!$B$3:$D$501,3,FALSE))","v":""},"2025-05-08","2025-05-08","2025-05-08","2025-05-08","2025-05-08",{"$f":"IF(ISNA(VLOOKUP(AC11,Tabelle2!$B$3:$D$501,3,FALSE)),\"\",VLOOKUP(AC11,Tabelle2!$B$3:$D$501,3,FALSE))","v":""},"2025-06-08","2025-06-08","2025-06-08","2025-06-08","2025-06-08",{"$f":"IF(ISNA(VLOOKUP(AI11,Tabelle2!$B$3:$D$501,3,FALSE)),\"\",VLOOKUP(AI11,Tabelle2!$B$3:$D$501,3,FALSE))","v":"Pfingstsonntag"},"2025-07-08","2025-07-08","2025-07-08","2025-07-08","2025-07-08",{"$f":"IF(ISNA(VLOOKUP(AO11,Tabelle2!$B$3:$D$501,3,FALSE)),\"\",VLOOKUP(AO11,Tabelle2!$B$3:$D$501,3,FALSE))","v":""},"2025-08-08","2025-08-08","2025-08-08","2025-08-08","2025-08-08",{"$f":"IF(ISNA(VLOOKUP(AU11,Tabelle2!$B$3:$D$501,3,FALSE)),\"\",VLOOKUP(AU11,Tabelle2!$B$3:$D$501,3,FALSE))","v":"Christopher"},"2025-09-08","2025-09-08","2025-09-08","2025-09-08","2025-09-08",{"$f":"IF(ISNA(VLOOKUP(BA11,Tabelle2!$B$3:$D$501,3,FALSE)),\"\",VLOOKUP(BA11,Tabelle2!$B$3:$D$501,3,FALSE))","v":""},"2025-10-08","2025-10-08","2025-10-08","2025-10-08","2025-10-08",{"$f":"IF(ISNA(VLOOKUP(BG11,Tabelle2!$B$3:$D$501,3,FALSE)),\"\",VLOOKUP(BG11,Tabelle2!$B$3:$D$501,3,FALSE))","v":""},"2025-11-08","2025-11-08","2025-11-08","2025-11-08","2025-11-08",{"$f":"IF(ISNA(VLOOKUP(BM11,Tabelle2!$B$3:$D$501,3,FALSE)),\"\",VLOOKUP(BM11,Tabelle2!$B$3:$D$501,3,FALSE))","v":"Juliana"},"2025-12-08","2025-12-08","2025-12-08","2025-12-08","2025-12-08",{"$f":"IF(ISNA(VLOOKUP(BS11,Tabelle2!$B$3:$D$501,3,FALSE)),\"\",VLOOKUP(BS11,Tabelle2!$B$3:$D$501,3,FALSE))","v":"Nino / Fred"},"2026-01-08","2026-01-08","2026-01-08","2026-01-08","2026-01-08",{"$f":"IF(ISNA(VLOOKUP(BY11,Tabelle2!$B$3:$D$501,3,FALSE)),\"\",VLOOKUP(BY11,Tabelle2!$B$3:$D$501,3,FALSE))","v":""},"2026-02-08","2026-02-08","2026-02-08","2026-02-08","2026-02-08",{"$f":"IF(ISNA(VLOOKUP(CE11,Tabelle2!$B$3:$D$501,3,FALSE)),\"\",VLOOKUP(CE11,Tabelle2!$B$3:$D$501,3,FALSE))","v":""}]
["2025-01-09","2025-01-09","2025-01-09","2025-01-09","2025-01-09",{"$f":"IF(ISNA(VLOOKUP(E12,Tabelle2!$B$3:$D$501,3,FALSE)),\"\",VLOOKUP(E12,Tabelle2!$B$3:$D$501,3,FALSE))","v":"Luis"},"2025-02-09","2025-02-09","2025-02-09","2025-02-09","2025-02-09",{"$f":"IF(ISNA(VLOOKUP(K12,Tabelle2!$B$3:$D$501,3,FALSE)),\"\",VLOOKUP(K12,Tabelle2!$B$3:$D$501,3,FALSE))","v":""},"2025-03-09","2025-03-09","2025-03-09","2025-03-09","2025-03-09",{"$f":"IF(ISNA(VLOOKUP(Q12,Tabelle2!$B$3:$D$501,3,FALSE)),\"\",VLOOKUP(Q12,Tabelle2!$B$3:$D$501,3,FALSE))","v":""},"2025-04-09","2025-04-09","2025-04-09","2025-04-09","2025-04-09",{"$f":"IF(ISNA(VLOOKUP(W12,Tabelle2!$B$3:$D$501,3,FALSE)),\"\",VLOOKUP(W12,Tabelle2!$B$3:$D$501,3,FALSE))","v":"Miriam"},"2025-05-09","2025-05-09","2025-05-09","2025-05-09","2025-05-09",{"$f":"IF(ISNA(VLOOKUP(AC12,Tabelle2!$B$3:$D$501,3,FALSE)),\"\",VLOOKUP(AC12,Tabelle2!$B$3:$D$501,3,FALSE))","v":""},"2025-06-09","2025-06-09","2025-06-09","2025-06-09","2025-06-09",{"$f":"IF(ISNA(VLOOKUP(AI12,Tabelle2!$B$3:$D$501,3,FALSE)),\"\",VLOOKUP(AI12,Tabelle2!$B$3:$D$501,3,FALSE))","v":"Pfingstmontag"},"2025-07-09","2025-07-09","2025-07-09","2025-07-09","2025-07-09",{"$f":"IF(ISNA(VLOOKUP(AO12,Tabelle2!$B$3:$D$501,3,FALSE)),\"\",VLOOKUP(AO12,Tabelle2!$B$3:$D$501,3,FALSE))","v":"Dino"},"2025-08-09","2025-08-09","2025-08-09","2025-08-09","2025-08-09",{"$f":"IF(ISNA(VLOOKUP(AU12,Tabelle2!$B$3:$D$501,3,FALSE)),\"\",VLOOKUP(AU12,Tabelle2!$B$3:$D$501,3,FALSE))","v":""},"2025-09-09","2025-09-09","2025-09-09","2025-09-09","2025-09-09",{"$f":"IF(ISNA(VLOOKUP(BA12,Tabelle2!$B$3:$D$501,3,FALSE)),\"\",VLOOKUP(BA12,Tabelle2!$B$3:$D$501,3,FALSE))","v":"Hannna"},"2025-10-09","2025-10-09","2025-10-09","2025-10-09","2025-10-09",{"$f":"IF(ISNA(VLOOKUP(BG12,Tabelle2!$B$3:$D$501,3,FALSE)),\"\",VLOOKUP(BG12,Tabelle2!$B$3:$D$501,3,FALSE))","v":""},"2025-11-09","2025-11-09","2025-11-09","2025-11-09","2025-11-09",{"$f":"IF(ISNA(VLOOKUP(BM12,Tabelle2!$B$3:$D$501,3,FALSE)),\"\",VLOOKUP(BM12,Tabelle2!$B$3:$D$501,3,FALSE))","v":""},"2025-12-09","2025-12-09","2025-12-09","2025-12-09","2025-12-09",{"$f":"IF(ISNA(VLOOKUP(BS12,Tabelle2!$B$3:$D$501,3,FALSE)),\"\",VLOOKUP(BS12,Tabelle2!$B$3:$D$501,3,FALSE))","v":""},"2026-01-09","2026-01-09","2026-01-09","2026-01-09","2026-01-09",{"$f":"IF(ISNA(VLOOKUP(BY12,Tabelle2!$B$3:$D$501,3,FALSE)),\"\",VLOOKUP(BY12,Tabelle2!$B$3:$D$501,3,FALSE))","v":"Luis"},"2026-02-09","2026-02-09","2026-02-09","2026-02-09","2026-02-09",{"$f":"IF(ISNA(VLOOKUP(CE12,Tabelle2!$B$3:$D$501,3,FALSE)),\"\",VLOOKUP(CE12,Tabelle2!$B$3:$D$501,3,FALSE))","v":""}]
["2025-01-10","2025-01-10","2025-01-10","2025-01-10","2025-01-10",{"$f":"IF(ISNA(VLOOKUP(E13,Tabelle2!$B$3:$D$501,3,FALSE)),\"\",VLOOKUP(E13,Tabelle2!$B$3:$D$501,3,FALSE))","v":"Neujahrsempfang "},"2025-02-10","2025-02-10","2025-02-10","2025-02-10","2025-02-10",{"$f":"IF(ISNA(VLOOKUP(K13,Tabelle2!$B$3:$D$501,3,FALSE)),\"\",VLOOKUP(K13,Tabelle2!$B$3:$D$501,3,FALSE))","v":""},"2025-03-10","2025-03-10","2025-03-10","2025-03-10","2025-03-10",{"$f":"IF(ISNA(VLOOKUP(Q13,Tabelle2!$B$3:$D$501,3,FALSE)),\"\",VLOOKUP(Q13,Tabelle2!$B$3:$D$501,3,FALSE))","v":""},"2025-04-10","2025-04-10","2025-04-10","2025-04-10","2025-04-10",{"$f":"IF(ISNA(VLOOKUP(W13,Tabelle2!$B$3:$D$501,3,FALSE)),\"\",VLOOKUP(W13,Tabelle2!$B$3:$D$501,3,FALSE))","v":"Lucy"},"2025-05-10","2025-05-10","2025-05-10","2025-05-10","2025-05-10",{"$f":"IF(ISNA(VLOOKUP(AC13,Tabelle2!$B$3:$D$501,3,FALSE)),\"\",VLOOKUP(AC13,Tabelle2!$B$3:$D$501,3,FALSE))","v":""},"2025-06-10","2025-06-10","2025-06-10","2025-06-10","2025-06-10",{"$f":"IF(ISNA(VLOOKUP(AI13,Tabelle2!$B$3:$D$501,3,FALSE)),\"\",VLOOKUP(AI13,Tabelle2!$B$3:$D$501,3,FALSE))","v":"Hans"},"2025-07-10","2025-07-10","2025-07-10","2025-07-10","2025-07-10",{"$f":"IF(ISNA(VLOOKUP(AO13,Tabelle2!$B$3:$D$501,3,FALSE)),\"\",VLOOKUP(AO13,Tabelle2!$B$3:$D$501,3,FALSE))","v":""},"2025-08-10","2025-08-10","2025-08-10","2025-08-10","2025-08-10",{"$f":"IF(ISNA(VLOOKUP(AU13,Tabelle2!$B$3:$D$501,3,FALSE)),\"\",VLOOKUP(AU13,Tabelle2!$B$3:$D$501,3,FALSE))","v":""},"2025-09-10","2025-09-10","2025-09-10","2025-09-10","2025-09-10",{"$f":"IF(ISNA(VLOOKUP(BA13,Tabelle2!$B$3:$D$501,3,FALSE)),\"\",VLOOKUP(BA13,Tabelle2!$B$3:$D$501,3,FALSE))","v":"Mario"},"2025-10-10","2025-10-10","2025-10-10","2025-10-10","2025-10-10",{"$f":"IF(ISNA(VLOOKUP(BG13,Tabelle2!$B$3:$D$501,3,FALSE)),\"\",VLOOKUP(BG13,Tabelle2!$B$3:$D$501,3,FALSE))","v":""},"2025-11-10","2025-11-10","2025-11-10","2025-11-10","2025-11-10",{"$f":"IF(ISNA(VLOOKUP(BM13,Tabelle2!$B$3:$D$501,3,FALSE)),\"\",VLOOKUP(BM13,Tabelle2!$B$3:$D$501,3,FALSE))","v":""},"2025-12-10","2025-12-10","2025-12-10","2025-12-10","2025-12-10",{"$f":"IF(ISNA(VLOOKUP(BS13,Tabelle2!$B$3:$D$501,3,FALSE)),\"\",VLOOKUP(BS13,Tabelle2!$B$3:$D$501,3,FALSE))","v":""},"2026-01-10","2026-01-10","2026-01-10","2026-01-10","2026-01-10",{"$f":"IF(ISNA(VLOOKUP(BY13,Tabelle2!$B$3:$D$501,3,FALSE)),\"\",VLOOKUP(BY13,Tabelle2!$B$3:$D$501,3,FALSE))","v":""},"2026-02-10","2026-02-10","2026-02-10","2026-02-10","2026-02-10",{"$f":"IF(ISNA(VLOOKUP(CE13,Tabelle2!$B$3:$D$501,3,FALSE)),\"\",VLOOKUP(CE13,Tabelle2!$B$3:$D$501,3,FALSE))","v":""}]
["2025-01-11","2025-01-11","2025-01-11","2025-01-11","2025-01-11",{"$f":"IF(ISNA(VLOOKUP(E14,Tabelle2!$B$3:$D$501,3,FALSE)),\"\",VLOOKUP(E14,Tabelle2!$B$3:$D$501,3,FALSE))","v":""},"2025-02-11","2025-02-11","2025-02-11","2025-02-11","2025-02-11",{"$f":"IF(ISNA(VLOOKUP(K14,Tabelle2!$B$3:$D$501,3,FALSE)),\"\",VLOOKUP(K14,Tabelle2!$B$3:$D$501,3,FALSE))","v":"Jens"},"2025-03-11","2025-03-11","2025-03-11","2025-03-11","2025-03-11",{"$f":"IF(ISNA(VLOOKUP(Q14,Tabelle2!$B$3:$D$501,3,FALSE)),\"\",VLOOKUP(Q14,Tabelle2!$B$3:$D$501,3,FALSE))","v":"Yvonne"},"2025-04-11","2025-04-11","2025-04-11","2025-04-11","2025-04-11",{"$f":"IF(ISNA(VLOOKUP(W14,Tabelle2!$B$3:$D$501,3,FALSE)),\"\",VLOOKUP(W14,Tabelle2!$B$3:$D$501,3,FALSE))","v":""},"2025-05-11","2025-05-11","2025-05-11","2025-05-11","2025-05-11",{"$f":"IF(ISNA(VLOOKUP(AC14,Tabelle2!$B$3:$D$501,3,FALSE)),\"\",VLOOKUP(AC14,Tabelle2!$B$3:$D$501,3,FALSE))","v":"Muttertag"},"2025-06-11","2025-06-11","2025-06-11","2025-06-11","2025-06-11",{"$f":"IF(ISNA(VLOOKUP(AI14,Tabelle2!$B$3:$D$501,3,FALSE)),\"\",VLOOKUP(AI14,Tabelle2!$B$3:$D$501,3,FALSE))","v":""},"2025-07-11","2025-07-11","2025-07-11","2025-07-11","2025-07-11",{"$f":"IF(ISNA(VLOOKUP(AO14,Tabelle2!$B$3:$D$501,3,FALSE)),\"\",VLOOKUP(AO14,Tabelle2!$B$3:$D$501,3,FALSE))","v":"Kaya"},"2025-08-11","2025-08-11","2025-08-11","2025-08-11","2025-08-11",{"$f":"IF(ISNA(VLOOKUP(AU14,Tabelle2!$B$3:$D$501,3,FALSE)),\"\",VLOOKUP(AU14,Tabelle2!$B$3:$D$501,3,FALSE))","v":"6. W"},"2025-09-11","2025-09-11","2025-09-11","2025-09-11","2025-09-11",{"$f":"IF(ISNA(VLOOKUP(BA14,Tabelle2!$B$3:$D$501,3,FALSE)),\"\",VLOOKUP(BA14,Tabelle2!$B$3:$D$501,3,FALSE))","v":""},"2025-10-11","2025-10-11","2025-10-11","2025-10-11","2025-10-11",{"$f":"IF(ISNA(VLOOKUP(BG14,Tabelle2!$B$3:$D$501,3,FALSE)),\"\",VLOOKUP(BG14,Tabelle2!$B$3:$D$501,3,FALSE))","v":""},"2025-11-11","2025-11-11","2025-11-11","2025-11-11","2025-11-11",{"$f":"IF(ISNA(VLOOKUP(BM14,Tabelle2!$B$3:$D$501,3,FALSE)),\"\",VLOOKUP(BM14,Tabelle2!$B$3:$D$501,3,FALSE))","v":"St Martin / Sonja"},"2025-12-11","2025-12-11","2025-12-11","2025-12-11","2025-12-11",{"$f":"IF(ISNA(VLOOKUP(BS14,Tabelle2!$B$3:$D$501,3,FALSE)),\"\",VLOOKUP(BS14,Tabelle2!$B$3:$D$501,3,FALSE))","v":"Marius / Charlotta"},"2026-01-11","2026-01-11","2026-01-11","2026-01-11","2026-01-11",{"$f":"IF(ISNA(VLOOKUP(BY14,Tabelle2!$B$3:$D$501,3,FALSE)),\"\",VLOOKUP(BY14,Tabelle2!$B$3:$D$501,3,FALSE))","v":""},"2026-02-11","2026-02-11","2026-02-11","2026-02-11","2026-02-11",{"$f":"IF(ISNA(VLOOKUP(CE14,Tabelle2!$B$3:$D$501,3,FALSE)),\"\",VLOOKUP(CE14,Tabelle2!$B$3:$D$501,3,FALSE))","v":"Jens"}]
["2025-01-12","2025-01-12","2025-01-12","2025-01-12","2025-01-12",{"$f":"IF(ISNA(VLOOKUP(E15,Tabelle2!$B$3:$D$501,3,FALSE)),\"\",VLOOKUP(E15,Tabelle2!$B$3:$D$501,3,FALSE))","v":""},"2025-02-12","2025-02-12","2025-02-12","2025-02-12","2025-02-12",{"$f":"IF(ISNA(VLOOKUP(K15,Tabelle2!$B$3:$D$501,3,FALSE)),\"\",VLOOKUP(K15,Tabelle2!$B$3:$D$501,3,FALSE))","v":"XXX frei"},"2025-03-12","2025-03-12","2025-03-12","2025-03-12","2025-03-12",{"$f":"IF(ISNA(VLOOKUP(Q15,Tabelle2!$B$3:$D$501,3,FALSE)),\"\",VLOOKUP(Q15,Tabelle2!$B$3:$D$501,3,FALSE))","v":""},"2025-04-12","2025-04-12","2025-04-12","2025-04-12","2025-04-12",{"$f":"IF(ISNA(VLOOKUP(W15,Tabelle2!$B$3:$D$501,3,FALSE)),\"\",VLOOKUP(W15,Tabelle2!$B$3:$D$501,3,FALSE))","v":"Dina"},"2025-05-12","2025-05-12","2025-05-12","2025-05-12","2025-05-12",{"$f":"IF(ISNA(VLOOKUP(AC15,Tabelle2!$B$3:$D$501,3,FALSE)),\"\",VLOOKUP(AC15,Tabelle2!$B$3:$D$501,3,FALSE))","v":""},"2025-06-12","2025-06-12","2025-06-12","2025-06-12","2025-06-12",{"$f":"IF(ISNA(VLOOKUP(AI15,Tabelle2!$B$3:$D$501,3,FALSE)),\"\",VLOOKUP(AI15,Tabelle2!$B$3:$D$501,3,FALSE))","v":"Sandra"},"2025-07-12","2025-07-12","2025-07-12","2025-07-12","2025-07-12",{"$f":"IF(ISNA(VLOOKUP(AO15,Tabelle2!$B$3:$D$501,3,FALSE)),\"\",VLOOKUP(AO15,Tabelle2!$B$3:$D$501,3,FALSE))","v":"Lukas"},"2025-08-12","2025-08-12","2025-08-12","2025-08-12","2025-08-12",{"$f":"IF(ISNA(VLOOKUP(AU15,Tabelle2!$B$3:$D$501,3,FALSE)),\"\",VLOOKUP(AU15,Tabelle2!$B$3:$D$501,3,FALSE))","v":""},"2025-09-12","2025-09-12","2025-09-12","2025-09-12","2025-09-12",{"$f":"IF(ISNA(VLOOKUP(BA15,Tabelle2!$B$3:$D$501,3,FALSE)),\"\",VLOOKUP(BA15,Tabelle2!$B$3:$D$501,3,FALSE))","v":"Programm B"},"2025-10-12","2025-10-12","2025-10-12","2025-10-12","2025-10-12",{"$f":"IF(ISNA(VLOOKUP(BG15,Tabelle2!$B$3:$D$501,3,FALSE)),\"\",VLOOKUP(BG15,Tabelle2!$B$3:$D$501,3,FALSE))","v":"Vincent"},"2025-11-12","2025-11-12","2025-11-12","2025-11-12","2025-11-12",{"$f":"IF(ISNA(VLOOKUP(BM15,Tabelle2!$B$3:$D$501,3,FALSE)),\"\",VLOOKUP(BM15,Tabelle2!$B$3:$D$501,3,FALSE))","v":"Dodo"},"2025-12-12","2025-12-12","2025-12-12","2025-12-12","2025-12-12",{"$f":"IF(ISNA(VLOOKUP(BS15,Tabelle2!$B$3:$D$501,3,FALSE)),\"\",VLOOKUP(BS15,Tabelle2!$B$3:$D$501,3,FALSE))","v":""},"2026-01-12","2026-01-12","2026-01-12","2026-01-12","2026-01-12",{"$f":"IF(ISNA(VLOOKUP(BY15,Tabelle2!$B$3:$D$501,3,FALSE)),\"\",VLOOKUP(BY15,Tabelle2!$B$3:$D$501,3,FALSE))","v":""},"2026-02-12","2026-02-12","2026-02-12","2026-02-12","2026-02-12",{"$f":"IF(ISNA(VLOOKUP(CE15,Tabelle2!$B$3:$D$501,3,FALSE)),\"\",VLOOKUP(CE15,Tabelle2!$B$3:$D$501,3,FALSE))","v":""}]
["2025-01-13","2025-01-13","2025-01-13","2025-01-13","2025-01-13",{"$f":"IF(ISNA(VLOOKUP(E16,Tabelle2!$B$3:$D$501,3,FALSE)),\"\",VLOOKUP(E16,Tabelle2!$B$3:$D$501,3,FALSE))","v":"Angela"},"2025-02-13","2025-02-13","2025-02-13","2025-02-13","2025-02-13",{"$f":"IF(ISNA(VLOOKUP(K16,Tabelle2!$B$3:$D$501,3,FALSE)),\"\",VLOOKUP(K16,Tabelle2!$B$3:$D$501,3,FALSE))","v":"Projekt"},"2025-03-13","2025-03-13","2025-03-13","2025-03-13","2025-03-13",{"$f":"IF(ISNA(VLOOKUP(Q16,Tabelle2!$B$3:$D$501,3,FALSE)),\"\",VLOOKUP(Q16,Tabelle2!$B$3:$D$501,3,FALSE))","v":"Projekt / Valentina"},"2025-04-13","2025-04-13","2025-04-13","2025-04-13","2025-04-13",{"$f":"IF(ISNA(VLOOKUP(W16,Tabelle2!$B$3:$D$501,3,FALSE)),\"\",VLOOKUP(W16,Tabelle2!$B$3:$D$501,3,FALSE))","v":""},"2025-05-13","2025-05-13","2025-05-13","2025-05-13","2025-05-13",{"$f":"IF(ISNA(VLOOKUP(AC16,Tabelle2!$B$3:$D$501,3,FALSE)),\"\",VLOOKUP(AC16,Tabelle2!$B$3:$D$501,3,FALSE))","v":"Lucia"},"2025-06-13","2025-06-13","2025-06-13","2025-06-13","2025-06-13",{"$f":"IF(ISNA(VLOOKUP(AI16,Tabelle2!$B$3:$D$501,3,FALSE)),\"\",VLOOKUP(AI16,Tabelle2!$B$3:$D$501,3,FALSE))","v":"Erik / Justin"},"2025-07-13","2025-07-13","2025-07-13","2025-07-13","2025-07-13",{"$f":"IF(ISNA(VLOOKUP(AO16,Tabelle2!$B$3:$D$501,3,FALSE)),\"\",VLOOKUP(AO16,Tabelle2!$B$3:$D$501,3,FALSE))","v":""},"2025-08-13","2025-08-13","2025-08-13",{"$f":"IFERROR(IF(MONTH(AT15+1)=MONTH(AT$4),AT15+1,\"\"),\"\")","v":"2025-08-13"},"2025-08-13",{"$f":"IF(ISNA(VLOOKUP(AU16,Tabelle2!$B$3:$D$501,3,FALSE)),\"\",VLOOKUP(AU16,Tabelle2!$B$3:$D$501,3,FALSE))","v":""},"2025-09-13","2025-09-13","2025-09-13","2025-09-13","2025-09-13",{"$f":"IF(ISNA(VLOOKUP(BA16,Tabelle2!$B$3:$D$501,3,FALSE)),\"\",VLOOKUP(BA16,Tabelle2!$B$3:$D$501,3,FALSE))","v":"Carla"},"2025-10-13","2025-10-13","2025-10-13","2025-10-13","2025-10-13",{"$f":"IF(ISNA(VLOOKUP(BG16,Tabelle2!$B$3:$D$501,3,FALSE)),\"\",VLOOKUP(BG16,Tabelle2!$B$3:$D$501,3,FALSE))","v":"2. W"},"2025-11-13","2025-11-13","2025-11-13","2025-11-13","2025-11-13",{"$f":"IF(ISNA(VLOOKUP(BM16,Tabelle2!$B$3:$D$501,3,FALSE)),\"\",VLOOKUP(BM16,Tabelle2!$B$3:$D$501,3,FALSE))","v":""},"2025-12-13","2025-12-13","2025-12-13","2025-12-13","2025-12-13",{"$f":"IF(ISNA(VLOOKUP(BS16,Tabelle2!$B$3:$D$501,3,FALSE)),\"\",VLOOKUP(BS16,Tabelle2!$B$3:$D$501,3,FALSE))","v":""},"2026-01-13","2026-01-13","2026-01-13","2026-01-13","2026-01-13",{"$f":"IF(ISNA(VLOOKUP(BY16,Tabelle2!$B$3:$D$501,3,FALSE)),\"\",VLOOKUP(BY16,Tabelle2!$B$3:$D$501,3,FALSE))","v":"Angela"},"2026-02-13","2026-02-13","2026-02-13","2026-02-13","2026-02-13",{"$f":"IF(ISNA(VLOOKUP(CE16,Tabelle2!$B$3:$D$501,3,FALSE)),\"\",VLOOKUP(CE16,Tabelle2!$B$3:$D$501,3,FALSE))","v":""}]
["2025-01-14","2025-01-14","2025-01-14","2025-01-14","2025-01-14",{"$f":"IF(ISNA(VLOOKUP(E17,Tabelle2!$B$3:$D$501,3,FALSE)),\"\",VLOOKUP(E17,Tabelle2!$B$3:$D$501,3,FALSE))","v":""},"2025-02-14","2025-02-14","2025-02-14","2025-02-14","2025-02-14",{"$f":"IF(ISNA(VLOOKUP(K17,Tabelle2!$B$3:$D$501,3,FALSE)),\"\",VLOOKUP(K17,Tabelle2!$B$3:$D$501,3,FALSE))","v":"Valentinstag"},"2025-03-14","2025-03-14","2025-03-14","2025-03-14","2025-03-14",{"$f":"IF(ISNA(VLOOKUP(Q17,Tabelle2!$B$3:$D$501,3,FALSE)),\"\",VLOOKUP(Q17,Tabelle2!$B$3:$D$501,3,FALSE))","v":""},"2025-04-14","2025-04-14","2025-04-14","2025-04-14","2025-04-14",{"$f":"IF(ISNA(VLOOKUP(W17,Tabelle2!$B$3:$D$501,3,FALSE)),\"\",VLOOKUP(W17,Tabelle2!$B$3:$D$501,3,FALSE))","v":"2. W"},"2025-05-14","2025-05-14","2025-05-14","2025-05-14","2025-05-14",{"$f":"IF(ISNA(VLOOKUP(AC17,Tabelle2!$B$3:$D$501,3,FALSE)),\"\",VLOOKUP(AC17,Tabelle2!$B$3:$D$501,3,FALSE))","v":""},"2025-06-14","2025-06-14","2025-06-14","2025-06-14","2025-06-14",{"$f":"IF(ISNA(VLOOKUP(AI17,Tabelle2!$B$3:$D$501,3,FALSE)),\"\",VLOOKUP(AI17,Tabelle2!$B$3:$D$501,3,FALSE))","v":""},"2025-07-14","2025-07-14","2025-07-14","2025-07-14","2025-07-14",{"$f":"IF(ISNA(VLOOKUP(AO17,Tabelle2!$B$3:$D$501,3,FALSE)),\"\",VLOOKUP(AO17,Tabelle2!$B$3:$D$501,3,FALSE))","v":"2. W / Hannah"},"2025-08-14","2025-08-14","2025-08-14",{"$f":"IFERROR(IF(MONTH(AT16+1)=MONTH(AT$4),AT16+1,\"\"),\"\")","v":"2025-08-14"},"2025-08-14",{"$f":"IF(ISNA(VLOOKUP(AU17,Tabelle2!$B$3:$D$501,3,FALSE)),\"\",VLOOKUP(AU17,Tabelle2!$B$3:$D$501,3,FALSE))","v":"Annemarie / Lion"},"2025-09-14","2025-09-14","2025-09-14","2025-09-14","2025-09-14",{"$f":"IF(ISNA(VLOOKUP(BA17,Tabelle2!$B$3:$D$501,3,FALSE)),\"\",VLOOKUP(BA17,Tabelle2!$B$3:$D$501,3,FALSE))","v":""},"2025-10-14","2025-10-14","2025-10-14","2025-10-14","2025-10-14",{"$f":"IF(ISNA(VLOOKUP(BG17,Tabelle2!$B$3:$D$501,3,FALSE)),\"\",VLOOKUP(BG17,Tabelle2!$B$3:$D$501,3,FALSE))","v":"Simon"},"2025-11-14","2025-11-14","2025-11-14","2025-11-14","2025-11-14",{"$f":"IF(ISNA(VLOOKUP(BM17,Tabelle2!$B$3:$D$501,3,FALSE)),\"\",VLOOKUP(BM17,Tabelle2!$B$3:$D$501,3,FALSE))","v":"Gregor"},"2025-12-14","2025-12-14","2025-12-14","2025-12-14","2025-12-14",{"$f":"IF(ISNA(VLOOKUP(BS17,Tabelle2!$B$3:$D$501,3,FALSE)),\"\",VLOOKUP(BS17,Tabelle2!$B$3:$D$501,3,FALSE))","v":"3. Advent"},"2026-01-14","2026-01-14","2026-01-14","2026-01-14","2026-01-14",{"$f":"IF(ISNA(VLOOKUP(BY17,Tabelle2!$B$3:$D$501,3,FALSE)),\"\",VLOOKUP(BY17,Tabelle2!$B$3:$D$501,3,FALSE))","v":""},"2026-02-14","2026-02-14","2026-02-14","2026-02-14","2026-02-14",{"$f":"IF(ISNA(VLOOKUP(CE17,Tabelle2!$B$3:$D$501,3,FALSE)),\"\",VLOOKUP(CE17,Tabelle2!$B$3:$D$501,3,FALSE))","v":"Valentinstag"}]
["2025-01-15","2025-01-15","2025-01-15","2025-01-15","2025-01-15",{"$f":"IF(ISNA(VLOOKUP(E18,Tabelle2!$B$3:$D$501,3,FALSE)),\"\",VLOOKUP(E18,Tabelle2!$B$3:$D$501,3,FALSE))","v":""},"2025-02-15","2025-02-15","2025-02-15","2025-02-15","2025-02-15",{"$f":"IF(ISNA(VLOOKUP(K18,Tabelle2!$B$3:$D$501,3,FALSE)),\"\",VLOOKUP(K18,Tabelle2!$B$3:$D$501,3,FALSE))","v":""},"2025-03-15","2025-03-15","2025-03-15","2025-03-15","2025-03-15",{"$f":"IF(ISNA(VLOOKUP(Q18,Tabelle2!$B$3:$D$501,3,FALSE)),\"\",VLOOKUP(Q18,Tabelle2!$B$3:$D$501,3,FALSE))","v":""},"2025-04-15","2025-04-15","2025-04-15","2025-04-15","2025-04-15",{"$f":"IF(ISNA(VLOOKUP(W18,Tabelle2!$B$3:$D$501,3,FALSE)),\"\",VLOOKUP(W18,Tabelle2!$B$3:$D$501,3,FALSE))","v":"Milana"},"2025-05-15","2025-05-15","2025-05-15","2025-05-15","2025-05-15",{"$f":"IF(ISNA(VLOOKUP(AC18,Tabelle2!$B$3:$D$501,3,FALSE)),\"\",VLOOKUP(AC18,Tabelle2!$B$3:$D$501,3,FALSE))","v":"Konferenz"},"2025-06-15","2025-06-15","2025-06-15","2025-06-15","2025-06-15",{"$f":"IF(ISNA(VLOOKUP(AI18,Tabelle2!$B$3:$D$501,3,FALSE)),\"\",VLOOKUP(AI18,Tabelle2!$B$3:$D$501,3,FALSE))","v":""},"2025-07-15","2025-07-15","2025-07-15","2025-07-15","2025-07-15",{"$f":"IF(ISNA(VLOOKUP(AO18,Tabelle2!$B$3:$D$501,3,FALSE)),\"\",VLOOKUP(AO18,Tabelle2!$B$3:$D$501,3,FALSE))","v":""},"2025-08-15","2025-08-15","2025-08-15","2025-08-15","2025-08-15",{"$f":"IF(ISNA(VLOOKUP(AU18,Tabelle2!$B$3:$D$501,3,FALSE)),\"\",VLOOKUP(AU18,Tabelle2!$B$3:$D$501,3,FALSE))","v":""},"2025-09-15","2025-09-15","2025-09-15","2025-09-15","2025-09-15",{"$f":"IF(ISNA(VLOOKUP(BA18,Tabelle2!$B$3:$D$501,3,FALSE)),\"\",VLOOKUP(BA18,Tabelle2!$B$3:$D$501,3,FALSE))","v":"Karla"},"2025-10-15","2025-10-15","2025-10-15","2025-10-15","2025-10-15",{"$f":"IF(ISNA(VLOOKUP(BG18,Tabelle2!$B$3:$D$501,3,FALSE)),\"\",VLOOKUP(BG18,Tabelle2!$B$3:$D$501,3,FALSE))","v":""},"2025-11-15","2025-11-15","2025-11-15","2025-11-15","2025-11-15",{"$f":"IF(ISNA(VLOOKUP(BM18,Tabelle2!$B$3:$D$501,3,FALSE)),\"\",VLOOKUP(BM18,Tabelle2!$B$3:$D$501,3,FALSE))","v":""},"2025-12-15","2025-12-15","2025-12-15","2025-12-15","2025-12-15",{"$f":"IF(ISNA(VLOOKUP(BS18,Tabelle2!$B$3:$D$501,3,FALSE)),\"\",VLOOKUP(BS18,Tabelle2!$B$3:$D$501,3,FALSE))","v":""},"2026-01-15","2026-01-15","2026-01-15","2026-01-15","2026-01-15",{"$f":"IF(ISNA(VLOOKUP(BY18,Tabelle2!$B$3:$D$501,3,FALSE)),\"\",VLOOKUP(BY18,Tabelle2!$B$3:$D$501,3,FALSE))","v":""},"2026-02-15","2026-02-15","2026-02-15","2026-02-15","2026-02-15",{"$f":"IF(ISNA(VLOOKUP(CE18,Tabelle2!$B$3:$D$501,3,FALSE)),\"\",VLOOKUP(CE18,Tabelle2!$B$3:$D$501,3,FALSE))","v":""}]
["2025-01-16","2025-01-16","2025-01-16","2025-01-16","2025-01-16",{"$f":"IF(ISNA(VLOOKUP(E19,Tabelle2!$B$3:$D$501,3,FALSE)),\"\",VLOOKUP(E19,Tabelle2!$B$3:$D$501,3,FALSE))","v":"Projekt / Mia"},"2025-02-16","2025-02-16","2025-02-16","2025-02-16","2025-02-16",{"$f":"IF(ISNA(VLOOKUP(K19,Tabelle2!$B$3:$D$501,3,FALSE)),\"\",VLOOKUP(K19,Tabelle2!$B$3:$D$501,3,FALSE))","v":""},"2025-03-16","2025-03-16","2025-03-16","2025-03-16","2025-03-16",{"$f":"IF(ISNA(VLOOKUP(Q19,Tabelle2!$B$3:$D$501,3,FALSE)),\"\",VLOOKUP(Q19,Tabelle2!$B$3:$D$501,3,FALSE))","v":""},"2025-04-16","2025-04-16","2025-04-16","2025-04-16","2025-04-16",{"$f":"IF(ISNA(VLOOKUP(W19,Tabelle2!$B$3:$D$501,3,FALSE)),\"\",VLOOKUP(W19,Tabelle2!$B$3:$D$501,3,FALSE))","v":"Nila / Francesco"},"2025-05-16","2025-05-16","2025-05-16","2025-05-16","2025-05-16",{"$f":"IF(ISNA(VLOOKUP(AC19,Tabelle2!$B$3:$D$501,3,FALSE)),\"\",VLOOKUP(AC19,Tabelle2!$B$3:$D$501,3,FALSE))","v":"Hannes"},"2025-06-16","2025-06-16","2025-06-16","2025-06-16","2025-06-16",{"$f":"IF(ISNA(VLOOKUP(AI19,Tabelle2!$B$3:$D$501,3,FALSE)),\"\",VLOOKUP(AI19,Tabelle2!$B$3:$D$501,3,FALSE))","v":""},"2025-07-16","2025-07-16","2025-07-16","2025-07-16","2025-07-16",{"$f":"IF(ISNA(VLOOKUP(AO19,Tabelle2!$B$3:$D$501,3,FALSE)),\"\",VLOOKUP(AO19,Tabelle2!$B$3:$D$501,3,FALSE))","v":""},"2025-08-16","2025-08-16","2025-08-16","2025-08-16","2025-08-16",{"$f":"IF(ISNA(VLOOKUP(AU19,Tabelle2!$B$3:$D$501,3,FALSE)),\"\",VLOOKUP(AU19,Tabelle2!$B$3:$D$501,3,FALSE))","v":"Achmet"},"2025-09-16","2025-09-16","2025-09-16","2025-09-16","2025-09-16",{"$f":"IF(ISNA(VLOOKUP(BA19,Tabelle2!$B$3:$D$501,3,FALSE)),\"\",VLOOKUP(BA19,Tabelle2!$B$3:$D$501,3,FALSE))","v":""},"2025-10-16","2025-10-16","2025-10-16","2025-10-16","2025-10-16",{"$f":"IF(ISNA(VLOOKUP(BG19,Tabelle2!$B$3:$D$501,3,FALSE)),\"\",VLOOKUP(BG19,Tabelle2!$B$3:$D$501,3,FALSE))","v":"Felix"},"2025-11-16","2025-11-16","2025-11-16","2025-11-16","2025-11-16",{"$f":"IF(ISNA(VLOOKUP(BM19,Tabelle2!$B$3:$D$501,3,FALSE)),\"\",VLOOKUP(BM19,Tabelle2!$B$3:$D$501,3,FALSE))","v":"Volkstrauertag"},"2025-12-16","2025-12-16","2025-12-16","2025-12-16","2025-12-16",{"$f":"IF(ISNA(VLOOKUP(BS19,Tabelle2!$B$3:$D$501,3,FALSE)),\"\",VLOOKUP(BS19,Tabelle2!$B$3:$D$501,3,FALSE))","v":""},"2026-01-16","2026-01-16","2026-01-16","2026-01-16","2026-01-16",{"$f":"IF(ISNA(VLOOKUP(BY19,Tabelle2!$B$3:$D$501,3,FALSE)),\"\",VLOOKUP(BY19,Tabelle2!$B$3:$D$501,3,FALSE))","v":"Mia"},"2026-02-16","2026-02-16","2026-02-16","2026-02-16","2026-02-16",{"$f":"IF(ISNA(VLOOKUP(CE19,Tabelle2!$B$3:$D$501,3,FALSE)),\"\",VLOOKUP(CE19,Tabelle2!$B$3:$D$501,3,FALSE))","v":""}]
["2025-01-17","2025-01-17","2025-01-17","2025-01-17","2025-01-17",{"$f":"IF(ISNA(VLOOKUP(E20,Tabelle2!$B$3:$D$501,3,FALSE)),\"\",VLOOKUP(E20,Tabelle2!$B$3:$D$501,3,FALSE))","v":""},{"$f":"H20","v":"2025-02-17"},"2025-02-17","2025-02-17","2025-02-17","2025-02-17",{"$f":"IF(ISNA(VLOOKUP(K20,Tabelle2!$B$3:$D$501,3,FALSE)),\"\",VLOOKUP(K20,Tabelle2!$B$3:$D$501,3,FALSE))","v":""},"2025-03-17","2025-03-17","2025-03-17","2025-03-17","2025-03-17",{"$f":"IF(ISNA(VLOOKUP(Q20,Tabelle2!$B$3:$D$501,3,FALSE)),\"\",VLOOKUP(Q20,Tabelle2!$B$3:$D$501,3,FALSE))","v":""},"2025-04-17","2025-04-17","2025-04-17","2025-04-17","2025-04-17",{"$f":"IF(ISNA(VLOOKUP(W20,Tabelle2!$B$3:$D$501,3,FALSE)),\"\",VLOOKUP(W20,Tabelle2!$B$3:$D$501,3,FALSE))","v":"Noam"},"2025-05-17","2025-05-17","2025-05-17","2025-05-17","2025-05-17",{"$f":"IF(ISNA(VLOOKUP(AC20,Tabelle2!$B$3:$D$501,3,FALSE)),\"\",VLOOKUP(AC20,Tabelle2!$B$3:$D$501,3,FALSE))","v":""},"2025-06-17","2025-06-17","2025-06-17","2025-06-17","2025-06-17",{"$f":"IF(ISNA(VLOOKUP(AI20,Tabelle2!$B$3:$D$501,3,FALSE)),\"\",VLOOKUP(AI20,Tabelle2!$B$3:$D$501,3,FALSE))","v":""},"2025-07-17","2025-07-17","2025-07-17","2025-07-17","2025-07-17",{"$f":"IF(ISNA(VLOOKUP(AO20,Tabelle2!$B$3:$D$501,3,FALSE)),\"\",VLOOKUP(AO20,Tabelle2!$B$3:$D$501,3,FALSE))","v":""},"2025-08-17","2025-08-17","2025-08-17","2025-08-17","2025-08-17",{"$f":"IF(ISNA(VLOOKUP(AU20,Tabelle2!$B$3:$D$501,3,FALSE)),\"\",VLOOKUP(AU20,Tabelle2!$B$3:$D$501,3,FALSE))","v":"Jona"},"2025-09-17","2025-09-17","2025-09-17","2025-09-17","2025-09-17",{"$f":"IF(ISNA(VLOOKUP(BA20,Tabelle2!$B$3:$D$501,3,FALSE)),\"\",VLOOKUP(BA20,Tabelle2!$B$3:$D$501,3,FALSE))","v":""},"2025-10-17","2025-10-17","2025-10-17","2025-10-17","2025-10-17",{"$f":"IF(ISNA(VLOOKUP(BG20,Tabelle2!$B$3:$D$501,3,FALSE)),\"\",VLOOKUP(BG20,Tabelle2!$B$3:$D$501,3,FALSE))","v":""},"2025-11-17","2025-11-17","2025-11-17","2025-11-17","2025-11-17",{"$f":"IF(ISNA(VLOOKUP(BM20,Tabelle2!$B$3:$D$501,3,FALSE)),\"\",VLOOKUP(BM20,Tabelle2!$B$3:$D$501,3,FALSE))","v":""},"2025-12-17","2025-12-17","2025-12-17","2025-12-17","2025-12-17",{"$f":"IF(ISNA(VLOOKUP(BS20,Tabelle2!$B$3:$D$501,3,FALSE)),\"\",VLOOKUP(BS20,Tabelle2!$B$3:$D$501,3,FALSE))","v":"Weihnachtsfeier"},"2026-01-17","2026-01-17","2026-01-17","2026-01-17","2026-01-17",{"$f":"IF(ISNA(VLOOKUP(BY20,Tabelle2!$B$3:$D$501,3,FALSE)),\"\",VLOOKUP(BY20,Tabelle2!$B$3:$D$501,3,FALSE))","v":""},"2026-02-17","2026-02-17","2026-02-17","2026-02-17","2026-02-17",{"$f":"IF(ISNA(VLOOKUP(CE20,Tabelle2!$B$3:$D$501,3,FALSE)),\"\",VLOOKUP(CE20,Tabelle2!$B$3:$D$501,3,FALSE))","v":""}]
[{"$f":"B21","v":"2025-01-18"},"2025-01-18","2025-01-18",{"$f":"IFERROR(IF(MONTH(D20+1)=MONTH(D$4),D20+1,\"\"),\"\")","v":"2025-01-18"},"2025-01-18",{"$f":"IF(ISNA(VLOOKUP(E21,Tabelle2!$B$3:$D$501,3,FALSE)),\"\",VLOOKUP(E21,Tabelle2!$B$3:$D$501,3,FALSE))","v":""},"2025-02-18","2025-02-18","2025-02-18",{"$f":"IFERROR(IF(MONTH(J20+1)=MONTH(J$4),J20+1,\"\"),\"\")","v":"2025-02-18"},"2025-02-18",{"$f":"IF(ISNA(VLOOKUP(K21,Tabelle2!$B$3:$D$501,3,FALSE)),\"\",VLOOKUP(K21,Tabelle2!$B$3:$D$501,3,FALSE))","v":""},{"$f":"N21","v":"2025-03-18"},"2025-03-18","2025-03-18",{"$f":"IFERROR(IF(MONTH(P20+1)=MONTH(P$4),P20+1,\"\"),\"\")","v":"2025-03-18"},"2025-03-18",{"$f":"IF(ISNA(VLOOKUP(Q21,Tabelle2!$B$3:$D$501,3,FALSE)),\"\",VLOOKUP(Q21,Tabelle2!$B$3:$D$501,3,FALSE))","v":""},{"$f":"T21","v":"2025-04-18"},"2025-04-18","2025-04-18",{"$f":"IFERROR(IF(MONTH(V20+1)=MONTH(V$4),V20+1,\"\"),\"\")","v":"2025-04-18"},"2025-04-18",{"$f":"IF(ISNA(VLOOKUP(W21,Tabelle2!$B$3:$D$501,3,FALSE)),\"\",VLOOKUP(W21,Tabelle2!$B$3:$D$501,3,FALSE))","v":"Karfreitag"},{"$f":"Z21","v":"2025-05-18"},"2025-05-18","2025-05-18",{"$f":"IFERROR(IF(MONTH(AB20+1)=MONTH(AB$4),AB20+1,\"\"),\"\")","v":"2025-05-18"},"2025-05-18",{"$f":"IF(ISNA(VLOOKUP(AC21,Tabelle2!$B$3:$D$501,3,FALSE)),\"\",VLOOKUP(AC21,Tabelle2!$B$3:$D$501,3,FALSE))","v":""},{"$f":"AF21","v":"2025-06-18"},"2025-06-18","2025-06-18",{"$f":"IFERROR(IF(MONTH(AH20+1)=MONTH(AH$4),AH20+1,\"\"),\"\")","v":"2025-06-18"},"2025-06-18",{"$f":"IF(ISNA(VLOOKUP(AI21,Tabelle2!$B$3:$D$501,3,FALSE)),\"\",VLOOKUP(AI21,Tabelle2!$B$3:$D$501,3,FALSE))","v":"Astrid / Gudrun"},{"$f":"AL21","v":"2025-07-18"},"2025-07-18","2025-07-18",{"$f":"IFERROR(IF(MONTH(AN20+1)=MONTH(AN$4),AN20+1,\"\"),\"\")","v":"2025-07-18"},"2025-07-18",{"$f":"IF(ISNA(VLOOKUP(AO21,Tabelle2!$B$3:$D$501,3,FALSE)),\"\",VLOOKUP(AO21,Tabelle2!$B$3:$D$501,3,FALSE))","v":""},{"$f":"AR21","v":"2025-08-18"},"2025-08-18","2025-08-18","2025-08-18","2025-08-18",{"$f":"IF(ISNA(VLOOKUP(AU21,Tabelle2!$B$3:$D$501,3,FALSE)),\"\",VLOOKUP(AU21,Tabelle2!$B$3:$D$501,3,FALSE))","v":""},{"$f":"AX21","v":"2025-09-18"},"2025-09-18","2025-09-18",{"$f":"IFERROR(IF(MONTH(AZ20+1)=MONTH(AZ$4),AZ20+1,\"\"),\"\")","v":"2025-09-18"},"2025-09-18",{"$f":"IF(ISNA(VLOOKUP(BA21,Tabelle2!$B$3:$D$501,3,FALSE)),\"\",VLOOKUP(BA21,Tabelle2!$B$3:$D$501,3,FALSE))","v":"Konferenz"},{"$f":"BD21","v":"2025-10-18"},"2025-10-18","2025-10-18",{"$f":"IFERROR(IF(MONTH(BF20+1)=MONTH(BF$4),BF20+1,\"\"),\"\")","v":"2025-10-18"},"2025-10-18",{"$f":"IF(ISNA(VLOOKUP(BG21,Tabelle2!$B$3:$D$501,3,FALSE)),\"\",VLOOKUP(BG21,Tabelle2!$B$3:$D$501,3,FALSE))","v":"Isabella / Felicitas"},{"$f":"BJ21","v":"2025-11-18"},"2025-11-18","2025-11-18",{"$f":"IFERROR(IF(MONTH(BL20+1)=MONTH(BL$4),BL20+1,\"\"),\"\")","v":"2025-11-18"},"2025-11-18",{"$f":"IF(ISNA(VLOOKUP(BM21,Tabelle2!$B$3:$D$501,3,FALSE)),\"\",VLOOKUP(BM21,Tabelle2!$B$3:$D$501,3,FALSE))","v":""},{"$f":"BP21","v":"2025-12-18"},"2025-12-18","2025-12-18",{"$f":"IFERROR(IF(MONTH(BR20+1)=MONTH(BR$4),BR20+1,\"\"),\"\")","v":"2025-12-18"},"2025-12-18",{"$f":"IF(ISNA(VLOOKUP(BS21,Tabelle2!$B$3:$D$501,3,FALSE)),\"\",VLOOKUP(BS21,Tabelle2!$B$3:$D$501,3,FALSE))","v":"Ecki"},"2026-01-18","2026-01-18","2026-01-18",{"$f":"IFERROR(IF(MONTH(BX20+1)=MONTH(BX$4),BX20+1,\"\"),\"\")","v":"2026-01-18"},"2026-01-18",{"$f":"IF(ISNA(VLOOKUP(BY21,Tabelle2!$B$3:$D$501,3,FALSE)),\"\",VLOOKUP(BY21,Tabelle2!$B$3:$D$501,3,FALSE))","v":""},"2026-02-18","2026-02-18","2026-02-18",{"$f":"IFERROR(IF(MONTH(CD20+1)=MONTH(CD$4),CD20+1,\"\"),\"\")","v":"2026-02-18"},"2026-02-18",{"$f":"IF(ISNA(VLOOKUP(CE21,Tabelle2!$B$3:$D$501,3,FALSE)),\"\",VLOOKUP(CE21,Tabelle2!$B$3:$D$501,3,FALSE))","v":""}]
["2025-01-19","2025-01-19","2025-01-19","2025-01-19","2025-01-19",{"$f":"IF(ISNA(VLOOKUP(E22,Tabelle2!$B$3:$D$501,3,FALSE)),\"\",VLOOKUP(E22,Tabelle2!$B$3:$D$501,3,FALSE))","v":""},"2025-02-19","2025-02-19","2025-02-19","2025-02-19","2025-02-19",{"$f":"IF(ISNA(VLOOKUP(K22,Tabelle2!$B$3:$D$501,3,FALSE)),\"\",VLOOKUP(K22,Tabelle2!$B$3:$D$501,3,FALSE))","v":"any"},"2025-03-19","2025-03-19","2025-03-19","2025-03-19","2025-03-19",{"$f":"IF(ISNA(VLOOKUP(Q22,Tabelle2!$B$3:$D$501,3,FALSE)),\"\",VLOOKUP(Q22,Tabelle2!$B$3:$D$501,3,FALSE))","v":""},"2025-04-19","2025-04-19","2025-04-19","2025-04-19","2025-04-19",{"$f":"IF(ISNA(VLOOKUP(W22,Tabelle2!$B$3:$D$501,3,FALSE)),\"\",VLOOKUP(W22,Tabelle2!$B$3:$D$501,3,FALSE))","v":"Louis"},"2025-05-19","2025-05-19","2025-05-19","2025-05-19","2025-05-19",{"$f":"IF(ISNA(VLOOKUP(AC22,Tabelle2!$B$3:$D$501,3,FALSE)),\"\",VLOOKUP(AC22,Tabelle2!$B$3:$D$501,3,FALSE))","v":""},"2025-06-19","2025-06-19","2025-06-19","2025-06-19","2025-06-19",{"$f":"IF(ISNA(VLOOKUP(AI22,Tabelle2!$B$3:$D$501,3,FALSE)),\"\",VLOOKUP(AI22,Tabelle2!$B$3:$D$501,3,FALSE))","v":"Fronleichnam"},"2025-07-19","2025-07-19","2025-07-19","2025-07-19","2025-07-19",{"$f":"IF(ISNA(VLOOKUP(AO22,Tabelle2!$B$3:$D$501,3,FALSE)),\"\",VLOOKUP(AO22,Tabelle2!$B$3:$D$501,3,FALSE))","v":""},"2025-08-19","2025-08-19","2025-08-19","2025-08-19","2025-08-19",{"$f":"IF(ISNA(VLOOKUP(AU22,Tabelle2!$B$3:$D$501,3,FALSE)),\"\",VLOOKUP(AU22,Tabelle2!$B$3:$D$501,3,FALSE))","v":""},"2025-09-19","2025-09-19","2025-09-19","2025-09-19","2025-09-19",{"$f":"IF(ISNA(VLOOKUP(BA22,Tabelle2!$B$3:$D$501,3,FALSE)),\"\",VLOOKUP(BA22,Tabelle2!$B$3:$D$501,3,FALSE))","v":"Aktionstag"},"2025-10-19","2025-10-19","2025-10-19","2025-10-19","2025-10-19",{"$f":"IF(ISNA(VLOOKUP(BG22,Tabelle2!$B$3:$D$501,3,FALSE)),\"\",VLOOKUP(BG22,Tabelle2!$B$3:$D$501,3,FALSE))","v":"Felix"},"2025-11-19","2025-11-19","2025-11-19","2025-11-19","2025-11-19",{"$f":"IF(ISNA(VLOOKUP(BM22,Tabelle2!$B$3:$D$501,3,FALSE)),\"\",VLOOKUP(BM22,Tabelle2!$B$3:$D$501,3,FALSE))","v":"Buß- und Bettag / Mertr"},"2025-12-19","2025-12-19","2025-12-19","2025-12-19","2025-12-19",{"$f":"IF(ISNA(VLOOKUP(BS22,Tabelle2!$B$3:$D$501,3,FALSE)),\"\",VLOOKUP(BS22,Tabelle2!$B$3:$D$501,3,FALSE))","v":"Maximilian"},"2026-01-19","2026-01-19","2026-01-19","2026-01-19","2026-01-19",{"$f":"IF(ISNA(VLOOKUP(BY22,Tabelle2!$B$3:$D$501,3,FALSE)),\"\",VLOOKUP(BY22,Tabelle2!$B$3:$D$501,3,FALSE))","v":""},"2026-02-19","2026-02-19","2026-02-19","2026-02-19","2026-02-19",{"$f":"IF(ISNA(VLOOKUP(CE22,Tabelle2!$B$3:$D$501,3,FALSE)),\"\",VLOOKUP(CE22,Tabelle2!$B$3:$D$501,3,FALSE))","v":"any"}]
["2025-01-20","2025-01-20","2025-01-20","2025-01-20","2025-01-20",{"$f":"IF(ISNA(VLOOKUP(E23,Tabelle2!$B$3:$D$501,3,FALSE)),\"\",VLOOKUP(E23,Tabelle2!$B$3:$D$501,3,FALSE))","v":""},"2025-02-20","2025-02-20","2025-02-20","2025-02-20","2025-02-20",{"$f":"IF(ISNA(VLOOKUP(K23,Tabelle2!$B$3:$D$501,3,FALSE)),\"\",VLOOKUP(K23,Tabelle2!$B$3:$D$501,3,FALSE))","v":"Projekt"},"2025-03-20","2025-03-20","2025-03-20","2025-03-20","2025-03-20",{"$f":"IF(ISNA(VLOOKUP(Q23,Tabelle2!$B$3:$D$501,3,FALSE)),\"\",VLOOKUP(Q23,Tabelle2!$B$3:$D$501,3,FALSE))","v":""},"2025-04-20","2025-04-20","2025-04-20","2025-04-20","2025-04-20",{"$f":"IF(ISNA(VLOOKUP(W23,Tabelle2!$B$3:$D$501,3,FALSE)),\"\",VLOOKUP(W23,Tabelle2!$B$3:$D$501,3,FALSE))","v":"Ostersonntag"},"2025-05-20","2025-05-20","2025-05-20","2025-05-20","2025-05-20",{"$f":"IF(ISNA(VLOOKUP(AC23,Tabelle2!$B$3:$D$501,3,FALSE)),\"\",VLOOKUP(AC23,Tabelle2!$B$3:$D$501,3,FALSE))","v":"Familie"},"2025-06-20","2025-06-20","2025-06-20","2025-06-20","2025-06-20",{"$f":"IF(ISNA(VLOOKUP(AI23,Tabelle2!$B$3:$D$501,3,FALSE)),\"\",VLOOKUP(AI23,Tabelle2!$B$3:$D$501,3,FALSE))","v":"Julie"},"2025-07-20","2025-07-20","2025-07-20","2025-07-20","2025-07-20",{"$f":"IF(ISNA(VLOOKUP(AO23,Tabelle2!$B$3:$D$501,3,FALSE)),\"\",VLOOKUP(AO23,Tabelle2!$B$3:$D$501,3,FALSE))","v":""},"2025-08-20","2025-08-20","2025-08-20","2025-08-20","2025-08-20",{"$f":"IF(ISNA(VLOOKUP(AU23,Tabelle2!$B$3:$D$501,3,FALSE)),\"\",VLOOKUP(AU23,Tabelle2!$B$3:$D$501,3,FALSE))","v":"Johanna / Juliette"},"2025-09-20","2025-09-20","2025-09-20","2025-09-20","2025-09-20",{"$f":"IF(ISNA(VLOOKUP(BA23,Tabelle2!$B$3:$D$501,3,FALSE)),\"\",VLOOKUP(BA23,Tabelle2!$B$3:$D$501,3,FALSE))","v":"Weltkindertag / Klara"},"2025-10-20","2025-10-20","2025-10-20","2025-10-20","2025-10-20",{"$f":"IF(ISNA(VLOOKUP(BG23,Tabelle2!$B$3:$D$501,3,FALSE)),\"\",VLOOKUP(BG23,Tabelle2!$B$3:$D$501,3,FALSE))","v":""},"2025-11-20","2025-11-20","2025-11-20","2025-11-20","2025-11-20",{"$f":"IF(ISNA(VLOOKUP(BM23,Tabelle2!$B$3:$D$501,3,FALSE)),\"\",VLOOKUP(BM23,Tabelle2!$B$3:$D$501,3,FALSE))","v":""},"2025-12-20","2025-12-20","2025-12-20","2025-12-20","2025-12-20",{"$f":"IF(ISNA(VLOOKUP(BS23,Tabelle2!$B$3:$D$501,3,FALSE)),\"\",VLOOKUP(BS23,Tabelle2!$B$3:$D$501,3,FALSE))","v":"Melanie"},"2026-01-20","2026-01-20","2026-01-20","2026-01-20","2026-01-20",{"$f":"IF(ISNA(VLOOKUP(BY23,Tabelle2!$B$3:$D$501,3,FALSE)),\"\",VLOOKUP(BY23,Tabelle2!$B$3:$D$501,3,FALSE))","v":""},"2026-02-20","2026-02-20","2026-02-20","2026-02-20","2026-02-20",{"$f":"IF(ISNA(VLOOKUP(CE23,Tabelle2!$B$3:$D$501,3,FALSE)),\"\",VLOOKUP(CE23,Tabelle2!$B$3:$D$501,3,FALSE))","v":""}]
["2025-01-21","2025-01-21","2025-01-21","2025-01-21","2025-01-21",{"$f":"IF(ISNA(VLOOKUP(E24,Tabelle2!$B$3:$D$501,3,FALSE)),\"\",VLOOKUP(E24,Tabelle2!$B$3:$D$501,3,FALSE))","v":""},"2025-02-21","2025-02-21","2025-02-21","2025-02-21","2025-02-21",{"$f":"IF(ISNA(VLOOKUP(K24,Tabelle2!$B$3:$D$501,3,FALSE)),\"\",VLOOKUP(K24,Tabelle2!$B$3:$D$501,3,FALSE))","v":""},"2025-03-21","2025-03-21","2025-03-21","2025-03-21","2025-03-21",{"$f":"IF(ISNA(VLOOKUP(Q24,Tabelle2!$B$3:$D$501,3,FALSE)),\"\",VLOOKUP(Q24,Tabelle2!$B$3:$D$501,3,FALSE))","v":"Susanne"},"2025-04-21","2025-04-21","2025-04-21","2025-04-21","2025-04-21",{"$f":"IF(ISNA(VLOOKUP(W24,Tabelle2!$B$3:$D$501,3,FALSE)),\"\",VLOOKUP(W24,Tabelle2!$B$3:$D$501,3,FALSE))","v":"Ostermontag"},"2025-05-21","2025-05-21","2025-05-21","2025-05-21","2025-05-21",{"$f":"IF(ISNA(VLOOKUP(AC24,Tabelle2!$B$3:$D$501,3,FALSE)),\"\",VLOOKUP(AC24,Tabelle2!$B$3:$D$501,3,FALSE))","v":""},"2025-06-21","2025-06-21","2025-06-21","2025-06-21","2025-06-21",{"$f":"IF(ISNA(VLOOKUP(AI24,Tabelle2!$B$3:$D$501,3,FALSE)),\"\",VLOOKUP(AI24,Tabelle2!$B$3:$D$501,3,FALSE))","v":"Unbekannt"},"2025-07-21","2025-07-21","2025-07-21","2025-07-21","2025-07-21",{"$f":"IF(ISNA(VLOOKUP(AO24,Tabelle2!$B$3:$D$501,3,FALSE)),\"\",VLOOKUP(AO24,Tabelle2!$B$3:$D$501,3,FALSE))","v":"3. W "},"2025-08-21","2025-08-21","2025-08-21","2025-08-21","2025-08-21",{"$f":"IF(ISNA(VLOOKUP(AU24,Tabelle2!$B$3:$D$501,3,FALSE)),\"\",VLOOKUP(AU24,Tabelle2!$B$3:$D$501,3,FALSE))","v":""},"2025-09-21","2025-09-21","2025-09-21","2025-09-21","2025-09-21",{"$f":"IF(ISNA(VLOOKUP(BA24,Tabelle2!$B$3:$D$501,3,FALSE)),\"\",VLOOKUP(BA24,Tabelle2!$B$3:$D$501,3,FALSE))","v":""},"2025-10-21","2025-10-21","2025-10-21","2025-10-21","2025-10-21",{"$f":"IF(ISNA(VLOOKUP(BG24,Tabelle2!$B$3:$D$501,3,FALSE)),\"\",VLOOKUP(BG24,Tabelle2!$B$3:$D$501,3,FALSE))","v":"Brigitte / Titus"},"2025-11-21","2025-11-21","2025-11-21","2025-11-21","2025-11-21",{"$f":"IF(ISNA(VLOOKUP(BM24,Tabelle2!$B$3:$D$501,3,FALSE)),\"\",VLOOKUP(BM24,Tabelle2!$B$3:$D$501,3,FALSE))","v":""},"2025-12-21","2025-12-21","2025-12-21","2025-12-21","2025-12-21",{"$f":"IF(ISNA(VLOOKUP(BS24,Tabelle2!$B$3:$D$501,3,FALSE)),\"\",VLOOKUP(BS24,Tabelle2!$B$3:$D$501,3,FALSE))","v":"4.Advent / Christina"},"2026-01-21","2026-01-21","2026-01-21","2026-01-21","2026-01-21",{"$f":"IF(ISNA(VLOOKUP(BY24,Tabelle2!$B$3:$D$501,3,FALSE)),\"\",VLOOKUP(BY24,Tabelle2!$B$3:$D$501,3,FALSE))","v":""},"2026-02-21","2026-02-21","2026-02-21","2026-02-21","2026-02-21",{"$f":"IF(ISNA(VLOOKUP(CE24,Tabelle2!$B$3:$D$501,3,FALSE)),\"\",VLOOKUP(CE24,Tabelle2!$B$3:$D$501,3,FALSE))","v":""}]
["2025-01-22","2025-01-22","2025-01-22","2025-01-22","2025-01-22",{"$f":"IF(ISNA(VLOOKUP(E25,Tabelle2!$B$3:$D$501,3,FALSE)),\"\",VLOOKUP(E25,Tabelle2!$B$3:$D$501,3,FALSE))","v":"Paula"},"2025-02-22","2025-02-22","2025-02-22","2025-02-22","2025-02-22",{"$f":"IF(ISNA(VLOOKUP(K25,Tabelle2!$B$3:$D$501,3,FALSE)),\"\",VLOOKUP(K25,Tabelle2!$B$3:$D$501,3,FALSE))","v":""},"2025-03-22","2025-03-22","2025-03-22","2025-03-22","2025-03-22",{"$f":"IF(ISNA(VLOOKUP(Q25,Tabelle2!$B$3:$D$501,3,FALSE)),\"\",VLOOKUP(Q25,Tabelle2!$B$3:$D$501,3,FALSE))","v":""},"2025-04-22","2025-04-22","2025-04-22","2025-04-22","2025-04-22",{"$f":"IF(ISNA(VLOOKUP(W25,Tabelle2!$B$3:$D$501,3,FALSE)),\"\",VLOOKUP(W25,Tabelle2!$B$3:$D$501,3,FALSE))","v":"Abas"},"2025-05-22","2025-05-22","2025-05-22","2025-05-22","2025-05-22",{"$f":"IF(ISNA(VLOOKUP(AC25,Tabelle2!$B$3:$D$501,3,FALSE)),\"\",VLOOKUP(AC25,Tabelle2!$B$3:$D$501,3,FALSE))","v":""},"2025-06-22","2025-06-22","2025-06-22","2025-06-22","2025-06-22",{"$f":"IF(ISNA(VLOOKUP(AI25,Tabelle2!$B$3:$D$501,3,FALSE)),\"\",VLOOKUP(AI25,Tabelle2!$B$3:$D$501,3,FALSE))","v":""},"2025-07-22","2025-07-22","2025-07-22","2025-07-22","2025-07-22",{"$f":"IF(ISNA(VLOOKUP(AO25,Tabelle2!$B$3:$D$501,3,FALSE)),\"\",VLOOKUP(AO25,Tabelle2!$B$3:$D$501,3,FALSE))","v":"Programm a"},"2025-08-22","2025-08-22","2025-08-22","2025-08-22","2025-08-22",{"$f":"IF(ISNA(VLOOKUP(AU25,Tabelle2!$B$3:$D$501,3,FALSE)),\"\",VLOOKUP(AU25,Tabelle2!$B$3:$D$501,3,FALSE))","v":""},"2025-09-22","2025-09-22","2025-09-22","2025-09-22","2025-09-22",{"$f":"IF(ISNA(VLOOKUP(BA25,Tabelle2!$B$3:$D$501,3,FALSE)),\"\",VLOOKUP(BA25,Tabelle2!$B$3:$D$501,3,FALSE))","v":"Veranstaltung verwaltung"},"2025-10-22","2025-10-22","2025-10-22","2025-10-22","2025-10-22",{"$f":"IF(ISNA(VLOOKUP(BG25,Tabelle2!$B$3:$D$501,3,FALSE)),\"\",VLOOKUP(BG25,Tabelle2!$B$3:$D$501,3,FALSE))","v":""},"2025-11-22","2025-11-22","2025-11-22","2025-11-22","2025-11-22",{"$f":"IF(ISNA(VLOOKUP(BM25,Tabelle2!$B$3:$D$501,3,FALSE)),\"\",VLOOKUP(BM25,Tabelle2!$B$3:$D$501,3,FALSE))","v":""},"2025-12-22","2025-12-22","2025-12-22","2025-12-22","2025-12-22",{"$f":"IF(ISNA(VLOOKUP(BS25,Tabelle2!$B$3:$D$501,3,FALSE)),\"\",VLOOKUP(BS25,Tabelle2!$B$3:$D$501,3,FALSE))","v":"Weihnachtsferien"},"2026-01-22","2026-01-22","2026-01-22","2026-01-22","2026-01-22",{"$f":"IF(ISNA(VLOOKUP(BY25,Tabelle2!$B$3:$D$501,3,FALSE)),\"\",VLOOKUP(BY25,Tabelle2!$B$3:$D$501,3,FALSE))","v":"Paula"},"2026-02-22","2026-02-22","2026-02-22","2026-02-22","2026-02-22",{"$f":"IF(ISNA(VLOOKUP(CE25,Tabelle2!$B$3:$D$501,3,FALSE)),\"\",VLOOKUP(CE25,Tabelle2!$B$3:$D$501,3,FALSE))","v":""}]
["2025-01-23","2025-01-23","2025-01-23","2025-01-23","2025-01-23",{"$f":"IF(ISNA(VLOOKUP(E26,Tabelle2!$B$3:$D$501,3,FALSE)),\"\",VLOOKUP(E26,Tabelle2!$B$3:$D$501,3,FALSE))","v":"Projekt"},"2025-02-23","2025-02-23","2025-02-23","2025-02-23","2025-02-23",{"$f":"IF(ISNA(VLOOKUP(K26,Tabelle2!$B$3:$D$501,3,FALSE)),\"\",VLOOKUP(K26,Tabelle2!$B$3:$D$501,3,FALSE))","v":""},"2025-03-23","2025-03-23","2025-03-23","2025-03-23","2025-03-23",{"$f":"IF(ISNA(VLOOKUP(Q26,Tabelle2!$B$3:$D$501,3,FALSE)),\"\",VLOOKUP(Q26,Tabelle2!$B$3:$D$501,3,FALSE))","v":"Justus"},"2025-04-23","2025-04-23","2025-04-23","2025-04-23","2025-04-23",{"$f":"IF(ISNA(VLOOKUP(W26,Tabelle2!$B$3:$D$501,3,FALSE)),\"\",VLOOKUP(W26,Tabelle2!$B$3:$D$501,3,FALSE))","v":""},"2025-05-23","2025-05-23","2025-05-23","2025-05-23","2025-05-23",{"$f":"IF(ISNA(VLOOKUP(AC26,Tabelle2!$B$3:$D$501,3,FALSE)),\"\",VLOOKUP(AC26,Tabelle2!$B$3:$D$501,3,FALSE))","v":""},"2025-06-23","2025-06-23","2025-06-23","2025-06-23","2025-06-23",{"$f":"IF(ISNA(VLOOKUP(AI26,Tabelle2!$B$3:$D$501,3,FALSE)),\"\",VLOOKUP(AI26,Tabelle2!$B$3:$D$501,3,FALSE))","v":""},"2025-07-23","2025-07-23","2025-07-23","2025-07-23","2025-07-23",{"$f":"IF(ISNA(VLOOKUP(AO26,Tabelle2!$B$3:$D$501,3,FALSE)),\"\",VLOOKUP(AO26,Tabelle2!$B$3:$D$501,3,FALSE))","v":"Programm a"},"2025-08-23","2025-08-23","2025-08-23","2025-08-23","2025-08-23",{"$f":"IF(ISNA(VLOOKUP(AU26,Tabelle2!$B$3:$D$501,3,FALSE)),\"\",VLOOKUP(AU26,Tabelle2!$B$3:$D$501,3,FALSE))","v":"Katharina"},"2025-09-23","2025-09-23","2025-09-23","2025-09-23","2025-09-23",{"$f":"IF(ISNA(VLOOKUP(BA26,Tabelle2!$B$3:$D$501,3,FALSE)),\"\",VLOOKUP(BA26,Tabelle2!$B$3:$D$501,3,FALSE))","v":"Sina / Maria"},"2025-10-23","2025-10-23","2025-10-23","2025-10-23","2025-10-23",{"$f":"IF(ISNA(VLOOKUP(BG26,Tabelle2!$B$3:$D$501,3,FALSE)),\"\",VLOOKUP(BG26,Tabelle2!$B$3:$D$501,3,FALSE))","v":""},"2025-11-23","2025-11-23","2025-11-23","2025-11-23","2025-11-23",{"$f":"IF(ISNA(VLOOKUP(BM26,Tabelle2!$B$3:$D$501,3,FALSE)),\"\",VLOOKUP(BM26,Tabelle2!$B$3:$D$501,3,FALSE))","v":"Totensonntag / Niklas"},"2025-12-23","2025-12-23","2025-12-23","2025-12-23","2025-12-23",{"$f":"IF(ISNA(VLOOKUP(BS26,Tabelle2!$B$3:$D$501,3,FALSE)),\"\",VLOOKUP(BS26,Tabelle2!$B$3:$D$501,3,FALSE))","v":""},"2026-01-23","2026-01-23","2026-01-23","2026-01-23","2026-01-23",{"$f":"IF(ISNA(VLOOKUP(BY26,Tabelle2!$B$3:$D$501,3,FALSE)),\"\",VLOOKUP(BY26,Tabelle2!$B$3:$D$501,3,FALSE))","v":""},"2026-02-23","2026-02-23","2026-02-23","2026-02-23","2026-02-23",{"$f":"IF(ISNA(VLOOKUP(CE26,Tabelle2!$B$3:$D$501,3,FALSE)),\"\",VLOOKUP(CE26,Tabelle2!$B$3:$D$501,3,FALSE))","v":""}]
["2025-01-24","2025-01-24","2025-01-24","2025-01-24","2025-01-24",{"$f":"IF(ISNA(VLOOKUP(E27,Tabelle2!$B$3:$D$501,3,FALSE)),\"\",VLOOKUP(E27,Tabelle2!$B$3:$D$501,3,FALSE))","v":""},"2025-02-24","2025-02-24","2025-02-24","2025-02-24","2025-02-24",{"$f":"IF(ISNA(VLOOKUP(K27,Tabelle2!$B$3:$D$501,3,FALSE)),\"\",VLOOKUP(K27,Tabelle2!$B$3:$D$501,3,FALSE))","v":""},"2025-03-24","2025-03-24","2025-03-24","2025-03-24","2025-03-24",{"$f":"IF(ISNA(VLOOKUP(Q27,Tabelle2!$B$3:$D$501,3,FALSE)),\"\",VLOOKUP(Q27,Tabelle2!$B$3:$D$501,3,FALSE))","v":"Frieda"},"2025-04-24","2025-04-24","2025-04-24","2025-04-24","2025-04-24",{"$f":"IF(ISNA(VLOOKUP(W27,Tabelle2!$B$3:$D$501,3,FALSE)),\"\",VLOOKUP(W27,Tabelle2!$B$3:$D$501,3,FALSE))","v":""},"2025-05-24","2025-05-24","2025-05-24","2025-05-24","2025-05-24",{"$f":"IF(ISNA(VLOOKUP(AC27,Tabelle2!$B$3:$D$501,3,FALSE)),\"\",VLOOKUP(AC27,Tabelle2!$B$3:$D$501,3,FALSE))","v":""},"2025-06-24","2025-06-24","2025-06-24","2025-06-24","2025-06-24",{"$f":"IF(ISNA(VLOOKUP(AI27,Tabelle2!$B$3:$D$501,3,FALSE)),\"\",VLOOKUP(AI27,Tabelle2!$B$3:$D$501,3,FALSE))","v":""},"2025-07-24","2025-07-24","2025-07-24","2025-07-24","2025-07-24",{"$f":"IF(ISNA(VLOOKUP(AO27,Tabelle2!$B$3:$D$501,3,FALSE)),\"\",VLOOKUP(AO27,Tabelle2!$B$3:$D$501,3,FALSE))","v":"Programm a"},"2025-08-24","2025-08-24","2025-08-24","2025-08-24","2025-08-24",{"$f":"IF(ISNA(VLOOKUP(AU27,Tabelle2!$B$3:$D$501,3,FALSE)),\"\",VLOOKUP(AU27,Tabelle2!$B$3:$D$501,3,FALSE))","v":""},"2025-09-24","2025-09-24","2025-09-24","2025-09-24","2025-09-24",{"$f":"IF(ISNA(VLOOKUP(BA27,Tabelle2!$B$3:$D$501,3,FALSE)),\"\",VLOOKUP(BA27,Tabelle2!$B$3:$D$501,3,FALSE))","v":"Conztantin"},"2025-10-24","2025-10-24","2025-10-24","2025-10-24","2025-10-24",{"$f":"IF(ISNA(VLOOKUP(BG27,Tabelle2!$B$3:$D$501,3,FALSE)),\"\",VLOOKUP(BG27,Tabelle2!$B$3:$D$501,3,FALSE))","v":"Spielmesse / Marinette"},"2025-11-24","2025-11-24","2025-11-24","2025-11-24","2025-11-24",{"$f":"IF(ISNA(VLOOKUP(BM27,Tabelle2!$B$3:$D$501,3,FALSE)),\"\",VLOOKUP(BM27,Tabelle2!$B$3:$D$501,3,FALSE))","v":""},"2025-12-24","2025-12-24","2025-12-24","2025-12-24","2025-12-24",{"$f":"IF(ISNA(VLOOKUP(BS27,Tabelle2!$B$3:$D$501,3,FALSE)),\"\",VLOOKUP(BS27,Tabelle2!$B$3:$D$501,3,FALSE))","v":"Hlg. Abend"},"2026-01-24","2026-01-24","2026-01-24","2026-01-24","2026-01-24",{"$f":"IF(ISNA(VLOOKUP(BY27,Tabelle2!$B$3:$D$501,3,FALSE)),\"\",VLOOKUP(BY27,Tabelle2!$B$3:$D$501,3,FALSE))","v":""},"2026-02-24","2026-02-24","2026-02-24","2026-02-24","2026-02-24",{"$f":"IF(ISNA(VLOOKUP(CE27,Tabelle2!$B$3:$D$501,3,FALSE)),\"\",VLOOKUP(CE27,Tabelle2!$B$3:$D$501,3,FALSE))","v":""}]
["2025-01-25","2025-01-25","2025-01-25","2025-01-25","2025-01-25",{"$f":"IF(ISNA(VLOOKUP(E28,Tabelle2!$B$3:$D$501,3,FALSE)),\"\",VLOOKUP(E28,Tabelle2!$B$3:$D$501,3,FALSE))","v":""},"2025-02-25","2025-02-25","2025-02-25","2025-02-25","2025-02-25",{"$f":"IF(ISNA(VLOOKUP(K28,Tabelle2!$B$3:$D$501,3,FALSE)),\"\",VLOOKUP(K28,Tabelle2!$B$3:$D$501,3,FALSE))","v":"Konferenz"},"2025-03-25","2025-03-25","2025-03-25","2025-03-25","2025-03-25",{"$f":"IF(ISNA(VLOOKUP(Q28,Tabelle2!$B$3:$D$501,3,FALSE)),\"\",VLOOKUP(Q28,Tabelle2!$B$3:$D$501,3,FALSE))","v":""},"2025-04-25","2025-04-25","2025-04-25","2025-04-25","2025-04-25",{"$f":"IF(ISNA(VLOOKUP(W28,Tabelle2!$B$3:$D$501,3,FALSE)),\"\",VLOOKUP(W28,Tabelle2!$B$3:$D$501,3,FALSE))","v":""},"2025-05-25","2025-05-25","2025-05-25","2025-05-25","2025-05-25",{"$f":"IF(ISNA(VLOOKUP(AC28,Tabelle2!$B$3:$D$501,3,FALSE)),\"\",VLOOKUP(AC28,Tabelle2!$B$3:$D$501,3,FALSE))","v":"Hamzh"},"2025-06-25","2025-06-25","2025-06-25","2025-06-25","2025-06-25",{"$f":"IF(ISNA(VLOOKUP(AI28,Tabelle2!$B$3:$D$501,3,FALSE)),\"\",VLOOKUP(AI28,Tabelle2!$B$3:$D$501,3,FALSE))","v":""},"2025-07-25","2025-07-25","2025-07-25","2025-07-25","2025-07-25",{"$f":"IF(ISNA(VLOOKUP(AO28,Tabelle2!$B$3:$D$501,3,FALSE)),\"\",VLOOKUP(AO28,Tabelle2!$B$3:$D$501,3,FALSE))","v":"Programm a"},"2025-08-25","2025-08-25","2025-08-25","2025-08-25","2025-08-25",{"$f":"IF(ISNA(VLOOKUP(AU28,Tabelle2!$B$3:$D$501,3,FALSE)),\"\",VLOOKUP(AU28,Tabelle2!$B$3:$D$501,3,FALSE))","v":""},"2025-09-25","2025-09-25","2025-09-25","2025-09-25","2025-09-25",{"$f":"IF(ISNA(VLOOKUP(BA28,Tabelle2!$B$3:$D$501,3,FALSE)),\"\",VLOOKUP(BA28,Tabelle2!$B$3:$D$501,3,FALSE))","v":""},"2025-10-25","2025-10-25","2025-10-25","2025-10-25","2025-10-25",{"$f":"IF(ISNA(VLOOKUP(BG28,Tabelle2!$B$3:$D$501,3,FALSE)),\"\",VLOOKUP(BG28,Tabelle2!$B$3:$D$501,3,FALSE))","v":"Tatjanna / Aliah"},"2025-11-25","2025-11-25","2025-11-25","2025-11-25","2025-11-25",{"$f":"IF(ISNA(VLOOKUP(BM28,Tabelle2!$B$3:$D$501,3,FALSE)),\"\",VLOOKUP(BM28,Tabelle2!$B$3:$D$501,3,FALSE))","v":"Lila"},"2025-12-25","2025-12-25","2025-12-25","2025-12-25","2025-12-25",{"$f":"IF(ISNA(VLOOKUP(BS28,Tabelle2!$B$3:$D$501,3,FALSE)),\"\",VLOOKUP(BS28,Tabelle2!$B$3:$D$501,3,FALSE))","v":"1. Weihnachtstag"},"2026-01-25","2026-01-25","2026-01-25","2026-01-25","2026-01-25",{"$f":"IF(ISNA(VLOOKUP(BY28,Tabelle2!$B$3:$D$501,3,FALSE)),\"\",VLOOKUP(BY28,Tabelle2!$B$3:$D$501,3,FALSE))","v":""},"2026-02-25","2026-02-25","2026-02-25","2026-02-25","2026-02-25",{"$f":"IF(ISNA(VLOOKUP(CE28,Tabelle2!$B$3:$D$501,3,FALSE)),\"\",VLOOKUP(CE28,Tabelle2!$B$3:$D$501,3,FALSE))","v":""}]
["2025-01-26","2025-01-26","2025-01-26","2025-01-26","2025-01-26",{"$f":"IF(ISNA(VLOOKUP(E29,Tabelle2!$B$3:$D$501,3,FALSE)),\"\",VLOOKUP(E29,Tabelle2!$B$3:$D$501,3,FALSE))","v":""},"2025-02-26","2025-02-26","2025-02-26","2025-02-26","2025-02-26",{"$f":"IF(ISNA(VLOOKUP(K29,Tabelle2!$B$3:$D$501,3,FALSE)),\"\",VLOOKUP(K29,Tabelle2!$B$3:$D$501,3,FALSE))","v":"Alia"},"2025-03-26","2025-03-26","2025-03-26","2025-03-26","2025-03-26",{"$f":"IF(ISNA(VLOOKUP(Q29,Tabelle2!$B$3:$D$501,3,FALSE)),\"\",VLOOKUP(Q29,Tabelle2!$B$3:$D$501,3,FALSE))","v":""},"2025-04-26","2025-04-26","2025-04-26","2025-04-26","2025-04-26",{"$f":"IF(ISNA(VLOOKUP(W29,Tabelle2!$B$3:$D$501,3,FALSE)),\"\",VLOOKUP(W29,Tabelle2!$B$3:$D$501,3,FALSE))","v":""},"2025-05-26","2025-05-26","2025-05-26","2025-05-26","2025-05-26",{"$f":"IF(ISNA(VLOOKUP(AC29,Tabelle2!$B$3:$D$501,3,FALSE)),\"\",VLOOKUP(AC29,Tabelle2!$B$3:$D$501,3,FALSE))","v":""},"2025-06-26","2025-06-26","2025-06-26","2025-06-26","2025-06-26",{"$f":"IF(ISNA(VLOOKUP(AI29,Tabelle2!$B$3:$D$501,3,FALSE)),\"\",VLOOKUP(AI29,Tabelle2!$B$3:$D$501,3,FALSE))","v":"Konferenz"},"2025-07-26","2025-07-26","2025-07-26","2025-07-26","2025-07-26",{"$f":"IF(ISNA(VLOOKUP(AO29,Tabelle2!$B$3:$D$501,3,FALSE)),\"\",VLOOKUP(AO29,Tabelle2!$B$3:$D$501,3,FALSE))","v":""},"2025-08-26","2025-08-26","2025-08-26","2025-08-26","2025-08-26",{"$f":"IF(ISNA(VLOOKUP(AU29,Tabelle2!$B$3:$D$501,3,FALSE)),\"\",VLOOKUP(AU29,Tabelle2!$B$3:$D$501,3,FALSE))","v":""},"2025-09-26","2025-09-26","2025-09-26","2025-09-26","2025-09-26",{"$f":"IF(ISNA(VLOOKUP(BA29,Tabelle2!$B$3:$D$501,3,FALSE)),\"\",VLOOKUP(BA29,Tabelle2!$B$3:$D$501,3,FALSE))","v":""},"2025-10-26","2025-10-26","2025-10-26","2025-10-26","2025-10-26",{"$f":"IF(ISNA(VLOOKUP(BG29,Tabelle2!$B$3:$D$501,3,FALSE)),\"\",VLOOKUP(BG29,Tabelle2!$B$3:$D$501,3,FALSE))","v":""},"2025-11-26","2025-11-26","2025-11-26","2025-11-26","2025-11-26",{"$f":"IF(ISNA(VLOOKUP(BM29,Tabelle2!$B$3:$D$501,3,FALSE)),\"\",VLOOKUP(BM29,Tabelle2!$B$3:$D$501,3,FALSE))","v":"Familie"},"2025-12-26","2025-12-26","2025-12-26","2025-12-26","2025-12-26",{"$f":"IF(ISNA(VLOOKUP(BS29,Tabelle2!$B$3:$D$501,3,FALSE)),\"\",VLOOKUP(BS29,Tabelle2!$B$3:$D$501,3,FALSE))","v":"2. Weihnachtstag"},"2026-01-26","2026-01-26","2026-01-26","2026-01-26","2026-01-26",{"$f":"IF(ISNA(VLOOKUP(BY29,Tabelle2!$B$3:$D$501,3,FALSE)),\"\",VLOOKUP(BY29,Tabelle2!$B$3:$D$501,3,FALSE))","v":""},"2026-02-26","2026-02-26","2026-02-26","2026-02-26","2026-02-26",{"$f":"IF(ISNA(VLOOKUP(CE29,Tabelle2!$B$3:$D$501,3,FALSE)),\"\",VLOOKUP(CE29,Tabelle2!$B$3:$D$501,3,FALSE))","v":"Alia"}]
["2025-01-27","2025-01-27","2025-01-27","2025-01-27","2025-01-27",{"$f":"IF(ISNA(VLOOKUP(E30,Tabelle2!$B$3:$D$501,3,FALSE)),\"\",VLOOKUP(E30,Tabelle2!$B$3:$D$501,3,FALSE))","v":""},"2025-02-27","2025-02-27","2025-02-27","2025-02-27","2025-02-27",{"$f":"IF(ISNA(VLOOKUP(K30,Tabelle2!$B$3:$D$501,3,FALSE)),\"\",VLOOKUP(K30,Tabelle2!$B$3:$D$501,3,FALSE))","v":"Projekt / Vollversammlung"},"2025-03-27","2025-03-27","2025-03-27","2025-03-27","2025-03-27",{"$f":"IF(ISNA(VLOOKUP(Q30,Tabelle2!$B$3:$D$501,3,FALSE)),\"\",VLOOKUP(Q30,Tabelle2!$B$3:$D$501,3,FALSE))","v":""},"2025-04-27","2025-04-27","2025-04-27","2025-04-27","2025-04-27",{"$f":"IF(ISNA(VLOOKUP(W30,Tabelle2!$B$3:$D$501,3,FALSE)),\"\",VLOOKUP(W30,Tabelle2!$B$3:$D$501,3,FALSE))","v":"Julia / Carmen"},"2025-05-27","2025-05-27","2025-05-27","2025-05-27","2025-05-27",{"$f":"IF(ISNA(VLOOKUP(AC30,Tabelle2!$B$3:$D$501,3,FALSE)),\"\",VLOOKUP(AC30,Tabelle2!$B$3:$D$501,3,FALSE))","v":""},"2025-06-27","2025-06-27","2025-06-27","2025-06-27","2025-06-27",{"$f":"IF(ISNA(VLOOKUP(AI30,Tabelle2!$B$3:$D$501,3,FALSE)),\"\",VLOOKUP(AI30,Tabelle2!$B$3:$D$501,3,FALSE))","v":"Fest / Peter"},"2025-07-27","2025-07-27","2025-07-27","2025-07-27","2025-07-27",{"$f":"IF(ISNA(VLOOKUP(AO30,Tabelle2!$B$3:$D$501,3,FALSE)),\"\",VLOOKUP(AO30,Tabelle2!$B$3:$D$501,3,FALSE))","v":""},"2025-08-27","2025-08-27","2025-08-27","2025-08-27","2025-08-27",{"$f":"IF(ISNA(VLOOKUP(AU30,Tabelle2!$B$3:$D$501,3,FALSE)),\"\",VLOOKUP(AU30,Tabelle2!$B$3:$D$501,3,FALSE))","v":""},"2025-09-27","2025-09-27","2025-09-27","2025-09-27","2025-09-27",{"$f":"IF(ISNA(VLOOKUP(BA30,Tabelle2!$B$3:$D$501,3,FALSE)),\"\",VLOOKUP(BA30,Tabelle2!$B$3:$D$501,3,FALSE))","v":"XXX"},"2025-10-27","2025-10-27","2025-10-27","2025-10-27","2025-10-27",{"$f":"IF(ISNA(VLOOKUP(BG30,Tabelle2!$B$3:$D$501,3,FALSE)),\"\",VLOOKUP(BG30,Tabelle2!$B$3:$D$501,3,FALSE))","v":""},"2025-11-27","2025-11-27","2025-11-27","2025-11-27","2025-11-27",{"$f":"IF(ISNA(VLOOKUP(BM30,Tabelle2!$B$3:$D$501,3,FALSE)),\"\",VLOOKUP(BM30,Tabelle2!$B$3:$D$501,3,FALSE))","v":"Ulrike / Timo"},"2025-12-27","2025-12-27","2025-12-27","2025-12-27","2025-12-27",{"$f":"IF(ISNA(VLOOKUP(BS30,Tabelle2!$B$3:$D$501,3,FALSE)),\"\",VLOOKUP(BS30,Tabelle2!$B$3:$D$501,3,FALSE))","v":"Kira"},"2026-01-27","2026-01-27","2026-01-27","2026-01-27","2026-01-27",{"$f":"IF(ISNA(VLOOKUP(BY30,Tabelle2!$B$3:$D$501,3,FALSE)),\"\",VLOOKUP(BY30,Tabelle2!$B$3:$D$501,3,FALSE))","v":""},"2026-02-27","2026-02-27","2026-02-27","2026-02-27","2026-02-27",{"$f":"IF(ISNA(VLOOKUP(CE30,Tabelle2!$B$3:$D$501,3,FALSE)),\"\",VLOOKUP(CE30,Tabelle2!$B$3:$D$501,3,FALSE))","v":""}]
["2025-01-28","2025-01-28","2025-01-28","2025-01-28","2025-01-28",{"$f":"IF(ISNA(VLOOKUP(E31,Tabelle2!$B$3:$D$501,3,FALSE)),\"\",VLOOKUP(E31,Tabelle2!$B$3:$D$501,3,FALSE))","v":""},"2025-02-28","2025-02-28","2025-02-28","2025-02-28","2025-02-28",{"$f":"IF(ISNA(VLOOKUP(K31,Tabelle2!$B$3:$D$501,3,FALSE)),\"\",VLOOKUP(K31,Tabelle2!$B$3:$D$501,3,FALSE))","v":"Party / Ramadan"},"2025-03-28","2025-03-28","2025-03-28","2025-03-28","2025-03-28",{"$f":"IF(ISNA(VLOOKUP(Q31,Tabelle2!$B$3:$D$501,3,FALSE)),\"\",VLOOKUP(Q31,Tabelle2!$B$3:$D$501,3,FALSE))","v":""},"2025-04-28","2025-04-28","2025-04-28","2025-04-28","2025-04-28",{"$f":"IF(ISNA(VLOOKUP(W31,Tabelle2!$B$3:$D$501,3,FALSE)),\"\",VLOOKUP(W31,Tabelle2!$B$3:$D$501,3,FALSE))","v":""},"2025-05-28","2025-05-28","2025-05-28","2025-05-28","2025-05-28",{"$f":"IF(ISNA(VLOOKUP(AC31,Tabelle2!$B$3:$D$501,3,FALSE)),\"\",VLOOKUP(AC31,Tabelle2!$B$3:$D$501,3,FALSE))","v":"Weltspieltag / Enno"},"2025-06-28","2025-06-28","2025-06-28","2025-06-28","2025-06-28",{"$f":"IF(ISNA(VLOOKUP(AI31,Tabelle2!$B$3:$D$501,3,FALSE)),\"\",VLOOKUP(AI31,Tabelle2!$B$3:$D$501,3,FALSE))","v":"Fest"},"2025-07-28","2025-07-28","2025-07-28","2025-07-28","2025-07-28",{"$f":"IF(ISNA(VLOOKUP(AO31,Tabelle2!$B$3:$D$501,3,FALSE)),\"\",VLOOKUP(AO31,Tabelle2!$B$3:$D$501,3,FALSE))","v":"4. W / "},"2025-08-28","2025-08-28","2025-08-28","2025-08-28","2025-08-28",{"$f":"IF(ISNA(VLOOKUP(AU31,Tabelle2!$B$3:$D$501,3,FALSE)),\"\",VLOOKUP(AU31,Tabelle2!$B$3:$D$501,3,FALSE))","v":""},"2025-09-28","2025-09-28","2025-09-28","2025-09-28","2025-09-28",{"$f":"IF(ISNA(VLOOKUP(BA31,Tabelle2!$B$3:$D$501,3,FALSE)),\"\",VLOOKUP(BA31,Tabelle2!$B$3:$D$501,3,FALSE))","v":""},"2025-10-28","2025-10-28","2025-10-28","2025-10-28","2025-10-28",{"$f":"IF(ISNA(VLOOKUP(BG31,Tabelle2!$B$3:$D$501,3,FALSE)),\"\",VLOOKUP(BG31,Tabelle2!$B$3:$D$501,3,FALSE))","v":""},"2025-11-28","2025-11-28","2025-11-28","2025-11-28","2025-11-28",{"$f":"IF(ISNA(VLOOKUP(BM31,Tabelle2!$B$3:$D$501,3,FALSE)),\"\",VLOOKUP(BM31,Tabelle2!$B$3:$D$501,3,FALSE))","v":""},"2025-12-28","2025-12-28","2025-12-28","2025-12-28","2025-12-28",{"$f":"IF(ISNA(VLOOKUP(BS31,Tabelle2!$B$3:$D$501,3,FALSE)),\"\",VLOOKUP(BS31,Tabelle2!$B$3:$D$501,3,FALSE))","v":""},"2026-01-28","2026-01-28","2026-01-28","2026-01-28","2026-01-28",{"$f":"IF(ISNA(VLOOKUP(BY31,Tabelle2!$B$3:$D$501,3,FALSE)),\"\",VLOOKUP(BY31,Tabelle2!$B$3:$D$501,3,FALSE))","v":""},"2026-02-28","2026-02-28","2026-02-28","2026-02-28","2026-02-28",{"$f":"IF(ISNA(VLOOKUP(CE31,Tabelle2!$B$3:$D$501,3,FALSE)),\"\",VLOOKUP(CE31,Tabelle2!$B$3:$D$501,3,FALSE))","v":""}]
["2025-01-29","2025-01-29","2025-01-29","2025-01-29","2025-01-29",{"$f":"IF(ISNA(VLOOKUP(E32,Tabelle2!$B$3:$D$501,3,FALSE)),\"\",VLOOKUP(E32,Tabelle2!$B$3:$D$501,3,FALSE))","v":"XX frei"},"","","","","",{"$f":"IF(ISNA(VLOOKUP(K32,Tabelle2!$B$3:$D$501,3,FALSE)),\"\",VLOOKUP(K32,Tabelle2!$B$3:$D$501,3,FALSE))","v":""},"2025-03-29","2025-03-29","2025-03-29","2025-03-29","2025-03-29",{"$f":"IF(ISNA(VLOOKUP(Q32,Tabelle2!$B$3:$D$501,3,FALSE)),\"\",VLOOKUP(Q32,Tabelle2!$B$3:$D$501,3,FALSE))","v":""},"2025-04-29","2025-04-29","2025-04-29","2025-04-29","2025-04-29",{"$f":"IF(ISNA(VLOOKUP(W32,Tabelle2!$B$3:$D$501,3,FALSE)),\"\",VLOOKUP(W32,Tabelle2!$B$3:$D$501,3,FALSE))","v":""},"2025-05-29","2025-05-29","2025-05-29","2025-05-29","2025-05-29",{"$f":"IF(ISNA(VLOOKUP(AC32,Tabelle2!$B$3:$D$501,3,FALSE)),\"\",VLOOKUP(AC32,Tabelle2!$B$3:$D$501,3,FALSE))","v":"Christi Himmelfahrt / Vatertag / Lea / Kunigunde"},"2025-06-29","2025-06-29","2025-06-29","2025-06-29","2025-06-29",{"$f":"IF(ISNA(VLOOKUP(AI32,Tabelle2!$B$3:$D$501,3,FALSE)),\"\",VLOOKUP(AI32,Tabelle2!$B$3:$D$501,3,FALSE))","v":"?Stadtteil? / Fest"},"2025-07-29","2025-07-29","2025-07-29","2025-07-29","2025-07-29",{"$f":"IF(ISNA(VLOOKUP(AO32,Tabelle2!$B$3:$D$501,3,FALSE)),\"\",VLOOKUP(AO32,Tabelle2!$B$3:$D$501,3,FALSE))","v":""},"2025-08-29","2025-08-29","2025-08-29","2025-08-29","2025-08-29",{"$f":"IF(ISNA(VLOOKUP(AU32,Tabelle2!$B$3:$D$501,3,FALSE)),\"\",VLOOKUP(AU32,Tabelle2!$B$3:$D$501,3,FALSE))","v":""},"2025-09-29","2025-09-29","2025-09-29","2025-09-29","2025-09-29",{"$f":"IF(ISNA(VLOOKUP(BA32,Tabelle2!$B$3:$D$501,3,FALSE)),\"\",VLOOKUP(BA32,Tabelle2!$B$3:$D$501,3,FALSE))","v":""},"2025-10-29","2025-10-29","2025-10-29","2025-10-29","2025-10-29",{"$f":"IF(ISNA(VLOOKUP(BG32,Tabelle2!$B$3:$D$501,3,FALSE)),\"\",VLOOKUP(BG32,Tabelle2!$B$3:$D$501,3,FALSE))","v":""},"2025-11-29","2025-11-29","2025-11-29","2025-11-29","2025-11-29",{"$f":"IF(ISNA(VLOOKUP(BM32,Tabelle2!$B$3:$D$501,3,FALSE)),\"\",VLOOKUP(BM32,Tabelle2!$B$3:$D$501,3,FALSE))","v":""},"2025-12-29","2025-12-29","2025-12-29","2025-12-29","2025-12-29",{"$f":"IF(ISNA(VLOOKUP(BS32,Tabelle2!$B$3:$D$501,3,FALSE)),\"\",VLOOKUP(BS32,Tabelle2!$B$3:$D$501,3,FALSE))","v":""},"2026-01-29","2026-01-29","2026-01-29","2026-01-29","2026-01-29",{"$f":"IF(ISNA(VLOOKUP(BY32,Tabelle2!$B$3:$D$501,3,FALSE)),\"\",VLOOKUP(BY32,Tabelle2!$B$3:$D$501,3,FALSE))","v":""},"","","","","",{"$f":"IF(ISNA(VLOOKUP(CE32,Tabelle2!$B$3:$D$501,3,FALSE)),\"\",VLOOKUP(CE32,Tabelle2!$B$3:$D$501,3,FALSE))","v":""}]
["2025-01-30","2025-01-30","2025-01-30","2025-01-30","2025-01-30",{"$f":"IF(ISNA(VLOOKUP(E33,Tabelle2!$B$3:$D$501,3,FALSE)),\"\",VLOOKUP(E33,Tabelle2!$B$3:$D$501,3,FALSE))","v":"Projekt / Pauline"},"","","","","",{"$f":"IF(ISNA(VLOOKUP(K33,Tabelle2!$B$3:$D$501,3,FALSE)),\"\",VLOOKUP(K33,Tabelle2!$B$3:$D$501,3,FALSE))","v":""},"2025-03-30","2025-03-30","2025-03-30","2025-03-30","2025-03-30",{"$f":"IF(ISNA(VLOOKUP(Q33,Tabelle2!$B$3:$D$501,3,FALSE)),\"\",VLOOKUP(Q33,Tabelle2!$B$3:$D$501,3,FALSE))","v":"Ramadan Ende / Peter"},"2025-04-30","2025-04-30","2025-04-30","2025-04-30","2025-04-30",{"$f":"IF(ISNA(VLOOKUP(W33,Tabelle2!$B$3:$D$501,3,FALSE)),\"\",VLOOKUP(W33,Tabelle2!$B$3:$D$501,3,FALSE))","v":""},"2025-05-30","2025-05-30","2025-05-30","2025-05-30","2025-05-30",{"$f":"IF(ISNA(VLOOKUP(AC33,Tabelle2!$B$3:$D$501,3,FALSE)),\"\",VLOOKUP(AC33,Tabelle2!$B$3:$D$501,3,FALSE))","v":""},"2025-06-30","2025-06-30","2025-06-30","2025-06-30","2025-06-30",{"$f":"IF(ISNA(VLOOKUP(AI33,Tabelle2!$B$3:$D$501,3,FALSE)),\"\",VLOOKUP(AI33,Tabelle2!$B$3:$D$501,3,FALSE))","v":"Samuel"},"2025-07-30","2025-07-30","2025-07-30","2025-07-30","2025-07-30",{"$f":"IF(ISNA(VLOOKUP(AO33,Tabelle2!$B$3:$D$501,3,FALSE)),\"\",VLOOKUP(AO33,Tabelle2!$B$3:$D$501,3,FALSE))","v":""},"2025-08-30","2025-08-30","2025-08-30",{"$f":"IFERROR(IF(MONTH(AT32+1)=MONTH(AT$4),AT32+1,\"\"),\"\")","v":"2025-08-30"},"2025-08-30",{"$f":"IF(ISNA(VLOOKUP(AU33,Tabelle2!$B$3:$D$501,3,FALSE)),\"\",VLOOKUP(AU33,Tabelle2!$B$3:$D$501,3,FALSE))","v":""},"2025-09-30","2025-09-30","2025-09-30","2025-09-30","2025-09-30",{"$f":"IF(ISNA(VLOOKUP(BA33,Tabelle2!$B$3:$D$501,3,FALSE)),\"\",VLOOKUP(BA33,Tabelle2!$B$3:$D$501,3,FALSE))","v":""},"2025-10-30","2025-10-30","2025-10-30","2025-10-30","2025-10-30",{"$f":"IF(ISNA(VLOOKUP(BG33,Tabelle2!$B$3:$D$501,3,FALSE)),\"\",VLOOKUP(BG33,Tabelle2!$B$3:$D$501,3,FALSE))","v":"Familie / Adrian"},"2025-11-30","2025-11-30","2025-11-30","2025-11-30","2025-11-30",{"$f":"IF(ISNA(VLOOKUP(BM33,Tabelle2!$B$3:$D$501,3,FALSE)),\"\",VLOOKUP(BM33,Tabelle2!$B$3:$D$501,3,FALSE))","v":"1. Advent"},"2025-12-30","2025-12-30","2025-12-30","2025-12-30","2025-12-30",{"$f":"IF(ISNA(VLOOKUP(BS33,Tabelle2!$B$3:$D$501,3,FALSE)),\"\",VLOOKUP(BS33,Tabelle2!$B$3:$D$501,3,FALSE))","v":"Luisa"},"2026-01-30","2026-01-30","2026-01-30","2026-01-30","2026-01-30",{"$f":"IF(ISNA(VLOOKUP(BY33,Tabelle2!$B$3:$D$501,3,FALSE)),\"\",VLOOKUP(BY33,Tabelle2!$B$3:$D$501,3,FALSE))","v":"Pauline"},"","","","","",{"$f":"IF(ISNA(VLOOKUP(CE33,Tabelle2!$B$3:$D$501,3,FALSE)),\"\",VLOOKUP(CE33,Tabelle2!$B$3:$D$501,3,FALSE))","v":""}]
["2025-01-31",{"$f":"C34","v":"2025-01-31"},"2025-01-31","2025-01-31","2025-01-31",{"$f":"IF(ISNA(VLOOKUP(E34,Tabelle2!$B$3:$D$501,3,FALSE)),\"\",VLOOKUP(E34,Tabelle2!$B$3:$D$501,3,FALSE))","v":""},"","","","","",{"$f":"IF(ISNA(VLOOKUP(K34,Tabelle2!$B$3:$D$501,3,FALSE)),\"\",VLOOKUP(K34,Tabelle2!$B$3:$D$501,3,FALSE))","v":""},"2025-03-31","2025-03-31","2025-03-31","2025-03-31","2025-03-31",{"$f":"IF(ISNA(VLOOKUP(Q34,Tabelle2!$B$3:$D$501,3,FALSE)),\"\",VLOOKUP(Q34,Tabelle2!$B$3:$D$501,3,FALSE))","v":""},"","","","","",{"$f":"IF(ISNA(VLOOKUP(W34,Tabelle2!$B$3:$D$501,3,FALSE)),\"\",VLOOKUP(W34,Tabelle2!$B$3:$D$501,3,FALSE))","v":""},"2025-05-31","2025-05-31","2025-05-31","2025-05-31","2025-05-31",{"$f":"IF(ISNA(VLOOKUP(AC34,Tabelle2!$B$3:$D$501,3,FALSE)),\"\",VLOOKUP(AC34,Tabelle2!$B$3:$D$501,3,FALSE))","v":""},"","","","","",{"$f":"IF(ISNA(VLOOKUP(AI34,Tabelle2!$B$3:$D$501,3,FALSE)),\"\",VLOOKUP(AI34,Tabelle2!$B$3:$D$501,3,FALSE))","v":""},"2025-07-31","2025-07-31","2025-07-31","2025-07-31","2025-07-31",{"$f":"IF(ISNA(VLOOKUP(AO34,Tabelle2!$B$3:$D$501,3,FALSE)),\"\",VLOOKUP(AO34,Tabelle2!$B$3:$D$501,3,FALSE))","v":""},"2025-08-31","2025-08-31","2025-08-31","2025-08-31","2025-08-31",{"$f":"IF(ISNA(VLOOKUP(AU34,Tabelle2!$B$3:$D$501,3,FALSE)),\"\",VLOOKUP(AU34,Tabelle2!$B$3:$D$501,3,FALSE))","v":""},"","","","","",{"$f":"IF(ISNA(VLOOKUP(BA34,Tabelle2!$B$3:$D$501,3,FALSE)),\"\",VLOOKUP(BA34,Tabelle2!$B$3:$D$501,3,FALSE))","v":""},"2025-10-31","2025-10-31","2025-10-31","2025-10-31","2025-10-31",{"$f":"IF(ISNA(VLOOKUP(BG34,Tabelle2!$B$3:$D$501,3,FALSE)),\"\",VLOOKUP(BG34,Tabelle2!$B$3:$D$501,3,FALSE))","v":"Halloween Reformationstag / Ella / Nathalie"},"","","","","",{"$f":"IF(ISNA(VLOOKUP(BM34,Tabelle2!$B$3:$D$501,3,FALSE)),\"\",VLOOKUP(BM34,Tabelle2!$B$3:$D$501,3,FALSE))","v":""},"2025-12-31","2025-12-31","2025-12-31","2025-12-31","2025-12-31",{"$f":"IF(ISNA(VLOOKUP(BS34,Tabelle2!$B$3:$D$501,3,FALSE)),\"\",VLOOKUP(BS34,Tabelle2!$B$3:$D$501,3,FALSE))","v":"Silvester"},"2026-01-31","2026-01-31","2026-01-31","2026-01-31","2026-01-31",{"$f":"IF(ISNA(VLOOKUP(BY34,Tabelle2!$B$3:$D$501,3,FALSE)),\"\",VLOOKUP(BY34,Tabelle2!$B$3:$D$501,3,FALSE))","v":""},"","","","","",{"$f":"IF(ISNA(VLOOKUP(CE34,Tabelle2!$B$3:$D$501,3,FALSE)),\"\",VLOOKUP(CE34,Tabelle2!$B$3:$D$501,3,FALSE))","v":""}]
[]
[]
[]
[null,null,null,null,null,null,null,null,null,null,null,{"$f":"_xlfn.LET(_xlpm.su,L4,_xlpm.sp,MOD(COLUMN(),6),_xlpm.suu,IF(_xlpm.su=\"\",\"@@@@\",_xlfn.TEXTSPLIT(_xlpm.su,\"/\")),_xlpm.fi,MATCH(_xlpm.suu,Tabelle2!$C$1:$C$500),_xlpm.fi)","v":{"$error":"#N/A"}},{"$f":"_xlfn.LET(_xlpm.su,M4,_xlpm.sp,MOD(COLUMN(),6),_xlpm.sp)","v":1},2,3,null,null,"Max / Paul"]
[null,null,null,null,null,null,null,null,null,null,null,{"$f":"_xlfn.LET(_xlpm.su,L5,_xlpm.sp,MOD(COLUMN(),6),_xlpm.suu,IF(_xlpm.su=\"\",\"@@@@\",_xlfn.TEXTSPLIT(_xlpm.su,\" / \")),_xlpm.fi,MATCH(_xlpm.suu,Tabelle2!$C$1:$C$500,0),AND(_xlpm.fi>=239,_xlpm.fi<=500)&_xlpm.suu)","v":{"$error":"#N/A"}},{"$error":"#N/A"},null,null,null,null,381]
[null,null,null,null,null,null,null,null,null,null,null,{"$f":"_xlfn.LET(_xlpm.su,L6,_xlpm.sp,MOD(COLUMN(),6),_xlpm.suu,IF(_xlpm.su=\"\",\"@@@@\",_xlfn.TEXTSPLIT(_xlpm.su,\" / \")),_xlpm.fi,MATCH(_xlpm.suu,Tabelle2!$C$1:$C$500,0),AND(_xlpm.fi>=239,_xlpm.fi<=500)&_xlpm.suu)","v":{"$error":"#N/A"}},{"$f":"LEN(M39)","v":{"$error":"#N/A"}}]
[null,null,null,null,null,null,null,null,null,null,null,{"$f":"_xlfn.LET(_xlpm.su,L7,_xlpm.sp,MOD(COLUMN(),6),_xlpm.suu,IF(_xlpm.su=\"\",\"@@@@\",_xlfn.TEXTSPLIT(_xlpm.su,\" / \")),_xlpm.fi,MATCH(_xlpm.suu,Tabelle2!$C$1:$C$500,0),AND(_xlpm.fi>=239,_xlpm.fi<=500)&_xlpm.suu)","v":{"$error":"#N/A"}}]
[null,null,null,null,null,null,null,null,null,null,null,{"$f":"_xlfn.LET(_xlpm.su,L8,_xlpm.sp,MOD(COLUMN(),6),_xlpm.suu,IF(_xlpm.su=\"\",\"@@@@\",_xlfn.TEXTSPLIT(_xlpm.su,\" / \")),_xlpm.fi,MATCH(_xlpm.suu,Tabelle2!$C$1:$C$500,0),AND(_xlpm.fi>=239,_xlpm.fi<=500)&_xlpm.suu)","v":"FALSCHTermin IB"},"FALSCHSam"]
[null,null,null,null,null,null,null,null,null,null,null,{"$f":"_xlfn.LET(_xlpm.su,L9,_xlpm.sp,MOD(COLUMN(),6),_xlpm.suu,IF(_xlpm.su=\"\",\"@@@@\",_xlfn.TEXTSPLIT(_xlpm.su,\" / \")),_xlpm.fi,MATCH(_xlpm.suu,Tabelle2!$C$1:$C$500,0),AND(_xlpm.fi>=239,_xlpm.fi<=500)&_xlpm.suu)","v":"FALSCHProjekt"}]
[null,null,null,null,null,null,null,null,null,null,null,{"$f":"_xlfn.LET(_xlpm.su,L10,_xlpm.sp,MOD(COLUMN(),6),_xlpm.suu,IF(_xlpm.su=\"\",\"@@@@\",_xlfn.TEXTSPLIT(_xlpm.su,\" / \")),_xlpm.fi,MATCH(_xlpm.suu,Tabelle2!$C$1:$C$500,0),AND(_xlpm.fi>=239,_xlpm.fi<=500)&_xlpm.suu)","v":{"$error":"#N/A"}}]
[null,null,null,null,null,null,null,null,null,null,null,{"$f":"_xlfn.LET(_xlpm.su,L11,_xlpm.sp,MOD(COLUMN(),6),_xlpm.suu,IF(_xlpm.su=\"\",\"@@@@\",_xlfn.TEXTSPLIT(_xlpm.su,\" / \")),_xlpm.fi,MATCH(_xlpm.suu,Tabelle2!$C$1:$C$500,0),AND(_xlpm.fi>=239,_xlpm.fi<=500)&_xlpm.suu)","v":{"$error":"#N/A"}}]
[null,null,null,null,null,null,null,null,null,null,null,{"$f":"_xlfn.LET(_xlpm.su,L12,_xlpm.sp,MOD(COLUMN(),6),_xlpm.suu,IF(_xlpm.su=\"\",\"@@@@\",_xlfn.TEXTSPLIT(_xlpm.su,\" / \")),_xlpm.fi,MATCH(_xlpm.suu,Tabelle2!$C$1:$C$500,0),AND(_xlpm.fi>=239,_xlpm.fi<=500)&_xlpm.suu)","v":{"$error":"#N/A"}}]
[null,null,null,null,null,null,null,null,null,null,null,{"$f":"_xlfn.LET(_xlpm.su,L13,_xlpm.sp,MOD(COLUMN(),6),_xlpm.suu,IF(_xlpm.su=\"\",\"@@@@\",_xlfn.TEXTSPLIT(_xlpm.su,\" / \")),_xlpm.fi,MATCH(_xlpm.suu,Tabelle2!$C$1:$C$500,0),AND(_xlpm.fi>=239,_xlpm.fi<=500)&_xlpm.suu)","v":{"$error":"#N/A"}}]
[null,null,null,null,null,null,null,null,null,null,null,{"$f":"_xlfn.LET(_xlpm.su,L14,_xlpm.sp,MOD(COLUMN(),6),_xlpm.suu,IF(_xlpm.su=\"\",\"@@@@\",_xlfn.TEXTSPLIT(_xlpm.su,\" / \")),_xlpm.fi,MATCH(_xlpm.suu,Tabelle2!$C$1:$C$500,0),AND(_xlpm.fi>=239,_xlpm.fi<=500)&_xlpm.suu&_xlpm.fi)","v":"FALSCHJens122"}]
[null,null,null,null,null,null,null,null,null,null,null,{"$f":"_xlfn.LET(_xlpm.su,L15,_xlpm.sp,MOD(COLUMN(),6),_xlpm.suu,IF(_xlpm.su=\"\",\"@@@@\",_xlfn.TEXTSPLIT(_xlpm.su,\" / \")),_xlpm.fi,MATCH(_xlpm.suu,Tabelle2!$C$1:$C$500,0),AND(_xlpm.fi>=239,_xlpm.fi<=500)&_xlpm.suu&_xlpm.fi)","v":"FALSCHXXX frei107"}]
[null,null,null,null,null,null,null,null,null,null,null,{"$f":"_xlfn.LET(_xlpm.su,L16,_xlpm.sp,MOD(COLUMN(),6),_xlpm.suu,IF(_xlpm.su=\"\",\"@@@@\",_xlfn.TEXTSPLIT(_xlpm.su,\" / \")),_xlpm.fi,MATCH(_xlpm.suu,Tabelle2!$C$1:$C$500,0),AND(_xlpm.fi>=239,_xlpm.fi<=500)&_xlpm.suu&_xlpm.fi)","v":"FALSCHProjekt60"}]
[null,null,null,null,null,null,null,null,null,null,null,{"$f":"_xlfn.LET(_xlpm.su,L17,_xlpm.sp,MOD(COLUMN(),6),_xlpm.suu,IF(_xlpm.su=\"\",\"@@@@\",_xlfn.TEXTSPLIT(_xlpm.su,\" / \")),_xlpm.fi,MATCH(_xlpm.suu,Tabelle2!$C$1:$C$500,0),AND(_xlpm.fi>=239,_xlpm.fi<=500)&_xlpm.suu&_xlpm.fi)","v":"FALSCHValentinstag20"}]
[null,null,null,null,null,null,null,null,null,null,null,{"$f":"_xlfn.LET(_xlpm.su,L18,_xlpm.sp,MOD(COLUMN(),6),_xlpm.suu,IF(_xlpm.su=\"\",\"@@@@\",_xlfn.TEXTSPLIT(_xlpm.su,\" / \")),_xlpm.fi,MATCH(_xlpm.suu,Tabelle2!$C$1:$C$500,0),AND(_xlpm.fi>=239,_xlpm.fi<=500)&_xlpm.suu&_xlpm.fi)","v":{"$error":"#N/A"}}]
[null,null,null,null,null,null,null,null,null,null,null,{"$f":"_xlfn.LET(_xlpm.su,L19,_xlpm.sp,MOD(COLUMN(),6),_xlpm.suu,IF(_xlpm.su=\"\",\"@@@@\",_xlfn.TEXTSPLIT(_xlpm.su,\" / \")),_xlpm.fi,MATCH(_xlpm.suu,Tabelle2!$C$1:$C$500,0),AND(_xlpm.fi>=239,_xlpm.fi<=500)&_xlpm.suu&_xlpm.fi)","v":{"$error":"#N/A"}}]
[null,null,null,null,null,null,null,null,null,null,null,{"$f":"_xlfn.LET(_xlpm.su,L20,_xlpm.sp,MOD(COLUMN(),6),_xlpm.suu,IF(_xlpm.su=\"\",\"@@@@\",_xlfn.TEXTSPLIT(_xlpm.su,\" / \")),_xlpm.fi,MATCH(_xlpm.suu,Tabelle2!$C$1:$C$500,0),AND(_xlpm.fi>=239,_xlpm.fi<=500)&_xlpm.suu&_xlpm.fi)","v":{"$error":"#N/A"}}]
[null,null,null,null,null,null,null,null,null,null,null,{"$f":"_xlfn.LET(_xlpm.su,L21,_xlpm.sp,MOD(COLUMN(),6),_xlpm.suu,IF(_xlpm.su=\"\",\"@@@@\",_xlfn.TEXTSPLIT(_xlpm.su,\" / \")),_xlpm.fi,MATCH(_xlpm.suu,Tabelle2!$C$1:$C$500,0),AND(_xlpm.fi>=239,_xlpm.fi<=500)&_xlpm.suu&_xlpm.fi)","v":{"$error":"#N/A"}}]
[null,null,null,null,null,null,null,null,null,null,null,{"$f":"_xlfn.LET(_xlpm.su,L22,_xlpm.sp,MOD(COLUMN(),6),_xlpm.suu,IF(_xlpm.su=\"\",\"@@@@\",_xlfn.TEXTSPLIT(_xlpm.su,\" / \")),_xlpm.fi,MATCH(_xlpm.suu,Tabelle2!$C$1:$C$500,0),AND(_xlpm.fi>=239,_xlpm.fi<=500)&_xlpm.suu&_xlpm.fi)","v":"WAHRany244"}]
[null,null,null,null,null,null,null,null,null,null,null,{"$f":"_xlfn.LET(_xlpm.su,L23,_xlpm.sp,MOD(COLUMN(),6),_xlpm.suu,IF(_xlpm.su=\"\",\"@@@@\",_xlfn.TEXTSPLIT(_xlpm.su,\" / \")),_xlpm.fi,MATCH(_xlpm.suu,Tabelle2!$C$1:$C$500,0),AND(_xlpm.fi>=239,_xlpm.fi<=500)&_xlpm.suu&_xlpm.fi)","v":"FALSCHProjekt60"}]
[null,null,null,null,null,null,null,null,null,null,null,{"$f":"_xlfn.LET(_xlpm.su,L24,_xlpm.sp,MOD(COLUMN(),6),_xlpm.suu,IF(_xlpm.su=\"\",\"@@@@\",_xlfn.TEXTSPLIT(_xlpm.su,\" / \")),_xlpm.fi,MATCH(_xlpm.suu,Tabelle2!$C$1:$C$500,0),AND(_xlpm.fi>=239,_xlpm.fi<=500)&_xlpm.suu&_xlpm.fi)","v":{"$error":"#N/A"}}]
[null,null,null,null,null,null,null,null,null,null,null,{"$f":"_xlfn.LET(_xlpm.su,L25,_xlpm.sp,MOD(COLUMN(),6),_xlpm.suu,IF(_xlpm.su=\"\",\"@@@@\",_xlfn.TEXTSPLIT(_xlpm.su,\" / \")),_xlpm.fi,MATCH(_xlpm.suu,Tabelle2!$C$1:$C$500,0),AND(_xlpm.fi>=239,_xlpm.fi<=500)&_xlpm.suu&_xlpm.fi)","v":{"$error":"#N/A"}}]
[null,null,null,null,null,null,null,null,null,null,null,{"$f":"_xlfn.LET(_xlpm.su,L26,_xlpm.sp,MOD(COLUMN(),6),_xlpm.suu,IF(_xlpm.su=\"\",\"@@@@\",_xlfn.TEXTSPLIT(_xlpm.su,\" / \")),_xlpm.fi,MATCH(_xlpm.suu,Tabelle2!$C$1:$C$500,0),AND(_xlpm.fi>=239,_xlpm.fi<=500)&_xlpm.suu&_xlpm.fi)","v":{"$error":"#N/A"}}]
[null,null,null,null,null,null,null,null,null,null,null,{"$f":"_xlfn.LET(_xlpm.su,L27,_xlpm.sp,MOD(COLUMN(),6),_xlpm.suu,IF(_xlpm.su=\"\",\"@@@@\",_xlfn.TEXTSPLIT(_xlpm.su,\" / \")),_xlpm.fi,MATCH(_xlpm.suu,Tabelle2!$C$1:$C$500,0),AND(_xlpm.fi>=239,_xlpm.fi<=500)&_xlpm.suu&_xlpm.fi)","v":{"$error":"#N/A"}}]
[null,null,null,null,null,null,null,null,null,null,null,{"$f":"_xlfn.LET(_xlpm.su,L28,_xlpm.sp,MOD(COLUMN(),6),_xlpm.suu,IF(_xlpm.su=\"\",\"@@@@\",_xlfn.TEXTSPLIT(_xlpm.su,\" / \")),_xlpm.fi,MATCH(_xlpm.suu,Tabelle2!$C$1:$C$500,0),AND(_xlpm.fi>=239,_xlpm.fi<=500)&_xlpm.suu&_xlpm.fi)","v":"FALSCHKonferenz67"}]
[null,null,null,null,null,null,null,null,null,null,null,{"$f":"_xlfn.LET(_xlpm.su,L29,_xlpm.sp,MOD(COLUMN(),6),_xlpm.suu,IF(_xlpm.su=\"\",\"@@@@\",_xlfn.TEXTSPLIT(_xlpm.su,\" / \")),_xlpm.fi,MATCH(_xlpm.suu,Tabelle2!$C$1:$C$500,0),AND(_xlpm.fi>=239,_xlpm.fi<=500)&_xlpm.suu&_xlpm.fi)","v":"FALSCHAlia123"}]
[null,null,null,null,null,null,null,null,null,null,null,{"$f":"_xlfn.LET(_xlpm.su,L30,_xlpm.sp,MOD(COLUMN(),6),_xlpm.suu,IF(_xlpm.su=\"\",\"@@@@\",_xlfn.TEXTSPLIT(_xlpm.su,\" / \")),_xlpm.fi,MATCH(_xlpm.suu,Tabelle2!$C$1:$C$500,0),AND(_xlpm.fi>=239,_xlpm.fi<=500)&_xlpm.suu&_xlpm.fi)","v":"FALSCHProjekt60"},"FALSCHVollversammlung69"]
[null,null,null,null,null,null,null,null,null,null,null,{"$f":"_xlfn.LET(_xlpm.su,L31,_xlpm.sp,MOD(COLUMN(),6),_xlpm.suu,IF(_xlpm.su=\"\",\"@@@@\",_xlfn.TEXTSPLIT(_xlpm.su,\" / \")),_xlpm.fi,MATCH(_xlpm.suu,Tabelle2!$C$1:$C$500,0),AND(_xlpm.fi>=239,_xlpm.fi<=500)&_xlpm.suu&_xlpm.fi)","v":"FALSCHParty70"},"FALSCHRamadan71"]
[null,null,null,null,null,null,null,null,null,null,null,{"$f":"_xlfn.LET(_xlpm.su,L32,_xlpm.sp,MOD(COLUMN(),6),_xlpm.suu,IF(_xlpm.su=\"\",\"@@@@\",_xlfn.TEXTSPLIT(_xlpm.su,\" / \")),_xlpm.fi,MATCH(_xlpm.suu,Tabelle2!$C$1:$C$500,0),AND(_xlpm.fi>=239,_xlpm.fi<=500)&_xlpm.suu&_xlpm.fi)","v":{"$error":"#N/A"}}]
[null,null,null,null,null,null,null,null,null,null,null,{"$f":"_xlfn.LET(_xlpm.su,L33,_xlpm.sp,MOD(COLUMN(),6),_xlpm.suu,IF(_xlpm.su=\"\",\"@@@@\",_xlfn.TEXTSPLIT(_xlpm.su,\" / \")),_xlpm.fi,MATCH(_xlpm.suu,Tabelle2!$C$1:$C$500,0),AND(_xlpm.fi>=239,_xlpm.fi<=500)&_xlpm.suu&_xlpm.fi)","v":{"$error":"#N/A"}}]
[null,null,null,null,null,null,null,null,null,null,null,{"$f":"_xlfn.LET(_xlpm.su,L34,_xlpm.sp,MOD(COLUMN(),6),_xlpm.suu,IF(_xlpm.su=\"\",\"@@@@\",_xlfn.TEXTSPLIT(_xlpm.su,\" / \")),_xlpm.fi,MATCH(_xlpm.suu,Tabelle2!$C$1:$C$500,0),AND(_xlpm.fi>=239,_xlpm.fi<=500)&_xlpm.suu&_xlpm.fi)","v":{"$error":"#N/A"}}]
[null,null,null,null,null,null,null,null,null,null,null,{"$f":"_xlfn.LET(_xlpm.su,L35,_xlpm.sp,MOD(COLUMN(),6),_xlpm.suu,IF(_xlpm.su=\"\",\"@@@@\",_xlfn.TEXTSPLIT(_xlpm.su,\" / \")),_xlpm.fi,MATCH(_xlpm.suu,Tabelle2!$C$1:$C$500,0),AND(_xlpm.fi>=239,_xlpm.fi<=500)&_xlpm.suu&_xlpm.fi)","v":{"$error":"#N/A"}}]
[null,null,null,null,null,null,null,null,null,null,null,{"$f":"_xlfn.LET(_xlpm.su,L36,_xlpm.sp,MOD(COLUMN(),6),_xlpm.suu,IF(_xlpm.su=\"\",\"@@@@\",_xlfn.TEXTSPLIT(_xlpm.su,\" / \")),_xlpm.fi,MATCH(_xlpm.suu,Tabelle2!$C$1:$C$500,0),AND(_xlpm.fi>=239,_xlpm.fi<=500)&_xlpm.suu&_xlpm.fi)","v":{"$error":"#N/A"}}]
[null,null,null,null,null,null,null,null,null,null,null,{"$f":"_xlfn.LET(_xlpm.su,L37,_xlpm.sp,MOD(COLUMN(),6),_xlpm.suu,IF(_xlpm.su=\"\",\"@@@@\",_xlfn.TEXTSPLIT(_xlpm.su,\" / \")),_xlpm.fi,MATCH(_xlpm.suu,Tabelle2!$C$1:$C$500,0),AND(_xlpm.fi>=239,_xlpm.fi<=500)&_xlpm.suu&_xlpm.fi)","v":{"$error":"#N/A"}}]
[null,null,null,null,null,null,null,null,null,null,null,{"$f":"_xlfn.LET(_xlpm.su,L38,_xlpm.sp,MOD(COLUMN(),6),_xlpm.suu,IF(_xlpm.su=\"\",\"@@@@\",_xlfn.TEXTSPLIT(_xlpm.su,\" / \")),_xlpm.fi,MATCH(_xlpm.suu,Tabelle2!$C$1:$C$500,0),AND(_xlpm.fi>=239,_xlpm.fi<=500)&_xlpm.suu&_xlpm.fi)","v":{"$error":"#N/A"}}]
[null,null,null,null,null,null,null,null,null,null,null,{"$f":"_xlfn.LET(_xlpm.su,L39,_xlpm.sp,MOD(COLUMN(),6),_xlpm.suu,IF(_xlpm.su=\"\",\"@@@@\",_xlfn.TEXTSPLIT(_xlpm.su,\" / \")),_xlpm.fi,MATCH(_xlpm.suu,Tabelle2!$C$1:$C$500,0),AND(_xlpm.fi>=239,_xlpm.fi<=500)&_xlpm.suu&_xlpm.fi)","v":{"$error":"#N/A"}}]
[null,null,null,null,null,null,null,null,null,null,null,{"$f":"_xlfn.LET(_xlpm.su,L40,_xlpm.sp,MOD(COLUMN(),6),_xlpm.suu,IF(_xlpm.su=\"\",\"@@@@\",_xlfn.TEXTSPLIT(_xlpm.su,\" / \")),_xlpm.fi,MATCH(_xlpm.suu,Tabelle2!$C$1:$C$500,0),AND(_xlpm.fi>=239,_xlpm.fi<=500)&_xlpm.suu&_xlpm.fi)","v":{"$error":"#N/A"}}]
[null,null,null,null,null,null,null,null,null,null,null,{"$f":"_xlfn.LET(_xlpm.su,L41,_xlpm.sp,MOD(COLUMN(),6),_xlpm.suu,IF(_xlpm.su=\"\",\"@@@@\",_xlfn.TEXTSPLIT(_xlpm.su,\" / \")),_xlpm.fi,MATCH(_xlpm.suu,Tabelle2!$C$1:$C$500,0),AND(_xlpm.fi>=239,_xlpm.fi<=500)&_xlpm.suu&_xlpm.fi)","v":{"$error":"#N/A"}}]
[null,null,null,null,null,null,null,null,null,null,null,{"$f":"_xlfn.LET(_xlpm.su,L42,_xlpm.sp,MOD(COLUMN(),6),_xlpm.suu,IF(_xlpm.su=\"\",\"@@@@\",_xlfn.TEXTSPLIT(_xlpm.su,\" / \")),_xlpm.fi,MATCH(_xlpm.suu,Tabelle2!$C$1:$C$500,0),AND(_xlpm.fi>=239,_xlpm.fi<=500)&_xlpm.suu&_xlpm.fi)","v":{"$error":"#N/A"}}]
[null,null,null,null,null,null,null,null,null,null,null,{"$f":"_xlfn.LET(_xlpm.su,L43,_xlpm.sp,MOD(COLUMN(),6),_xlpm.suu,IF(_xlpm.su=\"\",\"@@@@\",_xlfn.TEXTSPLIT(_xlpm.su,\" / \")),_xlpm.fi,MATCH(_xlpm.suu,Tabelle2!$C$1:$C$500,0),AND(_xlpm.fi>=239,_xlpm.fi<=500)&_xlpm.suu)","v":{"$error":"#N/A"}}]
[null,null,null,null,null,null,null,null,null,null,null,{"$f":"_xlfn.LET(_xlpm.su,L44,_xlpm.sp,MOD(COLUMN(),6),_xlpm.suu,IF(_xlpm.su=\"\",\"@@@@\",_xlfn.TEXTSPLIT(_xlpm.su,\" / \")),_xlpm.fi,MATCH(_xlpm.suu,Tabelle2!$C$1:$C$500,0),AND(_xlpm.fi>=239,_xlpm.fi<=500)&_xlpm.suu)","v":{"$error":"#N/A"}}]
[null,null,null,null,null,null,null,null,null,null,null,{"$f":"_xlfn.LET(_xlpm.su,L45,_xlpm.sp,MOD(COLUMN(),6),_xlpm.suu,IF(_xlpm.su=\"\",\"@@@@\",_xlfn.TEXTSPLIT(_xlpm.su,\" / \")),_xlpm.fi,MATCH(_xlpm.suu,Tabelle2!$C$1:$C$500,0),AND(_xlpm.fi>=239,_xlpm.fi<=500)&_xlpm.suu)","v":{"$error":"#N/A"}}]
[null,null,null,null,null,null,null,null,null,null,null,{"$f":"_xlfn.LET(_xlpm.su,L46,_xlpm.sp,MOD(COLUMN(),6),_xlpm.suu,IF(_xlpm.su=\"\",\"@@@@\",_xlfn.TEXTSPLIT(_xlpm.su,\" / \")),_xlpm.fi,MATCH(_xlpm.suu,Tabelle2!$C$1:$C$500,0),AND(_xlpm.fi>=239,_xlpm.fi<=500)&_xlpm.suu)","v":{"$error":"#N/A"}}]
[null,null,null,null,null,null,null,null,null,null,null,{"$f":"_xlfn.LET(_xlpm.su,L47,_xlpm.sp,MOD(COLUMN(),6),_xlpm.suu,IF(_xlpm.su=\"\",\"@@@@\",_xlfn.TEXTSPLIT(_xlpm.su,\" / \")),_xlpm.fi,MATCH(_xlpm.suu,Tabelle2!$C$1:$C$500,0),AND(_xlpm.fi>=239,_xlpm.fi<=500)&_xlpm.suu)","v":{"$error":"#N/A"}}]
[null,null,null,null,null,null,null,null,null,null,null,{"$f":"_xlfn.LET(_xlpm.su,L48,_xlpm.sp,MOD(COLUMN(),6),_xlpm.suu,IF(_xlpm.su=\"\",\"@@@@\",_xlfn.TEXTSPLIT(_xlpm.su,\" / \")),_xlpm.fi,MATCH(_xlpm.suu,Tabelle2!$C$1:$C$500,0),AND(_xlpm.fi>=239,_xlpm.fi<=500)&_xlpm.suu)","v":{"$error":"#N/A"}}]
[null,null,null,null,null,null,null,null,null,null,null,{"$f":"_xlfn.LET(_xlpm.su,L49,_xlpm.sp,MOD(COLUMN(),6),_xlpm.suu,IF(_xlpm.su=\"\",\"@@@@\",_xlfn.TEXTSPLIT(_xlpm.su,\" / \")),_xlpm.fi,MATCH(_xlpm.suu,Tabelle2!$C$1:$C$500,0),AND(_xlpm.fi>=239,_xlpm.fi<=500)&_xlpm.suu)","v":{"$error":"#N/A"}}]
[null,null,null,null,null,null,null,null,null,null,null,{"$f":"_xlfn.LET(_xlpm.su,L50,_xlpm.sp,MOD(COLUMN(),6),_xlpm.suu,IF(_xlpm.su=\"\",\"@@@@\",_xlfn.TEXTSPLIT(_xlpm.su,\" / \")),_xlpm.fi,MATCH(_xlpm.suu,Tabelle2!$C$1:$C$500,0),SUM(_xlpm.fi>=239,_xlpm.fi<=500))","v":{"$error":"#N/A"}}]
[null,null,null,null,null,null,null,null,null,null,null,{"$f":"_xlfn.LET(_xlpm.su,L51,_xlpm.sp,MOD(COLUMN(),6),_xlpm.suu,IF(_xlpm.su=\"\",\"@@@@\",_xlfn.TEXTSPLIT(_xlpm.su,\" / \")),_xlpm.fi,MATCH(_xlpm.suu,Tabelle2!$C$1:$C$500,0),SUM(_xlpm.fi>=239,_xlpm.fi<=500))","v":{"$error":"#N/A"}}]
[null,null,null,null,null,null,null,null,null,null,null,{"$f":"_xlfn.LET(_xlpm.su,L52,_xlpm.sp,MOD(COLUMN(),6),_xlpm.suu,IF(_xlpm.su=\"\",\"@@@@\",_xlfn.TEXTSPLIT(_xlpm.su,\" / \")),_xlpm.fi,MATCH(_xlpm.suu,Tabelle2!$C$1:$C$500,0),SUM(_xlpm.fi>=239,_xlpm.fi<=500))","v":{"$error":"#N/A"}}]
[null,null,null,null,null,null,null,null,null,null,null,{"$f":"_xlfn.LET(_xlpm.su,L53,_xlpm.sp,MOD(COLUMN(),6),_xlpm.suu,IF(_xlpm.su=\"\",\"@@@@\",_xlfn.TEXTSPLIT(_xlpm.su,\" / \")),_xlpm.fi,MATCH(_xlpm.suu,Tabelle2!$C$1:$C$500,0),SUM(_xlpm.fi>=239,_xlpm.fi<=500))","v":{"$error":"#N/A"}}]
[null,null,null,null,null,null,null,null,null,null,null,{"$f":"_xlfn.LET(_xlpm.su,L54,_xlpm.sp,MOD(COLUMN(),6),_xlpm.suu,IF(_xlpm.su=\"\",\"@@@@\",_xlfn.TEXTSPLIT(_xlpm.su,\" / \")),_xlpm.fi,MATCH(_xlpm.suu,Tabelle2!$C$1:$C$500,0),SUM(_xlpm.fi>=239,_xlpm.fi<=500))","v":{"$error":"#N/A"}}]
[null,null,null,null,null,null,null,null,null,null,null,{"$f":"_xlfn.LET(_xlpm.su,L55,_xlpm.sp,MOD(COLUMN(),6),_xlpm.suu,IF(_xlpm.su=\"\",\"@@@@\",_xlfn.TEXTSPLIT(_xlpm.su,\" / \")),_xlpm.fi,MATCH(_xlpm.suu,Tabelle2!$C$1:$C$500,0),SUM(_xlpm.fi>=239,_xlpm.fi<=500))","v":{"$error":"#N/A"}}]
[null,null,null,null,null,null,null,null,null,null,null,{"$f":"_xlfn.LET(_xlpm.su,L56,_xlpm.sp,MOD(COLUMN(),6),_xlpm.suu,IF(_xlpm.su=\"\",\"@@@@\",_xlfn.TEXTSPLIT(_xlpm.su,\" / \")),_xlpm.fi,MATCH(_xlpm.suu,Tabelle2!$C$1:$C$500,0),SUM(_xlpm.fi>=239,_xlpm.fi<=500))","v":{"$error":"#N/A"}}]
[null,null,null,null,null,null,null,null,null,null,null,{"$f":"_xlfn.LET(_xlpm.su,L57,_xlpm.sp,MOD(COLUMN(),6),_xlpm.suu,IF(_xlpm.su=\"\",\"@@@@\",_xlfn.TEXTSPLIT(_xlpm.su,\" / \")),_xlpm.fi,MATCH(_xlpm.suu,Tabelle2!$C$1:$C$500,0),AND(_xlpm.fi>=239,_xlpm.fi<=500))","v":{"$error":"#N/A"}}]
[null,null,null,null,null,null,null,null,null,null,null,{"$f":"_xlfn.LET(_xlpm.su,L58,_xlpm.sp,MOD(COLUMN(),6),_xlpm.suu,IF(_xlpm.su=\"\",\"@@@@\",_xlfn.TEXTSPLIT(_xlpm.su,\" / \")),_xlpm.fi,MATCH(_xlpm.suu,Tabelle2!$C$1:$C$500,0),AND(_xlpm.fi>=239,_xlpm.fi<=500))","v":{"$error":"#N/A"}}]
[null,null,null,null,null,null,null,null,null,null,null,{"$f":"_xlfn.LET(_xlpm.su,L59,_xlpm.sp,MOD(COLUMN(),6),_xlpm.suu,IF(_xlpm.su=\"\",\"@@@@\",_xlfn.TEXTSPLIT(_xlpm.su,\" / \")),_xlpm.fi,MATCH(_xlpm.suu,Tabelle2!$C$1:$C$500,0),AND(_xlpm.fi>=239,_xlpm.fi<=500))","v":{"$error":"#N/A"}}]
[null,null,null,null,null,null,null,null,null,null,null,{"$f":"_xlfn.LET(_xlpm.su,L60,_xlpm.sp,MOD(COLUMN(),6),_xlpm.suu,IF(_xlpm.su=\"\",\"@@@@\",_xlfn.TEXTSPLIT(_xlpm.su,\" / \")),_xlpm.fi,MATCH(_xlpm.suu,Tabelle2!$C$1:$C$500,0),AND(_xlpm.fi>=239,_xlpm.fi<=500))","v":{"$error":"#N/A"}}]
[null,null,null,null,null,null,null,null,null,null,null,{"$f":"_xlfn.LET(_xlpm.su,L61,_xlpm.sp,MOD(COLUMN(),6),_xlpm.suu,IF(_xlpm.su=\"\",\"@@@@\",_xlfn.TEXTSPLIT(_xlpm.su,\" / \")),_xlpm.fi,MATCH(_xlpm.suu,Tabelle2!$C$1:$C$500,0),AND(_xlpm.fi>=239,_xlpm.fi<=500))","v":{"$error":"#N/A"}}]
[null,null,null,null,null,null,null,null,null,null,null,{"$f":"_xlfn.LET(_xlpm.su,L62,_xlpm.sp,MOD(COLUMN(),6),_xlpm.suu,IF(_xlpm.su=\"\",\"@@@@\",_xlfn.TEXTSPLIT(_xlpm.su,\" / \")),_xlpm.fi,MATCH(_xlpm.suu,Tabelle2!$C$1:$C$500,0),AND(_xlpm.fi>=239,_xlpm.fi<=500))","v":{"$error":"#N/A"}}]
[null,null,null,null,null,null,null,null,null,null,null,{"$f":"_xlfn.LET(_xlpm.su,L63,_xlpm.sp,MOD(COLUMN(),6),_xlpm.suu,IF(_xlpm.su=\"\",\"@@@@\",_xlfn.TEXTSPLIT(_xlpm.su,\" / \")),_xlpm.fi,MATCH(_xlpm.suu,Tabelle2!$C$1:$C$500,0),AND(_xlpm.fi>=239,_xlpm.fi<=500))","v":{"$error":"#N/A"}}]
[null,null,null,null,null,null,null,null,null,null,null,{"$f":"_xlfn.LET(_xlpm.su,L64,_xlpm.sp,MOD(COLUMN(),6),_xlpm.suu,IF(_xlpm.su=\"\",\"@@@@\",_xlfn.TEXTSPLIT(_xlpm.su,\" / \")),_xlpm.fi,MATCH(_xlpm.suu,Tabelle2!$C$1:$C$500,0),AND(_xlpm.fi>=239,_xlpm.fi<=500))","v":{"$error":"#N/A"}}]
[null,null,null,null,null,null,null,null,null,null,null,{"$f":"_xlfn.LET(_xlpm.su,L65,_xlpm.sp,MOD(COLUMN(),6),_xlpm.suu,IF(_xlpm.su=\"\",\"@@@@\",_xlfn.TEXTSPLIT(_xlpm.su,\" / \")),_xlpm.fi,MATCH(_xlpm.suu,Tabelle2!$C$1:$C$500,0),AND(_xlpm.fi>=239,_xlpm.fi<=500))","v":{"$error":"#N/A"}}]
[null,null,null,null,null,null,null,null,null,null,null,{"$f":"_xlfn.LET(_xlpm.su,L66,_xlpm.sp,MOD(COLUMN(),6),_xlpm.suu,IF(_xlpm.su=\"\",\"@@@@\",_xlfn.TEXTSPLIT(_xlpm.su,\" / \")),_xlpm.fi,MATCH(_xlpm.suu,Tabelle2!$C$1:$C$500,0),AND(_xlpm.fi>=239,_xlpm.fi<=500))","v":{"$error":"#N/A"}}]
[null,null,null,null,null,null,null,null,null,null,null,{"$f":"_xlfn.LET(_xlpm.su,L67,_xlpm.sp,MOD(COLUMN(),6),_xlpm.suu,IF(_xlpm.su=\"\",\"@@@@\",_xlfn.TEXTSPLIT(_xlpm.su,\" / \")),_xlpm.fi,MATCH(_xlpm.suu,Tabelle2!$C$1:$C$500,0),AND(_xlpm.fi>=239,_xlpm.fi<=500))","v":{"$error":"#N/A"}}]
[null,null,null,null,null,null,null,null,null,null,null,{"$f":"_xlfn.LET(_xlpm.su,L68,_xlpm.sp,MOD(COLUMN(),6),_xlpm.suu,IF(_xlpm.su=\"\",\"@@@@\",_xlfn.TEXTSPLIT(_xlpm.su,\" / \")),_xlpm.fi,MATCH(_xlpm.suu,Tabelle2!$C$1:$C$500,0),AND(_xlpm.fi>=239,_xlpm.fi<=500))","v":{"$error":"#N/A"}}]
[null,null,null,null,null,null,null,null,null,null,null,{"$f":"_xlfn.LET(_xlpm.su,L69,_xlpm.sp,MOD(COLUMN(),6),_xlpm.suu,IF(_xlpm.su=\"\",\"@@@@\",_xlfn.TEXTSPLIT(_xlpm.su,\" / \")),_xlpm.fi,MATCH(_xlpm.suu,Tabelle2!$C$1:$C$500,0),AND(_xlpm.fi>=239,_xlpm.fi<=500))","v":{"$error":"#N/A"}}]
[null,null,null,null,null,null,null,null,null,null,null,{"$f":"_xlfn.LET(_xlpm.su,L70,_xlpm.sp,MOD(COLUMN(),6),_xlpm.suu,IF(_xlpm.su=\"\",\"@@@@\",_xlfn.TEXTSPLIT(_xlpm.su,\" / \")),_xlpm.fi,MATCH(_xlpm.suu,Tabelle2!$C$1:$C$500,0),AND(_xlpm.fi>=239,_xlpm.fi<=500))","v":{"$error":"#N/A"}}]
[null,null,null,null,null,null,null,null,null,null,null,{"$f":"_xlfn.LET(_xlpm.su,L71,_xlpm.sp,MOD(COLUMN(),6),_xlpm.suu,IF(_xlpm.su=\"\",\"@@@@\",_xlfn.TEXTSPLIT(_xlpm.su,\" / \")),_xlpm.fi,MATCH(_xlpm.suu,Tabelle2!$C$1:$C$500,0),AND(_xlpm.fi>=239,_xlpm.fi<=500))","v":{"$error":"#N/A"}}]
[null,null,null,null,null,null,null,null,null,null,null,{"$f":"_xlfn.LET(_xlpm.su,L72,_xlpm.sp,MOD(COLUMN(),6),_xlpm.suu,IF(_xlpm.su=\"\",\"@@@@\",_xlfn.TEXTSPLIT(_xlpm.su,\" / \")),_xlpm.fi,MATCH(_xlpm.suu,Tabelle2!$C$1:$C$500,0),AND(_xlpm.fi>=239,_xlpm.fi<=500))","v":{"$error":"#N/A"}}]
[null,null,null,null,null,null,null,null,null,null,null,{"$f":"_xlfn.LET(_xlpm.su,L73,_xlpm.sp,MOD(COLUMN(),6),_xlpm.suu,IF(_xlpm.su=\"\",\"@@@@\",_xlfn.TEXTSPLIT(_xlpm.su,\" / \")),_xlpm.fi,MATCH(_xlpm.suu,Tabelle2!$C$1:$C$500,0),AND(_xlpm.fi>=239,_xlpm.fi<=500))","v":{"$error":"#N/A"}}]
[null,null,null,null,null,null,null,null,null,null,null,{"$f":"_xlfn.LET(_xlpm.su,L74,_xlpm.sp,MOD(COLUMN(),6),_xlpm.suu,IF(_xlpm.su=\"\",\"@@@@\",_xlfn.TEXTSPLIT(_xlpm.su,\" / \")),_xlpm.fi,MATCH(_xlpm.suu,Tabelle2!$C$1:$C$500,0),AND(_xlpm.fi>=239,_xlpm.fi<=500))","v":{"$error":"#N/A"}}]
[null,null,null,null,null,null,null,null,null,null,null,{"$f":"_xlfn.LET(_xlpm.su,L75,_xlpm.sp,MOD(COLUMN(),6),_xlpm.suu,IF(_xlpm.su=\"\",\"@@@@\",_xlfn.TEXTSPLIT(_xlpm.su,\" / \")),_xlpm.fi,MATCH(_xlpm.suu,Tabelle2!$C$1:$C$500,0),AND(_xlpm.fi>=239,_xlpm.fi<=500))","v":{"$error":"#N/A"}}]
[null,null,null,null,null,null,null,null,null,null,null,{"$f":"_xlfn.LET(_xlpm.su,L76,_xlpm.sp,MOD(COLUMN(),6),_xlpm.suu,IF(_xlpm.su=\"\",\"@@@@\",_xlfn.TEXTSPLIT(_xlpm.su,\" / \")),_xlpm.fi,MATCH(_xlpm.suu,Tabelle2!$C$1:$C$500,0),AND(_xlpm.fi>=239,_xlpm.fi<=500))","v":{"$error":"#N/A"}}]
[null,null,null,null,null,null,null,null,null,null,null,{"$f":"_xlfn.LET(_xlpm.su,L77,_xlpm.sp,MOD(COLUMN(),6),_xlpm.suu,IF(_xlpm.su=\"\",\"@@@@\",_xlfn.TEXTSPLIT(_xlpm.su,\" / \")),_xlpm.fi,MATCH(_xlpm.suu,Tabelle2!$C$1:$C$500,0),AND(_xlpm.fi>=239,_xlpm.fi<=500))","v":{"$error":"#N/A"}}]
[null,null,null,null,null,null,null,null,null,null,null,{"$f":"_xlfn.LET(_xlpm.su,L78,_xlpm.sp,MOD(COLUMN(),6),_xlpm.suu,IF(_xlpm.su=\"\",\"@@@@\",_xlfn.TEXTSPLIT(_xlpm.su,\" / \")),_xlpm.fi,MATCH(_xlpm.suu,Tabelle2!$C$1:$C$500,0),AND(_xlpm.fi>=239,_xlpm.fi<=500))","v":{"$error":"#N/A"}}]
[null,null,null,null,null,null,null,null,null,null,null,{"$f":"_xlfn.LET(_xlpm.su,L79,_xlpm.sp,MOD(COLUMN(),6),_xlpm.suu,IF(_xlpm.su=\"\",\"@@@@\",_xlfn.TEXTSPLIT(_xlpm.su,\" / \")),_xlpm.fi,MATCH(_xlpm.suu,Tabelle2!$C$1:$C$500,0),AND(_xlpm.fi>=239,_xlpm.fi<=500))","v":{"$error":"#N/A"}}]
[null,null,null,null,null,null,null,null,null,null,null,{"$f":"_xlfn.LET(_xlpm.su,L80,_xlpm.sp,MOD(COLUMN(),6),_xlpm.suu,IF(_xlpm.su=\"\",\"@@@@\",_xlfn.TEXTSPLIT(_xlpm.su,\" / \")),_xlpm.fi,MATCH(_xlpm.suu,Tabelle2!$C$1:$C$500,0),AND(_xlpm.fi>=239,_xlpm.fi<=500))","v":{"$error":"#N/A"}}]
[null,null,null,null,null,null,null,null,null,null,null,{"$f":"_xlfn.LET(_xlpm.su,L81,_xlpm.sp,MOD(COLUMN(),6),_xlpm.suu,IF(_xlpm.su=\"\",\"@@@@\",_xlfn.TEXTSPLIT(_xlpm.su,\" / \")),_xlpm.fi,MATCH(_xlpm.suu,Tabelle2!$C$1:$C$500,0),AND(_xlpm.fi>=239,_xlpm.fi<=500))","v":{"$error":"#N/A"}}]
[null,null,null,null,null,null,null,null,null,null,null,{"$f":"_xlfn.LET(_xlpm.su,L82,_xlpm.sp,MOD(COLUMN(),6),_xlpm.suu,IF(_xlpm.su=\"\",\"@@@@\",_xlfn.TEXTSPLIT(_xlpm.su,\" / \")),_xlpm.fi,MATCH(_xlpm.suu,Tabelle2!$C$1:$C$500,0),AND(_xlpm.fi>=239,_xlpm.fi<=500))","v":{"$error":"#N/A"}}]
[null,null,null,null,null,null,null,null,null,null,null,{"$f":"_xlfn.LET(_xlpm.su,L83,_xlpm.sp,MOD(COLUMN(),6),_xlpm.suu,IF(_xlpm.su=\"\",\"@@@@\",_xlfn.TEXTSPLIT(_xlpm.su,\" / \")),_xlpm.fi,MATCH(_xlpm.suu,Tabelle2!$C$1:$C$500,0),AND(_xlpm.fi>=239,_xlpm.fi<=500))","v":{"$error":"#N/A"}}]
[null,null,null,null,null,null,null,null,null,null,null,{"$f":"_xlfn.LET(_xlpm.su,L84,_xlpm.sp,MOD(COLUMN(),6),_xlpm.suu,IF(_xlpm.su=\"\",\"@@@@\",_xlfn.TEXTSPLIT(_xlpm.su,\" / \")),_xlpm.fi,MATCH(_xlpm.suu,Tabelle2!$C$1:$C$500,0),AND(_xlpm.fi>=239,_xlpm.fi<=500))","v":{"$error":"#N/A"}}]
[null,null,null,null,null,null,null,null,null,null,null,{"$f":"_xlfn.LET(_xlpm.su,L85,_xlpm.sp,MOD(COLUMN(),6),_xlpm.suu,IF(_xlpm.su=\"\",\"@@@@\",_xlfn.TEXTSPLIT(_xlpm.su,\" / \")),_xlpm.fi,MATCH(_xlpm.suu,Tabelle2!$C$1:$C$500,0),AND(_xlpm.fi>=239,_xlpm.fi<=500))","v":{"$error":"#N/A"}}]
[null,null,null,null,null,null,null,null,null,null,null,{"$f":"_xlfn.LET(_xlpm.su,L86,_xlpm.sp,MOD(COLUMN(),6),_xlpm.suu,IF(_xlpm.su=\"\",\"@@@@\",_xlfn.TEXTSPLIT(_xlpm.su,\" / \")),_xlpm.fi,MATCH(_xlpm.suu,Tabelle2!$C$1:$C$500,0),AND(_xlpm.fi>=239,_xlpm.fi<=500))","v":{"$error":"#N/A"}}]
[null,null,null,null,null,null,null,null,null,null,null,{"$f":"_xlfn.LET(_xlpm.su,L87,_xlpm.sp,MOD(COLUMN(),6),_xlpm.suu,IF(_xlpm.su=\"\",\"@@@@\",_xlfn.TEXTSPLIT(_xlpm.su,\" / \")),_xlpm.fi,MATCH(_xlpm.suu,Tabelle2!$C$1:$C$500,0),AND(_xlpm.fi>=239,_xlpm.fi<=500))","v":{"$error":"#N/A"}}]
[null,null,null,null,null,null,null,null,null,null,null,{"$f":"_xlfn.LET(_xlpm.su,L88,_xlpm.sp,MOD(COLUMN(),6),_xlpm.suu,IF(_xlpm.su=\"\",\"@@@@\",_xlfn.TEXTSPLIT(_xlpm.su,\" / \")),_xlpm.fi,MATCH(_xlpm.suu,Tabelle2!$C$1:$C$500,0),AND(_xlpm.fi>=239,_xlpm.fi<=500))","v":{"$error":"#N/A"}}]
[null,null,null,null,null,null,null,null,null,null,null,{"$f":"_xlfn.LET(_xlpm.su,L89,_xlpm.sp,MOD(COLUMN(),6),_xlpm.suu,IF(_xlpm.su=\"\",\"@@@@\",_xlfn.TEXTSPLIT(_xlpm.su,\" / \")),_xlpm.fi,MATCH(_xlpm.suu,Tabelle2!$C$1:$C$500,0),AND(_xlpm.fi>=239,_xlpm.fi<=500))","v":{"$error":"#N/A"}}]
[null,null,null,null,null,null,null,null,null,null,null,{"$f":"_xlfn.LET(_xlpm.su,L90,_xlpm.sp,MOD(COLUMN(),6),_xlpm.suu,IF(_xlpm.su=\"\",\"@@@@\",_xlfn.TEXTSPLIT(_xlpm.su,\" / \")),_xlpm.fi,MATCH(_xlpm.suu,Tabelle2!$C$1:$C$500,0),AND(_xlpm.fi>=239,_xlpm.fi<=500))","v":{"$error":"#N/A"}}]
[null,null,null,null,null,null,null,null,null,null,null,{"$f":"_xlfn.LET(_xlpm.su,L91,_xlpm.sp,MOD(COLUMN(),6),_xlpm.suu,IF(_xlpm.su=\"\",\"@@@@\",_xlfn.TEXTSPLIT(_xlpm.su,\" / \")),_xlpm.fi,MATCH(_xlpm.suu,Tabelle2!$C$1:$C$500,0),AND(_xlpm.fi>=239,_xlpm.fi<=500))","v":{"$error":"#N/A"}}]
[null,null,null,null,null,null,null,null,null,null,null,{"$f":"_xlfn.LET(_xlpm.su,L92,_xlpm.sp,MOD(COLUMN(),6),_xlpm.suu,IF(_xlpm.su=\"\",\"@@@@\",_xlfn.TEXTSPLIT(_xlpm.su,\" / \")),_xlpm.fi,MATCH(_xlpm.suu,Tabelle2!$C$1:$C$500,0),AND(_xlpm.fi>=239,_xlpm.fi<=500))","v":{"$error":"#N/A"}}]
[null,null,null,null,null,null,null,null,null,null,null,{"$f":"_xlfn.LET(_xlpm.su,L93,_xlpm.sp,MOD(COLUMN(),6),_xlpm.suu,IF(_xlpm.su=\"\",\"@@@@\",_xlfn.TEXTSPLIT(_xlpm.su,\" / \")),_xlpm.fi,MATCH(_xlpm.suu,Tabelle2!$C$1:$C$500,0),AND(_xlpm.fi>=239,_xlpm.fi<=500))","v":{"$error":"#N/A"}}]
[null,null,null,null,null,null,null,null,null,null,null,{"$f":"_xlfn.LET(_xlpm.su,L94,_xlpm.sp,MOD(COLUMN(),6),_xlpm.suu,IF(_xlpm.su=\"\",\"@@@@\",_xlfn.TEXTSPLIT(_xlpm.su,\" / \")),_xlpm.fi,MATCH(_xlpm.suu,Tabelle2!$C$1:$C$500,0),AND(_xlpm.fi>=239,_xlpm.fi<=500))","v":{"$error":"#N/A"}}]
[null,null,null,null,null,null,null,null,null,null,null,{"$f":"_xlfn.LET(_xlpm.su,L95,_xlpm.sp,MOD(COLUMN(),6),_xlpm.suu,IF(_xlpm.su=\"\",\"@@@@\",_xlfn.TEXTSPLIT(_xlpm.su,\" / \")),_xlpm.fi,MATCH(_xlpm.suu,Tabelle2!$C$1:$C$500,0),AND(_xlpm.fi>=239,_xlpm.fi<=500))","v":{"$error":"#N/A"}}]
[null,null,null,null,null,null,null,null,null,null,null,{"$f":"_xlfn.LET(_xlpm.su,L96,_xlpm.sp,MOD(COLUMN(),6),_xlpm.suu,IF(_xlpm.su=\"\",\"@@@@\",_xlfn.TEXTSPLIT(_xlpm.su,\" / \")),_xlpm.fi,MATCH(_xlpm.suu,Tabelle2!$C$1:$C$500,0),AND(_xlpm.fi>=239,_xlpm.fi<=500))","v":{"$error":"#N/A"}}]
[null,null,null,null,null,null,null,null,null,null,null,{"$f":"_xlfn.LET(_xlpm.su,L97,_xlpm.sp,MOD(COLUMN(),6),_xlpm.suu,IF(_xlpm.su=\"\",\"@@@@\",_xlfn.TEXTSPLIT(_xlpm.su,\" / \")),_xlpm.fi,MATCH(_xlpm.suu,Tabelle2!$C$1:$C$500,0),AND(_xlpm.fi>=239,_xlpm.fi<=500))","v":{"$error":"#N/A"}}]
[null,null,null,null,null,null,null,null,null,null,null,{"$f":"_xlfn.LET(_xlpm.su,L98,_xlpm.sp,MOD(COLUMN(),6),_xlpm.suu,IF(_xlpm.su=\"\",\"@@@@\",_xlfn.TEXTSPLIT(_xlpm.su,\" / \")),_xlpm.fi,MATCH(_xlpm.suu,Tabelle2!$C$1:$C$500,0),AND(_xlpm.fi>=239,_xlpm.fi<=500))","v":{"$error":"#N/A"}}]
[null,null,null,null,null,null,null,null,null,null,null,{"$f":"_xlfn.LET(_xlpm.su,L99,_xlpm.sp,MOD(COLUMN(),6),_xlpm.suu,IF(_xlpm.su=\"\",\"@@@@\",_xlfn.TEXTSPLIT(_xlpm.su,\" / \")),_xlpm.fi,MATCH(_xlpm.suu,Tabelle2!$C$1:$C$500,0),AND(_xlpm.fi>=239,_xlpm.fi<=500))","v":{"$error":"#N/A"}}]
[null,null,null,null,null,null,null,null,null,null,null,{"$f":"_xlfn.LET(_xlpm.su,L100,_xlpm.sp,MOD(COLUMN(),6),_xlpm.suu,IF(_xlpm.su=\"\",\"@@@@\",_xlfn.TEXTSPLIT(_xlpm.su,\" / \")),_xlpm.fi,MATCH(_xlpm.suu,Tabelle2!$C$1:$C$500,0),AND(_xlpm.fi>=239,_xlpm.fi<=500))","v":{"$error":"#N/A"}}]
[null,null,null,null,null,null,null,null,null,null,null,{"$f":"_xlfn.LET(_xlpm.su,L101,_xlpm.sp,MOD(COLUMN(),6),_xlpm.suu,IF(_xlpm.su=\"\",\"@@@@\",_xlfn.TEXTSPLIT(_xlpm.su,\" / \")),_xlpm.fi,MATCH(_xlpm.suu,Tabelle2!$C$1:$C$500,0),AND(_xlpm.fi>=239,_xlpm.fi<=500))","v":{"$error":"#N/A"}}]
[null,null,null,null,null,null,null,null,null,null,null,{"$f":"_xlfn.LET(_xlpm.su,L102,_xlpm.sp,MOD(COLUMN(),6),_xlpm.suu,IF(_xlpm.su=\"\",\"@@@@\",_xlfn.TEXTSPLIT(_xlpm.su,\" / \")),_xlpm.fi,MATCH(_xlpm.suu,Tabelle2!$C$1:$C$500,0),AND(_xlpm.fi>=239,_xlpm.fi<=500))","v":{"$error":"#N/A"}}]
[null,null,null,null,null,null,null,null,null,null,null,{"$f":"_xlfn.LET(_xlpm.su,L103,_xlpm.sp,MOD(COLUMN(),6),_xlpm.suu,IF(_xlpm.su=\"\",\"@@@@\",_xlfn.TEXTSPLIT(_xlpm.su,\" / \")),_xlpm.fi,MATCH(_xlpm.suu,Tabelle2!$C$1:$C$500,0),AND(_xlpm.fi>=239,_xlpm.fi<=500))","v":{"$error":"#N/A"}}]
[null,null,null,null,null,null,null,null,null,null,null,{"$f":"_xlfn.LET(_xlpm.su,L104,_xlpm.sp,MOD(COLUMN(),6),_xlpm.suu,IF(_xlpm.su=\"\",\"@@@@\",_xlfn.TEXTSPLIT(_xlpm.su,\" / \")),_xlpm.fi,MATCH(_xlpm.suu,Tabelle2!$C$1:$C$500,0),AND(_xlpm.fi>=239,_xlpm.fi<=500))","v":{"$error":"#N/A"}}]
[null,null,null,null,null,null,null,null,null,null,null,{"$f":"_xlfn.LET(_xlpm.su,L105,_xlpm.sp,MOD(COLUMN(),6),_xlpm.suu,IF(_xlpm.su=\"\",\"@@@@\",_xlfn.TEXTSPLIT(_xlpm.su,\" / \")),_xlpm.fi,MATCH(_xlpm.suu,Tabelle2!$C$1:$C$500,0),AND(_xlpm.fi>=239,_xlpm.fi<=500))","v":{"$error":"#N/A"}}]
[null,null,null,null,null,null,null,null,null,null,null,{"$f":"_xlfn.LET(_xlpm.su,L106,_xlpm.sp,MOD(COLUMN(),6),_xlpm.suu,IF(_xlpm.su=\"\",\"@@@@\",_xlfn.TEXTSPLIT(_xlpm.su,\" / \")),_xlpm.fi,MATCH(_xlpm.suu,Tabelle2!$C$1:$C$500,0),AND(_xlpm.fi>=239,_xlpm.fi<=500))","v":{"$error":"#N/A"}}]
[null,null,null,null,null,null,null,null,null,null,null,{"$f":"_xlfn.LET(_xlpm.su,L107,_xlpm.sp,MOD(COLUMN(),6),_xlpm.suu,IF(_xlpm.su=\"\",\"@@@@\",_xlfn.TEXTSPLIT(_xlpm.su,\" / \")),_xlpm.fi,MATCH(_xlpm.suu,Tabelle2!$C$1:$C$500,0),AND(_xlpm.fi>=239,_xlpm.fi<=500))","v":{"$error":"#N/A"}}]
[null,null,null,null,null,null,null,null,null,null,null,{"$f":"_xlfn.LET(_xlpm.su,L108,_xlpm.sp,MOD(COLUMN(),6),_xlpm.suu,IF(_xlpm.su=\"\",\"@@@@\",_xlfn.TEXTSPLIT(_xlpm.su,\" / \")),_xlpm.fi,MATCH(_xlpm.suu,Tabelle2!$C$1:$C$500,0),AND(_xlpm.fi>=239,_xlpm.fi<=500))","v":{"$error":"#N/A"}}]
[null,null,null,null,null,null,null,null,null,null,null,{"$f":"_xlfn.LET(_xlpm.su,L109,_xlpm.sp,MOD(COLUMN(),6),_xlpm.suu,IF(_xlpm.su=\"\",\"@@@@\",_xlfn.TEXTSPLIT(_xlpm.su,\" / \")),_xlpm.fi,MATCH(_xlpm.suu,Tabelle2!$C$1:$C$500,0),AND(_xlpm.fi>=239,_xlpm.fi<=500))","v":{"$error":"#N/A"}}]
[null,null,null,null,null,null,null,null,null,null,null,{"$f":"_xlfn.LET(_xlpm.su,L110,_xlpm.sp,MOD(COLUMN(),6),_xlpm.suu,IF(_xlpm.su=\"\",\"@@@@\",_xlfn.TEXTSPLIT(_xlpm.su,\" / \")),_xlpm.fi,MATCH(_xlpm.suu,Tabelle2!$C$1:$C$500,0),AND(_xlpm.fi>=239,_xlpm.fi<=500))","v":{"$error":"#N/A"}}]
[null,null,null,null,null,null,null,null,null,null,null,{"$f":"_xlfn.LET(_xlpm.su,L111,_xlpm.sp,MOD(COLUMN(),6),_xlpm.suu,IF(_xlpm.su=\"\",\"@@@@\",_xlfn.TEXTSPLIT(_xlpm.su,\" / \")),_xlpm.fi,MATCH(_xlpm.suu,Tabelle2!$C$1:$C$500,0),AND(_xlpm.fi>=239,_xlpm.fi<=500))","v":{"$error":"#N/A"}}]
[null,null,null,null,null,null,null,null,null,null,null,{"$f":"_xlfn.LET(_xlpm.su,L112,_xlpm.sp,MOD(COLUMN(),6),_xlpm.suu,IF(_xlpm.su=\"\",\"@@@@\",_xlfn.TEXTSPLIT(_xlpm.su,\" / \")),_xlpm.fi,MATCH(_xlpm.suu,Tabelle2!$C$1:$C$500,0),AND(_xlpm.fi>=239,_xlpm.fi<=500))","v":{"$error":"#N/A"}}]
[null,null,null,null,null,null,null,null,null,null,null,{"$f":"_xlfn.LET(_xlpm.su,L113,_xlpm.sp,MOD(COLUMN(),6),_xlpm.suu,IF(_xlpm.su=\"\",\"@@@@\",_xlfn.TEXTSPLIT(_xlpm.su,\" / \")),_xlpm.fi,MATCH(_xlpm.suu,Tabelle2!$C$1:$C$500,0),AND(_xlpm.fi>=239,_xlpm.fi<=500))","v":{"$error":"#N/A"}}]
[null,null,null,null,null,null,null,null,null,null,null,{"$f":"_xlfn.LET(_xlpm.su,L114,_xlpm.sp,MOD(COLUMN(),6),_xlpm.suu,IF(_xlpm.su=\"\",\"@@@@\",_xlfn.TEXTSPLIT(_xlpm.su,\" / \")),_xlpm.fi,MATCH(_xlpm.suu,Tabelle2!$C$1:$C$500,0),AND(_xlpm.fi>=239,_xlpm.fi<=500))","v":{"$error":"#N/A"}}]
[null,null,null,null,null,null,null,null,null,null,null,{"$f":"_xlfn.LET(_xlpm.su,L115,_xlpm.sp,MOD(COLUMN(),6),_xlpm.suu,IF(_xlpm.su=\"\",\"@@@@\",_xlfn.TEXTSPLIT(_xlpm.su,\" / \")),_xlpm.fi,MATCH(_xlpm.suu,Tabelle2!$C$1:$C$500,0),AND(_xlpm.fi>=239,_xlpm.fi<=500))","v":{"$error":"#N/A"}}]
[null,null,null,null,null,null,null,null,null,null,null,{"$f":"_xlfn.LET(_xlpm.su,L116,_xlpm.sp,MOD(COLUMN(),6),_xlpm.suu,IF(_xlpm.su=\"\",\"@@@@\",_xlfn.TEXTSPLIT(_xlpm.su,\" / \")),_xlpm.fi,MATCH(_xlpm.suu,Tabelle2!$C$1:$C$500,0),AND(_xlpm.fi>=239,_xlpm.fi<=500))","v":{"$error":"#N/A"}}]
[null,null,null,null,null,null,null,null,null,null,null,{"$f":"_xlfn.LET(_xlpm.su,L117,_xlpm.sp,MOD(COLUMN(),6),_xlpm.suu,IF(_xlpm.su=\"\",\"@@@@\",_xlfn.TEXTSPLIT(_xlpm.su,\" / \")),_xlpm.fi,MATCH(_xlpm.suu,Tabelle2!$C$1:$C$500,0),AND(_xlpm.fi>=239,_xlpm.fi<=500))","v":{"$error":"#N/A"}}]
[null,null,null,null,null,null,null,null,null,null,null,{"$f":"_xlfn.LET(_xlpm.su,L118,_xlpm.sp,MOD(COLUMN(),6),_xlpm.suu,IF(_xlpm.su=\"\",\"@@@@\",_xlfn.TEXTSPLIT(_xlpm.su,\" / \")),_xlpm.fi,MATCH(_xlpm.suu,Tabelle2!$C$1:$C$500,0),AND(_xlpm.fi>=239,_xlpm.fi<=500))","v":{"$error":"#N/A"}}]
[null,null,null,null,null,null,null,null,null,null,null,{"$f":"_xlfn.LET(_xlpm.su,L119,_xlpm.sp,MOD(COLUMN(),6),_xlpm.suu,IF(_xlpm.su=\"\",\"@@@@\",_xlfn.TEXTSPLIT(_xlpm.su,\" / \")),_xlpm.fi,MATCH(_xlpm.suu,Tabelle2!$C$1:$C$500,0),AND(_xlpm.fi>=239,_xlpm.fi<=500))","v":{"$error":"#N/A"}}]
[null,null,null,null,null,null,null,null,null,null,null,{"$f":"_xlfn.LET(_xlpm.su,L120,_xlpm.sp,MOD(COLUMN(),6),_xlpm.suu,IF(_xlpm.su=\"\",\"@@@@\",_xlfn.TEXTSPLIT(_xlpm.su,\" / \")),_xlpm.fi,MATCH(_xlpm.suu,Tabelle2!$C$1:$C$500,0),AND(_xlpm.fi>=239,_xlpm.fi<=500))","v":{"$error":"#N/A"}}]
[null,null,null,null,null,null,null,null,null,null,null,{"$f":"_xlfn.LET(_xlpm.su,L121,_xlpm.sp,MOD(COLUMN(),6),_xlpm.suu,IF(_xlpm.su=\"\",\"@@@@\",_xlfn.TEXTSPLIT(_xlpm.su,\" / \")),_xlpm.fi,MATCH(_xlpm.suu,Tabelle2!$C$1:$C$500,0),AND(_xlpm.fi>=239,_xlpm.fi<=500))","v":{"$error":"#N/A"}}]
[null,null,null,null,null,null,null,null,null,null,null,{"$f":"_xlfn.LET(_xlpm.su,L122,_xlpm.sp,MOD(COLUMN(),6),_xlpm.suu,IF(_xlpm.su=\"\",\"@@@@\",_xlfn.TEXTSPLIT(_xlpm.su,\" / \")),_xlpm.fi,MATCH(_xlpm.suu,Tabelle2!$C$1:$C$500,0),AND(_xlpm.fi>=239,_xlpm.fi<=500))","v":{"$error":"#N/A"}}]
[null,null,null,null,null,null,null,null,null,null,null,{"$f":"_xlfn.LET(_xlpm.su,L123,_xlpm.sp,MOD(COLUMN(),6),_xlpm.suu,IF(_xlpm.su=\"\",\"@@@@\",_xlfn.TEXTSPLIT(_xlpm.su,\" / \")),_xlpm.fi,MATCH(_xlpm.suu,Tabelle2!$C$1:$C$500,0),AND(_xlpm.fi>=239,_xlpm.fi<=500))","v":{"$error":"#N/A"}}]
[null,null,null,null,null,null,null,null,null,null,null,{"$f":"_xlfn.LET(_xlpm.su,L124,_xlpm.sp,MOD(COLUMN(),6),_xlpm.suu,IF(_xlpm.su=\"\",\"@@@@\",_xlfn.TEXTSPLIT(_xlpm.su,\" / \")),_xlpm.fi,MATCH(_xlpm.suu,Tabelle2!$C$1:$C$500,0),AND(_xlpm.fi>=239,_xlpm.fi<=500))","v":{"$error":"#N/A"}}]
[null,null,null,null,null,null,null,null,null,null,null,{"$f":"_xlfn.LET(_xlpm.su,L125,_xlpm.sp,MOD(COLUMN(),6),_xlpm.suu,IF(_xlpm.su=\"\",\"@@@@\",_xlfn.TEXTSPLIT(_xlpm.su,\" / \")),_xlpm.fi,MATCH(_xlpm.suu,Tabelle2!$C$1:$C$500,0),AND(_xlpm.fi>=239,_xlpm.fi<=500))","v":{"$error":"#N/A"}}]
[null,null,null,null,null,null,null,null,null,null,null,{"$f":"_xlfn.LET(_xlpm.su,L126,_xlpm.sp,MOD(COLUMN(),6),_xlpm.suu,IF(_xlpm.su=\"\",\"@@@@\",_xlfn.TEXTSPLIT(_xlpm.su,\" / \")),_xlpm.fi,MATCH(_xlpm.suu,Tabelle2!$C$1:$C$500,0),AND(_xlpm.fi>=239,_xlpm.fi<=500))","v":{"$error":"#N/A"}}]
[null,null,null,null,null,null,null,null,null,null,null,{"$f":"_xlfn.LET(_xlpm.su,L127,_xlpm.sp,MOD(COLUMN(),6),_xlpm.suu,IF(_xlpm.su=\"\",\"@@@@\",_xlfn.TEXTSPLIT(_xlpm.su,\" / \")),_xlpm.fi,MATCH(_xlpm.suu,Tabelle2!$C$1:$C$500,0),AND(_xlpm.fi>=239,_xlpm.fi<=500))","v":{"$error":"#N/A"}}]
[null,null,null,null,null,null,null,null,null,null,null,{"$f":"_xlfn.LET(_xlpm.su,L128,_xlpm.sp,MOD(COLUMN(),6),_xlpm.suu,IF(_xlpm.su=\"\",\"@@@@\",_xlfn.TEXTSPLIT(_xlpm.su,\" / \")),_xlpm.fi,MATCH(_xlpm.suu,Tabelle2!$C$1:$C$500,0),AND(_xlpm.fi>=239,_xlpm.fi<=500))","v":{"$error":"#N/A"}}]
[null,null,null,null,null,null,null,null,null,null,null,{"$f":"_xlfn.LET(_xlpm.su,L129,_xlpm.sp,MOD(COLUMN(),6),_xlpm.suu,IF(_xlpm.su=\"\",\"@@@@\",_xlfn.TEXTSPLIT(_xlpm.su,\" / \")),_xlpm.fi,MATCH(_xlpm.suu,Tabelle2!$C$1:$C$500,0),AND(_xlpm.fi>=239,_xlpm.fi<=500))","v":{"$error":"#N/A"}}]
[null,null,null,null,null,null,null,null,null,null,null,{"$f":"_xlfn.LET(_xlpm.su,L130,_xlpm.sp,MOD(COLUMN(),6),_xlpm.suu,IF(_xlpm.su=\"\",\"@@@@\",_xlfn.TEXTSPLIT(_xlpm.su,\" / \")),_xlpm.fi,MATCH(_xlpm.suu,Tabelle2!$C$1:$C$500,0),AND(_xlpm.fi>=239,_xlpm.fi<=500))","v":{"$error":"#N/A"}}]
[null,null,null,null,null,null,null,null,null,null,null,{"$f":"_xlfn.LET(_xlpm.su,L131,_xlpm.sp,MOD(COLUMN(),6),_xlpm.suu,IF(_xlpm.su=\"\",\"@@@@\",_xlfn.TEXTSPLIT(_xlpm.su,\" / \")),_xlpm.fi,MATCH(_xlpm.suu,Tabelle2!$C$1:$C$500,0),AND(_xlpm.fi>=239,_xlpm.fi<=500))","v":{"$error":"#N/A"}}]
[null,null,null,null,null,null,null,null,null,null,null,{"$f":"_xlfn.LET(_xlpm.su,L132,_xlpm.sp,MOD(COLUMN(),6),_xlpm.suu,IF(_xlpm.su=\"\",\"@@@@\",_xlfn.TEXTSPLIT(_xlpm.su,\" / \")),_xlpm.fi,MATCH(_xlpm.suu,Tabelle2!$C$1:$C$500,0),AND(_xlpm.fi>=239,_xlpm.fi<=500))","v":{"$error":"#N/A"}}]
[null,null,null,null,null,null,null,null,null,null,null,{"$f":"_xlfn.LET(_xlpm.su,L133,_xlpm.sp,MOD(COLUMN(),6),_xlpm.suu,IF(_xlpm.su=\"\",\"@@@@\",_xlfn.TEXTSPLIT(_xlpm.su,\" / \")),_xlpm.fi,MATCH(_xlpm.suu,Tabelle2!$C$1:$C$500,0),AND(_xlpm.fi>=239,_xlpm.fi<=500))","v":{"$error":"#N/A"}}]
[null,null,null,null,null,null,null,null,null,null,null,{"$f":"_xlfn.LET(_xlpm.su,L134,_xlpm.sp,MOD(COLUMN(),6),_xlpm.suu,IF(_xlpm.su=\"\",\"@@@@\",_xlfn.TEXTSPLIT(_xlpm.su,\" / \")),_xlpm.fi,MATCH(_xlpm.suu,Tabelle2!$C$1:$C$500,0),AND(_xlpm.fi>=239,_xlpm.fi<=500))","v":{"$error":"#N/A"}}]
[null,null,null,null,null,null,null,null,null,null,null,{"$f":"_xlfn.LET(_xlpm.su,L135,_xlpm.sp,MOD(COLUMN(),6),_xlpm.suu,IF(_xlpm.su=\"\",\"@@@@\",_xlfn.TEXTSPLIT(_xlpm.su,\" / \")),_xlpm.fi,MATCH(_xlpm.suu,Tabelle2!$C$1:$C$500,0),AND(_xlpm.fi>=239,_xlpm.fi<=500))","v":{"$error":"#N/A"}}]
[null,null,null,null,null,null,null,null,null,null,null,{"$f":"_xlfn.LET(_xlpm.su,L136,_xlpm.sp,MOD(COLUMN(),6),_xlpm.suu,IF(_xlpm.su=\"\",\"@@@@\",_xlfn.TEXTSPLIT(_xlpm.su,\" / \")),_xlpm.fi,MATCH(_xlpm.suu,Tabelle2!$C$1:$C$500,0),AND(_xlpm.fi>=239,_xlpm.fi<=500))","v":{"$error":"#N/A"}}]
[null,null,null,null,null,null,null,null,null,null,null,{"$f":"_xlfn.LET(_xlpm.su,L137,_xlpm.sp,MOD(COLUMN(),6),_xlpm.suu,IF(_xlpm.su=\"\",\"@@@@\",_xlfn.TEXTSPLIT(_xlpm.su,\" / \")),_xlpm.fi,MATCH(_xlpm.suu,Tabelle2!$C$1:$C$500,0),AND(_xlpm.fi>=239,_xlpm.fi<=500))","v":{"$error":"#N/A"}}]
[null,null,null,null,null,null,null,null,null,null,null,{"$f":"_xlfn.LET(_xlpm.su,L138,_xlpm.sp,MOD(COLUMN(),6),_xlpm.suu,IF(_xlpm.su=\"\",\"@@@@\",_xlfn.TEXTSPLIT(_xlpm.su,\" / \")),_xlpm.fi,MATCH(_xlpm.suu,Tabelle2!$C$1:$C$500,0),AND(_xlpm.fi>=239,_xlpm.fi<=500))","v":{"$error":"#N/A"}}]
[null,null,null,null,null,null,null,null,null,null,null,{"$f":"_xlfn.LET(_xlpm.su,L139,_xlpm.sp,MOD(COLUMN(),6),_xlpm.suu,IF(_xlpm.su=\"\",\"@@@@\",_xlfn.TEXTSPLIT(_xlpm.su,\" / \")),_xlpm.fi,MATCH(_xlpm.suu,Tabelle2!$C$1:$C$500,0),AND(_xlpm.fi>=239,_xlpm.fi<=500))","v":{"$error":"#N/A"}}]
[null,null,null,null,null,null,null,null,null,null,null,{"$f":"_xlfn.LET(_xlpm.su,L140,_xlpm.sp,MOD(COLUMN(),6),_xlpm.suu,IF(_xlpm.su=\"\",\"@@@@\",_xlfn.TEXTSPLIT(_xlpm.su,\" / \")),_xlpm.fi,MATCH(_xlpm.suu,Tabelle2!$C$1:$C$500,0),AND(_xlpm.fi>=239,_xlpm.fi<=500))","v":{"$error":"#N/A"}}]
[null,null,null,null,null,null,null,null,null,null,null,{"$f":"_xlfn.LET(_xlpm.su,L141,_xlpm.sp,MOD(COLUMN(),6),_xlpm.suu,IF(_xlpm.su=\"\",\"@@@@\",_xlfn.TEXTSPLIT(_xlpm.su,\" / \")),_xlpm.fi,MATCH(_xlpm.suu,Tabelle2!$C$1:$C$500,0),AND(_xlpm.fi>=239,_xlpm.fi<=500))","v":{"$error":"#N/A"}}]
[null,null,null,null,null,null,null,null,null,null,null,{"$f":"_xlfn.LET(_xlpm.su,L142,_xlpm.sp,MOD(COLUMN(),6),_xlpm.suu,IF(_xlpm.su=\"\",\"@@@@\",_xlfn.TEXTSPLIT(_xlpm.su,\" / \")),_xlpm.fi,MATCH(_xlpm.suu,Tabelle2!$C$1:$C$500,0),AND(_xlpm.fi>=239,_xlpm.fi<=500))","v":{"$error":"#N/A"}}]
[null,null,null,null,null,null,null,null,null,null,null,{"$f":"_xlfn.LET(_xlpm.su,L143,_xlpm.sp,MOD(COLUMN(),6),_xlpm.suu,IF(_xlpm.su=\"\",\"@@@@\",_xlfn.TEXTSPLIT(_xlpm.su,\" / \")),_xlpm.fi,MATCH(_xlpm.suu,Tabelle2!$C$1:$C$500,0),AND(_xlpm.fi>=239,_xlpm.fi<=500))","v":{"$error":"#N/A"}}]
[null,null,null,null,null,null,null,null,null,null,null,{"$f":"_xlfn.LET(_xlpm.su,L144,_xlpm.sp,MOD(COLUMN(),6),_xlpm.suu,IF(_xlpm.su=\"\",\"@@@@\",_xlfn.TEXTSPLIT(_xlpm.su,\" / \")),_xlpm.fi,MATCH(_xlpm.suu,Tabelle2!$C$1:$C$500,0),AND(_xlpm.fi>=239,_xlpm.fi<=500))","v":{"$error":"#N/A"}}]
[null,null,null,null,null,null,null,null,null,null,null,{"$f":"_xlfn.LET(_xlpm.su,L145,_xlpm.sp,MOD(COLUMN(),6),_xlpm.suu,IF(_xlpm.su=\"\",\"@@@@\",_xlfn.TEXTSPLIT(_xlpm.su,\" / \")),_xlpm.fi,MATCH(_xlpm.suu,Tabelle2!$C$1:$C$500,0),AND(_xlpm.fi>=239,_xlpm.fi<=500))","v":{"$error":"#N/A"}}]
[null,null,null,null,null,null,null,null,null,null,null,{"$f":"_xlfn.LET(_xlpm.su,L146,_xlpm.sp,MOD(COLUMN(),6),_xlpm.suu,IF(_xlpm.su=\"\",\"@@@@\",_xlfn.TEXTSPLIT(_xlpm.su,\" / \")),_xlpm.fi,MATCH(_xlpm.suu,Tabelle2!$C$1:$C$500,0),AND(_xlpm.fi>=239,_xlpm.fi<=500))","v":{"$error":"#N/A"}}]
[null,null,null,null,null,null,null,null,null,null,null,{"$f":"_xlfn.LET(_xlpm.su,L147,_xlpm.sp,MOD(COLUMN(),6),_xlpm.suu,IF(_xlpm.su=\"\",\"@@@@\",_xlfn.TEXTSPLIT(_xlpm.su,\" / \")),_xlpm.fi,MATCH(_xlpm.suu,Tabelle2!$C$1:$C$500,0),AND(_xlpm.fi>=239,_xlpm.fi<=500))","v":{"$error":"#N/A"}}]
[null,null,null,null,null,null,null,null,null,null,null,{"$f":"_xlfn.LET(_xlpm.su,L148,_xlpm.sp,MOD(COLUMN(),6),_xlpm.suu,IF(_xlpm.su=\"\",\"@@@@\",_xlfn.TEXTSPLIT(_xlpm.su,\" / \")),_xlpm.fi,MATCH(_xlpm.suu,Tabelle2!$C$1:$C$500,0),AND(_xlpm.fi>=239,_xlpm.fi<=500))","v":{"$error":"#N/A"}}]
[null,null,null,null,null,null,null,null,null,null,null,{"$f":"_xlfn.LET(_xlpm.su,L149,_xlpm.sp,MOD(COLUMN(),6),_xlpm.suu,IF(_xlpm.su=\"\",\"@@@@\",_xlfn.TEXTSPLIT(_xlpm.su,\" / \")),_xlpm.fi,MATCH(_xlpm.suu,Tabelle2!$C$1:$C$500,0),AND(_xlpm.fi>=239,_xlpm.fi<=500))","v":{"$error":"#N/A"}}]
[null,null,null,null,null,null,null,null,null,null,null,{"$f":"_xlfn.LET(_xlpm.su,L150,_xlpm.sp,MOD(COLUMN(),6),_xlpm.suu,IF(_xlpm.su=\"\",\"@@@@\",_xlfn.TEXTSPLIT(_xlpm.su,\" / \")),_xlpm.fi,MATCH(_xlpm.suu,Tabelle2!$C$1:$C$500,0),AND(_xlpm.fi>=239,_xlpm.fi<=500))","v":{"$error":"#N/A"}}]
[null,null,null,null,null,null,null,null,null,null,null,{"$f":"_xlfn.LET(_xlpm.su,L151,_xlpm.sp,MOD(COLUMN(),6),_xlpm.suu,IF(_xlpm.su=\"\",\"@@@@\",_xlfn.TEXTSPLIT(_xlpm.su,\" / \")),_xlpm.fi,MATCH(_xlpm.suu,Tabelle2!$C$1:$C$500,0),AND(_xlpm.fi>=239,_xlpm.fi<=500))","v":{"$error":"#N/A"}}]
[null,null,null,null,null,null,null,null,null,null,null,{"$f":"_xlfn.LET(_xlpm.su,L152,_xlpm.sp,MOD(COLUMN(),6),_xlpm.suu,IF(_xlpm.su=\"\",\"@@@@\",_xlfn.TEXTSPLIT(_xlpm.su,\" / \")),_xlpm.fi,MATCH(_xlpm.suu,Tabelle2!$C$1:$C$500,0),AND(_xlpm.fi>=239,_xlpm.fi<=500))","v":{"$error":"#N/A"}}]
[null,null,null,null,null,null,null,null,null,null,null,{"$f":"_xlfn.LET(_xlpm.su,L153,_xlpm.sp,MOD(COLUMN(),6),_xlpm.suu,IF(_xlpm.su=\"\",\"@@@@\",_xlfn.TEXTSPLIT(_xlpm.su,\" / \")),_xlpm.fi,MATCH(_xlpm.suu,Tabelle2!$C$1:$C$500,0),AND(_xlpm.fi>=239,_xlpm.fi<=500))","v":{"$error":"#N/A"}}]
[null,null,null,null,null,null,null,null,null,null,null,{"$f":"_xlfn.LET(_xlpm.su,L154,_xlpm.sp,MOD(COLUMN(),6),_xlpm.suu,IF(_xlpm.su=\"\",\"@@@@\",_xlfn.TEXTSPLIT(_xlpm.su,\" / \")),_xlpm.fi,MATCH(_xlpm.suu,Tabelle2!$C$1:$C$500,0),AND(_xlpm.fi>=239,_xlpm.fi<=500))","v":{"$error":"#N/A"}}]
[null,null,null,null,null,null,null,null,null,null,null,{"$f":"_xlfn.LET(_xlpm.su,L155,_xlpm.sp,MOD(COLUMN(),6),_xlpm.suu,IF(_xlpm.su=\"\",\"@@@@\",_xlfn.TEXTSPLIT(_xlpm.su,\" / \")),_xlpm.fi,MATCH(_xlpm.suu,Tabelle2!$C$1:$C$500,0),AND(_xlpm.fi>=239,_xlpm.fi<=500))","v":{"$error":"#N/A"}}]
[null,null,null,null,null,null,null,null,null,null,null,{"$f":"_xlfn.LET(_xlpm.su,L156,_xlpm.sp,MOD(COLUMN(),6),_xlpm.suu,IF(_xlpm.su=\"\",\"@@@@\",_xlfn.TEXTSPLIT(_xlpm.su,\" / \")),_xlpm.fi,MATCH(_xlpm.suu,Tabelle2!$C$1:$C$500,0),AND(_xlpm.fi>=239,_xlpm.fi<=500))","v":{"$error":"#N/A"}}]
[null,null,null,null,null,null,null,null,null,null,null,{"$f":"_xlfn.LET(_xlpm.su,L157,_xlpm.sp,MOD(COLUMN(),6),_xlpm.suu,IF(_xlpm.su=\"\",\"@@@@\",_xlfn.TEXTSPLIT(_xlpm.su,\" / \")),_xlpm.fi,MATCH(_xlpm.suu,Tabelle2!$C$1:$C$500,0),AND(_xlpm.fi>=239,_xlpm.fi<=500))","v":{"$error":"#N/A"}}]
[null,null,null,null,null,null,null,null,null,null,null,{"$f":"_xlfn.LET(_xlpm.su,L158,_xlpm.sp,MOD(COLUMN(),6),_xlpm.suu,IF(_xlpm.su=\"\",\"@@@@\",_xlfn.TEXTSPLIT(_xlpm.su,\" / \")),_xlpm.fi,MATCH(_xlpm.suu,Tabelle2!$C$1:$C$500,0),AND(_xlpm.fi>=239,_xlpm.fi<=500))","v":{"$error":"#N/A"}}]
[null,null,null,null,null,null,null,null,null,null,null,{"$f":"_xlfn.LET(_xlpm.su,L159,_xlpm.sp,MOD(COLUMN(),6),_xlpm.suu,IF(_xlpm.su=\"\",\"@@@@\",_xlfn.TEXTSPLIT(_xlpm.su,\" / \")),_xlpm.fi,MATCH(_xlpm.suu,Tabelle2!$C$1:$C$500,0),AND(_xlpm.fi>=239,_xlpm.fi<=500))","v":{"$error":"#N/A"}}]
[null,null,null,null,null,null,null,null,null,null,null,{"$f":"_xlfn.LET(_xlpm.su,L160,_xlpm.sp,MOD(COLUMN(),6),_xlpm.suu,IF(_xlpm.su=\"\",\"@@@@\",_xlfn.TEXTSPLIT(_xlpm.su,\" / \")),_xlpm.fi,MATCH(_xlpm.suu,Tabelle2!$C$1:$C$500,0),AND(_xlpm.fi>=239,_xlpm.fi<=500))","v":{"$error":"#N/A"}}]
[null,null,null,null,null,null,null,null,null,null,null,{"$f":"_xlfn.LET(_xlpm.su,L161,_xlpm.sp,MOD(COLUMN(),6),_xlpm.suu,IF(_xlpm.su=\"\",\"@@@@\",_xlfn.TEXTSPLIT(_xlpm.su,\" / \")),_xlpm.fi,MATCH(_xlpm.suu,Tabelle2!$C$1:$C$500,0),AND(_xlpm.fi>=239,_xlpm.fi<=500))","v":{"$error":"#N/A"}}]
[null,null,null,null,null,null,null,null,null,null,null,{"$f":"_xlfn.LET(_xlpm.su,L162,_xlpm.sp,MOD(COLUMN(),6),_xlpm.suu,IF(_xlpm.su=\"\",\"@@@@\",_xlfn.TEXTSPLIT(_xlpm.su,\" / \")),_xlpm.fi,MATCH(_xlpm.suu,Tabelle2!$C$1:$C$500,0),AND(_xlpm.fi>=239,_xlpm.fi<=500))","v":{"$error":"#N/A"}}]
[null,null,null,null,null,null,null,null,null,null,null,{"$f":"_xlfn.LET(_xlpm.su,L163,_xlpm.sp,MOD(COLUMN(),6),_xlpm.suu,IF(_xlpm.su=\"\",\"@@@@\",_xlfn.TEXTSPLIT(_xlpm.su,\" / \")),_xlpm.fi,MATCH(_xlpm.suu,Tabelle2!$C$1:$C$500,0),AND(_xlpm.fi>=239,_xlpm.fi<=500))","v":{"$error":"#N/A"}}]
[null,null,null,null,null,null,null,null,null,null,null,{"$f":"_xlfn.LET(_xlpm.su,L164,_xlpm.sp,MOD(COLUMN(),6),_xlpm.suu,IF(_xlpm.su=\"\",\"@@@@\",_xlfn.TEXTSPLIT(_xlpm.su,\" / \")),_xlpm.fi,MATCH(_xlpm.suu,Tabelle2!$C$1:$C$500,0),AND(_xlpm.fi>=239,_xlpm.fi<=500))","v":{"$error":"#N/A"}}]
[null,null,null,null,null,null,null,null,null,null,null,{"$f":"_xlfn.LET(_xlpm.su,L165,_xlpm.sp,MOD(COLUMN(),6),_xlpm.suu,IF(_xlpm.su=\"\",\"@@@@\",_xlfn.TEXTSPLIT(_xlpm.su,\" / \")),_xlpm.fi,MATCH(_xlpm.suu,Tabelle2!$C$1:$C$500,0),AND(_xlpm.fi>=239,_xlpm.fi<=500))","v":{"$error":"#N/A"}}]
[null,null,null,null,null,null,null,null,null,null,null,{"$f":"_xlfn.LET(_xlpm.su,L166,_xlpm.sp,MOD(COLUMN(),6),_xlpm.suu,IF(_xlpm.su=\"\",\"@@@@\",_xlfn.TEXTSPLIT(_xlpm.su,\" / \")),_xlpm.fi,MATCH(_xlpm.suu,Tabelle2!$C$1:$C$500,0),AND(_xlpm.fi>=239,_xlpm.fi<=500))","v":{"$error":"#N/A"}}]
[null,null,null,null,null,null,null,null,null,null,null,{"$f":"_xlfn.LET(_xlpm.su,L167,_xlpm.sp,MOD(COLUMN(),6),_xlpm.suu,IF(_xlpm.su=\"\",\"@@@@\",_xlfn.TEXTSPLIT(_xlpm.su,\" / \")),_xlpm.fi,MATCH(_xlpm.suu,Tabelle2!$C$1:$C$500,0),AND(_xlpm.fi>=239,_xlpm.fi<=500))","v":{"$error":"#N/A"}}]
[null,null,null,null,null,null,null,null,null,null,null,{"$f":"_xlfn.LET(_xlpm.su,L168,_xlpm.sp,MOD(COLUMN(),6),_xlpm.suu,IF(_xlpm.su=\"\",\"@@@@\",_xlfn.TEXTSPLIT(_xlpm.su,\" / \")),_xlpm.fi,MATCH(_xlpm.suu,Tabelle2!$C$1:$C$500,0),AND(_xlpm.fi>=239,_xlpm.fi<=500))","v":{"$error":"#N/A"}}]
[null,null,null,null,null,null,null,null,null,null,null,{"$f":"_xlfn.LET(_xlpm.su,L169,_xlpm.sp,MOD(COLUMN(),6),_xlpm.suu,IF(_xlpm.su=\"\",\"@@@@\",_xlfn.TEXTSPLIT(_xlpm.su,\" / \")),_xlpm.fi,MATCH(_xlpm.suu,Tabelle2!$C$1:$C$500,0),AND(_xlpm.fi>=239,_xlpm.fi<=500))","v":{"$error":"#N/A"}}]
[null,null,null,null,null,null,null,null,null,null,null,{"$f":"_xlfn.LET(_xlpm.su,L170,_xlpm.sp,MOD(COLUMN(),6),_xlpm.suu,IF(_xlpm.su=\"\",\"@@@@\",_xlfn.TEXTSPLIT(_xlpm.su,\" / \")),_xlpm.fi,MATCH(_xlpm.suu,Tabelle2!$C$1:$C$500,0),AND(_xlpm.fi>=239,_xlpm.fi<=500))","v":{"$error":"#N/A"}}]
[null,null,null,null,null,null,null,null,null,null,null,{"$f":"_xlfn.LET(_xlpm.su,L171,_xlpm.sp,MOD(COLUMN(),6),_xlpm.suu,IF(_xlpm.su=\"\",\"@@@@\",_xlfn.TEXTSPLIT(_xlpm.su,\" / \")),_xlpm.fi,MATCH(_xlpm.suu,Tabelle2!$C$1:$C$500,0),AND(_xlpm.fi>=239,_xlpm.fi<=500))","v":{"$error":"#N/A"}}]
[null,null,null,null,null,null,null,null,null,null,null,{"$f":"_xlfn.LET(_xlpm.su,L172,_xlpm.sp,MOD(COLUMN(),6),_xlpm.suu,IF(_xlpm.su=\"\",\"@@@@\",_xlfn.TEXTSPLIT(_xlpm.su,\" / \")),_xlpm.fi,MATCH(_xlpm.suu,Tabelle2!$C$1:$C$500,0),AND(_xlpm.fi>=239,_xlpm.fi<=500))","v":{"$error":"#N/A"}}]
[null,null,null,null,null,null,null,null,null,null,null,{"$f":"_xlfn.LET(_xlpm.su,L173,_xlpm.sp,MOD(COLUMN(),6),_xlpm.suu,IF(_xlpm.su=\"\",\"@@@@\",_xlfn.TEXTSPLIT(_xlpm.su,\" / \")),_xlpm.fi,MATCH(_xlpm.suu,Tabelle2!$C$1:$C$500,0),AND(_xlpm.fi>=239,_xlpm.fi<=500))","v":{"$error":"#N/A"}}]
[null,null,null,null,null,null,null,null,null,null,null,{"$f":"_xlfn.LET(_xlpm.su,L174,_xlpm.sp,MOD(COLUMN(),6),_xlpm.suu,IF(_xlpm.su=\"\",\"@@@@\",_xlfn.TEXTSPLIT(_xlpm.su,\" / \")),_xlpm.fi,MATCH(_xlpm.suu,Tabelle2!$C$1:$C$500,0),AND(_xlpm.fi>=239,_xlpm.fi<=500))","v":{"$error":"#N/A"}}]
[null,null,null,null,null,null,null,null,null,null,null,{"$f":"_xlfn.LET(_xlpm.su,L175,_xlpm.sp,MOD(COLUMN(),6),_xlpm.suu,IF(_xlpm.su=\"\",\"@@@@\",_xlfn.TEXTSPLIT(_xlpm.su,\" / \")),_xlpm.fi,MATCH(_xlpm.suu,Tabelle2!$C$1:$C$500,0),AND(_xlpm.fi>=239,_xlpm.fi<=500))","v":{"$error":"#N/A"}}]
[null,null,null,null,null,null,null,null,null,null,null,{"$f":"_xlfn.LET(_xlpm.su,L176,_xlpm.sp,MOD(COLUMN(),6),_xlpm.suu,IF(_xlpm.su=\"\",\"@@@@\",_xlfn.TEXTSPLIT(_xlpm.su,\" / \")),_xlpm.fi,MATCH(_xlpm.suu,Tabelle2!$C$1:$C$500,0),AND(_xlpm.fi>=239,_xlpm.fi<=500))","v":{"$error":"#N/A"}}]
[null,null,null,null,null,null,null,null,null,null,null,{"$f":"_xlfn.LET(_xlpm.su,L177,_xlpm.sp,MOD(COLUMN(),6),_xlpm.suu,IF(_xlpm.su=\"\",\"@@@@\",_xlfn.TEXTSPLIT(_xlpm.su,\" / \")),_xlpm.fi,MATCH(_xlpm.suu,Tabelle2!$C$1:$C$500,0),AND(_xlpm.fi>=239,_xlpm.fi<=500))","v":{"$error":"#N/A"}}]
[null,null,null,null,null,null,null,null,null,null,null,{"$f":"_xlfn.LET(_xlpm.su,L178,_xlpm.sp,MOD(COLUMN(),6),_xlpm.suu,IF(_xlpm.su=\"\",\"@@@@\",_xlfn.TEXTSPLIT(_xlpm.su,\" / \")),_xlpm.fi,MATCH(_xlpm.suu,Tabelle2!$C$1:$C$500,0),AND(_xlpm.fi>=239,_xlpm.fi<=500))","v":{"$error":"#N/A"}}]
[null,null,null,null,null,null,null,null,null,null,null,{"$f":"_xlfn.LET(_xlpm.su,L179,_xlpm.sp,MOD(COLUMN(),6),_xlpm.suu,IF(_xlpm.su=\"\",\"@@@@\",_xlfn.TEXTSPLIT(_xlpm.su,\" / \")),_xlpm.fi,MATCH(_xlpm.suu,Tabelle2!$C$1:$C$500,0),AND(_xlpm.fi>=239,_xlpm.fi<=500))","v":{"$error":"#N/A"}}]
[null,null,null,null,null,null,null,null,null,null,null,{"$f":"_xlfn.LET(_xlpm.su,L180,_xlpm.sp,MOD(COLUMN(),6),_xlpm.suu,IF(_xlpm.su=\"\",\"@@@@\",_xlfn.TEXTSPLIT(_xlpm.su,\" / \")),_xlpm.fi,MATCH(_xlpm.suu,Tabelle2!$C$1:$C$500,0),AND(_xlpm.fi>=239,_xlpm.fi<=500))","v":{"$error":"#N/A"}}]
[null,null,null,null,null,null,null,null,null,null,null,{"$f":"_xlfn.LET(_xlpm.su,L181,_xlpm.sp,MOD(COLUMN(),6),_xlpm.suu,IF(_xlpm.su=\"\",\"@@@@\",_xlfn.TEXTSPLIT(_xlpm.su,\" / \")),_xlpm.fi,MATCH(_xlpm.suu,Tabelle2!$C$1:$C$500,0),AND(_xlpm.fi>=239,_xlpm.fi<=500))","v":{"$error":"#N/A"}}]
[null,null,null,null,null,null,null,null,null,null,null,{"$f":"_xlfn.LET(_xlpm.su,L182,_xlpm.sp,MOD(COLUMN(),6),_xlpm.suu,IF(_xlpm.su=\"\",\"@@@@\",_xlfn.TEXTSPLIT(_xlpm.su,\" / \")),_xlpm.fi,MATCH(_xlpm.suu,Tabelle2!$C$1:$C$500,0),AND(_xlpm.fi>=239,_xlpm.fi<=500))","v":{"$error":"#N/A"}}]
[null,null,null,null,null,null,null,null,null,null,null,{"$f":"_xlfn.LET(_xlpm.su,L183,_xlpm.sp,MOD(COLUMN(),6),_xlpm.suu,IF(_xlpm.su=\"\",\"@@@@\",_xlfn.TEXTSPLIT(_xlpm.su,\" / \")),_xlpm.fi,MATCH(_xlpm.suu,Tabelle2!$C$1:$C$500,0),AND(_xlpm.fi>=239,_xlpm.fi<=500))","v":{"$error":"#N/A"}}]
[null,null,null,null,null,null,null,null,null,null,null,{"$f":"_xlfn.LET(_xlpm.su,L184,_xlpm.sp,MOD(COLUMN(),6),_xlpm.suu,IF(_xlpm.su=\"\",\"@@@@\",_xlfn.TEXTSPLIT(_xlpm.su,\" / \")),_xlpm.fi,MATCH(_xlpm.suu,Tabelle2!$C$1:$C$500,0),AND(_xlpm.fi>=239,_xlpm.fi<=500))","v":{"$error":"#N/A"}}]
[null,null,null,null,null,null,null,null,null,null,null,{"$f":"_xlfn.LET(_xlpm.su,L185,_xlpm.sp,MOD(COLUMN(),6),_xlpm.suu,IF(_xlpm.su=\"\",\"@@@@\",_xlfn.TEXTSPLIT(_xlpm.su,\" / \")),_xlpm.fi,MATCH(_xlpm.suu,Tabelle2!$C$1:$C$500,0),AND(_xlpm.fi>=239,_xlpm.fi<=500))","v":{"$error":"#N/A"}}]
[null,null,null,null,null,null,null,null,null,null,null,{"$f":"_xlfn.LET(_xlpm.su,L186,_xlpm.sp,MOD(COLUMN(),6),_xlpm.suu,IF(_xlpm.su=\"\",\"@@@@\",_xlfn.TEXTSPLIT(_xlpm.su,\" / \")),_xlpm.fi,MATCH(_xlpm.suu,Tabelle2!$C$1:$C$500,0),AND(_xlpm.fi>=239,_xlpm.fi<=500))","v":{"$error":"#N/A"}}]
[null,null,null,null,null,null,null,null,null,null,null,{"$f":"_xlfn.LET(_xlpm.su,L187,_xlpm.sp,MOD(COLUMN(),6),_xlpm.suu,IF(_xlpm.su=\"\",\"@@@@\",_xlfn.TEXTSPLIT(_xlpm.su,\" / \")),_xlpm.fi,MATCH(_xlpm.suu,Tabelle2!$C$1:$C$500,0),AND(_xlpm.fi>=239,_xlpm.fi<=500))","v":{"$error":"#N/A"}}]
[null,null,null,null,null,null,null,null,null,null,null,{"$f":"_xlfn.LET(_xlpm.su,L188,_xlpm.sp,MOD(COLUMN(),6),_xlpm.suu,IF(_xlpm.su=\"\",\"@@@@\",_xlfn.TEXTSPLIT(_xlpm.su,\" / \")),_xlpm.fi,MATCH(_xlpm.suu,Tabelle2!$C$1:$C$500,0),AND(_xlpm.fi>=239,_xlpm.fi<=500))","v":{"$error":"#N/A"}}]
[null,null,null,null,null,null,null,null,null,null,null,{"$f":"_xlfn.LET(_xlpm.su,L189,_xlpm.sp,MOD(COLUMN(),6),_xlpm.suu,IF(_xlpm.su=\"\",\"@@@@\",_xlfn.TEXTSPLIT(_xlpm.su,\" / \")),_xlpm.fi,MATCH(_xlpm.suu,Tabelle2!$C$1:$C$500,0),AND(_xlpm.fi>=239,_xlpm.fi<=500))","v":{"$error":"#N/A"}}]
[null,null,null,null,null,null,null,null,null,null,null,{"$f":"_xlfn.LET(_xlpm.su,L190,_xlpm.sp,MOD(COLUMN(),6),_xlpm.suu,IF(_xlpm.su=\"\",\"@@@@\",_xlfn.TEXTSPLIT(_xlpm.su,\" / \")),_xlpm.fi,MATCH(_xlpm.suu,Tabelle2!$C$1:$C$500,0),AND(_xlpm.fi>=239,_xlpm.fi<=500))","v":{"$error":"#N/A"}}]
[null,null,null,null,null,null,null,null,null,null,null,{"$f":"_xlfn.LET(_xlpm.su,L191,_xlpm.sp,MOD(COLUMN(),6),_xlpm.suu,IF(_xlpm.su=\"\",\"@@@@\",_xlfn.TEXTSPLIT(_xlpm.su,\" / \")),_xlpm.fi,MATCH(_xlpm.suu,Tabelle2!$C$1:$C$500,0),AND(_xlpm.fi>=239,_xlpm.fi<=500))","v":{"$error":"#N/A"}}]
[null,null,null,null,null,null,null,null,null,null,null,{"$f":"_xlfn.LET(_xlpm.su,L192,_xlpm.sp,MOD(COLUMN(),6),_xlpm.suu,IF(_xlpm.su=\"\",\"@@@@\",_xlfn.TEXTSPLIT(_xlpm.su,\" / \")),_xlpm.fi,MATCH(_xlpm.suu,Tabelle2!$C$1:$C$500,0),AND(_xlpm.fi>=239,_xlpm.fi<=500))","v":{"$error":"#N/A"}}]
[null,null,null,null,null,null,null,null,null,null,null,{"$f":"_xlfn.LET(_xlpm.su,L193,_xlpm.sp,MOD(COLUMN(),6),_xlpm.suu,IF(_xlpm.su=\"\",\"@@@@\",_xlfn.TEXTSPLIT(_xlpm.su,\" / \")),_xlpm.fi,MATCH(_xlpm.suu,Tabelle2!$C$1:$C$500,0),AND(_xlpm.fi>=239,_xlpm.fi<=500))","v":{"$error":"#N/A"}}]
[null,null,null,null,null,null,null,null,null,null,null,{"$f":"_xlfn.LET(_xlpm.su,L194,_xlpm.sp,MOD(COLUMN(),6),_xlpm.suu,IF(_xlpm.su=\"\",\"@@@@\",_xlfn.TEXTSPLIT(_xlpm.su,\" / \")),_xlpm.fi,MATCH(_xlpm.suu,Tabelle2!$C$1:$C$500,0),AND(_xlpm.fi>=239,_xlpm.fi<=500))","v":{"$error":"#N/A"}}]
[null,null,null,null,null,null,null,null,null,null,null,{"$f":"_xlfn.LET(_xlpm.su,L195,_xlpm.sp,MOD(COLUMN(),6),_xlpm.suu,IF(_xlpm.su=\"\",\"@@@@\",_xlfn.TEXTSPLIT(_xlpm.su,\" / \")),_xlpm.fi,MATCH(_xlpm.suu,Tabelle2!$C$1:$C$500,0),AND(_xlpm.fi>=239,_xlpm.fi<=500))","v":{"$error":"#N/A"}}]
[null,null,null,null,null,null,null,null,null,null,null,{"$f":"_xlfn.LET(_xlpm.su,L196,_xlpm.sp,MOD(COLUMN(),6),_xlpm.suu,IF(_xlpm.su=\"\",\"@@@@\",_xlfn.TEXTSPLIT(_xlpm.su,\" / \")),_xlpm.fi,MATCH(_xlpm.suu,Tabelle2!$C$1:$C$500,0),AND(_xlpm.fi>=239,_xlpm.fi<=500))","v":{"$error":"#N/A"}}]
[null,null,null,null,null,null,null,null,null,null,null,{"$f":"_xlfn.LET(_xlpm.su,L197,_xlpm.sp,MOD(COLUMN(),6),_xlpm.suu,IF(_xlpm.su=\"\",\"@@@@\",_xlfn.TEXTSPLIT(_xlpm.su,\" / \")),_xlpm.fi,MATCH(_xlpm.suu,Tabelle2!$C$1:$C$500,0),AND(_xlpm.fi>=239,_xlpm.fi<=500))","v":{"$error":"#N/A"}}]
[null,null,null,null,null,null,null,null,null,null,null,{"$f":"_xlfn.LET(_xlpm.su,L198,_xlpm.sp,MOD(COLUMN(),6),_xlpm.suu,IF(_xlpm.su=\"\",\"@@@@\",_xlfn.TEXTSPLIT(_xlpm.su,\" / \")),_xlpm.fi,MATCH(_xlpm.suu,Tabelle2!$C$1:$C$500,0),AND(_xlpm.fi>=239,_xlpm.fi<=500))","v":{"$error":"#N/A"}}]
[null,null,null,null,null,null,null,null,null,null,null,{"$f":"_xlfn.LET(_xlpm.su,L199,_xlpm.sp,MOD(COLUMN(),6),_xlpm.suu,IF(_xlpm.su=\"\",\"@@@@\",_xlfn.TEXTSPLIT(_xlpm.su,\" / \")),_xlpm.fi,MATCH(_xlpm.suu,Tabelle2!$C$1:$C$500,0),AND(_xlpm.fi>=239,_xlpm.fi<=500))","v":{"$error":"#N/A"}}]
[null,null,null,null,null,null,null,null,null,null,null,{"$f":"_xlfn.LET(_xlpm.su,L200,_xlpm.sp,MOD(COLUMN(),6),_xlpm.suu,IF(_xlpm.su=\"\",\"@@@@\",_xlfn.TEXTSPLIT(_xlpm.su,\" / \")),_xlpm.fi,MATCH(_xlpm.suu,Tabelle2!$C$1:$C$500,0),AND(_xlpm.fi>=239,_xlpm.fi<=500))","v":{"$error":"#N/A"}}]
[null,null,null,null,null,null,null,null,null,null,null,{"$f":"_xlfn.LET(_xlpm.su,L201,_xlpm.sp,MOD(COLUMN(),6),_xlpm.suu,IF(_xlpm.su=\"\",\"@@@@\",_xlfn.TEXTSPLIT(_xlpm.su,\" / \")),_xlpm.fi,MATCH(_xlpm.suu,Tabelle2!$C$1:$C$500,0),AND(_xlpm.fi>=239,_xlpm.fi<=500))","v":{"$error":"#N/A"}}]
[null,null,null,null,null,null,null,null,null,null,null,{"$f":"_xlfn.LET(_xlpm.su,L202,_xlpm.sp,MOD(COLUMN(),6),_xlpm.suu,IF(_xlpm.su=\"\",\"@@@@\",_xlfn.TEXTSPLIT(_xlpm.su,\" / \")),_xlpm.fi,MATCH(_xlpm.suu,Tabelle2!$C$1:$C$500,0),AND(_xlpm.fi>=239,_xlpm.fi<=500))","v":{"$error":"#N/A"}}]
[null,null,null,null,null,null,null,null,null,null,null,{"$f":"_xlfn.LET(_xlpm.su,L203,_xlpm.sp,MOD(COLUMN(),6),_xlpm.suu,IF(_xlpm.su=\"\",\"@@@@\",_xlfn.TEXTSPLIT(_xlpm.su,\" / \")),_xlpm.fi,MATCH(_xlpm.suu,Tabelle2!$C$1:$C$500,0),AND(_xlpm.fi>=239,_xlpm.fi<=500))","v":{"$error":"#N/A"}}]
[null,null,null,null,null,null,null,null,null,null,null,{"$f":"_xlfn.LET(_xlpm.su,L204,_xlpm.sp,MOD(COLUMN(),6),_xlpm.suu,IF(_xlpm.su=\"\",\"@@@@\",_xlfn.TEXTSPLIT(_xlpm.su,\" / \")),_xlpm.fi,MATCH(_xlpm.suu,Tabelle2!$C$1:$C$500,0),AND(_xlpm.fi>=239,_xlpm.fi<=500))","v":{"$error":"#N/A"}}]
[null,null,null,null,null,null,null,null,null,null,null,{"$f":"_xlfn.LET(_xlpm.su,L205,_xlpm.sp,MOD(COLUMN(),6),_xlpm.suu,IF(_xlpm.su=\"\",\"@@@@\",_xlfn.TEXTSPLIT(_xlpm.su,\" / \")),_xlpm.fi,MATCH(_xlpm.suu,Tabelle2!$C$1:$C$500,0),AND(_xlpm.fi>=239,_xlpm.fi<=500))","v":{"$error":"#N/A"}}]
[null,null,null,null,null,null,null,null,null,null,null,{"$f":"_xlfn.LET(_xlpm.su,L206,_xlpm.sp,MOD(COLUMN(),6),_xlpm.suu,IF(_xlpm.su=\"\",\"@@@@\",_xlfn.TEXTSPLIT(_xlpm.su,\" / \")),_xlpm.fi,MATCH(_xlpm.suu,Tabelle2!$C$1:$C$500,0),AND(_xlpm.fi>=239,_xlpm.fi<=500))","v":{"$error":"#N/A"}}]
[null,null,null,null,null,null,null,null,null,null,null,{"$f":"_xlfn.LET(_xlpm.su,L207,_xlpm.sp,MOD(COLUMN(),6),_xlpm.suu,IF(_xlpm.su=\"\",\"@@@@\",_xlfn.TEXTSPLIT(_xlpm.su,\" / \")),_xlpm.fi,MATCH(_xlpm.suu,Tabelle2!$C$1:$C$500,0),AND(_xlpm.fi>=239,_xlpm.fi<=500))","v":{"$error":"#N/A"}}]
[null,null,null,null,null,null,null,null,null,null,null,{"$f":"_xlfn.LET(_xlpm.su,L208,_xlpm.sp,MOD(COLUMN(),6),_xlpm.suu,IF(_xlpm.su=\"\",\"@@@@\",_xlfn.TEXTSPLIT(_xlpm.su,\" / \")),_xlpm.fi,MATCH(_xlpm.suu,Tabelle2!$C$1:$C$500,0),AND(_xlpm.fi>=239,_xlpm.fi<=500))","v":{"$error":"#N/A"}}]
[null,null,null,null,null,null,null,null,null,null,null,{"$f":"_xlfn.LET(_xlpm.su,L209,_xlpm.sp,MOD(COLUMN(),6),_xlpm.suu,IF(_xlpm.su=\"\",\"@@@@\",_xlfn.TEXTSPLIT(_xlpm.su,\" / \")),_xlpm.fi,MATCH(_xlpm.suu,Tabelle2!$C$1:$C$500,0),_xlpm.fi&_xlpm.suu)","v":{"$error":"#N/A"}}]
[null,null,null,null,null,null,null,null,null,null,null,{"$f":"_xlfn.LET(_xlpm.su,L210,_xlpm.sp,MOD(COLUMN(),6),_xlpm.suu,IF(_xlpm.su=\"\",\"@@@@\",_xlfn.TEXTSPLIT(_xlpm.su,\" / \")),_xlpm.fi,MATCH(_xlpm.suu,Tabelle2!$C$1:$C$500,0),_xlpm.fi&_xlpm.suu)","v":{"$error":"#N/A"}}]
[null,null,null,null,null,null,null,null,null,null,null,{"$f":"_xlfn.LET(_xlpm.su,L211,_xlpm.sp,MOD(COLUMN(),6),_xlpm.suu,IF(_xlpm.su=\"\",\"@@@@\",_xlfn.TEXTSPLIT(_xlpm.su,\" / \")),_xlpm.fi,MATCH(_xlpm.suu,Tabelle2!$C$1:$C$500,0),_xlpm.fi&_xlpm.suu)","v":{"$error":"#N/A"}}]
[null,null,null,null,null,null,null,null,null,null,null,{"$f":"_xlfn.LET(_xlpm.su,L212,_xlpm.sp,MOD(COLUMN(),6),_xlpm.suu,IF(_xlpm.su=\"\",\"@@@@\",_xlfn.TEXTSPLIT(_xlpm.su,\" / \")),_xlpm.fi,MATCH(_xlpm.suu,Tabelle2!$C$1:$C$500,0),_xlpm.fi&_xlpm.suu)","v":{"$error":"#N/A"}}]
[null,null,null,null,null,null,null,null,null,null,null,{"$f":"_xlfn.LET(_xlpm.su,L213,_xlpm.sp,MOD(COLUMN(),6),_xlpm.suu,IF(_xlpm.su=\"\",\"@@@@\",_xlfn.TEXTSPLIT(_xlpm.su,\" / \")),_xlpm.fi,MATCH(_xlpm.suu,Tabelle2!$C$1:$C$500,0),_xlpm.fi&_xlpm.suu)","v":{"$error":"#N/A"}}]
[null,null,null,null,null,null,null,null,null,null,null,{"$f":"_xlfn.LET(_xlpm.su,L214,_xlpm.sp,MOD(COLUMN(),6),_xlpm.suu,IF(_xlpm.su=\"\",\"@@@@\",_xlfn.TEXTSPLIT(_xlpm.su,\" / \")),_xlpm.fi,MATCH(_xlpm.suu,Tabelle2!$C$1:$C$500,0),_xlpm.fi&_xlpm.suu)","v":{"$error":"#N/A"}}]
[null,null,null,null,null,null,null,null,null,null,null,{"$f":"_xlfn.LET(_xlpm.su,L215,_xlpm.sp,MOD(COLUMN(),6),_xlpm.suu,IF(_xlpm.su=\"\",\"@@@@\",_xlfn.TEXTSPLIT(_xlpm.su,\" / \")),_xlpm.fi,MATCH(_xlpm.suu,Tabelle2!$C$1:$C$500,0),_xlpm.fi&_xlpm.suu)","v":{"$error":"#N/A"}}]
[null,null,null,null,null,null,null,null,null,null,null,{"$f":"_xlfn.LET(_xlpm.su,L216,_xlpm.sp,MOD(COLUMN(),6),_xlpm.suu,IF(_xlpm.su=\"\",\"@@@@\",_xlfn.TEXTSPLIT(_xlpm.su,\" / \")),_xlpm.fi,MATCH(_xlpm.suu,Tabelle2!$C$1:$C$500,0),_xlpm.fi&_xlpm.suu)","v":{"$error":"#N/A"}}]
[null,null,null,null,null,null,null,null,null,null,null,{"$f":"_xlfn.LET(_xlpm.su,L217,_xlpm.sp,MOD(COLUMN(),6),_xlpm.suu,IF(_xlpm.su=\"\",\"@@@@\",_xlfn.TEXTSPLIT(_xlpm.su,\" / \")),_xlpm.fi,MATCH(_xlpm.suu,Tabelle2!$C$1:$C$500,0),_xlpm.fi&_xlpm.suu)","v":{"$error":"#N/A"}}]
[null,null,null,null,null,null,null,null,null,null,null,{"$f":"_xlfn.LET(_xlpm.su,L218,_xlpm.sp,MOD(COLUMN(),6),_xlpm.suu,IF(_xlpm.su=\"\",\"@@@@\",_xlfn.TEXTSPLIT(_xlpm.su,\" / \")),_xlpm.fi,MATCH(_xlpm.suu,Tabelle2!$C$1:$C$500,0),_xlpm.fi&_xlpm.suu)","v":{"$error":"#N/A"}}]
[null,null,null,null,null,null,null,null,null,null,null,{"$f":"_xlfn.LET(_xlpm.su,L219,_xlpm.sp,MOD(COLUMN(),6),_xlpm.suu,IF(_xlpm.su=\"\",\"@@@@\",_xlfn.TEXTSPLIT(_xlpm.su,\" / \")),_xlpm.fi,MATCH(_xlpm.suu,Tabelle2!$C$1:$C$500,0),_xlpm.fi&_xlpm.suu)","v":{"$error":"#N/A"}}]
[null,null,null,null,null,null,null,null,null,null,null,{"$f":"_xlfn.LET(_xlpm.su,L220,_xlpm.sp,MOD(COLUMN(),6),_xlpm.suu,IF(_xlpm.su=\"\",\"@@@@\",_xlfn.TEXTSPLIT(_xlpm.su,\" / \")),_xlpm.fi,MATCH(_xlpm.suu,Tabelle2!$C$1:$C$500,0),_xlpm.fi&_xlpm.suu)","v":{"$error":"#N/A"}}]
[null,null,null,null,null,null,null,null,null,null,null,{"$f":"_xlfn.LET(_xlpm.su,L221,_xlpm.sp,MOD(COLUMN(),6),_xlpm.suu,IF(_xlpm.su=\"\",\"@@@@\",_xlfn.TEXTSPLIT(_xlpm.su,\" / \")),_xlpm.fi,MATCH(_xlpm.suu,Tabelle2!$C$1:$C$500,0),_xlpm.fi&_xlpm.suu)","v":{"$error":"#N/A"}}]
[null,null,null,null,null,null,null,null,null,null,null,{"$f":"_xlfn.LET(_xlpm.su,L222,_xlpm.sp,MOD(COLUMN(),6),_xlpm.suu,IF(_xlpm.su=\"\",\"@@@@\",_xlfn.TEXTSPLIT(_xlpm.su,\" / \")),_xlpm.fi,MATCH(_xlpm.suu,Tabelle2!$C$1:$C$500,0),_xlpm.fi&_xlpm.suu)","v":{"$error":"#N/A"}}]
[null,null,null,null,null,null,null,null,null,null,null,{"$f":"_xlfn.LET(_xlpm.su,L223,_xlpm.sp,MOD(COLUMN(),6),_xlpm.suu,IF(_xlpm.su=\"\",\"@@@@\",_xlfn.TEXTSPLIT(_xlpm.su,\" / \")),_xlpm.fi,MATCH(_xlpm.suu,Tabelle2!$C$1:$C$500,0),_xlpm.fi&_xlpm.suu)","v":{"$error":"#N/A"}}]
[null,null,null,null,null,null,null,null,null,null,null,{"$f":"_xlfn.LET(_xlpm.su,L224,_xlpm.sp,MOD(COLUMN(),6),_xlpm.suu,IF(_xlpm.su=\"\",\"@@@@\",_xlfn.TEXTSPLIT(_xlpm.su,\" / \")),_xlpm.fi,MATCH(_xlpm.suu,Tabelle2!$C$1:$C$500,0),_xlpm.fi&_xlpm.suu)","v":{"$error":"#N/A"}}]
[null,null,null,null,null,null,null,null,null,null,null,{"$f":"_xlfn.LET(_xlpm.su,L225,_xlpm.sp,MOD(COLUMN(),6),_xlpm.suu,IF(_xlpm.su=\"\",\"@@@@\",_xlfn.TEXTSPLIT(_xlpm.su,\" / \")),_xlpm.fi,MATCH(_xlpm.suu,Tabelle2!$C$1:$C$500,0),_xlpm.fi&_xlpm.suu)","v":{"$error":"#N/A"}}]
[null,null,null,null,null,null,null,null,null,null,null,{"$f":"_xlfn.LET(_xlpm.su,L226,_xlpm.sp,MOD(COLUMN(),6),_xlpm.suu,IF(_xlpm.su=\"\",\"@@@@\",_xlfn.TEXTSPLIT(_xlpm.su,\" / \")),_xlpm.fi,MATCH(_xlpm.suu,Tabelle2!$C$1:$C$500,0),_xlpm.fi&_xlpm.suu)","v":{"$error":"#N/A"}}]
[null,null,null,null,null,null,null,null,null,null,null,{"$f":"_xlfn.LET(_xlpm.su,L227,_xlpm.sp,MOD(COLUMN(),6),_xlpm.suu,IF(_xlpm.su=\"\",\"@@@@\",_xlfn.TEXTSPLIT(_xlpm.su,\" / \")),_xlpm.fi,MATCH(_xlpm.suu,Tabelle2!$C$1:$C$500,0),_xlpm.fi&_xlpm.suu)","v":{"$error":"#N/A"}}]
[null,null,null,null,null,null,null,null,null,null,null,{"$f":"_xlfn.LET(_xlpm.su,L228,_xlpm.sp,MOD(COLUMN(),6),_xlpm.suu,IF(_xlpm.su=\"\",\"@@@@\",_xlfn.TEXTSPLIT(_xlpm.su,\" / \")),_xlpm.fi,MATCH(_xlpm.suu,Tabelle2!$C$1:$C$500,0),_xlpm.fi&_xlpm.suu)","v":{"$error":"#N/A"}}]
[null,null,null,null,null,null,null,null,null,null,null,{"$f":"_xlfn.LET(_xlpm.su,L229,_xlpm.sp,MOD(COLUMN(),6),_xlpm.suu,IF(_xlpm.su=\"\",\"@@@@\",_xlfn.TEXTSPLIT(_xlpm.su,\" / \")),_xlpm.fi,MATCH(_xlpm.suu,Tabelle2!$C$1:$C$500,0),_xlpm.fi&_xlpm.suu)","v":{"$error":"#N/A"}}]
[null,null,null,null,null,null,null,null,null,null,null,{"$f":"_xlfn.LET(_xlpm.su,L230,_xlpm.sp,MOD(COLUMN(),6),_xlpm.suu,IF(_xlpm.su=\"\",\"@@@@\",_xlfn.TEXTSPLIT(_xlpm.su,\" / \")),_xlpm.fi,MATCH(_xlpm.suu,Tabelle2!$C$1:$C$500,0),_xlpm.fi&_xlpm.suu)","v":{"$error":"#N/A"}}]
[null,null,null,null,null,null,null,null,null,null,null,{"$f":"_xlfn.LET(_xlpm.su,L231,_xlpm.sp,MOD(COLUMN(),6),_xlpm.suu,IF(_xlpm.su=\"\",\"@@@@\",_xlfn.TEXTSPLIT(_xlpm.su,\" / \")),_xlpm.fi,MATCH(_xlpm.suu,Tabelle2!$C$1:$C$500,0),_xlpm.fi&_xlpm.suu)","v":{"$error":"#N/A"}}]
[null,null,null,null,null,null,null,null,null,null,null,{"$f":"_xlfn.LET(_xlpm.su,L232,_xlpm.sp,MOD(COLUMN(),6),_xlpm.suu,IF(_xlpm.su=\"\",\"@@@@\",_xlfn.TEXTSPLIT(_xlpm.su,\" / \")),_xlpm.fi,MATCH(_xlpm.suu,Tabelle2!$C$1:$C$500,0),_xlpm.fi&_xlpm.suu)","v":{"$error":"#N/A"}}]
[null,null,null,null,null,null,null,null,null,null,null,{"$f":"_xlfn.LET(_xlpm.su,L233,_xlpm.sp,MOD(COLUMN(),6),_xlpm.suu,IF(_xlpm.su=\"\",\"@@@@\",_xlfn.TEXTSPLIT(_xlpm.su,\" / \")),_xlpm.fi,MATCH(_xlpm.suu,Tabelle2!$C$1:$C$500,0),_xlpm.fi&_xlpm.suu)","v":{"$error":"#N/A"}}]
[null,null,null,null,null,null,null,null,null,null,null,{"$f":"_xlfn.LET(_xlpm.su,L234,_xlpm.sp,MOD(COLUMN(),6),_xlpm.suu,IF(_xlpm.su=\"\",\"@@@@\",_xlfn.TEXTSPLIT(_xlpm.su,\" / \")),_xlpm.fi,MATCH(_xlpm.suu,Tabelle2!$C$1:$C$500,0),_xlpm.fi&_xlpm.suu)","v":{"$error":"#N/A"}}]
[null,null,null,null,null,null,null,null,null,null,null,{"$f":"_xlfn.LET(_xlpm.su,L235,_xlpm.sp,MOD(COLUMN(),6),_xlpm.suu,IF(_xlpm.su=\"\",\"@@@@\",_xlfn.TEXTSPLIT(_xlpm.su,\" / \")),_xlpm.fi,MATCH(_xlpm.suu,Tabelle2!$C$1:$C$500,0),_xlpm.fi&_xlpm.suu)","v":{"$error":"#N/A"}}]
[null,null,null,null,null,null,null,null,null,null,null,{"$f":"_xlfn.LET(_xlpm.su,L236,_xlpm.sp,MOD(COLUMN(),6),_xlpm.suu,IF(_xlpm.su=\"\",\"@@@@\",_xlfn.TEXTSPLIT(_xlpm.su,\" / \")),_xlpm.fi,MATCH(_xlpm.suu,Tabelle2!$C$1:$C$500,0),_xlpm.fi&_xlpm.suu)","v":{"$error":"#N/A"}}]
[null,null,null,null,null,null,null,null,null,null,null,{"$f":"_xlfn.LET(_xlpm.su,L237,_xlpm.sp,MOD(COLUMN(),6),_xlpm.suu,IF(_xlpm.su=\"\",\"@@@@\",_xlfn.TEXTSPLIT(_xlpm.su,\" / \")),_xlpm.fi,MATCH(_xlpm.suu,Tabelle2!$C$1:$C$500,0),_xlpm.fi&_xlpm.suu)","v":{"$error":"#N/A"}}]
[null,null,null,null,null,null,null,null,null,null,null,{"$f":"_xlfn.LET(_xlpm.su,L238,_xlpm.sp,MOD(COLUMN(),6),_xlpm.suu,IF(_xlpm.su=\"\",\"@@@@\",_xlfn.TEXTSPLIT(_xlpm.su,\" / \")),_xlpm.fi,MATCH(_xlpm.suu,Tabelle2!$C$1:$C$500,0),_xlpm.fi&_xlpm.suu)","v":{"$error":"#N/A"}}]
[null,null,null,null,null,null,null,null,null,null,null,{"$f":"_xlfn.LET(_xlpm.su,L239,_xlpm.sp,MOD(COLUMN(),6),_xlpm.suu,IF(_xlpm.su=\"\",\"@@@@\",_xlfn.TEXTSPLIT(_xlpm.su,\" / \")),_xlpm.fi,MATCH(_xlpm.suu,Tabelle2!$C$1:$C$500,0),_xlpm.fi&_xlpm.suu)","v":{"$error":"#N/A"}}]
[null,null,null,null,null,null,null,null,null,null,null,{"$f":"_xlfn.LET(_xlpm.su,L240,_xlpm.sp,MOD(COLUMN(),6),_xlpm.suu,IF(_xlpm.su=\"\",\"@@@@\",_xlfn.TEXTSPLIT(_xlpm.su,\" / \")),_xlpm.fi,MATCH(_xlpm.suu,Tabelle2!$C$1:$C$500,0),_xlpm.fi&_xlpm.suu)","v":{"$error":"#N/A"}}]
[null,null,null,null,null,null,null,null,null,null,null,{"$f":"_xlfn.LET(_xlpm.su,L241,_xlpm.sp,MOD(COLUMN(),6),_xlpm.suu,IF(_xlpm.su=\"\",\"@@@@\",_xlfn.TEXTSPLIT(_xlpm.su,\" / \")),_xlpm.fi,MATCH(_xlpm.suu,Tabelle2!$C$1:$C$500,0),_xlpm.fi&_xlpm.suu)","v":{"$error":"#N/A"}}]
[null,null,null,null,null,null,null,null,null,null,null,{"$f":"_xlfn.LET(_xlpm.su,L242,_xlpm.sp,MOD(COLUMN(),6),_xlpm.suu,IF(_xlpm.su=\"\",\"@@@@\",_xlfn.TEXTSPLIT(_xlpm.su,\" / \")),_xlpm.fi,MATCH(_xlpm.suu,Tabelle2!$C$1:$C$500,0),_xlpm.fi&_xlpm.suu)","v":{"$error":"#N/A"}}]
[null,null,null,null,null,null,null,null,null,null,null,{"$f":"_xlfn.LET(_xlpm.su,L243,_xlpm.sp,MOD(COLUMN(),6),_xlpm.suu,IF(_xlpm.su=\"\",\"@@@@\",_xlfn.TEXTSPLIT(_xlpm.su,\" / \")),_xlpm.fi,MATCH(_xlpm.suu,Tabelle2!$C$1:$C$500,0),_xlpm.fi&_xlpm.suu)","v":{"$error":"#N/A"}}]
[null,null,null,null,null,null,null,null,null,null,null,{"$f":"_xlfn.LET(_xlpm.su,L244,_xlpm.sp,MOD(COLUMN(),6),_xlpm.suu,IF(_xlpm.su=\"\",\"@@@@\",_xlfn.TEXTSPLIT(_xlpm.su,\" / \")),_xlpm.fi,MATCH(_xlpm.suu,Tabelle2!$C$1:$C$500,0),_xlpm.fi&_xlpm.suu)","v":{"$error":"#N/A"}}]
[null,null,null,null,null,null,null,null,null,null,null,{"$f":"_xlfn.LET(_xlpm.su,L245,_xlpm.sp,MOD(COLUMN(),6),_xlpm.suu,IF(_xlpm.su=\"\",\"@@@@\",_xlfn.TEXTSPLIT(_xlpm.su,\" / \")),_xlpm.fi,MATCH(_xlpm.suu,Tabelle2!$C$1:$C$500,0),_xlpm.fi&_xlpm.suu)","v":{"$error":"#N/A"}}]
[null,null,null,null,null,null,null,null,null,null,null,{"$f":"_xlfn.LET(_xlpm.su,L246,_xlpm.sp,MOD(COLUMN(),6),_xlpm.suu,IF(_xlpm.su=\"\",\"@@@@\",_xlfn.TEXTSPLIT(_xlpm.su,\" / \")),_xlpm.fi,MATCH(_xlpm.suu,Tabelle2!$C$1:$C$500,0),_xlpm.fi&_xlpm.suu)","v":{"$error":"#N/A"}}]
[null,null,null,null,null,null,null,null,null,null,null,{"$f":"_xlfn.LET(_xlpm.su,L247,_xlpm.sp,MOD(COLUMN(),6),_xlpm.suu,IF(_xlpm.su=\"\",\"@@@@\",_xlfn.TEXTSPLIT(_xlpm.su,\" / \")),_xlpm.fi,MATCH(_xlpm.suu,Tabelle2!$C$1:$C$500,0),_xlpm.fi&_xlpm.suu)","v":{"$error":"#N/A"}}]
[null,null,null,null,null,null,null,null,null,null,null,{"$f":"_xlfn.LET(_xlpm.su,L248,_xlpm.sp,MOD(COLUMN(),6),_xlpm.suu,IF(_xlpm.su=\"\",\"@@@@\",_xlfn.TEXTSPLIT(_xlpm.su,\" / \")),_xlpm.fi,MATCH(_xlpm.suu,Tabelle2!$C$1:$C$500,0),_xlpm.fi&_xlpm.suu)","v":{"$error":"#N/A"}}]
[null,null,null,null,null,null,null,null,null,null,null,{"$f":"_xlfn.LET(_xlpm.su,L249,_xlpm.sp,MOD(COLUMN(),6),_xlpm.suu,IF(_xlpm.su=\"\",\"@@@@\",_xlfn.TEXTSPLIT(_xlpm.su,\" / \")),_xlpm.fi,MATCH(_xlpm.suu,Tabelle2!$C$1:$C$500,0),_xlpm.fi&_xlpm.suu)","v":{"$error":"#N/A"}}]
[null,null,null,null,null,null,null,null,null,null,null,{"$f":"_xlfn.LET(_xlpm.su,L250,_xlpm.sp,MOD(COLUMN(),6),_xlpm.suu,IF(_xlpm.su=\"\",\"@@@@\",_xlfn.TEXTSPLIT(_xlpm.su,\" / \")),_xlpm.fi,MATCH(_xlpm.suu,Tabelle2!$C$1:$C$500,0),_xlpm.fi&_xlpm.suu)","v":{"$error":"#N/A"}}]
[null,null,null,null,null,null,null,null,null,null,null,{"$f":"_xlfn.LET(_xlpm.su,L251,_xlpm.sp,MOD(COLUMN(),6),_xlpm.suu,IF(_xlpm.su=\"\",\"@@@@\",_xlfn.TEXTSPLIT(_xlpm.su,\" / \")),_xlpm.fi,MATCH(_xlpm.suu,Tabelle2!$C$1:$C$500,0),_xlpm.fi&_xlpm.suu)","v":{"$error":"#N/A"}}]
[null,null,null,null,null,null,null,null,null,null,null,{"$f":"_xlfn.LET(_xlpm.su,L252,_xlpm.sp,MOD(COLUMN(),6),_xlpm.suu,IF(_xlpm.su=\"\",\"@@@@\",_xlfn.TEXTSPLIT(_xlpm.su,\" / \")),_xlpm.fi,MATCH(_xlpm.suu,Tabelle2!$C$1:$C$500,0),_xlpm.fi&_xlpm.suu)","v":{"$error":"#N/A"}}]
[null,null,null,null,null,null,null,null,null,null,null,{"$f":"_xlfn.LET(_xlpm.su,L253,_xlpm.sp,MOD(COLUMN(),6),_xlpm.suu,IF(_xlpm.su=\"\",\"@@@@\",_xlfn.TEXTSPLIT(_xlpm.su,\" / \")),_xlpm.fi,MATCH(_xlpm.suu,Tabelle2!$C$1:$C$500,0),_xlpm.fi&_xlpm.suu)","v":{"$error":"#N/A"}}]
[null,null,null,null,null,null,null,null,null,null,null,{"$f":"_xlfn.LET(_xlpm.su,L254,_xlpm.sp,MOD(COLUMN(),6),_xlpm.suu,IF(_xlpm.su=\"\",\"@@@@\",_xlfn.TEXTSPLIT(_xlpm.su,\" / \")),_xlpm.fi,MATCH(_xlpm.suu,Tabelle2!$C$1:$C$500,0),_xlpm.fi&_xlpm.suu)","v":{"$error":"#N/A"}}]
[null,null,null,null,null,null,null,null,null,null,null,{"$f":"_xlfn.LET(_xlpm.su,L255,_xlpm.sp,MOD(COLUMN(),6),_xlpm.suu,IF(_xlpm.su=\"\",\"@@@@\",_xlfn.TEXTSPLIT(_xlpm.su,\" / \")),_xlpm.fi,MATCH(_xlpm.suu,Tabelle2!$C$1:$C$500,0),_xlpm.fi&_xlpm.suu)","v":{"$error":"#N/A"}}]
[null,null,null,null,null,null,null,null,null,null,null,{"$f":"_xlfn.LET(_xlpm.su,L256,_xlpm.sp,MOD(COLUMN(),6),_xlpm.suu,IF(_xlpm.su=\"\",\"@@@@\",_xlfn.TEXTSPLIT(_xlpm.su,\" / \")),_xlpm.fi,MATCH(_xlpm.suu,Tabelle2!$C$1:$C$500,0),_xlpm.fi&_xlpm.suu)","v":{"$error":"#N/A"}}]
[null,null,null,null,null,null,null,null,null,null,null,{"$f":"_xlfn.LET(_xlpm.su,L257,_xlpm.sp,MOD(COLUMN(),6),_xlpm.suu,IF(_xlpm.su=\"\",\"@@@@\",_xlfn.TEXTSPLIT(_xlpm.su,\" / \")),_xlpm.fi,MATCH(_xlpm.suu,Tabelle2!$C$1:$C$500,0),_xlpm.fi&_xlpm.suu)","v":{"$error":"#N/A"}}]
[null,null,null,null,null,null,null,null,null,null,null,{"$f":"_xlfn.LET(_xlpm.su,L258,_xlpm.sp,MOD(COLUMN(),6),_xlpm.suu,IF(_xlpm.su=\"\",\"@@@@\",_xlfn.TEXTSPLIT(_xlpm.su,\" / \")),_xlpm.fi,MATCH(_xlpm.suu,Tabelle2!$C$1:$C$500,0),_xlpm.fi&_xlpm.suu)","v":{"$error":"#N/A"}}]
[null,null,null,null,null,null,null,null,null,null,null,{"$f":"_xlfn.LET(_xlpm.su,L259,_xlpm.sp,MOD(COLUMN(),6),_xlpm.suu,IF(_xlpm.su=\"\",\"@@@@\",_xlfn.TEXTSPLIT(_xlpm.su,\" / \")),_xlpm.fi,MATCH(_xlpm.suu,Tabelle2!$C$1:$C$500,0),_xlpm.fi&_xlpm.suu)","v":{"$error":"#N/A"}}]
[null,null,null,null,null,null,null,null,null,null,null,{"$f":"_xlfn.LET(_xlpm.su,L260,_xlpm.sp,MOD(COLUMN(),6),_xlpm.suu,IF(_xlpm.su=\"\",\"@@@@\",_xlfn.TEXTSPLIT(_xlpm.su,\" / \")),_xlpm.fi,MATCH(_xlpm.suu,Tabelle2!$C$1:$C$500,0),IF(AND(_xlpm.fi>=239,_xlpm.fi<=500),_xlpm.fi&_xlpm.suu,0))","v":{"$error":"#N/A"}}]
[null,null,null,null,null,null,null,null,null,null,null,{"$f":"_xlfn.LET(_xlpm.su,L261,_xlpm.sp,MOD(COLUMN(),6),_xlpm.suu,IF(_xlpm.su=\"\",\"@@@@\",_xlfn.TEXTSPLIT(_xlpm.su,\" / \")),_xlpm.fi,MATCH(_xlpm.suu,Tabelle2!$C$1:$C$500,0),IF(AND(_xlpm.fi>=239,_xlpm.fi<=500),_xlpm.fi&_xlpm.suu,0))","v":{"$error":"#N/A"}}]
[null,null,null,null,null,null,null,null,null,null,null,{"$f":"_xlfn.LET(_xlpm.su,L262,_xlpm.sp,MOD(COLUMN(),6),_xlpm.suu,IF(_xlpm.su=\"\",\"@@@@\",_xlfn.TEXTSPLIT(_xlpm.su,\" / \")),_xlpm.fi,MATCH(_xlpm.suu,Tabelle2!$C$1:$C$500,0),IF(AND(_xlpm.fi>=239,_xlpm.fi<=500),_xlpm.fi&_xlpm.suu,0))","v":{"$error":"#N/A"}}]
[null,null,null,null,null,null,null,null,null,null,null,{"$f":"_xlfn.LET(_xlpm.su,L263,_xlpm.sp,MOD(COLUMN(),6),_xlpm.suu,IF(_xlpm.su=\"\",\"@@@@\",_xlfn.TEXTSPLIT(_xlpm.su,\" / \")),_xlpm.fi,MATCH(_xlpm.suu,Tabelle2!$C$1:$C$500,0),IF(AND(_xlpm.fi>=239,_xlpm.fi<=500),_xlpm.fi&_xlpm.suu,0))","v":{"$error":"#N/A"}}]
[null,null,null,null,null,null,null,null,null,null,null,{"$f":"_xlfn.LET(_xlpm.su,L264,_xlpm.sp,MOD(COLUMN(),6),_xlpm.suu,IF(_xlpm.su=\"\",\"@@@@\",_xlfn.TEXTSPLIT(_xlpm.su,\" / \")),_xlpm.fi,MATCH(_xlpm.suu,Tabelle2!$C$1:$C$500,0),IF(AND(_xlpm.fi>=239,_xlpm.fi<=500),_xlpm.fi&_xlpm.suu,0))","v":{"$error":"#N/A"}}]
[null,null,null,null,null,null,null,null,null,null,null,{"$f":"_xlfn.LET(_xlpm.su,L265,_xlpm.sp,MOD(COLUMN(),6),_xlpm.suu,IF(_xlpm.su=\"\",\"@@@@\",_xlfn.TEXTSPLIT(_xlpm.su,\" / \")),_xlpm.fi,MATCH(_xlpm.suu,Tabelle2!$C$1:$C$500,0),IF(AND(_xlpm.fi>=239,_xlpm.fi<=500),_xlpm.fi&_xlpm.suu,0))","v":{"$error":"#N/A"}}]
[null,null,null,null,null,null,null,null,null,null,null,{"$f":"_xlfn.LET(_xlpm.su,L266,_xlpm.sp,MOD(COLUMN(),6),_xlpm.suu,IF(_xlpm.su=\"\",\"@@@@\",_xlfn.TEXTSPLIT(_xlpm.su,\" / \")),_xlpm.fi,MATCH(_xlpm.suu,Tabelle2!$C$1:$C$500,0),IF(AND(_xlpm.fi>=239,_xlpm.fi<=500),_xlpm.fi&_xlpm.suu,0))","v":{"$error":"#N/A"}}]
[null,null,null,null,null,null,null,null,null,null,null,{"$f":"_xlfn.LET(_xlpm.su,L267,_xlpm.sp,MOD(COLUMN(),6),_xlpm.suu,IF(_xlpm.su=\"\",\"@@@@\",_xlfn.TEXTSPLIT(_xlpm.su,\" / \")),_xlpm.fi,MATCH(_xlpm.suu,Tabelle2!$C$1:$C$500,0),IF(AND(_xlpm.fi>=239,_xlpm.fi<=500),_xlpm.fi&_xlpm.suu,0))","v":{"$error":"#N/A"}}]
[null,null,null,null,null,null,null,null,null,null,null,{"$f":"_xlfn.LET(_xlpm.su,L268,_xlpm.sp,MOD(COLUMN(),6),_xlpm.suu,IF(_xlpm.su=\"\",\"@@@@\",_xlfn.TEXTSPLIT(_xlpm.su,\" / \")),_xlpm.fi,MATCH(_xlpm.suu,Tabelle2!$C$1:$C$500,0),IF(AND(_xlpm.fi>=239,_xlpm.fi<=500),_xlpm.fi&_xlpm.suu,0))","v":{"$error":"#N/A"}}]
[null,null,null,null,null,null,null,null,null,null,null,{"$f":"_xlfn.LET(_xlpm.su,L269,_xlpm.sp,MOD(COLUMN(),6),_xlpm.suu,IF(_xlpm.su=\"\",\"@@@@\",_xlfn.TEXTSPLIT(_xlpm.su,\" / \")),_xlpm.fi,MATCH(_xlpm.suu,Tabelle2!$C$1:$C$500,0),IF(AND(_xlpm.fi>=239,_xlpm.fi<=500),_xlpm.fi&_xlpm.suu,0))","v":{"$error":"#N/A"}}]
[null,null,null,null,null,null,null,null,null,null,null,{"$f":"_xlfn.LET(_xlpm.su,L270,_xlpm.sp,MOD(COLUMN(),6),_xlpm.suu,IF(_xlpm.su=\"\",\"@@@@\",_xlfn.TEXTSPLIT(_xlpm.su,\" / \")),_xlpm.fi,MATCH(_xlpm.suu,Tabelle2!$C$1:$C$500,0),IF(AND(_xlpm.fi>=239,_xlpm.fi<=500),_xlpm.fi&_xlpm.suu,0))","v":{"$error":"#N/A"}}]
[null,null,null,null,null,null,null,null,null,null,null,{"$f":"_xlfn.LET(_xlpm.su,L271,_xlpm.sp,MOD(COLUMN(),6),_xlpm.suu,IF(_xlpm.su=\"\",\"@@@@\",_xlfn.TEXTSPLIT(_xlpm.su,\" / \")),_xlpm.fi,MATCH(_xlpm.suu,Tabelle2!$C$1:$C$500,0),IF(AND(_xlpm.fi>=239,_xlpm.fi<=500),_xlpm.fi&_xlpm.suu,0))","v":{"$error":"#N/A"}}]
[null,null,null,null,null,null,null,null,null,null,null,{"$f":"_xlfn.LET(_xlpm.su,L272,_xlpm.sp,MOD(COLUMN(),6),_xlpm.suu,IF(_xlpm.su=\"\",\"@@@@\",_xlfn.TEXTSPLIT(_xlpm.su,\" / \")),_xlpm.fi,MATCH(_xlpm.suu,Tabelle2!$C$1:$C$500,0),IF(AND(_xlpm.fi>=239,_xlpm.fi<=500),_xlpm.fi&_xlpm.suu,0))","v":{"$error":"#N/A"}}]
[null,null,null,null,null,null,null,null,null,null,null,{"$f":"_xlfn.LET(_xlpm.su,L273,_xlpm.sp,MOD(COLUMN(),6),_xlpm.suu,IF(_xlpm.su=\"\",\"@@@@\",_xlfn.TEXTSPLIT(_xlpm.su,\" / \")),_xlpm.fi,MATCH(_xlpm.suu,Tabelle2!$C$1:$C$500,0),IF(AND(_xlpm.fi>=239,_xlpm.fi<=500),_xlpm.fi&_xlpm.suu,0))","v":{"$error":"#N/A"}}]
[null,null,null,null,null,null,null,null,null,null,null,{"$f":"_xlfn.LET(_xlpm.su,L274,_xlpm.sp,MOD(COLUMN(),6),_xlpm.suu,IF(_xlpm.su=\"\",\"@@@@\",_xlfn.TEXTSPLIT(_xlpm.su,\" / \")),_xlpm.fi,MATCH(_xlpm.suu,Tabelle2!$C$1:$C$500,0),IF(AND(_xlpm.fi>=239,_xlpm.fi<=500),_xlpm.fi&_xlpm.suu,0))","v":{"$error":"#N/A"}}]
[null,null,null,null,null,null,null,null,null,null,null,{"$f":"_xlfn.LET(_xlpm.su,L275,_xlpm.sp,MOD(COLUMN(),6),_xlpm.suu,IF(_xlpm.su=\"\",\"@@@@\",_xlfn.TEXTSPLIT(_xlpm.su,\" / \")),_xlpm.fi,MATCH(_xlpm.suu,Tabelle2!$C$1:$C$500,0),IF(AND(_xlpm.fi>=239,_xlpm.fi<=500),_xlpm.fi&_xlpm.suu,0))","v":{"$error":"#N/A"}}]
[null,null,null,null,null,null,null,null,null,null,null,{"$f":"_xlfn.LET(_xlpm.su,L276,_xlpm.sp,MOD(COLUMN(),6),_xlpm.suu,IF(_xlpm.su=\"\",\"@@@@\",_xlfn.TEXTSPLIT(_xlpm.su,\" / \")),_xlpm.fi,MATCH(_xlpm.suu,Tabelle2!$C$1:$C$500,0),IF(AND(_xlpm.fi>=239,_xlpm.fi<=500),_xlpm.fi&_xlpm.suu,0))","v":{"$error":"#N/A"}}]
[null,null,null,null,null,null,null,null,null,null,null,{"$f":"_xlfn.LET(_xlpm.su,L277,_xlpm.sp,MOD(COLUMN(),6),_xlpm.suu,IF(_xlpm.su=\"\",\"@@@@\",_xlfn.TEXTSPLIT(_xlpm.su,\" / \")),_xlpm.fi,MATCH(_xlpm.suu,Tabelle2!$C$1:$C$500,0),IF(AND(_xlpm.fi>=239,_xlpm.fi<=500),_xlpm.fi&_xlpm.suu,0))","v":{"$error":"#N/A"}}]
[null,null,null,null,null,null,null,null,null,null,null,{"$f":"_xlfn.LET(_xlpm.su,L278,_xlpm.sp,MOD(COLUMN(),6),_xlpm.suu,IF(_xlpm.su=\"\",\"@@@@\",_xlfn.TEXTSPLIT(_xlpm.su,\" / \")),_xlpm.fi,MATCH(_xlpm.suu,Tabelle2!$C$1:$C$500,0),IF(AND(_xlpm.fi>=239,_xlpm.fi<=500),_xlpm.fi&_xlpm.suu,0))","v":{"$error":"#N/A"}}]
[null,null,null,null,null,null,null,null,null,null,null,{"$f":"_xlfn.LET(_xlpm.su,L279,_xlpm.sp,MOD(COLUMN(),6),_xlpm.suu,IF(_xlpm.su=\"\",\"@@@@\",_xlfn.TEXTSPLIT(_xlpm.su,\" / \")),_xlpm.fi,MATCH(_xlpm.suu,Tabelle2!$C$1:$C$500,0),IF(AND(_xlpm.fi>=239,_xlpm.fi<=500),_xlpm.fi&_xlpm.suu,0))","v":{"$error":"#N/A"}}]
[null,null,null,null,null,null,null,null,null,null,null,{"$f":"_xlfn.LET(_xlpm.su,L280,_xlpm.sp,MOD(COLUMN(),6),_xlpm.suu,IF(_xlpm.su=\"\",\"@@@@\",_xlfn.TEXTSPLIT(_xlpm.su,\" / \")),_xlpm.fi,MATCH(_xlpm.suu,Tabelle2!$C$1:$C$500,0),IF(AND(_xlpm.fi>=239,_xlpm.fi<=500),_xlpm.fi&_xlpm.suu,0))","v":{"$error":"#N/A"}}]
[null,null,null,null,null,null,null,null,null,null,null,{"$f":"_xlfn.LET(_xlpm.su,L281,_xlpm.sp,MOD(COLUMN(),6),_xlpm.suu,IF(_xlpm.su=\"\",\"@@@@\",_xlfn.TEXTSPLIT(_xlpm.su,\" / \")),_xlpm.fi,MATCH(_xlpm.suu,Tabelle2!$C$1:$C$500,0),IF(AND(_xlpm.fi>=239,_xlpm.fi<=500),_xlpm.fi&_xlpm.suu,0))","v":{"$error":"#N/A"}}]
[null,null,null,null,null,null,null,null,null,null,null,{"$f":"_xlfn.LET(_xlpm.su,L282,_xlpm.sp,MOD(COLUMN(),6),_xlpm.suu,IF(_xlpm.su=\"\",\"@@@@\",_xlfn.TEXTSPLIT(_xlpm.su,\" / \")),_xlpm.fi,MATCH(_xlpm.suu,Tabelle2!$C$1:$C$500,0),IF(AND(_xlpm.fi>=239,_xlpm.fi<=500),_xlpm.fi&_xlpm.suu,0))","v":{"$error":"#N/A"}}]
[null,null,null,null,null,null,null,null,null,null,null,{"$f":"_xlfn.LET(_xlpm.su,L283,_xlpm.sp,MOD(COLUMN(),6),_xlpm.suu,IF(_xlpm.su=\"\",\"@@@@\",_xlfn.TEXTSPLIT(_xlpm.su,\" / \")),_xlpm.fi,MATCH(_xlpm.suu,Tabelle2!$C$1:$C$500,0),IF(AND(_xlpm.fi>=239,_xlpm.fi<=500),_xlpm.fi&_xlpm.suu,0))","v":{"$error":"#N/A"}}]
[null,null,null,null,null,null,null,null,null,null,null,{"$f":"_xlfn.LET(_xlpm.su,L284,_xlpm.sp,MOD(COLUMN(),6),_xlpm.suu,IF(_xlpm.su=\"\",\"@@@@\",_xlfn.TEXTSPLIT(_xlpm.su,\" / \")),_xlpm.fi,MATCH(_xlpm.suu,Tabelle2!$C$1:$C$500,0),IF(AND(_xlpm.fi>=239,_xlpm.fi<=500),_xlpm.fi&_xlpm.suu,0))","v":{"$error":"#N/A"}}]
[null,null,null,null,null,null,null,null,null,null,null,{"$f":"_xlfn.LET(_xlpm.su,L285,_xlpm.sp,MOD(COLUMN(),6),_xlpm.suu,IF(_xlpm.su=\"\",\"@@@@\",_xlfn.TEXTSPLIT(_xlpm.su,\" / \")),_xlpm.fi,MATCH(_xlpm.suu,Tabelle2!$C$1:$C$500,0),IF(AND(_xlpm.fi>=239,_xlpm.fi<=500),_xlpm.fi&_xlpm.suu,0))","v":{"$error":"#N/A"}}]
[null,null,null,null,null,null,null,null,null,null,null,{"$f":"_xlfn.LET(_xlpm.su,L286,_xlpm.sp,MOD(COLUMN(),6),_xlpm.suu,IF(_xlpm.su=\"\",\"@@@@\",_xlfn.TEXTSPLIT(_xlpm.su,\" / \")),_xlpm.fi,MATCH(_xlpm.suu,Tabelle2!$C$1:$C$500,0),IF(AND(_xlpm.fi>=239,_xlpm.fi<=500),_xlpm.fi&_xlpm.suu,0))","v":{"$error":"#N/A"}}]
[null,null,null,null,null,null,null,null,null,null,null,{"$f":"_xlfn.LET(_xlpm.su,L287,_xlpm.sp,MOD(COLUMN(),6),_xlpm.suu,IF(_xlpm.su=\"\",\"@@@@\",_xlfn.TEXTSPLIT(_xlpm.su,\" / \")),_xlpm.fi,MATCH(_xlpm.suu,Tabelle2!$C$1:$C$500,0),IF(AND(_xlpm.fi>=239,_xlpm.fi<=500),_xlpm.fi&_xlpm.suu,0))","v":{"$error":"#N/A"}}]
[null,null,null,null,null,null,null,null,null,null,null,{"$f":"_xlfn.LET(_xlpm.su,L288,_xlpm.sp,MOD(COLUMN(),6),_xlpm.suu,IF(_xlpm.su=\"\",\"@@@@\",_xlfn.TEXTSPLIT(_xlpm.su,\" / \")),_xlpm.fi,MATCH(_xlpm.suu,Tabelle2!$C$1:$C$500,0),IF(AND(_xlpm.fi>=239,_xlpm.fi<=500),_xlpm.fi&_xlpm.suu,0))","v":{"$error":"#N/A"}}]
[null,null,null,null,null,null,null,null,null,null,null,{"$f":"_xlfn.LET(_xlpm.su,L289,_xlpm.sp,MOD(COLUMN(),6),_xlpm.suu,IF(_xlpm.su=\"\",\"@@@@\",_xlfn.TEXTSPLIT(_xlpm.su,\" / \")),_xlpm.fi,MATCH(_xlpm.suu,Tabelle2!$C$1:$C$500,0),IF(AND(_xlpm.fi>=239,_xlpm.fi<=500),_xlpm.fi&_xlpm.suu,0))","v":{"$error":"#N/A"}}]
[null,null,null,null,null,null,null,null,null,null,null,{"$f":"_xlfn.LET(_xlpm.su,L290,_xlpm.sp,MOD(COLUMN(),6),_xlpm.suu,IF(_xlpm.su=\"\",\"@@@@\",_xlfn.TEXTSPLIT(_xlpm.su,\" / \")),_xlpm.fi,MATCH(_xlpm.suu,Tabelle2!$C$1:$C$500,0),IF(AND(_xlpm.fi>=239,_xlpm.fi<=500),_xlpm.fi&_xlpm.suu,0))","v":{"$error":"#N/A"}}]
[null,null,null,null,null,null,null,null,null,null,null,{"$f":"_xlfn.LET(_xlpm.su,L291,_xlpm.sp,MOD(COLUMN(),6),_xlpm.suu,IF(_xlpm.su=\"\",\"@@@@\",_xlfn.TEXTSPLIT(_xlpm.su,\" / \")),_xlpm.fi,MATCH(_xlpm.suu,Tabelle2!$C$1:$C$500,0),IF(AND(_xlpm.fi>=239,_xlpm.fi<=500),_xlpm.fi&_xlpm.suu,0))","v":{"$error":"#N/A"}}]
[null,null,null,null,null,null,null,null,null,null,null,{"$f":"_xlfn.LET(_xlpm.su,L292,_xlpm.sp,MOD(COLUMN(),6),_xlpm.suu,IF(_xlpm.su=\"\",\"@@@@\",_xlfn.TEXTSPLIT(_xlpm.su,\" / \")),_xlpm.fi,MATCH(_xlpm.suu,Tabelle2!$C$1:$C$500,0),IF(AND(_xlpm.fi>=239,_xlpm.fi<=500),_xlpm.fi&_xlpm.suu,0))","v":{"$error":"#N/A"}}]
[null,null,null,null,null,null,null,null,null,null,null,{"$f":"_xlfn.LET(_xlpm.su,L293,_xlpm.sp,MOD(COLUMN(),6),_xlpm.suu,IF(_xlpm.su=\"\",\"@@@@\",_xlfn.TEXTSPLIT(_xlpm.su,\" / \")),_xlpm.fi,MATCH(_xlpm.suu,Tabelle2!$C$1:$C$500,0),IF(AND(_xlpm.fi>=239,_xlpm.fi<=500),_xlpm.fi&_xlpm.suu,0))","v":{"$error":"#N/A"}}]
[null,null,null,null,null,null,null,null,null,null,null,{"$f":"_xlfn.LET(_xlpm.su,L294,_xlpm.sp,MOD(COLUMN(),6),_xlpm.suu,IF(_xlpm.su=\"\",\"@@@@\",_xlfn.TEXTSPLIT(_xlpm.su,\" / \")),_xlpm.fi,MATCH(_xlpm.suu,Tabelle2!$C$1:$C$500,0),IF(AND(_xlpm.fi>=239,_xlpm.fi<=500),_xlpm.fi&_xlpm.suu,0))","v":{"$error":"#N/A"}}]
[null,null,null,null,null,null,null,null,null,null,null,{"$f":"_xlfn.LET(_xlpm.su,L295,_xlpm.sp,MOD(COLUMN(),6),_xlpm.suu,IF(_xlpm.su=\"\",\"@@@@\",_xlfn.TEXTSPLIT(_xlpm.su,\" / \")),_xlpm.fi,MATCH(_xlpm.suu,Tabelle2!$C$1:$C$500,0),IF(AND(_xlpm.fi>=239,_xlpm.fi<=500),_xlpm.fi&_xlpm.suu,0))","v":{"$error":"#N/A"}}]
[null,null,null,null,null,null,null,null,null,null,null,{"$f":"_xlfn.LET(_xlpm.su,L296,_xlpm.sp,MOD(COLUMN(),6),_xlpm.suu,IF(_xlpm.su=\"\",\"@@@@\",_xlfn.TEXTSPLIT(_xlpm.su,\" / \")),_xlpm.fi,MATCH(_xlpm.suu,Tabelle2!$C$1:$C$500,0),IF(AND(_xlpm.fi>=239,_xlpm.fi<=500),_xlpm.fi&_xlpm.suu,0))","v":{"$error":"#N/A"}}]
[null,null,null,null,null,null,null,null,null,null,null,{"$f":"_xlfn.LET(_xlpm.su,L297,_xlpm.sp,MOD(COLUMN(),6),_xlpm.suu,IF(_xlpm.su=\"\",\"@@@@\",_xlfn.TEXTSPLIT(_xlpm.su,\" / \")),_xlpm.fi,MATCH(_xlpm.suu,Tabelle2!$C$1:$C$500,0),IF(AND(_xlpm.fi>=239,_xlpm.fi<=500),_xlpm.fi&_xlpm.suu,0))","v":{"$error":"#N/A"}}]
[null,null,null,null,null,null,null,null,null,null,null,{"$f":"_xlfn.LET(_xlpm.su,L298,_xlpm.sp,MOD(COLUMN(),6),_xlpm.suu,IF(_xlpm.su=\"\",\"@@@@\",_xlfn.TEXTSPLIT(_xlpm.su,\" / \")),_xlpm.fi,MATCH(_xlpm.suu,Tabelle2!$C$1:$C$500,0),IF(AND(_xlpm.fi>=239,_xlpm.fi<=500),_xlpm.fi&_xlpm.suu,0))","v":{"$error":"#N/A"}}]
[null,null,null,null,null,null,null,null,null,null,null,{"$f":"_xlfn.LET(_xlpm.su,L299,_xlpm.sp,MOD(COLUMN(),6),_xlpm.suu,IF(_xlpm.su=\"\",\"@@@@\",_xlfn.TEXTSPLIT(_xlpm.su,\" / \")),_xlpm.fi,MATCH(_xlpm.suu,Tabelle2!$C$1:$C$500,0),IF(AND(_xlpm.fi>=239,_xlpm.fi<=500),_xlpm.fi&_xlpm.suu,0))","v":{"$error":"#N/A"}}]
[null,null,null,null,null,null,null,null,null,null,null,{"$f":"_xlfn.LET(_xlpm.su,L300,_xlpm.sp,MOD(COLUMN(),6),_xlpm.suu,IF(_xlpm.su=\"\",\"@@@@\",_xlfn.TEXTSPLIT(_xlpm.su,\" / \")),_xlpm.fi,MATCH(_xlpm.suu,Tabelle2!$C$1:$C$500,0),IF(AND(_xlpm.fi>=239,_xlpm.fi<=500),_xlpm.fi&_xlpm.suu,0))","v":{"$error":"#N/A"}}]
[null,null,null,null,null,null,null,null,null,null,null,{"$f":"_xlfn.LET(_xlpm.su,L301,_xlpm.sp,MOD(COLUMN(),6),_xlpm.suu,IF(_xlpm.su=\"\",\"@@@@\",_xlfn.TEXTSPLIT(_xlpm.su,\" / \")),_xlpm.fi,MATCH(_xlpm.suu,Tabelle2!$C$1:$C$500,0),IF(AND(_xlpm.fi>=239,_xlpm.fi<=500),_xlpm.fi&_xlpm.suu,0))","v":{"$error":"#N/A"}}]
[null,null,null,null,null,null,null,null,null,null,null,{"$f":"_xlfn.LET(_xlpm.su,L302,_xlpm.sp,MOD(COLUMN(),6),_xlpm.suu,IF(_xlpm.su=\"\",\"@@@@\",_xlfn.TEXTSPLIT(_xlpm.su,\" / \")),_xlpm.fi,MATCH(_xlpm.suu,Tabelle2!$C$1:$C$500,0),IF(AND(_xlpm.fi>=239,_xlpm.fi<=500),_xlpm.fi&_xlpm.suu,0))","v":{"$error":"#N/A"}}]
[null,null,null,null,null,null,null,null,null,null,null,{"$f":"_xlfn.LET(_xlpm.su,L303,_xlpm.sp,MOD(COLUMN(),6),_xlpm.suu,IF(_xlpm.su=\"\",\"@@@@\",_xlfn.TEXTSPLIT(_xlpm.su,\" / \")),_xlpm.fi,MATCH(_xlpm.suu,Tabelle2!$C$1:$C$500,0),IF(AND(_xlpm.fi>=239,_xlpm.fi<=500),_xlpm.fi&_xlpm.suu,0))","v":{"$error":"#N/A"}}]
[null,null,null,null,null,null,null,null,null,null,null,{"$f":"_xlfn.LET(_xlpm.su,L304,_xlpm.sp,MOD(COLUMN(),6),_xlpm.suu,IF(_xlpm.su=\"\",\"@@@@\",_xlfn.TEXTSPLIT(_xlpm.su,\" / \")),_xlpm.fi,MATCH(_xlpm.suu,Tabelle2!$C$1:$C$500,0),IF(AND(_xlpm.fi>=239,_xlpm.fi<=500),_xlpm.fi&_xlpm.suu,0))","v":{"$error":"#N/A"}}]
[null,null,null,null,null,null,null,null,null,null,null,{"$f":"_xlfn.LET(_xlpm.su,L305,_xlpm.sp,MOD(COLUMN(),6),_xlpm.suu,IF(_xlpm.su=\"\",\"@@@@\",_xlfn.TEXTSPLIT(_xlpm.su,\" / \")),_xlpm.fi,MATCH(_xlpm.suu,Tabelle2!$C$1:$C$500,0),IF(AND(_xlpm.fi>=239,_xlpm.fi<=500),_xlpm.fi&_xlpm.suu,0))","v":{"$error":"#N/A"}}]
[null,null,null,null,null,null,null,null,null,null,null,{"$f":"_xlfn.LET(_xlpm.su,L306,_xlpm.sp,MOD(COLUMN(),6),_xlpm.suu,IF(_xlpm.su=\"\",\"@@@@\",_xlfn.TEXTSPLIT(_xlpm.su,\" / \")),_xlpm.fi,MATCH(_xlpm.suu,Tabelle2!$C$1:$C$500,0),IF(AND(_xlpm.fi>=239,_xlpm.fi<=500),_xlpm.fi&_xlpm.suu,0))","v":{"$error":"#N/A"}}]
[null,null,null,null,null,null,null,null,null,null,null,{"$f":"_xlfn.LET(_xlpm.su,L307,_xlpm.sp,MOD(COLUMN(),6),_xlpm.suu,IF(_xlpm.su=\"\",\"@@@@\",_xlfn.TEXTSPLIT(_xlpm.su,\" / \")),_xlpm.fi,MATCH(_xlpm.suu,Tabelle2!$C$1:$C$500,0),IF(AND(_xlpm.fi>=239,_xlpm.fi<=500),_xlpm.fi&_xlpm.suu,0))","v":{"$error":"#N/A"}}]
[null,null,null,null,null,null,null,null,null,null,null,{"$f":"_xlfn.LET(_xlpm.su,L308,_xlpm.sp,MOD(COLUMN(),6),_xlpm.suu,IF(_xlpm.su=\"\",\"@@@@\",_xlfn.TEXTSPLIT(_xlpm.su,\" / \")),_xlpm.fi,MATCH(_xlpm.suu,Tabelle2!$C$1:$C$500,0),IF(AND(_xlpm.fi>=239,_xlpm.fi<=500),_xlpm.fi&_xlpm.suu,0))","v":{"$error":"#N/A"}}]
[null,null,null,null,null,null,null,null,null,null,null,{"$f":"_xlfn.LET(_xlpm.su,L309,_xlpm.sp,MOD(COLUMN(),6),_xlpm.suu,IF(_xlpm.su=\"\",\"@@@@\",_xlfn.TEXTSPLIT(_xlpm.su,\" / \")),_xlpm.fi,MATCH(_xlpm.suu,Tabelle2!$C$1:$C$500,0),IF(AND(_xlpm.fi>=239,_xlpm.fi<=500),_xlpm.fi,0))","v":{"$error":"#N/A"}}]
[null,null,null,null,null,null,null,null,null,null,null,{"$f":"_xlfn.LET(_xlpm.su,L310,_xlpm.sp,MOD(COLUMN(),6),_xlpm.suu,IF(_xlpm.su=\"\",\"@@@@\",_xlfn.TEXTSPLIT(_xlpm.su,\" / \")),_xlpm.fi,MATCH(_xlpm.suu,Tabelle2!$C$1:$C$500,0),IF(AND(_xlpm.fi>=239,_xlpm.fi<=500),_xlpm.fi,0))","v":{"$error":"#N/A"}}]
[null,null,null,null,null,null,null,null,null,null,null,{"$f":"_xlfn.LET(_xlpm.su,L311,_xlpm.sp,MOD(COLUMN(),6),_xlpm.suu,IF(_xlpm.su=\"\",\"@@@@\",_xlfn.TEXTSPLIT(_xlpm.su,\" / \")),_xlpm.fi,MATCH(_xlpm.suu,Tabelle2!$C$1:$C$500,0),IF(AND(_xlpm.fi>=239,_xlpm.fi<=500),_xlpm.fi,0))","v":{"$error":"#N/A"}}]
[null,null,null,null,null,null,null,null,null,null,null,{"$f":"_xlfn.LET(_xlpm.su,L312,_xlpm.sp,MOD(COLUMN(),6),_xlpm.suu,IF(_xlpm.su=\"\",\"@@@@\",_xlfn.TEXTSPLIT(_xlpm.su,\" / \")),_xlpm.fi,MATCH(_xlpm.suu,Tabelle2!$C$1:$C$500,0),IF(AND(_xlpm.fi>=239,_xlpm.fi<=500),_xlpm.fi,0))","v":{"$error":"#N/A"}}]
[null,null,null,null,null,null,null,null,null,null,null,{"$f":"_xlfn.LET(_xlpm.su,L313,_xlpm.sp,MOD(COLUMN(),6),_xlpm.suu,IF(_xlpm.su=\"\",\"@@@@\",_xlfn.TEXTSPLIT(_xlpm.su,\" / \")),_xlpm.fi,MATCH(_xlpm.suu,Tabelle2!$C$1:$C$500,0),IF(AND(_xlpm.fi>=239,_xlpm.fi<=500),_xlpm.fi,0))","v":{"$error":"#N/A"}}]
[null,null,null,null,null,null,null,null,null,null,null,{"$f":"_xlfn.LET(_xlpm.su,L314,_xlpm.sp,MOD(COLUMN(),6),_xlpm.suu,IF(_xlpm.su=\"\",\"@@@@\",_xlfn.TEXTSPLIT(_xlpm.su,\" / \")),_xlpm.fi,MATCH(_xlpm.suu,Tabelle2!$C$1:$C$500,0),IF(AND(_xlpm.fi>=239,_xlpm.fi<=500),_xlpm.fi,0))","v":{"$error":"#N/A"}}]
[null,null,null,null,null,null,null,null,null,null,null,{"$f":"_xlfn.LET(_xlpm.su,L315,_xlpm.sp,MOD(COLUMN(),6),_xlpm.suu,IF(_xlpm.su=\"\",\"@@@@\",_xlfn.TEXTSPLIT(_xlpm.su,\" / \")),_xlpm.fi,MATCH(_xlpm.suu,Tabelle2!$C$1:$C$500,0),IF(AND(_xlpm.fi>=239,_xlpm.fi<=500),_xlpm.fi,0))","v":{"$error":"#N/A"}}]
[null,null,null,null,null,null,null,null,null,null,null,{"$f":"_xlfn.LET(_xlpm.su,L316,_xlpm.sp,MOD(COLUMN(),6),_xlpm.suu,IF(_xlpm.su=\"\",\"@@@@\",_xlfn.TEXTSPLIT(_xlpm.su,\" / \")),_xlpm.fi,MATCH(_xlpm.suu,Tabelle2!$C$1:$C$500,0),IF(AND(_xlpm.fi>=239,_xlpm.fi<=500),_xlpm.fi,0))","v":{"$error":"#N/A"}}]
[null,null,null,null,null,null,null,null,null,null,null,{"$f":"_xlfn.LET(_xlpm.su,L317,_xlpm.sp,MOD(COLUMN(),6),_xlpm.suu,IF(_xlpm.su=\"\",\"@@@@\",_xlfn.TEXTSPLIT(_xlpm.su,\" / \")),_xlpm.fi,MATCH(_xlpm.suu,Tabelle2!$C$1:$C$500,0),IF(AND(_xlpm.fi>=239,_xlpm.fi<=500),_xlpm.fi,0))","v":{"$error":"#N/A"}}]
[null,null,null,null,null,null,null,null,null,null,null,{"$f":"_xlfn.LET(_xlpm.su,L318,_xlpm.sp,MOD(COLUMN(),6),_xlpm.suu,IF(_xlpm.su=\"\",\"@@@@\",_xlfn.TEXTSPLIT(_xlpm.su,\" / \")),_xlpm.fi,MATCH(_xlpm.suu,Tabelle2!$C$1:$C$500,0),IF(AND(_xlpm.fi>=239,_xlpm.fi<=500),_xlpm.fi,0))","v":{"$error":"#N/A"}}]
[null,null,null,null,null,null,null,null,null,null,null,{"$f":"_xlfn.LET(_xlpm.su,L319,_xlpm.sp,MOD(COLUMN(),6),_xlpm.suu,IF(_xlpm.su=\"\",\"@@@@\",_xlfn.TEXTSPLIT(_xlpm.su,\" / \")),_xlpm.fi,MATCH(_xlpm.suu,Tabelle2!$C$1:$C$500,0),IF(AND(_xlpm.fi>=239,_xlpm.fi<=500),_xlpm.fi,0))","v":{"$error":"#N/A"}}]
[null,null,null,null,null,null,null,null,null,null,null,{"$f":"_xlfn.LET(_xlpm.su,L320,_xlpm.sp,MOD(COLUMN(),6),_xlpm.suu,IF(_xlpm.su=\"\",\"@@@@\",_xlfn.TEXTSPLIT(_xlpm.su,\" / \")),_xlpm.fi,MATCH(_xlpm.suu,Tabelle2!$C$1:$C$500,0),IF(AND(_xlpm.fi>=239,_xlpm.fi<=500),_xlpm.fi,0))","v":{"$error":"#N/A"}}]
[null,null,null,null,null,null,null,null,null,null,null,{"$f":"_xlfn.LET(_xlpm.su,L321,_xlpm.sp,MOD(COLUMN(),6),_xlpm.suu,IF(_xlpm.su=\"\",\"@@@@\",_xlfn.TEXTSPLIT(_xlpm.su,\" / \")),_xlpm.fi,MATCH(_xlpm.suu,Tabelle2!$C$1:$C$500,0),IF(AND(_xlpm.fi>=239,_xlpm.fi<=500),_xlpm.fi,0))","v":{"$error":"#N/A"}}]
[null,null,null,null,null,null,null,null,null,null,null,{"$f":"_xlfn.LET(_xlpm.su,L322,_xlpm.sp,MOD(COLUMN(),6),_xlpm.suu,IF(_xlpm.su=\"\",\"@@@@\",_xlfn.TEXTSPLIT(_xlpm.su,\" / \")),_xlpm.fi,MATCH(_xlpm.suu,Tabelle2!$C$1:$C$500,0),IF(AND(_xlpm.fi>=239,_xlpm.fi<=500),_xlpm.fi,0))","v":{"$error":"#N/A"}}]
[null,null,null,null,null,null,null,null,null,null,null,{"$f":"_xlfn.LET(_xlpm.su,L323,_xlpm.sp,MOD(COLUMN(),6),_xlpm.suu,IF(_xlpm.su=\"\",\"@@@@\",_xlfn.TEXTSPLIT(_xlpm.su,\" / \")),_xlpm.fi,MATCH(_xlpm.suu,Tabelle2!$C$1:$C$500,0),IF(AND(_xlpm.fi>=239,_xlpm.fi<=500),_xlpm.fi,0))","v":{"$error":"#N/A"}}]
[null,null,null,null,null,null,null,null,null,null,null,{"$f":"_xlfn.LET(_xlpm.su,L324,_xlpm.sp,MOD(COLUMN(),6),_xlpm.suu,IF(_xlpm.su=\"\",\"@@@@\",_xlfn.TEXTSPLIT(_xlpm.su,\" / \")),_xlpm.fi,MATCH(_xlpm.suu,Tabelle2!$C$1:$C$500,0),IF(AND(_xlpm.fi>=239,_xlpm.fi<=500),_xlpm.fi,0))","v":{"$error":"#N/A"}}]
[null,null,null,null,null,null,null,null,null,null,null,{"$f":"_xlfn.LET(_xlpm.su,L325,_xlpm.sp,MOD(COLUMN(),6),_xlpm.suu,IF(_xlpm.su=\"\",\"@@@@\",_xlfn.TEXTSPLIT(_xlpm.su,\" / \")),_xlpm.fi,MATCH(_xlpm.suu,Tabelle2!$C$1:$C$500,0),IF(AND(_xlpm.fi>=239,_xlpm.fi<=500),_xlpm.fi,0))","v":{"$error":"#N/A"}}]
[null,null,null,null,null,null,null,null,null,null,null,{"$f":"_xlfn.LET(_xlpm.su,L326,_xlpm.sp,MOD(COLUMN(),6),_xlpm.suu,IF(_xlpm.su=\"\",\"@@@@\",_xlfn.TEXTSPLIT(_xlpm.su,\" / \")),_xlpm.fi,MATCH(_xlpm.suu,Tabelle2!$C$1:$C$500,0),IF(AND(_xlpm.fi>=239,_xlpm.fi<=500),_xlpm.fi,0))","v":{"$error":"#N/A"}}]
[null,null,null,null,null,null,null,null,null,null,null,{"$f":"_xlfn.LET(_xlpm.su,L327,_xlpm.sp,MOD(COLUMN(),6),_xlpm.suu,IF(_xlpm.su=\"\",\"@@@@\",_xlfn.TEXTSPLIT(_xlpm.su,\" / \")),_xlpm.fi,MATCH(_xlpm.suu,Tabelle2!$C$1:$C$500,0),IF(AND(_xlpm.fi>=239,_xlpm.fi<=500),_xlpm.fi,0))","v":{"$error":"#N/A"}}]
[null,null,null,null,null,null,null,null,null,null,null,{"$f":"_xlfn.LET(_xlpm.su,L328,_xlpm.sp,MOD(COLUMN(),6),_xlpm.suu,IF(_xlpm.su=\"\",\"@@@@\",_xlfn.TEXTSPLIT(_xlpm.su,\" / \")),_xlpm.fi,MATCH(_xlpm.suu,Tabelle2!$C$1:$C$500,0),IF(AND(_xlpm.fi>=239,_xlpm.fi<=500),_xlpm.fi,0))","v":{"$error":"#N/A"}}]
[null,null,null,null,null,null,null,null,null,null,null,{"$f":"_xlfn.LET(_xlpm.su,L329,_xlpm.sp,MOD(COLUMN(),6),_xlpm.suu,IF(_xlpm.su=\"\",\"@@@@\",_xlfn.TEXTSPLIT(_xlpm.su,\" / \")),_xlpm.fi,MATCH(_xlpm.suu,Tabelle2!$C$1:$C$500,0),IF(AND(_xlpm.fi>=239,_xlpm.fi<=500),_xlpm.fi,0))","v":{"$error":"#N/A"}}]
[null,null,null,null,null,null,null,null,null,null,null,{"$f":"_xlfn.LET(_xlpm.su,L330,_xlpm.sp,MOD(COLUMN(),6),_xlpm.suu,IF(_xlpm.su=\"\",\"@@@@\",_xlfn.TEXTSPLIT(_xlpm.su,\" / \")),_xlpm.fi,MATCH(_xlpm.suu,Tabelle2!$C$1:$C$500,0),IF(AND(_xlpm.fi>=239,_xlpm.fi<=500),_xlpm.fi,0))","v":{"$error":"#N/A"}}]
[null,null,null,null,null,null,null,null,null,null,null,{"$f":"_xlfn.LET(_xlpm.su,L331,_xlpm.sp,MOD(COLUMN(),6),_xlpm.suu,IF(_xlpm.su=\"\",\"@@@@\",_xlfn.TEXTSPLIT(_xlpm.su,\" / \")),_xlpm.fi,MATCH(_xlpm.suu,Tabelle2!$C$1:$C$500,0),IF(AND(_xlpm.fi>=239,_xlpm.fi<=500),_xlpm.fi,0))","v":{"$error":"#N/A"}}]
[null,null,null,null,null,null,null,null,null,null,null,{"$f":"_xlfn.LET(_xlpm.su,L332,_xlpm.sp,MOD(COLUMN(),6),_xlpm.suu,IF(_xlpm.su=\"\",\"@@@@\",_xlfn.TEXTSPLIT(_xlpm.su,\" / \")),_xlpm.fi,MATCH(_xlpm.suu,Tabelle2!$C$1:$C$500,0),IF(AND(_xlpm.fi>=239,_xlpm.fi<=500),_xlpm.fi,0))","v":{"$error":"#N/A"}}]
[null,null,null,null,null,null,null,null,null,null,null,{"$f":"_xlfn.LET(_xlpm.su,L333,_xlpm.sp,MOD(COLUMN(),6),_xlpm.suu,IF(_xlpm.su=\"\",\"@@@@\",_xlfn.TEXTSPLIT(_xlpm.su,\" / \")),_xlpm.fi,MATCH(_xlpm.suu,Tabelle2!$C$1:$C$500,0),IF(AND(_xlpm.fi>=239,_xlpm.fi<=500),_xlpm.fi,0))","v":{"$error":"#N/A"}}]
[null,null,null,null,null,null,null,null,null,null,null,{"$f":"_xlfn.LET(_xlpm.su,L334,_xlpm.sp,MOD(COLUMN(),6),_xlpm.suu,IF(_xlpm.su=\"\",\"@@@@\",_xlfn.TEXTSPLIT(_xlpm.su,\" / \")),_xlpm.fi,MATCH(_xlpm.suu,Tabelle2!$C$1:$C$500,0),IF(AND(_xlpm.fi>=239,_xlpm.fi<=500),_xlpm.fi,0))","v":{"$error":"#N/A"}}]
[null,null,null,null,null,null,null,null,null,null,null,{"$f":"_xlfn.LET(_xlpm.su,L335,_xlpm.sp,MOD(COLUMN(),6),_xlpm.suu,IF(_xlpm.su=\"\",\"@@@@\",_xlfn.TEXTSPLIT(_xlpm.su,\" / \")),_xlpm.fi,MATCH(_xlpm.suu,Tabelle2!$C$1:$C$500,0),IF(AND(_xlpm.fi>=239,_xlpm.fi<=500),_xlpm.fi,0))","v":{"$error":"#N/A"}}]
[null,null,null,null,null,null,null,null,null,null,null,{"$f":"_xlfn.LET(_xlpm.su,L336,_xlpm.sp,MOD(COLUMN(),6),_xlpm.suu,IF(_xlpm.su=\"\",\"@@@@\",_xlfn.TEXTSPLIT(_xlpm.su,\" / \")),_xlpm.fi,MATCH(_xlpm.suu,Tabelle2!$C$1:$C$500,0),IF(AND(_xlpm.fi>=239,_xlpm.fi<=500),_xlpm.fi,0))","v":{"$error":"#N/A"}}]
[null,null,null,null,null,null,null,null,null,null,null,{"$f":"_xlfn.LET(_xlpm.su,L337,_xlpm.sp,MOD(COLUMN(),6),_xlpm.suu,IF(_xlpm.su=\"\",\"@@@@\",_xlfn.TEXTSPLIT(_xlpm.su,\" / \")),_xlpm.fi,MATCH(_xlpm.suu,Tabelle2!$C$1:$C$500,0),IF(AND(_xlpm.fi>=239,_xlpm.fi<=500),_xlpm.fi,0))","v":{"$error":"#N/A"}}]
[null,null,null,null,null,null,null,null,null,null,null,{"$f":"_xlfn.LET(_xlpm.su,L338,_xlpm.sp,MOD(COLUMN(),6),_xlpm.suu,IF(_xlpm.su=\"\",\"@@@@\",_xlfn.TEXTSPLIT(_xlpm.su,\" / \")),_xlpm.fi,MATCH(_xlpm.suu,Tabelle2!$C$1:$C$500,0),IF(AND(_xlpm.fi>=239,_xlpm.fi<=500),_xlpm.fi,0))","v":{"$error":"#N/A"}}]
[null,null,null,null,null,null,null,null,null,null,null,{"$f":"_xlfn.LET(_xlpm.su,L339,_xlpm.sp,MOD(COLUMN(),6),_xlpm.suu,IF(_xlpm.su=\"\",\"@@@@\",_xlfn.TEXTSPLIT(_xlpm.su,\" / \")),_xlpm.fi,MATCH(_xlpm.suu,Tabelle2!$C$1:$C$500,0),IF(AND(_xlpm.fi>=239,_xlpm.fi<=500),_xlpm.fi,0))","v":{"$error":"#N/A"}}]
[null,null,null,null,null,null,null,null,null,null,null,{"$f":"_xlfn.LET(_xlpm.su,L340,_xlpm.sp,MOD(COLUMN(),6),_xlpm.suu,IF(_xlpm.su=\"\",\"@@@@\",_xlfn.TEXTSPLIT(_xlpm.su,\" / \")),_xlpm.fi,MATCH(_xlpm.suu,Tabelle2!$C$1:$C$500,0),IF(AND(_xlpm.fi>=239,_xlpm.fi<=500),_xlpm.fi,0))","v":{"$error":"#N/A"}}]
[null,null,null,null,null,null,null,null,null,null,null,{"$f":"_xlfn.LET(_xlpm.su,L341,_xlpm.sp,MOD(COLUMN(),6),_xlpm.suu,IF(_xlpm.su=\"\",\"@@@@\",_xlfn.TEXTSPLIT(_xlpm.su,\" / \")),_xlpm.fi,MATCH(_xlpm.suu,Tabelle2!$C$1:$C$500,0),IF(AND(_xlpm.fi>=239,_xlpm.fi<=500),_xlpm.fi,0))","v":{"$error":"#N/A"}}]
[null,null,null,null,null,null,null,null,null,null,null,{"$f":"_xlfn.LET(_xlpm.su,L342,_xlpm.sp,MOD(COLUMN(),6),_xlpm.suu,IF(_xlpm.su=\"\",\"@@@@\",_xlfn.TEXTSPLIT(_xlpm.su,\" / \")),_xlpm.fi,MATCH(_xlpm.suu,Tabelle2!$C$1:$C$500,0),IF(AND(_xlpm.fi>=239,_xlpm.fi<=500),_xlpm.fi,0))","v":{"$error":"#N/A"}}]
[null,null,null,null,null,null,null,null,null,null,null,{"$f":"_xlfn.LET(_xlpm.su,L343,_xlpm.sp,MOD(COLUMN(),6),_xlpm.suu,IF(_xlpm.su=\"\",\"@@@@\",_xlfn.TEXTSPLIT(_xlpm.su,\" / \")),_xlpm.fi,MATCH(_xlpm.suu,Tabelle2!$C$1:$C$500,0),IF(AND(_xlpm.fi>=239,_xlpm.fi<=500),_xlpm.fi,0))","v":{"$error":"#N/A"}}]
[null,null,null,null,null,null,null,null,null,null,null,{"$f":"_xlfn.LET(_xlpm.su,L344,_xlpm.sp,MOD(COLUMN(),6),_xlpm.suu,IF(_xlpm.su=\"\",\"@@@@\",_xlfn.TEXTSPLIT(_xlpm.su,\" / \")),_xlpm.fi,MATCH(_xlpm.suu,Tabelle2!$C$1:$C$500,0),IF(AND(_xlpm.fi>=239,_xlpm.fi<=500),_xlpm.fi,0))","v":{"$error":"#N/A"}}]
[null,null,null,null,null,null,null,null,null,null,null,{"$f":"_xlfn.LET(_xlpm.su,L345,_xlpm.sp,MOD(COLUMN(),6),_xlpm.suu,IF(_xlpm.su=\"\",\"@@@@\",_xlfn.TEXTSPLIT(_xlpm.su,\" / \")),_xlpm.fi,MATCH(_xlpm.suu,Tabelle2!$C$1:$C$500,0),IF(AND(_xlpm.fi>=239,_xlpm.fi<=500),_xlpm.fi,0))","v":{"$error":"#N/A"}}]
[null,null,null,null,null,null,null,null,null,null,null,{"$f":"_xlfn.LET(_xlpm.su,L346,_xlpm.sp,MOD(COLUMN(),6),_xlpm.suu,IF(_xlpm.su=\"\",\"@@@@\",_xlfn.TEXTSPLIT(_xlpm.su,\" / \")),_xlpm.fi,MATCH(_xlpm.suu,Tabelle2!$C$1:$C$500,0),IF(AND(_xlpm.fi>=239,_xlpm.fi<=500),_xlpm.fi,0))","v":{"$error":"#N/A"}}]
[null,null,null,null,null,null,null,null,null,null,null,{"$f":"_xlfn.LET(_xlpm.su,L347,_xlpm.sp,MOD(COLUMN(),6),_xlpm.suu,IF(_xlpm.su=\"\",\"@@@@\",_xlfn.TEXTSPLIT(_xlpm.su,\" / \")),_xlpm.fi,MATCH(_xlpm.suu,Tabelle2!$C$1:$C$500,0),IF(AND(_xlpm.fi>=239,_xlpm.fi<=500),_xlpm.fi,0))","v":{"$error":"#N/A"}}]
[null,null,null,null,null,null,null,null,null,null,null,{"$f":"_xlfn.LET(_xlpm.su,L348,_xlpm.sp,MOD(COLUMN(),6),_xlpm.suu,IF(_xlpm.su=\"\",\"@@@@\",_xlfn.TEXTSPLIT(_xlpm.su,\" / \")),_xlpm.fi,MATCH(_xlpm.suu,Tabelle2!$C$1:$C$500,0),IF(AND(_xlpm.fi>=239,_xlpm.fi<=500),_xlpm.fi,0))","v":{"$error":"#N/A"}}]
[null,null,null,null,null,null,null,null,null,null,null,{"$f":"_xlfn.LET(_xlpm.su,L349,_xlpm.sp,MOD(COLUMN(),6),_xlpm.suu,IF(_xlpm.su=\"\",\"@@@@\",_xlfn.TEXTSPLIT(_xlpm.su,\" / \")),_xlpm.fi,MATCH(_xlpm.suu,Tabelle2!$C$1:$C$500,0),IF(AND(_xlpm.fi>=239,_xlpm.fi<=500),_xlpm.fi,0))","v":{"$error":"#N/A"}}]
[null,null,null,null,null,null,null,null,null,null,null,{"$f":"_xlfn.LET(_xlpm.su,L350,_xlpm.sp,MOD(COLUMN(),6),_xlpm.suu,IF(_xlpm.su=\"\",\"@@@@\",_xlfn.TEXTSPLIT(_xlpm.su,\" / \")),_xlpm.fi,MATCH(_xlpm.suu,Tabelle2!$C$1:$C$500,0),IF(AND(_xlpm.fi>=239,_xlpm.fi<=500),_xlpm.fi,0))","v":{"$error":"#N/A"}}]
[null,null,null,null,null,null,null,null,null,null,null,{"$f":"_xlfn.LET(_xlpm.su,L351,_xlpm.sp,MOD(COLUMN(),6),_xlpm.suu,IF(_xlpm.su=\"\",\"@@@@\",_xlfn.TEXTSPLIT(_xlpm.su,\" / \")),_xlpm.fi,MATCH(_xlpm.suu,Tabelle2!$C$1:$C$500,0),IF(AND(_xlpm.fi>=239,_xlpm.fi<=500),_xlpm.fi,0))","v":{"$error":"#N/A"}}]
[null,null,null,null,null,null,null,null,null,null,null,{"$f":"_xlfn.LET(_xlpm.su,L352,_xlpm.sp,MOD(COLUMN(),6),_xlpm.suu,IF(_xlpm.su=\"\",\"@@@@\",_xlfn.TEXTSPLIT(_xlpm.su,\" / \")),_xlpm.fi,MATCH(_xlpm.suu,Tabelle2!$C$1:$C$500,0),IF(AND(_xlpm.fi>=239,_xlpm.fi<=500),_xlpm.fi,0))","v":{"$error":"#N/A"}}]
[null,null,null,null,null,null,null,null,null,null,null,{"$f":"_xlfn.LET(_xlpm.su,L353,_xlpm.sp,MOD(COLUMN(),6),_xlpm.suu,IF(_xlpm.su=\"\",\"@@@@\",_xlfn.TEXTSPLIT(_xlpm.su,\" / \")),_xlpm.fi,MATCH(_xlpm.suu,Tabelle2!$C$1:$C$500,0),IF(AND(_xlpm.fi>=239,_xlpm.fi<=500),_xlpm.fi,0))","v":{"$error":"#N/A"}}]
[null,null,null,null,null,null,null,null,null,null,null,{"$f":"_xlfn.LET(_xlpm.su,L354,_xlpm.sp,MOD(COLUMN(),6),_xlpm.suu,IF(_xlpm.su=\"\",\"@@@@\",_xlfn.TEXTSPLIT(_xlpm.su,\" / \")),_xlpm.fi,MATCH(_xlpm.suu,Tabelle2!$C$1:$C$500,0),IF(AND(_xlpm.fi>=239,_xlpm.fi<=500),_xlpm.fi,0))","v":{"$error":"#N/A"}}]
[null,null,null,null,null,null,null,null,null,null,null,{"$f":"_xlfn.LET(_xlpm.su,L355,_xlpm.sp,MOD(COLUMN(),6),_xlpm.suu,IF(_xlpm.su=\"\",\"@@@@\",_xlfn.TEXTSPLIT(_xlpm.su,\" / \")),_xlpm.fi,MATCH(_xlpm.suu,Tabelle2!$C$1:$C$500,0),IF(AND(_xlpm.fi>=239,_xlpm.fi<=500),_xlpm.fi,0))","v":{"$error":"#N/A"}}]
[null,null,null,null,null,null,null,null,null,null,null,{"$f":"_xlfn.LET(_xlpm.su,L356,_xlpm.sp,MOD(COLUMN(),6),_xlpm.suu,IF(_xlpm.su=\"\",\"@@@@\",_xlfn.TEXTSPLIT(_xlpm.su,\" / \")),_xlpm.fi,MATCH(_xlpm.suu,Tabelle2!$C$1:$C$500,0),IF(AND(_xlpm.fi>=239,_xlpm.fi<=500),_xlpm.fi,0))","v":{"$error":"#N/A"}}]
[null,null,null,null,null,null,null,null,null,null,null,{"$f":"_xlfn.LET(_xlpm.su,L357,_xlpm.sp,MOD(COLUMN(),6),_xlpm.suu,IF(_xlpm.su=\"\",\"@@@@\",_xlfn.TEXTSPLIT(_xlpm.su,\" / \")),_xlpm.fi,MATCH(_xlpm.suu,Tabelle2!$C$1:$C$500,0),IF(AND(_xlpm.fi>=239,_xlpm.fi<=500),_xlpm.fi,0))","v":{"$error":"#N/A"}}]
[null,null,null,null,null,null,null,null,null,null,null,{"$f":"_xlfn.LET(_xlpm.su,L358,_xlpm.sp,MOD(COLUMN(),6),_xlpm.suu,IF(_xlpm.su=\"\",\"@@@@\",_xlfn.TEXTSPLIT(_xlpm.su,\" / \")),_xlpm.fi,MATCH(_xlpm.suu,Tabelle2!$C$1:$C$500,0),IF(AND(_xlpm.fi>=239,_xlpm.fi<=500),_xlpm.fi,0))","v":{"$error":"#N/A"}}]
[null,null,null,null,null,null,null,null,null,null,null,{"$f":"_xlfn.LET(_xlpm.su,L359,_xlpm.sp,MOD(COLUMN(),6),_xlpm.suu,IF(_xlpm.su=\"\",\"@@@@\",_xlfn.TEXTSPLIT(_xlpm.su,\" / \")),_xlpm.fi,MATCH(_xlpm.suu,Tabelle2!$C$1:$C$500,0),IF(AND(_xlpm.fi>=239,_xlpm.fi<=500),_xlpm.fi,0))","v":{"$error":"#N/A"}}]
[null,null,null,null,null,null,null,null,null,null,null,{"$f":"_xlfn.LET(_xlpm.su,L360,_xlpm.sp,MOD(COLUMN(),6),_xlpm.suu,IF(_xlpm.su=\"\",\"@@@@\",_xlfn.TEXTSPLIT(_xlpm.su,\" / \")),_xlpm.fi,MATCH(_xlpm.suu,Tabelle2!$C$1:$C$500,0),IF(AND(_xlpm.fi>=239,_xlpm.fi<=500),_xlpm.fi,0))","v":{"$error":"#N/A"}}]
[null,null,null,null,null,null,null,null,null,null,null,{"$f":"_xlfn.LET(_xlpm.su,L361,_xlpm.sp,MOD(COLUMN(),6),_xlpm.suu,IF(_xlpm.su=\"\",\"@@@@\",_xlfn.TEXTSPLIT(_xlpm.su,\" / \")),_xlpm.fi,MATCH(_xlpm.suu,Tabelle2!$C$1:$C$500,0),IF(AND(_xlpm.fi>=239,_xlpm.fi<=500),_xlpm.fi,0))","v":{"$error":"#N/A"}}]
[null,null,null,null,null,null,null,null,null,null,null,{"$f":"_xlfn.LET(_xlpm.su,L362,_xlpm.sp,MOD(COLUMN(),6),_xlpm.suu,IF(_xlpm.su=\"\",\"@@@@\",_xlfn.TEXTSPLIT(_xlpm.su,\" / \")),_xlpm.fi,MATCH(_xlpm.suu,Tabelle2!$C$1:$C$500,0),IF(AND(_xlpm.fi>=239,_xlpm.fi<=500),_xlpm.fi,0))","v":{"$error":"#N/A"}}]
[null,null,null,null,null,null,null,null,null,null,null,{"$f":"_xlfn.LET(_xlpm.su,L363,_xlpm.sp,MOD(COLUMN(),6),_xlpm.suu,IF(_xlpm.su=\"\",\"@@@@\",_xlfn.TEXTSPLIT(_xlpm.su,\" / \")),_xlpm.fi,MATCH(_xlpm.suu,Tabelle2!$C$1:$C$500,0),IF(AND(_xlpm.fi>=239,_xlpm.fi<=500),_xlpm.fi,0))","v":{"$error":"#N/A"}}]
[null,null,null,null,null,null,null,null,null,null,null,{"$f":"_xlfn.LET(_xlpm.su,L364,_xlpm.sp,MOD(COLUMN(),6),_xlpm.suu,IF(_xlpm.su=\"\",\"@@@@\",_xlfn.TEXTSPLIT(_xlpm.su,\" / \")),_xlpm.fi,MATCH(_xlpm.suu,Tabelle2!$C$1:$C$500,0),IF(AND(_xlpm.fi>=239,_xlpm.fi<=500),_xlpm.fi,0))","v":{"$error":"#N/A"}}]
[null,null,null,null,null,null,null,null,null,null,null,{"$f":"_xlfn.LET(_xlpm.su,L365,_xlpm.sp,MOD(COLUMN(),6),_xlpm.suu,IF(_xlpm.su=\"\",\"@@@@\",_xlfn.TEXTSPLIT(_xlpm.su,\" / \")),_xlpm.fi,MATCH(_xlpm.suu,Tabelle2!$C$1:$C$500,0),IF(AND(_xlpm.fi>=239,_xlpm.fi<=500),_xlpm.fi,0))","v":{"$error":"#N/A"}}]
[null,null,null,null,null,null,null,null,null,null,null,{"$f":"_xlfn.LET(_xlpm.su,L366,_xlpm.sp,MOD(COLUMN(),6),_xlpm.suu,IF(_xlpm.su=\"\",\"@@@@\",_xlfn.TEXTSPLIT(_xlpm.su,\" / \")),_xlpm.fi,MATCH(_xlpm.suu,Tabelle2!$C$1:$C$500,0),IF(AND(_xlpm.fi>=239,_xlpm.fi<=500),_xlpm.fi,0))","v":{"$error":"#N/A"}}]
[null,null,null,null,null,null,null,null,null,null,null,{"$f":"_xlfn.LET(_xlpm.su,L367,_xlpm.sp,MOD(COLUMN(),6),_xlpm.suu,IF(_xlpm.su=\"\",\"@@@@\",_xlfn.TEXTSPLIT(_xlpm.su,\" / \")),_xlpm.fi,MATCH(_xlpm.suu,Tabelle2!$C$1:$C$500,0),IF(AND(_xlpm.fi>=239,_xlpm.fi<=500),_xlpm.fi,0))","v":{"$error":"#N/A"}}]
[null,null,null,null,null,null,null,null,null,null,null,{"$f":"_xlfn.LET(_xlpm.su,L368,_xlpm.sp,MOD(COLUMN(),6),_xlpm.suu,IF(_xlpm.su=\"\",\"@@@@\",_xlfn.TEXTSPLIT(_xlpm.su,\" / \")),_xlpm.fi,MATCH(_xlpm.suu,Tabelle2!$C$1:$C$500,0),IF(AND(_xlpm.fi>=239,_xlpm.fi<=500),_xlpm.fi,0))","v":{"$error":"#N/A"}}]
[null,null,null,null,null,null,null,null,null,null,null,{"$f":"_xlfn.LET(_xlpm.su,L369,_xlpm.sp,MOD(COLUMN(),6),_xlpm.suu,IF(_xlpm.su=\"\",\"@@@@\",_xlfn.TEXTSPLIT(_xlpm.su,\" / \")),_xlpm.fi,MATCH(_xlpm.suu,Tabelle2!$C$1:$C$500,0),IF(AND(_xlpm.fi>=239,_xlpm.fi<=500),_xlpm.fi,0))","v":{"$error":"#N/A"}}]
[null,null,null,null,null,null,null,null,null,null,null,{"$f":"_xlfn.LET(_xlpm.su,L370,_xlpm.sp,MOD(COLUMN(),6),_xlpm.suu,IF(_xlpm.su=\"\",\"@@@@\",_xlfn.TEXTSPLIT(_xlpm.su,\" / \")),_xlpm.fi,MATCH(_xlpm.suu,Tabelle2!$C$1:$C$500,0),IF(AND(_xlpm.fi>=239,_xlpm.fi<=500),_xlpm.fi,0))","v":{"$error":"#N/A"}}]
[null,null,null,null,null,null,null,null,null,null,null,{"$f":"_xlfn.LET(_xlpm.su,L371,_xlpm.sp,MOD(COLUMN(),6),_xlpm.suu,IF(_xlpm.su=\"\",\"@@@@\",_xlfn.TEXTSPLIT(_xlpm.su,\" / \")),_xlpm.fi,MATCH(_xlpm.suu,Tabelle2!$C$1:$C$500,0),IF(AND(_xlpm.fi>=239,_xlpm.fi<=500),_xlpm.fi,0))","v":{"$error":"#N/A"}}]
[null,null,null,null,null,null,null,null,null,null,null,{"$f":"_xlfn.LET(_xlpm.su,L372,_xlpm.sp,MOD(COLUMN(),6),_xlpm.suu,IF(_xlpm.su=\"\",\"@@@@\",_xlfn.TEXTSPLIT(_xlpm.su,\" / \")),_xlpm.fi,MATCH(_xlpm.suu,Tabelle2!$C$1:$C$500,0),IF(AND(_xlpm.fi>=239,_xlpm.fi<=500),_xlpm.fi,0))","v":{"$error":"#N/A"}}]
[null,null,null,null,null,null,null,null,null,null,null,{"$f":"_xlfn.LET(_xlpm.su,L373,_xlpm.sp,MOD(COLUMN(),6),_xlpm.suu,IF(_xlpm.su=\"\",\"@@@@\",_xlfn.TEXTSPLIT(_xlpm.su,\" / \")),_xlpm.fi,MATCH(_xlpm.suu,Tabelle2!$C$1:$C$500,0),IF(AND(_xlpm.fi>=239,_xlpm.fi<=500),_xlpm.fi,0))","v":{"$error":"#N/A"}}]
[null,null,null,null,null,null,null,null,null,null,null,{"$f":"_xlfn.LET(_xlpm.su,L374,_xlpm.sp,MOD(COLUMN(),6),_xlpm.suu,IF(_xlpm.su=\"\",\"@@@@\",_xlfn.TEXTSPLIT(_xlpm.su,\" / \")),_xlpm.fi,MATCH(_xlpm.suu,Tabelle2!$C$1:$C$500,0),IF(AND(_xlpm.fi>=239,_xlpm.fi<=500),_xlpm.fi,0))","v":{"$error":"#N/A"}}]
[null,null,null,null,null,null,null,null,null,null,null,{"$f":"_xlfn.LET(_xlpm.su,L375,_xlpm.sp,MOD(COLUMN(),6),_xlpm.suu,IF(_xlpm.su=\"\",\"@@@@\",_xlfn.TEXTSPLIT(_xlpm.su,\" / \")),_xlpm.fi,MATCH(_xlpm.suu,Tabelle2!$C$1:$C$500,0),IF(AND(_xlpm.fi>=239,_xlpm.fi<=500),_xlpm.fi,0))","v":{"$error":"#N/A"}}]
[null,null,null,null,null,null,null,null,null,null,null,{"$f":"_xlfn.LET(_xlpm.su,L376,_xlpm.sp,MOD(COLUMN(),6),_xlpm.suu,IF(_xlpm.su=\"\",\"@@@@\",_xlfn.TEXTSPLIT(_xlpm.su,\" / \")),_xlpm.fi,MATCH(_xlpm.suu,Tabelle2!$C$1:$C$500,0),IF(AND(_xlpm.fi>=239,_xlpm.fi<=500),_xlpm.fi,0))","v":{"$error":"#N/A"}}]
[null,null,null,null,null,null,null,null,null,null,null,{"$f":"_xlfn.LET(_xlpm.su,L377,_xlpm.sp,MOD(COLUMN(),6),_xlpm.suu,IF(_xlpm.su=\"\",\"@@@@\",_xlfn.TEXTSPLIT(_xlpm.su,\" / \")),_xlpm.fi,MATCH(_xlpm.suu,Tabelle2!$C$1:$C$500,0),IF(AND(_xlpm.fi>=239,_xlpm.fi<=500),_xlpm.fi,0))","v":{"$error":"#N/A"}}]
[null,null,null,null,null,null,null,null,null,null,null,{"$f":"_xlfn.LET(_xlpm.su,L378,_xlpm.sp,MOD(COLUMN(),6),_xlpm.suu,IF(_xlpm.su=\"\",\"@@@@\",_xlfn.TEXTSPLIT(_xlpm.su,\" / \")),_xlpm.fi,MATCH(_xlpm.suu,Tabelle2!$C$1:$C$500,0),IF(AND(_xlpm.fi>=239,_xlpm.fi<=500),_xlpm.fi,0))","v":{"$error":"#N/A"}}]
[null,null,null,null,null,null,null,null,null,null,null,{"$f":"_xlfn.LET(_xlpm.su,L379,_xlpm.sp,MOD(COLUMN(),6),_xlpm.suu,IF(_xlpm.su=\"\",\"@@@@\",_xlfn.TEXTSPLIT(_xlpm.su,\" / \")),_xlpm.fi,MATCH(_xlpm.suu,Tabelle2!$C$1:$C$500,0),IF(AND(_xlpm.fi>=239,_xlpm.fi<=500),_xlpm.fi,0))","v":{"$error":"#N/A"}}]
[null,null,null,null,null,null,null,null,null,null,null,{"$f":"_xlfn.LET(_xlpm.su,L380,_xlpm.sp,MOD(COLUMN(),6),_xlpm.suu,IF(_xlpm.su=\"\",\"@@@@\",_xlfn.TEXTSPLIT(_xlpm.su,\" / \")),_xlpm.fi,MATCH(_xlpm.suu,Tabelle2!$C$1:$C$500,0),IF(AND(_xlpm.fi>=239,_xlpm.fi<=500),_xlpm.fi,0))","v":{"$error":"#N/A"}}]
[null,null,null,null,null,null,null,null,null,null,null,{"$f":"_xlfn.LET(_xlpm.su,L381,_xlpm.sp,MOD(COLUMN(),6),_xlpm.suu,IF(_xlpm.su=\"\",\"@@@@\",_xlfn.TEXTSPLIT(_xlpm.su,\" / \")),_xlpm.fi,MATCH(_xlpm.suu,Tabelle2!$C$1:$C$500,0),IF(AND(_xlpm.fi>=239,_xlpm.fi<=500),_xlpm.fi,0))","v":{"$error":"#N/A"}}]
[null,null,null,null,null,null,null,null,null,null,null,{"$f":"_xlfn.LET(_xlpm.su,L382,_xlpm.sp,MOD(COLUMN(),6),_xlpm.suu,IF(_xlpm.su=\"\",\"@@@@\",_xlfn.TEXTSPLIT(_xlpm.su,\" / \")),_xlpm.fi,MATCH(_xlpm.suu,Tabelle2!$C$1:$C$500,0),IF(AND(_xlpm.fi>=239,_xlpm.fi<=500),_xlpm.fi,0))","v":{"$error":"#N/A"}}]
[null,null,null,null,null,null,null,null,null,null,null,{"$f":"_xlfn.LET(_xlpm.su,L383,_xlpm.sp,MOD(COLUMN(),6),_xlpm.suu,IF(_xlpm.su=\"\",\"@@@@\",_xlfn.TEXTSPLIT(_xlpm.su,\" / \")),_xlpm.fi,MATCH(_xlpm.suu,Tabelle2!$C$1:$C$500,0),IF(AND(_xlpm.fi>=239,_xlpm.fi<=500),_xlpm.fi,0))","v":{"$error":"#N/A"}}]
[null,null,null,null,null,null,null,null,null,null,null,{"$f":"_xlfn.LET(_xlpm.su,L384,_xlpm.sp,MOD(COLUMN(),6),_xlpm.suu,IF(_xlpm.su=\"\",\"@@@@\",_xlfn.TEXTSPLIT(_xlpm.su,\" / \")),_xlpm.fi,MATCH(_xlpm.suu,Tabelle2!$C$1:$C$500,0),IF(AND(_xlpm.fi>=239,_xlpm.fi<=500),_xlpm.fi,0))","v":{"$error":"#N/A"}}]
[null,null,null,null,null,null,null,null,null,null,null,{"$f":"_xlfn.LET(_xlpm.su,L385,_xlpm.sp,MOD(COLUMN(),6),_xlpm.suu,IF(_xlpm.su=\"\",\"@@@@\",_xlfn.TEXTSPLIT(_xlpm.su,\" / \")),_xlpm.fi,MATCH(_xlpm.suu,Tabelle2!$C$1:$C$500,0),IF(AND(_xlpm.fi>=239,_xlpm.fi<=500),_xlpm.fi,0))","v":{"$error":"#N/A"}}]
[null,null,null,null,null,null,null,null,null,null,null,{"$f":"_xlfn.LET(_xlpm.su,L386,_xlpm.sp,MOD(COLUMN(),6),_xlpm.suu,IF(_xlpm.su=\"\",\"@@@@\",_xlfn.TEXTSPLIT(_xlpm.su,\" / \")),_xlpm.fi,MATCH(_xlpm.suu,Tabelle2!$C$1:$C$500,0),IF(AND(_xlpm.fi>=239,_xlpm.fi<=500),_xlpm.fi,0))","v":{"$error":"#N/A"}}]
[null,null,null,null,null,null,null,null,null,null,null,{"$f":"_xlfn.LET(_xlpm.su,L387,_xlpm.sp,MOD(COLUMN(),6),_xlpm.suu,IF(_xlpm.su=\"\",\"@@@@\",_xlfn.TEXTSPLIT(_xlpm.su,\" / \")),_xlpm.fi,MATCH(_xlpm.suu,Tabelle2!$C$1:$C$500,0),IF(AND(_xlpm.fi>=239,_xlpm.fi<=500),_xlpm.fi,0))","v":{"$error":"#N/A"}}]
[null,null,null,null,null,null,null,null,null,null,null,{"$f":"_xlfn.LET(_xlpm.su,L388,_xlpm.sp,MOD(COLUMN(),6),_xlpm.suu,IF(_xlpm.su=\"\",\"@@@@\",_xlfn.TEXTSPLIT(_xlpm.su,\" / \")),_xlpm.fi,MATCH(_xlpm.suu,Tabelle2!$C$1:$C$500,0),IF(AND(_xlpm.fi>=239,_xlpm.fi<=500),_xlpm.fi,0))","v":{"$error":"#N/A"}}]
[null,null,null,null,null,null,null,null,null,null,null,{"$f":"_xlfn.LET(_xlpm.su,L389,_xlpm.sp,MOD(COLUMN(),6),_xlpm.suu,IF(_xlpm.su=\"\",\"@@@@\",_xlfn.TEXTSPLIT(_xlpm.su,\" / \")),_xlpm.fi,MATCH(_xlpm.suu,Tabelle2!$C$1:$C$500,0),IF(AND(_xlpm.fi>=239,_xlpm.fi<=500),_xlpm.fi,0))","v":{"$error":"#N/A"}}]
[null,null,null,null,null,null,null,null,null,null,null,{"$f":"_xlfn.LET(_xlpm.su,L390,_xlpm.sp,MOD(COLUMN(),6),_xlpm.suu,IF(_xlpm.su=\"\",\"@@@@\",_xlfn.TEXTSPLIT(_xlpm.su,\" / \")),_xlpm.fi,MATCH(_xlpm.suu,Tabelle2!$C$1:$C$500,0),IF(AND(_xlpm.fi>=239,_xlpm.fi<=500),_xlpm.fi,0))","v":{"$error":"#N/A"}}]
[null,null,null,null,null,null,null,null,null,null,null,{"$f":"_xlfn.LET(_xlpm.su,L391,_xlpm.sp,MOD(COLUMN(),6),_xlpm.suu,IF(_xlpm.su=\"\",\"@@@@\",_xlfn.TEXTSPLIT(_xlpm.su,\" / \")),_xlpm.fi,MATCH(_xlpm.suu,Tabelle2!$C$1:$C$500,0),IF(AND(_xlpm.fi>=239,_xlpm.fi<=500),_xlpm.fi,0))","v":{"$error":"#N/A"}}]
[null,null,null,null,null,null,null,null,null,null,null,{"$f":"_xlfn.LET(_xlpm.su,L392,_xlpm.sp,MOD(COLUMN(),6),_xlpm.suu,IF(_xlpm.su=\"\",\"@@@@\",_xlfn.TEXTSPLIT(_xlpm.su,\" / \")),_xlpm.fi,MATCH(_xlpm.suu,Tabelle2!$C$1:$C$500,0),IF(AND(_xlpm.fi>=239,_xlpm.fi<=500),_xlpm.fi,0))","v":{"$error":"#N/A"}}]
[null,null,null,null,null,null,null,null,null,null,null,{"$f":"_xlfn.LET(_xlpm.su,L393,_xlpm.sp,MOD(COLUMN(),6),_xlpm.suu,IF(_xlpm.su=\"\",\"@@@@\",_xlfn.TEXTSPLIT(_xlpm.su,\" / \")),_xlpm.fi,MATCH(_xlpm.suu,Tabelle2!$C$1:$C$500,0),IF(AND(_xlpm.fi>=239,_xlpm.fi<=500),_xlpm.fi,0))","v":{"$error":"#N/A"}}]
[null,null,null,null,null,null,null,null,null,null,null,{"$f":"_xlfn.LET(_xlpm.su,L394,_xlpm.sp,MOD(COLUMN(),6),_xlpm.suu,IF(_xlpm.su=\"\",\"@@@@\",_xlfn.TEXTSPLIT(_xlpm.su,\" / \")),_xlpm.fi,MATCH(_xlpm.suu,Tabelle2!$C$1:$C$500,0),IF(AND(_xlpm.fi>=239,_xlpm.fi<=500),_xlpm.fi,0))","v":{"$error":"#N/A"}}]
[null,null,null,null,null,null,null,null,null,null,null,{"$f":"_xlfn.LET(_xlpm.su,L395,_xlpm.sp,MOD(COLUMN(),6),_xlpm.suu,IF(_xlpm.su=\"\",\"@@@@\",_xlfn.TEXTSPLIT(_xlpm.su,\" / \")),_xlpm.fi,MATCH(_xlpm.suu,Tabelle2!$C$1:$C$500,0),IF(AND(_xlpm.fi>=239,_xlpm.fi<=500),_xlpm.fi,0))","v":{"$error":"#N/A"}}]
[null,null,null,null,null,null,null,null,null,null,null,{"$f":"_xlfn.LET(_xlpm.su,L396,_xlpm.sp,MOD(COLUMN(),6),_xlpm.suu,IF(_xlpm.su=\"\",\"@@@@\",_xlfn.TEXTSPLIT(_xlpm.su,\" / \")),_xlpm.fi,MATCH(_xlpm.suu,Tabelle2!$C$1:$C$500,0),IF(AND(_xlpm.fi>=239,_xlpm.fi<=500),_xlpm.fi,0))","v":{"$error":"#N/A"}}]
[null,null,null,null,null,null,null,null,null,null,null,{"$f":"_xlfn.LET(_xlpm.su,L397,_xlpm.sp,MOD(COLUMN(),6),_xlpm.suu,IF(_xlpm.su=\"\",\"@@@@\",_xlfn.TEXTSPLIT(_xlpm.su,\" / \")),_xlpm.fi,MATCH(_xlpm.suu,Tabelle2!$C$1:$C$500,0),IF(AND(_xlpm.fi>=239,_xlpm.fi<=500),_xlpm.fi,0))","v":{"$error":"#N/A"}}]
[null,null,null,null,null,null,null,null,null,null,null,{"$f":"_xlfn.LET(_xlpm.su,L398,_xlpm.sp,MOD(COLUMN(),6),_xlpm.suu,IF(_xlpm.su=\"\",\"@@@@\",_xlfn.TEXTSPLIT(_xlpm.su,\" / \")),_xlpm.fi,MATCH(_xlpm.suu,Tabelle2!$C$1:$C$500,0),IF(AND(_xlpm.fi>=239,_xlpm.fi<=500),_xlpm.fi,0))","v":{"$error":"#N/A"}}]
[null,null,null,null,null,null,null,null,null,null,null,{"$f":"_xlfn.LET(_xlpm.su,L399,_xlpm.sp,MOD(COLUMN(),6),_xlpm.suu,IF(_xlpm.su=\"\",\"@@@@\",_xlfn.TEXTSPLIT(_xlpm.su,\" / \")),_xlpm.fi,MATCH(_xlpm.suu,Tabelle2!$C$1:$C$500,0),IF(AND(_xlpm.fi>=239,_xlpm.fi<=500),_xlpm.fi,0))","v":{"$error":"#N/A"}}]
[null,null,null,null,null,null,null,null,null,null,null,{"$f":"_xlfn.LET(_xlpm.su,L400,_xlpm.sp,MOD(COLUMN(),6),_xlpm.suu,IF(_xlpm.su=\"\",\"@@@@\",_xlfn.TEXTSPLIT(_xlpm.su,\" / \")),_xlpm.fi,MATCH(_xlpm.suu,Tabelle2!$C$1:$C$500,0),IF(AND(_xlpm.fi>=239,_xlpm.fi<=500),_xlpm.fi,0))","v":{"$error":"#N/A"}}]
[null,null,null,null,null,null,null,null,null,null,null,{"$f":"_xlfn.LET(_xlpm.su,L401,_xlpm.sp,MOD(COLUMN(),6),_xlpm.suu,IF(_xlpm.su=\"\",\"@@@@\",_xlfn.TEXTSPLIT(_xlpm.su,\" / \")),_xlpm.fi,MATCH(_xlpm.suu,Tabelle2!$C$1:$C$500,0),IF(AND(_xlpm.fi>=239,_xlpm.fi<=500),_xlpm.fi,0))","v":{"$error":"#N/A"}}]
[null,null,null,null,null,null,null,null,null,null,null,{"$f":"_xlfn.LET(_xlpm.su,L402,_xlpm.sp,MOD(COLUMN(),6),_xlpm.suu,IF(_xlpm.su=\"\",\"@@@@\",_xlfn.TEXTSPLIT(_xlpm.su,\" / \")),_xlpm.fi,MATCH(_xlpm.suu,Tabelle2!$C$1:$C$500,0),IF(AND(_xlpm.fi>=239,_xlpm.fi<=500),_xlpm.fi,0))","v":{"$error":"#N/A"}}]
[null,null,null,null,null,null,null,null,null,null,null,{"$f":"_xlfn.LET(_xlpm.su,L403,_xlpm.sp,MOD(COLUMN(),6),_xlpm.suu,IF(_xlpm.su=\"\",\"@@@@\",_xlfn.TEXTSPLIT(_xlpm.su,\" / \")),_xlpm.fi,MATCH(_xlpm.suu,Tabelle2!$C$1:$C$500,0),IF(AND(_xlpm.fi>=239,_xlpm.fi<=500),_xlpm.fi,0))","v":{"$error":"#N/A"}}]
[null,null,null,null,null,null,null,null,null,null,null,{"$f":"_xlfn.LET(_xlpm.su,L404,_xlpm.sp,MOD(COLUMN(),6),_xlpm.suu,IF(_xlpm.su=\"\",\"@@@@\",_xlfn.TEXTSPLIT(_xlpm.su,\" / \")),_xlpm.fi,MATCH(_xlpm.suu,Tabelle2!$C$1:$C$500,0),IF(AND(_xlpm.fi>=239,_xlpm.fi<=500),_xlpm.fi,0))","v":{"$error":"#N/A"}}]
[null,null,null,null,null,null,null,null,null,null,null,{"$f":"_xlfn.LET(_xlpm.su,L405,_xlpm.sp,MOD(COLUMN(),6),_xlpm.suu,IF(_xlpm.su=\"\",\"@@@@\",_xlfn.TEXTSPLIT(_xlpm.su,\" / \")),_xlpm.fi,MATCH(_xlpm.suu,Tabelle2!$C$1:$C$500,0),IF(AND(_xlpm.fi>=239,_xlpm.fi<=500),_xlpm.fi,0))","v":{"$error":"#N/A"}}]
[null,null,null,null,null,null,null,null,null,null,null,{"$f":"_xlfn.LET(_xlpm.su,L406,_xlpm.sp,MOD(COLUMN(),6),_xlpm.suu,IF(_xlpm.su=\"\",\"@@@@\",_xlfn.TEXTSPLIT(_xlpm.su,\" / \")),_xlpm.fi,MATCH(_xlpm.suu,Tabelle2!$C$1:$C$500,0),IF(AND(_xlpm.fi>=239,_xlpm.fi<=500),_xlpm.fi,0))","v":{"$error":"#N/A"}}]
[null,null,null,null,null,null,null,null,null,null,null,{"$f":"_xlfn.LET(_xlpm.su,L407,_xlpm.sp,MOD(COLUMN(),6),_xlpm.suu,IF(_xlpm.su=\"\",\"@@@@\",_xlfn.TEXTSPLIT(_xlpm.su,\" / \")),_xlpm.fi,MATCH(_xlpm.suu,Tabelle2!$C$1:$C$500,0),IF(AND(_xlpm.fi>=239,_xlpm.fi<=500),_xlpm.fi,0))","v":{"$error":"#N/A"}}]
[null,null,null,null,null,null,null,null,null,null,null,{"$f":"_xlfn.LET(_xlpm.su,L408,_xlpm.sp,MOD(COLUMN(),6),_xlpm.suu,IF(_xlpm.su=\"\",\"@@@@\",_xlfn.TEXTSPLIT(_xlpm.su,\" / \")),_xlpm.fi,MATCH(_xlpm.suu,Tabelle2!$C$1:$C$500,0),IF(AND(_xlpm.fi>=239,_xlpm.fi<=500),_xlpm.fi,0))","v":{"$error":"#N/A"}}]
[null,null,null,null,null,null,null,null,null,null,null,{"$f":"_xlfn.LET(_xlpm.su,L409,_xlpm.sp,MOD(COLUMN(),6),_xlpm.suu,IF(_xlpm.su=\"\",\"@@@@\",_xlfn.TEXTSPLIT(_xlpm.su,\" / \")),_xlpm.fi,MATCH(_xlpm.suu,Tabelle2!$C$1:$C$500,0),IF(AND(_xlpm.fi>=239,_xlpm.fi<=500),_xlpm.fi,0))","v":{"$error":"#N/A"}}]
[null,null,null,null,null,null,null,null,null,null,null,{"$f":"_xlfn.LET(_xlpm.su,L410,_xlpm.sp,MOD(COLUMN(),6),_xlpm.suu,IF(_xlpm.su=\"\",\"@@@@\",_xlfn.TEXTSPLIT(_xlpm.su,\" / \")),_xlpm.fi,MATCH(_xlpm.suu,Tabelle2!$C$1:$C$500,0),IF(AND(_xlpm.fi>=239,_xlpm.fi<=500),_xlpm.fi,0))","v":{"$error":"#N/A"}}]
[null,null,null,null,null,null,null,null,null,null,null,{"$f":"_xlfn.LET(_xlpm.su,L411,_xlpm.sp,MOD(COLUMN(),6),_xlpm.suu,IF(_xlpm.su=\"\",\"@@@@\",_xlfn.TEXTSPLIT(_xlpm.su,\" / \")),_xlpm.fi,MATCH(_xlpm.suu,Tabelle2!$C$1:$C$500,0),IF(AND(_xlpm.fi>=239,_xlpm.fi<=500),_xlpm.fi,0))","v":{"$error":"#N/A"}}]
[null,null,null,null,null,null,null,null,null,null,null,{"$f":"_xlfn.LET(_xlpm.su,L412,_xlpm.sp,MOD(COLUMN(),6),_xlpm.suu,IF(_xlpm.su=\"\",\"@@@@\",_xlfn.TEXTSPLIT(_xlpm.su,\" / \")),_xlpm.fi,MATCH(_xlpm.suu,Tabelle2!$C$1:$C$500,0),IF(AND(_xlpm.fi>=239,_xlpm.fi<=500),_xlpm.fi,0))","v":{"$error":"#N/A"}}]
[null,null,null,null,null,null,null,null,null,null,null,{"$f":"_xlfn.LET(_xlpm.su,L413,_xlpm.sp,MOD(COLUMN(),6),_xlpm.suu,IF(_xlpm.su=\"\",\"@@@@\",_xlfn.TEXTSPLIT(_xlpm.su,\" / \")),_xlpm.fi,MATCH(_xlpm.suu,Tabelle2!$C$1:$C$500,0),IF(AND(_xlpm.fi>=239,_xlpm.fi<=500),_xlpm.fi,0))","v":{"$error":"#N/A"}}]
[null,null,null,null,null,null,null,null,null,null,null,{"$f":"_xlfn.LET(_xlpm.su,L414,_xlpm.sp,MOD(COLUMN(),6),_xlpm.suu,IF(_xlpm.su=\"\",\"@@@@\",_xlfn.TEXTSPLIT(_xlpm.su,\" / \")),_xlpm.fi,MATCH(_xlpm.suu,Tabelle2!$C$1:$C$500,0),IF(AND(_xlpm.fi>=239,_xlpm.fi<=500),_xlpm.fi,0))","v":{"$error":"#N/A"}}]
[null,null,null,null,null,null,null,null,null,null,null,{"$f":"_xlfn.LET(_xlpm.su,L415,_xlpm.sp,MOD(COLUMN(),6),_xlpm.suu,IF(_xlpm.su=\"\",\"@@@@\",_xlfn.TEXTSPLIT(_xlpm.su,\" / \")),_xlpm.fi,MATCH(_xlpm.suu,Tabelle2!$C$1:$C$500,0),IF(AND(_xlpm.fi>=239,_xlpm.fi<=500),_xlpm.fi,0))","v":{"$error":"#N/A"}}]
[null,null,null,null,null,null,null,null,null,null,null,{"$f":"_xlfn.LET(_xlpm.su,L416,_xlpm.sp,MOD(COLUMN(),6),_xlpm.suu,IF(_xlpm.su=\"\",\"@@@@\",_xlfn.TEXTSPLIT(_xlpm.su,\" / \")),_xlpm.fi,MATCH(_xlpm.suu,Tabelle2!$C$1:$C$500,0),IF(AND(_xlpm.fi>=239,_xlpm.fi<=500),_xlpm.fi,0))","v":{"$error":"#N/A"}}]
[null,null,null,null,null,null,null,null,null,null,null,{"$f":"_xlfn.LET(_xlpm.su,L417,_xlpm.sp,MOD(COLUMN(),6),_xlpm.suu,IF(_xlpm.su=\"\",\"@@@@\",_xlfn.TEXTSPLIT(_xlpm.su,\" / \")),_xlpm.fi,MATCH(_xlpm.suu,Tabelle2!$C$1:$C$500,0),IF(AND(_xlpm.fi>=239,_xlpm.fi<=500),_xlpm.fi,0))","v":{"$error":"#N/A"}}]
[null,null,null,null,null,null,null,null,null,null,null,{"$f":"_xlfn.LET(_xlpm.su,L418,_xlpm.sp,MOD(COLUMN(),6),_xlpm.suu,IF(_xlpm.su=\"\",\"@@@@\",_xlfn.TEXTSPLIT(_xlpm.su,\" / \")),_xlpm.fi,MATCH(_xlpm.suu,Tabelle2!$C$1:$C$500,0),IF(AND(_xlpm.fi>=239,_xlpm.fi<=500),_xlpm.fi,0))","v":{"$error":"#N/A"}}]
[null,null,null,null,null,null,null,null,null,null,null,{"$f":"_xlfn.LET(_xlpm.su,L419,_xlpm.sp,MOD(COLUMN(),6),_xlpm.suu,IF(_xlpm.su=\"\",\"@@@@\",_xlfn.TEXTSPLIT(_xlpm.su,\" / \")),_xlpm.fi,MATCH(_xlpm.suu,Tabelle2!$C$1:$C$500,0),IF(AND(_xlpm.fi>=239,_xlpm.fi<=500),_xlpm.fi,0))","v":{"$error":"#N/A"}}]
[null,null,null,null,null,null,null,null,null,null,null,{"$f":"_xlfn.LET(_xlpm.su,L420,_xlpm.sp,MOD(COLUMN(),6),_xlpm.suu,IF(_xlpm.su=\"\",\"@@@@\",_xlfn.TEXTSPLIT(_xlpm.su,\" / \")),_xlpm.fi,MATCH(_xlpm.suu,Tabelle2!$C$1:$C$500,0),IF(AND(_xlpm.fi>=239,_xlpm.fi<=500),_xlpm.fi,0))","v":{"$error":"#N/A"}}]
[null,null,null,null,null,null,null,null,null,null,null,{"$f":"_xlfn.LET(_xlpm.su,L421,_xlpm.sp,MOD(COLUMN(),6),_xlpm.suu,IF(_xlpm.su=\"\",\"@@@@\",_xlfn.TEXTSPLIT(_xlpm.su,\" / \")),_xlpm.fi,MATCH(_xlpm.suu,Tabelle2!$C$1:$C$500,0),IF(AND(_xlpm.fi>=239,_xlpm.fi<=500),_xlpm.fi,0))","v":{"$error":"#N/A"}}]
[null,null,null,null,null,null,null,null,null,null,null,{"$f":"_xlfn.LET(_xlpm.su,L422,_xlpm.sp,MOD(COLUMN(),6),_xlpm.suu,IF(_xlpm.su=\"\",\"@@@@\",_xlfn.TEXTSPLIT(_xlpm.su,\" / \")),_xlpm.fi,MATCH(_xlpm.suu,Tabelle2!$C$1:$C$500,0),IF(AND(_xlpm.fi>=239,_xlpm.fi<=500),_xlpm.fi,0))","v":{"$error":"#N/A"}}]
[null,null,null,null,null,null,null,null,null,null,null,{"$f":"_xlfn.LET(_xlpm.su,L423,_xlpm.sp,MOD(COLUMN(),6),_xlpm.suu,IF(_xlpm.su=\"\",\"@@@@\",_xlfn.TEXTSPLIT(_xlpm.su,\" / \")),_xlpm.fi,MATCH(_xlpm.suu,Tabelle2!$C$1:$C$500,0),IF(AND(_xlpm.fi>=239,_xlpm.fi<=500),_xlpm.fi,0))","v":{"$error":"#N/A"}}]
[null,null,null,null,null,null,null,null,null,null,null,{"$f":"_xlfn.LET(_xlpm.su,L424,_xlpm.sp,MOD(COLUMN(),6),_xlpm.suu,IF(_xlpm.su=\"\",\"@@@@\",_xlfn.TEXTSPLIT(_xlpm.su,\" / \")),_xlpm.fi,MATCH(_xlpm.suu,Tabelle2!$C$1:$C$500,0),IF(AND(_xlpm.fi>=239,_xlpm.fi<=500),_xlpm.fi,0))","v":{"$error":"#N/A"}}]
[null,null,null,null,null,null,null,null,null,null,null,{"$f":"_xlfn.LET(_xlpm.su,L425,_xlpm.sp,MOD(COLUMN(),6),_xlpm.suu,IF(_xlpm.su=\"\",\"@@@@\",_xlfn.TEXTSPLIT(_xlpm.su,\" / \")),_xlpm.fi,MATCH(_xlpm.suu,Tabelle2!$C$1:$C$500,0),IF(AND(_xlpm.fi>=239,_xlpm.fi<=500),_xlpm.fi,0))","v":{"$error":"#N/A"}}]
[null,null,null,null,null,null,null,null,null,null,null,{"$f":"_xlfn.LET(_xlpm.su,L426,_xlpm.sp,MOD(COLUMN(),6),_xlpm.suu,IF(_xlpm.su=\"\",\"@@@@\",_xlfn.TEXTSPLIT(_xlpm.su,\" / \")),_xlpm.fi,MATCH(_xlpm.suu,Tabelle2!$C$1:$C$500,0),IF(AND(_xlpm.fi>=239,_xlpm.fi<=500),_xlpm.fi,0))","v":{"$error":"#N/A"}}]
[null,null,null,null,null,null,null,null,null,null,null,{"$f":"_xlfn.LET(_xlpm.su,L427,_xlpm.sp,MOD(COLUMN(),6),_xlpm.suu,IF(_xlpm.su=\"\",\"@@@@\",_xlfn.TEXTSPLIT(_xlpm.su,\" / \")),_xlpm.fi,MATCH(_xlpm.suu,Tabelle2!$C$1:$C$500,0),IF(AND(_xlpm.fi>=239,_xlpm.fi<=500),_xlpm.fi,0))","v":{"$error":"#N/A"}}]
[null,null,null,null,null,null,null,null,null,null,null,{"$f":"_xlfn.LET(_xlpm.su,L428,_xlpm.sp,MOD(COLUMN(),6),_xlpm.suu,IF(_xlpm.su=\"\",\"@@@@\",_xlfn.TEXTSPLIT(_xlpm.su,\" / \")),_xlpm.fi,MATCH(_xlpm.suu,Tabelle2!$C$1:$C$500,0),IF(AND(_xlpm.fi>=239,_xlpm.fi<=500),_xlpm.fi,0))","v":{"$error":"#N/A"}}]
[null,null,null,null,null,null,null,null,null,null,null,{"$f":"_xlfn.LET(_xlpm.su,L429,_xlpm.sp,MOD(COLUMN(),6),_xlpm.suu,IF(_xlpm.su=\"\",\"@@@@\",_xlfn.TEXTSPLIT(_xlpm.su,\" / \")),_xlpm.fi,MATCH(_xlpm.suu,Tabelle2!$C$1:$C$500,0),IF(AND(_xlpm.fi>=239,_xlpm.fi<=500),_xlpm.fi,0))","v":{"$error":"#N/A"}}]
[null,null,null,null,null,null,null,null,null,null,null,{"$f":"_xlfn.LET(_xlpm.su,L430,_xlpm.sp,MOD(COLUMN(),6),_xlpm.suu,IF(_xlpm.su=\"\",\"@@@@\",_xlfn.TEXTSPLIT(_xlpm.su,\" / \")),_xlpm.fi,MATCH(_xlpm.suu,Tabelle2!$C$1:$C$500,0),IF(AND(_xlpm.fi>=239,_xlpm.fi<=500),_xlpm.fi,0))","v":{"$error":"#N/A"}}]
[null,null,null,null,null,null,null,null,null,null,null,{"$f":"_xlfn.LET(_xlpm.su,L431,_xlpm.sp,MOD(COLUMN(),6),_xlpm.suu,IF(_xlpm.su=\"\",\"@@@@\",_xlfn.TEXTSPLIT(_xlpm.su,\" / \")),_xlpm.fi,MATCH(_xlpm.suu,Tabelle2!$C$1:$C$500,0),IF(AND(_xlpm.fi>=239,_xlpm.fi<=500),_xlpm.fi,0))","v":{"$error":"#N/A"}}]
[null,null,null,null,null,null,null,null,null,null,null,{"$f":"_xlfn.LET(_xlpm.su,L432,_xlpm.sp,MOD(COLUMN(),6),_xlpm.suu,IF(_xlpm.su=\"\",\"@@@@\",_xlfn.TEXTSPLIT(_xlpm.su,\" / \")),_xlpm.fi,MATCH(_xlpm.suu,Tabelle2!$C$1:$C$500,0),IF(AND(_xlpm.fi>=239,_xlpm.fi<=500),_xlpm.fi,0))","v":{"$error":"#N/A"}}]
[null,null,null,null,null,null,null,null,null,null,null,{"$f":"_xlfn.LET(_xlpm.su,L433,_xlpm.sp,MOD(COLUMN(),6),_xlpm.suu,IF(_xlpm.su=\"\",\"@@@@\",_xlfn.TEXTSPLIT(_xlpm.su,\" / \")),_xlpm.fi,MATCH(_xlpm.suu,Tabelle2!$C$1:$C$500,0),IF(AND(_xlpm.fi>=239,_xlpm.fi<=500),_xlpm.fi,0))","v":{"$error":"#N/A"}}]
[null,null,null,null,null,null,null,null,null,null,null,{"$f":"_xlfn.LET(_xlpm.su,L434,_xlpm.sp,MOD(COLUMN(),6),_xlpm.suu,IF(_xlpm.su=\"\",\"@@@@\",_xlfn.TEXTSPLIT(_xlpm.su,\" / \")),_xlpm.fi,MATCH(_xlpm.suu,Tabelle2!$C$1:$C$500,0),IF(AND(_xlpm.fi>=239,_xlpm.fi<=500),_xlpm.fi,0))","v":{"$error":"#N/A"}}]
[null,null,null,null,null,null,null,null,null,null,null,{"$f":"_xlfn.LET(_xlpm.su,L435,_xlpm.sp,MOD(COLUMN(),6),_xlpm.suu,IF(_xlpm.su=\"\",\"@@@@\",_xlfn.TEXTSPLIT(_xlpm.su,\" / \")),_xlpm.fi,MATCH(_xlpm.suu,Tabelle2!$C$1:$C$500,0),IF(AND(_xlpm.fi>=239,_xlpm.fi<=500),_xlpm.fi,0))","v":{"$error":"#N/A"}}]
[null,null,null,null,null,null,null,null,null,null,null,{"$f":"_xlfn.LET(_xlpm.su,L436,_xlpm.sp,MOD(COLUMN(),6),_xlpm.suu,IF(_xlpm.su=\"\",\"@@@@\",_xlfn.TEXTSPLIT(_xlpm.su,\" / \")),_xlpm.fi,MATCH(_xlpm.suu,Tabelle2!$C$1:$C$500,0),IF(AND(_xlpm.fi>=239,_xlpm.fi<=500),_xlpm.fi,0))","v":{"$error":"#N/A"}}]
[null,null,null,null,null,null,null,null,null,null,null,{"$f":"_xlfn.LET(_xlpm.su,L437,_xlpm.sp,MOD(COLUMN(),6),_xlpm.suu,IF(_xlpm.su=\"\",\"@@@@\",_xlfn.TEXTSPLIT(_xlpm.su,\" / \")),_xlpm.fi,MATCH(_xlpm.suu,Tabelle2!$C$1:$C$500,0),IF(AND(_xlpm.fi>=239,_xlpm.fi<=500),_xlpm.fi,0))","v":{"$error":"#N/A"}}]
[null,null,null,null,null,null,null,null,null,null,null,{"$f":"_xlfn.LET(_xlpm.su,L438,_xlpm.sp,MOD(COLUMN(),6),_xlpm.suu,IF(_xlpm.su=\"\",\"@@@@\",_xlfn.TEXTSPLIT(_xlpm.su,\" / \")),_xlpm.fi,MATCH(_xlpm.suu,Tabelle2!$C$1:$C$500,0),IF(AND(_xlpm.fi>=239,_xlpm.fi<=500),_xlpm.fi,0))","v":{"$error":"#N/A"}}]
[null,null,null,null,null,null,null,null,null,null,null,{"$f":"_xlfn.LET(_xlpm.su,L439,_xlpm.sp,MOD(COLUMN(),6),_xlpm.suu,IF(_xlpm.su=\"\",\"@@@@\",_xlfn.TEXTSPLIT(_xlpm.su,\" / \")),_xlpm.fi,MATCH(_xlpm.suu,Tabelle2!$C$1:$C$500,0),IF(AND(_xlpm.fi>=239,_xlpm.fi<=500),_xlpm.fi,0))","v":{"$error":"#N/A"}}]
[null,null,null,null,null,null,null,null,null,null,null,{"$f":"_xlfn.LET(_xlpm.su,L440,_xlpm.sp,MOD(COLUMN(),6),_xlpm.suu,IF(_xlpm.su=\"\",\"@@@@\",_xlfn.TEXTSPLIT(_xlpm.su,\" / \")),_xlpm.fi,MATCH(_xlpm.suu,Tabelle2!$C$1:$C$500,0),IF(AND(_xlpm.fi>=239,_xlpm.fi<=500),_xlpm.fi,0))","v":{"$error":"#N/A"}}]
[null,null,null,null,null,null,null,null,null,null,null,{"$f":"_xlfn.LET(_xlpm.su,L441,_xlpm.sp,MOD(COLUMN(),6),_xlpm.suu,IF(_xlpm.su=\"\",\"@@@@\",_xlfn.TEXTSPLIT(_xlpm.su,\" / \")),_xlpm.fi,MATCH(_xlpm.suu,Tabelle2!$C$1:$C$500,0),IF(AND(_xlpm.fi>=239,_xlpm.fi<=500),_xlpm.fi,0))","v":{"$error":"#N/A"}}]
[null,null,null,null,null,null,null,null,null,null,null,{"$f":"_xlfn.LET(_xlpm.su,L442,_xlpm.sp,MOD(COLUMN(),6),_xlpm.suu,IF(_xlpm.su=\"\",\"@@@@\",_xlfn.TEXTSPLIT(_xlpm.su,\" / \")),_xlpm.fi,MATCH(_xlpm.suu,Tabelle2!$C$1:$C$500,0),IF(AND(_xlpm.fi>=239,_xlpm.fi<=500),_xlpm.fi,0))","v":{"$error":"#N/A"}}]
[null,null,null,null,null,null,null,null,null,null,null,{"$f":"_xlfn.LET(_xlpm.su,L443,_xlpm.sp,MOD(COLUMN(),6),_xlpm.suu,IF(_xlpm.su=\"\",\"@@@@\",_xlfn.TEXTSPLIT(_xlpm.su,\" / \")),_xlpm.fi,MATCH(_xlpm.suu,Tabelle2!$C$1:$C$500,0),IF(AND(_xlpm.fi>=239,_xlpm.fi<=500),_xlpm.fi,0))","v":{"$error":"#N/A"}}]
[null,null,null,null,null,null,null,null,null,null,null,{"$f":"_xlfn.LET(_xlpm.su,L444,_xlpm.sp,MOD(COLUMN(),6),_xlpm.suu,IF(_xlpm.su=\"\",\"@@@@\",_xlfn.TEXTSPLIT(_xlpm.su,\" / \")),_xlpm.fi,MATCH(_xlpm.suu,Tabelle2!$C$1:$C$500,0),IF(AND(_xlpm.fi>=239,_xlpm.fi<=500),_xlpm.fi,0))","v":{"$error":"#N/A"}}]
[null,null,null,null,null,null,null,null,null,null,null,{"$f":"_xlfn.LET(_xlpm.su,L445,_xlpm.sp,MOD(COLUMN(),6),_xlpm.suu,IF(_xlpm.su=\"\",\"@@@@\",_xlfn.TEXTSPLIT(_xlpm.su,\" / \")),_xlpm.fi,MATCH(_xlpm.suu,Tabelle2!$C$1:$C$500,0),IF(AND(_xlpm.fi>=239,_xlpm.fi<=500),_xlpm.fi,0))","v":{"$error":"#N/A"}}]
[null,null,null,null,null,null,null,null,null,null,null,{"$f":"_xlfn.LET(_xlpm.su,L446,_xlpm.sp,MOD(COLUMN(),6),_xlpm.suu,IF(_xlpm.su=\"\",\"@@@@\",_xlfn.TEXTSPLIT(_xlpm.su,\" / \")),_xlpm.fi,MATCH(_xlpm.suu,Tabelle2!$C$1:$C$500,0),IF(AND(_xlpm.fi>=239,_xlpm.fi<=500),_xlpm.fi,0))","v":{"$error":"#N/A"}}]
[null,null,null,null,null,null,null,null,null,null,null,{"$f":"_xlfn.LET(_xlpm.su,L447,_xlpm.sp,MOD(COLUMN(),6),_xlpm.suu,IF(_xlpm.su=\"\",\"@@@@\",_xlfn.TEXTSPLIT(_xlpm.su,\" / \")),_xlpm.fi,MATCH(_xlpm.suu,Tabelle2!$C$1:$C$500,0),IF(AND(_xlpm.fi>=239,_xlpm.fi<=500),_xlpm.fi,0))","v":{"$error":"#N/A"}}]
[null,null,null,null,null,null,null,null,null,null,null,{"$f":"_xlfn.LET(_xlpm.su,L448,_xlpm.sp,MOD(COLUMN(),6),_xlpm.suu,IF(_xlpm.su=\"\",\"@@@@\",_xlfn.TEXTSPLIT(_xlpm.su,\" / \")),_xlpm.fi,MATCH(_xlpm.suu,Tabelle2!$C$1:$C$500,0),IF(AND(_xlpm.fi>=239,_xlpm.fi<=500),_xlpm.fi,0))","v":{"$error":"#N/A"}}]
[null,null,null,null,null,null,null,null,null,null,null,{"$f":"_xlfn.LET(_xlpm.su,L449,_xlpm.sp,MOD(COLUMN(),6),_xlpm.suu,IF(_xlpm.su=\"\",\"@@@@\",_xlfn.TEXTSPLIT(_xlpm.su,\" / \")),_xlpm.fi,MATCH(_xlpm.suu,Tabelle2!$C$1:$C$500,0),IF(AND(_xlpm.fi>=239,_xlpm.fi<=500),_xlpm.fi,0))","v":{"$error":"#N/A"}}]
[null,null,null,null,null,null,null,null,null,null,null,{"$f":"_xlfn.LET(_xlpm.su,L450,_xlpm.sp,MOD(COLUMN(),6),_xlpm.suu,IF(_xlpm.su=\"\",\"@@@@\",_xlfn.TEXTSPLIT(_xlpm.su,\" / \")),_xlpm.fi,MATCH(_xlpm.suu,Tabelle2!$C$1:$C$500,0),IF(AND(_xlpm.fi>=239,_xlpm.fi<=500),_xlpm.fi,0))","v":{"$error":"#N/A"}}]
[null,null,null,null,null,null,null,null,null,null,null,{"$f":"_xlfn.LET(_xlpm.su,L451,_xlpm.sp,MOD(COLUMN(),6),_xlpm.suu,IF(_xlpm.su=\"\",\"@@@@\",_xlfn.TEXTSPLIT(_xlpm.su,\" / \")),_xlpm.fi,MATCH(_xlpm.suu,Tabelle2!$C$1:$C$500,0),IF(AND(_xlpm.fi>=239,_xlpm.fi<=500),_xlpm.fi,0))","v":{"$error":"#N/A"}}]
[null,null,null,null,null,null,null,null,null,null,null,{"$f":"_xlfn.LET(_xlpm.su,L452,_xlpm.sp,MOD(COLUMN(),6),_xlpm.suu,IF(_xlpm.su=\"\",\"@@@@\",_xlfn.TEXTSPLIT(_xlpm.su,\" / \")),_xlpm.fi,MATCH(_xlpm.suu,Tabelle2!$C$1:$C$500,0),IF(AND(_xlpm.fi>=239,_xlpm.fi<=500),_xlpm.fi,0))","v":{"$error":"#N/A"}}]
[null,null,null,null,null,null,null,null,null,null,null,{"$f":"_xlfn.LET(_xlpm.su,L453,_xlpm.sp,MOD(COLUMN(),6),_xlpm.suu,IF(_xlpm.su=\"\",\"@@@@\",_xlfn.TEXTSPLIT(_xlpm.su,\" / \")),_xlpm.fi,MATCH(_xlpm.suu,Tabelle2!$C$1:$C$500,0),IF(AND(_xlpm.fi>=239,_xlpm.fi<=500),_xlpm.fi,0))","v":{"$error":"#N/A"}}]
[null,null,null,null,null,null,null,null,null,null,null,{"$f":"_xlfn.LET(_xlpm.su,L454,_xlpm.sp,MOD(COLUMN(),6),_xlpm.suu,IF(_xlpm.su=\"\",\"@@@@\",_xlfn.TEXTSPLIT(_xlpm.su,\" / \")),_xlpm.fi,MATCH(_xlpm.suu,Tabelle2!$C$1:$C$500,0),IF(AND(_xlpm.fi>=239,_xlpm.fi<=500),_xlpm.fi,0))","v":{"$error":"#N/A"}}]
[null,null,null,null,null,null,null,null,null,null,null,{"$f":"_xlfn.LET(_xlpm.su,L455,_xlpm.sp,MOD(COLUMN(),6),_xlpm.suu,IF(_xlpm.su=\"\",\"@@@@\",_xlfn.TEXTSPLIT(_xlpm.su,\" / \")),_xlpm.fi,MATCH(_xlpm.suu,Tabelle2!$C$1:$C$500,0),IF(AND(_xlpm.fi>=239,_xlpm.fi<=500),_xlpm.fi,0))","v":{"$error":"#N/A"}}]
[null,null,null,null,null,null,null,null,null,null,null,{"$f":"_xlfn.LET(_xlpm.su,L456,_xlpm.sp,MOD(COLUMN(),6),_xlpm.suu,IF(_xlpm.su=\"\",\"@@@@\",_xlfn.TEXTSPLIT(_xlpm.su,\" / \")),_xlpm.fi,MATCH(_xlpm.suu,Tabelle2!$C$1:$C$500,0),IF(AND(_xlpm.fi>=239,_xlpm.fi<=500),_xlpm.fi,0))","v":{"$error":"#N/A"}}]
[null,null,null,null,null,null,null,null,null,null,null,{"$f":"_xlfn.LET(_xlpm.su,L457,_xlpm.sp,MOD(COLUMN(),6),_xlpm.suu,IF(_xlpm.su=\"\",\"@@@@\",_xlfn.TEXTSPLIT(_xlpm.su,\" / \")),_xlpm.fi,MATCH(_xlpm.suu,Tabelle2!$C$1:$C$500,0),IF(AND(_xlpm.fi>=239,_xlpm.fi<=500),_xlpm.fi,0))","v":{"$error":"#N/A"}}]
[null,null,null,null,null,null,null,null,null,null,null,{"$f":"_xlfn.LET(_xlpm.su,L458,_xlpm.sp,MOD(COLUMN(),6),_xlpm.suu,IF(_xlpm.su=\"\",\"@@@@\",_xlfn.TEXTSPLIT(_xlpm.su,\" / \")),_xlpm.fi,MATCH(_xlpm.suu,Tabelle2!$C$1:$C$500,0),IF(AND(_xlpm.fi>=239,_xlpm.fi<=500),_xlpm.fi,0))","v":{"$error":"#N/A"}}]
[null,null,null,null,null,null,null,null,null,null,null,{"$f":"_xlfn.LET(_xlpm.su,L459,_xlpm.sp,MOD(COLUMN(),6),_xlpm.suu,IF(_xlpm.su=\"\",\"@@@@\",_xlfn.TEXTSPLIT(_xlpm.su,\" / \")),_xlpm.fi,MATCH(_xlpm.suu,Tabelle2!$C$1:$C$500,0),IF(AND(_xlpm.fi>=239,_xlpm.fi<=500),_xlpm.fi,0))","v":{"$error":"#N/A"}}]
[null,null,null,null,null,null,null,null,null,null,null,{"$f":"_xlfn.LET(_xlpm.su,L460,_xlpm.sp,MOD(COLUMN(),6),_xlpm.suu,IF(_xlpm.su=\"\",\"@@@@\",_xlfn.TEXTSPLIT(_xlpm.su,\" / \")),_xlpm.fi,MATCH(_xlpm.suu,Tabelle2!$C$1:$C$500,0),IF(AND(_xlpm.fi>=239,_xlpm.fi<=500),_xlpm.fi,0))","v":{"$error":"#N/A"}}]
[null,null,null,null,null,null,null,null,null,null,null,{"$f":"_xlfn.LET(_xlpm.su,L461,_xlpm.sp,MOD(COLUMN(),6),_xlpm.suu,IF(_xlpm.su=\"\",\"@@@@\",_xlfn.TEXTSPLIT(_xlpm.su,\" / \")),_xlpm.fi,MATCH(_xlpm.suu,Tabelle2!$C$1:$C$500,0),IF(AND(_xlpm.fi>=239,_xlpm.fi<=500),_xlpm.fi,0))","v":{"$error":"#N/A"}}]
[null,null,null,null,null,null,null,null,null,null,null,{"$f":"_xlfn.LET(_xlpm.su,L462,_xlpm.sp,MOD(COLUMN(),6),_xlpm.suu,IF(_xlpm.su=\"\",\"@@@@\",_xlfn.TEXTSPLIT(_xlpm.su,\" / \")),_xlpm.fi,MATCH(_xlpm.suu,Tabelle2!$C$1:$C$500,0),IF(AND(_xlpm.fi>=239,_xlpm.fi<=500),_xlpm.fi,0))","v":{"$error":"#N/A"}}]
[null,null,null,null,null,null,null,null,null,null,null,{"$f":"_xlfn.LET(_xlpm.su,L463,_xlpm.sp,MOD(COLUMN(),6),_xlpm.suu,IF(_xlpm.su=\"\",\"@@@@\",_xlfn.TEXTSPLIT(_xlpm.su,\" / \")),_xlpm.fi,MATCH(_xlpm.suu,Tabelle2!$C$1:$C$500,0),IF(AND(_xlpm.fi>=239,_xlpm.fi<=500),_xlpm.fi,0))","v":{"$error":"#N/A"}}]
[null,null,null,null,null,null,null,null,null,null,null,{"$f":"_xlfn.LET(_xlpm.su,L464,_xlpm.sp,MOD(COLUMN(),6),_xlpm.suu,IF(_xlpm.su=\"\",\"@@@@\",_xlfn.TEXTSPLIT(_xlpm.su,\" / \")),_xlpm.fi,MATCH(_xlpm.suu,Tabelle2!$C$1:$C$500,0),IF(AND(_xlpm.fi>=239,_xlpm.fi<=500),_xlpm.fi,0))","v":{"$error":"#N/A"}}]
[null,null,null,null,null,null,null,null,null,null,null,{"$f":"_xlfn.LET(_xlpm.su,L465,_xlpm.sp,MOD(COLUMN(),6),_xlpm.suu,IF(_xlpm.su=\"\",\"@@@@\",_xlfn.TEXTSPLIT(_xlpm.su,\" / \")),_xlpm.fi,MATCH(_xlpm.suu,Tabelle2!$C$1:$C$500,0),IF(AND(_xlpm.fi>=239,_xlpm.fi<=500),_xlpm.fi,0))","v":{"$error":"#N/A"}}]
[null,null,null,null,null,null,null,null,null,null,null,{"$f":"_xlfn.LET(_xlpm.su,L466,_xlpm.sp,MOD(COLUMN(),6),_xlpm.suu,IF(_xlpm.su=\"\",\"@@@@\",_xlfn.TEXTSPLIT(_xlpm.su,\" / \")),_xlpm.fi,MATCH(_xlpm.suu,Tabelle2!$C$1:$C$500,0),IF(AND(_xlpm.fi>=239,_xlpm.fi<=500),_xlpm.fi,0))","v":{"$error":"#N/A"}}]
[null,null,null,null,null,null,null,null,null,null,null,{"$f":"_xlfn.LET(_xlpm.su,L467,_xlpm.sp,MOD(COLUMN(),6),_xlpm.suu,IF(_xlpm.su=\"\",\"@@@@\",_xlfn.TEXTSPLIT(_xlpm.su,\" / \")),_xlpm.fi,MATCH(_xlpm.suu,Tabelle2!$C$1:$C$500,0),IF(AND(_xlpm.fi>=239,_xlpm.fi<=500),_xlpm.fi,0))","v":{"$error":"#N/A"}}]
[null,null,null,null,null,null,null,null,null,null,null,{"$f":"_xlfn.LET(_xlpm.su,L468,_xlpm.sp,MOD(COLUMN(),6),_xlpm.suu,IF(_xlpm.su=\"\",\"@@@@\",_xlfn.TEXTSPLIT(_xlpm.su,\" / \")),_xlpm.fi,MATCH(_xlpm.suu,Tabelle2!$C$1:$C$500,0),IF(AND(_xlpm.fi>=239,_xlpm.fi<=500),_xlpm.fi,0))","v":{"$error":"#N/A"}}]
[null,null,null,null,null,null,null,null,null,null,null,{"$f":"_xlfn.LET(_xlpm.su,L469,_xlpm.sp,MOD(COLUMN(),6),_xlpm.suu,IF(_xlpm.su=\"\",\"@@@@\",_xlfn.TEXTSPLIT(_xlpm.su,\" / \")),_xlpm.fi,MATCH(_xlpm.suu,Tabelle2!$C$1:$C$500,0),IF(AND(_xlpm.fi>=239,_xlpm.fi<=500),_xlpm.fi,0))","v":{"$error":"#N/A"}}]
[null,null,null,null,null,null,null,null,null,null,null,{"$f":"_xlfn.LET(_xlpm.su,L470,_xlpm.sp,MOD(COLUMN(),6),_xlpm.suu,IF(_xlpm.su=\"\",\"@@@@\",_xlfn.TEXTSPLIT(_xlpm.su,\" / \")),_xlpm.fi,MATCH(_xlpm.suu,Tabelle2!$C$1:$C$500,0),IF(AND(_xlpm.fi>=239,_xlpm.fi<=500),_xlpm.fi,0))","v":{"$error":"#N/A"}}]
[null,null,null,null,null,null,null,null,null,null,null,{"$f":"_xlfn.LET(_xlpm.su,L471,_xlpm.sp,MOD(COLUMN(),6),_xlpm.suu,IF(_xlpm.su=\"\",\"@@@@\",_xlfn.TEXTSPLIT(_xlpm.su,\" / \")),_xlpm.fi,MATCH(_xlpm.suu,Tabelle2!$C$1:$C$500,0),IF(AND(_xlpm.fi>=239,_xlpm.fi<=500),_xlpm.fi,0))","v":{"$error":"#N/A"}}]
[null,null,null,null,null,null,null,null,null,null,null,{"$f":"_xlfn.LET(_xlpm.su,L472,_xlpm.sp,MOD(COLUMN(),6),_xlpm.suu,IF(_xlpm.su=\"\",\"@@@@\",_xlfn.TEXTSPLIT(_xlpm.su,\" / \")),_xlpm.fi,MATCH(_xlpm.suu,Tabelle2!$C$1:$C$500,0),IF(AND(_xlpm.fi>=239,_xlpm.fi<=500),_xlpm.fi,0))","v":{"$error":"#N/A"}}]
[null,null,null,null,null,null,null,null,null,null,null,{"$f":"_xlfn.LET(_xlpm.su,L473,_xlpm.sp,MOD(COLUMN(),6),_xlpm.suu,IF(_xlpm.su=\"\",\"@@@@\",_xlfn.TEXTSPLIT(_xlpm.su,\" / \")),_xlpm.fi,MATCH(_xlpm.suu,Tabelle2!$C$1:$C$500,0),IF(AND(_xlpm.fi>=239,_xlpm.fi<=500),_xlpm.fi,0))","v":{"$error":"#N/A"}}]
[null,null,null,null,null,null,null,null,null,null,null,{"$f":"_xlfn.LET(_xlpm.su,L474,_xlpm.sp,MOD(COLUMN(),6),_xlpm.suu,IF(_xlpm.su=\"\",\"@@@@\",_xlfn.TEXTSPLIT(_xlpm.su,\" / \")),_xlpm.fi,MATCH(_xlpm.suu,Tabelle2!$C$1:$C$500,0),IF(AND(_xlpm.fi>=239,_xlpm.fi<=500),_xlpm.fi,0))","v":{"$error":"#N/A"}}]
[null,null,null,null,null,null,null,null,null,null,null,{"$f":"_xlfn.LET(_xlpm.su,L475,_xlpm.sp,MOD(COLUMN(),6),_xlpm.suu,IF(_xlpm.su=\"\",\"@@@@\",_xlfn.TEXTSPLIT(_xlpm.su,\" / \")),_xlpm.fi,MATCH(_xlpm.suu,Tabelle2!$C$1:$C$500,0),IF(AND(_xlpm.fi>=239,_xlpm.fi<=500),_xlpm.fi,0))","v":{"$error":"#N/A"}}]
[null,null,null,null,null,null,null,null,null,null,null,{"$f":"_xlfn.LET(_xlpm.su,L476,_xlpm.sp,MOD(COLUMN(),6),_xlpm.suu,IF(_xlpm.su=\"\",\"@@@@\",_xlfn.TEXTSPLIT(_xlpm.su,\" / \")),_xlpm.fi,MATCH(_xlpm.suu,Tabelle2!$C$1:$C$500,0),IF(AND(_xlpm.fi>=239,_xlpm.fi<=500),_xlpm.fi,0))","v":{"$error":"#N/A"}}]
[null,null,null,null,null,null,null,null,null,null,null,{"$f":"_xlfn.LET(_xlpm.su,L477,_xlpm.sp,MOD(COLUMN(),6),_xlpm.suu,IF(_xlpm.su=\"\",\"@@@@\",_xlfn.TEXTSPLIT(_xlpm.su,\" / \")),_xlpm.fi,MATCH(_xlpm.suu,Tabelle2!$C$1:$C$500,0),IF(AND(_xlpm.fi>=239,_xlpm.fi<=500),_xlpm.fi,0))","v":{"$error":"#N/A"}}]
[null,null,null,null,null,null,null,null,null,null,null,{"$f":"_xlfn.LET(_xlpm.su,L478,_xlpm.sp,MOD(COLUMN(),6),_xlpm.suu,IF(_xlpm.su=\"\",\"@@@@\",_xlfn.TEXTSPLIT(_xlpm.su,\" / \")),_xlpm.fi,MATCH(_xlpm.suu,Tabelle2!$C$1:$C$500,0),IF(AND(_xlpm.fi>=239,_xlpm.fi<=500),_xlpm.fi,0))","v":{"$error":"#N/A"}}]
[null,null,null,null,null,null,null,null,null,null,null,{"$f":"_xlfn.LET(_xlpm.su,L479,_xlpm.sp,MOD(COLUMN(),6),_xlpm.suu,IF(_xlpm.su=\"\",\"@@@@\",_xlfn.TEXTSPLIT(_xlpm.su,\" / \")),_xlpm.fi,MATCH(_xlpm.suu,Tabelle2!$C$1:$C$500,0),IF(AND(_xlpm.fi>=239,_xlpm.fi<=500),_xlpm.fi,0))","v":{"$error":"#N/A"}}]
[null,null,null,null,null,null,null,null,null,null,null,{"$f":"_xlfn.LET(_xlpm.su,L480,_xlpm.sp,MOD(COLUMN(),6),_xlpm.suu,IF(_xlpm.su=\"\",\"@@@@\",_xlfn.TEXTSPLIT(_xlpm.su,\" / \")),_xlpm.fi,MATCH(_xlpm.suu,Tabelle2!$C$1:$C$500,0),IF(AND(_xlpm.fi>=239,_xlpm.fi<=500),_xlpm.fi,0))","v":{"$error":"#N/A"}}]
[null,null,null,null,null,null,null,null,null,null,null,{"$f":"_xlfn.LET(_xlpm.su,L481,_xlpm.sp,MOD(COLUMN(),6),_xlpm.suu,IF(_xlpm.su=\"\",\"@@@@\",_xlfn.TEXTSPLIT(_xlpm.su,\" / \")),_xlpm.fi,MATCH(_xlpm.suu,Tabelle2!$C$1:$C$500,0),IF(AND(_xlpm.fi>=239,_xlpm.fi<=500),_xlpm.fi,0))","v":{"$error":"#N/A"}}]
[null,null,null,null,null,null,null,null,null,null,null,{"$f":"_xlfn.LET(_xlpm.su,L482,_xlpm.sp,MOD(COLUMN(),6),_xlpm.suu,IF(_xlpm.su=\"\",\"@@@@\",_xlfn.TEXTSPLIT(_xlpm.su,\" / \")),_xlpm.fi,MATCH(_xlpm.suu,Tabelle2!$C$1:$C$500,0),IF(AND(_xlpm.fi>=239,_xlpm.fi<=500),_xlpm.fi,0))","v":{"$error":"#N/A"}}]
[null,null,null,null,null,null,null,null,null,null,null,{"$f":"_xlfn.LET(_xlpm.su,L483,_xlpm.sp,MOD(COLUMN(),6),_xlpm.suu,IF(_xlpm.su=\"\",\"@@@@\",_xlfn.TEXTSPLIT(_xlpm.su,\" / \")),_xlpm.fi,MATCH(_xlpm.suu,Tabelle2!$C$1:$C$500,0),IF(AND(_xlpm.fi>=239,_xlpm.fi<=500),_xlpm.fi,0))","v":{"$error":"#N/A"}}]
[null,null,null,null,null,null,null,null,null,null,null,{"$f":"_xlfn.LET(_xlpm.su,L484,_xlpm.sp,MOD(COLUMN(),6),_xlpm.suu,IF(_xlpm.su=\"\",\"@@@@\",_xlfn.TEXTSPLIT(_xlpm.su,\" / \")),_xlpm.fi,MATCH(_xlpm.suu,Tabelle2!$C$1:$C$500,0),IF(AND(_xlpm.fi>=239,_xlpm.fi<=500),_xlpm.fi,0))","v":{"$error":"#N/A"}}]
[null,null,null,null,null,null,null,null,null,null,null,{"$f":"_xlfn.LET(_xlpm.su,L485,_xlpm.sp,MOD(COLUMN(),6),_xlpm.suu,IF(_xlpm.su=\"\",\"@@@@\",_xlfn.TEXTSPLIT(_xlpm.su,\" / \")),_xlpm.fi,MATCH(_xlpm.suu,Tabelle2!$C$1:$C$500,0),IF(AND(_xlpm.fi>=239,_xlpm.fi<=500),_xlpm.fi,0))","v":{"$error":"#N/A"}}]
[null,null,null,null,null,null,null,null,null,null,null,{"$f":"_xlfn.LET(_xlpm.su,L486,_xlpm.sp,MOD(COLUMN(),6),_xlpm.suu,IF(_xlpm.su=\"\",\"@@@@\",_xlfn.TEXTSPLIT(_xlpm.su,\" / \")),_xlpm.fi,MATCH(_xlpm.suu,Tabelle2!$C$1:$C$500,0),IF(AND(_xlpm.fi>=239,_xlpm.fi<=500),_xlpm.fi,0))","v":{"$error":"#N/A"}}]
[null,null,null,null,null,null,null,null,null,null,null,{"$f":"_xlfn.LET(_xlpm.su,L487,_xlpm.sp,MOD(COLUMN(),6),_xlpm.suu,IF(_xlpm.su=\"\",\"@@@@\",_xlfn.TEXTSPLIT(_xlpm.su,\" / \")),_xlpm.fi,MATCH(_xlpm.suu,Tabelle2!$C$1:$C$500,0),IF(AND(_xlpm.fi>=239,_xlpm.fi<=500),_xlpm.fi,0))","v":{"$error":"#N/A"}}]
[null,null,null,null,null,null,null,null,null,null,null,{"$f":"_xlfn.LET(_xlpm.su,L488,_xlpm.sp,MOD(COLUMN(),6),_xlpm.suu,IF(_xlpm.su=\"\",\"@@@@\",_xlfn.TEXTSPLIT(_xlpm.su,\" / \")),_xlpm.fi,MATCH(_xlpm.suu,Tabelle2!$C$1:$C$500,0),IF(AND(_xlpm.fi>=239,_xlpm.fi<=500),_xlpm.fi,0))","v":{"$error":"#N/A"}}]
[null,null,null,null,null,null,null,null,null,null,null,{"$f":"_xlfn.LET(_xlpm.su,L489,_xlpm.sp,MOD(COLUMN(),6),_xlpm.suu,IF(_xlpm.su=\"\",\"@@@@\",_xlfn.TEXTSPLIT(_xlpm.su,\" / \")),_xlpm.fi,MATCH(_xlpm.suu,Tabelle2!$C$1:$C$500,0),IF(AND(_xlpm.fi>=239,_xlpm.fi<=500),_xlpm.fi,0))","v":{"$error":"#N/A"}}]
[null,null,null,null,null,null,null,null,null,null,null,{"$f":"_xlfn.LET(_xlpm.su,L490,_xlpm.sp,MOD(COLUMN(),6),_xlpm.suu,IF(_xlpm.su=\"\",\"@@@@\",_xlfn.TEXTSPLIT(_xlpm.su,\" / \")),_xlpm.fi,MATCH(_xlpm.suu,Tabelle2!$C$1:$C$500,0),IF(AND(_xlpm.fi>=239,_xlpm.fi<=500),_xlpm.fi,0))","v":{"$error":"#N/A"}}]
[null,null,null,null,null,null,null,null,null,null,null,{"$f":"_xlfn.LET(_xlpm.su,L491,_xlpm.sp,MOD(COLUMN(),6),_xlpm.suu,IF(_xlpm.su=\"\",\"@@@@\",_xlfn.TEXTSPLIT(_xlpm.su,\" / \")),_xlpm.fi,MATCH(_xlpm.suu,Tabelle2!$C$1:$C$500,0),IF(AND(_xlpm.fi>=239,_xlpm.fi<=500),_xlpm.fi,0))","v":{"$error":"#N/A"}}]
[null,null,null,null,null,null,null,null,null,null,null,{"$f":"_xlfn.LET(_xlpm.su,L492,_xlpm.sp,MOD(COLUMN(),6),_xlpm.suu,IF(_xlpm.su=\"\",\"@@@@\",_xlfn.TEXTSPLIT(_xlpm.su,\" / \")),_xlpm.fi,MATCH(_xlpm.suu,Tabelle2!$C$1:$C$500,0),IF(AND(_xlpm.fi>=239,_xlpm.fi<=500),_xlpm.fi,0))","v":{"$error":"#N/A"}}]
[null,null,null,null,null,null,null,null,null,null,null,{"$f":"_xlfn.LET(_xlpm.su,L493,_xlpm.sp,MOD(COLUMN(),6),_xlpm.suu,IF(_xlpm.su=\"\",\"@@@@\",_xlfn.TEXTSPLIT(_xlpm.su,\" / \")),_xlpm.fi,MATCH(_xlpm.suu,Tabelle2!$C$1:$C$500,0),IF(AND(_xlpm.fi>=239,_xlpm.fi<=500),_xlpm.fi,0))","v":{"$error":"#N/A"}}]
[null,null,null,null,null,null,null,null,null,null,null,{"$f":"_xlfn.LET(_xlpm.su,L494,_xlpm.sp,MOD(COLUMN(),6),_xlpm.suu,IF(_xlpm.su=\"\",\"@@@@\",_xlfn.TEXTSPLIT(_xlpm.su,\" / \")),_xlpm.fi,MATCH(_xlpm.suu,Tabelle2!$C$1:$C$500,0),IF(AND(_xlpm.fi>=239,_xlpm.fi<=500),_xlpm.fi,0))","v":{"$error":"#N/A"}}]
[null,null,null,null,null,null,null,null,null,null,null,{"$f":"_xlfn.LET(_xlpm.su,L495,_xlpm.sp,MOD(COLUMN(),6),_xlpm.suu,IF(_xlpm.su=\"\",\"@@@@\",_xlfn.TEXTSPLIT(_xlpm.su,\" / \")),_xlpm.fi,MATCH(_xlpm.suu,Tabelle2!$C$1:$C$500,0),IF(AND(_xlpm.fi>=239,_xlpm.fi<=500),_xlpm.fi,0))","v":{"$error":"#N/A"}}]
[null,null,null,null,null,null,null,null,null,null,null,{"$f":"_xlfn.LET(_xlpm.su,L496,_xlpm.sp,MOD(COLUMN(),6),_xlpm.suu,IF(_xlpm.su=\"\",\"@@@@\",_xlfn.TEXTSPLIT(_xlpm.su,\" / \")),_xlpm.fi,MATCH(_xlpm.suu,Tabelle2!$C$1:$C$500,0),IF(AND(_xlpm.fi>=239,_xlpm.fi<=500),_xlpm.fi,0))","v":{"$error":"#N/A"}}]
[null,null,null,null,null,null,null,null,null,null,null,{"$f":"_xlfn.LET(_xlpm.su,L497,_xlpm.sp,MOD(COLUMN(),6),_xlpm.suu,IF(_xlpm.su=\"\",\"@@@@\",_xlfn.TEXTSPLIT(_xlpm.su,\" / \")),_xlpm.fi,MATCH(_xlpm.suu,Tabelle2!$C$1:$C$500,0),IF(AND(_xlpm.fi>=239,_xlpm.fi<=500),_xlpm.fi,0))","v":{"$error":"#N/A"}}]
[null,null,null,null,null,null,null,null,null,null,null,{"$f":"_xlfn.LET(_xlpm.su,L498,_xlpm.sp,MOD(COLUMN(),6),_xlpm.suu,IF(_xlpm.su=\"\",\"@@@@\",_xlfn.TEXTSPLIT(_xlpm.su,\" / \")),_xlpm.fi,MATCH(_xlpm.suu,Tabelle2!$C$1:$C$500,0),IF(AND(_xlpm.fi>=239,_xlpm.fi<=500),_xlpm.fi,0))","v":{"$error":"#N/A"}}]
[null,null,null,null,null,null,null,null,null,null,null,{"$f":"_xlfn.LET(_xlpm.su,L499,_xlpm.sp,MOD(COLUMN(),6),_xlpm.suu,IF(_xlpm.su=\"\",\"@@@@\",_xlfn.TEXTSPLIT(_xlpm.su,\" / \")),_xlpm.fi,MATCH(_xlpm.suu,Tabelle2!$C$1:$C$500,0),IF(AND(_xlpm.fi>=239,_xlpm.fi<=500),_xlpm.fi,0))","v":{"$error":"#N/A"}}]
[null,null,null,null,null,null,null,null,null,null,null,{"$f":"_xlfn.LET(_xlpm.su,L500,_xlpm.sp,MOD(COLUMN(),6),_xlpm.suu,IF(_xlpm.su=\"\",\"@@@@\",_xlfn.TEXTSPLIT(_xlpm.su,\" / \")),_xlpm.fi,MATCH(_xlpm.suu,Tabelle2!$C$1:$C$500,0),IF(AND(_xlpm.fi>=239,_xlpm.fi<=500),_xlpm.fi,0))","v":{"$error":"#N/A"}}]
[null,null,null,null,null,null,null,null,null,null,null,{"$f":"_xlfn.LET(_xlpm.su,L501,_xlpm.sp,MOD(COLUMN(),6),_xlpm.suu,IF(_xlpm.su=\"\",\"@@@@\",_xlfn.TEXTSPLIT(_xlpm.su,\" / \")),_xlpm.fi,MATCH(_xlpm.suu,Tabelle2!$C$1:$C$500,0),IF(AND(_xlpm.fi>=239,_xlpm.fi<=500),_xlpm.fi,0))","v":{"$error":"#N/A"}}]
[null,null,null,null,null,null,null,null,null,null,null,{"$f":"_xlfn.LET(_xlpm.su,L502,_xlpm.sp,MOD(COLUMN(),6),_xlpm.suu,IF(_xlpm.su=\"\",\"@@@@\",_xlfn.TEXTSPLIT(_xlpm.su,\" / \")),_xlpm.fi,MATCH(_xlpm.suu,Tabelle2!$C$1:$C$500,0),IF(AND(_xlpm.fi>=239,_xlpm.fi<=500),_xlpm.fi,0))","v":{"$error":"#N/A"}}]
[null,null,null,null,null,null,null,null,null,null,null,{"$f":"_xlfn.LET(_xlpm.su,L503,_xlpm.sp,MOD(COLUMN(),6),_xlpm.suu,IF(_xlpm.su=\"\",\"@@@@\",_xlfn.TEXTSPLIT(_xlpm.su,\" / \")),_xlpm.fi,MATCH(_xlpm.suu,Tabelle2!$C$1:$C$500,0),IF(AND(_xlpm.fi>=239,_xlpm.fi<=500),_xlpm.fi,0))","v":{"$error":"#N/A"}}]
[null,null,null,null,null,null,null,null,null,null,null,{"$f":"_xlfn.LET(_xlpm.su,L504,_xlpm.sp,MOD(COLUMN(),6),_xlpm.suu,IF(_xlpm.su=\"\",\"@@@@\",_xlfn.TEXTSPLIT(_xlpm.su,\" / \")),_xlpm.fi,MATCH(_xlpm.suu,Tabelle2!$C$1:$C$500,0),IF(AND(_xlpm.fi>=239,_xlpm.fi<=500),_xlpm.fi,0))","v":{"$error":"#N/A"}}]
[null,null,null,null,null,null,null,null,null,null,null,{"$f":"_xlfn.LET(_xlpm.su,L505,_xlpm.sp,MOD(COLUMN(),6),_xlpm.suu,IF(_xlpm.su=\"\",\"@@@@\",_xlfn.TEXTSPLIT(_xlpm.su,\" / \")),_xlpm.fi,MATCH(_xlpm.suu,Tabelle2!$C$1:$C$500,0),IF(AND(_xlpm.fi>=239,_xlpm.fi<=500),_xlpm.fi,0))","v":{"$error":"#N/A"}}]
[null,null,null,null,null,null,null,null,null,null,null,{"$f":"_xlfn.LET(_xlpm.su,L506,_xlpm.sp,MOD(COLUMN(),6),_xlpm.suu,IF(_xlpm.su=\"\",\"@@@@\",_xlfn.TEXTSPLIT(_xlpm.su,\" / \")),_xlpm.fi,MATCH(_xlpm.suu,Tabelle2!$C$1:$C$500,0),IF(AND(_xlpm.fi>=239,_xlpm.fi<=500),_xlpm.fi,0))","v":{"$error":"#N/A"}}]
[null,null,null,null,null,null,null,null,null,null,null,{"$f":"_xlfn.LET(_xlpm.su,L507,_xlpm.sp,MOD(COLUMN(),6),_xlpm.suu,IF(_xlpm.su=\"\",\"@@@@\",_xlfn.TEXTSPLIT(_xlpm.su,\" / \")),_xlpm.fi,MATCH(_xlpm.suu,Tabelle2!$C$1:$C$500,0),IF(AND(_xlpm.fi>=239,_xlpm.fi<=500),_xlpm.fi,0))","v":{"$error":"#N/A"}}]
[null,null,null,null,null,null,null,null,null,null,null,{"$f":"_xlfn.LET(_xlpm.su,L508,_xlpm.sp,MOD(COLUMN(),6),_xlpm.suu,IF(_xlpm.su=\"\",\"@@@@\",_xlfn.TEXTSPLIT(_xlpm.su,\" / \")),_xlpm.fi,MATCH(_xlpm.suu,Tabelle2!$C$1:$C$500,0),IF(AND(_xlpm.fi>=239,_xlpm.fi<=500),_xlpm.fi,0))","v":{"$error":"#N/A"}}]
[null,null,null,null,null,null,null,null,null,null,null,{"$f":"_xlfn.LET(_xlpm.su,L509,_xlpm.sp,MOD(COLUMN(),6),_xlpm.suu,IF(_xlpm.su=\"\",\"@@@@\",_xlfn.TEXTSPLIT(_xlpm.su,\" / \")),_xlpm.fi,MATCH(_xlpm.suu,Tabelle2!$C$1:$C$500,0),IF(AND(_xlpm.fi>=239,_xlpm.fi<=500),_xlpm.fi,0))","v":{"$error":"#N/A"}}]
[null,null,null,null,null,null,null,null,null,null,null,{"$f":"_xlfn.LET(_xlpm.su,L510,_xlpm.sp,MOD(COLUMN(),6),_xlpm.suu,IF(_xlpm.su=\"\",\"@@@@\",_xlfn.TEXTSPLIT(_xlpm.su,\" / \")),_xlpm.fi,MATCH(_xlpm.suu,Tabelle2!$C$1:$C$500,0),IF(AND(_xlpm.fi>=239,_xlpm.fi<=500),_xlpm.fi,0))","v":{"$error":"#N/A"}}]
[null,null,null,null,null,null,null,null,null,null,null,{"$f":"_xlfn.LET(_xlpm.su,L511,_xlpm.sp,MOD(COLUMN(),6),_xlpm.suu,IF(_xlpm.su=\"\",\"@@@@\",_xlfn.TEXTSPLIT(_xlpm.su,\" / \")),_xlpm.fi,MATCH(_xlpm.suu,Tabelle2!$C$1:$C$500,0),IF(AND(_xlpm.fi>=239,_xlpm.fi<=500),_xlpm.fi,0))","v":{"$error":"#N/A"}}]
[null,null,null,null,null,null,null,null,null,null,null,{"$f":"_xlfn.LET(_xlpm.su,L512,_xlpm.sp,MOD(COLUMN(),6),_xlpm.suu,IF(_xlpm.su=\"\",\"@@@@\",_xlfn.TEXTSPLIT(_xlpm.su,\" / \")),_xlpm.fi,MATCH(_xlpm.suu,Tabelle2!$C$1:$C$500,0),IF(AND(_xlpm.fi>=239,_xlpm.fi<=500),_xlpm.fi,0))","v":{"$error":"#N/A"}}]
[null,null,null,null,null,null,null,null,null,null,null,{"$f":"_xlfn.LET(_xlpm.su,L513,_xlpm.sp,MOD(COLUMN(),6),_xlpm.suu,IF(_xlpm.su=\"\",\"@@@@\",_xlfn.TEXTSPLIT(_xlpm.su,\" / \")),_xlpm.fi,MATCH(_xlpm.suu,Tabelle2!$C$1:$C$500,0),IF(AND(_xlpm.fi>=239,_xlpm.fi<=500),_xlpm.fi,0))","v":{"$error":"#N/A"}}]
[null,null,null,null,null,null,null,null,null,null,null,{"$f":"_xlfn.LET(_xlpm.su,L514,_xlpm.sp,MOD(COLUMN(),6),_xlpm.suu,IF(_xlpm.su=\"\",\"@@@@\",_xlfn.TEXTSPLIT(_xlpm.su,\" / \")),_xlpm.fi,MATCH(_xlpm.suu,Tabelle2!$C$1:$C$500,0),IF(AND(_xlpm.fi>=239,_xlpm.fi<=500),_xlpm.fi,0))","v":{"$error":"#N/A"}}]
[null,null,null,null,null,null,null,null,null,null,null,{"$f":"_xlfn.LET(_xlpm.su,L515,_xlpm.sp,MOD(COLUMN(),6),_xlpm.suu,IF(_xlpm.su=\"\",\"@@@@\",_xlfn.TEXTSPLIT(_xlpm.su,\" / \")),_xlpm.fi,MATCH(_xlpm.suu,Tabelle2!$C$1:$C$500,0),IF(AND(_xlpm.fi>=239,_xlpm.fi<=500),_xlpm.fi,0))","v":{"$error":"#N/A"}}]
[null,null,null,null,null,null,null,null,null,null,null,{"$f":"_xlfn.LET(_xlpm.su,L516,_xlpm.sp,MOD(COLUMN(),6),_xlpm.suu,IF(_xlpm.su=\"\",\"@@@@\",_xlfn.TEXTSPLIT(_xlpm.su,\" / \")),_xlpm.fi,MATCH(_xlpm.suu,Tabelle2!$C$1:$C$500,0),IF(AND(_xlpm.fi>=239,_xlpm.fi<=500),_xlpm.fi,0))","v":{"$error":"#N/A"}}]
[null,null,null,null,null,null,null,null,null,null,null,{"$f":"_xlfn.LET(_xlpm.su,L517,_xlpm.sp,MOD(COLUMN(),6),_xlpm.suu,IF(_xlpm.su=\"\",\"@@@@\",_xlfn.TEXTSPLIT(_xlpm.su,\" / \")),_xlpm.fi,MATCH(_xlpm.suu,Tabelle2!$C$1:$C$500,0),IF(AND(_xlpm.fi>=239,_xlpm.fi<=500),_xlpm.fi,0))","v":{"$error":"#N/A"}}]
[null,null,null,null,null,null,null,null,null,null,null,{"$f":"_xlfn.LET(_xlpm.su,L518,_xlpm.sp,MOD(COLUMN(),6),_xlpm.suu,IF(_xlpm.su=\"\",\"@@@@\",_xlfn.TEXTSPLIT(_xlpm.su,\" / \")),_xlpm.fi,MATCH(_xlpm.suu,Tabelle2!$C$1:$C$500,0),IF(AND(_xlpm.fi>=239,_xlpm.fi<=500),_xlpm.fi,0))","v":{"$error":"#N/A"}}]
[null,null,null,null,null,null,null,null,null,null,null,{"$f":"_xlfn.LET(_xlpm.su,L519,_xlpm.sp,MOD(COLUMN(),6),_xlpm.suu,IF(_xlpm.su=\"\",\"@@@@\",_xlfn.TEXTSPLIT(_xlpm.su,\" / \")),_xlpm.fi,MATCH(_xlpm.suu,Tabelle2!$C$1:$C$500,0),IF(AND(_xlpm.fi>=239,_xlpm.fi<=500),_xlpm.fi,0))","v":{"$error":"#N/A"}}]
[null,null,null,null,null,null,null,null,null,null,null,{"$f":"_xlfn.LET(_xlpm.su,L520,_xlpm.sp,MOD(COLUMN(),6),_xlpm.suu,IF(_xlpm.su=\"\",\"@@@@\",_xlfn.TEXTSPLIT(_xlpm.su,\" / \")),_xlpm.fi,MATCH(_xlpm.suu,Tabelle2!$C$1:$C$500,0),IF(AND(_xlpm.fi>=239,_xlpm.fi<=500),_xlpm.fi,0))","v":{"$error":"#N/A"}}]
[null,null,null,null,null,null,null,null,null,null,null,{"$f":"_xlfn.LET(_xlpm.su,L521,_xlpm.sp,MOD(COLUMN(),6),_xlpm.suu,IF(_xlpm.su=\"\",\"@@@@\",_xlfn.TEXTSPLIT(_xlpm.su,\" / \")),_xlpm.fi,MATCH(_xlpm.suu,Tabelle2!$C$1:$C$500,0),IF(AND(_xlpm.fi>=239,_xlpm.fi<=500),_xlpm.fi,0))","v":{"$error":"#N/A"}}]
[null,null,null,null,null,null,null,null,null,null,null,{"$f":"_xlfn.LET(_xlpm.su,L522,_xlpm.sp,MOD(COLUMN(),6),_xlpm.suu,IF(_xlpm.su=\"\",\"@@@@\",_xlfn.TEXTSPLIT(_xlpm.su,\" / \")),_xlpm.fi,MATCH(_xlpm.suu,Tabelle2!$C$1:$C$500,0),IF(AND(_xlpm.fi>=239,_xlpm.fi<=500),_xlpm.fi,0))","v":{"$error":"#N/A"}}]
[null,null,null,null,null,null,null,null,null,null,null,{"$f":"_xlfn.LET(_xlpm.su,L523,_xlpm.sp,MOD(COLUMN(),6),_xlpm.suu,IF(_xlpm.su=\"\",\"@@@@\",_xlfn.TEXTSPLIT(_xlpm.su,\" / \")),_xlpm.fi,MATCH(_xlpm.suu,Tabelle2!$C$1:$C$500,0),_xlpm.fi)","v":{"$error":"#N/A"}}]
[null,null,null,null,null,null,null,null,null,null,null,{"$f":"_xlfn.LET(_xlpm.su,L524,_xlpm.sp,MOD(COLUMN(),6),_xlpm.suu,IF(_xlpm.su=\"\",\"@@@@\",_xlfn.TEXTSPLIT(_xlpm.su,\" / \")),_xlpm.fi,MATCH(_xlpm.suu,Tabelle2!$C$1:$C$500,0),_xlpm.fi)","v":{"$error":"#N/A"}}]
[null,null,null,null,null,null,null,null,null,null,null,{"$f":"LEN(L558)","v":{"$error":"#N/A"}}]
[null,null,null,null,null,null,null,null,null,null,null,{"$error":"#N/A"}]
[null,null,null,null,null,null,null,null,null,null,null,{"$error":"#N/A"}]
[null,null,null,null,null,null,null,null,null,null,null,{"$error":"#N/A"}]

{"sheet":"Tabelle2","index":1,"n_rows":389,"n_cols":17,"rows_kept":389,"cut":false,"hidden":false,"merged":[]}
["Feiertage 1-17","Termine 59-114","Geburtstage MA 118-231","Geburtstage Kinder 239-500"]
["Berechnung","Datum","Name",null,"Ferien",null,null,null,"Urlaub","Kollege1",null,"Urlaub","Kollege2",null,null,null,{"$f":"IF(COLUMN(B2)>COUNTIF($B:$B,$P2), \"\",INDEX($C:$C,SMALL(IF($B2:$B100=$P2,ROW(B$1:B$99)), COLUMN(B2))))","v":""}]
[null,{"$f":"(\"01.01.\"&Tabelle1!$D$2)+0","v":"2025-01-01"},"Neujahr",{"$f":"_xlfn.TEXTJOIN(\" / \",,IF($B$3:$B$500=B3,$C$3:$C$500,\"\"))","v":"Neujahr"},"von","bis",null,null,"von","bis",null,"von","bis"]
[null,{"$f":"(\"01.05.\"&Tabelle1!$D$2)+0","v":"2025-05-01"},"Tag der Arbeit",{"$f":"_xlfn.TEXTJOIN(\" / \",,IF($B$3:$B$500=B4,$C$3:$C$500,\"\"))","v":"Tag der Arbeit"},"2024-12-27","2025-01-10","Winter",null,"2025-01-31","2025-02-03",null,"2025-02-07","2025-02-07"]
["2 Tage vor ostersonntag",{"$f":"B9-2","v":"2025-04-18"},"Karfreitag",{"$f":"_xlfn.TEXTJOIN(\" / \",,IF($B$3:$B$500=B5,$C$3:$C$500,\"\"))","v":"Karfreitag"},"2025-04-07","2025-04-18","Ostern",null,"2025-03-28","2025-03-31",null,"2025-02-14","2025-02-17"]
["1 Tag vor osonn",{"$f":"B9+1","v":"2025-04-21"},"Ostermontag",{"$f":"_xlfn.TEXTJOIN(\" / \",,IF($B$3:$B$500=B6,$C$3:$C$500,\"\"))","v":"Ostermontag"},"2025-07-07","2025-08-15","Sommer",null,"2025-05-09","2025-05-09",null,"2025-05-02","2025-05-02"]
["39 Tage nach osonn",{"$f":"B9+39","v":"2025-05-29"},"Christi Himmelfahrt / Vatertag",{"$f":"_xlfn.TEXTJOIN(\" / \",,IF($B$3:$B$500=B7,$C$3:$C$500,\"\"))","v":"Christi Himmelfahrt / Vatertag / Lea / Kunigunde"},"2025-10-06","2025-10-17","Herbst",null,"2025-06-10","2025-06-20",null,{"$f":"F6-11","v":"2025-08-04"},{"$f":"F6+5","v":"2025-08-20"}]
[null,{"$f":"B10-1","v":"2025-06-08"},"Pfingstsonntag",{"$f":"_xlfn.TEXTJOIN(\" / \",,IF($B$3:$B$500=B8,$C$3:$C$500,\"\"))","v":"Pfingstsonntag"},null,null,null,null,"2025-08-25","2025-09-05"]
["49 Tage nach osonn",{"$f":"ROUND((DAY(MINUTE(Tabelle1!$D$2/38)/2+55)&\".4.\"&Tabelle1!$D$2)/7,)*7-6","v":"2025-04-20"},"Ostersonntag",{"$f":"_xlfn.TEXTJOIN(\" / \",,IF($B$3:$B$500=B9,$C$3:$C$500,\"\"))","v":"Ostersonntag"},"2025-12-22","2026-01-09","Winter",null,"2025-11-17","2025-11-21"]
["50 Tage nach osonn",{"$f":"B9+50","v":"2025-06-09"},"Pfingstmontag",{"$f":"_xlfn.TEXTJOIN(\" / \",,IF($B$3:$B$500=B10,$C$3:$C$500,\"\"))","v":"Pfingstmontag"}]
["60 Tage nach osonn",{"$f":"B9+60","v":"2025-06-19"},"Fronleichnam",{"$f":"_xlfn.TEXTJOIN(\" / \",,IF($B$3:$B$500=B11,$C$3:$C$500,\"\"))","v":"Fronleichnam"}]
[null,{"$f":"B13-82","v":"2025-10-03"},"Tag d. Dt. Einheit",{"$f":"_xlfn.TEXTJOIN(\" / \",,IF($B$3:$B$500=B12,$C$3:$C$500,\"\"))","v":"Tag d. Dt. Einheit"},null,null,null,null,"2025-12-18","2026-01-02",null,"2025-12-18","2026-01-02"]
[null,{"$f":"B14-1","v":"2025-12-24"},"Hlg. Abend",{"$f":"_xlfn.TEXTJOIN(\" / \",,IF($B$3:$B$500=B13,$C$3:$C$500,\"\"))","v":"Hlg. Abend"}]
[null,{"$f":"B15-1","v":"2025-12-25"},"1. Weihnachtstag",{"$f":"_xlfn.TEXTJOIN(\" / \",,IF($B$3:$B$500=B14,$C$3:$C$500,\"\"))","v":"1. Weihnachtstag"},null,null,null,null,"Bedingte Format., Zellen die enthalten, wert zwischen….."]
[null,{"$f":"B16-5","v":"2025-12-26"},"2. Weihnachtstag",{"$f":"_xlfn.TEXTJOIN(\" / \",,IF($B$3:$B$500=B15,$C$3:$C$500,\"\"))","v":"2. Weihnachtstag"}]
[null,{"$f":"(\"31.12.\"&Tabelle1!$D$2)+0","v":"2025-12-31"},"Silvester",{"$f":"_xlfn.TEXTJOIN(\" / \",,IF($B$3:$B$500=B16,$C$3:$C$500,\"\"))","v":"Silvester"}]
["Folgejahr",{"$f":"(\"01.01.\"&Tabelle1!$D$2+1)+0","v":"2026-01-01"},"Neujahr",{"$f":"_xlfn.TEXTJOIN(\" / \",,IF($B$3:$B$500=B17,$C$3:$C$500,\"\"))","v":"Neujahr"}]
[]
[null,{"$f":"(\"06.01.\"&Tabelle1!$D$2)+0","v":"2025-01-06"},"Heilige 3 Könige",{"$f":"_xlfn.TEXTJOIN(\" / \",,IF($B$3:$B$500=B19,$C$3:$C$500,\"\"))","v":"Heilige 3 Könige / Stefan"}]
[null,{"$f":"(\"14.02.\"&Tabelle1!$D$2)+0","v":"2025-02-14"},"Valentinstag",{"$f":"_xlfn.TEXTJOIN(\" / \",,IF($B$3:$B$500=B20,$C$3:$C$500,\"\"))","v":"Valentinstag"}]
[null,{"$f":"7*ROUND((4&-Tabelle1!$D$2)/7+MOD(19*MOD(Tabelle1!$D$2,19)-7,30)*0.14,)-6-48","v":"2025-03-03"},"Rosenmontag",{"$f":"_xlfn.TEXTJOIN(\" / \",,IF($B$3:$B$500=B21,$C$3:$C$500,\"\"))","v":"Rosenmontag"}]
[null,{"$f":"B21+1","v":"2025-03-04"},"Faschingsdienstag",{"$f":"_xlfn.TEXTJOIN(\" / \",,IF($B$3:$B$500=B22,$C$3:$C$500,\"\"))","v":"Faschingsdienstag"}]
[null,{"$f":"B22+1","v":"2025-03-05"},"Aschermittwoch",{"$f":"_xlfn.TEXTJOIN(\" / \",,IF($B$3:$B$500=B23,$C$3:$C$500,\"\"))","v":"Aschermittwoch"}]
[null,{"$f":"DATE(Tabelle1!$D$2,5,1)-WEEKDAY(DATE(Tabelle1!$D$2,5,1),2)+14-(7*(DATE(Tabelle1!$D$2,5,1)-WEEKDAY(DATE(Tabelle1!$D$2,5,1),2)+14=ROUND((DAY(MINUTE(Tabelle1!$D$2/38)/2+55)&\".4.\"&Tabelle1!$D$2)/7,)*7-6+49))","v":"2025-05-11"},"Muttertag",{"$f":"_xlfn.TEXTJOIN(\" / \",,IF($B$3:$B$500=B24,$C$3:$C$500,\"\"))","v":"Muttertag"}]
[null,{"$f":"DATE(Tabelle1!$D$2,10,1)+7-WEEKDAY(DATE(Tabelle1!$D$2,10,1),2)","v":"2025-10-05"},"Erntedank",{"$f":"_xlfn.TEXTJOIN(\" / \",,IF($B$3:$B$500=B25,$C$3:$C$500,\"\"))","v":"Erntedank"}]
[null,{"$f":"(\"31.10.\"&Tabelle1!$D$2)+0","v":"2025-10-31"},"Halloween Reformationstag",{"$f":"_xlfn.TEXTJOIN(\" / \",,IF($B$3:$B$500=B26,$C$3:$C$500,\"\"))","v":"Halloween Reformationstag / Ella / Nathalie"}]
[null,{"$f":"DATE(Tabelle1!$D$2,12,25)-WEEKDAY(DATE(Tabelle1!$D$2,12,25),2)-35","v":"2025-11-16"},"Volkstrauertag",{"$f":"_xlfn.TEXTJOIN(\" / \",,IF($B$3:$B$500=B27,$C$3:$C$500,\"\"))","v":"Volkstrauertag"}]
[null,{"$f":"DATE(Tabelle1!$D$2,12,25)-WEEKDAY(DATE(Tabelle1!$D$2,12,25),2)-32","v":"2025-11-19"},"Buß- und Bettag",{"$f":"_xlfn.TEXTJOIN(\" / \",,IF($B$3:$B$500=B28,$C$3:$C$500,\"\"))","v":"Buß- und Bettag / Mertr"}]
[null,{"$f":"DATE(Tabelle1!$D$2,12,25)-WEEKDAY(DATE(Tabelle1!$D$2,12,25),2)-28","v":"2025-11-23"},"Totensonntag",{"$f":"_xlfn.TEXTJOIN(\" / \",,IF($B$3:$B$500=B29,$C$3:$C$500,\"\"))","v":"Totensonntag / Niklas"}]
[null,{"$f":"DATE(Tabelle1!$D$2,12,25)-WEEKDAY(DATE(Tabelle1!$D$2,12,25),2)-21","v":"2025-11-30"},"1. Advent",{"$f":"_xlfn.TEXTJOIN(\" / \",,IF($B$3:$B$500=B30,$C$3:$C$500,\"\"))","v":"1. Advent"}]
[null,{"$f":"(\"06.12.\"&Tabelle1!$D$2)+0","v":"2025-12-06"},"Nikolaus",{"$f":"_xlfn.TEXTJOIN(\" / \",,IF($B$3:$B$500=B31,$C$3:$C$500,\"\"))","v":"Nikolaus / Thorsten"}]
[null,{"$f":"B30+7","v":"2025-12-07"},"2. Advent",{"$f":"_xlfn.TEXTJOIN(\" / \",,IF($B$3:$B$500=B32,$C$3:$C$500,\"\"))","v":"2. Advent"}]
[null,{"$f":"B32+7","v":"2025-12-14"},"3. Advent",{"$f":"_xlfn.TEXTJOIN(\" / \",,IF($B$3:$B$500=B33,$C$3:$C$500,\"\"))","v":"3. Advent"}]
[null,{"$f":"B33+7","v":"2025-12-21"},"4.Advent",{"$f":"_xlfn.TEXTJOIN(\" / \",,IF($B$3:$B$500=B34,$C$3:$C$500,\"\"))","v":"4.Advent / Christina"}]
[null,null,"Folgejahr"]
[null,{"$f":"(\"06.01.\"&Tabelle1!$D$2+1)+0","v":"2026-01-06"},"Heilige 3 Könige",{"$f":"_xlfn.TEXTJOIN(\" / \",,IF($B$3:$B$500=B36,$C$3:$C$500,\"\"))","v":"Heilige 3 Könige / Stefan"}]
[null,{"$f":"(\"14.02.\"&Tabelle1!$D$2+1)+0","v":"2026-02-14"},"Valentinstag",{"$f":"_xlfn.TEXTJOIN(\" / \",,IF($B$3:$B$500=B37,$C$3:$C$500,\"\"))","v":"Valentinstag"}]
[null,{"$f":"7*ROUND((4&-Tabelle1!$D$2+1)/7+MOD(19*MOD(Tabelle1!$D$2+1,19)-7,30)*0.14,)-6-48","v":"2024-02-19"},"Rosenmontag",{"$f":"_xlfn.TEXTJOIN(\" / \",,IF($B$3:$B$500=B38,$C$3:$C$500,\"\"))","v":"Rosenmontag"},null,"Max / Paul"]
[null,{"$f":"B38+1","v":"2024-02-20"},"Faschingsdienstag",{"$f":"_xlfn.TEXTJOIN(\" / \",,IF($B$3:$B$500=B39,$C$3:$C$500,\"\"))","v":"Faschingsdienstag"}]
[null,{"$f":"B39+1","v":"2024-02-21"},"Aschermittwoch",{"$f":"_xlfn.TEXTJOIN(\" / \",,IF($B$3:$B$500=B40,$C$3:$C$500,\"\"))","v":"Aschermittwoch"}]
[]
[]
[]
[]
[]
[]
[]
[]
[]
[]
[]
[]
[]
[]
[]
[]
["Termine 59-114"]
["Datumsformat TT.MM."]
["10.1.",{"$f":"(A59&Tabelle1!$D$2)+0","v":"2025-01-10"},"Neujahrsempfang ",{"$f":"_xlfn.TEXTJOIN(\" / \",,IF($B$3:$B$500=B59,$C$3:$C$500,\"\"))","v":"Neujahrsempfang "}]
["16.1.","2025-01-16","Projekt",{"$f":"_xlfn.TEXTJOIN(\" / \",,IF($B$3:$B$500=B60,$C$3:$C$500,\"\"))","v":"Projekt / Mia"}]
[null,"2025-01-23","Projekt",{"$f":"_xlfn.TEXTJOIN(\" / \",,IF($B$3:$B$500=B61,$C$3:$C$500,\"\"))","v":"Projekt"}]
["29.01.",{"$f":"(A62&Tabelle1!$D$2)+0","v":"2025-01-29"},"XX frei",{"$f":"_xlfn.TEXTJOIN(\" / \",,IF($B$3:$B$500=B62,$C$3:$C$500,\"\"))","v":"XX frei"}]
[null,"2025-01-30","Projekt",{"$f":"_xlfn.TEXTJOIN(\" / \",,IF($B$3:$B$500=B63,$C$3:$C$500,\"\"))","v":"Projekt / Pauline"}]
[null,"2025-02-06","Projekt",{"$f":"_xlfn.TEXTJOIN(\" / \",,IF($B$3:$B$500=B64,$C$3:$C$500,\"\"))","v":"Projekt"}]
[null,"2025-02-13","Projekt",{"$f":"_xlfn.TEXTJOIN(\" / \",,IF($B$3:$B$500=B65,$C$3:$C$500,\"\"))","v":"Projekt"}]
[null,"2025-02-20","Projekt",{"$f":"_xlfn.TEXTJOIN(\" / \",,IF($B$3:$B$500=B66,$C$3:$C$500,\"\"))","v":"Projekt"}]
["25.2.",{"$f":"(A67&Tabelle1!$D$2)+0","v":"2025-02-25"},"Konferenz",{"$f":"_xlfn.TEXTJOIN(\" / \",,IF($B$3:$B$500=B67,$C$3:$C$500,\"\"))","v":"Konferenz"}]
[null,{"$f":"B66+7","v":"2025-02-27"},"Projekt",{"$f":"_xlfn.TEXTJOIN(\" / \",,IF($B$3:$B$500=B68,$C$3:$C$500,\"\"))","v":"Projekt / Vollversammlung"}]
["27.2.",{"$f":"(A69&Tabelle1!$D$2)+0","v":"2025-02-27"},"Vollversammlung",{"$f":"_xlfn.TEXTJOIN(\" / \",,IF($B$3:$B$500=B69,$C$3:$C$500,\"\"))","v":"Projekt / Vollversammlung"}]
["28.2.",{"$f":"(A70&Tabelle1!$D$2)+0","v":"2025-02-28"},"Party",{"$f":"_xlfn.TEXTJOIN(\" / \",,IF($B$3:$B$500=B70,$C$3:$C$500,\"\"))","v":"Party / Ramadan"}]
["28.2.",{"$f":"(A71&Tabelle1!$D$2)+0","v":"2025-02-28"},"Ramadan",{"$f":"_xlfn.TEXTJOIN(\" / \",,IF($B$3:$B$500=B71,$C$3:$C$500,\"\"))","v":"Party / Ramadan"}]
[null,"2025-03-06","Projekt",{"$f":"_xlfn.TEXTJOIN(\" / \",,IF($B$3:$B$500=B72,$C$3:$C$500,\"\"))","v":"Projekt / Tom / Lilu"}]
[null,"2025-03-13","Projekt",{"$f":"_xlfn.TEXTJOIN(\" / \",,IF($B$3:$B$500=B73,$C$3:$C$500,\"\"))","v":"Projekt / Valentina"}]
["30.3.",{"$f":"(A74&Tabelle1!$D$2)+0","v":"2025-03-30"},"Ramadan Ende",{"$f":"_xlfn.TEXTJOIN(\" / \",,IF($B$3:$B$500=B74,$C$3:$C$500,\"\"))","v":"Ramadan Ende / Peter"}]
["7.4.",{"$f":"(A75&Tabelle1!$D$2)+0","v":"2025-04-07"},"1. W",{"$f":"_xlfn.TEXTJOIN(\" / \",,IF($B$3:$B$500=B75,$C$3:$C$500,\"\"))","v":"1. W"}]
["14.4.",{"$f":"(A76&Tabelle1!$D$2)+0","v":"2025-04-14"},"2. W",{"$f":"_xlfn.TEXTJOIN(\" / \",,IF($B$3:$B$500=B76,$C$3:$C$500,\"\"))","v":"2. W"}]
["15.5.",{"$f":"(A77&Tabelle1!$D$2)+0","v":"2025-05-15"},"Konferenz",{"$f":"_xlfn.TEXTJOIN(\" / \",,IF($B$3:$B$500=B77,$C$3:$C$500,\"\"))","v":"Konferenz"}]
["20.5.",{"$f":"(A78&Tabelle1!$D$2)+0","v":"2025-05-20"},"Familie",{"$f":"_xlfn.TEXTJOIN(\" / \",,IF($B$3:$B$500=B78,$C$3:$C$500,\"\"))","v":"Familie"}]
["28.5.",{"$f":"(A79&Tabelle1!$D$2)+0","v":"2025-05-28"},"Weltspieltag",{"$f":"_xlfn.TEXTJOIN(\" / \",,IF($B$3:$B$500=B79,$C$3:$C$500,\"\"))","v":"Weltspieltag / Enno"}]
["26.6.",{"$f":"(A80&Tabelle1!$D$2)+0","v":"2025-06-26"},"Konferenz",{"$f":"_xlfn.TEXTJOIN(\" / \",,IF($B$3:$B$500=B80,$C$3:$C$500,\"\"))","v":"Konferenz"}]
["27.6.",{"$f":"(A81&Tabelle1!$D$2)+0","v":"2025-06-27"},"Fest",{"$f":"_xlfn.TEXTJOIN(\" / \",,IF($B$3:$B$500=B81,$C$3:$C$500,\"\"))","v":"Fest / Peter"}]
["28.6.",{"$f":"(A82&Tabelle1!$D$2)+0","v":"2025-06-28"},"Fest",{"$f":"_xlfn.TEXTJOIN(\" / \",,IF($B$3:$B$500=B82,$C$3:$C$500,\"\"))","v":"Fest"}]
["29.6.",{"$f":"(A83&Tabelle1!$D$2)+0","v":"2025-06-29"},"?Stadtteil?",{"$f":"_xlfn.TEXTJOIN(\" / \",,IF($B$3:$B$500=B83,$C$3:$C$500,\"\"))","v":"?Stadtteil? / Fest"}]
["29.6.",{"$f":"(A84&Tabelle1!$D$2)+0","v":"2025-06-29"},"Fest",{"$f":"_xlfn.TEXTJOIN(\" / \",,IF($B$3:$B$500=B84,$C$3:$C$500,\"\"))","v":"?Stadtteil? / Fest"}]
["7.7.",{"$f":"(A85&Tabelle1!$D$2)+0","v":"2025-07-07"},"1. W",{"$f":"_xlfn.TEXTJOIN(\" / \",,IF($B$3:$B$500=B85,$C$3:$C$500,\"\"))","v":"1. W / Arda"}]
["14.7.",{"$f":"(A86&Tabelle1!$D$2)+0","v":"2025-07-14"},"2. W",{"$f":"_xlfn.TEXTJOIN(\" / \",,IF($B$3:$B$500=B86,$C$3:$C$500,\"\"))","v":"2. W / Hannah"}]
["21.7.",{"$f":"(A87&Tabelle1!$D$2)+0","v":"2025-07-21"},"3. W ",{"$f":"_xlfn.TEXTJOIN(\" / \",,IF($B$3:$B$500=B87,$C$3:$C$500,\"\"))","v":"3. W "}]
["22.7.",{"$f":"(A88&Tabelle1!$D$2)+0","v":"2025-07-22"},"Programm a",{"$f":"_xlfn.TEXTJOIN(\" / \",,IF($B$3:$B$500=B88,$C$3:$C$500,\"\"))","v":"Programm a"}]
[null,{"$f":"B88+1","v":"2025-07-23"},"Programm a",{"$f":"_xlfn.TEXTJOIN(\" / \",,IF($B$3:$B$500=B89,$C$3:$C$500,\"\"))","v":"Programm a"}]
[null,{"$f":"B89+1","v":"2025-07-24"},"Programm a",{"$f":"_xlfn.TEXTJOIN(\" / \",,IF($B$3:$B$500=B90,$C$3:$C$500,\"\"))","v":"Programm a"}]
[null,{"$f":"B90+1","v":"2025-07-25"},"Programm a",{"$f":"_xlfn.TEXTJOIN(\" / \",,IF($B$3:$B$500=B91,$C$3:$C$500,\"\"))","v":"Programm a"}]
["28.7.",{"$f":"(A92&Tabelle1!$D$2)+0","v":"2025-07-28"},"4. W / ",{"$f":"_xlfn.TEXTJOIN(\" / \",,IF($B$3:$B$500=B92,$C$3:$C$500,\"\"))","v":"4. W / "}]
["4.8.",{"$f":"(A93&Tabelle1!$D$2)+0","v":"2025-08-04"},"5. W",{"$f":"_xlfn.TEXTJOIN(\" / \",,IF($B$3:$B$500=B93,$C$3:$C$500,\"\"))","v":"5. W"}]
["11.8.",{"$f":"(A94&Tabelle1!$D$2)+0","v":"2025-08-11"},"6. W",{"$f":"_xlfn.TEXTJOIN(\" / \",,IF($B$3:$B$500=B94,$C$3:$C$500,\"\"))","v":"6. W"}]
["12.9.",{"$f":"(A95&Tabelle1!$D$2)+0","v":"2025-09-12"},"Programm B",{"$f":"_xlfn.TEXTJOIN(\" / \",,IF($B$3:$B$500=B95,$C$3:$C$500,\"\"))","v":"Programm B"}]
["18.9.",{"$f":"(A96&Tabelle1!$D$2)+0","v":"2025-09-18"},"Konferenz",{"$f":"_xlfn.TEXTJOIN(\" / \",,IF($B$3:$B$500=B96,$C$3:$C$500,\"\"))","v":"Konferenz"}]
["19.9.",{"$f":"(A97&Tabelle1!$D$2)+0","v":"2025-09-19"},"Aktionstag",{"$f":"_xlfn.TEXTJOIN(\" / \",,IF($B$3:$B$500=B97,$C$3:$C$500,\"\"))","v":"Aktionstag"}]
["20.9.",{"$f":"(A98&Tabelle1!$D$2)+0","v":"2025-09-20"},"Weltkindertag",{"$f":"_xlfn.TEXTJOIN(\" / \",,IF($B$3:$B$500=B98,$C$3:$C$500,\"\"))","v":"Weltkindertag / Klara"}]
["22.9.",{"$f":"(A99&Tabelle1!$D$2)+0","v":"2025-09-22"},"Veranstaltung verwaltung",{"$f":"_xlfn.TEXTJOIN(\" / \",,IF($B$3:$B$500=B99,$C$3:$C$500,\"\"))","v":"Veranstaltung verwaltung"}]
["6.10.",{"$f":"(A100&Tabelle1!$D$2)+0","v":"2025-10-06"},"1. W",{"$f":"_xlfn.TEXTJOIN(\" / \",,IF($B$3:$B$500=B100,$C$3:$C$500,\"\"))","v":"1. W"}]
["13.10.",{"$f":"(A101&Tabelle1!$D$2)+0","v":"2025-10-13"},"2. W",{"$f":"_xlfn.TEXTJOIN(\" / \",,IF($B$3:$B$500=B101,$C$3:$C$500,\"\"))","v":"2. W"}]
["24.10.",{"$f":"(A102&Tabelle1!$D$2)+0","v":"2025-10-24"},"Spielmesse",{"$f":"_xlfn.TEXTJOIN(\" / \",,IF($B$3:$B$500=B102,$C$3:$C$500,\"\"))","v":"Spielmesse / Marinette"}]
["30.10.",{"$f":"(A103&Tabelle1!$D$2)+0","v":"2025-10-30"},"Familie",{"$f":"_xlfn.TEXTJOIN(\" / \",,IF($B$3:$B$500=B103,$C$3:$C$500,\"\"))","v":"Familie / Adrian"}]
["11.11.",{"$f":"(A104&Tabelle1!$D$2)+0","v":"2025-11-11"},"St Martin",{"$f":"_xlfn.TEXTJOIN(\" / \",,IF($B$3:$B$500=B104,$C$3:$C$500,\"\"))","v":"St Martin / Sonja"}]
["26.11.",{"$f":"(A105&Tabelle1!$D$2)+0","v":"2025-11-26"},"Familie",{"$f":"_xlfn.TEXTJOIN(\" / \",,IF($B$3:$B$500=B105,$C$3:$C$500,\"\"))","v":"Familie"}]
["17.12.",{"$f":"(A106&Tabelle1!$D$2)+0","v":"2025-12-17"},"Weihnachtsfeier",{"$f":"_xlfn.TEXTJOIN(\" / \",,IF($B$3:$B$500=B106,$C$3:$C$500,\"\"))","v":"Weihnachtsfeier"}]
["12.02.",{"$f":"(A107&Tabelle1!$D$2)+0","v":"2025-02-12"},"XXX frei",{"$f":"_xlfn.TEXTJOIN(\" / \",,IF($B$3:$B$500=B107,$C$3:$C$500,\"\"))","v":"XXX frei"}]
["22.12.",{"$f":"(A108&Tabelle1!$D$2)+0","v":"2025-12-22"},"Weihnachtsferien",{"$f":"_xlfn.TEXTJOIN(\" / \",,IF($B$3:$B$500=B108,$C$3:$C$500,\"\"))","v":"Weihnachtsferien"}]
["05.02.",{"$f":"(A109&Tabelle1!$D$2)+0","v":"2025-02-05"},"Termin IB",{"$f":"_xlfn.TEXTJOIN(\" / \",,IF($B$3:$B$500=B109,$C$3:$C$500,\"\"))","v":"Termin IB / Sam"}]
[null,{"$f":"(A110&Tabelle1!$D$2)+0","v":"1905-07-17"}]
[null,{"$f":"(A111&Tabelle1!$D$2)+0","v":"1905-07-17"}]
[null,{"$f":"(A112&Tabelle1!$D$2)+0","v":"1905-07-17"}]
[null,{"$f":"(A113&Tabelle1!$D$2)+0","v":"1905-07-17"}]
[null,{"$f":"(A114&Tabelle1!$D$2)+0","v":"1905-07-17"}]
[]
[null,"Geburtstage MA 118-231"]
["Datum TT.MM.","Datum Automatisch Aktuelles Jahr",null,null,"Max / Paul"]
["03.01.",{"$f":"(A118&Tabelle1!$D$2)+0","v":"2025-01-03"},"Susanne",{"$f":"_xlfn.TEXTJOIN(\" / \",,IF($B$3:$B$500=B118,$C$3:$C$500,\"\"))","v":"Susanne"}]
["06.01.",{"$f":"(A119&Tabelle1!$D$2)+0","v":"2025-01-06"},"Stefan",{"$f":"_xlfn.TEXTJOIN(\" / \",,IF($B$3:$B$500=B119,$C$3:$C$500,\"\"))","v":"Heilige 3 Könige / Stefan"}]
["22.01.",{"$f":"(A120&Tabelle1!$D$2)+0","v":"2025-01-22"},"Paula",{"$f":"_xlfn.TEXTJOIN(\" / \",,IF($B$3:$B$500=B120,$C$3:$C$500,\"\"))","v":"Paula"}]
["02.02.",{"$f":"(A121&Tabelle1!$D$2)+0","v":"2025-02-02"},"Max / Paul",{"$f":"_xlfn.TEXTJOIN(\" / \",,IF($B$3:$B$500=B121,$C$3:$C$500,\"\"))","v":"Max / Paul"},{"$f":"LEN(C121)","v":10},{"$f":"LEN(D121)","v":10},{"$f":"C121=D121","v":true}]
["11.02.",{"$f":"(A122&Tabelle1!$D$2)+0","v":"2025-02-11"},"Jens",{"$f":"_xlfn.TEXTJOIN(\" / \",,IF($B$3:$B$500=B122,$C$3:$C$500,\"\"))","v":"Jens"}]
["26.02.",{"$f":"(A123&Tabelle1!$D$2)+0","v":"2025-02-26"},"Alia",{"$f":"_xlfn.TEXTJOIN(\" / \",,IF($B$3:$B$500=B123,$C$3:$C$500,\"\"))","v":"Alia"}]
["06.03.",{"$f":"(A124&Tabelle1!$D$2)+0","v":"2025-03-06"},"Tom",{"$f":"_xlfn.TEXTJOIN(\" / \",,IF($B$3:$B$500=B124,$C$3:$C$500,\"\"))","v":"Projekt / Tom / Lilu"}]
["09.04.",{"$f":"(A125&Tabelle1!$D$2)+0","v":"2025-04-09"},"Miriam",{"$f":"_xlfn.TEXTJOIN(\" / \",,IF($B$3:$B$500=B125,$C$3:$C$500,\"\"))","v":"Miriam"}]
["27.04.",{"$f":"(A126&Tabelle1!$D$2)+0","v":"2025-04-27"},"Julia / Carmen",{"$f":"_xlfn.TEXTJOIN(\" / \",,IF($B$3:$B$500=B126,$C$3:$C$500,\"\"))","v":"Julia / Carmen"}]
["04.06.",{"$f":"(A127&Tabelle1!$D$2)+0","v":"2025-06-04"},"Uschi",{"$f":"_xlfn.TEXTJOIN(\" / \",,IF($B$3:$B$500=B127,$C$3:$C$500,\"\"))","v":"Uschi"}]
["12.06.",{"$f":"(A128&Tabelle1!$D$2)+0","v":"2025-06-12"},"Sandra",{"$f":"_xlfn.TEXTJOIN(\" / \",,IF($B$3:$B$500=B128,$C$3:$C$500,\"\"))","v":"Sandra"}]
["18.06.",{"$f":"(A129&Tabelle1!$D$2)+0","v":"2025-06-18"},"Astrid / Gudrun",{"$f":"_xlfn.TEXTJOIN(\" / \",,IF($B$3:$B$500=B129,$C$3:$C$500,\"\"))","v":"Astrid / Gudrun"}]
["20.06.",{"$f":"(A130&Tabelle1!$D$2)+0","v":"2025-06-20"},"Julie",{"$f":"_xlfn.TEXTJOIN(\" / \",,IF($B$3:$B$500=B130,$C$3:$C$500,\"\"))","v":"Julie"}]
["21.06.",{"$f":"(A131&Tabelle1!$D$2)+0","v":"2025-06-21"},"Unbekannt",{"$f":"_xlfn.TEXTJOIN(\" / \",,IF($B$3:$B$500=B131,$C$3:$C$500,\"\"))","v":"Unbekannt"}]
["27.06.",{"$f":"(A132&Tabelle1!$D$2)+0","v":"2025-06-27"},"Peter",{"$f":"_xlfn.TEXTJOIN(\" / \",,IF($B$3:$B$500=B132,$C$3:$C$500,\"\"))","v":"Fest / Peter"}]
["14.07.",{"$f":"(A133&Tabelle1!$D$2)+0","v":"2025-07-14"},"Hannah",{"$f":"_xlfn.TEXTJOIN(\" / \",,IF($B$3:$B$500=B133,$C$3:$C$500,\"\"))","v":"2. W / Hannah"}]
["14.08.",{"$f":"(A134&Tabelle1!$D$2)+0","v":"2025-08-14"},"Annemarie",{"$f":"_xlfn.TEXTJOIN(\" / \",,IF($B$3:$B$500=B134,$C$3:$C$500,\"\"))","v":"Annemarie / Lion"}]
["20.08.",{"$f":"(A135&Tabelle1!$D$2)+0","v":"2025-08-20"},"Johanna",{"$f":"_xlfn.TEXTJOIN(\" / \",,IF($B$3:$B$500=B135,$C$3:$C$500,\"\"))","v":"Johanna / Juliette"}]
["23.08.",{"$f":"(A136&Tabelle1!$D$2)+0","v":"2025-08-23"},"Katharina",{"$f":"_xlfn.TEXTJOIN(\" / \",,IF($B$3:$B$500=B136,$C$3:$C$500,\"\"))","v":"Katharina"}]
["10.09.",{"$f":"(A137&Tabelle1!$D$2)+0","v":"2025-09-10"},"Mario",{"$f":"_xlfn.TEXTJOIN(\" / \",,IF($B$3:$B$500=B137,$C$3:$C$500,\"\"))","v":"Mario"}]
["23.09.",{"$f":"(A138&Tabelle1!$D$2)+0","v":"2025-09-23"},"Sina",{"$f":"_xlfn.TEXTJOIN(\" / \",,IF($B$3:$B$500=B138,$C$3:$C$500,\"\"))","v":"Sina / Maria"}]
["27.09.",{"$f":"(A139&Tabelle1!$D$2)+0","v":"2025-09-27"},"XXX",{"$f":"_xlfn.TEXTJOIN(\" / \",,IF($B$3:$B$500=B139,$C$3:$C$500,\"\"))","v":"XXX"}]
["21.10.",{"$f":"(A140&Tabelle1!$D$2)+0","v":"2025-10-21"},"Brigitte",{"$f":"_xlfn.TEXTJOIN(\" / \",,IF($B$3:$B$500=B140,$C$3:$C$500,\"\"))","v":"Brigitte / Titus"}]
["31.10.",{"$f":"(A141&Tabelle1!$D$2)+0","v":"2025-10-31"},"Ella",{"$f":"_xlfn.TEXTJOIN(\" / \",,IF($B$3:$B$500=B141,$C$3:$C$500,\"\"))","v":"Halloween Reformationstag / Ella / Nathalie"}]
["12.11.",{"$f":"(A142&Tabelle1!$D$2)+0","v":"2025-11-12"},"Dodo",{"$f":"_xlfn.TEXTJOIN(\" / \",,IF($B$3:$B$500=B142,$C$3:$C$500,\"\"))","v":"Dodo"}]
["27.11.",{"$f":"(A143&Tabelle1!$D$2)+0","v":"2025-11-27"},"Ulrike",{"$f":"_xlfn.TEXTJOIN(\" / \",,IF($B$3:$B$500=B143,$C$3:$C$500,\"\"))","v":"Ulrike / Timo"}]
["11.12.",{"$f":"(A144&Tabelle1!$D$2)+0","v":"2025-12-11"},"Marius",{"$f":"_xlfn.TEXTJOIN(\" / \",,IF($B$3:$B$500=B144,$C$3:$C$500,\"\"))","v":"Marius / Charlotta"}]
["18.12.",{"$f":"(A145&Tabelle1!$D$2)+0","v":"2025-12-18"},"Ecki",{"$f":"_xlfn.TEXTJOIN(\" / \",,IF($B$3:$B$500=B145,$C$3:$C$500,\"\"))","v":"Ecki"}]
["19.12.",{"$f":"(A146&Tabelle1!$D$2)+0","v":"2025-12-19"},"Maximilian",{"$f":"_xlfn.TEXTJOIN(\" / \",,IF($B$3:$B$500=B146,$C$3:$C$500,\"\"))","v":"Maximilian"}]
[null,{"$f":"(A147&Tabelle1!$D$2)+0","v":"1905-07-17"}]
[null,{"$f":"(A148&Tabelle1!$D$2)+0","v":"1905-07-17"}]
[null,{"$f":"(A149&Tabelle1!$D$2)+0","v":"1905-07-17"}]
[null,{"$f":"(A150&Tabelle1!$D$2)+0","v":"1905-07-17"}]
[null,{"$f":"(A151&Tabelle1!$D$2)+0","v":"1905-07-17"}]
[null,{"$f":"(A152&Tabelle1!$D$2)+0","v":"1905-07-17"}]
[null,{"$f":"(A153&Tabelle1!$D$2)+0","v":"1905-07-17"}]
[null,{"$f":"(A154&Tabelle1!$D$2)+0","v":"1905-07-17"}]
[null,{"$f":"(A155&Tabelle1!$D$2)+0","v":"1905-07-17"}]
[null,{"$f":"(A156&Tabelle1!$D$2)+0","v":"1905-07-17"}]
[null,{"$f":"(A157&Tabelle1!$D$2)+0","v":"1905-07-17"}]
[null,{"$f":"(A158&Tabelle1!$D$2)+0","v":"1905-07-17"}]
[null,{"$f":"(A159&Tabelle1!$D$2)+0","v":"1905-07-17"}]
[null,{"$f":"(A160&Tabelle1!$D$2)+0","v":"1905-07-17"}]
[null,{"$f":"(A161&Tabelle1!$D$2)+0","v":"1905-07-17"}]
[null,{"$f":"(A162&Tabelle1!$D$2)+0","v":"1905-07-17"}]
[null,{"$f":"(A163&Tabelle1!$D$2)+0","v":"1905-07-17"}]
[null,{"$f":"(A164&Tabelle1!$D$2)+0","v":"1905-07-17"}]
[null,{"$f":"(A165&Tabelle1!$D$2)+0","v":"1905-07-17"}]
[null,{"$f":"(A166&Tabelle1!$D$2)+0","v":"1905-07-17"}]
[null,{"$f":"(A167&Tabelle1!$D$2)+0","v":"1905-07-17"}]
[null,{"$f":"(A168&Tabelle1!$D$2)+0","v":"1905-07-17"}]
[null,{"$f":"(A169&Tabelle1!$D$2)+0","v":"1905-07-17"}]
[]
[]
[]
[]
[null,"Datum Automatisch Folgejahr"]
[{"$f":"A118","v":"03.01."},{"$f":"(A175&Tabelle1!$D$2+1)+0","v":"2026-01-03"},{"$f":"C118","v":"Susanne"},{"$f":"_xlfn.TEXTJOIN(\" / \",,IF($B$3:$B$500=B175,$C$3:$C$500,\"\"))","v":"Susanne"}]
["06.01.",{"$f":"(A176&Tabelle1!$D$2+1)+0","v":"2026-01-06"},"Stefan",{"$f":"_xlfn.TEXTJOIN(\" / \",,IF($B$3:$B$500=B176,$C$3:$C$500,\"\"))","v":"Heilige 3 Könige / Stefan"}]
["22.01.",{"$f":"(A177&Tabelle1!$D$2+1)+0","v":"2026-01-22"},"Paula",{"$f":"_xlfn.TEXTJOIN(\" / \",,IF($B$3:$B$500=B177,$C$3:$C$500,\"\"))","v":"Paula"}]
["02.02.",{"$f":"(A178&Tabelle1!$D$2+1)+0","v":"2026-02-02"},"Max / Paul",{"$f":"_xlfn.TEXTJOIN(\" / \",,IF($B$3:$B$500=B178,$C$3:$C$500,\"\"))","v":"Max / Paul"}]
["11.02.",{"$f":"(A179&Tabelle1!$D$2+1)+0","v":"2026-02-11"},"Jens",{"$f":"_xlfn.TEXTJOIN(\" / \",,IF($B$3:$B$500=B179,$C$3:$C$500,\"\"))","v":"Jens"}]
["26.02.",{"$f":"(A180&Tabelle1!$D$2+1)+0","v":"2026-02-26"},"Alia",{"$f":"_xlfn.TEXTJOIN(\" / \",,IF($B$3:$B$500=B180,$C$3:$C$500,\"\"))","v":"Alia"}]
["06.03.",{"$f":"(A181&Tabelle1!$D$2+1)+0","v":"2026-03-06"},"Tom",{"$f":"_xlfn.TEXTJOIN(\" / \",,IF($B$3:$B$500=B181,$C$3:$C$500,\"\"))","v":"Tom / Lilu"}]
["09.04.",{"$f":"(A182&Tabelle1!$D$2+1)+0","v":"2026-04-09"},"Miriam",{"$f":"_xlfn.TEXTJOIN(\" / \",,IF($B$3:$B$500=B182,$C$3:$C$500,\"\"))","v":"Miriam"}]
["27.04.",{"$f":"(A183&Tabelle1!$D$2+1)+0","v":"2026-04-27"},"Julia / Carmen",{"$f":"_xlfn.TEXTJOIN(\" / \",,IF($B$3:$B$500=B183,$C$3:$C$500,\"\"))","v":"Julia / Carmen"}]
["04.06.",{"$f":"(A184&Tabelle1!$D$2+1)+0","v":"2026-06-04"},"Uschi",{"$f":"_xlfn.TEXTJOIN(\" / \",,IF($B$3:$B$500=B184,$C$3:$C$500,\"\"))","v":"Uschi"}]
["12.06.",{"$f":"(A185&Tabelle1!$D$2+1)+0","v":"2026-06-12"},"Sandra",{"$f":"_xlfn.TEXTJOIN(\" / \",,IF($B$3:$B$500=B185,$C$3:$C$500,\"\"))","v":"Sandra"}]
["18.06.",{"$f":"(A186&Tabelle1!$D$2+1)+0","v":"2026-06-18"},"Astrid / Gudrun",{"$f":"_xlfn.TEXTJOIN(\" / \",,IF($B$3:$B$500=B186,$C$3:$C$500,\"\"))","v":"Astrid / Gudrun"}]
["20.06.",{"$f":"(A187&Tabelle1!$D$2+1)+0","v":"2026-06-20"},"Julie",{"$f":"_xlfn.TEXTJOIN(\" / \",,IF($B$3:$B$500=B187,$C$3:$C$500,\"\"))","v":"Julie"}]
["21.06.",{"$f":"(A188&Tabelle1!$D$2+1)+0","v":"2026-06-21"},"Unbekannt",{"$f":"_xlfn.TEXTJOIN(\" / \",,IF($B$3:$B$500=B188,$C$3:$C$500,\"\"))","v":"Unbekannt"}]
["27.06.",{"$f":"(A189&Tabelle1!$D$2+1)+0","v":"2026-06-27"},"Peter",{"$f":"_xlfn.TEXTJOIN(\" / \",,IF($B$3:$B$500=B189,$C$3:$C$500,\"\"))","v":"Peter"}]
["14.07.",{"$f":"(A190&Tabelle1!$D$2+1)+0","v":"2026-07-14"},"Hannah",{"$f":"_xlfn.TEXTJOIN(\" / \",,IF($B$3:$B$500=B190,$C$3:$C$500,\"\"))","v":"Hannah"}]
["14.08.",{"$f":"(A191&Tabelle1!$D$2+1)+0","v":"2026-08-14"},"Annemarie",{"$f":"_xlfn.TEXTJOIN(\" / \",,IF($B$3:$B$500=B191,$C$3:$C$500,\"\"))","v":"Annemarie"}]
["20.08.",{"$f":"(A192&Tabelle1!$D$2+1)+0","v":"2026-08-20"},"Johanna",{"$f":"_xlfn.TEXTJOIN(\" / \",,IF($B$3:$B$500=B192,$C$3:$C$500,\"\"))","v":"Johanna"}]
["23.08.",{"$f":"(A193&Tabelle1!$D$2+1)+0","v":"2026-08-23"},"Katharina",{"$f":"_xlfn.TEXTJOIN(\" / \",,IF($B$3:$B$500=B193,$C$3:$C$500,\"\"))","v":"Katharina"}]
["10.09.",{"$f":"(A194&Tabelle1!$D$2+1)+0","v":"2026-09-10"},"Mario",{"$f":"_xlfn.TEXTJOIN(\" / \",,IF($B$3:$B$500=B194,$C$3:$C$500,\"\"))","v":"Mario"}]
["23.09.",{"$f":"(A195&Tabelle1!$D$2+1)+0","v":"2026-09-23"},"Sina",{"$f":"_xlfn.TEXTJOIN(\" / \",,IF($B$3:$B$500=B195,$C$3:$C$500,\"\"))","v":"Sina"}]
["27.09.",{"$f":"(A196&Tabelle1!$D$2+1)+0","v":"2026-09-27"},"XXX",{"$f":"_xlfn.TEXTJOIN(\" / \",,IF($B$3:$B$500=B196,$C$3:$C$500,\"\"))","v":"XXX"}]
["21.10.",{"$f":"(A197&Tabelle1!$D$2+1)+0","v":"2026-10-21"},"Brigitte",{"$f":"_xlfn.TEXTJOIN(\" / \",,IF($B$3:$B$500=B197,$C$3:$C$500,\"\"))","v":"Brigitte"}]
["31.10.",{"$f":"(A198&Tabelle1!$D$2+1)+0","v":"2026-10-31"},"Ella",{"$f":"_xlfn.TEXTJOIN(\" / \",,IF($B$3:$B$500=B198,$C$3:$C$500,\"\"))","v":"Ella"}]
["12.11.",{"$f":"(A199&Tabelle1!$D$2+1)+0","v":"2026-11-12"},"Dodo",{"$f":"_xlfn.TEXTJOIN(\" / \",,IF($B$3:$B$500=B199,$C$3:$C$500,\"\"))","v":"Dodo"}]
["27.11.",{"$f":"(A200&Tabelle1!$D$2+1)+0","v":"2026-11-27"},"Ulrike",{"$f":"_xlfn.TEXTJOIN(\" / \",,IF($B$3:$B$500=B200,$C$3:$C$500,\"\"))","v":"Ulrike"}]
["11.12.",{"$f":"(A201&Tabelle1!$D$2+1)+0","v":"2026-12-11"},"Marius",{"$f":"_xlfn.TEXTJOIN(\" / \",,IF($B$3:$B$500=B201,$C$3:$C$500,\"\"))","v":"Marius"}]
["18.12.",{"$f":"(A202&Tabelle1!$D$2+1)+0","v":"2026-12-18"},"Ecki",{"$f":"_xlfn.TEXTJOIN(\" / \",,IF($B$3:$B$500=B202,$C$3:$C$500,\"\"))","v":"Ecki"}]
["19.12.",{"$f":"(A203&Tabelle1!$D$2+1)+0","v":"2026-12-19"},"Maximilian",{"$f":"_xlfn.TEXTJOIN(\" / \",,IF($B$3:$B$500=B203,$C$3:$C$500,\"\"))","v":"Maximilian"}]
["00:00:00",{"$f":"(A204&Tabelle1!$D$2+1)+0","v":"1905-07-18"},"00:00:00"]
["00:00:00",{"$f":"(A205&Tabelle1!$D$2+1)+0","v":"1905-07-18"},"00:00:00"]
["00:00:00",{"$f":"(A206&Tabelle1!$D$2+1)+0","v":"1905-07-18"},"00:00:00"]
["00:00:00",{"$f":"(A207&Tabelle1!$D$2+1)+0","v":"1905-07-18"},"00:00:00"]
["00:00:00",{"$f":"(A208&Tabelle1!$D$2+1)+0","v":"1905-07-18"},"00:00:00"]
["00:00:00",{"$f":"(A209&Tabelle1!$D$2+1)+0","v":"1905-07-18"},"00:00:00"]
["00:00:00",{"$f":"(A210&Tabelle1!$D$2+1)+0","v":"1905-07-18"},"00:00:00"]
["00:00:00",{"$f":"(A211&Tabelle1!$D$2+1)+0","v":"1905-07-18"},"00:00:00"]
["00:00:00",{"$f":"(A212&Tabelle1!$D$2+1)+0","v":"1905-07-18"},"00:00:00"]
["00:00:00",{"$f":"(A213&Tabelle1!$D$2+1)+0","v":"1905-07-18"},"00:00:00"]
["00:00:00",{"$f":"(A214&Tabelle1!$D$2+1)+0","v":"1905-07-18"},"00:00:00"]
["00:00:00",{"$f":"(A215&Tabelle1!$D$2+1)+0","v":"1905-07-18"},"00:00:00"]
["00:00:00",{"$f":"(A216&Tabelle1!$D$2+1)+0","v":"1905-07-18"},"00:00:00"]
["00:00:00",{"$f":"(A217&Tabelle1!$D$2+1)+0","v":"1905-07-18"},"00:00:00"]
["00:00:00",{"$f":"(A218&Tabelle1!$D$2+1)+0","v":"1905-07-18"},"00:00:00"]
["00:00:00",{"$f":"(A219&Tabelle1!$D$2+1)+0","v":"1905-07-18"},"00:00:00"]
["00:00:00",{"$f":"(A220&Tabelle1!$D$2+1)+0","v":"1905-07-18"},"00:00:00"]
["00:00:00",{"$f":"(A221&Tabelle1!$D$2+1)+0","v":"1905-07-18"},"00:00:00"]
["00:00:00",{"$f":"(A222&Tabelle1!$D$2+1)+0","v":"1905-07-18"},"00:00:00"]
["00:00:00",{"$f":"(A223&Tabelle1!$D$2+1)+0","v":"1905-07-18"},"00:00:00"]
["00:00:00",{"$f":"(A224&Tabelle1!$D$2+1)+0","v":"1905-07-18"},"00:00:00"]
["00:00:00",{"$f":"(A225&Tabelle1!$D$2+1)+0","v":"1905-07-18"},"00:00:00"]
["00:00:00",{"$f":"(A226&Tabelle1!$D$2+1)+0","v":"1905-07-18"},"00:00:00"]
["00:00:00",{"$f":"(A227&Tabelle1!$D$2+1)+0","v":"1905-07-18"},"00:00:00"]
["00:00:00",{"$f":"(A228&Tabelle1!$D$2+1)+0","v":"1905-07-18"},"00:00:00"]
["00:00:00",{"$f":"(A229&Tabelle1!$D$2+1)+0","v":"1905-07-18"},"00:00:00"]
["00:00:00",{"$f":"(A230&Tabelle1!$D$2+1)+0","v":"1905-07-18"},"00:00:00"]
["00:00:00",{"$f":"(A231&Tabelle1!$D$2+1)+0","v":"1905-07-18"},"00:00:00"]
[]
[]
[]
[]
[]
[null,"Geburtstage Kinder 239-500"]
["Datum TT.MM."]
["09.01.",{"$f":"(A239&Tabelle1!$D$2+0)+0","v":"2025-01-09"},"Luis",{"$f":"_xlfn.TEXTJOIN(\" / \",,IF($B$3:$B$499=B239,$C$3:$C$499,\"\"))","v":"Luis"}]
["13.01.",{"$f":"(A240&Tabelle1!$D$2+0)+0","v":"2025-01-13"},"Angela",{"$f":"_xlfn.TEXTJOIN(\" / \",,IF($B$3:$B$499=B240,$C$3:$C$499,\"\"))","v":"Angela"}]
["16.01.",{"$f":"(A241&Tabelle1!$D$2+0)+0","v":"2025-01-16"},"Mia",{"$f":"_xlfn.TEXTJOIN(\" / \",,IF($B$3:$B$499=B241,$C$3:$C$499,\"\"))","v":"Projekt / Mia"}]
["30.01.",{"$f":"(A242&Tabelle1!$D$2+0)+0","v":"2025-01-30"},"Pauline",{"$f":"_xlfn.TEXTJOIN(\" / \",,IF($B$3:$B$499=B242,$C$3:$C$499,\"\"))","v":"Projekt / Pauline"},null,{"$f":"SEARCH(C242,$D$242:$D$245)","v":11}]
["05.02.",{"$f":"(A243&Tabelle1!$D$2+0)+0","v":"2025-02-05"},"Sam",{"$f":"_xlfn.TEXTJOIN(\" / \",,IF($B$3:$B$499=B243,$C$3:$C$499,\"\"))","v":"Termin IB / Sam"},null,{"$error":"#VALUE!"}]
["19.02.",{"$f":"(A244&Tabelle1!$D$2+0)+0","v":"2025-02-19"},"any",{"$f":"_xlfn.TEXTJOIN(\" / \",,IF($B$3:$B$499=B244,$C$3:$C$499,\"\"))","v":"any"},null,{"$error":"#VALUE!"}]
["06.03.",{"$f":"(A245&Tabelle1!$D$2+0)+0","v":"2025-03-06"},"Lilu",{"$f":"_xlfn.TEXTJOIN(\" / \",,IF($B$3:$B$499=B245,$C$3:$C$499,\"\"))","v":"Projekt / Tom / Lilu"},null,{"$error":"#VALUE!"}]
["11.03.",{"$f":"(A246&Tabelle1!$D$2+0)+0","v":"2025-03-11"},"Yvonne",{"$f":"_xlfn.TEXTJOIN(\" / \",,IF($B$3:$B$499=B246,$C$3:$C$499,\"\"))","v":"Yvonne"}]
["13.03.",{"$f":"(A247&Tabelle1!$D$2+0)+0","v":"2025-03-13"},"Valentina",{"$f":"_xlfn.TEXTJOIN(\" / \",,IF($B$3:$B$499=B247,$C$3:$C$499,\"\"))","v":"Projekt / Valentina"}]
["21.03.",{"$f":"(A248&Tabelle1!$D$2+0)+0","v":"2025-03-21"},"Susanne",{"$f":"_xlfn.TEXTJOIN(\" / \",,IF($B$3:$B$499=B248,$C$3:$C$499,\"\"))","v":"Susanne"}]
["23.03.",{"$f":"(A249&Tabelle1!$D$2+0)+0","v":"2025-03-23"},"Justus",{"$f":"_xlfn.TEXTJOIN(\" / \",,IF($B$3:$B$499=B249,$C$3:$C$499,\"\"))","v":"Justus"}]
["24.03.",{"$f":"(A250&Tabelle1!$D$2+0)+0","v":"2025-03-24"},"Frieda",{"$f":"_xlfn.TEXTJOIN(\" / \",,IF($B$3:$B$499=B250,$C$3:$C$499,\"\"))","v":"Frieda"}]
["30.03.",{"$f":"(A251&Tabelle1!$D$2+0)+0","v":"2025-03-30"},"Peter",{"$f":"_xlfn.TEXTJOIN(\" / \",,IF($B$3:$B$499=B251,$C$3:$C$499,\"\"))","v":"Ramadan Ende / Peter"}]
["02.04.",{"$f":"(A252&Tabelle1!$D$2+0)+0","v":"2025-04-02"},"Bob",{"$f":"_xlfn.TEXTJOIN(\" / \",,IF($B$3:$B$499=B252,$C$3:$C$499,\"\"))","v":"Bob"}]
["03.04.",{"$f":"(A253&Tabelle1!$D$2+0)+0","v":"2025-04-03"},"Eliana",{"$f":"_xlfn.TEXTJOIN(\" / \",,IF($B$3:$B$499=B253,$C$3:$C$499,\"\"))","v":"Eliana"}]
["05.04.",{"$f":"(A254&Tabelle1!$D$2+0)+0","v":"2025-04-05"},"Luzie",{"$f":"_xlfn.TEXTJOIN(\" / \",,IF($B$3:$B$499=B254,$C$3:$C$499,\"\"))","v":"Luzie"}]
["10.04.",{"$f":"(A255&Tabelle1!$D$2+0)+0","v":"2025-04-10"},"Lucy",{"$f":"_xlfn.TEXTJOIN(\" / \",,IF($B$3:$B$499=B255,$C$3:$C$499,\"\"))","v":"Lucy"}]
["12.04.",{"$f":"(A256&Tabelle1!$D$2+0)+0","v":"2025-04-12"},"Dina",{"$f":"_xlfn.TEXTJOIN(\" / \",,IF($B$3:$B$499=B256,$C$3:$C$499,\"\"))","v":"Dina"}]
["15.04.",{"$f":"(A257&Tabelle1!$D$2+0)+0","v":"2025-04-15"},"Milana",{"$f":"_xlfn.TEXTJOIN(\" / \",,IF($B$3:$B$499=B257,$C$3:$C$499,\"\"))","v":"Milana"}]
["16.04.",{"$f":"(A258&Tabelle1!$D$2+0)+0","v":"2025-04-16"},"Nila",{"$f":"_xlfn.TEXTJOIN(\" / \",,IF($B$3:$B$499=B258,$C$3:$C$499,\"\"))","v":"Nila / Francesco"}]
["16.04.",{"$f":"(A259&Tabelle1!$D$2+0)+0","v":"2025-04-16"},"Francesco",{"$f":"_xlfn.TEXTJOIN(\" / \",,IF($B$3:$B$499=B259,$C$3:$C$499,\"\"))","v":"Nila / Francesco"}]
["17.04.",{"$f":"(A260&Tabelle1!$D$2+0)+0","v":"2025-04-17"},"Noam",{"$f":"_xlfn.TEXTJOIN(\" / \",,IF($B$3:$B$499=B260,$C$3:$C$499,\"\"))","v":"Noam"}]
["19.04.",{"$f":"(A261&Tabelle1!$D$2+0)+0","v":"2025-04-19"},"Louis",{"$f":"_xlfn.TEXTJOIN(\" / \",,IF($B$3:$B$499=B261,$C$3:$C$499,\"\"))","v":"Louis"}]
["22.04.",{"$f":"(A262&Tabelle1!$D$2+0)+0","v":"2025-04-22"},"Abas",{"$f":"_xlfn.TEXTJOIN(\" / \",,IF($B$3:$B$499=B262,$C$3:$C$499,\"\"))","v":"Abas"}]
["02.05.",{"$f":"(A263&Tabelle1!$D$2+0)+0","v":"2025-05-02"},"Zaccharia",{"$f":"_xlfn.TEXTJOIN(\" / \",,IF($B$3:$B$499=B263,$C$3:$C$499,\"\"))","v":"Zaccharia"}]
["03.05.",{"$f":"(A264&Tabelle1!$D$2+0)+0","v":"2025-05-03"},"Jacob",{"$f":"_xlfn.TEXTJOIN(\" / \",,IF($B$3:$B$499=B264,$C$3:$C$499,\"\"))","v":"Jacob"}]
["04.05.",{"$f":"(A265&Tabelle1!$D$2+0)+0","v":"2025-05-04"},"Elias",{"$f":"_xlfn.TEXTJOIN(\" / \",,IF($B$3:$B$499=B265,$C$3:$C$499,\"\"))","v":"Elias"}]
["13.05.",{"$f":"(A266&Tabelle1!$D$2+0)+0","v":"2025-05-13"},"Lucia",{"$f":"_xlfn.TEXTJOIN(\" / \",,IF($B$3:$B$499=B266,$C$3:$C$499,\"\"))","v":"Lucia"}]
["16.05.",{"$f":"(A267&Tabelle1!$D$2+0)+0","v":"2025-05-16"},"Hannes",{"$f":"_xlfn.TEXTJOIN(\" / \",,IF($B$3:$B$499=B267,$C$3:$C$499,\"\"))","v":"Hannes"}]
["25.05.",{"$f":"(A268&Tabelle1!$D$2+0)+0","v":"2025-05-25"},"Hamzh",{"$f":"_xlfn.TEXTJOIN(\" / \",,IF($B$3:$B$499=B268,$C$3:$C$499,\"\"))","v":"Hamzh"}]
["28.05.",{"$f":"(A269&Tabelle1!$D$2+0)+0","v":"2025-05-28"},"Enno",{"$f":"_xlfn.TEXTJOIN(\" / \",,IF($B$3:$B$499=B269,$C$3:$C$499,\"\"))","v":"Weltspieltag / Enno"}]
["29.05.",{"$f":"(A270&Tabelle1!$D$2+0)+0","v":"2025-05-29"},"Lea",{"$f":"_xlfn.TEXTJOIN(\" / \",,IF($B$3:$B$499=B270,$C$3:$C$499,\"\"))","v":"Christi Himmelfahrt / Vatertag / Lea / Kunigunde"}]
["29.05.",{"$f":"(A271&Tabelle1!$D$2+0)+0","v":"2025-05-29"},"Kunigunde",{"$f":"_xlfn.TEXTJOIN(\" / \",,IF($B$3:$B$499=B271,$C$3:$C$499,\"\"))","v":"Christi Himmelfahrt / Vatertag / Lea / Kunigunde"}]
["02.06.",{"$f":"(A272&Tabelle1!$D$2+0)+0","v":"2025-06-02"},"Leni",{"$f":"_xlfn.TEXTJOIN(\" / \",,IF($B$3:$B$499=B272,$C$3:$C$499,\"\"))","v":"Leni"}]
["03.06.",{"$f":"(A273&Tabelle1!$D$2+0)+0","v":"2025-06-03"},"Marlene",{"$f":"_xlfn.TEXTJOIN(\" / \",,IF($B$3:$B$499=B273,$C$3:$C$499,\"\"))","v":"Marlene"}]
["05.06.",{"$f":"(A274&Tabelle1!$D$2+0)+0","v":"2025-06-05"},"Alina",{"$f":"_xlfn.TEXTJOIN(\" / \",,IF($B$3:$B$499=B274,$C$3:$C$499,\"\"))","v":"Alina"}]
["06.06.",{"$f":"(A275&Tabelle1!$D$2+0)+0","v":"2025-06-06"},"Daniel",{"$f":"_xlfn.TEXTJOIN(\" / \",,IF($B$3:$B$499=B275,$C$3:$C$499,\"\"))","v":"Daniel"}]
["10.06.",{"$f":"(A276&Tabelle1!$D$2+0)+0","v":"2025-06-10"},"Hans",{"$f":"_xlfn.TEXTJOIN(\" / \",,IF($B$3:$B$499=B276,$C$3:$C$499,\"\"))","v":"Hans"}]
["13.06.",{"$f":"(A277&Tabelle1!$D$2+0)+0","v":"2025-06-13"},"Erik",{"$f":"_xlfn.TEXTJOIN(\" / \",,IF($B$3:$B$499=B277,$C$3:$C$499,\"\"))","v":"Erik / Justin"}]
["13.06.",{"$f":"(A278&Tabelle1!$D$2+0)+0","v":"2025-06-13"},"Justin",{"$f":"_xlfn.TEXTJOIN(\" / \",,IF($B$3:$B$499=B278,$C$3:$C$499,\"\"))","v":"Erik / Justin"}]
["30.06.",{"$f":"(A279&Tabelle1!$D$2+0)+0","v":"2025-06-30"},"Samuel",{"$f":"_xlfn.TEXTJOIN(\" / \",,IF($B$3:$B$499=B279,$C$3:$C$499,\"\"))","v":"Samuel"}]
["02.07.",{"$f":"(A280&Tabelle1!$D$2+0)+0","v":"2025-07-02"},"Elfriede",{"$f":"_xlfn.TEXTJOIN(\" / \",,IF($B$3:$B$499=B280,$C$3:$C$499,\"\"))","v":"Elfriede"}]
["05.07.",{"$f":"(A281&Tabelle1!$D$2+0)+0","v":"2025-07-05"},"Karim",{"$f":"_xlfn.TEXTJOIN(\" / \",,IF($B$3:$B$499=B281,$C$3:$C$499,\"\"))","v":"Karim / Karin"}]
["05.07.",{"$f":"(A282&Tabelle1!$D$2+0)+0","v":"2025-07-05"},"Karin",{"$f":"_xlfn.TEXTJOIN(\" / \",,IF($B$3:$B$499=B282,$C$3:$C$499,\"\"))","v":"Karim / Karin"}]
["07.07.",{"$f":"(A283&Tabelle1!$D$2+0)+0","v":"2025-07-07"},"Arda",{"$f":"_xlfn.TEXTJOIN(\" / \",,IF($B$3:$B$499=B283,$C$3:$C$499,\"\"))","v":"1. W / Arda"}]
["09.07.",{"$f":"(A284&Tabelle1!$D$2+0)+0","v":"2025-07-09"},"Dino",{"$f":"_xlfn.TEXTJOIN(\" / \",,IF($B$3:$B$499=B284,$C$3:$C$499,\"\"))","v":"Dino"}]
["11.07.",{"$f":"(A285&Tabelle1!$D$2+0)+0","v":"2025-07-11"},"Kaya",{"$f":"_xlfn.TEXTJOIN(\" / \",,IF($B$3:$B$499=B285,$C$3:$C$499,\"\"))","v":"Kaya"}]
["12.07.",{"$f":"(A286&Tabelle1!$D$2+0)+0","v":"2025-07-12"},"Lukas",{"$f":"_xlfn.TEXTJOIN(\" / \",,IF($B$3:$B$499=B286,$C$3:$C$499,\"\"))","v":"Lukas"}]
["08.08.",{"$f":"(A287&Tabelle1!$D$2+0)+0","v":"2025-08-08"},"Christopher",{"$f":"_xlfn.TEXTJOIN(\" / \",,IF($B$3:$B$499=B287,$C$3:$C$499,\"\"))","v":"Christopher"}]
["14.08.",{"$f":"(A288&Tabelle1!$D$2+0)+0","v":"2025-08-14"},"Lion",{"$f":"_xlfn.TEXTJOIN(\" / \",,IF($B$3:$B$499=B288,$C$3:$C$499,\"\"))","v":"Annemarie / Lion"}]
["16.08.",{"$f":"(A289&Tabelle1!$D$2+0)+0","v":"2025-08-16"},"Achmet",{"$f":"_xlfn.TEXTJOIN(\" / \",,IF($B$3:$B$499=B289,$C$3:$C$499,\"\"))","v":"Achmet"}]
["17.08.",{"$f":"(A290&Tabelle1!$D$2+0)+0","v":"2025-08-17"},"Jona",{"$f":"_xlfn.TEXTJOIN(\" / \",,IF($B$3:$B$499=B290,$C$3:$C$499,\"\"))","v":"Jona"}]
["20.08.",{"$f":"(A291&Tabelle1!$D$2+0)+0","v":"2025-08-20"},"Juliette",{"$f":"_xlfn.TEXTJOIN(\" / \",,IF($B$3:$B$499=B291,$C$3:$C$499,\"\"))","v":"Johanna / Juliette"}]
["06.09.",{"$f":"(A292&Tabelle1!$D$2+0)+0","v":"2025-09-06"},"Jola",{"$f":"_xlfn.TEXTJOIN(\" / \",,IF($B$3:$B$499=B292,$C$3:$C$499,\"\"))","v":"Jola"}]
["09.09.",{"$f":"(A293&Tabelle1!$D$2+0)+0","v":"2025-09-09"},"Hannna",{"$f":"_xlfn.TEXTJOIN(\" / \",,IF($B$3:$B$499=B293,$C$3:$C$499,\"\"))","v":"Hannna"}]
["13.09.",{"$f":"(A294&Tabelle1!$D$2+0)+0","v":"2025-09-13"},"Carla",{"$f":"_xlfn.TEXTJOIN(\" / \",,IF($B$3:$B$499=B294,$C$3:$C$499,\"\"))","v":"Carla"}]
["15.09.",{"$f":"(A295&Tabelle1!$D$2+0)+0","v":"2025-09-15"},"Karla",{"$f":"_xlfn.TEXTJOIN(\" / \",,IF($B$3:$B$499=B295,$C$3:$C$499,\"\"))","v":"Karla"}]
["20.09.",{"$f":"(A296&Tabelle1!$D$2+0)+0","v":"2025-09-20"},"Klara",{"$f":"_xlfn.TEXTJOIN(\" / \",,IF($B$3:$B$499=B296,$C$3:$C$499,\"\"))","v":"Weltkindertag / Klara"}]
["23.09.",{"$f":"(A297&Tabelle1!$D$2+0)+0","v":"2025-09-23"},"Maria",{"$f":"_xlfn.TEXTJOIN(\" / \",,IF($B$3:$B$499=B297,$C$3:$C$499,\"\"))","v":"Sina / Maria"}]
["24.09.",{"$f":"(A298&Tabelle1!$D$2+0)+0","v":"2025-09-24"},"Conztantin",{"$f":"_xlfn.TEXTJOIN(\" / \",,IF($B$3:$B$499=B298,$C$3:$C$499,\"\"))","v":"Conztantin"}]
["12.10.",{"$f":"(A299&Tabelle1!$D$2+0)+0","v":"2025-10-12"},"Vincent",{"$f":"_xlfn.TEXTJOIN(\" / \",,IF($B$3:$B$499=B299,$C$3:$C$499,\"\"))","v":"Vincent"}]
["14.10.",{"$f":"(A300&Tabelle1!$D$2+0)+0","v":"2025-10-14"},"Simon",{"$f":"_xlfn.TEXTJOIN(\" / \",,IF($B$3:$B$499=B300,$C$3:$C$499,\"\"))","v":"Simon"}]
["16.10.",{"$f":"(A301&Tabelle1!$D$2+0)+0","v":"2025-10-16"},"Felix",{"$f":"_xlfn.TEXTJOIN(\" / \",,IF($B$3:$B$499=B301,$C$3:$C$499,\"\"))","v":"Felix"}]
["18.10.",{"$f":"(A302&Tabelle1!$D$2+0)+0","v":"2025-10-18"},"Isabella",{"$f":"_xlfn.TEXTJOIN(\" / \",,IF($B$3:$B$499=B302,$C$3:$C$499,\"\"))","v":"Isabella / Felicitas"}]
["18.10.",{"$f":"(A303&Tabelle1!$D$2+0)+0","v":"2025-10-18"},"Felicitas",{"$f":"_xlfn.TEXTJOIN(\" / \",,IF($B$3:$B$499=B303,$C$3:$C$499,\"\"))","v":"Isabella / Felicitas"}]
["19.10.",{"$f":"(A304&Tabelle1!$D$2+0)+0","v":"2025-10-19"},"Felix",{"$f":"_xlfn.TEXTJOIN(\" / \",,IF($B$3:$B$499=B304,$C$3:$C$499,\"\"))","v":"Felix"}]
["21.10.",{"$f":"(A305&Tabelle1!$D$2+0)+0","v":"2025-10-21"},"Titus",{"$f":"_xlfn.TEXTJOIN(\" / \",,IF($B$3:$B$499=B305,$C$3:$C$499,\"\"))","v":"Brigitte / Titus"}]
["24.10.",{"$f":"(A306&Tabelle1!$D$2+0)+0","v":"2025-10-24"},"Marinette",{"$f":"_xlfn.TEXTJOIN(\" / \",,IF($B$3:$B$499=B306,$C$3:$C$499,\"\"))","v":"Spielmesse / Marinette"}]
["25.10.",{"$f":"(A307&Tabelle1!$D$2+0)+0","v":"2025-10-25"},"Tatjanna",{"$f":"_xlfn.TEXTJOIN(\" / \",,IF($B$3:$B$499=B307,$C$3:$C$499,\"\"))","v":"Tatjanna / Aliah"}]
["25.10.",{"$f":"(A308&Tabelle1!$D$2+0)+0","v":"2025-10-25"},"Aliah",{"$f":"_xlfn.TEXTJOIN(\" / \",,IF($B$3:$B$499=B308,$C$3:$C$499,\"\"))","v":"Tatjanna / Aliah"}]
["30.10.",{"$f":"(A309&Tabelle1!$D$2+0)+0","v":"2025-10-30"},"Adrian",{"$f":"_xlfn.TEXTJOIN(\" / \",,IF($B$3:$B$499=B309,$C$3:$C$499,\"\"))","v":"Familie / Adrian"}]
["31.10.",{"$f":"(A310&Tabelle1!$D$2+0)+0","v":"2025-10-31"},"Nathalie",{"$f":"_xlfn.TEXTJOIN(\" / \",,IF($B$3:$B$499=B310,$C$3:$C$499,\"\"))","v":"Halloween Reformationstag / Ella / Nathalie"}]
["02.11.",{"$f":"(A311&Tabelle1!$D$2+0)+0","v":"2025-11-02"},"Kagami",{"$f":"_xlfn.TEXTJOIN(\" / \",,IF($B$3:$B$499=B311,$C$3:$C$499,\"\"))","v":"Kagami"}]
["07.11.",{"$f":"(A312&Tabelle1!$D$2+0)+0","v":"2025-11-07"},"Rose",{"$f":"_xlfn.TEXTJOIN(\" / \",,IF($B$3:$B$499=B312,$C$3:$C$499,\"\"))","v":"Rose"}]
["08.11.",{"$f":"(A313&Tabelle1!$D$2+0)+0","v":"2025-11-08"},"Juliana",{"$f":"_xlfn.TEXTJOIN(\" / \",,IF($B$3:$B$499=B313,$C$3:$C$499,\"\"))","v":"Juliana"}]
["11.11.",{"$f":"(A314&Tabelle1!$D$2+0)+0","v":"2025-11-11"},"Sonja",{"$f":"_xlfn.TEXTJOIN(\" / \",,IF($B$3:$B$499=B314,$C$3:$C$499,\"\"))","v":"St Martin / Sonja"}]
["14.11.",{"$f":"(A315&Tabelle1!$D$2+0)+0","v":"2025-11-14"},"Gregor",{"$f":"_xlfn.TEXTJOIN(\" / \",,IF($B$3:$B$499=B315,$C$3:$C$499,\"\"))","v":"Gregor"}]
["19.11.",{"$f":"(A316&Tabelle1!$D$2+0)+0","v":"2025-11-19"},"Mertr",{"$f":"_xlfn.TEXTJOIN(\" / \",,IF($B$3:$B$499=B316,$C$3:$C$499,\"\"))","v":"Buß- und Bettag / Mertr"}]
["23.11.",{"$f":"(A317&Tabelle1!$D$2+0)+0","v":"2025-11-23"},"Niklas",{"$f":"_xlfn.TEXTJOIN(\" / \",,IF($B$3:$B$499=B317,$C$3:$C$499,\"\"))","v":"Totensonntag / Niklas"}]
["25.11.",{"$f":"(A318&Tabelle1!$D$2+0)+0","v":"2025-11-25"},"Lila",{"$f":"_xlfn.TEXTJOIN(\" / \",,IF($B$3:$B$499=B318,$C$3:$C$499,\"\"))","v":"Lila"}]
["27.11.",{"$f":"(A319&Tabelle1!$D$2+0)+0","v":"2025-11-27"},"Timo",{"$f":"_xlfn.TEXTJOIN(\" / \",,IF($B$3:$B$499=B319,$C$3:$C$499,\"\"))","v":"Ulrike / Timo"}]
["06.12.",{"$f":"(A320&Tabelle1!$D$2+0)+0","v":"2025-12-06"},"Thorsten",{"$f":"_xlfn.TEXTJOIN(\" / \",,IF($B$3:$B$499=B320,$C$3:$C$499,\"\"))","v":"Nikolaus / Thorsten"}]
["08.12.",{"$f":"(A321&Tabelle1!$D$2+0)+0","v":"2025-12-08"},"Nino",{"$f":"_xlfn.TEXTJOIN(\" / \",,IF($B$3:$B$499=B321,$C$3:$C$499,\"\"))","v":"Nino / Fred"}]
["08.12.",{"$f":"(A322&Tabelle1!$D$2+0)+0","v":"2025-12-08"},"Fred",{"$f":"_xlfn.TEXTJOIN(\" / \",,IF($B$3:$B$499=B322,$C$3:$C$499,\"\"))","v":"Nino / Fred"}]
["11.12.",{"$f":"(A323&Tabelle1!$D$2+0)+0","v":"2025-12-11"},"Charlotta",{"$f":"_xlfn.TEXTJOIN(\" / \",,IF($B$3:$B$499=B323,$C$3:$C$499,\"\"))","v":"Marius / Charlotta"}]
["20.12.",{"$f":"(A324&Tabelle1!$D$2+0)+0","v":"2025-12-20"},"Melanie",{"$f":"_xlfn.TEXTJOIN(\" / \",,IF($B$3:$B$499=B324,$C$3:$C$499,\"\"))","v":"Melanie"}]
["21.12.",{"$f":"(A325&Tabelle1!$D$2+0)+0","v":"2025-12-21"},"Christina",{"$f":"_xlfn.TEXTJOIN(\" / \",,IF($B$3:$B$499=B325,$C$3:$C$499,\"\"))","v":"4.Advent / Christina"}]
["27.12.",{"$f":"(A326&Tabelle1!$D$2+0)+0","v":"2025-12-27"},"Kira",{"$f":"_xlfn.TEXTJOIN(\" / \",,IF($B$3:$B$499=B326,$C$3:$C$499,\"\"))","v":"Kira"}]
["30.12.",{"$f":"(A327&Tabelle1!$D$2+0)+0","v":"2025-12-30"},"Luisa",{"$f":"_xlfn.TEXTJOIN(\" / \",,IF($B$3:$B$499=B327,$C$3:$C$499,\"\"))","v":"Luisa"}]
[null,null,"Sam"]
[]
[]
[]
[]
[]
[]
[]
[]
[]
[]
[]
[]
[]
[]
[]
[]
[]
[]
[]
[]
[]
[]
[]
[]
[]
[]
[]
[]
[]
[{"$f":"A239","v":"09.01."},{"$f":"(A358&Tabelle1!$D$2+1)+0","v":"2026-01-09"},{"$f":"C239","v":"Luis"},{"$f":"_xlfn.TEXTJOIN(\" / \",,IF($B$3:$B$499=B358,$C$3:$C$499,\"\"))","v":"Luis"}]
[{"$f":"A240","v":"13.01."},{"$f":"(A359&Tabelle1!$D$2+1)+0","v":"2026-01-13"},{"$f":"C240","v":"Angela"},{"$f":"_xlfn.TEXTJOIN(\" / \",,IF($B$3:$B$499=B359,$C$3:$C$499,\"\"))","v":"Angela"}]
["16.01.",{"$f":"(A360&Tabelle1!$D$2+1)+0","v":"2026-01-16"},"Mia",{"$f":"_xlfn.TEXTJOIN(\" / \",,IF($B$3:$B$499=B360,$C$3:$C$499,\"\"))","v":"Mia"}]
["30.01.",{"$f":"(A361&Tabelle1!$D$2+1)+0","v":"2026-01-30"},"Pauline",{"$f":"_xlfn.TEXTJOIN(\" / \",,IF($B$3:$B$499=B361,$C$3:$C$499,\"\"))","v":"Pauline"}]
["05.02.",{"$f":"(A362&Tabelle1!$D$2+1)+0","v":"2026-02-05"},"Sam",{"$f":"_xlfn.TEXTJOIN(\" / \",,IF($B$3:$B$499=B362,$C$3:$C$499,\"\"))","v":"Sam"}]
["19.02.",{"$f":"(A363&Tabelle1!$D$2+1)+0","v":"2026-02-19"},"any",{"$f":"_xlfn.TEXTJOIN(\" / \",,IF($B$3:$B$499=B363,$C$3:$C$499,\"\"))","v":"any"}]
["06.03.",{"$f":"(A364&Tabelle1!$D$2+1)+0","v":"2026-03-06"},"Lilu",{"$f":"_xlfn.TEXTJOIN(\" / \",,IF($B$3:$B$499=B364,$C$3:$C$499,\"\"))","v":"Tom / Lilu"}]
["11.03.",{"$f":"(A365&Tabelle1!$D$2+1)+0","v":"2026-03-11"},"Yvonne",{"$f":"_xlfn.TEXTJOIN(\" / \",,IF($B$3:$B$499=B365,$C$3:$C$499,\"\"))","v":"Yvonne"}]
["13.03.",{"$f":"(A366&Tabelle1!$D$2+1)+0","v":"2026-03-13"},"Valentina",{"$f":"_xlfn.TEXTJOIN(\" / \",,IF($B$3:$B$499=B366,$C$3:$C$499,\"\"))","v":"Valentina"}]
["21.03.",{"$f":"(A367&Tabelle1!$D$2+1)+0","v":"2026-03-21"},"Susanne",{"$f":"_xlfn.TEXTJOIN(\" / \",,IF($B$3:$B$499=B367,$C$3:$C$499,\"\"))","v":"Susanne"}]
["23.03.",{"$f":"(A368&Tabelle1!$D$2+1)+0","v":"2026-03-23"},"Justus",{"$f":"_xlfn.TEXTJOIN(\" / \",,IF($B$3:$B$499=B368,$C$3:$C$499,\"\"))","v":"Justus"}]
["24.03.",{"$f":"(A369&Tabelle1!$D$2+1)+0","v":"2026-03-24"},"Frieda",{"$f":"_xlfn.TEXTJOIN(\" / \",,IF($B$3:$B$499=B369,$C$3:$C$499,\"\"))","v":"Frieda"}]
["30.03.",{"$f":"(A370&Tabelle1!$D$2+1)+0","v":"2026-03-30"},"Peter",{"$f":"_xlfn.TEXTJOIN(\" / \",,IF($B$3:$B$499=B370,$C$3:$C$499,\"\"))","v":"Peter"}]
["02.04.",{"$f":"(A371&Tabelle1!$D$2+1)+0","v":"2026-04-02"},"Bob",{"$f":"_xlfn.TEXTJOIN(\" / \",,IF($B$3:$B$499=B371,$C$3:$C$499,\"\"))","v":"Bob"}]
["03.04.",{"$f":"(A372&Tabelle1!$D$2+1)+0","v":"2026-04-03"},"Eliana",{"$f":"_xlfn.TEXTJOIN(\" / \",,IF($B$3:$B$499=B372,$C$3:$C$499,\"\"))","v":"Eliana"}]
["05.04.",{"$f":"(A373&Tabelle1!$D$2+1)+0","v":"2026-04-05"},"Luzie",{"$f":"_xlfn.TEXTJOIN(\" / \",,IF($B$3:$B$499=B373,$C$3:$C$499,\"\"))","v":"Luzie"}]
["10.04.",{"$f":"(A374&Tabelle1!$D$2+1)+0","v":"2026-04-10"},"Lucy",{"$f":"_xlfn.TEXTJOIN(\" / \",,IF($B$3:$B$499=B374,$C$3:$C$499,\"\"))","v":"Lucy"}]
["12.04.",{"$f":"(A375&Tabelle1!$D$2+1)+0","v":"2026-04-12"},"Dina",{"$f":"_xlfn.TEXTJOIN(\" / \",,IF($B$3:$B$499=B375,$C$3:$C$499,\"\"))","v":"Dina"}]
["15.04.",{"$f":"(A376&Tabelle1!$D$2+1)+0","v":"2026-04-15"},"Milana",{"$f":"_xlfn.TEXTJOIN(\" / \",,IF($B$3:$B$499=B376,$C$3:$C$499,\"\"))","v":"Milana"}]
["16.04.",{"$f":"(A377&Tabelle1!$D$2+1)+0","v":"2026-04-16"},"Nila",{"$f":"_xlfn.TEXTJOIN(\" / \",,IF($B$3:$B$499=B377,$C$3:$C$499,\"\"))","v":"Nila / Francesco"}]
["16.04.",{"$f":"(A378&Tabelle1!$D$2+1)+0","v":"2026-04-16"},"Francesco",{"$f":"_xlfn.TEXTJOIN(\" / \",,IF($B$3:$B$499=B378,$C$3:$C$499,\"\"))","v":"Nila / Francesco"}]
["17.04.",{"$f":"(A379&Tabelle1!$D$2+1)+0","v":"2026-04-17"},"Noam",{"$f":"_xlfn.TEXTJOIN(\" / \",,IF($B$3:$B$499=B379,$C$3:$C$499,\"\"))","v":"Noam"}]
["19.04.",{"$f":"(A380&Tabelle1!$D$2+1)+0","v":"2026-04-19"},"Louis",{"$f":"_xlfn.TEXTJOIN(\" / \",,IF($B$3:$B$499=B380,$C$3:$C$499,\"\"))","v":"Louis"}]
["22.04.",{"$f":"(A381&Tabelle1!$D$2+1)+0","v":"2026-04-22"},"Abas",{"$f":"_xlfn.TEXTJOIN(\" / \",,IF($B$3:$B$499=B381,$C$3:$C$499,\"\"))","v":"Abas"}]
["02.05.",{"$f":"(A382&Tabelle1!$D$2+1)+0","v":"2026-05-02"},"Zaccharia",{"$f":"_xlfn.TEXTJOIN(\" / \",,IF($B$3:$B$499=B382,$C$3:$C$499,\"\"))","v":"Zaccharia"}]
["03.05.",{"$f":"(A383&Tabelle1!$D$2+1)+0","v":"2026-05-03"},"Jacob",{"$f":"_xlfn.TEXTJOIN(\" / \",,IF($B$3:$B$499=B383,$C$3:$C$499,\"\"))","v":"Jacob"}]
["04.05.",{"$f":"(A384&Tabelle1!$D$2+1)+0","v":"2026-05-04"},"Elias",{"$f":"_xlfn.TEXTJOIN(\" / \",,IF($B$3:$B$499=B384,$C$3:$C$499,\"\"))","v":"Elias"}]
["13.05.",{"$f":"(A385&Tabelle1!$D$2+1)+0","v":"2026-05-13"},"Lucia",{"$f":"_xlfn.TEXTJOIN(\" / \",,IF($B$3:$B$499=B385,$C$3:$C$499,\"\"))","v":"Lucia"}]
["16.05.",{"$f":"(A386&Tabelle1!$D$2+1)+0","v":"2026-05-16"},"Hannes",{"$f":"_xlfn.TEXTJOIN(\" / \",,IF($B$3:$B$499=B386,$C$3:$C$499,\"\"))","v":"Hannes"}]
["25.05.",{"$f":"(A387&Tabelle1!$D$2+1)+0","v":"2026-05-25"},"Hamzh",{"$f":"_xlfn.TEXTJOIN(\" / \",,IF($B$3:$B$499=B387,$C$3:$C$499,\"\"))","v":"Hamzh"}]
["28.05.",{"$f":"(A388&Tabelle1!$D$2+1)+0","v":"2026-05-28"},"Enno",{"$f":"_xlfn.TEXTJOIN(\" / \",,IF($B$3:$B$499=B388,$C$3:$C$499,\"\"))","v":"Enno"}]
["29.05.",{"$f":"(A389&Tabelle1!$D$2+1)+0","v":"2026-05-29"},"Lea",{"$f":"_xlfn.TEXTJOIN(\" / \",,IF($B$3:$B$499=B389,$C$3:$C$499,\"\"))","v":"Lea"}]