{"text_format":"1","workbook":"xlsx","n_sheets":4,"sheets":["Eingabe","Mietvertrag","Kalender","Tabelle1"],"not_rendered":{"charts":0,"images":2,"macros":1,"external_links":0,"defined_names":3,"comments":0,"pivot_tables":0},"unopened":[],"bounds":{"document_bytes":16777216,"sheet_cells":100000,"rows_first":2000,"rows_last":500,"rows_between":2000,"halvings":0,"cell_chars":16384,"cell_head_chars":4096},"cells_cut":0,"cells_raw":0,"read":"whole","date_system":"1900"}

{"sheet":"Eingabe","index":0,"n_rows":124,"n_cols":41,"rows_kept":124,"cut":false,"hidden":false,"merged":[]}
[1,2,3,4,5,6,7,8,9,10,11,12,13,14,15,16,17,18,19,20,21,22,23,24,25,26,27,28,29,30,31,"1900-02-01",33,34,35,36,37,38,39,40,41]
[null,null,null,null,null,null,null,null,null,null,null,null,null,null,null,null,null,null,"Voresai.","Saison","Rein."]
[null,null,null,null,null,null,null,null,null,null,null,null,null,null,null,null,null,"1;2;4","55/65€","95/115€",60]
[null,null,null,null,null,null,null,null,null,null,null,null,null,null,null,null,null,3,"105/125€","170/200€",85,null,null,null,null,9,null,4.5,8,null,0.2]
["Nr","Fewo Nr","von","bis","Farbe","Anrede","Name","Straße","Wohnort","Mail","Tel.","Erwachs.","Kinder","Haustiere","Bettwäsche","Handtücher","Bemerkungen","Tage","Mietpreis","Reinigung","Vertrieb","Buchungsgeb.","Verm. Geb.","Sonstiges","Bettwäsche","Bettwäsche","Handtücher","Handtücher","Haustiere","Gesamtpreis","Anzahlung","Dat .","bezahlt","Dat .","bezahlt","gesammt","Rechnungsdatum","Buchungsdatum","Bu.Nr.","KD.Nr.","Nr"]
[1,2,"2025-04-18","2025-04-26",8,null,null,null,null,null,null,2,1,null,null,null,null,{"$f":"D6-C6","v":8},null,null,null,null,null,null,{"$f":"IF(O6=\"X\",L6+M6,O6)","v":0},{"$f":"IF(O6=0,0,IF(O6=\"x\",L6+M6,O6)*$Z$4)","v":0},{"$f":"IF(P6=\"x\",L6+M6,P6)","v":0},{"$f":"IF(P6=0,0,IF(P6=\"x\",M6+L6,P6)*$AB$4)","v":0},{"$f":"IF(N6=0,0,N6*$AC$4)*R6","v":0},{"$f":"R6*S6+T6+U6+V6+W6+X6+Z6+AB6+AC6","v":0},{"$f":"AD6*$AE$4","v":0},null,null,null,null,{"$f":"AD6-AG6-AI6","v":0},null,null,null,null,{"$f":"IF(OR(U6>0,V6>A6),A6,0)","v":0}]
[null,null,null,null,6,null,null,null,null,null,null,2,3,null,null,null,null,{"$f":"D7-C7","v":0},null,null,null,null,null,null,{"$f":"IF(O7=\"X\",L7+M7,O7)","v":0},{"$f":"IF(O7=0,0,IF(O7=\"x\",L7+M7,O7)*$Z$4)","v":0},{"$f":"IF(P7=\"x\",L7+M7,P7)","v":0},{"$f":"IF(P7=0,0,IF(P7=\"x\",M7+L7,P7)*$AB$4)","v":0},{"$f":"IF(N7=0,0,N7*$AC$4)*R7","v":0},{"$f":"R7*S7+T7+U7+V7+W7+X7+Z7+AB7+AC7","v":0},{"$f":"AD7*$AE$4","v":0},null,null,null,null,{"$f":"AD7-AG7-AI7","v":0},null,null,null,null,{"$f":"IF(OR(U7>0,V7>A7),A7,0)","v":0}]
[3,3,"2025-04-12","2025-04-19",7,null,null,null,null,null,null,2,1,null,"x","x",null,7,null,null,null,null,null,null,3,27,3,13.5,0,40.5,8.1,null,null,null,null,40.5,null,null,null,null,0]
[4,1,"2025-04-27","2025-05-04",5,"Herr",null,null,null,null,null,2,2,null,"x","x",null,7,null,null,null,null,null,null,4,36,4,18,0,54,10.8,null,null,null,null,54,null,null,null,null,0]
[5,2,"2025-04-27","2025-05-04",5,null,null,null,null,null,null,2,null,2,"x","x",null,7,null,null,null,null,null,null,2,18,2,9,112,139,27.8,null,null,null,null,139,null,null,null,null,0]
[6,4,"2025-04-27","2025-05-04",5,null,null,null,null,null,null,2,null,null,"x","x",null,7,null,null,null,null,null,null,2,18,2,9,0,27,5.4,null,null,null,null,27,null,null,null,null,0]
[7,1,"2024-04-17","2024-04-22",4,null,null,null,null,null,null,2,2,null,null,null,null,5,null,null,null,null,null,null,0,0,0,0,0,0,0,null,null,null,null,0,null,null,null,null,0]
[8,2,"2025-02-01","2025-02-08",6,null,null,null,null,null,null,4,1,1,null,null,null,7,null,null,null,null,null,null,0,0,0,0,56,56,11.200000000000001,null,null,null,null,56,null,null,null,null,0]
[9,null,null,null,null,null,null,null,null,null,null,2,2,null,null,null,null,0,null,null,null,null,null,null,{"$f":"IF(O14=\"X\",L14+M14,O14)","v":0},{"$f":"IF(O14=0,0,IF(O14=\"x\",L14+M14,O14)*$Z$4)","v":0},{"$f":"IF(P14=\"x\",L14+M14,P14)","v":0},{"$f":"IF(P14=0,0,IF(P14=\"x\",M14+L14,P14)*$AB$4)","v":0},{"$f":"IF(N14=0,0,N14*$AC$4)*R14","v":0},{"$f":"R14*S14+T14+U14+V14+W14+X14+Z14+AB14+AC14","v":0},{"$f":"AD14*$AE$4","v":0},null,null,null,null,{"$f":"AD14-AG14-AI14","v":0},null,null,null,null,0]
[10,null,null,null,6,"Frau",null,null,null,null,null,2,null,null,null,null,null,0,null,null,null,null,null,null,{"$f":"IF(O15=\"X\",L15+M15,O15)","v":0},{"$f":"IF(O15=0,0,IF(O15=\"x\",L15+M15,O15)*$Z$4)","v":0},{"$f":"IF(P15=\"x\",L15+M15,P15)","v":0},{"$f":"IF(P15=0,0,IF(P15=\"x\",M15+L15,P15)*$AB$4)","v":0},{"$f":"IF(N15=0,0,N15*$AC$4)*R15","v":0},{"$f":"R15*S15+T15+U15+V15+W15+X15+Z15+AB15+AC15","v":0},{"$f":"AD15*$AE$4","v":0},null,null,null,null,0,null,null,null,null,0]
[11,4,"2025-01-08","2025-01-21",7,"Herr",null,null,null,null,null,2,null,null,null,null,null,13,null,null,null,null,null,null,0,0,0,0,0,0,0,null,null,null,null,0,null,null,null,null,0]
[12,1,"2025-08-08","2025-08-10",7,"Herr",null,null,null,null,null,4,1,null,null,null,null,2,null,null,null,null,null,null,0,0,0,0,0,0,0,null,null,null,null,0,null,null,null,null,0]
[13,3,"2025-08-08","2025-08-10",7,"Herr",null,null,null,null,null,4,null,null,null,null,null,2,null,null,null,null,null,null,0,0,0,0,0,0,0,null,null,null,null,0,null,null,null,null,0]
[14,2,"2025-08-08","2025-08-10",7,"Herr",null,null,null,null,null,3,1,null,null,null,null,2,null,null,null,null,null,null,0,0,0,0,0,0,0,null,null,null,null,0,null,null,null,null,0]
[15,2,"2025-04-10","2025-04-15",6,"Frau",null,null,null,null,null,2,null,2,"x","x",null,5,null,null,null,null,null,null,2,18,2,9,80,107,21.400000000000002,null,null,null,null,107,null,null,null,null,0]
[16,2,"2025-07-07","2025-07-17",7,"Familie",null,null,null,null,null,2,3,1,2,2,null,10,null,null,null,null,null,null,2,18,2,9,80,107,21.400000000000002,null,null,null,null,107,null,null,null,null,0]
[17,3,"2025-01-19","2025-01-22",6,null,null,null,null,null,null,5,null,null,null,null,null,3,null,null,null,null,null,null,{"$f":"IF(O22=\"X\",L22+M22,O22)","v":0},{"$f":"IF(O22=0,0,IF(O22=\"x\",L22+M22,O22)*$Z$4)","v":0},{"$f":"IF(P22=\"x\",L22+M22,P22)","v":0},{"$f":"IF(P22=0,0,IF(P22=\"x\",M22+L22,P22)*$AB$4)","v":0},{"$f":"IF(N22=0,0,N22*$AC$4)*R22","v":0},{"$f":"R22*S22+T22+U22+V22+W22+X22+Z22+AB22+AC22","v":0},{"$f":"AD22*$AE$4","v":0},null,null,null,null,0,null,null,null,null,0]
[18,1,"2025-01-19","2025-01-22",6,null,null,null,null,null,null,6,null,null,null,null,null,3,null,null,null,null,null,null,0,0,0,0,0,0,0,null,null,null,null,0,null,null,null,null,0]
[19,2,"2025-01-19","2025-01-22",6,null,null,null,null,null,null,5,null,null,null,null,null,3,null,null,null,null,null,null,{"$f":"IF(O24=\"X\",L24+M24,O24)","v":0},{"$f":"IF(O24=0,0,IF(O24=\"x\",L24+M24,O24)*$Z$4)","v":0},{"$f":"IF(P24=\"x\",L24+M24,P24)","v":0},{"$f":"IF(P24=0,0,IF(P24=\"x\",M24+L24,P24)*$AB$4)","v":0},{"$f":"IF(N24=0,0,N24*$AC$4)*R24","v":0},{"$f":"R24*S24+T24+U24+V24+W24+X24+Z24+AB24+AC24","v":0},{"$f":"AD24*$AE$4","v":0},null,null,null,null,{"$f":"AD24-AG24-AI24","v":0},null,null,null,null,0]
[20,1,"2025-07-06","2025-07-20",6,"Herr",null,null,null,null,null,null,null,null,null,null,null,14,null,null,null,null,null,null,{"$f":"IF(O25=\"X\",L25+M25,O25)","v":0},{"$f":"IF(O25=0,0,IF(O25=\"x\",L25+M25,O25)*$Z$4)","v":0},{"$f":"IF(P25=\"x\",L25+M25,P25)","v":0},{"$f":"IF(P25=0,0,IF(P25=\"x\",M25+L25,P25)*$AB$4)","v":0},{"$f":"IF(N25=0,0,N25*$AC$4)*R25","v":0},{"$f":"R25*S25+T25+U25+V25+W25+X25+Z25+AB25+AC25","v":0},{"$f":"AD25*$AE$4","v":0},null,null,null,null,{"$f":"AD25-AG25-AI25","v":0},null,null,null,null,0]
[21,1,"2025-07-26","2025-08-02",6,"Frau",null,null,null,null,null,2,2,null,null,null,null,7,null,null,null,null,null,null,{"$f":"IF(O26=\"X\",L26+M26,O26)","v":0},{"$f":"IF(O26=0,0,IF(O26=\"x\",L26+M26,O26)*$Z$4)","v":0},{"$f":"IF(P26=\"x\",L26+M26,P26)","v":0},{"$f":"IF(P26=0,0,IF(P26=\"x\",M26+L26,P26)*$AB$4)","v":0},{"$f":"IF(N26=0,0,N26*$AC$4)*R26","v":0},{"$f":"R26*S26+T26+U26+V26+W26+X26+Z26+AB26+AC26","v":0},{"$f":"AD26*$AE$4","v":0},null,null,null,null,0,null,null,null,null,0]
[22,1,"2025-01-09","2025-01-17",7,"Herr",null,null,null,null,null,null,null,null,null,null,null,8,null,null,null,null,null,null,{"$f":"IF(O27=\"X\",L27+M27,O27)","v":0},{"$f":"IF(O27=0,0,IF(O27=\"x\",L27+M27,O27)*$Z$4)","v":0},{"$f":"IF(P27=\"x\",L27+M27,P27)","v":0},{"$f":"IF(P27=0,0,IF(P27=\"x\",M27+L27,P27)*$AB$4)","v":0},{"$f":"IF(N27=0,0,N27*$AC$4)*R27","v":0},{"$f":"R27*S27+T27+U27+V27+W27+X27+Z27+AB27+AC27","v":0},{"$f":"AD27*$AE$4","v":0},null,null,null,null,{"$f":"AD27-AG27-AI27","v":0},null,null,null,null,0]
[23,1,"2025-09-28","2025-12-31",7,null,null,null,null,null,null,null,null,null,null,null,null,94,null,null,null,null,null,null,{"$f":"IF(O28=\"X\",L28+M28,O28)","v":0},{"$f":"IF(O28=0,0,IF(O28=\"x\",L28+M28,O28)*$Z$4)","v":0},{"$f":"IF(P28=\"x\",L28+M28,P28)","v":0},{"$f":"IF(P28=0,0,IF(P28=\"x\",M28+L28,P28)*$AB$4)","v":0},{"$f":"IF(N28=0,0,N28*$AC$4)*R28","v":0},{"$f":"R28*S28+T28+U28+V28+W28+X28+Z28+AB28+AC28","v":0},{"$f":"AD28*$AE$4","v":0},null,null,null,null,0,null,null,null,null,0]
[24,1,"2026-01-01","2026-01-05",4,null,null,null,null,null,null,null,null,null,null,null,null,4,null,null,null,null,null,null,{"$f":"IF(O29=\"X\",L29+M29,O29)","v":0},{"$f":"IF(O29=0,0,IF(O29=\"x\",L29+M29,O29)*$Z$4)","v":0},{"$f":"IF(P29=\"x\",L29+M29,P29)","v":0},{"$f":"IF(P29=0,0,IF(P29=\"x\",M29+L29,P29)*$AB$4)","v":0},{"$f":"IF(N29=0,0,N29*$AC$4)*R29","v":0},{"$f":"R29*S29+T29+U29+V29+W29+X29+Z29+AB29+AC29","v":0},{"$f":"AD29*$AE$4","v":0},null,null,null,null,0,null,null,null,null,0]
[25,2,"2025-12-23","2026-01-04",6,null,null,null,null,null,null,null,null,null,null,null,null,12,null,null,null,null,null,null,{"$f":"IF(O30=\"X\",L30+M30,O30)","v":0},{"$f":"IF(O30=0,0,IF(O30=\"x\",L30+M30,O30)*$Z$4)","v":0},{"$f":"IF(P30=\"x\",L30+M30,P30)","v":0},{"$f":"IF(P30=0,0,IF(P30=\"x\",M30+L30,P30)*$AB$4)","v":0},{"$f":"IF(N30=0,0,N30*$AC$4)*R30","v":0},{"$f":"R30*S30+T30+U30+V30+W30+X30+Z30+AB30+AC30","v":0},{"$f":"AD30*$AE$4","v":0},null,null,null,null,0,null,null,null,null,0]
[26,3,"2025-12-30","2026-01-03",8,null,null,null,null,null,null,null,null,null,null,null,null,4,null,null,null,null,null,null,{"$f":"IF(O31=\"X\",L31+M31,O31)","v":0},{"$f":"IF(O31=0,0,IF(O31=\"x\",L31+M31,O31)*$Z$4)","v":0},{"$f":"IF(P31=\"x\",L31+M31,P31)","v":0},{"$f":"IF(P31=0,0,IF(P31=\"x\",M31+L31,P31)*$AB$4)","v":0},{"$f":"IF(N31=0,0,N31*$AC$4)*R31","v":0},{"$f":"R31*S31+T31+U31+V31+W31+X31+Z31+AB31+AC31","v":0},{"$f":"AD31*$AE$4","v":0},null,null,null,null,{"$f":"AD31-AG31-AI31","v":0},null,null,null,null,0]
[null,null,null,null,null,null,null,null,null,null,null,null,null,null,null,null,null,0,null,null,null,null,null,null,0,0,0,0,0,0,0,null,null,null,null,0,null,null,null,null,0]
[null,null,null,null,null,null,null,null,null,null,null,null,null,null,null,null,null,0,null,null,null,null,null,null,0,0,0,0,0,0,0,null,null,null,null,0,null,null,null,null,0]
[null,null,null,null,null,null,null,null,null,null,null,null,null,null,null,null,null,0,null,null,null,null,null,null,0,0,0,0,0,0,0,null,null,null,null,0,null,null,null,null,0]
[null,null,null,null,null,null,null,null,null,null,null,null,null,null,null,null,null,0,null,null,null,null,null,null,{"$f":"IF(O35=\"X\",L35+M35,O35)","v":0},{"$f":"IF(O35=0,0,IF(O35=\"x\",L35+M35,O35)*$Z$4)","v":0},{"$f":"IF(P35=\"x\",L35+M35,P35)","v":0},{"$f":"IF(P35=0,0,IF(P35=\"x\",M35+L35,P35)*$AB$4)","v":0},{"$f":"IF(N35=0,0,N35*$AC$4)*R35","v":0},{"$f":"R35*S35+T35+U35+V35+W35+X35+Z35+AB35+AC35","v":0},{"$f":"AD35*$AE$4","v":0},null,null,null,null,0,null,null,null,null,0]
[null,null,null,null,null,null,null,null,null,null,null,null,null,null,null,null,null,0,null,null,null,null,null,null,0,{"$f":"IF(O36=0,0,IF(O36=\"x\",L36+M36,O36)*$Z$4)","v":0},{"$f":"IF(P36=\"x\",L36+M36,P36)","v":0},{"$f":"IF(P36=0,0,IF(P36=\"x\",M36+L36,P36)*$AB$4)","v":0},{"$f":"IF(N36=0,0,N36*$AC$4)*R36","v":0},{"$f":"R36*S36+T36+U36+V36+W36+X36+Z36+AB36+AC36","v":0},{"$f":"AD36*$AE$4","v":0},null,null,null,null,0,null,null,null,null,0]
[null,null,null,null,null,null,null,null,null,null,null,null,null,null,null,null,null,0,null,null,null,null,null,null,0,0,0,0,0,0,0,null,null,null,null,0,null,null,null,null,0]
[null,null,null,null,null,null,null,null,null,null,null,null,null,null,null,null,null,0,null,null,null,null,null,null,0,0,0,0,0,0,0,null,null,null,null,0,null,null,null,null,0]
[null,null,null,null,null,null,null,null,null,null,null,null,null,null,null,null,null,0,null,null,null,null,null,null,0,0,0,0,0,0,0,null,null,null,null,0,null,null,null,null,0]
[null,null,null,null,null,null,null,null,null,null,null,null,null,null,null,null,null,0,null,null,null,null,null,null,0,0,0,0,0,0,0,null,null,null,null,0,null,null,null,null,0]
[null,null,null,null,null,null,null,null,null,null,null,null,null,null,null,null,null,0,null,null,null,null,null,null,0,0,0,0,0,0,0,null,null,null,null,0,null,null,null,null,0]
[null,null,null,null,null,null,null,null,null,null,null,null,null,null,null,null,null,0,null,null,null,null,null,null,0,0,0,0,0,0,0,null,null,null,null,0,null,null,null,null,0]
[null,null,null,null,null,null,null,null,null,null,null,null,null,null,null,null,null,0,null,null,null,null,null,null,0,0,0,0,0,0,0,null,null,null,null,0,null,null,null,null,0]
[null,null,null,null,null,null,null,null,null,null,null,null,null,null,null,null,null,0,null,null,null,null,null,null,0,0,0,0,0,0,0,null,null,null,null,0,null,null,null,null,0]
[null,null,null,null,null,null,null,null,null,null,null,null,null,null,null,null,null,0,null,null,null,null,null,null,0,0,0,0,0,0,0,null,null,null,null,0,null,null,null,null,0]
[null,null,null,null,null,null,null,null,null,null,null,null,null,null,null,null,null,0,null,null,null,null,null,null,0,0,0,0,0,0,0,null,null,null,null,0,null,null,null,null,0]
[null,null,null,null,null,null,null,null,null,null,null,null,null,null,null,null,null,0,null,null,null,null,null,null,0,0,0,0,0,0,0,null,null,null,null,0,null,null,null,null,0]
[null,null,null,null,null,null,null,null,null,null,null,null,null,null,null,null,null,0,null,null,null,null,null,null,0,0,0,0,0,0,0,null,null,null,null,0,null,null,null,null,0]
[null,null,null,null,null,null,null,null,null,null,null,null,null,null,null,null,null,0,null,null,null,null,null,null,0,0,0,0,0,0,0,null,null,null,null,0,null,null,null,null,0]
[null,null,null,null,null,null,null,null,null,null,null,null,null,null,null,null,null,0,null,null,null,null,null,null,0,0,0,0,0,0,0,null,null,null,null,0,null,null,null,null,0]
[null,null,null,null,null,null,null,null,null,null,null,null,null,null,null,null,null,0,null,null,null,null,null,null,0,0,0,0,0,0,0,null,null,null,null,0,null,null,null,null,0]
[null,null,null,null,null,null,null,null,null,null,null,null,null,null,null,null,null,0,null,null,null,null,null,null,0,0,0,0,0,0,0,null,null,null,null,0,null,null,null,null,0]
[null,null,null,null,null,null,null,null,null,null,null,null,null,null,null,null,null,0,null,null,null,null,null,null,0,0,0,0,0,0,0,null,null,null,null,0,null,null,null,null,0]
[null,null,null,null,null,null,null,null,null,null,null,null,null,null,null,null,null,0,null,null,null,null,null,null,0,0,0,0,0,0,0,null,null,null,null,0,null,null,null,null,0]
[null,null,null,null,null,null,null,null,null,null,null,null,null,null,null,null,null,0,null,null,null,null,null,null,0,0,0,0,0,0,0,null,null,null,null,0,null,null,null,null,0]
[null,null,null,null,null,null,null,null,null,null,null,null,null,null,null,null,null,0,null,null,null,null,null,null,0,0,0,0,0,0,0,null,null,null,null,0,null,null,null,null,0]
[null,null,null,null,null,null,null,null,null,null,null,null,null,null,null,null,null,0,null,null,null,null,null,null,0,0,0,0,0,0,0,null,null,null,null,0,null,null,null,null,0]
[null,null,null,null,null,null,null,null,null,null,null,null,null,null,null,null,null,0,null,null,null,null,null,null,0,0,0,0,0,0,0,null,null,null,null,0,null,null,null,null,0]
[null,null,null,null,null,null,null,null,null,null,null,null,null,null,null,null,null,0,null,null,null,null,null,null,0,0,0,0,0,0,0,null,null,null,null,0,null,null,null,null,0]
[null,null,null,null,null,null,null,null,null,null,null,null,null,null,null,null,null,0,null,null,null,null,null,null,0,0,0,0,0,0,0,null,null,null,null,0,null,null,null,null,0]
[null,null,null,null,null,null,null,null,null,null,null,null,null,null,null,null,null,0,null,null,null,null,null,null,0,0,0,0,0,0,0,null,null,null,null,0,null,null,null,null,0]
[null,null,null,null,null,null,null,null,null,null,null,null,null,null,null,null,null,0,null,null,null,null,null,null,0,0,0,0,0,0,0,null,null,null,null,0,null,null,null,null,0]
[null,null,null,null,null,null,null,null,null,null,null,null,null,null,null,null,null,0,null,null,null,null,null,null,0,0,0,0,0,0,0,null,null,null,null,0,null,null,null,null,0]
[null,null,null,null,null,null,null,null,null,null,null,null,null,null,null,null,null,0,null,null,null,null,null,null,0,0,0,0,0,0,0,null,null,null,null,0,null,null,null,null,0]
[null,null,null,null,null,null,null,null,null,null,null,null,null,null,null,null,null,0,null,null,null,null,null,null,0,0,0,0,0,0,0,null,null,null,null,0,null,null,null,null,0]
[null,null,null,null,null,null,null,null,null,null,null,null,null,null,null,null,null,0,null,null,null,null,null,null,0,0,0,0,0,0,0,null,null,null,null,0,null,null,null,null,0]
[null,null,null,null,null,null,null,null,null,null,null,null,null,null,null,null,null,0,null,null,null,null,null,null,0,0,0,0,0,0,0,null,null,null,null,0,null,null,null,null,0]
[null,null,null,null,null,null,null,null,null,null,null,null,null,null,null,null,null,0,null,null,null,null,null,null,0,0,0,0,0,0,0,null,null,null,null,0,null,null,null,null,0]
[null,null,null,null,null,null,null,null,null,null,null,null,null,null,null,null,null,0,null,null,null,null,null,null,0,0,0,0,0,0,0,null,null,null,null,0,null,null,null,null,0]
[null,null,null,null,null,null,null,null,null,null,null,null,null,null,null,null,null,0,null,null,null,null,null,null,0,0,0,0,0,0,0,null,null,null,null,0]
[null,null,null,null,null,null,null,null,null,null,null,null,null,null,null,null,null,{"$f":"D71-C71","v":0},null,null,null,null,null,null,{"$f":"IF(O71=\"X\",L71+M71,O71)","v":0},{"$f":"IF(O71=0,0,IF(O71=\"x\",L71+M71,O71)*$Z$4)","v":0},{"$f":"IF(P71=\"x\",L71+M71,P71)","v":0},{"$f":"IF(P71=0,0,IF(P71=\"x\",M71+L71,P71)*$AB$4)","v":0},{"$f":"IF(N71=0,0,N71*$AC$4)*R71","v":0},{"$f":"R71*S71+T71+U71+V71+W71+X71+Z71+AB71+AC71","v":0},{"$f":"AD71*$AE$4","v":0},null,null,null,null,{"$f":"AD71-AG71-AI71","v":0}]
[null,null,null,null,null,null,null,null,null,null,null,null,null,null,null,null,null,0,null,null,null,null,null,null,0,0,0,0,0,0,0,null,null,null,null,0]
[null,null,null,null,null,null,null,null,null,null,null,null,null,null,null,null,null,2,null,null,null,null,null,null,0,0,0,0,0,0,0,null,null,null,null,0]
[null,null,null,null,null,null,null,null,null,null,null,null,null,null,null,null,null,0,null,null,null,null,null,null,0,0,0,0,0,0,0,null,null,null,null,0]
[null,null,null,null,null,null,null,null,null,null,null,null,null,null,null,null,null,0,null,null,null,null,null,null,0,0,0,0,0,0,0,null,null,null,null,0]
[null,null,null,null,null,null,null,null,null,null,null,null,null,null,null,null,null,0,null,null,null,null,null,null,0,0,0,0,0,0,0,null,null,null,null,0]
[null,null,null,null,null,null,null,null,null,null,null,null,null,null,null,null,null,0,null,null,null,null,null,null,0,0,0,0,0,0,0,null,null,null,null,0]
[null,null,null,null,null,null,null,null,null,null,null,null,null,null,null,null,null,0,null,null,null,null,null,null,0,0,0,0,0,0,0,null,null,null,null,0]
[null,null,null,null,null,null,null,null,null,null,null,null,null,null,null,null,null,0,null,null,null,null,null,null,0,0,0,0,0,0,0,null,null,null,null,0]
[null,null,null,null,null,null,null,null,null,null,null,null,null,null,null,null,null,0,null,null,null,null,null,null,0,0,0,0,0,0,0,null,null,null,null,0]
[null,null,null,null,null,null,null,null,null,null,null,null,null,null,null,null,null,0,null,null,null,null,null,null,0,0,0,0,0,0,0,null,null,null,null,0]
[null,null,null,null,null,null,null,null,null,null,null,null,null,null,null,null,null,0,null,null,null,null,null,null,0,0,0,0,0,0,0,null,null,null,null,0]
[null,null,null,null,null,null,null,null,null,null,null,null,null,null,null,null,null,0,null,null,null,null,null,null,0,0,0,0,0,0,0,null,null,null,null,0]
[null,null,null,null,null,null,null,null,null,null,null,null,null,null,null,null,null,0,null,null,null,null,null,null,0,0,0,0,0,0,0,null,null,null,null,0]
[null,null,null,null,null,null,null,null,null,null,null,null,null,null,null,null,null,0,null,null,null,null,null,null,0,0,0,0,0,0,0,null,null,null,null,0]
[null,null,null,null,null,null,null,null,null,null,null,null,null,null,null,null,null,0,null,null,null,null,null,null,0,0,0,0,0,0,0,null,null,null,null,0]
[null,null,null,null,null,null,null,null,null,null,null,null,null,null,null,null,null,0,null,null,null,null,null,null,0,0,0,0,0,0,0,null,null,null,null,0]
[null,null,null,null,null,null,null,null,null,null,null,null,null,null,null,null,null,0,null,null,null,null,null,null,0,0,0,0,0,0,0,null,null,null,null,0]
[null,null,null,null,null,null,null,null,null,null,null,null,null,null,null,null,null,0,null,null,null,null,null,null,0,0,0,0,0,0,0,null,null,null,null,0]
[null,null,null,null,null,null,null,null,null,null,null,null,null,null,null,null,null,0,null,null,null,null,null,null,0,0,0,0,0,0,0,null,null,null,null,0]
[null,null,null,null,null,null,null,null,null,null,null,null,null,null,null,null,null,0,null,null,null,null,null,null,0,0,0,0,0,0,0,null,null,null,null,0]
[null,null,null,null,null,null,null,null,null,null,null,null,null,null,null,null,null,0,null,null,null,null,null,null,0,0,0,0,0,0,0,null,null,null,null,0]
[null,null,null,null,null,null,null,null,null,null,null,null,null,null,null,null,null,0,null,null,null,null,null,null,0,0,0,0,0,0,0,null,null,null,null,0]
[null,null,null,null,null,null,null,null,null,null,null,null,null,null,null,null,null,0,null,null,null,null,null,null,0,0,0,0,0,0,0,null,null,null,null,0]
[null,null,null,null,null,null,null,null,null,null,null,null,null,null,null,null,null,0,null,null,null,null,null,null,0,0,0,0,0,0,0,null,null,null,null,0]
[null,null,null,null,null,null,null,null,null,null,null,null,null,null,null,null,null,0,null,null,null,null,null,null,0,0,0,0,0,0,0,null,null,null,null,0]
[null,null,null,null,null,null,null,null,null,null,null,null,null,null,null,null,null,0,null,null,null,null,null,null,0,0,0,0,0,0,0,null,null,null,null,0]
[null,null,null,null,null,null,null,null,null,null,null,null,null,null,null,null,null,0,null,null,null,null,null,null,0,0,0,0,0,0,0,null,null,null,null,0]
[null,null,null,null,null,null,null,null,null,null,null,null,null,null,null,null,null,0,null,null,null,null,null,null,0,0,0,0,0,0,0,null,null,null,null,0]
[null,null,null,null,null,null,null,null,null,null,null,null,null,null,null,null,null,0,null,null,null,null,null,null,0,0,0,0,0,0,0,null,null,null,null,0]
[null,null,null,null,null,null,null,null,null,null,null,null,null,null,null,null,null,0,null,null,null,null,null,null,0,0,0,0,0,0,0,null,null,null,null,0]
[null,null,null,null,null,null,null,null,null,null,null,null,null,null,null,null,null,0,null,null,null,null,null,null,0,0,0,0,0,0,0,null,null,null,null,0]
[null,null,null,null,null,null,null,null,null,null,null,null,null,null,null,null,null,0,null,null,null,null,null,null,0,0,0,0,0,0,0,null,null,null,null,0]
[null,null,null,null,null,null,null,null,null,null,null,null,null,null,null,null,null,0,null,null,null,null,null,null,0,0,0,0,0,0,0,null,null,null,null,0]
[null,null,null,null,null,null,null,null,null,null,null,null,null,null,null,null,null,0,null,null,null,null,null,null,0,0,0,0,0,0,0,null,null,null,null,0]
[null,null,null,null,null,null,null,null,null,null,null,null,null,null,null,null,null,0,null,null,null,null,null,null,0,0,0,0,0,0,0,null,null,null,null,0]
[null,null,null,null,null,null,null,null,null,null,null,null,null,null,null,null,null,0,null,null,null,null,null,null,0,0,0,0,0,0,0,null,null,null,null,0]
[null,null,null,null,null,null,null,null,null,null,null,null,null,null,null,null,null,0,null,null,null,null,null,null,0,0,0,0,0,0,0,null,null,null,null,0]
[null,null,null,null,null,null,null,null,null,null,null,null,null,null,null,null,null,0,null,null,null,null,null,null,0,0,0,0,0,0,0,null,null,null,null,0]
[null,null,null,null,null,null,null,null,null,null,null,null,null,null,null,null,null,0,null,null,null,null,null,null,0,0,0,0,0,0,0,null,null,null,null,0]
[null,null,null,null,null,null,null,null,null,null,null,null,null,null,null,null,null,0,null,null,null,null,null,null,0,0,0,0,0,0,0,null,null,null,null,0]
[null,null,null,null,null,null,null,null,null,null,null,null,null,null,null,null,null,0,null,null,null,null,null,null,0,0,0,0,0,0,0,null,null,null,null,0]
[null,null,null,null,null,null,null,null,null,null,null,null,null,null,null,null,null,0,null,null,null,null,null,null,0,0,0,0,0,0,0,null,null,null,null,0]
[null,null,null,null,null,null,null,null,null,null,null,null,null,null,null,null,null,0,null,null,null,null,null,null,0,0,0,0,0,0,0,null,null,null,null,0]
[null,null,null,null,null,null,null,null,null,null,null,null,null,null,null,null,null,0,null,null,null,null,null,null,0,0,0,0,0,0,0,null,null,null,null,0]
[null,null,null,null,null,null,null,null,null,null,null,null,null,null,null,null,null,0,null,null,null,null,null,null,0,0,0,0,0,0,0,null,null,null,null,0]
[null,null,null,null,null,null,null,null,null,null,null,null,null,null,null,null,null,0,null,null,null,null,null,null,0,0,0,0,0,0,0,null,null,null,null,0]
[null,null,null,null,null,null,null,null,null,null,null,null,null,null,null,null,null,0,null,null,null,null,null,null,0,0,0,0,0,0,0,null,null,null,null,0]
[null,null,null,null,null,null,null,null,null,null,null,null,null,null,null,null,null,0,null,null,null,null,null,null,0,0,0,0,0,0,0,null,null,null,null,0]
[null,null,null,null,null,null,null,null,null,null,null,null,null,null,null,null,null,0,null,null,null,null,null,null,0,0,0,0,0,0,0,null,null,null,null,0]
[null,null,null,null,null,null,null,null,null,null,null,null,null,null,null,null,null,0,null,null,null,null,null,null,0,0,0,0,0,0,0,null,null,null,null,0]
[null,null,null,null,null,null,null,null,null,null,null,null,null,null,null,null,null,0,null,null,null,null,null,null,0,0,0,0,0,0,0,null,null,null,null,0]
[null,null,null,null,null,null,null,null,null,null,null,null,null,null,null,null,null,0,null,null,null,null,null,null,0,0,0,0,0,0,0,null,null,null,null,0]
[121,null,null,null,null,null,null,null,null,null,null,null,null,null,null,null,null,0,null,null,null,null,null,null,0,0,0,0,0,0,0,null,null,null,null,0]

{"sheet":"Mietvertrag","index":1,"n_rows":73,"n_cols":19,"rows_kept":73,"cut":false,"hidden":false,"merged":[[60,1,60,6],[65,0,65,8],[67,0,67,8],[68,0,68,8],[66,0,66,8],[62,0,62,8],[63,0,63,8],[64,0,64,8]]}
[null,null,null,null,null,null,null,null,null,null,"Wohn.1","Wohn.2","Wohn.3","Wohn.4","Teterow"]
[null,null,null,null,null,null,null,null,null,null,17,null,null,null,"x","(x=ausblenden)",null,"erst  x löschen, einfügen, Enter- nicht speichern!"]
[null,null,null,null,null,null,null,null,null,null,"Mietvertrag","Rechnung","Angebot"]
[null,null,null,null,null,null,null,null,null,null,null,"x"]
[null,null,null,null,null,null,null,null,null,1,1,"Anzahlung bei Vertragsabschluss",null,null,null,null,null,"1 in Zeile K1 löschen oder eingeben- dann speichern!"]
[{"$f":"VLOOKUP($K$2,Eingabe!$A$6:$I$124,6,FALSE)","v":0},null,null,null,null,null,null,null,null,2,2,"Restzahlung bis spätestens 14 Tage vor Mietbeginn",null,null,null,null,null,2," dto"]
[{"$f":"VLOOKUP($K$2,Eingabe!$A$6:$I$124,7,FALSE)","v":0},null,null,null,null,null,null,null,null,3,null,"Zahlung eine Woche vor Bezug der Wohnung",null,null,null,null,null,3," dto"]
[{"$f":"VLOOKUP($K$2,Eingabe!$A$6:$I$124,8,FALSE)","v":0},null,null,null,null,null,null,null,null,4,null,"Bitte überweisen Sie die Summe vor Bezug der Wohnung.",null,null,null,null,null,4," dto"]
[{"$f":"VLOOKUP($K$2,Eingabe!$A$6:$I$124,9,FALSE)","v":0},null,null,null,null,null,null,null,null,null,"(Zahlen)"]
[]
[]
[{"$f":"IF(AND(K4=\"x\",L4=0),K3,IF(L4=\"x\",L3,M3))","v":"Rechnung"},null,null,null,null,null,"Datum:",null,{"$f":"TODAY()","v":"2025-02-10"}]
[null,null,null,null,null,null,"Nr.:",null,{"$f":"K2","v":17}]
[]
[]
[]
[]
[{"$f":"VLOOKUP($K$2,Eingabe!$A$6:$F$124,2,FALSE)","v":3},"Zeitraum",{"$f":"VLOOKUP($K$2,Eingabe!$A$6:$I$124,3,FALSE)","v":"2025-01-19"},null,{"$f":"VLOOKUP($K$2,Eingabe!$A$6:$I$124,4,FALSE)","v":"2025-01-22"},null,{"$f":"E18-C18","v":3}]
[{"$f":"IF(A18=1,\"''Fachwerk''\",IF(A18=2,\"''Ticki''\",IF(A18=3,\"''Landsitz''\",\"''Alte Diele''\")))","v":"''Landsitz''"},"Mietpreis pro Nacht",null,null,null,null,{"$f":"VLOOKUP($K$2,Eingabe!$A$6:$AE$124,19,FALSE)","v":0},null,{"$f":"G19*G18","v":0}]
[null,"Haustier pro Nacht",null,null,{"$f":"VLOOKUP($K$2,Eingabe!$A$6:$AE$124,14,FALSE)","v":0},null,8,null,{"$f":"G20*G18*E20","v":0}]
[null,"Nebenkosten: Endreinigung",null,null,null,null,null,null,{"$f":"VLOOKUP($K$2,Eingabe!$A$6:$AE$124,20,FALSE)","v":0}]
[null,{"$f":"VLOOKUP($K$2,Eingabe!$A$6:$AE$124,17,FALSE)","v":0},null,null,null,null,null,null,{"$f":"VLOOKUP($K$2,Eingabe!$A$6:$AE$124,24,FALSE)","v":0}]
[null,"Bettwäsche pro Person",null,null,null,{"$f":"VLOOKUP($K$2,Eingabe!$A$6:$AE$124,25,FALSE)","v":0},9,null,{"$f":"F23*G23","v":0}]
[null,"Handtücher pro Pers.",null,null,null,{"$f":"VLOOKUP($K$2,Eingabe!$A$6:$AE$124,27,FALSE)","v":0},4.5,null,{"$f":"F24*G24","v":0}]
[{"$f":"VLOOKUP($L$2,Eingabe!$A$6:$F$124,2,FALSE)","v":{"$error":"#N/A"}},"Zeitraum",{"$f":"VLOOKUP($L$2,Eingabe!$A$6:$I$124,3,FALSE)","v":{"$error":"#N/A"}},null,{"$f":"VLOOKUP($L$2,Eingabe!$A$6:$I$124,4,FALSE)","v":{"$error":"#N/A"}},null,{"$f":"E25-C25","v":{"$error":"#N/A"}}]
[{"$f":"IF(A25=1,\"''Fachwerk''\",IF(A25=2,\"''Ticki''\",IF(A25=3,\"''Landsitz''\",\"''Alte Diele''\")))","v":{"$error":"#N/A"}},"Mietpreis pro Nacht",null,null,null,null,{"$f":"VLOOKUP($L$2,Eingabe!$A$6:$AE$124,19,FALSE)","v":{"$error":"#N/A"}},null,{"$f":"G26*G25","v":{"$error":"#N/A"}}]
[null,"Haustier pro Nacht",null,null,{"$f":"VLOOKUP($L$2,Eingabe!$A$6:$AE$124,14,FALSE)","v":{"$error":"#N/A"}},null,8,null,{"$f":"E27*G27*G25","v":{"$error":"#N/A"}}]
[null,"Nebenkosten: Endreinigung",null,null,null,null,null,null,{"$f":"VLOOKUP($L$2,Eingabe!$A$6:$AE$124,20,FALSE)","v":{"$error":"#N/A"}}]
[null,{"$f":"VLOOKUP($L$2,Eingabe!$A$6:$AE$124,17,FALSE)","v":{"$error":"#N/A"}},null,null,null,null,null,null,{"$f":"VLOOKUP($L$2,Eingabe!$A$6:$AE$124,24,FALSE)","v":{"$error":"#N/A"}}]
[null,"Bettwäsche pro Person",null,null,null,{"$f":"VLOOKUP($L$2,Eingabe!$A$6:$AE$124,25,FALSE)","v":{"$error":"#N/A"}},9,null,{"$f":"F30*G30","v":{"$error":"#N/A"}}]
[null,"Handtücher pro Pers.",null,null,null,{"$f":"VLOOKUP($L$2,Eingabe!$A$6:$AE$124,27,FALSE)","v":{"$error":"#N/A"}},4.5,null,{"$f":"F31*G31","v":{"$error":"#N/A"}}]
[]
[{"$f":"VLOOKUP($M$2,Eingabe!$A$6:$F$124,2,FALSE)","v":{"$error":"#N/A"}},"Zeitraum",{"$f":"VLOOKUP($M$2,Eingabe!$A$6:$I$124,3,FALSE)","v":{"$error":"#N/A"}},null,{"$f":"VLOOKUP($M$2,Eingabe!$A$6:$I$124,4,FALSE)","v":{"$error":"#N/A"}},null,{"$f":"E33-C33","v":{"$error":"#N/A"}}]
[{"$f":"IF(A33=1,\"''Fachwerk''\",IF(A33=2,\"''Ticki''\",IF(A33=3,\"''Landsitz''\",\"''Alte Diele''\")))","v":{"$error":"#N/A"}},"Mietpreis pro Nacht",null,null,null,null,{"$f":"VLOOKUP($M$2,Eingabe!$A$6:$AE$124,19,FALSE)","v":{"$error":"#N/A"}},null,{"$f":"G34*G33","v":{"$error":"#N/A"}}]
[null,"Haustier pro Nacht",null,null,{"$f":"VLOOKUP($M$2,Eingabe!$A$6:$AE$124,14,FALSE)","v":{"$error":"#N/A"}},null,8,null,{"$f":"E35*G35*G33","v":{"$error":"#N/A"}}]
[null,"Nebenkosten: Endreinigung",null,null,null,null,null,null,{"$f":"VLOOKUP($M$2,Eingabe!$A$6:$AE$124,20,FALSE)","v":{"$error":"#N/A"}}]
[null,{"$f":"VLOOKUP($M$2,Eingabe!$A$6:$AE$124,17,FALSE)","v":{"$error":"#N/A"}},null,null,null,null,null,null,{"$f":"VLOOKUP($M$2,Eingabe!$A$6:$AE$124,24,FALSE)","v":{"$error":"#N/A"}}]
[null,"Bettwäsche pro Person",null,null,null,{"$f":"VLOOKUP($M$2,Eingabe!$A$6:$AE$124,25,FALSE)","v":{"$error":"#N/A"}},9,null,{"$f":"F38*G38","v":{"$error":"#N/A"}}]
[null,"Handtücher pro Pers.",null,null,null,{"$f":"VLOOKUP($M$2,Eingabe!$A$6:$AE$124,27,FALSE)","v":{"$error":"#N/A"}},4.5,null,{"$f":"F39*G39","v":{"$error":"#N/A"}}]
[{"$f":"VLOOKUP($N$2,Eingabe!$A$6:$F$124,2,FALSE)","v":{"$error":"#N/A"}},"Zeitraum",{"$f":"VLOOKUP($N$2,Eingabe!$A$6:$I$124,3,FALSE)","v":{"$error":"#N/A"}},null,{"$f":"VLOOKUP($N$2,Eingabe!$A$6:$I$124,4,FALSE)","v":{"$error":"#N/A"}},null,{"$f":"E40-C40","v":{"$error":"#N/A"}}]
[{"$f":"IF(A40=1,\"''Fachwerk''\",IF(A40=2,\"''Ticki''\",IF(A40=3,\"''Landsitz''\",\"''Alte Diele''\")))","v":{"$error":"#N/A"}},"Mietpreis pro Nacht",null,null,null,null,{"$f":"VLOOKUP($N$2,Eingabe!$A$6:$AE$124,19,FALSE)","v":{"$error":"#N/A"}},null,{"$f":"G41*G40","v":{"$error":"#N/A"}}]
[null,"Haustier pro Nacht",null,null,{"$f":"VLOOKUP($N$2,Eingabe!$A$6:$AE$124,14,FALSE)","v":{"$error":"#N/A"}},null,8,null,{"$f":"E42*G42*G40","v":{"$error":"#N/A"}}]
[null,"Nebenkosten: Endreinigung",null,null,null,null,null,null,{"$f":"VLOOKUP($N$2,Eingabe!$A$6:$AE$124,20,FALSE)","v":{"$error":"#N/A"}}]
[null,{"$f":"VLOOKUP($N$2,Eingabe!$A$6:$AE$124,17,FALSE)","v":{"$error":"#N/A"}},null,null,null,null,null,null,{"$f":"VLOOKUP($N$2,Eingabe!$A$6:$AE$124,24,FALSE)","v":{"$error":"#N/A"}}]
[null,"Bettwäsche pro Person",null,null,null,{"$f":"VLOOKUP($N$2,Eingabe!$A$6:$AE$124,25,FALSE)","v":{"$error":"#N/A"}},9,null,{"$f":"F45*G45","v":{"$error":"#N/A"}}]
[null,"Handtücher pro Pers.",null,null,null,{"$f":"VLOOKUP($N$2,Eingabe!$A$6:$AE$124,27,FALSE)","v":{"$error":"#N/A"}},4.5,null,{"$f":"F46*G46","v":{"$error":"#N/A"}}]
[]
[null,"Enthaltene Mwst:",null,null,7.0000000000000007E-2,{"$f":"I48-I48/1.07","v":0},null,null,{"$f":"SUMIFS(I19:I47,I19:I47,\"<>#NV\")","v":0}]
[]
[null,{"$f":"VLOOKUP(K5,J5:L20,3,FALSE)","v":"Anzahlung bei Vertragsabschluss"},null,null,null,null,null,null,{"$f":"IF((I48*0.2)<50,50,ROUND(I48*0.2,-1))","v":50}]
[null,{"$f":"VLOOKUP(K6,J5:L20,3,FALSE)","v":"Restzahlung bis spätestens 14 Tage vor Mietbeginn"},null,null,null,null,null,null,{"$f":"I48-I50","v":-50}]
[null,{"$f":"VLOOKUP(K8,J6:L20,3,FALSE)","v":{"$error":"#N/A"}}]
[null,"Buchungsgebühr: (19%Mwst)",null,null,null,{"$f":"I53-I53/1.19","v":0},null,null,{"$f":"VLOOKUP($K$2,Eingabe!$A$6:$AE$124,21,FALSE)","v":0}]
[null,"Vermittlungsgebühr: (19%Mwst)",null,null,null,{"$f":"I54-I54/1.19","v":0},null,null,{"$f":"VLOOKUP($K$2,Eingabe!$A$6:$AE$124,22,FALSE)","v":0}]
[null,"Vertriebskanal: (0%Mwst)",null,null,null,null,null,null,{"$f":"VLOOKUP($K$2,Eingabe!$A$6:$AE$124,23,FALSE)","v":0}]
[null,"Gesamt",{"$f":"VLOOKUP(K2,Eingabe!A6:AO165,39,FALSE)","v":0},null,"Mwst.:",{"$f":"SUM(F48,F53,F54)","v":0},null,null,{"$f":"SUM(I53,I54,I55,I48)","v":0}]
[]
[null,{"$f":"VLOOKUP(K7,J5:L20,3,FALSE)","v":{"$error":"#N/A"}}]
[]
[null,"Hinweis:  Kosten für Strom, Wasser und Heizung inklusive."]
[null," -Nichtraucherwohnung- "]
[]
["Mit Überweisung der Anzahlung und Rücksendung des unterschriebenen Mietvertrages innerhalb einer Woche ist diese "]
["Vereinbarung rechtsgültig. Danach behalten wir uns vor, diese Fewo anderweitig zu vermieten."]
["Tritt der Mieter vom Mietvertrag zurück, so hat er pauschalen Ersatz für die beim Vermieter bereits entstandenen "]
["Aufwendungen und den entgangenen Gewinn nachfolgender Höhe zu leisten: "]
["Rücktritt bis 2 Monate vor Beginn der Mietzeit 20% (mindestens jedoch 25€)"]
[" Rücktritt bis 1 Monat   vor Beginn der Mietzeit 50%, danach und bei Nichterscheinen 80%."]
["Gerichtsstand- Wohnort des Vermieters"]
[]
["Groß Wokern, den",null,{"$f":"TODAY()","v":"2025-02-10"}]
[]
["Unterschrift Vermieter:",null,null,null,null,"Unterschrift Mieter:"]

{"sheet":"Kalender","index":2,"n_rows":34,"n_cols":240,"rows_kept":34,"cut":false,"hidden":false,"merged":[[2,238,2,239],[2,228,2,229],[2,230,2,231],[2,232,2,233],[2,234,2,235],[2,236,2,237],[2,218,2,219],[2,220,2,221],[2,222,2,223],[2,224,2,225],[2,226,2,227],[2,208,2,209],[2,210,2,211],[2,212,2,213],[2,214,2,215],[2,216,2,217],[2,198,2,199],[2,200,2,201],[2,202,2,203],[2,204,2,205],[2,206,2,207],[2,188,2,189],[2,190,2,191],[2,192,2,193],[2,194,2,195],[2,196,2,197],[2,178,2,179],[2,180,2,181],[2,182,2,183],[2,184,2,185],[2,186,2,187],[2,168,2,169],[2,170,2,171],[2,172,2,173],[2,174,2,175],[2,176,2,177],[2,158,2,159],[2,160,2,161],[2,162,2,163],[2,164,2,165],[2,166,2,167],[2,148,2,149],[2,150,2,151],[2,152,2,153],[2,154,2,155],[2,156,2,157],[2,138,2,139],[2,140,2,141],[2,142,2,143],[2,144,2,145],[2,146,2,147],[2,128,2,129],[2,130,2,131],[2,132,2,133],[2,134,2,135],[2,136,2,137],[0,120,0,121],[2,120,2,121],[2,122,2,123],[2,124,2,125],[2,126,2,127],[2,82,2,83],[2,84,2,85],[2,86,2,87],[2,88,2,89],[2,90,2,91],[2,106,2,107],[2,108,2,109],[2,110,2,111],[2,94,2,95],[2,96,2,97],[2,98,2,99],[2,100,2,101],[2,102,2,103],[2,104,2,105],[2,18,2,19],[2,44,2,45],[2,22,2,23],[2,24,2,25],[2,26,2,27],[2,28,2,29],[2,30,2,31],[2,32,2,33],[2,34,2,35],[2,36,2,37],[2,38,2,39],[2,40,2,41],[2,42,2,43],[2,8,2,9],[2,10,2,11],[2,12,2,13],[2,14,2,15],[2,16,2,17],[0,0,0,1],[2,0,2,1],[2,2,2,3],[2,4,2,5],[2,6,2,7],[2,118,2,119],[2,112,2,113],[2,114,2,115],[2,116,2,117],[2,20,2,21],[2,68,2,69],[2,46,2,47],[2,48,2,49],[2,50,2,51],[2,52,2,53],[2,54,2,55],[2,56,2,57],[2,58,2,59],[2,60,2,61],[2,62,2,63],[2,64,2,65],[2,66,2,67],[2,92,2,93],[2,70,2,71],[2,72,2,73],[2,74,2,75],[2,76,2,77],[2,78,2,79],[2,80,2,81]]}
[2025,null,null,null,null,null,null,null,null,null,null,null,null,null,null,null,null,null,null,null,null,null,null,null,null,null,null,null,null,null,null,null,null,null,null,null,null,null,null,null,null,null,null,null,null,null,null,null,null,null,null,null,null,null,null,null,null,null,null,null,null,null,null,null,null,null,null,null,null,null,null,null,null,null,null,null,null,null,null,null,null,null,null,null,null,null,null,null,null,null,null,null,null,null,null,null,null,null,null,null,null,null,null,null,null,null,null,null,null,null,null,null,null,null,null,null,null,null,null,null,2026]
[]
["Januar",null,1,null,2,null,3,null,4,null,"Februar",null,1,null,2,null,3,null,4,null,"März",null,1,null,2,null,3,null,4,null,"April",null,1,null,2,null,3,null,4,null,"Mai",null,1,null,2,null,3,null,4,null,"Juni",null,1,null,2,null,3,null,4,null,"Juli",null,1,null,2,null,3,null,4,null,"August",null,1,null,2,null,3,null,4,null,"September",null,1,null,2,null,3,null,4,null,"Oktober",null,1,null,2,null,3,null,4,null,"November",null,1,null,2,null,3,null,4,null,"Dezember",null,1,null,2,null,3,null,4,null,"Januar",null,1,null,2,null,3,null,4,null,"Februar",null,1,null,2,null,3,null,4,null,"März",null,1,null,2,null,3,null,4,null,"April",null,1,null,2,null,3,null,4,null,"Mai",null,1,null,2,null,3,null,4,null,"Juni",null,1,null,2,null,3,null,4,null,"Juli",null,1,null,2,null,3,null,4,null,"August",null,1,null,2,null,3,null,4,null,"September",null,1,null,2,null,3,null,4,null,"Oktober",null,1,null,2,null,3,null,4,null,"November",null,1,null,2,null,3,null,4,null,"Dezember",null,1,null,2,null,3,null,4]
[{"$f":"B4","v":"2025-01-01"},{"$f":"DATE(A1,1,1)","v":"2025-01-01"},{"$f":"SUMPRODUCT((Eingabe!$C$6:$C$400<=$B4)*(Eingabe!$D$6:$D$400>$B4)*(Eingabe!$B$6:$B$400=C$3)*(Eingabe!$E$6:$E$400))","v":0},{"$f":"SUMPRODUCT((Eingabe!$C$6:$C$400<$B4)*(Eingabe!$D$6:$D$400>=$B4)*(Eingabe!$B$6:$B$400=C$3)*(Eingabe!$E$6:$E$400))","v":0},{"$f":"SUMPRODUCT((Eingabe!$C$6:$C$400<=$B4)*(Eingabe!$D$6:$D$400>$B4)*(Eingabe!$B$6:$B$400=E$3)*(Eingabe!$E$6:$E$400))","v":0},{"$f":"SUMPRODUCT((Eingabe!$C$6:$C$400<$B4)*(Eingabe!$D$6:$D$400>=$B4)*(Eingabe!$B$6:$B$400=E$3)*(Eingabe!$E$6:$E$400))","v":0},{"$f":"SUMPRODUCT((Eingabe!$C$6:$C$400<=$B4)*(Eingabe!$D$6:$D$400>$B4)*(Eingabe!$B$6:$B$400=G$3)*(Eingabe!$E$6:$E$400))","v":0},{"$f":"SUMPRODUCT((Eingabe!$C$6:$C$400<$B4)*(Eingabe!$D$6:$D$400>=$B4)*(Eingabe!$B$6:$B$400=G$3)*(Eingabe!$E$6:$E$400))","v":0},{"$f":"SUMPRODUCT((Eingabe!$C$6:$C$400<=$B4)*(Eingabe!$D$6:$D$400>$B4)*(Eingabe!$B$6:$B$400=I$3)*(Eingabe!$E$6:$E$400))","v":0},{"$f":"SUMPRODUCT((Eingabe!$C$6:$C$400<$B4)*(Eingabe!$D$6:$D$400>=$B4)*(Eingabe!$B$6:$B$400=I$3)*(Eingabe!$E$6:$E$400))","v":0},{"$f":"L4","v":"2025-02-01"},{"$f":"EDATE(B4,1)","v":"2025-02-01"},{"$f":"SUMPRODUCT((Eingabe!$C$6:$C$400<=$L4)*(Eingabe!$D$6:$D$400>$L4)*(Eingabe!$B$6:$B$400=M$3)*(Eingabe!$E$6:$E$400))","v":0},{"$f":"SUMPRODUCT((Eingabe!$C$6:$C$400<$L4)*(Eingabe!$D$6:$D$400>=$L4)*(Eingabe!$B$6:$B$400=M$3)*(Eingabe!$E$6:$E$400))","v":0},{"$f":"SUMPRODUCT((Eingabe!$C$6:$C$400<=$L4)*(Eingabe!$D$6:$D$400>$L4)*(Eingabe!$B$6:$B$400=O$3)*(Eingabe!$E$6:$E$400))","v":6},{"$f":"SUMPRODUCT((Eingabe!$C$6:$C$400<$L4)*(Eingabe!$D$6:$D$400>=$L4)*(Eingabe!$B$6:$B$400=O$3)*(Eingabe!$E$6:$E$400))","v":0},{"$f":"SUMPRODUCT((Eingabe!$C$6:$C$400<=$L4)*(Eingabe!$D$6:$D$400>$L4)*(Eingabe!$B$6:$B$400=Q$3)*(Eingabe!$E$6:$E$400))","v":0},{"$f":"SUMPRODUCT((Eingabe!$C$6:$C$400<$L4)*(Eingabe!$D$6:$D$400>=$L4)*(Eingabe!$B$6:$B$400=Q$3)*(Eingabe!$E$6:$E$400))","v":0},{"$f":"SUMPRODUCT((Eingabe!$C$6:$C$400<=$L4)*(Eingabe!$D$6:$D$400>$L4)*(Eingabe!$B$6:$B$400=S$3)*(Eingabe!$E$6:$E$400))","v":0},{"$f":"SUMPRODUCT((Eingabe!$C$6:$C$400<$L4)*(Eingabe!$D$6:$D$400>=$L4)*(Eingabe!$B$6:$B$400=S$3)*(Eingabe!$E$6:$E$400))","v":0},{"$f":"V4","v":"2025-03-01"},{"$f":"EDATE(L4,1)","v":"2025-03-01"},{"$f":"SUMPRODUCT((Eingabe!$C$6:$C$400<=$V4)*(Eingabe!$D$6:$D$400>$V4)*(Eingabe!$B$6:$B$400=W$3)*(Eingabe!$E$6:$E$400))","v":0},{"$f":"SUMPRODUCT((Eingabe!$C$6:$C$400<$V4)*(Eingabe!$D$6:$D$400>=$V4)*(Eingabe!$B$6:$B$400=W$3)*(Eingabe!$E$6:$E$400))","v":0},{"$f":"SUMPRODUCT((Eingabe!$C$6:$C$400<=$V4)*(Eingabe!$D$6:$D$400>$V4)*(Eingabe!$B$6:$B$400=Y$3)*(Eingabe!$E$6:$E$400))","v":0},{"$f":"SUMPRODUCT((Eingabe!$C$6:$C$400<$V4)*(Eingabe!$D$6:$D$400>=$V4)*(Eingabe!$B$6:$B$400=Y$3)*(Eingabe!$E$6:$E$400))","v":0},{"$f":"SUMPRODUCT((Eingabe!$C$6:$C$400<=$V4)*(Eingabe!$D$6:$D$400>$V4)*(Eingabe!$B$6:$B$400=AA$3)*(Eingabe!$E$6:$E$400))","v":0},{"$f":"SUMPRODUCT((Eingabe!$C$6:$C$400<$V4)*(Eingabe!$D$6:$D$400>=$V4)*(Eingabe!$B$6:$B$400=AA$3)*(Eingabe!$E$6:$E$400))","v":0},{"$f":"SUMPRODUCT((Eingabe!$C$6:$C$400<=$V4)*(Eingabe!$D$6:$D$400>$V4)*(Eingabe!$B$6:$B$400=AC$3)*(Eingabe!$E$6:$E$400))","v":0},{"$f":"SUMPRODUCT((Eingabe!$C$6:$C$400<$V4)*(Eingabe!$D$6:$D$400>=$V4)*(Eingabe!$B$6:$B$400=AC$3)*(Eingabe!$E$6:$E$400))","v":0},{"$f":"AF4","v":"2025-04-01"},{"$f":"EDATE(V4,1)","v":"2025-04-01"},{"$f":"SUMPRODUCT((Eingabe!$C$6:$C$400<=$AF4)*(Eingabe!$D$6:$D$400>$AF4)*(Eingabe!$B$6:$B$400=AG$3)*(Eingabe!$E$6:$E$400))","v":0},{"$f":"SUMPRODUCT((Eingabe!$C$6:$C$400<$AF4)*(Eingabe!$D$6:$D$400>=$AF4)*(Eingabe!$B$6:$B$400=AG$3)*(Eingabe!$E$6:$E$400))","v":0},{"$f":"SUMPRODUCT((Eingabe!$C$6:$C$400<=$AF4)*(Eingabe!$D$6:$D$400>$AF4)*(Eingabe!$B$6:$B$400=AI$3)*(Eingabe!$E$6:$E$400))","v":0},{"$f":"SUMPRODUCT((Eingabe!$C$6:$C$400<$AF4)*(Eingabe!$D$6:$D$400>=$AF4)*(Eingabe!$B$6:$B$400=AI$3)*(Eingabe!$E$6:$E$400))","v":0},{"$f":"SUMPRODUCT((Eingabe!$C$6:$C$400<=$AF4)*(Eingabe!$D$6:$D$400>$AF4)*(Eingabe!$B$6:$B$400=AK$3)*(Eingabe!$E$6:$E$400))","v":0},{"$f":"SUMPRODUCT((Eingabe!$C$6:$C$400<$AF4)*(Eingabe!$D$6:$D$400>=$AF4)*(Eingabe!$B$6:$B$400=AK$3)*(Eingabe!$E$6:$E$400))","v":0},{"$f":"SUMPRODUCT((Eingabe!$C$6:$C$400<=$AF4)*(Eingabe!$D$6:$D$400>$AF4)*(Eingabe!$B$6:$B$400=AM$3)*(Eingabe!$E$6:$E$400))","v":0},{"$f":"SUMPRODUCT((Eingabe!$C$6:$C$400<$AF4)*(Eingabe!$D$6:$D$400>=$AF4)*(Eingabe!$B$6:$B$400=AM$3)*(Eingabe!$E$6:$E$400))","v":0},{"$f":"AP4","v":"2025-05-01"},{"$f":"EDATE(AF4,1)","v":"2025-05-01"},{"$f":"SUMPRODUCT((Eingabe!$C$6:$C$400<=$AP4)*(Eingabe!$D$6:$D$400>$AP4)*(Eingabe!$B$6:$B$400=AQ$3)*(Eingabe!$E$6:$E$400))","v":5},{"$f":"SUMPRODUCT((Eingabe!$C$6:$C$400<$AP4)*(Eingabe!$D$6:$D$400>=$AP4)*(Eingabe!$B$6:$B$400=AQ$3)*(Eingabe!$E$6:$E$400))","v":5},{"$f":"SUMPRODUCT((Eingabe!$C$6:$C$400<=$AP4)*(Eingabe!$D$6:$D$400>$AP4)*(Eingabe!$B$6:$B$400=AS$3)*(Eingabe!$E$6:$E$400))","v":5},{"$f":"SUMPRODUCT((Eingabe!$C$6:$C$400<$AP4)*(Eingabe!$D$6:$D$400>=$AP4)*(Eingabe!$B$6:$B$400=AS$3)*(Eingabe!$E$6:$E$400))","v":5},null,null,null,null,{"$f":"AZ4","v":"2025-06-01"},{"$f":"EDATE(AP4,1)","v":"2025-06-01"},{"$f":"SUMPRODUCT((Eingabe!$C$6:$C$400<=$AZ4)*(Eingabe!$D$6:$D$400>$AZ4)*(Eingabe!$B$6:$B$400=BA$3)*(Eingabe!$E$6:$E$400))","v":0},{"$f":"SUMPRODUCT((Eingabe!$C$6:$C$400<$AZ4)*(Eingabe!$D$6:$D$400>=$AZ4)*(Eingabe!$B$6:$B$400=BA$3)*(Eingabe!$E$6:$E$400))","v":0},{"$f":"SUMPRODUCT((Eingabe!$C$6:$C$400<=$AZ4)*(Eingabe!$D$6:$D$400>$AZ4)*(Eingabe!$B$6:$B$400=BC$3)*(Eingabe!$E$6:$E$400))","v":0},{"$f":"SUMPRODUCT((Eingabe!$C$6:$C$400<$AZ4)*(Eingabe!$D$6:$D$400>=$AZ4)*(Eingabe!$B$6:$B$400=BC$3)*(Eingabe!$E$6:$E$400))","v":0},{"$f":"SUMPRODUCT((Eingabe!$C$6:$C$400<=$AZ4)*(Eingabe!$D$6:$D$400>$AZ4)*(Eingabe!$B$6:$B$400=BE$3)*(Eingabe!$E$6:$E$400))","v":0},{"$f":"SUMPRODUCT((Eingabe!$C$6:$C$400<$AZ4)*(Eingabe!$D$6:$D$400>=$AZ4)*(Eingabe!$B$6:$B$400=BE$3)*(Eingabe!$E$6:$E$400))","v":0},{"$f":"SUMPRODUCT((Eingabe!$C$6:$C$400<=$AZ4)*(Eingabe!$D$6:$D$400>$AZ4)*(Eingabe!$B$6:$B$400=BG$3)*(Eingabe!$E$6:$E$400))","v":0},{"$f":"SUMPRODUCT((Eingabe!$C$6:$C$400<$AZ4)*(Eingabe!$D$6:$D$400>=$AZ4)*(Eingabe!$B$6:$B$400=BG$3)*(Eingabe!$E$6:$E$400))","v":0},{"$f":"BJ4","v":"2025-07-01"},{"$f":"EDATE(AZ4,1)","v":"2025-07-01"},{"$f":"SUMPRODUCT((Eingabe!$C$6:$C$400<=$BJ4)*(Eingabe!$D$6:$D$400>$BJ4)*(Eingabe!$B$6:$B$400=BK$3)*(Eingabe!$E$6:$E$400))","v":0},{"$f":"SUMPRODUCT((Eingabe!$C$6:$C$400<$BJ4)*(Eingabe!$D$6:$D$400>=$BJ4)*(Eingabe!$B$6:$B$400=BK$3)*(Eingabe!$E$6:$E$400))","v":0},{"$f":"SUMPRODUCT((Eingabe!$C$6:$C$400<=$BJ4)*(Eingabe!$D$6:$D$400>$BJ4)*(Eingabe!$B$6:$B$400=BM$3)*(Eingabe!$E$6:$E$400))","v":0},{"$f":"SUMPRODUCT((Eingabe!$C$6:$C$400<$BJ4)*(Eingabe!$D$6:$D$400>=$BJ4)*(Eingabe!$B$6:$B$400=BM$3)*(Eingabe!$E$6:$E$400))","v":0},{"$f":"SUMPRODUCT((Eingabe!$C$6:$C$400<=$BJ4)*(Eingabe!$D$6:$D$400>$BJ4)*(Eingabe!$B$6:$B$400=BO$3)*(Eingabe!$E$6:$E$400))","v":0},{"$f":"SUMPRODUCT((Eingabe!$C$6:$C$400<$BJ4)*(Eingabe!$D$6:$D$400>=$BJ4)*(Eingabe!$B$6:$B$400=BO$3)*(Eingabe!$E$6:$E$400))","v":0},{"$f":"SUMPRODUCT((Eingabe!$C$6:$C$400<=$BJ4)*(Eingabe!$D$6:$D$400>$BJ4)*(Eingabe!$B$6:$B$400=BQ$3)*(Eingabe!$E$6:$E$400))","v":0},{"$f":"SUMPRODUCT((Eingabe!$C$6:$C$400<$BJ4)*(Eingabe!$D$6:$D$400>=$BJ4)*(Eingabe!$B$6:$B$400=BQ$3)*(Eingabe!$E$6:$E$400))","v":0},{"$f":"BT4","v":"2025-08-01"},{"$f":"EDATE(BJ4,1)","v":"2025-08-01"},{"$f":"SUMPRODUCT((Eingabe!$C$6:$C$400<=$BT4)*(Eingabe!$D$6:$D$400>$BT4)*(Eingabe!$B$6:$B$400=BU$3)*(Eingabe!$E$6:$E$400))","v":6},{"$f":"SUMPRODUCT((Eingabe!$C$6:$C$400<$BT4)*(Eingabe!$D$6:$D$400>=$BT4)*(Eingabe!$B$6:$B$400=BU$3)*(Eingabe!$E$6:$E$400))","v":6},{"$f":"SUMPRODUCT((Eingabe!$C$6:$C$400<=$BT4)*(Eingabe!$D$6:$D$400>$BT4)*(Eingabe!$B$6:$B$400=BW$3)*(Eingabe!$E$6:$E$400))","v":0},{"$f":"SUMPRODUCT((Eingabe!$C$6:$C$400<$BT4)*(Eingabe!$D$6:$D$400>=$BT4)*(Eingabe!$B$6:$B$400=BW$3)*(Eingabe!$E$6:$E$400))","v":0},{"$f":"SUMPRODUCT((Eingabe!$C$6:$C$400<=$BT4)*(Eingabe!$D$6:$D$400>$BT4)*(Eingabe!$B$6:$B$400=BY$3)*(Eingabe!$E$6:$E$400))","v":0},{"$f":"SUMPRODUCT((Eingabe!$C$6:$C$400<$BT4)*(Eingabe!$D$6:$D$400>=$BT4)*(Eingabe!$B$6:$B$400=BY$3)*(Eingabe!$E$6:$E$400))","v":0},{"$f":"SUMPRODUCT((Eingabe!$C$6:$C$400<=$BT4)*(Eingabe!$D$6:$D$400>$BT4)*(Eingabe!$B$6:$B$400=CA$3)*(Eingabe!$E$6:$E$400))","v":0},{"$f":"SUMPRODUCT((Eingabe!$C$6:$C$400<$BT4)*(Eingabe!$D$6:$D$400>=$BT4)*(Eingabe!$B$6:$B$400=CA$3)*(Eingabe!$E$6:$E$400))","v":0},{"$f":"CD4","v":"2025-09-01"},{"$f":"EDATE(BT4,1)","v":"2025-09-01"},{"$f":"SUMPRODUCT((Eingabe!$C$6:$C$400<=$CD4)*(Eingabe!$D$6:$D$400>$CD4)*(Eingabe!$B$6:$B$400=CE$3)*(Eingabe!$E$6:$E$400))","v":0},{"$f":"SUMPRODUCT((Eingabe!$C$6:$C$400<$CD4)*(Eingabe!$D$6:$D$400>=$CD4)*(Eingabe!$B$6:$B$400=CE$3)*(Eingabe!$E$6:$E$400))","v":0},{"$f":"SUMPRODUCT((Eingabe!$C$6:$C$400<=$CD4)*(Eingabe!$D$6:$D$400>$CD4)*(Eingabe!$B$6:$B$400=CG$3)*(Eingabe!$E$6:$E$400))","v":0},{"$f":"SUMPRODUCT((Eingabe!$C$6:$C$400<$CD4)*(Eingabe!$D$6:$D$400>=$CD4)*(Eingabe!$B$6:$B$400=CG$3)*(Eingabe!$E$6:$E$400))","v":0},{"$f":"SUMPRODUCT((Eingabe!$C$6:$C$400<=$CD4)*(Eingabe!$D$6:$D$400>$CD4)*(Eingabe!$B$6:$B$400=CI$3)*(Eingabe!$E$6:$E$400))","v":0},{"$f":"SUMPRODUCT((Eingabe!$C$6:$C$400<$CD4)*(Eingabe!$D$6:$D$400>=$CD4)*(Eingabe!$B$6:$B$400=CI$3)*(Eingabe!$E$6:$E$400))","v":0},{"$f":"SUMPRODUCT((Eingabe!$C$6:$C$400<=$CD4)*(Eingabe!$D$6:$D$400>$CD4)*(Eingabe!$B$6:$B$400=CK$3)*(Eingabe!$E$6:$E$400))","v":0},{"$f":"SUMPRODUCT((Eingabe!$C$6:$C$400<$CD4)*(Eingabe!$D$6:$D$400>=$CD4)*(Eingabe!$B$6:$B$400=CK$3)*(Eingabe!$E$6:$E$400))","v":0},{"$f":"CN4","v":"2025-10-01"},{"$f":"EDATE(CD4,1)","v":"2025-10-01"},{"$f":"SUMPRODUCT((Eingabe!$C$6:$C$400<=$CN4)*(Eingabe!$D$6:$D$400>$CN4)*(Eingabe!$B$6:$B$400=CO$3)*(Eingabe!$E$6:$E$400))","v":7},{"$f":"SUMPRODUCT((Eingabe!$C$6:$C$400<$CN4)*(Eingabe!$D$6:$D$400>=$CN4)*(Eingabe!$B$6:$B$400=CO$3)*(Eingabe!$E$6:$E$400))","v":7},{"$f":"SUMPRODUCT((Eingabe!$C$6:$C$400<=$CN4)*(Eingabe!$D$6:$D$400>$CN4)*(Eingabe!$B$6:$B$400=CQ$3)*(Eingabe!$E$6:$E$400))","v":0},{"$f":"SUMPRODUCT((Eingabe!$C$6:$C$400<$CN4)*(Eingabe!$D$6:$D$400>=$CN4)*(Eingabe!$B$6:$B$400=CQ$3)*(Eingabe!$E$6:$E$400))","v":0},{"$f":"SUMPRODUCT((Eingabe!$C$6:$C$400<=$CN4)*(Eingabe!$D$6:$D$400>$CN4)*(Eingabe!$B$6:$B$400=CS$3)*(Eingabe!$E$6:$E$400))","v":0},{"$f":"SUMPRODUCT((Eingabe!$C$6:$C$400<$CN4)*(Eingabe!$D$6:$D$400>=$CN4)*(Eingabe!$B$6:$B$400=CS$3)*(Eingabe!$E$6:$E$400))","v":0},{"$f":"SUMPRODUCT((Eingabe!$C$6:$C$400<=$CN4)*(Eingabe!$D$6:$D$400>$CN4)*(Eingabe!$B$6:$B$400=CU$3)*(Eingabe!$E$6:$E$400))","v":0},{"$f":"SUMPRODUCT((Eingabe!$C$6:$C$400<$CN4)*(Eingabe!$D$6:$D$400>=$CN4)*(Eingabe!$B$6:$B$400=CU$3)*(Eingabe!$E$6:$E$400))","v":0},{"$f":"CX4","v":"2025-11-01"},{"$f":"EDATE(CN4,1)","v":"2025-11-01"},{"$f":"SUMPRODUCT((Eingabe!$C$6:$C$400<=$CX4)*(Eingabe!$D$6:$D$400>$CX4)*(Eingabe!$B$6:$B$400=CY$3)*(Eingabe!$E$6:$E$400))","v":7},{"$f":"SUMPRODUCT((Eingabe!$C$6:$C$400<$CX4)*(Eingabe!$D$6:$D$400>=$CX4)*(Eingabe!$B$6:$B$400=CY$3)*(Eingabe!$E$6:$E$400))","v":7},{"$f":"SUMPRODUCT((Eingabe!$C$6:$C$400<=$CX4)*(Eingabe!$D$6:$D$400>$CX4)*(Eingabe!$B$6:$B$400=DA$3)*(Eingabe!$E$6:$E$400))","v":0},{"$f":"SUMPRODUCT((Eingabe!$C$6:$C$400<$CX4)*(Eingabe!$D$6:$D$400>=$CX4)*(Eingabe!$B$6:$B$400=DA$3)*(Eingabe!$E$6:$E$400))","v":0},{"$f":"SUMPRODUCT((Eingabe!$C$6:$C$400<=$CX4)*(Eingabe!$D$6:$D$400>$CX4)*(Eingabe!$B$6:$B$400=DC$3)*(Eingabe!$E$6:$E$400))","v":0},{"$f":"SUMPRODUCT((Eingabe!$C$6:$C$400<$CX4)*(Eingabe!$D$6:$D$400>=$CX4)*(Eingabe!$B$6:$B$400=DC$3)*(Eingabe!$E$6:$E$400))","v":0},{"$f":"SUMPRODUCT((Eingabe!$C$6:$C$400<=$CX4)*(Eingabe!$D$6:$D$400>$CX4)*(Eingabe!$B$6:$B$400=DE$3)*(Eingabe!$E$6:$E$400))","v":0},{"$f":"SUMPRODUCT((Eingabe!$C$6:$C$400<$CX4)*(Eingabe!$D$6:$D$400>=$CX4)*(Eingabe!$B$6:$B$400=DE$3)*(Eingabe!$E$6:$E$400))","v":0},{"$f":"DH4","v":"2025-12-01"},{"$f":"EDATE(CX4,1)","v":"2025-12-01"},{"$f":"SUMPRODUCT((Eingabe!$C$6:$C$400<=$DH4)*(Eingabe!$D$6:$D$400>$DH4)*(Eingabe!$B$6:$B$400=DI$3)*(Eingabe!$E$6:$E$400))","v":7},{"$f":"SUMPRODUCT((Eingabe!$C$6:$C$400<$DH4)*(Eingabe!$D$6:$D$400>=$DH4)*(Eingabe!$B$6:$B$400=DI$3)*(Eingabe!$E$6:$E$400))","v":7},{"$f":"SUMPRODUCT((Eingabe!$C$6:$C$400<=$DH4)*(Eingabe!$D$6:$D$400>$DH4)*(Eingabe!$B$6:$B$400=DK$3)*(Eingabe!$E$6:$E$400))","v":0},{"$f":"SUMPRODUCT((Eingabe!$C$6:$C$400<$DH4)*(Eingabe!$D$6:$D$400>=$DH4)*(Eingabe!$B$6:$B$400=DK$3)*(Eingabe!$E$6:$E$400))","v":0},{"$f":"SUMPRODUCT((Eingabe!$C$6:$C$400<=$DH4)*(Eingabe!$D$6:$D$400>$DH4)*(Eingabe!$B$6:$B$400=DM$3)*(Eingabe!$E$6:$E$400))","v":0},{"$f":"SUMPRODUCT((Eingabe!$C$6:$C$400<$DH4)*(Eingabe!$D$6:$D$400>=$DH4)*(Eingabe!$B$6:$B$400=DM$3)*(Eingabe!$E$6:$E$400))","v":0},{"$f":"SUMPRODUCT((Eingabe!$C$6:$C$400<=$DH4)*(Eingabe!$D$6:$D$400>$DH4)*(Eingabe!$B$6:$B$400=DO$3)*(Eingabe!$E$6:$E$400))","v":0},{"$f":"SUMPRODUCT((Eingabe!$C$6:$C$400<$DH4)*(Eingabe!$D$6:$D$400>=$DH4)*(Eingabe!$B$6:$B$400=DO$3)*(Eingabe!$E$6:$E$400))","v":0},{"$f":"DR4","v":"2026-01-01"},{"$f":"DATE(DQ1,1,1)","v":"2026-01-01"},{"$f":"SUMPRODUCT((Eingabe!$C$6:$C$400<=$B4)*(Eingabe!$D$6:$D$400>$B4)*(Eingabe!$B$6:$B$400=DS$3)*(Eingabe!$E$6:$E$400))","v":0},{"$f":"SUMPRODUCT((Eingabe!$C$6:$C$400<$B4)*(Eingabe!$D$6:$D$400>=$B4)*(Eingabe!$B$6:$B$400=DS$3)*(Eingabe!$E$6:$E$400))","v":0},{"$f":"SUMPRODUCT((Eingabe!$C$6:$C$400<=$B4)*(Eingabe!$D$6:$D$400>$B4)*(Eingabe!$B$6:$B$400=DU$3)*(Eingabe!$E$6:$E$400))","v":0},{"$f":"SUMPRODUCT((Eingabe!$C$6:$C$400<$B4)*(Eingabe!$D$6:$D$400>=$B4)*(Eingabe!$B$6:$B$400=DU$3)*(Eingabe!$E$6:$E$400))","v":0},{"$f":"SUMPRODUCT((Eingabe!$C$6:$C$400<=$B4)*(Eingabe!$D$6:$D$400>$B4)*(Eingabe!$B$6:$B$400=DW$3)*(Eingabe!$E$6:$E$400))","v":0},{"$f":"SUMPRODUCT((Eingabe!$C$6:$C$400<$B4)*(Eingabe!$D$6:$D$400>=$B4)*(Eingabe!$B$6:$B$400=DW$3)*(Eingabe!$E$6:$E$400))","v":0},{"$f":"SUMPRODUCT((Eingabe!$C$6:$C$400<=$B4)*(Eingabe!$D$6:$D$400>$B4)*(Eingabe!$B$6:$B$400=DY$3)*(Eingabe!$E$6:$E$400))","v":0},{"$f":"SUMPRODUCT((Eingabe!$C$6:$C$400<$B4)*(Eingabe!$D$6:$D$400>=$B4)*(Eingabe!$B$6:$B$400=DY$3)*(Eingabe!$E$6:$E$400))","v":0},{"$f":"EB4","v":"2026-02-01"},{"$f":"EDATE(DR4,1)","v":"2026-02-01"},{"$f":"SUMPRODUCT((Eingabe!$C$6:$C$400<=$L4)*(Eingabe!$D$6:$D$400>$L4)*(Eingabe!$B$6:$B$400=EC$3)*(Eingabe!$E$6:$E$400))","v":0},{"$f":"SUMPRODUCT((Eingabe!$C$6:$C$400<$L4)*(Eingabe!$D$6:$D$400>=$L4)*(Eingabe!$B$6:$B$400=EC$3)*(Eingabe!$E$6:$E$400))","v":0},{"$f":"SUMPRODUCT((Eingabe!$C$6:$C$400<=$L4)*(Eingabe!$D$6:$D$400>$L4)*(Eingabe!$B$6:$B$400=EE$3)*(Eingabe!$E$6:$E$400))","v":6},{"$f":"SUMPRODUCT((Eingabe!$C$6:$C$400<$L4)*(Eingabe!$D$6:$D$400>=$L4)*(Eingabe!$B$6:$B$400=EE$3)*(Eingabe!$E$6:$E$400))","v":0},{"$f":"SUMPRODUCT((Eingabe!$C$6:$C$400<=$L4)*(Eingabe!$D$6:$D$400>$L4)*(Eingabe!$B$6:$B$400=EG$3)*(Eingabe!$E$6:$E$400))","v":0},{"$f":"SUMPRODUCT((Eingabe!$C$6:$C$400<$L4)*(Eingabe!$D$6:$D$400>=$L4)*(Eingabe!$B$6:$B$400=EG$3)*(Eingabe!$E$6:$E$400))","v":0},{"$f":"SUMPRODUCT((Eingabe!$C$6:$C$400<=$L4)*(Eingabe!$D$6:$D$400>$L4)*(Eingabe!$B$6:$B$400=EI$3)*(Eingabe!$E$6:$E$400))","v":0},{"$f":"SUMPRODUCT((Eingabe!$C$6:$C$400<$L4)*(Eingabe!$D$6:$D$400>=$L4)*(Eingabe!$B$6:$B$400=EI$3)*(Eingabe!$E$6:$E$400))","v":0},{"$f":"EL4","v":"2026-03-01"},{"$f":"EDATE(EB4,1)","v":"2026-03-01"},{"$f":"SUMPRODUCT((Eingabe!$C$6:$C$400<=$V4)*(Eingabe!$D$6:$D$400>$V4)*(Eingabe!$B$6:$B$400=EM$3)*(Eingabe!$E$6:$E$400))","v":0},{"$f":"SUMPRODUCT((Eingabe!$C$6:$C$400<$V4)*(Eingabe!$D$6:$D$400>=$V4)*(Eingabe!$B$6:$B$400=EM$3)*(Eingabe!$E$6:$E$400))","v":0},{"$f":"SUMPRODUCT((Eingabe!$C$6:$C$400<=$V4)*(Eingabe!$D$6:$D$400>$V4)*(Eingabe!$B$6:$B$400=EO$3)*(Eingabe!$E$6:$E$400))","v":0},{"$f":"SUMPRODUCT((Eingabe!$C$6:$C$400<$V4)*(Eingabe!$D$6:$D$400>=$V4)*(Eingabe!$B$6:$B$400=EO$3)*(Eingabe!$E$6:$E$400))","v":0},{"$f":"SUMPRODUCT((Eingabe!$C$6:$C$400<=$V4)*(Eingabe!$D$6:$D$400>$V4)*(Eingabe!$B$6:$B$400=EQ$3)*(Eingabe!$E$6:$E$400))","v":0},{"$f":"SUMPRODUCT((Eingabe!$C$6:$C$400<$V4)*(Eingabe!$D$6:$D$400>=$V4)*(Eingabe!$B$6:$B$400=EQ$3)*(Eingabe!$E$6:$E$400))","v":0},{"$f":"SUMPRODUCT((Eingabe!$C$6:$C$400<=$V4)*(Eingabe!$D$6:$D$400>$V4)*(Eingabe!$B$6:$B$400=ES$3)*(Eingabe!$E$6:$E$400))","v":0},{"$f":"SUMPRODUCT((Eingabe!$C$6:$C$400<$V4)*(Eingabe!$D$6:$D$400>=$V4)*(Eingabe!$B$6:$B$400=ES$3)*(Eingabe!$E$6:$E$400))","v":0},{"$f":"EV4","v":"2026-04-01"},{"$f":"EDATE(EL4,1)","v":"2026-04-01"},{"$f":"SUMPRODUCT((Eingabe!$C$6:$C$400<=$AF4)*(Eingabe!$D$6:$D$400>$AF4)*(Eingabe!$B$6:$B$400=EW$3)*(Eingabe!$E$6:$E$400))","v":0},{"$f":"SUMPRODUCT((Eingabe!$C$6:$C$400<$AF4)*(Eingabe!$D$6:$D$400>=$AF4)*(Eingabe!$B$6:$B$400=EW$3)*(Eingabe!$E$6:$E$400))","v":0},{"$f":"SUMPRODUCT((Eingabe!$C$6:$C$400<=$AF4)*(Eingabe!$D$6:$D$400>$AF4)*(Eingabe!$B$6:$B$400=EY$3)*(Eingabe!$E$6:$E$400))","v":0},{"$f":"SUMPRODUCT((Eingabe!$C$6:$C$400<$AF4)*(Eingabe!$D$6:$D$400>=$AF4)*(Eingabe!$B$6:$B$400=EY$3)*(Eingabe!$E$6:$E$400))","v":0},{"$f":"SUMPRODUCT((Eingabe!$C$6:$C$400<=$AF4)*(Eingabe!$D$6:$D$400>$AF4)*(Eingabe!$B$6:$B$400=FA$3)*(Eingabe!$E$6:$E$400))","v":0},{"$f":"SUMPRODUCT((Eingabe!$C$6:$C$400<$AF4)*(Eingabe!$D$6:$D$400>=$AF4)*(Eingabe!$B$6:$B$400=FA$3)*(Eingabe!$E$6:$E$400))","v":0},{"$f":"SUMPRODUCT((Eingabe!$C$6:$C$400<=$AF4)*(Eingabe!$D$6:$D$400>$AF4)*(Eingabe!$B$6:$B$400=FC$3)*(Eingabe!$E$6:$E$400))","v":0},{"$f":"SUMPRODUCT((Eingabe!$C$6:$C$400<$AF4)*(Eingabe!$D$6:$D$400>=$AF4)*(Eingabe!$B$6:$B$400=FC$3)*(Eingabe!$E$6:$E$400))","v":0},{"$f":"FF4","v":"2026-05-01"},{"$f":"EDATE(EV4,1)","v":"2026-05-01"},{"$f":"SUMPRODUCT((Eingabe!$C$6:$C$400<=$AP4)*(Eingabe!$D$6:$D$400>$AP4)*(Eingabe!$B$6:$B$400=FG$3)*(Eingabe!$E$6:$E$400))","v":5},{"$f":"SUMPRODUCT((Eingabe!$C$6:$C$400<$AP4)*(Eingabe!$D$6:$D$400>=$AP4)*(Eingabe!$B$6:$B$400=FG$3)*(Eingabe!$E$6:$E$400))","v":5},{"$f":"SUMPRODUCT((Eingabe!$C$6:$C$400<=$AP4)*(Eingabe!$D$6:$D$400>$AP4)*(Eingabe!$B$6:$B$400=FI$3)*(Eingabe!$E$6:$E$400))","v":5},{"$f":"SUMPRODUCT((Eingabe!$C$6:$C$400<$AP4)*(Eingabe!$D$6:$D$400>=$AP4)*(Eingabe!$B$6:$B$400=FI$3)*(Eingabe!$E$6:$E$400))","v":5},null,null,null,null,{"$f":"FP4","v":"2026-06-01"},{"$f":"EDATE(FF4,1)","v":"2026-06-01"},{"$f":"SUMPRODUCT((Eingabe!$C$6:$C$400<=$AZ4)*(Eingabe!$D$6:$D$400>$AZ4)*(Eingabe!$B$6:$B$400=FQ$3)*(Eingabe!$E$6:$E$400))","v":0},{"$f":"SUMPRODUCT((Eingabe!$C$6:$C$400<$AZ4)*(Eingabe!$D$6:$D$400>=$AZ4)*(Eingabe!$B$6:$B$400=FQ$3)*(Eingabe!$E$6:$E$400))","v":0},{"$f":"SUMPRODUCT((Eingabe!$C$6:$C$400<=$AZ4)*(Eingabe!$D$6:$D$400>$AZ4)*(Eingabe!$B$6:$B$400=FS$3)*(Eingabe!$E$6:$E$400))","v":0},{"$f":"SUMPRODUCT((Eingabe!$C$6:$C$400<$AZ4)*(Eingabe!$D$6:$D$400>=$AZ4)*(Eingabe!$B$6:$B$400=FS$3)*(Eingabe!$E$6:$E$400))","v":0},{"$f":"SUMPRODUCT((Eingabe!$C$6:$C$400<=$AZ4)*(Eingabe!$D$6:$D$400>$AZ4)*(Eingabe!$B$6:$B$400=FU$3)*(Eingabe!$E$6:$E$400))","v":0},{"$f":"SUMPRODUCT((Eingabe!$C$6:$C$400<$AZ4)*(Eingabe!$D$6:$D$400>=$AZ4)*(Eingabe!$B$6:$B$400=FU$3)*(Eingabe!$E$6:$E$400))","v":0},{"$f":"SUMPRODUCT((Eingabe!$C$6:$C$400<=$AZ4)*(Eingabe!$D$6:$D$400>$AZ4)*(Eingabe!$B$6:$B$400=FW$3)*(Eingabe!$E$6:$E$400))","v":0},{"$f":"SUMPRODUCT((Eingabe!$C$6:$C$400<$AZ4)*(Eingabe!$D$6:$D$400>=$AZ4)*(Eingabe!$B$6:$B$400=FW$3)*(Eingabe!$E$6:$E$400))","v":0},{"$f":"FZ4","v":"2026-07-01"},{"$f":"EDATE(FP4,1)","v":"2026-07-01"},{"$f":"SUMPRODUCT((Eingabe!$C$6:$C$400<=$BJ4)*(Eingabe!$D$6:$D$400>$BJ4)*(Eingabe!$B$6:$B$400=GA$3)*(Eingabe!$E$6:$E$400))","v":0},{"$f":"SUMPRODUCT((Eingabe!$C$6:$C$400<$BJ4)*(Eingabe!$D$6:$D$400>=$BJ4)*(Eingabe!$B$6:$B$400=GA$3)*(Eingabe!$E$6:$E$400))","v":0},{"$f":"SUMPRODUCT((Eingabe!$C$6:$C$400<=$BJ4)*(Eingabe!$D$6:$D$400>$BJ4)*(Eingabe!$B$6:$B$400=GC$3)*(Eingabe!$E$6:$E$400))","v":0},{"$f":"SUMPRODUCT((Eingabe!$C$6:$C$400<$BJ4)*(Eingabe!$D$6:$D$400>=$BJ4)*(Eingabe!$B$6:$B$400=GC$3)*(Eingabe!$E$6:$E$400))","v":0},{"$f":"SUMPRODUCT((Eingabe!$C$6:$C$400<=$BJ4)*(Eingabe!$D$6:$D$400>$BJ4)*(Eingabe!$B$6:$B$400=GE$3)*(Eingabe!$E$6:$E$400))","v":0},{"$f":"SUMPRODUCT((Eingabe!$C$6:$C$400<$BJ4)*(Eingabe!$D$6:$D$400>=$BJ4)*(Eingabe!$B$6:$B$400=GE$3)*(Eingabe!$E$6:$E$400))","v":0},{"$f":"SUMPRODUCT((Eingabe!$C$6:$C$400<=$BJ4)*(Eingabe!$D$6:$D$400>$BJ4)*(Eingabe!$B$6:$B$400=GG$3)*(Eingabe!$E$6:$E$400))","v":0},{"$f":"SUMPRODUCT((Eingabe!$C$6:$C$400<$BJ4)*(Eingabe!$D$6:$D$400>=$BJ4)*(Eingabe!$B$6:$B$400=GG$3)*(Eingabe!$E$6:$E$400))","v":0},{"$f":"GJ4","v":"2026-08-01"},{"$f":"EDATE(FZ4,1)","v":"2026-08-01"},{"$f":"SUMPRODUCT((Eingabe!$C$6:$C$400<=$BT4)*(Eingabe!$D$6:$D$400>$BT4)*(Eingabe!$B$6:$B$400=GK$3)*(Eingabe!$E$6:$E$400))","v":6},{"$f":"SUMPRODUCT((Eingabe!$C$6:$C$400<$BT4)*(Eingabe!$D$6:$D$400>=$BT4)*(Eingabe!$B$6:$B$400=GK$3)*(Eingabe!$E$6:$E$400))","v":6},{"$f":"SUMPRODUCT((Eingabe!$C$6:$C$400<=$BT4)*(Eingabe!$D$6:$D$400>$BT4)*(Eingabe!$B$6:$B$400=GM$3)*(Eingabe!$E$6:$E$400))","v":0},{"$f":"SUMPRODUCT((Eingabe!$C$6:$C$400<$BT4)*(Eingabe!$D$6:$D$400>=$BT4)*(Eingabe!$B$6:$B$400=GM$3)*(Eingabe!$E$6:$E$400))","v":0},{"$f":"SUMPRODUCT((Eingabe!$C$6:$C$400<=$BT4)*(Eingabe!$D$6:$D$400>$BT4)*(Eingabe!$B$6:$B$400=GO$3)*(Eingabe!$E$6:$E$400))","v":0},{"$f":"SUMPRODUCT((Eingabe!$C$6:$C$400<$BT4)*(Eingabe!$D$6:$D$400>=$BT4)*(Eingabe!$B$6:$B$400=GO$3)*(Eingabe!$E$6:$E$400))","v":0},{"$f":"SUMPRODUCT((Eingabe!$C$6:$C$400<=$BT4)*(Eingabe!$D$6:$D$400>$BT4)*(Eingabe!$B$6:$B$400=GQ$3)*(Eingabe!$E$6:$E$400))","v":0},{"$f":"SUMPRODUCT((Eingabe!$C$6:$C$400<$BT4)*(Eingabe!$D$6:$D$400>=$BT4)*(Eingabe!$B$6:$B$400=GQ$3)*(Eingabe!$E$6:$E$400))","v":0},{"$f":"GT4","v":"2026-09-01"},{"$f":"EDATE(GJ4,1)","v":"2026-09-01"},{"$f":"SUMPRODUCT((Eingabe!$C$6:$C$400<=$CD4)*(Eingabe!$D$6:$D$400>$CD4)*(Eingabe!$B$6:$B$400=GU$3)*(Eingabe!$E$6:$E$400))","v":0},{"$f":"SUMPRODUCT((Eingabe!$C$6:$C$400<$CD4)*(Eingabe!$D$6:$D$400>=$CD4)*(Eingabe!$B$6:$B$400=GU$3)*(Eingabe!$E$6:$E$400))","v":0},{"$f":"SUMPRODUCT((Eingabe!$C$6:$C$400<=$CD4)*(Eingabe!$D$6:$D$400>$CD4)*(Eingabe!$B$6:$B$400=GW$3)*(Eingabe!$E$6:$E$400))","v":0},{"$f":"SUMPRODUCT((Eingabe!$C$6:$C$400<$CD4)*(Eingabe!$D$6:$D$400>=$CD4)*(Eingabe!$B$6:$B$400=GW$3)*(Eingabe!$E$6:$E$400))","v":0},{"$f":"SUMPRODUCT((Eingabe!$C$6:$C$400<=$CD4)*(Eingabe!$D$6:$D$400>$CD4)*(Eingabe!$B$6:$B$400=GY$3)*(Eingabe!$E$6:$E$400))","v":0},{"$f":"SUMPRODUCT((Eingabe!$C$6:$C$400<$CD4)*(Eingabe!$D$6:$D$400>=$CD4)*(Eingabe!$B$6:$B$400=GY$3)*(Eingabe!$E$6:$E$400))","v":0},{"$f":"SUMPRODUCT((Eingabe!$C$6:$C$400<=$CD4)*(Eingabe!$D$6:$D$400>$CD4)*(Eingabe!$B$6:$B$400=HA$3)*(Eingabe!$E$6:$E$400))","v":0},{"$f":"SUMPRODUCT((Eingabe!$C$6:$C$400<$CD4)*(Eingabe!$D$6:$D$400>=$CD4)*(Eingabe!$B$6:$B$400=HA$3)*(Eingabe!$E$6:$E$400))","v":0},{"$f":"HD4","v":"2026-10-01"},{"$f":"EDATE(GT4,1)","v":"2026-10-01"},{"$f":"SUMPRODUCT((Eingabe!$C$6:$C$400<=$CN4)*(Eingabe!$D$6:$D$400>$CN4)*(Eingabe!$B$6:$B$400=HE$3)*(Eingabe!$E$6:$E$400))","v":7},{"$f":"SUMPRODUCT((Eingabe!$C$6:$C$400<$CN4)*(Eingabe!$D$6:$D$400>=$CN4)*(Eingabe!$B$6:$B$400=HE$3)*(Eingabe!$E$6:$E$400))","v":7},{"$f":"SUMPRODUCT((Eingabe!$C$6:$C$400<=$CN4)*(Eingabe!$D$6:$D$400>$CN4)*(Eingabe!$B$6:$B$400=HG$3)*(Eingabe!$E$6:$E$400))","v":0},{"$f":"SUMPRODUCT((Eingabe!$C$6:$C$400<$CN4)*(Eingabe!$D$6:$D$400>=$CN4)*(Eingabe!$B$6:$B$400=HG$3)*(Eingabe!$E$6:$E$400))","v":0},{"$f":"SUMPRODUCT((Eingabe!$C$6:$C$400<=$CN4)*(Eingabe!$D$6:$D$400>$CN4)*(Eingabe!$B$6:$B$400=HI$3)*(Eingabe!$E$6:$E$400))","v":0},{"$f":"SUMPRODUCT((Eingabe!$C$6:$C$400<$CN4)*(Eingabe!$D$6:$D$400>=$CN4)*(Eingabe!$B$6:$B$400=HI$3)*(Eingabe!$E$6:$E$400))","v":0},{"$f":"SUMPRODUCT((Eingabe!$C$6:$C$400<=$CN4)*(Eingabe!$D$6:$D$400>$CN4)*(Eingabe!$B$6:$B$400=HK$3)*(Eingabe!$E$6:$E$400))","v":0},{"$f":"SUMPRODUCT((Eingabe!$C$6:$C$400<$CN4)*(Eingabe!$D$6:$D$400>=$CN4)*(Eingabe!$B$6:$B$400=HK$3)*(Eingabe!$E$6:$E$400))","v":0},{"$f":"HN4","v":"2026-11-01"},{"$f":"EDATE(HD4,1)","v":"2026-11-01"},{"$f":"SUMPRODUCT((Eingabe!$C$6:$C$400<=$CX4)*(Eingabe!$D$6:$D$400>$CX4)*(Eingabe!$B$6:$B$400=HO$3)*(Eingabe!$E$6:$E$400))","v":7},{"$f":"SUMPRODUCT((Eingabe!$C$6:$C$400<$CX4)*(Eingabe!$D$6:$D$400>=$CX4)*(Eingabe!$B$6:$B$400=HO$3)*(Eingabe!$E$6:$E$400))","v":7},{"$f":"SUMPRODUCT((Eingabe!$C$6:$C$400<=$CX4)*(Eingabe!$D$6:$D$400>$CX4)*(Eingabe!$B$6:$B$400=HQ$3)*(Eingabe!$E$6:$E$400))","v":0},{"$f":"SUMPRODUCT((Eingabe!$C$6:$C$400<$CX4)*(Eingabe!$D$6:$D$400>=$CX4)*(Eingabe!$B$6:$B$400=HQ$3)*(Eingabe!$E$6:$E$400))","v":0},{"$f":"SUMPRODUCT((Eingabe!$C$6:$C$400<=$CX4)*(Eingabe!$D$6:$D$400>$CX4)*(Eingabe!$B$6:$B$400=HS$3)*(Eingabe!$E$6:$E$400))","v":0},{"$f":"SUMPRODUCT((Eingabe!$C$6:$C$400<$CX4)*(Eingabe!$D$6:$D$400>=$CX4)*(Eingabe!$B$6:$B$400=HS$3)*(Eingabe!$E$6:$E$400))","v":0},{"$f":"SUMPRODUCT((Eingabe!$C$6:$C$400<=$CX4)*(Eingabe!$D$6:$D$400>$CX4)*(Eingabe!$B$6:$B$400=HU$3)*(Eingabe!$E$6:$E$400))","v":0},{"$f":"SUMPRODUCT((Eingabe!$C$6:$C$400<$CX4)*(Eingabe!$D$6:$D$400>=$CX4)*(Eingabe!$B$6:$B$400=HU$3)*(Eingabe!$E$6:$E$400))","v":0},{"$f":"HX4","v":"2026-12-01"},{"$f":"EDATE(HN4,1)","v":"2026-12-01"},{"$f":"SUMPRODUCT((Eingabe!$C$6:$C$400<=$DH4)*(Eingabe!$D$6:$D$400>$DH4)*(Eingabe!$B$6:$B$400=HY$3)*(Eingabe!$E$6:$E$400))","v":7},{"$f":"SUMPRODUCT((Eingabe!$C$6:$C$400<$DH4)*(Eingabe!$D$6:$D$400>=$DH4)*(Eingabe!$B$6:$B$400=HY$3)*(Eingabe!$E$6:$E$400))","v":7},{"$f":"SUMPRODUCT((Eingabe!$C$6:$C$400<=$DH4)*(Eingabe!$D$6:$D$400>$DH4)*(Eingabe!$B$6:$B$400=IA$3)*(Eingabe!$E$6:$E$400))","v":0},{"$f":"SUMPRODUCT((Eingabe!$C$6:$C$400<$DH4)*(Eingabe!$D$6:$D$400>=$DH4)*(Eingabe!$B$6:$B$400=IA$3)*(Eingabe!$E$6:$E$400))","v":0},{"$f":"SUMPRODUCT((Eingabe!$C$6:$C$400<=$DH4)*(Eingabe!$D$6:$D$400>$DH4)*(Eingabe!$B$6:$B$400=IC$3)*(Eingabe!$E$6:$E$400))","v":0},{"$f":"SUMPRODUCT((Eingabe!$C$6:$C$400<$DH4)*(Eingabe!$D$6:$D$400>=$DH4)*(Eingabe!$B$6:$B$400=IC$3)*(Eingabe!$E$6:$E$400))","v":0},{"$f":"SUMPRODUCT((Eingabe!$C$6:$C$400<=$DH4)*(Eingabe!$D$6:$D$400>$DH4)*(Eingabe!$B$6:$B$400=IE$3)*(Eingabe!$E$6:$E$400))","v":0},{"$f":"SUMPRODUCT((Eingabe!$C$6:$C$400<$DH4)*(Eingabe!$D$6:$D$400>=$DH4)*(Eingabe!$B$6:$B$400=IE$3)*(Eingabe!$E$6:$E$400))","v":0}]
["2025-01-02",{"$f":"IFERROR(IF(MONTH(B4+1)=MONTH(B$4),B4+1,\"\"),\"\")","v":"2025-01-02"},{"$f":"SUMPRODUCT((Eingabe!$C$6:$C$400<=$B5)*(Eingabe!$D$6:$D$400>$B5)*(Eingabe!$B$6:$B$400=C$3)*(Eingabe!$E$6:$E$400))","v":0},{"$f":"SUMPRODUCT((Eingabe!$C$6:$C$400<$B5)*(Eingabe!$D$6:$D$400>=$B5)*(Eingabe!$B$6:$B$400=C$3)*(Eingabe!$E$6:$E$400))","v":0},{"$f":"SUMPRODUCT((Eingabe!$C$6:$C$400<=$B5)*(Eingabe!$D$6:$D$400>$B5)*(Eingabe!$B$6:$B$400=E$3)*(Eingabe!$E$6:$E$400))","v":0},{"$f":"SUMPRODUCT((Eingabe!$C$6:$C$400<$B5)*(Eingabe!$D$6:$D$400>=$B5)*(Eingabe!$B$6:$B$400=E$3)*(Eingabe!$E$6:$E$400))","v":0},{"$f":"SUMPRODUCT((Eingabe!$C$6:$C$400<=$B5)*(Eingabe!$D$6:$D$400>$B5)*(Eingabe!$B$6:$B$400=G$3)*(Eingabe!$E$6:$E$400))","v":0},{"$f":"SUMPRODUCT((Eingabe!$C$6:$C$400<$B5)*(Eingabe!$D$6:$D$400>=$B5)*(Eingabe!$B$6:$B$400=G$3)*(Eingabe!$E$6:$E$400))","v":0},{"$f":"SUMPRODUCT((Eingabe!$C$6:$C$400<=$B5)*(Eingabe!$D$6:$D$400>$B5)*(Eingabe!$B$6:$B$400=I$3)*(Eingabe!$E$6:$E$400))","v":0},{"$f":"SUMPRODUCT((Eingabe!$C$6:$C$400<$B5)*(Eingabe!$D$6:$D$400>=$B5)*(Eingabe!$B$6:$B$400=I$3)*(Eingabe!$E$6:$E$400))","v":0},"2025-02-02",{"$f":"IFERROR(IF(MONTH(L4+1)=MONTH(L$4),L4+1,\"\"),\"\")","v":"2025-02-02"},{"$f":"SUMPRODUCT((Eingabe!$C$6:$C$400<=$L5)*(Eingabe!$D$6:$D$400>$L5)*(Eingabe!$B$6:$B$400=M$3)*(Eingabe!$E$6:$E$400))","v":0},{"$f":"SUMPRODUCT((Eingabe!$C$6:$C$400<$L5)*(Eingabe!$D$6:$D$400>=$L5)*(Eingabe!$B$6:$B$400=M$3)*(Eingabe!$E$6:$E$400))","v":0},{"$f":"SUMPRODUCT((Eingabe!$C$6:$C$400<=$L5)*(Eingabe!$D$6:$D$400>$L5)*(Eingabe!$B$6:$B$400=O$3)*(Eingabe!$E$6:$E$400))","v":6},{"$f":"SUMPRODUCT((Eingabe!$C$6:$C$400<$L5)*(Eingabe!$D$6:$D$400>=$L5)*(Eingabe!$B$6:$B$400=O$3)*(Eingabe!$E$6:$E$400))","v":6},{"$f":"SUMPRODUCT((Eingabe!$C$6:$C$400<=$L5)*(Eingabe!$D$6:$D$400>$L5)*(Eingabe!$B$6:$B$400=Q$3)*(Eingabe!$E$6:$E$400))","v":0},{"$f":"SUMPRODUCT((Eingabe!$C$6:$C$400<$L5)*(Eingabe!$D$6:$D$400>=$L5)*(Eingabe!$B$6:$B$400=Q$3)*(Eingabe!$E$6:$E$400))","v":0},{"$f":"SUMPRODUCT((Eingabe!$C$6:$C$400<=$L5)*(Eingabe!$D$6:$D$400>$L5)*(Eingabe!$B$6:$B$400=S$3)*(Eingabe!$E$6:$E$400))","v":0},{"$f":"SUMPRODUCT((Eingabe!$C$6:$C$400<$L5)*(Eingabe!$D$6:$D$400>=$L5)*(Eingabe!$B$6:$B$400=S$3)*(Eingabe!$E$6:$E$400))","v":0},"2025-03-02",{"$f":"IFERROR(IF(MONTH(V4+1)=MONTH(V$4),V4+1,\"\"),\"\")","v":"2025-03-02"},{"$f":"SUMPRODUCT((Eingabe!$C$6:$C$400<=$V5)*(Eingabe!$D$6:$D$400>$V5)*(Eingabe!$B$6:$B$400=W$3)*(Eingabe!$E$6:$E$400))","v":0},{"$f":"SUMPRODUCT((Eingabe!$C$6:$C$400<$V5)*(Eingabe!$D$6:$D$400>=$V5)*(Eingabe!$B$6:$B$400=W$3)*(Eingabe!$E$6:$E$400))","v":0},{"$f":"SUMPRODUCT((Eingabe!$C$6:$C$400<=$V5)*(Eingabe!$D$6:$D$400>$V5)*(Eingabe!$B$6:$B$400=Y$3)*(Eingabe!$E$6:$E$400))","v":0},{"$f":"SUMPRODUCT((Eingabe!$C$6:$C$400<$V5)*(Eingabe!$D$6:$D$400>=$V5)*(Eingabe!$B$6:$B$400=Y$3)*(Eingabe!$E$6:$E$400))","v":0},{"$f":"SUMPRODUCT((Eingabe!$C$6:$C$400<=$V5)*(Eingabe!$D$6:$D$400>$V5)*(Eingabe!$B$6:$B$400=AA$3)*(Eingabe!$E$6:$E$400))","v":0},{"$f":"SUMPRODUCT((Eingabe!$C$6:$C$400<$V5)*(Eingabe!$D$6:$D$400>=$V5)*(Eingabe!$B$6:$B$400=AA$3)*(Eingabe!$E$6:$E$400))","v":0},{"$f":"SUMPRODUCT((Eingabe!$C$6:$C$400<=$V5)*(Eingabe!$D$6:$D$400>$V5)*(Eingabe!$B$6:$B$400=AC$3)*(Eingabe!$E$6:$E$400))","v":0},{"$f":"SUMPRODUCT((Eingabe!$C$6:$C$400<$V5)*(Eingabe!$D$6:$D$400>=$V5)*(Eingabe!$B$6:$B$400=AC$3)*(Eingabe!$E$6:$E$400))","v":0},"2025-04-02",{"$f":"IFERROR(IF(MONTH(AF4+1)=MONTH(AF$4),AF4+1,\"\"),\"\")","v":"2025-04-02"},{"$f":"SUMPRODUCT((Eingabe!$C$6:$C$400<=$AF5)*(Eingabe!$D$6:$D$400>$AF5)*(Eingabe!$B$6:$B$400=AG$3)*(Eingabe!$E$6:$E$400))","v":0},{"$f":"SUMPRODUCT((Eingabe!$C$6:$C$400<$AF5)*(Eingabe!$D$6:$D$400>=$AF5)*(Eingabe!$B$6:$B$400=AG$3)*(Eingabe!$E$6:$E$400))","v":0},{"$f":"SUMPRODUCT((Eingabe!$C$6:$C$400<=$AF5)*(Eingabe!$D$6:$D$400>$AF5)*(Eingabe!$B$6:$B$400=AI$3)*(Eingabe!$E$6:$E$400))","v":0},{"$f":"SUMPRODUCT((Eingabe!$C$6:$C$400<$AF5)*(Eingabe!$D$6:$D$400>=$AF5)*(Eingabe!$B$6:$B$400=AI$3)*(Eingabe!$E$6:$E$400))","v":0},{"$f":"SUMPRODUCT((Eingabe!$C$6:$C$400<=$AF5)*(Eingabe!$D$6:$D$400>$AF5)*(Eingabe!$B$6:$B$400=AK$3)*(Eingabe!$E$6:$E$400))","v":0},{"$f":"SUMPRODUCT((Eingabe!$C$6:$C$400<$AF5)*(Eingabe!$D$6:$D$400>=$AF5)*(Eingabe!$B$6:$B$400=AK$3)*(Eingabe!$E$6:$E$400))","v":0},{"$f":"SUMPRODUCT((Eingabe!$C$6:$C$400<=$AF5)*(Eingabe!$D$6:$D$400>$AF5)*(Eingabe!$B$6:$B$400=AM$3)*(Eingabe!$E$6:$E$400))","v":0},{"$f":"SUMPRODUCT((Eingabe!$C$6:$C$400<$AF5)*(Eingabe!$D$6:$D$400>=$AF5)*(Eingabe!$B$6:$B$400=AM$3)*(Eingabe!$E$6:$E$400))","v":0},"2025-05-02",{"$f":"IFERROR(IF(MONTH(AP4+1)=MONTH(AP$4),AP4+1,\"\"),\"\")","v":"2025-05-02"},{"$f":"SUMPRODUCT((Eingabe!$C$6:$C$400<=$AP5)*(Eingabe!$D$6:$D$400>$AP5)*(Eingabe!$B$6:$B$400=AQ$3)*(Eingabe!$E$6:$E$400))","v":5},{"$f":"SUMPRODUCT((Eingabe!$C$6:$C$400<$AP5)*(Eingabe!$D$6:$D$400>=$AP5)*(Eingabe!$B$6:$B$400=AQ$3)*(Eingabe!$E$6:$E$400))","v":5},{"$f":"SUMPRODUCT((Eingabe!$C$6:$C$400<=$AP5)*(Eingabe!$D$6:$D$400>$AP5)*(Eingabe!$B$6:$B$400=AS$3)*(Eingabe!$E$6:$E$400))","v":5},{"$f":"SUMPRODUCT((Eingabe!$C$6:$C$400<$AP5)*(Eingabe!$D$6:$D$400>=$AP5)*(Eingabe!$B$6:$B$400=AS$3)*(Eingabe!$E$6:$E$400))","v":5},null,null,null,null,"2025-06-02",{"$f":"IFERROR(IF(MONTH(AZ4+1)=MONTH(AZ$4),AZ4+1,\"\"),\"\")","v":"2025-06-02"},{"$f":"SUMPRODUCT((Eingabe!$C$6:$C$400<=$AZ5)*(Eingabe!$D$6:$D$400>$AZ5)*(Eingabe!$B$6:$B$400=BA$3)*(Eingabe!$E$6:$E$400))","v":0},{"$f":"SUMPRODUCT((Eingabe!$C$6:$C$400<$AZ5)*(Eingabe!$D$6:$D$400>=$AZ5)*(Eingabe!$B$6:$B$400=BA$3)*(Eingabe!$E$6:$E$400))","v":0},{"$f":"SUMPRODUCT((Eingabe!$C$6:$C$400<=$AZ5)*(Eingabe!$D$6:$D$400>$AZ5)*(Eingabe!$B$6:$B$400=BC$3)*(Eingabe!$E$6:$E$400))","v":0},{"$f":"SUMPRODUCT((Eingabe!$C$6:$C$400<$AZ5)*(Eingabe!$D$6:$D$400>=$AZ5)*(Eingabe!$B$6:$B$400=BC$3)*(Eingabe!$E$6:$E$400))","v":0},{"$f":"SUMPRODUCT((Eingabe!$C$6:$C$400<=$AZ5)*(Eingabe!$D$6:$D$400>$AZ5)*(Eingabe!$B$6:$B$400=BE$3)*(Eingabe!$E$6:$E$400))","v":0},{"$f":"SUMPRODUCT((Eingabe!$C$6:$C$400<$AZ5)*(Eingabe!$D$6:$D$400>=$AZ5)*(Eingabe!$B$6:$B$400=BE$3)*(Eingabe!$E$6:$E$400))","v":0},{"$f":"SUMPRODUCT((Eingabe!$C$6:$C$400<=$AZ5)*(Eingabe!$D$6:$D$400>$AZ5)*(Eingabe!$B$6:$B$400=BG$3)*(Eingabe!$E$6:$E$400))","v":0},{"$f":"SUMPRODUCT((Eingabe!$C$6:$C$400<$AZ5)*(Eingabe!$D$6:$D$400>=$AZ5)*(Eingabe!$B$6:$B$400=BG$3)*(Eingabe!$E$6:$E$400))","v":0},"2025-07-02",{"$f":"IFERROR(IF(MONTH(BJ4+1)=MONTH(BJ$4),BJ4+1,\"\"),\"\")","v":"2025-07-02"},{"$f":"SUMPRODUCT((Eingabe!$C$6:$C$400<=$BJ5)*(Eingabe!$D$6:$D$400>$BJ5)*(Eingabe!$B$6:$B$400=BK$3)*(Eingabe!$E$6:$E$400))","v":0},{"$f":"SUMPRODUCT((Eingabe!$C$6:$C$400<$BJ5)*(Eingabe!$D$6:$D$400>=$BJ5)*(Eingabe!$B$6:$B$400=BK$3)*(Eingabe!$E$6:$E$400))","v":0},{"$f":"SUMPRODUCT((Eingabe!$C$6:$C$400<=$BJ5)*(Eingabe!$D$6:$D$400>$BJ5)*(Eingabe!$B$6:$B$400=BM$3)*(Eingabe!$E$6:$E$400))","v":0},{"$f":"SUMPRODUCT((Eingabe!$C$6:$C$400<$BJ5)*(Eingabe!$D$6:$D$400>=$BJ5)*(Eingabe!$B$6:$B$400=BM$3)*(Eingabe!$E$6:$E$400))","v":0},{"$f":"SUMPRODUCT((Eingabe!$C$6:$C$400<=$BJ5)*(Eingabe!$D$6:$D$400>$BJ5)*(Eingabe!$B$6:$B$400=BO$3)*(Eingabe!$E$6:$E$400))","v":0},{"$f":"SUMPRODUCT((Eingabe!$C$6:$C$400<$BJ5)*(Eingabe!$D$6:$D$400>=$BJ5)*(Eingabe!$B$6:$B$400=BO$3)*(Eingabe!$E$6:$E$400))","v":0},{"$f":"SUMPRODUCT((Eingabe!$C$6:$C$400<=$BJ5)*(Eingabe!$D$6:$D$400>$BJ5)*(Eingabe!$B$6:$B$400=BQ$3)*(Eingabe!$E$6:$E$400))","v":0},{"$f":"SUMPRODUCT((Eingabe!$C$6:$C$400<$BJ5)*(Eingabe!$D$6:$D$400>=$BJ5)*(Eingabe!$B$6:$B$400=BQ$3)*(Eingabe!$E$6:$E$400))","v":0},"2025-08-02",{"$f":"IFERROR(IF(MONTH(BT4+1)=MONTH(BT$4),BT4+1,\"\"),\"\")","v":"2025-08-02"},{"$f":"SUMPRODUCT((Eingabe!$C$6:$C$400<=$BT5)*(Eingabe!$D$6:$D$400>$BT5)*(Eingabe!$B$6:$B$400=BU$3)*(Eingabe!$E$6:$E$400))","v":0},{"$f":"SUMPRODUCT((Eingabe!$C$6:$C$400<$BT5)*(Eingabe!$D$6:$D$400>=$BT5)*(Eingabe!$B$6:$B$400=BU$3)*(Eingabe!$E$6:$E$400))","v":6},{"$f":"SUMPRODUCT((Eingabe!$C$6:$C$400<=$BT5)*(Eingabe!$D$6:$D$400>$BT5)*(Eingabe!$B$6:$B$400=BW$3)*(Eingabe!$E$6:$E$400))","v":0},{"$f":"SUMPRODUCT((Eingabe!$C$6:$C$400<$BT5)*(Eingabe!$D$6:$D$400>=$BT5)*(Eingabe!$B$6:$B$400=BW$3)*(Eingabe!$E$6:$E$400))","v":0},{"$f":"SUMPRODUCT((Eingabe!$C$6:$C$400<=$BT5)*(Eingabe!$D$6:$D$400>$BT5)*(Eingabe!$B$6:$B$400=BY$3)*(Eingabe!$E$6:$E$400))","v":0},{"$f":"SUMPRODUCT((Eingabe!$C$6:$C$400<$BT5)*(Eingabe!$D$6:$D$400>=$BT5)*(Eingabe!$B$6:$B$400=BY$3)*(Eingabe!$E$6:$E$400))","v":0},{"$f":"SUMPRODUCT((Eingabe!$C$6:$C$400<=$BT5)*(Eingabe!$D$6:$D$400>$BT5)*(Eingabe!$B$6:$B$400=CA$3)*(Eingabe!$E$6:$E$400))","v":0},{"$f":"SUMPRODUCT((Eingabe!$C$6:$C$400<$BT5)*(Eingabe!$D$6:$D$400>=$BT5)*(Eingabe!$B$6:$B$400=CA$3)*(Eingabe!$E$6:$E$400))","v":0},"2025-09-02",{"$f":"IFERROR(IF(MONTH(CD4+1)=MONTH(CD$4),CD4+1,\"\"),\"\")","v":"2025-09-02"},{"$f":"SUMPRODUCT((Eingabe!$C$6:$C$400<=$CD5)*(Eingabe!$D$6:$D$400>$CD5)*(Eingabe!$B$6:$B$400=CE$3)*(Eingabe!$E$6:$E$400))","v":0},{"$f":"SUMPRODUCT((Eingabe!$C$6:$C$400<$CD5)*(Eingabe!$D$6:$D$400>=$CD5)*(Eingabe!$B$6:$B$400=CE$3)*(Eingabe!$E$6:$E$400))","v":0},{"$f":"SUMPRODUCT((Eingabe!$C$6:$C$400<=$CD5)*(Eingabe!$D$6:$D$400>$CD5)*(Eingabe!$B$6:$B$400=CG$3)*(Eingabe!$E$6:$E$400))","v":0},{"$f":"SUMPRODUCT((Eingabe!$C$6:$C$400<$CD5)*(Eingabe!$D$6:$D$400>=$CD5)*(Eingabe!$B$6:$B$400=CG$3)*(Eingabe!$E$6:$E$400))","v":0},{"$f":"SUMPRODUCT((Eingabe!$C$6:$C$400<=$CD5)*(Eingabe!$D$6:$D$400>$CD5)*(Eingabe!$B$6:$B$400=CI$3)*(Eingabe!$E$6:$E$400))","v":0},{"$f":"SUMPRODUCT((Eingabe!$C$6:$C$400<$CD5)*(Eingabe!$D$6:$D$400>=$CD5)*(Eingabe!$B$6:$B$400=CI$3)*(Eingabe!$E$6:$E$400))","v":0},{"$f":"SUMPRODUCT((Eingabe!$C$6:$C$400<=$CD5)*(Eingabe!$D$6:$D$400>$CD5)*(Eingabe!$B$6:$B$400=CK$3)*(Eingabe!$E$6:$E$400))","v":0},{"$f":"SUMPRODUCT((Eingabe!$C$6:$C$400<$CD5)*(Eingabe!$D$6:$D$400>=$CD5)*(Eingabe!$B$6:$B$400=CK$3)*(Eingabe!$E$6:$E$400))","v":0},"2025-10-02",{"$f":"IFERROR(IF(MONTH(CN4+1)=MONTH(CN$4),CN4+1,\"\"),\"\")","v":"2025-10-02"},{"$f":"SUMPRODUCT((Eingabe!$C$6:$C$400<=$CN5)*(Eingabe!$D$6:$D$400>$CN5)*(Eingabe!$B$6:$B$400=CO$3)*(Eingabe!$E$6:$E$400))","v":7},{"$f":"SUMPRODUCT((Eingabe!$C$6:$C$400<$CN5)*(Eingabe!$D$6:$D$400>=$CN5)*(Eingabe!$B$6:$B$400=CO$3)*(Eingabe!$E$6:$E$400))","v":7},{"$f":"SUMPRODUCT((Eingabe!$C$6:$C$400<=$CN5)*(Eingabe!$D$6:$D$400>$CN5)*(Eingabe!$B$6:$B$400=CQ$3)*(Eingabe!$E$6:$E$400))","v":0},{"$f":"SUMPRODUCT((Eingabe!$C$6:$C$400<$CN5)*(Eingabe!$D$6:$D$400>=$CN5)*(Eingabe!$B$6:$B$400=CQ$3)*(Eingabe!$E$6:$E$400))","v":0},{"$f":"SUMPRODUCT((Eingabe!$C$6:$C$400<=$CN5)*(Eingabe!$D$6:$D$400>$CN5)*(Eingabe!$B$6:$B$400=CS$3)*(Eingabe!$E$6:$E$400))","v":0},{"$f":"SUMPRODUCT((Eingabe!$C$6:$C$400<$CN5)*(Eingabe!$D$6:$D$400>=$CN5)*(Eingabe!$B$6:$B$400=CS$3)*(Eingabe!$E$6:$E$400))","v":0},{"$f":"SUMPRODUCT((Eingabe!$C$6:$C$400<=$CN5)*(Eingabe!$D$6:$D$400>$CN5)*(Eingabe!$B$6:$B$400=CU$3)*(Eingabe!$E$6:$E$400))","v":0},{"$f":"SUMPRODUCT((Eingabe!$C$6:$C$400<$CN5)*(Eingabe!$D$6:$D$400>=$CN5)*(Eingabe!$B$6:$B$400=CU$3)*(Eingabe!$E$6:$E$400))","v":0},"2025-11-02",{"$f":"IFERROR(IF(MONTH(CX4+1)=MONTH(CX$4),CX4+1,\"\"),\"\")","v":"2025-11-02"},{"$f":"SUMPRODUCT((Eingabe!$C$6:$C$400<=$CX5)*(Eingabe!$D$6:$D$400>$CX5)*(Eingabe!$B$6:$B$400=CY$3)*(Eingabe!$E$6:$E$400))","v":7},{"$f":"SUMPRODUCT((Eingabe!$C$6:$C$400<$CX5)*(Eingabe!$D$6:$D$400>=$CX5)*(Eingabe!$B$6:$B$400=CY$3)*(Eingabe!$E$6:$E$400))","v":7},{"$f":"SUMPRODUCT((Eingabe!$C$6:$C$400<=$CX5)*(Eingabe!$D$6:$D$400>$CX5)*(Eingabe!$B$6:$B$400=DA$3)*(Eingabe!$E$6:$E$400))","v":0},{"$f":"SUMPRODUCT((Eingabe!$C$6:$C$400<$CX5)*(Eingabe!$D$6:$D$400>=$CX5)*(Eingabe!$B$6:$B$400=DA$3)*(Eingabe!$E$6:$E$400))","v":0},{"$f":"SUMPRODUCT((Eingabe!$C$6:$C$400<=$CX5)*(Eingabe!$D$6:$D$400>$CX5)*(Eingabe!$B$6:$B$400=DC$3)*(Eingabe!$E$6:$E$400))","v":0},{"$f":"SUMPRODUCT((Eingabe!$C$6:$C$400<$CX5)*(Eingabe!$D$6:$D$400>=$CX5)*(Eingabe!$B$6:$B$400=DC$3)*(Eingabe!$E$6:$E$400))","v":0},{"$f":"SUMPRODUCT((Eingabe!$C$6:$C$400<=$CX5)*(Eingabe!$D$6:$D$400>$CX5)*(Eingabe!$B$6:$B$400=DE$3)*(Eingabe!$E$6:$E$400))","v":0},{"$f":"SUMPRODUCT((Eingabe!$C$6:$C$400<$CX5)*(Eingabe!$D$6:$D$400>=$CX5)*(Eingabe!$B$6:$B$400=DE$3)*(Eingabe!$E$6:$E$400))","v":0},"2025-12-02",{"$f":"IFERROR(IF(MONTH(DH4+1)=MONTH(DH$4),DH4+1,\"\"),\"\")","v":"2025-12-02"},{"$f":"SUMPRODUCT((Eingabe!$C$6:$C$400<=$DH5)*(Eingabe!$D$6:$D$400>$DH5)*(Eingabe!$B$6:$B$400=DI$3)*(Eingabe!$E$6:$E$400))","v":7},{"$f":"SUMPRODUCT((Eingabe!$C$6:$C$400<$DH5)*(Eingabe!$D$6:$D$400>=$DH5)*(Eingabe!$B$6:$B$400=DI$3)*(Eingabe!$E$6:$E$400))","v":7},{"$f":"SUMPRODUCT((Eingabe!$C$6:$C$400<=$DH5)*(Eingabe!$D$6:$D$400>$DH5)*(Eingabe!$B$6:$B$400=DK$3)*(Eingabe!$E$6:$E$400))","v":0},{"$f":"SUMPRODUCT((Eingabe!$C$6:$C$400<$DH5)*(Eingabe!$D$6:$D$400>=$DH5)*(Eingabe!$B$6:$B$400=DK$3)*(Eingabe!$E$6:$E$400))","v":0},{"$f":"SUMPRODUCT((Eingabe!$C$6:$C$400<=$DH5)*(Eingabe!$D$6:$D$400>$DH5)*(Eingabe!$B$6:$B$400=DM$3)*(Eingabe!$E$6:$E$400))","v":0},{"$f":"SUMPRODUCT((Eingabe!$C$6:$C$400<$DH5)*(Eingabe!$D$6:$D$400>=$DH5)*(Eingabe!$B$6:$B$400=DM$3)*(Eingabe!$E$6:$E$400))","v":0},{"$f":"SUMPRODUCT((Eingabe!$C$6:$C$400<=$DH5)*(Eingabe!$D$6:$D$400>$DH5)*(Eingabe!$B$6:$B$400=DO$3)*(Eingabe!$E$6:$E$400))","v":0},{"$f":"SUMPRODUCT((Eingabe!$C$6:$C$400<$DH5)*(Eingabe!$D$6:$D$400>=$DH5)*(Eingabe!$B$6:$B$400=DO$3)*(Eingabe!$E$6:$E$400))","v":0},"2026-01-02",{"$f":"IFERROR(IF(MONTH(DR4+1)=MONTH(DR$4),DR4+1,\"\"),\"\")","v":"2026-01-02"},{"$f":"SUMPRODUCT((Eingabe!$C$6:$C$400<=$B5)*(Eingabe!$D$6:$D$400>$B5)*(Eingabe!$B$6:$B$400=DS$3)*(Eingabe!$E$6:$E$400))","v":0},{"$f":"SUMPRODUCT((Eingabe!$C$6:$C$400<$B5)*(Eingabe!$D$6:$D$400>=$B5)*(Eingabe!$B$6:$B$400=DS$3)*(Eingabe!$E$6:$E$400))","v":0},{"$f":"SUMPRODUCT((Eingabe!$C$6:$C$400<=$B5)*(Eingabe!$D$6:$D$400>$B5)*(Eingabe!$B$6:$B$400=DU$3)*(Eingabe!$E$6:$E$400))","v":0},{"$f":"SUMPRODUCT((Eingabe!$C$6:$C$400<$B5)*(Eingabe!$D$6:$D$400>=$B5)*(Eingabe!$B$6:$B$400=DU$3)*(Eingabe!$E$6:$E$400))","v":0},{"$f":"SUMPRODUCT((Eingabe!$C$6:$C$400<=$B5)*(Eingabe!$D$6:$D$400>$B5)*(Eingabe!$B$6:$B$400=DW$3)*(Eingabe!$E$6:$E$400))","v":0},{"$f":"SUMPRODUCT((Eingabe!$C$6:$C$400<$B5)*(Eingabe!$D$6:$D$400>=$B5)*(Eingabe!$B$6:$B$400=DW$3)*(Eingabe!$E$6:$E$400))","v":0},{"$f":"SUMPRODUCT((Eingabe!$C$6:$C$400<=$B5)*(Eingabe!$D$6:$D$400>$B5)*(Eingabe!$B$6:$B$400=DY$3)*(Eingabe!$E$6:$E$400))","v":0},{"$f":"SUMPRODUCT((Eingabe!$C$6:$C$400<$B5)*(Eingabe!$D$6:$D$400>=$B5)*(Eingabe!$B$6:$B$400=DY$3)*(Eingabe!$E$6:$E$400))","v":0},"2026-02-02",{"$f":"IFERROR(IF(MONTH(EB4+1)=MONTH(EB$4),EB4+1,\"\"),\"\")","v":"2026-02-02"},{"$f":"SUMPRODUCT((Eingabe!$C$6:$C$400<=$L5)*(Eingabe!$D$6:$D$400>$L5)*(Eingabe!$B$6:$B$400=EC$3)*(Eingabe!$E$6:$E$400))","v":0},{"$f":"SUMPRODUCT((Eingabe!$C$6:$C$400<$L5)*(Eingabe!$D$6:$D$400>=$L5)*(Eingabe!$B$6:$B$400=EC$3)*(Eingabe!$E$6:$E$400))","v":0},{"$f":"SUMPRODUCT((Eingabe!$C$6:$C$400<=$L5)*(Eingabe!$D$6:$D$400>$L5)*(Eingabe!$B$6:$B$400=EE$3)*(Eingabe!$E$6:$E$400))","v":6},{"$f":"SUMPRODUCT((Eingabe!$C$6:$C$400<$L5)*(Eingabe!$D$6:$D$400>=$L5)*(Eingabe!$B$6:$B$400=EE$3)*(Eingabe!$E$6:$E$400))","v":6},{"$f":"SUMPRODUCT((Eingabe!$C$6:$C$400<=$L5)*(Eingabe!$D$6:$D$400>$L5)*(Eingabe!$B$6:$B$400=EG$3)*(Eingabe!$E$6:$E$400))","v":0},{"$f":"SUMPRODUCT((Eingabe!$C$6:$C$400<$L5)*(Eingabe!$D$6:$D$400>=$L5)*(Eingabe!$B$6:$B$400=EG$3)*(Eingabe!$E$6:$E$400))","v":0},{"$f":"SUMPRODUCT((Eingabe!$C$6:$C$400<=$L5)*(Eingabe!$D$6:$D$400>$L5)*(Eingabe!$B$6:$B$400=EI$3)*(Eingabe!$E$6:$E$400))","v":0},{"$f":"SUMPRODUCT((Eingabe!$C$6:$C$400<$L5)*(Eingabe!$D$6:$D$400>=$L5)*(Eingabe!$B$6:$B$400=EI$3)*(Eingabe!$E$6:$E$400))","v":0},"2026-03-02",{"$f":"IFERROR(IF(MONTH(EL4+1)=MONTH(EL$4),EL4+1,\"\"),\"\")","v":"2026-03-02"},{"$f":"SUMPRODUCT((Eingabe!$C$6:$C$400<=$V5)*(Eingabe!$D$6:$D$400>$V5)*(Eingabe!$B$6:$B$400=EM$3)*(Eingabe!$E$6:$E$400))","v":0},{"$f":"SUMPRODUCT((Eingabe!$C$6:$C$400<$V5)*(Eingabe!$D$6:$D$400>=$V5)*(Eingabe!$B$6:$B$400=EM$3)*(Eingabe!$E$6:$E$400))","v":0},{"$f":"SUMPRODUCT((Eingabe!$C$6:$C$400<=$V5)*(Eingabe!$D$6:$D$400>$V5)*(Eingabe!$B$6:$B$400=EO$3)*(Eingabe!$E$6:$E$400))","v":0},{"$f":"SUMPRODUCT((Eingabe!$C$6:$C$400<$V5)*(Eingabe!$D$6:$D$400>=$V5)*(Eingabe!$B$6:$B$400=EO$3)*(Eingabe!$E$6:$E$400))","v":0},{"$f":"SUMPRODUCT((Eingabe!$C$6:$C$400<=$V5)*(Eingabe!$D$6:$D$400>$V5)*(Eingabe!$B$6:$B$400=EQ$3)*(Eingabe!$E$6:$E$400))","v":0},{"$f":"SUMPRODUCT((Eingabe!$C$6:$C$400<$V5)*(Eingabe!$D$6:$D$400>=$V5)*(Eingabe!$B$6:$B$400=EQ$3)*(Eingabe!$E$6:$E$400))","v":0},{"$f":"SUMPRODUCT((Eingabe!$C$6:$C$400<=$V5)*(Eingabe!$D$6:$D$400>$V5)*(Eingabe!$B$6:$B$400=ES$3)*(Eingabe!$E$6:$E$400))","v":0},{"$f":"SUMPRODUCT((Eingabe!$C$6:$C$400<$V5)*(Eingabe!$D$6:$D$400>=$V5)*(Eingabe!$B$6:$B$400=ES$3)*(Eingabe!$E$6:$E$400))","v":0},"2026-04-02",{"$f":"IFERROR(IF(MONTH(EV4+1)=MONTH(EV$4),EV4+1,\"\"),\"\")","v":"2026-04-02"},{"$f":"SUMPRODUCT((Eingabe!$C$6:$C$400<=$AF5)*(Eingabe!$D$6:$D$400>$AF5)*(Eingabe!$B$6:$B$400=EW$3)*(Eingabe!$E$6:$E$400))","v":0},{"$f":"SUMPRODUCT((Eingabe!$C$6:$C$400<$AF5)*(Eingabe!$D$6:$D$400>=$AF5)*(Eingabe!$B$6:$B$400=EW$3)*(Eingabe!$E$6:$E$400))","v":0},{"$f":"SUMPRODUCT((Eingabe!$C$6:$C$400<=$AF5)*(Eingabe!$D$6:$D$400>$AF5)*(Eingabe!$B$6:$B$400=EY$3)*(Eingabe!$E$6:$E$400))","v":0},{"$f":"SUMPRODUCT((Eingabe!$C$6:$C$400<$AF5)*(Eingabe!$D$6:$D$400>=$AF5)*(Eingabe!$B$6:$B$400=EY$3)*(Eingabe!$E$6:$E$400))","v":0},{"$f":"SUMPRODUCT((Eingabe!$C$6:$C$400<=$AF5)*(Eingabe!$D$6:$D$400>$AF5)*(Eingabe!$B$6:$B$400=FA$3)*(Eingabe!$E$6:$E$400))","v":0},{"$f":"SUMPRODUCT((Eingabe!$C$6:$C$400<$AF5)*(Eingabe!$D$6:$D$400>=$AF5)*(Eingabe!$B$6:$B$400=FA$3)*(Eingabe!$E$6:$E$400))","v":0},{"$f":"SUMPRODUCT((Eingabe!$C$6:$C$400<=$AF5)*(Eingabe!$D$6:$D$400>$AF5)*(Eingabe!$B$6:$B$400=FC$3)*(Eingabe!$E$6:$E$400))","v":0},{"$f":"SUMPRODUCT((Eingabe!$C$6:$C$400<$AF5)*(Eingabe!$D$6:$D$400>=$AF5)*(Eingabe!$B$6:$B$400=FC$3)*(Eingabe!$E$6:$E$400))","v":0},"2026-05-02",{"$f":"IFERROR(IF(MONTH(FF4+1)=MONTH(FF$4),FF4+1,\"\"),\"\")","v":"2026-05-02"},{"$f":"SUMPRODUCT((Eingabe!$C$6:$C$400<=$AP5)*(Eingabe!$D$6:$D$400>$AP5)*(Eingabe!$B$6:$B$400=FG$3)*(Eingabe!$E$6:$E$400))","v":5},{"$f":"SUMPRODUCT((Eingabe!$C$6:$C$400<$AP5)*(Eingabe!$D$6:$D$400>=$AP5)*(Eingabe!$B$6:$B$400=FG$3)*(Eingabe!$E$6:$E$400))","v":5},{"$f":"SUMPRODUCT((Eingabe!$C$6:$C$400<=$AP5)*(Eingabe!$D$6:$D$400>$AP5)*(Eingabe!$B$6:$B$400=FI$3)*(Eingabe!$E$6:$E$400))","v":5},{"$f":"SUMPRODUCT((Eingabe!$C$6:$C$400<$AP5)*(Eingabe!$D$6:$D$400>=$AP5)*(Eingabe!$B$6:$B$400=FI$3)*(Eingabe!$E$6:$E$400))","v":5},null,null,null,null,"2026-06-02",{"$f":"IFERROR(IF(MONTH(FP4+1)=MONTH(FP$4),FP4+1,\"\"),\"\")","v":"2026-06-02"},{"$f":"SUMPRODUCT((Eingabe!$C$6:$C$400<=$AZ5)*(Eingabe!$D$6:$D$400>$AZ5)*(Eingabe!$B$6:$B$400=FQ$3)*(Eingabe!$E$6:$E$400))","v":0},{"$f":"SUMPRODUCT((Eingabe!$C$6:$C$400<$AZ5)*(Eingabe!$D$6:$D$400>=$AZ5)*(Eingabe!$B$6:$B$400=FQ$3)*(Eingabe!$E$6:$E$400))","v":0},{"$f":"SUMPRODUCT((Eingabe!$C$6:$C$400<=$AZ5)*(Eingabe!$D$6:$D$400>$AZ5)*(Eingabe!$B$6:$B$400=FS$3)*(Eingabe!$E$6:$E$400))","v":0},{"$f":"SUMPRODUCT((Eingabe!$C$6:$C$400<$AZ5)*(Eingabe!$D$6:$D$400>=$AZ5)*(Eingabe!$B$6:$B$400=FS$3)*(Eingabe!$E$6:$E$400))","v":0},{"$f":"SUMPRODUCT((Eingabe!$C$6:$C$400<=$AZ5)*(Eingabe!$D$6:$D$400>$AZ5)*(Eingabe!$B$6:$B$400=FU$3)*(Eingabe!$E$6:$E$400))","v":0},{"$f":"SUMPRODUCT((Eingabe!$C$6:$C$400<$AZ5)*(Eingabe!$D$6:$D$400>=$AZ5)*(Eingabe!$B$6:$B$400=FU$3)*(Eingabe!$E$6:$E$400))","v":0},{"$f":"SUMPRODUCT((Eingabe!$C$6:$C$400<=$AZ5)*(Eingabe!$D$6:$D$400>$AZ5)*(Eingabe!$B$6:$B$400=FW$3)*(Eingabe!$E$6:$E$400))","v":0},{"$f":"SUMPRODUCT((Eingabe!$C$6:$C$400<$AZ5)*(Eingabe!$D$6:$D$400>=$AZ5)*(Eingabe!$B$6:$B$400=FW$3)*(Eingabe!$E$6:$E$400))","v":0},"2026-07-02",{"$f":"IFERROR(IF(MONTH(FZ4+1)=MONTH(FZ$4),FZ4+1,\"\"),\"\")","v":"2026-07-02"},{"$f":"SUMPRODUCT((Eingabe!$C$6:$C$400<=$BJ5)*(Eingabe!$D$6:$D$400>$BJ5)*(Eingabe!$B$6:$B$400=GA$3)*(Eingabe!$E$6:$E$400))","v":0},{"$f":"SUMPRODUCT((Eingabe!$C$6:$C$400<$BJ5)*(Eingabe!$D$6:$D$400>=$BJ5)*(Eingabe!$B$6:$B$400=GA$3)*(Eingabe!$E$6:$E$400))","v":0},{"$f":"SUMPRODUCT((Eingabe!$C$6:$C$400<=$BJ5)*(Eingabe!$D$6:$D$400>$BJ5)*(Eingabe!$B$6:$B$400=GC$3)*(Eingabe!$E$6:$E$400))","v":0},{"$f":"SUMPRODUCT((Eingabe!$C$6:$C$400<$BJ5)*(Eingabe!$D$6:$D$400>=$BJ5)*(Eingabe!$B$6:$B$400=GC$3)*(Eingabe!$E$6:$E$400))","v":0},{"$f":"SUMPRODUCT((Eingabe!$C$6:$C$400<=$BJ5)*(Eingabe!$D$6:$D$400>$BJ5)*(Eingabe!$B$6:$B$400=GE$3)*(Eingabe!$E$6:$E$400))","v":0},{"$f":"SUMPRODUCT((Eingabe!$C$6:$C$400<$BJ5)*(Eingabe!$D$6:$D$400>=$BJ5)*(Eingabe!$B$6:$B$400=GE$3)*(Eingabe!$E$6:$E$400))","v":0},{"$f":"SUMPRODUCT((Eingabe!$C$6:$C$400<=$BJ5)*(Eingabe!$D$6:$D$400>$BJ5)*(Eingabe!$B$6:$B$400=GG$3)*(Eingabe!$E$6:$E$400))","v":0},{"$f":"SUMPRODUCT((Eingabe!$C$6:$C$400<$BJ5)*(Eingabe!$D$6:$D$400>=$BJ5)*(Eingabe!$B$6:$B$400=GG$3)*(Eingabe!$E$6:$E$400))","v":0},"2026-08-02",{"$f":"IFERROR(IF(MONTH(GJ4+1)=MONTH(GJ$4),GJ4+1,\"\"),\"\")","v":"2026-08-02"},{"$f":"SUMPRODUCT((Eingabe!$C$6:$C$400<=$BT5)*(Eingabe!$D$6:$D$400>$BT5)*(Eingabe!$B$6:$B$400=GK$3)*(Eingabe!$E$6:$E$400))","v":0},{"$f":"SUMPRODUCT((Eingabe!$C$6:$C$400<$BT5)*(Eingabe!$D$6:$D$400>=$BT5)*(Eingabe!$B$6:$B$400=GK$3)*(Eingabe!$E$6:$E$400))","v":6},{"$f":"SUMPRODUCT((Eingabe!$C$6:$C$400<=$BT5)*(Eingabe!$D$6:$D$400>$BT5)*(Eingabe!$B$6:$B$400=GM$3)*(Eingabe!$E$6:$E$400))","v":0},{"$f":"SUMPRODUCT((Eingabe!$C$6:$C$400<$BT5)*(Eingabe!$D$6:$D$400>=$BT5)*(Eingabe!$B$6:$B$400=GM$3)*(Eingabe!$E$6:$E$400))","v":0},{"$f":"SUMPRODUCT((Eingabe!$C$6:$C$400<=$BT5)*(Eingabe!$D$6:$D$400>$BT5)*(Eingabe!$B$6:$B$400=GO$3)*(Eingabe!$E$6:$E$400))","v":0},{"$f":"SUMPRODUCT((Eingabe!$C$6:$C$400<$BT5)*(Eingabe!$D$6:$D$400>=$BT5)*(Eingabe!$B$6:$B$400=GO$3)*(Eingabe!$E$6:$E$400))","v":0},{"$f":"SUMPRODUCT((Eingabe!$C$6:$C$400<=$BT5)*(Eingabe!$D$6:$D$400>$BT5)*(Eingabe!$B$6:$B$400=GQ$3)*(Eingabe!$E$6:$E$400))","v":0},{"$f":"SUMPRODUCT((Eingabe!$C$6:$C$400<$BT5)*(Eingabe!$D$6:$D$400>=$BT5)*(Eingabe!$B$6:$B$400=GQ$3)*(Eingabe!$E$6:$E$400))","v":0},"2026-09-02",{"$f":"IFERROR(IF(MONTH(GT4+1)=MONTH(GT$4),GT4+1,\"\"),\"\")","v":"2026-09-02"},{"$f":"SUMPRODUCT((Eingabe!$C$6:$C$400<=$CD5)*(Eingabe!$D$6:$D$400>$CD5)*(Eingabe!$B$6:$B$400=GU$3)*(Eingabe!$E$6:$E$400))","v":0},{"$f":"SUMPRODUCT((Eingabe!$C$6:$C$400<$CD5)*(Eingabe!$D$6:$D$400>=$CD5)*(Eingabe!$B$6:$B$400=GU$3)*(Eingabe!$E$6:$E$400))","v":0},{"$f":"SUMPRODUCT((Eingabe!$C$6:$C$400<=$CD5)*(Eingabe!$D$6:$D$400>$CD5)*(Eingabe!$B$6:$B$400=GW$3)*(Eingabe!$E$6:$E$400))","v":0},{"$f":"SUMPRODUCT((Eingabe!$C$6:$C$400<$CD5)*(Eingabe!$D$6:$D$400>=$CD5)*(Eingabe!$B$6:$B$400=GW$3)*(Eingabe!$E$6:$E$400))","v":0},{"$f":"SUMPRODUCT((Eingabe!$C$6:$C$400<=$CD5)*(Eingabe!$D$6:$D$400>$CD5)*(Eingabe!$B$6:$B$400=GY$3)*(Eingabe!$E$6:$E$400))","v":0},{"$f":"SUMPRODUCT((Eingabe!$C$6:$C$400<$CD5)*(Eingabe!$D$6:$D$400>=$CD5)*(Eingabe!$B$6:$B$400=GY$3)*(Eingabe!$E$6:$E$400))","v":0},{"$f":"SUMPRODUCT((Eingabe!$C$6:$C$400<=$CD5)*(Eingabe!$D$6:$D$400>$CD5)*(Eingabe!$B$6:$B$400=HA$3)*(Eingabe!$E$6:$E$400))","v":0},{"$f":"SUMPRODUCT((Eingabe!$C$6:$C$400<$CD5)*(Eingabe!$D$6:$D$400>=$CD5)*(Eingabe!$B$6:$B$400=HA$3)*(Eingabe!$E$6:$E$400))","v":0},"2026-10-02",{"$f":"IFERROR(IF(MONTH(HD4+1)=MONTH(HD$4),HD4+1,\"\"),\"\")","v":"2026-10-02"},{"$f":"SUMPRODUCT((Eingabe!$C$6:$C$400<=$CN5)*(Eingabe!$D$6:$D$400>$CN5)*(Eingabe!$B$6:$B$400=HE$3)*(Eingabe!$E$6:$E$400))","v":7},{"$f":"SUMPRODUCT((Eingabe!$C$6:$C$400<$CN5)*(Eingabe!$D$6:$D$400>=$CN5)*(Eingabe!$B$6:$B$400=HE$3)*(Eingabe!$E$6:$E$400))","v":7},{"$f":"SUMPRODUCT((Eingabe!$C$6:$C$400<=$CN5)*(Eingabe!$D$6:$D$400>$CN5)*(Eingabe!$B$6:$B$400=HG$3)*(Eingabe!$E$6:$E$400))","v":0},{"$f":"SUMPRODUCT((Eingabe!$C$6:$C$400<$CN5)*(Eingabe!$D$6:$D$400>=$CN5)*(Eingabe!$B$6:$B$400=HG$3)*(Eingabe!$E$6:$E$400))","v":0},{"$f":"SUMPRODUCT((Eingabe!$C$6:$C$400<=$CN5)*(Eingabe!$D$6:$D$400>$CN5)*(Eingabe!$B$6:$B$400=HI$3)*(Eingabe!$E$6:$E$400))","v":0},{"$f":"SUMPRODUCT((Eingabe!$C$6:$C$400<$CN5)*(Eingabe!$D$6:$D$400>=$CN5)*(Eingabe!$B$6:$B$400=HI$3)*(Eingabe!$E$6:$E$400))","v":0},{"$f":"SUMPRODUCT((Eingabe!$C$6:$C$400<=$CN5)*(Eingabe!$D$6:$D$400>$CN5)*(Eingabe!$B$6:$B$400=HK$3)*(Eingabe!$E$6:$E$400))","v":0},{"$f":"SUMPRODUCT((Eingabe!$C$6:$C$400<$CN5)*(Eingabe!$D$6:$D$400>=$CN5)*(Eingabe!$B$6:$B$400=HK$3)*(Eingabe!$E$6:$E$400))","v":0},"2026-11-02",{"$f":"IFERROR(IF(MONTH(HN4+1)=MONTH(HN$4),HN4+1,\"\"),\"\")","v":"2026-11-02"},{"$f":"SUMPRODUCT((Eingabe!$C$6:$C$400<=$CX5)*(Eingabe!$D$6:$D$400>$CX5)*(Eingabe!$B$6:$B$400=HO$3)*(Eingabe!$E$6:$E$400))","v":7},{"$f":"SUMPRODUCT((Eingabe!$C$6:$C$400<$CX5)*(Eingabe!$D$6:$D$400>=$CX5)*(Eingabe!$B$6:$B$400=HO$3)*(Eingabe!$E$6:$E$400))","v":7},{"$f":"SUMPRODUCT((Eingabe!$C$6:$C$400<=$CX5)*(Eingabe!$D$6:$D$400>$CX5)*(Eingabe!$B$6:$B$400=HQ$3)*(Eingabe!$E$6:$E$400))","v":0},{"$f":"SUMPRODUCT((Eingabe!$C$6:$C$400<$CX5)*(Eingabe!$D$6:$D$400>=$CX5)*(Eingabe!$B$6:$B$400=HQ$3)*(Eingabe!$E$6:$E$400))","v":0},{"$f":"SUMPRODUCT((Eingabe!$C$6:$C$400<=$CX5)*(Eingabe!$D$6:$D$400>$CX5)*(Eingabe!$B$6:$B$400=HS$3)*(Eingabe!$E$6:$E$400))","v":0},{"$f":"SUMPRODUCT((Eingabe!$C$6:$C$400<$CX5)*(Eingabe!$D$6:$D$400>=$CX5)*(Eingabe!$B$6:$B$400=HS$3)*(Eingabe!$E$6:$E$400))","v":0},{"$f":"SUMPRODUCT((Eingabe!$C$6:$C$400<=$CX5)*(Eingabe!$D$6:$D$400>$CX5)*(Eingabe!$B$6:$B$400=HU$3)*(Eingabe!$E$6:$E$400))","v":0},{"$f":"SUMPRODUCT((Eingabe!$C$6:$C$400<$CX5)*(Eingabe!$D$6:$D$400>=$CX5)*(Eingabe!$B$6:$B$400=HU$3)*(Eingabe!$E$6:$E$400))","v":0},"2026-12-02",{"$f":"IFERROR(IF(MONTH(HX4+1)=MONTH(HX$4),HX4+1,\"\"),\"\")","v":"2026-12-02"},{"$f":"SUMPRODUCT((Eingabe!$C$6:$C$400<=$DH5)*(Eingabe!$D$6:$D$400>$DH5)*(Eingabe!$B$6:$B$400=HY$3)*(Eingabe!$E$6:$E$400))","v":7},{"$f":"SUMPRODUCT((Eingabe!$C$6:$C$400<$DH5)*(Eingabe!$D$6:$D$400>=$DH5)*(Eingabe!$B$6:$B$400=HY$3)*(Eingabe!$E$6:$E$400))","v":7},{"$f":"SUMPRODUCT((Eingabe!$C$6:$C$400<=$DH5)*(Eingabe!$D$6:$D$400>$DH5)*(Eingabe!$B$6:$B$400=IA$3)*(Eingabe!$E$6:$E$400))","v":0},{"$f":"SUMPRODUCT((Eingabe!$C$6:$C$400<$DH5)*(Eingabe!$D$6:$D$400>=$DH5)*(Eingabe!$B$6:$B$400=IA$3)*(Eingabe!$E$6:$E$400))","v":0},{"$f":"SUMPRODUCT((Eingabe!$C$6:$C$400<=$DH5)*(Eingabe!$D$6:$D$400>$DH5)*(Eingabe!$B$6:$B$400=IC$3)*(Eingabe!$E$6:$E$400))","v":0},{"$f":"SUMPRODUCT((Eingabe!$C$6:$C$400<$DH5)*(Eingabe!$D$6:$D$400>=$DH5)*(Eingabe!$B$6:$B$400=IC$3)*(Eingabe!$E$6:$E$400))","v":0},{"$f":"SUMPRODUCT((Eingabe!$C$6:$C$400<=$DH5)*(Eingabe!$D$6:$D$400>$DH5)*(Eingabe!$B$6:$B$400=IE$3)*(Eingabe!$E$6:$E$400))","v":0},{"$f":"SUMPRODUCT((Eingabe!$C$6:$C$400<$DH5)*(Eingabe!$D$6:$D$400>=$DH5)*(Eingabe!$B$6:$B$400=IE$3)*(Eingabe!$E$6:$E$400))","v":0}]
["2025-01-03",{"$f":"IFERROR(IF(MONTH(B5+1)=MONTH(B$4),B5+1,\"\"),\"\")","v":"2025-01-03"},{"$f":"SUMPRODUCT((Eingabe!$C$6:$C$400<=$B6)*(Eingabe!$D$6:$D$400>$B6)*(Eingabe!$B$6:$B$400=C$3)*(Eingabe!$E$6:$E$400))","v":0},{"$f":"SUMPRODUCT((Eingabe!$C$6:$C$400<$B6)*(Eingabe!$D$6:$D$400>=$B6)*(Eingabe!$B$6:$B$400=C$3)*(Eingabe!$E$6:$E$400))","v":0},{"$f":"SUMPRODUCT((Eingabe!$C$6:$C$400<=$B6)*(Eingabe!$D$6:$D$400>$B6)*(Eingabe!$B$6:$B$400=E$3)*(Eingabe!$E$6:$E$400))","v":0},{"$f":"SUMPRODUCT((Eingabe!$C$6:$C$400<$B6)*(Eingabe!$D$6:$D$400>=$B6)*(Eingabe!$B$6:$B$400=E$3)*(Eingabe!$E$6:$E$400))","v":0},{"$f":"SUMPRODUCT((Eingabe!$C$6:$C$400<=$B6)*(Eingabe!$D$6:$D$400>$B6)*(Eingabe!$B$6:$B$400=G$3)*(Eingabe!$E$6:$E$400))","v":0},{"$f":"SUMPRODUCT((Eingabe!$C$6:$C$400<$B6)*(Eingabe!$D$6:$D$400>=$B6)*(Eingabe!$B$6:$B$400=G$3)*(Eingabe!$E$6:$E$400))","v":0},{"$f":"SUMPRODUCT((Eingabe!$C$6:$C$400<=$B6)*(Eingabe!$D$6:$D$400>$B6)*(Eingabe!$B$6:$B$400=I$3)*(Eingabe!$E$6:$E$400))","v":0},{"$f":"SUMPRODUCT((Eingabe!$C$6:$C$400<$B6)*(Eingabe!$D$6:$D$400>=$B6)*(Eingabe!$B$6:$B$400=I$3)*(Eingabe!$E$6:$E$400))","v":0},"2025-02-03","2025-02-03",{"$f":"SUMPRODUCT((Eingabe!$C$6:$C$400<=$L6)*(Eingabe!$D$6:$D$400>$L6)*(Eingabe!$B$6:$B$400=M$3)*(Eingabe!$E$6:$E$400))","v":0},{"$f":"SUMPRODUCT((Eingabe!$C$6:$C$400<$L6)*(Eingabe!$D$6:$D$400>=$L6)*(Eingabe!$B$6:$B$400=M$3)*(Eingabe!$E$6:$E$400))","v":0},{"$f":"SUMPRODUCT((Eingabe!$C$6:$C$400<=$L6)*(Eingabe!$D$6:$D$400>$L6)*(Eingabe!$B$6:$B$400=O$3)*(Eingabe!$E$6:$E$400))","v":6},{"$f":"SUMPRODUCT((Eingabe!$C$6:$C$400<$L6)*(Eingabe!$D$6:$D$400>=$L6)*(Eingabe!$B$6:$B$400=O$3)*(Eingabe!$E$6:$E$400))","v":6},{"$f":"SUMPRODUCT((Eingabe!$C$6:$C$400<=$L6)*(Eingabe!$D$6:$D$400>$L6)*(Eingabe!$B$6:$B$400=Q$3)*(Eingabe!$E$6:$E$400))","v":0},{"$f":"SUMPRODUCT((Eingabe!$C$6:$C$400<$L6)*(Eingabe!$D$6:$D$400>=$L6)*(Eingabe!$B$6:$B$400=Q$3)*(Eingabe!$E$6:$E$400))","v":0},{"$f":"SUMPRODUCT((Eingabe!$C$6:$C$400<=$L6)*(Eingabe!$D$6:$D$400>$L6)*(Eingabe!$B$6:$B$400=S$3)*(Eingabe!$E$6:$E$400))","v":0},{"$f":"SUMPRODUCT((Eingabe!$C$6:$C$400<$L6)*(Eingabe!$D$6:$D$400>=$L6)*(Eingabe!$B$6:$B$400=S$3)*(Eingabe!$E$6:$E$400))","v":0},"2025-03-03",{"$f":"IFERROR(IF(MONTH(V5+1)=MONTH(V$4),V5+1,\"\"),\"\")","v":"2025-03-03"},{"$f":"SUMPRODUCT((Eingabe!$C$6:$C$400<=$V6)*(Eingabe!$D$6:$D$400>$V6)*(Eingabe!$B$6:$B$400=W$3)*(Eingabe!$E$6:$E$400))","v":0},{"$f":"SUMPRODUCT((Eingabe!$C$6:$C$400<$V6)*(Eingabe!$D$6:$D$400>=$V6)*(Eingabe!$B$6:$B$400=W$3)*(Eingabe!$E$6:$E$400))","v":0},{"$f":"SUMPRODUCT((Eingabe!$C$6:$C$400<=$V6)*(Eingabe!$D$6:$D$400>$V6)*(Eingabe!$B$6:$B$400=Y$3)*(Eingabe!$E$6:$E$400))","v":0},{"$f":"SUMPRODUCT((Eingabe!$C$6:$C$400<$V6)*(Eingabe!$D$6:$D$400>=$V6)*(Eingabe!$B$6:$B$400=Y$3)*(Eingabe!$E$6:$E$400))","v":0},{"$f":"SUMPRODUCT((Eingabe!$C$6:$C$400<=$V6)*(Eingabe!$D$6:$D$400>$V6)*(Eingabe!$B$6:$B$400=AA$3)*(Eingabe!$E$6:$E$400))","v":0},{"$f":"SUMPRODUCT((Eingabe!$C$6:$C$400<$V6)*(Eingabe!$D$6:$D$400>=$V6)*(Eingabe!$B$6:$B$400=AA$3)*(Eingabe!$E$6:$E$400))","v":0},{"$f":"SUMPRODUCT((Eingabe!$C$6:$C$400<=$V6)*(Eingabe!$D$6:$D$400>$V6)*(Eingabe!$B$6:$B$400=AC$3)*(Eingabe!$E$6:$E$400))","v":0},{"$f":"SUMPRODUCT((Eingabe!$C$6:$C$400<$V6)*(Eingabe!$D$6:$D$400>=$V6)*(Eingabe!$B$6:$B$400=AC$3)*(Eingabe!$E$6:$E$400))","v":0},"2025-04-03","2025-04-03",{"$f":"SUMPRODUCT((Eingabe!$C$6:$C$400<=$AF6)*(Eingabe!$D$6:$D$400>$AF6)*(Eingabe!$B$6:$B$400=AG$3)*(Eingabe!$E$6:$E$400))","v":0},{"$f":"SUMPRODUCT((Eingabe!$C$6:$C$400<$AF6)*(Eingabe!$D$6:$D$400>=$AF6)*(Eingabe!$B$6:$B$400=AG$3)*(Eingabe!$E$6:$E$400))","v":0},{"$f":"SUMPRODUCT((Eingabe!$C$6:$C$400<=$AF6)*(Eingabe!$D$6:$D$400>$AF6)*(Eingabe!$B$6:$B$400=AI$3)*(Eingabe!$E$6:$E$400))","v":0},{"$f":"SUMPRODUCT((Eingabe!$C$6:$C$400<$AF6)*(Eingabe!$D$6:$D$400>=$AF6)*(Eingabe!$B$6:$B$400=AI$3)*(Eingabe!$E$6:$E$400))","v":0},{"$f":"SUMPRODUCT((Eingabe!$C$6:$C$400<=$AF6)*(Eingabe!$D$6:$D$400>$AF6)*(Eingabe!$B$6:$B$400=AK$3)*(Eingabe!$E$6:$E$400))","v":0},{"$f":"SUMPRODUCT((Eingabe!$C$6:$C$400<$AF6)*(Eingabe!$D$6:$D$400>=$AF6)*(Eingabe!$B$6:$B$400=AK$3)*(Eingabe!$E$6:$E$400))","v":0},{"$f":"SUMPRODUCT((Eingabe!$C$6:$C$400<=$AF6)*(Eingabe!$D$6:$D$400>$AF6)*(Eingabe!$B$6:$B$400=AM$3)*(Eingabe!$E$6:$E$400))","v":0},{"$f":"SUMPRODUCT((Eingabe!$C$6:$C$400<$AF6)*(Eingabe!$D$6:$D$400>=$AF6)*(Eingabe!$B$6:$B$400=AM$3)*(Eingabe!$E$6:$E$400))","v":0},"2025-05-03","2025-05-03",{"$f":"SUMPRODUCT((Eingabe!$C$6:$C$400<=$AP6)*(Eingabe!$D$6:$D$400>$AP6)*(Eingabe!$B$6:$B$400=AQ$3)*(Eingabe!$E$6:$E$400))","v":5},{"$f":"SUMPRODUCT((Eingabe!$C$6:$C$400<$AP6)*(Eingabe!$D$6:$D$400>=$AP6)*(Eingabe!$B$6:$B$400=AQ$3)*(Eingabe!$E$6:$E$400))","v":5},{"$f":"SUMPRODUCT((Eingabe!$C$6:$C$400<=$AP6)*(Eingabe!$D$6:$D$400>$AP6)*(Eingabe!$B$6:$B$400=AS$3)*(Eingabe!$E$6:$E$400))","v":5},{"$f":"SUMPRODUCT((Eingabe!$C$6:$C$400<$AP6)*(Eingabe!$D$6:$D$400>=$AP6)*(Eingabe!$B$6:$B$400=AS$3)*(Eingabe!$E$6:$E$400))","v":5},{"$f":"SUMPRODUCT((Eingabe!$C$6:$C$400<=$AP6)*(Eingabe!$D$6:$D$400>$AP6)*(Eingabe!$B$6:$B$400=AU$3)*(Eingabe!$E$6:$E$400))","v":0},{"$f":"SUMPRODUCT((Eingabe!$C$6:$C$400<$AP6)*(Eingabe!$D$6:$D$400>=$AP6)*(Eingabe!$B$6:$B$400=AU$3)*(Eingabe!$E$6:$E$400))","v":0},{"$f":"SUMPRODUCT((Eingabe!$C$6:$C$400<=$AP6)*(Eingabe!$D$6:$D$400>$AP6)*(Eingabe!$B$6:$B$400=AW$3)*(Eingabe!$E$6:$E$400))","v":5},{"$f":"SUMPRODUCT((Eingabe!$C$6:$C$400<$AP6)*(Eingabe!$D$6:$D$400>=$AP6)*(Eingabe!$B$6:$B$400=AW$3)*(Eingabe!$E$6:$E$400))","v":5},"2025-06-03","2025-06-03",{"$f":"SUMPRODUCT((Eingabe!$C$6:$C$400<=$AZ6)*(Eingabe!$D$6:$D$400>$AZ6)*(Eingabe!$B$6:$B$400=BA$3)*(Eingabe!$E$6:$E$400))","v":0},{"$f":"SUMPRODUCT((Eingabe!$C$6:$C$400<$AZ6)*(Eingabe!$D$6:$D$400>=$AZ6)*(Eingabe!$B$6:$B$400=BA$3)*(Eingabe!$E$6:$E$400))","v":0},{"$f":"SUMPRODUCT((Eingabe!$C$6:$C$400<=$AZ6)*(Eingabe!$D$6:$D$400>$AZ6)*(Eingabe!$B$6:$B$400=BC$3)*(Eingabe!$E$6:$E$400))","v":0},{"$f":"SUMPRODUCT((Eingabe!$C$6:$C$400<$AZ6)*(Eingabe!$D$6:$D$400>=$AZ6)*(Eingabe!$B$6:$B$400=BC$3)*(Eingabe!$E$6:$E$400))","v":0},{"$f":"SUMPRODUCT((Eingabe!$C$6:$C$400<=$AZ6)*(Eingabe!$D$6:$D$400>$AZ6)*(Eingabe!$B$6:$B$400=BE$3)*(Eingabe!$E$6:$E$400))","v":0},{"$f":"SUMPRODUCT((Eingabe!$C$6:$C$400<$AZ6)*(Eingabe!$D$6:$D$400>=$AZ6)*(Eingabe!$B$6:$B$400=BE$3)*(Eingabe!$E$6:$E$400))","v":0},{"$f":"SUMPRODUCT((Eingabe!$C$6:$C$400<=$AZ6)*(Eingabe!$D$6:$D$400>$AZ6)*(Eingabe!$B$6:$B$400=BG$3)*(Eingabe!$E$6:$E$400))","v":0},{"$f":"SUMPRODUCT((Eingabe!$C$6:$C$400<$AZ6)*(Eingabe!$D$6:$D$400>=$AZ6)*(Eingabe!$B$6:$B$400=BG$3)*(Eingabe!$E$6:$E$400))","v":0},"2025-07-03","2025-07-03",{"$f":"SUMPRODUCT((Eingabe!$C$6:$C$400<=$BJ6)*(Eingabe!$D$6:$D$400>$BJ6)*(Eingabe!$B$6:$B$400=BK$3)*(Eingabe!$E$6:$E$400))","v":0},{"$f":"SUMPRODUCT((Eingabe!$C$6:$C$400<$BJ6)*(Eingabe!$D$6:$D$400>=$BJ6)*(Eingabe!$B$6:$B$400=BK$3)*(Eingabe!$E$6:$E$400))","v":0},{"$f":"SUMPRODUCT((Eingabe!$C$6:$C$400<=$BJ6)*(Eingabe!$D$6:$D$400>$BJ6)*(Eingabe!$B$6:$B$400=BM$3)*(Eingabe!$E$6:$E$400))","v":0},{"$f":"SUMPRODUCT((Eingabe!$C$6:$C$400<$BJ6)*(Eingabe!$D$6:$D$400>=$BJ6)*(Eingabe!$B$6:$B$400=BM$3)*(Eingabe!$E$6:$E$400))","v":0},{"$f":"SUMPRODUCT((Eingabe!$C$6:$C$400<=$BJ6)*(Eingabe!$D$6:$D$400>$BJ6)*(Eingabe!$B$6:$B$400=BO$3)*(Eingabe!$E$6:$E$400))","v":0},{"$f":"SUMPRODUCT((Eingabe!$C$6:$C$400<$BJ6)*(Eingabe!$D$6:$D$400>=$BJ6)*(Eingabe!$B$6:$B$400=BO$3)*(Eingabe!$E$6:$E$400))","v":0},{"$f":"SUMPRODUCT((Eingabe!$C$6:$C$400<=$BJ6)*(Eingabe!$D$6:$D$400>$BJ6)*(Eingabe!$B$6:$B$400=BQ$3)*(Eingabe!$E$6:$E$400))","v":0},{"$f":"SUMPRODUCT((Eingabe!$C$6:$C$400<$BJ6)*(Eingabe!$D$6:$D$400>=$BJ6)*(Eingabe!$B$6:$B$400=BQ$3)*(Eingabe!$E$6:$E$400))","v":0},"2025-08-03","2025-08-03",{"$f":"SUMPRODUCT((Eingabe!$C$6:$C$400<=$BT6)*(Eingabe!$D$6:$D$400>$BT6)*(Eingabe!$B$6:$B$400=BU$3)*(Eingabe!$E$6:$E$400))","v":0},{"$f":"SUMPRODUCT((Eingabe!$C$6:$C$400<$BT6)*(Eingabe!$D$6:$D$400>=$BT6)*(Eingabe!$B$6:$B$400=BU$3)*(Eingabe!$E$6:$E$400))","v":0},{"$f":"SUMPRODUCT((Eingabe!$C$6:$C$400<=$BT6)*(Eingabe!$D$6:$D$400>$BT6)*(Eingabe!$B$6:$B$400=BW$3)*(Eingabe!$E$6:$E$400))","v":0},{"$f":"SUMPRODUCT((Eingabe!$C$6:$C$400<$BT6)*(Eingabe!$D$6:$D$400>=$BT6)*(Eingabe!$B$6:$B$400=BW$3)*(Eingabe!$E$6:$E$400))","v":0},{"$f":"SUMPRODUCT((Eingabe!$C$6:$C$400<=$BT6)*(Eingabe!$D$6:$D$400>$BT6)*(Eingabe!$B$6:$B$400=BY$3)*(Eingabe!$E$6:$E$400))","v":0},{"$f":"SUMPRODUCT((Eingabe!$C$6:$C$400<$BT6)*(Eingabe!$D$6:$D$400>=$BT6)*(Eingabe!$B$6:$B$400=BY$3)*(Eingabe!$E$6:$E$400))","v":0},{"$f":"SUMPRODUCT((Eingabe!$C$6:$C$400<=$BT6)*(Eingabe!$D$6:$D$400>$BT6)*(Eingabe!$B$6:$B$400=CA$3)*(Eingabe!$E$6:$E$400))","v":0},{"$f":"SUMPRODUCT((Eingabe!$C$6:$C$400<$BT6)*(Eingabe!$D$6:$D$400>=$BT6)*(Eingabe!$B$6:$B$400=CA$3)*(Eingabe!$E$6:$E$400))","v":0},"2025-09-03","2025-09-03",{"$f":"SUMPRODUCT((Eingabe!$C$6:$C$400<=$CD6)*(Eingabe!$D$6:$D$400>$CD6)*(Eingabe!$B$6:$B$400=CE$3)*(Eingabe!$E$6:$E$400))","v":0},{"$f":"SUMPRODUCT((Eingabe!$C$6:$C$400<$CD6)*(Eingabe!$D$6:$D$400>=$CD6)*(Eingabe!$B$6:$B$400=CE$3)*(Eingabe!$E$6:$E$400))","v":0},{"$f":"SUMPRODUCT((Eingabe!$C$6:$C$400<=$CD6)*(Eingabe!$D$6:$D$400>$CD6)*(Eingabe!$B$6:$B$400=CG$3)*(Eingabe!$E$6:$E$400))","v":0},{"$f":"SUMPRODUCT((Eingabe!$C$6:$C$400<$CD6)*(Eingabe!$D$6:$D$400>=$CD6)*(Eingabe!$B$6:$B$400=CG$3)*(Eingabe!$E$6:$E$400))","v":0},{"$f":"SUMPRODUCT((Eingabe!$C$6:$C$400<=$CD6)*(Eingabe!$D$6:$D$400>$CD6)*(Eingabe!$B$6:$B$400=CI$3)*(Eingabe!$E$6:$E$400))","v":0},{"$f":"SUMPRODUCT((Eingabe!$C$6:$C$400<$CD6)*(Eingabe!$D$6:$D$400>=$CD6)*(Eingabe!$B$6:$B$400=CI$3)*(Eingabe!$E$6:$E$400))","v":0},{"$f":"SUMPRODUCT((Eingabe!$C$6:$C$400<=$CD6)*(Eingabe!$D$6:$D$400>$CD6)*(Eingabe!$B$6:$B$400=CK$3)*(Eingabe!$E$6:$E$400))","v":0},{"$f":"SUMPRODUCT((Eingabe!$C$6:$C$400<$CD6)*(Eingabe!$D$6:$D$400>=$CD6)*(Eingabe!$B$6:$B$400=CK$3)*(Eingabe!$E$6:$E$400))","v":0},"2025-10-03","2025-10-03",{"$f":"SUMPRODUCT((Eingabe!$C$6:$C$400<=$CN6)*(Eingabe!$D$6:$D$400>$CN6)*(Eingabe!$B$6:$B$400=CO$3)*(Eingabe!$E$6:$E$400))","v":7},{"$f":"SUMPRODUCT((Eingabe!$C$6:$C$400<$CN6)*(Eingabe!$D$6:$D$400>=$CN6)*(Eingabe!$B$6:$B$400=CO$3)*(Eingabe!$E$6:$E$400))","v":7},{"$f":"SUMPRODUCT((Eingabe!$C$6:$C$400<=$CN6)*(Eingabe!$D$6:$D$400>$CN6)*(Eingabe!$B$6:$B$400=CQ$3)*(Eingabe!$E$6:$E$400))","v":0},{"$f":"SUMPRODUCT((Eingabe!$C$6:$C$400<$CN6)*(Eingabe!$D$6:$D$400>=$CN6)*(Eingabe!$B$6:$B$400=CQ$3)*(Eingabe!$E$6:$E$400))","v":0},{"$f":"SUMPRODUCT((Eingabe!$C$6:$C$400<=$CN6)*(Eingabe!$D$6:$D$400>$CN6)*(Eingabe!$B$6:$B$400=CS$3)*(Eingabe!$E$6:$E$400))","v":0},{"$f":"SUMPRODUCT((Eingabe!$C$6:$C$400<$CN6)*(Eingabe!$D$6:$D$400>=$CN6)*(Eingabe!$B$6:$B$400=CS$3)*(Eingabe!$E$6:$E$400))","v":0},{"$f":"SUMPRODUCT((Eingabe!$C$6:$C$400<=$CN6)*(Eingabe!$D$6:$D$400>$CN6)*(Eingabe!$B$6:$B$400=CU$3)*(Eingabe!$E$6:$E$400))","v":0},{"$f":"SUMPRODUCT((Eingabe!$C$6:$C$400<$CN6)*(Eingabe!$D$6:$D$400>=$CN6)*(Eingabe!$B$6:$B$400=CU$3)*(Eingabe!$E$6:$E$400))","v":0},"2025-11-03","2025-11-03",{"$f":"SUMPRODUCT((Eingabe!$C$6:$C$400<=$CX6)*(Eingabe!$D$6:$D$400>$CX6)*(Eingabe!$B$6:$B$400=CY$3)*(Eingabe!$E$6:$E$400))","v":7},{"$f":"SUMPRODUCT((Eingabe!$C$6:$C$400<$CX6)*(Eingabe!$D$6:$D$400>=$CX6)*(Eingabe!$B$6:$B$400=CY$3)*(Eingabe!$E$6:$E$400))","v":7},{"$f":"SUMPRODUCT((Eingabe!$C$6:$C$400<=$CX6)*(Eingabe!$D$6:$D$400>$CX6)*(Eingabe!$B$6:$B$400=DA$3)*(Eingabe!$E$6:$E$400))","v":0},{"$f":"SUMPRODUCT((Eingabe!$C$6:$C$400<$CX6)*(Eingabe!$D$6:$D$400>=$CX6)*(Eingabe!$B$6:$B$400=DA$3)*(Eingabe!$E$6:$E$400))","v":0},{"$f":"SUMPRODUCT((Eingabe!$C$6:$C$400<=$CX6)*(Eingabe!$D$6:$D$400>$CX6)*(Eingabe!$B$6:$B$400=DC$3)*(Eingabe!$E$6:$E$400))","v":0},{"$f":"SUMPRODUCT((Eingabe!$C$6:$C$400<$CX6)*(Eingabe!$D$6:$D$400>=$CX6)*(Eingabe!$B$6:$B$400=DC$3)*(Eingabe!$E$6:$E$400))","v":0},{"$f":"SUMPRODUCT((Eingabe!$C$6:$C$400<=$CX6)*(Eingabe!$D$6:$D$400>$CX6)*(Eingabe!$B$6:$B$400=DE$3)*(Eingabe!$E$6:$E$400))","v":0},{"$f":"SUMPRODUCT((Eingabe!$C$6:$C$400<$CX6)*(Eingabe!$D$6:$D$400>=$CX6)*(Eingabe!$B$6:$B$400=DE$3)*(Eingabe!$E$6:$E$400))","v":0},"2025-12-03","2025-12-03",{"$f":"SUMPRODUCT((Eingabe!$C$6:$C$400<=$DH6)*(Eingabe!$D$6:$D$400>$DH6)*(Eingabe!$B$6:$B$400=DI$3)*(Eingabe!$E$6:$E$400))","v":7},{"$f":"SUMPRODUCT((Eingabe!$C$6:$C$400<$DH6)*(Eingabe!$D$6:$D$400>=$DH6)*(Eingabe!$B$6:$B$400=DI$3)*(Eingabe!$E$6:$E$400))","v":7},{"$f":"SUMPRODUCT((Eingabe!$C$6:$C$400<=$DH6)*(Eingabe!$D$6:$D$400>$DH6)*(Eingabe!$B$6:$B$400=DK$3)*(Eingabe!$E$6:$E$400))","v":0},{"$f":"SUMPRODUCT((Eingabe!$C$6:$C$400<$DH6)*(Eingabe!$D$6:$D$400>=$DH6)*(Eingabe!$B$6:$B$400=DK$3)*(Eingabe!$E$6:$E$400))","v":0},{"$f":"SUMPRODUCT((Eingabe!$C$6:$C$400<=$DH6)*(Eingabe!$D$6:$D$400>$DH6)*(Eingabe!$B$6:$B$400=DM$3)*(Eingabe!$E$6:$E$400))","v":0},{"$f":"SUMPRODUCT((Eingabe!$C$6:$C$400<$DH6)*(Eingabe!$D$6:$D$400>=$DH6)*(Eingabe!$B$6:$B$400=DM$3)*(Eingabe!$E$6:$E$400))","v":0},{"$f":"SUMPRODUCT((Eingabe!$C$6:$C$400<=$DH6)*(Eingabe!$D$6:$D$400>$DH6)*(Eingabe!$B$6:$B$400=DO$3)*(Eingabe!$E$6:$E$400))","v":0},{"$f":"SUMPRODUCT((Eingabe!$C$6:$C$400<$DH6)*(Eingabe!$D$6:$D$400>=$DH6)*(Eingabe!$B$6:$B$400=DO$3)*(Eingabe!$E$6:$E$400))","v":0},"2026-01-03",{"$f":"IFERROR(IF(MONTH(DR5+1)=MONTH(DR$4),DR5+1,\"\"),\"\")","v":"2026-01-03"},{"$f":"SUMPRODUCT((Eingabe!$C$6:$C$400<=$B6)*(Eingabe!$D$6:$D$400>$B6)*(Eingabe!$B$6:$B$400=DS$3)*(Eingabe!$E$6:$E$400))","v":0},{"$f":"SUMPRODUCT((Eingabe!$C$6:$C$400<$B6)*(Eingabe!$D$6:$D$400>=$B6)*(Eingabe!$B$6:$B$400=DS$3)*(Eingabe!$E$6:$E$400))","v":0},{"$f":"SUMPRODUCT((Eingabe!$C$6:$C$400<=$B6)*(Eingabe!$D$6:$D$400>$B6)*(Eingabe!$B$6:$B$400=DU$3)*(Eingabe!$E$6:$E$400))","v":0},{"$f":"SUMPRODUCT((Eingabe!$C$6:$C$400<$B6)*(Eingabe!$D$6:$D$400>=$B6)*(Eingabe!$B$6:$B$400=DU$3)*(Eingabe!$E$6:$E$400))","v":0},{"$f":"SUMPRODUCT((Eingabe!$C$6:$C$400<=$B6)*(Eingabe!$D$6:$D$400>$B6)*(Eingabe!$B$6:$B$400=DW$3)*(Eingabe!$E$6:$E$400))","v":0},{"$f":"SUMPRODUCT((Eingabe!$C$6:$C$400<$B6)*(Eingabe!$D$6:$D$400>=$B6)*(Eingabe!$B$6:$B$400=DW$3)*(Eingabe!$E$6:$E$400))","v":0},{"$f":"SUMPRODUCT((Eingabe!$C$6:$C$400<=$B6)*(Eingabe!$D$6:$D$400>$B6)*(Eingabe!$B$6:$B$400=DY$3)*(Eingabe!$E$6:$E$400))","v":0},{"$f":"SUMPRODUCT((Eingabe!$C$6:$C$400<$B6)*(Eingabe!$D$6:$D$400>=$B6)*(Eingabe!$B$6:$B$400=DY$3)*(Eingabe!$E$6:$E$400))","v":0},"2026-02-03","2026-02-03",{"$f":"SUMPRODUCT((Eingabe!$C$6:$C$400<=$L6)*(Eingabe!$D$6:$D$400>$L6)*(Eingabe!$B$6:$B$400=EC$3)*(Eingabe!$E$6:$E$400))","v":0},{"$f":"SUMPRODUCT((Eingabe!$C$6:$C$400<$L6)*(Eingabe!$D$6:$D$400>=$L6)*(Eingabe!$B$6:$B$400=EC$3)*(Eingabe!$E$6:$E$400))","v":0},{"$f":"SUMPRODUCT((Eingabe!$C$6:$C$400<=$L6)*(Eingabe!$D$6:$D$400>$L6)*(Eingabe!$B$6:$B$400=EE$3)*(Eingabe!$E$6:$E$400))","v":6},{"$f":"SUMPRODUCT((Eingabe!$C$6:$C$400<$L6)*(Eingabe!$D$6:$D$400>=$L6)*(Eingabe!$B$6:$B$400=EE$3)*(Eingabe!$E$6:$E$400))","v":6},{"$f":"SUMPRODUCT((Eingabe!$C$6:$C$400<=$L6)*(Eingabe!$D$6:$D$400>$L6)*(Eingabe!$B$6:$B$400=EG$3)*(Eingabe!$E$6:$E$400))","v":0},{"$f":"SUMPRODUCT((Eingabe!$C$6:$C$400<$L6)*(Eingabe!$D$6:$D$400>=$L6)*(Eingabe!$B$6:$B$400=EG$3)*(Eingabe!$E$6:$E$400))","v":0},{"$f":"SUMPRODUCT((Eingabe!$C$6:$C$400<=$L6)*(Eingabe!$D$6:$D$400>$L6)*(Eingabe!$B$6:$B$400=EI$3)*(Eingabe!$E$6:$E$400))","v":0},{"$f":"SUMPRODUCT((Eingabe!$C$6:$C$400<$L6)*(Eingabe!$D$6:$D$400>=$L6)*(Eingabe!$B$6:$B$400=EI$3)*(Eingabe!$E$6:$E$400))","v":0},"2026-03-03",{"$f":"IFERROR(IF(MONTH(EL5+1)=MONTH(EL$4),EL5+1,\"\"),\"\")","v":"2026-03-03"},{"$f":"SUMPRODUCT((Eingabe!$C$6:$C$400<=$V6)*(Eingabe!$D$6:$D$400>$V6)*(Eingabe!$B$6:$B$400=EM$3)*(Eingabe!$E$6:$E$400))","v":0},{"$f":"SUMPRODUCT((Eingabe!$C$6:$C$400<$V6)*(Eingabe!$D$6:$D$400>=$V6)*(Eingabe!$B$6:$B$400=EM$3)*(Eingabe!$E$6:$E$400))","v":0},{"$f":"SUMPRODUCT((Eingabe!$C$6:$C$400<=$V6)*(Eingabe!$D$6:$D$400>$V6)*(Eingabe!$B$6:$B$400=EO$3)*(Eingabe!$E$6:$E$400))","v":0},{"$f":"SUMPRODUCT((Eingabe!$C$6:$C$400<$V6)*(Eingabe!$D$6:$D$400>=$V6)*(Eingabe!$B$6:$B$400=EO$3)*(Eingabe!$E$6:$E$400))","v":0},{"$f":"SUMPRODUCT((Eingabe!$C$6:$C$400<=$V6)*(Eingabe!$D$6:$D$400>$V6)*(Eingabe!$B$6:$B$400=EQ$3)*(Eingabe!$E$6:$E$400))","v":0},{"$f":"SUMPRODUCT((Eingabe!$C$6:$C$400<$V6)*(Eingabe!$D$6:$D$400>=$V6)*(Eingabe!$B$6:$B$400=EQ$3)*(Eingabe!$E$6:$E$400))","v":0},{"$f":"SUMPRODUCT((Eingabe!$C$6:$C$400<=$V6)*(Eingabe!$D$6:$D$400>$V6)*(Eingabe!$B$6:$B$400=ES$3)*(Eingabe!$E$6:$E$400))","v":0},{"$f":"SUMPRODUCT((Eingabe!$C$6:$C$400<$V6)*(Eingabe!$D$6:$D$400>=$V6)*(Eingabe!$B$6:$B$400=ES$3)*(Eingabe!$E$6:$E$400))","v":0},"2026-04-03","2026-04-03",{"$f":"SUMPRODUCT((Eingabe!$C$6:$C$400<=$AF6)*(Eingabe!$D$6:$D$400>$AF6)*(Eingabe!$B$6:$B$400=EW$3)*(Eingabe!$E$6:$E$400))","v":0},{"$f":"SUMPRODUCT((Eingabe!$C$6:$C$400<$AF6)*(Eingabe!$D$6:$D$400>=$AF6)*(Eingabe!$B$6:$B$400=EW$3)*(Eingabe!$E$6:$E$400))","v":0},{"$f":"SUMPRODUCT((Eingabe!$C$6:$C$400<=$AF6)*(Eingabe!$D$6:$D$400>$AF6)*(Eingabe!$B$6:$B$400=EY$3)*(Eingabe!$E$6:$E$400))","v":0},{"$f":"SUMPRODUCT((Eingabe!$C$6:$C$400<$AF6)*(Eingabe!$D$6:$D$400>=$AF6)*(Eingabe!$B$6:$B$400=EY$3)*(Eingabe!$E$6:$E$400))","v":0},{"$f":"SUMPRODUCT((Eingabe!$C$6:$C$400<=$AF6)*(Eingabe!$D$6:$D$400>$AF6)*(Eingabe!$B$6:$B$400=FA$3)*(Eingabe!$E$6:$E$400))","v":0},{"$f":"SUMPRODUCT((Eingabe!$C$6:$C$400<$AF6)*(Eingabe!$D$6:$D$400>=$AF6)*(Eingabe!$B$6:$B$400=FA$3)*(Eingabe!$E$6:$E$400))","v":0},{"$f":"SUMPRODUCT((Eingabe!$C$6:$C$400<=$AF6)*(Eingabe!$D$6:$D$400>$AF6)*(Eingabe!$B$6:$B$400=FC$3)*(Eingabe!$E$6:$E$400))","v":0},{"$f":"SUMPRODUCT((Eingabe!$C$6:$C$400<$AF6)*(Eingabe!$D$6:$D$400>=$AF6)*(Eingabe!$B$6:$B$400=FC$3)*(Eingabe!$E$6:$E$400))","v":0},"2026-05-03","2026-05-03",{"$f":"SUMPRODUCT((Eingabe!$C$6:$C$400<=$AP6)*(Eingabe!$D$6:$D$400>$AP6)*(Eingabe!$B$6:$B$400=FG$3)*(Eingabe!$E$6:$E$400))","v":5},{"$f":"SUMPRODUCT((Eingabe!$C$6:$C$400<$AP6)*(Eingabe!$D$6:$D$400>=$AP6)*(Eingabe!$B$6:$B$400=FG$3)*(Eingabe!$E$6:$E$400))","v":5},{"$f":"SUMPRODUCT((Eingabe!$C$6:$C$400<=$AP6)*(Eingabe!$D$6:$D$400>$AP6)*(Eingabe!$B$6:$B$400=FI$3)*(Eingabe!$E$6:$E$400))","v":5},{"$f":"SUMPRODUCT((Eingabe!$C$6:$C$400<$AP6)*(Eingabe!$D$6:$D$400>=$AP6)*(Eingabe!$B$6:$B$400=FI$3)*(Eingabe!$E$6:$E$400))","v":5},{"$f":"SUMPRODUCT((Eingabe!$C$6:$C$400<=$AP6)*(Eingabe!$D$6:$D$400>$AP6)*(Eingabe!$B$6:$B$400=FK$3)*(Eingabe!$E$6:$E$400))","v":0},{"$f":"SUMPRODUCT((Eingabe!$C$6:$C$400<$AP6)*(Eingabe!$D$6:$D$400>=$AP6)*(Eingabe!$B$6:$B$400=FK$3)*(Eingabe!$E$6:$E$400))","v":0},{"$f":"SUMPRODUCT((Eingabe!$C$6:$C$400<=$AP6)*(Eingabe!$D$6:$D$400>$AP6)*(Eingabe!$B$6:$B$400=FM$3)*(Eingabe!$E$6:$E$400))","v":5},{"$f":"SUMPRODUCT((Eingabe!$C$6:$C$400<$AP6)*(Eingabe!$D$6:$D$400>=$AP6)*(Eingabe!$B$6:$B$400=FM$3)*(Eingabe!$E$6:$E$400))","v":5},"2026-06-03","2026-06-03",{"$f":"SUMPRODUCT((Eingabe!$C$6:$C$400<=$AZ6)*(Eingabe!$D$6:$D$400>$AZ6)*(Eingabe!$B$6:$B$400=FQ$3)*(Eingabe!$E$6:$E$400))","v":0},{"$f":"SUMPRODUCT((Eingabe!$C$6:$C$400<$AZ6)*(Eingabe!$D$6:$D$400>=$AZ6)*(Eingabe!$B$6:$B$400=FQ$3)*(Eingabe!$E$6:$E$400))","v":0},{"$f":"SUMPRODUCT((Eingabe!$C$6:$C$400<=$AZ6)*(Eingabe!$D$6:$D$400>$AZ6)*(Eingabe!$B$6:$B$400=FS$3)*(Eingabe!$E$6:$E$400))","v":0},{"$f":"SUMPRODUCT((Eingabe!$C$6:$C$400<$AZ6)*(Eingabe!$D$6:$D$400>=$AZ6)*(Eingabe!$B$6:$B$400=FS$3)*(Eingabe!$E$6:$E$400))","v":0},{"$f":"SUMPRODUCT((Eingabe!$C$6:$C$400<=$AZ6)*(Eingabe!$D$6:$D$400>$AZ6)*(Eingabe!$B$6:$B$400=FU$3)*(Eingabe!$E$6:$E$400))","v":0},{"$f":"SUMPRODUCT((Eingabe!$C$6:$C$400<$AZ6)*(Eingabe!$D$6:$D$400>=$AZ6)*(Eingabe!$B$6:$B$400=FU$3)*(Eingabe!$E$6:$E$400))","v":0},{"$f":"SUMPRODUCT((Eingabe!$C$6:$C$400<=$AZ6)*(Eingabe!$D$6:$D$400>$AZ6)*(Eingabe!$B$6:$B$400=FW$3)*(Eingabe!$E$6:$E$400))","v":0},{"$f":"SUMPRODUCT((Eingabe!$C$6:$C$400<$AZ6)*(Eingabe!$D$6:$D$400>=$AZ6)*(Eingabe!$B$6:$B$400=FW$3)*(Eingabe!$E$6:$E$400))","v":0},"2026-07-03","2026-07-03",{"$f":"SUMPRODUCT((Eingabe!$C$6:$C$400<=$BJ6)*(Eingabe!$D$6:$D$400>$BJ6)*(Eingabe!$B$6:$B$400=GA$3)*(Eingabe!$E$6:$E$400))","v":0},{"$f":"SUMPRODUCT((Eingabe!$C$6:$C$400<$BJ6)*(Eingabe!$D$6:$D$400>=$BJ6)*(Eingabe!$B$6:$B$400=GA$3)*(Eingabe!$E$6:$E$400))","v":0},{"$f":"SUMPRODUCT((Eingabe!$C$6:$C$400<=$BJ6)*(Eingabe!$D$6:$D$400>$BJ6)*(Eingabe!$B$6:$B$400=GC$3)*(Eingabe!$E$6:$E$400))","v":0},{"$f":"SUMPRODUCT((Eingabe!$C$6:$C$400<$BJ6)*(Eingabe!$D$6:$D$400>=$BJ6)*(Eingabe!$B$6:$B$400=GC$3)*(Eingabe!$E$6:$E$400))","v":0},{"$f":"SUMPRODUCT((Eingabe!$C$6:$C$400<=$BJ6)*(Eingabe!$D$6:$D$400>$BJ6)*(Eingabe!$B$6:$B$400=GE$3)*(Eingabe!$E$6:$E$400))","v":0},{"$f":"SUMPRODUCT((Eingabe!$C$6:$C$400<$BJ6)*(Eingabe!$D$6:$D$400>=$BJ6)*(Eingabe!$B$6:$B$400=GE$3)*(Eingabe!$E$6:$E$400))","v":0},{"$f":"SUMPRODUCT((Eingabe!$C$6:$C$400<=$BJ6)*(Eingabe!$D$6:$D$400>$BJ6)*(Eingabe!$B$6:$B$400=GG$3)*(Eingabe!$E$6:$E$400))","v":0},{"$f":"SUMPRODUCT((Eingabe!$C$6:$C$400<$BJ6)*(Eingabe!$D$6:$D$400>=$BJ6)*(Eingabe!$B$6:$B$400=GG$3)*(Eingabe!$E$6:$E$400))","v":0},"2026-08-03","2026-08-03",{"$f":"SUMPRODUCT((Eingabe!$C$6:$C$400<=$BT6)*(Eingabe!$D$6:$D$400>$BT6)*(Eingabe!$B$6:$B$400=GK$3)*(Eingabe!$E$6:$E$400))","v":0},{"$f":"SUMPRODUCT((Eingabe!$C$6:$C$400<$BT6)*(Eingabe!$D$6:$D$400>=$BT6)*(Eingabe!$B$6:$B$400=GK$3)*(Eingabe!$E$6:$E$400))","v":0},{"$f":"SUMPRODUCT((Eingabe!$C$6:$C$400<=$BT6)*(Eingabe!$D$6:$D$400>$BT6)*(Eingabe!$B$6:$B$400=GM$3)*(Eingabe!$E$6:$E$400))","v":0},{"$f":"SUMPRODUCT((Eingabe!$C$6:$C$400<$BT6)*(Eingabe!$D$6:$D$400>=$BT6)*(Eingabe!$B$6:$B$400=GM$3)*(Eingabe!$E$6:$E$400))","v":0},{"$f":"SUMPRODUCT((Eingabe!$C$6:$C$400<=$BT6)*(Eingabe!$D$6:$D$400>$BT6)*(Eingabe!$B$6:$B$400=GO$3)*(Eingabe!$E$6:$E$400))","v":0},{"$f":"SUMPRODUCT((Eingabe!$C$6:$C$400<$BT6)*(Eingabe!$D$6:$D$400>=$BT6)*(Eingabe!$B$6:$B$400=GO$3)*(Eingabe!$E$6:$E$400))","v":0},{"$f":"SUMPRODUCT((Eingabe!$C$6:$C$400<=$BT6)*(Eingabe!$D$6:$D$400>$BT6)*(Eingabe!$B$6:$B$400=GQ$3)*(Eingabe!$E$6:$E$400))","v":0},{"$f":"SUMPRODUCT((Eingabe!$C$6:$C$400<$BT6)*(Eingabe!$D$6:$D$400>=$BT6)*(Eingabe!$B$6:$B$400=GQ$3)*(Eingabe!$E$6:$E$400))","v":0},"2026-09-03","2026-09-03",{"$f":"SUMPRODUCT((Eingabe!$C$6:$C$400<=$CD6)*(Eingabe!$D$6:$D$400>$CD6)*(Eingabe!$B$6:$B$400=GU$3)*(Eingabe!$E$6:$E$400))","v":0},{"$f":"SUMPRODUCT((Eingabe!$C$6:$C$400<$CD6)*(Eingabe!$D$6:$D$400>=$CD6)*(Eingabe!$B$6:$B$400=GU$3)*(Eingabe!$E$6:$E$400))","v":0},{"$f":"SUMPRODUCT((Eingabe!$C$6:$C$400<=$CD6)*(Eingabe!$D$6:$D$400>$CD6)*(Eingabe!$B$6:$B$400=GW$3)*(Eingabe!$E$6:$E$400))","v":0},{"$f":"SUMPRODUCT((Eingabe!$C$6:$C$400<$CD6)*(Eingabe!$D$6:$D$400>=$CD6)*(Eingabe!$B$6:$B$400=GW$3)*(Eingabe!$E$6:$E$400))","v":0},{"$f":"SUMPRODUCT((Eingabe!$C$6:$C$400<=$CD6)*(Eingabe!$D$6:$D$400>$CD6)*(Eingabe!$B$6:$B$400=GY$3)*(Eingabe!$E$6:$E$400))","v":0},{"$f":"SUMPRODUCT((Eingabe!$C$6:$C$400<$CD6)*(Eingabe!$D$6:$D$400>=$CD6)*(Eingabe!$B$6:$B$400=GY$3)*(Eingabe!$E$6:$E$400))","v":0},{"$f":"SUMPRODUCT((Eingabe!$C$6:$C$400<=$CD6)*(Eingabe!$D$6:$D$400>$CD6)*(Eingabe!$B$6:$B$400=HA$3)*(Eingabe!$E$6:$E$400))","v":0},{"$f":"SUMPRODUCT((Eingabe!$C$6:$C$400<$CD6)*(Eingabe!$D$6:$D$400>=$CD6)*(Eingabe!$B$6:$B$400=HA$3)*(Eingabe!$E$6:$E$400))","v":0},"2026-10-03","2026-10-03",{"$f":"SUMPRODUCT((Eingabe!$C$6:$C$400<=$CN6)*(Eingabe!$D$6:$D$400>$CN6)*(Eingabe!$B$6:$B$400=HE$3)*(Eingabe!$E$6:$E$400))","v":7},{"$f":"SUMPRODUCT((Eingabe!$C$6:$C$400<$CN6)*(Eingabe!$D$6:$D$400>=$CN6)*(Eingabe!$B$6:$B$400=HE$3)*(Eingabe!$E$6:$E$400))","v":7},{"$f":"SUMPRODUCT((Eingabe!$C$6:$C$400<=$CN6)*(Eingabe!$D$6:$D$400>$CN6)*(Eingabe!$B$6:$B$400=HG$3)*(Eingabe!$E$6:$E$400))","v":0},{"$f":"SUMPRODUCT((Eingabe!$C$6:$C$400<$CN6)*(Eingabe!$D$6:$D$400>=$CN6)*(Eingabe!$B$6:$B$400=HG$3)*(Eingabe!$E$6:$E$400))","v":0},{"$f":"SUMPRODUCT((Eingabe!$C$6:$C$400<=$CN6)*(Eingabe!$D$6:$D$400>$CN6)*(Eingabe!$B$6:$B$400=HI$3)*(Eingabe!$E$6:$E$400))","v":0},{"$f":"SUMPRODUCT((Eingabe!$C$6:$C$400<$CN6)*(Eingabe!$D$6:$D$400>=$CN6)*(Eingabe!$B$6:$B$400=HI$3)*(Eingabe!$E$6:$E$400))","v":0},{"$f":"SUMPRODUCT((Eingabe!$C$6:$C$400<=$CN6)*(Eingabe!$D$6:$D$400>$CN6)*(Eingabe!$B$6:$B$400=HK$3)*(Eingabe!$E$6:$E$400))","v":0},{"$f":"SUMPRODUCT((Eingabe!$C$6:$C$400<$CN6)*(Eingabe!$D$6:$D$400>=$CN6)*(Eingabe!$B$6:$B$400=HK$3)*(Eingabe!$E$6:$E$400))","v":0},"2026-11-03","2026-11-03",{"$f":"SUMPRODUCT((Eingabe!$C$6:$C$400<=$CX6)*(Eingabe!$D$6:$D$400>$CX6)*(Eingabe!$B$6:$B$400=HO$3)*(Eingabe!$E$6:$E$400))","v":7},{"$f":"SUMPRODUCT((Eingabe!$C$6:$C$400<$CX6)*(Eingabe!$D$6:$D$400>=$CX6)*(Eingabe!$B$6:$B$400=HO$3)*(Eingabe!$E$6:$E$400))","v":7},{"$f":"SUMPRODUCT((Eingabe!$C$6:$C$400<=$CX6)*(Eingabe!$D$6:$D$400>$CX6)*(Eingabe!$B$6:$B$400=HQ$3)*(Eingabe!$E$6:$E$400))","v":0},{"$f":"SUMPRODUCT((Eingabe!$C$6:$C$400<$CX6)*(Eingabe!$D$6:$D$400>=$CX6)*(Eingabe!$B$6:$B$400=HQ$3)*(Eingabe!$E$6:$E$400))","v":0},{"$f":"SUMPRODUCT((Eingabe!$C$6:$C$400<=$CX6)*(Eingabe!$D$6:$D$400>$CX6)*(Eingabe!$B$6:$B$400=HS$3)*(Eingabe!$E$6:$E$400))","v":0},{"$f":"SUMPRODUCT((Eingabe!$C$6:$C$400<$CX6)*(Eingabe!$D$6:$D$400>=$CX6)*(Eingabe!$B$6:$B$400=HS$3)*(Eingabe!$E$6:$E$400))","v":0},{"$f":"SUMPRODUCT((Eingabe!$C$6:$C$400<=$CX6)*(Eingabe!$D$6:$D$400>$CX6)*(Eingabe!$B$6:$B$400=HU$3)*(Eingabe!$E$6:$E$400))","v":0},{"$f":"SUMPRODUCT((Eingabe!$C$6:$C$400<$CX6)*(Eingabe!$D$6:$D$400>=$CX6)*(Eingabe!$B$6:$B$400=HU$3)*(Eingabe!$E$6:$E$400))","v":0},"2026-12-03","2026-12-03",{"$f":"SUMPRODUCT((Eingabe!$C$6:$C$400<=$DH6)*(Eingabe!$D$6:$D$400>$DH6)*(Eingabe!$B$6:$B$400=HY$3)*(Eingabe!$E$6:$E$400))","v":7},{"$f":"SUMPRODUCT((Eingabe!$C$6:$C$400<$DH6)*(Eingabe!$D$6:$D$400>=$DH6)*(Eingabe!$B$6:$B$400=HY$3)*(Eingabe!$E$6:$E$400))","v":7},{"$f":"SUMPRODUCT((Eingabe!$C$6:$C$400<=$DH6)*(Eingabe!$D$6:$D$400>$DH6)*(Eingabe!$B$6:$B$400=IA$3)*(Eingabe!$E$6:$E$400))","v":0},{"$f":"SUMPRODUCT((Eingabe!$C$6:$C$400<$DH6)*(Eingabe!$D$6:$D$400>=$DH6)*(Eingabe!$B$6:$B$400=IA$3)*(Eingabe!$E$6:$E$400))","v":0},{"$f":"SUMPRODUCT((Eingabe!$C$6:$C$400<=$DH6)*(Eingabe!$D$6:$D$400>$DH6)*(Eingabe!$B$6:$B$400=IC$3)*(Eingabe!$E$6:$E$400))","v":0},{"$f":"SUMPRODUCT((Eingabe!$C$6:$C$400<$DH6)*(Eingabe!$D$6:$D$400>=$DH6)*(Eingabe!$B$6:$B$400=IC$3)*(Eingabe!$E$6:$E$400))","v":0},{"$f":"SUMPRODUCT((Eingabe!$C$6:$C$400<=$DH6)*(Eingabe!$D$6:$D$400>$DH6)*(Eingabe!$B$6:$B$400=IE$3)*(Eingabe!$E$6:$E$400))","v":0},{"$f":"SUMPRODUCT((Eingabe!$C$6:$C$400<$DH6)*(Eingabe!$D$6:$D$400>=$DH6)*(Eingabe!$B$6:$B$400=IE$3)*(Eingabe!$E$6:$E$400))","v":0}]
["2025-01-04","2025-01-04",{"$f":"SUMPRODUCT((Eingabe!$C$6:$C$400<=$B7)*(Eingabe!$D$6:$D$400>$B7)*(Eingabe!$B$6:$B$400=C$3)*(Eingabe!$E$6:$E$400))","v":0},{"$f":"SUMPRODUCT((Eingabe!$C$6:$C$400<$B7)*(Eingabe!$D$6:$D$400>=$B7)*(Eingabe!$B$6:$B$400=C$3)*(Eingabe!$E$6:$E$400))","v":0},{"$f":"SUMPRODUCT((Eingabe!$C$6:$C$400<=$B7)*(Eingabe!$D$6:$D$400>$B7)*(Eingabe!$B$6:$B$400=E$3)*(Eingabe!$E$6:$E$400))","v":0},{"$f":"SUMPRODUCT((Eingabe!$C$6:$C$400<$B7)*(Eingabe!$D$6:$D$400>=$B7)*(Eingabe!$B$6:$B$400=E$3)*(Eingabe!$E$6:$E$400))","v":0},{"$f":"SUMPRODUCT((Eingabe!$C$6:$C$400<=$B7)*(Eingabe!$D$6:$D$400>$B7)*(Eingabe!$B$6:$B$400=G$3)*(Eingabe!$E$6:$E$400))","v":0},{"$f":"SUMPRODUCT((Eingabe!$C$6:$C$400<$B7)*(Eingabe!$D$6:$D$400>=$B7)*(Eingabe!$B$6:$B$400=G$3)*(Eingabe!$E$6:$E$400))","v":0},{"$f":"SUMPRODUCT((Eingabe!$C$6:$C$400<=$B7)*(Eingabe!$D$6:$D$400>$B7)*(Eingabe!$B$6:$B$400=I$3)*(Eingabe!$E$6:$E$400))","v":0},{"$f":"SUMPRODUCT((Eingabe!$C$6:$C$400<$B7)*(Eingabe!$D$6:$D$400>=$B7)*(Eingabe!$B$6:$B$400=I$3)*(Eingabe!$E$6:$E$400))","v":0},"2025-02-04","2025-02-04",{"$f":"SUMPRODUCT((Eingabe!$C$6:$C$400<=$L7)*(Eingabe!$D$6:$D$400>$L7)*(Eingabe!$B$6:$B$400=M$3)*(Eingabe!$E$6:$E$400))","v":0},{"$f":"SUMPRODUCT((Eingabe!$C$6:$C$400<$L7)*(Eingabe!$D$6:$D$400>=$L7)*(Eingabe!$B$6:$B$400=M$3)*(Eingabe!$E$6:$E$400))","v":0},{"$f":"SUMPRODUCT((Eingabe!$C$6:$C$400<=$L7)*(Eingabe!$D$6:$D$400>$L7)*(Eingabe!$B$6:$B$400=O$3)*(Eingabe!$E$6:$E$400))","v":6},{"$f":"SUMPRODUCT((Eingabe!$C$6:$C$400<$L7)*(Eingabe!$D$6:$D$400>=$L7)*(Eingabe!$B$6:$B$400=O$3)*(Eingabe!$E$6:$E$400))","v":6},{"$f":"SUMPRODUCT((Eingabe!$C$6:$C$400<=$L7)*(Eingabe!$D$6:$D$400>$L7)*(Eingabe!$B$6:$B$400=Q$3)*(Eingabe!$E$6:$E$400))","v":0},{"$f":"SUMPRODUCT((Eingabe!$C$6:$C$400<$L7)*(Eingabe!$D$6:$D$400>=$L7)*(Eingabe!$B$6:$B$400=Q$3)*(Eingabe!$E$6:$E$400))","v":0},{"$f":"SUMPRODUCT((Eingabe!$C$6:$C$400<=$L7)*(Eingabe!$D$6:$D$400>$L7)*(Eingabe!$B$6:$B$400=S$3)*(Eingabe!$E$6:$E$400))","v":0},{"$f":"SUMPRODUCT((Eingabe!$C$6:$C$400<$L7)*(Eingabe!$D$6:$D$400>=$L7)*(Eingabe!$B$6:$B$400=S$3)*(Eingabe!$E$6:$E$400))","v":0},"2025-03-04","2025-03-04",{"$f":"SUMPRODUCT((Eingabe!$C$6:$C$400<=$V7)*(Eingabe!$D$6:$D$400>$V7)*(Eingabe!$B$6:$B$400=W$3)*(Eingabe!$E$6:$E$400))","v":0},{"$f":"SUMPRODUCT((Eingabe!$C$6:$C$400<$V7)*(Eingabe!$D$6:$D$400>=$V7)*(Eingabe!$B$6:$B$400=W$3)*(Eingabe!$E$6:$E$400))","v":0},{"$f":"SUMPRODUCT((Eingabe!$C$6:$C$400<=$V7)*(Eingabe!$D$6:$D$400>$V7)*(Eingabe!$B$6:$B$400=Y$3)*(Eingabe!$E$6:$E$400))","v":0},{"$f":"SUMPRODUCT((Eingabe!$C$6:$C$400<$V7)*(Eingabe!$D$6:$D$400>=$V7)*(Eingabe!$B$6:$B$400=Y$3)*(Eingabe!$E$6:$E$400))","v":0},{"$f":"SUMPRODUCT((Eingabe!$C$6:$C$400<=$V7)*(Eingabe!$D$6:$D$400>$V7)*(Eingabe!$B$6:$B$400=AA$3)*(Eingabe!$E$6:$E$400))","v":0},{"$f":"SUMPRODUCT((Eingabe!$C$6:$C$400<$V7)*(Eingabe!$D$6:$D$400>=$V7)*(Eingabe!$B$6:$B$400=AA$3)*(Eingabe!$E$6:$E$400))","v":0},{"$f":"SUMPRODUCT((Eingabe!$C$6:$C$400<=$V7)*(Eingabe!$D$6:$D$400>$V7)*(Eingabe!$B$6:$B$400=AC$3)*(Eingabe!$E$6:$E$400))","v":0},{"$f":"SUMPRODUCT((Eingabe!$C$6:$C$400<$V7)*(Eingabe!$D$6:$D$400>=$V7)*(Eingabe!$B$6:$B$400=AC$3)*(Eingabe!$E$6:$E$400))","v":0},"2025-04-04","2025-04-04",{"$f":"SUMPRODUCT((Eingabe!$C$6:$C$400<=$AF7)*(Eingabe!$D$6:$D$400>$AF7)*(Eingabe!$B$6:$B$400=AG$3)*(Eingabe!$E$6:$E$400))","v":0},{"$f":"SUMPRODUCT((Eingabe!$C$6:$C$400<$AF7)*(Eingabe!$D$6:$D$400>=$AF7)*(Eingabe!$B$6:$B$400=AG$3)*(Eingabe!$E$6:$E$400))","v":0},{"$f":"SUMPRODUCT((Eingabe!$C$6:$C$400<=$AF7)*(Eingabe!$D$6:$D$400>$AF7)*(Eingabe!$B$6:$B$400=AI$3)*(Eingabe!$E$6:$E$400))","v":0},{"$f":"SUMPRODUCT((Eingabe!$C$6:$C$400<$AF7)*(Eingabe!$D$6:$D$400>=$AF7)*(Eingabe!$B$6:$B$400=AI$3)*(Eingabe!$E$6:$E$400))","v":0},{"$f":"SUMPRODUCT((Eingabe!$C$6:$C$400<=$AF7)*(Eingabe!$D$6:$D$400>$AF7)*(Eingabe!$B$6:$B$400=AK$3)*(Eingabe!$E$6:$E$400))","v":0},{"$f":"SUMPRODUCT((Eingabe!$C$6:$C$400<$AF7)*(Eingabe!$D$6:$D$400>=$AF7)*(Eingabe!$B$6:$B$400=AK$3)*(Eingabe!$E$6:$E$400))","v":0},{"$f":"SUMPRODUCT((Eingabe!$C$6:$C$400<=$AF7)*(Eingabe!$D$6:$D$400>$AF7)*(Eingabe!$B$6:$B$400=AM$3)*(Eingabe!$E$6:$E$400))","v":0},{"$f":"SUMPRODUCT((Eingabe!$C$6:$C$400<$AF7)*(Eingabe!$D$6:$D$400>=$AF7)*(Eingabe!$B$6:$B$400=AM$3)*(Eingabe!$E$6:$E$400))","v":0},"2025-05-04","2025-05-04",{"$f":"SUMPRODUCT((Eingabe!$C$6:$C$400<=$AP7)*(Eingabe!$D$6:$D$400>$AP7)*(Eingabe!$B$6:$B$400=AQ$3)*(Eingabe!$E$6:$E$400))","v":0},{"$f":"SUMPRODUCT((Eingabe!$C$6:$C$400<$AP7)*(Eingabe!$D$6:$D$400>=$AP7)*(Eingabe!$B$6:$B$400=AQ$3)*(Eingabe!$E$6:$E$400))","v":5},{"$f":"SUMPRODUCT((Eingabe!$C$6:$C$400<=$AP7)*(Eingabe!$D$6:$D$400>$AP7)*(Eingabe!$B$6:$B$400=AS$3)*(Eingabe!$E$6:$E$400))","v":0},{"$f":"SUMPRODUCT((Eingabe!$C$6:$C$400<$AP7)*(Eingabe!$D$6:$D$400>=$AP7)*(Eingabe!$B$6:$B$400=AS$3)*(Eingabe!$E$6:$E$400))","v":5},{"$f":"SUMPRODUCT((Eingabe!$C$6:$C$400<=$AP7)*(Eingabe!$D$6:$D$400>$AP7)*(Eingabe!$B$6:$B$400=AU$3)*(Eingabe!$E$6:$E$400))","v":0},{"$f":"SUMPRODUCT((Eingabe!$C$6:$C$400<$AP7)*(Eingabe!$D$6:$D$400>=$AP7)*(Eingabe!$B$6:$B$400=AU$3)*(Eingabe!$E$6:$E$400))","v":0},{"$f":"SUMPRODUCT((Eingabe!$C$6:$C$400<=$AP7)*(Eingabe!$D$6:$D$400>$AP7)*(Eingabe!$B$6:$B$400=AW$3)*(Eingabe!$E$6:$E$400))","v":0},{"$f":"SUMPRODUCT((Eingabe!$C$6:$C$400<$AP7)*(Eingabe!$D$6:$D$400>=$AP7)*(Eingabe!$B$6:$B$400=AW$3)*(Eingabe!$E$6:$E$400))","v":5},"2025-06-04","2025-06-04",{"$f":"SUMPRODUCT((Eingabe!$C$6:$C$400<=$AZ7)*(Eingabe!$D$6:$D$400>$AZ7)*(Eingabe!$B$6:$B$400=BA$3)*(Eingabe!$E$6:$E$400))","v":0},{"$f":"SUMPRODUCT((Eingabe!$C$6:$C$400<$AZ7)*(Eingabe!$D$6:$D$400>=$AZ7)*(Eingabe!$B$6:$B$400=BA$3)*(Eingabe!$E$6:$E$400))","v":0},{"$f":"SUMPRODUCT((Eingabe!$C$6:$C$400<=$AZ7)*(Eingabe!$D$6:$D$400>$AZ7)*(Eingabe!$B$6:$B$400=BC$3)*(Eingabe!$E$6:$E$400))","v":0},{"$f":"SUMPRODUCT((Eingabe!$C$6:$C$400<$AZ7)*(Eingabe!$D$6:$D$400>=$AZ7)*(Eingabe!$B$6:$B$400=BC$3)*(Eingabe!$E$6:$E$400))","v":0},{"$f":"SUMPRODUCT((Eingabe!$C$6:$C$400<=$AZ7)*(Eingabe!$D$6:$D$400>$AZ7)*(Eingabe!$B$6:$B$400=BE$3)*(Eingabe!$E$6:$E$400))","v":0},{"$f":"SUMPRODUCT((Eingabe!$C$6:$C$400<$AZ7)*(Eingabe!$D$6:$D$400>=$AZ7)*(Eingabe!$B$6:$B$400=BE$3)*(Eingabe!$E$6:$E$400))","v":0},{"$f":"SUMPRODUCT((Eingabe!$C$6:$C$400<=$AZ7)*(Eingabe!$D$6:$D$400>$AZ7)*(Eingabe!$B$6:$B$400=BG$3)*(Eingabe!$E$6:$E$400))","v":0},{"$f":"SUMPRODUCT((Eingabe!$C$6:$C$400<$AZ7)*(Eingabe!$D$6:$D$400>=$AZ7)*(Eingabe!$B$6:$B$400=BG$3)*(Eingabe!$E$6:$E$400))","v":0},"2025-07-04","2025-07-04",{"$f":"SUMPRODUCT((Eingabe!$C$6:$C$400<=$BJ7)*(Eingabe!$D$6:$D$400>$BJ7)*(Eingabe!$B$6:$B$400=BK$3)*(Eingabe!$E$6:$E$400))","v":0},{"$f":"SUMPRODUCT((Eingabe!$C$6:$C$400<$BJ7)*(Eingabe!$D$6:$D$400>=$BJ7)*(Eingabe!$B$6:$B$400=BK$3)*(Eingabe!$E$6:$E$400))","v":0},{"$f":"SUMPRODUCT((Eingabe!$C$6:$C$400<=$BJ7)*(Eingabe!$D$6:$D$400>$BJ7)*(Eingabe!$B$6:$B$400=BM$3)*(Eingabe!$E$6:$E$400))","v":0},{"$f":"SUMPRODUCT((Eingabe!$C$6:$C$400<$BJ7)*(Eingabe!$D$6:$D$400>=$BJ7)*(Eingabe!$B$6:$B$400=BM$3)*(Eingabe!$E$6:$E$400))","v":0},{"$f":"SUMPRODUCT((Eingabe!$C$6:$C$400<=$BJ7)*(Eingabe!$D$6:$D$400>$BJ7)*(Eingabe!$B$6:$B$400=BO$3)*(Eingabe!$E$6:$E$400))","v":0},{"$f":"SUMPRODUCT((Eingabe!$C$6:$C$400<$BJ7)*(Eingabe!$D$6:$D$400>=$BJ7)*(Eingabe!$B$6:$B$400=BO$3)*(Eingabe!$E$6:$E$400))","v":0},{"$f":"SUMPRODUCT((Eingabe!$C$6:$C$400<=$BJ7)*(Eingabe!$D$6:$D$400>$BJ7)*(Eingabe!$B$6:$B$400=BQ$3)*(Eingabe!$E$6:$E$400))","v":0},{"$f":"SUMPRODUCT((Eingabe!$C$6:$C$400<$BJ7)*(Eingabe!$D$6:$D$400>=$BJ7)*(Eingabe!$B$6:$B$400=BQ$3)*(Eingabe!$E$6:$E$400))","v":0},"2025-08-04","2025-08-04",{"$f":"SUMPRODUCT((Eingabe!$C$6:$C$400<=$BT7)*(Eingabe!$D$6:$D$400>$BT7)*(Eingabe!$B$6:$B$400=BU$3)*(Eingabe!$E$6:$E$400))","v":0},{"$f":"SUMPRODUCT((Eingabe!$C$6:$C$400<$BT7)*(Eingabe!$D$6:$D$400>=$BT7)*(Eingabe!$B$6:$B$400=BU$3)*(Eingabe!$E$6:$E$400))","v":0},{"$f":"SUMPRODUCT((Eingabe!$C$6:$C$400<=$BT7)*(Eingabe!$D$6:$D$400>$BT7)*(Eingabe!$B$6:$B$400=BW$3)*(Eingabe!$E$6:$E$400))","v":0},{"$f":"SUMPRODUCT((Eingabe!$C$6:$C$400<$BT7)*(Eingabe!$D$6:$D$400>=$BT7)*(Eingabe!$B$6:$B$400=BW$3)*(Eingabe!$E$6:$E$400))","v":0},{"$f":"SUMPRODUCT((Eingabe!$C$6:$C$400<=$BT7)*(Eingabe!$D$6:$D$400>$BT7)*(Eingabe!$B$6:$B$400=BY$3)*(Eingabe!$E$6:$E$400))","v":0},{"$f":"SUMPRODUCT((Eingabe!$C$6:$C$400<$BT7)*(Eingabe!$D$6:$D$400>=$BT7)*(Eingabe!$B$6:$B$400=BY$3)*(Eingabe!$E$6:$E$400))","v":0},{"$f":"SUMPRODUCT((Eingabe!$C$6:$C$400<=$BT7)*(Eingabe!$D$6:$D$400>$BT7)*(Eingabe!$B$6:$B$400=CA$3)*(Eingabe!$E$6:$E$400))","v":0},{"$f":"SUMPRODUCT((Eingabe!$C$6:$C$400<$BT7)*(Eingabe!$D$6:$D$400>=$BT7)*(Eingabe!$B$6:$B$400=CA$3)*(Eingabe!$E$6:$E$400))","v":0},"2025-09-04","2025-09-04",{"$f":"SUMPRODUCT((Eingabe!$C$6:$C$400<=$CD7)*(Eingabe!$D$6:$D$400>$CD7)*(Eingabe!$B$6:$B$400=CE$3)*(Eingabe!$E$6:$E$400))","v":0},{"$f":"SUMPRODUCT((Eingabe!$C$6:$C$400<$CD7)*(Eingabe!$D$6:$D$400>=$CD7)*(Eingabe!$B$6:$B$400=CE$3)*(Eingabe!$E$6:$E$400))","v":0},{"$f":"SUMPRODUCT((Eingabe!$C$6:$C$400<=$CD7)*(Eingabe!$D$6:$D$400>$CD7)*(Eingabe!$B$6:$B$400=CG$3)*(Eingabe!$E$6:$E$400))","v":0},{"$f":"SUMPRODUCT((Eingabe!$C$6:$C$400<$CD7)*(Eingabe!$D$6:$D$400>=$CD7)*(Eingabe!$B$6:$B$400=CG$3)*(Eingabe!$E$6:$E$400))","v":0},{"$f":"SUMPRODUCT((Eingabe!$C$6:$C$400<=$CD7)*(Eingabe!$D$6:$D$400>$CD7)*(Eingabe!$B$6:$B$400=CI$3)*(Eingabe!$E$6:$E$400))","v":0},{"$f":"SUMPRODUCT((Eingabe!$C$6:$C$400<$CD7)*(Eingabe!$D$6:$D$400>=$CD7)*(Eingabe!$B$6:$B$400=CI$3)*(Eingabe!$E$6:$E$400))","v":0},{"$f":"SUMPRODUCT((Eingabe!$C$6:$C$400<=$CD7)*(Eingabe!$D$6:$D$400>$CD7)*(Eingabe!$B$6:$B$400=CK$3)*(Eingabe!$E$6:$E$400))","v":0},{"$f":"SUMPRODUCT((Eingabe!$C$6:$C$400<$CD7)*(Eingabe!$D$6:$D$400>=$CD7)*(Eingabe!$B$6:$B$400=CK$3)*(Eingabe!$E$6:$E$400))","v":0},"2025-10-04","2025-10-04",{"$f":"SUMPRODUCT((Eingabe!$C$6:$C$400<=$CN7)*(Eingabe!$D$6:$D$400>$CN7)*(Eingabe!$B$6:$B$400=CO$3)*(Eingabe!$E$6:$E$400))","v":7},{"$f":"SUMPRODUCT((Eingabe!$C$6:$C$400<$CN7)*(Eingabe!$D$6:$D$400>=$CN7)*(Eingabe!$B$6:$B$400=CO$3)*(Eingabe!$E$6:$E$400))","v":7},{"$f":"SUMPRODUCT((Eingabe!$C$6:$C$400<=$CN7)*(Eingabe!$D$6:$D$400>$CN7)*(Eingabe!$B$6:$B$400=CQ$3)*(Eingabe!$E$6:$E$400))","v":0},{"$f":"SUMPRODUCT((Eingabe!$C$6:$C$400<$CN7)*(Eingabe!$D$6:$D$400>=$CN7)*(Eingabe!$B$6:$B$400=CQ$3)*(Eingabe!$E$6:$E$400))","v":0},{"$f":"SUMPRODUCT((Eingabe!$C$6:$C$400<=$CN7)*(Eingabe!$D$6:$D$400>$CN7)*(Eingabe!$B$6:$B$400=CS$3)*(Eingabe!$E$6:$E$400))","v":0},{"$f":"SUMPRODUCT((Eingabe!$C$6:$C$400<$CN7)*(Eingabe!$D$6:$D$400>=$CN7)*(Eingabe!$B$6:$B$400=CS$3)*(Eingabe!$E$6:$E$400))","v":0},{"$f":"SUMPRODUCT((Eingabe!$C$6:$C$400<=$CN7)*(Eingabe!$D$6:$D$400>$CN7)*(Eingabe!$B$6:$B$400=CU$3)*(Eingabe!$E$6:$E$400))","v":0},{"$f":"SUMPRODUCT((Eingabe!$C$6:$C$400<$CN7)*(Eingabe!$D$6:$D$400>=$CN7)*(Eingabe!$B$6:$B$400=CU$3)*(Eingabe!$E$6:$E$400))","v":0},"2025-11-04","2025-11-04",{"$f":"SUMPRODUCT((Eingabe!$C$6:$C$400<=$CX7)*(Eingabe!$D$6:$D$400>$CX7)*(Eingabe!$B$6:$B$400=CY$3)*(Eingabe!$E$6:$E$400))","v":7},{"$f":"SUMPRODUCT((Eingabe!$C$6:$C$400<$CX7)*(Eingabe!$D$6:$D$400>=$CX7)*(Eingabe!$B$6:$B$400=CY$3)*(Eingabe!$E$6:$E$400))","v":7},{"$f":"SUMPRODUCT((Eingabe!$C$6:$C$400<=$CX7)*(Eingabe!$D$6:$D$400>$CX7)*(Eingabe!$B$6:$B$400=DA$3)*(Eingabe!$E$6:$E$400))","v":0},{"$f":"SUMPRODUCT((Eingabe!$C$6:$C$400<$CX7)*(Eingabe!$D$6:$D$400>=$CX7)*(Eingabe!$B$6:$B$400=DA$3)*(Eingabe!$E$6:$E$400))","v":0},{"$f":"SUMPRODUCT((Eingabe!$C$6:$C$400<=$CX7)*(Eingabe!$D$6:$D$400>$CX7)*(Eingabe!$B$6:$B$400=DC$3)*(Eingabe!$E$6:$E$400))","v":0},{"$f":"SUMPRODUCT((Eingabe!$C$6:$C$400<$CX7)*(Eingabe!$D$6:$D$400>=$CX7)*(Eingabe!$B$6:$B$400=DC$3)*(Eingabe!$E$6:$E$400))","v":0},{"$f":"SUMPRODUCT((Eingabe!$C$6:$C$400<=$CX7)*(Eingabe!$D$6:$D$400>$CX7)*(Eingabe!$B$6:$B$400=DE$3)*(Eingabe!$E$6:$E$400))","v":0},{"$f":"SUMPRODUCT((Eingabe!$C$6:$C$400<$CX7)*(Eingabe!$D$6:$D$400>=$CX7)*(Eingabe!$B$6:$B$400=DE$3)*(Eingabe!$E$6:$E$400))","v":0},"2025-12-04","2025-12-04",{"$f":"SUMPRODUCT((Eingabe!$C$6:$C$400<=$DH7)*(Eingabe!$D$6:$D$400>$DH7)*(Eingabe!$B$6:$B$400=DI$3)*(Eingabe!$E$6:$E$400))","v":7},{"$f":"SUMPRODUCT((Eingabe!$C$6:$C$400<$DH7)*(Eingabe!$D$6:$D$400>=$DH7)*(Eingabe!$B$6:$B$400=DI$3)*(Eingabe!$E$6:$E$400))","v":7},{"$f":"SUMPRODUCT((Eingabe!$C$6:$C$400<=$DH7)*(Eingabe!$D$6:$D$400>$DH7)*(Eingabe!$B$6:$B$400=DK$3)*(Eingabe!$E$6:$E$400))","v":0},{"$f":"SUMPRODUCT((Eingabe!$C$6:$C$400<$DH7)*(Eingabe!$D$6:$D$400>=$DH7)*(Eingabe!$B$6:$B$400=DK$3)*(Eingabe!$E$6:$E$400))","v":0},{"$f":"SUMPRODUCT((Eingabe!$C$6:$C$400<=$DH7)*(Eingabe!$D$6:$D$400>$DH7)*(Eingabe!$B$6:$B$400=DM$3)*(Eingabe!$E$6:$E$400))","v":0},{"$f":"SUMPRODUCT((Eingabe!$C$6:$C$400<$DH7)*(Eingabe!$D$6:$D$400>=$DH7)*(Eingabe!$B$6:$B$400=DM$3)*(Eingabe!$E$6:$E$400))","v":0},{"$f":"SUMPRODUCT((Eingabe!$C$6:$C$400<=$DH7)*(Eingabe!$D$6:$D$400>$DH7)*(Eingabe!$B$6:$B$400=DO$3)*(Eingabe!$E$6:$E$400))","v":0},{"$f":"SUMPRODUCT((Eingabe!$C$6:$C$400<$DH7)*(Eingabe!$D$6:$D$400>=$DH7)*(Eingabe!$B$6:$B$400=DO$3)*(Eingabe!$E$6:$E$400))","v":0},"2026-01-04","2026-01-04",{"$f":"SUMPRODUCT((Eingabe!$C$6:$C$400<=$B7)*(Eingabe!$D$6:$D$400>$B7)*(Eingabe!$B$6:$B$400=DS$3)*(Eingabe!$E$6:$E$400))","v":0},{"$f":"SUMPRODUCT((Eingabe!$C$6:$C$400<$B7)*(Eingabe!$D$6:$D$400>=$B7)*(Eingabe!$B$6:$B$400=DS$3)*(Eingabe!$E$6:$E$400))","v":0},{"$f":"SUMPRODUCT((Eingabe!$C$6:$C$400<=$B7)*(Eingabe!$D$6:$D$400>$B7)*(Eingabe!$B$6:$B$400=DU$3)*(Eingabe!$E$6:$E$400))","v":0},{"$f":"SUMPRODUCT((Eingabe!$C$6:$C$400<$B7)*(Eingabe!$D$6:$D$400>=$B7)*(Eingabe!$B$6:$B$400=DU$3)*(Eingabe!$E$6:$E$400))","v":0},{"$f":"SUMPRODUCT((Eingabe!$C$6:$C$400<=$B7)*(Eingabe!$D$6:$D$400>$B7)*(Eingabe!$B$6:$B$400=DW$3)*(Eingabe!$E$6:$E$400))","v":0},{"$f":"SUMPRODUCT((Eingabe!$C$6:$C$400<$B7)*(Eingabe!$D$6:$D$400>=$B7)*(Eingabe!$B$6:$B$400=DW$3)*(Eingabe!$E$6:$E$400))","v":0},{"$f":"SUMPRODUCT((Eingabe!$C$6:$C$400<=$B7)*(Eingabe!$D$6:$D$400>$B7)*(Eingabe!$B$6:$B$400=DY$3)*(Eingabe!$E$6:$E$400))","v":0},{"$f":"SUMPRODUCT((Eingabe!$C$6:$C$400<$B7)*(Eingabe!$D$6:$D$400>=$B7)*(Eingabe!$B$6:$B$400=DY$3)*(Eingabe!$E$6:$E$400))","v":0},"2026-02-04","2026-02-04",{"$f":"SUMPRODUCT((Eingabe!$C$6:$C$400<=$L7)*(Eingabe!$D$6:$D$400>$L7)*(Eingabe!$B$6:$B$400=EC$3)*(Eingabe!$E$6:$E$400))","v":0},{"$f":"SUMPRODUCT((Eingabe!$C$6:$C$400<$L7)*(Eingabe!$D$6:$D$400>=$L7)*(Eingabe!$B$6:$B$400=EC$3)*(Eingabe!$E$6:$E$400))","v":0},{"$f":"SUMPRODUCT((Eingabe!$C$6:$C$400<=$L7)*(Eingabe!$D$6:$D$400>$L7)*(Eingabe!$B$6:$B$400=EE$3)*(Eingabe!$E$6:$E$400))","v":6},{"$f":"SUMPRODUCT((Eingabe!$C$6:$C$400<$L7)*(Eingabe!$D$6:$D$400>=$L7)*(Eingabe!$B$6:$B$400=EE$3)*(Eingabe!$E$6:$E$400))","v":6},{"$f":"SUMPRODUCT((Eingabe!$C$6:$C$400<=$L7)*(Eingabe!$D$6:$D$400>$L7)*(Eingabe!$B$6:$B$400=EG$3)*(Eingabe!$E$6:$E$400))","v":0},{"$f":"SUMPRODUCT((Eingabe!$C$6:$C$400<$L7)*(Eingabe!$D$6:$D$400>=$L7)*(Eingabe!$B$6:$B$400=EG$3)*(Eingabe!$E$6:$E$400))","v":0},{"$f":"SUMPRODUCT((Eingabe!$C$6:$C$400<=$L7)*(Eingabe!$D$6:$D$400>$L7)*(Eingabe!$B$6:$B$400=EI$3)*(Eingabe!$E$6:$E$400))","v":0},{"$f":"SUMPRODUCT((Eingabe!$C$6:$C$400<$L7)*(Eingabe!$D$6:$D$400>=$L7)*(Eingabe!$B$6:$B$400=EI$3)*(Eingabe!$E$6:$E$400))","v":0},"2026-03-04","2026-03-04",{"$f":"SUMPRODUCT((Eingabe!$C$6:$C$400<=$V7)*(Eingabe!$D$6:$D$400>$V7)*(Eingabe!$B$6:$B$400=EM$3)*(Eingabe!$E$6:$E$400))","v":0},{"$f":"SUMPRODUCT((Eingabe!$C$6:$C$400<$V7)*(Eingabe!$D$6:$D$400>=$V7)*(Eingabe!$B$6:$B$400=EM$3)*(Eingabe!$E$6:$E$400))","v":0},{"$f":"SUMPRODUCT((Eingabe!$C$6:$C$400<=$V7)*(Eingabe!$D$6:$D$400>$V7)*(Eingabe!$B$6:$B$400=EO$3)*(Eingabe!$E$6:$E$400))","v":0},{"$f":"SUMPRODUCT((Eingabe!$C$6:$C$400<$V7)*(Eingabe!$D$6:$D$400>=$V7)*(Eingabe!$B$6:$B$400=EO$3)*(Eingabe!$E$6:$E$400))","v":0},{"$f":"SUMPRODUCT((Eingabe!$C$6:$C$400<=$V7)*(Eingabe!$D$6:$D$400>$V7)*(Eingabe!$B$6:$B$400=EQ$3)*(Eingabe!$E$6:$E$400))","v":0},{"$f":"SUMPRODUCT((Eingabe!$C$6:$C$400<$V7)*(Eingabe!$D$6:$D$400>=$V7)*(Eingabe!$B$6:$B$400=EQ$3)*(Eingabe!$E$6:$E$400))","v":0},{"$f":"SUMPRODUCT((Eingabe!$C$6:$C$400<=$V7)*(Eingabe!$D$6:$D$400>$V7)*(Eingabe!$B$6:$B$400=ES$3)*(Eingabe!$E$6:$E$400))","v":0},{"$f":"SUMPRODUCT((Eingabe!$C$6:$C$400<$V7)*(Eingabe!$D$6:$D$400>=$V7)*(Eingabe!$B$6:$B$400=ES$3)*(Eingabe!$E$6:$E$400))","v":0},"2026-04-04","2026-04-04",{"$f":"SUMPRODUCT((Eingabe!$C$6:$C$400<=$AF7)*(Eingabe!$D$6:$D$400>$AF7)*(Eingabe!$B$6:$B$400=EW$3)*(Eingabe!$E$6:$E$400))","v":0},{"$f":"SUMPRODUCT((Eingabe!$C$6:$C$400<$AF7)*(Eingabe!$D$6:$D$400>=$AF7)*(Eingabe!$B$6:$B$400=EW$3)*(Eingabe!$E$6:$E$400))","v":0},{"$f":"SUMPRODUCT((Eingabe!$C$6:$C$400<=$AF7)*(Eingabe!$D$6:$D$400>$AF7)*(Eingabe!$B$6:$B$400=EY$3)*(Eingabe!$E$6:$E$400))","v":0},{"$f":"SUMPRODUCT((Eingabe!$C$6:$C$400<$AF7)*(Eingabe!$D$6:$D$400>=$AF7)*(Eingabe!$B$6:$B$400=EY$3)*(Eingabe!$E$6:$E$400))","v":0},{"$f":"SUMPRODUCT((Eingabe!$C$6:$C$400<=$AF7)*(Eingabe!$D$6:$D$400>$AF7)*(Eingabe!$B$6:$B$400=FA$3)*(Eingabe!$E$6:$E$400))","v":0},{"$f":"SUMPRODUCT((Eingabe!$C$6:$C$400<$AF7)*(Eingabe!$D$6:$D$400>=$AF7)*(Eingabe!$B$6:$B$400=FA$3)*(Eingabe!$E$6:$E$400))","v":0},{"$f":"SUMPRODUCT((Eingabe!$C$6:$C$400<=$AF7)*(Eingabe!$D$6:$D$400>$AF7)*(Eingabe!$B$6:$B$400=FC$3)*(Eingabe!$E$6:$E$400))","v":0},{"$f":"SUMPRODUCT((Eingabe!$C$6:$C$400<$AF7)*(Eingabe!$D$6:$D$400>=$AF7)*(Eingabe!$B$6:$B$400=FC$3)*(Eingabe!$E$6:$E$400))","v":0},"2026-05-04","2026-05-04",{"$f":"SUMPRODUCT((Eingabe!$C$6:$C$400<=$AP7)*(Eingabe!$D$6:$D$400>$AP7)*(Eingabe!$B$6:$B$400=FG$3)*(Eingabe!$E$6:$E$400))","v":0},{"$f":"SUMPRODUCT((Eingabe!$C$6:$C$400<$AP7)*(Eingabe!$D$6:$D$400>=$AP7)*(Eingabe!$B$6:$B$400=FG$3)*(Eingabe!$E$6:$E$400))","v":5},{"$f":"SUMPRODUCT((Eingabe!$C$6:$C$400<=$AP7)*(Eingabe!$D$6:$D$400>$AP7)*(Eingabe!$B$6:$B$400=FI$3)*(Eingabe!$E$6:$E$400))","v":0},{"$f":"SUMPRODUCT((Eingabe!$C$6:$C$400<$AP7)*(Eingabe!$D$6:$D$400>=$AP7)*(Eingabe!$B$6:$B$400=FI$3)*(Eingabe!$E$6:$E$400))","v":5},{"$f":"SUMPRODUCT((Eingabe!$C$6:$C$400<=$AP7)*(Eingabe!$D$6:$D$400>$AP7)*(Eingabe!$B$6:$B$400=FK$3)*(Eingabe!$E$6:$E$400))","v":0},{"$f":"SUMPRODUCT((Eingabe!$C$6:$C$400<$AP7)*(Eingabe!$D$6:$D$400>=$AP7)*(Eingabe!$B$6:$B$400=FK$3)*(Eingabe!$E$6:$E$400))","v":0},{"$f":"SUMPRODUCT((Eingabe!$C$6:$C$400<=$AP7)*(Eingabe!$D$6:$D$400>$AP7)*(Eingabe!$B$6:$B$400=FM$3)*(Eingabe!$E$6:$E$400))","v":0},{"$f":"SUMPRODUCT((Eingabe!$C$6:$C$400<$AP7)*(Eingabe!$D$6:$D$400>=$AP7)*(Eingabe!$B$6:$B$400=FM$3)*(Eingabe!$E$6:$E$400))","v":5},"2026-06-04","2026-06-04",{"$f":"SUMPRODUCT((Eingabe!$C$6:$C$400<=$AZ7)*(Eingabe!$D$6:$D$400>$AZ7)*(Eingabe!$B$6:$B$400=FQ$3)*(Eingabe!$E$6:$E$400))","v":0},{"$f":"SUMPRODUCT((Eingabe!$C$6:$C$400<$AZ7)*(Eingabe!$D$6:$D$400>=$AZ7)*(Eingabe!$B$6:$B$400=FQ$3)*(Eingabe!$E$6:$E$400))","v":0},{"$f":"SUMPRODUCT((Eingabe!$C$6:$C$400<=$AZ7)*(Eingabe!$D$6:$D$400>$AZ7)*(Eingabe!$B$6:$B$400=FS$3)*(Eingabe!$E$6:$E$400))","v":0},{"$f":"SUMPRODUCT((Eingabe!$C$6:$C$400<$AZ7)*(Eingabe!$D$6:$D$400>=$AZ7)*(Eingabe!$B$6:$B$400=FS$3)*(Eingabe!$E$6:$E$400))","v":0},{"$f":"SUMPRODUCT((Eingabe!$C$6:$C$400<=$AZ7)*(Eingabe!$D$6:$D$400>$AZ7)*(Eingabe!$B$6:$B$400=FU$3)*(Eingabe!$E$6:$E$400))","v":0},{"$f":"SUMPRODUCT((Eingabe!$C$6:$C$400<$AZ7)*(Eingabe!$D$6:$D$400>=$AZ7)*(Eingabe!$B$6:$B$400=FU$3)*(Eingabe!$E$6:$E$400))","v":0},{"$f":"SUMPRODUCT((Eingabe!$C$6:$C$400<=$AZ7)*(Eingabe!$D$6:$D$400>$AZ7)*(Eingabe!$B$6:$B$400=FW$3)*(Eingabe!$E$6:$E$400))","v":0},{"$f":"SUMPRODUCT((Eingabe!$C$6:$C$400<$AZ7)*(Eingabe!$D$6:$D$400>=$AZ7)*(Eingabe!$B$6:$B$400=FW$3)*(Eingabe!$E$6:$E$400))","v":0},"2026-07-04","2026-07-04",{"$f":"SUMPRODUCT((Eingabe!$C$6:$C$400<=$BJ7)*(Eingabe!$D$6:$D$400>$BJ7)*(Eingabe!$B$6:$B$400=GA$3)*(Eingabe!$E$6:$E$400))","v":0},{"$f":"SUMPRODUCT((Eingabe!$C$6:$C$400<$BJ7)*(Eingabe!$D$6:$D$400>=$BJ7)*(Eingabe!$B$6:$B$400=GA$3)*(Eingabe!$E$6:$E$400))","v":0},{"$f":"SUMPRODUCT((Eingabe!$C$6:$C$400<=$BJ7)*(Eingabe!$D$6:$D$400>$BJ7)*(Eingabe!$B$6:$B$400=GC$3)*(Eingabe!$E$6:$E$400))","v":0},{"$f":"SUMPRODUCT((Eingabe!$C$6:$C$400<$BJ7)*(Eingabe!$D$6:$D$400>=$BJ7)*(Eingabe!$B$6:$B$400=GC$3)*(Eingabe!$E$6:$E$400))","v":0},{"$f":"SUMPRODUCT((Eingabe!$C$6:$C$400<=$BJ7)*(Eingabe!$D$6:$D$400>$BJ7)*(Eingabe!$B$6:$B$400=GE$3)*(Eingabe!$E$6:$E$400))","v":0},{"$f":"SUMPRODUCT((Eingabe!$C$6:$C$400<$BJ7)*(Eingabe!$D$6:$D$400>=$BJ7)*(Eingabe!$B$6:$B$400=GE$3)*(Eingabe!$E$6:$E$400))","v":0},{"$f":"SUMPRODUCT((Eingabe!$C$6:$C$400<=$BJ7)*(Eingabe!$D$6:$D$400>$BJ7)*(Eingabe!$B$6:$B$400=GG$3)*(Eingabe!$E$6:$E$400))","v":0},{"$f":"SUMPRODUCT((Eingabe!$C$6:$C$400<$BJ7)*(Eingabe!$D$6:$D$400>=$BJ7)*(Eingabe!$B$6:$B$400=GG$3)*(Eingabe!$E$6:$E$400))","v":0},"2026-08-04","2026-08-04",{"$f":"SUMPRODUCT((Eingabe!$C$6:$C$400<=$BT7)*(Eingabe!$D$6:$D$400>$BT7)*(Eingabe!$B$6:$B$400=GK$3)*(Eingabe!$E$6:$E$400))","v":0},{"$f":"SUMPRODUCT((Eingabe!$C$6:$C$400<$BT7)*(Eingabe!$D$6:$D$400>=$BT7)*(Eingabe!$B$6:$B$400=GK$3)*(Eingabe!$E$6:$E$400))","v":0},{"$f":"SUMPRODUCT((Eingabe!$C$6:$C$400<=$BT7)*(Eingabe!$D$6:$D$400>$BT7)*(Eingabe!$B$6:$B$400=GM$3)*(Eingabe!$E$6:$E$400))","v":0},{"$f":"SUMPRODUCT((Eingabe!$C$6:$C$400<$BT7)*(Eingabe!$D$6:$D$400>=$BT7)*(Eingabe!$B$6:$B$400=GM$3)*(Eingabe!$E$6:$E$400))","v":0},{"$f":"SUMPRODUCT((Eingabe!$C$6:$C$400<=$BT7)*(Eingabe!$D$6:$D$400>$BT7)*(Eingabe!$B$6:$B$400=GO$3)*(Eingabe!$E$6:$E$400))","v":0},{"$f":"SUMPRODUCT((Eingabe!$C$6:$C$400<$BT7)*(Eingabe!$D$6:$D$400>=$BT7)*(Eingabe!$B$6:$B$400=GO$3)*(Eingabe!$E$6:$E$400))","v":0},{"$f":"SUMPRODUCT((Eingabe!$C$6:$C$400<=$BT7)*(Eingabe!$D$6:$D$400>$BT7)*(Eingabe!$B$6:$B$400=GQ$3)*(Eingabe!$E$6:$E$400))","v":0},{"$f":"SUMPRODUCT((Eingabe!$C$6:$C$400<$BT7)*(Eingabe!$D$6:$D$400>=$BT7)*(Eingabe!$B$6:$B$400=GQ$3)*(Eingabe!$E$6:$E$400))","v":0},"2026-09-04","2026-09-04",{"$f":"SUMPRODUCT((Eingabe!$C$6:$C$400<=$CD7)*(Eingabe!$D$6:$D$400>$CD7)*(Eingabe!$B$6:$B$400=GU$3)*(Eingabe!$E$6:$E$400))","v":0},{"$f":"SUMPRODUCT((Eingabe!$C$6:$C$400<$CD7)*(Eingabe!$D$6:$D$400>=$CD7)*(Eingabe!$B$6:$B$400=GU$3)*(Eingabe!$E$6:$E$400))","v":0},{"$f":"SUMPRODUCT((Eingabe!$C$6:$C$400<=$CD7)*(Eingabe!$D$6:$D$400>$CD7)*(Eingabe!$B$6:$B$400=GW$3)*(Eingabe!$E$6:$E$400))","v":0},{"$f":"SUMPRODUCT((Eingabe!$C$6:$C$400<$CD7)*(Eingabe!$D$6:$D$400>=$CD7)*(Eingabe!$B$6:$B$400=GW$3)*(Eingabe!$E$6:$E$400))","v":0},{"$f":"SUMPRODUCT((Eingabe!$C$6:$C$400<=$CD7)*(Eingabe!$D$6:$D$400>$CD7)*(Eingabe!$B$6:$B$400=GY$3)*(Eingabe!$E$6:$E$400))","v":0},{"$f":"SUMPRODUCT((Eingabe!$C$6:$C$400<$CD7)*(Eingabe!$D$6:$D$400>=$CD7)*(Eingabe!$B$6:$B$400=GY$3)*(Eingabe!$E$6:$E$400))","v":0},{"$f":"SUMPRODUCT((Eingabe!$C$6:$C$400<=$CD7)*(Eingabe!$D$6:$D$400>$CD7)*(Eingabe!$B$6:$B$400=HA$3)*(Eingabe!$E$6:$E$400))","v":0},{"$f":"SUMPRODUCT((Eingabe!$C$6:$C$400<$CD7)*(Eingabe!$D$6:$D$400>=$CD7)*(Eingabe!$B$6:$B$400=HA$3)*(Eingabe!$E$6:$E$400))","v":0},"2026-10-04","2026-10-04",{"$f":"SUMPRODUCT((Eingabe!$C$6:$C$400<=$CN7)*(Eingabe!$D$6:$D$400>$CN7)*(Eingabe!$B$6:$B$400=HE$3)*(Eingabe!$E$6:$E$400))","v":7},{"$f":"SUMPRODUCT((Eingabe!$C$6:$C$400<$CN7)*(Eingabe!$D$6:$D$400>=$CN7)*(Eingabe!$B$6:$B$400=HE$3)*(Eingabe!$E$6:$E$400))","v":7},{"$f":"SUMPRODUCT((Eingabe!$C$6:$C$400<=$CN7)*(Eingabe!$D$6:$D$400>$CN7)*(Eingabe!$B$6:$B$400=HG$3)*(Eingabe!$E$6:$E$400))","v":0},{"$f":"SUMPRODUCT((Eingabe!$C$6:$C$400<$CN7)*(Eingabe!$D$6:$D$400>=$CN7)*(Eingabe!$B$6:$B$400=HG$3)*(Eingabe!$E$6:$E$400))","v":0},{"$f":"SUMPRODUCT((Eingabe!$C$6:$C$400<=$CN7)*(Eingabe!$D$6:$D$400>$CN7)*(Eingabe!$B$6:$B$400=HI$3)*(Eingabe!$E$6:$E$400))","v":0},{"$f":"SUMPRODUCT((Eingabe!$C$6:$C$400<$CN7)*(Eingabe!$D$6:$D$400>=$CN7)*(Eingabe!$B$6:$B$400=HI$3)*(Eingabe!$E$6:$E$400))","v":0},{"$f":"SUMPRODUCT((Eingabe!$C$6:$C$400<=$CN7)*(Eingabe!$D$6:$D$400>$CN7)*(Eingabe!$B$6:$B$400=HK$3)*(Eingabe!$E$6:$E$400))","v":0},{"$f":"SUMPRODUCT((Eingabe!$C$6:$C$400<$CN7)*(Eingabe!$D$6:$D$400>=$CN7)*(Eingabe!$B$6:$B$400=HK$3)*(Eingabe!$E$6:$E$400))","v":0},"2026-11-04","2026-11-04",{"$f":"SUMPRODUCT((Eingabe!$C$6:$C$400<=$CX7)*(Eingabe!$D$6:$D$400>$CX7)*(Eingabe!$B$6:$B$400=HO$3)*(Eingabe!$E$6:$E$400))","v":7},{"$f":"SUMPRODUCT((Eingabe!$C$6:$C$400<$CX7)*(Eingabe!$D$6:$D$400>=$CX7)*(Eingabe!$B$6:$B$400=HO$3)*(Eingabe!$E$6:$E$400))","v":7},{"$f":"SUMPRODUCT((Eingabe!$C$6:$C$400<=$CX7)*(Eingabe!$D$6:$D$400>$CX7)*(Eingabe!$B$6:$B$400=HQ$3)*(Eingabe!$E$6:$E$400))","v":0},{"$f":"SUMPRODUCT((Eingabe!$C$6:$C$400<$CX7)*(Eingabe!$D$6:$D$400>=$CX7)*(Eingabe!$B$6:$B$400=HQ$3)*(Eingabe!$E$6:$E$400))","v":0},{"$f":"SUMPRODUCT((Eingabe!$C$6:$C$400<=$CX7)*(Eingabe!$D$6:$D$400>$CX7)*(Eingabe!$B$6:$B$400=HS$3)*(Eingabe!$E$6:$E$400))","v":0},{"$f":"SUMPRODUCT((Eingabe!$C$6:$C$400<$CX7)*(Eingabe!$D$6:$D$400>=$CX7)*(Eingabe!$B$6:$B$400=HS$3)*(Eingabe!$E$6:$E$400))","v":0},{"$f":"SUMPRODUCT((Eingabe!$C$6:$C$400<=$CX7)*(Eingabe!$D$6:$D$400>$CX7)*(Eingabe!$B$6:$B$400=HU$3)*(Eingabe!$E$6:$E$400))","v":0},{"$f":"SUMPRODUCT((Eingabe!$C$6:$C$400<$CX7)*(Eingabe!$D$6:$D$400>=$CX7)*(Eingabe!$B$6:$B$400=HU$3)*(Eingabe!$E$6:$E$400))","v":0},"2026-12-04","2026-12-04",{"$f":"SUMPRODUCT((Eingabe!$C$6:$C$400<=$DH7)*(Eingabe!$D$6:$D$400>$DH7)*(Eingabe!$B$6:$B$400=HY$3)*(Eingabe!$E$6:$E$400))","v":7},{"$f":"SUMPRODUCT((Eingabe!$C$6:$C$400<$DH7)*(Eingabe!$D$6:$D$400>=$DH7)*(Eingabe!$B$6:$B$400=HY$3)*(Eingabe!$E$6:$E$400))","v":7},{"$f":"SUMPRODUCT((Eingabe!$C$6:$C$400<=$DH7)*(Eingabe!$D$6:$D$400>$DH7)*(Eingabe!$B$6:$B$400=IA$3)*(Eingabe!$E$6:$E$400))","v":0},{"$f":"SUMPRODUCT((Eingabe!$C$6:$C$400<$DH7)*(Eingabe!$D$6:$D$400>=$DH7)*(Eingabe!$B$6:$B$400=IA$3)*(Eingabe!$E$6:$E$400))","v":0},{"$f":"SUMPRODUCT((Eingabe!$C$6:$C$400<=$DH7)*(Eingabe!$D$6:$D$400>$DH7)*(Eingabe!$B$6:$B$400=IC$3)*(Eingabe!$E$6:$E$400))","v":0},{"$f":"SUMPRODUCT((Eingabe!$C$6:$C$400<$DH7)*(Eingabe!$D$6:$D$400>=$DH7)*(Eingabe!$B$6:$B$400=IC$3)*(Eingabe!$E$6:$E$400))","v":0},{"$f":"SUMPRODUCT((Eingabe!$C$6:$C$400<=$DH7)*(Eingabe!$D$6:$D$400>$DH7)*(Eingabe!$B$6:$B$400=IE$3)*(Eingabe!$E$6:$E$400))","v":0},{"$f":"SUMPRODUCT((Eingabe!$C$6:$C$400<$DH7)*(Eingabe!$D$6:$D$400>=$DH7)*(Eingabe!$B$6:$B$400=IE$3)*(Eingabe!$E$6:$E$400))","v":0}]
["2025-01-05","2025-01-05",{"$f":"SUMPRODUCT((Eingabe!$C$6:$C$400<=$B8)*(Eingabe!$D$6:$D$400>$B8)*(Eingabe!$B$6:$B$400=C$3)*(Eingabe!$E$6:$E$400))","v":0},{"$f":"SUMPRODUCT((Eingabe!$C$6:$C$400<$B8)*(Eingabe!$D$6:$D$400>=$B8)*(Eingabe!$B$6:$B$400=C$3)*(Eingabe!$E$6:$E$400))","v":0},{"$f":"SUMPRODUCT((Eingabe!$C$6:$C$400<=$B8)*(Eingabe!$D$6:$D$400>$B8)*(Eingabe!$B$6:$B$400=E$3)*(Eingabe!$E$6:$E$400))","v":0},{"$f":"SUMPRODUCT((Eingabe!$C$6:$C$400<$B8)*(Eingabe!$D$6:$D$400>=$B8)*(Eingabe!$B$6:$B$400=E$3)*(Eingabe!$E$6:$E$400))","v":0},{"$f":"SUMPRODUCT((Eingabe!$C$6:$C$400<=$B8)*(Eingabe!$D$6:$D$400>$B8)*(Eingabe!$B$6:$B$400=G$3)*(Eingabe!$E$6:$E$400))","v":0},{"$f":"SUMPRODUCT((Eingabe!$C$6:$C$400<$B8)*(Eingabe!$D$6:$D$400>=$B8)*(Eingabe!$B$6:$B$400=G$3)*(Eingabe!$E$6:$E$400))","v":0},{"$f":"SUMPRODUCT((Eingabe!$C$6:$C$400<=$B8)*(Eingabe!$D$6:$D$400>$B8)*(Eingabe!$B$6:$B$400=I$3)*(Eingabe!$E$6:$E$400))","v":0},{"$f":"SUMPRODUCT((Eingabe!$C$6:$C$400<$B8)*(Eingabe!$D$6:$D$400>=$B8)*(Eingabe!$B$6:$B$400=I$3)*(Eingabe!$E$6:$E$400))","v":0},"2025-02-05","2025-02-05",{"$f":"SUMPRODUCT((Eingabe!$C$6:$C$400<=$L8)*(Eingabe!$D$6:$D$400>$L8)*(Eingabe!$B$6:$B$400=M$3)*(Eingabe!$E$6:$E$400))","v":0},{"$f":"SUMPRODUCT((Eingabe!$C$6:$C$400<$L8)*(Eingabe!$D$6:$D$400>=$L8)*(Eingabe!$B$6:$B$400=M$3)*(Eingabe!$E$6:$E$400))","v":0},{"$f":"SUMPRODUCT((Eingabe!$C$6:$C$400<=$L8)*(Eingabe!$D$6:$D$400>$L8)*(Eingabe!$B$6:$B$400=O$3)*(Eingabe!$E$6:$E$400))","v":6},{"$f":"SUMPRODUCT((Eingabe!$C$6:$C$400<$L8)*(Eingabe!$D$6:$D$400>=$L8)*(Eingabe!$B$6:$B$400=O$3)*(Eingabe!$E$6:$E$400))","v":6},{"$f":"SUMPRODUCT((Eingabe!$C$6:$C$400<=$L8)*(Eingabe!$D$6:$D$400>$L8)*(Eingabe!$B$6:$B$400=Q$3)*(Eingabe!$E$6:$E$400))","v":0},{"$f":"SUMPRODUCT((Eingabe!$C$6:$C$400<$L8)*(Eingabe!$D$6:$D$400>=$L8)*(Eingabe!$B$6:$B$400=Q$3)*(Eingabe!$E$6:$E$400))","v":0},{"$f":"SUMPRODUCT((Eingabe!$C$6:$C$400<=$L8)*(Eingabe!$D$6:$D$400>$L8)*(Eingabe!$B$6:$B$400=S$3)*(Eingabe!$E$6:$E$400))","v":0},{"$f":"SUMPRODUCT((Eingabe!$C$6:$C$400<$L8)*(Eingabe!$D$6:$D$400>=$L8)*(Eingabe!$B$6:$B$400=S$3)*(Eingabe!$E$6:$E$400))","v":0},"2025-03-05","2025-03-05",{"$f":"SUMPRODUCT((Eingabe!$C$6:$C$400<=$V8)*(Eingabe!$D$6:$D$400>$V8)*(Eingabe!$B$6:$B$400=W$3)*(Eingabe!$E$6:$E$400))","v":0},{"$f":"SUMPRODUCT((Eingabe!$C$6:$C$400<$V8)*(Eingabe!$D$6:$D$400>=$V8)*(Eingabe!$B$6:$B$400=W$3)*(Eingabe!$E$6:$E$400))","v":0},{"$f":"SUMPRODUCT((Eingabe!$C$6:$C$400<=$V8)*(Eingabe!$D$6:$D$400>$V8)*(Eingabe!$B$6:$B$400=Y$3)*(Eingabe!$E$6:$E$400))","v":0},{"$f":"SUMPRODUCT((Eingabe!$C$6:$C$400<$V8)*(Eingabe!$D$6:$D$400>=$V8)*(Eingabe!$B$6:$B$400=Y$3)*(Eingabe!$E$6:$E$400))","v":0},{"$f":"SUMPRODUCT((Eingabe!$C$6:$C$400<=$V8)*(Eingabe!$D$6:$D$400>$V8)*(Eingabe!$B$6:$B$400=AA$3)*(Eingabe!$E$6:$E$400))","v":0},{"$f":"SUMPRODUCT((Eingabe!$C$6:$C$400<$V8)*(Eingabe!$D$6:$D$400>=$V8)*(Eingabe!$B$6:$B$400=AA$3)*(Eingabe!$E$6:$E$400))","v":0},{"$f":"SUMPRODUCT((Eingabe!$C$6:$C$400<=$V8)*(Eingabe!$D$6:$D$400>$V8)*(Eingabe!$B$6:$B$400=AC$3)*(Eingabe!$E$6:$E$400))","v":0},{"$f":"SUMPRODUCT((Eingabe!$C$6:$C$400<$V8)*(Eingabe!$D$6:$D$400>=$V8)*(Eingabe!$B$6:$B$400=AC$3)*(Eingabe!$E$6:$E$400))","v":0},"2025-04-05","2025-04-05",{"$f":"SUMPRODUCT((Eingabe!$C$6:$C$400<=$AF8)*(Eingabe!$D$6:$D$400>$AF8)*(Eingabe!$B$6:$B$400=AG$3)*(Eingabe!$E$6:$E$400))","v":0},{"$f":"SUMPRODUCT((Eingabe!$C$6:$C$400<$AF8)*(Eingabe!$D$6:$D$400>=$AF8)*(Eingabe!$B$6:$B$400=AG$3)*(Eingabe!$E$6:$E$400))","v":0},{"$f":"SUMPRODUCT((Eingabe!$C$6:$C$400<=$AF8)*(Eingabe!$D$6:$D$400>$AF8)*(Eingabe!$B$6:$B$400=AI$3)*(Eingabe!$E$6:$E$400))","v":0},{"$f":"SUMPRODUCT((Eingabe!$C$6:$C$400<$AF8)*(Eingabe!$D$6:$D$400>=$AF8)*(Eingabe!$B$6:$B$400=AI$3)*(Eingabe!$E$6:$E$400))","v":0},{"$f":"SUMPRODUCT((Eingabe!$C$6:$C$400<=$AF8)*(Eingabe!$D$6:$D$400>$AF8)*(Eingabe!$B$6:$B$400=AK$3)*(Eingabe!$E$6:$E$400))","v":0},{"$f":"SUMPRODUCT((Eingabe!$C$6:$C$400<$AF8)*(Eingabe!$D$6:$D$400>=$AF8)*(Eingabe!$B$6:$B$400=AK$3)*(Eingabe!$E$6:$E$400))","v":0},{"$f":"SUMPRODUCT((Eingabe!$C$6:$C$400<=$AF8)*(Eingabe!$D$6:$D$400>$AF8)*(Eingabe!$B$6:$B$400=AM$3)*(Eingabe!$E$6:$E$400))","v":0},{"$f":"SUMPRODUCT((Eingabe!$C$6:$C$400<$AF8)*(Eingabe!$D$6:$D$400>=$AF8)*(Eingabe!$B$6:$B$400=AM$3)*(Eingabe!$E$6:$E$400))","v":0},"2025-05-05","2025-05-05",{"$f":"SUMPRODUCT((Eingabe!$C$6:$C$400<=$AP8)*(Eingabe!$D$6:$D$400>$AP8)*(Eingabe!$B$6:$B$400=AQ$3)*(Eingabe!$E$6:$E$400))","v":0},{"$f":"SUMPRODUCT((Eingabe!$C$6:$C$400<$AP8)*(Eingabe!$D$6:$D$400>=$AP8)*(Eingabe!$B$6:$B$400=AQ$3)*(Eingabe!$E$6:$E$400))","v":0},{"$f":"SUMPRODUCT((Eingabe!$C$6:$C$400<=$AP8)*(Eingabe!$D$6:$D$400>$AP8)*(Eingabe!$B$6:$B$400=AS$3)*(Eingabe!$E$6:$E$400))","v":0},{"$f":"SUMPRODUCT((Eingabe!$C$6:$C$400<$AP8)*(Eingabe!$D$6:$D$400>=$AP8)*(Eingabe!$B$6:$B$400=AS$3)*(Eingabe!$E$6:$E$400))","v":0},{"$f":"SUMPRODUCT((Eingabe!$C$6:$C$400<=$AP8)*(Eingabe!$D$6:$D$400>$AP8)*(Eingabe!$B$6:$B$400=AU$3)*(Eingabe!$E$6:$E$400))","v":0},{"$f":"SUMPRODUCT((Eingabe!$C$6:$C$400<$AP8)*(Eingabe!$D$6:$D$400>=$AP8)*(Eingabe!$B$6:$B$400=AU$3)*(Eingabe!$E$6:$E$400))","v":0},{"$f":"SUMPRODUCT((Eingabe!$C$6:$C$400<=$AP8)*(Eingabe!$D$6:$D$400>$AP8)*(Eingabe!$B$6:$B$400=AW$3)*(Eingabe!$E$6:$E$400))","v":0},{"$f":"SUMPRODUCT((Eingabe!$C$6:$C$400<$AP8)*(Eingabe!$D$6:$D$400>=$AP8)*(Eingabe!$B$6:$B$400=AW$3)*(Eingabe!$E$6:$E$400))","v":0},"2025-06-05","2025-06-05",{"$f":"SUMPRODUCT((Eingabe!$C$6:$C$400<=$AZ8)*(Eingabe!$D$6:$D$400>$AZ8)*(Eingabe!$B$6:$B$400=BA$3)*(Eingabe!$E$6:$E$400))","v":0},{"$f":"SUMPRODUCT((Eingabe!$C$6:$C$400<$AZ8)*(Eingabe!$D$6:$D$400>=$AZ8)*(Eingabe!$B$6:$B$400=BA$3)*(Eingabe!$E$6:$E$400))","v":0},{"$f":"SUMPRODUCT((Eingabe!$C$6:$C$400<=$AZ8)*(Eingabe!$D$6:$D$400>$AZ8)*(Eingabe!$B$6:$B$400=BC$3)*(Eingabe!$E$6:$E$400))","v":0},{"$f":"SUMPRODUCT((Eingabe!$C$6:$C$400<$AZ8)*(Eingabe!$D$6:$D$400>=$AZ8)*(Eingabe!$B$6:$B$400=BC$3)*(Eingabe!$E$6:$E$400))","v":0},{"$f":"SUMPRODUCT((Eingabe!$C$6:$C$400<=$AZ8)*(Eingabe!$D$6:$D$400>$AZ8)*(Eingabe!$B$6:$B$400=BE$3)*(Eingabe!$E$6:$E$400))","v":0},{"$f":"SUMPRODUCT((Eingabe!$C$6:$C$400<$AZ8)*(Eingabe!$D$6:$D$400>=$AZ8)*(Eingabe!$B$6:$B$400=BE$3)*(Eingabe!$E$6:$E$400))","v":0},{"$f":"SUMPRODUCT((Eingabe!$C$6:$C$400<=$AZ8)*(Eingabe!$D$6:$D$400>$AZ8)*(Eingabe!$B$6:$B$400=BG$3)*(Eingabe!$E$6:$E$400))","v":0},{"$f":"SUMPRODUCT((Eingabe!$C$6:$C$400<$AZ8)*(Eingabe!$D$6:$D$400>=$AZ8)*(Eingabe!$B$6:$B$400=BG$3)*(Eingabe!$E$6:$E$400))","v":0},"2025-07-05","2025-07-05",{"$f":"SUMPRODUCT((Eingabe!$C$6:$C$400<=$BJ8)*(Eingabe!$D$6:$D$400>$BJ8)*(Eingabe!$B$6:$B$400=BK$3)*(Eingabe!$E$6:$E$400))","v":0},{"$f":"SUMPRODUCT((Eingabe!$C$6:$C$400<$BJ8)*(Eingabe!$D$6:$D$400>=$BJ8)*(Eingabe!$B$6:$B$400=BK$3)*(Eingabe!$E$6:$E$400))","v":0},{"$f":"SUMPRODUCT((Eingabe!$C$6:$C$400<=$BJ8)*(Eingabe!$D$6:$D$400>$BJ8)*(Eingabe!$B$6:$B$400=BM$3)*(Eingabe!$E$6:$E$400))","v":0},{"$f":"SUMPRODUCT((Eingabe!$C$6:$C$400<$BJ8)*(Eingabe!$D$6:$D$400>=$BJ8)*(Eingabe!$B$6:$B$400=BM$3)*(Eingabe!$E$6:$E$400))","v":0},{"$f":"SUMPRODUCT((Eingabe!$C$6:$C$400<=$BJ8)*(Eingabe!$D$6:$D$400>$BJ8)*(Eingabe!$B$6:$B$400=BO$3)*(Eingabe!$E$6:$E$400))","v":0},{"$f":"SUMPRODUCT((Eingabe!$C$6:$C$400<$BJ8)*(Eingabe!$D$6:$D$400>=$BJ8)*(Eingabe!$B$6:$B$400=BO$3)*(Eingabe!$E$6:$E$400))","v":0},{"$f":"SUMPRODUCT((Eingabe!$C$6:$C$400<=$BJ8)*(Eingabe!$D$6:$D$400>$BJ8)*(Eingabe!$B$6:$B$400=BQ$3)*(Eingabe!$E$6:$E$400))","v":0},{"$f":"SUMPRODUCT((Eingabe!$C$6:$C$400<$BJ8)*(Eingabe!$D$6:$D$400>=$BJ8)*(Eingabe!$B$6:$B$400=BQ$3)*(Eingabe!$E$6:$E$400))","v":0},"2025-08-05","2025-08-05",{"$f":"SUMPRODUCT((Eingabe!$C$6:$C$400<=$BT8)*(Eingabe!$D$6:$D$400>$BT8)*(Eingabe!$B$6:$B$400=BU$3)*(Eingabe!$E$6:$E$400))","v":0},{"$f":"SUMPRODUCT((Eingabe!$C$6:$C$400<$BT8)*(Eingabe!$D$6:$D$400>=$BT8)*(Eingabe!$B$6:$B$400=BU$3)*(Eingabe!$E$6:$E$400))","v":0},{"$f":"SUMPRODUCT((Eingabe!$C$6:$C$400<=$BT8)*(Eingabe!$D$6:$D$400>$BT8)*(Eingabe!$B$6:$B$400=BW$3)*(Eingabe!$E$6:$E$400))","v":0},{"$f":"SUMPRODUCT((Eingabe!$C$6:$C$400<$BT8)*(Eingabe!$D$6:$D$400>=$BT8)*(Eingabe!$B$6:$B$400=BW$3)*(Eingabe!$E$6:$E$400))","v":0},{"$f":"SUMPRODUCT((Eingabe!$C$6:$C$400<=$BT8)*(Eingabe!$D$6:$D$400>$BT8)*(Eingabe!$B$6:$B$400=BY$3)*(Eingabe!$E$6:$E$400))","v":0},{"$f":"SUMPRODUCT((Eingabe!$C$6:$C$400<$BT8)*(Eingabe!$D$6:$D$400>=$BT8)*(Eingabe!$B$6:$B$400=BY$3)*(Eingabe!$E$6:$E$400))","v":0},{"$f":"SUMPRODUCT((Eingabe!$C$6:$C$400<=$BT8)*(Eingabe!$D$6:$D$400>$BT8)*(Eingabe!$B$6:$B$400=CA$3)*(Eingabe!$E$6:$E$400))","v":0},{"$f":"SUMPRODUCT((Eingabe!$C$6:$C$400<$BT8)*(Eingabe!$D$6:$D$400>=$BT8)*(Eingabe!$B$6:$B$400=CA$3)*(Eingabe!$E$6:$E$400))","v":0},"2025-09-05","2025-09-05",{"$f":"SUMPRODUCT((Eingabe!$C$6:$C$400<=$CD8)*(Eingabe!$D$6:$D$400>$CD8)*(Eingabe!$B$6:$B$400=CE$3)*(Eingabe!$E$6:$E$400))","v":0},{"$f":"SUMPRODUCT((Eingabe!$C$6:$C$400<$CD8)*(Eingabe!$D$6:$D$400>=$CD8)*(Eingabe!$B$6:$B$400=CE$3)*(Eingabe!$E$6:$E$400))","v":0},{"$f":"SUMPRODUCT((Eingabe!$C$6:$C$400<=$CD8)*(Eingabe!$D$6:$D$400>$CD8)*(Eingabe!$B$6:$B$400=CG$3)*(Eingabe!$E$6:$E$400))","v":0},{"$f":"SUMPRODUCT((Eingabe!$C$6:$C$400<$CD8)*(Eingabe!$D$6:$D$400>=$CD8)*(Eingabe!$B$6:$B$400=CG$3)*(Eingabe!$E$6:$E$400))","v":0},{"$f":"SUMPRODUCT((Eingabe!$C$6:$C$400<=$CD8)*(Eingabe!$D$6:$D$400>$CD8)*(Eingabe!$B$6:$B$400=CI$3)*(Eingabe!$E$6:$E$400))","v":0},{"$f":"SUMPRODUCT((Eingabe!$C$6:$C$400<$CD8)*(Eingabe!$D$6:$D$400>=$CD8)*(Eingabe!$B$6:$B$400=CI$3)*(Eingabe!$E$6:$E$400))","v":0},{"$f":"SUMPRODUCT((Eingabe!$C$6:$C$400<=$CD8)*(Eingabe!$D$6:$D$400>$CD8)*(Eingabe!$B$6:$B$400=CK$3)*(Eingabe!$E$6:$E$400))","v":0},{"$f":"SUMPRODUCT((Eingabe!$C$6:$C$400<$CD8)*(Eingabe!$D$6:$D$400>=$CD8)*(Eingabe!$B$6:$B$400=CK$3)*(Eingabe!$E$6:$E$400))","v":0},"2025-10-05","2025-10-05",{"$f":"SUMPRODUCT((Eingabe!$C$6:$C$400<=$CN8)*(Eingabe!$D$6:$D$400>$CN8)*(Eingabe!$B$6:$B$400=CO$3)*(Eingabe!$E$6:$E$400))","v":7},{"$f":"SUMPRODUCT((Eingabe!$C$6:$C$400<$CN8)*(Eingabe!$D$6:$D$400>=$CN8)*(Eingabe!$B$6:$B$400=CO$3)*(Eingabe!$E$6:$E$400))","v":7},{"$f":"SUMPRODUCT((Eingabe!$C$6:$C$400<=$CN8)*(Eingabe!$D$6:$D$400>$CN8)*(Eingabe!$B$6:$B$400=CQ$3)*(Eingabe!$E$6:$E$400))","v":0},{"$f":"SUMPRODUCT((Eingabe!$C$6:$C$400<$CN8)*(Eingabe!$D$6:$D$400>=$CN8)*(Eingabe!$B$6:$B$400=CQ$3)*(Eingabe!$E$6:$E$400))","v":0},{"$f":"SUMPRODUCT((Eingabe!$C$6:$C$400<=$CN8)*(Eingabe!$D$6:$D$400>$CN8)*(Eingabe!$B$6:$B$400=CS$3)*(Eingabe!$E$6:$E$400))","v":0},{"$f":"SUMPRODUCT((Eingabe!$C$6:$C$400<$CN8)*(Eingabe!$D$6:$D$400>=$CN8)*(Eingabe!$B$6:$B$400=CS$3)*(Eingabe!$E$6:$E$400))","v":0},{"$f":"SUMPRODUCT((Eingabe!$C$6:$C$400<=$CN8)*(Eingabe!$D$6:$D$400>$CN8)*(Eingabe!$B$6:$B$400=CU$3)*(Eingabe!$E$6:$E$400))","v":0},{"$f":"SUMPRODUCT((Eingabe!$C$6:$C$400<$CN8)*(Eingabe!$D$6:$D$400>=$CN8)*(Eingabe!$B$6:$B$400=CU$3)*(Eingabe!$E$6:$E$400))","v":0},"2025-11-05","2025-11-05",{"$f":"SUMPRODUCT((Eingabe!$C$6:$C$400<=$CX8)*(Eingabe!$D$6:$D$400>$CX8)*(Eingabe!$B$6:$B$400=CY$3)*(Eingabe!$E$6:$E$400))","v":7},{"$f":"SUMPRODUCT((Eingabe!$C$6:$C$400<$CX8)*(Eingabe!$D$6:$D$400>=$CX8)*(Eingabe!$B$6:$B$400=CY$3)*(Eingabe!$E$6:$E$400))","v":7},{"$f":"SUMPRODUCT((Eingabe!$C$6:$C$400<=$CX8)*(Eingabe!$D$6:$D$400>$CX8)*(Eingabe!$B$6:$B$400=DA$3)*(Eingabe!$E$6:$E$400))","v":0},{"$f":"SUMPRODUCT((Eingabe!$C$6:$C$400<$CX8)*(Eingabe!$D$6:$D$400>=$CX8)*(Eingabe!$B$6:$B$400=DA$3)*(Eingabe!$E$6:$E$400))","v":0},{"$f":"SUMPRODUCT((Eingabe!$C$6:$C$400<=$CX8)*(Eingabe!$D$6:$D$400>$CX8)*(Eingabe!$B$6:$B$400=DC$3)*(Eingabe!$E$6:$E$400))","v":0},{"$f":"SUMPRODUCT((Eingabe!$C$6:$C$400<$CX8)*(Eingabe!$D$6:$D$400>=$CX8)*(Eingabe!$B$6:$B$400=DC$3)*(Eingabe!$E$6:$E$400))","v":0},{"$f":"SUMPRODUCT((Eingabe!$C$6:$C$400<=$CX8)*(Eingabe!$D$6:$D$400>$CX8)*(Eingabe!$B$6:$B$400=DE$3)*(Eingabe!$E$6:$E$400))","v":0},{"$f":"SUMPRODUCT((Eingabe!$C$6:$C$400<$CX8)*(Eingabe!$D$6:$D$400>=$CX8)*(Eingabe!$B$6:$B$400=DE$3)*(Eingabe!$E$6:$E$400))","v":0},"2025-12-05","2025-12-05",{"$f":"SUMPRODUCT((Eingabe!$C$6:$C$400<=$DH8)*(Eingabe!$D$6:$D$400>$DH8)*(Eingabe!$B$6:$B$400=DI$3)*(Eingabe!$E$6:$E$400))","v":7},{"$f":"SUMPRODUCT((Eingabe!$C$6:$C$400<$DH8)*(Eingabe!$D$6:$D$400>=$DH8)*(Eingabe!$B$6:$B$400=DI$3)*(Eingabe!$E$6:$E$400))","v":7},{"$f":"SUMPRODUCT((Eingabe!$C$6:$C$400<=$DH8)*(Eingabe!$D$6:$D$400>$DH8)*(Eingabe!$B$6:$B$400=DK$3)*(Eingabe!$E$6:$E$400))","v":0},{"$f":"SUMPRODUCT((Eingabe!$C$6:$C$400<$DH8)*(Eingabe!$D$6:$D$400>=$DH8)*(Eingabe!$B$6:$B$400=DK$3)*(Eingabe!$E$6:$E$400))","v":0},{"$f":"SUMPRODUCT((Eingabe!$C$6:$C$400<=$DH8)*(Eingabe!$D$6:$D$400>$DH8)*(Eingabe!$B$6:$B$400=DM$3)*(Eingabe!$E$6:$E$400))","v":0},{"$f":"SUMPRODUCT((Eingabe!$C$6:$C$400<$DH8)*(Eingabe!$D$6:$D$400>=$DH8)*(Eingabe!$B$6:$B$400=DM$3)*(Eingabe!$E$6:$E$400))","v":0},{"$f":"SUMPRODUCT((Eingabe!$C$6:$C$400<=$DH8)*(Eingabe!$D$6:$D$400>$DH8)*(Eingabe!$B$6:$B$400=DO$3)*(Eingabe!$E$6:$E$400))","v":0},{"$f":"SUMPRODUCT((Eingabe!$C$6:$C$400<$DH8)*(Eingabe!$D$6:$D$400>=$DH8)*(Eingabe!$B$6:$B$400=DO$3)*(Eingabe!$E$6:$E$400))","v":0},"2026-01-05","2026-01-05",{"$f":"SUMPRODUCT((Eingabe!$C$6:$C$400<=$B8)*(Eingabe!$D$6:$D$400>$B8)*(Eingabe!$B$6:$B$400=DS$3)*(Eingabe!$E$6:$E$400))","v":0},{"$f":"SUMPRODUCT((Eingabe!$C$6:$C$400<$B8)*(Eingabe!$D$6:$D$400>=$B8)*(Eingabe!$B$6:$B$400=DS$3)*(Eingabe!$E$6:$E$400))","v":0},{"$f":"SUMPRODUCT((Eingabe!$C$6:$C$400<=$B8)*(Eingabe!$D$6:$D$400>$B8)*(Eingabe!$B$6:$B$400=DU$3)*(Eingabe!$E$6:$E$400))","v":0},{"$f":"SUMPRODUCT((Eingabe!$C$6:$C$400<$B8)*(Eingabe!$D$6:$D$400>=$B8)*(Eingabe!$B$6:$B$400=DU$3)*(Eingabe!$E$6:$E$400))","v":0},{"$f":"SUMPRODUCT((Eingabe!$C$6:$C$400<=$B8)*(Eingabe!$D$6:$D$400>$B8)*(Eingabe!$B$6:$B$400=DW$3)*(Eingabe!$E$6:$E$400))","v":0},{"$f":"SUMPRODUCT((Eingabe!$C$6:$C$400<$B8)*(Eingabe!$D$6:$D$400>=$B8)*(Eingabe!$B$6:$B$400=DW$3)*(Eingabe!$E$6:$E$400))","v":0},{"$f":"SUMPRODUCT((Eingabe!$C$6:$C$400<=$B8)*(Eingabe!$D$6:$D$400>$B8)*(Eingabe!$B$6:$B$400=DY$3)*(Eingabe!$E$6:$E$400))","v":0},{"$f":"SUMPRODUCT((Eingabe!$C$6:$C$400<$B8)*(Eingabe!$D$6:$D$400>=$B8)*(Eingabe!$B$6:$B$400=DY$3)*(Eingabe!$E$6:$E$400))","v":0},"2026-02-05","2026-02-05",{"$f":"SUMPRODUCT((Eingabe!$C$6:$C$400<=$L8)*(Eingabe!$D$6:$D$400>$L8)*(Eingabe!$B$6:$B$400=EC$3)*(Eingabe!$E$6:$E$400))","v":0},{"$f":"SUMPRODUCT((Eingabe!$C$6:$C$400<$L8)*(Eingabe!$D$6:$D$400>=$L8)*(Eingabe!$B$6:$B$400=EC$3)*(Eingabe!$E$6:$E$400))","v":0},{"$f":"SUMPRODUCT((Eingabe!$C$6:$C$400<=$L8)*(Eingabe!$D$6:$D$400>$L8)*(Eingabe!$B$6:$B$400=EE$3)*(Eingabe!$E$6:$E$400))","v":6},{"$f":"SUMPRODUCT((Eingabe!$C$6:$C$400<$L8)*(Eingabe!$D$6:$D$400>=$L8)*(Eingabe!$B$6:$B$400=EE$3)*(Eingabe!$E$6:$E$400))","v":6},{"$f":"SUMPRODUCT((Eingabe!$C$6:$C$400<=$L8)*(Eingabe!$D$6:$D$400>$L8)*(Eingabe!$B$6:$B$400=EG$3)*(Eingabe!$E$6:$E$400))","v":0},{"$f":"SUMPRODUCT((Eingabe!$C$6:$C$400<$L8)*(Eingabe!$D$6:$D$400>=$L8)*(Eingabe!$B$6:$B$400=EG$3)*(Eingabe!$E$6:$E$400))","v":0},{"$f":"SUMPRODUCT((Eingabe!$C$6:$C$400<=$L8)*(Eingabe!$D$6:$D$400>$L8)*(Eingabe!$B$6:$B$400=EI$3)*(Eingabe!$E$6:$E$400))","v":0},{"$f":"SUMPRODUCT((Eingabe!$C$6:$C$400<$L8)*(Eingabe!$D$6:$D$400>=$L8)*(Eingabe!$B$6:$B$400=EI$3)*(Eingabe!$E$6:$E$400))","v":0},"2026-03-05","2026-03-05",{"$f":"SUMPRODUCT((Eingabe!$C$6:$C$400<=$V8)*(Eingabe!$D$6:$D$400>$V8)*(Eingabe!$B$6:$B$400=EM$3)*(Eingabe!$E$6:$E$400))","v":0},{"$f":"SUMPRODUCT((Eingabe!$C$6:$C$400<$V8)*(Eingabe!$D$6:$D$400>=$V8)*(Eingabe!$B$6:$B$400=EM$3)*(Eingabe!$E$6:$E$400))","v":0},{"$f":"SUMPRODUCT((Eingabe!$C$6:$C$400<=$V8)*(Eingabe!$D$6:$D$400>$V8)*(Eingabe!$B$6:$B$400=EO$3)*(Eingabe!$E$6:$E$400))","v":0},{"$f":"SUMPRODUCT((Eingabe!$C$6:$C$400<$V8)*(Eingabe!$D$6:$D$400>=$V8)*(Eingabe!$B$6:$B$400=EO$3)*(Eingabe!$E$6:$E$400))","v":0},{"$f":"SUMPRODUCT((Eingabe!$C$6:$C$400<=$V8)*(Eingabe!$D$6:$D$400>$V8)*(Eingabe!$B$6:$B$400=EQ$3)*(Eingabe!$E$6:$E$400))","v":0},{"$f":"SUMPRODUCT((Eingabe!$C$6:$C$400<$V8)*(Eingabe!$D$6:$D$400>=$V8)*(Eingabe!$B$6:$B$400=EQ$3)*(Eingabe!$E$6:$E$400))","v":0},{"$f":"SUMPRODUCT((Eingabe!$C$6:$C$400<=$V8)*(Eingabe!$D$6:$D$400>$V8)*(Eingabe!$B$6:$B$400=ES$3)*(Eingabe!$E$6:$E$400))","v":0},{"$f":"SUMPRODUCT((Eingabe!$C$6:$C$400<$V8)*(Eingabe!$D$6:$D$400>=$V8)*(Eingabe!$B$6:$B$400=ES$3)*(Eingabe!$E$6:$E$400))","v":0},"2026-04-05","2026-04-05",{"$f":"SUMPRODUCT((Eingabe!$C$6:$C$400<=$AF8)*(Eingabe!$D$6:$D$400>$AF8)*(Eingabe!$B$6:$B$400=EW$3)*(Eingabe!$E$6:$E$400))","v":0},{"$f":"SUMPRODUCT((Eingabe!$C$6:$C$400<$AF8)*(Eingabe!$D$6:$D$400>=$AF8)*(Eingabe!$B$6:$B$400=EW$3)*(Eingabe!$E$6:$E$400))","v":0},{"$f":"SUMPRODUCT((Eingabe!$C$6:$C$400<=$AF8)*(Eingabe!$D$6:$D$400>$AF8)*(Eingabe!$B$6:$B$400=EY$3)*(Eingabe!$E$6:$E$400))","v":0},{"$f":"SUMPRODUCT((Eingabe!$C$6:$C$400<$AF8)*(Eingabe!$D$6:$D$400>=$AF8)*(Eingabe!$B$6:$B$400=EY$3)*(Eingabe!$E$6:$E$400))","v":0},{"$f":"SUMPRODUCT((Eingabe!$C$6:$C$400<=$AF8)*(Eingabe!$D$6:$D$400>$AF8)*(Eingabe!$B$6:$B$400=FA$3)*(Eingabe!$E$6:$E$400))","v":0},{"$f":"SUMPRODUCT((Eingabe!$C$6:$C$400<$AF8)*(Eingabe!$D$6:$D$400>=$AF8)*(Eingabe!$B$6:$B$400=FA$3)*(Eingabe!$E$6:$E$400))","v":0},{"$f":"SUMPRODUCT((Eingabe!$C$6:$C$400<=$AF8)*(Eingabe!$D$6:$D$400>$AF8)*(Eingabe!$B$6:$B$400=FC$3)*(Eingabe!$E$6:$E$400))","v":0},{"$f":"SUMPRODUCT((Eingabe!$C$6:$C$400<$AF8)*(Eingabe!$D$6:$D$400>=$AF8)*(Eingabe!$B$6:$B$400=FC$3)*(Eingabe!$E$6:$E$400))","v":0},"2026-05-05","2026-05-05",{"$f":"SUMPRODUCT((Eingabe!$C$6:$C$400<=$AP8)*(Eingabe!$D$6:$D$400>$AP8)*(Eingabe!$B$6:$B$400=FG$3)*(Eingabe!$E$6:$E$400))","v":0},{"$f":"SUMPRODUCT((Eingabe!$C$6:$C$400<$AP8)*(Eingabe!$D$6:$D$400>=$AP8)*(Eingabe!$B$6:$B$400=FG$3)*(Eingabe!$E$6:$E$400))","v":0},{"$f":"SUMPRODUCT((Eingabe!$C$6:$C$400<=$AP8)*(Eingabe!$D$6:$D$400>$AP8)*(Eingabe!$B$6:$B$400=FI$3)*(Eingabe!$E$6:$E$400))","v":0},{"$f":"SUMPRODUCT((Eingabe!$C$6:$C$400<$AP8)*(Eingabe!$D$6:$D$400>=$AP8)*(Eingabe!$B$6:$B$400=FI$3)*(Eingabe!$E$6:$E$400))","v":0},{"$f":"SUMPRODUCT((Eingabe!$C$6:$C$400<=$AP8)*(Eingabe!$D$6:$D$400>$AP8)*(Eingabe!$B$6:$B$400=FK$3)*(Eingabe!$E$6:$E$400))","v":0},{"$f":"SUMPRODUCT((Eingabe!$C$6:$C$400<$AP8)*(Eingabe!$D$6:$D$400>=$AP8)*(Eingabe!$B$6:$B$400=FK$3)*(Eingabe!$E$6:$E$400))","v":0},{"$f":"SUMPRODUCT((Eingabe!$C$6:$C$400<=$AP8)*(Eingabe!$D$6:$D$400>$AP8)*(Eingabe!$B$6:$B$400=FM$3)*(Eingabe!$E$6:$E$400))","v":0},{"$f":"SUMPRODUCT((Eingabe!$C$6:$C$400<$AP8)*(Eingabe!$D$6:$D$400>=$AP8)*(Eingabe!$B$6:$B$400=FM$3)*(Eingabe!$E$6:$E$400))","v":0},"2026-06-05","2026-06-05",{"$f":"SUMPRODUCT((Eingabe!$C$6:$C$400<=$AZ8)*(Eingabe!$D$6:$D$400>$AZ8)*(Eingabe!$B$6:$B$400=FQ$3)*(Eingabe!$E$6:$E$400))","v":0},{"$f":"SUMPRODUCT((Eingabe!$C$6:$C$400<$AZ8)*(Eingabe!$D$6:$D$400>=$AZ8)*(Eingabe!$B$6:$B$400=FQ$3)*(Eingabe!$E$6:$E$400))","v":0},{"$f":"SUMPRODUCT((Eingabe!$C$6:$C$400<=$AZ8)*(Eingabe!$D$6:$D$400>$AZ8)*(Eingabe!$B$6:$B$400=FS$3)*(Eingabe!$E$6:$E$400))","v":0},{"$f":"SUMPRODUCT((Eingabe!$C$6:$C$400<$AZ8)*(Eingabe!$D$6:$D$400>=$AZ8)*(Eingabe!$B$6:$B$400=FS$3)*(Eingabe!$E$6:$E$400))","v":0},{"$f":"SUMPRODUCT((Eingabe!$C$6:$C$400<=$AZ8)*(Eingabe!$D$6:$D$400>$AZ8)*(Eingabe!$B$6:$B$400=FU$3)*(Eingabe!$E$6:$E$400))","v":0},{"$f":"SUMPRODUCT((Eingabe!$C$6:$C$400<$AZ8)*(Eingabe!$D$6:$D$400>=$AZ8)*(Eingabe!$B$6:$B$400=FU$3)*(Eingabe!$E$6:$E$400))","v":0},{"$f":"SUMPRODUCT((Eingabe!$C$6:$C$400<=$AZ8)*(Eingabe!$D$6:$D$400>$AZ8)*(Eingabe!$B$6:$B$400=FW$3)*(Eingabe!$E$6:$E$400))","v":0},{"$f":"SUMPRODUCT((Eingabe!$C$6:$C$400<$AZ8)*(Eingabe!$D$6:$D$400>=$AZ8)*(Eingabe!$B$6:$B$400=FW$3)*(Eingabe!$E$6:$E$400))","v":0},"2026-07-05","2026-07-05",{"$f":"SUMPRODUCT((Eingabe!$C$6:$C$400<=$BJ8)*(Eingabe!$D$6:$D$400>$BJ8)*(Eingabe!$B$6:$B$400=GA$3)*(Eingabe!$E$6:$E$400))","v":0},{"$f":"SUMPRODUCT((Eingabe!$C$6:$C$400<$BJ8)*(Eingabe!$D$6:$D$400>=$BJ8)*(Eingabe!$B$6:$B$400=GA$3)*(Eingabe!$E$6:$E$400))","v":0},{"$f":"SUMPRODUCT((Eingabe!$C$6:$C$400<=$BJ8)*(Eingabe!$D$6:$D$400>$BJ8)*(Eingabe!$B$6:$B$400=GC$3)*(Eingabe!$E$6:$E$400))","v":0},{"$f":"SUMPRODUCT((Eingabe!$C$6:$C$400<$BJ8)*(Eingabe!$D$6:$D$400>=$BJ8)*(Eingabe!$B$6:$B$400=GC$3)*(Eingabe!$E$6:$E$400))","v":0},{"$f":"SUMPRODUCT((Eingabe!$C$6:$C$400<=$BJ8)*(Eingabe!$D$6:$D$400>$BJ8)*(Eingabe!$B$6:$B$400=GE$3)*(Eingabe!$E$6:$E$400))","v":0},{"$f":"SUMPRODUCT((Eingabe!$C$6:$C$400<$BJ8)*(Eingabe!$D$6:$D$400>=$BJ8)*(Eingabe!$B$6:$B$400=GE$3)*(Eingabe!$E$6:$E$400))","v":0},{"$f":"SUMPRODUCT((Eingabe!$C$6:$C$400<=$BJ8)*(Eingabe!$D$6:$D$400>$BJ8)*(Eingabe!$B$6:$B$400=GG$3)*(Eingabe!$E$6:$E$400))","v":0},{"$f":"SUMPRODUCT((Eingabe!$C$6:$C$400<$BJ8)*(Eingabe!$D$6:$D$400>=$BJ8)*(Eingabe!$B$6:$B$400=GG$3)*(Eingabe!$E$6:$E$400))","v":0},"2026-08-05","2026-08-05",{"$f":"SUMPRODUCT((Eingabe!$C$6:$C$400<=$BT8)*(Eingabe!$D$6:$D$400>$BT8)*(Eingabe!$B$6:$B$400=GK$3)*(Eingabe!$E$6:$E$400))","v":0},{"$f":"SUMPRODUCT((Eingabe!$C$6:$C$400<$BT8)*(Eingabe!$D$6:$D$400>=$BT8)*(Eingabe!$B$6:$B$400=GK$3)*(Eingabe!$E$6:$E$400))","v":0},{"$f":"SUMPRODUCT((Eingabe!$C$6:$C$400<=$BT8)*(Eingabe!$D$6:$D$400>$BT8)*(Eingabe!$B$6:$B$400=GM$3)*(Eingabe!$E$6:$E$400))","v":0},{"$f":"SUMPRODUCT((Eingabe!$C$6:$C$400<$BT8)*(Eingabe!$D$6:$D$400>=$BT8)*(Eingabe!$B$6:$B$400=GM$3)*(Eingabe!$E$6:$E$400))","v":0},{"$f":"SUMPRODUCT((Eingabe!$C$6:$C$400<=$BT8)*(Eingabe!$D$6:$D$400>$BT8)*(Eingabe!$B$6:$B$400=GO$3)*(Eingabe!$E$6:$E$400))","v":0},{"$f":"SUMPRODUCT((Eingabe!$C$6:$C$400<$BT8)*(Eingabe!$D$6:$D$400>=$BT8)*(Eingabe!$B$6:$B$400=GO$3)*(Eingabe!$E$6:$E$400))","v":0},{"$f":"SUMPRODUCT((Eingabe!$C$6:$C$400<=$BT8)*(Eingabe!$D$6:$D$400>$BT8)*(Eingabe!$B$6:$B$400=GQ$3)*(Eingabe!$E$6:$E$400))","v":0},{"$f":"SUMPRODUCT((Eingabe!$C$6:$C$400<$BT8)*(Eingabe!$D$6:$D$400>=$BT8)*(Eingabe!$B$6:$B$400=GQ$3)*(Eingabe!$E$6:$E$400))","v":0},"2026-09-05","2026-09-05",{"$f":"SUMPRODUCT((Eingabe!$C$6:$C$400<=$CD8)*(Eingabe!$D$6:$D$400>$CD8)*(Eingabe!$B$6:$B$400=GU$3)*(Eingabe!$E$6:$E$400))","v":0},{"$f":"SUMPRODUCT((Eingabe!$C$6:$C$400<$CD8)*(Eingabe!$D$6:$D$400>=$CD8)*(Eingabe!$B$6:$B$400=GU$3)*(Eingabe!$E$6:$E$400))","v":0},{"$f":"SUMPRODUCT((Eingabe!$C$6:$C$400<=$CD8)*(Eingabe!$D$6:$D$400>$CD8)*(Eingabe!$B$6:$B$400=GW$3)*(Eingabe!$E$6:$E$400))","v":0},{"$f":"SUMPRODUCT((Eingabe!$C$6:$C$400<$CD8)*(Eingabe!$D$6:$D$400>=$CD8)*(Eingabe!$B$6:$B$400=GW$3)*(Eingabe!$E$6:$E$400))","v":0},{"$f":"SUMPRODUCT((Eingabe!$C$6:$C$400<=$CD8)*(Eingabe!$D$6:$D$400>$CD8)*(Eingabe!$B$6:$B$400=GY$3)*(Eingabe!$E$6:$E$400))","v":0},{"$f":"SUMPRODUCT((Eingabe!$C$6:$C$400<$CD8)*(Eingabe!$D$6:$D$400>=$CD8)*(Eingabe!$B$6:$B$400=GY$3)*(Eingabe!$E$6:$E$400))","v":0},{"$f":"SUMPRODUCT((Eingabe!$C$6:$C$400<=$CD8)*(Eingabe!$D$6:$D$400>$CD8)*(Eingabe!$B$6:$B$400=HA$3)*(Eingabe!$E$6:$E$400))","v":0},{"$f":"SUMPRODUCT((Eingabe!$C$6:$C$400<$CD8)*(Eingabe!$D$6:$D$400>=$CD8)*(Eingabe!$B$6:$B$400=HA$3)*(Eingabe!$E$6:$E$400))","v":0},"2026-10-05","2026-10-05",{"$f":"SUMPRODUCT((Eingabe!$C$6:$C$400<=$CN8)*(Eingabe!$D$6:$D$400>$CN8)*(Eingabe!$B$6:$B$400=HE$3)*(Eingabe!$E$6:$E$400))","v":7},{"$f":"SUMPRODUCT((Eingabe!$C$6:$C$400<$CN8)*(Eingabe!$D$6:$D$400>=$CN8)*(Eingabe!$B$6:$B$400=HE$3)*(Eingabe!$E$6:$E$400))","v":7},{"$f":"SUMPRODUCT((Eingabe!$C$6:$C$400<=$CN8)*(Eingabe!$D$6:$D$400>$CN8)*(Eingabe!$B$6:$B$400=HG$3)*(Eingabe!$E$6:$E$400))","v":0},{"$f":"SUMPRODUCT((Eingabe!$C$6:$C$400<$CN8)*(Eingabe!$D$6:$D$400>=$CN8)*(Eingabe!$B$6:$B$400=HG$3)*(Eingabe!$E$6:$E$400))","v":0},{"$f":"SUMPRODUCT((Eingabe!$C$6:$C$400<=$CN8)*(Eingabe!$D$6:$D$400>$CN8)*(Eingabe!$B$6:$B$400=HI$3)*(Eingabe!$E$6:$E$400))","v":0},{"$f":"SUMPRODUCT((Eingabe!$C$6:$C$400<$CN8)*(Eingabe!$D$6:$D$400>=$CN8)*(Eingabe!$B$6:$B$400=HI$3)*(Eingabe!$E$6:$E$400))","v":0},{"$f":"SUMPRODUCT((Eingabe!$C$6:$C$400<=$CN8)*(Eingabe!$D$6:$D$400>$CN8)*(Eingabe!$B$6:$B$400=HK$3)*(Eingabe!$E$6:$E$400))","v":0},{"$f":"SUMPRODUCT((Eingabe!$C$6:$C$400<$CN8)*(Eingabe!$D$6:$D$400>=$CN8)*(Eingabe!$B$6:$B$400=HK$3)*(Eingabe!$E$6:$E$400))","v":0},"2026-11-05","2026-11-05",{"$f":"SUMPRODUCT((Eingabe!$C$6:$C$400<=$CX8)*(Eingabe!$D$6:$D$400>$CX8)*(Eingabe!$B$6:$B$400=HO$3)*(Eingabe!$E$6:$E$400))","v":7},{"$f":"SUMPRODUCT((Eingabe!$C$6:$C$400<$CX8)*(Eingabe!$D$6:$D$400>=$CX8)*(Eingabe!$B$6:$B$400=HO$3)*(Eingabe!$E$6:$E$400))","v":7},{"$f":"SUMPRODUCT((Eingabe!$C$6:$C$400<=$CX8)*(Eingabe!$D$6:$D$400>$CX8)*(Eingabe!$B$6:$B$400=HQ$3)*(Eingabe!$E$6:$E$400))","v":0},{"$f":"SUMPRODUCT((Eingabe!$C$6:$C$400<$CX8)*(Eingabe!$D$6:$D$400>=$CX8)*(Eingabe!$B$6:$B$400=HQ$3)*(Eingabe!$E$6:$E$400))","v":0},{"$f":"SUMPRODUCT((Eingabe!$C$6:$C$400<=$CX8)*(Eingabe!$D$6:$D$400>$CX8)*(Eingabe!$B$6:$B$400=HS$3)*(Eingabe!$E$6:$E$400))","v":0},{"$f":"SUMPRODUCT((Eingabe!$C$6:$C$400<$CX8)*(Eingabe!$D$6:$D$400>=$CX8)*(Eingabe!$B$6:$B$400=HS$3)*(Eingabe!$E$6:$E$400))","v":0},{"$f":"SUMPRODUCT((Eingabe!$C$6:$C$400<=$CX8)*(Eingabe!$D$6:$D$400>$CX8)*(Eingabe!$B$6:$B$400=HU$3)*(Eingabe!$E$6:$E$400))","v":0},{"$f":"SUMPRODUCT((Eingabe!$C$6:$C$400<$CX8)*(Eingabe!$D$6:$D$400>=$CX8)*(Eingabe!$B$6:$B$400=HU$3)*(Eingabe!$E$6:$E$400))","v":0},"2026-12-05","2026-12-05",{"$f":"SUMPRODUCT((Eingabe!$C$6:$C$400<=$DH8)*(Eingabe!$D$6:$D$400>$DH8)*(Eingabe!$B$6:$B$400=HY$3)*(Eingabe!$E$6:$E$400))","v":7},{"$f":"SUMPRODUCT((Eingabe!$C$6:$C$400<$DH8)*(Eingabe!$D$6:$D$400>=$DH8)*(Eingabe!$B$6:$B$400=HY$3)*(Eingabe!$E$6:$E$400))","v":7},{"$f":"SUMPRODUCT((Eingabe!$C$6:$C$400<=$DH8)*(Eingabe!$D$6:$D$400>$DH8)*(Eingabe!$B$6:$B$400=IA$3)*(Eingabe!$E$6:$E$400))","v":0},{"$f":"SUMPRODUCT((Eingabe!$C$6:$C$400<$DH8)*(Eingabe!$D$6:$D$400>=$DH8)*(Eingabe!$B$6:$B$400=IA$3)*(Eingabe!$E$6:$E$400))","v":0},{"$f":"SUMPRODUCT((Eingabe!$C$6:$C$400<=$DH8)*(Eingabe!$D$6:$D$400>$DH8)*(Eingabe!$B$6:$B$400=IC$3)*(Eingabe!$E$6:$E$400))","v":0},{"$f":"SUMPRODUCT((Eingabe!$C$6:$C$400<$DH8)*(Eingabe!$D$6:$D$400>=$DH8)*(Eingabe!$B$6:$B$400=IC$3)*(Eingabe!$E$6:$E$400))","v":0},{"$f":"SUMPRODUCT((Eingabe!$C$6:$C$400<=$DH8)*(Eingabe!$D$6:$D$400>$DH8)*(Eingabe!$B$6:$B$400=IE$3)*(Eingabe!$E$6:$E$400))","v":0},{"$f":"SUMPRODUCT((Eingabe!$C$6:$C$400<$DH8)*(Eingabe!$D$6:$D$400>=$DH8)*(Eingabe!$B$6:$B$400=IE$3)*(Eingabe!$E$6:$E$400))","v":0}]
["2025-01-06","2025-01-06",{"$f":"SUMPRODUCT((Eingabe!$C$6:$C$400<=$B9)*(Eingabe!$D$6:$D$400>$B9)*(Eingabe!$B$6:$B$400=C$3)*(Eingabe!$E$6:$E$400))","v":0},{"$f":"SUMPRODUCT((Eingabe!$C$6:$C$400<$B9)*(Eingabe!$D$6:$D$400>=$B9)*(Eingabe!$B$6:$B$400=C$3)*(Eingabe!$E$6:$E$400))","v":0},{"$f":"SUMPRODUCT((Eingabe!$C$6:$C$400<=$B9)*(Eingabe!$D$6:$D$400>$B9)*(Eingabe!$B$6:$B$400=E$3)*(Eingabe!$E$6:$E$400))","v":0},{"$f":"SUMPRODUCT((Eingabe!$C$6:$C$400<$B9)*(Eingabe!$D$6:$D$400>=$B9)*(Eingabe!$B$6:$B$400=E$3)*(Eingabe!$E$6:$E$400))","v":0},{"$f":"SUMPRODUCT((Eingabe!$C$6:$C$400<=$B9)*(Eingabe!$D$6:$D$400>$B9)*(Eingabe!$B$6:$B$400=G$3)*(Eingabe!$E$6:$E$400))","v":0},{"$f":"SUMPRODUCT((Eingabe!$C$6:$C$400<$B9)*(Eingabe!$D$6:$D$400>=$B9)*(Eingabe!$B$6:$B$400=G$3)*(Eingabe!$E$6:$E$400))","v":0},{"$f":"SUMPRODUCT((Eingabe!$C$6:$C$400<=$B9)*(Eingabe!$D$6:$D$400>$B9)*(Eingabe!$B$6:$B$400=I$3)*(Eingabe!$E$6:$E$400))","v":0},{"$f":"SUMPRODUCT((Eingabe!$C$6:$C$400<$B9)*(Eingabe!$D$6:$D$400>=$B9)*(Eingabe!$B$6:$B$400=I$3)*(Eingabe!$E$6:$E$400))","v":0},"2025-02-06","2025-02-06",{"$f":"SUMPRODUCT((Eingabe!$C$6:$C$400<=$L9)*(Eingabe!$D$6:$D$400>$L9)*(Eingabe!$B$6:$B$400=M$3)*(Eingabe!$E$6:$E$400))","v":0},{"$f":"SUMPRODUCT((Eingabe!$C$6:$C$400<$L9)*(Eingabe!$D$6:$D$400>=$L9)*(Eingabe!$B$6:$B$400=M$3)*(Eingabe!$E$6:$E$400))","v":0},{"$f":"SUMPRODUCT((Eingabe!$C$6:$C$400<=$L9)*(Eingabe!$D$6:$D$400>$L9)*(Eingabe!$B$6:$B$400=O$3)*(Eingabe!$E$6:$E$400))","v":6},{"$f":"SUMPRODUCT((Eingabe!$C$6:$C$400<$L9)*(Eingabe!$D$6:$D$400>=$L9)*(Eingabe!$B$6:$B$400=O$3)*(Eingabe!$E$6:$E$400))","v":6},{"$f":"SUMPRODUCT((Eingabe!$C$6:$C$400<=$L9)*(Eingabe!$D$6:$D$400>$L9)*(Eingabe!$B$6:$B$400=Q$3)*(Eingabe!$E$6:$E$400))","v":0},{"$f":"SUMPRODUCT((Eingabe!$C$6:$C$400<$L9)*(Eingabe!$D$6:$D$400>=$L9)*(Eingabe!$B$6:$B$400=Q$3)*(Eingabe!$E$6:$E$400))","v":0},{"$f":"SUMPRODUCT((Eingabe!$C$6:$C$400<=$L9)*(Eingabe!$D$6:$D$400>$L9)*(Eingabe!$B$6:$B$400=S$3)*(Eingabe!$E$6:$E$400))","v":0},{"$f":"SUMPRODUCT((Eingabe!$C$6:$C$400<$L9)*(Eingabe!$D$6:$D$400>=$L9)*(Eingabe!$B$6:$B$400=S$3)*(Eingabe!$E$6:$E$400))","v":0},"2025-03-06","2025-03-06",{"$f":"SUMPRODUCT((Eingabe!$C$6:$C$400<=$V9)*(Eingabe!$D$6:$D$400>$V9)*(Eingabe!$B$6:$B$400=W$3)*(Eingabe!$E$6:$E$400))","v":0},{"$f":"SUMPRODUCT((Eingabe!$C$6:$C$400<$V9)*(Eingabe!$D$6:$D$400>=$V9)*(Eingabe!$B$6:$B$400=W$3)*(Eingabe!$E$6:$E$400))","v":0},{"$f":"SUMPRODUCT((Eingabe!$C$6:$C$400<=$V9)*(Eingabe!$D$6:$D$400>$V9)*(Eingabe!$B$6:$B$400=Y$3)*(Eingabe!$E$6:$E$400))","v":0},{"$f":"SUMPRODUCT((Eingabe!$C$6:$C$400<$V9)*(Eingabe!$D$6:$D$400>=$V9)*(Eingabe!$B$6:$B$400=Y$3)*(Eingabe!$E$6:$E$400))","v":0},{"$f":"SUMPRODUCT((Eingabe!$C$6:$C$400<=$V9)*(Eingabe!$D$6:$D$400>$V9)*(Eingabe!$B$6:$B$400=AA$3)*(Eingabe!$E$6:$E$400))","v":0},{"$f":"SUMPRODUCT((Eingabe!$C$6:$C$400<$V9)*(Eingabe!$D$6:$D$400>=$V9)*(Eingabe!$B$6:$B$400=AA$3)*(Eingabe!$E$6:$E$400))","v":0},{"$f":"SUMPRODUCT((Eingabe!$C$6:$C$400<=$V9)*(Eingabe!$D$6:$D$400>$V9)*(Eingabe!$B$6:$B$400=AC$3)*(Eingabe!$E$6:$E$400))","v":0},{"$f":"SUMPRODUCT((Eingabe!$C$6:$C$400<$V9)*(Eingabe!$D$6:$D$400>=$V9)*(Eingabe!$B$6:$B$400=AC$3)*(Eingabe!$E$6:$E$400))","v":0},"2025-04-06","2025-04-06",{"$f":"SUMPRODUCT((Eingabe!$C$6:$C$400<=$AF9)*(Eingabe!$D$6:$D$400>$AF9)*(Eingabe!$B$6:$B$400=AG$3)*(Eingabe!$E$6:$E$400))","v":0},{"$f":"SUMPRODUCT((Eingabe!$C$6:$C$400<$AF9)*(Eingabe!$D$6:$D$400>=$AF9)*(Eingabe!$B$6:$B$400=AG$3)*(Eingabe!$E$6:$E$400))","v":0},{"$f":"SUMPRODUCT((Eingabe!$C$6:$C$400<=$AF9)*(Eingabe!$D$6:$D$400>$AF9)*(Eingabe!$B$6:$B$400=AI$3)*(Eingabe!$E$6:$E$400))","v":0},{"$f":"SUMPRODUCT((Eingabe!$C$6:$C$400<$AF9)*(Eingabe!$D$6:$D$400>=$AF9)*(Eingabe!$B$6:$B$400=AI$3)*(Eingabe!$E$6:$E$400))","v":0},{"$f":"SUMPRODUCT((Eingabe!$C$6:$C$400<=$AF9)*(Eingabe!$D$6:$D$400>$AF9)*(Eingabe!$B$6:$B$400=AK$3)*(Eingabe!$E$6:$E$400))","v":0},{"$f":"SUMPRODUCT((Eingabe!$C$6:$C$400<$AF9)*(Eingabe!$D$6:$D$400>=$AF9)*(Eingabe!$B$6:$B$400=AK$3)*(Eingabe!$E$6:$E$400))","v":0},{"$f":"SUMPRODUCT((Eingabe!$C$6:$C$400<=$AF9)*(Eingabe!$D$6:$D$400>$AF9)*(Eingabe!$B$6:$B$400=AM$3)*(Eingabe!$E$6:$E$400))","v":0},{"$f":"SUMPRODUCT((Eingabe!$C$6:$C$400<$AF9)*(Eingabe!$D$6:$D$400>=$AF9)*(Eingabe!$B$6:$B$400=AM$3)*(Eingabe!$E$6:$E$400))","v":0},"2025-05-06","2025-05-06",{"$f":"SUMPRODUCT((Eingabe!$C$6:$C$400<=$AP9)*(Eingabe!$D$6:$D$400>$AP9)*(Eingabe!$B$6:$B$400=AQ$3)*(Eingabe!$E$6:$E$400))","v":0},{"$f":"SUMPRODUCT((Eingabe!$C$6:$C$400<$AP9)*(Eingabe!$D$6:$D$400>=$AP9)*(Eingabe!$B$6:$B$400=AQ$3)*(Eingabe!$E$6:$E$400))","v":0},{"$f":"SUMPRODUCT((Eingabe!$C$6:$C$400<=$AP9)*(Eingabe!$D$6:$D$400>$AP9)*(Eingabe!$B$6:$B$400=AS$3)*(Eingabe!$E$6:$E$400))","v":0},{"$f":"SUMPRODUCT((Eingabe!$C$6:$C$400<$AP9)*(Eingabe!$D$6:$D$400>=$AP9)*(Eingabe!$B$6:$B$400=AS$3)*(Eingabe!$E$6:$E$400))","v":0},{"$f":"SUMPRODUCT((Eingabe!$C$6:$C$400<=$AP9)*(Eingabe!$D$6:$D$400>$AP9)*(Eingabe!$B$6:$B$400=AU$3)*(Eingabe!$E$6:$E$400))","v":0},{"$f":"SUMPRODUCT((Eingabe!$C$6:$C$400<$AP9)*(Eingabe!$D$6:$D$400>=$AP9)*(Eingabe!$B$6:$B$400=AU$3)*(Eingabe!$E$6:$E$400))","v":0},{"$f":"SUMPRODUCT((Eingabe!$C$6:$C$400<=$AP9)*(Eingabe!$D$6:$D$400>$AP9)*(Eingabe!$B$6:$B$400=AW$3)*(Eingabe!$E$6:$E$400))","v":0},{"$f":"SUMPRODUCT((Eingabe!$C$6:$C$400<$AP9)*(Eingabe!$D$6:$D$400>=$AP9)*(Eingabe!$B$6:$B$400=AW$3)*(Eingabe!$E$6:$E$400))","v":0},"2025-06-06","2025-06-06",{"$f":"SUMPRODUCT((Eingabe!$C$6:$C$400<=$AZ9)*(Eingabe!$D$6:$D$400>$AZ9)*(Eingabe!$B$6:$B$400=BA$3)*(Eingabe!$E$6:$E$400))","v":0},{"$f":"SUMPRODUCT((Eingabe!$C$6:$C$400<$AZ9)*(Eingabe!$D$6:$D$400>=$AZ9)*(Eingabe!$B$6:$B$400=BA$3)*(Eingabe!$E$6:$E$400))","v":0},{"$f":"SUMPRODUCT((Eingabe!$C$6:$C$400<=$AZ9)*(Eingabe!$D$6:$D$400>$AZ9)*(Eingabe!$B$6:$B$400=BC$3)*(Eingabe!$E$6:$E$400))","v":0},{"$f":"SUMPRODUCT((Eingabe!$C$6:$C$400<$AZ9)*(Eingabe!$D$6:$D$400>=$AZ9)*(Eingabe!$B$6:$B$400=BC$3)*(Eingabe!$E$6:$E$400))","v":0},{"$f":"SUMPRODUCT((Eingabe!$C$6:$C$400<=$AZ9)*(Eingabe!$D$6:$D$400>$AZ9)*(Eingabe!$B$6:$B$400=BE$3)*(Eingabe!$E$6:$E$400))","v":0},{"$f":"SUMPRODUCT((Eingabe!$C$6:$C$400<$AZ9)*(Eingabe!$D$6:$D$400>=$AZ9)*(Eingabe!$B$6:$B$400=BE$3)*(Eingabe!$E$6:$E$400))","v":0},{"$f":"SUMPRODUCT((Eingabe!$C$6:$C$400<=$AZ9)*(Eingabe!$D$6:$D$400>$AZ9)*(Eingabe!$B$6:$B$400=BG$3)*(Eingabe!$E$6:$E$400))","v":0},{"$f":"SUMPRODUCT((Eingabe!$C$6:$C$400<$AZ9)*(Eingabe!$D$6:$D$400>=$AZ9)*(Eingabe!$B$6:$B$400=BG$3)*(Eingabe!$E$6:$E$400))","v":0},"2025-07-06","2025-07-06",{"$f":"SUMPRODUCT((Eingabe!$C$6:$C$400<=$BJ9)*(Eingabe!$D$6:$D$400>$BJ9)*(Eingabe!$B$6:$B$400=BK$3)*(Eingabe!$E$6:$E$400))","v":6},{"$f":"SUMPRODUCT((Eingabe!$C$6:$C$400<$BJ9)*(Eingabe!$D$6:$D$400>=$BJ9)*(Eingabe!$B$6:$B$400=BK$3)*(Eingabe!$E$6:$E$400))","v":0},{"$f":"SUMPRODUCT((Eingabe!$C$6:$C$400<=$BJ9)*(Eingabe!$D$6:$D$400>$BJ9)*(Eingabe!$B$6:$B$400=BM$3)*(Eingabe!$E$6:$E$400))","v":0},{"$f":"SUMPRODUCT((Eingabe!$C$6:$C$400<$BJ9)*(Eingabe!$D$6:$D$400>=$BJ9)*(Eingabe!$B$6:$B$400=BM$3)*(Eingabe!$E$6:$E$400))","v":0},{"$f":"SUMPRODUCT((Eingabe!$C$6:$C$400<=$BJ9)*(Eingabe!$D$6:$D$400>$BJ9)*(Eingabe!$B$6:$B$400=BO$3)*(Eingabe!$E$6:$E$400))","v":0},{"$f":"SUMPRODUCT((Eingabe!$C$6:$C$400<$BJ9)*(Eingabe!$D$6:$D$400>=$BJ9)*(Eingabe!$B$6:$B$400=BO$3)*(Eingabe!$E$6:$E$400))","v":0},{"$f":"SUMPRODUCT((Eingabe!$C$6:$C$400<=$BJ9)*(Eingabe!$D$6:$D$400>$BJ9)*(Eingabe!$B$6:$B$400=BQ$3)*(Eingabe!$E$6:$E$400))","v":0},{"$f":"SUMPRODUCT((Eingabe!$C$6:$C$400<$BJ9)*(Eingabe!$D$6:$D$400>=$BJ9)*(Eingabe!$B$6:$B$400=BQ$3)*(Eingabe!$E$6:$E$400))","v":0},"2025-08-06","2025-08-06",{"$f":"SUMPRODUCT((Eingabe!$C$6:$C$400<=$BT9)*(Eingabe!$D$6:$D$400>$BT9)*(Eingabe!$B$6:$B$400=BU$3)*(Eingabe!$E$6:$E$400))","v":0},{"$f":"SUMPRODUCT((Eingabe!$C$6:$C$400<$BT9)*(Eingabe!$D$6:$D$400>=$BT9)*(Eingabe!$B$6:$B$400=BU$3)*(Eingabe!$E$6:$E$400))","v":0},{"$f":"SUMPRODUCT((Eingabe!$C$6:$C$400<=$BT9)*(Eingabe!$D$6:$D$400>$BT9)*(Eingabe!$B$6:$B$400=BW$3)*(Eingabe!$E$6:$E$400))","v":0},{"$f":"SUMPRODUCT((Eingabe!$C$6:$C$400<$BT9)*(Eingabe!$D$6:$D$400>=$BT9)*(Eingabe!$B$6:$B$400=BW$3)*(Eingabe!$E$6:$E$400))","v":0},{"$f":"SUMPRODUCT((Eingabe!$C$6:$C$400<=$BT9)*(Eingabe!$D$6:$D$400>$BT9)*(Eingabe!$B$6:$B$400=BY$3)*(Eingabe!$E$6:$E$400))","v":0},{"$f":"SUMPRODUCT((Eingabe!$C$6:$C$400<$BT9)*(Eingabe!$D$6:$D$400>=$BT9)*(Eingabe!$B$6:$B$400=BY$3)*(Eingabe!$E$6:$E$400))","v":0},{"$f":"SUMPRODUCT((Eingabe!$C$6:$C$400<=$BT9)*(Eingabe!$D$6:$D$400>$BT9)*(Eingabe!$B$6:$B$400=CA$3)*(Eingabe!$E$6:$E$400))","v":0},{"$f":"SUMPRODUCT((Eingabe!$C$6:$C$400<$BT9)*(Eingabe!$D$6:$D$400>=$BT9)*(Eingabe!$B$6:$B$400=CA$3)*(Eingabe!$E$6:$E$400))","v":0},"2025-09-06","2025-09-06",{"$f":"SUMPRODUCT((Eingabe!$C$6:$C$400<=$CD9)*(Eingabe!$D$6:$D$400>$CD9)*(Eingabe!$B$6:$B$400=CE$3)*(Eingabe!$E$6:$E$400))","v":0},{"$f":"SUMPRODUCT((Eingabe!$C$6:$C$400<$CD9)*(Eingabe!$D$6:$D$400>=$CD9)*(Eingabe!$B$6:$B$400=CE$3)*(Eingabe!$E$6:$E$400))","v":0},{"$f":"SUMPRODUCT((Eingabe!$C$6:$C$400<=$CD9)*(Eingabe!$D$6:$D$400>$CD9)*(Eingabe!$B$6:$B$400=CG$3)*(Eingabe!$E$6:$E$400))","v":0},{"$f":"SUMPRODUCT((Eingabe!$C$6:$C$400<$CD9)*(Eingabe!$D$6:$D$400>=$CD9)*(Eingabe!$B$6:$B$400=CG$3)*(Eingabe!$E$6:$E$400))","v":0},{"$f":"SUMPRODUCT((Eingabe!$C$6:$C$400<=$CD9)*(Eingabe!$D$6:$D$400>$CD9)*(Eingabe!$B$6:$B$400=CI$3)*(Eingabe!$E$6:$E$400))","v":0},{"$f":"SUMPRODUCT((Eingabe!$C$6:$C$400<$CD9)*(Eingabe!$D$6:$D$400>=$CD9)*(Eingabe!$B$6:$B$400=CI$3)*(Eingabe!$E$6:$E$400))","v":0},{"$f":"SUMPRODUCT((Eingabe!$C$6:$C$400<=$CD9)*(Eingabe!$D$6:$D$400>$CD9)*(Eingabe!$B$6:$B$400=CK$3)*(Eingabe!$E$6:$E$400))","v":0},{"$f":"SUMPRODUCT((Eingabe!$C$6:$C$400<$CD9)*(Eingabe!$D$6:$D$400>=$CD9)*(Eingabe!$B$6:$B$400=CK$3)*(Eingabe!$E$6:$E$400))","v":0},"2025-10-06","2025-10-06",{"$f":"SUMPRODUCT((Eingabe!$C$6:$C$400<=$CN9)*(Eingabe!$D$6:$D$400>$CN9)*(Eingabe!$B$6:$B$400=CO$3)*(Eingabe!$E$6:$E$400))","v":7},{"$f":"SUMPRODUCT((Eingabe!$C$6:$C$400<$CN9)*(Eingabe!$D$6:$D$400>=$CN9)*(Eingabe!$B$6:$B$400=CO$3)*(Eingabe!$E$6:$E$400))","v":7},{"$f":"SUMPRODUCT((Eingabe!$C$6:$C$400<=$CN9)*(Eingabe!$D$6:$D$400>$CN9)*(Eingabe!$B$6:$B$400=CQ$3)*(Eingabe!$E$6:$E$400))","v":0},{"$f":"SUMPRODUCT((Eingabe!$C$6:$C$400<$CN9)*(Eingabe!$D$6:$D$400>=$CN9)*(Eingabe!$B$6:$B$400=CQ$3)*(Eingabe!$E$6:$E$400))","v":0},{"$f":"SUMPRODUCT((Eingabe!$C$6:$C$400<=$CN9)*(Eingabe!$D$6:$D$400>$CN9)*(Eingabe!$B$6:$B$400=CS$3)*(Eingabe!$E$6:$E$400))","v":0},{"$f":"SUMPRODUCT((Eingabe!$C$6:$C$400<$CN9)*(Eingabe!$D$6:$D$400>=$CN9)*(Eingabe!$B$6:$B$400=CS$3)*(Eingabe!$E$6:$E$400))","v":0},{"$f":"SUMPRODUCT((Eingabe!$C$6:$C$400<=$CN9)*(Eingabe!$D$6:$D$400>$CN9)*(Eingabe!$B$6:$B$400=CU$3)*(Eingabe!$E$6:$E$400))","v":0},{"$f":"SUMPRODUCT((Eingabe!$C$6:$C$400<$CN9)*(Eingabe!$D$6:$D$400>=$CN9)*(Eingabe!$B$6:$B$400=CU$3)*(Eingabe!$E$6:$E$400))","v":0},"2025-11-06","2025-11-06",{"$f":"SUMPRODUCT((Eingabe!$C$6:$C$400<=$CX9)*(Eingabe!$D$6:$D$400>$CX9)*(Eingabe!$B$6:$B$400=CY$3)*(Eingabe!$E$6:$E$400))","v":7},{"$f":"SUMPRODUCT((Eingabe!$C$6:$C$400<$CX9)*(Eingabe!$D$6:$D$400>=$CX9)*(Eingabe!$B$6:$B$400=CY$3)*(Eingabe!$E$6:$E$400))","v":7},{"$f":"SUMPRODUCT((Eingabe!$C$6:$C$400<=$CX9)*(Eingabe!$D$6:$D$400>$CX9)*(Eingabe!$B$6:$B$400=DA$3)*(Eingabe!$E$6:$E$400))","v":0},{"$f":"SUMPRODUCT((Eingabe!$C$6:$C$400<$CX9)*(Eingabe!$D$6:$D$400>=$CX9)*(Eingabe!$B$6:$B$400=DA$3)*(Eingabe!$E$6:$E$400))","v":0},{"$f":"SUMPRODUCT((Eingabe!$C$6:$C$400<=$CX9)*(Eingabe!$D$6:$D$400>$CX9)*(Eingabe!$B$6:$B$400=DC$3)*(Eingabe!$E$6:$E$400))","v":0},{"$f":"SUMPRODUCT((Eingabe!$C$6:$C$400<$CX9)*(Eingabe!$D$6:$D$400>=$CX9)*(Eingabe!$B$6:$B$400=DC$3)*(Eingabe!$E$6:$E$400))","v":0},{"$f":"SUMPRODUCT((Eingabe!$C$6:$C$400<=$CX9)*(Eingabe!$D$6:$D$400>$CX9)*(Eingabe!$B$6:$B$400=DE$3)*(Eingabe!$E$6:$E$400))","v":0},{"$f":"SUMPRODUCT((Eingabe!$C$6:$C$400<$CX9)*(Eingabe!$D$6:$D$400>=$CX9)*(Eingabe!$B$6:$B$400=DE$3)*(Eingabe!$E$6:$E$400))","v":0},"2025-12-06","2025-12-06",{"$f":"SUMPRODUCT((Eingabe!$C$6:$C$400<=$DH9)*(Eingabe!$D$6:$D$400>$DH9)*(Eingabe!$B$6:$B$400=DI$3)*(Eingabe!$E$6:$E$400))","v":7},{"$f":"SUMPRODUCT((Eingabe!$C$6:$C$400<$DH9)*(Eingabe!$D$6:$D$400>=$DH9)*(Eingabe!$B$6:$B$400=DI$3)*(Eingabe!$E$6:$E$400))","v":7},{"$f":"SUMPRODUCT((Eingabe!$C$6:$C$400<=$DH9)*(Eingabe!$D$6:$D$400>$DH9)*(Eingabe!$B$6:$B$400=DK$3)*(Eingabe!$E$6:$E$400))","v":0},{"$f":"SUMPRODUCT((Eingabe!$C$6:$C$400<$DH9)*(Eingabe!$D$6:$D$400>=$DH9)*(Eingabe!$B$6:$B$400=DK$3)*(Eingabe!$E$6:$E$400))","v":0},{"$f":"SUMPRODUCT((Eingabe!$C$6:$C$400<=$DH9)*(Eingabe!$D$6:$D$400>$DH9)*(Eingabe!$B$6:$B$400=DM$3)*(Eingabe!$E$6:$E$400))","v":0},{"$f":"SUMPRODUCT((Eingabe!$C$6:$C$400<$DH9)*(Eingabe!$D$6:$D$400>=$DH9)*(Eingabe!$B$6:$B$400=DM$3)*(Eingabe!$E$6:$E$400))","v":0},{"$f":"SUMPRODUCT((Eingabe!$C$6:$C$400<=$DH9)*(Eingabe!$D$6:$D$400>$DH9)*(Eingabe!$B$6:$B$400=DO$3)*(Eingabe!$E$6:$E$400))","v":0},{"$f":"SUMPRODUCT((Eingabe!$C$6:$C$400<$DH9)*(Eingabe!$D$6:$D$400>=$DH9)*(Eingabe!$B$6:$B$400=DO$3)*(Eingabe!$E$6:$E$400))","v":0},"2026-01-06","2026-01-06",{"$f":"SUMPRODUCT((Eingabe!$C$6:$C$400<=$B9)*(Eingabe!$D$6:$D$400>$B9)*(Eingabe!$B$6:$B$400=DS$3)*(Eingabe!$E$6:$E$400))","v":0},{"$f":"SUMPRODUCT((Eingabe!$C$6:$C$400<$B9)*(Eingabe!$D$6:$D$400>=$B9)*(Eingabe!$B$6:$B$400=DS$3)*(Eingabe!$E$6:$E$400))","v":0},{"$f":"SUMPRODUCT((Eingabe!$C$6:$C$400<=$B9)*(Eingabe!$D$6:$D$400>$B9)*(Eingabe!$B$6:$B$400=DU$3)*(Eingabe!$E$6:$E$400))","v":0},{"$f":"SUMPRODUCT((Eingabe!$C$6:$C$400<$B9)*(Eingabe!$D$6:$D$400>=$B9)*(Eingabe!$B$6:$B$400=DU$3)*(Eingabe!$E$6:$E$400))","v":0},{"$f":"SUMPRODUCT((Eingabe!$C$6:$C$400<=$B9)*(Eingabe!$D$6:$D$400>$B9)*(Eingabe!$B$6:$B$400=DW$3)*(Eingabe!$E$6:$E$400))","v":0},{"$f":"SUMPRODUCT((Eingabe!$C$6:$C$400<$B9)*(Eingabe!$D$6:$D$400>=$B9)*(Eingabe!$B$6:$B$400=DW$3)*(Eingabe!$E$6:$E$400))","v":0},{"$f":"SUMPRODUCT((Eingabe!$C$6:$C$400<=$B9)*(Eingabe!$D$6:$D$400>$B9)*(Eingabe!$B$6:$B$400=DY$3)*(Eingabe!$E$6:$E$400))","v":0},{"$f":"SUMPRODUCT((Eingabe!$C$6:$C$400<$B9)*(Eingabe!$D$6:$D$400>=$B9)*(Eingabe!$B$6:$B$400=DY$3)*(Eingabe!$E$6:$E$400))","v":0},"2026-02-06","2026-02-06",{"$f":"SUMPRODUCT((Eingabe!$C$6:$C$400<=$L9)*(Eingabe!$D$6:$D$400>$L9)*(Eingabe!$B$6:$B$400=EC$3)*(Eingabe!$E$6:$E$400))","v":0},{"$f":"SUMPRODUCT((Eingabe!$C$6:$C$400<$L9)*(Eingabe!$D$6:$D$400>=$L9)*(Eingabe!$B$6:$B$400=EC$3)*(Eingabe!$E$6:$E$400))","v":0},{"$f":"SUMPRODUCT((Eingabe!$C$6:$C$400<=$L9)*(Eingabe!$D$6:$D$400>$L9)*(Eingabe!$B$6:$B$400=EE$3)*(Eingabe!$E$6:$E$400))","v":6},{"$f":"SUMPRODUCT((Eingabe!$C$6:$C$400<$L9)*(Eingabe!$D$6:$D$400>=$L9)*(Eingabe!$B$6:$B$400=EE$3)*(Eingabe!$E$6:$E$400))","v":6},{"$f":"SUMPRODUCT((Eingabe!$C$6:$C$400<=$L9)*(Eingabe!$D$6:$D$400>$L9)*(Eingabe!$B$6:$B$400=EG$3)*(Eingabe!$E$6:$E$400))","v":0},{"$f":"SUMPRODUCT((Eingabe!$C$6:$C$400<$L9)*(Eingabe!$D$6:$D$400>=$L9)*(Eingabe!$B$6:$B$400=EG$3)*(Eingabe!$E$6:$E$400))","v":0},{"$f":"SUMPRODUCT((Eingabe!$C$6:$C$400<=$L9)*(Eingabe!$D$6:$D$400>$L9)*(Eingabe!$B$6:$B$400=EI$3)*(Eingabe!$E$6:$E$400))","v":0},{"$f":"SUMPRODUCT((Eingabe!$C$6:$C$400<$L9)*(Eingabe!$D$6:$D$400>=$L9)*(Eingabe!$B$6:$B$400=EI$3)*(Eingabe!$E$6:$E$400))","v":0},"2026-03-06","2026-03-06",{"$f":"SUMPRODUCT((Eingabe!$C$6:$C$400<=$V9)*(Eingabe!$D$6:$D$400>$V9)*(Eingabe!$B$6:$B$400=EM$3)*(Eingabe!$E$6:$E$400))","v":0},{"$f":"SUMPRODUCT((Eingabe!$C$6:$C$400<$V9)*(Eingabe!$D$6:$D$400>=$V9)*(Eingabe!$B$6:$B$400=EM$3)*(Eingabe!$E$6:$E$400))","v":0},{"$f":"SUMPRODUCT((Eingabe!$C$6:$C$400<=$V9)*(Eingabe!$D$6:$D$400>$V9)*(Eingabe!$B$6:$B$400=EO$3)*(Eingabe!$E$6:$E$400))","v":0},{"$f":"SUMPRODUCT((Eingabe!$C$6:$C$400<$V9)*(Eingabe!$D$6:$D$400>=$V9)*(Eingabe!$B$6:$B$400=EO$3)*(Eingabe!$E$6:$E$400))","v":0},{"$f":"SUMPRODUCT((Eingabe!$C$6:$C$400<=$V9)*(Eingabe!$D$6:$D$400>$V9)*(Eingabe!$B$6:$B$400=EQ$3)*(Eingabe!$E$6:$E$400))","v":0},{"$f":"SUMPRODUCT((Eingabe!$C$6:$C$400<$V9)*(Eingabe!$D$6:$D$400>=$V9)*(Eingabe!$B$6:$B$400=EQ$3)*(Eingabe!$E$6:$E$400))","v":0},{"$f":"SUMPRODUCT((Eingabe!$C$6:$C$400<=$V9)*(Eingabe!$D$6:$D$400>$V9)*(Eingabe!$B$6:$B$400=ES$3)*(Eingabe!$E$6:$E$400))","v":0},{"$f":"SUMPRODUCT((Eingabe!$C$6:$C$400<$V9)*(Eingabe!$D$6:$D$400>=$V9)*(Eingabe!$B$6:$B$400=ES$3)*(Eingabe!$E$6:$E$400))","v":0},"2026-04-06","2026-04-06",{"$f":"SUMPRODUCT((Eingabe!$C$6:$C$400<=$AF9)*(Eingabe!$D$6:$D$400>$AF9)*(Eingabe!$B$6:$B$400=EW$3)*(Eingabe!$E$6:$E$400))","v":0},{"$f":"SUMPRODUCT((Eingabe!$C$6:$C$400<$AF9)*(Eingabe!$D$6:$D$400>=$AF9)*(Eingabe!$B$6:$B$400=EW$3)*(Eingabe!$E$6:$E$400))","v":0},{"$f":"SUMPRODUCT((Eingabe!$C$6:$C$400<=$AF9)*(Eingabe!$D$6:$D$400>$AF9)*(Eingabe!$B$6:$B$400=EY$3)*(Eingabe!$E$6:$E$400))","v":0},{"$f":"SUMPRODUCT((Eingabe!$C$6:$C$400<$AF9)*(Eingabe!$D$6:$D$400>=$AF9)*(Eingabe!$B$6:$B$400=EY$3)*(Eingabe!$E$6:$E$400))","v":0},{"$f":"SUMPRODUCT((Eingabe!$C$6:$C$400<=$AF9)*(Eingabe!$D$6:$D$400>$AF9)*(Eingabe!$B$6:$B$400=FA$3)*(Eingabe!$E$6:$E$400))","v":0},{"$f":"SUMPRODUCT((Eingabe!$C$6:$C$400<$AF9)*(Eingabe!$D$6:$D$400>=$AF9)*(Eingabe!$B$6:$B$400=FA$3)*(Eingabe!$E$6:$E$400))","v":0},{"$f":"SUMPRODUCT((Eingabe!$C$6:$C$400<=$AF9)*(Eingabe!$D$6:$D$400>$AF9)*(Eingabe!$B$6:$B$400=FC$3)*(Eingabe!$E$6:$E$400))","v":0},{"$f":"SUMPRODUCT((Eingabe!$C$6:$C$400<$AF9)*(Eingabe!$D$6:$D$400>=$AF9)*(Eingabe!$B$6:$B$400=FC$3)*(Eingabe!$E$6:$E$400))","v":0},"2026-05-06","2026-05-06",{"$f":"SUMPRODUCT((Eingabe!$C$6:$C$400<=$AP9)*(Eingabe!$D$6:$D$400>$AP9)*(Eingabe!$B$6:$B$400=FG$3)*(Eingabe!$E$6:$E$400))","v":0},{"$f":"SUMPRODUCT((Eingabe!$C$6:$C$400<$AP9)*(Eingabe!$D$6:$D$400>=$AP9)*(Eingabe!$B$6:$B$400=FG$3)*(Eingabe!$E$6:$E$400))","v":0},{"$f":"SUMPRODUCT((Eingabe!$C$6:$C$400<=$AP9)*(Eingabe!$D$6:$D$400>$AP9)*(Eingabe!$B$6:$B$400=FI$3)*(Eingabe!$E$6:$E$400))","v":0},{"$f":"SUMPRODUCT((Eingabe!$C$6:$C$400<$AP9)*(Eingabe!$D$6:$D$400>=$AP9)*(Eingabe!$B$6:$B$400=FI$3)*(Eingabe!$E$6:$E$400))","v":0},{"$f":"SUMPRODUCT((Eingabe!$C$6:$C$400<=$AP9)*(Eingabe!$D$6:$D$400>$AP9)*(Eingabe!$B$6:$B$400=FK$3)*(Eingabe!$E$6:$E$400))","v":0},{"$f":"SUMPRODUCT((Eingabe!$C$6:$C$400<$AP9)*(Eingabe!$D$6:$D$400>=$AP9)*(Eingabe!$B$6:$B$400=FK$3)*(Eingabe!$E$6:$E$400))","v":0},{"$f":"SUMPRODUCT((Eingabe!$C$6:$C$400<=$AP9)*(Eingabe!$D$6:$D$400>$AP9)*(Eingabe!$B$6:$B$400=FM$3)*(Eingabe!$E$6:$E$400))","v":0},{"$f":"SUMPRODUCT((Eingabe!$C$6:$C$400<$AP9)*(Eingabe!$D$6:$D$400>=$AP9)*(Eingabe!$B$6:$B$400=FM$3)*(Eingabe!$E$6:$E$400))","v":0},"2026-06-06","2026-06-06",{"$f":"SUMPRODUCT((Eingabe!$C$6:$C$400<=$AZ9)*(Eingabe!$D$6:$D$400>$AZ9)*(Eingabe!$B$6:$B$400=FQ$3)*(Eingabe!$E$6:$E$400))","v":0},{"$f":"SUMPRODUCT((Eingabe!$C$6:$C$400<$AZ9)*(Eingabe!$D$6:$D$400>=$AZ9)*(Eingabe!$B$6:$B$400=FQ$3)*(Eingabe!$E$6:$E$400))","v":0},{"$f":"SUMPRODUCT((Eingabe!$C$6:$C$400<=$AZ9)*(Eingabe!$D$6:$D$400>$AZ9)*(Eingabe!$B$6:$B$400=FS$3)*(Eingabe!$E$6:$E$400))","v":0},{"$f":"SUMPRODUCT((Eingabe!$C$6:$C$400<$AZ9)*(Eingabe!$D$6:$D$400>=$AZ9)*(Eingabe!$B$6:$B$400=FS$3)*(Eingabe!$E$6:$E$400))","v":0},{"$f":"SUMPRODUCT((Eingabe!$C$6:$C$400<=$AZ9)*(Eingabe!$D$6:$D$400>$AZ9)*(Eingabe!$B$6:$B$400=FU$3)*(Eingabe!$E$6:$E$400))","v":0},{"$f":"SUMPRODUCT((Eingabe!$C$6:$C$400<$AZ9)*(Eingabe!$D$6:$D$400>=$AZ9)*(Eingabe!$B$6:$B$400=FU$3)*(Eingabe!$E$6:$E$400))","v":0},{"$f":"SUMPRODUCT((Eingabe!$C$6:$C$400<=$AZ9)*(Eingabe!$D$6:$D$400>$AZ9)*(Eingabe!$B$6:$B$400=FW$3)*(Eingabe!$E$6:$E$400))","v":0},{"$f":"SUMPRODUCT((Eingabe!$C$6:$C$400<$AZ9)*(Eingabe!$D$6:$D$400>=$AZ9)*(Eingabe!$B$6:$B$400=FW$3)*(Eingabe!$E$6:$E$400))","v":0},"2026-07-06","2026-07-06",{"$f":"SUMPRODUCT((Eingabe!$C$6:$C$400<=$BJ9)*(Eingabe!$D$6:$D$400>$BJ9)*(Eingabe!$B$6:$B$400=GA$3)*(Eingabe!$E$6:$E$400))","v":6},{"$f":"SUMPRODUCT((Eingabe!$C$6:$C$400<$BJ9)*(Eingabe!$D$6:$D$400>=$BJ9)*(Eingabe!$B$6:$B$400=GA$3)*(Eingabe!$E$6:$E$400))","v":0},{"$f":"SUMPRODUCT((Eingabe!$C$6:$C$400<=$BJ9)*(Eingabe!$D$6:$D$400>$BJ9)*(Eingabe!$B$6:$B$400=GC$3)*(Eingabe!$E$6:$E$400))","v":0},{"$f":"SUMPRODUCT((Eingabe!$C$6:$C$400<$BJ9)*(Eingabe!$D$6:$D$400>=$BJ9)*(Eingabe!$B$6:$B$400=GC$3)*(Eingabe!$E$6:$E$400))","v":0},{"$f":"SUMPRODUCT((Eingabe!$C$6:$C$400<=$BJ9)*(Eingabe!$D$6:$D$400>$BJ9)*(Eingabe!$B$6:$B$400=GE$3)*(Eingabe!$E$6:$E$400))","v":0},{"$f":"SUMPRODUCT((Eingabe!$C$6:$C$400<$BJ9)*(Eingabe!$D$6:$D$400>=$BJ9)*(Eingabe!$B$6:$B$400=GE$3)*(Eingabe!$E$6:$E$400))","v":0},{"$f":"SUMPRODUCT((Eingabe!$C$6:$C$400<=$BJ9)*(Eingabe!$D$6:$D$400>$BJ9)*(Eingabe!$B$6:$B$400=GG$3)*(Eingabe!$E$6:$E$400))","v":0},{"$f":"SUMPRODUCT((Eingabe!$C$6:$C$400<$BJ9)*(Eingabe!$D$6:$D$400>=$BJ9)*(Eingabe!$B$6:$B$400=GG$3)*(Eingabe!$E$6:$E$400))","v":0},"2026-08-06","2026-08-06",{"$f":"SUMPRODUCT((Eingabe!$C$6:$C$400<=$BT9)*(Eingabe!$D$6:$D$400>$BT9)*(Eingabe!$B$6:$B$400=GK$3)*(Eingabe!$E$6:$E$400))","v":0},{"$f":"SUMPRODUCT((Eingabe!$C$6:$C$400<$BT9)*(Eingabe!$D$6:$D$400>=$BT9)*(Eingabe!$B$6:$B$400=GK$3)*(Eingabe!$E$6:$E$400))","v":0},{"$f":"SUMPRODUCT((Eingabe!$C$6:$C$400<=$BT9)*(Eingabe!$D$6:$D$400>$BT9)*(Eingabe!$B$6:$B$400=GM$3)*(Eingabe!$E$6:$E$400))","v":0},{"$f":"SUMPRODUCT((Eingabe!$C$6:$C$400<$BT9)*(Eingabe!$D$6:$D$400>=$BT9)*(Eingabe!$B$6:$B$400=GM$3)*(Eingabe!$E$6:$E$400))","v":0},{"$f":"SUMPRODUCT((Eingabe!$C$6:$C$400<=$BT9)*(Eingabe!$D$6:$D$400>$BT9)*(Eingabe!$B$6:$B$400=GO$3)*(Eingabe!$E$6:$E$400))","v":0},{"$f":"SUMPRODUCT((Eingabe!$C$6:$C$400<$BT9)*(Eingabe!$D$6:$D$400>=$BT9)*(Eingabe!$B$6:$B$400=GO$3)*(Eingabe!$E$6:$E$400))","v":0},{"$f":"SUMPRODUCT((Eingabe!$C$6:$C$400<=$BT9)*(Eingabe!$D$6:$D$400>$BT9)*(Eingabe!$B$6:$B$400=GQ$3)*(Eingabe!$E$6:$E$400))","v":0},{"$f":"SUMPRODUCT((Eingabe!$C$6:$C$400<$BT9)*(Eingabe!$D$6:$D$400>=$BT9)*(Eingabe!$B$6:$B$400=GQ$3)*(Eingabe!$E$6:$E$400))","v":0},"2026-09-06","2026-09-06",{"$f":"SUMPRODUCT((Eingabe!$C$6:$C$400<=$CD9)*(Eingabe!$D$6:$D$400>$CD9)*(Eingabe!$B$6:$B$400=GU$3)*(Eingabe!$E$6:$E$400))","v":0},{"$f":"SUMPRODUCT((Eingabe!$C$6:$C$400<$CD9)*(Eingabe!$D$6:$D$400>=$CD9)*(Eingabe!$B$6:$B$400=GU$3)*(Eingabe!$E$6:$E$400))","v":0},{"$f":"SUMPRODUCT((Eingabe!$C$6:$C$400<=$CD9)*(Eingabe!$D$6:$D$400>$CD9)*(Eingabe!$B$6:$B$400=GW$3)*(Eingabe!$E$6:$E$400))","v":0},{"$f":"SUMPRODUCT((Eingabe!$C$6:$C$400<$CD9)*(Eingabe!$D$6:$D$400>=$CD9)*(Eingabe!$B$6:$B$400=GW$3)*(Eingabe!$E$6:$E$400))","v":0},{"$f":"SUMPRODUCT((Eingabe!$C$6:$C$400<=$CD9)*(Eingabe!$D$6:$D$400>$CD9)*(Eingabe!$B$6:$B$400=GY$3)*(Eingabe!$E$6:$E$400))","v":0},{"$f":"SUMPRODUCT((Eingabe!$C$6:$C$400<$CD9)*(Eingabe!$D$6:$D$400>=$CD9)*(Eingabe!$B$6:$B$400=GY$3)*(Eingabe!$E$6:$E$400))","v":0},{"$f":"SUMPRODUCT((Eingabe!$C$6:$C$400<=$CD9)*(Eingabe!$D$6:$D$400>$CD9)*(Eingabe!$B$6:$B$400=HA$3)*(Eingabe!$E$6:$E$400))","v":0},{"$f":"SUMPRODUCT((Eingabe!$C$6:$C$400<$CD9)*(Eingabe!$D$6:$D$400>=$CD9)*(Eingabe!$B$6:$B$400=HA$3)*(Eingabe!$E$6:$E$400))","v":0},"2026-10-06","2026-10-06",{"$f":"SUMPRODUCT((Eingabe!$C$6:$C$400<=$CN9)*(Eingabe!$D$6:$D$400>$CN9)*(Eingabe!$B$6:$B$400=HE$3)*(Eingabe!$E$6:$E$400))","v":7},{"$f":"SUMPRODUCT((Eingabe!$C$6:$C$400<$CN9)*(Eingabe!$D$6:$D$400>=$CN9)*(Eingabe!$B$6:$B$400=HE$3)*(Eingabe!$E$6:$E$400))","v":7},{"$f":"SUMPRODUCT((Eingabe!$C$6:$C$400<=$CN9)*(Eingabe!$D$6:$D$400>$CN9)*(Eingabe!$B$6:$B$400=HG$3)*(Eingabe!$E$6:$E$400))","v":0},{"$f":"SUMPRODUCT((Eingabe!$C$6:$C$400<$CN9)*(Eingabe!$D$6:$D$400>=$CN9)*(Eingabe!$B$6:$B$400=HG$3)*(Eingabe!$E$6:$E$400))","v":0},{"$f":"SUMPRODUCT((Eingabe!$C$6:$C$400<=$CN9)*(Eingabe!$D$6:$D$400>$CN9)*(Eingabe!$B$6:$B$400=HI$3)*(Eingabe!$E$6:$E$400))","v":0},{"$f":"SUMPRODUCT((Eingabe!$C$6:$C$400<$CN9)*(Eingabe!$D$6:$D$400>=$CN9)*(Eingabe!$B$6:$B$400=HI$3)*(Eingabe!$E$6:$E$400))","v":0},{"$f":"SUMPRODUCT((Eingabe!$C$6:$C$400<=$CN9)*(Eingabe!$D$6:$D$400>$CN9)*(Eingabe!$B$6:$B$400=HK$3)*(Eingabe!$E$6:$E$400))","v":0},{"$f":"SUMPRODUCT((Eingabe!$C$6:$C$400<$CN9)*(Eingabe!$D$6:$D$400>=$CN9)*(Eingabe!$B$6:$B$400=HK$3)*(Eingabe!$E$6:$E$400))","v":0},"2026-11-06","2026-11-06",{"$f":"SUMPRODUCT((Eingabe!$C$6:$C$400<=$CX9)*(Eingabe!$D$6:$D$400>$CX9)*(Eingabe!$B$6:$B$400=HO$3)*(Eingabe!$E$6:$E$400))","v":7},{"$f":"SUMPRODUCT((Eingabe!$C$6:$C$400<$CX9)*(Eingabe!$D$6:$D$400>=$CX9)*(Eingabe!$B$6:$B$400=HO$3)*(Eingabe!$E$6:$E$400))","v":7},{"$f":"SUMPRODUCT((Eingabe!$C$6:$C$400<=$CX9)*(Eingabe!$D$6:$D$400>$CX9)*(Eingabe!$B$6:$B$400=HQ$3)*(Eingabe!$E$6:$E$400))","v":0},{"$f":"SUMPRODUCT((Eingabe!$C$6:$C$400<$CX9)*(Eingabe!$D$6:$D$400>=$CX9)*(Eingabe!$B$6:$B$400=HQ$3)*(Eingabe!$E$6:$E$400))","v":0},{"$f":"SUMPRODUCT((Eingabe!$C$6:$C$400<=$CX9)*(Eingabe!$D$6:$D$400>$CX9)*(Eingabe!$B$6:$B$400=HS$3)*(Eingabe!$E$6:$E$400))","v":0},{"$f":"SUMPRODUCT((Eingabe!$C$6:$C$400<$CX9)*(Eingabe!$D$6:$D$400>=$CX9)*(Eingabe!$B$6:$B$400=HS$3)*(Eingabe!$E$6:$E$400))","v":0},{"$f":"SUMPRODUCT((Eingabe!$C$6:$C$400<=$CX9)*(Eingabe!$D$6:$D$400>$CX9)*(Eingabe!$B$6:$B$400=HU$3)*(Eingabe!$E$6:$E$400))","v":0},{"$f":"SUMPRODUCT((Eingabe!$C$6:$C$400<$CX9)*(Eingabe!$D$6:$D$400>=$CX9)*(Eingabe!$B$6:$B$400=HU$3)*(Eingabe!$E$6:$E$400))","v":0},"2026-12-06","2026-12-06",{"$f":"SUMPRODUCT((Eingabe!$C$6:$C$400<=$DH9)*(Eingabe!$D$6:$D$400>$DH9)*(Eingabe!$B$6:$B$400=HY$3)*(Eingabe!$E$6:$E$400))","v":7},{"$f":"SUMPRODUCT((Eingabe!$C$6:$C$400<$DH9)*(Eingabe!$D$6:$D$400>=$DH9)*(Eingabe!$B$6:$B$400=HY$3)*(Eingabe!$E$6:$E$400))","v":7},{"$f":"SUMPRODUCT((Eingabe!$C$6:$C$400<=$DH9)*(Eingabe!$D$6:$D$400>$DH9)*(Eingabe!$B$6:$B$400=IA$3)*(Eingabe!$E$6:$E$400))","v":0},{"$f":"SUMPRODUCT((Eingabe!$C$6:$C$400<$DH9)*(Eingabe!$D$6:$D$400>=$DH9)*(Eingabe!$B$6:$B$400=IA$3)*(Eingabe!$E$6:$E$400))","v":0},{"$f":"SUMPRODUCT((Eingabe!$C$6:$C$400<=$DH9)*(Eingabe!$D$6:$D$400>$DH9)*(Eingabe!$B$6:$B$400=IC$3)*(Eingabe!$E$6:$E$400))","v":0},{"$f":"SUMPRODUCT((Eingabe!$C$6:$C$400<$DH9)*(Eingabe!$D$6:$D$400>=$DH9)*(Eingabe!$B$6:$B$400=IC$3)*(Eingabe!$E$6:$E$400))","v":0},{"$f":"SUMPRODUCT((Eingabe!$C$6:$C$400<=$DH9)*(Eingabe!$D$6:$D$400>$DH9)*(Eingabe!$B$6:$B$400=IE$3)*(Eingabe!$E$6:$E$400))","v":0},{"$f":"SUMPRODUCT((Eingabe!$C$6:$C$400<$DH9)*(Eingabe!$D$6:$D$400>=$DH9)*(Eingabe!$B$6:$B$400=IE$3)*(Eingabe!$E$6:$E$400))","v":0}]
["2025-01-07","2025-01-07",{"$f":"SUMPRODUCT((Eingabe!$C$6:$C$400<=$B10)*(Eingabe!$D$6:$D$400>$B10)*(Eingabe!$B$6:$B$400=C$3)*(Eingabe!$E$6:$E$400))","v":0},{"$f":"SUMPRODUCT((Eingabe!$C$6:$C$400<$B10)*(Eingabe!$D$6:$D$400>=$B10)*(Eingabe!$B$6:$B$400=C$3)*(Eingabe!$E$6:$E$400))","v":0},{"$f":"SUMPRODUCT((Eingabe!$C$6:$C$400<=$B10)*(Eingabe!$D$6:$D$400>$B10)*(Eingabe!$B$6:$B$400=E$3)*(Eingabe!$E$6:$E$400))","v":0},{"$f":"SUMPRODUCT((Eingabe!$C$6:$C$400<$B10)*(Eingabe!$D$6:$D$400>=$B10)*(Eingabe!$B$6:$B$400=E$3)*(Eingabe!$E$6:$E$400))","v":0},{"$f":"SUMPRODUCT((Eingabe!$C$6:$C$400<=$B10)*(Eingabe!$D$6:$D$400>$B10)*(Eingabe!$B$6:$B$400=G$3)*(Eingabe!$E$6:$E$400))","v":0},{"$f":"SUMPRODUCT((Eingabe!$C$6:$C$400<$B10)*(Eingabe!$D$6:$D$400>=$B10)*(Eingabe!$B$6:$B$400=G$3)*(Eingabe!$E$6:$E$400))","v":0},{"$f":"SUMPRODUCT((Eingabe!$C$6:$C$400<=$B10)*(Eingabe!$D$6:$D$400>$B10)*(Eingabe!$B$6:$B$400=I$3)*(Eingabe!$E$6:$E$400))","v":0},{"$f":"SUMPRODUCT((Eingabe!$C$6:$C$400<$B10)*(Eingabe!$D$6:$D$400>=$B10)*(Eingabe!$B$6:$B$400=I$3)*(Eingabe!$E$6:$E$400))","v":0},"2025-02-07","2025-02-07",{"$f":"SUMPRODUCT((Eingabe!$C$6:$C$400<=$L10)*(Eingabe!$D$6:$D$400>$L10)*(Eingabe!$B$6:$B$400=M$3)*(Eingabe!$E$6:$E$400))","v":0},{"$f":"SUMPRODUCT((Eingabe!$C$6:$C$400<$L10)*(Eingabe!$D$6:$D$400>=$L10)*(Eingabe!$B$6:$B$400=M$3)*(Eingabe!$E$6:$E$400))","v":0},{"$f":"SUMPRODUCT((Eingabe!$C$6:$C$400<=$L10)*(Eingabe!$D$6:$D$400>$L10)*(Eingabe!$B$6:$B$400=O$3)*(Eingabe!$E$6:$E$400))","v":6},{"$f":"SUMPRODUCT((Eingabe!$C$6:$C$400<$L10)*(Eingabe!$D$6:$D$400>=$L10)*(Eingabe!$B$6:$B$400=O$3)*(Eingabe!$E$6:$E$400))","v":6},{"$f":"SUMPRODUCT((Eingabe!$C$6:$C$400<=$L10)*(Eingabe!$D$6:$D$400>$L10)*(Eingabe!$B$6:$B$400=Q$3)*(Eingabe!$E$6:$E$400))","v":0},{"$f":"SUMPRODUCT((Eingabe!$C$6:$C$400<$L10)*(Eingabe!$D$6:$D$400>=$L10)*(Eingabe!$B$6:$B$400=Q$3)*(Eingabe!$E$6:$E$400))","v":0},{"$f":"SUMPRODUCT((Eingabe!$C$6:$C$400<=$L10)*(Eingabe!$D$6:$D$400>$L10)*(Eingabe!$B$6:$B$400=S$3)*(Eingabe!$E$6:$E$400))","v":0},{"$f":"SUMPRODUCT((Eingabe!$C$6:$C$400<$L10)*(Eingabe!$D$6:$D$400>=$L10)*(Eingabe!$B$6:$B$400=S$3)*(Eingabe!$E$6:$E$400))","v":0},"2025-03-07","2025-03-07",{"$f":"SUMPRODUCT((Eingabe!$C$6:$C$400<=$V10)*(Eingabe!$D$6:$D$400>$V10)*(Eingabe!$B$6:$B$400=W$3)*(Eingabe!$E$6:$E$400))","v":0},{"$f":"SUMPRODUCT((Eingabe!$C$6:$C$400<$V10)*(Eingabe!$D$6:$D$400>=$V10)*(Eingabe!$B$6:$B$400=W$3)*(Eingabe!$E$6:$E$400))","v":0},{"$f":"SUMPRODUCT((Eingabe!$C$6:$C$400<=$V10)*(Eingabe!$D$6:$D$400>$V10)*(Eingabe!$B$6:$B$400=Y$3)*(Eingabe!$E$6:$E$400))","v":0},{"$f":"SUMPRODUCT((Eingabe!$C$6:$C$400<$V10)*(Eingabe!$D$6:$D$400>=$V10)*(Eingabe!$B$6:$B$400=Y$3)*(Eingabe!$E$6:$E$400))","v":0},{"$f":"SUMPRODUCT((Eingabe!$C$6:$C$400<=$V10)*(Eingabe!$D$6:$D$400>$V10)*(Eingabe!$B$6:$B$400=AA$3)*(Eingabe!$E$6:$E$400))","v":0},{"$f":"SUMPRODUCT((Eingabe!$C$6:$C$400<$V10)*(Eingabe!$D$6:$D$400>=$V10)*(Eingabe!$B$6:$B$400=AA$3)*(Eingabe!$E$6:$E$400))","v":0},{"$f":"SUMPRODUCT((Eingabe!$C$6:$C$400<=$V10)*(Eingabe!$D$6:$D$400>$V10)*(Eingabe!$B$6:$B$400=AC$3)*(Eingabe!$E$6:$E$400))","v":0},{"$f":"SUMPRODUCT((Eingabe!$C$6:$C$400<$V10)*(Eingabe!$D$6:$D$400>=$V10)*(Eingabe!$B$6:$B$400=AC$3)*(Eingabe!$E$6:$E$400))","v":0},"2025-04-07","2025-04-07",{"$f":"SUMPRODUCT((Eingabe!$C$6:$C$400<=$AF10)*(Eingabe!$D$6:$D$400>$AF10)*(Eingabe!$B$6:$B$400=AG$3)*(Eingabe!$E$6:$E$400))","v":0},{"$f":"SUMPRODUCT((Eingabe!$C$6:$C$400<$AF10)*(Eingabe!$D$6:$D$400>=$AF10)*(Eingabe!$B$6:$B$400=AG$3)*(Eingabe!$E$6:$E$400))","v":0},{"$f":"SUMPRODUCT((Eingabe!$C$6:$C$400<=$AF10)*(Eingabe!$D$6:$D$400>$AF10)*(Eingabe!$B$6:$B$400=AI$3)*(Eingabe!$E$6:$E$400))","v":0},{"$f":"SUMPRODUCT((Eingabe!$C$6:$C$400<$AF10)*(Eingabe!$D$6:$D$400>=$AF10)*(Eingabe!$B$6:$B$400=AI$3)*(Eingabe!$E$6:$E$400))","v":0},{"$f":"SUMPRODUCT((Eingabe!$C$6:$C$400<=$AF10)*(Eingabe!$D$6:$D$400>$AF10)*(Eingabe!$B$6:$B$400=AK$3)*(Eingabe!$E$6:$E$400))","v":0},{"$f":"SUMPRODUCT((Eingabe!$C$6:$C$400<$AF10)*(Eingabe!$D$6:$D$400>=$AF10)*(Eingabe!$B$6:$B$400=AK$3)*(Eingabe!$E$6:$E$400))","v":0},{"$f":"SUMPRODUCT((Eingabe!$C$6:$C$400<=$AF10)*(Eingabe!$D$6:$D$400>$AF10)*(Eingabe!$B$6:$B$400=AM$3)*(Eingabe!$E$6:$E$400))","v":0},{"$f":"SUMPRODUCT((Eingabe!$C$6:$C$400<$AF10)*(Eingabe!$D$6:$D$400>=$AF10)*(Eingabe!$B$6:$B$400=AM$3)*(Eingabe!$E$6:$E$400))","v":0},"2025-05-07","2025-05-07",{"$f":"SUMPRODUCT((Eingabe!$C$6:$C$400<=$AP10)*(Eingabe!$D$6:$D$400>$AP10)*(Eingabe!$B$6:$B$400=AQ$3)*(Eingabe!$E$6:$E$400))","v":0},{"$f":"SUMPRODUCT((Eingabe!$C$6:$C$400<$AP10)*(Eingabe!$D$6:$D$400>=$AP10)*(Eingabe!$B$6:$B$400=AQ$3)*(Eingabe!$E$6:$E$400))","v":0},{"$f":"SUMPRODUCT((Eingabe!$C$6:$C$400<=$AP10)*(Eingabe!$D$6:$D$400>$AP10)*(Eingabe!$B$6:$B$400=AS$3)*(Eingabe!$E$6:$E$400))","v":0},{"$f":"SUMPRODUCT((Eingabe!$C$6:$C$400<$AP10)*(Eingabe!$D$6:$D$400>=$AP10)*(Eingabe!$B$6:$B$400=AS$3)*(Eingabe!$E$6:$E$400))","v":0},{"$f":"SUMPRODUCT((Eingabe!$C$6:$C$400<=$AP10)*(Eingabe!$D$6:$D$400>$AP10)*(Eingabe!$B$6:$B$400=AU$3)*(Eingabe!$E$6:$E$400))","v":0},{"$f":"SUMPRODUCT((Eingabe!$C$6:$C$400<$AP10)*(Eingabe!$D$6:$D$400>=$AP10)*(Eingabe!$B$6:$B$400=AU$3)*(Eingabe!$E$6:$E$400))","v":0},{"$f":"SUMPRODUCT((Eingabe!$C$6:$C$400<=$AP10)*(Eingabe!$D$6:$D$400>$AP10)*(Eingabe!$B$6:$B$400=AW$3)*(Eingabe!$E$6:$E$400))","v":0},{"$f":"SUMPRODUCT((Eingabe!$C$6:$C$400<$AP10)*(Eingabe!$D$6:$D$400>=$AP10)*(Eingabe!$B$6:$B$400=AW$3)*(Eingabe!$E$6:$E$400))","v":0},"2025-06-07","2025-06-07",{"$f":"SUMPRODUCT((Eingabe!$C$6:$C$400<=$AZ10)*(Eingabe!$D$6:$D$400>$AZ10)*(Eingabe!$B$6:$B$400=BA$3)*(Eingabe!$E$6:$E$400))","v":0},{"$f":"SUMPRODUCT((Eingabe!$C$6:$C$400<$AZ10)*(Eingabe!$D$6:$D$400>=$AZ10)*(Eingabe!$B$6:$B$400=BA$3)*(Eingabe!$E$6:$E$400))","v":0},{"$f":"SUMPRODUCT((Eingabe!$C$6:$C$400<=$AZ10)*(Eingabe!$D$6:$D$400>$AZ10)*(Eingabe!$B$6:$B$400=BC$3)*(Eingabe!$E$6:$E$400))","v":0},{"$f":"SUMPRODUCT((Eingabe!$C$6:$C$400<$AZ10)*(Eingabe!$D$6:$D$400>=$AZ10)*(Eingabe!$B$6:$B$400=BC$3)*(Eingabe!$E$6:$E$400))","v":0},{"$f":"SUMPRODUCT((Eingabe!$C$6:$C$400<=$AZ10)*(Eingabe!$D$6:$D$400>$AZ10)*(Eingabe!$B$6:$B$400=BE$3)*(Eingabe!$E$6:$E$400))","v":0},{"$f":"SUMPRODUCT((Eingabe!$C$6:$C$400<$AZ10)*(Eingabe!$D$6:$D$400>=$AZ10)*(Eingabe!$B$6:$B$400=BE$3)*(Eingabe!$E$6:$E$400))","v":0},{"$f":"SUMPRODUCT((Eingabe!$C$6:$C$400<=$AZ10)*(Eingabe!$D$6:$D$400>$AZ10)*(Eingabe!$B$6:$B$400=BG$3)*(Eingabe!$E$6:$E$400))","v":0},{"$f":"SUMPRODUCT((Eingabe!$C$6:$C$400<$AZ10)*(Eingabe!$D$6:$D$400>=$AZ10)*(Eingabe!$B$6:$B$400=BG$3)*(Eingabe!$E$6:$E$400))","v":0},"2025-07-07","2025-07-07",{"$f":"SUMPRODUCT((Eingabe!$C$6:$C$400<=$BJ10)*(Eingabe!$D$6:$D$400>$BJ10)*(Eingabe!$B$6:$B$400=BK$3)*(Eingabe!$E$6:$E$400))","v":6},{"$f":"SUMPRODUCT((Eingabe!$C$6:$C$400<$BJ10)*(Eingabe!$D$6:$D$400>=$BJ10)*(Eingabe!$B$6:$B$400=BK$3)*(Eingabe!$E$6:$E$400))","v":6},{"$f":"SUMPRODUCT((Eingabe!$C$6:$C$400<=$BJ10)*(Eingabe!$D$6:$D$400>$BJ10)*(Eingabe!$B$6:$B$400=BM$3)*(Eingabe!$E$6:$E$400))","v":7},{"$f":"SUMPRODUCT((Eingabe!$C$6:$C$400<$BJ10)*(Eingabe!$D$6:$D$400>=$BJ10)*(Eingabe!$B$6:$B$400=BM$3)*(Eingabe!$E$6:$E$400))","v":0},{"$f":"SUMPRODUCT((Eingabe!$C$6:$C$400<=$BJ10)*(Eingabe!$D$6:$D$400>$BJ10)*(Eingabe!$B$6:$B$400=BO$3)*(Eingabe!$E$6:$E$400))","v":0},{"$f":"SUMPRODUCT((Eingabe!$C$6:$C$400<$BJ10)*(Eingabe!$D$6:$D$400>=$BJ10)*(Eingabe!$B$6:$B$400=BO$3)*(Eingabe!$E$6:$E$400))","v":0},{"$f":"SUMPRODUCT((Eingabe!$C$6:$C$400<=$BJ10)*(Eingabe!$D$6:$D$400>$BJ10)*(Eingabe!$B$6:$B$400=BQ$3)*(Eingabe!$E$6:$E$400))","v":0},{"$f":"SUMPRODUCT((Eingabe!$C$6:$C$400<$BJ10)*(Eingabe!$D$6:$D$400>=$BJ10)*(Eingabe!$B$6:$B$400=BQ$3)*(Eingabe!$E$6:$E$400))","v":0},"2025-08-07","2025-08-07",{"$f":"SUMPRODUCT((Eingabe!$C$6:$C$400<=$BT10)*(Eingabe!$D$6:$D$400>$BT10)*(Eingabe!$B$6:$B$400=BU$3)*(Eingabe!$E$6:$E$400))","v":0},{"$f":"SUMPRODUCT((Eingabe!$C$6:$C$400<$BT10)*(Eingabe!$D$6:$D$400>=$BT10)*(Eingabe!$B$6:$B$400=BU$3)*(Eingabe!$E$6:$E$400))","v":0},{"$f":"SUMPRODUCT((Eingabe!$C$6:$C$400<=$BT10)*(Eingabe!$D$6:$D$400>$BT10)*(Eingabe!$B$6:$B$400=BW$3)*(Eingabe!$E$6:$E$400))","v":0},{"$f":"SUMPRODUCT((Eingabe!$C$6:$C$400<$BT10)*(Eingabe!$D$6:$D$400>=$BT10)*(Eingabe!$B$6:$B$400=BW$3)*(Eingabe!$E$6:$E$400))","v":0},{"$f":"SUMPRODUCT((Eingabe!$C$6:$C$400<=$BT10)*(Eingabe!$D$6:$D$400>$BT10)*(Eingabe!$B$6:$B$400=BY$3)*(Eingabe!$E$6:$E$400))","v":0},{"$f":"SUMPRODUCT((Eingabe!$C$6:$C$400<$BT10)*(Eingabe!$D$6:$D$400>=$BT10)*(Eingabe!$B$6:$B$400=BY$3)*(Eingabe!$E$6:$E$400))","v":0},{"$f":"SUMPRODUCT((Eingabe!$C$6:$C$400<=$BT10)*(Eingabe!$D$6:$D$400>$BT10)*(Eingabe!$B$6:$B$400=CA$3)*(Eingabe!$E$6:$E$400))","v":0},{"$f":"SUMPRODUCT((Eingabe!$C$6:$C$400<$BT10)*(Eingabe!$D$6:$D$400>=$BT10)*(Eingabe!$B$6:$B$400=CA$3)*(Eingabe!$E$6:$E$400))","v":0},"2025-09-07","2025-09-07",{"$f":"SUMPRODUCT((Eingabe!$C$6:$C$400<=$CD10)*(Eingabe!$D$6:$D$400>$CD10)*(Eingabe!$B$6:$B$400=CE$3)*(Eingabe!$E$6:$E$400))","v":0},{"$f":"SUMPRODUCT((Eingabe!$C$6:$C$400<$CD10)*(Eingabe!$D$6:$D$400>=$CD10)*(Eingabe!$B$6:$B$400=CE$3)*(Eingabe!$E$6:$E$400))","v":0},{"$f":"SUMPRODUCT((Eingabe!$C$6:$C$400<=$CD10)*(Eingabe!$D$6:$D$400>$CD10)*(Eingabe!$B$6:$B$400=CG$3)*(Eingabe!$E$6:$E$400))","v":0},{"$f":"SUMPRODUCT((Eingabe!$C$6:$C$400<$CD10)*(Eingabe!$D$6:$D$400>=$CD10)*(Eingabe!$B$6:$B$400=CG$3)*(Eingabe!$E$6:$E$400))","v":0},{"$f":"SUMPRODUCT((Eingabe!$C$6:$C$400<=$CD10)*(Eingabe!$D$6:$D$400>$CD10)*(Eingabe!$B$6:$B$400=CI$3)*(Eingabe!$E$6:$E$400))","v":0},{"$f":"SUMPRODUCT((Eingabe!$C$6:$C$400<$CD10)*(Eingabe!$D$6:$D$400>=$CD10)*(Eingabe!$B$6:$B$400=CI$3)*(Eingabe!$E$6:$E$400))","v":0},{"$f":"SUMPRODUCT((Eingabe!$C$6:$C$400<=$CD10)*(Eingabe!$D$6:$D$400>$CD10)*(Eingabe!$B$6:$B$400=CK$3)*(Eingabe!$E$6:$E$400))","v":0},{"$f":"SUMPRODUCT((Eingabe!$C$6:$C$400<$CD10)*(Eingabe!$D$6:$D$400>=$CD10)*(Eingabe!$B$6:$B$400=CK$3)*(Eingabe!$E$6:$E$400))","v":0},"2025-10-07","2025-10-07",{"$f":"SUMPRODUCT((Eingabe!$C$6:$C$400<=$CN10)*(Eingabe!$D$6:$D$400>$CN10)*(Eingabe!$B$6:$B$400=CO$3)*(Eingabe!$E$6:$E$400))","v":7},{"$f":"SUMPRODUCT((Eingabe!$C$6:$C$400<$CN10)*(Eingabe!$D$6:$D$400>=$CN10)*(Eingabe!$B$6:$B$400=CO$3)*(Eingabe!$E$6:$E$400))","v":7},{"$f":"SUMPRODUCT((Eingabe!$C$6:$C$400<=$CN10)*(Eingabe!$D$6:$D$400>$CN10)*(Eingabe!$B$6:$B$400=CQ$3)*(Eingabe!$E$6:$E$400))","v":0},{"$f":"SUMPRODUCT((Eingabe!$C$6:$C$400<$CN10)*(Eingabe!$D$6:$D$400>=$CN10)*(Eingabe!$B$6:$B$400=CQ$3)*(Eingabe!$E$6:$E$400))","v":0},{"$f":"SUMPRODUCT((Eingabe!$C$6:$C$400<=$CN10)*(Eingabe!$D$6:$D$400>$CN10)*(Eingabe!$B$6:$B$400=CS$3)*(Eingabe!$E$6:$E$400))","v":0},{"$f":"SUMPRODUCT((Eingabe!$C$6:$C$400<$CN10)*(Eingabe!$D$6:$D$400>=$CN10)*(Eingabe!$B$6:$B$400=CS$3)*(Eingabe!$E$6:$E$400))","v":0},{"$f":"SUMPRODUCT((Eingabe!$C$6:$C$400<=$CN10)*(Eingabe!$D$6:$D$400>$CN10)*(Eingabe!$B$6:$B$400=CU$3)*(Eingabe!$E$6:$E$400))","v":0},{"$f":"SUMPRODUCT((Eingabe!$C$6:$C$400<$CN10)*(Eingabe!$D$6:$D$400>=$CN10)*(Eingabe!$B$6:$B$400=CU$3)*(Eingabe!$E$6:$E$400))","v":0},"2025-11-07","2025-11-07",{"$f":"SUMPRODUCT((Eingabe!$C$6:$C$400<=$CX10)*(Eingabe!$D$6:$D$400>$CX10)*(Eingabe!$B$6:$B$400=CY$3)*(Eingabe!$E$6:$E$400))","v":7},{"$f":"SUMPRODUCT((Eingabe!$C$6:$C$400<$CX10)*(Eingabe!$D$6:$D$400>=$CX10)*(Eingabe!$B$6:$B$400=CY$3)*(Eingabe!$E$6:$E$400))","v":7},{"$f":"SUMPRODUCT((Eingabe!$C$6:$C$400<=$CX10)*(Eingabe!$D$6:$D$400>$CX10)*(Eingabe!$B$6:$B$400=DA$3)*(Eingabe!$E$6:$E$400))","v":0},{"$f":"SUMPRODUCT((Eingabe!$C$6:$C$400<$CX10)*(Eingabe!$D$6:$D$400>=$CX10)*(Eingabe!$B$6:$B$400=DA$3)*(Eingabe!$E$6:$E$400))","v":0},{"$f":"SUMPRODUCT((Eingabe!$C$6:$C$400<=$CX10)*(Eingabe!$D$6:$D$400>$CX10)*(Eingabe!$B$6:$B$400=DC$3)*(Eingabe!$E$6:$E$400))","v":0},{"$f":"SUMPRODUCT((Eingabe!$C$6:$C$400<$CX10)*(Eingabe!$D$6:$D$400>=$CX10)*(Eingabe!$B$6:$B$400=DC$3)*(Eingabe!$E$6:$E$400))","v":0},{"$f":"SUMPRODUCT((Eingabe!$C$6:$C$400<=$CX10)*(Eingabe!$D$6:$D$400>$CX10)*(Eingabe!$B$6:$B$400=DE$3)*(Eingabe!$E$6:$E$400))","v":0},{"$f":"SUMPRODUCT((Eingabe!$C$6:$C$400<$CX10)*(Eingabe!$D$6:$D$400>=$CX10)*(Eingabe!$B$6:$B$400=DE$3)*(Eingabe!$E$6:$E$400))","v":0},"2025-12-07","2025-12-07",{"$f":"SUMPRODUCT((Eingabe!$C$6:$C$400<=$DH10)*(Eingabe!$D$6:$D$400>$DH10)*(Eingabe!$B$6:$B$400=DI$3)*(Eingabe!$E$6:$E$400))","v":7},{"$f":"SUMPRODUCT((Eingabe!$C$6:$C$400<$DH10)*(Eingabe!$D$6:$D$400>=$DH10)*(Eingabe!$B$6:$B$400=DI$3)*(Eingabe!$E$6:$E$400))","v":7},{"$f":"SUMPRODUCT((Eingabe!$C$6:$C$400<=$DH10)*(Eingabe!$D$6:$D$400>$DH10)*(Eingabe!$B$6:$B$400=DK$3)*(Eingabe!$E$6:$E$400))","v":0},{"$f":"SUMPRODUCT((Eingabe!$C$6:$C$400<$DH10)*(Eingabe!$D$6:$D$400>=$DH10)*(Eingabe!$B$6:$B$400=DK$3)*(Eingabe!$E$6:$E$400))","v":0},{"$f":"SUMPRODUCT((Eingabe!$C$6:$C$400<=$DH10)*(Eingabe!$D$6:$D$400>$DH10)*(Eingabe!$B$6:$B$400=DM$3)*(Eingabe!$E$6:$E$400))","v":0},{"$f":"SUMPRODUCT((Eingabe!$C$6:$C$400<$DH10)*(Eingabe!$D$6:$D$400>=$DH10)*(Eingabe!$B$6:$B$400=DM$3)*(Eingabe!$E$6:$E$400))","v":0},{"$f":"SUMPRODUCT((Eingabe!$C$6:$C$400<=$DH10)*(Eingabe!$D$6:$D$400>$DH10)*(Eingabe!$B$6:$B$400=DO$3)*(Eingabe!$E$6:$E$400))","v":0},{"$f":"SUMPRODUCT((Eingabe!$C$6:$C$400<$DH10)*(Eingabe!$D$6:$D$400>=$DH10)*(Eingabe!$B$6:$B$400=DO$3)*(Eingabe!$E$6:$E$400))","v":0},"2026-01-07","2026-01-07",{"$f":"SUMPRODUCT((Eingabe!$C$6:$C$400<=$B10)*(Eingabe!$D$6:$D$400>$B10)*(Eingabe!$B$6:$B$400=DS$3)*(Eingabe!$E$6:$E$400))","v":0},{"$f":"SUMPRODUCT((Eingabe!$C$6:$C$400<$B10)*(Eingabe!$D$6:$D$400>=$B10)*(Eingabe!$B$6:$B$400=DS$3)*(Eingabe!$E$6:$E$400))","v":0},{"$f":"SUMPRODUCT((Eingabe!$C$6:$C$400<=$B10)*(Eingabe!$D$6:$D$400>$B10)*(Eingabe!$B$6:$B$400=DU$3)*(Eingabe!$E$6:$E$400))","v":0},{"$f":"SUMPRODUCT((Eingabe!$C$6:$C$400<$B10)*(Eingabe!$D$6:$D$400>=$B10)*(Eingabe!$B$6:$B$400=DU$3)*(Eingabe!$E$6:$E$400))","v":0},{"$f":"SUMPRODUCT((Eingabe!$C$6:$C$400<=$B10)*(Eingabe!$D$6:$D$400>$B10)*(Eingabe!$B$6:$B$400=DW$3)*(Eingabe!$E$6:$E$400))","v":0},{"$f":"SUMPRODUCT((Eingabe!$C$6:$C$400<$B10)*(Eingabe!$D$6:$D$400>=$B10)*(Eingabe!$B$6:$B$400=DW$3)*(Eingabe!$E$6:$E$400))","v":0},{"$f":"SUMPRODUCT((Eingabe!$C$6:$C$400<=$B10)*(Eingabe!$D$6:$D$400>$B10)*(Eingabe!$B$6:$B$400=DY$3)*(Eingabe!$E$6:$E$400))","v":0},{"$f":"SUMPRODUCT((Eingabe!$C$6:$C$400<$B10)*(Eingabe!$D$6:$D$400>=$B10)*(Eingabe!$B$6:$B$400=DY$3)*(Eingabe!$E$6:$E$400))","v":0},"2026-02-07","2026-02-07",{"$f":"SUMPRODUCT((Eingabe!$C$6:$C$400<=$L10)*(Eingabe!$D$6:$D$400>$L10)*(Eingabe!$B$6:$B$400=EC$3)*(Eingabe!$E$6:$E$400))","v":0},{"$f":"SUMPRODUCT((Eingabe!$C$6:$C$400<$L10)*(Eingabe!$D$6:$D$400>=$L10)*(Eingabe!$B$6:$B$400=EC$3)*(Eingabe!$E$6:$E$400))","v":0},{"$f":"SUMPRODUCT((Eingabe!$C$6:$C$400<=$L10)*(Eingabe!$D$6:$D$400>$L10)*(Eingabe!$B$6:$B$400=EE$3)*(Eingabe!$E$6:$E$400))","v":6},{"$f":"SUMPRODUCT((Eingabe!$C$6:$C$400<$L10)*(Eingabe!$D$6:$D$400>=$L10)*(Eingabe!$B$6:$B$400=EE$3)*(Eingabe!$E$6:$E$400))","v":6},{"$f":"SUMPRODUCT((Eingabe!$C$6:$C$400<=$L10)*(Eingabe!$D$6:$D$400>$L10)*(Eingabe!$B$6:$B$400=EG$3)*(Eingabe!$E$6:$E$400))","v":0},{"$f":"SUMPRODUCT((Eingabe!$C$6:$C$400<$L10)*(Eingabe!$D$6:$D$400>=$L10)*(Eingabe!$B$6:$B$400=EG$3)*(Eingabe!$E$6:$E$400))","v":0},{"$f":"SUMPRODUCT((Eingabe!$C$6:$C$400<=$L10)*(Eingabe!$D$6:$D$400>$L10)*(Eingabe!$B$6:$B$400=EI$3)*(Eingabe!$E$6:$E$400))","v":0},{"$f":"SUMPRODUCT((Eingabe!$C$6:$C$400<$L10)*(Eingabe!$D$6:$D$400>=$L10)*(Eingabe!$B$6:$B$400=EI$3)*(Eingabe!$E$6:$E$400))","v":0},"2026-03-07","2026-03-07",{"$f":"SUMPRODUCT((Eingabe!$C$6:$C$400<=$V10)*(Eingabe!$D$6:$D$400>$V10)*(Eingabe!$B$6:$B$400=EM$3)*(Eingabe!$E$6:$E$400))","v":0},{"$f":"SUMPRODUCT((Eingabe!$C$6:$C$400<$V10)*(Eingabe!$D$6:$D$400>=$V10)*(Eingabe!$B$6:$B$400=EM$3)*(Eingabe!$E$6:$E$400))","v":0},{"$f":"SUMPRODUCT((Eingabe!$C$6:$C$400<=$V10)*(Eingabe!$D$6:$D$400>$V10)*(Eingabe!$B$6:$B$400=EO$3)*(Eingabe!$E$6:$E$400))","v":0},{"$f":"SUMPRODUCT((Eingabe!$C$6:$C$400<$V10)*(Eingabe!$D$6:$D$400>=$V10)*(Eingabe!$B$6:$B$400=EO$3)*(Eingabe!$E$6:$E$400))","v":0},{"$f":"SUMPRODUCT((Eingabe!$C$6:$C$400<=$V10)*(Eingabe!$D$6:$D$400>$V10)*(Eingabe!$B$6:$B$400=EQ$3)*(Eingabe!$E$6:$E$400))","v":0},{"$f":"SUMPRODUCT((Eingabe!$C$6:$C$400<$V10)*(Eingabe!$D$6:$D$400>=$V10)*(Eingabe!$B$6:$B$400=EQ$3)*(Eingabe!$E$6:$E$400))","v":0},{"$f":"SUMPRODUCT((Eingabe!$C$6:$C$400<=$V10)*(Eingabe!$D$6:$D$400>$V10)*(Eingabe!$B$6:$B$400=ES$3)*(Eingabe!$E$6:$E$400))","v":0},{"$f":"SUMPRODUCT((Eingabe!$C$6:$C$400<$V10)*(Eingabe!$D$6:$D$400>=$V10)*(Eingabe!$B$6:$B$400=ES$3)*(Eingabe!$E$6:$E$400))","v":0},"2026-04-07","2026-04-07",{"$f":"SUMPRODUCT((Eingabe!$C$6:$C$400<=$AF10)*(Eingabe!$D$6:$D$400>$AF10)*(Eingabe!$B$6:$B$400=EW$3)*(Eingabe!$E$6:$E$400))","v":0},{"$f":"SUMPRODUCT((Eingabe!$C$6:$C$400<$AF10)*(Eingabe!$D$6:$D$400>=$AF10)*(Eingabe!$B$6:$B$400=EW$3)*(Eingabe!$E$6:$E$400))","v":0},{"$f":"SUMPRODUCT((Eingabe!$C$6:$C$400<=$AF10)*(Eingabe!$D$6:$D$400>$AF10)*(Eingabe!$B$6:$B$400=EY$3)*(Eingabe!$E$6:$E$400))","v":0},{"$f":"SUMPRODUCT((Eingabe!$C$6:$C$400<$AF10)*(Eingabe!$D$6:$D$400>=$AF10)*(Eingabe!$B$6:$B$400=EY$3)*(Eingabe!$E$6:$E$400))","v":0},{"$f":"SUMPRODUCT((Eingabe!$C$6:$C$400<=$AF10)*(Eingabe!$D$6:$D$400>$AF10)*(Eingabe!$B$6:$B$400=FA$3)*(Eingabe!$E$6:$E$400))","v":0},{"$f":"SUMPRODUCT((Eingabe!$C$6:$C$400<$AF10)*(Eingabe!$D$6:$D$400>=$AF10)*(Eingabe!$B$6:$B$400=FA$3)*(Eingabe!$E$6:$E$400))","v":0},{"$f":"SUMPRODUCT((Eingabe!$C$6:$C$400<=$AF10)*(Eingabe!$D$6:$D$400>$AF10)*(Eingabe!$B$6:$B$400=FC$3)*(Eingabe!$E$6:$E$400))","v":0},{"$f":"SUMPRODUCT((Eingabe!$C$6:$C$400<$AF10)*(Eingabe!$D$6:$D$400>=$AF10)*(Eingabe!$B$6:$B$400=FC$3)*(Eingabe!$E$6:$E$400))","v":0},"2026-05-07","2026-05-07",{"$f":"SUMPRODUCT((Eingabe!$C$6:$C$400<=$AP10)*(Eingabe!$D$6:$D$400>$AP10)*(Eingabe!$B$6:$B$400=FG$3)*(Eingabe!$E$6:$E$400))","v":0},{"$f":"SUMPRODUCT((Eingabe!$C$6:$C$400<$AP10)*(Eingabe!$D$6:$D$400>=$AP10)*(Eingabe!$B$6:$B$400=FG$3)*(Eingabe!$E$6:$E$400))","v":0},{"$f":"SUMPRODUCT((Eingabe!$C$6:$C$400<=$AP10)*(Eingabe!$D$6:$D$400>$AP10)*(Eingabe!$B$6:$B$400=FI$3)*(Eingabe!$E$6:$E$400))","v":0},{"$f":"SUMPRODUCT((Eingabe!$C$6:$C$400<$AP10)*(Eingabe!$D$6:$D$400>=$AP10)*(Eingabe!$B$6:$B$400=FI$3)*(Eingabe!$E$6:$E$400))","v":0},{"$f":"SUMPRODUCT((Eingabe!$C$6:$C$400<=$AP10)*(Eingabe!$D$6:$D$400>$AP10)*(Eingabe!$B$6:$B$400=FK$3)*(Eingabe!$E$6:$E$400))","v":0},{"$f":"SUMPRODUCT((Eingabe!$C$6:$C$400<$AP10)*(Eingabe!$D$6:$D$400>=$AP10)*(Eingabe!$B$6:$B$400=FK$3)*(Eingabe!$E$6:$E$400))","v":0},{"$f":"SUMPRODUCT((Eingabe!$C$6:$C$400<=$AP10)*(Eingabe!$D$6:$D$400>$AP10)*(Eingabe!$B$6:$B$400=FM$3)*(Eingabe!$E$6:$E$400))","v":0},{"$f":"SUMPRODUCT((Eingabe!$C$6:$C$400<$AP10)*(Eingabe!$D$6:$D$400>=$AP10)*(Eingabe!$B$6:$B$400=FM$3)*(Eingabe!$E$6:$E$400))","v":0},"2026-06-07","2026-06-07",{"$f":"SUMPRODUCT((Eingabe!$C$6:$C$400<=$AZ10)*(Eingabe!$D$6:$D$400>$AZ10)*(Eingabe!$B$6:$B$400=FQ$3)*(Eingabe!$E$6:$E$400))","v":0},{"$f":"SUMPRODUCT((Eingabe!$C$6:$C$400<$AZ10)*(Eingabe!$D$6:$D$400>=$AZ10)*(Eingabe!$B$6:$B$400=FQ$3)*(Eingabe!$E$6:$E$400))","v":0},{"$f":"SUMPRODUCT((Eingabe!$C$6:$C$400<=$AZ10)*(Eingabe!$D$6:$D$400>$AZ10)*(Eingabe!$B$6:$B$400=FS$3)*(Eingabe!$E$6:$E$400))","v":0},{"$f":"SUMPRODUCT((Eingabe!$C$6:$C$400<$AZ10)*(Eingabe!$D$6:$D$400>=$AZ10)*(Eingabe!$B$6:$B$400=FS$3)*(Eingabe!$E$6:$E$400))","v":0},{"$f":"SUMPRODUCT((Eingabe!$C$6:$C$400<=$AZ10)*(Eingabe!$D$6:$D$400>$AZ10)*(Eingabe!$B$6:$B$400=FU$3)*(Eingabe!$E$6:$E$400))","v":0},{"$f":"SUMPRODUCT((Eingabe!$C$6:$C$400<$AZ10)*(Eingabe!$D$6:$D$400>=$AZ10)*(Eingabe!$B$6:$B$400=FU$3)*(Eingabe!$E$6:$E$400))","v":0},{"$f":"SUMPRODUCT((Eingabe!$C$6:$C$400<=$AZ10)*(Eingabe!$D$6:$D$400>$AZ10)*(Eingabe!$B$6:$B$400=FW$3)*(Eingabe!$E$6:$E$400))","v":0},{"$f":"SUMPRODUCT((Eingabe!$C$6:$C$400<$AZ10)*(Eingabe!$D$6:$D$400>=$AZ10)*(Eingabe!$B$6:$B$400=FW$3)*(Eingabe!$E$6:$E$400))","v":0},"2026-07-07","2026-07-07",{"$f":"SUMPRODUCT((Eingabe!$C$6:$C$400<=$BJ10)*(Eingabe!$D$6:$D$400>$BJ10)*(Eingabe!$B$6:$B$400=GA$3)*(Eingabe!$E$6:$E$400))","v":6},{"$f":"SUMPRODUCT((Eingabe!$C$6:$C$400<$BJ10)*(Eingabe!$D$6:$D$400>=$BJ10)*(Eingabe!$B$6:$B$400=GA$3)*(Eingabe!$E$6:$E$400))","v":6},{"$f":"SUMPRODUCT((Eingabe!$C$6:$C$400<=$BJ10)*(Eingabe!$D$6:$D$400>$BJ10)*(Eingabe!$B$6:$B$400=GC$3)*(Eingabe!$E$6:$E$400))","v":7},{"$f":"SUMPRODUCT((Eingabe!$C$6:$C$400<$BJ10)*(Eingabe!$D$6:$D$400>=$BJ10)*(Eingabe!$B$6:$B$400=GC$3)*(Eingabe!$E$6:$E$400))","v":0},{"$f":"SUMPRODUCT((Eingabe!$C$6:$C$400<=$BJ10)*(Eingabe!$D$6:$D$400>$BJ10)*(Eingabe!$B$6:$B$400=GE$3)*(Eingabe!$E$6:$E$400))","v":0},{"$f":"SUMPRODUCT((Eingabe!$C$6:$C$400<$BJ10)*(Eingabe!$D$6:$D$400>=$BJ10)*(Eingabe!$B$6:$B$400=GE$3)*(Eingabe!$E$6:$E$400))","v":0},{"$f":"SUMPRODUCT((Eingabe!$C$6:$C$400<=$BJ10)*(Eingabe!$D$6:$D$400>$BJ10)*(Eingabe!$B$6:$B$400=GG$3)*(Eingabe!$E$6:$E$400))","v":0},{"$f":"SUMPRODUCT((Eingabe!$C$6:$C$400<$BJ10)*(Eingabe!$D$6:$D$400>=$BJ10)*(Eingabe!$B$6:$B$400=GG$3)*(Eingabe!$E$6:$E$400))","v":0},"2026-08-07","2026-08-07",{"$f":"SUMPRODUCT((Eingabe!$C$6:$C$400<=$BT10)*(Eingabe!$D$6:$D$400>$BT10)*(Eingabe!$B$6:$B$400=GK$3)*(Eingabe!$E$6:$E$400))","v":0},{"$f":"SUMPRODUCT((Eingabe!$C$6:$C$400<$BT10)*(Eingabe!$D$6:$D$400>=$BT10)*(Eingabe!$B$6:$B$400=GK$3)*(Eingabe!$E$6:$E$400))","v":0},{"$f":"SUMPRODUCT((Eingabe!$C$6:$C$400<=$BT10)*(Eingabe!$D$6:$D$400>$BT10)*(Eingabe!$B$6:$B$400=GM$3)*(Eingabe!$E$6:$E$400))","v":0},{"$f":"SUMPRODUCT((Eingabe!$C$6:$C$400<$BT10)*(Eingabe!$D$6:$D$400>=$BT10)*(Eingabe!$B$6:$B$400=GM$3)*(Eingabe!$E$6:$E$400))","v":0},{"$f":"SUMPRODUCT((Eingabe!$C$6:$C$400<=$BT10)*(Eingabe!$D$6:$D$400>$BT10)*(Eingabe!$B$6:$B$400=GO$3)*(Eingabe!$E$6:$E$400))","v":0},{"$f":"SUMPRODUCT((Eingabe!$C$6:$C$400<$BT10)*(Eingabe!$D$6:$D$400>=$BT10)*(Eingabe!$B$6:$B$400=GO$3)*(Eingabe!$E$6:$E$400))","v":0},{"$f":"SUMPRODUCT((Eingabe!$C$6:$C$400<=$BT10)*(Eingabe!$D$6:$D$400>$BT10)*(Eingabe!$B$6:$B$400=GQ$3)*(Eingabe!$E$6:$E$400))","v":0},{"$f":"SUMPRODUCT((Eingabe!$C$6:$C$400<$BT10)*(Eingabe!$D$6:$D$400>=$BT10)*(Eingabe!$B$6:$B$400=GQ$3)*(Eingabe!$E$6:$E$400))","v":0},"2026-09-07","2026-09-07",{"$f":"SUMPRODUCT((Eingabe!$C$6:$C$400<=$CD10)*(Eingabe!$D$6:$D$400>$CD10)*(Eingabe!$B$6:$B$400=GU$3)*(Eingabe!$E$6:$E$400))","v":0},{"$f":"SUMPRODUCT((Eingabe!$C$6:$C$400<$CD10)*(Eingabe!$D$6:$D$400>=$CD10)*(Eingabe!$B$6:$B$400=GU$3)*(Eingabe!$E$6:$E$400))","v":0},{"$f":"SUMPRODUCT((Eingabe!$C$6:$C$400<=$CD10)*(Eingabe!$D$6:$D$400>$CD10)*(Eingabe!$B$6:$B$400=GW$3)*(Eingabe!$E$6:$E$400))","v":0},{"$f":"SUMPRODUCT((Eingabe!$C$6:$C$400<$CD10)*(Eingabe!$D$6:$D$400>=$CD10)*(Eingabe!$B$6:$B$400=GW$3)*(Eingabe!$E$6:$E$400))","v":0},{"$f":"SUMPRODUCT((Eingabe!$C$6:$C$400<=$CD10)*(Eingabe!$D$6:$D$400>$CD10)*(Eingabe!$B$6:$B$400=GY$3)*(Eingabe!$E$6:$E$400))","v":0},{"$f":"SUMPRODUCT((Eingabe!$C$6:$C$400<$CD10)*(Eingabe!$D$6:$D$400>=$CD10)*(Eingabe!$B$6:$B$400=GY$3)*(Eingabe!$E$6:$E$400))","v":0},{"$f":"SUMPRODUCT((Eingabe!$C$6:$C$400<=$CD10)*(Eingabe!$D$6:$D$400>$CD10)*(Eingabe!$B$6:$B$400=HA$3)*(Eingabe!$E$6:$E$400))","v":0},{"$f":"SUMPRODUCT((Eingabe!$C$6:$C$400<$CD10)*(Eingabe!$D$6:$D$400>=$CD10)*(Eingabe!$B$6:$B$400=HA$3)*(Eingabe!$E$6:$E$400))","v":0},"2026-10-07","2026-10-07",{"$f":"SUMPRODUCT((Eingabe!$C$6:$C$400<=$CN10)*(Eingabe!$D$6:$D$400>$CN10)*(Eingabe!$B$6:$B$400=HE$3)*(Eingabe!$E$6:$E$400))","v":7},{"$f":"SUMPRODUCT((Eingabe!$C$6:$C$400<$CN10)*(Eingabe!$D$6:$D$400>=$CN10)*(Eingabe!$B$6:$B$400=HE$3)*(Eingabe!$E$6:$E$400))","v":7},{"$f":"SUMPRODUCT((Eingabe!$C$6:$C$400<=$CN10)*(Eingabe!$D$6:$D$400>$CN10)*(Eingabe!$B$6:$B$400=HG$3)*(Eingabe!$E$6:$E$400))","v":0},{"$f":"SUMPRODUCT((Eingabe!$C$6:$C$400<$CN10)*(Eingabe!$D$6:$D$400>=$CN10)*(Eingabe!$B$6:$B$400=HG$3)*(Eingabe!$E$6:$E$400))","v":0},{"$f":"SUMPRODUCT((Eingabe!$C$6:$C$400<=$CN10)*(Eingabe!$D$6:$D$400>$CN10)*(Eingabe!$B$6:$B$400=HI$3)*(Eingabe!$E$6:$E$400))","v":0},{"$f":"SUMPRODUCT((Eingabe!$C$6:$C$400<$CN10)*(Eingabe!$D$6:$D$400>=$CN10)*(Eingabe!$B$6:$B$400=HI$3)*(Eingabe!$E$6:$E$400))","v":0},{"$f":"SUMPRODUCT((Eingabe!$C$6:$C$400<=$CN10)*(Eingabe!$D$6:$D$400>$CN10)*(Eingabe!$B$6:$B$400=HK$3)*(Eingabe!$E$6:$E$400))","v":0},{"$f":"SUMPRODUCT((Eingabe!$C$6:$C$400<$CN10)*(Eingabe!$D$6:$D$400>=$CN10)*(Eingabe!$B$6:$B$400=HK$3)*(Eingabe!$E$6:$E$400))","v":0},"2026-11-07","2026-11-07",{"$f":"SUMPRODUCT((Eingabe!$C$6:$C$400<=$CX10)*(Eingabe!$D$6:$D$400>$CX10)*(Eingabe!$B$6:$B$400=HO$3)*(Eingabe!$E$6:$E$400))","v":7},{"$f":"SUMPRODUCT((Eingabe!$C$6:$C$400<$CX10)*(Eingabe!$D$6:$D$400>=$CX10)*(Eingabe!$B$6:$B$400=HO$3)*(Eingabe!$E$6:$E$400))","v":7},{"$f":"SUMPRODUCT((Eingabe!$C$6:$C$400<=$CX10)*(Eingabe!$D$6:$D$400>$CX10)*(Eingabe!$B$6:$B$400=HQ$3)*(Eingabe!$E$6:$E$400))","v":0},{"$f":"SUMPRODUCT((Eingabe!$C$6:$C$400<$CX10)*(Eingabe!$D$6:$D$400>=$CX10)*(Eingabe!$B$6:$B$400=HQ$3)*(Eingabe!$E$6:$E$400))","v":0},{"$f":"SUMPRODUCT((Eingabe!$C$6:$C$400<=$CX10)*(Eingabe!$D$6:$D$400>$CX10)*(Eingabe!$B$6:$B$400=HS$3)*(Eingabe!$E$6:$E$400))","v":0},{"$f":"SUMPRODUCT((Eingabe!$C$6:$C$400<$CX10)*(Eingabe!$D$6:$D$400>=$CX10)*(Eingabe!$B$6:$B$400=HS$3)*(Eingabe!$E$6:$E$400))","v":0},{"$f":"SUMPRODUCT((Eingabe!$C$6:$C$400<=$CX10)*(Eingabe!$D$6:$D$400>$CX10)*(Eingabe!$B$6:$B$400=HU$3)*(Eingabe!$E$6:$E$400))","v":0},{"$f":"SUMPRODUCT((Eingabe!$C$6:$C$400<$CX10)*(Eingabe!$D$6:$D$400>=$CX10)*(Eingabe!$B$6:$B$400=HU$3)*(Eingabe!$E$6:$E$400))","v":0},"2026-12-07","2026-12-07",{"$f":"SUMPRODUCT((Eingabe!$C$6:$C$400<=$DH10)*(Eingabe!$D$6:$D$400>$DH10)*(Eingabe!$B$6:$B$400=HY$3)*(Eingabe!$E$6:$E$400))","v":7},{"$f":"SUMPRODUCT((Eingabe!$C$6:$C$400<$DH10)*(Eingabe!$D$6:$D$400>=$DH10)*(Eingabe!$B$6:$B$400=HY$3)*(Eingabe!$E$6:$E$400))","v":7},{"$f":"SUMPRODUCT((Eingabe!$C$6:$C$400<=$DH10)*(Eingabe!$D$6:$D$400>$DH10)*(Eingabe!$B$6:$B$400=IA$3)*(Eingabe!$E$6:$E$400))","v":0},{"$f":"SUMPRODUCT((Eingabe!$C$6:$C$400<$DH10)*(Eingabe!$D$6:$D$400>=$DH10)*(Eingabe!$B$6:$B$400=IA$3)*(Eingabe!$E$6:$E$400))","v":0},{"$f":"SUMPRODUCT((Eingabe!$C$6:$C$400<=$DH10)*(Eingabe!$D$6:$D$400>$DH10)*(Eingabe!$B$6:$B$400=IC$3)*(Eingabe!$E$6:$E$400))","v":0},{"$f":"SUMPRODUCT((Eingabe!$C$6:$C$400<$DH10)*(Eingabe!$D$6:$D$400>=$DH10)*(Eingabe!$B$6:$B$400=IC$3)*(Eingabe!$E$6:$E$400))","v":0},{"$f":"SUMPRODUCT((Eingabe!$C$6:$C$400<=$DH10)*(Eingabe!$D$6:$D$400>$DH10)*(Eingabe!$B$6:$B$400=IE$3)*(Eingabe!$E$6:$E$400))","v":0},{"$f":"SUMPRODUCT((Eingabe!$C$6:$C$400<$DH10)*(Eingabe!$D$6:$D$400>=$DH10)*(Eingabe!$B$6:$B$400=IE$3)*(Eingabe!$E$6:$E$400))","v":0}]
["2025-01-08","2025-01-08",{"$f":"SUMPRODUCT((Eingabe!$C$6:$C$400<=$B11)*(Eingabe!$D$6:$D$400>$B11)*(Eingabe!$B$6:$B$400=C$3)*(Eingabe!$E$6:$E$400))","v":0},{"$f":"SUMPRODUCT((Eingabe!$C$6:$C$400<$B11)*(Eingabe!$D$6:$D$400>=$B11)*(Eingabe!$B$6:$B$400=C$3)*(Eingabe!$E$6:$E$400))","v":0},{"$f":"SUMPRODUCT((Eingabe!$C$6:$C$400<=$B11)*(Eingabe!$D$6:$D$400>$B11)*(Eingabe!$B$6:$B$400=E$3)*(Eingabe!$E$6:$E$400))","v":0},{"$f":"SUMPRODUCT((Eingabe!$C$6:$C$400<$B11)*(Eingabe!$D$6:$D$400>=$B11)*(Eingabe!$B$6:$B$400=E$3)*(Eingabe!$E$6:$E$400))","v":0},{"$f":"SUMPRODUCT((Eingabe!$C$6:$C$400<=$B11)*(Eingabe!$D$6:$D$400>$B11)*(Eingabe!$B$6:$B$400=G$3)*(Eingabe!$E$6:$E$400))","v":0},{"$f":"SUMPRODUCT((Eingabe!$C$6:$C$400<$B11)*(Eingabe!$D$6:$D$400>=$B11)*(Eingabe!$B$6:$B$400=G$3)*(Eingabe!$E$6:$E$400))","v":0},{"$f":"SUMPRODUCT((Eingabe!$C$6:$C$400<=$B11)*(Eingabe!$D$6:$D$400>$B11)*(Eingabe!$B$6:$B$400=I$3)*(Eingabe!$E$6:$E$400))","v":7},{"$f":"SUMPRODUCT((Eingabe!$C$6:$C$400<$B11)*(Eingabe!$D$6:$D$400>=$B11)*(Eingabe!$B$6:$B$400=I$3)*(Eingabe!$E$6:$E$400))","v":0},"2025-02-08","2025-02-08",{"$f":"SUMPRODUCT((Eingabe!$C$6:$C$400<=$L11)*(Eingabe!$D$6:$D$400>$L11)*(Eingabe!$B$6:$B$400=M$3)*(Eingabe!$E$6:$E$400))","v":0},{"$f":"SUMPRODUCT((Eingabe!$C$6:$C$400<$L11)*(Eingabe!$D$6:$D$400>=$L11)*(Eingabe!$B$6:$B$400=M$3)*(Eingabe!$E$6:$E$400))","v":0},{"$f":"SUMPRODUCT((Eingabe!$C$6:$C$400<=$L11)*(Eingabe!$D$6:$D$400>$L11)*(Eingabe!$B$6:$B$400=O$3)*(Eingabe!$E$6:$E$400))","v":0},{"$f":"SUMPRODUCT((Eingabe!$C$6:$C$400<$L11)*(Eingabe!$D$6:$D$400>=$L11)*(Eingabe!$B$6:$B$400=O$3)*(Eingabe!$E$6:$E$400))","v":6},{"$f":"SUMPRODUCT((Eingabe!$C$6:$C$400<=$L11)*(Eingabe!$D$6:$D$400>$L11)*(Eingabe!$B$6:$B$400=Q$3)*(Eingabe!$E$6:$E$400))","v":0},{"$f":"SUMPRODUCT((Eingabe!$C$6:$C$400<$L11)*(Eingabe!$D$6:$D$400>=$L11)*(Eingabe!$B$6:$B$400=Q$3)*(Eingabe!$E$6:$E$400))","v":0},{"$f":"SUMPRODUCT((Eingabe!$C$6:$C$400<=$L11)*(Eingabe!$D$6:$D$400>$L11)*(Eingabe!$B$6:$B$400=S$3)*(Eingabe!$E$6:$E$400))","v":0},{"$f":"SUMPRODUCT((Eingabe!$C$6:$C$400<$L11)*(Eingabe!$D$6:$D$400>=$L11)*(Eingabe!$B$6:$B$400=S$3)*(Eingabe!$E$6:$E$400))","v":0},"2025-03-08","2025-03-08",{"$f":"SUMPRODUCT((Eingabe!$C$6:$C$400<=$V11)*(Eingabe!$D$6:$D$400>$V11)*(Eingabe!$B$6:$B$400=W$3)*(Eingabe!$E$6:$E$400))","v":0},{"$f":"SUMPRODUCT((Eingabe!$C$6:$C$400<$V11)*(Eingabe!$D$6:$D$400>=$V11)*(Eingabe!$B$6:$B$400=W$3)*(Eingabe!$E$6:$E$400))","v":0},{"$f":"SUMPRODUCT((Eingabe!$C$6:$C$400<=$V11)*(Eingabe!$D$6:$D$400>$V11)*(Eingabe!$B$6:$B$400=Y$3)*(Eingabe!$E$6:$E$400))","v":0},{"$f":"SUMPRODUCT((Eingabe!$C$6:$C$400<$V11)*(Eingabe!$D$6:$D$400>=$V11)*(Eingabe!$B$6:$B$400=Y$3)*(Eingabe!$E$6:$E$400))","v":0},{"$f":"SUMPRODUCT((Eingabe!$C$6:$C$400<=$V11)*(Eingabe!$D$6:$D$400>$V11)*(Eingabe!$B$6:$B$400=AA$3)*(Eingabe!$E$6:$E$400))","v":0},{"$f":"SUMPRODUCT((Eingabe!$C$6:$C$400<$V11)*(Eingabe!$D$6:$D$400>=$V11)*(Eingabe!$B$6:$B$400=AA$3)*(Eingabe!$E$6:$E$400))","v":0},{"$f":"SUMPRODUCT((Eingabe!$C$6:$C$400<=$V11)*(Eingabe!$D$6:$D$400>$V11)*(Eingabe!$B$6:$B$400=AC$3)*(Eingabe!$E$6:$E$400))","v":0},{"$f":"SUMPRODUCT((Eingabe!$C$6:$C$400<$V11)*(Eingabe!$D$6:$D$400>=$V11)*(Eingabe!$B$6:$B$400=AC$3)*(Eingabe!$E$6:$E$400))","v":0},"2025-04-08","2025-04-08",{"$f":"SUMPRODUCT((Eingabe!$C$6:$C$400<=$AF11)*(Eingabe!$D$6:$D$400>$AF11)*(Eingabe!$B$6:$B$400=AG$3)*(Eingabe!$E$6:$E$400))","v":0},{"$f":"SUMPRODUCT((Eingabe!$C$6:$C$400<$AF11)*(Eingabe!$D$6:$D$400>=$AF11)*(Eingabe!$B$6:$B$400=AG$3)*(Eingabe!$E$6:$E$400))","v":0},{"$f":"SUMPRODUCT((Eingabe!$C$6:$C$400<=$AF11)*(Eingabe!$D$6:$D$400>$AF11)*(Eingabe!$B$6:$B$400=AI$3)*(Eingabe!$E$6:$E$400))","v":0},{"$f":"SUMPRODUCT((Eingabe!$C$6:$C$400<$AF11)*(Eingabe!$D$6:$D$400>=$AF11)*(Eingabe!$B$6:$B$400=AI$3)*(Eingabe!$E$6:$E$400))","v":0},{"$f":"SUMPRODUCT((Eingabe!$C$6:$C$400<=$AF11)*(Eingabe!$D$6:$D$400>$AF11)*(Eingabe!$B$6:$B$400=AK$3)*(Eingabe!$E$6:$E$400))","v":0},{"$f":"SUMPRODUCT((Eingabe!$C$6:$C$400<$AF11)*(Eingabe!$D$6:$D$400>=$AF11)*(Eingabe!$B$6:$B$400=AK$3)*(Eingabe!$E$6:$E$400))","v":0},{"$f":"SUMPRODUCT((Eingabe!$C$6:$C$400<=$AF11)*(Eingabe!$D$6:$D$400>$AF11)*(Eingabe!$B$6:$B$400=AM$3)*(Eingabe!$E$6:$E$400))","v":0},{"$f":"SUMPRODUCT((Eingabe!$C$6:$C$400<$AF11)*(Eingabe!$D$6:$D$400>=$AF11)*(Eingabe!$B$6:$B$400=AM$3)*(Eingabe!$E$6:$E$400))","v":0},"2025-05-08","2025-05-08",{"$f":"SUMPRODUCT((Eingabe!$C$6:$C$400<=$AP11)*(Eingabe!$D$6:$D$400>$AP11)*(Eingabe!$B$6:$B$400=AQ$3)*(Eingabe!$E$6:$E$400))","v":0},{"$f":"SUMPRODUCT((Eingabe!$C$6:$C$400<$AP11)*(Eingabe!$D$6:$D$400>=$AP11)*(Eingabe!$B$6:$B$400=AQ$3)*(Eingabe!$E$6:$E$400))","v":0},{"$f":"SUMPRODUCT((Eingabe!$C$6:$C$400<=$AP11)*(Eingabe!$D$6:$D$400>$AP11)*(Eingabe!$B$6:$B$400=AS$3)*(Eingabe!$E$6:$E$400))","v":0},{"$f":"SUMPRODUCT((Eingabe!$C$6:$C$400<$AP11)*(Eingabe!$D$6:$D$400>=$AP11)*(Eingabe!$B$6:$B$400=AS$3)*(Eingabe!$E$6:$E$400))","v":0},{"$f":"SUMPRODUCT((Eingabe!$C$6:$C$400<=$AP11)*(Eingabe!$D$6:$D$400>$AP11)*(Eingabe!$B$6:$B$400=AU$3)*(Eingabe!$E$6:$E$400))","v":0},{"$f":"SUMPRODUCT((Eingabe!$C$6:$C$400<$AP11)*(Eingabe!$D$6:$D$400>=$AP11)*(Eingabe!$B$6:$B$400=AU$3)*(Eingabe!$E$6:$E$400))","v":0},{"$f":"SUMPRODUCT((Eingabe!$C$6:$C$400<=$AP11)*(Eingabe!$D$6:$D$400>$AP11)*(Eingabe!$B$6:$B$400=AW$3)*(Eingabe!$E$6:$E$400))","v":0},{"$f":"SUMPRODUCT((Eingabe!$C$6:$C$400<$AP11)*(Eingabe!$D$6:$D$400>=$AP11)*(Eingabe!$B$6:$B$400=AW$3)*(Eingabe!$E$6:$E$400))","v":0},"2025-06-08","2025-06-08",{"$f":"SUMPRODUCT((Eingabe!$C$6:$C$400<=$AZ11)*(Eingabe!$D$6:$D$400>$AZ11)*(Eingabe!$B$6:$B$400=BA$3)*(Eingabe!$E$6:$E$400))","v":0},{"$f":"SUMPRODUCT((Eingabe!$C$6:$C$400<$AZ11)*(Eingabe!$D$6:$D$400>=$AZ11)*(Eingabe!$B$6:$B$400=BA$3)*(Eingabe!$E$6:$E$400))","v":0},{"$f":"SUMPRODUCT((Eingabe!$C$6:$C$400<=$AZ11)*(Eingabe!$D$6:$D$400>$AZ11)*(Eingabe!$B$6:$B$400=BC$3)*(Eingabe!$E$6:$E$400))","v":0},{"$f":"SUMPRODUCT((Eingabe!$C$6:$C$400<$AZ11)*(Eingabe!$D$6:$D$400>=$AZ11)*(Eingabe!$B$6:$B$400=BC$3)*(Eingabe!$E$6:$E$400))","v":0},{"$f":"SUMPRODUCT((Eingabe!$C$6:$C$400<=$AZ11)*(Eingabe!$D$6:$D$400>$AZ11)*(Eingabe!$B$6:$B$400=BE$3)*(Eingabe!$E$6:$E$400))","v":0},{"$f":"SUMPRODUCT((Eingabe!$C$6:$C$400<$AZ11)*(Eingabe!$D$6:$D$400>=$AZ11)*(Eingabe!$B$6:$B$400=BE$3)*(Eingabe!$E$6:$E$400))","v":0},{"$f":"SUMPRODUCT((Eingabe!$C$6:$C$400<=$AZ11)*(Eingabe!$D$6:$D$400>$AZ11)*(Eingabe!$B$6:$B$400=BG$3)*(Eingabe!$E$6:$E$400))","v":0},{"$f":"SUMPRODUCT((Eingabe!$C$6:$C$400<$AZ11)*(Eingabe!$D$6:$D$400>=$AZ11)*(Eingabe!$B$6:$B$400=BG$3)*(Eingabe!$E$6:$E$400))","v":0},"2025-07-08","2025-07-08",{"$f":"SUMPRODUCT((Eingabe!$C$6:$C$400<=$BJ11)*(Eingabe!$D$6:$D$400>$BJ11)*(Eingabe!$B$6:$B$400=BK$3)*(Eingabe!$E$6:$E$400))","v":6},{"$f":"SUMPRODUCT((Eingabe!$C$6:$C$400<$BJ11)*(Eingabe!$D$6:$D$400>=$BJ11)*(Eingabe!$B$6:$B$400=BK$3)*(Eingabe!$E$6:$E$400))","v":6},{"$f":"SUMPRODUCT((Eingabe!$C$6:$C$400<=$BJ11)*(Eingabe!$D$6:$D$400>$BJ11)*(Eingabe!$B$6:$B$400=BM$3)*(Eingabe!$E$6:$E$400))","v":7},{"$f":"SUMPRODUCT((Eingabe!$C$6:$C$400<$BJ11)*(Eingabe!$D$6:$D$400>=$BJ11)*(Eingabe!$B$6:$B$400=BM$3)*(Eingabe!$E$6:$E$400))","v":7},{"$f":"SUMPRODUCT((Eingabe!$C$6:$C$400<=$BJ11)*(Eingabe!$D$6:$D$400>$BJ11)*(Eingabe!$B$6:$B$400=BO$3)*(Eingabe!$E$6:$E$400))","v":0},{"$f":"SUMPRODUCT((Eingabe!$C$6:$C$400<$BJ11)*(Eingabe!$D$6:$D$400>=$BJ11)*(Eingabe!$B$6:$B$400=BO$3)*(Eingabe!$E$6:$E$400))","v":0},{"$f":"SUMPRODUCT((Eingabe!$C$6:$C$400<=$BJ11)*(Eingabe!$D$6:$D$400>$BJ11)*(Eingabe!$B$6:$B$400=BQ$3)*(Eingabe!$E$6:$E$400))","v":0},{"$f":"SUMPRODUCT((Eingabe!$C$6:$C$400<$BJ11)*(Eingabe!$D$6:$D$400>=$BJ11)*(Eingabe!$B$6:$B$400=BQ$3)*(Eingabe!$E$6:$E$400))","v":0},"2025-08-08","2025-08-08",{"$f":"SUMPRODUCT((Eingabe!$C$6:$C$400<=$BT11)*(Eingabe!$D$6:$D$400>$BT11)*(Eingabe!$B$6:$B$400=BU$3)*(Eingabe!$E$6:$E$400))","v":7},{"$f":"SUMPRODUCT((Eingabe!$C$6:$C$400<$BT11)*(Eingabe!$D$6:$D$400>=$BT11)*(Eingabe!$B$6:$B$400=BU$3)*(Eingabe!$E$6:$E$400))","v":0},{"$f":"SUMPRODUCT((Eingabe!$C$6:$C$400<=$BT11)*(Eingabe!$D$6:$D$400>$BT11)*(Eingabe!$B$6:$B$400=BW$3)*(Eingabe!$E$6:$E$400))","v":7},{"$f":"SUMPRODUCT((Eingabe!$C$6:$C$400<$BT11)*(Eingabe!$D$6:$D$400>=$BT11)*(Eingabe!$B$6:$B$400=BW$3)*(Eingabe!$E$6:$E$400))","v":0},{"$f":"SUMPRODUCT((Eingabe!$C$6:$C$400<=$BT11)*(Eingabe!$D$6:$D$400>$BT11)*(Eingabe!$B$6:$B$400=BY$3)*(Eingabe!$E$6:$E$400))","v":7},{"$f":"SUMPRODUCT((Eingabe!$C$6:$C$400<$BT11)*(Eingabe!$D$6:$D$400>=$BT11)*(Eingabe!$B$6:$B$400=BY$3)*(Eingabe!$E$6:$E$400))","v":0},{"$f":"SUMPRODUCT((Eingabe!$C$6:$C$400<=$BT11)*(Eingabe!$D$6:$D$400>$BT11)*(Eingabe!$B$6:$B$400=CA$3)*(Eingabe!$E$6:$E$400))","v":0},{"$f":"SUMPRODUCT((Eingabe!$C$6:$C$400<$BT11)*(Eingabe!$D$6:$D$400>=$BT11)*(Eingabe!$B$6:$B$400=CA$3)*(Eingabe!$E$6:$E$400))","v":0},"2025-09-08","2025-09-08",{"$f":"SUMPRODUCT((Eingabe!$C$6:$C$400<=$CD11)*(Eingabe!$D$6:$D$400>$CD11)*(Eingabe!$B$6:$B$400=CE$3)*(Eingabe!$E$6:$E$400))","v":0},{"$f":"SUMPRODUCT((Eingabe!$C$6:$C$400<$CD11)*(Eingabe!$D$6:$D$400>=$CD11)*(Eingabe!$B$6:$B$400=CE$3)*(Eingabe!$E$6:$E$400))","v":0},{"$f":"SUMPRODUCT((Eingabe!$C$6:$C$400<=$CD11)*(Eingabe!$D$6:$D$400>$CD11)*(Eingabe!$B$6:$B$400=CG$3)*(Eingabe!$E$6:$E$400))","v":0},{"$f":"SUMPRODUCT((Eingabe!$C$6:$C$400<$CD11)*(Eingabe!$D$6:$D$400>=$CD11)*(Eingabe!$B$6:$B$400=CG$3)*(Eingabe!$E$6:$E$400))","v":0},{"$f":"SUMPRODUCT((Eingabe!$C$6:$C$400<=$CD11)*(Eingabe!$D$6:$D$400>$CD11)*(Eingabe!$B$6:$B$400=CI$3)*(Eingabe!$E$6:$E$400))","v":0},{"$f":"SUMPRODUCT((Eingabe!$C$6:$C$400<$CD11)*(Eingabe!$D$6:$D$400>=$CD11)*(Eingabe!$B$6:$B$400=CI$3)*(Eingabe!$E$6:$E$400))","v":0},{"$f":"SUMPRODUCT((Eingabe!$C$6:$C$400<=$CD11)*(Eingabe!$D$6:$D$400>$CD11)*(Eingabe!$B$6:$B$400=CK$3)*(Eingabe!$E$6:$E$400))","v":0},{"$f":"SUMPRODUCT((Eingabe!$C$6:$C$400<$CD11)*(Eingabe!$D$6:$D$400>=$CD11)*(Eingabe!$B$6:$B$400=CK$3)*(Eingabe!$E$6:$E$400))","v":0},"2025-10-08","2025-10-08",{"$f":"SUMPRODUCT((Eingabe!$C$6:$C$400<=$CN11)*(Eingabe!$D$6:$D$400>$CN11)*(Eingabe!$B$6:$B$400=CO$3)*(Eingabe!$E$6:$E$400))","v":7},{"$f":"SUMPRODUCT((Eingabe!$C$6:$C$400<$CN11)*(Eingabe!$D$6:$D$400>=$CN11)*(Eingabe!$B$6:$B$400=CO$3)*(Eingabe!$E$6:$E$400))","v":7},{"$f":"SUMPRODUCT((Eingabe!$C$6:$C$400<=$CN11)*(Eingabe!$D$6:$D$400>$CN11)*(Eingabe!$B$6:$B$400=CQ$3)*(Eingabe!$E$6:$E$400))","v":0},{"$f":"SUMPRODUCT((Eingabe!$C$6:$C$400<$CN11)*(Eingabe!$D$6:$D$400>=$CN11)*(Eingabe!$B$6:$B$400=CQ$3)*(Eingabe!$E$6:$E$400))","v":0},{"$f":"SUMPRODUCT((Eingabe!$C$6:$C$400<=$CN11)*(Eingabe!$D$6:$D$400>$CN11)*(Eingabe!$B$6:$B$400=CS$3)*(Eingabe!$E$6:$E$400))","v":0},{"$f":"SUMPRODUCT((Eingabe!$C$6:$C$400<$CN11)*(Eingabe!$D$6:$D$400>=$CN11)*(Eingabe!$B$6:$B$400=CS$3)*(Eingabe!$E$6:$E$400))","v":0},{"$f":"SUMPRODUCT((Eingabe!$C$6:$C$400<=$CN11)*(Eingabe!$D$6:$D$400>$CN11)*(Eingabe!$B$6:$B$400=CU$3)*(Eingabe!$E$6:$E$400))","v":0},{"$f":"SUMPRODUCT((Eingabe!$C$6:$C$400<$CN11)*(Eingabe!$D$6:$D$400>=$CN11)*(Eingabe!$B$6:$B$400=CU$3)*(Eingabe!$E$6:$E$400))","v":0},"2025-11-08","2025-11-08",{"$f":"SUMPRODUCT((Eingabe!$C$6:$C$400<=$CX11)*(Eingabe!$D$6:$D$400>$CX11)*(Eingabe!$B$6:$B$400=CY$3)*(Eingabe!$E$6:$E$400))","v":7},{"$f":"SUMPRODUCT((Eingabe!$C$6:$C$400<$CX11)*(Eingabe!$D$6:$D$400>=$CX11)*(Eingabe!$B$6:$B$400=CY$3)*(Eingabe!$E$6:$E$400))","v":7},{"$f":"SUMPRODUCT((Eingabe!$C$6:$C$400<=$CX11)*(Eingabe!$D$6:$D$400>$CX11)*(Eingabe!$B$6:$B$400=DA$3)*(Eingabe!$E$6:$E$400))","v":0},{"$f":"SUMPRODUCT((Eingabe!$C$6:$C$400<$CX11)*(Eingabe!$D$6:$D$400>=$CX11)*(Eingabe!$B$6:$B$400=DA$3)*(Eingabe!$E$6:$E$400))","v":0},{"$f":"SUMPRODUCT((Eingabe!$C$6:$C$400<=$CX11)*(Eingabe!$D$6:$D$400>$CX11)*(Eingabe!$B$6:$B$400=DC$3)*(Eingabe!$E$6:$E$400))","v":0},{"$f":"SUMPRODUCT((Eingabe!$C$6:$C$400<$CX11)*(Eingabe!$D$6:$D$400>=$CX11)*(Eingabe!$B$6:$B$400=DC$3)*(Eingabe!$E$6:$E$400))","v":0},{"$f":"SUMPRODUCT((Eingabe!$C$6:$C$400<=$CX11)*(Eingabe!$D$6:$D$400>$CX11)*(Eingabe!$B$6:$B$400=DE$3)*(Eingabe!$E$6:$E$400))","v":0},{"$f":"SUMPRODUCT((Eingabe!$C$6:$C$400<$CX11)*(Eingabe!$D$6:$D$400>=$CX11)*(Eingabe!$B$6:$B$400=DE$3)*(Eingabe!$E$6:$E$400))","v":0},"2025-12-08","2025-12-08",{"$f":"SUMPRODUCT((Eingabe!$C$6:$C$400<=$DH11)*(Eingabe!$D$6:$D$400>$DH11)*(Eingabe!$B$6:$B$400=DI$3)*(Eingabe!$E$6:$E$400))","v":7},{"$f":"SUMPRODUCT((Eingabe!$C$6:$C$400<$DH11)*(Eingabe!$D$6:$D$400>=$DH11)*(Eingabe!$B$6:$B$400=DI$3)*(Eingabe!$E$6:$E$400))","v":7},{"$f":"SUMPRODUCT((Eingabe!$C$6:$C$400<=$DH11)*(Eingabe!$D$6:$D$400>$DH11)*(Eingabe!$B$6:$B$400=DK$3)*(Eingabe!$E$6:$E$400))","v":0},{"$f":"SUMPRODUCT((Eingabe!$C$6:$C$400<$DH11)*(Eingabe!$D$6:$D$400>=$DH11)*(Eingabe!$B$6:$B$400=DK$3)*(Eingabe!$E$6:$E$400))","v":0},{"$f":"SUMPRODUCT((Eingabe!$C$6:$C$400<=$DH11)*(Eingabe!$D$6:$D$400>$DH11)*(Eingabe!$B$6:$B$400=DM$3)*(Eingabe!$E$6:$E$400))","v":0},{"$f":"SUMPRODUCT((Eingabe!$C$6:$C$400<$DH11)*(Eingabe!$D$6:$D$400>=$DH11)*(Eingabe!$B$6:$B$400=DM$3)*(Eingabe!$E$6:$E$400))","v":0},{"$f":"SUMPRODUCT((Eingabe!$C$6:$C$400<=$DH11)*(Eingabe!$D$6:$D$400>$DH11)*(Eingabe!$B$6:$B$400=DO$3)*(Eingabe!$E$6:$E$400))","v":0},{"$f":"SUMPRODUCT((Eingabe!$C$6:$C$400<$DH11)*(Eingabe!$D$6:$D$400>=$DH11)*(Eingabe!$B$6:$B$400=DO$3)*(Eingabe!$E$6:$E$400))","v":0},"2026-01-08","2026-01-08",{"$f":"SUMPRODUCT((Eingabe!$C$6:$C$400<=$B11)*(Eingabe!$D$6:$D$400>$B11)*(Eingabe!$B$6:$B$400=DS$3)*(Eingabe!$E$6:$E$400))","v":0},{"$f":"SUMPRODUCT((Eingabe!$C$6:$C$400<$B11)*(Eingabe!$D$6:$D$400>=$B11)*(Eingabe!$B$6:$B$400=DS$3)*(Eingabe!$E$6:$E$400))","v":0},{"$f":"SUMPRODUCT((Eingabe!$C$6:$C$400<=$B11)*(Eingabe!$D$6:$D$400>$B11)*(Eingabe!$B$6:$B$400=DU$3)*(Eingabe!$E$6:$E$400))","v":0},{"$f":"SUMPRODUCT((Eingabe!$C$6:$C$400<$B11)*(Eingabe!$D$6:$D$400>=$B11)*(Eingabe!$B$6:$B$400=DU$3)*(Eingabe!$E$6:$E$400))","v":0},{"$f":"SUMPRODUCT((Eingabe!$C$6:$C$400<=$B11)*(Eingabe!$D$6:$D$400>$B11)*(Eingabe!$B$6:$B$400=DW$3)*(Eingabe!$E$6:$E$400))","v":0},{"$f":"SUMPRODUCT((Eingabe!$C$6:$C$400<$B11)*(Eingabe!$D$6:$D$400>=$B11)*(Eingabe!$B$6:$B$400=DW$3)*(Eingabe!$E$6:$E$400))","v":0},{"$f":"SUMPRODUCT((Eingabe!$C$6:$C$400<=$B11)*(Eingabe!$D$6:$D$400>$B11)*(Eingabe!$B$6:$B$400=DY$3)*(Eingabe!$E$6:$E$400))","v":7},{"$f":"SUMPRODUCT((Eingabe!$C$6:$C$400<$B11)*(Eingabe!$D$6:$D$400>=$B11)*(Eingabe!$B$6:$B$400=DY$3)*(Eingabe!$E$6:$E$400))","v":0},"2026-02-08","2026-02-08",{"$f":"SUMPRODUCT((Eingabe!$C$6:$C$400<=$L11)*(Eingabe!$D$6:$D$400>$L11)*(Eingabe!$B$6:$B$400=EC$3)*(Eingabe!$E$6:$E$400))","v":0},{"$f":"SUMPRODUCT((Eingabe!$C$6:$C$400<$L11)*(Eingabe!$D$6:$D$400>=$L11)*(Eingabe!$B$6:$B$400=EC$3)*(Eingabe!$E$6:$E$400))","v":0},{"$f":"SUMPRODUCT((Eingabe!$C$6:$C$400<=$L11)*(Eingabe!$D$6:$D$400>$L11)*(Eingabe!$B$6:$B$400=EE$3)*(Eingabe!$E$6:$E$400))","v":0},{"$f":"SUMPRODUCT((Eingabe!$C$6:$C$400<$L11)*(Eingabe!$D$6:$D$400>=$L11)*(Eingabe!$B$6:$B$400=EE$3)*(Eingabe!$E$6:$E$400))","v":6},{"$f":"SUMPRODUCT((Eingabe!$C$6:$C$400<=$L11)*(Eingabe!$D$6:$D$400>$L11)*(Eingabe!$B$6:$B$400=EG$3)*(Eingabe!$E$6:$E$400))","v":0},{"$f":"SUMPRODUCT((Eingabe!$C$6:$C$400<$L11)*(Eingabe!$D$6:$D$400>=$L11)*(Eingabe!$B$6:$B$400=EG$3)*(Eingabe!$E$6:$E$400))","v":0},{"$f":"SUMPRODUCT((Eingabe!$C$6:$C$400<=$L11)*(Eingabe!$D$6:$D$400>$L11)*(Eingabe!$B$6:$B$400=EI$3)*(Eingabe!$E$6:$E$400))","v":0},{"$f":"SUMPRODUCT((Eingabe!$C$6:$C$400<$L11)*(Eingabe!$D$6:$D$400>=$L11)*(Eingabe!$B$6:$B$400=EI$3)*(Eingabe!$E$6:$E$400))","v":0},"2026-03-08","2026-03-08",{"$f":"SUMPRODUCT((Eingabe!$C$6:$C$400<=$V11)*(Eingabe!$D$6:$D$400>$V11)*(Eingabe!$B$6:$B$400=EM$3)*(Eingabe!$E$6:$E$400))","v":0},{"$f":"SUMPRODUCT((Eingabe!$C$6:$C$400<$V11)*(Eingabe!$D$6:$D$400>=$V11)*(Eingabe!$B$6:$B$400=EM$3)*(Eingabe!$E$6:$E$400))","v":0},{"$f":"SUMPRODUCT((Eingabe!$C$6:$C$400<=$V11)*(Eingabe!$D$6:$D$400>$V11)*(Eingabe!$B$6:$B$400=EO$3)*(Eingabe!$E$6:$E$400))","v":0},{"$f":"SUMPRODUCT((Eingabe!$C$6:$C$400<$V11)*(Eingabe!$D$6:$D$400>=$V11)*(Eingabe!$B$6:$B$400=EO$3)*(Eingabe!$E$6:$E$400))","v":0},{"$f":"SUMPRODUCT((Eingabe!$C$6:$C$400<=$V11)*(Eingabe!$D$6:$D$400>$V11)*(Eingabe!$B$6:$B$400=EQ$3)*(Eingabe!$E$6:$E$400))","v":0},{"$f":"SUMPRODUCT((Eingabe!$C$6:$C$400<$V11)*(Eingabe!$D$6:$D$400>=$V11)*(Eingabe!$B$6:$B$400=EQ$3)*(Eingabe!$E$6:$E$400))","v":0},{"$f":"SUMPRODUCT((Eingabe!$C$6:$C$400<=$V11)*(Eingabe!$D$6:$D$400>$V11)*(Eingabe!$B$6:$B$400=ES$3)*(Eingabe!$E$6:$E$400))","v":0},{"$f":"SUMPRODUCT((Eingabe!$C$6:$C$400<$V11)*(Eingabe!$D$6:$D$400>=$V11)*(Eingabe!$B$6:$B$400=ES$3)*(Eingabe!$E$6:$E$400))","v":0},"2026-04-08","2026-04-08",{"$f":"SUMPRODUCT((Eingabe!$C$6:$C$400<=$AF11)*(Eingabe!$D$6:$D$400>$AF11)*(Eingabe!$B$6:$B$400=EW$3)*(Eingabe!$E$6:$E$400))","v":0},{"$f":"SUMPRODUCT((Eingabe!$C$6:$C$400<$AF11)*(Eingabe!$D$6:$D$400>=$AF11)*(Eingabe!$B$6:$B$400=EW$3)*(Eingabe!$E$6:$E$400))","v":0},{"$f":"SUMPRODUCT((Eingabe!$C$6:$C$400<=$AF11)*(Eingabe!$D$6:$D$400>$AF11)*(Eingabe!$B$6:$B$400=EY$3)*(Eingabe!$E$6:$E$400))","v":0},{"$f":"SUMPRODUCT((Eingabe!$C$6:$C$400<$AF11)*(Eingabe!$D$6:$D$400>=$AF11)*(Eingabe!$B$6:$B$400=EY$3)*(Eingabe!$E$6:$E$400))","v":0},{"$f":"SUMPRODUCT((Eingabe!$C$6:$C$400<=$AF11)*(Eingabe!$D$6:$D$400>$AF11)*(Eingabe!$B$6:$B$400=FA$3)*(Eingabe!$E$6:$E$400))","v":0},{"$f":"SUMPRODUCT((Eingabe!$C$6:$C$400<$AF11)*(Eingabe!$D$6:$D$400>=$AF11)*(Eingabe!$B$6:$B$400=FA$3)*(Eingabe!$E$6:$E$400))","v":0},{"$f":"SUMPRODUCT((Eingabe!$C$6:$C$400<=$AF11)*(Eingabe!$D$6:$D$400>$AF11)*(Eingabe!$B$6:$B$400=FC$3)*(Eingabe!$E$6:$E$400))","v":0},{"$f":"SUMPRODUCT((Eingabe!$C$6:$C$400<$AF11)*(Eingabe!$D$6:$D$400>=$AF11)*(Eingabe!$B$6:$B$400=FC$3)*(Eingabe!$E$6:$E$400))","v":0},"2026-05-08","2026-05-08",{"$f":"SUMPRODUCT((Eingabe!$C$6:$C$400<=$AP11)*(Eingabe!$D$6:$D$400>$AP11)*(Eingabe!$B$6:$B$400=FG$3)*(Eingabe!$E$6:$E$400))","v":0},{"$f":"SUMPRODUCT((Eingabe!$C$6:$C$400<$AP11)*(Eingabe!$D$6:$D$400>=$AP11)*(Eingabe!$B$6:$B$400=FG$3)*(Eingabe!$E$6:$E$400))","v":0},{"$f":"SUMPRODUCT((Eingabe!$C$6:$C$400<=$AP11)*(Eingabe!$D$6:$D$400>$AP11)*(Eingabe!$B$6:$B$400=FI$3)*(Eingabe!$E$6:$E$400))","v":0},{"$f":"SUMPRODUCT((Eingabe!$C$6:$C$400<$AP11)*(Eingabe!$D$6:$D$400>=$AP11)*(Eingabe!$B$6:$B$400=FI$3)*(Eingabe!$E$6:$E$400))","v":0},{"$f":"SUMPRODUCT((Eingabe!$C$6:$C$400<=$AP11)*(Eingabe!$D$6:$D$400>$AP11)*(Eingabe!$B$6:$B$400=FK$3)*(Eingabe!$E$6:$E$400))","v":0},{"$f":"SUMPRODUCT((Eingabe!$C$6:$C$400<$AP11)*(Eingabe!$D$6:$D$400>=$AP11)*(Eingabe!$B$6:$B$400=FK$3)*(Eingabe!$E$6:$E$400))","v":0},{"$f":"SUMPRODUCT((Eingabe!$C$6:$C$400<=$AP11)*(Eingabe!$D$6:$D$400>$AP11)*(Eingabe!$B$6:$B$400=FM$3)*(Eingabe!$E$6:$E$400))","v":0},{"$f":"SUMPRODUCT((Eingabe!$C$6:$C$400<$AP11)*(Eingabe!$D$6:$D$400>=$AP11)*(Eingabe!$B$6:$B$400=FM$3)*(Eingabe!$E$6:$E$400))","v":0},"2026-06-08","2026-06-08",{"$f":"SUMPRODUCT((Eingabe!$C$6:$C$400<=$AZ11)*(Eingabe!$D$6:$D$400>$AZ11)*(Eingabe!$B$6:$B$400=FQ$3)*(Eingabe!$E$6:$E$400))","v":0},{"$f":"SUMPRODUCT((Eingabe!$C$6:$C$400<$AZ11)*(Eingabe!$D$6:$D$400>=$AZ11)*(Eingabe!$B$6:$B$400=FQ$3)*(Eingabe!$E$6:$E$400))","v":0},{"$f":"SUMPRODUCT((Eingabe!$C$6:$C$400<=$AZ11)*(Eingabe!$D$6:$D$400>$AZ11)*(Eingabe!$B$6:$B$400=FS$3)*(Eingabe!$E$6:$E$400))","v":0},{"$f":"SUMPRODUCT((Eingabe!$C$6:$C$400<$AZ11)*(Eingabe!$D$6:$D$400>=$AZ11)*(Eingabe!$B$6:$B$400=FS$3)*(Eingabe!$E$6:$E$400))","v":0},{"$f":"SUMPRODUCT((Eingabe!$C$6:$C$400<=$AZ11)*(Eingabe!$D$6:$D$400>$AZ11)*(Eingabe!$B$6:$B$400=FU$3)*(Eingabe!$E$6:$E$400))","v":0},{"$f":"SUMPRODUCT((Eingabe!$C$6:$C$400<$AZ11)*(Eingabe!$D$6:$D$400>=$AZ11)*(Eingabe!$B$6:$B$400=FU$3)*(Eingabe!$E$6:$E$400))","v":0},{"$f":"SUMPRODUCT((Eingabe!$C$6:$C$400<=$AZ11)*(Eingabe!$D$6:$D$400>$AZ11)*(Eingabe!$B$6:$B$400=FW$3)*(Eingabe!$E$6:$E$400))","v":0},{"$f":"SUMPRODUCT((Eingabe!$C$6:$C$400<$AZ11)*(Eingabe!$D$6:$D$400>=$AZ11)*(Eingabe!$B$6:$B$400=FW$3)*(Eingabe!$E$6:$E$400))","v":0},"2026-07-08","2026-07-08",{"$f":"SUMPRODUCT((Eingabe!$C$6:$C$400<=$BJ11)*(Eingabe!$D$6:$D$400>$BJ11)*(Eingabe!$B$6:$B$400=GA$3)*(Eingabe!$E$6:$E$400))","v":6},{"$f":"SUMPRODUCT((Eingabe!$C$6:$C$400<$BJ11)*(Eingabe!$D$6:$D$400>=$BJ11)*(Eingabe!$B$6:$B$400=GA$3)*(Eingabe!$E$6:$E$400))","v":6},{"$f":"SUMPRODUCT((Eingabe!$C$6:$C$400<=$BJ11)*(Eingabe!$D$6:$D$400>$BJ11)*(Eingabe!$B$6:$B$400=GC$3)*(Eingabe!$E$6:$E$400))","v":7},{"$f":"SUMPRODUCT((Eingabe!$C$6:$C$400<$BJ11)*(Eingabe!$D$6:$D$400>=$BJ11)*(Eingabe!$B$6:$B$400=GC$3)*(Eingabe!$E$6:$E$400))","v":7},{"$f":"SUMPRODUCT((Eingabe!$C$6:$C$400<=$BJ11)*(Eingabe!$D$6:$D$400>$BJ11)*(Eingabe!$B$6:$B$400=GE$3)*(Eingabe!$E$6:$E$400))","v":0},{"$f":"SUMPRODUCT((Eingabe!$C$6:$C$400<$BJ11)*(Eingabe!$D$6:$D$400>=$BJ11)*(Eingabe!$B$6:$B$400=GE$3)*(Eingabe!$E$6:$E$400))","v":0},{"$f":"SUMPRODUCT((Eingabe!$C$6:$C$400<=$BJ11)*(Eingabe!$D$6:$D$400>$BJ11)*(Eingabe!$B$6:$B$400=GG$3)*(Eingabe!$E$6:$E$400))","v":0},{"$f":"SUMPRODUCT((Eingabe!$C$6:$C$400<$BJ11)*(Eingabe!$D$6:$D$400>=$BJ11)*(Eingabe!$B$6:$B$400=GG$3)*(Eingabe!$E$6:$E$400))","v":0},"2026-08-08","2026-08-08",{"$f":"SUMPRODUCT((Eingabe!$C$6:$C$400<=$BT11)*(Eingabe!$D$6:$D$400>$BT11)*(Eingabe!$B$6:$B$400=GK$3)*(Eingabe!$E$6:$E$400))","v":7},{"$f":"SUMPRODUCT((Eingabe!$C$6:$C$400<$BT11)*(Eingabe!$D$6:$D$400>=$BT11)*(Eingabe!$B$6:$B$400=GK$3)*(Eingabe!$E$6:$E$400))","v":0},{"$f":"SUMPRODUCT((Eingabe!$C$6:$C$400<=$BT11)*(Eingabe!$D$6:$D$400>$BT11)*(Eingabe!$B$6:$B$400=GM$3)*(Eingabe!$E$6:$E$400))","v":7},{"$f":"SUMPRODUCT((Eingabe!$C$6:$C$400<$BT11)*(Eingabe!$D$6:$D$400>=$BT11)*(Eingabe!$B$6:$B$400=GM$3)*(Eingabe!$E$6:$E$400))","v":0},{"$f":"SUMPRODUCT((Eingabe!$C$6:$C$400<=$BT11)*(Eingabe!$D$6:$D$400>$BT11)*(Eingabe!$B$6:$B$400=GO$3)*(Eingabe!$E$6:$E$400))","v":7},{"$f":"SUMPRODUCT((Eingabe!$C$6:$C$400<$BT11)*(Eingabe!$D$6:$D$400>=$BT11)*(Eingabe!$B$6:$B$400=GO$3)*(Eingabe!$E$6:$E$400))","v":0},{"$f":"SUMPRODUCT((Eingabe!$C$6:$C$400<=$BT11)*(Eingabe!$D$6:$D$400>$BT11)*(Eingabe!$B$6:$B$400=GQ$3)*(Eingabe!$E$6:$E$400))","v":0},{"$f":"SUMPRODUCT((Eingabe!$C$6:$C$400<$BT11)*(Eingabe!$D$6:$D$400>=$BT11)*(Eingabe!$B$6:$B$400=GQ$3)*(Eingabe!$E$6:$E$400))","v":0},"2026-09-08","2026-09-08",{"$f":"SUMPRODUCT((Eingabe!$C$6:$C$400<=$CD11)*(Eingabe!$D$6:$D$400>$CD11)*(Eingabe!$B$6:$B$400=GU$3)*(Eingabe!$E$6:$E$400))","v":0},{"$f":"SUMPRODUCT((Eingabe!$C$6:$C$400<$CD11)*(Eingabe!$D$6:$D$400>=$CD11)*(Eingabe!$B$6:$B$400=GU$3)*(Eingabe!$E$6:$E$400))","v":0},{"$f":"SUMPRODUCT((Eingabe!$C$6:$C$400<=$CD11)*(Eingabe!$D$6:$D$400>$CD11)*(Eingabe!$B$6:$B$400=GW$3)*(Eingabe!$E$6:$E$400))","v":0},{"$f":"SUMPRODUCT((Eingabe!$C$6:$C$400<$CD11)*(Eingabe!$D$6:$D$400>=$CD11)*(Eingabe!$B$6:$B$400=GW$3)*(Eingabe!$E$6:$E$400))","v":0},{"$f":"SUMPRODUCT((Eingabe!$C$6:$C$400<=$CD11)*(Eingabe!$D$6:$D$400>$CD11)*(Eingabe!$B$6:$B$400=GY$3)*(Eingabe!$E$6:$E$400))","v":0},{"$f":"SUMPRODUCT((Eingabe!$C$6:$C$400<$CD11)*(Eingabe!$D$6:$D$400>=$CD11)*(Eingabe!$B$6:$B$400=GY$3)*(Eingabe!$E$6:$E$400))","v":0},{"$f":"SUMPRODUCT((Eingabe!$C$6:$C$400<=$CD11)*(Eingabe!$D$6:$D$400>$CD11)*(Eingabe!$B$6:$B$400=HA$3)*(Eingabe!$E$6:$E$400))","v":0},{"$f":"SUMPRODUCT((Eingabe!$C$6:$C$400<$CD11)*(Eingabe!$D$6:$D$400>=$CD11)*(Eingabe!$B$6:$B$400=HA$3)*(Eingabe!$E$6:$E$400))","v":0},"2026-10-08","2026-10-08",{"$f":"SUMPRODUCT((Eingabe!$C$6:$C$400<=$CN11)*(Eingabe!$D$6:$D$400>$CN11)*(Eingabe!$B$6:$B$400=HE$3)*(Eingabe!$E$6:$E$400))","v":7},{"$f":"SUMPRODUCT((Eingabe!$C$6:$C$400<$CN11)*(Eingabe!$D$6:$D$400>=$CN11)*(Eingabe!$B$6:$B$400=HE$3)*(Eingabe!$E$6:$E$400))","v":7},{"$f":"SUMPRODUCT((Eingabe!$C$6:$C$400<=$CN11)*(Eingabe!$D$6:$D$400>$CN11)*(Eingabe!$B$6:$B$400=HG$3)*(Eingabe!$E$6:$E$400))","v":0},{"$f":"SUMPRODUCT((Eingabe!$C$6:$C$400<$CN11)*(Eingabe!$D$6:$D$400>=$CN11)*(Eingabe!$B$6:$B$400=HG$3)*(Eingabe!$E$6:$E$400))","v":0},{"$f":"SUMPRODUCT((Eingabe!$C$6:$C$400<=$CN11)*(Eingabe!$D$6:$D$400>$CN11)*(Eingabe!$B$6:$B$400=HI$3)*(Eingabe!$E$6:$E$400))","v":0},{"$f":"SUMPRODUCT((Eingabe!$C$6:$C$400<$CN11)*(Eingabe!$D$6:$D$400>=$CN11)*(Eingabe!$B$6:$B$400=HI$3)*(Eingabe!$E$6:$E$400))","v":0},{"$f":"SUMPRODUCT((Eingabe!$C$6:$C$400<=$CN11)*(Eingabe!$D$6:$D$400>$CN11)*(Eingabe!$B$6:$B$400=HK$3)*(Eingabe!$E$6:$E$400))","v":0},{"$f":"SUMPRODUCT((Eingabe!$C$6:$C$400<$CN11)*(Eingabe!$D$6:$D$400>=$CN11)*(Eingabe!$B$6:$B$400=HK$3)*(Eingabe!$E$6:$E$400))","v":0},"2026-11-08","2026-11-08",{"$f":"SUMPRODUCT((Eingabe!$C$6:$C$400<=$CX11)*(Eingabe!$D$6:$D$400>$CX11)*(Eingabe!$B$6:$B$400=HO$3)*(Eingabe!$E$6:$E$400))","v":7},{"$f":"SUMPRODUCT((Eingabe!$C$6:$C$400<$CX11)*(Eingabe!$D$6:$D$400>=$CX11)*(Eingabe!$B$6:$B$400=HO$3)*(Eingabe!$E$6:$E$400))","v":7},{"$f":"SUMPRODUCT((Eingabe!$C$6:$C$400<=$CX11)*(Eingabe!$D$6:$D$400>$CX11)*(Eingabe!$B$6:$B$400=HQ$3)*(Eingabe!$E$6:$E$400))","v":0},{"$f":"SUMPRODUCT((Eingabe!$C$6:$C$400<$CX11)*(Eingabe!$D$6:$D$400>=$CX11)*(Eingabe!$B$6:$B$400=HQ$3)*(Eingabe!$E$6:$E$400))","v":0},{"$f":"SUMPRODUCT((Eingabe!$C$6:$C$400<=$CX11)*(Eingabe!$D$6:$D$400>$CX11)*(Eingabe!$B$6:$B$400=HS$3)*(Eingabe!$E$6:$E$400))","v":0},{"$f":"SUMPRODUCT((Eingabe!$C$6:$C$400<$CX11)*(Eingabe!$D$6:$D$400>=$CX11)*(Eingabe!$B$6:$B$400=HS$3)*(Eingabe!$E$6:$E$400))","v":0},{"$f":"SUMPRODUCT((Eingabe!$C$6:$C$400<=$CX11)*(Eingabe!$D$6:$D$400>$CX11)*(Eingabe!$B$6:$B$400=HU$3)*(Eingabe!$E$6:$E$400))","v":0},{"$f":"SUMPRODUCT((Eingabe!$C$6:$C$400<$CX11)*(Eingabe!$D$6:$D$400>=$CX11)*(Eingabe!$B$6:$B$400=HU$3)*(Eingabe!$E$6:$E$400))","v":0},"2026-12-08","2026-12-08",{"$f":"SUMPRODUCT((Eingabe!$C$6:$C$400<=$DH11)*(Eingabe!$D$6:$D$400>$DH11)*(Eingabe!$B$6:$B$400=HY$3)*(Eingabe!$E$6:$E$400))","v":7},{"$f":"SUMPRODUCT((Eingabe!$C$6:$C$400<$DH11)*(Eingabe!$D$6:$D$400>=$DH11)*(Eingabe!$B$6:$B$400=HY$3)*(Eingabe!$E$6:$E$400))","v":7},{"$f":"SUMPRODUCT((Eingabe!$C$6:$C$400<=$DH11)*(Eingabe!$D$6:$D$400>$DH11)*(Eingabe!$B$6:$B$400=IA$3)*(Eingabe!$E$6:$E$400))","v":0},{"$f":"SUMPRODUCT((Eingabe!$C$6:$C$400<$DH11)*(Eingabe!$D$6:$D$400>=$DH11)*(Eingabe!$B$6:$B$400=IA$3)*(Eingabe!$E$6:$E$400))","v":0},{"$f":"SUMPRODUCT((Eingabe!$C$6:$C$400<=$DH11)*(Eingabe!$D$6:$D$400>$DH11)*(Eingabe!$B$6:$B$400=IC$3)*(Eingabe!$E$6:$E$400))","v":0},{"$f":"SUMPRODUCT((Eingabe!$C$6:$C$400<$DH11)*(Eingabe!$D$6:$D$400>=$DH11)*(Eingabe!$B$6:$B$400=IC$3)*(Eingabe!$E$6:$E$400))","v":0},{"$f":"SUMPRODUCT((Eingabe!$C$6:$C$400<=$DH11)*(Eingabe!$D$6:$D$400>$DH11)*(Eingabe!$B$6:$B$400=IE$3)*(Eingabe!$E$6:$E$400))","v":0},{"$f":"SUMPRODUCT((Eingabe!$C$6:$C$400<$DH11)*(Eingabe!$D$6:$D$400>=$DH11)*(Eingabe!$B$6:$B$400=IE$3)*(Eingabe!$E$6:$E$400))","v":0}]
["2025-01-09","2025-01-09",{"$f":"SUMPRODUCT((Eingabe!$C$6:$C$400<=$B12)*(Eingabe!$D$6:$D$400>$B12)*(Eingabe!$B$6:$B$400=C$3)*(Eingabe!$E$6:$E$400))","v":7},{"$f":"SUMPRODUCT((Eingabe!$C$6:$C$400<$B12)*(Eingabe!$D$6:$D$400>=$B12)*(Eingabe!$B$6:$B$400=C$3)*(Eingabe!$E$6:$E$400))","v":0},{"$f":"SUMPRODUCT((Eingabe!$C$6:$C$400<=$B12)*(Eingabe!$D$6:$D$400>$B12)*(Eingabe!$B$6:$B$400=E$3)*(Eingabe!$E$6:$E$400))","v":0},{"$f":"SUMPRODUCT((Eingabe!$C$6:$C$400<$B12)*(Eingabe!$D$6:$D$400>=$B12)*(Eingabe!$B$6:$B$400=E$3)*(Eingabe!$E$6:$E$400))","v":0},{"$f":"SUMPRODUCT((Eingabe!$C$6:$C$400<=$B12)*(Eingabe!$D$6:$D$400>$B12)*(Eingabe!$B$6:$B$400=G$3)*(Eingabe!$E$6:$E$400))","v":0},{"$f":"SUMPRODUCT((Eingabe!$C$6:$C$400<$B12)*(Eingabe!$D$6:$D$400>=$B12)*(Eingabe!$B$6:$B$400=G$3)*(Eingabe!$E$6:$E$400))","v":0},{"$f":"SUMPRODUCT((Eingabe!$C$6:$C$400<=$B12)*(Eingabe!$D$6:$D$400>$B12)*(Eingabe!$B$6:$B$400=I$3)*(Eingabe!$E$6:$E$400))","v":7},{"$f":"SUMPRODUCT((Eingabe!$C$6:$C$400<$B12)*(Eingabe!$D$6:$D$400>=$B12)*(Eingabe!$B$6:$B$400=I$3)*(Eingabe!$E$6:$E$400))","v":7},"2025-02-09","2025-02-09",{"$f":"SUMPRODUCT((Eingabe!$C$6:$C$400<=$L12)*(Eingabe!$D$6:$D$400>$L12)*(Eingabe!$B$6:$B$400=M$3)*(Eingabe!$E$6:$E$400))","v":0},{"$f":"SUMPRODUCT((Eingabe!$C$6:$C$400<$L12)*(Eingabe!$D$6:$D$400>=$L12)*(Eingabe!$B$6:$B$400=M$3)*(Eingabe!$E$6:$E$400))","v":0},{"$f":"SUMPRODUCT((Eingabe!$C$6:$C$400<=$L12)*(Eingabe!$D$6:$D$400>$L12)*(Eingabe!$B$6:$B$400=O$3)*(Eingabe!$E$6:$E$400))","v":0},{"$f":"SUMPRODUCT((Eingabe!$C$6:$C$400<$L12)*(Eingabe!$D$6:$D$400>=$L12)*(Eingabe!$B$6:$B$400=O$3)*(Eingabe!$E$6:$E$400))","v":0},{"$f":"SUMPRODUCT((Eingabe!$C$6:$C$400<=$L12)*(Eingabe!$D$6:$D$400>$L12)*(Eingabe!$B$6:$B$400=Q$3)*(Eingabe!$E$6:$E$400))","v":0},{"$f":"SUMPRODUCT((Eingabe!$C$6:$C$400<$L12)*(Eingabe!$D$6:$D$400>=$L12)*(Eingabe!$B$6:$B$400=Q$3)*(Eingabe!$E$6:$E$400))","v":0},{"$f":"SUMPRODUCT((Eingabe!$C$6:$C$400<=$L12)*(Eingabe!$D$6:$D$400>$L12)*(Eingabe!$B$6:$B$400=S$3)*(Eingabe!$E$6:$E$400))","v":0},{"$f":"SUMPRODUCT((Eingabe!$C$6:$C$400<$L12)*(Eingabe!$D$6:$D$400>=$L12)*(Eingabe!$B$6:$B$400=S$3)*(Eingabe!$E$6:$E$400))","v":0},"2025-03-09","2025-03-09",{"$f":"SUMPRODUCT((Eingabe!$C$6:$C$400<=$V12)*(Eingabe!$D$6:$D$400>$V12)*(Eingabe!$B$6:$B$400=W$3)*(Eingabe!$E$6:$E$400))","v":0},{"$f":"SUMPRODUCT((Eingabe!$C$6:$C$400<$V12)*(Eingabe!$D$6:$D$400>=$V12)*(Eingabe!$B$6:$B$400=W$3)*(Eingabe!$E$6:$E$400))","v":0},{"$f":"SUMPRODUCT((Eingabe!$C$6:$C$400<=$V12)*(Eingabe!$D$6:$D$400>$V12)*(Eingabe!$B$6:$B$400=Y$3)*(Eingabe!$E$6:$E$400))","v":0},{"$f":"SUMPRODUCT((Eingabe!$C$6:$C$400<$V12)*(Eingabe!$D$6:$D$400>=$V12)*(Eingabe!$B$6:$B$400=Y$3)*(Eingabe!$E$6:$E$400))","v":0},{"$f":"SUMPRODUCT((Eingabe!$C$6:$C$400<=$V12)*(Eingabe!$D$6:$D$400>$V12)*(Eingabe!$B$6:$B$400=AA$3)*(Eingabe!$E$6:$E$400))","v":0},{"$f":"SUMPRODUCT((Eingabe!$C$6:$C$400<$V12)*(Eingabe!$D$6:$D$400>=$V12)*(Eingabe!$B$6:$B$400=AA$3)*(Eingabe!$E$6:$E$400))","v":0},{"$f":"SUMPRODUCT((Eingabe!$C$6:$C$400<=$V12)*(Eingabe!$D$6:$D$400>$V12)*(Eingabe!$B$6:$B$400=AC$3)*(Eingabe!$E$6:$E$400))","v":0},{"$f":"SUMPRODUCT((Eingabe!$C$6:$C$400<$V12)*(Eingabe!$D$6:$D$400>=$V12)*(Eingabe!$B$6:$B$400=AC$3)*(Eingabe!$E$6:$E$400))","v":0},"2025-04-09","2025-04-09",{"$f":"SUMPRODUCT((Eingabe!$C$6:$C$400<=$AF12)*(Eingabe!$D$6:$D$400>$AF12)*(Eingabe!$B$6:$B$400=AG$3)*(Eingabe!$E$6:$E$400))","v":0},{"$f":"SUMPRODUCT((Eingabe!$C$6:$C$400<$AF12)*(Eingabe!$D$6:$D$400>=$AF12)*(Eingabe!$B$6:$B$400=AG$3)*(Eingabe!$E$6:$E$400))","v":0},{"$f":"SUMPRODUCT((Eingabe!$C$6:$C$400<=$AF12)*(Eingabe!$D$6:$D$400>$AF12)*(Eingabe!$B$6:$B$400=AI$3)*(Eingabe!$E$6:$E$400))","v":0},{"$f":"SUMPRODUCT((Eingabe!$C$6:$C$400<$AF12)*(Eingabe!$D$6:$D$400>=$AF12)*(Eingabe!$B$6:$B$400=AI$3)*(Eingabe!$E$6:$E$400))","v":0},{"$f":"SUMPRODUCT((Eingabe!$C$6:$C$400<=$AF12)*(Eingabe!$D$6:$D$400>$AF12)*(Eingabe!$B$6:$B$400=AK$3)*(Eingabe!$E$6:$E$400))","v":0},{"$f":"SUMPRODUCT((Eingabe!$C$6:$C$400<$AF12)*(Eingabe!$D$6:$D$400>=$AF12)*(Eingabe!$B$6:$B$400=AK$3)*(Eingabe!$E$6:$E$400))","v":0},{"$f":"SUMPRODUCT((Eingabe!$C$6:$C$400<=$AF12)*(Eingabe!$D$6:$D$400>$AF12)*(Eingabe!$B$6:$B$400=AM$3)*(Eingabe!$E$6:$E$400))","v":0},{"$f":"SUMPRODUCT((Eingabe!$C$6:$C$400<$AF12)*(Eingabe!$D$6:$D$400>=$AF12)*(Eingabe!$B$6:$B$400=AM$3)*(Eingabe!$E$6:$E$400))","v":0},"2025-05-09","2025-05-09",{"$f":"SUMPRODUCT((Eingabe!$C$6:$C$400<=$AP12)*(Eingabe!$D$6:$D$400>$AP12)*(Eingabe!$B$6:$B$400=AQ$3)*(Eingabe!$E$6:$E$400))","v":0},{"$f":"SUMPRODUCT((Eingabe!$C$6:$C$400<$AP12)*(Eingabe!$D$6:$D$400>=$AP12)*(Eingabe!$B$6:$B$400=AQ$3)*(Eingabe!$E$6:$E$400))","v":0},{"$f":"SUMPRODUCT((Eingabe!$C$6:$C$400<=$AP12)*(Eingabe!$D$6:$D$400>$AP12)*(Eingabe!$B$6:$B$400=AS$3)*(Eingabe!$E$6:$E$400))","v":0},{"$f":"SUMPRODUCT((Eingabe!$C$6:$C$400<$AP12)*(Eingabe!$D$6:$D$400>=$AP12)*(Eingabe!$B$6:$B$400=AS$3)*(Eingabe!$E$6:$E$400))","v":0},{"$f":"SUMPRODUCT((Eingabe!$C$6:$C$400<=$AP12)*(Eingabe!$D$6:$D$400>$AP12)*(Eingabe!$B$6:$B$400=AU$3)*(Eingabe!$E$6:$E$400))","v":0},{"$f":"SUMPRODUCT((Eingabe!$C$6:$C$400<$AP12)*(Eingabe!$D$6:$D$400>=$AP12)*(Eingabe!$B$6:$B$400=AU$3)*(Eingabe!$E$6:$E$400))","v":0},{"$f":"SUMPRODUCT((Eingabe!$C$6:$C$400<=$AP12)*(Eingabe!$D$6:$D$400>$AP12)*(Eingabe!$B$6:$B$400=AW$3)*(Eingabe!$E$6:$E$400))","v":0},{"$f":"SUMPRODUCT((Eingabe!$C$6:$C$400<$AP12)*(Eingabe!$D$6:$D$400>=$AP12)*(Eingabe!$B$6:$B$400=AW$3)*(Eingabe!$E$6:$E$400))","v":0},"2025-06-09","2025-06-09",{"$f":"SUMPRODUCT((Eingabe!$C$6:$C$400<=$AZ12)*(Eingabe!$D$6:$D$400>$AZ12)*(Eingabe!$B$6:$B$400=BA$3)*(Eingabe!$E$6:$E$400))","v":0},{"$f":"SUMPRODUCT((Eingabe!$C$6:$C$400<$AZ12)*(Eingabe!$D$6:$D$400>=$AZ12)*(Eingabe!$B$6:$B$400=BA$3)*(Eingabe!$E$6:$E$400))","v":0},{"$f":"SUMPRODUCT((Eingabe!$C$6:$C$400<=$AZ12)*(Eingabe!$D$6:$D$400>$AZ12)*(Eingabe!$B$6:$B$400=BC$3)*(Eingabe!$E$6:$E$400))","v":0},{"$f":"SUMPRODUCT((Eingabe!$C$6:$C$400<$AZ12)*(Eingabe!$D$6:$D$400>=$AZ12)*(Eingabe!$B$6:$B$400=BC$3)*(Eingabe!$E$6:$E$400))","v":0},{"$f":"SUMPRODUCT((Eingabe!$C$6:$C$400<=$AZ12)*(Eingabe!$D$6:$D$400>$AZ12)*(Eingabe!$B$6:$B$400=BE$3)*(Eingabe!$E$6:$E$400))","v":0},{"$f":"SUMPRODUCT((Eingabe!$C$6:$C$400<$AZ12)*(Eingabe!$D$6:$D$400>=$AZ12)*(Eingabe!$B$6:$B$400=BE$3)*(Eingabe!$E$6:$E$400))","v":0},{"$f":"SUMPRODUCT((Eingabe!$C$6:$C$400<=$AZ12)*(Eingabe!$D$6:$D$400>$AZ12)*(Eingabe!$B$6:$B$400=BG$3)*(Eingabe!$E$6:$E$400))","v":0},{"$f":"SUMPRODUCT((Eingabe!$C$6:$C$400<$AZ12)*(Eingabe!$D$6:$D$400>=$AZ12)*(Eingabe!$B$6:$B$400=BG$3)*(Eingabe!$E$6:$E$400))","v":0},"2025-07-09","2025-07-09",{"$f":"SUMPRODUCT((Eingabe!$C$6:$C$400<=$BJ12)*(Eingabe!$D$6:$D$400>$BJ12)*(Eingabe!$B$6:$B$400=BK$3)*(Eingabe!$E$6:$E$400))","v":6},{"$f":"SUMPRODUCT((Eingabe!$C$6:$C$400<$BJ12)*(Eingabe!$D$6:$D$400>=$BJ12)*(Eingabe!$B$6:$B$400=BK$3)*(Eingabe!$E$6:$E$400))","v":6},{"$f":"SUMPRODUCT((Eingabe!$C$6:$C$400<=$BJ12)*(Eingabe!$D$6:$D$400>$BJ12)*(Eingabe!$B$6:$B$400=BM$3)*(Eingabe!$E$6:$E$400))","v":7},{"$f":"SUMPRODUCT((Eingabe!$C$6:$C$400<$BJ12)*(Eingabe!$D$6:$D$400>=$BJ12)*(Eingabe!$B$6:$B$400=BM$3)*(Eingabe!$E$6:$E$400))","v":7},{"$f":"SUMPRODUCT((Eingabe!$C$6:$C$400<=$BJ12)*(Eingabe!$D$6:$D$400>$BJ12)*(Eingabe!$B$6:$B$400=BO$3)*(Eingabe!$E$6:$E$400))","v":0},{"$f":"SUMPRODUCT((Eingabe!$C$6:$C$400<$BJ12)*(Eingabe!$D$6:$D$400>=$BJ12)*(Eingabe!$B$6:$B$400=BO$3)*(Eingabe!$E$6:$E$400))","v":0},{"$f":"SUMPRODUCT((Eingabe!$C$6:$C$400<=$BJ12)*(Eingabe!$D$6:$D$400>$BJ12)*(Eingabe!$B$6:$B$400=BQ$3)*(Eingabe!$E$6:$E$400))","v":0},{"$f":"SUMPRODUCT((Eingabe!$C$6:$C$400<$BJ12)*(Eingabe!$D$6:$D$400>=$BJ12)*(Eingabe!$B$6:$B$400=BQ$3)*(Eingabe!$E$6:$E$400))","v":0},"2025-08-09","2025-08-09",{"$f":"SUMPRODUCT((Eingabe!$C$6:$C$400<=$BT12)*(Eingabe!$D$6:$D$400>$BT12)*(Eingabe!$B$6:$B$400=BU$3)*(Eingabe!$E$6:$E$400))","v":7},{"$f":"SUMPRODUCT((Eingabe!$C$6:$C$400<$BT12)*(Eingabe!$D$6:$D$400>=$BT12)*(Eingabe!$B$6:$B$400=BU$3)*(Eingabe!$E$6:$E$400))","v":7},{"$f":"SUMPRODUCT((Eingabe!$C$6:$C$400<=$BT12)*(Eingabe!$D$6:$D$400>$BT12)*(Eingabe!$B$6:$B$400=BW$3)*(Eingabe!$E$6:$E$400))","v":7},{"$f":"SUMPRODUCT((Eingabe!$C$6:$C$400<$BT12)*(Eingabe!$D$6:$D$400>=$BT12)*(Eingabe!$B$6:$B$400=BW$3)*(Eingabe!$E$6:$E$400))","v":7},{"$f":"SUMPRODUCT((Eingabe!$C$6:$C$400<=$BT12)*(Eingabe!$D$6:$D$400>$BT12)*(Eingabe!$B$6:$B$400=BY$3)*(Eingabe!$E$6:$E$400))","v":7},{"$f":"SUMPRODUCT((Eingabe!$C$6:$C$400<$BT12)*(Eingabe!$D$6:$D$400>=$BT12)*(Eingabe!$B$6:$B$400=BY$3)*(Eingabe!$E$6:$E$400))","v":7},{"$f":"SUMPRODUCT((Eingabe!$C$6:$C$400<=$BT12)*(Eingabe!$D$6:$D$400>$BT12)*(Eingabe!$B$6:$B$400=CA$3)*(Eingabe!$E$6:$E$400))","v":0},{"$f":"SUMPRODUCT((Eingabe!$C$6:$C$400<$BT12)*(Eingabe!$D$6:$D$400>=$BT12)*(Eingabe!$B$6:$B$400=CA$3)*(Eingabe!$E$6:$E$400))","v":0},"2025-09-09","2025-09-09",{"$f":"SUMPRODUCT((Eingabe!$C$6:$C$400<=$CD12)*(Eingabe!$D$6:$D$400>$CD12)*(Eingabe!$B$6:$B$400=CE$3)*(Eingabe!$E$6:$E$400))","v":0},{"$f":"SUMPRODUCT((Eingabe!$C$6:$C$400<$CD12)*(Eingabe!$D$6:$D$400>=$CD12)*(Eingabe!$B$6:$B$400=CE$3)*(Eingabe!$E$6:$E$400))","v":0},{"$f":"SUMPRODUCT((Eingabe!$C$6:$C$400<=$CD12)*(Eingabe!$D$6:$D$400>$CD12)*(Eingabe!$B$6:$B$400=CG$3)*(Eingabe!$E$6:$E$400))","v":0},{"$f":"SUMPRODUCT((Eingabe!$C$6:$C$400<$CD12)*(Eingabe!$D$6:$D$400>=$CD12)*(Eingabe!$B$6:$B$400=CG$3)*(Eingabe!$E$6:$E$400))","v":0},{"$f":"SUMPRODUCT((Eingabe!$C$6:$C$400<=$CD12)*(Eingabe!$D$6:$D$400>$CD12)*(Eingabe!$B$6:$B$400=CI$3)*(Eingabe!$E$6:$E$400))","v":0},{"$f":"SUMPRODUCT((Eingabe!$C$6:$C$400<$CD12)*(Eingabe!$D$6:$D$400>=$CD12)*(Eingabe!$B$6:$B$400=CI$3)*(Eingabe!$E$6:$E$400))","v":0},{"$f":"SUMPRODUCT((Eingabe!$C$6:$C$400<=$CD12)*(Eingabe!$D$6:$D$400>$CD12)*(Eingabe!$B$6:$B$400=CK$3)*(Eingabe!$E$6:$E$400))","v":0},{"$f":"SUMPRODUCT((Eingabe!$C$6:$C$400<$CD12)*(Eingabe!$D$6:$D$400>=$CD12)*(Eingabe!$B$6:$B$400=CK$3)*(Eingabe!$E$6:$E$400))","v":0},"2025-10-09","2025-10-09",{"$f":"SUMPRODUCT((Eingabe!$C$6:$C$400<=$CN12)*(Eingabe!$D$6:$D$400>$CN12)*(Eingabe!$B$6:$B$400=CO$3)*(Eingabe!$E$6:$E$400))","v":7},{"$f":"SUMPRODUCT((Eingabe!$C$6:$C$400<$CN12)*(Eingabe!$D$6:$D$400>=$CN12)*(Eingabe!$B$6:$B$400=CO$3)*(Eingabe!$E$6:$E$400))","v":7},{"$f":"SUMPRODUCT((Eingabe!$C$6:$C$400<=$CN12)*(Eingabe!$D$6:$D$400>$CN12)*(Eingabe!$B$6:$B$400=CQ$3)*(Eingabe!$E$6:$E$400))","v":0},{"$f":"SUMPRODUCT((Eingabe!$C$6:$C$400<$CN12)*(Eingabe!$D$6:$D$400>=$CN12)*(Eingabe!$B$6:$B$400=CQ$3)*(Eingabe!$E$6:$E$400))","v":0},{"$f":"SUMPRODUCT((Eingabe!$C$6:$C$400<=$CN12)*(Eingabe!$D$6:$D$400>$CN12)*(Eingabe!$B$6:$B$400=CS$3)*(Eingabe!$E$6:$E$400))","v":0},{"$f":"SUMPRODUCT((Eingabe!$C$6:$C$400<$CN12)*(Eingabe!$D$6:$D$400>=$CN12)*(Eingabe!$B$6:$B$400=CS$3)*(Eingabe!$E$6:$E$400))","v":0},{"$f":"SUMPRODUCT((Eingabe!$C$6:$C$400<=$CN12)*(Eingabe!$D$6:$D$400>$CN12)*(Eingabe!$B$6:$B$400=CU$3)*(Eingabe!$E$6:$E$400))","v":0},{"$f":"SUMPRODUCT((Eingabe!$C$6:$C$400<$CN12)*(Eingabe!$D$6:$D$400>=$CN12)*(Eingabe!$B$6:$B$400=CU$3)*(Eingabe!$E$6:$E$400))","v":0},"2025-11-09","2025-11-09",{"$f":"SUMPRODUCT((Eingabe!$C$6:$C$400<=$CX12)*(Eingabe!$D$6:$D$400>$CX12)*(Eingabe!$B$6:$B$400=CY$3)*(Eingabe!$E$6:$E$400))","v":7},{"$f":"SUMPRODUCT((Eingabe!$C$6:$C$400<$CX12)*(Eingabe!$D$6:$D$400>=$CX12)*(Eingabe!$B$6:$B$400=CY$3)*(Eingabe!$E$6:$E$400))","v":7},{"$f":"SUMPRODUCT((Eingabe!$C$6:$C$400<=$CX12)*(Eingabe!$D$6:$D$400>$CX12)*(Eingabe!$B$6:$B$400=DA$3)*(Eingabe!$E$6:$E$400))","v":0},{"$f":"SUMPRODUCT((Eingabe!$C$6:$C$400<$CX12)*(Eingabe!$D$6:$D$400>=$CX12)*(Eingabe!$B$6:$B$400=DA$3)*(Eingabe!$E$6:$E$400))","v":0},{"$f":"SUMPRODUCT((Eingabe!$C$6:$C$400<=$CX12)*(Eingabe!$D$6:$D$400>$CX12)*(Eingabe!$B$6:$B$400=DC$3)*(Eingabe!$E$6:$E$400))","v":0},{"$f":"SUMPRODUCT((Eingabe!$C$6:$C$400<$CX12)*(Eingabe!$D$6:$D$400>=$CX12)*(Eingabe!$B$6:$B$400=DC$3)*(Eingabe!$E$6:$E$400))","v":0},{"$f":"SUMPRODUCT((Eingabe!$C$6:$C$400<=$CX12)*(Eingabe!$D$6:$D$400>$CX12)*(Eingabe!$B$6:$B$400=DE$3)*(Eingabe!$E$6:$E$400))","v":0},{"$f":"SUMPRODUCT((Eingabe!$C$6:$C$400<$CX12)*(Eingabe!$D$6:$D$400>=$CX12)*(Eingabe!$B$6:$B$400=DE$3)*(Eingabe!$E$6:$E$400))","v":0},"2025-12-09","2025-12-09",{"$f":"SUMPRODUCT((Eingabe!$C$6:$C$400<=$DH12)*(Eingabe!$D$6:$D$400>$DH12)*(Eingabe!$B$6:$B$400=DI$3)*(Eingabe!$E$6:$E$400))","v":7},{"$f":"SUMPRODUCT((Eingabe!$C$6:$C$400<$DH12)*(Eingabe!$D$6:$D$400>=$DH12)*(Eingabe!$B$6:$B$400=DI$3)*(Eingabe!$E$6:$E$400))","v":7},{"$f":"SUMPRODUCT((Eingabe!$C$6:$C$400<=$DH12)*(Eingabe!$D$6:$D$400>$DH12)*(Eingabe!$B$6:$B$400=DK$3)*(Eingabe!$E$6:$E$400))","v":0},{"$f":"SUMPRODUCT((Eingabe!$C$6:$C$400<$DH12)*(Eingabe!$D$6:$D$400>=$DH12)*(Eingabe!$B$6:$B$400=DK$3)*(Eingabe!$E$6:$E$400))","v":0},{"$f":"SUMPRODUCT((Eingabe!$C$6:$C$400<=$DH12)*(Eingabe!$D$6:$D$400>$DH12)*(Eingabe!$B$6:$B$400=DM$3)*(Eingabe!$E$6:$E$400))","v":0},{"$f":"SUMPRODUCT((Eingabe!$C$6:$C$400<$DH12)*(Eingabe!$D$6:$D$400>=$DH12)*(Eingabe!$B$6:$B$400=DM$3)*(Eingabe!$E$6:$E$400))","v":0},{"$f":"SUMPRODUCT((Eingabe!$C$6:$C$400<=$DH12)*(Eingabe!$D$6:$D$400>$DH12)*(Eingabe!$B$6:$B$400=DO$3)*(Eingabe!$E$6:$E$400))","v":0},{"$f":"SUMPRODUCT((Eingabe!$C$6:$C$400<$DH12)*(Eingabe!$D$6:$D$400>=$DH12)*(Eingabe!$B$6:$B$400=DO$3)*(Eingabe!$E$6:$E$400))","v":0},"2026-01-09","2026-01-09",{"$f":"SUMPRODUCT((Eingabe!$C$6:$C$400<=$B12)*(Eingabe!$D$6:$D$400>$B12)*(Eingabe!$B$6:$B$400=DS$3)*(Eingabe!$E$6:$E$400))","v":7},{"$f":"SUMPRODUCT((Eingabe!$C$6:$C$400<$B12)*(Eingabe!$D$6:$D$400>=$B12)*(Eingabe!$B$6:$B$400=DS$3)*(Eingabe!$E$6:$E$400))","v":0},{"$f":"SUMPRODUCT((Eingabe!$C$6:$C$400<=$B12)*(Eingabe!$D$6:$D$400>$B12)*(Eingabe!$B$6:$B$400=DU$3)*(Eingabe!$E$6:$E$400))","v":0},{"$f":"SUMPRODUCT((Eingabe!$C$6:$C$400<$B12)*(Eingabe!$D$6:$D$400>=$B12)*(Eingabe!$B$6:$B$400=DU$3)*(Eingabe!$E$6:$E$400))","v":0},{"$f":"SUMPRODUCT((Eingabe!$C$6:$C$400<=$B12)*(Eingabe!$D$6:$D$400>$B12)*(Eingabe!$B$6:$B$400=DW$3)*(Eingabe!$E$6:$E$400))","v":0},{"$f":"SUMPRODUCT((Eingabe!$C$6:$C$400<$B12)*(Eingabe!$D$6:$D$400>=$B12)*(Eingabe!$B$6:$B$400=DW$3)*(Eingabe!$E$6:$E$400))","v":0},{"$f":"SUMPRODUCT((Eingabe!$C$6:$C$400<=$B12)*(Eingabe!$D$6:$D$400>$B12)*(Eingabe!$B$6:$B$400=DY$3)*(Eingabe!$E$6:$E$400))","v":7},{"$f":"SUMPRODUCT((Eingabe!$C$6:$C$400<$B12)*(Eingabe!$D$6:$D$400>=$B12)*(Eingabe!$B$6:$B$400=DY$3)*(Eingabe!$E$6:$E$400))","v":7},"2026-02-09","2026-02-09",{"$f":"SUMPRODUCT((Eingabe!$C$6:$C$400<=$L12)*(Eingabe!$D$6:$D$400>$L12)*(Eingabe!$B$6:$B$400=EC$3)*(Eingabe!$E$6:$E$400))","v":0},{"$f":"SUMPRODUCT((Eingabe!$C$6:$C$400<$L12)*(Eingabe!$D$6:$D$400>=$L12)*(Eingabe!$B$6:$B$400=EC$3)*(Eingabe!$E$6:$E$400))","v":0},{"$f":"SUMPRODUCT((Eingabe!$C$6:$C$400<=$L12)*(Eingabe!$D$6:$D$400>$L12)*(Eingabe!$B$6:$B$400=EE$3)*(Eingabe!$E$6:$E$400))","v":0},{"$f":"SUMPRODUCT((Eingabe!$C$6:$C$400<$L12)*(Eingabe!$D$6:$D$400>=$L12)*(Eingabe!$B$6:$B$400=EE$3)*(Eingabe!$E$6:$E$400))","v":0},{"$f":"SUMPRODUCT((Eingabe!$C$6:$C$400<=$L12)*(Eingabe!$D$6:$D$400>$L12)*(Eingabe!$B$6:$B$400=EG$3)*(Eingabe!$E$6:$E$400))","v":0},{"$f":"SUMPRODUCT((Eingabe!$C$6:$C$400<$L12)*(Eingabe!$D$6:$D$400>=$L12)*(Eingabe!$B$6:$B$400=EG$3)*(Eingabe!$E$6:$E$400))","v":0},{"$f":"SUMPRODUCT((Eingabe!$C$6:$C$400<=$L12)*(Eingabe!$D$6:$D$400>$L12)*(Eingabe!$B$6:$B$400=EI$3)*(Eingabe!$E$6:$E$400))","v":0},{"$f":"SUMPRODUCT((Eingabe!$C$6:$C$400<$L12)*(Eingabe!$D$6:$D$400>=$L12)*(Eingabe!$B$6:$B$400=EI$3)*(Eingabe!$E$6:$E$400))","v":0},"2026-03-09","2026-03-09",{"$f":"SUMPRODUCT((Eingabe!$C$6:$C$400<=$V12)*(Eingabe!$D$6:$D$400>$V12)*(Eingabe!$B$6:$B$400=EM$3)*(Eingabe!$E$6:$E$400))","v":0},{"$f":"SUMPRODUCT((Eingabe!$C$6:$C$400<$V12)*(Eingabe!$D$6:$D$400>=$V12)*(Eingabe!$B$6:$B$400=EM$3)*(Eingabe!$E$6:$E$400))","v":0},{"$f":"SUMPRODUCT((Eingabe!$C$6:$C$400<=$V12)*(Eingabe!$D$6:$D$400>$V12)*(Eingabe!$B$6:$B$400=EO$3)*(Eingabe!$E$6:$E$400))","v":0},{"$f":"SUMPRODUCT((Eingabe!$C$6:$C$400<$V12)*(Eingabe!$D$6:$D$400>=$V12)*(Eingabe!$B$6:$B$400=EO$3)*(Eingabe!$E$6:$E$400))","v":0},{"$f":"SUMPRODUCT((Eingabe!$C$6:$C$400<=$V12)*(Eingabe!$D$6:$D$400>$V12)*(Eingabe!$B$6:$B$400=EQ$3)*(Eingabe!$E$6:$E$400))","v":0},{"$f":"SUMPRODUCT((Eingabe!$C$6:$C$400<$V12)*(Eingabe!$D$6:$D$400>=$V12)*(Eingabe!$B$6:$B$400=EQ$3)*(Eingabe!$E$6:$E$400))","v":0},{"$f":"SUMPRODUCT((Eingabe!$C$6:$C$400<=$V12)*(Eingabe!$D$6:$D$400>$V12)*(Eingabe!$B$6:$B$400=ES$3)*(Eingabe!$E$6:$E$400))","v":0},{"$f":"SUMPRODUCT((Eingabe!$C$6:$C$400<$V12)*(Eingabe!$D$6:$D$400>=$V12)*(Eingabe!$B$6:$B$400=ES$3)*(Eingabe!$E$6:$E$400))","v":0},"2026-04-09","2026-04-09",{"$f":"SUMPRODUCT((Eingabe!$C$6:$C$400<=$AF12)*(Eingabe!$D$6:$D$400>$AF12)*(Eingabe!$B$6:$B$400=EW$3)*(Eingabe!$E$6:$E$400))","v":0},{"$f":"SUMPRODUCT((Eingabe!$C$6:$C$400<$AF12)*(Eingabe!$D$6:$D$400>=$AF12)*(Eingabe!$B$6:$B$400=EW$3)*(Eingabe!$E$6:$E$400))","v":0},{"$f":"SUMPRODUCT((Eingabe!$C$6:$C$400<=$AF12)*(Eingabe!$D$6:$D$400>$AF12)*(Eingabe!$B$6:$B$400=EY$3)*(Eingabe!$E$6:$E$400))","v":0},{"$f":"SUMPRODUCT((Eingabe!$C$6:$C$400<$AF12)*(Eingabe!$D$6:$D$400>=$AF12)*(Eingabe!$B$6:$B$400=EY$3)*(Eingabe!$E$6:$E$400))","v":0},{"$f":"SUMPRODUCT((Eingabe!$C$6:$C$400<=$AF12)*(Eingabe!$D$6:$D$400>$AF12)*(Eingabe!$B$6:$B$400=FA$3)*(Eingabe!$E$6:$E$400))","v":0},{"$f":"SUMPRODUCT((Eingabe!$C$6:$C$400<$AF12)*(Eingabe!$D$6:$D$400>=$AF12)*(Eingabe!$B$6:$B$400=FA$3)*(Eingabe!$E$6:$E$400))","v":0},{"$f":"SUMPRODUCT((Eingabe!$C$6:$C$400<=$AF12)*(Eingabe!$D$6:$D$400>$AF12)*(Eingabe!$B$6:$B$400=FC$3)*(Eingabe!$E$6:$E$400))","v":0},{"$f":"SUMPRODUCT((Eingabe!$C$6:$C$400<$AF12)*(Eingabe!$D$6:$D$400>=$AF12)*(Eingabe!$B$6:$B$400=FC$3)*(Eingabe!$E$6:$E$400))","v":0},"2026-05-09","2026-05-09",{"$f":"SUMPRODUCT((Eingabe!$C$6:$C$400<=$AP12)*(Eingabe!$D$6:$D$400>$AP12)*(Eingabe!$B$6:$B$400=FG$3)*(Eingabe!$E$6:$E$400))","v":0},{"$f":"SUMPRODUCT((Eingabe!$C$6:$C$400<$AP12)*(Eingabe!$D$6:$D$400>=$AP12)*(Eingabe!$B$6:$B$400=FG$3)*(Eingabe!$E$6:$E$400))","v":0},{"$f":"SUMPRODUCT((Eingabe!$C$6:$C$400<=$AP12)*(Eingabe!$D$6:$D$400>$AP12)*(Eingabe!$B$6:$B$400=FI$3)*(Eingabe!$E$6:$E$400))","v":0},{"$f":"SUMPRODUCT((Eingabe!$C$6:$C$400<$AP12)*(Eingabe!$D$6:$D$400>=$AP12)*(Eingabe!$B$6:$B$400=FI$3)*(Eingabe!$E$6:$E$400))","v":0},{"$f":"SUMPRODUCT((Eingabe!$C$6:$C$400<=$AP12)*(Eingabe!$D$6:$D$400>$AP12)*(Eingabe!$B$6:$B$400=FK$3)*(Eingabe!$E$6:$E$400))","v":0},{"$f":"SUMPRODUCT((Eingabe!$C$6:$C$400<$AP12)*(Eingabe!$D$6:$D$400>=$AP12)*(Eingabe!$B$6:$B$400=FK$3)*(Eingabe!$E$6:$E$400))","v":0},{"$f":"SUMPRODUCT((Eingabe!$C$6:$C$400<=$AP12)*(Eingabe!$D$6:$D$400>$AP12)*(Eingabe!$B$6:$B$400=FM$3)*(Eingabe!$E$6:$E$400))","v":0},{"$f":"SUMPRODUCT((Eingabe!$C$6:$C$400<$AP12)*(Eingabe!$D$6:$D$400>=$AP12)*(Eingabe!$B$6:$B$400=FM$3)*(Eingabe!$E$6:$E$400))","v":0},"2026-06-09","2026-06-09",{"$f":"SUMPRODUCT((Eingabe!$C$6:$C$400<=$AZ12)*(Eingabe!$D$6:$D$400>$AZ12)*(Eingabe!$B$6:$B$400=FQ$3)*(Eingabe!$E$6:$E$400))","v":0},{"$f":"SUMPRODUCT((Eingabe!$C$6:$C$400<$AZ12)*(Eingabe!$D$6:$D$400>=$AZ12)*(Eingabe!$B$6:$B$400=FQ$3)*(Eingabe!$E$6:$E$400))","v":0},{"$f":"SUMPRODUCT((Eingabe!$C$6:$C$400<=$AZ12)*(Eingabe!$D$6:$D$400>$AZ12)*(Eingabe!$B$6:$B$400=FS$3)*(Eingabe!$E$6:$E$400))","v":0},{"$f":"SUMPRODUCT((Eingabe!$C$6:$C$400<$AZ12)*(Eingabe!$D$6:$D$400>=$AZ12)*(Eingabe!$B$6:$B$400=FS$3)*(Eingabe!$E$6:$E$400))","v":0},{"$f":"SUMPRODUCT((Eingabe!$C$6:$C$400<=$AZ12)*(Eingabe!$D$6:$D$400>$AZ12)*(Eingabe!$B$6:$B$400=FU$3)*(Eingabe!$E$6:$E$400))","v":0},{"$f":"SUMPRODUCT((Eingabe!$C$6:$C$400<$AZ12)*(Eingabe!$D$6:$D$400>=$AZ12)*(Eingabe!$B$6:$B$400=FU$3)*(Eingabe!$E$6:$E$400))","v":0},{"$f":"SUMPRODUCT((Eingabe!$C$6:$C$400<=$AZ12)*(Eingabe!$D$6:$D$400>$AZ12)*(Eingabe!$B$6:$B$400=FW$3)*(Eingabe!$E$6:$E$400))","v":0},{"$f":"SUMPRODUCT((Eingabe!$C$6:$C$400<$AZ12)*(Eingabe!$D$6:$D$400>=$AZ12)*(Eingabe!$B$6:$B$400=FW$3)*(Eingabe!$E$6:$E$400))","v":0},"2026-07-09","2026-07-09",{"$f":"SUMPRODUCT((Eingabe!$C$6:$C$400<=$BJ12)*(Eingabe!$D$6:$D$400>$BJ12)*(Eingabe!$B$6:$B$400=GA$3)*(Eingabe!$E$6:$E$400))","v":6},{"$f":"SUMPRODUCT((Eingabe!$C$6:$C$400<$BJ12)*(Eingabe!$D$6:$D$400>=$BJ12)*(Eingabe!$B$6:$B$400=GA$3)*(Eingabe!$E$6:$E$400))","v":6},{"$f":"SUMPRODUCT((Eingabe!$C$6:$C$400<=$BJ12)*(Eingabe!$D$6:$D$400>$BJ12)*(Eingabe!$B$6:$B$400=GC$3)*(Eingabe!$E$6:$E$400))","v":7},{"$f":"SUMPRODUCT((Eingabe!$C$6:$C$400<$BJ12)*(Eingabe!$D$6:$D$400>=$BJ12)*(Eingabe!$B$6:$B$400=GC$3)*(Eingabe!$E$6:$E$400))","v":7},{"$f":"SUMPRODUCT((Eingabe!$C$6:$C$400<=$BJ12)*(Eingabe!$D$6:$D$400>$BJ12)*(Eingabe!$B$6:$B$400=GE$3)*(Eingabe!$E$6:$E$400))","v":0},{"$f":"SUMPRODUCT((Eingabe!$C$6:$C$400<$BJ12)*(Eingabe!$D$6:$D$400>=$BJ12)*(Eingabe!$B$6:$B$400=GE$3)*(Eingabe!$E$6:$E$400))","v":0},{"$f":"SUMPRODUCT((Eingabe!$C$6:$C$400<=$BJ12)*(Eingabe!$D$6:$D$400>$BJ12)*(Eingabe!$B$6:$B$400=GG$3)*(Eingabe!$E$6:$E$400))","v":0},{"$f":"SUMPRODUCT((Eingabe!$C$6:$C$400<$BJ12)*(Eingabe!$D$6:$D$400>=$BJ12)*(Eingabe!$B$6:$B$400=GG$3)*(Eingabe!$E$6:$E$400))","v":0},"2026-08-09","2026-08-09",{"$f":"SUMPRODUCT((Eingabe!$C$6:$C$400<=$BT12)*(Eingabe!$D$6:$D$400>$BT12)*(Eingabe!$B$6:$B$400=GK$3)*(Eingabe!$E$6:$E$400))","v":7},{"$f":"SUMPRODUCT((Eingabe!$C$6:$C$400<$BT12)*(Eingabe!$D$6:$D$400>=$BT12)*(Eingabe!$B$6:$B$400=GK$3)*(Eingabe!$E$6:$E$400))","v":7},{"$f":"SUMPRODUCT((Eingabe!$C$6:$C$400<=$BT12)*(Eingabe!$D$6:$D$400>$BT12)*(Eingabe!$B$6:$B$400=GM$3)*(Eingabe!$E$6:$E$400))","v":7},{"$f":"SUMPRODUCT((Eingabe!$C$6:$C$400<$BT12)*(Eingabe!$D$6:$D$400>=$BT12)*(Eingabe!$B$6:$B$400=GM$3)*(Eingabe!$E$6:$E$400))","v":7},{"$f":"SUMPRODUCT((Eingabe!$C$6:$C$400<=$BT12)*(Eingabe!$D$6:$D$400>$BT12)*(Eingabe!$B$6:$B$400=GO$3)*(Eingabe!$E$6:$E$400))","v":7},{"$f":"SUMPRODUCT((Eingabe!$C$6:$C$400<$BT12)*(Eingabe!$D$6:$D$400>=$BT12)*(Eingabe!$B$6:$B$400=GO$3)*(Eingabe!$E$6:$E$400))","v":7},{"$f":"SUMPRODUCT((Eingabe!$C$6:$C$400<=$BT12)*(Eingabe!$D$6:$D$400>$BT12)*(Eingabe!$B$6:$B$400=GQ$3)*(Eingabe!$E$6:$E$400))","v":0},{"$f":"SUMPRODUCT((Eingabe!$C$6:$C$400<$BT12)*(Eingabe!$D$6:$D$400>=$BT12)*(Eingabe!$B$6:$B$400=GQ$3)*(Eingabe!$E$6:$E$400))","v":0},"2026-09-09","2026-09-09",{"$f":"SUMPRODUCT((Eingabe!$C$6:$C$400<=$CD12)*(Eingabe!$D$6:$D$400>$CD12)*(Eingabe!$B$6:$B$400=GU$3)*(Eingabe!$E$6:$E$400))","v":0},{"$f":"SUMPRODUCT((Eingabe!$C$6:$C$400<$CD12)*(Eingabe!$D$6:$D$400>=$CD12)*(Eingabe!$B$6:$B$400=GU$3)*(Eingabe!$E$6:$E$400))","v":0},{"$f":"SUMPRODUCT((Eingabe!$C$6:$C$400<=$CD12)*(Eingabe!$D$6:$D$400>$CD12)*(Eingabe!$B$6:$B$400=GW$3)*(Eingabe!$E$6:$E$400))","v":0},{"$f":"SUMPRODUCT((Eingabe!$C$6:$C$400<$CD12)*(Eingabe!$D$6:$D$400>=$CD12)*(Eingabe!$B$6:$B$400=GW$3)*(Eingabe!$E$6:$E$400))","v":0},{"$f":"SUMPRODUCT((Eingabe!$C$6:$C$400<=$CD12)*(Eingabe!$D$6:$D$400>$CD12)*(Eingabe!$B$6:$B$400=GY$3)*(Eingabe!$E$6:$E$400))","v":0},{"$f":"SUMPRODUCT((Eingabe!$C$6:$C$400<$CD12)*(Eingabe!$D$6:$D$400>=$CD12)*(Eingabe!$B$6:$B$400=GY$3)*(Eingabe!$E$6:$E$400))","v":0},{"$f":"SUMPRODUCT((Eingabe!$C$6:$C$400<=$CD12)*(Eingabe!$D$6:$D$400>$CD12)*(Eingabe!$B$6:$B$400=HA$3)*(Eingabe!$E$6:$E$400))","v":0},{"$f":"SUMPRODUCT((Eingabe!$C$6:$C$400<$CD12)*(Eingabe!$D$6:$D$400>=$CD12)*(Eingabe!$B$6:$B$400=HA$3)*(Eingabe!$E$6:$E$400))","v":0},"2026-10-09","2026-10-09",{"$f":"SUMPRODUCT((Eingabe!$C$6:$C$400<=$CN12)*(Eingabe!$D$6:$D$400>$CN12)*(Eingabe!$B$6:$B$400=HE$3)*(Eingabe!$E$6:$E$400))","v":7},{"$f":"SUMPRODUCT((Eingabe!$C$6:$C$400<$CN12)*(Eingabe!$D$6:$D$400>=$CN12)*(Eingabe!$B$6:$B$400=HE$3)*(Eingabe!$E$6:$E$400))","v":7},{"$f":"SUMPRODUCT((Eingabe!$C$6:$C$400<=$CN12)*(Eingabe!$D$6:$D$400>$CN12)*(Eingabe!$B$6:$B$400=HG$3)*(Eingabe!$E$6:$E$400))","v":0},{"$f":"SUMPRODUCT((Eingabe!$C$6:$C$400<$CN12)*(Eingabe!$D$6:$D$400>=$CN12)*(Eingabe!$B$6:$B$400=HG$3)*(Eingabe!$E$6:$E$400))","v":0},{"$f":"SUMPRODUCT((Eingabe!$C$6:$C$400<=$CN12)*(Eingabe!$D$6:$D$400>$CN12)*(Eingabe!$B$6:$B$400=HI$3)*(Eingabe!$E$6:$E$400))","v":0},{"$f":"SUMPRODUCT((Eingabe!$C$6:$C$400<$CN12)*(Eingabe!$D$6:$D$400>=$CN12)*(Eingabe!$B$6:$B$400=HI$3)*(Eingabe!$E$6:$E$400))","v":0},{"$f":"SUMPRODUCT((Eingabe!$C$6:$C$400<=$CN12)*(Eingabe!$D$6:$D$400>$CN12)*(Eingabe!$B$6:$B$400=HK$3)*(Eingabe!$E$6:$E$400))","v":0},{"$f":"SUMPRODUCT((Eingabe!$C$6:$C$400<$CN12)*(Eingabe!$D$6:$D$400>=$CN12)*(Eingabe!$B$6:$B$400=HK$3)*(Eingabe!$E$6:$E$400))","v":0},"2026-11-09","2026-11-09",{"$f":"SUMPRODUCT((Eingabe!$C$6:$C$400<=$CX12)*(Eingabe!$D$6:$D$400>$CX12)*(Eingabe!$B$6:$B$400=HO$3)*(Eingabe!$E$6:$E$400))","v":7},{"$f":"SUMPRODUCT((Eingabe!$C$6:$C$400<$CX12)*(Eingabe!$D$6:$D$400>=$CX12)*(Eingabe!$B$6:$B$400=HO$3)*(Eingabe!$E$6:$E$400))","v":7},{"$f":"SUMPRODUCT((Eingabe!$C$6:$C$400<=$CX12)*(Eingabe!$D$6:$D$400>$CX12)*(Eingabe!$B$6:$B$400=HQ$3)*(Eingabe!$E$6:$E$400))","v":0},{"$f":"SUMPRODUCT((Eingabe!$C$6:$C$400<$CX12)*(Eingabe!$D$6:$D$400>=$CX12)*(Eingabe!$B$6:$B$400=HQ$3)*(Eingabe!$E$6:$E$400))","v":0},{"$f":"SUMPRODUCT((Eingabe!$C$6:$C$400<=$CX12)*(Eingabe!$D$6:$D$400>$CX12)*(Eingabe!$B$6:$B$400=HS$3)*(Eingabe!$E$6:$E$400))","v":0},{"$f":"SUMPRODUCT((Eingabe!$C$6:$C$400<$CX12)*(Eingabe!$D$6:$D$400>=$CX12)*(Eingabe!$B$6:$B$400=HS$3)*(Eingabe!$E$6:$E$400))","v":0},{"$f":"SUMPRODUCT((Eingabe!$C$6:$C$400<=$CX12)*(Eingabe!$D$6:$D$400>$CX12)*(Eingabe!$B$6:$B$400=HU$3)*(Eingabe!$E$6:$E$400))","v":0},{"$f":"SUMPRODUCT((Eingabe!$C$6:$C$400<$CX12)*(Eingabe!$D$6:$D$400>=$CX12)*(Eingabe!$B$6:$B$400=HU$3)*(Eingabe!$E$6:$E$400))","v":0},"2026-12-09","2026-12-09",{"$f":"SUMPRODUCT((Eingabe!$C$6:$C$400<=$DH12)*(Eingabe!$D$6:$D$400>$DH12)*(Eingabe!$B$6:$B$400=HY$3)*(Eingabe!$E$6:$E$400))","v":7},{"$f":"SUMPRODUCT((Eingabe!$C$6:$C$400<$DH12)*(Eingabe!$D$6:$D$400>=$DH12)*(Eingabe!$B$6:$B$400=HY$3)*(Eingabe!$E$6:$E$400))","v":7},{"$f":"SUMPRODUCT((Eingabe!$C$6:$C$400<=$DH12)*(Eingabe!$D$6:$D$400>$DH12)*(Eingabe!$B$6:$B$400=IA$3)*(Eingabe!$E$6:$E$400))","v":0},{"$f":"SUMPRODUCT((Eingabe!$C$6:$C$400<$DH12)*(Eingabe!$D$6:$D$400>=$DH12)*(Eingabe!$B$6:$B$400=IA$3)*(Eingabe!$E$6:$E$400))","v":0},{"$f":"SUMPRODUCT((Eingabe!$C$6:$C$400<=$DH12)*(Eingabe!$D$6:$D$400>$DH12)*(Eingabe!$B$6:$B$400=IC$3)*(Eingabe!$E$6:$E$400))","v":0},{"$f":"SUMPRODUCT((Eingabe!$C$6:$C$400<$DH12)*(Eingabe!$D$6:$D$400>=$DH12)*(Eingabe!$B$6:$B$400=IC$3)*(Eingabe!$E$6:$E$400))","v":0},{"$f":"SUMPRODUCT((Eingabe!$C$6:$C$400<=$DH12)*(Eingabe!$D$6:$D$400>$DH12)*(Eingabe!$B$6:$B$400=IE$3)*(Eingabe!$E$6:$E$400))","v":0},{"$f":"SUMPRODUCT((Eingabe!$C$6:$C$400<$DH12)*(Eingabe!$D$6:$D$400>=$DH12)*(Eingabe!$B$6:$B$400=IE$3)*(Eingabe!$E$6:$E$400))","v":0}]
["2025-01-10","2025-01-10",{"$f":"SUMPRODUCT((Eingabe!$C$6:$C$400<=$B13)*(Eingabe!$D$6:$D$400>$B13)*(Eingabe!$B$6:$B$400=C$3)*(Eingabe!$E$6:$E$400))","v":7},{"$f":"SUMPRODUCT((Eingabe!$C$6:$C$400<$B13)*(Eingabe!$D$6:$D$400>=$B13)*(Eingabe!$B$6:$B$400=C$3)*(Eingabe!$E$6:$E$400))","v":7},{"$f":"SUMPRODUCT((Eingabe!$C$6:$C$400<=$B13)*(Eingabe!$D$6:$D$400>$B13)*(Eingabe!$B$6:$B$400=E$3)*(Eingabe!$E$6:$E$400))","v":0},{"$f":"SUMPRODUCT((Eingabe!$C$6:$C$400<$B13)*(Eingabe!$D$6:$D$400>=$B13)*(Eingabe!$B$6:$B$400=E$3)*(Eingabe!$E$6:$E$400))","v":0},{"$f":"SUMPRODUCT((Eingabe!$C$6:$C$400<=$B13)*(Eingabe!$D$6:$D$400>$B13)*(Eingabe!$B$6:$B$400=G$3)*(Eingabe!$E$6:$E$400))","v":0},{"$f":"SUMPRODUCT((Eingabe!$C$6:$C$400<$B13)*(Eingabe!$D$6:$D$400>=$B13)*(Eingabe!$B$6:$B$400=G$3)*(Eingabe!$E$6:$E$400))","v":0},{"$f":"SUMPRODUCT((Eingabe!$C$6:$C$400<=$B13)*(Eingabe!$D$6:$D$400>$B13)*(Eingabe!$B$6:$B$400=I$3)*(Eingabe!$E$6:$E$400))","v":7},{"$f":"SUMPRODUCT((Eingabe!$C$6:$C$400<$B13)*(Eingabe!$D$6:$D$400>=$B13)*(Eingabe!$B$6:$B$400=I$3)*(Eingabe!$E$6:$E$400))","v":7},"2025-02-10","2025-02-10",{"$f":"SUMPRODUCT((Eingabe!$C$6:$C$400<=$L13)*(Eingabe!$D$6:$D$400>$L13)*(Eingabe!$B$6:$B$400=M$3)*(Eingabe!$E$6:$E$400))","v":0},{"$f":"SUMPRODUCT((Eingabe!$C$6:$C$400<$L13)*(Eingabe!$D$6:$D$400>=$L13)*(Eingabe!$B$6:$B$400=M$3)*(Eingabe!$E$6:$E$400))","v":0},{"$f":"SUMPRODUCT((Eingabe!$C$6:$C$400<=$L13)*(Eingabe!$D$6:$D$400>$L13)*(Eingabe!$B$6:$B$400=O$3)*(Eingabe!$E$6:$E$400))","v":0},{"$f":"SUMPRODUCT((Eingabe!$C$6:$C$400<$L13)*(Eingabe!$D$6:$D$400>=$L13)*(Eingabe!$B$6:$B$400=O$3)*(Eingabe!$E$6:$E$400))","v":0},{"$f":"SUMPRODUCT((Eingabe!$C$6:$C$400<=$L13)*(Eingabe!$D$6:$D$400>$L13)*(Eingabe!$B$6:$B$400=Q$3)*(Eingabe!$E$6:$E$400))","v":0},{"$f":"SUMPRODUCT((Eingabe!$C$6:$C$400<$L13)*(Eingabe!$D$6:$D$400>=$L13)*(Eingabe!$B$6:$B$400=Q$3)*(Eingabe!$E$6:$E$400))","v":0},{"$f":"SUMPRODUCT((Eingabe!$C$6:$C$400<=$L13)*(Eingabe!$D$6:$D$400>$L13)*(Eingabe!$B$6:$B$400=S$3)*(Eingabe!$E$6:$E$400))","v":0},{"$f":"SUMPRODUCT((Eingabe!$C$6:$C$400<$L13)*(Eingabe!$D$6:$D$400>=$L13)*(Eingabe!$B$6:$B$400=S$3)*(Eingabe!$E$6:$E$400))","v":0},"2025-03-10","2025-03-10",{"$f":"SUMPRODUCT((Eingabe!$C$6:$C$400<=$V13)*(Eingabe!$D$6:$D$400>$V13)*(Eingabe!$B$6:$B$400=W$3)*(Eingabe!$E$6:$E$400))","v":0},{"$f":"SUMPRODUCT((Eingabe!$C$6:$C$400<$V13)*(Eingabe!$D$6:$D$400>=$V13)*(Eingabe!$B$6:$B$400=W$3)*(Eingabe!$E$6:$E$400))","v":0},{"$f":"SUMPRODUCT((Eingabe!$C$6:$C$400<=$V13)*(Eingabe!$D$6:$D$400>$V13)*(Eingabe!$B$6:$B$400=Y$3)*(Eingabe!$E$6:$E$400))","v":0},{"$f":"SUMPRODUCT((Eingabe!$C$6:$C$400<$V13)*(Eingabe!$D$6:$D$400>=$V13)*(Eingabe!$B$6:$B$400=Y$3)*(Eingabe!$E$6:$E$400))","v":0},{"$f":"SUMPRODUCT((Eingabe!$C$6:$C$400<=$V13)*(Eingabe!$D$6:$D$400>$V13)*(Eingabe!$B$6:$B$400=AA$3)*(Eingabe!$E$6:$E$400))","v":0},{"$f":"SUMPRODUCT((Eingabe!$C$6:$C$400<$V13)*(Eingabe!$D$6:$D$400>=$V13)*(Eingabe!$B$6:$B$400=AA$3)*(Eingabe!$E$6:$E$400))","v":0},{"$f":"SUMPRODUCT((Eingabe!$C$6:$C$400<=$V13)*(Eingabe!$D$6:$D$400>$V13)*(Eingabe!$B$6:$B$400=AC$3)*(Eingabe!$E$6:$E$400))","v":0},{"$f":"SUMPRODUCT((Eingabe!$C$6:$C$400<$V13)*(Eingabe!$D$6:$D$400>=$V13)*(Eingabe!$B$6:$B$400=AC$3)*(Eingabe!$E$6:$E$400))","v":0},"2025-04-10","2025-04-10",{"$f":"SUMPRODUCT((Eingabe!$C$6:$C$400<=$AF13)*(Eingabe!$D$6:$D$400>$AF13)*(Eingabe!$B$6:$B$400=AG$3)*(Eingabe!$E$6:$E$400))","v":0},{"$f":"SUMPRODUCT((Eingabe!$C$6:$C$400<$AF13)*(Eingabe!$D$6:$D$400>=$AF13)*(Eingabe!$B$6:$B$400=AG$3)*(Eingabe!$E$6:$E$400))","v":0},{"$f":"SUMPRODUCT((Eingabe!$C$6:$C$400<=$AF13)*(Eingabe!$D$6:$D$400>$AF13)*(Eingabe!$B$6:$B$400=AI$3)*(Eingabe!$E$6:$E$400))","v":6},{"$f":"SUMPRODUCT((Eingabe!$C$6:$C$400<$AF13)*(Eingabe!$D$6:$D$400>=$AF13)*(Eingabe!$B$6:$B$400=AI$3)*(Eingabe!$E$6:$E$400))","v":0},{"$f":"SUMPRODUCT((Eingabe!$C$6:$C$400<=$AF13)*(Eingabe!$D$6:$D$400>$AF13)*(Eingabe!$B$6:$B$400=AK$3)*(Eingabe!$E$6:$E$400))","v":0},{"$f":"SUMPRODUCT((Eingabe!$C$6:$C$400<$AF13)*(Eingabe!$D$6:$D$400>=$AF13)*(Eingabe!$B$6:$B$400=AK$3)*(Eingabe!$E$6:$E$400))","v":0},{"$f":"SUMPRODUCT((Eingabe!$C$6:$C$400<=$AF13)*(Eingabe!$D$6:$D$400>$AF13)*(Eingabe!$B$6:$B$400=AM$3)*(Eingabe!$E$6:$E$400))","v":0},{"$f":"SUMPRODUCT((Eingabe!$C$6:$C$400<$AF13)*(Eingabe!$D$6:$D$400>=$AF13)*(Eingabe!$B$6:$B$400=AM$3)*(Eingabe!$E$6:$E$400))","v":0},"2025-05-10","2025-05-10",{"$f":"SUMPRODUCT((Eingabe!$C$6:$C$400<=$AP13)*(Eingabe!$D$6:$D$400>$AP13)*(Eingabe!$B$6:$B$400=AQ$3)*(Eingabe!$E$6:$E$400))","v":0},{"$f":"SUMPRODUCT((Eingabe!$C$6:$C$400<$AP13)*(Eingabe!$D$6:$D$400>=$AP13)*(Eingabe!$B$6:$B$400=AQ$3)*(Eingabe!$E$6:$E$400))","v":0},{"$f":"SUMPRODUCT((Eingabe!$C$6:$C$400<=$AP13)*(Eingabe!$D$6:$D$400>$AP13)*(Eingabe!$B$6:$B$400=AS$3)*(Eingabe!$E$6:$E$400))","v":0},{"$f":"SUMPRODUCT((Eingabe!$C$6:$C$400<$AP13)*(Eingabe!$D$6:$D$400>=$AP13)*(Eingabe!$B$6:$B$400=AS$3)*(Eingabe!$E$6:$E$400))","v":0},{"$f":"SUMPRODUCT((Eingabe!$C$6:$C$400<=$AP13)*(Eingabe!$D$6:$D$400>$AP13)*(Eingabe!$B$6:$B$400=AU$3)*(Eingabe!$E$6:$E$400))","v":0},{"$f":"SUMPRODUCT((Eingabe!$C$6:$C$400<$AP13)*(Eingabe!$D$6:$D$400>=$AP13)*(Eingabe!$B$6:$B$400=AU$3)*(Eingabe!$E$6:$E$400))","v":0},{"$f":"SUMPRODUCT((Eingabe!$C$6:$C$400<=$AP13)*(Eingabe!$D$6:$D$400>$AP13)*(Eingabe!$B$6:$B$400=AW$3)*(Eingabe!$E$6:$E$400))","v":0},{"$f":"SUMPRODUCT((Eingabe!$C$6:$C$400<$AP13)*(Eingabe!$D$6:$D$400>=$AP13)*(Eingabe!$B$6:$B$400=AW$3)*(Eingabe!$E$6:$E$400))","v":0},"2025-06-10","2025-06-10",{"$f":"SUMPRODUCT((Eingabe!$C$6:$C$400<=$AZ13)*(Eingabe!$D$6:$D$400>$AZ13)*(Eingabe!$B$6:$B$400=BA$3)*(Eingabe!$E$6:$E$400))","v":0},{"$f":"SUMPRODUCT((Eingabe!$C$6:$C$400<$AZ13)*(Eingabe!$D$6:$D$400>=$AZ13)*(Eingabe!$B$6:$B$400=BA$3)*(Eingabe!$E$6:$E$400))","v":0},{"$f":"SUMPRODUCT((Eingabe!$C$6:$C$400<=$AZ13)*(Eingabe!$D$6:$D$400>$AZ13)*(Eingabe!$B$6:$B$400=BC$3)*(Eingabe!$E$6:$E$400))","v":0},{"$f":"SUMPRODUCT((Eingabe!$C$6:$C$400<$AZ13)*(Eingabe!$D$6:$D$400>=$AZ13)*(Eingabe!$B$6:$B$400=BC$3)*(Eingabe!$E$6:$E$400))","v":0},{"$f":"SUMPRODUCT((Eingabe!$C$6:$C$400<=$AZ13)*(Eingabe!$D$6:$D$400>$AZ13)*(Eingabe!$B$6:$B$400=BE$3)*(Eingabe!$E$6:$E$400))","v":0},{"$f":"SUMPRODUCT((Eingabe!$C$6:$C$400<$AZ13)*(Eingabe!$D$6:$D$400>=$AZ13)*(Eingabe!$B$6:$B$400=BE$3)*(Eingabe!$E$6:$E$400))","v":0},{"$f":"SUMPRODUCT((Eingabe!$C$6:$C$400<=$AZ13)*(Eingabe!$D$6:$D$400>$AZ13)*(Eingabe!$B$6:$B$400=BG$3)*(Eingabe!$E$6:$E$400))","v":0},{"$f":"SUMPRODUCT((Eingabe!$C$6:$C$400<$AZ13)*(Eingabe!$D$6:$D$400>=$AZ13)*(Eingabe!$B$6:$B$400=BG$3)*(Eingabe!$E$6:$E$400))","v":0},"2025-07-10","2025-07-10",{"$f":"SUMPRODUCT((Eingabe!$C$6:$C$400<=$BJ13)*(Eingabe!$D$6:$D$400>$BJ13)*(Eingabe!$B$6:$B$400=BK$3)*(Eingabe!$E$6:$E$400))","v":6},{"$f":"SUMPRODUCT((Eingabe!$C$6:$C$400<$BJ13)*(Eingabe!$D$6:$D$400>=$BJ13)*(Eingabe!$B$6:$B$400=BK$3)*(Eingabe!$E$6:$E$400))","v":6},{"$f":"SUMPRODUCT((Eingabe!$C$6:$C$400<=$BJ13)*(Eingabe!$D$6:$D$400>$BJ13)*(Eingabe!$B$6:$B$400=BM$3)*(Eingabe!$E$6:$E$400))","v":7},{"$f":"SUMPRODUCT((Eingabe!$C$6:$C$400<$BJ13)*(Eingabe!$D$6:$D$400>=$BJ13)*(Eingabe!$B$6:$B$400=BM$3)*(Eingabe!$E$6:$E$400))","v":7},{"$f":"SUMPRODUCT((Eingabe!$C$6:$C$400<=$BJ13)*(Eingabe!$D$6:$D$400>$BJ13)*(Eingabe!$B$6:$B$400=BO$3)*(Eingabe!$E$6:$E$400))","v":0},{"$f":"SUMPRODUCT((Eingabe!$C$6:$C$400<$BJ13)*(Eingabe!$D$6:$D$400>=$BJ13)*(Eingabe!$B$6:$B$400=BO$3)*(Eingabe!$E$6:$E$400))","v":0},{"$f":"SUMPRODUCT((Eingabe!$C$6:$C$400<=$BJ13)*(Eingabe!$D$6:$D$400>$BJ13)*(Eingabe!$B$6:$B$400=BQ$3)*(Eingabe!$E$6:$E$400))","v":0},{"$f":"SUMPRODUCT((Eingabe!$C$6:$C$400<$BJ13)*(Eingabe!$D$6:$D$400>=$BJ13)*(Eingabe!$B$6:$B$400=BQ$3)*(Eingabe!$E$6:$E$400))","v":0},"2025-08-10","2025-08-10",{"$f":"SUMPRODUCT((Eingabe!$C$6:$C$400<=$BT13)*(Eingabe!$D$6:$D$400>$BT13)*(Eingabe!$B$6:$B$400=BU$3)*(Eingabe!$E$6:$E$400))","v":0},{"$f":"SUMPRODUCT((Eingabe!$C$6:$C$400<$BT13)*(Eingabe!$D$6:$D$400>=$BT13)*(Eingabe!$B$6:$B$400=BU$3)*(Eingabe!$E$6:$E$400))","v":7},{"$f":"SUMPRODUCT((Eingabe!$C$6:$C$400<=$BT13)*(Eingabe!$D$6:$D$400>$BT13)*(Eingabe!$B$6:$B$400=BW$3)*(Eingabe!$E$6:$E$400))","v":0},{"$f":"SUMPRODUCT((Eingabe!$C$6:$C$400<$BT13)*(Eingabe!$D$6:$D$400>=$BT13)*(Eingabe!$B$6:$B$400=BW$3)*(Eingabe!$E$6:$E$400))","v":7},{"$f":"SUMPRODUCT((Eingabe!$C$6:$C$400<=$BT13)*(Eingabe!$D$6:$D$400>$BT13)*(Eingabe!$B$6:$B$400=BY$3)*(Eingabe!$E$6:$E$400))","v":0},{"$f":"SUMPRODUCT((Eingabe!$C$6:$C$400<$BT13)*(Eingabe!$D$6:$D$400>=$BT13)*(Eingabe!$B$6:$B$400=BY$3)*(Eingabe!$E$6:$E$400))","v":7},{"$f":"SUMPRODUCT((Eingabe!$C$6:$C$400<=$BT13)*(Eingabe!$D$6:$D$400>$BT13)*(Eingabe!$B$6:$B$400=CA$3)*(Eingabe!$E$6:$E$400))","v":0},{"$f":"SUMPRODUCT((Eingabe!$C$6:$C$400<$BT13)*(Eingabe!$D$6:$D$400>=$BT13)*(Eingabe!$B$6:$B$400=CA$3)*(Eingabe!$E$6:$E$400))","v":0},"2025-09-10","2025-09-10",{"$f":"SUMPRODUCT((Eingabe!$C$6:$C$400<=$CD13)*(Eingabe!$D$6:$D$400>$CD13)*(Eingabe!$B$6:$B$400=CE$3)*(Eingabe!$E$6:$E$400))","v":0},{"$f":"SUMPRODUCT((Eingabe!$C$6:$C$400<$CD13)*(Eingabe!$D$6:$D$400>=$CD13)*(Eingabe!$B$6:$B$400=CE$3)*(Eingabe!$E$6:$E$400))","v":0},{"$f":"SUMPRODUCT((Eingabe!$C$6:$C$400<=$CD13)*(Eingabe!$D$6:$D$400>$CD13)*(Eingabe!$B$6:$B$400=CG$3)*(Eingabe!$E$6:$E$400))","v":0},{"$f":"SUMPRODUCT((Eingabe!$C$6:$C$400<$CD13)*(Eingabe!$D$6:$D$400>=$CD13)*(Eingabe!$B$6:$B$400=CG$3)*(Eingabe!$E$6:$E$400))","v":0},{"$f":"SUMPRODUCT((Eingabe!$C$6:$C$400<=$CD13)*(Eingabe!$D$6:$D$400>$CD13)*(Eingabe!$B$6:$B$400=CI$3)*(Eingabe!$E$6:$E$400))","v":0},{"$f":"SUMPRODUCT((Eingabe!$C$6:$C$400<$CD13)*(Eingabe!$D$6:$D$400>=$CD13)*(Eingabe!$B$6:$B$400=CI$3)*(Eingabe!$E$6:$E$400))","v":0},{"$f":"SUMPRODUCT((Eingabe!$C$6:$C$400<=$CD13)*(Eingabe!$D$6:$D$400>$CD13)*(Eingabe!$B$6:$B$400=CK$3)*(Eingabe!$E$6:$E$400))","v":0},{"$f":"SUMPRODUCT((Eingabe!$C$6:$C$400<$CD13)*(Eingabe!$D$6:$D$400>=$CD13)*(Eingabe!$B$6:$B$400=CK$3)*(Eingabe!$E$6:$E$400))","v":0},"2025-10-10","2025-10-10",{"$f":"SUMPRODUCT((Eingabe!$C$6:$C$400<=$CN13)*(Eingabe!$D$6:$D$400>$CN13)*(Eingabe!$B$6:$B$400=CO$3)*(Eingabe!$E$6:$E$400))","v":7},{"$f":"SUMPRODUCT((Eingabe!$C$6:$C$400<$CN13)*(Eingabe!$D$6:$D$400>=$CN13)*(Eingabe!$B$6:$B$400=CO$3)*(Eingabe!$E$6:$E$400))","v":7},{"$f":"SUMPRODUCT((Eingabe!$C$6:$C$400<=$CN13)*(Eingabe!$D$6:$D$400>$CN13)*(Eingabe!$B$6:$B$400=CQ$3)*(Eingabe!$E$6:$E$400))","v":0},{"$f":"SUMPRODUCT((Eingabe!$C$6:$C$400<$CN13)*(Eingabe!$D$6:$D$400>=$CN13)*(Eingabe!$B$6:$B$400=CQ$3)*(Eingabe!$E$6:$E$400))","v":0},{"$f":"SUMPRODUCT((Eingabe!$C$6:$C$400<=$CN13)*(Eingabe!$D$6:$D$400>$CN13)*(Eingabe!$B$6:$B$400=CS$3)*(Eingabe!$E$6:$E$400))","v":0},{"$f":"SUMPRODUCT((Eingabe!$C$6:$C$400<$CN13)*(Eingabe!$D$6:$D$400>=$CN13)*(Eingabe!$B$6:$B$400=CS$3)*(Eingabe!$E$6:$E$400))","v":0},{"$f":"SUMPRODUCT((Eingabe!$C$6:$C$400<=$CN13)*(Eingabe!$D$6:$D$400>$CN13)*(Eingabe!$B$6:$B$400=CU$3)*(Eingabe!$E$6:$E$400))","v":0},{"$f":"SUMPRODUCT((Eingabe!$C$6:$C$400<$CN13)*(Eingabe!$D$6:$D$400>=$CN13)*(Eingabe!$B$6:$B$400=CU$3)*(Eingabe!$E$6:$E$400))","v":0},"2025-11-10","2025-11-10",{"$f":"SUMPRODUCT((Eingabe!$C$6:$C$400<=$CX13)*(Eingabe!$D$6:$D$400>$CX13)*(Eingabe!$B$6:$B$400=CY$3)*(Eingabe!$E$6:$E$400))","v":7},{"$f":"SUMPRODUCT((Eingabe!$C$6:$C$400<$CX13)*(Eingabe!$D$6:$D$400>=$CX13)*(Eingabe!$B$6:$B$400=CY$3)*(Eingabe!$E$6:$E$400))","v":7},{"$f":"SUMPRODUCT((Eingabe!$C$6:$C$400<=$CX13)*(Eingabe!$D$6:$D$400>$CX13)*(Eingabe!$B$6:$B$400=DA$3)*(Eingabe!$E$6:$E$400))","v":0},{"$f":"SUMPRODUCT((Eingabe!$C$6:$C$400<$CX13)*(Eingabe!$D$6:$D$400>=$CX13)*(Eingabe!$B$6:$B$400=DA$3)*(Eingabe!$E$6:$E$400))","v":0},{"$f":"SUMPRODUCT((Eingabe!$C$6:$C$400<=$CX13)*(Eingabe!$D$6:$D$400>$CX13)*(Eingabe!$B$6:$B$400=DC$3)*(Eingabe!$E$6:$E$400))","v":0},{"$f":"SUMPRODUCT((Eingabe!$C$6:$C$400<$CX13)*(Eingabe!$D$6:$D$400>=$CX13)*(Eingabe!$B$6:$B$400=DC$3)*(Eingabe!$E$6:$E$400))","v":0},{"$f":"SUMPRODUCT((Eingabe!$C$6:$C$400<=$CX13)*(Eingabe!$D$6:$D$400>$CX13)*(Eingabe!$B$6:$B$400=DE$3)*(Eingabe!$E$6:$E$400))","v":0},{"$f":"SUMPRODUCT((Eingabe!$C$6:$C$400<$CX13)*(Eingabe!$D$6:$D$400>=$CX13)*(Eingabe!$B$6:$B$400=DE$3)*(Eingabe!$E$6:$E$400))","v":0},"2025-12-10","2025-12-10",{"$f":"SUMPRODUCT((Eingabe!$C$6:$C$400<=$DH13)*(Eingabe!$D$6:$D$400>$DH13)*(Eingabe!$B$6:$B$400=DI$3)*(Eingabe!$E$6:$E$400))","v":7},{"$f":"SUMPRODUCT((Eingabe!$C$6:$C$400<$DH13)*(Eingabe!$D$6:$D$400>=$DH13)*(Eingabe!$B$6:$B$400=DI$3)*(Eingabe!$E$6:$E$400))","v":7},{"$f":"SUMPRODUCT((Eingabe!$C$6:$C$400<=$DH13)*(Eingabe!$D$6:$D$400>$DH13)*(Eingabe!$B$6:$B$400=DK$3)*(Eingabe!$E$6:$E$400))","v":0},{"$f":"SUMPRODUCT((Eingabe!$C$6:$C$400<$DH13)*(Eingabe!$D$6:$D$400>=$DH13)*(Eingabe!$B$6:$B$400=DK$3)*(Eingabe!$E$6:$E$400))","v":0},{"$f":"SUMPRODUCT((Eingabe!$C$6:$C$400<=$DH13)*(Eingabe!$D$6:$D$400>$DH13)*(Eingabe!$B$6:$B$400=DM$3)*(Eingabe!$E$6:$E$400))","v":0},{"$f":"SUMPRODUCT((Eingabe!$C$6:$C$400<$DH13)*(Eingabe!$D$6:$D$400>=$DH13)*(Eingabe!$B$6:$B$400=DM$3)*(Eingabe!$E$6:$E$400))","v":0},{"$f":"SUMPRODUCT((Eingabe!$C$6:$C$400<=$DH13)*(Eingabe!$D$6:$D$400>$DH13)*(Eingabe!$B$6:$B$400=DO$3)*(Eingabe!$E$6:$E$400))","v":0},{"$f":"SUMPRODUCT((Eingabe!$C$6:$C$400<$DH13)*(Eingabe!$D$6:$D$400>=$DH13)*(Eingabe!$B$6:$B$400=DO$3)*(Eingabe!$E$6:$E$400))","v":0},"2026-01-10","2026-01-10",{"$f":"SUMPRODUCT((Eingabe!$C$6:$C$400<=$B13)*(Eingabe!$D$6:$D$400>$B13)*(Eingabe!$B$6:$B$400=DS$3)*(Eingabe!$E$6:$E$400))","v":7},{"$f":"SUMPRODUCT((Eingabe!$C$6:$C$400<$B13)*(Eingabe!$D$6:$D$400>=$B13)*(Eingabe!$B$6:$B$400=DS$3)*(Eingabe!$E$6:$E$400))","v":7},{"$f":"SUMPRODUCT((Eingabe!$C$6:$C$400<=$B13)*(Eingabe!$D$6:$D$400>$B13)*(Eingabe!$B$6:$B$400=DU$3)*(Eingabe!$E$6:$E$400))","v":0},{"$f":"SUMPRODUCT((Eingabe!$C$6:$C$400<$B13)*(Eingabe!$D$6:$D$400>=$B13)*(Eingabe!$B$6:$B$400=DU$3)*(Eingabe!$E$6:$E$400))","v":0},{"$f":"SUMPRODUCT((Eingabe!$C$6:$C$400<=$B13)*(Eingabe!$D$6:$D$400>$B13)*(Eingabe!$B$6:$B$400=DW$3)*(Eingabe!$E$6:$E$400))","v":0},{"$f":"SUMPRODUCT((Eingabe!$C$6:$C$400<$B13)*(Eingabe!$D$6:$D$400>=$B13)*(Eingabe!$B$6:$B$400=DW$3)*(Eingabe!$E$6:$E$400))","v":0},{"$f":"SUMPRODUCT((Eingabe!$C$6:$C$400<=$B13)*(Eingabe!$D$6:$D$400>$B13)*(Eingabe!$B$6:$B$400=DY$3)*(Eingabe!$E$6:$E$400))","v":7},{"$f":"SUMPRODUCT((Eingabe!$C$6:$C$400<$B13)*(Eingabe!$D$6:$D$400>=$B13)*(Eingabe!$B$6:$B$400=DY$3)*(Eingabe!$E$6:$E$400))","v":7},"2026-02-10","2026-02-10",{"$f":"SUMPRODUCT((Eingabe!$C$6:$C$400<=$L13)*(Eingabe!$D$6:$D$400>$L13)*(Eingabe!$B$6:$B$400=EC$3)*(Eingabe!$E$6:$E$400))","v":0},{"$f":"SUMPRODUCT((Eingabe!$C$6:$C$400<$L13)*(Eingabe!$D$6:$D$400>=$L13)*(Eingabe!$B$6:$B$400=EC$3)*(Eingabe!$E$6:$E$400))","v":0},{"$f":"SUMPRODUCT((Eingabe!$C$6:$C$400<=$L13)*(Eingabe!$D$6:$D$400>$L13)*(Eingabe!$B$6:$B$400=EE$3)*(Eingabe!$E$6:$E$400))","v":0},{"$f":"SUMPRODUCT((Eingabe!$C$6:$C$400<$L13)*(Eingabe!$D$6:$D$400>=$L13)*(Eingabe!$B$6:$B$400=EE$3)*(Eingabe!$E$6:$E$400))","v":0},{"$f":"SUMPRODUCT((Eingabe!$C$6:$C$400<=$L13)*(Eingabe!$D$6:$D$400>$L13)*(Eingabe!$B$6:$B$400=EG$3)*(Eingabe!$E$6:$E$400))","v":0},{"$f":"SUMPRODUCT((Eingabe!$C$6:$C$400<$L13)*(Eingabe!$D$6:$D$400>=$L13)*(Eingabe!$B$6:$B$400=EG$3)*(Eingabe!$E$6:$E$400))","v":0},{"$f":"SUMPRODUCT((Eingabe!$C$6:$C$400<=$L13)*(Eingabe!$D$6:$D$400>$L13)*(Eingabe!$B$6:$B$400=EI$3)*(Eingabe!$E$6:$E$400))","v":0},{"$f":"SUMPRODUCT((Eingabe!$C$6:$C$400<$L13)*(Eingabe!$D$6:$D$400>=$L13)*(Eingabe!$B$6:$B$400=EI$3)*(Eingabe!$E$6:$E$400))","v":0},"2026-03-10","2026-03-10",{"$f":"SUMPRODUCT((Eingabe!$C$6:$C$400<=$V13)*(Eingabe!$D$6:$D$400>$V13)*(Eingabe!$B$6:$B$400=EM$3)*(Eingabe!$E$6:$E$400))","v":0},{"$f":"SUMPRODUCT((Eingabe!$C$6:$C$400<$V13)*(Eingabe!$D$6:$D$400>=$V13)*(Eingabe!$B$6:$B$400=EM$3)*(Eingabe!$E$6:$E$400))","v":0},{"$f":"SUMPRODUCT((Eingabe!$C$6:$C$400<=$V13)*(Eingabe!$D$6:$D$400>$V13)*(Eingabe!$B$6:$B$400=EO$3)*(Eingabe!$E$6:$E$400))","v":0},{"$f":"SUMPRODUCT((Eingabe!$C$6:$C$400<$V13)*(Eingabe!$D$6:$D$400>=$V13)*(Eingabe!$B$6:$B$400=EO$3)*(Eingabe!$E$6:$E$400))","v":0},{"$f":"SUMPRODUCT((Eingabe!$C$6:$C$400<=$V13)*(Eingabe!$D$6:$D$400>$V13)*(Eingabe!$B$6:$B$400=EQ$3)*(Eingabe!$E$6:$E$400))","v":0},{"$f":"SUMPRODUCT((Eingabe!$C$6:$C$400<$V13)*(Eingabe!$D$6:$D$400>=$V13)*(Eingabe!$B$6:$B$400=EQ$3)*(Eingabe!$E$6:$E$400))","v":0},{"$f":"SUMPRODUCT((Eingabe!$C$6:$C$400<=$V13)*(Eingabe!$D$6:$D$400>$V13)*(Eingabe!$B$6:$B$400=ES$3)*(Eingabe!$E$6:$E$400))","v":0},{"$f":"SUMPRODUCT((Eingabe!$C$6:$C$400<$V13)*(Eingabe!$D$6:$D$400>=$V13)*(Eingabe!$B$6:$B$400=ES$3)*(Eingabe!$E$6:$E$400))","v":0},"2026-04-10","2026-04-10",{"$f":"SUMPRODUCT((Eingabe!$C$6:$C$400<=$AF13)*(Eingabe!$D$6:$D$400>$AF13)*(Eingabe!$B$6:$B$400=EW$3)*(Eingabe!$E$6:$E$400))","v":0},{"$f":"SUMPRODUCT((Eingabe!$C$6:$C$400<$AF13)*(Eingabe!$D$6:$D$400>=$AF13)*(Eingabe!$B$6:$B$400=EW$3)*(Eingabe!$E$6:$E$400))","v":0},{"$f":"SUMPRODUCT((Eingabe!$C$6:$C$400<=$AF13)*(Eingabe!$D$6:$D$400>$AF13)*(Eingabe!$B$6:$B$400=EY$3)*(Eingabe!$E$6:$E$400))","v":6},{"$f":"SUMPRODUCT((Eingabe!$C$6:$C$400<$AF13)*(Eingabe!$D$6:$D$400>=$AF13)*(Eingabe!$B$6:$B$400=EY$3)*(Eingabe!$E$6:$E$400))","v":0},{"$f":"SUMPRODUCT((Eingabe!$C$6:$C$400<=$AF13)*(Eingabe!$D$6:$D$400>$AF13)*(Eingabe!$B$6:$B$400=FA$3)*(Eingabe!$E$6:$E$400))","v":0},{"$f":"SUMPRODUCT((Eingabe!$C$6:$C$400<$AF13)*(Eingabe!$D$6:$D$400>=$AF13)*(Eingabe!$B$6:$B$400=FA$3)*(Eingabe!$E$6:$E$400))","v":0},{"$f":"SUMPRODUCT((Eingabe!$C$6:$C$400<=$AF13)*(Eingabe!$D$6:$D$400>$AF13)*(Eingabe!$B$6:$B$400=FC$3)*(Eingabe!$E$6:$E$400))","v":0},{"$f":"SUMPRODUCT((Eingabe!$C$6:$C$400<$AF13)*(Eingabe!$D$6:$D$400>=$AF13)*(Eingabe!$B$6:$B$400=FC$3)*(Eingabe!$E$6:$E$400))","v":0},"2026-05-10","2026-05-10",{"$f":"SUMPRODUCT((Eingabe!$C$6:$C$400<=$AP13)*(Eingabe!$D$6:$D$400>$AP13)*(Eingabe!$B$6:$B$400=FG$3)*(Eingabe!$E$6:$E$400))","v":0},{"$f":"SUMPRODUCT((Eingabe!$C$6:$C$400<$AP13)*(Eingabe!$D$6:$D$400>=$AP13)*(Eingabe!$B$6:$B$400=FG$3)*(Eingabe!$E$6:$E$400))","v":0},{"$f":"SUMPRODUCT((Eingabe!$C$6:$C$400<=$AP13)*(Eingabe!$D$6:$D$400>$AP13)*(Eingabe!$B$6:$B$400=FI$3)*(Eingabe!$E$6:$E$400))","v":0},{"$f":"SUMPRODUCT((Eingabe!$C$6:$C$400<$AP13)*(Eingabe!$D$6:$D$400>=$AP13)*(Eingabe!$B$6:$B$400=FI$3)*(Eingabe!$E$6:$E$400))","v":0},{"$f":"SUMPRODUCT((Eingabe!$C$6:$C$400<=$AP13)*(Eingabe!$D$6:$D$400>$AP13)*(Eingabe!$B$6:$B$400=FK$3)*(Eingabe!$E$6:$E$400))","v":0},{"$f":"SUMPRODUCT((Eingabe!$C$6:$C$400<$AP13)*(Eingabe!$D$6:$D$400>=$AP13)*(Eingabe!$B$6:$B$400=FK$3)*(Eingabe!$E$6:$E$400))","v":0},{"$f":"SUMPRODUCT((Eingabe!$C$6:$C$400<=$AP13)*(Eingabe!$D$6:$D$400>$AP13)*(Eingabe!$B$6:$B$400=FM$3)*(Eingabe!$E$6:$E$400))","v":0},{"$f":"SUMPRODUCT((Eingabe!$C$6:$C$400<$AP13)*(Eingabe!$D$6:$D$400>=$AP13)*(Eingabe!$B$6:$B$400=FM$3)*(Eingabe!$E$6:$E$400))","v":0},"2026-06-10","2026-06-10",{"$f":"SUMPRODUCT((Eingabe!$C$6:$C$400<=$AZ13)*(Eingabe!$D$6:$D$400>$AZ13)*(Eingabe!$B$6:$B$400=FQ$3)*(Eingabe!$E$6:$E$400))","v":0},{"$f":"SUMPRODUCT((Eingabe!$C$6:$C$400<$AZ13)*(Eingabe!$D$6:$D$400>=$AZ13)*(Eingabe!$B$6:$B$400=FQ$3)*(Eingabe!$E$6:$E$400))","v":0},{"$f":"SUMPRODUCT((Eingabe!$C$6:$C$400<=$AZ13)*(Eingabe!$D$6:$D$400>$AZ13)*(Eingabe!$B$6:$B$400=FS$3)*(Eingabe!$E$6:$E$400))","v":0},{"$f":"SUMPRODUCT((Eingabe!$C$6:$C$400<$AZ13)*(Eingabe!$D$6:$D$400>=$AZ13)*(Eingabe!$B$6:$B$400=FS$3)*(Eingabe!$E$6:$E$400))","v":0},{"$f":"SUMPRODUCT((Eingabe!$C$6:$C$400<=$AZ13)*(Eingabe!$D$6:$D$400>$AZ13)*(Eingabe!$B$6:$B$400=FU$3)*(Eingabe!$E$6:$E$400))","v":0},{"$f":"SUMPRODUCT((Eingabe!$C$6:$C$400<$AZ13)*(Eingabe!$D$6:$D$400>=$AZ13)*(Eingabe!$B$6:$B$400=FU$3)*(Eingabe!$E$6:$E$400))","v":0},{"$f":"SUMPRODUCT((Eingabe!$C$6:$C$400<=$AZ13)*(Eingabe!$D$6:$D$400>$AZ13)*(Eingabe!$B$6:$B$400=FW$3)*(Eingabe!$E$6:$E$400))","v":0},{"$f":"SUMPRODUCT((Eingabe!$C$6:$C$400<$AZ13)*(Eingabe!$D$6:$D$400>=$AZ13)*(Eingabe!$B$6:$B$400=FW$3)*(Eingabe!$E$6:$E$400))","v":0},"2026-07-10","2026-07-10",{"$f":"SUMPRODUCT((Eingabe!$C$6:$C$400<=$BJ13)*(Eingabe!$D$6:$D$400>$BJ13)*(Eingabe!$B$6:$B$400=GA$3)*(Eingabe!$E$6:$E$400))","v":6},{"$f":"SUMPRODUCT((Eingabe!$C$6:$C$400<$BJ13)*(Eingabe!$D$6:$D$400>=$BJ13)*(Eingabe!$B$6:$B$400=GA$3)*(Eingabe!$E$6:$E$400))","v":6},{"$f":"SUMPRODUCT((Eingabe!$C$6:$C$400<=$BJ13)*(Eingabe!$D$6:$D$400>$BJ13)*(Eingabe!$B$6:$B$400=GC$3)*(Eingabe!$E$6:$E$400))","v":7},{"$f":"SUMPRODUCT((Eingabe!$C$6:$C$400<$BJ13)*(Eingabe!$D$6:$D$400>=$BJ13)*(Eingabe!$B$6:$B$400=GC$3)*(Eingabe!$E$6:$E$400))","v":7},{"$f":"SUMPRODUCT((Eingabe!$C$6:$C$400<=$BJ13)*(Eingabe!$D$6:$D$400>$BJ13)*(Eingabe!$B$6:$B$400=GE$3)*(Eingabe!$E$6:$E$400))","v":0},{"$f":"SUMPRODUCT((Eingabe!$C$6:$C$400<$BJ13)*(Eingabe!$D$6:$D$400>=$BJ13)*(Eingabe!$B$6:$B$400=GE$3)*(Eingabe!$E$6:$E$400))","v":0},{"$f":"SUMPRODUCT((Eingabe!$C$6:$C$400<=$BJ13)*(Eingabe!$D$6:$D$400>$BJ13)*(Eingabe!$B$6:$B$400=GG$3)*(Eingabe!$E$6:$E$400))","v":0},{"$f":"SUMPRODUCT((Eingabe!$C$6:$C$400<$BJ13)*(Eingabe!$D$6:$D$400>=$BJ13)*(Eingabe!$B$6:$B$400=GG$3)*(Eingabe!$E$6:$E$400))","v":0},"2026-08-10","2026-08-10",{"$f":"SUMPRODUCT((Eingabe!$C$6:$C$400<=$BT13)*(Eingabe!$D$6:$D$400>$BT13)*(Eingabe!$B$6:$B$400=GK$3)*(Eingabe!$E$6:$E$400))","v":0},{"$f":"SUMPRODUCT((Eingabe!$C$6:$C$400<$BT13)*(Eingabe!$D$6:$D$400>=$BT13)*(Eingabe!$B$6:$B$400=GK$3)*(Eingabe!$E$6:$E$400))","v":7},{"$f":"SUMPRODUCT((Eingabe!$C$6:$C$400<=$BT13)*(Eingabe!$D$6:$D$400>$BT13)*(Eingabe!$B$6:$B$400=GM$3)*(Eingabe!$E$6:$E$400))","v":0},{"$f":"SUMPRODUCT((Eingabe!$C$6:$C$400<$BT13)*(Eingabe!$D$6:$D$400>=$BT13)*(Eingabe!$B$6:$B$400=GM$3)*(Eingabe!$E$6:$E$400))","v":7},{"$f":"SUMPRODUCT((Eingabe!$C$6:$C$400<=$BT13)*(Eingabe!$D$6:$D$400>$BT13)*(Eingabe!$B$6:$B$400=GO$3)*(Eingabe!$E$6:$E$400))","v":0},{"$f":"SUMPRODUCT((Eingabe!$C$6:$C$400<$BT13)*(Eingabe!$D$6:$D$400>=$BT13)*(Eingabe!$B$6:$B$400=GO$3)*(Eingabe!$E$6:$E$400))","v":7},{"$f":"SUMPRODUCT((Eingabe!$C$6:$C$400<=$BT13)*(Eingabe!$D$6:$D$400>$BT13)*(Eingabe!$B$6:$B$400=GQ$3)*(Eingabe!$E$6:$E$400))","v":0},{"$f":"SUMPRODUCT((Eingabe!$C$6:$C$400<$BT13)*(Eingabe!$D$6:$D$400>=$BT13)*(Eingabe!$B$6:$B$400=GQ$3)*(Eingabe!$E$6:$E$400))","v":0},"2026-09-10","2026-09-10",{"$f":"SUMPRODUCT((Eingabe!$C$6:$C$400<=$CD13)*(Eingabe!$D$6:$D$400>$CD13)*(Eingabe!$B$6:$B$400=GU$3)*(Eingabe!$E$6:$E$400))","v":0},{"$f":"SUMPRODUCT((Eingabe!$C$6:$C$400<$CD13)*(Eingabe!$D$6:$D$400>=$CD13)*(Eingabe!$B$6:$B$400=GU$3)*(Eingabe!$E$6:$E$400))","v":0},{"$f":"SUMPRODUCT((Eingabe!$C$6:$C$400<=$CD13)*(Eingabe!$D$6:$D$400>$CD13)*(Eingabe!$B$6:$B$400=GW$3)*(Eingabe!$E$6:$E$400))","v":0},{"$f":"SUMPRODUCT((Eingabe!$C$6:$C$400<$CD13)*(Eingabe!$D$6:$D$400>=$CD13)*(Eingabe!$B$6:$B$400=GW$3)*(Eingabe!$E$6:$E$400))","v":0},{"$f":"SUMPRODUCT((Eingabe!$C$6:$C$400<=$CD13)*(Eingabe!$D$6:$D$400>$CD13)*(Eingabe!$B$6:$B$400=GY$3)*(Eingabe!$E$6:$E$400))","v":0},{"$f":"SUMPRODUCT((Eingabe!$C$6:$C$400<$CD13)*(Eingabe!$D$6:$D$400>=$CD13)*(Eingabe!$B$6:$B$400=GY$3)*(Eingabe!$E$6:$E$400))","v":0},{"$f":"SUMPRODUCT((Eingabe!$C$6:$C$400<=$CD13)*(Eingabe!$D$6:$D$400>$CD13)*(Eingabe!$B$6:$B$400=HA$3)*(Eingabe!$E$6:$E$400))","v":0},{"$f":"SUMPRODUCT((Eingabe!$C$6:$C$400<$CD13)*(Eingabe!$D$6:$D$400>=$CD13)*(Eingabe!$B$6:$B$400=HA$3)*(Eingabe!$E$6:$E$400))","v":0},"2026-10-10","2026-10-10",{"$f":"SUMPRODUCT((Eingabe!$C$6:$C$400<=$CN13)*(Eingabe!$D$6:$D$400>$CN13)*(Eingabe!$B$6:$B$400=HE$3)*(Eingabe!$E$6:$E$400))","v":7},{"$f":"SUMPRODUCT((Eingabe!$C$6:$C$400<$CN13)*(Eingabe!$D$6:$D$400>=$CN13)*(Eingabe!$B$6:$B$400=HE$3)*(Eingabe!$E$6:$E$400))","v":7},{"$f":"SUMPRODUCT((Eingabe!$C$6:$C$400<=$CN13)*(Eingabe!$D$6:$D$400>$CN13)*(Eingabe!$B$6:$B$400=HG$3)*(Eingabe!$E$6:$E$400))","v":0},{"$f":"SUMPRODUCT((Eingabe!$C$6:$C$400<$CN13)*(Eingabe!$D$6:$D$400>=$CN13)*(Eingabe!$B$6:$B$400=HG$3)*(Eingabe!$E$6:$E$400))","v":0},{"$f":"SUMPRODUCT((Eingabe!$C$6:$C$400<=$CN13)*(Eingabe!$D$6:$D$400>$CN13)*(Eingabe!$B$6:$B$400=HI$3)*(Eingabe!$E$6:$E$400))","v":0},{"$f":"SUMPRODUCT((Eingabe!$C$6:$C$400<$CN13)*(Eingabe!$D$6:$D$400>=$CN13)*(Eingabe!$B$6:$B$400=HI$3)*(Eingabe!$E$6:$E$400))","v":0},{"$f":"SUMPRODUCT((Eingabe!$C$6:$C$400<=$CN13)*(Eingabe!$D$6:$D$400>$CN13)*(Eingabe!$B$6:$B$400=HK$3)*(Eingabe!$E$6:$E$400))","v":0},{"$f":"SUMPRODUCT((Eingabe!$C$6:$C$400<$CN13)*(Eingabe!$D$6:$D$400>=$CN13)*(Eingabe!$B$6:$B$400=HK$3)*(Eingabe!$E$6:$E$400))","v":0},"2026-11-10","2026-11-10",{"$f":"SUMPRODUCT((Eingabe!$C$6:$C$400<=$CX13)*(Eingabe!$D$6:$D$400>$CX13)*(Eingabe!$B$6:$B$400=HO$3)*(Eingabe!$E$6:$E$400))","v":7},{"$f":"SUMPRODUCT((Eingabe!$C$6:$C$400<$CX13)*(Eingabe!$D$6:$D$400>=$CX13)*(Eingabe!$B$6:$B$400=HO$3)*(Eingabe!$E$6:$E$400))","v":7},{"$f":"SUMPRODUCT((Eingabe!$C$6:$C$400<=$CX13)*(Eingabe!$D$6:$D$400>$CX13)*(Eingabe!$B$6:$B$400=HQ$3)*(Eingabe!$E$6:$E$400))","v":0},{"$f":"SUMPRODUCT((Eingabe!$C$6:$C$400<$CX13)*(Eingabe!$D$6:$D$400>=$CX13)*(Eingabe!$B$6:$B$400=HQ$3)*(Eingabe!$E$6:$E$400))","v":0},{"$f":"SUMPRODUCT((Eingabe!$C$6:$C$400<=$CX13)*(Eingabe!$D$6:$D$400>$CX13)*(Eingabe!$B$6:$B$400=HS$3)*(Eingabe!$E$6:$E$400))","v":0},{"$f":"SUMPRODUCT((Eingabe!$C$6:$C$400<$CX13)*(Eingabe!$D$6:$D$400>=$CX13)*(Eingabe!$B$6:$B$400=HS$3)*(Eingabe!$E$6:$E$400))","v":0},{"$f":"SUMPRODUCT((Eingabe!$C$6:$C$400<=$CX13)*(Eingabe!$D$6:$D$400>$CX13)*(Eingabe!$B$6:$B$400=HU$3)*(Eingabe!$E$6:$E$400))","v":0},{"$f":"SUMPRODUCT((Eingabe!$C$6:$C$400<$CX13)*(Eingabe!$D$6:$D$400>=$CX13)*(Eingabe!$B$6:$B$400=HU$3)*(Eingabe!$E$6:$E$400))","v":0},"2026-12-10","2026-12-10",{"$f":"SUMPRODUCT((Eingabe!$C$6:$C$400<=$DH13)*(Eingabe!$D$6:$D$400>$DH13)*(Eingabe!$B$6:$B$400=HY$3)*(Eingabe!$E$6:$E$400))","v":7},{"$f":"SUMPRODUCT((Eingabe!$C$6:$C$400<$DH13)*(Eingabe!$D$6:$D$400>=$DH13)*(Eingabe!$B$6:$B$400=HY$3)*(Eingabe!$E$6:$E$400))","v":7},{"$f":"SUMPRODUCT((Eingabe!$C$6:$C$400<=$DH13)*(Eingabe!$D$6:$D$400>$DH13)*(Eingabe!$B$6:$B$400=IA$3)*(Eingabe!$E$6:$E$400))","v":0},{"$f":"SUMPRODUCT((Eingabe!$C$6:$C$400<$DH13)*(Eingabe!$D$6:$D$400>=$DH13)*(Eingabe!$B$6:$B$400=IA$3)*(Eingabe!$E$6:$E$400))","v":0},{"$f":"SUMPRODUCT((Eingabe!$C$6:$C$400<=$DH13)*(Eingabe!$D$6:$D$400>$DH13)*(Eingabe!$B$6:$B$400=IC$3)*(Eingabe!$E$6:$E$400))","v":0},{"$f":"SUMPRODUCT((Eingabe!$C$6:$C$400<$DH13)*(Eingabe!$D$6:$D$400>=$DH13)*(Eingabe!$B$6:$B$400=IC$3)*(Eingabe!$E$6:$E$400))","v":0},{"$f":"SUMPRODUCT((Eingabe!$C$6:$C$400<=$DH13)*(Eingabe!$D$6:$D$400>$DH13)*(Eingabe!$B$6:$B$400=IE$3)*(Eingabe!$E$6:$E$400))","v":0},{"$f":"SUMPRODUCT((Eingabe!$C$6:$C$400<$DH13)*(Eingabe!$D$6:$D$400>=$DH13)*(Eingabe!$B$6:$B$400=IE$3)*(Eingabe!$E$6:$E$400))","v":0}]
["2025-01-11","2025-01-11",{"$f":"SUMPRODUCT((Eingabe!$C$6:$C$400<=$B14)*(Eingabe!$D$6:$D$400>$B14)*(Eingabe!$B$6:$B$400=C$3)*(Eingabe!$E$6:$E$400))","v":7},{"$f":"SUMPRODUCT((Eingabe!$C$6:$C$400<$B14)*(Eingabe!$D$6:$D$400>=$B14)*(Eingabe!$B$6:$B$400=C$3)*(Eingabe!$E$6:$E$400))","v":7},{"$f":"SUMPRODUCT((Eingabe!$C$6:$C$400<=$B14)*(Eingabe!$D$6:$D$400>$B14)*(Eingabe!$B$6:$B$400=E$3)*(Eingabe!$E$6:$E$400))","v":0},{"$f":"SUMPRODUCT((Eingabe!$C$6:$C$400<$B14)*(Eingabe!$D$6:$D$400>=$B14)*(Eingabe!$B$6:$B$400=E$3)*(Eingabe!$E$6:$E$400))","v":0},{"$f":"SUMPRODUCT((Eingabe!$C$6:$C$400<=$B14)*(Eingabe!$D$6:$D$400>$B14)*(Eingabe!$B$6:$B$400=G$3)*(Eingabe!$E$6:$E$400))","v":0},{"$f":"SUMPRODUCT((Eingabe!$C$6:$C$400<$B14)*(Eingabe!$D$6:$D$400>=$B14)*(Eingabe!$B$6:$B$400=G$3)*(Eingabe!$E$6:$E$400))","v":0},{"$f":"SUMPRODUCT((Eingabe!$C$6:$C$400<=$B14)*(Eingabe!$D$6:$D$400>$B14)*(Eingabe!$B$6:$B$400=I$3)*(Eingabe!$E$6:$E$400))","v":7},{"$f":"SUMPRODUCT((Eingabe!$C$6:$C$400<$B14)*(Eingabe!$D$6:$D$400>=$B14)*(Eingabe!$B$6:$B$400=I$3)*(Eingabe!$E$6:$E$400))","v":7},"2025-02-11","2025-02-11",{"$f":"SUMPRODUCT((Eingabe!$C$6:$C$400<=$L14)*(Eingabe!$D$6:$D$400>$L14)*(Eingabe!$B$6:$B$400=M$3)*(Eingabe!$E$6:$E$400))","v":0},{"$f":"SUMPRODUCT((Eingabe!$C$6:$C$400<$L14)*(Eingabe!$D$6:$D$400>=$L14)*(Eingabe!$B$6:$B$400=M$3)*(Eingabe!$E$6:$E$400))","v":0},{"$f":"SUMPRODUCT((Eingabe!$C$6:$C$400<=$L14)*(Eingabe!$D$6:$D$400>$L14)*(Eingabe!$B$6:$B$400=O$3)*(Eingabe!$E$6:$E$400))","v":0},{"$f":"SUMPRODUCT((Eingabe!$C$6:$C$400<$L14)*(Eingabe!$D$6:$D$400>=$L14)*(Eingabe!$B$6:$B$400=O$3)*(Eingabe!$E$6:$E$400))","v":0},{"$f":"SUMPRODUCT((Eingabe!$C$6:$C$400<=$L14)*(Eingabe!$D$6:$D$400>$L14)*(Eingabe!$B$6:$B$400=Q$3)*(Eingabe!$E$6:$E$400))","v":0},{"$f":"SUMPRODUCT((Eingabe!$C$6:$C$400<$L14)*(Eingabe!$D$6:$D$400>=$L14)*(Eingabe!$B$6:$B$400=Q$3)*(Eingabe!$E$6:$E$400))","v":0},{"$f":"SUMPRODUCT((Eingabe!$C$6:$C$400<=$L14)*(Eingabe!$D$6:$D$400>$L14)*(Eingabe!$B$6:$B$400=S$3)*(Eingabe!$E$6:$E$400))","v":0},{"$f":"SUMPRODUCT((Eingabe!$C$6:$C$400<$L14)*(Eingabe!$D$6:$D$400>=$L14)*(Eingabe!$B$6:$B$400=S$3)*(Eingabe!$E$6:$E$400))","v":0},"2025-03-11","2025-03-11",{"$f":"SUMPRODUCT((Eingabe!$C$6:$C$400<=$V14)*(Eingabe!$D$6:$D$400>$V14)*(Eingabe!$B$6:$B$400=W$3)*(Eingabe!$E$6:$E$400))","v":0},{"$f":"SUMPRODUCT((Eingabe!$C$6:$C$400<$V14)*(Eingabe!$D$6:$D$400>=$V14)*(Eingabe!$B$6:$B$400=W$3)*(Eingabe!$E$6:$E$400))","v":0},{"$f":"SUMPRODUCT((Eingabe!$C$6:$C$400<=$V14)*(Eingabe!$D$6:$D$400>$V14)*(Eingabe!$B$6:$B$400=Y$3)*(Eingabe!$E$6:$E$400))","v":0},{"$f":"SUMPRODUCT((Eingabe!$C$6:$C$400<$V14)*(Eingabe!$D$6:$D$400>=$V14)*(Eingabe!$B$6:$B$400=Y$3)*(Eingabe!$E$6:$E$400))","v":0},{"$f":"SUMPRODUCT((Eingabe!$C$6:$C$400<=$V14)*(Eingabe!$D$6:$D$400>$V14)*(Eingabe!$B$6:$B$400=AA$3)*(Eingabe!$E$6:$E$400))","v":0},{"$f":"SUMPRODUCT((Eingabe!$C$6:$C$400<$V14)*(Eingabe!$D$6:$D$400>=$V14)*(Eingabe!$B$6:$B$400=AA$3)*(Eingabe!$E$6:$E$400))","v":0},{"$f":"SUMPRODUCT((Eingabe!$C$6:$C$400<=$V14)*(Eingabe!$D$6:$D$400>$V14)*(Eingabe!$B$6:$B$400=AC$3)*(Eingabe!$E$6:$E$400))","v":0},{"$f":"SUMPRODUCT((Eingabe!$C$6:$C$400<$V14)*(Eingabe!$D$6:$D$400>=$V14)*(Eingabe!$B$6:$B$400=AC$3)*(Eingabe!$E$6:$E$400))","v":0},"2025-04-11","2025-04-11",{"$f":"SUMPRODUCT((Eingabe!$C$6:$C$400<=$AF14)*(Eingabe!$D$6:$D$400>$AF14)*(Eingabe!$B$6:$B$400=AG$3)*(Eingabe!$E$6:$E$400))","v":0},{"$f":"SUMPRODUCT((Eingabe!$C$6:$C$400<$AF14)*(Eingabe!$D$6:$D$400>=$AF14)*(Eingabe!$B$6:$B$400=AG$3)*(Eingabe!$E$6:$E$400))","v":0},{"$f":"SUMPRODUCT((Eingabe!$C$6:$C$400<=$AF14)*(Eingabe!$D$6:$D$400>$AF14)*(Eingabe!$B$6:$B$400=AI$3)*(Eingabe!$E$6:$E$400))","v":6},{"$f":"SUMPRODUCT((Eingabe!$C$6:$C$400<$AF14)*(Eingabe!$D$6:$D$400>=$AF14)*(Eingabe!$B$6:$B$400=AI$3)*(Eingabe!$E$6:$E$400))","v":6},{"$f":"SUMPRODUCT((Eingabe!$C$6:$C$400<=$AF14)*(Eingabe!$D$6:$D$400>$AF14)*(Eingabe!$B$6:$B$400=AK$3)*(Eingabe!$E$6:$E$400))","v":0},{"$f":"SUMPRODUCT((Eingabe!$C$6:$C$400<$AF14)*(Eingabe!$D$6:$D$400>=$AF14)*(Eingabe!$B$6:$B$400=AK$3)*(Eingabe!$E$6:$E$400))","v":0},{"$f":"SUMPRODUCT((Eingabe!$C$6:$C$400<=$AF14)*(Eingabe!$D$6:$D$400>$AF14)*(Eingabe!$B$6:$B$400=AM$3)*(Eingabe!$E$6:$E$400))","v":0},{"$f":"SUMPRODUCT((Eingabe!$C$6:$C$400<$AF14)*(Eingabe!$D$6:$D$400>=$AF14)*(Eingabe!$B$6:$B$400=AM$3)*(Eingabe!$E$6:$E$400))","v":0},"2025-05-11","2025-05-11",{"$f":"SUMPRODUCT((Eingabe!$C$6:$C$400<=$AP14)*(Eingabe!$D$6:$D$400>$AP14)*(Eingabe!$B$6:$B$400=AQ$3)*(Eingabe!$E$6:$E$400))","v":0},{"$f":"SUMPRODUCT((Eingabe!$C$6:$C$400<$AP14)*(Eingabe!$D$6:$D$400>=$AP14)*(Eingabe!$B$6:$B$400=AQ$3)*(Eingabe!$E$6:$E$400))","v":0},{"$f":"SUMPRODUCT((Eingabe!$C$6:$C$400<=$AP14)*(Eingabe!$D$6:$D$400>$AP14)*(Eingabe!$B$6:$B$400=AS$3)*(Eingabe!$E$6:$E$400))","v":0},{"$f":"SUMPRODUCT((Eingabe!$C$6:$C$400<$AP14)*(Eingabe!$D$6:$D$400>=$AP14)*(Eingabe!$B$6:$B$400=AS$3)*(Eingabe!$E$6:$E$400))","v":0},{"$f":"SUMPRODUCT((Eingabe!$C$6:$C$400<=$AP14)*(Eingabe!$D$6:$D$400>$AP14)*(Eingabe!$B$6:$B$400=AU$3)*(Eingabe!$E$6:$E$400))","v":0},{"$f":"SUMPRODUCT((Eingabe!$C$6:$C$400<$AP14)*(Eingabe!$D$6:$D$400>=$AP14)*(Eingabe!$B$6:$B$400=AU$3)*(Eingabe!$E$6:$E$400))","v":0},{"$f":"SUMPRODUCT((Eingabe!$C$6:$C$400<=$AP14)*(Eingabe!$D$6:$D$400>$AP14)*(Eingabe!$B$6:$B$400=AW$3)*(Eingabe!$E$6:$E$400))","v":0},{"$f":"SUMPRODUCT((Eingabe!$C$6:$C$400<$AP14)*(Eingabe!$D$6:$D$400>=$AP14)*(Eingabe!$B$6:$B$400=AW$3)*(Eingabe!$E$6:$E$400))","v":0},"2025-06-11","2025-06-11",{"$f":"SUMPRODUCT((Eingabe!$C$6:$C$400<=$AZ14)*(Eingabe!$D$6:$D$400>$AZ14)*(Eingabe!$B$6:$B$400=BA$3)*(Eingabe!$E$6:$E$400))","v":0},{"$f":"SUMPRODUCT((Eingabe!$C$6:$C$400<$AZ14)*(Eingabe!$D$6:$D$400>=$AZ14)*(Eingabe!$B$6:$B$400=BA$3)*(Eingabe!$E$6:$E$400))","v":0},{"$f":"SUMPRODUCT((Eingabe!$C$6:$C$400<=$AZ14)*(Eingabe!$D$6:$D$400>$AZ14)*(Eingabe!$B$6:$B$400=BC$3)*(Eingabe!$E$6:$E$400))","v":0},{"$f":"SUMPRODUCT((Eingabe!$C$6:$C$400<$AZ14)*(Eingabe!$D$6:$D$400>=$AZ14)*(Eingabe!$B$6:$B$400=BC$3)*(Eingabe!$E$6:$E$400))","v":0},{"$f":"SUMPRODUCT((Eingabe!$C$6:$C$400<=$AZ14)*(Eingabe!$D$6:$D$400>$AZ14)*(Eingabe!$B$6:$B$400=BE$3)*(Eingabe!$E$6:$E$400))","v":0},{"$f":"SUMPRODUCT((Eingabe!$C$6:$C$400<$AZ14)*(Eingabe!$D$6:$D$400>=$AZ14)*(Eingabe!$B$6:$B$400=BE$3)*(Eingabe!$E$6:$E$400))","v":0},{"$f":"SUMPRODUCT((Eingabe!$C$6:$C$400<=$AZ14)*(Eingabe!$D$6:$D$400>$AZ14)*(Eingabe!$B$6:$B$400=BG$3)*(Eingabe!$E$6:$E$400))","v":0},{"$f":"SUMPRODUCT((Eingabe!$C$6:$C$400<$AZ14)*(Eingabe!$D$6:$D$400>=$AZ14)*(Eingabe!$B$6:$B$400=BG$3)*(Eingabe!$E$6:$E$400))","v":0},"2025-07-11","2025-07-11",{"$f":"SUMPRODUCT((Eingabe!$C$6:$C$400<=$BJ14)*(Eingabe!$D$6:$D$400>$BJ14)*(Eingabe!$B$6:$B$400=BK$3)*(Eingabe!$E$6:$E$400))","v":6},{"$f":"SUMPRODUCT((Eingabe!$C$6:$C$400<$BJ14)*(Eingabe!$D$6:$D$400>=$BJ14)*(Eingabe!$B$6:$B$400=BK$3)*(Eingabe!$E$6:$E$400))","v":6},{"$f":"SUMPRODUCT((Eingabe!$C$6:$C$400<=$BJ14)*(Eingabe!$D$6:$D$400>$BJ14)*(Eingabe!$B$6:$B$400=BM$3)*(Eingabe!$E$6:$E$400))","v":7},{"$f":"SUMPRODUCT((Eingabe!$C$6:$C$400<$BJ14)*(Eingabe!$D$6:$D$400>=$BJ14)*(Eingabe!$B$6:$B$400=BM$3)*(Eingabe!$E$6:$E$400))","v":7},{"$f":"SUMPRODUCT((Eingabe!$C$6:$C$400<=$BJ14)*(Eingabe!$D$6:$D$400>$BJ14)*(Eingabe!$B$6:$B$400=BO$3)*(Eingabe!$E$6:$E$400))","v":0},{"$f":"SUMPRODUCT((Eingabe!$C$6:$C$400<$BJ14)*(Eingabe!$D$6:$D$400>=$BJ14)*(Eingabe!$B$6:$B$400=BO$3)*(Eingabe!$E$6:$E$400))","v":0},{"$f":"SUMPRODUCT((Eingabe!$C$6:$C$400<=$BJ14)*(Eingabe!$D$6:$D$400>$BJ14)*(Eingabe!$B$6:$B$400=BQ$3)*(Eingabe!$E$6:$E$400))","v":0},{"$f":"SUMPRODUCT((Eingabe!$C$6:$C$400<$BJ14)*(Eingabe!$D$6:$D$400>=$BJ14)*(Eingabe!$B$6:$B$400=BQ$3)*(Eingabe!$E$6:$E$400))","v":0},"2025-08-11","2025-08-11",{"$f":"SUMPRODUCT((Eingabe!$C$6:$C$400<=$BT14)*(Eingabe!$D$6:$D$400>$BT14)*(Eingabe!$B$6:$B$400=BU$3)*(Eingabe!$E$6:$E$400))","v":0},{"$f":"SUMPRODUCT((Eingabe!$C$6:$C$400<$BT14)*(Eingabe!$D$6:$D$400>=$BT14)*(Eingabe!$B$6:$B$400=BU$3)*(Eingabe!$E$6:$E$400))","v":0},{"$f":"SUMPRODUCT((Eingabe!$C$6:$C$400<=$BT14)*(Eingabe!$D$6:$D$400>$BT14)*(Eingabe!$B$6:$B$400=BW$3)*(Eingabe!$E$6:$E$400))","v":0},{"$f":"SUMPRODUCT((Eingabe!$C$6:$C$400<$BT14)*(Eingabe!$D$6:$D$400>=$BT14)*(Eingabe!$B$6:$B$400=BW$3)*(Eingabe!$E$6:$E$400))","v":0},{"$f":"SUMPRODUCT((Eingabe!$C$6:$C$400<=$BT14)*(Eingabe!$D$6:$D$400>$BT14)*(Eingabe!$B$6:$B$400=BY$3)*(Eingabe!$E$6:$E$400))","v":0},{"$f":"SUMPRODUCT((Eingabe!$C$6:$C$400<$BT14)*(Eingabe!$D$6:$D$400>=$BT14)*(Eingabe!$B$6:$B$400=BY$3)*(Eingabe!$E$6:$E$400))","v":0},{"$f":"SUMPRODUCT((Eingabe!$C$6:$C$400<=$BT14)*(Eingabe!$D$6:$D$400>$BT14)*(Eingabe!$B$6:$B$400=CA$3)*(Eingabe!$E$6:$E$400))","v":0},{"$f":"SUMPRODUCT((Eingabe!$C$6:$C$400<$BT14)*(Eingabe!$D$6:$D$400>=$BT14)*(Eingabe!$B$6:$B$400=CA$3)*(Eingabe!$E$6:$E$400))","v":0},"2025-09-11","2025-09-11",{"$f":"SUMPRODUCT((Eingabe!$C$6:$C$400<=$CD14)*(Eingabe!$D$6:$D$400>$CD14)*(Eingabe!$B$6:$B$400=CE$3)*(Eingabe!$E$6:$E$400))","v":0},{"$f":"SUMPRODUCT((Eingabe!$C$6:$C$400<$CD14)*(Eingabe!$D$6:$D$400>=$CD14)*(Eingabe!$B$6:$B$400=CE$3)*(Eingabe!$E$6:$E$400))","v":0},{"$f":"SUMPRODUCT((Eingabe!$C$6:$C$400<=$CD14)*(Eingabe!$D$6:$D$400>$CD14)*(Eingabe!$B$6:$B$400=CG$3)*(Eingabe!$E$6:$E$400))","v":0},{"$f":"SUMPRODUCT((Eingabe!$C$6:$C$400<$CD14)*(Eingabe!$D$6:$D$400>=$CD14)*(Eingabe!$B$6:$B$400=CG$3)*(Eingabe!$E$6:$E$400))","v":0},{"$f":"SUMPRODUCT((Eingabe!$C$6:$C$400<=$CD14)*(Eingabe!$D$6:$D$400>$CD14)*(Eingabe!$B$6:$B$400=CI$3)*(Eingabe!$E$6:$E$400))","v":0},{"$f":"SUMPRODUCT((Eingabe!$C$6:$C$400<$CD14)*(Eingabe!$D$6:$D$400>=$CD14)*(Eingabe!$B$6:$B$400=CI$3)*(Eingabe!$E$6:$E$400))","v":0},{"$f":"SUMPRODUCT((Eingabe!$C$6:$C$400<=$CD14)*(Eingabe!$D$6:$D$400>$CD14)*(Eingabe!$B$6:$B$400=CK$3)*(Eingabe!$E$6:$E$400))","v":0},{"$f":"SUMPRODUCT((Eingabe!$C$6:$C$400<$CD14)*(Eingabe!$D$6:$D$400>=$CD14)*(Eingabe!$B$6:$B$400=CK$3)*(Eingabe!$E$6:$E$400))","v":0},"2025-10-11","2025-10-11",{"$f":"SUMPRODUCT((Eingabe!$C$6:$C$400<=$CN14)*(Eingabe!$D$6:$D$400>$CN14)*(Eingabe!$B$6:$B$400=CO$3)*(Eingabe!$E$6:$E$400))","v":7},{"$f":"SUMPRODUCT((Eingabe!$C$6:$C$400<$CN14)*(Eingabe!$D$6:$D$400>=$CN14)*(Eingabe!$B$6:$B$400=CO$3)*(Eingabe!$E$6:$E$400))","v":7},{"$f":"SUMPRODUCT((Eingabe!$C$6:$C$400<=$CN14)*(Eingabe!$D$6:$D$400>$CN14)*(Eingabe!$B$6:$B$400=CQ$3)*(Eingabe!$E$6:$E$400))","v":0},{"$f":"SUMPRODUCT((Eingabe!$C$6:$C$400<$CN14)*(Eingabe!$D$6:$D$400>=$CN14)*(Eingabe!$B$6:$B$400=CQ$3)*(Eingabe!$E$6:$E$400))","v":0},{"$f":"SUMPRODUCT((Eingabe!$C$6:$C$400<=$CN14)*(Eingabe!$D$6:$D$400>$CN14)*(Eingabe!$B$6:$B$400=CS$3)*(Eingabe!$E$6:$E$400))","v":0},{"$f":"SUMPRODUCT((Eingabe!$C$6:$C$400<$CN14)*(Eingabe!$D$6:$D$400>=$CN14)*(Eingabe!$B$6:$B$400=CS$3)*(Eingabe!$E$6:$E$400))","v":0},{"$f":"SUMPRODUCT((Eingabe!$C$6:$C$400<=$CN14)*(Eingabe!$D$6:$D$400>$CN14)*(Eingabe!$B$6:$B$400=CU$3)*(Eingabe!$E$6:$E$400))","v":0},{"$f":"SUMPRODUCT((Eingabe!$C$6:$C$400<$CN14)*(Eingabe!$D$6:$D$400>=$CN14)*(Eingabe!$B$6:$B$400=CU$3)*(Eingabe!$E$6:$E$400))","v":0},"2025-11-11","2025-11-11",{"$f":"SUMPRODUCT((Eingabe!$C$6:$C$400<=$CX14)*(Eingabe!$D$6:$D$400>$CX14)*(Eingabe!$B$6:$B$400=CY$3)*(Eingabe!$E$6:$E$400))","v":7},{"$f":"SUMPRODUCT((Eingabe!$C$6:$C$400<$CX14)*(Eingabe!$D$6:$D$400>=$CX14)*(Eingabe!$B$6:$B$400=CY$3)*(Eingabe!$E$6:$E$400))","v":7},{"$f":"SUMPRODUCT((Eingabe!$C$6:$C$400<=$CX14)*(Eingabe!$D$6:$D$400>$CX14)*(Eingabe!$B$6:$B$400=DA$3)*(Eingabe!$E$6:$E$400))","v":0},{"$f":"SUMPRODUCT((Eingabe!$C$6:$C$400<$CX14)*(Eingabe!$D$6:$D$400>=$CX14)*(Eingabe!$B$6:$B$400=DA$3)*(Eingabe!$E$6:$E$400))","v":0},{"$f":"SUMPRODUCT((Eingabe!$C$6:$C$400<=$CX14)*(Eingabe!$D$6:$D$400>$CX14)*(Eingabe!$B$6:$B$400=DC$3)*(Eingabe!$E$6:$E$400))","v":0},{"$f":"SUMPRODUCT((Eingabe!$C$6:$C$400<$CX14)*(Eingabe!$D$6:$D$400>=$CX14)*(Eingabe!$B$6:$B$400=DC$3)*(Eingabe!$E$6:$E$400))","v":0},{"$f":"SUMPRODUCT((Eingabe!$C$6:$C$400<=$CX14)*(Eingabe!$D$6:$D$400>$CX14)*(Eingabe!$B$6:$B$400=DE$3)*(Eingabe!$E$6:$E$400))","v":0},{"$f":"SUMPRODUCT((Eingabe!$C$6:$C$400<$CX14)*(Eingabe!$D$6:$D$400>=$CX14)*(Eingabe!$B$6:$B$400=DE$3)*(Eingabe!$E$6:$E$400))","v":0},"2025-12-11","2025-12-11",{"$f":"SUMPRODUCT((Eingabe!$C$6:$C$400<=$DH14)*(Eingabe!$D$6:$D$400>$DH14)*(Eingabe!$B$6:$B$400=DI$3)*(Eingabe!$E$6:$E$400))","v":7},{"$f":"SUMPRODUCT((Eingabe!$C$6:$C$400<$DH14)*(Eingabe!$D$6:$D$400>=$DH14)*(Eingabe!$B$6:$B$400=DI$3)*(Eingabe!$E$6:$E$400))","v":7},{"$f":"SUMPRODUCT((Eingabe!$C$6:$C$400<=$DH14)*(Eingabe!$D$6:$D$400>$DH14)*(Eingabe!$B$6:$B$400=DK$3)*(Eingabe!$E$6:$E$400))","v":0},{"$f":"SUMPRODUCT((Eingabe!$C$6:$C$400<$DH14)*(Eingabe!$D$6:$D$400>=$DH14)*(Eingabe!$B$6:$B$400=DK$3)*(Eingabe!$E$6:$E$400))","v":0},{"$f":"SUMPRODUCT((Eingabe!$C$6:$C$400<=$DH14)*(Eingabe!$D$6:$D$400>$DH14)*(Eingabe!$B$6:$B$400=DM$3)*(Eingabe!$E$6:$E$400))","v":0},{"$f":"SUMPRODUCT((Eingabe!$C$6:$C$400<$DH14)*(Eingabe!$D$6:$D$400>=$DH14)*(Eingabe!$B$6:$B$400=DM$3)*(Eingabe!$E$6:$E$400))","v":0},{"$f":"SUMPRODUCT((Eingabe!$C$6:$C$400<=$DH14)*(Eingabe!$D$6:$D$400>$DH14)*(Eingabe!$B$6:$B$400=DO$3)*(Eingabe!$E$6:$E$400))","v":0},{"$f":"SUMPRODUCT((Eingabe!$C$6:$C$400<$DH14)*(Eingabe!$D$6:$D$400>=$DH14)*(Eingabe!$B$6:$B$400=DO$3)*(Eingabe!$E$6:$E$400))","v":0},"2026-01-11","2026-01-11",{"$f":"SUMPRODUCT((Eingabe!$C$6:$C$400<=$B14)*(Eingabe!$D$6:$D$400>$B14)*(Eingabe!$B$6:$B$400=DS$3)*(Eingabe!$E$6:$E$400))","v":7},{"$f":"SUMPRODUCT((Eingabe!$C$6:$C$400<$B14)*(Eingabe!$D$6:$D$400>=$B14)*(Eingabe!$B$6:$B$400=DS$3)*(Eingabe!$E$6:$E$400))","v":7},{"$f":"SUMPRODUCT((Eingabe!$C$6:$C$400<=$B14)*(Eingabe!$D$6:$D$400>$B14)*(Eingabe!$B$6:$B$400=DU$3)*(Eingabe!$E$6:$E$400))","v":0},{"$f":"SUMPRODUCT((Eingabe!$C$6:$C$400<$B14)*(Eingabe!$D$6:$D$400>=$B14)*(Eingabe!$B$6:$B$400=DU$3)*(Eingabe!$E$6:$E$400))","v":0},{"$f":"SUMPRODUCT((Eingabe!$C$6:$C$400<=$B14)*(Eingabe!$D$6:$D$400>$B14)*(Eingabe!$B$6:$B$400=DW$3)*(Eingabe!$E$6:$E$400))","v":0},{"$f":"SUMPRODUCT((Eingabe!$C$6:$C$400<$B14)*(Eingabe!$D$6:$D$400>=$B14)*(Eingabe!$B$6:$B$400=DW$3)*(Eingabe!$E$6:$E$400))","v":0},{"$f":"SUMPRODUCT((Eingabe!$C$6:$C$400<=$B14)*(Eingabe!$D$6:$D$400>$B14)*(Eingabe!$B$6:$B$400=DY$3)*(Eingabe!$E$6:$E$400))","v":7},{"$f":"SUMPRODUCT((Eingabe!$C$6:$C$400<$B14)*(Eingabe!$D$6:$D$400>=$B14)*(Eingabe!$B$6:$B$400=DY$3)*(Eingabe!$E$6:$E$400))","v":7},"2026-02-11","2026-02-11",{"$f":"SUMPRODUCT((Eingabe!$C$6:$C$400<=$L14)*(Eingabe!$D$6:$D$400>$L14)*(Eingabe!$B$6:$B$400=EC$3)*(Eingabe!$E$6:$E$400))","v":0},{"$f":"SUMPRODUCT((Eingabe!$C$6:$C$400<$L14)*(Eingabe!$D$6:$D$400>=$L14)*(Eingabe!$B$6:$B$400=EC$3)*(Eingabe!$E$6:$E$400))","v":0},{"$f":"SUMPRODUCT((Eingabe!$C$6:$C$400<=$L14)*(Eingabe!$D$6:$D$400>$L14)*(Eingabe!$B$6:$B$400=EE$3)*(Eingabe!$E$6:$E$400))","v":0},{"$f":"SUMPRODUCT((Eingabe!$C$6:$C$400<$L14)*(Eingabe!$D$6:$D$400>=$L14)*(Eingabe!$B$6:$B$400=EE$3)*(Eingabe!$E$6:$E$400))","v":0},{"$f":"SUMPRODUCT((Eingabe!$C$6:$C$400<=$L14)*(Eingabe!$D$6:$D$400>$L14)*(Eingabe!$B$6:$B$400=EG$3)*(Eingabe!$E$6:$E$400))","v":0},{"$f":"SUMPRODUCT((Eingabe!$C$6:$C$400<$L14)*(Eingabe!$D$6:$D$400>=$L14)*(Eingabe!$B$6:$B$400=EG$3)*(Eingabe!$E$6:$E$400))","v":0},{"$f":"SUMPRODUCT((Eingabe!$C$6:$C$400<=$L14)*(Eingabe!$D$6:$D$400>$L14)*(Eingabe!$B$6:$B$400=EI$3)*(Eingabe!$E$6:$E$400))","v":0},{"$f":"SUMPRODUCT((Eingabe!$C$6:$C$400<$L14)*(Eingabe!$D$6:$D$400>=$L14)*(Eingabe!$B$6:$B$400=EI$3)*(Eingabe!$E$6:$E$400))","v":0},"2026-03-11","2026-03-11",{"$f":"SUMPRODUCT((Eingabe!$C$6:$C$400<=$V14)*(Eingabe!$D$6:$D$400>$V14)*(Eingabe!$B$6:$B$400=EM$3)*(Eingabe!$E$6:$E$400))","v":0},{"$f":"SUMPRODUCT((Eingabe!$C$6:$C$400<$V14)*(Eingabe!$D$6:$D$400>=$V14)*(Eingabe!$B$6:$B$400=EM$3)*(Eingabe!$E$6:$E$400))","v":0},{"$f":"SUMPRODUCT((Eingabe!$C$6:$C$400<=$V14)*(Eingabe!$D$6:$D$400>$V14)*(Eingabe!$B$6:$B$400=EO$3)*(Eingabe!$E$6:$E$400))","v":0},{"$f":"SUMPRODUCT((Eingabe!$C$6:$C$400<$V14)*(Eingabe!$D$6:$D$400>=$V14)*(Eingabe!$B$6:$B$400=EO$3)*(Eingabe!$E$6:$E$400))","v":0},{"$f":"SUMPRODUCT((Eingabe!$C$6:$C$400<=$V14)*(Eingabe!$D$6:$D$400>$V14)*(Eingabe!$B$6:$B$400=EQ$3)*(Eingabe!$E$6:$E$400))","v":0},{"$f":"SUMPRODUCT((Eingabe!$C$6:$C$400<$V14)*(Eingabe!$D$6:$D$400>=$V14)*(Eingabe!$B$6:$B$400=EQ$3)*(Eingabe!$E$6:$E$400))","v":0},{"$f":"SUMPRODUCT((Eingabe!$C$6:$C$400<=$V14)*(Eingabe!$D$6:$D$400>$V14)*(Eingabe!$B$6:$B$400=ES$3)*(Eingabe!$E$6:$E$400))","v":0},{"$f":"SUMPRODUCT((Eingabe!$C$6:$C$400<$V14)*(Eingabe!$D$6:$D$400>=$V14)*(Eingabe!$B$6:$B$400=ES$3)*(Eingabe!$E$6:$E$400))","v":0},"2026-04-11","2026-04-11",{"$f":"SUMPRODUCT((Eingabe!$C$6:$C$400<=$AF14)*(Eingabe!$D$6:$D$400>$AF14)*(Eingabe!$B$6:$B$400=EW$3)*(Eingabe!$E$6:$E$400))","v":0},{"$f":"SUMPRODUCT((Eingabe!$C$6:$C$400<$AF14)*(Eingabe!$D$6:$D$400>=$AF14)*(Eingabe!$B$6:$B$400=EW$3)*(Eingabe!$E$6:$E$400))","v":0},{"$f":"SUMPRODUCT((Eingabe!$C$6:$C$400<=$AF14)*(Eingabe!$D$6:$D$400>$AF14)*(Eingabe!$B$6:$B$400=EY$3)*(Eingabe!$E$6:$E$400))","v":6},{"$f":"SUMPRODUCT((Eingabe!$C$6:$C$400<$AF14)*(Eingabe!$D$6:$D$400>=$AF14)*(Eingabe!$B$6:$B$400=EY$3)*(Eingabe!$E$6:$E$400))","v":6},{"$f":"SUMPRODUCT((Eingabe!$C$6:$C$400<=$AF14)*(Eingabe!$D$6:$D$400>$AF14)*(Eingabe!$B$6:$B$400=FA$3)*(Eingabe!$E$6:$E$400))","v":0},{"$f":"SUMPRODUCT((Eingabe!$C$6:$C$400<$AF14)*(Eingabe!$D$6:$D$400>=$AF14)*(Eingabe!$B$6:$B$400=FA$3)*(Eingabe!$E$6:$E$400))","v":0},{"$f":"SUMPRODUCT((Eingabe!$C$6:$C$400<=$AF14)*(Eingabe!$D$6:$D$400>$AF14)*(Eingabe!$B$6:$B$400=FC$3)*(Eingabe!$E$6:$E$400))","v":0},{"$f":"SUMPRODUCT((Eingabe!$C$6:$C$400<$AF14)*(Eingabe!$D$6:$D$400>=$AF14)*(Eingabe!$B$6:$B$400=FC$3)*(Eingabe!$E$6:$E$400))","v":0},"2026-05-11","2026-05-11",{"$f":"SUMPRODUCT((Eingabe!$C$6:$C$400<=$AP14)*(Eingabe!$D$6:$D$400>$AP14)*(Eingabe!$B$6:$B$400=FG$3)*(Eingabe!$E$6:$E$400))","v":0},{"$f":"SUMPRODUCT((Eingabe!$C$6:$C$400<$AP14)*(Eingabe!$D$6:$D$400>=$AP14)*(Eingabe!$B$6:$B$400=FG$3)*(Eingabe!$E$6:$E$400))","v":0},{"$f":"SUMPRODUCT((Eingabe!$C$6:$C$400<=$AP14)*(Eingabe!$D$6:$D$400>$AP14)*(Eingabe!$B$6:$B$400=FI$3)*(Eingabe!$E$6:$E$400))","v":0},{"$f":"SUMPRODUCT((Eingabe!$C$6:$C$400<$AP14)*(Eingabe!$D$6:$D$400>=$AP14)*(Eingabe!$B$6:$B$400=FI$3)*(Eingabe!$E$6:$E$400))","v":0},{"$f":"SUMPRODUCT((Eingabe!$C$6:$C$400<=$AP14)*(Eingabe!$D$6:$D$400>$AP14)*(Eingabe!$B$6:$B$400=FK$3)*(Eingabe!$E$6:$E$400))","v":0},{"$f":"SUMPRODUCT((Eingabe!$C$6:$C$400<$AP14)*(Eingabe!$D$6:$D$400>=$AP14)*(Eingabe!$B$6:$B$400=FK$3)*(Eingabe!$E$6:$E$400))","v":0},{"$f":"SUMPRODUCT((Eingabe!$C$6:$C$400<=$AP14)*(Eingabe!$D$6:$D$400>$AP14)*(Eingabe!$B$6:$B$400=FM$3)*(Eingabe!$E$6:$E$400))","v":0},{"$f":"SUMPRODUCT((Eingabe!$C$6:$C$400<$AP14)*(Eingabe!$D$6:$D$400>=$AP14)*(Eingabe!$B$6:$B$400=FM$3)*(Eingabe!$E$6:$E$400))","v":0},"2026-06-11","2026-06-11",{"$f":"SUMPRODUCT((Eingabe!$C$6:$C$400<=$AZ14)*(Eingabe!$D$6:$D$400>$AZ14)*(Eingabe!$B$6:$B$400=FQ$3)*(Eingabe!$E$6:$E$400))","v":0},{"$f":"SUMPRODUCT((Eingabe!$C$6:$C$400<$AZ14)*(Eingabe!$D$6:$D$400>=$AZ14)*(Eingabe!$B$6:$B$400=FQ$3)*(Eingabe!$E$6:$E$400))","v":0},{"$f":"SUMPRODUCT((Eingabe!$C$6:$C$400<=$AZ14)*(Eingabe!$D$6:$D$400>$AZ14)*(Eingabe!$B$6:$B$400=FS$3)*(Eingabe!$E$6:$E$400))","v":0},{"$f":"SUMPRODUCT((Eingabe!$C$6:$C$400<$AZ14)*(Eingabe!$D$6:$D$400>=$AZ14)*(Eingabe!$B$6:$B$400=FS$3)*(Eingabe!$E$6:$E$400))","v":0},{"$f":"SUMPRODUCT((Eingabe!$C$6:$C$400<=$AZ14)*(Eingabe!$D$6:$D$400>$AZ14)*(Eingabe!$B$6:$B$400=FU$3)*(Eingabe!$E$6:$E$400))","v":0},{"$f":"SUMPRODUCT((Eingabe!$C$6:$C$400<$AZ14)*(Eingabe!$D$6:$D$400>=$AZ14)*(Eingabe!$B$6:$B$400=FU$3)*(Eingabe!$E$6:$E$400))","v":0},{"$f":"SUMPRODUCT((Eingabe!$C$6:$C$400<=$AZ14)*(Eingabe!$D$6:$D$400>$AZ14)*(Eingabe!$B$6:$B$400=FW$3)*(Eingabe!$E$6:$E$400))","v":0},{"$f":"SUMPRODUCT((Eingabe!$C$6:$C$400<$AZ14)*(Eingabe!$D$6:$D$400>=$AZ14)*(Eingabe!$B$6:$B$400=FW$3)*(Eingabe!$E$6:$E$400))","v":0},"2026-07-11","2026-07-11",{"$f":"SUMPRODUCT((Eingabe!$C$6:$C$400<=$BJ14)*(Eingabe!$D$6:$D$400>$BJ14)*(Eingabe!$B$6:$B$400=GA$3)*(Eingabe!$E$6:$E$400))","v":6},{"$f":"SUMPRODUCT((Eingabe!$C$6:$C$400<$BJ14)*(Eingabe!$D$6:$D$400>=$BJ14)*(Eingabe!$B$6:$B$400=GA$3)*(Eingabe!$E$6:$E$400))","v":6},{"$f":"SUMPRODUCT((Eingabe!$C$6:$C$400<=$BJ14)*(Eingabe!$D$6:$D$400>$BJ14)*(Eingabe!$B$6:$B$400=GC$3)*(Eingabe!$E$6:$E$400))","v":7},{"$f":"SUMPRODUCT((Eingabe!$C$6:$C$400<$BJ14)*(Eingabe!$D$6:$D$400>=$BJ14)*(Eingabe!$B$6:$B$400=GC$3)*(Eingabe!$E$6:$E$400))","v":7},{"$f":"SUMPRODUCT((Eingabe!$C$6:$C$400<=$BJ14)*(Eingabe!$D$6:$D$400>$BJ14)*(Eingabe!$B$6:$B$400=GE$3)*(Eingabe!$E$6:$E$400))","v":0},{"$f":"SUMPRODUCT((Eingabe!$C$6:$C$400<$BJ14)*(Eingabe!$D$6:$D$400>=$BJ14)*(Eingabe!$B$6:$B$400=GE$3)*(Eingabe!$E$6:$E$400))","v":0},{"$f":"SUMPRODUCT((Eingabe!$C$6:$C$400<=$BJ14)*(Eingabe!$D$6:$D$400>$BJ14)*(Eingabe!$B$6:$B$400=GG$3)*(Eingabe!$E$6:$E$400))","v":0},{"$f":"SUMPRODUCT((Eingabe!$C$6:$C$400<$BJ14)*(Eingabe!$D$6:$D$400>=$BJ14)*(Eingabe!$B$6:$B$400=GG$3)*(Eingabe!$E$6:$E$400))","v":0},"2026-08-11","2026-08-11",{"$f":"SUMPRODUCT((Eingabe!$C$6:$C$400<=$BT14)*(Eingabe!$D$6:$D$400>$BT14)*(Eingabe!$B$6:$B$400=GK$3)*(Eingabe!$E$6:$E$400))","v":0},{"$f":"SUMPRODUCT((Eingabe!$C$6:$C$400<$BT14)*(Eingabe!$D$6:$D$400>=$BT14)*(Eingabe!$B$6:$B$400=GK$3)*(Eingabe!$E$6:$E$400))","v":0},{"$f":"SUMPRODUCT((Eingabe!$C$6:$C$400<=$BT14)*(Eingabe!$D$6:$D$400>$BT14)*(Eingabe!$B$6:$B$400=GM$3)*(Eingabe!$E$6:$E$400))","v":0},{"$f":"SUMPRODUCT((Eingabe!$C$6:$C$400<$BT14)*(Eingabe!$D$6:$D$400>=$BT14)*(Eingabe!$B$6:$B$400=GM$3)*(Eingabe!$E$6:$E$400))","v":0},{"$f":"SUMPRODUCT((Eingabe!$C$6:$C$400<=$BT14)*(Eingabe!$D$6:$D$400>$BT14)*(Eingabe!$B$6:$B$400=GO$3)*(Eingabe!$E$6:$E$400))","v":0},{"$f":"SUMPRODUCT((Eingabe!$C$6:$C$400<$BT14)*(Eingabe!$D$6:$D$400>=$BT14)*(Eingabe!$B$6:$B$400=GO$3)*(Eingabe!$E$6:$E$400))","v":0},{"$f":"SUMPRODUCT((Eingabe!$C$6:$C$400<=$BT14)*(Eingabe!$D$6:$D$400>$BT14)*(Eingabe!$B$6:$B$400=GQ$3)*(Eingabe!$E$6:$E$400))","v":0},{"$f":"SUMPRODUCT((Eingabe!$C$6:$C$400<$BT14)*(Eingabe!$D$6:$D$400>=$BT14)*(Eingabe!$B$6:$B$400=GQ$3)*(Eingabe!$E$6:$E$400))","v":0},"2026-09-11","2026-09-11",{"$f":"SUMPRODUCT((Eingabe!$C$6:$C$400<=$CD14)*(Eingabe!$D$6:$D$400>$CD14)*(Eingabe!$B$6:$B$400=GU$3)*(Eingabe!$E$6:$E$400))","v":0},{"$f":"SUMPRODUCT((Eingabe!$C$6:$C$400<$CD14)*(Eingabe!$D$6:$D$400>=$CD14)*(Eingabe!$B$6:$B$400=GU$3)*(Eingabe!$E$6:$E$400))","v":0},{"$f":"SUMPRODUCT((Eingabe!$C$6:$C$400<=$CD14)*(Eingabe!$D$6:$D$400>$CD14)*(Eingabe!$B$6:$B$400=GW$3)*(Eingabe!$E$6:$E$400))","v":0},{"$f":"SUMPRODUCT((Eingabe!$C$6:$C$400<$CD14)*(Eingabe!$D$6:$D$400>=$CD14)*(Eingabe!$B$6:$B$400=GW$3)*(Eingabe!$E$6:$E$400))","v":0},{"$f":"SUMPRODUCT((Eingabe!$C$6:$C$400<=$CD14)*(Eingabe!$D$6:$D$400>$CD14)*(Eingabe!$B$6:$B$400=GY$3)*(Eingabe!$E$6:$E$400))","v":0},{"$f":"SUMPRODUCT((Eingabe!$C$6:$C$400<$CD14)*(Eingabe!$D$6:$D$400>=$CD14)*(Eingabe!$B$6:$B$400=GY$3)*(Eingabe!$E$6:$E$400))","v":0},{"$f":"SUMPRODUCT((Eingabe!$C$6:$C$400<=$CD14)*(Eingabe!$D$6:$D$400>$CD14)*(Eingabe!$B$6:$B$400=HA$3)*(Eingabe!$E$6:$E$400))","v":0},{"$f":"SUMPRODUCT((Eingabe!$C$6:$C$400<$CD14)*(Eingabe!$D$6:$D$400>=$CD14)*(Eingabe!$B$6:$B$400=HA$3)*(Eingabe!$E$6:$E$400))","v":0},"2026-10-11","2026-10-11",{"$f":"SUMPRODUCT((Eingabe!$C$6:$C$400<=$CN14)*(Eingabe!$D$6:$D$400>$CN14)*(Eingabe!$B$6:$B$400=HE$3)*(Eingabe!$E$6:$E$400))","v":7},{"$f":"SUMPRODUCT((Eingabe!$C$6:$C$400<$CN14)*(Eingabe!$D$6:$D$400>=$CN14)*(Eingabe!$B$6:$B$400=HE$3)*(Eingabe!$E$6:$E$400))","v":7},{"$f":"SUMPRODUCT((Eingabe!$C$6:$C$400<=$CN14)*(Eingabe!$D$6:$D$400>$CN14)*(Eingabe!$B$6:$B$400=HG$3)*(Eingabe!$E$6:$E$400))","v":0},{"$f":"SUMPRODUCT((Eingabe!$C$6:$C$400<$CN14)*(Eingabe!$D$6:$D$400>=$CN14)*(Eingabe!$B$6:$B$400=HG$3)*(Eingabe!$E$6:$E$400))","v":0},{"$f":"SUMPRODUCT((Eingabe!$C$6:$C$400<=$CN14)*(Eingabe!$D$6:$D$400>$CN14)*(Eingabe!$B$6:$B$400=HI$3)*(Eingabe!$E$6:$E$400))","v":0},{"$f":"SUMPRODUCT((Eingabe!$C$6:$C$400<$CN14)*(Eingabe!$D$6:$D$400>=$CN14)*(Eingabe!$B$6:$B$400=HI$3)*(Eingabe!$E$6:$E$400))","v":0},{"$f":"SUMPRODUCT((Eingabe!$C$6:$C$400<=$CN14)*(Eingabe!$D$6:$D$400>$CN14)*(Eingabe!$B$6:$B$400=HK$3)*(Eingabe!$E$6:$E$400))","v":0},{"$f":"SUMPRODUCT((Eingabe!$C$6:$C$400<$CN14)*(Eingabe!$D$6:$D$400>=$CN14)*(Eingabe!$B$6:$B$400=HK$3)*(Eingabe!$E$6:$E$400))","v":0},"2026-11-11","2026-11-11",{"$f":"SUMPRODUCT((Eingabe!$C$6:$C$400<=$CX14)*(Eingabe!$D$6:$D$400>$CX14)*(Eingabe!$B$6:$B$400=HO$3)*(Eingabe!$E$6:$E$400))","v":7},{"$f":"SUMPRODUCT((Eingabe!$C$6:$C$400<$CX14)*(Eingabe!$D$6:$D$400>=$CX14)*(Eingabe!$B$6:$B$400=HO$3)*(Eingabe!$E$6:$E$400))","v":7},{"$f":"SUMPRODUCT((Eingabe!$C$6:$C$400<=$CX14)*(Eingabe!$D$6:$D$400>$CX14)*(Eingabe!$B$6:$B$400=HQ$3)*(Eingabe!$E$6:$E$400))","v":0},{"$f":"SUMPRODUCT((Eingabe!$C$6:$C$400<$CX14)*(Eingabe!$D$6:$D$400>=$CX14)*(Eingabe!$B$6:$B$400=HQ$3)*(Eingabe!$E$6:$E$400))","v":0},{"$f":"SUMPRODUCT((Eingabe!$C$6:$C$400<=$CX14)*(Eingabe!$D$6:$D$400>$CX14)*(Eingabe!$B$6:$B$400=HS$3)*(Eingabe!$E$6:$E$400))","v":0},{"$f":"SUMPRODUCT((Eingabe!$C$6:$C$400<$CX14)*(Eingabe!$D$6:$D$400>=$CX14)*(Eingabe!$B$6:$B$400=HS$3)*(Eingabe!$E$6:$E$400))","v":0},{"$f":"SUMPRODUCT((Eingabe!$C$6:$C$400<=$CX14)*(Eingabe!$D$6:$D$400>$CX14)*(Eingabe!$B$6:$B$400=HU$3)*(Eingabe!$E$6:$E$400))","v":0},{"$f":"SUMPRODUCT((Eingabe!$C$6:$C$400<$CX14)*(Eingabe!$D$6:$D$400>=$CX14)*(Eingabe!$B$6:$B$400=HU$3)*(Eingabe!$E$6:$E$400))","v":0},"2026-12-11","2026-12-11",{"$f":"SUMPRODUCT((Eingabe!$C$6:$C$400<=$DH14)*(Eingabe!$D$6:$D$400>$DH14)*(Eingabe!$B$6:$B$400=HY$3)*(Eingabe!$E$6:$E$400))","v":7},{"$f":"SUMPRODUCT((Eingabe!$C$6:$C$400<$DH14)*(Eingabe!$D$6:$D$400>=$DH14)*(Eingabe!$B$6:$B$400=HY$3)*(Eingabe!$E$6:$E$400))","v":7},{"$f":"SUMPRODUCT((Eingabe!$C$6:$C$400<=$DH14)*(Eingabe!$D$6:$D$400>$DH14)*(Eingabe!$B$6:$B$400=IA$3)*(Eingabe!$E$6:$E$400))","v":0},{"$f":"SUMPRODUCT((Eingabe!$C$6:$C$400<$DH14)*(Eingabe!$D$6:$D$400>=$DH14)*(Eingabe!$B$6:$B$400=IA$3)*(Eingabe!$E$6:$E$400))","v":0},{"$f":"SUMPRODUCT((Eingabe!$C$6:$C$400<=$DH14)*(Eingabe!$D$6:$D$400>$DH14)*(Eingabe!$B$6:$B$400=IC$3)*(Eingabe!$E$6:$E$400))","v":0},{"$f":"SUMPRODUCT((Eingabe!$C$6:$C$400<$DH14)*(Eingabe!$D$6:$D$400>=$DH14)*(Eingabe!$B$6:$B$400=IC$3)*(Eingabe!$E$6:$E$400))","v":0},{"$f":"SUMPRODUCT((Eingabe!$C$6:$C$400<=$DH14)*(Eingabe!$D$6:$D$400>$DH14)*(Eingabe!$B$6:$B$400=IE$3)*(Eingabe!$E$6:$E$400))","v":0},{"$f":"SUMPRODUCT((Eingabe!$C$6:$C$400<$DH14)*(Eingabe!$D$6:$D$400>=$DH14)*(Eingabe!$B$6:$B$400=IE$3)*(Eingabe!$E$6:$E$400))","v":0}]
["2025-01-12","2025-01-12",{"$f":"SUMPRODUCT((Eingabe!$C$6:$C$400<=$B15)*(Eingabe!$D$6:$D$400>$B15)*(Eingabe!$B$6:$B$400=C$3)*(Eingabe!$E$6:$E$400))","v":7},{"$f":"SUMPRODUCT((Eingabe!$C$6:$C$400<$B15)*(Eingabe!$D$6:$D$400>=$B15)*(Eingabe!$B$6:$B$400=C$3)*(Eingabe!$E$6:$E$400))","v":7},{"$f":"SUMPRODUCT((Eingabe!$C$6:$C$400<=$B15)*(Eingabe!$D$6:$D$400>$B15)*(Eingabe!$B$6:$B$400=E$3)*(Eingabe!$E$6:$E$400))","v":0},{"$f":"SUMPRODUCT((Eingabe!$C$6:$C$400<$B15)*(Eingabe!$D$6:$D$400>=$B15)*(Eingabe!$B$6:$B$400=E$3)*(Eingabe!$E$6:$E$400))","v":0},{"$f":"SUMPRODUCT((Eingabe!$C$6:$C$400<=$B15)*(Eingabe!$D$6:$D$400>$B15)*(Eingabe!$B$6:$B$400=G$3)*(Eingabe!$E$6:$E$400))","v":0},{"$f":"SUMPRODUCT((Eingabe!$C$6:$C$400<$B15)*(Eingabe!$D$6:$D$400>=$B15)*(Eingabe!$B$6:$B$400=G$3)*(Eingabe!$E$6:$E$400))","v":0},{"$f":"SUMPRODUCT((Eingabe!$C$6:$C$400<=$B15)*(Eingabe!$D$6:$D$400>$B15)*(Eingabe!$B$6:$B$400=I$3)*(Eingabe!$E$6:$E$400))","v":7},{"$f":"SUMPRODUCT((Eingabe!$C$6:$C$400<$B15)*(Eingabe!$D$6:$D$400>=$B15)*(Eingabe!$B$6:$B$400=I$3)*(Eingabe!$E$6:$E$400))","v":7},"2025-02-12","2025-02-12",{"$f":"SUMPRODUCT((Eingabe!$C$6:$C$400<=$L15)*(Eingabe!$D$6:$D$400>$L15)*(Eingabe!$B$6:$B$400=M$3)*(Eingabe!$E$6:$E$400))","v":0},{"$f":"SUMPRODUCT((Eingabe!$C$6:$C$400<$L15)*(Eingabe!$D$6:$D$400>=$L15)*(Eingabe!$B$6:$B$400=M$3)*(Eingabe!$E$6:$E$400))","v":0},{"$f":"SUMPRODUCT((Eingabe!$C$6:$C$400<=$L15)*(Eingabe!$D$6:$D$400>$L15)*(Eingabe!$B$6:$B$400=O$3)*(Eingabe!$E$6:$E$400))","v":0},{"$f":"SUMPRODUCT((Eingabe!$C$6:$C$400<$L15)*(Eingabe!$D$6:$D$400>=$L15)*(Eingabe!$B$6:$B$400=O$3)*(Eingabe!$E$6:$E$400))","v":0},{"$f":"SUMPRODUCT((Eingabe!$C$6:$C$400<=$L15)*(Eingabe!$D$6:$D$400>$L15)*(Eingabe!$B$6:$B$400=Q$3)*(Eingabe!$E$6:$E$400))","v":0},{"$f":"SUMPRODUCT((Eingabe!$C$6:$C$400<$L15)*(Eingabe!$D$6:$D$400>=$L15)*(Eingabe!$B$6:$B$400=Q$3)*(Eingabe!$E$6:$E$400))","v":0},{"$f":"SUMPRODUCT((Eingabe!$C$6:$C$400<=$L15)*(Eingabe!$D$6:$D$400>$L15)*(Eingabe!$B$6:$B$400=S$3)*(Eingabe!$E$6:$E$400))","v":0},{"$f":"SUMPRODUCT((Eingabe!$C$6:$C$400<$L15)*(Eingabe!$D$6:$D$400>=$L15)*(Eingabe!$B$6:$B$400=S$3)*(Eingabe!$E$6:$E$400))","v":0},"2025-03-12","2025-03-12",{"$f":"SUMPRODUCT((Eingabe!$C$6:$C$400<=$V15)*(Eingabe!$D$6:$D$400>$V15)*(Eingabe!$B$6:$B$400=W$3)*(Eingabe!$E$6:$E$400))","v":0},{"$f":"SUMPRODUCT((Eingabe!$C$6:$C$400<$V15)*(Eingabe!$D$6:$D$400>=$V15)*(Eingabe!$B$6:$B$400=W$3)*(Eingabe!$E$6:$E$400))","v":0},{"$f":"SUMPRODUCT((Eingabe!$C$6:$C$400<=$V15)*(Eingabe!$D$6:$D$400>$V15)*(Eingabe!$B$6:$B$400=Y$3)*(Eingabe!$E$6:$E$400))","v":0},{"$f":"SUMPRODUCT((Eingabe!$C$6:$C$400<$V15)*(Eingabe!$D$6:$D$400>=$V15)*(Eingabe!$B$6:$B$400=Y$3)*(Eingabe!$E$6:$E$400))","v":0},{"$f":"SUMPRODUCT((Eingabe!$C$6:$C$400<=$V15)*(Eingabe!$D$6:$D$400>$V15)*(Eingabe!$B$6:$B$400=AA$3)*(Eingabe!$E$6:$E$400))","v":0},{"$f":"SUMPRODUCT((Eingabe!$C$6:$C$400<$V15)*(Eingabe!$D$6:$D$400>=$V15)*(Eingabe!$B$6:$B$400=AA$3)*(Eingabe!$E$6:$E$400))","v":0},{"$f":"SUMPRODUCT((Eingabe!$C$6:$C$400<=$V15)*(Eingabe!$D$6:$D$400>$V15)*(Eingabe!$B$6:$B$400=AC$3)*(Eingabe!$E$6:$E$400))","v":0},{"$f":"SUMPRODUCT((Eingabe!$C$6:$C$400<$V15)*(Eingabe!$D$6:$D$400>=$V15)*(Eingabe!$B$6:$B$400=AC$3)*(Eingabe!$E$6:$E$400))","v":0},"2025-04-12","2025-04-12",{"$f":"SUMPRODUCT((Eingabe!$C$6:$C$400<=$AF15)*(Eingabe!$D$6:$D$400>$AF15)*(Eingabe!$B$6:$B$400=AG$3)*(Eingabe!$E$6:$E$400))","v":0},{"$f":"SUMPRODUCT((Eingabe!$C$6:$C$400<$AF15)*(Eingabe!$D$6:$D$400>=$AF15)*(Eingabe!$B$6:$B$400=AG$3)*(Eingabe!$E$6:$E$400))","v":0},{"$f":"SUMPRODUCT((Eingabe!$C$6:$C$400<=$AF15)*(Eingabe!$D$6:$D$400>$AF15)*(Eingabe!$B$6:$B$400=AI$3)*(Eingabe!$E$6:$E$400))","v":6},{"$f":"SUMPRODUCT((Eingabe!$C$6:$C$400<$AF15)*(Eingabe!$D$6:$D$400>=$AF15)*(Eingabe!$B$6:$B$400=AI$3)*(Eingabe!$E$6:$E$400))","v":6},{"$f":"SUMPRODUCT((Eingabe!$C$6:$C$400<=$AF15)*(Eingabe!$D$6:$D$400>$AF15)*(Eingabe!$B$6:$B$400=AK$3)*(Eingabe!$E$6:$E$400))","v":7},{"$f":"SUMPRODUCT((Eingabe!$C$6:$C$400<$AF15)*(Eingabe!$D$6:$D$400>=$AF15)*(Eingabe!$B$6:$B$400=AK$3)*(Eingabe!$E$6:$E$400))","v":0},{"$f":"SUMPRODUCT((Eingabe!$C$6:$C$400<=$AF15)*(Eingabe!$D$6:$D$400>$AF15)*(Eingabe!$B$6:$B$400=AM$3)*(Eingabe!$E$6:$E$400))","v":0},{"$f":"SUMPRODUCT((Eingabe!$C$6:$C$400<$AF15)*(Eingabe!$D$6:$D$400>=$AF15)*(Eingabe!$B$6:$B$400=AM$3)*(Eingabe!$E$6:$E$400))","v":0},"2025-05-12","2025-05-12",{"$f":"SUMPRODUCT((Eingabe!$C$6:$C$400<=$AP15)*(Eingabe!$D$6:$D$400>$AP15)*(Eingabe!$B$6:$B$400=AQ$3)*(Eingabe!$E$6:$E$400))","v":0},{"$f":"SUMPRODUCT((Eingabe!$C$6:$C$400<$AP15)*(Eingabe!$D$6:$D$400>=$AP15)*(Eingabe!$B$6:$B$400=AQ$3)*(Eingabe!$E$6:$E$400))","v":0},{"$f":"SUMPRODUCT((Eingabe!$C$6:$C$400<=$AP15)*(Eingabe!$D$6:$D$400>$AP15)*(Eingabe!$B$6:$B$400=AS$3)*(Eingabe!$E$6:$E$400))","v":0},{"$f":"SUMPRODUCT((Eingabe!$C$6:$C$400<$AP15)*(Eingabe!$D$6:$D$400>=$AP15)*(Eingabe!$B$6:$B$400=AS$3)*(Eingabe!$E$6:$E$400))","v":0},{"$f":"SUMPRODUCT((Eingabe!$C$6:$C$400<=$AP15)*(Eingabe!$D$6:$D$400>$AP15)*(Eingabe!$B$6:$B$400=AU$3)*(Eingabe!$E$6:$E$400))","v":0},{"$f":"SUMPRODUCT((Eingabe!$C$6:$C$400<$AP15)*(Eingabe!$D$6:$D$400>=$AP15)*(Eingabe!$B$6:$B$400=AU$3)*(Eingabe!$E$6:$E$400))","v":0},{"$f":"SUMPRODUCT((Eingabe!$C$6:$C$400<=$AP15)*(Eingabe!$D$6:$D$400>$AP15)*(Eingabe!$B$6:$B$400=AW$3)*(Eingabe!$E$6:$E$400))","v":0},{"$f":"SUMPRODUCT((Eingabe!$C$6:$C$400<$AP15)*(Eingabe!$D$6:$D$400>=$AP15)*(Eingabe!$B$6:$B$400=AW$3)*(Eingabe!$E$6:$E$400))","v":0},"2025-06-12","2025-06-12",{"$f":"SUMPRODUCT((Eingabe!$C$6:$C$400<=$AZ15)*(Eingabe!$D$6:$D$400>$AZ15)*(Eingabe!$B$6:$B$400=BA$3)*(Eingabe!$E$6:$E$400))","v":0},{"$f":"SUMPRODUCT((Eingabe!$C$6:$C$400<$AZ15)*(Eingabe!$D$6:$D$400>=$AZ15)*(Eingabe!$B$6:$B$400=BA$3)*(Eingabe!$E$6:$E$400))","v":0},{"$f":"SUMPRODUCT((Eingabe!$C$6:$C$400<=$AZ15)*(Eingabe!$D$6:$D$400>$AZ15)*(Eingabe!$B$6:$B$400=BC$3)*(Eingabe!$E$6:$E$400))","v":0},{"$f":"SUMPRODUCT((Eingabe!$C$6:$C$400<$AZ15)*(Eingabe!$D$6:$D$400>=$AZ15)*(Eingabe!$B$6:$B$400=BC$3)*(Eingabe!$E$6:$E$400))","v":0},{"$f":"SUMPRODUCT((Eingabe!$C$6:$C$400<=$AZ15)*(Eingabe!$D$6:$D$400>$AZ15)*(Eingabe!$B$6:$B$400=BE$3)*(Eingabe!$E$6:$E$400))","v":0},{"$f":"SUMPRODUCT((Eingabe!$C$6:$C$400<$AZ15)*(Eingabe!$D$6:$D$400>=$AZ15)*(Eingabe!$B$6:$B$400=BE$3)*(Eingabe!$E$6:$E$400))","v":0},{"$f":"SUMPRODUCT((Eingabe!$C$6:$C$400<=$AZ15)*(Eingabe!$D$6:$D$400>$AZ15)*(Eingabe!$B$6:$B$400=BG$3)*(Eingabe!$E$6:$E$400))","v":0},{"$f":"SUMPRODUCT((Eingabe!$C$6:$C$400<$AZ15)*(Eingabe!$D$6:$D$400>=$AZ15)*(Eingabe!$B$6:$B$400=BG$3)*(Eingabe!$E$6:$E$400))","v":0},"2025-07-12","2025-07-12",{"$f":"SUMPRODUCT((Eingabe!$C$6:$C$400<=$BJ15)*(Eingabe!$D$6:$D$400>$BJ15)*(Eingabe!$B$6:$B$400=BK$3)*(Eingabe!$E$6:$E$400))","v":6},{"$f":"SUMPRODUCT((Eingabe!$C$6:$C$400<$BJ15)*(Eingabe!$D$6:$D$400>=$BJ15)*(Eingabe!$B$6:$B$400=BK$3)*(Eingabe!$E$6:$E$400))","v":6},{"$f":"SUMPRODUCT((Eingabe!$C$6:$C$400<=$BJ15)*(Eingabe!$D$6:$D$400>$BJ15)*(Eingabe!$B$6:$B$400=BM$3)*(Eingabe!$E$6:$E$400))","v":7},{"$f":"SUMPRODUCT((Eingabe!$C$6:$C$400<$BJ15)*(Eingabe!$D$6:$D$400>=$BJ15)*(Eingabe!$B$6:$B$400=BM$3)*(Eingabe!$E$6:$E$400))","v":7},{"$f":"SUMPRODUCT((Eingabe!$C$6:$C$400<=$BJ15)*(Eingabe!$D$6:$D$400>$BJ15)*(Eingabe!$B$6:$B$400=BO$3)*(Eingabe!$E$6:$E$400))","v":0},{"$f":"SUMPRODUCT((Eingabe!$C$6:$C$400<$BJ15)*(Eingabe!$D$6:$D$400>=$BJ15)*(Eingabe!$B$6:$B$400=BO$3)*(Eingabe!$E$6:$E$400))","v":0},{"$f":"SUMPRODUCT((Eingabe!$C$6:$C$400<=$BJ15)*(Eingabe!$D$6:$D$400>$BJ15)*(Eingabe!$B$6:$B$400=BQ$3)*(Eingabe!$E$6:$E$400))","v":0},{"$f":"SUMPRODUCT((Eingabe!$C$6:$C$400<$BJ15)*(Eingabe!$D$6:$D$400>=$BJ15)*(Eingabe!$B$6:$B$400=BQ$3)*(Eingabe!$E$6:$E$400))","v":0},"2025-08-12","2025-08-12",{"$f":"SUMPRODUCT((Eingabe!$C$6:$C$400<=$BT15)*(Eingabe!$D$6:$D$400>$BT15)*(Eingabe!$B$6:$B$400=BU$3)*(Eingabe!$E$6:$E$400))","v":0},{"$f":"SUMPRODUCT((Eingabe!$C$6:$C$400<$BT15)*(Eingabe!$D$6:$D$400>=$BT15)*(Eingabe!$B$6:$B$400=BU$3)*(Eingabe!$E$6:$E$400))","v":0},{"$f":"SUMPRODUCT((Eingabe!$C$6:$C$400<=$BT15)*(Eingabe!$D$6:$D$400>$BT15)*(Eingabe!$B$6:$B$400=BW$3)*(Eingabe!$E$6:$E$400))","v":0},{"$f":"SUMPRODUCT((Eingabe!$C$6:$C$400<$BT15)*(Eingabe!$D$6:$D$400>=$BT15)*(Eingabe!$B$6:$B$400=BW$3)*(Eingabe!$E$6:$E$400))","v":0},{"$f":"SUMPRODUCT((Eingabe!$C$6:$C$400<=$BT15)*(Eingabe!$D$6:$D$400>$BT15)*(Eingabe!$B$6:$B$400=BY$3)*(Eingabe!$E$6:$E$400))","v":0},{"$f":"SUMPRODUCT((Eingabe!$C$6:$C$400<$BT15)*(Eingabe!$D$6:$D$400>=$BT15)*(Eingabe!$B$6:$B$400=BY$3)*(Eingabe!$E$6:$E$400))","v":0},{"$f":"SUMPRODUCT((Eingabe!$C$6:$C$400<=$BT15)*(Eingabe!$D$6:$D$400>$BT15)*(Eingabe!$B$6:$B$400=CA$3)*(Eingabe!$E$6:$E$400))","v":0},{"$f":"SUMPRODUCT((Eingabe!$C$6:$C$400<$BT15)*(Eingabe!$D$6:$D$400>=$BT15)*(Eingabe!$B$6:$B$400=CA$3)*(Eingabe!$E$6:$E$400))","v":0},"2025-09-12","2025-09-12",{"$f":"SUMPRODUCT((Eingabe!$C$6:$C$400<=$CD15)*(Eingabe!$D$6:$D$400>$CD15)*(Eingabe!$B$6:$B$400=CE$3)*(Eingabe!$E$6:$E$400))","v":0},{"$f":"SUMPRODUCT((Eingabe!$C$6:$C$400<$CD15)*(Eingabe!$D$6:$D$400>=$CD15)*(Eingabe!$B$6:$B$400=CE$3)*(Eingabe!$E$6:$E$400))","v":0},{"$f":"SUMPRODUCT((Eingabe!$C$6:$C$400<=$CD15)*(Eingabe!$D$6:$D$400>$CD15)*(Eingabe!$B$6:$B$400=CG$3)*(Eingabe!$E$6:$E$400))","v":0},{"$f":"SUMPRODUCT((Eingabe!$C$6:$C$400<$CD15)*(Eingabe!$D$6:$D$400>=$CD15)*(Eingabe!$B$6:$B$400=CG$3)*(Eingabe!$E$6:$E$400))","v":0},{"$f":"SUMPRODUCT((Eingabe!$C$6:$C$400<=$CD15)*(Eingabe!$D$6:$D$400>$CD15)*(Eingabe!$B$6:$B$400=CI$3)*(Eingabe!$E$6:$E$400))","v":0},{"$f":"SUMPRODUCT((Eingabe!$C$6:$C$400<$CD15)*(Eingabe!$D$6:$D$400>=$CD15)*(Eingabe!$B$6:$B$400=CI$3)*(Eingabe!$E$6:$E$400))","v":0},{"$f":"SUMPRODUCT((Eingabe!$C$6:$C$400<=$CD15)*(Eingabe!$D$6:$D$400>$CD15)*(Eingabe!$B$6:$B$400=CK$3)*(Eingabe!$E$6:$E$400))","v":0},{"$f":"SUMPRODUCT((Eingabe!$C$6:$C$400<$CD15)*(Eingabe!$D$6:$D$400>=$CD15)*(Eingabe!$B$6:$B$400=CK$3)*(Eingabe!$E$6:$E$400))","v":0},"2025-10-12","2025-10-12",{"$f":"SUMPRODUCT((Eingabe!$C$6:$C$400<=$CN15)*(Eingabe!$D$6:$D$400>$CN15)*(Eingabe!$B$6:$B$400=CO$3)*(Eingabe!$E$6:$E$400))","v":7},{"$f":"SUMPRODUCT((Eingabe!$C$6:$C$400<$CN15)*(Eingabe!$D$6:$D$400>=$CN15)*(Eingabe!$B$6:$B$400=CO$3)*(Eingabe!$E$6:$E$400))","v":7},{"$f":"SUMPRODUCT((Eingabe!$C$6:$C$400<=$CN15)*(Eingabe!$D$6:$D$400>$CN15)*(Eingabe!$B$6:$B$400=CQ$3)*(Eingabe!$E$6:$E$400))","v":0},{"$f":"SUMPRODUCT((Eingabe!$C$6:$C$400<$CN15)*(Eingabe!$D$6:$D$400>=$CN15)*(Eingabe!$B$6:$B$400=CQ$3)*(Eingabe!$E$6:$E$400))","v":0},{"$f":"SUMPRODUCT((Eingabe!$C$6:$C$400<=$CN15)*(Eingabe!$D$6:$D$400>$CN15)*(Eingabe!$B$6:$B$400=CS$3)*(Eingabe!$E$6:$E$400))","v":0},{"$f":"SUMPRODUCT((Eingabe!$C$6:$C$400<$CN15)*(Eingabe!$D$6:$D$400>=$CN15)*(Eingabe!$B$6:$B$400=CS$3)*(Eingabe!$E$6:$E$400))","v":0},{"$f":"SUMPRODUCT((Eingabe!$C$6:$C$400<=$CN15)*(Eingabe!$D$6:$D$400>$CN15)*(Eingabe!$B$6:$B$400=CU$3)*(Eingabe!$E$6:$E$400))","v":0},{"$f":"SUMPRODUCT((Eingabe!$C$6:$C$400<$CN15)*(Eingabe!$D$6:$D$400>=$CN15)*(Eingabe!$B$6:$B$400=CU$3)*(Eingabe!$E$6:$E$400))","v":0},"2025-11-12","2025-11-12",{"$f":"SUMPRODUCT((Eingabe!$C$6:$C$400<=$CX15)*(Eingabe!$D$6:$D$400>$CX15)*(Eingabe!$B$6:$B$400=CY$3)*(Eingabe!$E$6:$E$400))","v":7},{"$f":"SUMPRODUCT((Eingabe!$C$6:$C$400<$CX15)*(Eingabe!$D$6:$D$400>=$CX15)*(Eingabe!$B$6:$B$400=CY$3)*(Eingabe!$E$6:$E$400))","v":7},{"$f":"SUMPRODUCT((Eingabe!$C$6:$C$400<=$CX15)*(Eingabe!$D$6:$D$400>$CX15)*(Eingabe!$B$6:$B$400=DA$3)*(Eingabe!$E$6:$E$400))","v":0},{"$f":"SUMPRODUCT((Eingabe!$C$6:$C$400<$CX15)*(Eingabe!$D$6:$D$400>=$CX15)*(Eingabe!$B$6:$B$400=DA$3)*(Eingabe!$E$6:$E$400))","v":0},{"$f":"SUMPRODUCT((Eingabe!$C$6:$C$400<=$CX15)*(Eingabe!$D$6:$D$400>$CX15)*(Eingabe!$B$6:$B$400=DC$3)*(Eingabe!$E$6:$E$400))","v":0},{"$f":"SUMPRODUCT((Eingabe!$C$6:$C$400<$CX15)*(Eingabe!$D$6:$D$400>=$CX15)*(Eingabe!$B$6:$B$400=DC$3)*(Eingabe!$E$6:$E$400))","v":0},{"$f":"SUMPRODUCT((Eingabe!$C$6:$C$400<=$CX15)*(Eingabe!$D$6:$D$400>$CX15)*(Eingabe!$B$6:$B$400=DE$3)*(Eingabe!$E$6:$E$400))","v":0},{"$f":"SUMPRODUCT((Eingabe!$C$6:$C$400<$CX15)*(Eingabe!$D$6:$D$400>=$CX15)*(Eingabe!$B$6:$B$400=DE$3)*(Eingabe!$E$6:$E$400))","v":0},"2025-12-12","2025-12-12",{"$f":"SUMPRODUCT((Eingabe!$C$6:$C$400<=$DH15)*(Eingabe!$D$6:$D$400>$DH15)*(Eingabe!$B$6:$B$400=DI$3)*(Eingabe!$E$6:$E$400))","v":7},{"$f":"SUMPRODUCT((Eingabe!$C$6:$C$400<$DH15)*(Eingabe!$D$6:$D$400>=$DH15)*(Eingabe!$B$6:$B$400=DI$3)*(Eingabe!$E$6:$E$400))","v":7},{"$f":"SUMPRODUCT((Eingabe!$C$6:$C$400<=$DH15)*(Eingabe!$D$6:$D$400>$DH15)*(Eingabe!$B$6:$B$400=DK$3)*(Eingabe!$E$6:$E$400))","v":0},{"$f":"SUMPRODUCT((Eingabe!$C$6:$C$400<$DH15)*(Eingabe!$D$6:$D$400>=$DH15)*(Eingabe!$B$6:$B$400=DK$3)*(Eingabe!$E$6:$E$400))","v":0},{"$f":"SUMPRODUCT((Eingabe!$C$6:$C$400<=$DH15)*(Eingabe!$D$6:$D$400>$DH15)*(Eingabe!$B$6:$B$400=DM$3)*(Eingabe!$E$6:$E$400))","v":0},{"$f":"SUMPRODUCT((Eingabe!$C$6:$C$400<$DH15)*(Eingabe!$D$6:$D$400>=$DH15)*(Eingabe!$B$6:$B$400=DM$3)*(Eingabe!$E$6:$E$400))","v":0},{"$f":"SUMPRODUCT((Eingabe!$C$6:$C$400<=$DH15)*(Eingabe!$D$6:$D$400>$DH15)*(Eingabe!$B$6:$B$400=DO$3)*(Eingabe!$E$6:$E$400))","v":0},{"$f":"SUMPRODUCT((Eingabe!$C$6:$C$400<$DH15)*(Eingabe!$D$6:$D$400>=$DH15)*(Eingabe!$B$6:$B$400=DO$3)*(Eingabe!$E$6:$E$400))","v":0},"2026-01-12","2026-01-12",{"$f":"SUMPRODUCT((Eingabe!$C$6:$C$400<=$B15)*(Eingabe!$D$6:$D$400>$B15)*(Eingabe!$B$6:$B$400=DS$3)*(Eingabe!$E$6:$E$400))","v":7},{"$f":"SUMPRODUCT((Eingabe!$C$6:$C$400<$B15)*(Eingabe!$D$6:$D$400>=$B15)*(Eingabe!$B$6:$B$400=DS$3)*(Eingabe!$E$6:$E$400))","v":7},{"$f":"SUMPRODUCT((Eingabe!$C$6:$C$400<=$B15)*(Eingabe!$D$6:$D$400>$B15)*(Eingabe!$B$6:$B$400=DU$3)*(Eingabe!$E$6:$E$400))","v":0},{"$f":"SUMPRODUCT((Eingabe!$C$6:$C$400<$B15)*(Eingabe!$D$6:$D$400>=$B15)*(Eingabe!$B$6:$B$400=DU$3)*(Eingabe!$E$6:$E$400))","v":0},{"$f":"SUMPRODUCT((Eingabe!$C$6:$C$400<=$B15)*(Eingabe!$D$6:$D$400>$B15)*(Eingabe!$B$6:$B$400=DW$3)*(Eingabe!$E$6:$E$400))","v":0},{"$f":"SUMPRODUCT((Eingabe!$C$6:$C$400<$B15)*(Eingabe!$D$6:$D$400>=$B15)*(Eingabe!$B$6:$B$400=DW$3)*(Eingabe!$E$6:$E$400))","v":0},{"$f":"SUMPRODUCT((Eingabe!$C$6:$C$400<=$B15)*(Eingabe!$D$6:$D$400>$B15)*(Eingabe!$B$6:$B$400=DY$3)*(Eingabe!$E$6:$E$400))","v":7},{"$f":"SUMPRODUCT((Eingabe!$C$6:$C$400<$B15)*(Eingabe!$D$6:$D$400>=$B15)*(Eingabe!$B$6:$B$400=DY$3)*(Eingabe!$E$6:$E$400))","v":7},"2026-02-12","2026-02-12",{"$f":"SUMPRODUCT((Eingabe!$C$6:$C$400<=$L15)*(Eingabe!$D$6:$D$400>$L15)*(Eingabe!$B$6:$B$400=EC$3)*(Eingabe!$E$6:$E$400))","v":0},{"$f":"SUMPRODUCT((Eingabe!$C$6:$C$400<$L15)*(Eingabe!$D$6:$D$400>=$L15)*(Eingabe!$B$6:$B$400=EC$3)*(Eingabe!$E$6:$E$400))","v":0},{"$f":"SUMPRODUCT((Eingabe!$C$6:$C$400<=$L15)*(Eingabe!$D$6:$D$400>$L15)*(Eingabe!$B$6:$B$400=EE$3)*(Eingabe!$E$6:$E$400))","v":0},{"$f":"SUMPRODUCT((Eingabe!$C$6:$C$400<$L15)*(Eingabe!$D$6:$D$400>=$L15)*(Eingabe!$B$6:$B$400=EE$3)*(Eingabe!$E$6:$E$400))","v":0},{"$f":"SUMPRODUCT((Eingabe!$C$6:$C$400<=$L15)*(Eingabe!$D$6:$D$400>$L15)*(Eingabe!$B$6:$B$400=EG$3)*(Eingabe!$E$6:$E$400))","v":0},{"$f":"SUMPRODUCT((Eingabe!$C$6:$C$400<$L15)*(Eingabe!$D$6:$D$400>=$L15)*(Eingabe!$B$6:$B$400=EG$3)*(Eingabe!$E$6:$E$400))","v":0},{"$f":"SUMPRODUCT((Eingabe!$C$6:$C$400<=$L15)*(Eingabe!$D$6:$D$400>$L15)*(Eingabe!$B$6:$B$400=EI$3)*(Eingabe!$E$6:$E$400))","v":0},{"$f":"SUMPRODUCT((Eingabe!$C$6:$C$400<$L15)*(Eingabe!$D$6:$D$400>=$L15)*(Eingabe!$B$6:$B$400=EI$3)*(Eingabe!$E$6:$E$400))","v":0},"2026-03-12","2026-03-12",{"$f":"SUMPRODUCT((Eingabe!$C$6:$C$400<=$V15)*(Eingabe!$D$6:$D$400>$V15)*(Eingabe!$B$6:$B$400=EM$3)*(Eingabe!$E$6:$E$400))","v":0},{"$f":"SUMPRODUCT((Eingabe!$C$6:$C$400<$V15)*(Eingabe!$D$6:$D$400>=$V15)*(Eingabe!$B$6:$B$400=EM$3)*(Eingabe!$E$6:$E$400))","v":0},{"$f":"SUMPRODUCT((Eingabe!$C$6:$C$400<=$V15)*(Eingabe!$D$6:$D$400>$V15)*(Eingabe!$B$6:$B$400=EO$3)*(Eingabe!$E$6:$E$400))","v":0},{"$f":"SUMPRODUCT((Eingabe!$C$6:$C$400<$V15)*(Eingabe!$D$6:$D$400>=$V15)*(Eingabe!$B$6:$B$400=EO$3)*(Eingabe!$E$6:$E$400))","v":0},{"$f":"SUMPRODUCT((Eingabe!$C$6:$C$400<=$V15)*(Eingabe!$D$6:$D$400>$V15)*(Eingabe!$B$6:$B$400=EQ$3)*(Eingabe!$E$6:$E$400))","v":0},{"$f":"SUMPRODUCT((Eingabe!$C$6:$C$400<$V15)*(Eingabe!$D$6:$D$400>=$V15)*(Eingabe!$B$6:$B$400=EQ$3)*(Eingabe!$E$6:$E$400))","v":0},{"$f":"SUMPRODUCT((Eingabe!$C$6:$C$400<=$V15)*(Eingabe!$D$6:$D$400>$V15)*(Eingabe!$B$6:$B$400=ES$3)*(Eingabe!$E$6:$E$400))","v":0},{"$f":"SUMPRODUCT((Eingabe!$C$6:$C$400<$V15)*(Eingabe!$D$6:$D$400>=$V15)*(Eingabe!$B$6:$B$400=ES$3)*(Eingabe!$E$6:$E$400))","v":0},"2026-04-12","2026-04-12",{"$f":"SUMPRODUCT((Eingabe!$C$6:$C$400<=$AF15)*(Eingabe!$D$6:$D$400>$AF15)*(Eingabe!$B$6:$B$400=EW$3)*(Eingabe!$E$6:$E$400))","v":0},{"$f":"SUMPRODUCT((Eingabe!$C$6:$C$400<$AF15)*(Eingabe!$D$6:$D$400>=$AF15)*(Eingabe!$B$6:$B$400=EW$3)*(Eingabe!$E$6:$E$400))","v":0},{"$f":"SUMPRODUCT((Eingabe!$C$6:$C$400<=$AF15)*(Eingabe!$D$6:$D$400>$AF15)*(Eingabe!$B$6:$B$400=EY$3)*(Eingabe!$E$6:$E$400))","v":6},{"$f":"SUMPRODUCT((Eingabe!$C$6:$C$400<$AF15)*(Eingabe!$D$6:$D$400>=$AF15)*(Eingabe!$B$6:$B$400=EY$3)*(Eingabe!$E$6:$E$400))","v":6},{"$f":"SUMPRODUCT((Eingabe!$C$6:$C$400<=$AF15)*(Eingabe!$D$6:$D$400>$AF15)*(Eingabe!$B$6:$B$400=FA$3)*(Eingabe!$E$6:$E$400))","v":7},{"$f":"SUMPRODUCT((Eingabe!$C$6:$C$400<$AF15)*(Eingabe!$D$6:$D$400>=$AF15)*(Eingabe!$B$6:$B$400=FA$3)*(Eingabe!$E$6:$E$400))","v":0},{"$f":"SUMPRODUCT((Eingabe!$C$6:$C$400<=$AF15)*(Eingabe!$D$6:$D$400>$AF15)*(Eingabe!$B$6:$B$400=FC$3)*(Eingabe!$E$6:$E$400))","v":0},{"$f":"SUMPRODUCT((Eingabe!$C$6:$C$400<$AF15)*(Eingabe!$D$6:$D$400>=$AF15)*(Eingabe!$B$6:$B$400=FC$3)*(Eingabe!$E$6:$E$400))","v":0},"2026-05-12","2026-05-12",{"$f":"SUMPRODUCT((Eingabe!$C$6:$C$400<=$AP15)*(Eingabe!$D$6:$D$400>$AP15)*(Eingabe!$B$6:$B$400=FG$3)*(Eingabe!$E$6:$E$400))","v":0},{"$f":"SUMPRODUCT((Eingabe!$C$6:$C$400<$AP15)*(Eingabe!$D$6:$D$400>=$AP15)*(Eingabe!$B$6:$B$400=FG$3)*(Eingabe!$E$6:$E$400))","v":0},{"$f":"SUMPRODUCT((Eingabe!$C$6:$C$400<=$AP15)*(Eingabe!$D$6:$D$400>$AP15)*(Eingabe!$B$6:$B$400=FI$3)*(Eingabe!$E$6:$E$400))","v":0},{"$f":"SUMPRODUCT((Eingabe!$C$6:$C$400<$AP15)*(Eingabe!$D$6:$D$400>=$AP15)*(Eingabe!$B$6:$B$400=FI$3)*(Eingabe!$E$6:$E$400))","v":0},{"$f":"SUMPRODUCT((Eingabe!$C$6:$C$400<=$AP15)*(Eingabe!$D$6:$D$400>$AP15)*(Eingabe!$B$6:$B$400=FK$3)*(Eingabe!$E$6:$E$400))","v":0},{"$f":"SUMPRODUCT((Eingabe!$C$6:$C$400<$AP15)*(Eingabe!$D$6:$D$400>=$AP15)*(Eingabe!$B$6:$B$400=FK$3)*(Eingabe!$E$6:$E$400))","v":0},{"$f":"SUMPRODUCT((Eingabe!$C$6:$C$400<=$AP15)*(Eingabe!$D$6:$D$400>$AP15)*(Eingabe!$B$6:$B$400=FM$3)*(Eingabe!$E$6:$E$400))","v":0},{"$f":"SUMPRODUCT((Eingabe!$C$6:$C$400<$AP15)*(Eingabe!$D$6:$D$400>=$AP15)*(Eingabe!$B$6:$B$400=FM$3)*(Eingabe!$E$6:$E$400))","v":0},"2026-06-12","2026-06-12",{"$f":"SUMPRODUCT((Eingabe!$C$6:$C$400<=$AZ15)*(Eingabe!$D$6:$D$400>$AZ15)*(Eingabe!$B$6:$B$400=FQ$3)*(Eingabe!$E$6:$E$400))","v":0},{"$f":"SUMPRODUCT((Eingabe!$C$6:$C$400<$AZ15)*(Eingabe!$D$6:$D$400>=$AZ15)*(Eingabe!$B$6:$B$400=FQ$3)*(Eingabe!$E$6:$E$400))","v":0},{"$f":"SUMPRODUCT((Eingabe!$C$6:$C$400<=$AZ15)*(Eingabe!$D$6:$D$400>$AZ15)*(Eingabe!$B$6:$B$400=FS$3)*(Eingabe!$E$6:$E$400))","v":0},{"$f":"SUMPRODUCT((Eingabe!$C$6:$C$400<$AZ15)*(Eingabe!$D$6:$D$400>=$AZ15)*(Eingabe!$B$6:$B$400=FS$3)*(Eingabe!$E$6:$E$400))","v":0},{"$f":"SUMPRODUCT((Eingabe!$C$6:$C$400<=$AZ15)*(Eingabe!$D$6:$D$400>$AZ15)*(Eingabe!$B$6:$B$400=FU$3)*(Eingabe!$E$6:$E$400))","v":0},{"$f":"SUMPRODUCT((Eingabe!$C$6:$C$400<$AZ15)*(Eingabe!$D$6:$D$400>=$AZ15)*(Eingabe!$B$6:$B$400=FU$3)*(Eingabe!$E$6:$E$400))","v":0},{"$f":"SUMPRODUCT((Eingabe!$C$6:$C$400<=$AZ15)*(Eingabe!$D$6:$D$400>$AZ15)*(Eingabe!$B$6:$B$400=FW$3)*(Eingabe!$E$6:$E$400))","v":0},{"$f":"SUMPRODUCT((Eingabe!$C$6:$C$400<$AZ15)*(Eingabe!$D$6:$D$400>=$AZ15)*(Eingabe!$B$6:$B$400=FW$3)*(Eingabe!$E$6:$E$400))","v":0},"2026-07-12","2026-07-12",{"$f":"SUMPRODUCT((Eingabe!$C$6:$C$400<=$BJ15)*(Eingabe!$D$6:$D$400>$BJ15)*(Eingabe!$B$6:$B$400=GA$3)*(Eingabe!$E$6:$E$400))","v":6},{"$f":"SUMPRODUCT((Eingabe!$C$6:$C$400<$BJ15)*(Eingabe!$D$6:$D$400>=$BJ15)*(Eingabe!$B$6:$B$400=GA$3)*(Eingabe!$E$6:$E$400))","v":6},{"$f":"SUMPRODUCT((Eingabe!$C$6:$C$400<=$BJ15)*(Eingabe!$D$6:$D$400>$BJ15)*(Eingabe!$B$6:$B$400=GC$3)*(Eingabe!$E$6:$E$400))","v":7},{"$f":"SUMPRODUCT((Eingabe!$C$6:$C$400<$BJ15)*(Eingabe!$D$6:$D$400>=$BJ15)*(Eingabe!$B$6:$B$400=GC$3)*(Eingabe!$E$6:$E$400))","v":7},{"$f":"SUMPRODUCT((Eingabe!$C$6:$C$400<=$BJ15)*(Eingabe!$D$6:$D$400>$BJ15)*(Eingabe!$B$6:$B$400=GE$3)*(Eingabe!$E$6:$E$400))","v":0},{"$f":"SUMPRODUCT((Eingabe!$C$6:$C$400<$BJ15)*(Eingabe!$D$6:$D$400>=$BJ15)*(Eingabe!$B$6:$B$400=GE$3)*(Eingabe!$E$6:$E$400))","v":0},{"$f":"SUMPRODUCT((Eingabe!$C$6:$C$400<=$BJ15)*(Eingabe!$D$6:$D$400>$BJ15)*(Eingabe!$B$6:$B$400=GG$3)*(Eingabe!$E$6:$E$400))","v":0},{"$f":"SUMPRODUCT((Eingabe!$C$6:$C$400<$BJ15)*(Eingabe!$D$6:$D$400>=$BJ15)*(Eingabe!$B$6:$B$400=GG$3)*(Eingabe!$E$6:$E$400))","v":0},"2026-08-12","2026-08-12",{"$f":"SUMPRODUCT((Eingabe!$C$6:$C$400<=$BT15)*(Eingabe!$D$6:$D$400>$BT15)*(Eingabe!$B$6:$B$400=GK$3)*(Eingabe!$E$6:$E$400))","v":0},{"$f":"SUMPRODUCT((Eingabe!$C$6:$C$400<$BT15)*(Eingabe!$D$6:$D$400>=$BT15)*(Eingabe!$B$6:$B$400=GK$3)*(Eingabe!$E$6:$E$400))","v":0},{"$f":"SUMPRODUCT((Eingabe!$C$6:$C$400<=$BT15)*(Eingabe!$D$6:$D$400>$BT15)*(Eingabe!$B$6:$B$400=GM$3)*(Eingabe!$E$6:$E$400))","v":0},{"$f":"SUMPRODUCT((Eingabe!$C$6:$C$400<$BT15)*(Eingabe!$D$6:$D$400>=$BT15)*(Eingabe!$B$6:$B$400=GM$3)*(Eingabe!$E$6:$E$400))","v":0},{"$f":"SUMPRODUCT((Eingabe!$C$6:$C$400<=$BT15)*(Eingabe!$D$6:$D$400>$BT15)*(Eingabe!$B$6:$B$400=GO$3)*(Eingabe!$E$6:$E$400))","v":0},{"$f":"SUMPRODUCT((Eingabe!$C$6:$C$400<$BT15)*(Eingabe!$D$6:$D$400>=$BT15)*(Eingabe!$B$6:$B$400=GO$3)*(Eingabe!$E$6:$E$400))","v":0},{"$f":"SUMPRODUCT((Eingabe!$C$6:$C$400<=$BT15)*(Eingabe!$D$6:$D$400>$BT15)*(Eingabe!$B$6:$B$400=GQ$3)*(Eingabe!$E$6:$E$400))","v":0},{"$f":"SUMPRODUCT((Eingabe!$C$6:$C$400<$BT15)*(Eingabe!$D$6:$D$400>=$BT15)*(Eingabe!$B$6:$B$400=GQ$3)*(Eingabe!$E$6:$E$400))","v":0},"2026-09-12","2026-09-12",{"$f":"SUMPRODUCT((Eingabe!$C$6:$C$400<=$CD15)*(Eingabe!$D$6:$D$400>$CD15)*(Eingabe!$B$6:$B$400=GU$3)*(Eingabe!$E$6:$E$400))","v":0},{"$f":"SUMPRODUCT((Eingabe!$C$6:$C$400<$CD15)*(Eingabe!$D$6:$D$400>=$CD15)*(Eingabe!$B$6:$B$400=GU$3)*(Eingabe!$E$6:$E$400))","v":0},{"$f":"SUMPRODUCT((Eingabe!$C$6:$C$400<=$CD15)*(Eingabe!$D$6:$D$400>$CD15)*(Eingabe!$B$6:$B$400=GW$3)*(Eingabe!$E$6:$E$400))","v":0},{"$f":"SUMPRODUCT((Eingabe!$C$6:$C$400<$CD15)*(Eingabe!$D$6:$D$400>=$CD15)*(Eingabe!$B$6:$B$400=GW$3)*(Eingabe!$E$6:$E$400))","v":0},{"$f":"SUMPRODUCT((Eingabe!$C$6:$C$400<=$CD15)*(Eingabe!$D$6:$D$400>$CD15)*(Eingabe!$B$6:$B$400=GY$3)*(Eingabe!$E$6:$E$400))","v":0},{"$f":"SUMPRODUCT((Eingabe!$C$6:$C$400<$CD15)*(Eingabe!$D$6:$D$400>=$CD15)*(Eingabe!$B$6:$B$400=GY$3)*(Eingabe!$E$6:$E$400))","v":0},{"$f":"SUMPRODUCT((Eingabe!$C$6:$C$400<=$CD15)*(Eingabe!$D$6:$D$400>$CD15)*(Eingabe!$B$6:$B$400=HA$3)*(Eingabe!$E$6:$E$400))","v":0},{"$f":"SUMPRODUCT((Eingabe!$C$6:$C$400<$CD15)*(Eingabe!$D$6:$D$400>=$CD15)*(Eingabe!$B$6:$B$400=HA$3)*(Eingabe!$E$6:$E$400))","v":0},"2026-10-12","2026-10-12",{"$f":"SUMPRODUCT((Eingabe!$C$6:$C$400<=$CN15)*(Eingabe!$D$6:$D$400>$CN15)*(Eingabe!$B$6:$B$400=HE$3)*(Eingabe!$E$6:$E$400))","v":7},{"$f":"SUMPRODUCT((Eingabe!$C$6:$C$400<$CN15)*(Eingabe!$D$6:$D$400>=$CN15)*(Eingabe!$B$6:$B$400=HE$3)*(Eingabe!$E$6:$E$400))","v":7},{"$f":"SUMPRODUCT((Eingabe!$C$6:$C$400<=$CN15)*(Eingabe!$D$6:$D$400>$CN15)*(Eingabe!$B$6:$B$400=HG$3)*(Eingabe!$E$6:$E$400))","v":0},{"$f":"SUMPRODUCT((Eingabe!$C$6:$C$400<$CN15)*(Eingabe!$D$6:$D$400>=$CN15)*(Eingabe!$B$6:$B$400=HG$3)*(Eingabe!$E$6:$E$400))","v":0},{"$f":"SUMPRODUCT((Eingabe!$C$6:$C$400<=$CN15)*(Eingabe!$D$6:$D$400>$CN15)*(Eingabe!$B$6:$B$400=HI$3)*(Eingabe!$E$6:$E$400))","v":0},{"$f":"SUMPRODUCT((Eingabe!$C$6:$C$400<$CN15)*(Eingabe!$D$6:$D$400>=$CN15)*(Eingabe!$B$6:$B$400=HI$3)*(Eingabe!$E$6:$E$400))","v":0},{"$f":"SUMPRODUCT((Eingabe!$C$6:$C$400<=$CN15)*(Eingabe!$D$6:$D$400>$CN15)*(Eingabe!$B$6:$B$400=HK$3)*(Eingabe!$E$6:$E$400))","v":0},{"$f":"SUMPRODUCT((Eingabe!$C$6:$C$400<$CN15)*(Eingabe!$D$6:$D$400>=$CN15)*(Eingabe!$B$6:$B$400=HK$3)*(Eingabe!$E$6:$E$400))","v":0},"2026-11-12","2026-11-12",{"$f":"SUMPRODUCT((Eingabe!$C$6:$C$400<=$CX15)*(Eingabe!$D$6:$D$400>$CX15)*(Eingabe!$B$6:$B$400=HO$3)*(Eingabe!$E$6:$E$400))","v":7},{"$f":"SUMPRODUCT((Eingabe!$C$6:$C$400<$CX15)*(Eingabe!$D$6:$D$400>=$CX15)*(Eingabe!$B$6:$B$400=HO$3)*(Eingabe!$E$6:$E$400))","v":7},{"$f":"SUMPRODUCT((Eingabe!$C$6:$C$400<=$CX15)*(Eingabe!$D$6:$D$400>$CX15)*(Eingabe!$B$6:$B$400=HQ$3)*(Eingabe!$E$6:$E$400))","v":0},{"$f":"SUMPRODUCT((Eingabe!$C$6:$C$400<$CX15)*(Eingabe!$D$6:$D$400>=$CX15)*(Eingabe!$B$6:$B$400=HQ$3)*(Eingabe!$E$6:$E$400))","v":0},{"$f":"SUMPRODUCT((Eingabe!$C$6:$C$400<=$CX15)*(Eingabe!$D$6:$D$400>$CX15)*(Eingabe!$B$6:$B$400=HS$3)*(Eingabe!$E$6:$E$400))","v":0},{"$f":"SUMPRODUCT((Eingabe!$C$6:$C$400<$CX15)*(Eingabe!$D$6:$D$400>=$CX15)*(Eingabe!$B$6:$B$400=HS$3)*(Eingabe!$E$6:$E$400))","v":0},{"$f":"SUMPRODUCT((Eingabe!$C$6:$C$400<=$CX15)*(Eingabe!$D$6:$D$400>$CX15)*(Eingabe!$B$6:$B$400=HU$3)*(Eingabe!$E$6:$E$400))","v":0},{"$f":"SUMPRODUCT((Eingabe!$C$6:$C$400<$CX15)*(Eingabe!$D$6:$D$400>=$CX15)*(Eingabe!$B$6:$B$400=HU$3)*(Eingabe!$E$6:$E$400))","v":0},"2026-12-12","2026-12-12",{"$f":"SUMPRODUCT((Eingabe!$C$6:$C$400<=$DH15)*(Eingabe!$D$6:$D$400>$DH15)*(Eingabe!$B$6:$B$400=HY$3)*(Eingabe!$E$6:$E$400))","v":7},{"$f":"SUMPRODUCT((Eingabe!$C$6:$C$400<$DH15)*(Eingabe!$D$6:$D$400>=$DH15)*(Eingabe!$B$6:$B$400=HY$3)*(Eingabe!$E$6:$E$400))","v":7},{"$f":"SUMPRODUCT((Eingabe!$C$6:$C$400<=$DH15)*(Eingabe!$D$6:$D$400>$DH15)*(Eingabe!$B$6:$B$400=IA$3)*(Eingabe!$E$6:$E$400))","v":0},{"$f":"SUMPRODUCT((Eingabe!$C$6:$C$400<$DH15)*(Eingabe!$D$6:$D$400>=$DH15)*(Eingabe!$B$6:$B$400=IA$3)*(Eingabe!$E$6:$E$400))","v":0},{"$f":"SUMPRODUCT((Eingabe!$C$6:$C$400<=$DH15)*(Eingabe!$D$6:$D$400>$DH15)*(Eingabe!$B$6:$B$400=IC$3)*(Eingabe!$E$6:$E$400))","v":0},{"$f":"SUMPRODUCT((Eingabe!$C$6:$C$400<$DH15)*(Eingabe!$D$6:$D$400>=$DH15)*(Eingabe!$B$6:$B$400=IC$3)*(Eingabe!$E$6:$E$400))","v":0},{"$f":"SUMPRODUCT((Eingabe!$C$6:$C$400<=$DH15)*(Eingabe!$D$6:$D$400>$DH15)*(Eingabe!$B$6:$B$400=IE$3)*(Eingabe!$E$6:$E$400))","v":0},{"$f":"SUMPRODUCT((Eingabe!$C$6:$C$400<$DH15)*(Eingabe!$D$6:$D$400>=$DH15)*(Eingabe!$B$6:$B$400=IE$3)*(Eingabe!$E$6:$E$400))","v":0}]
["2025-01-13","2025-01-13",{"$f":"SUMPRODUCT((Eingabe!$C$6:$C$400<=$B16)*(Eingabe!$D$6:$D$400>$B16)*(Eingabe!$B$6:$B$400=C$3)*(Eingabe!$E$6:$E$400))","v":7},{"$f":"SUMPRODUCT((Eingabe!$C$6:$C$400<$B16)*(Eingabe!$D$6:$D$400>=$B16)*(Eingabe!$B$6:$B$400=C$3)*(Eingabe!$E$6:$E$400))","v":7},{"$f":"SUMPRODUCT((Eingabe!$C$6:$C$400<=$B16)*(Eingabe!$D$6:$D$400>$B16)*(Eingabe!$B$6:$B$400=E$3)*(Eingabe!$E$6:$E$400))","v":0},{"$f":"SUMPRODUCT((Eingabe!$C$6:$C$400<$B16)*(Eingabe!$D$6:$D$400>=$B16)*(Eingabe!$B$6:$B$400=E$3)*(Eingabe!$E$6:$E$400))","v":0},{"$f":"SUMPRODUCT((Eingabe!$C$6:$C$400<=$B16)*(Eingabe!$D$6:$D$400>$B16)*(Eingabe!$B$6:$B$400=G$3)*(Eingabe!$E$6:$E$400))","v":0},{"$f":"SUMPRODUCT((Eingabe!$C$6:$C$400<$B16)*(Eingabe!$D$6:$D$400>=$B16)*(Eingabe!$B$6:$B$400=G$3)*(Eingabe!$E$6:$E$400))","v":0},{"$f":"SUMPRODUCT((Eingabe!$C$6:$C$400<=$B16)*(Eingabe!$D$6:$D$400>$B16)*(Eingabe!$B$6:$B$400=I$3)*(Eingabe!$E$6:$E$400))","v":7},{"$f":"SUMPRODUCT((Eingabe!$C$6:$C$400<$B16)*(Eingabe!$D$6:$D$400>=$B16)*(Eingabe!$B$6:$B$400=I$3)*(Eingabe!$E$6:$E$400))","v":7},"2025-02-13","2025-02-13",{"$f":"SUMPRODUCT((Eingabe!$C$6:$C$400<=$L16)*(Eingabe!$D$6:$D$400>$L16)*(Eingabe!$B$6:$B$400=M$3)*(Eingabe!$E$6:$E$400))","v":0},{"$f":"SUMPRODUCT((Eingabe!$C$6:$C$400<$L16)*(Eingabe!$D$6:$D$400>=$L16)*(Eingabe!$B$6:$B$400=M$3)*(Eingabe!$E$6:$E$400))","v":0},{"$f":"SUMPRODUCT((Eingabe!$C$6:$C$400<=$L16)*(Eingabe!$D$6:$D$400>$L16)*(Eingabe!$B$6:$B$400=O$3)*(Eingabe!$E$6:$E$400))","v":0},{"$f":"SUMPRODUCT((Eingabe!$C$6:$C$400<$L16)*(Eingabe!$D$6:$D$400>=$L16)*(Eingabe!$B$6:$B$400=O$3)*(Eingabe!$E$6:$E$400))","v":0},{"$f":"SUMPRODUCT((Eingabe!$C$6:$C$400<=$L16)*(Eingabe!$D$6:$D$400>$L16)*(Eingabe!$B$6:$B$400=Q$3)*(Eingabe!$E$6:$E$400))","v":0},{"$f":"SUMPRODUCT((Eingabe!$C$6:$C$400<$L16)*(Eingabe!$D$6:$D$400>=$L16)*(Eingabe!$B$6:$B$400=Q$3)*(Eingabe!$E$6:$E$400))","v":0},{"$f":"SUMPRODUCT((Eingabe!$C$6:$C$400<=$L16)*(Eingabe!$D$6:$D$400>$L16)*(Eingabe!$B$6:$B$400=S$3)*(Eingabe!$E$6:$E$400))","v":0},{"$f":"SUMPRODUCT((Eingabe!$C$6:$C$400<$L16)*(Eingabe!$D$6:$D$400>=$L16)*(Eingabe!$B$6:$B$400=S$3)*(Eingabe!$E$6:$E$400))","v":0},"2025-03-13","2025-03-13",{"$f":"SUMPRODUCT((Eingabe!$C$6:$C$400<=$V16)*(Eingabe!$D$6:$D$400>$V16)*(Eingabe!$B$6:$B$400=W$3)*(Eingabe!$E$6:$E$400))","v":0},{"$f":"SUMPRODUCT((Eingabe!$C$6:$C$400<$V16)*(Eingabe!$D$6:$D$400>=$V16)*(Eingabe!$B$6:$B$400=W$3)*(Eingabe!$E$6:$E$400))","v":0},{"$f":"SUMPRODUCT((Eingabe!$C$6:$C$400<=$V16)*(Eingabe!$D$6:$D$400>$V16)*(Eingabe!$B$6:$B$400=Y$3)*(Eingabe!$E$6:$E$400))","v":0},{"$f":"SUMPRODUCT((Eingabe!$C$6:$C$400<$V16)*(Eingabe!$D$6:$D$400>=$V16)*(Eingabe!$B$6:$B$400=Y$3)*(Eingabe!$E$6:$E$400))","v":0},{"$f":"SUMPRODUCT((Eingabe!$C$6:$C$400<=$V16)*(Eingabe!$D$6:$D$400>$V16)*(Eingabe!$B$6:$B$400=AA$3)*(Eingabe!$E$6:$E$400))","v":0},{"$f":"SUMPRODUCT((Eingabe!$C$6:$C$400<$V16)*(Eingabe!$D$6:$D$400>=$V16)*(Eingabe!$B$6:$B$400=AA$3)*(Eingabe!$E$6:$E$400))","v":0},{"$f":"SUMPRODUCT((Eingabe!$C$6:$C$400<=$V16)*(Eingabe!$D$6:$D$400>$V16)*(Eingabe!$B$6:$B$400=AC$3)*(Eingabe!$E$6:$E$400))","v":0},{"$f":"SUMPRODUCT((Eingabe!$C$6:$C$400<$V16)*(Eingabe!$D$6:$D$400>=$V16)*(Eingabe!$B$6:$B$400=AC$3)*(Eingabe!$E$6:$E$400))","v":0},"2025-04-13","2025-04-13",{"$f":"SUMPRODUCT((Eingabe!$C$6:$C$400<=$AF16)*(Eingabe!$D$6:$D$400>$AF16)*(Eingabe!$B$6:$B$400=AG$3)*(Eingabe!$E$6:$E$400))","v":0},{"$f":"SUMPRODUCT((Eingabe!$C$6:$C$400<$AF16)*(Eingabe!$D$6:$D$400>=$AF16)*(Eingabe!$B$6:$B$400=AG$3)*(Eingabe!$E$6:$E$400))","v":0},{"$f":"SUMPRODUCT((Eingabe!$C$6:$C$400<=$AF16)*(Eingabe!$D$6:$D$400>$AF16)*(Eingabe!$B$6:$B$400=AI$3)*(Eingabe!$E$6:$E$400))","v":6},{"$f":"SUMPRODUCT((Eingabe!$C$6:$C$400<$AF16)*(Eingabe!$D$6:$D$400>=$AF16)*(Eingabe!$B$6:$B$400=AI$3)*(Eingabe!$E$6:$E$400))","v":6},{"$f":"SUMPRODUCT((Eingabe!$C$6:$C$400<=$AF16)*(Eingabe!$D$6:$D$400>$AF16)*(Eingabe!$B$6:$B$400=AK$3)*(Eingabe!$E$6:$E$400))","v":7},{"$f":"SUMPRODUCT((Eingabe!$C$6:$C$400<$AF16)*(Eingabe!$D$6:$D$400>=$AF16)*(Eingabe!$B$6:$B$400=AK$3)*(Eingabe!$E$6:$E$400))","v":7},{"$f":"SUMPRODUCT((Eingabe!$C$6:$C$400<=$AF16)*(Eingabe!$D$6:$D$400>$AF16)*(Eingabe!$B$6:$B$400=AM$3)*(Eingabe!$E$6:$E$400))","v":0},{"$f":"SUMPRODUCT((Eingabe!$C$6:$C$400<$AF16)*(Eingabe!$D$6:$D$400>=$AF16)*(Eingabe!$B$6:$B$400=AM$3)*(Eingabe!$E$6:$E$400))","v":0},"2025-05-13","2025-05-13",{"$f":"SUMPRODUCT((Eingabe!$C$6:$C$400<=$AP16)*(Eingabe!$D$6:$D$400>$AP16)*(Eingabe!$B$6:$B$400=AQ$3)*(Eingabe!$E$6:$E$400))","v":0},{"$f":"SUMPRODUCT((Eingabe!$C$6:$C$400<$AP16)*(Eingabe!$D$6:$D$400>=$AP16)*(Eingabe!$B$6:$B$400=AQ$3)*(Eingabe!$E$6:$E$400))","v":0},{"$f":"SUMPRODUCT((Eingabe!$C$6:$C$400<=$AP16)*(Eingabe!$D$6:$D$400>$AP16)*(Eingabe!$B$6:$B$400=AS$3)*(Eingabe!$E$6:$E$400))","v":0},{"$f":"SUMPRODUCT((Eingabe!$C$6:$C$400<$AP16)*(Eingabe!$D$6:$D$400>=$AP16)*(Eingabe!$B$6:$B$400=AS$3)*(Eingabe!$E$6:$E$400))","v":0},{"$f":"SUMPRODUCT((Eingabe!$C$6:$C$400<=$AP16)*(Eingabe!$D$6:$D$400>$AP16)*(Eingabe!$B$6:$B$400=AU$3)*(Eingabe!$E$6:$E$400))","v":0},{"$f":"SUMPRODUCT((Eingabe!$C$6:$C$400<$AP16)*(Eingabe!$D$6:$D$400>=$AP16)*(Eingabe!$B$6:$B$400=AU$3)*(Eingabe!$E$6:$E$400))","v":0},{"$f":"SUMPRODUCT((Eingabe!$C$6:$C$400<=$AP16)*(Eingabe!$D$6:$D$400>$AP16)*(Eingabe!$B$6:$B$400=AW$3)*(Eingabe!$E$6:$E$400))","v":0},{"$f":"SUMPRODUCT((Eingabe!$C$6:$C$400<$AP16)*(Eingabe!$D$6:$D$400>=$AP16)*(Eingabe!$B$6:$B$400=AW$3)*(Eingabe!$E$6:$E$400))","v":0},"2025-06-13","2025-06-13",{"$f":"SUMPRODUCT((Eingabe!$C$6:$C$400<=$AZ16)*(Eingabe!$D$6:$D$400>$AZ16)*(Eingabe!$B$6:$B$400=BA$3)*(Eingabe!$E$6:$E$400))","v":0},{"$f":"SUMPRODUCT((Eingabe!$C$6:$C$400<$AZ16)*(Eingabe!$D$6:$D$400>=$AZ16)*(Eingabe!$B$6:$B$400=BA$3)*(Eingabe!$E$6:$E$400))","v":0},{"$f":"SUMPRODUCT((Eingabe!$C$6:$C$400<=$AZ16)*(Eingabe!$D$6:$D$400>$AZ16)*(Eingabe!$B$6:$B$400=BC$3)*(Eingabe!$E$6:$E$400))","v":0},{"$f":"SUMPRODUCT((Eingabe!$C$6:$C$400<$AZ16)*(Eingabe!$D$6:$D$400>=$AZ16)*(Eingabe!$B$6:$B$400=BC$3)*(Eingabe!$E$6:$E$400))","v":0},{"$f":"SUMPRODUCT((Eingabe!$C$6:$C$400<=$AZ16)*(Eingabe!$D$6:$D$400>$AZ16)*(Eingabe!$B$6:$B$400=BE$3)*(Eingabe!$E$6:$E$400))","v":0},{"$f":"SUMPRODUCT((Eingabe!$C$6:$C$400<$AZ16)*(Eingabe!$D$6:$D$400>=$AZ16)*(Eingabe!$B$6:$B$400=BE$3)*(Eingabe!$E$6:$E$400))","v":0},{"$f":"SUMPRODUCT((Eingabe!$C$6:$C$400<=$AZ16)*(Eingabe!$D$6:$D$400>$AZ16)*(Eingabe!$B$6:$B$400=BG$3)*(Eingabe!$E$6:$E$400))","v":0},{"$f":"SUMPRODUCT((Eingabe!$C$6:$C$400<$AZ16)*(Eingabe!$D$6:$D$400>=$AZ16)*(Eingabe!$B$6:$B$400=BG$3)*(Eingabe!$E$6:$E$400))","v":0},"2025-07-13","2025-07-13",{"$f":"SUMPRODUCT((Eingabe!$C$6:$C$400<=$BJ16)*(Eingabe!$D$6:$D$400>$BJ16)*(Eingabe!$B$6:$B$400=BK$3)*(Eingabe!$E$6:$E$400))","v":6},{"$f":"SUMPRODUCT((Eingabe!$C$6:$C$400<$BJ16)*(Eingabe!$D$6:$D$400>=$BJ16)*(Eingabe!$B$6:$B$400=BK$3)*(Eingabe!$E$6:$E$400))","v":6},{"$f":"SUMPRODUCT((Eingabe!$C$6:$C$400<=$BJ16)*(Eingabe!$D$6:$D$400>$BJ16)*(Eingabe!$B$6:$B$400=BM$3)*(Eingabe!$E$6:$E$400))","v":7},{"$f":"SUMPRODUCT((Eingabe!$C$6:$C$400<$BJ16)*(Eingabe!$D$6:$D$400>=$BJ16)*(Eingabe!$B$6:$B$400=BM$3)*(Eingabe!$E$6:$E$400))","v":7},{"$f":"SUMPRODUCT((Eingabe!$C$6:$C$400<=$BJ16)*(Eingabe!$D$6:$D$400>$BJ16)*(Eingabe!$B$6:$B$400=BO$3)*(Eingabe!$E$6:$E$400))","v":0},{"$f":"SUMPRODUCT((Eingabe!$C$6:$C$400<$BJ16)*(Eingabe!$D$6:$D$400>=$BJ16)*(Eingabe!$B$6:$B$400=BO$3)*(Eingabe!$E$6:$E$400))","v":0},{"$f":"SUMPRODUCT((Eingabe!$C$6:$C$400<=$BJ16)*(Eingabe!$D$6:$D$400>$BJ16)*(Eingabe!$B$6:$B$400=BQ$3)*(Eingabe!$E$6:$E$400))","v":0},{"$f":"SUMPRODUCT((Eingabe!$C$6:$C$400<$BJ16)*(Eingabe!$D$6:$D$400>=$BJ16)*(Eingabe!$B$6:$B$400=BQ$3)*(Eingabe!$E$6:$E$400))","v":0},"2025-08-13","2025-08-13",{"$f":"SUMPRODUCT((Eingabe!$C$6:$C$400<=$BT16)*(Eingabe!$D$6:$D$400>$BT16)*(Eingabe!$B$6:$B$400=BU$3)*(Eingabe!$E$6:$E$400))","v":0},{"$f":"SUMPRODUCT((Eingabe!$C$6:$C$400<$BT16)*(Eingabe!$D$6:$D$400>=$BT16)*(Eingabe!$B$6:$B$400=BU$3)*(Eingabe!$E$6:$E$400))","v":0},{"$f":"SUMPRODUCT((Eingabe!$C$6:$C$400<=$BT16)*(Eingabe!$D$6:$D$400>$BT16)*(Eingabe!$B$6:$B$400=BW$3)*(Eingabe!$E$6:$E$400))","v":0},{"$f":"SUMPRODUCT((Eingabe!$C$6:$C$400<$BT16)*(Eingabe!$D$6:$D$400>=$BT16)*(Eingabe!$B$6:$B$400=BW$3)*(Eingabe!$E$6:$E$400))","v":0},{"$f":"SUMPRODUCT((Eingabe!$C$6:$C$400<=$BT16)*(Eingabe!$D$6:$D$400>$BT16)*(Eingabe!$B$6:$B$400=BY$3)*(Eingabe!$E$6:$E$400))","v":0},{"$f":"SUMPRODUCT((Eingabe!$C$6:$C$400<$BT16)*(Eingabe!$D$6:$D$400>=$BT16)*(Eingabe!$B$6:$B$400=BY$3)*(Eingabe!$E$6:$E$400))","v":0},{"$f":"SUMPRODUCT((Eingabe!$C$6:$C$400<=$BT16)*(Eingabe!$D$6:$D$400>$BT16)*(Eingabe!$B$6:$B$400=CA$3)*(Eingabe!$E$6:$E$400))","v":0},{"$f":"SUMPRODUCT((Eingabe!$C$6:$C$400<$BT16)*(Eingabe!$D$6:$D$400>=$BT16)*(Eingabe!$B$6:$B$400=CA$3)*(Eingabe!$E$6:$E$400))","v":0},"2025-09-13","2025-09-13",{"$f":"SUMPRODUCT((Eingabe!$C$6:$C$400<=$CD16)*(Eingabe!$D$6:$D$400>$CD16)*(Eingabe!$B$6:$B$400=CE$3)*(Eingabe!$E$6:$E$400))","v":0},{"$f":"SUMPRODUCT((Eingabe!$C$6:$C$400<$CD16)*(Eingabe!$D$6:$D$400>=$CD16)*(Eingabe!$B$6:$B$400=CE$3)*(Eingabe!$E$6:$E$400))","v":0},{"$f":"SUMPRODUCT((Eingabe!$C$6:$C$400<=$CD16)*(Eingabe!$D$6:$D$400>$CD16)*(Eingabe!$B$6:$B$400=CG$3)*(Eingabe!$E$6:$E$400))","v":0},{"$f":"SUMPRODUCT((Eingabe!$C$6:$C$400<$CD16)*(Eingabe!$D$6:$D$400>=$CD16)*(Eingabe!$B$6:$B$400=CG$3)*(Eingabe!$E$6:$E$400))","v":0},{"$f":"SUMPRODUCT((Eingabe!$C$6:$C$400<=$CD16)*(Eingabe!$D$6:$D$400>$CD16)*(Eingabe!$B$6:$B$400=CI$3)*(Eingabe!$E$6:$E$400))","v":0},{"$f":"SUMPRODUCT((Eingabe!$C$6:$C$400<$CD16)*(Eingabe!$D$6:$D$400>=$CD16)*(Eingabe!$B$6:$B$400=CI$3)*(Eingabe!$E$6:$E$400))","v":0},{"$f":"SUMPRODUCT((Eingabe!$C$6:$C$400<=$CD16)*(Eingabe!$D$6:$D$400>$CD16)*(Eingabe!$B$6:$B$400=CK$3)*(Eingabe!$E$6:$E$400))","v":0},{"$f":"SUMPRODUCT((Eingabe!$C$6:$C$400<$CD16)*(Eingabe!$D$6:$D$400>=$CD16)*(Eingabe!$B$6:$B$400=CK$3)*(Eingabe!$E$6:$E$400))","v":0},"2025-10-13","2025-10-13",{"$f":"SUMPRODUCT((Eingabe!$C$6:$C$400<=$CN16)*(Eingabe!$D$6:$D$400>$CN16)*(Eingabe!$B$6:$B$400=CO$3)*(Eingabe!$E$6:$E$400))","v":7},{"$f":"SUMPRODUCT((Eingabe!$C$6:$C$400<$CN16)*(Eingabe!$D$6:$D$400>=$CN16)*(Eingabe!$B$6:$B$400=CO$3)*(Eingabe!$E$6:$E$400))","v":7},{"$f":"SUMPRODUCT((Eingabe!$C$6:$C$400<=$CN16)*(Eingabe!$D$6:$D$400>$CN16)*(Eingabe!$B$6:$B$400=CQ$3)*(Eingabe!$E$6:$E$400))","v":0},{"$f":"SUMPRODUCT((Eingabe!$C$6:$C$400<$CN16)*(Eingabe!$D$6:$D$400>=$CN16)*(Eingabe!$B$6:$B$400=CQ$3)*(Eingabe!$E$6:$E$400))","v":0},{"$f":"SUMPRODUCT((Eingabe!$C$6:$C$400<=$CN16)*(Eingabe!$D$6:$D$400>$CN16)*(Eingabe!$B$6:$B$400=CS$3)*(Eingabe!$E$6:$E$400))","v":0},{"$f":"SUMPRODUCT((Eingabe!$C$6:$C$400<$CN16)*(Eingabe!$D$6:$D$400>=$CN16)*(Eingabe!$B$6:$B$400=CS$3)*(Eingabe!$E$6:$E$400))","v":0},{"$f":"SUMPRODUCT((Eingabe!$C$6:$C$400<=$CN16)*(Eingabe!$D$6:$D$400>$CN16)*(Eingabe!$B$6:$B$400=CU$3)*(Eingabe!$E$6:$E$400))","v":0},{"$f":"SUMPRODUCT((Eingabe!$C$6:$C$400<$CN16)*(Eingabe!$D$6:$D$400>=$CN16)*(Eingabe!$B$6:$B$400=CU$3)*(Eingabe!$E$6:$E$400))","v":0},"2025-11-13","2025-11-13",{"$f":"SUMPRODUCT((Eingabe!$C$6:$C$400<=$CX16)*(Eingabe!$D$6:$D$400>$CX16)*(Eingabe!$B$6:$B$400=CY$3)*(Eingabe!$E$6:$E$400))","v":7},{"$f":"SUMPRODUCT((Eingabe!$C$6:$C$400<$CX16)*(Eingabe!$D$6:$D$400>=$CX16)*(Eingabe!$B$6:$B$400=CY$3)*(Eingabe!$E$6:$E$400))","v":7},{"$f":"SUMPRODUCT((Eingabe!$C$6:$C$400<=$CX16)*(Eingabe!$D$6:$D$400>$CX16)*(Eingabe!$B$6:$B$400=DA$3)*(Eingabe!$E$6:$E$400))","v":0},{"$f":"SUMPRODUCT((Eingabe!$C$6:$C$400<$CX16)*(Eingabe!$D$6:$D$400>=$CX16)*(Eingabe!$B$6:$B$400=DA$3)*(Eingabe!$E$6:$E$400))","v":0},{"$f":"SUMPRODUCT((Eingabe!$C$6:$C$400<=$CX16)*(Eingabe!$D$6:$D$400>$CX16)*(Eingabe!$B$6:$B$400=DC$3)*(Eingabe!$E$6:$E$400))","v":0},{"$f":"SUMPRODUCT((Eingabe!$C$6:$C$400<$CX16)*(Eingabe!$D$6:$D$400>=$CX16)*(Eingabe!$B$6:$B$400=DC$3)*(Eingabe!$E$6:$E$400))","v":0},{"$f":"SUMPRODUCT((Eingabe!$C$6:$C$400<=$CX16)*(Eingabe!$D$6:$D$400>$CX16)*(Eingabe!$B$6:$B$400=DE$3)*(Eingabe!$E$6:$E$400))","v":0},{"$f":"SUMPRODUCT((Eingabe!$C$6:$C$400<$CX16)*(Eingabe!$D$6:$D$400>=$CX16)*(Eingabe!$B$6:$B$400=DE$3)*(Eingabe!$E$6:$E$400))","v":0},"2025-12-13","2025-12-13",{"$f":"SUMPRODUCT((Eingabe!$C$6:$C$400<=$DH16)*(Eingabe!$D$6:$D$400>$DH16)*(Eingabe!$B$6:$B$400=DI$3)*(Eingabe!$E$6:$E$400))","v":7},{"$f":"SUMPRODUCT((Eingabe!$C$6:$C$400<$DH16)*(Eingabe!$D$6:$D$400>=$DH16)*(Eingabe!$B$6:$B$400=DI$3)*(Eingabe!$E$6:$E$400))","v":7},{"$f":"SUMPRODUCT((Eingabe!$C$6:$C$400<=$DH16)*(Eingabe!$D$6:$D$400>$DH16)*(Eingabe!$B$6:$B$400=DK$3)*(Eingabe!$E$6:$E$400))","v":0},{"$f":"SUMPRODUCT((Eingabe!$C$6:$C$400<$DH16)*(Eingabe!$D$6:$D$400>=$DH16)*(Eingabe!$B$6:$B$400=DK$3)*(Eingabe!$E$6:$E$400))","v":0},{"$f":"SUMPRODUCT((Eingabe!$C$6:$C$400<=$DH16)*(Eingabe!$D$6:$D$400>$DH16)*(Eingabe!$B$6:$B$400=DM$3)*(Eingabe!$E$6:$E$400))","v":0},{"$f":"SUMPRODUCT((Eingabe!$C$6:$C$400<$DH16)*(Eingabe!$D$6:$D$400>=$DH16)*(Eingabe!$B$6:$B$400=DM$3)*(Eingabe!$E$6:$E$400))","v":0},{"$f":"SUMPRODUCT((Eingabe!$C$6:$C$400<=$DH16)*(Eingabe!$D$6:$D$400>$DH16)*(Eingabe!$B$6:$B$400=DO$3)*(Eingabe!$E$6:$E$400))","v":0},{"$f":"SUMPRODUCT((Eingabe!$C$6:$C$400<$DH16)*(Eingabe!$D$6:$D$400>=$DH16)*(Eingabe!$B$6:$B$400=DO$3)*(Eingabe!$E$6:$E$400))","v":0},"2026-01-13","2026-01-13",{"$f":"SUMPRODUCT((Eingabe!$C$6:$C$400<=$B16)*(Eingabe!$D$6:$D$400>$B16)*(Eingabe!$B$6:$B$400=DS$3)*(Eingabe!$E$6:$E$400))","v":7},{"$f":"SUMPRODUCT((Eingabe!$C$6:$C$400<$B16)*(Eingabe!$D$6:$D$400>=$B16)*(Eingabe!$B$6:$B$400=DS$3)*(Eingabe!$E$6:$E$400))","v":7},{"$f":"SUMPRODUCT((Eingabe!$C$6:$C$400<=$B16)*(Eingabe!$D$6:$D$400>$B16)*(Eingabe!$B$6:$B$400=DU$3)*(Eingabe!$E$6:$E$400))","v":0},{"$f":"SUMPRODUCT((Eingabe!$C$6:$C$400<$B16)*(Eingabe!$D$6:$D$400>=$B16)*(Eingabe!$B$6:$B$400=DU$3)*(Eingabe!$E$6:$E$400))","v":0},{"$f":"SUMPRODUCT((Eingabe!$C$6:$C$400<=$B16)*(Eingabe!$D$6:$D$400>$B16)*(Eingabe!$B$6:$B$400=DW$3)*(Eingabe!$E$6:$E$400))","v":0},{"$f":"SUMPRODUCT((Eingabe!$C$6:$C$400<$B16)*(Eingabe!$D$6:$D$400>=$B16)*(Eingabe!$B$6:$B$400=DW$3)*(Eingabe!$E$6:$E$400))","v":0},{"$f":"SUMPRODUCT((Eingabe!$C$6:$C$400<=$B16)*(Eingabe!$D$6:$D$400>$B16)*(Eingabe!$B$6:$B$400=DY$3)*(Eingabe!$E$6:$E$400))","v":7},{"$f":"SUMPRODUCT((Eingabe!$C$6:$C$400<$B16)*(Eingabe!$D$6:$D$400>=$B16)*(Eingabe!$B$6:$B$400=DY$3)*(Eingabe!$E$6:$E$400))","v":7},"2026-02-13","2026-02-13",{"$f":"SUMPRODUCT((Eingabe!$C$6:$C$400<=$L16)*(Eingabe!$D$6:$D$400>$L16)*(Eingabe!$B$6:$B$400=EC$3)*(Eingabe!$E$6:$E$400))","v":0},{"$f":"SUMPRODUCT((Eingabe!$C$6:$C$400<$L16)*(Eingabe!$D$6:$D$400>=$L16)*(Eingabe!$B$6:$B$400=EC$3)*(Eingabe!$E$6:$E$400))","v":0},{"$f":"SUMPRODUCT((Eingabe!$C$6:$C$400<=$L16)*(Eingabe!$D$6:$D$400>$L16)*(Eingabe!$B$6:$B$400=EE$3)*(Eingabe!$E$6:$E$400))","v":0},{"$f":"SUMPRODUCT((Eingabe!$C$6:$C$400<$L16)*(Eingabe!$D$6:$D$400>=$L16)*(Eingabe!$B$6:$B$400=EE$3)*(Eingabe!$E$6:$E$400))","v":0},{"$f":"SUMPRODUCT((Eingabe!$C$6:$C$400<=$L16)*(Eingabe!$D$6:$D$400>$L16)*(Eingabe!$B$6:$B$400=EG$3)*(Eingabe!$E$6:$E$400))","v":0},{"$f":"SUMPRODUCT((Eingabe!$C$6:$C$400<$L16)*(Eingabe!$D$6:$D$400>=$L16)*(Eingabe!$B$6:$B$400=EG$3)*(Eingabe!$E$6:$E$400))","v":0},{"$f":"SUMPRODUCT((Eingabe!$C$6:$C$400<=$L16)*(Eingabe!$D$6:$D$400>$L16)*(Eingabe!$B$6:$B$400=EI$3)*(Eingabe!$E$6:$E$400))","v":0},{"$f":"SUMPRODUCT((Eingabe!$C$6:$C$400<$L16)*(Eingabe!$D$6:$D$400>=$L16)*(Eingabe!$B$6:$B$400=EI$3)*(Eingabe!$E$6:$E$400))","v":0},"2026-03-13","2026-03-13",{"$f":"SUMPRODUCT((Eingabe!$C$6:$C$400<=$V16)*(Eingabe!$D$6:$D$400>$V16)*(Eingabe!$B$6:$B$400=EM$3)*(Eingabe!$E$6:$E$400))","v":0},{"$f":"SUMPRODUCT((Eingabe!$C$6:$C$400<$V16)*(Eingabe!$D$6:$D$400>=$V16)*(Eingabe!$B$6:$B$400=EM$3)*(Eingabe!$E$6:$E$400))","v":0},{"$f":"SUMPRODUCT((Eingabe!$C$6:$C$400<=$V16)*(Eingabe!$D$6:$D$400>$V16)*(Eingabe!$B$6:$B$400=EO$3)*(Eingabe!$E$6:$E$400))","v":0},{"$f":"SUMPRODUCT((Eingabe!$C$6:$C$400<$V16)*(Eingabe!$D$6:$D$400>=$V16)*(Eingabe!$B$6:$B$400=EO$3)*(Eingabe!$E$6:$E$400))","v":0},{"$f":"SUMPRODUCT((Eingabe!$C$6:$C$400<=$V16)*(Eingabe!$D$6:$D$400>$V16)*(Eingabe!$B$6:$B$400=EQ$3)*(Eingabe!$E$6:$E$400))","v":0},{"$f":"SUMPRODUCT((Eingabe!$C$6:$C$400<$V16)*(Eingabe!$D$6:$D$400>=$V16)*(Eingabe!$B$6:$B$400=EQ$3)*(Eingabe!$E$6:$E$400))","v":0},{"$f":"SUMPRODUCT((Eingabe!$C$6:$C$400<=$V16)*(Eingabe!$D$6:$D$400>$V16)*(Eingabe!$B$6:$B$400=ES$3)*(Eingabe!$E$6:$E$400))","v":0},{"$f":"SUMPRODUCT((Eingabe!$C$6:$C$400<$V16)*(Eingabe!$D$6:$D$400>=$V16)*(Eingabe!$B$6:$B$400=ES$3)*(Eingabe!$E$6:$E$400))","v":0},"2026-04-13","2026-04-13",{"$f":"SUMPRODUCT((Eingabe!$C$6:$C$400<=$AF16)*(Eingabe!$D$6:$D$400>$AF16)*(Eingabe!$B$6:$B$400=EW$3)*(Eingabe!$E$6:$E$400))","v":0},{"$f":"SUMPRODUCT((Eingabe!$C$6:$C$400<$AF16)*(Eingabe!$D$6:$D$400>=$AF16)*(Eingabe!$B$6:$B$400=EW$3)*(Eingabe!$E$6:$E$400))","v":0},{"$f":"SUMPRODUCT((Eingabe!$C$6:$C$400<=$AF16)*(Eingabe!$D$6:$D$400>$AF16)*(Eingabe!$B$6:$B$400=EY$3)*(Eingabe!$E$6:$E$400))","v":6},{"$f":"SUMPRODUCT((Eingabe!$C$6:$C$400<$AF16)*(Eingabe!$D$6:$D$400>=$AF16)*(Eingabe!$B$6:$B$400=EY$3)*(Eingabe!$E$6:$E$400))","v":6},{"$f":"SUMPRODUCT((Eingabe!$C$6:$C$400<=$AF16)*(Eingabe!$D$6:$D$400>$AF16)*(Eingabe!$B$6:$B$400=FA$3)*(Eingabe!$E$6:$E$400))","v":7},{"$f":"SUMPRODUCT((Eingabe!$C$6:$C$400<$AF16)*(Eingabe!$D$6:$D$400>=$AF16)*(Eingabe!$B$6:$B$400=FA$3)*(Eingabe!$E$6:$E$400))","v":7},{"$f":"SUMPRODUCT((Eingabe!$C$6:$C$400<=$AF16)*(Eingabe!$D$6:$D$400>$AF16)*(Eingabe!$B$6:$B$400=FC$3)*(Eingabe!$E$6:$E$400))","v":0},{"$f":"SUMPRODUCT((Eingabe!$C$6:$C$400<$AF16)*(Eingabe!$D$6:$D$400>=$AF16)*(Eingabe!$B$6:$B$400=FC$3)*(Eingabe!$E$6:$E$400))","v":0},"2026-05-13","2026-05-13",{"$f":"SUMPRODUCT((Eingabe!$C$6:$C$400<=$AP16)*(Eingabe!$D$6:$D$400>$AP16)*(Eingabe!$B$6:$B$400=FG$3)*(Eingabe!$E$6:$E$400))","v":0},{"$f":"SUMPRODUCT((Eingabe!$C$6:$C$400<$AP16)*(Eingabe!$D$6:$D$400>=$AP16)*(Eingabe!$B$6:$B$400=FG$3)*(Eingabe!$E$6:$E$400))","v":0},{"$f":"SUMPRODUCT((Eingabe!$C$6:$C$400<=$AP16)*(Eingabe!$D$6:$D$400>$AP16)*(Eingabe!$B$6:$B$400=FI$3)*(Eingabe!$E$6:$E$400))","v":0},{"$f":"SUMPRODUCT((Eingabe!$C$6:$C$400<$AP16)*(Eingabe!$D$6:$D$400>=$AP16)*(Eingabe!$B$6:$B$400=FI$3)*(Eingabe!$E$6:$E$400))","v":0},{"$f":"SUMPRODUCT((Eingabe!$C$6:$C$400<=$AP16)*(Eingabe!$D$6:$D$400>$AP16)*(Eingabe!$B$6:$B$400=FK$3)*(Eingabe!$E$6:$E$400))","v":0},{"$f":"SUMPRODUCT((Eingabe!$C$6:$C$400<$AP16)*(Eingabe!$D$6:$D$400>=$AP16)*(Eingabe!$B$6:$B$400=FK$3)*(Eingabe!$E$6:$E$400))","v":0},{"$f":"SUMPRODUCT((Eingabe!$C$6:$C$400<=$AP16)*(Eingabe!$D$6:$D$400>$AP16)*(Eingabe!$B$6:$B$400=FM$3)*(Eingabe!$E$6:$E$400))","v":0},{"$f":"SUMPRODUCT((Eingabe!$C$6:$C$400<$AP16)*(Eingabe!$D$6:$D$400>=$AP16)*(Eingabe!$B$6:$B$400=FM$3)*(Eingabe!$E$6:$E$400))","v":0},"2026-06-13","2026-06-13",{"$f":"SUMPRODUCT((Eingabe!$C$6:$C$400<=$AZ16)*(Eingabe!$D$6:$D$400>$AZ16)*(Eingabe!$B$6:$B$400=FQ$3)*(Eingabe!$E$6:$E$400))","v":0},{"$f":"SUMPRODUCT((Eingabe!$C$6:$C$400<$AZ16)*(Eingabe!$D$6:$D$400>=$AZ16)*(Eingabe!$B$6:$B$400=FQ$3)*(Eingabe!$E$6:$E$400))","v":0},{"$f":"SUMPRODUCT((Eingabe!$C$6:$C$400<=$AZ16)*(Eingabe!$D$6:$D$400>$AZ16)*(Eingabe!$B$6:$B$400=FS$3)*(Eingabe!$E$6:$E$400))","v":0},{"$f":"SUMPRODUCT((Eingabe!$C$6:$C$400<$AZ16)*(Eingabe!$D$6:$D$400>=$AZ16)*(Eingabe!$B$6:$B$400=FS$3)*(Eingabe!$E$6:$E$400))","v":0},{"$f":"SUMPRODUCT((Eingabe!$C$6:$C$400<=$AZ16)*(Eingabe!$D$6:$D$400>$AZ16)*(Eingabe!$B$6:$B$400=FU$3)*(Eingabe!$E$6:$E$400))","v":0},{"$f":"SUMPRODUCT((Eingabe!$C$6:$C$400<$AZ16)*(Eingabe!$D$6:$D$400>=$AZ16)*(Eingabe!$B$6:$B$400=FU$3)*(Eingabe!$E$6:$E$400))","v":0},{"$f":"SUMPRODUCT((Eingabe!$C$6:$C$400<=$AZ16)*(Eingabe!$D$6:$D$400>$AZ16)*(Eingabe!$B$6:$B$400=FW$3)*(Eingabe!$E$6:$E$400))","v":0},{"$f":"SUMPRODUCT((Eingabe!$C$6:$C$400<$AZ16)*(Eingabe!$D$6:$D$400>=$AZ16)*(Eingabe!$B$6:$B$400=FW$3)*(Eingabe!$E$6:$E$400))","v":0},"2026-07-13","2026-07-13",{"$f":"SUMPRODUCT((Eingabe!$C$6:$C$400<=$BJ16)*(Eingabe!$D$6:$D$400>$BJ16)*(Eingabe!$B$6:$B$400=GA$3)*(Eingabe!$E$6:$E$400))","v":6},{"$f":"SUMPRODUCT((Eingabe!$C$6:$C$400<$BJ16)*(Eingabe!$D$6:$D$400>=$BJ16)*(Eingabe!$B$6:$B$400=GA$3)*(Eingabe!$E$6:$E$400))","v":6},{"$f":"SUMPRODUCT((Eingabe!$C$6:$C$400<=$BJ16)*(Eingabe!$D$6:$D$400>$BJ16)*(Eingabe!$B$6:$B$400=GC$3)*(Eingabe!$E$6:$E$400))","v":7},{"$f":"SUMPRODUCT((Eingabe!$C$6:$C$400<$BJ16)*(Eingabe!$D$6:$D$400>=$BJ16)*(Eingabe!$B$6:$B$400=GC$3)*(Eingabe!$E$6:$E$400))","v":7},{"$f":"SUMPRODUCT((Eingabe!$C$6:$C$400<=$BJ16)*(Eingabe!$D$6:$D$400>$BJ16)*(Eingabe!$B$6:$B$400=GE$3)*(Eingabe!$E$6:$E$400))","v":0},{"$f":"SUMPRODUCT((Eingabe!$C$6:$C$400<$BJ16)*(Eingabe!$D$6:$D$400>=$BJ16)*(Eingabe!$B$6:$B$400=GE$3)*(Eingabe!$E$6:$E$400))","v":0},{"$f":"SUMPRODUCT((Eingabe!$C$6:$C$400<=$BJ16)*(Eingabe!$D$6:$D$400>$BJ16)*(Eingabe!$B$6:$B$400=GG$3)*(Eingabe!$E$6:$E$400))","v":0},{"$f":"SUMPRODUCT((Eingabe!$C$6:$C$400<$BJ16)*(Eingabe!$D$6:$D$400>=$BJ16)*(Eingabe!$B$6:$B$400=GG$3)*(Eingabe!$E$6:$E$400))","v":0},"2026-08-13","2026-08-13",{"$f":"SUMPRODUCT((Eingabe!$C$6:$C$400<=$BT16)*(Eingabe!$D$6:$D$400>$BT16)*(Eingabe!$B$6:$B$400=GK$3)*(Eingabe!$E$6:$E$400))","v":0},{"$f":"SUMPRODUCT((Eingabe!$C$6:$C$400<$BT16)*(Eingabe!$D$6:$D$400>=$BT16)*(Eingabe!$B$6:$B$400=GK$3)*(Eingabe!$E$6:$E$400))","v":0},{"$f":"SUMPRODUCT((Eingabe!$C$6:$C$400<=$BT16)*(Eingabe!$D$6:$D$400>$BT16)*(Eingabe!$B$6:$B$400=GM$3)*(Eingabe!$E$6:$E$400))","v":0},{"$f":"SUMPRODUCT((Eingabe!$C$6:$C$400<$BT16)*(Eingabe!$D$6:$D$400>=$BT16)*(Eingabe!$B$6:$B$400=GM$3)*(Eingabe!$E$6:$E$400))","v":0},{"$f":"SUMPRODUCT((Eingabe!$C$6:$C$400<=$BT16)*(Eingabe!$D$6:$D$400>$BT16)*(Eingabe!$B$6:$B$400=GO$3)*(Eingabe!$E$6:$E$400))","v":0},{"$f":"SUMPRODUCT((Eingabe!$C$6:$C$400<$BT16)*(Eingabe!$D$6:$D$400>=$BT16)*(Eingabe!$B$6:$B$400=GO$3)*(Eingabe!$E$6:$E$400))","v":0},{"$f":"SUMPRODUCT((Eingabe!$C$6:$C$400<=$BT16)*(Eingabe!$D$6:$D$400>$BT16)*(Eingabe!$B$6:$B$400=GQ$3)*(Eingabe!$E$6:$E$400))","v":0},{"$f":"SUMPRODUCT((Eingabe!$C$6:$C$400<$BT16)*(Eingabe!$D$6:$D$400>=$BT16)*(Eingabe!$B$6:$B$400=GQ$3)*(Eingabe!$E$6:$E$400))","v":0},"2026-09-13","2026-09-13",{"$f":"SUMPRODUCT((Eingabe!$C$6:$C$400<=$CD16)*(Eingabe!$D$6:$D$400>$CD16)*(Eingabe!$B$6:$B$400=GU$3)*(Eingabe!$E$6:$E$400))","v":0},{"$f":"SUMPRODUCT((Eingabe!$C$6:$C$400<$CD16)*(Eingabe!$D$6:$D$400>=$CD16)*(Eingabe!$B$6:$B$400=GU$3)*(Eingabe!$E$6:$E$400))","v":0},{"$f":"SUMPRODUCT((Eingabe!$C$6:$C$400<=$CD16)*(Eingabe!$D$6:$D$400>$CD16)*(Eingabe!$B$6:$B$400=GW$3)*(Eingabe!$E$6:$E$400))","v":0},{"$f":"SUMPRODUCT((Eingabe!$C$6:$C$400<$CD16)*(Eingabe!$D$6:$D$400>=$CD16)*(Eingabe!$B$6:$B$400=GW$3)*(Eingabe!$E$6:$E$400))","v":0},{"$f":"SUMPRODUCT((Eingabe!$C$6:$C$400<=$CD16)*(Eingabe!$D$6:$D$400>$CD16)*(Eingabe!$B$6:$B$400=GY$3)*(Eingabe!$E$6:$E$400))","v":0},{"$f":"SUMPRODUCT((Eingabe!$C$6:$C$400<$CD16)*(Eingabe!$D$6:$D$400>=$CD16)*(Eingabe!$B$6:$B$400=GY$3)*(Eingabe!$E$6:$E$400))","v":0},{"$f":"SUMPRODUCT((Eingabe!$C$6:$C$400<=$CD16)*(Eingabe!$D$6:$D$400>$CD16)*(Eingabe!$B$6:$B$400=HA$3)*(Eingabe!$E$6:$E$400))","v":0},{"$f":"SUMPRODUCT((Eingabe!$C$6:$C$400<$CD16)*(Eingabe!$D$6:$D$400>=$CD16)*(Eingabe!$B$6:$B$400=HA$3)*(Eingabe!$E$6:$E$400))","v":0},"2026-10-13","2026-10-13",{"$f":"SUMPRODUCT((Eingabe!$C$6:$C$400<=$CN16)*(Eingabe!$D$6:$D$400>$CN16)*(Eingabe!$B$6:$B$400=HE$3)*(Eingabe!$E$6:$E$400))","v":7},{"$f":"SUMPRODUCT((Eingabe!$C$6:$C$400<$CN16)*(Eingabe!$D$6:$D$400>=$CN16)*(Eingabe!$B$6:$B$400=HE$3)*(Eingabe!$E$6:$E$400))","v":7},{"$f":"SUMPRODUCT((Eingabe!$C$6:$C$400<=$CN16)*(Eingabe!$D$6:$D$400>$CN16)*(Eingabe!$B$6:$B$400=HG$3)*(Eingabe!$E$6:$E$400))","v":0},{"$f":"SUMPRODUCT((Eingabe!$C$6:$C$400<$CN16)*(Eingabe!$D$6:$D$400>=$CN16)*(Eingabe!$B$6:$B$400=HG$3)*(Eingabe!$E$6:$E$400))","v":0},{"$f":"SUMPRODUCT((Eingabe!$C$6:$C$400<=$CN16)*(Eingabe!$D$6:$D$400>$CN16)*(Eingabe!$B$6:$B$400=HI$3)*(Eingabe!$E$6:$E$400))","v":0},{"$f":"SUMPRODUCT((Eingabe!$C$6:$C$400<$CN16)*(Eingabe!$D$6:$D$400>=$CN16)*(Eingabe!$B$6:$B$400=HI$3)*(Eingabe!$E$6:$E$400))","v":0},{"$f":"SUMPRODUCT((Eingabe!$C$6:$C$400<=$CN16)*(Eingabe!$D$6:$D$400>$CN16)*(Eingabe!$B$6:$B$400=HK$3)*(Eingabe!$E$6:$E$400))","v":0},{"$f":"SUMPRODUCT((Eingabe!$C$6:$C$400<$CN16)*(Eingabe!$D$6:$D$400>=$CN16)*(Eingabe!$B$6:$B$400=HK$3)*(Eingabe!$E$6:$E$400))","v":0},"2026-11-13","2026-11-13",{"$f":"SUMPRODUCT((Eingabe!$C$6:$C$400<=$CX16)*(Eingabe!$D$6:$D$400>$CX16)*(Eingabe!$B$6:$B$400=HO$3)*(Eingabe!$E$6:$E$400))","v":7},{"$f":"SUMPRODUCT((Eingabe!$C$6:$C$400<$CX16)*(Eingabe!$D$6:$D$400>=$CX16)*(Eingabe!$B$6:$B$400=HO$3)*(Eingabe!$E$6:$E$400))","v":7},{"$f":"SUMPRODUCT((Eingabe!$C$6:$C$400<=$CX16)*(Eingabe!$D$6:$D$400>$CX16)*(Eingabe!$B$6:$B$400=HQ$3)*(Eingabe!$E$6:$E$400))","v":0},{"$f":"SUMPRODUCT((Eingabe!$C$6:$C$400<$CX16)*(Eingabe!$D$6:$D$400>=$CX16)*(Eingabe!$B$6:$B$400=HQ$3)*(Eingabe!$E$6:$E$400))","v":0},{"$f":"SUMPRODUCT((Eingabe!$C$6:$C$400<=$CX16)*(Eingabe!$D$6:$D$400>$CX16)*(Eingabe!$B$6:$B$400=HS$3)*(Eingabe!$E$6:$E$400))","v":0},{"$f":"SUMPRODUCT((Eingabe!$C$6:$C$400<$CX16)*(Eingabe!$D$6:$D$400>=$CX16)*(Eingabe!$B$6:$B$400=HS$3)*(Eingabe!$E$6:$E$400))","v":0},{"$f":"SUMPRODUCT((Eingabe!$C$6:$C$400<=$CX16)*(Eingabe!$D$6:$D$400>$CX16)*(Eingabe!$B$6:$B$400=HU$3)*(Eingabe!$E$6:$E$400))","v":0},{"$f":"SUMPRODUCT((Eingabe!$C$6:$C$400<$CX16)*(Eingabe!$D$6:$D$400>=$CX16)*(Eingabe!$B$6:$B$400=HU$3)*(Eingabe!$E$6:$E$400))","v":0},"2026-12-13","2026-12-13",{"$f":"SUMPRODUCT((Eingabe!$C$6:$C$400<=$DH16)*(Eingabe!$D$6:$D$400>$DH16)*(Eingabe!$B$6:$B$400=HY$3)*(Eingabe!$E$6:$E$400))","v":7},{"$f":"SUMPRODUCT((Eingabe!$C$6:$C$400<$DH16)*(Eingabe!$D$6:$D$400>=$DH16)*(Eingabe!$B$6:$B$400=HY$3)*(Eingabe!$E$6:$E$400))","v":7},{"$f":"SUMPRODUCT((Eingabe!$C$6:$C$400<=$DH16)*(Eingabe!$D$6:$D$400>$DH16)*(Eingabe!$B$6:$B$400=IA$3)*(Eingabe!$E$6:$E$400))","v":0},{"$f":"SUMPRODUCT((Eingabe!$C$6:$C$400<$DH16)*(Eingabe!$D$6:$D$400>=$DH16)*(Eingabe!$B$6:$B$400=IA$3)*(Eingabe!$E$6:$E$400))","v":0},{"$f":"SUMPRODUCT((Eingabe!$C$6:$C$400<=$DH16)*(Eingabe!$D$6:$D$400>$DH16)*(Eingabe!$B$6:$B$400=IC$3)*(Eingabe!$E$6:$E$400))","v":0},{"$f":"SUMPRODUCT((Eingabe!$C$6:$C$400<$DH16)*(Eingabe!$D$6:$D$400>=$DH16)*(Eingabe!$B$6:$B$400=IC$3)*(Eingabe!$E$6:$E$400))","v":0},{"$f":"SUMPRODUCT((Eingabe!$C$6:$C$400<=$DH16)*(Eingabe!$D$6:$D$400>$DH16)*(Eingabe!$B$6:$B$400=IE$3)*(Eingabe!$E$6:$E$400))","v":0},{"$f":"SUMPRODUCT((Eingabe!$C$6:$C$400<$DH16)*(Eingabe!$D$6:$D$400>=$DH16)*(Eingabe!$B$6:$B$400=IE$3)*(Eingabe!$E$6:$E$400))","v":0}]
["2025-01-14","2025-01-14",{"$f":"SUMPRODUCT((Eingabe!$C$6:$C$400<=$B17)*(Eingabe!$D$6:$D$400>$B17)*(Eingabe!$B$6:$B$400=C$3)*(Eingabe!$E$6:$E$400))","v":7},{"$f":"SUMPRODUCT((Eingabe!$C$6:$C$400<$B17)*(Eingabe!$D$6:$D$400>=$B17)*(Eingabe!$B$6:$B$400=C$3)*(Eingabe!$E$6:$E$400))","v":7},{"$f":"SUMPRODUCT((Eingabe!$C$6:$C$400<=$B17)*(Eingabe!$D$6:$D$400>$B17)*(Eingabe!$B$6:$B$400=E$3)*(Eingabe!$E$6:$E$400))","v":0},{"$f":"SUMPRODUCT((Eingabe!$C$6:$C$400<$B17)*(Eingabe!$D$6:$D$400>=$B17)*(Eingabe!$B$6:$B$400=E$3)*(Eingabe!$E$6:$E$400))","v":0},{"$f":"SUMPRODUCT((Eingabe!$C$6:$C$400<=$B17)*(Eingabe!$D$6:$D$400>$B17)*(Eingabe!$B$6:$B$400=G$3)*(Eingabe!$E$6:$E$400))","v":0},{"$f":"SUMPRODUCT((Eingabe!$C$6:$C$400<$B17)*(Eingabe!$D$6:$D$400>=$B17)*(Eingabe!$B$6:$B$400=G$3)*(Eingabe!$E$6:$E$400))","v":0},{"$f":"SUMPRODUCT((Eingabe!$C$6:$C$400<=$B17)*(Eingabe!$D$6:$D$400>$B17)*(Eingabe!$B$6:$B$400=I$3)*(Eingabe!$E$6:$E$400))","v":7},{"$f":"SUMPRODUCT((Eingabe!$C$6:$C$400<$B17)*(Eingabe!$D$6:$D$400>=$B17)*(Eingabe!$B$6:$B$400=I$3)*(Eingabe!$E$6:$E$400))","v":7},"2025-02-14","2025-02-14",{"$f":"SUMPRODUCT((Eingabe!$C$6:$C$400<=$L17)*(Eingabe!$D$6:$D$400>$L17)*(Eingabe!$B$6:$B$400=M$3)*(Eingabe!$E$6:$E$400))","v":0},{"$f":"SUMPRODUCT((Eingabe!$C$6:$C$400<$L17)*(Eingabe!$D$6:$D$400>=$L17)*(Eingabe!$B$6:$B$400=M$3)*(Eingabe!$E$6:$E$400))","v":0},{"$f":"SUMPRODUCT((Eingabe!$C$6:$C$400<=$L17)*(Eingabe!$D$6:$D$400>$L17)*(Eingabe!$B$6:$B$400=O$3)*(Eingabe!$E$6:$E$400))","v":0},{"$f":"SUMPRODUCT((Eingabe!$C$6:$C$400<$L17)*(Eingabe!$D$6:$D$400>=$L17)*(Eingabe!$B$6:$B$400=O$3)*(Eingabe!$E$6:$E$400))","v":0},{"$f":"SUMPRODUCT((Eingabe!$C$6:$C$400<=$L17)*(Eingabe!$D$6:$D$400>$L17)*(Eingabe!$B$6:$B$400=Q$3)*(Eingabe!$E$6:$E$400))","v":0},{"$f":"SUMPRODUCT((Eingabe!$C$6:$C$400<$L17)*(Eingabe!$D$6:$D$400>=$L17)*(Eingabe!$B$6:$B$400=Q$3)*(Eingabe!$E$6:$E$400))","v":0},{"$f":"SUMPRODUCT((Eingabe!$C$6:$C$400<=$L17)*(Eingabe!$D$6:$D$400>$L17)*(Eingabe!$B$6:$B$400=S$3)*(Eingabe!$E$6:$E$400))","v":0},{"$f":"SUMPRODUCT((Eingabe!$C$6:$C$400<$L17)*(Eingabe!$D$6:$D$400>=$L17)*(Eingabe!$B$6:$B$400=S$3)*(Eingabe!$E$6:$E$400))","v":0},"2025-03-14","2025-03-14",{"$f":"SUMPRODUCT((Eingabe!$C$6:$C$400<=$V17)*(Eingabe!$D$6:$D$400>$V17)*(Eingabe!$B$6:$B$400=W$3)*(Eingabe!$E$6:$E$400))","v":0},{"$f":"SUMPRODUCT((Eingabe!$C$6:$C$400<$V17)*(Eingabe!$D$6:$D$400>=$V17)*(Eingabe!$B$6:$B$400=W$3)*(Eingabe!$E$6:$E$400))","v":0},{"$f":"SUMPRODUCT((Eingabe!$C$6:$C$400<=$V17)*(Eingabe!$D$6:$D$400>$V17)*(Eingabe!$B$6:$B$400=Y$3)*(Eingabe!$E$6:$E$400))","v":0},{"$f":"SUMPRODUCT((Eingabe!$C$6:$C$400<$V17)*(Eingabe!$D$6:$D$400>=$V17)*(Eingabe!$B$6:$B$400=Y$3)*(Eingabe!$E$6:$E$400))","v":0},{"$f":"SUMPRODUCT((Eingabe!$C$6:$C$400<=$V17)*(Eingabe!$D$6:$D$400>$V17)*(Eingabe!$B$6:$B$400=AA$3)*(Eingabe!$E$6:$E$400))","v":0},{"$f":"SUMPRODUCT((Eingabe!$C$6:$C$400<$V17)*(Eingabe!$D$6:$D$400>=$V17)*(Eingabe!$B$6:$B$400=AA$3)*(Eingabe!$E$6:$E$400))","v":0},{"$f":"SUMPRODUCT((Eingabe!$C$6:$C$400<=$V17)*(Eingabe!$D$6:$D$400>$V17)*(Eingabe!$B$6:$B$400=AC$3)*(Eingabe!$E$6:$E$400))","v":0},{"$f":"SUMPRODUCT((Eingabe!$C$6:$C$400<$V17)*(Eingabe!$D$6:$D$400>=$V17)*(Eingabe!$B$6:$B$400=AC$3)*(Eingabe!$E$6:$E$400))","v":0},"2025-04-14","2025-04-14",{"$f":"SUMPRODUCT((Eingabe!$C$6:$C$400<=$AF17)*(Eingabe!$D$6:$D$400>$AF17)*(Eingabe!$B$6:$B$400=AG$3)*(Eingabe!$E$6:$E$400))","v":0},{"$f":"SUMPRODUCT((Eingabe!$C$6:$C$400<$AF17)*(Eingabe!$D$6:$D$400>=$AF17)*(Eingabe!$B$6:$B$400=AG$3)*(Eingabe!$E$6:$E$400))","v":0},{"$f":"SUMPRODUCT((Eingabe!$C$6:$C$400<=$AF17)*(Eingabe!$D$6:$D$400>$AF17)*(Eingabe!$B$6:$B$400=AI$3)*(Eingabe!$E$6:$E$400))","v":6},{"$f":"SUMPRODUCT((Eingabe!$C$6:$C$400<$AF17)*(Eingabe!$D$6:$D$400>=$AF17)*(Eingabe!$B$6:$B$400=AI$3)*(Eingabe!$E$6:$E$400))","v":6},{"$f":"SUMPRODUCT((Eingabe!$C$6:$C$400<=$AF17)*(Eingabe!$D$6:$D$400>$AF17)*(Eingabe!$B$6:$B$400=AK$3)*(Eingabe!$E$6:$E$400))","v":7},{"$f":"SUMPRODUCT((Eingabe!$C$6:$C$400<$AF17)*(Eingabe!$D$6:$D$400>=$AF17)*(Eingabe!$B$6:$B$400=AK$3)*(Eingabe!$E$6:$E$400))","v":7},{"$f":"SUMPRODUCT((Eingabe!$C$6:$C$400<=$AF17)*(Eingabe!$D$6:$D$400>$AF17)*(Eingabe!$B$6:$B$400=AM$3)*(Eingabe!$E$6:$E$400))","v":0},{"$f":"SUMPRODUCT((Eingabe!$C$6:$C$400<$AF17)*(Eingabe!$D$6:$D$400>=$AF17)*(Eingabe!$B$6:$B$400=AM$3)*(Eingabe!$E$6:$E$400))","v":0},"2025-05-14","2025-05-14",{"$f":"SUMPRODUCT((Eingabe!$C$6:$C$400<=$AP17)*(Eingabe!$D$6:$D$400>$AP17)*(Eingabe!$B$6:$B$400=AQ$3)*(Eingabe!$E$6:$E$400))","v":0},{"$f":"SUMPRODUCT((Eingabe!$C$6:$C$400<$AP17)*(Eingabe!$D$6:$D$400>=$AP17)*(Eingabe!$B$6:$B$400=AQ$3)*(Eingabe!$E$6:$E$400))","v":0},{"$f":"SUMPRODUCT((Eingabe!$C$6:$C$400<=$AP17)*(Eingabe!$D$6:$D$400>$AP17)*(Eingabe!$B$6:$B$400=AS$3)*(Eingabe!$E$6:$E$400))","v":0},{"$f":"SUMPRODUCT((Eingabe!$C$6:$C$400<$AP17)*(Eingabe!$D$6:$D$400>=$AP17)*(Eingabe!$B$6:$B$400=AS$3)*(Eingabe!$E$6:$E$400))","v":0},{"$f":"SUMPRODUCT((Eingabe!$C$6:$C$400<=$AP17)*(Eingabe!$D$6:$D$400>$AP17)*(Eingabe!$B$6:$B$400=AU$3)*(Eingabe!$E$6:$E$400))","v":0},{"$f":"SUMPRODUCT((Eingabe!$C$6:$C$400<$AP17)*(Eingabe!$D$6:$D$400>=$AP17)*(Eingabe!$B$6:$B$400=AU$3)*(Eingabe!$E$6:$E$400))","v":0},{"$f":"SUMPRODUCT((Eingabe!$C$6:$C$400<=$AP17)*(Eingabe!$D$6:$D$400>$AP17)*(Eingabe!$B$6:$B$400=AW$3)*(Eingabe!$E$6:$E$400))","v":0},{"$f":"SUMPRODUCT((Eingabe!$C$6:$C$400<$AP17)*(Eingabe!$D$6:$D$400>=$AP17)*(Eingabe!$B$6:$B$400=AW$3)*(Eingabe!$E$6:$E$400))","v":0},"2025-06-14","2025-06-14",{"$f":"SUMPRODUCT((Eingabe!$C$6:$C$400<=$AZ17)*(Eingabe!$D$6:$D$400>$AZ17)*(Eingabe!$B$6:$B$400=BA$3)*(Eingabe!$E$6:$E$400))","v":0},{"$f":"SUMPRODUCT((Eingabe!$C$6:$C$400<$AZ17)*(Eingabe!$D$6:$D$400>=$AZ17)*(Eingabe!$B$6:$B$400=BA$3)*(Eingabe!$E$6:$E$400))","v":0},{"$f":"SUMPRODUCT((Eingabe!$C$6:$C$400<=$AZ17)*(Eingabe!$D$6:$D$400>$AZ17)*(Eingabe!$B$6:$B$400=BC$3)*(Eingabe!$E$6:$E$400))","v":0},{"$f":"SUMPRODUCT((Eingabe!$C$6:$C$400<$AZ17)*(Eingabe!$D$6:$D$400>=$AZ17)*(Eingabe!$B$6:$B$400=BC$3)*(Eingabe!$E$6:$E$400))","v":0},{"$f":"SUMPRODUCT((Eingabe!$C$6:$C$400<=$AZ17)*(Eingabe!$D$6:$D$400>$AZ17)*(Eingabe!$B$6:$B$400=BE$3)*(Eingabe!$E$6:$E$400))","v":0},{"$f":"SUMPRODUCT((Eingabe!$C$6:$C$400<$AZ17)*(Eingabe!$D$6:$D$400>=$AZ17)*(Eingabe!$B$6:$B$400=BE$3)*(Eingabe!$E$6:$E$400))","v":0},{"$f":"SUMPRODUCT((Eingabe!$C$6:$C$400<=$AZ17)*(Eingabe!$D$6:$D$400>$AZ17)*(Eingabe!$B$6:$B$400=BG$3)*(Eingabe!$E$6:$E$400))","v":0},{"$f":"SUMPRODUCT((Eingabe!$C$6:$C$400<$AZ17)*(Eingabe!$D$6:$D$400>=$AZ17)*(Eingabe!$B$6:$B$400=BG$3)*(Eingabe!$E$6:$E$400))","v":0},"2025-07-14","2025-07-14",{"$f":"SUMPRODUCT((Eingabe!$C$6:$C$400<=$BJ17)*(Eingabe!$D$6:$D$400>$BJ17)*(Eingabe!$B$6:$B$400=BK$3)*(Eingabe!$E$6:$E$400))","v":6},{"$f":"SUMPRODUCT((Eingabe!$C$6:$C$400<$BJ17)*(Eingabe!$D$6:$D$400>=$BJ17)*(Eingabe!$B$6:$B$400=BK$3)*(Eingabe!$E$6:$E$400))","v":6},{"$f":"SUMPRODUCT((Eingabe!$C$6:$C$400<=$BJ17)*(Eingabe!$D$6:$D$400>$BJ17)*(Eingabe!$B$6:$B$400=BM$3)*(Eingabe!$E$6:$E$400))","v":7},{"$f":"SUMPRODUCT((Eingabe!$C$6:$C$400<$BJ17)*(Eingabe!$D$6:$D$400>=$BJ17)*(Eingabe!$B$6:$B$400=BM$3)*(Eingabe!$E$6:$E$400))","v":7},{"$f":"SUMPRODUCT((Eingabe!$C$6:$C$400<=$BJ17)*(Eingabe!$D$6:$D$400>$BJ17)*(Eingabe!$B$6:$B$400=BO$3)*(Eingabe!$E$6:$E$400))","v":0},{"$f":"SUMPRODUCT((Eingabe!$C$6:$C$400<$BJ17)*(Eingabe!$D$6:$D$400>=$BJ17)*(Eingabe!$B$6:$B$400=BO$3)*(Eingabe!$E$6:$E$400))","v":0},{"$f":"SUMPRODUCT((Eingabe!$C$6:$C$400<=$BJ17)*(Eingabe!$D$6:$D$400>$BJ17)*(Eingabe!$B$6:$B$400=BQ$3)*(Eingabe!$E$6:$E$400))","v":0},{"$f":"SUMPRODUCT((Eingabe!$C$6:$C$400<$BJ17)*(Eingabe!$D$6:$D$400>=$BJ17)*(Eingabe!$B$6:$B$400=BQ$3)*(Eingabe!$E$6:$E$400))","v":0},"2025-08-14","2025-08-14",{"$f":"SUMPRODUCT((Eingabe!$C$6:$C$400<=$BT17)*(Eingabe!$D$6:$D$400>$BT17)*(Eingabe!$B$6:$B$400=BU$3)*(Eingabe!$E$6:$E$400))","v":0},{"$f":"SUMPRODUCT((Eingabe!$C$6:$C$400<$BT17)*(Eingabe!$D$6:$D$400>=$BT17)*(Eingabe!$B$6:$B$400=BU$3)*(Eingabe!$E$6:$E$400))","v":0},{"$f":"SUMPRODUCT((Eingabe!$C$6:$C$400<=$BT17)*(Eingabe!$D$6:$D$400>$BT17)*(Eingabe!$B$6:$B$400=BW$3)*(Eingabe!$E$6:$E$400))","v":0},{"$f":"SUMPRODUCT((Eingabe!$C$6:$C$400<$BT17)*(Eingabe!$D$6:$D$400>=$BT17)*(Eingabe!$B$6:$B$400=BW$3)*(Eingabe!$E$6:$E$400))","v":0},{"$f":"SUMPRODUCT((Eingabe!$C$6:$C$400<=$BT17)*(Eingabe!$D$6:$D$400>$BT17)*(Eingabe!$B$6:$B$400=BY$3)*(Eingabe!$E$6:$E$400))","v":0},{"$f":"SUMPRODUCT((Eingabe!$C$6:$C$400<$BT17)*(Eingabe!$D$6:$D$400>=$BT17)*(Eingabe!$B$6:$B$400=BY$3)*(Eingabe!$E$6:$E$400))","v":0},{"$f":"SUMPRODUCT((Eingabe!$C$6:$C$400<=$BT17)*(Eingabe!$D$6:$D$400>$BT17)*(Eingabe!$B$6:$B$400=CA$3)*(Eingabe!$E$6:$E$400))","v":0},{"$f":"SUMPRODUCT((Eingabe!$C$6:$C$400<$BT17)*(Eingabe!$D$6:$D$400>=$BT17)*(Eingabe!$B$6:$B$400=CA$3)*(Eingabe!$E$6:$E$400))","v":0},"2025-09-14","2025-09-14",{"$f":"SUMPRODUCT((Eingabe!$C$6:$C$400<=$CD17)*(Eingabe!$D$6:$D$400>$CD17)*(Eingabe!$B$6:$B$400=CE$3)*(Eingabe!$E$6:$E$400))","v":0},{"$f":"SUMPRODUCT((Eingabe!$C$6:$C$400<$CD17)*(Eingabe!$D$6:$D$400>=$CD17)*(Eingabe!$B$6:$B$400=CE$3)*(Eingabe!$E$6:$E$400))","v":0},{"$f":"SUMPRODUCT((Eingabe!$C$6:$C$400<=$CD17)*(Eingabe!$D$6:$D$400>$CD17)*(Eingabe!$B$6:$B$400=CG$3)*(Eingabe!$E$6:$E$400))","v":0},{"$f":"SUMPRODUCT((Eingabe!$C$6:$C$400<$CD17)*(Eingabe!$D$6:$D$400>=$CD17)*(Eingabe!$B$6:$B$400=CG$3)*(Eingabe!$E$6:$E$400))","v":0},{"$f":"SUMPRODUCT((Eingabe!$C$6:$C$400<=$CD17)*(Eingabe!$D$6:$D$400>$CD17)*(Eingabe!$B$6:$B$400=CI$3)*(Eingabe!$E$6:$E$400))","v":0},{"$f":"SUMPRODUCT((Eingabe!$C$6:$C$400<$CD17)*(Eingabe!$D$6:$D$400>=$CD17)*(Eingabe!$B$6:$B$400=CI$3)*(Eingabe!$E$6:$E$400))","v":0},{"$f":"SUMPRODUCT((Eingabe!$C$6:$C$400<=$CD17)*(Eingabe!$D$6:$D$400>$CD17)*(Eingabe!$B$6:$B$400=CK$3)*(Eingabe!$E$6:$E$400))","v":0},{"$f":"SUMPRODUCT((Eingabe!$C$6:$C$400<$CD17)*(Eingabe!$D$6:$D$400>=$CD17)*(Eingabe!$B$6:$B$400=CK$3)*(Eingabe!$E$6:$E$400))","v":0},"2025-10-14","2025-10-14",{"$f":"SUMPRODUCT((Eingabe!$C$6:$C$400<=$CN17)*(Eingabe!$D$6:$D$400>$CN17)*(Eingabe!$B$6:$B$400=CO$3)*(Eingabe!$E$6:$E$400))","v":7},{"$f":"SUMPRODUCT((Eingabe!$C$6:$C$400<$CN17)*(Eingabe!$D$6:$D$400>=$CN17)*(Eingabe!$B$6:$B$400=CO$3)*(Eingabe!$E$6:$E$400))","v":7},{"$f":"SUMPRODUCT((Eingabe!$C$6:$C$400<=$CN17)*(Eingabe!$D$6:$D$400>$CN17)*(Eingabe!$B$6:$B$400=CQ$3)*(Eingabe!$E$6:$E$400))","v":0},{"$f":"SUMPRODUCT((Eingabe!$C$6:$C$400<$CN17)*(Eingabe!$D$6:$D$400>=$CN17)*(Eingabe!$B$6:$B$400=CQ$3)*(Eingabe!$E$6:$E$400))","v":0},{"$f":"SUMPRODUCT((Eingabe!$C$6:$C$400<=$CN17)*(Eingabe!$D$6:$D$400>$CN17)*(Eingabe!$B$6:$B$400=CS$3)*(Eingabe!$E$6:$E$400))","v":0},{"$f":"SUMPRODUCT((Eingabe!$C$6:$C$400<$CN17)*(Eingabe!$D$6:$D$400>=$CN17)*(Eingabe!$B$6:$B$400=CS$3)*(Eingabe!$E$6:$E$400))","v":0},{"$f":"SUMPRODUCT((Eingabe!$C$6:$C$400<=$CN17)*(Eingabe!$D$6:$D$400>$CN17)*(Eingabe!$B$6:$B$400=CU$3)*(Eingabe!$E$6:$E$400))","v":0},{"$f":"SUMPRODUCT((Eingabe!$C$6:$C$400<$CN17)*(Eingabe!$D$6:$D$400>=$CN17)*(Eingabe!$B$6:$B$400=CU$3)*(Eingabe!$E$6:$E$400))","v":0},"2025-11-14","2025-11-14",{"$f":"SUMPRODUCT((Eingabe!$C$6:$C$400<=$CX17)*(Eingabe!$D$6:$D$400>$CX17)*(Eingabe!$B$6:$B$400=CY$3)*(Eingabe!$E$6:$E$400))","v":7},{"$f":"SUMPRODUCT((Eingabe!$C$6:$C$400<$CX17)*(Eingabe!$D$6:$D$400>=$CX17)*(Eingabe!$B$6:$B$400=CY$3)*(Eingabe!$E$6:$E$400))","v":7},{"$f":"SUMPRODUCT((Eingabe!$C$6:$C$400<=$CX17)*(Eingabe!$D$6:$D$400>$CX17)*(Eingabe!$B$6:$B$400=DA$3)*(Eingabe!$E$6:$E$400))","v":0},{"$f":"SUMPRODUCT((Eingabe!$C$6:$C$400<$CX17)*(Eingabe!$D$6:$D$400>=$CX17)*(Eingabe!$B$6:$B$400=DA$3)*(Eingabe!$E$6:$E$400))","v":0},{"$f":"SUMPRODUCT((Eingabe!$C$6:$C$400<=$CX17)*(Eingabe!$D$6:$D$400>$CX17)*(Eingabe!$B$6:$B$400=DC$3)*(Eingabe!$E$6:$E$400))","v":0},{"$f":"SUMPRODUCT((Eingabe!$C$6:$C$400<$CX17)*(Eingabe!$D$6:$D$400>=$CX17)*(Eingabe!$B$6:$B$400=DC$3)*(Eingabe!$E$6:$E$400))","v":0},{"$f":"SUMPRODUCT((Eingabe!$C$6:$C$400<=$CX17)*(Eingabe!$D$6:$D$400>$CX17)*(Eingabe!$B$6:$B$400=DE$3)*(Eingabe!$E$6:$E$400))","v":0},{"$f":"SUMPRODUCT((Eingabe!$C$6:$C$400<$CX17)*(Eingabe!$D$6:$D$400>=$CX17)*(Eingabe!$B$6:$B$400=DE$3)*(Eingabe!$E$6:$E$400))","v":0},"2025-12-14","2025-12-14",{"$f":"SUMPRODUCT((Eingabe!$C$6:$C$400<=$DH17)*(Eingabe!$D$6:$D$400>$DH17)*(Eingabe!$B$6:$B$400=DI$3)*(Eingabe!$E$6:$E$400))","v":7},{"$f":"SUMPRODUCT((Eingabe!$C$6:$C$400<$DH17)*(Eingabe!$D$6:$D$400>=$DH17)*(Eingabe!$B$6:$B$400=DI$3)*(Eingabe!$E$6:$E$400))","v":7},{"$f":"SUMPRODUCT((Eingabe!$C$6:$C$400<=$DH17)*(Eingabe!$D$6:$D$400>$DH17)*(Eingabe!$B$6:$B$400=DK$3)*(Eingabe!$E$6:$E$400))","v":0},{"$f":"SUMPRODUCT((Eingabe!$C$6:$C$400<$DH17)*(Eingabe!$D$6:$D$400>=$DH17)*(Eingabe!$B$6:$B$400=DK$3)*(Eingabe!$E$6:$E$400))","v":0},{"$f":"SUMPRODUCT((Eingabe!$C$6:$C$400<=$DH17)*(Eingabe!$D$6:$D$400>$DH17)*(Eingabe!$B$6:$B$400=DM$3)*(Eingabe!$E$6:$E$400))","v":0},{"$f":"SUMPRODUCT((Eingabe!$C$6:$C$400<$DH17)*(Eingabe!$D$6:$D$400>=$DH17)*(Eingabe!$B$6:$B$400=DM$3)*(Eingabe!$E$6:$E$400))","v":0},{"$f":"SUMPRODUCT((Eingabe!$C$6:$C$400<=$DH17)*(Eingabe!$D$6:$D$400>$DH17)*(Eingabe!$B$6:$B$400=DO$3)*(Eingabe!$E$6:$E$400))","v":0},{"$f":"SUMPRODUCT((Eingabe!$C$6:$C$400<$DH17)*(Eingabe!$D$6:$D$400>=$DH17)*(Eingabe!$B$6:$B$400=DO$3)*(Eingabe!$E$6:$E$400))","v":0},"2026-01-14","2026-01-14",{"$f":"SUMPRODUCT((Eingabe!$C$6:$C$400<=$B17)*(Eingabe!$D$6:$D$400>$B17)*(Eingabe!$B$6:$B$400=DS$3)*(Eingabe!$E$6:$E$400))","v":7},{"$f":"SUMPRODUCT((Eingabe!$C$6:$C$400<$B17)*(Eingabe!$D$6:$D$400>=$B17)*(Eingabe!$B$6:$B$400=DS$3)*(Eingabe!$E$6:$E$400))","v":7},{"$f":"SUMPRODUCT((Eingabe!$C$6:$C$400<=$B17)*(Eingabe!$D$6:$D$400>$B17)*(Eingabe!$B$6:$B$400=DU$3)*(Eingabe!$E$6:$E$400))","v":0},{"$f":"SUMPRODUCT((Eingabe!$C$6:$C$400<$B17)*(Eingabe!$D$6:$D$400>=$B17)*(Eingabe!$B$6:$B$400=DU$3)*(Eingabe!$E$6:$E$400))","v":0},{"$f":"SUMPRODUCT((Eingabe!$C$6:$C$400<=$B17)*(Eingabe!$D$6:$D$400>$B17)*(Eingabe!$B$6:$B$400=DW$3)*(Eingabe!$E$6:$E$400))","v":0},{"$f":"SUMPRODUCT((Eingabe!$C$6:$C$400<$B17)*(Eingabe!$D$6:$D$400>=$B17)*(Eingabe!$B$6:$B$400=DW$3)*(Eingabe!$E$6:$E$400))","v":0},{"$f":"SUMPRODUCT((Eingabe!$C$6:$C$400<=$B17)*(Eingabe!$D$6:$D$400>$B17)*(Eingabe!$B$6:$B$400=DY$3)*(Eingabe!$E$6:$E$400))","v":7},{"$f":"SUMPRODUCT((Eingabe!$C$6:$C$400<$B17)*(Eingabe!$D$6:$D$400>=$B17)*(Eingabe!$B$6:$B$400=DY$3)*(Eingabe!$E$6:$E$400))","v":7},"2026-02-14","2026-02-14",{"$f":"SUMPRODUCT((Eingabe!$C$6:$C$400<=$L17)*(Eingabe!$D$6:$D$400>$L17)*(Eingabe!$B$6:$B$400=EC$3)*(Eingabe!$E$6:$E$400))","v":0},{"$f":"SUMPRODUCT((Eingabe!$C$6:$C$400<$L17)*(Eingabe!$D$6:$D$400>=$L17)*(Eingabe!$B$6:$B$400=EC$3)*(Eingabe!$E$6:$E$400))","v":0},{"$f":"SUMPRODUCT((Eingabe!$C$6:$C$400<=$L17)*(Eingabe!$D$6:$D$400>$L17)*(Eingabe!$B$6:$B$400=EE$3)*(Eingabe!$E$6:$E$400))","v":0},{"$f":"SUMPRODUCT((Eingabe!$C$6:$C$400<$L17)*(Eingabe!$D$6:$D$400>=$L17)*(Eingabe!$B$6:$B$400=EE$3)*(Eingabe!$E$6:$E$400))","v":0},{"$f":"SUMPRODUCT((Eingabe!$C$6:$C$400<=$L17)*(Eingabe!$D$6:$D$400>$L17)*(Eingabe!$B$6:$B$400=EG$3)*(Eingabe!$E$6:$E$400))","v":0},{"$f":"SUMPRODUCT((Eingabe!$C$6:$C$400<$L17)*(Eingabe!$D$6:$D$400>=$L17)*(Eingabe!$B$6:$B$400=EG$3)*(Eingabe!$E$6:$E$400))","v":0},{"$f":"SUMPRODUCT((Eingabe!$C$6:$C$400<=$L17)*(Eingabe!$D$6:$D$400>$L17)*(Eingabe!$B$6:$B$400=EI$3)*(Eingabe!$E$6:$E$400))","v":0},{"$f":"SUMPRODUCT((Eingabe!$C$6:$C$400<$L17)*(Eingabe!$D$6:$D$400>=$L17)*(Eingabe!$B$6:$B$400=EI$3)*(Eingabe!$E$6:$E$400))","v":0},"2026-03-14","2026-03-14",{"$f":"SUMPRODUCT((Eingabe!$C$6:$C$400<=$V17)*(Eingabe!$D$6:$D$400>$V17)*(Eingabe!$B$6:$B$400=EM$3)*(Eingabe!$E$6:$E$400))","v":0},{"$f":"SUMPRODUCT((Eingabe!$C$6:$C$400<$V17)*(Eingabe!$D$6:$D$400>=$V17)*(Eingabe!$B$6:$B$400=EM$3)*(Eingabe!$E$6:$E$400))","v":0},{"$f":"SUMPRODUCT((Eingabe!$C$6:$C$400<=$V17)*(Eingabe!$D$6:$D$400>$V17)*(Eingabe!$B$6:$B$400=EO$3)*(Eingabe!$E$6:$E$400))","v":0},{"$f":"SUMPRODUCT((Eingabe!$C$6:$C$400<$V17)*(Eingabe!$D$6:$D$400>=$V17)*(Eingabe!$B$6:$B$400=EO$3)*(Eingabe!$E$6:$E$400))","v":0},{"$f":"SUMPRODUCT((Eingabe!$C$6:$C$400<=$V17)*(Eingabe!$D$6:$D$400>$V17)*(Eingabe!$B$6:$B$400=EQ$3)*(Eingabe!$E$6:$E$400))","v":0},{"$f":"SUMPRODUCT((Eingabe!$C$6:$C$400<$V17)*(Eingabe!$D$6:$D$400>=$V17)*(Eingabe!$B$6:$B$400=EQ$3)*(Eingabe!$E$6:$E$400))","v":0},{"$f":"SUMPRODUCT((Eingabe!$C$6:$C$400<=$V17)*(Eingabe!$D$6:$D$400>$V17)*(Eingabe!$B$6:$B$400=ES$3)*(Eingabe!$E$6:$E$400))","v":0},{"$f":"SUMPRODUCT((Eingabe!$C$6:$C$400<$V17)*(Eingabe!$D$6:$D$400>=$V17)*(Eingabe!$B$6:$B$400=ES$3)*(Eingabe!$E$6:$E$400))","v":0},"2026-04-14","2026-04-14",{"$f":"SUMPRODUCT((Eingabe!$C$6:$C$400<=$AF17)*(Eingabe!$D$6:$D$400>$AF17)*(Eingabe!$B$6:$B$400=EW$3)*(Eingabe!$E$6:$E$400))","v":0},{"$f":"SUMPRODUCT((Eingabe!$C$6:$C$400<$AF17)*(Eingabe!$D$6:$D$400>=$AF17)*(Eingabe!$B$6:$B$400=EW$3)*(Eingabe!$E$6:$E$400))","v":0},{"$f":"SUMPRODUCT((Eingabe!$C$6:$C$400<=$AF17)*(Eingabe!$D$6:$D$400>$AF17)*(Eingabe!$B$6:$B$400=EY$3)*(Eingabe!$E$6:$E$400))","v":6},{"$f":"SUMPRODUCT((Eingabe!$C$6:$C$400<$AF17)*(Eingabe!$D$6:$D$400>=$AF17)*(Eingabe!$B$6:$B$400=EY$3)*(Eingabe!$E$6:$E$400))","v":6},{"$f":"SUMPRODUCT((Eingabe!$C$6:$C$400<=$AF17)*(Eingabe!$D$6:$D$400>$AF17)*(Eingabe!$B$6:$B$400=FA$3)*(Eingabe!$E$6:$E$400))","v":7},{"$f":"SUMPRODUCT((Eingabe!$C$6:$C$400<$AF17)*(Eingabe!$D$6:$D$400>=$AF17)*(Eingabe!$B$6:$B$400=FA$3)*(Eingabe!$E$6:$E$400))","v":7},{"$f":"SUMPRODUCT((Eingabe!$C$6:$C$400<=$AF17)*(Eingabe!$D$6:$D$400>$AF17)*(Eingabe!$B$6:$B$400=FC$3)*(Eingabe!$E$6:$E$400))","v":0},{"$f":"SUMPRODUCT((Eingabe!$C$6:$C$400<$AF17)*(Eingabe!$D$6:$D$400>=$AF17)*(Eingabe!$B$6:$B$400=FC$3)*(Eingabe!$E$6:$E$400))","v":0},"2026-05-14","2026-05-14",{"$f":"SUMPRODUCT((Eingabe!$C$6:$C$400<=$AP17)*(Eingabe!$D$6:$D$400>$AP17)*(Eingabe!$B$6:$B$400=FG$3)*(Eingabe!$E$6:$E$400))","v":0},{"$f":"SUMPRODUCT((Eingabe!$C$6:$C$400<$AP17)*(Eingabe!$D$6:$D$400>=$AP17)*(Eingabe!$B$6:$B$400=FG$3)*(Eingabe!$E$6:$E$400))","v":0},{"$f":"SUMPRODUCT((Eingabe!$C$6:$C$400<=$AP17)*(Eingabe!$D$6:$D$400>$AP17)*(Eingabe!$B$6:$B$400=FI$3)*(Eingabe!$E$6:$E$400))","v":0},{"$f":"SUMPRODUCT((Eingabe!$C$6:$C$400<$AP17)*(Eingabe!$D$6:$D$400>=$AP17)*(Eingabe!$B$6:$B$400=FI$3)*(Eingabe!$E$6:$E$400))","v":0},{"$f":"SUMPRODUCT((Eingabe!$C$6:$C$400<=$AP17)*(Eingabe!$D$6:$D$400>$AP17)*(Eingabe!$B$6:$B$400=FK$3)*(Eingabe!$E$6:$E$400))","v":0},{"$f":"SUMPRODUCT((Eingabe!$C$6:$C$400<$AP17)*(Eingabe!$D$6:$D$400>=$AP17)*(Eingabe!$B$6:$B$400=FK$3)*(Eingabe!$E$6:$E$400))","v":0},{"$f":"SUMPRODUCT((Eingabe!$C$6:$C$400<=$AP17)*(Eingabe!$D$6:$D$400>$AP17)*(Eingabe!$B$6:$B$400=FM$3)*(Eingabe!$E$6:$E$400))","v":0},{"$f":"SUMPRODUCT((Eingabe!$C$6:$C$400<$AP17)*(Eingabe!$D$6:$D$400>=$AP17)*(Eingabe!$B$6:$B$400=FM$3)*(Eingabe!$E$6:$E$400))","v":0},"2026-06-14","2026-06-14",{"$f":"SUMPRODUCT((Eingabe!$C$6:$C$400<=$AZ17)*(Eingabe!$D$6:$D$400>$AZ17)*(Eingabe!$B$6:$B$400=FQ$3)*(Eingabe!$E$6:$E$400))","v":0},{"$f":"SUMPRODUCT((Eingabe!$C$6:$C$400<$AZ17)*(Eingabe!$D$6:$D$400>=$AZ17)*(Eingabe!$B$6:$B$400=FQ$3)*(Eingabe!$E$6:$E$400))","v":0},{"$f":"SUMPRODUCT((Eingabe!$C$6:$C$400<=$AZ17)*(Eingabe!$D$6:$D$400>$AZ17)*(Eingabe!$B$6:$B$400=FS$3)*(Eingabe!$E$6:$E$400))","v":0},{"$f":"SUMPRODUCT((Eingabe!$C$6:$C$400<$AZ17)*(Eingabe!$D$6:$D$400>=$AZ17)*(Eingabe!$B$6:$B$400=FS$3)*(Eingabe!$E$6:$E$400))","v":0},{"$f":"SUMPRODUCT((Eingabe!$C$6:$C$400<=$AZ17)*(Eingabe!$D$6:$D$400>$AZ17)*(Eingabe!$B$6:$B$400=FU$3)*(Eingabe!$E$6:$E$400))","v":0},{"$f":"SUMPRODUCT((Eingabe!$C$6:$C$400<$AZ17)*(Eingabe!$D$6:$D$400>=$AZ17)*(Eingabe!$B$6:$B$400=FU$3)*(Eingabe!$E$6:$E$400))","v":0},{"$f":"SUMPRODUCT((Eingabe!$C$6:$C$400<=$AZ17)*(Eingabe!$D$6:$D$400>$AZ17)*(Eingabe!$B$6:$B$400=FW$3)*(Eingabe!$E$6:$E$400))","v":0},{"$f":"SUMPRODUCT((Eingabe!$C$6:$C$400<$AZ17)*(Eingabe!$D$6:$D$400>=$AZ17)*(Eingabe!$B$6:$B$400=FW$3)*(Eingabe!$E$6:$E$400))","v":0},"2026-07-14","2026-07-14",{"$f":"SUMPRODUCT((Eingabe!$C$6:$C$400<=$BJ17)*(Eingabe!$D$6:$D$400>$BJ17)*(Eingabe!$B$6:$B$400=GA$3)*(Eingabe!$E$6:$E$400))","v":6},{"$f":"SUMPRODUCT((Eingabe!$C$6:$C$400<$BJ17)*(Eingabe!$D$6:$D$400>=$BJ17)*(Eingabe!$B$6:$B$400=GA$3)*(Eingabe!$E$6:$E$400))","v":6},{"$f":"SUMPRODUCT((Eingabe!$C$6:$C$400<=$BJ17)*(Eingabe!$D$6:$D$400>$BJ17)*(Eingabe!$B$6:$B$400=GC$3)*(Eingabe!$E$6:$E$400))","v":7},{"$f":"SUMPRODUCT((Eingabe!$C$6:$C$400<$BJ17)*(Eingabe!$D$6:$D$400>=$BJ17)*(Eingabe!$B$6:$B$400=GC$3)*(Eingabe!$E$6:$E$400))","v":7},{"$f":"SUMPRODUCT((Eingabe!$C$6:$C$400<=$BJ17)*(Eingabe!$D$6:$D$400>$BJ17)*(Eingabe!$B$6:$B$400=GE$3)*(Eingabe!$E$6:$E$400))","v":0},{"$f":"SUMPRODUCT((Eingabe!$C$6:$C$400<$BJ17)*(Eingabe!$D$6:$D$400>=$BJ17)*(Eingabe!$B$6:$B$400=GE$3)*(Eingabe!$E$6:$E$400))","v":0},{"$f":"SUMPRODUCT((Eingabe!$C$6:$C$400<=$BJ17)*(Eingabe!$D$6:$D$400>$BJ17)*(Eingabe!$B$6:$B$400=GG$3)*(Eingabe!$E$6:$E$400))","v":0},{"$f":"SUMPRODUCT((Eingabe!$C$6:$C$400<$BJ17)*(Eingabe!$D$6:$D$400>=$BJ17)*(Eingabe!$B$6:$B$400=GG$3)*(Eingabe!$E$6:$E$400))","v":0},"2026-08-14","2026-08-14",{"$f":"SUMPRODUCT((Eingabe!$C$6:$C$400<=$BT17)*(Eingabe!$D$6:$D$400>$BT17)*(Eingabe!$B$6:$B$400=GK$3)*(Eingabe!$E$6:$E$400))","v":0},{"$f":"SUMPRODUCT((Eingabe!$C$6:$C$400<$BT17)*(Eingabe!$D$6:$D$400>=$BT17)*(Eingabe!$B$6:$B$400=GK$3)*(Eingabe!$E$6:$E$400))","v":0},{"$f":"SUMPRODUCT((Eingabe!$C$6:$C$400<=$BT17)*(Eingabe!$D$6:$D$400>$BT17)*(Eingabe!$B$6:$B$400=GM$3)*(Eingabe!$E$6:$E$400))","v":0},{"$f":"SUMPRODUCT((Eingabe!$C$6:$C$400<$BT17)*(Eingabe!$D$6:$D$400>=$BT17)*(Eingabe!$B$6:$B$400=GM$3)*(Eingabe!$E$6:$E$400))","v":0},{"$f":"SUMPRODUCT((Eingabe!$C$6:$C$400<=$BT17)*(Eingabe!$D$6:$D$400>$BT17)*(Eingabe!$B$6:$B$400=GO$3)*(Eingabe!$E$6:$E$400))","v":0},{"$f":"SUMPRODUCT((Eingabe!$C$6:$C$400<$BT17)*(Eingabe!$D$6:$D$400>=$BT17)*(Eingabe!$B$6:$B$400=GO$3)*(Eingabe!$E$6:$E$400))","v":0},{"$f":"SUMPRODUCT((Eingabe!$C$6:$C$400<=$BT17)*(Eingabe!$D$6:$D$400>$BT17)*(Eingabe!$B$6:$B$400=GQ$3)*(Eingabe!$E$6:$E$400))","v":0},{"$f":"SUMPRODUCT((Eingabe!$C$6:$C$400<$BT17)*(Eingabe!$D$6:$D$400>=$BT17)*(Eingabe!$B$6:$B$400=GQ$3)*(Eingabe!$E$6:$E$400))","v":0},"2026-09-14","2026-09-14",{"$f":"SUMPRODUCT((Eingabe!$C$6:$C$400<=$CD17)*(Eingabe!$D$6:$D$400>$CD17)*(Eingabe!$B$6:$B$400=GU$3)*(Eingabe!$E$6:$E$400))","v":0},{"$f":"SUMPRODUCT((Eingabe!$C$6:$C$400<$CD17)*(Eingabe!$D$6:$D$400>=$CD17)*(Eingabe!$B$6:$B$400=GU$3)*(Eingabe!$E$6:$E$400))","v":0},{"$f":"SUMPRODUCT((Eingabe!$C$6:$C$400<=$CD17)*(Eingabe!$D$6:$D$400>$CD17)*(Eingabe!$B$6:$B$400=GW$3)*(Eingabe!$E$6:$E$400))","v":0},{"$f":"SUMPRODUCT((Eingabe!$C$6:$C$400<$CD17)*(Eingabe!$D$6:$D$400>=$CD17)*(Eingabe!$B$6:$B$400=GW$3)*(Eingabe!$E$6:$E$400))","v":0},{"$f":"SUMPRODUCT((Eingabe!$C$6:$C$400<=$CD17)*(Eingabe!$D$6:$D$400>$CD17)*(Eingabe!$B$6:$B$400=GY$3)*(Eingabe!$E$6:$E$400))","v":0},{"$f":"SUMPRODUCT((Eingabe!$C$6:$C$400<$CD17)*(Eingabe!$D$6:$D$400>=$CD17)*(Eingabe!$B$6:$B$400=GY$3)*(Eingabe!$E$6:$E$400))","v":0},{"$f":"SUMPRODUCT((Eingabe!$C$6:$C$400<=$CD17)*(Eingabe!$D$6:$D$400>$CD17)*(Eingabe!$B$6:$B$400=HA$3)*(Eingabe!$E$6:$E$400))","v":0},{"$f":"SUMPRODUCT((Eingabe!$C$6:$C$400<$CD17)*(Eingabe!$D$6:$D$400>=$CD17)*(Eingabe!$B$6:$B$400=HA$3)*(Eingabe!$E$6:$E$400))","v":0},"2026-10-14","2026-10-14",{"$f":"SUMPRODUCT((Eingabe!$C$6:$C$400<=$CN17)*(Eingabe!$D$6:$D$400>$CN17)*(Eingabe!$B$6:$B$400=HE$3)*(Eingabe!$E$6:$E$400))","v":7},{"$f":"SUMPRODUCT((Eingabe!$C$6:$C$400<$CN17)*(Eingabe!$D$6:$D$400>=$CN17)*(Eingabe!$B$6:$B$400=HE$3)*(Eingabe!$E$6:$E$400))","v":7},{"$f":"SUMPRODUCT((Eingabe!$C$6:$C$400<=$CN17)*(Eingabe!$D$6:$D$400>$CN17)*(Eingabe!$B$6:$B$400=HG$3)*(Eingabe!$E$6:$E$400))","v":0},{"$f":"SUMPRODUCT((Eingabe!$C$6:$C$400<$CN17)*(Eingabe!$D$6:$D$400>=$CN17)*(Eingabe!$B$6:$B$400=HG$3)*(Eingabe!$E$6:$E$400))","v":0},{"$f":"SUMPRODUCT((Eingabe!$C$6:$C$400<=$CN17)*(Eingabe!$D$6:$D$400>$CN17)*(Eingabe!$B$6:$B$400=HI$3)*(Eingabe!$E$6:$E$400))","v":0},{"$f":"SUMPRODUCT((Eingabe!$C$6:$C$400<$CN17)*(Eingabe!$D$6:$D$400>=$CN17)*(Eingabe!$B$6:$B$400=HI$3)*(Eingabe!$E$6:$E$400))","v":0},{"$f":"SUMPRODUCT((Eingabe!$C$6:$C$400<=$CN17)*(Eingabe!$D$6:$D$400>$CN17)*(Eingabe!$B$6:$B$400=HK$3)*(Eingabe!$E$6:$E$400))","v":0},{"$f":"SUMPRODUCT((Eingabe!$C$6:$C$400<$CN17)*(Eingabe!$D$6:$D$400>=$CN17)*(Eingabe!$B$6:$B$400=HK$3)*(Eingabe!$E$6:$E$400))","v":0},"2026-11-14","2026-11-14",{"$f":"SUMPRODUCT((Eingabe!$C$6:$C$400<=$CX17)*(Eingabe!$D$6:$D$400>$CX17)*(Eingabe!$B$6:$B$400=HO$3)*(Eingabe!$E$6:$E$400))","v":7},{"$f":"SUMPRODUCT((Eingabe!$C$6:$C$400<$CX17)*(Eingabe!$D$6:$D$400>=$CX17)*(Eingabe!$B$6:$B$400=HO$3)*(Eingabe!$E$6:$E$400))","v":7},{"$f":"SUMPRODUCT((Eingabe!$C$6:$C$400<=$CX17)*(Eingabe!$D$6:$D$400>$CX17)*(Eingabe!$B$6:$B$400=HQ$3)*(Eingabe!$E$6:$E$400))","v":0},{"$f":"SUMPRODUCT((Eingabe!$C$6:$C$400<$CX17)*(Eingabe!$D$6:$D$400>=$CX17)*(Eingabe!$B$6:$B$400=HQ$3)*(Eingabe!$E$6:$E$400))","v":0},{"$f":"SUMPRODUCT((Eingabe!$C$6:$C$400<=$CX17)*(Eingabe!$D$6:$D$400>$CX17)*(Eingabe!$B$6:$B$400=HS$3)*(Eingabe!$E$6:$E$400))","v":0},{"$f":"SUMPRODUCT((Eingabe!$C$6:$C$400<$CX17)*(Eingabe!$D$6:$D$400>=$CX17)*(Eingabe!$B$6:$B$400=HS$3)*(Eingabe!$E$6:$E$400))","v":0},{"$f":"SUMPRODUCT((Eingabe!$C$6:$C$400<=$CX17)*(Eingabe!$D$6:$D$400>$CX17)*(Eingabe!$B$6:$B$400=HU$3)*(Eingabe!$E$6:$E$400))","v":0},{"$f":"SUMPRODUCT((Eingabe!$C$6:$C$400<$CX17)*(Eingabe!$D$6:$D$400>=$CX17)*(Eingabe!$B$6:$B$400=HU$3)*(Eingabe!$E$6:$E$400))","v":0},"2026-12-14","2026-12-14",{"$f":"SUMPRODUCT((Eingabe!$C$6:$C$400<=$DH17)*(Eingabe!$D$6:$D$400>$DH17)*(Eingabe!$B$6:$B$400=HY$3)*(Eingabe!$E$6:$E$400))","v":7},{"$f":"SUMPRODUCT((Eingabe!$C$6:$C$400<$DH17)*(Eingabe!$D$6:$D$400>=$DH17)*(Eingabe!$B$6:$B$400=HY$3)*(Eingabe!$E$6:$E$400))","v":7},{"$f":"SUMPRODUCT((Eingabe!$C$6:$C$400<=$DH17)*(Eingabe!$D$6:$D$400>$DH17)*(Eingabe!$B$6:$B$400=IA$3)*(Eingabe!$E$6:$E$400))","v":0},{"$f":"SUMPRODUCT((Eingabe!$C$6:$C$400<$DH17)*(Eingabe!$D$6:$D$400>=$DH17)*(Eingabe!$B$6:$B$400=IA$3)*(Eingabe!$E$6:$E$400))","v":0},{"$f":"SUMPRODUCT((Eingabe!$C$6:$C$400<=$DH17)*(Eingabe!$D$6:$D$400>$DH17)*(Eingabe!$B$6:$B$400=IC$3)*(Eingabe!$E$6:$E$400))","v":0},{"$f":"SUMPRODUCT((Eingabe!$C$6:$C$400<$DH17)*(Eingabe!$D$6:$D$400>=$DH17)*(Eingabe!$B$6:$B$400=IC$3)*(Eingabe!$E$6:$E$400))","v":0},{"$f":"SUMPRODUCT((Eingabe!$C$6:$C$400<=$DH17)*(Eingabe!$D$6:$D$400>$DH17)*(Eingabe!$B$6:$B$400=IE$3)*(Eingabe!$E$6:$E$400))","v":0},{"$f":"SUMPRODUCT((Eingabe!$C$6:$C$400<$DH17)*(Eingabe!$D$6:$D$400>=$DH17)*(Eingabe!$B$6:$B$400=IE$3)*(Eingabe!$E$6:$E$400))","v":0}]
["2025-01-15","2025-01-15",{"$f":"SUMPRODUCT((Eingabe!$C$6:$C$400<=$B18)*(Eingabe!$D$6:$D$400>$B18)*(Eingabe!$B$6:$B$400=C$3)*(Eingabe!$E$6:$E$400))","v":7},{"$f":"SUMPRODUCT((Eingabe!$C$6:$C$400<$B18)*(Eingabe!$D$6:$D$400>=$B18)*(Eingabe!$B$6:$B$400=C$3)*(Eingabe!$E$6:$E$400))","v":7},{"$f":"SUMPRODUCT((Eingabe!$C$6:$C$400<=$B18)*(Eingabe!$D$6:$D$400>$B18)*(Eingabe!$B$6:$B$400=E$3)*(Eingabe!$E$6:$E$400))","v":0},{"$f":"SUMPRODUCT((Eingabe!$C$6:$C$400<$B18)*(Eingabe!$D$6:$D$400>=$B18)*(Eingabe!$B$6:$B$400=E$3)*(Eingabe!$E$6:$E$400))","v":0},{"$f":"SUMPRODUCT((Eingabe!$C$6:$C$400<=$B18)*(Eingabe!$D$6:$D$400>$B18)*(Eingabe!$B$6:$B$400=G$3)*(Eingabe!$E$6:$E$400))","v":0},{"$f":"SUMPRODUCT((Eingabe!$C$6:$C$400<$B18)*(Eingabe!$D$6:$D$400>=$B18)*(Eingabe!$B$6:$B$400=G$3)*(Eingabe!$E$6:$E$400))","v":0},{"$f":"SUMPRODUCT((Eingabe!$C$6:$C$400<=$B18)*(Eingabe!$D$6:$D$400>$B18)*(Eingabe!$B$6:$B$400=I$3)*(Eingabe!$E$6:$E$400))","v":7},{"$f":"SUMPRODUCT((Eingabe!$C$6:$C$400<$B18)*(Eingabe!$D$6:$D$400>=$B18)*(Eingabe!$B$6:$B$400=I$3)*(Eingabe!$E$6:$E$400))","v":7},"2025-02-15","2025-02-15",{"$f":"SUMPRODUCT((Eingabe!$C$6:$C$400<=$L18)*(Eingabe!$D$6:$D$400>$L18)*(Eingabe!$B$6:$B$400=M$3)*(Eingabe!$E$6:$E$400))","v":0},{"$f":"SUMPRODUCT((Eingabe!$C$6:$C$400<$L18)*(Eingabe!$D$6:$D$400>=$L18)*(Eingabe!$B$6:$B$400=M$3)*(Eingabe!$E$6:$E$400))","v":0},{"$f":"SUMPRODUCT((Eingabe!$C$6:$C$400<=$L18)*(Eingabe!$D$6:$D$400>$L18)*(Eingabe!$B$6:$B$400=O$3)*(Eingabe!$E$6:$E$400))","v":0},{"$f":"SUMPRODUCT((Eingabe!$C$6:$C$400<$L18)*(Eingabe!$D$6:$D$400>=$L18)*(Eingabe!$B$6:$B$400=O$3)*(Eingabe!$E$6:$E$400))","v":0},{"$f":"SUMPRODUCT((Eingabe!$C$6:$C$400<=$L18)*(Eingabe!$D$6:$D$400>$L18)*(Eingabe!$B$6:$B$400=Q$3)*(Eingabe!$E$6:$E$400))","v":0},{"$f":"SUMPRODUCT((Eingabe!$C$6:$C$400<$L18)*(Eingabe!$D$6:$D$400>=$L18)*(Eingabe!$B$6:$B$400=Q$3)*(Eingabe!$E$6:$E$400))","v":0},{"$f":"SUMPRODUCT((Eingabe!$C$6:$C$400<=$L18)*(Eingabe!$D$6:$D$400>$L18)*(Eingabe!$B$6:$B$400=S$3)*(Eingabe!$E$6:$E$400))","v":0},{"$f":"SUMPRODUCT((Eingabe!$C$6:$C$400<$L18)*(Eingabe!$D$6:$D$400>=$L18)*(Eingabe!$B$6:$B$400=S$3)*(Eingabe!$E$6:$E$400))","v":0},"2025-03-15","2025-03-15",{"$f":"SUMPRODUCT((Eingabe!$C$6:$C$400<=$V18)*(Eingabe!$D$6:$D$400>$V18)*(Eingabe!$B$6:$B$400=W$3)*(Eingabe!$E$6:$E$400))","v":0},{"$f":"SUMPRODUCT((Eingabe!$C$6:$C$400<$V18)*(Eingabe!$D$6:$D$400>=$V18)*(Eingabe!$B$6:$B$400=W$3)*(Eingabe!$E$6:$E$400))","v":0},{"$f":"SUMPRODUCT((Eingabe!$C$6:$C$400<=$V18)*(Eingabe!$D$6:$D$400>$V18)*(Eingabe!$B$6:$B$400=Y$3)*(Eingabe!$E$6:$E$400))","v":0},{"$f":"SUMPRODUCT((Eingabe!$C$6:$C$400<$V18)*(Eingabe!$D$6:$D$400>=$V18)*(Eingabe!$B$6:$B$400=Y$3)*(Eingabe!$E$6:$E$400))","v":0},{"$f":"SUMPRODUCT((Eingabe!$C$6:$C$400<=$V18)*(Eingabe!$D$6:$D$400>$V18)*(Eingabe!$B$6:$B$400=AA$3)*(Eingabe!$E$6:$E$400))","v":0},{"$f":"SUMPRODUCT((Eingabe!$C$6:$C$400<$V18)*(Eingabe!$D$6:$D$400>=$V18)*(Eingabe!$B$6:$B$400=AA$3)*(Eingabe!$E$6:$E$400))","v":0},{"$f":"SUMPRODUCT((Eingabe!$C$6:$C$400<=$V18)*(Eingabe!$D$6:$D$400>$V18)*(Eingabe!$B$6:$B$400=AC$3)*(Eingabe!$E$6:$E$400))","v":0},{"$f":"SUMPRODUCT((Eingabe!$C$6:$C$400<$V18)*(Eingabe!$D$6:$D$400>=$V18)*(Eingabe!$B$6:$B$400=AC$3)*(Eingabe!$E$6:$E$400))","v":0},"2025-04-15","2025-04-15",{"$f":"SUMPRODUCT((Eingabe!$C$6:$C$400<=$AF18)*(Eingabe!$D$6:$D$400>$AF18)*(Eingabe!$B$6:$B$400=AG$3)*(Eingabe!$E$6:$E$400))","v":0},{"$f":"SUMPRODUCT((Eingabe!$C$6:$C$400<$AF18)*(Eingabe!$D$6:$D$400>=$AF18)*(Eingabe!$B$6:$B$400=AG$3)*(Eingabe!$E$6:$E$400))","v":0},{"$f":"SUMPRODUCT((Eingabe!$C$6:$C$400<=$AF18)*(Eingabe!$D$6:$D$400>$AF18)*(Eingabe!$B$6:$B$400=AI$3)*(Eingabe!$E$6:$E$400))","v":0},{"$f":"SUMPRODUCT((Eingabe!$C$6:$C$400<$AF18)*(Eingabe!$D$6:$D$400>=$AF18)*(Eingabe!$B$6:$B$400=AI$3)*(Eingabe!$E$6:$E$400))","v":6},{"$f":"SUMPRODUCT((Eingabe!$C$6:$C$400<=$AF18)*(Eingabe!$D$6:$D$400>$AF18)*(Eingabe!$B$6:$B$400=AK$3)*(Eingabe!$E$6:$E$400))","v":7},{"$f":"SUMPRODUCT((Eingabe!$C$6:$C$400<$AF18)*(Eingabe!$D$6:$D$400>=$AF18)*(Eingabe!$B$6:$B$400=AK$3)*(Eingabe!$E$6:$E$400))","v":7},{"$f":"SUMPRODUCT((Eingabe!$C$6:$C$400<=$AF18)*(Eingabe!$D$6:$D$400>$AF18)*(Eingabe!$B$6:$B$400=AM$3)*(Eingabe!$E$6:$E$400))","v":0},{"$f":"SUMPRODUCT((Eingabe!$C$6:$C$400<$AF18)*(Eingabe!$D$6:$D$400>=$AF18)*(Eingabe!$B$6:$B$400=AM$3)*(Eingabe!$E$6:$E$400))","v":0},"2025-05-15","2025-05-15",{"$f":"SUMPRODUCT((Eingabe!$C$6:$C$400<=$AP18)*(Eingabe!$D$6:$D$400>$AP18)*(Eingabe!$B$6:$B$400=AQ$3)*(Eingabe!$E$6:$E$400))","v":0},{"$f":"SUMPRODUCT((Eingabe!$C$6:$C$400<$AP18)*(Eingabe!$D$6:$D$400>=$AP18)*(Eingabe!$B$6:$B$400=AQ$3)*(Eingabe!$E$6:$E$400))","v":0},{"$f":"SUMPRODUCT((Eingabe!$C$6:$C$400<=$AP18)*(Eingabe!$D$6:$D$400>$AP18)*(Eingabe!$B$6:$B$400=AS$3)*(Eingabe!$E$6:$E$400))","v":0},{"$f":"SUMPRODUCT((Eingabe!$C$6:$C$400<$AP18)*(Eingabe!$D$6:$D$400>=$AP18)*(Eingabe!$B$6:$B$400=AS$3)*(Eingabe!$E$6:$E$400))","v":0},{"$f":"SUMPRODUCT((Eingabe!$C$6:$C$400<=$AP18)*(Eingabe!$D$6:$D$400>$AP18)*(Eingabe!$B$6:$B$400=AU$3)*(Eingabe!$E$6:$E$400))","v":0},{"$f":"SUMPRODUCT((Eingabe!$C$6:$C$400<$AP18)*(Eingabe!$D$6:$D$400>=$AP18)*(Eingabe!$B$6:$B$400=AU$3)*(Eingabe!$E$6:$E$400))","v":0},{"$f":"SUMPRODUCT((Eingabe!$C$6:$C$400<=$AP18)*(Eingabe!$D$6:$D$400>$AP18)*(Eingabe!$B$6:$B$400=AW$3)*(Eingabe!$E$6:$E$400))","v":0},{"$f":"SUMPRODUCT((Eingabe!$C$6:$C$400<$AP18)*(Eingabe!$D$6:$D$400>=$AP18)*(Eingabe!$B$6:$B$400=AW$3)*(Eingabe!$E$6:$E$400))","v":0},"2025-06-15","2025-06-15",{"$f":"SUMPRODUCT((Eingabe!$C$6:$C$400<=$AZ18)*(Eingabe!$D$6:$D$400>$AZ18)*(Eingabe!$B$6:$B$400=BA$3)*(Eingabe!$E$6:$E$400))","v":0},{"$f":"SUMPRODUCT((Eingabe!$C$6:$C$400<$AZ18)*(Eingabe!$D$6:$D$400>=$AZ18)*(Eingabe!$B$6:$B$400=BA$3)*(Eingabe!$E$6:$E$400))","v":0},{"$f":"SUMPRODUCT((Eingabe!$C$6:$C$400<=$AZ18)*(Eingabe!$D$6:$D$400>$AZ18)*(Eingabe!$B$6:$B$400=BC$3)*(Eingabe!$E$6:$E$400))","v":0},{"$f":"SUMPRODUCT((Eingabe!$C$6:$C$400<$AZ18)*(Eingabe!$D$6:$D$400>=$AZ18)*(Eingabe!$B$6:$B$400=BC$3)*(Eingabe!$E$6:$E$400))","v":0},{"$f":"SUMPRODUCT((Eingabe!$C$6:$C$400<=$AZ18)*(Eingabe!$D$6:$D$400>$AZ18)*(Eingabe!$B$6:$B$400=BE$3)*(Eingabe!$E$6:$E$400))","v":0},{"$f":"SUMPRODUCT((Eingabe!$C$6:$C$400<$AZ18)*(Eingabe!$D$6:$D$400>=$AZ18)*(Eingabe!$B$6:$B$400=BE$3)*(Eingabe!$E$6:$E$400))","v":0},{"$f":"SUMPRODUCT((Eingabe!$C$6:$C$400<=$AZ18)*(Eingabe!$D$6:$D$400>$AZ18)*(Eingabe!$B$6:$B$400=BG$3)*(Eingabe!$E$6:$E$400))","v":0},{"$f":"SUMPRODUCT((Eingabe!$C$6:$C$400<$AZ18)*(Eingabe!$D$6:$D$400>=$AZ18)*(Eingabe!$B$6:$B$400=BG$3)*(Eingabe!$E$6:$E$400))","v":0},"2025-07-15","2025-07-15",{"$f":"SUMPRODUCT((Eingabe!$C$6:$C$400<=$BJ18)*(Eingabe!$D$6:$D$400>$BJ18)*(Eingabe!$B$6:$B$400=BK$3)*(Eingabe!$E$6:$E$400))","v":6},{"$f":"SUMPRODUCT((Eingabe!$C$6:$C$400<$BJ18)*(Eingabe!$D$6:$D$400>=$BJ18)*(Eingabe!$B$6:$B$400=BK$3)*(Eingabe!$E$6:$E$400))","v":6},{"$f":"SUMPRODUCT((Eingabe!$C$6:$C$400<=$BJ18)*(Eingabe!$D$6:$D$400>$BJ18)*(Eingabe!$B$6:$B$400=BM$3)*(Eingabe!$E$6:$E$400))","v":7},{"$f":"SUMPRODUCT((Eingabe!$C$6:$C$400<$BJ18)*(Eingabe!$D$6:$D$400>=$BJ18)*(Eingabe!$B$6:$B$400=BM$3)*(Eingabe!$E$6:$E$400))","v":7},{"$f":"SUMPRODUCT((Eingabe!$C$6:$C$400<=$BJ18)*(Eingabe!$D$6:$D$400>$BJ18)*(Eingabe!$B$6:$B$400=BO$3)*(Eingabe!$E$6:$E$400))","v":0},{"$f":"SUMPRODUCT((Eingabe!$C$6:$C$400<$BJ18)*(Eingabe!$D$6:$D$400>=$BJ18)*(Eingabe!$B$6:$B$400=BO$3)*(Eingabe!$E$6:$E$400))","v":0},{"$f":"SUMPRODUCT((Eingabe!$C$6:$C$400<=$BJ18)*(Eingabe!$D$6:$D$400>$BJ18)*(Eingabe!$B$6:$B$400=BQ$3)*(Eingabe!$E$6:$E$400))","v":0},{"$f":"SUMPRODUCT((Eingabe!$C$6:$C$400<$BJ18)*(Eingabe!$D$6:$D$400>=$BJ18)*(Eingabe!$B$6:$B$400=BQ$3)*(Eingabe!$E$6:$E$400))","v":0},"2025-08-15","2025-08-15",{"$f":"SUMPRODUCT((Eingabe!$C$6:$C$400<=$BT18)*(Eingabe!$D$6:$D$400>$BT18)*(Eingabe!$B$6:$B$400=BU$3)*(Eingabe!$E$6:$E$400))","v":0},{"$f":"SUMPRODUCT((Eingabe!$C$6:$C$400<$BT18)*(Eingabe!$D$6:$D$400>=$BT18)*(Eingabe!$B$6:$B$400=BU$3)*(Eingabe!$E$6:$E$400))","v":0},{"$f":"SUMPRODUCT((Eingabe!$C$6:$C$400<=$BT18)*(Eingabe!$D$6:$D$400>$BT18)*(Eingabe!$B$6:$B$400=BW$3)*(Eingabe!$E$6:$E$400))","v":0},{"$f":"SUMPRODUCT((Eingabe!$C$6:$C$400<$BT18)*(Eingabe!$D$6:$D$400>=$BT18)*(Eingabe!$B$6:$B$400=BW$3)*(Eingabe!$E$6:$E$400))","v":0},{"$f":"SUMPRODUCT((Eingabe!$C$6:$C$400<=$BT18)*(Eingabe!$D$6:$D$400>$BT18)*(Eingabe!$B$6:$B$400=BY$3)*(Eingabe!$E$6:$E$400))","v":0},{"$f":"SUMPRODUCT((Eingabe!$C$6:$C$400<$BT18)*(Eingabe!$D$6:$D$400>=$BT18)*(Eingabe!$B$6:$B$400=BY$3)*(Eingabe!$E$6:$E$400))","v":0},{"$f":"SUMPRODUCT((Eingabe!$C$6:$C$400<=$BT18)*(Eingabe!$D$6:$D$400>$BT18)*(Eingabe!$B$6:$B$400=CA$3)*(Eingabe!$E$6:$E$400))","v":0},{"$f":"SUMPRODUCT((Eingabe!$C$6:$C$400<$BT18)*(Eingabe!$D$6:$D$400>=$BT18)*(Eingabe!$B$6:$B$400=CA$3)*(Eingabe!$E$6:$E$400))","v":0},"2025-09-15","2025-09-15",{"$f":"SUMPRODUCT((Eingabe!$C$6:$C$400<=$CD18)*(Eingabe!$D$6:$D$400>$CD18)*(Eingabe!$B$6:$B$400=CE$3)*(Eingabe!$E$6:$E$400))","v":0},{"$f":"SUMPRODUCT((Eingabe!$C$6:$C$400<$CD18)*(Eingabe!$D$6:$D$400>=$CD18)*(Eingabe!$B$6:$B$400=CE$3)*(Eingabe!$E$6:$E$400))","v":0},{"$f":"SUMPRODUCT((Eingabe!$C$6:$C$400<=$CD18)*(Eingabe!$D$6:$D$400>$CD18)*(Eingabe!$B$6:$B$400=CG$3)*(Eingabe!$E$6:$E$400))","v":0},{"$f":"SUMPRODUCT((Eingabe!$C$6:$C$400<$CD18)*(Eingabe!$D$6:$D$400>=$CD18)*(Eingabe!$B$6:$B$400=CG$3)*(Eingabe!$E$6:$E$400))","v":0},{"$f":"SUMPRODUCT((Eingabe!$C$6:$C$400<=$CD18)*(Eingabe!$D$6:$D$400>$CD18)*(Eingabe!$B$6:$B$400=CI$3)*(Eingabe!$E$6:$E$400))","v":0},{"$f":"SUMPRODUCT((Eingabe!$C$6:$C$400<$CD18)*(Eingabe!$D$6:$D$400>=$CD18)*(Eingabe!$B$6:$B$400=CI$3)*(Eingabe!$E$6:$E$400))","v":0},{"$f":"SUMPRODUCT((Eingabe!$C$6:$C$400<=$CD18)*(Eingabe!$D$6:$D$400>$CD18)*(Eingabe!$B$6:$B$400=CK$3)*(Eingabe!$E$6:$E$400))","v":0},{"$f":"SUMPRODUCT((Eingabe!$C$6:$C$400<$CD18)*(Eingabe!$D$6:$D$400>=$CD18)*(Eingabe!$B$6:$B$400=CK$3)*(Eingabe!$E$6:$E$400))","v":0},"2025-10-15","2025-10-15",{"$f":"SUMPRODUCT((Eingabe!$C$6:$C$400<=$CN18)*(Eingabe!$D$6:$D$400>$CN18)*(Eingabe!$B$6:$B$400=CO$3)*(Eingabe!$E$6:$E$400))","v":7},{"$f":"SUMPRODUCT((Eingabe!$C$6:$C$400<$CN18)*(Eingabe!$D$6:$D$400>=$CN18)*(Eingabe!$B$6:$B$400=CO$3)*(Eingabe!$E$6:$E$400))","v":7},{"$f":"SUMPRODUCT((Eingabe!$C$6:$C$400<=$CN18)*(Eingabe!$D$6:$D$400>$CN18)*(Eingabe!$B$6:$B$400=CQ$3)*(Eingabe!$E$6:$E$400))","v":0},{"$f":"SUMPRODUCT((Eingabe!$C$6:$C$400<$CN18)*(Eingabe!$D$6:$D$400>=$CN18)*(Eingabe!$B$6:$B$400=CQ$3)*(Eingabe!$E$6:$E$400))","v":0},{"$f":"SUMPRODUCT((Eingabe!$C$6:$C$400<=$CN18)*(Eingabe!$D$6:$D$400>$CN18)*(Eingabe!$B$6:$B$400=CS$3)*(Eingabe!$E$6:$E$400))","v":0},{"$f":"SUMPRODUCT((Eingabe!$C$6:$C$400<$CN18)*(Eingabe!$D$6:$D$400>=$CN18)*(Eingabe!$B$6:$B$400=CS$3)*(Eingabe!$E$6:$E$400))","v":0},{"$f":"SUMPRODUCT((Eingabe!$C$6:$C$400<=$CN18)*(Eingabe!$D$6:$D$400>$CN18)*(Eingabe!$B$6:$B$400=CU$3)*(Eingabe!$E$6:$E$400))","v":0},{"$f":"SUMPRODUCT((Eingabe!$C$6:$C$400<$CN18)*(Eingabe!$D$6:$D$400>=$CN18)*(Eingabe!$B$6:$B$400=CU$3)*(Eingabe!$E$6:$E$400))","v":0},"2025-11-15","2025-11-15",{"$f":"SUMPRODUCT((Eingabe!$C$6:$C$400<=$CX18)*(Eingabe!$D$6:$D$400>$CX18)*(Eingabe!$B$6:$B$400=CY$3)*(Eingabe!$E$6:$E$400))","v":7},{"$f":"SUMPRODUCT((Eingabe!$C$6:$C$400<$CX18)*(Eingabe!$D$6:$D$400>=$CX18)*(Eingabe!$B$6:$B$400=CY$3)*(Eingabe!$E$6:$E$400))","v":7},{"$f":"SUMPRODUCT((Eingabe!$C$6:$C$400<=$CX18)*(Eingabe!$D$6:$D$400>$CX18)*(Eingabe!$B$6:$B$400=DA$3)*(Eingabe!$E$6:$E$400))","v":0},{"$f":"SUMPRODUCT((Eingabe!$C$6:$C$400<$CX18)*(Eingabe!$D$6:$D$400>=$CX18)*(Eingabe!$B$6:$B$400=DA$3)*(Eingabe!$E$6:$E$400))","v":0},{"$f":"SUMPRODUCT((Eingabe!$C$6:$C$400<=$CX18)*(Eingabe!$D$6:$D$400>$CX18)*(Eingabe!$B$6:$B$400=DC$3)*(Eingabe!$E$6:$E$400))","v":0},{"$f":"SUMPRODUCT((Eingabe!$C$6:$C$400<$CX18)*(Eingabe!$D$6:$D$400>=$CX18)*(Eingabe!$B$6:$B$400=DC$3)*(Eingabe!$E$6:$E$400))","v":0},{"$f":"SUMPRODUCT((Eingabe!$C$6:$C$400<=$CX18)*(Eingabe!$D$6:$D$400>$CX18)*(Eingabe!$B$6:$B$400=DE$3)*(Eingabe!$E$6:$E$400))","v":0},{"$f":"SUMPRODUCT((Eingabe!$C$6:$C$400<$CX18)*(Eingabe!$D$6:$D$400>=$CX18)*(Eingabe!$B$6:$B$400=DE$3)*(Eingabe!$E$6:$E$400))","v":0},"2025-12-15","2025-12-15",{"$f":"SUMPRODUCT((Eingabe!$C$6:$C$400<=$DH18)*(Eingabe!$D$6:$D$400>$DH18)*(Eingabe!$B$6:$B$400=DI$3)*(Eingabe!$E$6:$E$400))","v":7},{"$f":"SUMPRODUCT((Eingabe!$C$6:$C$400<$DH18)*(Eingabe!$D$6:$D$400>=$DH18)*(Eingabe!$B$6:$B$400=DI$3)*(Eingabe!$E$6:$E$400))","v":7},{"$f":"SUMPRODUCT((Eingabe!$C$6:$C$400<=$DH18)*(Eingabe!$D$6:$D$400>$DH18)*(Eingabe!$B$6:$B$400=DK$3)*(Eingabe!$E$6:$E$400))","v":0},{"$f":"SUMPRODUCT((Eingabe!$C$6:$C$400<$DH18)*(Eingabe!$D$6:$D$400>=$DH18)*(Eingabe!$B$6:$B$400=DK$3)*(Eingabe!$E$6:$E$400))","v":0},{"$f":"SUMPRODUCT((Eingabe!$C$6:$C$400<=$DH18)*(Eingabe!$D$6:$D$400>$DH18)*(Eingabe!$B$6:$B$400=DM$3)*(Eingabe!$E$6:$E$400))","v":0},{"$f":"SUMPRODUCT((Eingabe!$C$6:$C$400<$DH18)*(Eingabe!$D$6:$D$400>=$DH18)*(Eingabe!$B$6:$B$400=DM$3)*(Eingabe!$E$6:$E$400))","v":0},{"$f":"SUMPRODUCT((Eingabe!$C$6:$C$400<=$DH18)*(Eingabe!$D$6:$D$400>$DH18)*(Eingabe!$B$6:$B$400=DO$3)*(Eingabe!$E$6:$E$400))","v":0},{"$f":"SUMPRODUCT((Eingabe!$C$6:$C$400<$DH18)*(Eingabe!$D$6:$D$400>=$DH18)*(Eingabe!$B$6:$B$400=DO$3)*(Eingabe!$E$6:$E$400))","v":0},"2026-01-15","2026-01-15",{"$f":"SUMPRODUCT((Eingabe!$C$6:$C$400<=$B18)*(Eingabe!$D$6:$D$400>$B18)*(Eingabe!$B$6:$B$400=DS$3)*(Eingabe!$E$6:$E$400))","v":7},{"$f":"SUMPRODUCT((Eingabe!$C$6:$C$400<$B18)*(Eingabe!$D$6:$D$400>=$B18)*(Eingabe!$B$6:$B$400=DS$3)*(Eingabe!$E$6:$E$400))","v":7},{"$f":"SUMPRODUCT((Eingabe!$C$6:$C$400<=$B18)*(Eingabe!$D$6:$D$400>$B18)*(Eingabe!$B$6:$B$400=DU$3)*(Eingabe!$E$6:$E$400))","v":0},{"$f":"SUMPRODUCT((Eingabe!$C$6:$C$400<$B18)*(Eingabe!$D$6:$D$400>=$B18)*(Eingabe!$B$6:$B$400=DU$3)*(Eingabe!$E$6:$E$400))","v":0},{"$f":"SUMPRODUCT((Eingabe!$C$6:$C$400<=$B18)*(Eingabe!$D$6:$D$400>$B18)*(Eingabe!$B$6:$B$400=DW$3)*(Eingabe!$E$6:$E$400))","v":0},{"$f":"SUMPRODUCT((Eingabe!$C$6:$C$400<$B18)*(Eingabe!$D$6:$D$400>=$B18)*(Eingabe!$B$6:$B$400=DW$3)*(Eingabe!$E$6:$E$400))","v":0},{"$f":"SUMPRODUCT((Eingabe!$C$6:$C$400<=$B18)*(Eingabe!$D$6:$D$400>$B18)*(Eingabe!$B$6:$B$400=DY$3)*(Eingabe!$E$6:$E$400))","v":7},{"$f":"SUMPRODUCT((Eingabe!$C$6:$C$400<$B18)*(Eingabe!$D$6:$D$400>=$B18)*(Eingabe!$B$6:$B$400=DY$3)*(Eingabe!$E$6:$E$400))","v":7},"2026-02-15","2026-02-15",{"$f":"SUMPRODUCT((Eingabe!$C$6:$C$400<=$L18)*(Eingabe!$D$6:$D$400>$L18)*(Eingabe!$B$6:$B$400=EC$3)*(Eingabe!$E$6:$E$400))","v":0},{"$f":"SUMPRODUCT((Eingabe!$C$6:$C$400<$L18)*(Eingabe!$D$6:$D$400>=$L18)*(Eingabe!$B$6:$B$400=EC$3)*(Eingabe!$E$6:$E$400))","v":0},{"$f":"SUMPRODUCT((Eingabe!$C$6:$C$400<=$L18)*(Eingabe!$D$6:$D$400>$L18)*(Eingabe!$B$6:$B$400=EE$3)*(Eingabe!$E$6:$E$400))","v":0},{"$f":"SUMPRODUCT((Eingabe!$C$6:$C$400<$L18)*(Eingabe!$D$6:$D$400>=$L18)*(Eingabe!$B$6:$B$400=EE$3)*(Eingabe!$E$6:$E$400))","v":0},{"$f":"SUMPRODUCT((Eingabe!$C$6:$C$400<=$L18)*(Eingabe!$D$6:$D$400>$L18)*(Eingabe!$B$6:$B$400=EG$3)*(Eingabe!$E$6:$E$400))","v":0},{"$f":"SUMPRODUCT((Eingabe!$C$6:$C$400<$L18)*(Eingabe!$D$6:$D$400>=$L18)*(Eingabe!$B$6:$B$400=EG$3)*(Eingabe!$E$6:$E$400))","v":0},{"$f":"SUMPRODUCT((Eingabe!$C$6:$C$400<=$L18)*(Eingabe!$D$6:$D$400>$L18)*(Eingabe!$B$6:$B$400=EI$3)*(Eingabe!$E$6:$E$400))","v":0},{"$f":"SUMPRODUCT((Eingabe!$C$6:$C$400<$L18)*(Eingabe!$D$6:$D$400>=$L18)*(Eingabe!$B$6:$B$400=EI$3)*(Eingabe!$E$6:$E$400))","v":0},"2026-03-15","2026-03-15",{"$f":"SUMPRODUCT((Eingabe!$C$6:$C$400<=$V18)*(Eingabe!$D$6:$D$400>$V18)*(Eingabe!$B$6:$B$400=EM$3)*(Eingabe!$E$6:$E$400))","v":0},{"$f":"SUMPRODUCT((Eingabe!$C$6:$C$400<$V18)*(Eingabe!$D$6:$D$400>=$V18)*(Eingabe!$B$6:$B$400=EM$3)*(Eingabe!$E$6:$E$400))","v":0},{"$f":"SUMPRODUCT((Eingabe!$C$6:$C$400<=$V18)*(Eingabe!$D$6:$D$400>$V18)*(Eingabe!$B$6:$B$400=EO$3)*(Eingabe!$E$6:$E$400))","v":0},{"$f":"SUMPRODUCT((Eingabe!$C$6:$C$400<$V18)*(Eingabe!$D$6:$D$400>=$V18)*(Eingabe!$B$6:$B$400=EO$3)*(Eingabe!$E$6:$E$400))","v":0},{"$f":"SUMPRODUCT((Eingabe!$C$6:$C$400<=$V18)*(Eingabe!$D$6:$D$400>$V18)*(Eingabe!$B$6:$B$400=EQ$3)*(Eingabe!$E$6:$E$400))","v":0},{"$f":"SUMPRODUCT((Eingabe!$C$6:$C$400<$V18)*(Eingabe!$D$6:$D$400>=$V18)*(Eingabe!$B$6:$B$400=EQ$3)*(Eingabe!$E$6:$E$400))","v":0},{"$f":"SUMPRODUCT((Eingabe!$C$6:$C$400<=$V18)*(Eingabe!$D$6:$D$400>$V18)*(Eingabe!$B$6:$B$400=ES$3)*(Eingabe!$E$6:$E$400))","v":0},{"$f":"SUMPRODUCT((Eingabe!$C$6:$C$400<$V18)*(Eingabe!$D$6:$D$400>=$V18)*(Eingabe!$B$6:$B$400=ES$3)*(Eingabe!$E$6:$E$400))","v":0},"2026-04-15","2026-04-15",{"$f":"SUMPRODUCT((Eingabe!$C$6:$C$400<=$AF18)*(Eingabe!$D$6:$D$400>$AF18)*(Eingabe!$B$6:$B$400=EW$3)*(Eingabe!$E$6:$E$400))","v":0},{"$f":"SUMPRODUCT((Eingabe!$C$6:$C$400<$AF18)*(Eingabe!$D$6:$D$400>=$AF18)*(Eingabe!$B$6:$B$400=EW$3)*(Eingabe!$E$6:$E$400))","v":0},{"$f":"SUMPRODUCT((Eingabe!$C$6:$C$400<=$AF18)*(Eingabe!$D$6:$D$400>$AF18)*(Eingabe!$B$6:$B$400=EY$3)*(Eingabe!$E$6:$E$400))","v":0},{"$f":"SUMPRODUCT((Eingabe!$C$6:$C$400<$AF18)*(Eingabe!$D$6:$D$400>=$AF18)*(Eingabe!$B$6:$B$400=EY$3)*(Eingabe!$E$6:$E$400))","v":6},{"$f":"SUMPRODUCT((Eingabe!$C$6:$C$400<=$AF18)*(Eingabe!$D$6:$D$400>$AF18)*(Eingabe!$B$6:$B$400=FA$3)*(Eingabe!$E$6:$E$400))","v":7},{"$f":"SUMPRODUCT((Eingabe!$C$6:$C$400<$AF18)*(Eingabe!$D$6:$D$400>=$AF18)*(Eingabe!$B$6:$B$400=FA$3)*(Eingabe!$E$6:$E$400))","v":7},{"$f":"SUMPRODUCT((Eingabe!$C$6:$C$400<=$AF18)*(Eingabe!$D$6:$D$400>$AF18)*(Eingabe!$B$6:$B$400=FC$3)*(Eingabe!$E$6:$E$400))","v":0},{"$f":"SUMPRODUCT((Eingabe!$C$6:$C$400<$AF18)*(Eingabe!$D$6:$D$400>=$AF18)*(Eingabe!$B$6:$B$400=FC$3)*(Eingabe!$E$6:$E$400))","v":0},"2026-05-15","2026-05-15",{"$f":"SUMPRODUCT((Eingabe!$C$6:$C$400<=$AP18)*(Eingabe!$D$6:$D$400>$AP18)*(Eingabe!$B$6:$B$400=FG$3)*(Eingabe!$E$6:$E$400))","v":0},{"$f":"SUMPRODUCT((Eingabe!$C$6:$C$400<$AP18)*(Eingabe!$D$6:$D$400>=$AP18)*(Eingabe!$B$6:$B$400=FG$3)*(Eingabe!$E$6:$E$400))","v":0},{"$f":"SUMPRODUCT((Eingabe!$C$6:$C$400<=$AP18)*(Eingabe!$D$6:$D$400>$AP18)*(Eingabe!$B$6:$B$400=FI$3)*(Eingabe!$E$6:$E$400))","v":0},{"$f":"SUMPRODUCT((Eingabe!$C$6:$C$400<$AP18)*(Eingabe!$D$6:$D$400>=$AP18)*(Eingabe!$B$6:$B$400=FI$3)*(Eingabe!$E$6:$E$400))","v":0},{"$f":"SUMPRODUCT((Eingabe!$C$6:$C$400<=$AP18)*(Eingabe!$D$6:$D$400>$AP18)*(Eingabe!$B$6:$B$400=FK$3)*(Eingabe!$E$6:$E$400))","v":0},{"$f":"SUMPRODUCT((Eingabe!$C$6:$C$400<$AP18)*(Eingabe!$D$6:$D$400>=$AP18)*(Eingabe!$B$6:$B$400=FK$3)*(Eingabe!$E$6:$E$400))","v":0},{"$f":"SUMPRODUCT((Eingabe!$C$6:$C$400<=$AP18)*(Eingabe!$D$6:$D$400>$AP18)*(Eingabe!$B$6:$B$400=FM$3)*(Eingabe!$E$6:$E$400))","v":0},{"$f":"SUMPRODUCT((Eingabe!$C$6:$C$400<$AP18)*(Eingabe!$D$6:$D$400>=$AP18)*(Eingabe!$B$6:$B$400=FM$3)*(Eingabe!$E$6:$E$400))","v":0},"2026-06-15","2026-06-15",{"$f":"SUMPRODUCT((Eingabe!$C$6:$C$400<=$AZ18)*(Eingabe!$D$6:$D$400>$AZ18)*(Eingabe!$B$6:$B$400=FQ$3)*(Eingabe!$E$6:$E$400))","v":0},{"$f":"SUMPRODUCT((Eingabe!$C$6:$C$400<$AZ18)*(Eingabe!$D$6:$D$400>=$AZ18)*(Eingabe!$B$6:$B$400=FQ$3)*(Eingabe!$E$6:$E$400))","v":0},{"$f":"SUMPRODUCT((Eingabe!$C$6:$C$400<=$AZ18)*(Eingabe!$D$6:$D$400>$AZ18)*(Eingabe!$B$6:$B$400=FS$3)*(Eingabe!$E$6:$E$400))","v":0},{"$f":"SUMPRODUCT((Eingabe!$C$6:$C$400<$AZ18)*(Eingabe!$D$6:$D$400>=$AZ18)*(Eingabe!$B$6:$B$400=FS$3)*(Eingabe!$E$6:$E$400))","v":0},{"$f":"SUMPRODUCT((Eingabe!$C$6:$C$400<=$AZ18)*(Eingabe!$D$6:$D$400>$AZ18)*(Eingabe!$B$6:$B$400=FU$3)*(Eingabe!$E$6:$E$400))","v":0},{"$f":"SUMPRODUCT((Eingabe!$C$6:$C$400<$AZ18)*(Eingabe!$D$6:$D$400>=$AZ18)*(Eingabe!$B$6:$B$400=FU$3)*(Eingabe!$E$6:$E$400))","v":0},{"$f":"SUMPRODUCT((Eingabe!$C$6:$C$400<=$AZ18)*(Eingabe!$D$6:$D$400>$AZ18)*(Eingabe!$B$6:$B$400=FW$3)*(Eingabe!$E$6:$E$400))","v":0},{"$f":"SUMPRODUCT((Eingabe!$C$6:$C$400<$AZ18)*(Eingabe!$D$6:$D$400>=$AZ18)*(Eingabe!$B$6:$B$400=FW$3)*(Eingabe!$E$6:$E$400))","v":0},"2026-07-15","2026-07-15",{"$f":"SUMPRODUCT((Eingabe!$C$6:$C$400<=$BJ18)*(Eingabe!$D$6:$D$400>$BJ18)*(Eingabe!$B$6:$B$400=GA$3)*(Eingabe!$E$6:$E$400))","v":6},{"$f":"SUMPRODUCT((Eingabe!$C$6:$C$400<$BJ18)*(Eingabe!$D$6:$D$400>=$BJ18)*(Eingabe!$B$6:$B$400=GA$3)*(Eingabe!$E$6:$E$400))","v":6},{"$f":"SUMPRODUCT((Eingabe!$C$6:$C$400<=$BJ18)*(Eingabe!$D$6:$D$400>$BJ18)*(Eingabe!$B$6:$B$400=GC$3)*(Eingabe!$E$6:$E$400))","v":7},{"$f":"SUMPRODUCT((Eingabe!$C$6:$C$400<$BJ18)*(Eingabe!$D$6:$D$400>=$BJ18)*(Eingabe!$B$6:$B$400=GC$3)*(Eingabe!$E$6:$E$400))","v":7},{"$f":"SUMPRODUCT((Eingabe!$C$6:$C$400<=$BJ18)*(Eingabe!$D$6:$D$400>$BJ18)*(Eingabe!$B$6:$B$400=GE$3)*(Eingabe!$E$6:$E$400))","v":0},{"$f":"SUMPRODUCT((Eingabe!$C$6:$C$400<$BJ18)*(Eingabe!$D$6:$D$400>=$BJ18)*(Eingabe!$B$6:$B$400=GE$3)*(Eingabe!$E$6:$E$400))","v":0},{"$f":"SUMPRODUCT((Eingabe!$C$6:$C$400<=$BJ18)*(Eingabe!$D$6:$D$400>$BJ18)*(Eingabe!$B$6:$B$400=GG$3)*(Eingabe!$E$6:$E$400))","v":0},{"$f":"SUMPRODUCT((Eingabe!$C$6:$C$400<$BJ18)*(Eingabe!$D$6:$D$400>=$BJ18)*(Eingabe!$B$6:$B$400=GG$3)*(Eingabe!$E$6:$E$400))","v":0},"2026-08-15","2026-08-15",{"$f":"SUMPRODUCT((Eingabe!$C$6:$C$400<=$BT18)*(Eingabe!$D$6:$D$400>$BT18)*(Eingabe!$B$6:$B$400=GK$3)*(Eingabe!$E$6:$E$400))","v":0},{"$f":"SUMPRODUCT((Eingabe!$C$6:$C$400<$BT18)*(Eingabe!$D$6:$D$400>=$BT18)*(Eingabe!$B$6:$B$400=GK$3)*(Eingabe!$E$6:$E$400))","v":0},{"$f":"SUMPRODUCT((Eingabe!$C$6:$C$400<=$BT18)*(Eingabe!$D$6:$D$400>$BT18)*(Eingabe!$B$6:$B$400=GM$3)*(Eingabe!$E$6:$E$400))","v":0},{"$f":"SUMPRODUCT((Eingabe!$C$6:$C$400<$BT18)*(Eingabe!$D$6:$D$400>=$BT18)*(Eingabe!$B$6:$B$400=GM$3)*(Eingabe!$E$6:$E$400))","v":0},{"$f":"SUMPRODUCT((Eingabe!$C$6:$C$400<=$BT18)*(Eingabe!$D$6:$D$400>$BT18)*(Eingabe!$B$6:$B$400=GO$3)*(Eingabe!$E$6:$E$400))","v":0},{"$f":"SUMPRODUCT((Eingabe!$C$6:$C$400<$BT18)*(Eingabe!$D$6:$D$400>=$BT18)*(Eingabe!$B$6:$B$400=GO$3)*(Eingabe!$E$6:$E$400))","v":0},{"$f":"SUMPRODUCT((Eingabe!$C$6:$C$400<=$BT18)*(Eingabe!$D$6:$D$400>$BT18)*(Eingabe!$B$6:$B$400=GQ$3)*(Eingabe!$E$6:$E$400))","v":0},{"$f":"SUMPRODUCT((Eingabe!$C$6:$C$400<$BT18)*(Eingabe!$D$6:$D$400>=$BT18)*(Eingabe!$B$6:$B$400=GQ$3)*(Eingabe!$E$6:$E$400))","v":0},"2026-09-15","2026-09-15",{"$f":"SUMPRODUCT((Eingabe!$C$6:$C$400<=$CD18)*(Eingabe!$D$6:$D$400>$CD18)*(Eingabe!$B$6:$B$400=GU$3)*(Eingabe!$E$6:$E$400))","v":0},{"$f":"SUMPRODUCT((Eingabe!$C$6:$C$400<$CD18)*(Eingabe!$D$6:$D$400>=$CD18)*(Eingabe!$B$6:$B$400=GU$3)*(Eingabe!$E$6:$E$400))","v":0},{"$f":"SUMPRODUCT((Eingabe!$C$6:$C$400<=$CD18)*(Eingabe!$D$6:$D$400>$CD18)*(Eingabe!$B$6:$B$400=GW$3)*(Eingabe!$E$6:$E$400))","v":0},{"$f":"SUMPRODUCT((Eingabe!$C$6:$C$400<$CD18)*(Eingabe!$D$6:$D$400>=$CD18)*(Eingabe!$B$6:$B$400=GW$3)*(Eingabe!$E$6:$E$400))","v":0},{"$f":"SUMPRODUCT((Eingabe!$C$6:$C$400<=$CD18)*(Eingabe!$D$6:$D$400>$CD18)*(Eingabe!$B$6:$B$400=GY$3)*(Eingabe!$E$6:$E$400))","v":0},{"$f":"SUMPRODUCT((Eingabe!$C$6:$C$400<$CD18)*(Eingabe!$D$6:$D$400>=$CD18)*(Eingabe!$B$6:$B$400=GY$3)*(Eingabe!$E$6:$E$400))","v":0},{"$f":"SUMPRODUCT((Eingabe!$C$6:$C$400<=$CD18)*(Eingabe!$D$6:$D$400>$CD18)*(Eingabe!$B$6:$B$400=HA$3)*(Eingabe!$E$6:$E$400))","v":0},{"$f":"SUMPRODUCT((Eingabe!$C$6:$C$400<$CD18)*(Eingabe!$D$6:$D$400>=$CD18)*(Eingabe!$B$6:$B$400=HA$3)*(Eingabe!$E$6:$E$400))","v":0},"2026-10-15","2026-10-15",{"$f":"SUMPRODUCT((Eingabe!$C$6:$C$400<=$CN18)*(Eingabe!$D$6:$D$400>$CN18)*(Eingabe!$B$6:$B$400=HE$3)*(Eingabe!$E$6:$E$400))","v":7},{"$f":"SUMPRODUCT((Eingabe!$C$6:$C$400<$CN18)*(Eingabe!$D$6:$D$400>=$CN18)*(Eingabe!$B$6:$B$400=HE$3)*(Eingabe!$E$6:$E$400))","v":7},{"$f":"SUMPRODUCT((Eingabe!$C$6:$C$400<=$CN18)*(Eingabe!$D$6:$D$400>$CN18)*(Eingabe!$B$6:$B$400=HG$3)*(Eingabe!$E$6:$E$400))","v":0},{"$f":"SUMPRODUCT((Eingabe!$C$6:$C$400<$CN18)*(Eingabe!$D$6:$D$400>=$CN18)*(Eingabe!$B$6:$B$400=HG$3)*(Eingabe!$E$6:$E$400))","v":0},{"$f":"SUMPRODUCT((Eingabe!$C$6:$C$400<=$CN18)*(Eingabe!$D$6:$D$400>$CN18)*(Eingabe!$B$6:$B$400=HI$3)*(Eingabe!$E$6:$E$400))","v":0},{"$f":"SUMPRODUCT((Eingabe!$C$6:$C$400<$CN18)*(Eingabe!$D$6:$D$400>=$CN18)*(Eingabe!$B$6:$B$400=HI$3)*(Eingabe!$E$6:$E$400))","v":0},{"$f":"SUMPRODUCT((Eingabe!$C$6:$C$400<=$CN18)*(Eingabe!$D$6:$D$400>$CN18)*(Eingabe!$B$6:$B$400=HK$3)*(Eingabe!$E$6:$E$400))","v":0},{"$f":"SUMPRODUCT((Eingabe!$C$6:$C$400<$CN18)*(Eingabe!$D$6:$D$400>=$CN18)*(Eingabe!$B$6:$B$400=HK$3)*(Eingabe!$E$6:$E$400))","v":0},"2026-11-15","2026-11-15",{"$f":"SUMPRODUCT((Eingabe!$C$6:$C$400<=$CX18)*(Eingabe!$D$6:$D$400>$CX18)*(Eingabe!$B$6:$B$400=HO$3)*(Eingabe!$E$6:$E$400))","v":7},{"$f":"SUMPRODUCT((Eingabe!$C$6:$C$400<$CX18)*(Eingabe!$D$6:$D$400>=$CX18)*(Eingabe!$B$6:$B$400=HO$3)*(Eingabe!$E$6:$E$400))","v":7},{"$f":"SUMPRODUCT((Eingabe!$C$6:$C$400<=$CX18)*(Eingabe!$D$6:$D$400>$CX18)*(Eingabe!$B$6:$B$400=HQ$3)*(Eingabe!$E$6:$E$400))","v":0},{"$f":"SUMPRODUCT((Eingabe!$C$6:$C$400<$CX18)*(Eingabe!$D$6:$D$400>=$CX18)*(Eingabe!$B$6:$B$400=HQ$3)*(Eingabe!$E$6:$E$400))","v":0},{"$f":"SUMPRODUCT((Eingabe!$C$6:$C$400<=$CX18)*(Eingabe!$D$6:$D$400>$CX18)*(Eingabe!$B$6:$B$400=HS$3)*(Eingabe!$E$6:$E$400))","v":0},{"$f":"SUMPRODUCT((Eingabe!$C$6:$C$400<$CX18)*(Eingabe!$D$6:$D$400>=$CX18)*(Eingabe!$B$6:$B$400=HS$3)*(Eingabe!$E$6:$E$400))","v":0},{"$f":"SUMPRODUCT((Eingabe!$C$6:$C$400<=$CX18)*(Eingabe!$D$6:$D$400>$CX18)*(Eingabe!$B$6:$B$400=HU$3)*(Eingabe!$E$6:$E$400))","v":0},{"$f":"SUMPRODUCT((Eingabe!$C$6:$C$400<$CX18)*(Eingabe!$D$6:$D$400>=$CX18)*(Eingabe!$B$6:$B$400=HU$3)*(Eingabe!$E$6:$E$400))","v":0},"2026-12-15","2026-12-15",{"$f":"SUMPRODUCT((Eingabe!$C$6:$C$400<=$DH18)*(Eingabe!$D$6:$D$400>$DH18)*(Eingabe!$B$6:$B$400=HY$3)*(Eingabe!$E$6:$E$400))","v":7},{"$f":"SUMPRODUCT((Eingabe!$C$6:$C$400<$DH18)*(Eingabe!$D$6:$D$400>=$DH18)*(Eingabe!$B$6:$B$400=HY$3)*(Eingabe!$E$6:$E$400))","v":7},{"$f":"SUMPRODUCT((Eingabe!$C$6:$C$400<=$DH18)*(Eingabe!$D$6:$D$400>$DH18)*(Eingabe!$B$6:$B$400=IA$3)*(Eingabe!$E$6:$E$400))","v":0},{"$f":"SUMPRODUCT((Eingabe!$C$6:$C$400<$DH18)*(Eingabe!$D$6:$D$400>=$DH18)*(Eingabe!$B$6:$B$400=IA$3)*(Eingabe!$E$6:$E$400))","v":0},{"$f":"SUMPRODUCT((Eingabe!$C$6:$C$400<=$DH18)*(Eingabe!$D$6:$D$400>$DH18)*(Eingabe!$B$6:$B$400=IC$3)*(Eingabe!$E$6:$E$400))","v":0},{"$f":"SUMPRODUCT((Eingabe!$C$6:$C$400<$DH18)*(Eingabe!$D$6:$D$400>=$DH18)*(Eingabe!$B$6:$B$400=IC$3)*(Eingabe!$E$6:$E$400))","v":0},{"$f":"SUMPRODUCT((Eingabe!$C$6:$C$400<=$DH18)*(Eingabe!$D$6:$D$400>$DH18)*(Eingabe!$B$6:$B$400=IE$3)*(Eingabe!$E$6:$E$400))","v":0},{"$f":"SUMPRODUCT((Eingabe!$C$6:$C$400<$DH18)*(Eingabe!$D$6:$D$400>=$DH18)*(Eingabe!$B$6:$B$400=IE$3)*(Eingabe!$E$6:$E$400))","v":0}]
["2025-01-16","2025-01-16",{"$f":"SUMPRODUCT((Eingabe!$C$6:$C$400<=$B19)*(Eingabe!$D$6:$D$400>$B19)*(Eingabe!$B$6:$B$400=C$3)*(Eingabe!$E$6:$E$400))","v":7},{"$f":"SUMPRODUCT((Eingabe!$C$6:$C$400<$B19)*(Eingabe!$D$6:$D$400>=$B19)*(Eingabe!$B$6:$B$400=C$3)*(Eingabe!$E$6:$E$400))","v":7},{"$f":"SUMPRODUCT((Eingabe!$C$6:$C$400<=$B19)*(Eingabe!$D$6:$D$400>$B19)*(Eingabe!$B$6:$B$400=E$3)*(Eingabe!$E$6:$E$400))","v":0},{"$f":"SUMPRODUCT((Eingabe!$C$6:$C$400<$B19)*(Eingabe!$D$6:$D$400>=$B19)*(Eingabe!$B$6:$B$400=E$3)*(Eingabe!$E$6:$E$400))","v":0},{"$f":"SUMPRODUCT((Eingabe!$C$6:$C$400<=$B19)*(Eingabe!$D$6:$D$400>$B19)*(Eingabe!$B$6:$B$400=G$3)*(Eingabe!$E$6:$E$400))","v":0},{"$f":"SUMPRODUCT((Eingabe!$C$6:$C$400<$B19)*(Eingabe!$D$6:$D$400>=$B19)*(Eingabe!$B$6:$B$400=G$3)*(Eingabe!$E$6:$E$400))","v":0},{"$f":"SUMPRODUCT((Eingabe!$C$6:$C$400<=$B19)*(Eingabe!$D$6:$D$400>$B19)*(Eingabe!$B$6:$B$400=I$3)*(Eingabe!$E$6:$E$400))","v":7},{"$f":"SUMPRODUCT((Eingabe!$C$6:$C$400<$B19)*(Eingabe!$D$6:$D$400>=$B19)*(Eingabe!$B$6:$B$400=I$3)*(Eingabe!$E$6:$E$400))","v":7},"2025-02-16","2025-02-16",{"$f":"SUMPRODUCT((Eingabe!$C$6:$C$400<=$L19)*(Eingabe!$D$6:$D$400>$L19)*(Eingabe!$B$6:$B$400=M$3)*(Eingabe!$E$6:$E$400))","v":0},{"$f":"SUMPRODUCT((Eingabe!$C$6:$C$400<$L19)*(Eingabe!$D$6:$D$400>=$L19)*(Eingabe!$B$6:$B$400=M$3)*(Eingabe!$E$6:$E$400))","v":0},{"$f":"SUMPRODUCT((Eingabe!$C$6:$C$400<=$L19)*(Eingabe!$D$6:$D$400>$L19)*(Eingabe!$B$6:$B$400=O$3)*(Eingabe!$E$6:$E$400))","v":0},{"$f":"SUMPRODUCT((Eingabe!$C$6:$C$400<$L19)*(Eingabe!$D$6:$D$400>=$L19)*(Eingabe!$B$6:$B$400=O$3)*(Eingabe!$E$6:$E$400))","v":0},{"$f":"SUMPRODUCT((Eingabe!$C$6:$C$400<=$L19)*(Eingabe!$D$6:$D$400>$L19)*(Eingabe!$B$6:$B$400=Q$3)*(Eingabe!$E$6:$E$400))","v":0},{"$f":"SUMPRODUCT((Eingabe!$C$6:$C$400<$L19)*(Eingabe!$D$6:$D$400>=$L19)*(Eingabe!$B$6:$B$400=Q$3)*(Eingabe!$E$6:$E$400))","v":0},{"$f":"SUMPRODUCT((Eingabe!$C$6:$C$400<=$L19)*(Eingabe!$D$6:$D$400>$L19)*(Eingabe!$B$6:$B$400=S$3)*(Eingabe!$E$6:$E$400))","v":0},{"$f":"SUMPRODUCT((Eingabe!$C$6:$C$400<$L19)*(Eingabe!$D$6:$D$400>=$L19)*(Eingabe!$B$6:$B$400=S$3)*(Eingabe!$E$6:$E$400))","v":0},"2025-03-16","2025-03-16",{"$f":"SUMPRODUCT((Eingabe!$C$6:$C$400<=$V19)*(Eingabe!$D$6:$D$400>$V19)*(Eingabe!$B$6:$B$400=W$3)*(Eingabe!$E$6:$E$400))","v":0},{"$f":"SUMPRODUCT((Eingabe!$C$6:$C$400<$V19)*(Eingabe!$D$6:$D$400>=$V19)*(Eingabe!$B$6:$B$400=W$3)*(Eingabe!$E$6:$E$400))","v":0},{"$f":"SUMPRODUCT((Eingabe!$C$6:$C$400<=$V19)*(Eingabe!$D$6:$D$400>$V19)*(Eingabe!$B$6:$B$400=Y$3)*(Eingabe!$E$6:$E$400))","v":0},{"$f":"SUMPRODUCT((Eingabe!$C$6:$C$400<$V19)*(Eingabe!$D$6:$D$400>=$V19)*(Eingabe!$B$6:$B$400=Y$3)*(Eingabe!$E$6:$E$400))","v":0},{"$f":"SUMPRODUCT((Eingabe!$C$6:$C$400<=$V19)*(Eingabe!$D$6:$D$400>$V19)*(Eingabe!$B$6:$B$400=AA$3)*(Eingabe!$E$6:$E$400))","v":0},{"$f":"SUMPRODUCT((Eingabe!$C$6:$C$400<$V19)*(Eingabe!$D$6:$D$400>=$V19)*(Eingabe!$B$6:$B$400=AA$3)*(Eingabe!$E$6:$E$400))","v":0},{"$f":"SUMPRODUCT((Eingabe!$C$6:$C$400<=$V19)*(Eingabe!$D$6:$D$400>$V19)*(Eingabe!$B$6:$B$400=AC$3)*(Eingabe!$E$6:$E$400))","v":0},{"$f":"SUMPRODUCT((Eingabe!$C$6:$C$400<$V19)*(Eingabe!$D$6:$D$400>=$V19)*(Eingabe!$B$6:$B$400=AC$3)*(Eingabe!$E$6:$E$400))","v":0},"2025-04-16","2025-04-16",{"$f":"SUMPRODUCT((Eingabe!$C$6:$C$400<=$AF19)*(Eingabe!$D$6:$D$400>$AF19)*(Eingabe!$B$6:$B$400=AG$3)*(Eingabe!$E$6:$E$400))","v":0},{"$f":"SUMPRODUCT((Eingabe!$C$6:$C$400<$AF19)*(Eingabe!$D$6:$D$400>=$AF19)*(Eingabe!$B$6:$B$400=AG$3)*(Eingabe!$E$6:$E$400))","v":0},{"$f":"SUMPRODUCT((Eingabe!$C$6:$C$400<=$AF19)*(Eingabe!$D$6:$D$400>$AF19)*(Eingabe!$B$6:$B$400=AI$3)*(Eingabe!$E$6:$E$400))","v":0},{"$f":"SUMPRODUCT((Eingabe!$C$6:$C$400<$AF19)*(Eingabe!$D$6:$D$400>=$AF19)*(Eingabe!$B$6:$B$400=AI$3)*(Eingabe!$E$6:$E$400))","v":0},{"$f":"SUMPRODUCT((Eingabe!$C$6:$C$400<=$AF19)*(Eingabe!$D$6:$D$400>$AF19)*(Eingabe!$B$6:$B$400=AK$3)*(Eingabe!$E$6:$E$400))","v":7},{"$f":"SUMPRODUCT((Eingabe!$C$6:$C$400<$AF19)*(Eingabe!$D$6:$D$400>=$AF19)*(Eingabe!$B$6:$B$400=AK$3)*(Eingabe!$E$6:$E$400))","v":7},{"$f":"SUMPRODUCT((Eingabe!$C$6:$C$400<=$AF19)*(Eingabe!$D$6:$D$400>$AF19)*(Eingabe!$B$6:$B$400=AM$3)*(Eingabe!$E$6:$E$400))","v":0},{"$f":"SUMPRODUCT((Eingabe!$C$6:$C$400<$AF19)*(Eingabe!$D$6:$D$400>=$AF19)*(Eingabe!$B$6:$B$400=AM$3)*(Eingabe!$E$6:$E$400))","v":0},"2025-05-16","2025-05-16",{"$f":"SUMPRODUCT((Eingabe!$C$6:$C$400<=$AP19)*(Eingabe!$D$6:$D$400>$AP19)*(Eingabe!$B$6:$B$400=AQ$3)*(Eingabe!$E$6:$E$400))","v":0},{"$f":"SUMPRODUCT((Eingabe!$C$6:$C$400<$AP19)*(Eingabe!$D$6:$D$400>=$AP19)*(Eingabe!$B$6:$B$400=AQ$3)*(Eingabe!$E$6:$E$400))","v":0},{"$f":"SUMPRODUCT((Eingabe!$C$6:$C$400<=$AP19)*(Eingabe!$D$6:$D$400>$AP19)*(Eingabe!$B$6:$B$400=AS$3)*(Eingabe!$E$6:$E$400))","v":0},{"$f":"SUMPRODUCT((Eingabe!$C$6:$C$400<$AP19)*(Eingabe!$D$6:$D$400>=$AP19)*(Eingabe!$B$6:$B$400=AS$3)*(Eingabe!$E$6:$E$400))","v":0},{"$f":"SUMPRODUCT((Eingabe!$C$6:$C$400<=$AP19)*(Eingabe!$D$6:$D$400>$AP19)*(Eingabe!$B$6:$B$400=AU$3)*(Eingabe!$E$6:$E$400))","v":0},{"$f":"SUMPRODUCT((Eingabe!$C$6:$C$400<$AP19)*(Eingabe!$D$6:$D$400>=$AP19)*(Eingabe!$B$6:$B$400=AU$3)*(Eingabe!$E$6:$E$400))","v":0},{"$f":"SUMPRODUCT((Eingabe!$C$6:$C$400<=$AP19)*(Eingabe!$D$6:$D$400>$AP19)*(Eingabe!$B$6:$B$400=AW$3)*(Eingabe!$E$6:$E$400))","v":0},{"$f":"SUMPRODUCT((Eingabe!$C$6:$C$400<$AP19)*(Eingabe!$D$6:$D$400>=$AP19)*(Eingabe!$B$6:$B$400=AW$3)*(Eingabe!$E$6:$E$400))","v":0},"2025-06-16","2025-06-16",{"$f":"SUMPRODUCT((Eingabe!$C$6:$C$400<=$AZ19)*(Eingabe!$D$6:$D$400>$AZ19)*(Eingabe!$B$6:$B$400=BA$3)*(Eingabe!$E$6:$E$400))","v":0},{"$f":"SUMPRODUCT((Eingabe!$C$6:$C$400<$AZ19)*(Eingabe!$D$6:$D$400>=$AZ19)*(Eingabe!$B$6:$B$400=BA$3)*(Eingabe!$E$6:$E$400))","v":0},{"$f":"SUMPRODUCT((Eingabe!$C$6:$C$400<=$AZ19)*(Eingabe!$D$6:$D$400>$AZ19)*(Eingabe!$B$6:$B$400=BC$3)*(Eingabe!$E$6:$E$400))","v":0},{"$f":"SUMPRODUCT((Eingabe!$C$6:$C$400<$AZ19)*(Eingabe!$D$6:$D$400>=$AZ19)*(Eingabe!$B$6:$B$400=BC$3)*(Eingabe!$E$6:$E$400))","v":0},{"$f":"SUMPRODUCT((Eingabe!$C$6:$C$400<=$AZ19)*(Eingabe!$D$6:$D$400>$AZ19)*(Eingabe!$B$6:$B$400=BE$3)*(Eingabe!$E$6:$E$400))","v":0},{"$f":"SUMPRODUCT((Eingabe!$C$6:$C$400<$AZ19)*(Eingabe!$D$6:$D$400>=$AZ19)*(Eingabe!$B$6:$B$400=BE$3)*(Eingabe!$E$6:$E$400))","v":0},{"$f":"SUMPRODUCT((Eingabe!$C$6:$C$400<=$AZ19)*(Eingabe!$D$6:$D$400>$AZ19)*(Eingabe!$B$6:$B$400=BG$3)*(Eingabe!$E$6:$E$400))","v":0},{"$f":"SUMPRODUCT((Eingabe!$C$6:$C$400<$AZ19)*(Eingabe!$D$6:$D$400>=$AZ19)*(Eingabe!$B$6:$B$400=BG$3)*(Eingabe!$E$6:$E$400))","v":0},"2025-07-16","2025-07-16",{"$f":"SUMPRODUCT((Eingabe!$C$6:$C$400<=$BJ19)*(Eingabe!$D$6:$D$400>$BJ19)*(Eingabe!$B$6:$B$400=BK$3)*(Eingabe!$E$6:$E$400))","v":6},{"$f":"SUMPRODUCT((Eingabe!$C$6:$C$400<$BJ19)*(Eingabe!$D$6:$D$400>=$BJ19)*(Eingabe!$B$6:$B$400=BK$3)*(Eingabe!$E$6:$E$400))","v":6},{"$f":"SUMPRODUCT((Eingabe!$C$6:$C$400<=$BJ19)*(Eingabe!$D$6:$D$400>$BJ19)*(Eingabe!$B$6:$B$400=BM$3)*(Eingabe!$E$6:$E$400))","v":7},{"$f":"SUMPRODUCT((Eingabe!$C$6:$C$400<$BJ19)*(Eingabe!$D$6:$D$400>=$BJ19)*(Eingabe!$B$6:$B$400=BM$3)*(Eingabe!$E$6:$E$400))","v":7},{"$f":"SUMPRODUCT((Eingabe!$C$6:$C$400<=$BJ19)*(Eingabe!$D$6:$D$400>$BJ19)*(Eingabe!$B$6:$B$400=BO$3)*(Eingabe!$E$6:$E$400))","v":0},{"$f":"SUMPRODUCT((Eingabe!$C$6:$C$400<$BJ19)*(Eingabe!$D$6:$D$400>=$BJ19)*(Eingabe!$B$6:$B$400=BO$3)*(Eingabe!$E$6:$E$400))","v":0},{"$f":"SUMPRODUCT((Eingabe!$C$6:$C$400<=$BJ19)*(Eingabe!$D$6:$D$400>$BJ19)*(Eingabe!$B$6:$B$400=BQ$3)*(Eingabe!$E$6:$E$400))","v":0},{"$f":"SUMPRODUCT((Eingabe!$C$6:$C$400<$BJ19)*(Eingabe!$D$6:$D$400>=$BJ19)*(Eingabe!$B$6:$B$400=BQ$3)*(Eingabe!$E$6:$E$400))","v":0},"2025-08-16","2025-08-16",{"$f":"SUMPRODUCT((Eingabe!$C$6:$C$400<=$BT19)*(Eingabe!$D$6:$D$400>$BT19)*(Eingabe!$B$6:$B$400=BU$3)*(Eingabe!$E$6:$E$400))","v":0},{"$f":"SUMPRODUCT((Eingabe!$C$6:$C$400<$BT19)*(Eingabe!$D$6:$D$400>=$BT19)*(Eingabe!$B$6:$B$400=BU$3)*(Eingabe!$E$6:$E$400))","v":0},{"$f":"SUMPRODUCT((Eingabe!$C$6:$C$400<=$BT19)*(Eingabe!$D$6:$D$400>$BT19)*(Eingabe!$B$6:$B$400=BW$3)*(Eingabe!$E$6:$E$400))","v":0},{"$f":"SUMPRODUCT((Eingabe!$C$6:$C$400<$BT19)*(Eingabe!$D$6:$D$400>=$BT19)*(Eingabe!$B$6:$B$400=BW$3)*(Eingabe!$E$6:$E$400))","v":0},{"$f":"SUMPRODUCT((Eingabe!$C$6:$C$400<=$BT19)*(Eingabe!$D$6:$D$400>$BT19)*(Eingabe!$B$6:$B$400=BY$3)*(Eingabe!$E$6:$E$400))","v":0},{"$f":"SUMPRODUCT((Eingabe!$C$6:$C$400<$BT19)*(Eingabe!$D$6:$D$400>=$BT19)*(Eingabe!$B$6:$B$400=BY$3)*(Eingabe!$E$6:$E$400))","v":0},{"$f":"SUMPRODUCT((Eingabe!$C$6:$C$400<=$BT19)*(Eingabe!$D$6:$D$400>$BT19)*(Eingabe!$B$6:$B$400=CA$3)*(Eingabe!$E$6:$E$400))","v":0},{"$f":"SUMPRODUCT((Eingabe!$C$6:$C$400<$BT19)*(Eingabe!$D$6:$D$400>=$BT19)*(Eingabe!$B$6:$B$400=CA$3)*(Eingabe!$E$6:$E$400))","v":0},"2025-09-16","2025-09-16",{"$f":"SUMPRODUCT((Eingabe!$C$6:$C$400<=$CD19)*(Eingabe!$D$6:$D$400>$CD19)*(Eingabe!$B$6:$B$400=CE$3)*(Eingabe!$E$6:$E$400))","v":0},{"$f":"SUMPRODUCT((Eingabe!$C$6:$C$400<$CD19)*(Eingabe!$D$6:$D$400>=$CD19)*(Eingabe!$B$6:$B$400=CE$3)*(Eingabe!$E$6:$E$400))","v":0},{"$f":"SUMPRODUCT((Eingabe!$C$6:$C$400<=$CD19)*(Eingabe!$D$6:$D$400>$CD19)*(Eingabe!$B$6:$B$400=CG$3)*(Eingabe!$E$6:$E$400))","v":0},{"$f":"SUMPRODUCT((Eingabe!$C$6:$C$400<$CD19)*(Eingabe!$D$6:$D$400>=$CD19)*(Eingabe!$B$6:$B$400=CG$3)*(Eingabe!$E$6:$E$400))","v":0},{"$f":"SUMPRODUCT((Eingabe!$C$6:$C$400<=$CD19)*(Eingabe!$D$6:$D$400>$CD19)*(Eingabe!$B$6:$B$400=CI$3)*(Eingabe!$E$6:$E$400))","v":0},{"$f":"SUMPRODUCT((Eingabe!$C$6:$C$400<$CD19)*(Eingabe!$D$6:$D$400>=$CD19)*(Eingabe!$B$6:$B$400=CI$3)*(Eingabe!$E$6:$E$400))","v":0},{"$f":"SUMPRODUCT((Eingabe!$C$6:$C$400<=$CD19)*(Eingabe!$D$6:$D$400>$CD19)*(Eingabe!$B$6:$B$400=CK$3)*(Eingabe!$E$6:$E$400))","v":0},{"$f":"SUMPRODUCT((Eingabe!$C$6:$C$400<$CD19)*(Eingabe!$D$6:$D$400>=$CD19)*(Eingabe!$B$6:$B$400=CK$3)*(Eingabe!$E$6:$E$400))","v":0},"2025-10-16","2025-10-16",{"$f":"SUMPRODUCT((Eingabe!$C$6:$C$400<=$CN19)*(Eingabe!$D$6:$D$400>$CN19)*(Eingabe!$B$6:$B$400=CO$3)*(Eingabe!$E$6:$E$400))","v":7},{"$f":"SUMPRODUCT((Eingabe!$C$6:$C$400<$CN19)*(Eingabe!$D$6:$D$400>=$CN19)*(Eingabe!$B$6:$B$400=CO$3)*(Eingabe!$E$6:$E$400))","v":7},{"$f":"SUMPRODUCT((Eingabe!$C$6:$C$400<=$CN19)*(Eingabe!$D$6:$D$400>$CN19)*(Eingabe!$B$6:$B$400=CQ$3)*(Eingabe!$E$6:$E$400))","v":0},{"$f":"SUMPRODUCT((Eingabe!$C$6:$C$400<$CN19)*(Eingabe!$D$6:$D$400>=$CN19)*(Eingabe!$B$6:$B$400=CQ$3)*(Eingabe!$E$6:$E$400))","v":0},{"$f":"SUMPRODUCT((Eingabe!$C$6:$C$400<=$CN19)*(Eingabe!$D$6:$D$400>$CN19)*(Eingabe!$B$6:$B$400=CS$3)*(Eingabe!$E$6:$E$400))","v":0},{"$f":"SUMPRODUCT((Eingabe!$C$6:$C$400<$CN19)*(Eingabe!$D$6:$D$400>=$CN19)*(Eingabe!$B$6:$B$400=CS$3)*(Eingabe!$E$6:$E$400))","v":0},{"$f":"SUMPRODUCT((Eingabe!$C$6:$C$400<=$CN19)*(Eingabe!$D$6:$D$400>$CN19)*(Eingabe!$B$6:$B$400=CU$3)*(Eingabe!$E$6:$E$400))","v":0},{"$f":"SUMPRODUCT((Eingabe!$C$6:$C$400<$CN19)*(Eingabe!$D$6:$D$400>=$CN19)*(Eingabe!$B$6:$B$400=CU$3)*(Eingabe!$E$6:$E$400))","v":0},"2025-11-16","2025-11-16",{"$f":"SUMPRODUCT((Eingabe!$C$6:$C$400<=$CX19)*(Eingabe!$D$6:$D$400>$CX19)*(Eingabe!$B$6:$B$400=CY$3)*(Eingabe!$E$6:$E$400))","v":7},{"$f":"SUMPRODUCT((Eingabe!$C$6:$C$400<$CX19)*(Eingabe!$D$6:$D$400>=$CX19)*(Eingabe!$B$6:$B$400=CY$3)*(Eingabe!$E$6:$E$400))","v":7},{"$f":"SUMPRODUCT((Eingabe!$C$6:$C$400<=$CX19)*(Eingabe!$D$6:$D$400>$CX19)*(Eingabe!$B$6:$B$400=DA$3)*(Eingabe!$E$6:$E$400))","v":0},{"$f":"SUMPRODUCT((Eingabe!$C$6:$C$400<$CX19)*(Eingabe!$D$6:$D$400>=$CX19)*(Eingabe!$B$6:$B$400=DA$3)*(Eingabe!$E$6:$E$400))","v":0},{"$f":"SUMPRODUCT((Eingabe!$C$6:$C$400<=$CX19)*(Eingabe!$D$6:$D$400>$CX19)*(Eingabe!$B$6:$B$400=DC$3)*(Eingabe!$E$6:$E$400))","v":0},{"$f":"SUMPRODUCT((Eingabe!$C$6:$C$400<$CX19)*(Eingabe!$D$6:$D$400>=$CX19)*(Eingabe!$B$6:$B$400=DC$3)*(Eingabe!$E$6:$E$400))","v":0},{"$f":"SUMPRODUCT((Eingabe!$C$6:$C$400<=$CX19)*(Eingabe!$D$6:$D$400>$CX19)*(Eingabe!$B$6:$B$400=DE$3)*(Eingabe!$E$6:$E$400))","v":0},{"$f":"SUMPRODUCT((Eingabe!$C$6:$C$400<$CX19)*(Eingabe!$D$6:$D$400>=$CX19)*(Eingabe!$B$6:$B$400=DE$3)*(Eingabe!$E$6:$E$400))","v":0},"2025-12-16","2025-12-16",{"$f":"SUMPRODUCT((Eingabe!$C$6:$C$400<=$DH19)*(Eingabe!$D$6:$D$400>$DH19)*(Eingabe!$B$6:$B$400=DI$3)*(Eingabe!$E$6:$E$400))","v":7},{"$f":"SUMPRODUCT((Eingabe!$C$6:$C$400<$DH19)*(Eingabe!$D$6:$D$400>=$DH19)*(Eingabe!$B$6:$B$400=DI$3)*(Eingabe!$E$6:$E$400))","v":7},{"$f":"SUMPRODUCT((Eingabe!$C$6:$C$400<=$DH19)*(Eingabe!$D$6:$D$400>$DH19)*(Eingabe!$B$6:$B$400=DK$3)*(Eingabe!$E$6:$E$400))","v":0},{"$f":"SUMPRODUCT((Eingabe!$C$6:$C$400<$DH19)*(Eingabe!$D$6:$D$400>=$DH19)*(Eingabe!$B$6:$B$400=DK$3)*(Eingabe!$E$6:$E$400))","v":0},{"$f":"SUMPRODUCT((Eingabe!$C$6:$C$400<=$DH19)*(Eingabe!$D$6:$D$400>$DH19)*(Eingabe!$B$6:$B$400=DM$3)*(Eingabe!$E$6:$E$400))","v":0},{"$f":"SUMPRODUCT((Eingabe!$C$6:$C$400<$DH19)*(Eingabe!$D$6:$D$400>=$DH19)*(Eingabe!$B$6:$B$400=DM$3)*(Eingabe!$E$6:$E$400))","v":0},{"$f":"SUMPRODUCT((Eingabe!$C$6:$C$400<=$DH19)*(Eingabe!$D$6:$D$400>$DH19)*(Eingabe!$B$6:$B$400=DO$3)*(Eingabe!$E$6:$E$400))","v":0},{"$f":"SUMPRODUCT((Eingabe!$C$6:$C$400<$DH19)*(Eingabe!$D$6:$D$400>=$DH19)*(Eingabe!$B$6:$B$400=DO$3)*(Eingabe!$E$6:$E$400))","v":0},"2026-01-16","2026-01-16",{"$f":"SUMPRODUCT((Eingabe!$C$6:$C$400<=$B19)*(Eingabe!$D$6:$D$400>$B19)*(Eingabe!$B$6:$B$400=DS$3)*(Eingabe!$E$6:$E$400))","v":7},{"$f":"SUMPRODUCT((Eingabe!$C$6:$C$400<$B19)*(Eingabe!$D$6:$D$400>=$B19)*(Eingabe!$B$6:$B$400=DS$3)*(Eingabe!$E$6:$E$400))","v":7},{"$f":"SUMPRODUCT((Eingabe!$C$6:$C$400<=$B19)*(Eingabe!$D$6:$D$400>$B19)*(Eingabe!$B$6:$B$400=DU$3)*(Eingabe!$E$6:$E$400))","v":0},{"$f":"SUMPRODUCT((Eingabe!$C$6:$C$400<$B19)*(Eingabe!$D$6:$D$400>=$B19)*(Eingabe!$B$6:$B$400=DU$3)*(Eingabe!$E$6:$E$400))","v":0},{"$f":"SUMPRODUCT((Eingabe!$C$6:$C$400<=$B19)*(Eingabe!$D$6:$D$400>$B19)*(Eingabe!$B$6:$B$400=DW$3)*(Eingabe!$E$6:$E$400))","v":0},{"$f":"SUMPRODUCT((Eingabe!$C$6:$C$400<$B19)*(Eingabe!$D$6:$D$400>=$B19)*(Eingabe!$B$6:$B$400=DW$3)*(Eingabe!$E$6:$E$400))","v":0},{"$f":"SUMPRODUCT((Eingabe!$C$6:$C$400<=$B19)*(Eingabe!$D$6:$D$400>$B19)*(Eingabe!$B$6:$B$400=DY$3)*(Eingabe!$E$6:$E$400))","v":7},{"$f":"SUMPRODUCT((Eingabe!$C$6:$C$400<$B19)*(Eingabe!$D$6:$D$400>=$B19)*(Eingabe!$B$6:$B$400=DY$3)*(Eingabe!$E$6:$E$400))","v":7},"2026-02-16","2026-02-16",{"$f":"SUMPRODUCT((Eingabe!$C$6:$C$400<=$L19)*(Eingabe!$D$6:$D$400>$L19)*(Eingabe!$B$6:$B$400=EC$3)*(Eingabe!$E$6:$E$400))","v":0},{"$f":"SUMPRODUCT((Eingabe!$C$6:$C$400<$L19)*(Eingabe!$D$6:$D$400>=$L19)*(Eingabe!$B$6:$B$400=EC$3)*(Eingabe!$E$6:$E$400))","v":0},{"$f":"SUMPRODUCT((Eingabe!$C$6:$C$400<=$L19)*(Eingabe!$D$6:$D$400>$L19)*(Eingabe!$B$6:$B$400=EE$3)*(Eingabe!$E$6:$E$400))","v":0},{"$f":"SUMPRODUCT((Eingabe!$C$6:$C$400<$L19)*(Eingabe!$D$6:$D$400>=$L19)*(Eingabe!$B$6:$B$400=EE$3)*(Eingabe!$E$6:$E$400))","v":0},{"$f":"SUMPRODUCT((Eingabe!$C$6:$C$400<=$L19)*(Eingabe!$D$6:$D$400>$L19)*(Eingabe!$B$6:$B$400=EG$3)*(Eingabe!$E$6:$E$400))","v":0},{"$f":"SUMPRODUCT((Eingabe!$C$6:$C$400<$L19)*(Eingabe!$D$6:$D$400>=$L19)*(Eingabe!$B$6:$B$400=EG$3)*(Eingabe!$E$6:$E$400))","v":0},{"$f":"SUMPRODUCT((Eingabe!$C$6:$C$400<=$L19)*(Eingabe!$D$6:$D$400>$L19)*(Eingabe!$B$6:$B$400=EI$3)*(Eingabe!$E$6:$E$400))","v":0},{"$f":"SUMPRODUCT((Eingabe!$C$6:$C$400<$L19)*(Eingabe!$D$6:$D$400>=$L19)*(Eingabe!$B$6:$B$400=EI$3)*(Eingabe!$E$6:$E$400))","v":0},"2026-03-16","2026-03-16",{"$f":"SUMPRODUCT((Eingabe!$C$6:$C$400<=$V19)*(Eingabe!$D$6:$D$400>$V19)*(Eingabe!$B$6:$B$400=EM$3)*(Eingabe!$E$6:$E$400))","v":0},{"$f":"SUMPRODUCT((Eingabe!$C$6:$C$400<$V19)*(Eingabe!$D$6:$D$400>=$V19)*(Eingabe!$B$6:$B$400=EM$3)*(Eingabe!$E$6:$E$400))","v":0},{"$f":"SUMPRODUCT((Eingabe!$C$6:$C$400<=$V19)*(Eingabe!$D$6:$D$400>$V19)*(Eingabe!$B$6:$B$400=EO$3)*(Eingabe!$E$6:$E$400))","v":0},{"$f":"SUMPRODUCT((Eingabe!$C$6:$C$400<$V19)*(Eingabe!$D$6:$D$400>=$V19)*(Eingabe!$B$6:$B$400=EO$3)*(Eingabe!$E$6:$E$400))","v":0},{"$f":"SUMPRODUCT((Eingabe!$C$6:$C$400<=$V19)*(Eingabe!$D$6:$D$400>$V19)*(Eingabe!$B$6:$B$400=EQ$3)*(Eingabe!$E$6:$E$400))","v":0},{"$f":"SUMPRODUCT((Eingabe!$C$6:$C$400<$V19)*(Eingabe!$D$6:$D$400>=$V19)*(Eingabe!$B$6:$B$400=EQ$3)*(Eingabe!$E$6:$E$400))","v":0},{"$f":"SUMPRODUCT((Eingabe!$C$6:$C$400<=$V19)*(Eingabe!$D$6:$D$400>$V19)*(Eingabe!$B$6:$B$400=ES$3)*(Eingabe!$E$6:$E$400))","v":0},{"$f":"SUMPRODUCT((Eingabe!$C$6:$C$400<$V19)*(Eingabe!$D$6:$D$400>=$V19)*(Eingabe!$B$6:$B$400=ES$3)*(Eingabe!$E$6:$E$400))","v":0},"2026-04-16","2026-04-16",{"$f":"SUMPRODUCT((Eingabe!$C$6:$C$400<=$AF19)*(Eingabe!$D$6:$D$400>$AF19)*(Eingabe!$B$6:$B$400=EW$3)*(Eingabe!$E$6:$E$400))","v":0},{"$f":"SUMPRODUCT((Eingabe!$C$6:$C$400<$AF19)*(Eingabe!$D$6:$D$400>=$AF19)*(Eingabe!$B$6:$B$400=EW$3)*(Eingabe!$E$6:$E$400))","v":0},{"$f":"SUMPRODUCT((Eingabe!$C$6:$C$400<=$AF19)*(Eingabe!$D$6:$D$400>$AF19)*(Eingabe!$B$6:$B$400=EY$3)*(Eingabe!$E$6:$E$400))","v":0},{"$f":"SUMPRODUCT((Eingabe!$C$6:$C$400<$AF19)*(Eingabe!$D$6:$D$400>=$AF19)*(Eingabe!$B$6:$B$400=EY$3)*(Eingabe!$E$6:$E$400))","v":0},{"$f":"SUMPRODUCT((Eingabe!$C$6:$C$400<=$AF19)*(Eingabe!$D$6:$D$400>$AF19)*(Eingabe!$B$6:$B$400=FA$3)*(Eingabe!$E$6:$E$400))","v":7},{"$f":"SUMPRODUCT((Eingabe!$C$6:$C$400<$AF19)*(Eingabe!$D$6:$D$400>=$AF19)*(Eingabe!$B$6:$B$400=FA$3)*(Eingabe!$E$6:$E$400))","v":7},{"$f":"SUMPRODUCT((Eingabe!$C$6:$C$400<=$AF19)*(Eingabe!$D$6:$D$400>$AF19)*(Eingabe!$B$6:$B$400=FC$3)*(Eingabe!$E$6:$E$400))","v":0},{"$f":"SUMPRODUCT((Eingabe!$C$6:$C$400<$AF19)*(Eingabe!$D$6:$D$400>=$AF19)*(Eingabe!$B$6:$B$400=FC$3)*(Eingabe!$E$6:$E$400))","v":0},"2026-05-16","2026-05-16",{"$f":"SUMPRODUCT((Eingabe!$C$6:$C$400<=$AP19)*(Eingabe!$D$6:$D$400>$AP19)*(Eingabe!$B$6:$B$400=FG$3)*(Eingabe!$E$6:$E$400))","v":0},{"$f":"SUMPRODUCT((Eingabe!$C$6:$C$400<$AP19)*(Eingabe!$D$6:$D$400>=$AP19)*(Eingabe!$B$6:$B$400=FG$3)*(Eingabe!$E$6:$E$400))","v":0},{"$f":"SUMPRODUCT((Eingabe!$C$6:$C$400<=$AP19)*(Eingabe!$D$6:$D$400>$AP19)*(Eingabe!$B$6:$B$400=FI$3)*(Eingabe!$E$6:$E$400))","v":0},{"$f":"SUMPRODUCT((Eingabe!$C$6:$C$400<$AP19)*(Eingabe!$D$6:$D$400>=$AP19)*(Eingabe!$B$6:$B$400=FI$3)*(Eingabe!$E$6:$E$400))","v":0},{"$f":"SUMPRODUCT((Eingabe!$C$6:$C$400<=$AP19)*(Eingabe!$D$6:$D$400>$AP19)*(Eingabe!$B$6:$B$400=FK$3)*(Eingabe!$E$6:$E$400))","v":0},{"$f":"SUMPRODUCT((Eingabe!$C$6:$C$400<$AP19)*(Eingabe!$D$6:$D$400>=$AP19)*(Eingabe!$B$6:$B$400=FK$3)*(Eingabe!$E$6:$E$400))","v":0},{"$f":"SUMPRODUCT((Eingabe!$C$6:$C$400<=$AP19)*(Eingabe!$D$6:$D$400>$AP19)*(Eingabe!$B$6:$B$400=FM$3)*(Eingabe!$E$6:$E$400))","v":0},{"$f":"SUMPRODUCT((Eingabe!$C$6:$C$400<$AP19)*(Eingabe!$D$6:$D$400>=$AP19)*(Eingabe!$B$6:$B$400=FM$3)*(Eingabe!$E$6:$E$400))","v":0},"2026-06-16","2026-06-16",{"$f":"SUMPRODUCT((Eingabe!$C$6:$C$400<=$AZ19)*(Eingabe!$D$6:$D$400>$AZ19)*(Eingabe!$B$6:$B$400=FQ$3)*(Eingabe!$E$6:$E$400))","v":0},{"$f":"SUMPRODUCT((Eingabe!$C$6:$C$400<$AZ19)*(Eingabe!$D$6:$D$400>=$AZ19)*(Eingabe!$B$6:$B$400=FQ$3)*(Eingabe!$E$6:$E$400))","v":0},{"$f":"SUMPRODUCT((Eingabe!$C$6:$C$400<=$AZ19)*(Eingabe!$D$6:$D$400>$AZ19)*(Eingabe!$B$6:$B$400=FS$3)*(Eingabe!$E$6:$E$400))","v":0},{"$f":"SUMPRODUCT((Eingabe!$C$6:$C$400<$AZ19)*(Eingabe!$D$6:$D$400>=$AZ19)*(Eingabe!$B$6:$B$400=FS$3)*(Eingabe!$E$6:$E$400))","v":0},{"$f":"SUMPRODUCT((Eingabe!$C$6:$C$400<=$AZ19)*(Eingabe!$D$6:$D$400>$AZ19)*(Eingabe!$B$6:$B$400=FU$3)*(Eingabe!$E$6:$E$400))","v":0},{"$f":"SUMPRODUCT((Eingabe!$C$6:$C$400<$AZ19)*(Eingabe!$D$6:$D$400>=$AZ19)*(Eingabe!$B$6:$B$400=FU$3)*(Eingabe!$E$6:$E$400))","v":0},{"$f":"SUMPRODUCT((Eingabe!$C$6:$C$400<=$AZ19)*(Eingabe!$D$6:$D$400>$AZ19)*(Eingabe!$B$6:$B$400=FW$3)*(Eingabe!$E$6:$E$400))","v":0},{"$f":"SUMPRODUCT((Eingabe!$C$6:$C$400<$AZ19)*(Eingabe!$D$6:$D$400>=$AZ19)*(Eingabe!$B$6:$B$400=FW$3)*(Eingabe!$E$6:$E$400))","v":0},"2026-07-16","2026-07-16",{"$f":"SUMPRODUCT((Eingabe!$C$6:$C$400<=$BJ19)*(Eingabe!$D$6:$D$400>$BJ19)*(Eingabe!$B$6:$B$400=GA$3)*(Eingabe!$E$6:$E$400))","v":6},{"$f":"SUMPRODUCT((Eingabe!$C$6:$C$400<$BJ19)*(Eingabe!$D$6:$D$400>=$BJ19)*(Eingabe!$B$6:$B$400=GA$3)*(Eingabe!$E$6:$E$400))","v":6},{"$f":"SUMPRODUCT((Eingabe!$C$6:$C$400<=$BJ19)*(Eingabe!$D$6:$D$400>$BJ19)*(Eingabe!$B$6:$B$400=GC$3)*(Eingabe!$E$6:$E$400))","v":7},{"$f":"SUMPRODUCT((Eingabe!$C$6:$C$400<$BJ19)*(Eingabe!$D$6:$D$400>=$BJ19)*(Eingabe!$B$6:$B$400=GC$3)*(Eingabe!$E$6:$E$400))","v":7},{"$f":"SUMPRODUCT((Eingabe!$C$6:$C$400<=$BJ19)*(Eingabe!$D$6:$D$400>$BJ19)*(Eingabe!$B$6:$B$400=GE$3)*(Eingabe!$E$6:$E$400))","v":0},{"$f":"SUMPRODUCT((Eingabe!$C$6:$C$400<$BJ19)*(Eingabe!$D$6:$D$400>=$BJ19)*(Eingabe!$B$6:$B$400=GE$3)*(Eingabe!$E$6:$E$400))","v":0},{"$f":"SUMPRODUCT((Eingabe!$C$6:$C$400<=$BJ19)*(Eingabe!$D$6:$D$400>$BJ19)*(Eingabe!$B$6:$B$400=GG$3)*(Eingabe!$E$6:$E$400))","v":0},{"$f":"SUMPRODUCT((Eingabe!$C$6:$C$400<$BJ19)*(Eingabe!$D$6:$D$400>=$BJ19)*(Eingabe!$B$6:$B$400=GG$3)*(Eingabe!$E$6:$E$400))","v":0},"2026-08-16","2026-08-16",{"$f":"SUMPRODUCT((Eingabe!$C$6:$C$400<=$BT19)*(Eingabe!$D$6:$D$400>$BT19)*(Eingabe!$B$6:$B$400=GK$3)*(Eingabe!$E$6:$E$400))","v":0},{"$f":"SUMPRODUCT((Eingabe!$C$6:$C$400<$BT19)*(Eingabe!$D$6:$D$400>=$BT19)*(Eingabe!$B$6:$B$400=GK$3)*(Eingabe!$E$6:$E$400))","v":0},{"$f":"SUMPRODUCT((Eingabe!$C$6:$C$400<=$BT19)*(Eingabe!$D$6:$D$400>$BT19)*(Eingabe!$B$6:$B$400=GM$3)*(Eingabe!$E$6:$E$400))","v":0},{"$f":"SUMPRODUCT((Eingabe!$C$6:$C$400<$BT19)*(Eingabe!$D$6:$D$400>=$BT19)*(Eingabe!$B$6:$B$400=GM$3)*(Eingabe!$E$6:$E$400))","v":0},{"$f":"SUMPRODUCT((Eingabe!$C$6:$C$400<=$BT19)*(Eingabe!$D$6:$D$400>$BT19)*(Eingabe!$B$6:$B$400=GO$3)*(Eingabe!$E$6:$E$400))","v":0},{"$f":"SUMPRODUCT((Eingabe!$C$6:$C$400<$BT19)*(Eingabe!$D$6:$D$400>=$BT19)*(Eingabe!$B$6:$B$400=GO$3)*(Eingabe!$E$6:$E$400))","v":0},{"$f":"SUMPRODUCT((Eingabe!$C$6:$C$400<=$BT19)*(Eingabe!$D$6:$D$400>$BT19)*(Eingabe!$B$6:$B$400=GQ$3)*(Eingabe!$E$6:$E$400))","v":0},{"$f":"SUMPRODUCT((Eingabe!$C$6:$C$400<$BT19)*(Eingabe!$D$6:$D$400>=$BT19)*(Eingabe!$B$6:$B$400=GQ$3)*(Eingabe!$E$6:$E$400))","v":0},"2026-09-16","2026-09-16",{"$f":"SUMPRODUCT((Eingabe!$C$6:$C$400<=$CD19)*(Eingabe!$D$6:$D$400>$CD19)*(Eingabe!$B$6:$B$400=GU$3)*(Eingabe!$E$6:$E$400))","v":0},{"$f":"SUMPRODUCT((Eingabe!$C$6:$C$400<$CD19)*(Eingabe!$D$6:$D$400>=$CD19)*(Eingabe!$B$6:$B$400=GU$3)*(Eingabe!$E$6:$E$400))","v":0},{"$f":"SUMPRODUCT((Eingabe!$C$6:$C$400<=$CD19)*(Eingabe!$D$6:$D$400>$CD19)*(Eingabe!$B$6:$B$400=GW$3)*(Eingabe!$E$6:$E$400))","v":0},{"$f":"SUMPRODUCT((Eingabe!$C$6:$C$400<$CD19)*(Eingabe!$D$6:$D$400>=$CD19)*(Eingabe!$B$6:$B$400=GW$3)*(Eingabe!$E$6:$E$400))","v":0},{"$f":"SUMPRODUCT((Eingabe!$C$6:$C$400<=$CD19)*(Eingabe!$D$6:$D$400>$CD19)*(Eingabe!$B$6:$B$400=GY$3)*(Eingabe!$E$6:$E$400))","v":0},{"$f":"SUMPRODUCT((Eingabe!$C$6:$C$400<$CD19)*(Eingabe!$D$6:$D$400>=$CD19)*(Eingabe!$B$6:$B$400=GY$3)*(Eingabe!$E$6:$E$400))","v":0},{"$f":"SUMPRODUCT((Eingabe!$C$6:$C$400<=$CD19)*(Eingabe!$D$6:$D$400>$CD19)*(Eingabe!$B$6:$B$400=HA$3)*(Eingabe!$E$6:$E$400))","v":0},{"$f":"SUMPRODUCT((Eingabe!$C$6:$C$400<$CD19)*(Eingabe!$D$6:$D$400>=$CD19)*(Eingabe!$B$6:$B$400=HA$3)*(Eingabe!$E$6:$E$400))","v":0},"2026-10-16","2026-10-16",{"$f":"SUMPRODUCT((Eingabe!$C$6:$C$400<=$CN19)*(Eingabe!$D$6:$D$400>$CN19)*(Eingabe!$B$6:$B$400=HE$3)*(Eingabe!$E$6:$E$400))","v":7},{"$f":"SUMPRODUCT((Eingabe!$C$6:$C$400<$CN19)*(Eingabe!$D$6:$D$400>=$CN19)*(Eingabe!$B$6:$B$400=HE$3)*(Eingabe!$E$6:$E$400))","v":7},{"$f":"SUMPRODUCT((Eingabe!$C$6:$C$400<=$CN19)*(Eingabe!$D$6:$D$400>$CN19)*(Eingabe!$B$6:$B$400=HG$3)*(Eingabe!$E$6:$E$400))","v":0},{"$f":"SUMPRODUCT((Eingabe!$C$6:$C$400<$CN19)*(Eingabe!$D$6:$D$400>=$CN19)*(Eingabe!$B$6:$B$400=HG$3)*(Eingabe!$E$6:$E$400))","v":0},{"$f":"SUMPRODUCT((Eingabe!$C$6:$C$400<=$CN19)*(Eingabe!$D$6:$D$400>$CN19)*(Eingabe!$B$6:$B$400=HI$3)*(Eingabe!$E$6:$E$400))","v":0},{"$f":"SUMPRODUCT((Eingabe!$C$6:$C$400<$CN19)*(Eingabe!$D$6:$D$400>=$CN19)*(Eingabe!$B$6:$B$400=HI$3)*(Eingabe!$E$6:$E$400))","v":0},{"$f":"SUMPRODUCT((Eingabe!$C$6:$C$400<=$CN19)*(Eingabe!$D$6:$D$400>$CN19)*(Eingabe!$B$6:$B$400=HK$3)*(Eingabe!$E$6:$E$400))","v":0},{"$f":"SUMPRODUCT((Eingabe!$C$6:$C$400<$CN19)*(Eingabe!$D$6:$D$400>=$CN19)*(Eingabe!$B$6:$B$400=HK$3)*(Eingabe!$E$6:$E$400))","v":0},"2026-11-16","2026-11-16",{"$f":"SUMPRODUCT((Eingabe!$C$6:$C$400<=$CX19)*(Eingabe!$D$6:$D$400>$CX19)*(Eingabe!$B$6:$B$400=HO$3)*(Eingabe!$E$6:$E$400))","v":7},{"$f":"SUMPRODUCT((Eingabe!$C$6:$C$400<$CX19)*(Eingabe!$D$6:$D$400>=$CX19)*(Eingabe!$B$6:$B$400=HO$3)*(Eingabe!$E$6:$E$400))","v":7},{"$f":"SUMPRODUCT((Eingabe!$C$6:$C$400<=$CX19)*(Eingabe!$D$6:$D$400>$CX19)*(Eingabe!$B$6:$B$400=HQ$3)*(Eingabe!$E$6:$E$400))","v":0},{"$f":"SUMPRODUCT((Eingabe!$C$6:$C$400<$CX19)*(Eingabe!$D$6:$D$400>=$CX19)*(Eingabe!$B$6:$B$400=HQ$3)*(Eingabe!$E$6:$E$400))","v":0},{"$f":"SUMPRODUCT((Eingabe!$C$6:$C$400<=$CX19)*(Eingabe!$D$6:$D$400>$CX19)*(Eingabe!$B$6:$B$400=HS$3)*(Eingabe!$E$6:$E$400))","v":0},{"$f":"SUMPRODUCT((Eingabe!$C$6:$C$400<$CX19)*(Eingabe!$D$6:$D$400>=$CX19)*(Eingabe!$B$6:$B$400=HS$3)*(Eingabe!$E$6:$E$400))","v":0},{"$f":"SUMPRODUCT((Eingabe!$C$6:$C$400<=$CX19)*(Eingabe!$D$6:$D$400>$CX19)*(Eingabe!$B$6:$B$400=HU$3)*(Eingabe!$E$6:$E$400))","v":0},{"$f":"SUMPRODUCT((Eingabe!$C$6:$C$400<$CX19)*(Eingabe!$D$6:$D$400>=$CX19)*(Eingabe!$B$6:$B$400=HU$3)*(Eingabe!$E$6:$E$400))","v":0},"2026-12-16","2026-12-16",{"$f":"SUMPRODUCT((Eingabe!$C$6:$C$400<=$DH19)*(Eingabe!$D$6:$D$400>$DH19)*(Eingabe!$B$6:$B$400=HY$3)*(Eingabe!$E$6:$E$400))","v":7},{"$f":"SUMPRODUCT((Eingabe!$C$6:$C$400<$DH19)*(Eingabe!$D$6:$D$400>=$DH19)*(Eingabe!$B$6:$B$400=HY$3)*(Eingabe!$E$6:$E$400))","v":7},{"$f":"SUMPRODUCT((Eingabe!$C$6:$C$400<=$DH19)*(Eingabe!$D$6:$D$400>$DH19)*(Eingabe!$B$6:$B$400=IA$3)*(Eingabe!$E$6:$E$400))","v":0},{"$f":"SUMPRODUCT((Eingabe!$C$6:$C$400<$DH19)*(Eingabe!$D$6:$D$400>=$DH19)*(Eingabe!$B$6:$B$400=IA$3)*(Eingabe!$E$6:$E$400))","v":0},{"$f":"SUMPRODUCT((Eingabe!$C$6:$C$400<=$DH19)*(Eingabe!$D$6:$D$400>$DH19)*(Eingabe!$B$6:$B$400=IC$3)*(Eingabe!$E$6:$E$400))","v":0},{"$f":"SUMPRODUCT((Eingabe!$C$6:$C$400<$DH19)*(Eingabe!$D$6:$D$400>=$DH19)*(Eingabe!$B$6:$B$400=IC$3)*(Eingabe!$E$6:$E$400))","v":0},{"$f":"SUMPRODUCT((Eingabe!$C$6:$C$400<=$DH19)*(Eingabe!$D$6:$D$400>$DH19)*(Eingabe!$B$6:$B$400=IE$3)*(Eingabe!$E$6:$E$400))","v":0},{"$f":"SUMPRODUCT((Eingabe!$C$6:$C$400<$DH19)*(Eingabe!$D$6:$D$400>=$DH19)*(Eingabe!$B$6:$B$400=IE$3)*(Eingabe!$E$6:$E$400))","v":0}]
["2025-01-17","2025-01-17",{"$f":"SUMPRODUCT((Eingabe!$C$6:$C$400<=$B20)*(Eingabe!$D$6:$D$400>$B20)*(Eingabe!$B$6:$B$400=C$3)*(Eingabe!$E$6:$E$400))","v":0},{"$f":"SUMPRODUCT((Eingabe!$C$6:$C$400<$B20)*(Eingabe!$D$6:$D$400>=$B20)*(Eingabe!$B$6:$B$400=C$3)*(Eingabe!$E$6:$E$400))","v":7},{"$f":"SUMPRODUCT((Eingabe!$C$6:$C$400<=$B20)*(Eingabe!$D$6:$D$400>$B20)*(Eingabe!$B$6:$B$400=E$3)*(Eingabe!$E$6:$E$400))","v":0},{"$f":"SUMPRODUCT((Eingabe!$C$6:$C$400<$B20)*(Eingabe!$D$6:$D$400>=$B20)*(Eingabe!$B$6:$B$400=E$3)*(Eingabe!$E$6:$E$400))","v":0},{"$f":"SUMPRODUCT((Eingabe!$C$6:$C$400<=$B20)*(Eingabe!$D$6:$D$400>$B20)*(Eingabe!$B$6:$B$400=G$3)*(Eingabe!$E$6:$E$400))","v":0},{"$f":"SUMPRODUCT((Eingabe!$C$6:$C$400<$B20)*(Eingabe!$D$6:$D$400>=$B20)*(Eingabe!$B$6:$B$400=G$3)*(Eingabe!$E$6:$E$400))","v":0},{"$f":"SUMPRODUCT((Eingabe!$C$6:$C$400<=$B20)*(Eingabe!$D$6:$D$400>$B20)*(Eingabe!$B$6:$B$400=I$3)*(Eingabe!$E$6:$E$400))","v":7},{"$f":"SUMPRODUCT((Eingabe!$C$6:$C$400<$B20)*(Eingabe!$D$6:$D$400>=$B20)*(Eingabe!$B$6:$B$400=I$3)*(Eingabe!$E$6:$E$400))","v":7},"2025-02-17","2025-02-17",{"$f":"SUMPRODUCT((Eingabe!$C$6:$C$400<=$L20)*(Eingabe!$D$6:$D$400>$L20)*(Eingabe!$B$6:$B$400=M$3)*(Eingabe!$E$6:$E$400))","v":0},{"$f":"SUMPRODUCT((Eingabe!$C$6:$C$400<$L20)*(Eingabe!$D$6:$D$400>=$L20)*(Eingabe!$B$6:$B$400=M$3)*(Eingabe!$E$6:$E$400))","v":0},{"$f":"SUMPRODUCT((Eingabe!$C$6:$C$400<=$L20)*(Eingabe!$D$6:$D$400>$L20)*(Eingabe!$B$6:$B$400=O$3)*(Eingabe!$E$6:$E$400))","v":0},{"$f":"SUMPRODUCT((Eingabe!$C$6:$C$400<$L20)*(Eingabe!$D$6:$D$400>=$L20)*(Eingabe!$B$6:$B$400=O$3)*(Eingabe!$E$6:$E$400))","v":0},{"$f":"SUMPRODUCT((Eingabe!$C$6:$C$400<=$L20)*(Eingabe!$D$6:$D$400>$L20)*(Eingabe!$B$6:$B$400=Q$3)*(Eingabe!$E$6:$E$400))","v":0},{"$f":"SUMPRODUCT((Eingabe!$C$6:$C$400<$L20)*(Eingabe!$D$6:$D$400>=$L20)*(Eingabe!$B$6:$B$400=Q$3)*(Eingabe!$E$6:$E$400))","v":0},{"$f":"SUMPRODUCT((Eingabe!$C$6:$C$400<=$L20)*(Eingabe!$D$6:$D$400>$L20)*(Eingabe!$B$6:$B$400=S$3)*(Eingabe!$E$6:$E$400))","v":0},{"$f":"SUMPRODUCT((Eingabe!$C$6:$C$400<$L20)*(Eingabe!$D$6:$D$400>=$L20)*(Eingabe!$B$6:$B$400=S$3)*(Eingabe!$E$6:$E$400))","v":0},"2025-03-17","2025-03-17",{"$f":"SUMPRODUCT((Eingabe!$C$6:$C$400<=$V20)*(Eingabe!$D$6:$D$400>$V20)*(Eingabe!$B$6:$B$400=W$3)*(Eingabe!$E$6:$E$400))","v":0},{"$f":"SUMPRODUCT((Eingabe!$C$6:$C$400<$V20)*(Eingabe!$D$6:$D$400>=$V20)*(Eingabe!$B$6:$B$400=W$3)*(Eingabe!$E$6:$E$400))","v":0},{"$f":"SUMPRODUCT((Eingabe!$C$6:$C$400<=$V20)*(Eingabe!$D$6:$D$400>$V20)*(Eingabe!$B$6:$B$400=Y$3)*(Eingabe!$E$6:$E$400))","v":0},{"$f":"SUMPRODUCT((Eingabe!$C$6:$C$400<$V20)*(Eingabe!$D$6:$D$400>=$V20)*(Eingabe!$B$6:$B$400=Y$3)*(Eingabe!$E$6:$E$400))","v":0},{"$f":"SUMPRODUCT((Eingabe!$C$6:$C$400<=$V20)*(Eingabe!$D$6:$D$400>$V20)*(Eingabe!$B$6:$B$400=AA$3)*(Eingabe!$E$6:$E$400))","v":0},{"$f":"SUMPRODUCT((Eingabe!$C$6:$C$400<$V20)*(Eingabe!$D$6:$D$400>=$V20)*(Eingabe!$B$6:$B$400=AA$3)*(Eingabe!$E$6:$E$400))","v":0},{"$f":"SUMPRODUCT((Eingabe!$C$6:$C$400<=$V20)*(Eingabe!$D$6:$D$400>$V20)*(Eingabe!$B$6:$B$400=AC$3)*(Eingabe!$E$6:$E$400))","v":0},{"$f":"SUMPRODUCT((Eingabe!$C$6:$C$400<$V20)*(Eingabe!$D$6:$D$400>=$V20)*(Eingabe!$B$6:$B$400=AC$3)*(Eingabe!$E$6:$E$400))","v":0},"2025-04-17","2025-04-17",{"$f":"SUMPRODUCT((Eingabe!$C$6:$C$400<=$AF20)*(Eingabe!$D$6:$D$400>$AF20)*(Eingabe!$B$6:$B$400=AG$3)*(Eingabe!$E$6:$E$400))","v":0},{"$f":"SUMPRODUCT((Eingabe!$C$6:$C$400<$AF20)*(Eingabe!$D$6:$D$400>=$AF20)*(Eingabe!$B$6:$B$400=AG$3)*(Eingabe!$E$6:$E$400))","v":0},{"$f":"SUMPRODUCT((Eingabe!$C$6:$C$400<=$AF20)*(Eingabe!$D$6:$D$400>$AF20)*(Eingabe!$B$6:$B$400=AI$3)*(Eingabe!$E$6:$E$400))","v":0},{"$f":"SUMPRODUCT((Eingabe!$C$6:$C$400<$AF20)*(Eingabe!$D$6:$D$400>=$AF20)*(Eingabe!$B$6:$B$400=AI$3)*(Eingabe!$E$6:$E$400))","v":0},{"$f":"SUMPRODUCT((Eingabe!$C$6:$C$400<=$AF20)*(Eingabe!$D$6:$D$400>$AF20)*(Eingabe!$B$6:$B$400=AK$3)*(Eingabe!$E$6:$E$400))","v":7},{"$f":"SUMPRODUCT((Eingabe!$C$6:$C$400<$AF20)*(Eingabe!$D$6:$D$400>=$AF20)*(Eingabe!$B$6:$B$400=AK$3)*(Eingabe!$E$6:$E$400))","v":7},{"$f":"SUMPRODUCT((Eingabe!$C$6:$C$400<=$AF20)*(Eingabe!$D$6:$D$400>$AF20)*(Eingabe!$B$6:$B$400=AM$3)*(Eingabe!$E$6:$E$400))","v":0},{"$f":"SUMPRODUCT((Eingabe!$C$6:$C$400<$AF20)*(Eingabe!$D$6:$D$400>=$AF20)*(Eingabe!$B$6:$B$400=AM$3)*(Eingabe!$E$6:$E$400))","v":0},"2025-05-17","2025-05-17",{"$f":"SUMPRODUCT((Eingabe!$C$6:$C$400<=$AP20)*(Eingabe!$D$6:$D$400>$AP20)*(Eingabe!$B$6:$B$400=AQ$3)*(Eingabe!$E$6:$E$400))","v":0},{"$f":"SUMPRODUCT((Eingabe!$C$6:$C$400<$AP20)*(Eingabe!$D$6:$D$400>=$AP20)*(Eingabe!$B$6:$B$400=AQ$3)*(Eingabe!$E$6:$E$400))","v":0},{"$f":"SUMPRODUCT((Eingabe!$C$6:$C$400<=$AP20)*(Eingabe!$D$6:$D$400>$AP20)*(Eingabe!$B$6:$B$400=AS$3)*(Eingabe!$E$6:$E$400))","v":0},{"$f":"SUMPRODUCT((Eingabe!$C$6:$C$400<$AP20)*(Eingabe!$D$6:$D$400>=$AP20)*(Eingabe!$B$6:$B$400=AS$3)*(Eingabe!$E$6:$E$400))","v":0},{"$f":"SUMPRODUCT((Eingabe!$C$6:$C$400<=$AP20)*(Eingabe!$D$6:$D$400>$AP20)*(Eingabe!$B$6:$B$400=AU$3)*(Eingabe!$E$6:$E$400))","v":0},{"$f":"SUMPRODUCT((Eingabe!$C$6:$C$400<$AP20)*(Eingabe!$D$6:$D$400>=$AP20)*(Eingabe!$B$6:$B$400=AU$3)*(Eingabe!$E$6:$E$400))","v":0},{"$f":"SUMPRODUCT((Eingabe!$C$6:$C$400<=$AP20)*(Eingabe!$D$6:$D$400>$AP20)*(Eingabe!$B$6:$B$400=AW$3)*(Eingabe!$E$6:$E$400))","v":0},{"$f":"SUMPRODUCT((Eingabe!$C$6:$C$400<$AP20)*(Eingabe!$D$6:$D$400>=$AP20)*(Eingabe!$B$6:$B$400=AW$3)*(Eingabe!$E$6:$E$400))","v":0},"2025-06-17","2025-06-17",{"$f":"SUMPRODUCT((Eingabe!$C$6:$C$400<=$AZ20)*(Eingabe!$D$6:$D$400>$AZ20)*(Eingabe!$B$6:$B$400=BA$3)*(Eingabe!$E$6:$E$400))","v":0},{"$f":"SUMPRODUCT((Eingabe!$C$6:$C$400<$AZ20)*(Eingabe!$D$6:$D$400>=$AZ20)*(Eingabe!$B$6:$B$400=BA$3)*(Eingabe!$E$6:$E$400))","v":0},{"$f":"SUMPRODUCT((Eingabe!$C$6:$C$400<=$AZ20)*(Eingabe!$D$6:$D$400>$AZ20)*(Eingabe!$B$6:$B$400=BC$3)*(Eingabe!$E$6:$E$400))","v":0},{"$f":"SUMPRODUCT((Eingabe!$C$6:$C$400<$AZ20)*(Eingabe!$D$6:$D$400>=$AZ20)*(Eingabe!$B$6:$B$400=BC$3)*(Eingabe!$E$6:$E$400))","v":0},{"$f":"SUMPRODUCT((Eingabe!$C$6:$C$400<=$AZ20)*(Eingabe!$D$6:$D$400>$AZ20)*(Eingabe!$B$6:$B$400=BE$3)*(Eingabe!$E$6:$E$400))","v":0},{"$f":"SUMPRODUCT((Eingabe!$C$6:$C$400<$AZ20)*(Eingabe!$D$6:$D$400>=$AZ20)*(Eingabe!$B$6:$B$400=BE$3)*(Eingabe!$E$6:$E$400))","v":0},{"$f":"SUMPRODUCT((Eingabe!$C$6:$C$400<=$AZ20)*(Eingabe!$D$6:$D$400>$AZ20)*(Eingabe!$B$6:$B$400=BG$3)*(Eingabe!$E$6:$E$400))","v":0},{"$f":"SUMPRODUCT((Eingabe!$C$6:$C$400<$AZ20)*(Eingabe!$D$6:$D$400>=$AZ20)*(Eingabe!$B$6:$B$400=BG$3)*(Eingabe!$E$6:$E$400))","v":0},"2025-07-17","2025-07-17",{"$f":"SUMPRODUCT((Eingabe!$C$6:$C$400<=$BJ20)*(Eingabe!$D$6:$D$400>$BJ20)*(Eingabe!$B$6:$B$400=BK$3)*(Eingabe!$E$6:$E$400))","v":6},{"$f":"SUMPRODUCT((Eingabe!$C$6:$C$400<$BJ20)*(Eingabe!$D$6:$D$400>=$BJ20)*(Eingabe!$B$6:$B$400=BK$3)*(Eingabe!$E$6:$E$400))","v":6},{"$f":"SUMPRODUCT((Eingabe!$C$6:$C$400<=$BJ20)*(Eingabe!$D$6:$D$400>$BJ20)*(Eingabe!$B$6:$B$400=BM$3)*(Eingabe!$E$6:$E$400))","v":0},{"$f":"SUMPRODUCT((Eingabe!$C$6:$C$400<$BJ20)*(Eingabe!$D$6:$D$400>=$BJ20)*(Eingabe!$B$6:$B$400=BM$3)*(Eingabe!$E$6:$E$400))","v":7},{"$f":"SUMPRODUCT((Eingabe!$C$6:$C$400<=$BJ20)*(Eingabe!$D$6:$D$400>$BJ20)*(Eingabe!$B$6:$B$400=BO$3)*(Eingabe!$E$6:$E$400))","v":0},{"$f":"SUMPRODUCT((Eingabe!$C$6:$C$400<$BJ20)*(Eingabe!$D$6:$D$400>=$BJ20)*(Eingabe!$B$6:$B$400=BO$3)*(Eingabe!$E$6:$E$400))","v":0},{"$f":"SUMPRODUCT((Eingabe!$C$6:$C$400<=$BJ20)*(Eingabe!$D$6:$D$400>$BJ20)*(Eingabe!$B$6:$B$400=BQ$3)*(Eingabe!$E$6:$E$400))","v":0},{"$f":"SUMPRODUCT((Eingabe!$C$6:$C$400<$BJ20)*(Eingabe!$D$6:$D$400>=$BJ20)*(Eingabe!$B$6:$B$400=BQ$3)*(Eingabe!$E$6:$E$400))","v":0},"2025-08-17","2025-08-17",{"$f":"SUMPRODUCT((Eingabe!$C$6:$C$400<=$BT20)*(Eingabe!$D$6:$D$400>$BT20)*(Eingabe!$B$6:$B$400=BU$3)*(Eingabe!$E$6:$E$400))","v":0},{"$f":"SUMPRODUCT((Eingabe!$C$6:$C$400<$BT20)*(Eingabe!$D$6:$D$400>=$BT20)*(Eingabe!$B$6:$B$400=BU$3)*(Eingabe!$E$6:$E$400))","v":0},{"$f":"SUMPRODUCT((Eingabe!$C$6:$C$400<=$BT20)*(Eingabe!$D$6:$D$400>$BT20)*(Eingabe!$B$6:$B$400=BW$3)*(Eingabe!$E$6:$E$400))","v":0},{"$f":"SUMPRODUCT((Eingabe!$C$6:$C$400<$BT20)*(Eingabe!$D$6:$D$400>=$BT20)*(Eingabe!$B$6:$B$400=BW$3)*(Eingabe!$E$6:$E$400))","v":0},{"$f":"SUMPRODUCT((Eingabe!$C$6:$C$400<=$BT20)*(Eingabe!$D$6:$D$400>$BT20)*(Eingabe!$B$6:$B$400=BY$3)*(Eingabe!$E$6:$E$400))","v":0},{"$f":"SUMPRODUCT((Eingabe!$C$6:$C$400<$BT20)*(Eingabe!$D$6:$D$400>=$BT20)*(Eingabe!$B$6:$B$400=BY$3)*(Eingabe!$E$6:$E$400))","v":0},{"$f":"SUMPRODUCT((Eingabe!$C$6:$C$400<=$BT20)*(Eingabe!$D$6:$D$400>$BT20)*(Eingabe!$B$6:$B$400=CA$3)*(Eingabe!$E$6:$E$400))","v":0},{"$f":"SUMPRODUCT((Eingabe!$C$6:$C$400<$BT20)*(Eingabe!$D$6:$D$400>=$BT20)*(Eingabe!$B$6:$B$400=CA$3)*(Eingabe!$E$6:$E$400))","v":0},"2025-09-17","2025-09-17",{"$f":"SUMPRODUCT((Eingabe!$C$6:$C$400<=$CD20)*(Eingabe!$D$6:$D$400>$CD20)*(Eingabe!$B$6:$B$400=CE$3)*(Eingabe!$E$6:$E$400))","v":0},{"$f":"SUMPRODUCT((Eingabe!$C$6:$C$400<$CD20)*(Eingabe!$D$6:$D$400>=$CD20)*(Eingabe!$B$6:$B$400=CE$3)*(Eingabe!$E$6:$E$400))","v":0},{"$f":"SUMPRODUCT((Eingabe!$C$6:$C$400<=$CD20)*(Eingabe!$D$6:$D$400>$CD20)*(Eingabe!$B$6:$B$400=CG$3)*(Eingabe!$E$6:$E$400))","v":0},{"$f":"SUMPRODUCT((Eingabe!$C$6:$C$400<$CD20)*(Eingabe!$D$6:$D$400>=$CD20)*(Eingabe!$B$6:$B$400=CG$3)*(Eingabe!$E$6:$E$400))","v":0},{"$f":"SUMPRODUCT((Eingabe!$C$6:$C$400<=$CD20)*(Eingabe!$D$6:$D$400>$CD20)*(Eingabe!$B$6:$B$400=CI$3)*(Eingabe!$E$6:$E$400))","v":0},{"$f":"SUMPRODUCT((Eingabe!$C$6:$C$400<$CD20)*(Eingabe!$D$6:$D$400>=$CD20)*(Eingabe!$B$6:$B$400=CI$3)*(Eingabe!$E$6:$E$400))","v":0},{"$f":"SUMPRODUCT((Eingabe!$C$6:$C$400<=$CD20)*(Eingabe!$D$6:$D$400>$CD20)*(Eingabe!$B$6:$B$400=CK$3)*(Eingabe!$E$6:$E$400))","v":0},{"$f":"SUMPRODUCT((Eingabe!$C$6:$C$400<$CD20)*(Eingabe!$D$6:$D$400>=$CD20)*(Eingabe!$B$6:$B$400=CK$3)*(Eingabe!$E$6:$E$400))","v":0},"2025-10-17","2025-10-17",{"$f":"SUMPRODUCT((Eingabe!$C$6:$C$400<=$CN20)*(Eingabe!$D$6:$D$400>$CN20)*(Eingabe!$B$6:$B$400=CO$3)*(Eingabe!$E$6:$E$400))","v":7},{"$f":"SUMPRODUCT((Eingabe!$C$6:$C$400<$CN20)*(Eingabe!$D$6:$D$400>=$CN20)*(Eingabe!$B$6:$B$400=CO$3)*(Eingabe!$E$6:$E$400))","v":7},{"$f":"SUMPRODUCT((Eingabe!$C$6:$C$400<=$CN20)*(Eingabe!$D$6:$D$400>$CN20)*(Eingabe!$B$6:$B$400=CQ$3)*(Eingabe!$E$6:$E$400))","v":0},{"$f":"SUMPRODUCT((Eingabe!$C$6:$C$400<$CN20)*(Eingabe!$D$6:$D$400>=$CN20)*(Eingabe!$B$6:$B$400=CQ$3)*(Eingabe!$E$6:$E$400))","v":0},{"$f":"SUMPRODUCT((Eingabe!$C$6:$C$400<=$CN20)*(Eingabe!$D$6:$D$400>$CN20)*(Eingabe!$B$6:$B$400=CS$3)*(Eingabe!$E$6:$E$400))","v":0},{"$f":"SUMPRODUCT((Eingabe!$C$6:$C$400<$CN20)*(Eingabe!$D$6:$D$400>=$CN20)*(Eingabe!$B$6:$B$400=CS$3)*(Eingabe!$E$6:$E$400))","v":0},{"$f":"SUMPRODUCT((Eingabe!$C$6:$C$400<=$CN20)*(Eingabe!$D$6:$D$400>$CN20)*(Eingabe!$B$6:$B$400=CU$3)*(Eingabe!$E$6:$E$400))","v":0},{"$f":"SUMPRODUCT((Eingabe!$C$6:$C$400<$CN20)*(Eingabe!$D$6:$D$400>=$CN20)*(Eingabe!$B$6:$B$400=CU$3)*(Eingabe!$E$6:$E$400))","v":0},"2025-11-17","2025-11-17",{"$f":"SUMPRODUCT((Eingabe!$C$6:$C$400<=$CX20)*(Eingabe!$D$6:$D$400>$CX20)*(Eingabe!$B$6:$B$400=CY$3)*(Eingabe!$E$6:$E$400))","v":7},{"$f":"SUMPRODUCT((Eingabe!$C$6:$C$400<$CX20)*(Eingabe!$D$6:$D$400>=$CX20)*(Eingabe!$B$6:$B$400=CY$3)*(Eingabe!$E$6:$E$400))","v":7},{"$f":"SUMPRODUCT((Eingabe!$C$6:$C$400<=$CX20)*(Eingabe!$D$6:$D$400>$CX20)*(Eingabe!$B$6:$B$400=DA$3)*(Eingabe!$E$6:$E$400))","v":0},{"$f":"SUMPRODUCT((Eingabe!$C$6:$C$400<$CX20)*(Eingabe!$D$6:$D$400>=$CX20)*(Eingabe!$B$6:$B$400=DA$3)*(Eingabe!$E$6:$E$400))","v":0},{"$f":"SUMPRODUCT((Eingabe!$C$6:$C$400<=$CX20)*(Eingabe!$D$6:$D$400>$CX20)*(Eingabe!$B$6:$B$400=DC$3)*(Eingabe!$E$6:$E$400))","v":0},{"$f":"SUMPRODUCT((Eingabe!$C$6:$C$400<$CX20)*(Eingabe!$D$6:$D$400>=$CX20)*(Eingabe!$B$6:$B$400=DC$3)*(Eingabe!$E$6:$E$400))","v":0},{"$f":"SUMPRODUCT((Eingabe!$C$6:$C$400<=$CX20)*(Eingabe!$D$6:$D$400>$CX20)*(Eingabe!$B$6:$B$400=DE$3)*(Eingabe!$E$6:$E$400))","v":0},{"$f":"SUMPRODUCT((Eingabe!$C$6:$C$400<$CX20)*(Eingabe!$D$6:$D$400>=$CX20)*(Eingabe!$B$6:$B$400=DE$3)*(Eingabe!$E$6:$E$400))","v":0},"2025-12-17","2025-12-17",{"$f":"SUMPRODUCT((Eingabe!$C$6:$C$400<=$DH20)*(Eingabe!$D$6:$D$400>$DH20)*(Eingabe!$B$6:$B$400=DI$3)*(Eingabe!$E$6:$E$400))","v":7},{"$f":"SUMPRODUCT((Eingabe!$C$6:$C$400<$DH20)*(Eingabe!$D$6:$D$400>=$DH20)*(Eingabe!$B$6:$B$400=DI$3)*(Eingabe!$E$6:$E$400))","v":7},{"$f":"SUMPRODUCT((Eingabe!$C$6:$C$400<=$DH20)*(Eingabe!$D$6:$D$400>$DH20)*(Eingabe!$B$6:$B$400=DK$3)*(Eingabe!$E$6:$E$400))","v":0},{"$f":"SUMPRODUCT((Eingabe!$C$6:$C$400<$DH20)*(Eingabe!$D$6:$D$400>=$DH20)*(Eingabe!$B$6:$B$400=DK$3)*(Eingabe!$E$6:$E$400))","v":0},{"$f":"SUMPRODUCT((Eingabe!$C$6:$C$400<=$DH20)*(Eingabe!$D$6:$D$400>$DH20)*(Eingabe!$B$6:$B$400=DM$3)*(Eingabe!$E$6:$E$400))","v":0},{"$f":"SUMPRODUCT((Eingabe!$C$6:$C$400<$DH20)*(Eingabe!$D$6:$D$400>=$DH20)*(Eingabe!$B$6:$B$400=DM$3)*(Eingabe!$E$6:$E$400))","v":0},{"$f":"SUMPRODUCT((Eingabe!$C$6:$C$400<=$DH20)*(Eingabe!$D$6:$D$400>$DH20)*(Eingabe!$B$6:$B$400=DO$3)*(Eingabe!$E$6:$E$400))","v":0},{"$f":"SUMPRODUCT((Eingabe!$C$6:$C$400<$DH20)*(Eingabe!$D$6:$D$400>=$DH20)*(Eingabe!$B$6:$B$400=DO$3)*(Eingabe!$E$6:$E$400))","v":0},"2026-01-17","2026-01-17",{"$f":"SUMPRODUCT((Eingabe!$C$6:$C$400<=$B20)*(Eingabe!$D$6:$D$400>$B20)*(Eingabe!$B$6:$B$400=DS$3)*(Eingabe!$E$6:$E$400))","v":0},{"$f":"SUMPRODUCT((Eingabe!$C$6:$C$400<$B20)*(Eingabe!$D$6:$D$400>=$B20)*(Eingabe!$B$6:$B$400=DS$3)*(Eingabe!$E$6:$E$400))","v":7},{"$f":"SUMPRODUCT((Eingabe!$C$6:$C$400<=$B20)*(Eingabe!$D$6:$D$400>$B20)*(Eingabe!$B$6:$B$400=DU$3)*(Eingabe!$E$6:$E$400))","v":0},{"$f":"SUMPRODUCT((Eingabe!$C$6:$C$400<$B20)*(Eingabe!$D$6:$D$400>=$B20)*(Eingabe!$B$6:$B$400=DU$3)*(Eingabe!$E$6:$E$400))","v":0},{"$f":"SUMPRODUCT((Eingabe!$C$6:$C$400<=$B20)*(Eingabe!$D$6:$D$400>$B20)*(Eingabe!$B$6:$B$400=DW$3)*(Eingabe!$E$6:$E$400))","v":0},{"$f":"SUMPRODUCT((Eingabe!$C$6:$C$400<$B20)*(Eingabe!$D$6:$D$400>=$B20)*(Eingabe!$B$6:$B$400=DW$3)*(Eingabe!$E$6:$E$400))","v":0},{"$f":"SUMPRODUCT((Eingabe!$C$6:$C$400<=$B20)*(Eingabe!$D$6:$D$400>$B20)*(Eingabe!$B$6:$B$400=DY$3)*(Eingabe!$E$6:$E$400))","v":7},{"$f":"SUMPRODUCT((Eingabe!$C$6:$C$400<$B20)*(Eingabe!$D$6:$D$400>=$B20)*(Eingabe!$B$6:$B$400=DY$3)*(Eingabe!$E$6:$E$400))","v":7},"2026-02-17","2026-02-17",{"$f":"SUMPRODUCT((Eingabe!$C$6:$C$400<=$L20)*(Eingabe!$D$6:$D$400>$L20)*(Eingabe!$B$6:$B$400=EC$3)*(Eingabe!$E$6:$E$400))","v":0},{"$f":"SUMPRODUCT((Eingabe!$C$6:$C$400<$L20)*(Eingabe!$D$6:$D$400>=$L20)*(Eingabe!$B$6:$B$400=EC$3)*(Eingabe!$E$6:$E$400))","v":0},{"$f":"SUMPRODUCT((Eingabe!$C$6:$C$400<=$L20)*(Eingabe!$D$6:$D$400>$L20)*(Eingabe!$B$6:$B$400=EE$3)*(Eingabe!$E$6:$E$400))","v":0},{"$f":"SUMPRODUCT((Eingabe!$C$6:$C$400<$L20)*(Eingabe!$D$6:$D$400>=$L20)*(Eingabe!$B$6:$B$400=EE$3)*(Eingabe!$E$6:$E$400))","v":0},{"$f":"SUMPRODUCT((Eingabe!$C$6:$C$400<=$L20)*(Eingabe!$D$6:$D$400>$L20)*(Eingabe!$B$6:$B$400=EG$3)*(Eingabe!$E$6:$E$400))","v":0},{"$f":"SUMPRODUCT((Eingabe!$C$6:$C$400<$L20)*(Eingabe!$D$6:$D$400>=$L20)*(Eingabe!$B$6:$B$400=EG$3)*(Eingabe!$E$6:$E$400))","v":0},{"$f":"SUMPRODUCT((Eingabe!$C$6:$C$400<=$L20)*(Eingabe!$D$6:$D$400>$L20)*(Eingabe!$B$6:$B$400=EI$3)*(Eingabe!$E$6:$E$400))","v":0},{"$f":"SUMPRODUCT((Eingabe!$C$6:$C$400<$L20)*(Eingabe!$D$6:$D$400>=$L20)*(Eingabe!$B$6:$B$400=EI$3)*(Eingabe!$E$6:$E$400))","v":0},"2026-03-17","2026-03-17",{"$f":"SUMPRODUCT((Eingabe!$C$6:$C$400<=$V20)*(Eingabe!$D$6:$D$400>$V20)*(Eingabe!$B$6:$B$400=EM$3)*(Eingabe!$E$6:$E$400))","v":0},{"$f":"SUMPRODUCT((Eingabe!$C$6:$C$400<$V20)*(Eingabe!$D$6:$D$400>=$V20)*(Eingabe!$B$6:$B$400=EM$3)*(Eingabe!$E$6:$E$400))","v":0},{"$f":"SUMPRODUCT((Eingabe!$C$6:$C$400<=$V20)*(Eingabe!$D$6:$D$400>$V20)*(Eingabe!$B$6:$B$400=EO$3)*(Eingabe!$E$6:$E$400))","v":0},{"$f":"SUMPRODUCT((Eingabe!$C$6:$C$400<$V20)*(Eingabe!$D$6:$D$400>=$V20)*(Eingabe!$B$6:$B$400=EO$3)*(Eingabe!$E$6:$E$400))","v":0},{"$f":"SUMPRODUCT((Eingabe!$C$6:$C$400<=$V20)*(Eingabe!$D$6:$D$400>$V20)*(Eingabe!$B$6:$B$400=EQ$3)*(Eingabe!$E$6:$E$400))","v":0},{"$f":"SUMPRODUCT((Eingabe!$C$6:$C$400<$V20)*(Eingabe!$D$6:$D$400>=$V20)*(Eingabe!$B$6:$B$400=EQ$3)*(Eingabe!$E$6:$E$400))","v":0},{"$f":"SUMPRODUCT((Eingabe!$C$6:$C$400<=$V20)*(Eingabe!$D$6:$D$400>$V20)*(Eingabe!$B$6:$B$400=ES$3)*(Eingabe!$E$6:$E$400))","v":0},{"$f":"SUMPRODUCT((Eingabe!$C$6:$C$400<$V20)*(Eingabe!$D$6:$D$400>=$V20)*(Eingabe!$B$6:$B$400=ES$3)*(Eingabe!$E$6:$E$400))","v":0},"2026-04-17","2026-04-17",{"$f":"SUMPRODUCT((Eingabe!$C$6:$C$400<=$AF20)*(Eingabe!$D$6:$D$400>$AF20)*(Eingabe!$B$6:$B$400=EW$3)*(Eingabe!$E$6:$E$400))","v":0},{"$f":"SUMPRODUCT((Eingabe!$C$6:$C$400<$AF20)*(Eingabe!$D$6:$D$400>=$AF20)*(Eingabe!$B$6:$B$400=EW$3)*(Eingabe!$E$6:$E$400))","v":0},{"$f":"SUMPRODUCT((Eingabe!$C$6:$C$400<=$AF20)*(Eingabe!$D$6:$D$400>$AF20)*(Eingabe!$B$6:$B$400=EY$3)*(Eingabe!$E$6:$E$400))","v":0},{"$f":"SUMPRODUCT((Eingabe!$C$6:$C$400<$AF20)*(Eingabe!$D$6:$D$400>=$AF20)*(Eingabe!$B$6:$B$400=EY$3)*(Eingabe!$E$6:$E$400))","v":0},{"$f":"SUMPRODUCT((Eingabe!$C$6:$C$400<=$AF20)*(Eingabe!$D$6:$D$400>$AF20)*(Eingabe!$B$6:$B$400=FA$3)*(Eingabe!$E$6:$E$400))","v":7},{"$f":"SUMPRODUCT((Eingabe!$C$6:$C$400<$AF20)*(Eingabe!$D$6:$D$400>=$AF20)*(Eingabe!$B$6:$B$400=FA$3)*(Eingabe!$E$6:$E$400))","v":7},{"$f":"SUMPRODUCT((Eingabe!$C$6:$C$400<=$AF20)*(Eingabe!$D$6:$D$400>$AF20)*(Eingabe!$B$6:$B$400=FC$3)*(Eingabe!$E$6:$E$400))","v":0},{"$f":"SUMPRODUCT((Eingabe!$C$6:$C$400<$AF20)*(Eingabe!$D$6:$D$400>=$AF20)*(Eingabe!$B$6:$B$400=FC$3)*(Eingabe!$E$6:$E$400))","v":0},"2026-05-17","2026-05-17",{"$f":"SUMPRODUCT((Eingabe!$C$6:$C$400<=$AP20)*(Eingabe!$D$6:$D$400>$AP20)*(Eingabe!$B$6:$B$400=FG$3)*(Eingabe!$E$6:$E$400))","v":0},{"$f":"SUMPRODUCT((Eingabe!$C$6:$C$400<$AP20)*(Eingabe!$D$6:$D$400>=$AP20)*(Eingabe!$B$6:$B$400=FG$3)*(Eingabe!$E$6:$E$400))","v":0},{"$f":"SUMPRODUCT((Eingabe!$C$6:$C$400<=$AP20)*(Eingabe!$D$6:$D$400>$AP20)*(Eingabe!$B$6:$B$400=FI$3)*(Eingabe!$E$6:$E$400))","v":0},{"$f":"SUMPRODUCT((Eingabe!$C$6:$C$400<$AP20)*(Eingabe!$D$6:$D$400>=$AP20)*(Eingabe!$B$6:$B$400=FI$3)*(Eingabe!$E$6:$E$400))","v":0},{"$f":"SUMPRODUCT((Eingabe!$C$6:$C$400<=$AP20)*(Eingabe!$D$6:$D$400>$AP20)*(Eingabe!$B$6:$B$400=FK$3)*(Eingabe!$E$6:$E$400))","v":0},{"$f":"SUMPRODUCT((Eingabe!$C$6:$C$400<$AP20)*(Eingabe!$D$6:$D$400>=$AP20)*(Eingabe!$B$6:$B$400=FK$3)*(Eingabe!$E$6:$E$400))","v":0},{"$f":"SUMPRODUCT((Eingabe!$C$6:$C$400<=$AP20)*(Eingabe!$D$6:$D$400>$AP20)*(Eingabe!$B$6:$B$400=FM$3)*(Eingabe!$E$6:$E$400))","v":0},{"$f":"SUMPRODUCT((Eingabe!$C$6:$C$400<$AP20)*(Eingabe!$D$6:$D$400>=$AP20)*(Eingabe!$B$6:$B$400=FM$3)*(Eingabe!$E$6:$E$400))","v":0},"2026-06-17","2026-06-17",{"$f":"SUMPRODUCT((Eingabe!$C$6:$C$400<=$AZ20)*(Eingabe!$D$6:$D$400>$AZ20)*(Eingabe!$B$6:$B$400=FQ$3)*(Eingabe!$E$6:$E$400))","v":0},{"$f":"SUMPRODUCT((Eingabe!$C$6:$C$400<$AZ20)*(Eingabe!$D$6:$D$400>=$AZ20)*(Eingabe!$B$6:$B$400=FQ$3)*(Eingabe!$E$6:$E$400))","v":0},{"$f":"SUMPRODUCT((Eingabe!$C$6:$C$400<=$AZ20)*(Eingabe!$D$6:$D$400>$AZ20)*(Eingabe!$B$6:$B$400=FS$3)*(Eingabe!$E$6:$E$400))","v":0},{"$f":"SUMPRODUCT((Eingabe!$C$6:$C$400<$AZ20)*(Eingabe!$D$6:$D$400>=$AZ20)*(Eingabe!$B$6:$B$400=FS$3)*(Eingabe!$E$6:$E$400))","v":0},{"$f":"SUMPRODUCT((Eingabe!$C$6:$C$400<=$AZ20)*(Eingabe!$D$6:$D$400>$AZ20)*(Eingabe!$B$6:$B$400=FU$3)*(Eingabe!$E$6:$E$400))","v":0},{"$f":"SUMPRODUCT((Eingabe!$C$6:$C$400<$AZ20)*(Eingabe!$D$6:$D$400>=$AZ20)*(Eingabe!$B$6:$B$400=FU$3)*(Eingabe!$E$6:$E$400))","v":0},{"$f":"SUMPRODUCT((Eingabe!$C$6:$C$400<=$AZ20)*(Eingabe!$D$6:$D$400>$AZ20)*(Eingabe!$B$6:$B$400=FW$3)*(Eingabe!$E$6:$E$400))","v":0},{"$f":"SUMPRODUCT((Eingabe!$C$6:$C$400<$AZ20)*(Eingabe!$D$6:$D$400>=$AZ20)*(Eingabe!$B$6:$B$400=FW$3)*(Eingabe!$E$6:$E$400))","v":0},"2026-07-17","2026-07-17",{"$f":"SUMPRODUCT((Eingabe!$C$6:$C$400<=$BJ20)*(Eingabe!$D$6:$D$400>$BJ20)*(Eingabe!$B$6:$B$400=GA$3)*(Eingabe!$E$6:$E$400))","v":6},{"$f":"SUMPRODUCT((Eingabe!$C$6:$C$400<$BJ20)*(Eingabe!$D$6:$D$400>=$BJ20)*(Eingabe!$B$6:$B$400=GA$3)*(Eingabe!$E$6:$E$400))","v":6},{"$f":"SUMPRODUCT((Eingabe!$C$6:$C$400<=$BJ20)*(Eingabe!$D$6:$D$400>$BJ20)*(Eingabe!$B$6:$B$400=GC$3)*(Eingabe!$E$6:$E$400))","v":0},{"$f":"SUMPRODUCT((Eingabe!$C$6:$C$400<$BJ20)*(Eingabe!$D$6:$D$400>=$BJ20)*(Eingabe!$B$6:$B$400=GC$3)*(Eingabe!$E$6:$E$400))","v":7},{"$f":"SUMPRODUCT((Eingabe!$C$6:$C$400<=$BJ20)*(Eingabe!$D$6:$D$400>$BJ20)*(Eingabe!$B$6:$B$400=GE$3)*(Eingabe!$E$6:$E$400))","v":0},{"$f":"SUMPRODUCT((Eingabe!$C$6:$C$400<$BJ20)*(Eingabe!$D$6:$D$400>=$BJ20)*(Eingabe!$B$6:$B$400=GE$3)*(Eingabe!$E$6:$E$400))","v":0},{"$f":"SUMPRODUCT((Eingabe!$C$6:$C$400<=$BJ20)*(Eingabe!$D$6:$D$400>$BJ20)*(Eingabe!$B$6:$B$400=GG$3)*(Eingabe!$E$6:$E$400))","v":0},{"$f":"SUMPRODUCT((Eingabe!$C$6:$C$400<$BJ20)*(Eingabe!$D$6:$D$400>=$BJ20)*(Eingabe!$B$6:$B$400=GG$3)*(Eingabe!$E$6:$E$400))","v":0},"2026-08-17","2026-08-17",{"$f":"SUMPRODUCT((Eingabe!$C$6:$C$400<=$BT20)*(Eingabe!$D$6:$D$400>$BT20)*(Eingabe!$B$6:$B$400=GK$3)*(Eingabe!$E$6:$E$400))","v":0},{"$f":"SUMPRODUCT((Eingabe!$C$6:$C$400<$BT20)*(Eingabe!$D$6:$D$400>=$BT20)*(Eingabe!$B$6:$B$400=GK$3)*(Eingabe!$E$6:$E$400))","v":0},{"$f":"SUMPRODUCT((Eingabe!$C$6:$C$400<=$BT20)*(Eingabe!$D$6:$D$400>$BT20)*(Eingabe!$B$6:$B$400=GM$3)*(Eingabe!$E$6:$E$400))","v":0},{"$f":"SUMPRODUCT((Eingabe!$C$6:$C$400<$BT20)*(Eingabe!$D$6:$D$400>=$BT20)*(Eingabe!$B$6:$B$400=GM$3)*(Eingabe!$E$6:$E$400))","v":0},{"$f":"SUMPRODUCT((Eingabe!$C$6:$C$400<=$BT20)*(Eingabe!$D$6:$D$400>$BT20)*(Eingabe!$B$6:$B$400=GO$3)*(Eingabe!$E$6:$E$400))","v":0},{"$f":"SUMPRODUCT((Eingabe!$C$6:$C$400<$BT20)*(Eingabe!$D$6:$D$400>=$BT20)*(Eingabe!$B$6:$B$400=GO$3)*(Eingabe!$E$6:$E$400))","v":0},{"$f":"SUMPRODUCT((Eingabe!$C$6:$C$400<=$BT20)*(Eingabe!$D$6:$D$400>$BT20)*(Eingabe!$B$6:$B$400=GQ$3)*(Eingabe!$E$6:$E$400))","v":0},{"$f":"SUMPRODUCT((Eingabe!$C$6:$C$400<$BT20)*(Eingabe!$D$6:$D$400>=$BT20)*(Eingabe!$B$6:$B$400=GQ$3)*(Eingabe!$E$6:$E$400))","v":0},"2026-09-17","2026-09-17",{"$f":"SUMPRODUCT((Eingabe!$C$6:$C$400<=$CD20)*(Eingabe!$D$6:$D$400>$CD20)*(Eingabe!$B$6:$B$400=GU$3)*(Eingabe!$E$6:$E$400))","v":0},{"$f":"SUMPRODUCT((Eingabe!$C$6:$C$400<$CD20)*(Eingabe!$D$6:$D$400>=$CD20)*(Eingabe!$B$6:$B$400=GU$3)*(Eingabe!$E$6:$E$400))","v":0},{"$f":"SUMPRODUCT((Eingabe!$C$6:$C$400<=$CD20)*(Eingabe!$D$6:$D$400>$CD20)*(Eingabe!$B$6:$B$400=GW$3)*(Eingabe!$E$6:$E$400))","v":0},{"$f":"SUMPRODUCT((Eingabe!$C$6:$C$400<$CD20)*(Eingabe!$D$6:$D$400>=$CD20)*(Eingabe!$B$6:$B$400=GW$3)*(Eingabe!$E$6:$E$400))","v":0},{"$f":"SUMPRODUCT((Eingabe!$C$6:$C$400<=$CD20)*(Eingabe!$D$6:$D$400>$CD20)*(Eingabe!$B$6:$B$400=GY$3)*(Eingabe!$E$6:$E$400))","v":0},{"$f":"SUMPRODUCT((Eingabe!$C$6:$C$400<$CD20)*(Eingabe!$D$6:$D$400>=$CD20)*(Eingabe!$B$6:$B$400=GY$3)*(Eingabe!$E$6:$E$400))","v":0},{"$f":"SUMPRODUCT((Eingabe!$C$6:$C$400<=$CD20)*(Eingabe!$D$6:$D$400>$CD20)*(Eingabe!$B$6:$B$400=HA$3)*(Eingabe!$E$6:$E$400))","v":0},{"$f":"SUMPRODUCT((Eingabe!$C$6:$C$400<$CD20)*(Eingabe!$D$6:$D$400>=$CD20)*(Eingabe!$B$6:$B$400=HA$3)*(Eingabe!$E$6:$E$400))","v":0},"2026-10-17","2026-10-17",{"$f":"SUMPRODUCT((Eingabe!$C$6:$C$400<=$CN20)*(Eingabe!$D$6:$D$400>$CN20)*(Eingabe!$B$6:$B$400=HE$3)*(Eingabe!$E$6:$E$400))","v":7},{"$f":"SUMPRODUCT((Eingabe!$C$6:$C$400<$CN20)*(Eingabe!$D$6:$D$400>=$CN20)*(Eingabe!$B$6:$B$400=HE$3)*(Eingabe!$E$6:$E$400))","v":7},{"$f":"SUMPRODUCT((Eingabe!$C$6:$C$400<=$CN20)*(Eingabe!$D$6:$D$400>$CN20)*(Eingabe!$B$6:$B$400=HG$3)*(Eingabe!$E$6:$E$400))","v":0},{"$f":"SUMPRODUCT((Eingabe!$C$6:$C$400<$CN20)*(Eingabe!$D$6:$D$400>=$CN20)*(Eingabe!$B$6:$B$400=HG$3)*(Eingabe!$E$6:$E$400))","v":0},{"$f":"SUMPRODUCT((Eingabe!$C$6:$C$400<=$CN20)*(Eingabe!$D$6:$D$400>$CN20)*(Eingabe!$B$6:$B$400=HI$3)*(Eingabe!$E$6:$E$400))","v":0},{"$f":"SUMPRODUCT((Eingabe!$C$6:$C$400<$CN20)*(Eingabe!$D$6:$D$400>=$CN20)*(Eingabe!$B$6:$B$400=HI$3)*(Eingabe!$E$6:$E$400))","v":0},{"$f":"SUMPRODUCT((Eingabe!$C$6:$C$400<=$CN20)*(Eingabe!$D$6:$D$400>$CN20)*(Eingabe!$B$6:$B$400=HK$3)*(Eingabe!$E$6:$E$400))","v":0},{"$f":"SUMPRODUCT((Eingabe!$C$6:$C$400<$CN20)*(Eingabe!$D$6:$D$400>=$CN20)*(Eingabe!$B$6:$B$400=HK$3)*(Eingabe!$E$6:$E$400))","v":0},"2026-11-17","2026-11-17",{"$f":"SUMPRODUCT((Eingabe!$C$6:$C$400<=$CX20)*(Eingabe!$D$6:$D$400>$CX20)*(Eingabe!$B$6:$B$400=HO$3)*(Eingabe!$E$6:$E$400))","v":7},{"$f":"SUMPRODUCT((Eingabe!$C$6:$C$400<$CX20)*(Eingabe!$D$6:$D$400>=$CX20)*(Eingabe!$B$6:$B$400=HO$3)*(Eingabe!$E$6:$E$400))","v":7},{"$f":"SUMPRODUCT((Eingabe!$C$6:$C$400<=$CX20)*(Eingabe!$D$6:$D$400>$CX20)*(Eingabe!$B$6:$B$400=HQ$3)*(Eingabe!$E$6:$E$400))","v":0},{"$f":"SUMPRODUCT((Eingabe!$C$6:$C$400<$CX20)*(Eingabe!$D$6:$D$400>=$CX20)*(Eingabe!$B$6:$B$400=HQ$3)*(Eingabe!$E$6:$E$400))","v":0},{"$f":"SUMPRODUCT((Eingabe!$C$6:$C$400<=$CX20)*(Eingabe!$D$6:$D$400>$CX20)*(Eingabe!$B$6:$B$400=HS$3)*(Eingabe!$E$6:$E$400))","v":0},{"$f":"SUMPRODUCT((Eingabe!$C$6:$C$400<$CX20)*(Eingabe!$D$6:$D$400>=$CX20)*(Eingabe!$B$6:$B$400=HS$3)*(Eingabe!$E$6:$E$400))","v":0},{"$f":"SUMPRODUCT((Eingabe!$C$6:$C$400<=$CX20)*(Eingabe!$D$6:$D$400>$CX20)*(Eingabe!$B$6:$B$400=HU$3)*(Eingabe!$E$6:$E$400))","v":0},{"$f":"SUMPRODUCT((Eingabe!$C$6:$C$400<$CX20)*(Eingabe!$D$6:$D$400>=$CX20)*(Eingabe!$B$6:$B$400=HU$3)*(Eingabe!$E$6:$E$400))","v":0},"2026-12-17","2026-12-17",{"$f":"SUMPRODUCT((Eingabe!$C$6:$C$400<=$DH20)*(Eingabe!$D$6:$D$400>$DH20)*(Eingabe!$B$6:$B$400=HY$3)*(Eingabe!$E$6:$E$400))","v":7},{"$f":"SUMPRODUCT((Eingabe!$C$6:$C$400<$DH20)*(Eingabe!$D$6:$D$400>=$DH20)*(Eingabe!$B$6:$B$400=HY$3)*(Eingabe!$E$6:$E$400))","v":7},{"$f":"SUMPRODUCT((Eingabe!$C$6:$C$400<=$DH20)*(Eingabe!$D$6:$D$400>$DH20)*(Eingabe!$B$6:$B$400=IA$3)*(Eingabe!$E$6:$E$400))","v":0},{"$f":"SUMPRODUCT((Eingabe!$C$6:$C$400<$DH20)*(Eingabe!$D$6:$D$400>=$DH20)*(Eingabe!$B$6:$B$400=IA$3)*(Eingabe!$E$6:$E$400))","v":0},{"$f":"SUMPRODUCT((Eingabe!$C$6:$C$400<=$DH20)*(Eingabe!$D$6:$D$400>$DH20)*(Eingabe!$B$6:$B$400=IC$3)*(Eingabe!$E$6:$E$400))","v":0},{"$f":"SUMPRODUCT((Eingabe!$C$6:$C$400<$DH20)*(Eingabe!$D$6:$D$400>=$DH20)*(Eingabe!$B$6:$B$400=IC$3)*(Eingabe!$E$6:$E$400))","v":0},{"$f":"SUMPRODUCT((Eingabe!$C$6:$C$400<=$DH20)*(Eingabe!$D$6:$D$400>$DH20)*(Eingabe!$B$6:$B$400=IE$3)*(Eingabe!$E$6:$E$400))","v":0},{"$f":"SUMPRODUCT((Eingabe!$C$6:$C$400<$DH20)*(Eingabe!$D$6:$D$400>=$DH20)*(Eingabe!$B$6:$B$400=IE$3)*(Eingabe!$E$6:$E$400))","v":0}]
["2025-01-18","2025-01-18",{"$f":"SUMPRODUCT((Eingabe!$C$6:$C$400<=$B21)*(Eingabe!$D$6:$D$400>$B21)*(Eingabe!$B$6:$B$400=C$3)*(Eingabe!$E$6:$E$400))","v":0},{"$f":"SUMPRODUCT((Eingabe!$C$6:$C$400<$B21)*(Eingabe!$D$6:$D$400>=$B21)*(Eingabe!$B$6:$B$400=C$3)*(Eingabe!$E$6:$E$400))","v":0},{"$f":"SUMPRODUCT((Eingabe!$C$6:$C$400<=$B21)*(Eingabe!$D$6:$D$400>$B21)*(Eingabe!$B$6:$B$400=E$3)*(Eingabe!$E$6:$E$400))","v":0},{"$f":"SUMPRODUCT((Eingabe!$C$6:$C$400<$B21)*(Eingabe!$D$6:$D$400>=$B21)*(Eingabe!$B$6:$B$400=E$3)*(Eingabe!$E$6:$E$400))","v":0},{"$f":"SUMPRODUCT((Eingabe!$C$6:$C$400<=$B21)*(Eingabe!$D$6:$D$400>$B21)*(Eingabe!$B$6:$B$400=G$3)*(Eingabe!$E$6:$E$400))","v":0},{"$f":"SUMPRODUCT((Eingabe!$C$6:$C$400<$B21)*(Eingabe!$D$6:$D$400>=$B21)*(Eingabe!$B$6:$B$400=G$3)*(Eingabe!$E$6:$E$400))","v":0},{"$f":"SUMPRODUCT((Eingabe!$C$6:$C$400<=$B21)*(Eingabe!$D$6:$D$400>$B21)*(Eingabe!$B$6:$B$400=I$3)*(Eingabe!$E$6:$E$400))","v":7},{"$f":"SUMPRODUCT((Eingabe!$C$6:$C$400<$B21)*(Eingabe!$D$6:$D$400>=$B21)*(Eingabe!$B$6:$B$400=I$3)*(Eingabe!$E$6:$E$400))","v":7},"2025-02-18","2025-02-18",{"$f":"SUMPRODUCT((Eingabe!$C$6:$C$400<=$L21)*(Eingabe!$D$6:$D$400>$L21)*(Eingabe!$B$6:$B$400=M$3)*(Eingabe!$E$6:$E$400))","v":0},{"$f":"SUMPRODUCT((Eingabe!$C$6:$C$400<$L21)*(Eingabe!$D$6:$D$400>=$L21)*(Eingabe!$B$6:$B$400=M$3)*(Eingabe!$E$6:$E$400))","v":0},{"$f":"SUMPRODUCT((Eingabe!$C$6:$C$400<=$L21)*(Eingabe!$D$6:$D$400>$L21)*(Eingabe!$B$6:$B$400=O$3)*(Eingabe!$E$6:$E$400))","v":0},{"$f":"SUMPRODUCT((Eingabe!$C$6:$C$400<$L21)*(Eingabe!$D$6:$D$400>=$L21)*(Eingabe!$B$6:$B$400=O$3)*(Eingabe!$E$6:$E$400))","v":0},{"$f":"SUMPRODUCT((Eingabe!$C$6:$C$400<=$L21)*(Eingabe!$D$6:$D$400>$L21)*(Eingabe!$B$6:$B$400=Q$3)*(Eingabe!$E$6:$E$400))","v":0},{"$f":"SUMPRODUCT((Eingabe!$C$6:$C$400<$L21)*(Eingabe!$D$6:$D$400>=$L21)*(Eingabe!$B$6:$B$400=Q$3)*(Eingabe!$E$6:$E$400))","v":0},{"$f":"SUMPRODUCT((Eingabe!$C$6:$C$400<=$L21)*(Eingabe!$D$6:$D$400>$L21)*(Eingabe!$B$6:$B$400=S$3)*(Eingabe!$E$6:$E$400))","v":0},{"$f":"SUMPRODUCT((Eingabe!$C$6:$C$400<$L21)*(Eingabe!$D$6:$D$400>=$L21)*(Eingabe!$B$6:$B$400=S$3)*(Eingabe!$E$6:$E$400))","v":0},"2025-03-18","2025-03-18",{"$f":"SUMPRODUCT((Eingabe!$C$6:$C$400<=$V21)*(Eingabe!$D$6:$D$400>$V21)*(Eingabe!$B$6:$B$400=W$3)*(Eingabe!$E$6:$E$400))","v":0},{"$f":"SUMPRODUCT((Eingabe!$C$6:$C$400<$V21)*(Eingabe!$D$6:$D$400>=$V21)*(Eingabe!$B$6:$B$400=W$3)*(Eingabe!$E$6:$E$400))","v":0},{"$f":"SUMPRODUCT((Eingabe!$C$6:$C$400<=$V21)*(Eingabe!$D$6:$D$400>$V21)*(Eingabe!$B$6:$B$400=Y$3)*(Eingabe!$E$6:$E$400))","v":0},{"$f":"SUMPRODUCT((Eingabe!$C$6:$C$400<$V21)*(Eingabe!$D$6:$D$400>=$V21)*(Eingabe!$B$6:$B$400=Y$3)*(Eingabe!$E$6:$E$400))","v":0},{"$f":"SUMPRODUCT((Eingabe!$C$6:$C$400<=$V21)*(Eingabe!$D$6:$D$400>$V21)*(Eingabe!$B$6:$B$400=AA$3)*(Eingabe!$E$6:$E$400))","v":0},{"$f":"SUMPRODUCT((Eingabe!$C$6:$C$400<$V21)*(Eingabe!$D$6:$D$400>=$V21)*(Eingabe!$B$6:$B$400=AA$3)*(Eingabe!$E$6:$E$400))","v":0},{"$f":"SUMPRODUCT((Eingabe!$C$6:$C$400<=$V21)*(Eingabe!$D$6:$D$400>$V21)*(Eingabe!$B$6:$B$400=AC$3)*(Eingabe!$E$6:$E$400))","v":0},{"$f":"SUMPRODUCT((Eingabe!$C$6:$C$400<$V21)*(Eingabe!$D$6:$D$400>=$V21)*(Eingabe!$B$6:$B$400=AC$3)*(Eingabe!$E$6:$E$400))","v":0},"2025-04-18","2025-04-18",{"$f":"SUMPRODUCT((Eingabe!$C$6:$C$400<=$AF21)*(Eingabe!$D$6:$D$400>$AF21)*(Eingabe!$B$6:$B$400=AG$3)*(Eingabe!$E$6:$E$400))","v":0},{"$f":"SUMPRODUCT((Eingabe!$C$6:$C$400<$AF21)*(Eingabe!$D$6:$D$400>=$AF21)*(Eingabe!$B$6:$B$400=AG$3)*(Eingabe!$E$6:$E$400))","v":0},{"$f":"SUMPRODUCT((Eingabe!$C$6:$C$400<=$AF21)*(Eingabe!$D$6:$D$400>$AF21)*(Eingabe!$B$6:$B$400=AI$3)*(Eingabe!$E$6:$E$400))","v":8},{"$f":"SUMPRODUCT((Eingabe!$C$6:$C$400<$AF21)*(Eingabe!$D$6:$D$400>=$AF21)*(Eingabe!$B$6:$B$400=AI$3)*(Eingabe!$E$6:$E$400))","v":0},{"$f":"SUMPRODUCT((Eingabe!$C$6:$C$400<=$AF21)*(Eingabe!$D$6:$D$400>$AF21)*(Eingabe!$B$6:$B$400=AK$3)*(Eingabe!$E$6:$E$400))","v":7},{"$f":"SUMPRODUCT((Eingabe!$C$6:$C$400<$AF21)*(Eingabe!$D$6:$D$400>=$AF21)*(Eingabe!$B$6:$B$400=AK$3)*(Eingabe!$E$6:$E$400))","v":7},{"$f":"SUMPRODUCT((Eingabe!$C$6:$C$400<=$AF21)*(Eingabe!$D$6:$D$400>$AF21)*(Eingabe!$B$6:$B$400=AM$3)*(Eingabe!$E$6:$E$400))","v":0},{"$f":"SUMPRODUCT((Eingabe!$C$6:$C$400<$AF21)*(Eingabe!$D$6:$D$400>=$AF21)*(Eingabe!$B$6:$B$400=AM$3)*(Eingabe!$E$6:$E$400))","v":0},"2025-05-18","2025-05-18",{"$f":"SUMPRODUCT((Eingabe!$C$6:$C$400<=$AP21)*(Eingabe!$D$6:$D$400>$AP21)*(Eingabe!$B$6:$B$400=AQ$3)*(Eingabe!$E$6:$E$400))","v":0},{"$f":"SUMPRODUCT((Eingabe!$C$6:$C$400<$AP21)*(Eingabe!$D$6:$D$400>=$AP21)*(Eingabe!$B$6:$B$400=AQ$3)*(Eingabe!$E$6:$E$400))","v":0},{"$f":"SUMPRODUCT((Eingabe!$C$6:$C$400<=$AP21)*(Eingabe!$D$6:$D$400>$AP21)*(Eingabe!$B$6:$B$400=AS$3)*(Eingabe!$E$6:$E$400))","v":0},{"$f":"SUMPRODUCT((Eingabe!$C$6:$C$400<$AP21)*(Eingabe!$D$6:$D$400>=$AP21)*(Eingabe!$B$6:$B$400=AS$3)*(Eingabe!$E$6:$E$400))","v":0},{"$f":"SUMPRODUCT((Eingabe!$C$6:$C$400<=$AP21)*(Eingabe!$D$6:$D$400>$AP21)*(Eingabe!$B$6:$B$400=AU$3)*(Eingabe!$E$6:$E$400))","v":0},{"$f":"SUMPRODUCT((Eingabe!$C$6:$C$400<$AP21)*(Eingabe!$D$6:$D$400>=$AP21)*(Eingabe!$B$6:$B$400=AU$3)*(Eingabe!$E$6:$E$400))","v":0},{"$f":"SUMPRODUCT((Eingabe!$C$6:$C$400<=$AP21)*(Eingabe!$D$6:$D$400>$AP21)*(Eingabe!$B$6:$B$400=AW$3)*(Eingabe!$E$6:$E$400))","v":0},{"$f":"SUMPRODUCT((Eingabe!$C$6:$C$400<$AP21)*(Eingabe!$D$6:$D$400>=$AP21)*(Eingabe!$B$6:$B$400=AW$3)*(Eingabe!$E$6:$E$400))","v":0},"2025-06-18","2025-06-18",{"$f":"SUMPRODUCT((Eingabe!$C$6:$C$400<=$AZ21)*(Eingabe!$D$6:$D$400>$AZ21)*(Eingabe!$B$6:$B$400=BA$3)*(Eingabe!$E$6:$E$400))","v":0},{"$f":"SUMPRODUCT((Eingabe!$C$6:$C$400<$AZ21)*(Eingabe!$D$6:$D$400>=$AZ21)*(Eingabe!$B$6:$B$400=BA$3)*(Eingabe!$E$6:$E$400))","v":0},{"$f":"SUMPRODUCT((Eingabe!$C$6:$C$400<=$AZ21)*(Eingabe!$D$6:$D$400>$AZ21)*(Eingabe!$B$6:$B$400=BC$3)*(Eingabe!$E$6:$E$400))","v":0},{"$f":"SUMPRODUCT((Eingabe!$C$6:$C$400<$AZ21)*(Eingabe!$D$6:$D$400>=$AZ21)*(Eingabe!$B$6:$B$400=BC$3)*(Eingabe!$E$6:$E$400))","v":0},{"$f":"SUMPRODUCT((Eingabe!$C$6:$C$400<=$AZ21)*(Eingabe!$D$6:$D$400>$AZ21)*(Eingabe!$B$6:$B$400=BE$3)*(Eingabe!$E$6:$E$400))","v":0},{"$f":"SUMPRODUCT((Eingabe!$C$6:$C$400<$AZ21)*(Eingabe!$D$6:$D$400>=$AZ21)*(Eingabe!$B$6:$B$400=BE$3)*(Eingabe!$E$6:$E$400))","v":0},{"$f":"SUMPRODUCT((Eingabe!$C$6:$C$400<=$AZ21)*(Eingabe!$D$6:$D$400>$AZ21)*(Eingabe!$B$6:$B$400=BG$3)*(Eingabe!$E$6:$E$400))","v":0},{"$f":"SUMPRODUCT((Eingabe!$C$6:$C$400<$AZ21)*(Eingabe!$D$6:$D$400>=$AZ21)*(Eingabe!$B$6:$B$400=BG$3)*(Eingabe!$E$6:$E$400))","v":0},"2025-07-18","2025-07-18",{"$f":"SUMPRODUCT((Eingabe!$C$6:$C$400<=$BJ21)*(Eingabe!$D$6:$D$400>$BJ21)*(Eingabe!$B$6:$B$400=BK$3)*(Eingabe!$E$6:$E$400))","v":6},{"$f":"SUMPRODUCT((Eingabe!$C$6:$C$400<$BJ21)*(Eingabe!$D$6:$D$400>=$BJ21)*(Eingabe!$B$6:$B$400=BK$3)*(Eingabe!$E$6:$E$400))","v":6},{"$f":"SUMPRODUCT((Eingabe!$C$6:$C$400<=$BJ21)*(Eingabe!$D$6:$D$400>$BJ21)*(Eingabe!$B$6:$B$400=BM$3)*(Eingabe!$E$6:$E$400))","v":0},{"$f":"SUMPRODUCT((Eingabe!$C$6:$C$400<$BJ21)*(Eingabe!$D$6:$D$400>=$BJ21)*(Eingabe!$B$6:$B$400=BM$3)*(Eingabe!$E$6:$E$400))","v":0},{"$f":"SUMPRODUCT((Eingabe!$C$6:$C$400<=$BJ21)*(Eingabe!$D$6:$D$400>$BJ21)*(Eingabe!$B$6:$B$400=BO$3)*(Eingabe!$E$6:$E$400))","v":0},{"$f":"SUMPRODUCT((Eingabe!$C$6:$C$400<$BJ21)*(Eingabe!$D$6:$D$400>=$BJ21)*(Eingabe!$B$6:$B$400=BO$3)*(Eingabe!$E$6:$E$400))","v":0},{"$f":"SUMPRODUCT((Eingabe!$C$6:$C$400<=$BJ21)*(Eingabe!$D$6:$D$400>$BJ21)*(Eingabe!$B$6:$B$400=BQ$3)*(Eingabe!$E$6:$E$400))","v":0},{"$f":"SUMPRODUCT((Eingabe!$C$6:$C$400<$BJ21)*(Eingabe!$D$6:$D$400>=$BJ21)*(Eingabe!$B$6:$B$400=BQ$3)*(Eingabe!$E$6:$E$400))","v":0},"2025-08-18","2025-08-18",{"$f":"SUMPRODUCT((Eingabe!$C$6:$C$400<=$BT21)*(Eingabe!$D$6:$D$400>$BT21)*(Eingabe!$B$6:$B$400=BU$3)*(Eingabe!$E$6:$E$400))","v":0},{"$f":"SUMPRODUCT((Eingabe!$C$6:$C$400<$BT21)*(Eingabe!$D$6:$D$400>=$BT21)*(Eingabe!$B$6:$B$400=BU$3)*(Eingabe!$E$6:$E$400))","v":0},{"$f":"SUMPRODUCT((Eingabe!$C$6:$C$400<=$BT21)*(Eingabe!$D$6:$D$400>$BT21)*(Eingabe!$B$6:$B$400=BW$3)*(Eingabe!$E$6:$E$400))","v":0},{"$f":"SUMPRODUCT((Eingabe!$C$6:$C$400<$BT21)*(Eingabe!$D$6:$D$400>=$BT21)*(Eingabe!$B$6:$B$400=BW$3)*(Eingabe!$E$6:$E$400))","v":0},{"$f":"SUMPRODUCT((Eingabe!$C$6:$C$400<=$BT21)*(Eingabe!$D$6:$D$400>$BT21)*(Eingabe!$B$6:$B$400=BY$3)*(Eingabe!$E$6:$E$400))","v":0},{"$f":"SUMPRODUCT((Eingabe!$C$6:$C$400<$BT21)*(Eingabe!$D$6:$D$400>=$BT21)*(Eingabe!$B$6:$B$400=BY$3)*(Eingabe!$E$6:$E$400))","v":0},{"$f":"SUMPRODUCT((Eingabe!$C$6:$C$400<=$BT21)*(Eingabe!$D$6:$D$400>$BT21)*(Eingabe!$B$6:$B$400=CA$3)*(Eingabe!$E$6:$E$400))","v":0},{"$f":"SUMPRODUCT((Eingabe!$C$6:$C$400<$BT21)*(Eingabe!$D$6:$D$400>=$BT21)*(Eingabe!$B$6:$B$400=CA$3)*(Eingabe!$E$6:$E$400))","v":0},"2025-09-18","2025-09-18",{"$f":"SUMPRODUCT((Eingabe!$C$6:$C$400<=$CD21)*(Eingabe!$D$6:$D$400>$CD21)*(Eingabe!$B$6:$B$400=CE$3)*(Eingabe!$E$6:$E$400))","v":0},{"$f":"SUMPRODUCT((Eingabe!$C$6:$C$400<$CD21)*(Eingabe!$D$6:$D$400>=$CD21)*(Eingabe!$B$6:$B$400=CE$3)*(Eingabe!$E$6:$E$400))","v":0},{"$f":"SUMPRODUCT((Eingabe!$C$6:$C$400<=$CD21)*(Eingabe!$D$6:$D$400>$CD21)*(Eingabe!$B$6:$B$400=CG$3)*(Eingabe!$E$6:$E$400))","v":0},{"$f":"SUMPRODUCT((Eingabe!$C$6:$C$400<$CD21)*(Eingabe!$D$6:$D$400>=$CD21)*(Eingabe!$B$6:$B$400=CG$3)*(Eingabe!$E$6:$E$400))","v":0},{"$f":"SUMPRODUCT((Eingabe!$C$6:$C$400<=$CD21)*(Eingabe!$D$6:$D$400>$CD21)*(Eingabe!$B$6:$B$400=CI$3)*(Eingabe!$E$6:$E$400))","v":0},{"$f":"SUMPRODUCT((Eingabe!$C$6:$C$400<$CD21)*(Eingabe!$D$6:$D$400>=$CD21)*(Eingabe!$B$6:$B$400=CI$3)*(Eingabe!$E$6:$E$400))","v":0},{"$f":"SUMPRODUCT((Eingabe!$C$6:$C$400<=$CD21)*(Eingabe!$D$6:$D$400>$CD21)*(Eingabe!$B$6:$B$400=CK$3)*(Eingabe!$E$6:$E$400))","v":0},{"$f":"SUMPRODUCT((Eingabe!$C$6:$C$400<$CD21)*(Eingabe!$D$6:$D$400>=$CD21)*(Eingabe!$B$6:$B$400=CK$3)*(Eingabe!$E$6:$E$400))","v":0},"2025-10-18","2025-10-18",{"$f":"SUMPRODUCT((Eingabe!$C$6:$C$400<=$CN21)*(Eingabe!$D$6:$D$400>$CN21)*(Eingabe!$B$6:$B$400=CO$3)*(Eingabe!$E$6:$E$400))","v":7},{"$f":"SUMPRODUCT((Eingabe!$C$6:$C$400<$CN21)*(Eingabe!$D$6:$D$400>=$CN21)*(Eingabe!$B$6:$B$400=CO$3)*(Eingabe!$E$6:$E$400))","v":7},{"$f":"SUMPRODUCT((Eingabe!$C$6:$C$400<=$CN21)*(Eingabe!$D$6:$D$400>$CN21)*(Eingabe!$B$6:$B$400=CQ$3)*(Eingabe!$E$6:$E$400))","v":0},{"$f":"SUMPRODUCT((Eingabe!$C$6:$C$400<$CN21)*(Eingabe!$D$6:$D$400>=$CN21)*(Eingabe!$B$6:$B$400=CQ$3)*(Eingabe!$E$6:$E$400))","v":0},{"$f":"SUMPRODUCT((Eingabe!$C$6:$C$400<=$CN21)*(Eingabe!$D$6:$D$400>$CN21)*(Eingabe!$B$6:$B$400=CS$3)*(Eingabe!$E$6:$E$400))","v":0},{"$f":"SUMPRODUCT((Eingabe!$C$6:$C$400<$CN21)*(Eingabe!$D$6:$D$400>=$CN21)*(Eingabe!$B$6:$B$400=CS$3)*(Eingabe!$E$6:$E$400))","v":0},{"$f":"SUMPRODUCT((Eingabe!$C$6:$C$400<=$CN21)*(Eingabe!$D$6:$D$400>$CN21)*(Eingabe!$B$6:$B$400=CU$3)*(Eingabe!$E$6:$E$400))","v":0},{"$f":"SUMPRODUCT((Eingabe!$C$6:$C$400<$CN21)*(Eingabe!$D$6:$D$400>=$CN21)*(Eingabe!$B$6:$B$400=CU$3)*(Eingabe!$E$6:$E$400))","v":0},"2025-11-18","2025-11-18",{"$f":"SUMPRODUCT((Eingabe!$C$6:$C$400<=$CX21)*(Eingabe!$D$6:$D$400>$CX21)*(Eingabe!$B$6:$B$400=CY$3)*(Eingabe!$E$6:$E$400))","v":7},{"$f":"SUMPRODUCT((Eingabe!$C$6:$C$400<$CX21)*(Eingabe!$D$6:$D$400>=$CX21)*(Eingabe!$B$6:$B$400=CY$3)*(Eingabe!$E$6:$E$400))","v":7},{"$f":"SUMPRODUCT((Eingabe!$C$6:$C$400<=$CX21)*(Eingabe!$D$6:$D$400>$CX21)*(Eingabe!$B$6:$B$400=DA$3)*(Eingabe!$E$6:$E$400))","v":0},{"$f":"SUMPRODUCT((Eingabe!$C$6:$C$400<$CX21)*(Eingabe!$D$6:$D$400>=$CX21)*(Eingabe!$B$6:$B$400=DA$3)*(Eingabe!$E$6:$E$400))","v":0},{"$f":"SUMPRODUCT((Eingabe!$C$6:$C$400<=$CX21)*(Eingabe!$D$6:$D$400>$CX21)*(Eingabe!$B$6:$B$400=DC$3)*(Eingabe!$E$6:$E$400))","v":0},{"$f":"SUMPRODUCT((Eingabe!$C$6:$C$400<$CX21)*(Eingabe!$D$6:$D$400>=$CX21)*(Eingabe!$B$6:$B$400=DC$3)*(Eingabe!$E$6:$E$400))","v":0},{"$f":"SUMPRODUCT((Eingabe!$C$6:$C$400<=$CX21)*(Eingabe!$D$6:$D$400>$CX21)*(Eingabe!$B$6:$B$400=DE$3)*(Eingabe!$E$6:$E$400))","v":0},{"$f":"SUMPRODUCT((Eingabe!$C$6:$C$400<$CX21)*(Eingabe!$D$6:$D$400>=$CX21)*(Eingabe!$B$6:$B$400=DE$3)*(Eingabe!$E$6:$E$400))","v":0},"2025-12-18","2025-12-18",{"$f":"SUMPRODUCT((Eingabe!$C$6:$C$400<=$DH21)*(Eingabe!$D$6:$D$400>$DH21)*(Eingabe!$B$6:$B$400=DI$3)*(Eingabe!$E$6:$E$400))","v":7},{"$f":"SUMPRODUCT((Eingabe!$C$6:$C$400<$DH21)*(Eingabe!$D$6:$D$400>=$DH21)*(Eingabe!$B$6:$B$400=DI$3)*(Eingabe!$E$6:$E$400))","v":7},{"$f":"SUMPRODUCT((Eingabe!$C$6:$C$400<=$DH21)*(Eingabe!$D$6:$D$400>$DH21)*(Eingabe!$B$6:$B$400=DK$3)*(Eingabe!$E$6:$E$400))","v":0},{"$f":"SUMPRODUCT((Eingabe!$C$6:$C$400<$DH21)*(Eingabe!$D$6:$D$400>=$DH21)*(Eingabe!$B$6:$B$400=DK$3)*(Eingabe!$E$6:$E$400))","v":0},{"$f":"SUMPRODUCT((Eingabe!$C$6:$C$400<=$DH21)*(Eingabe!$D$6:$D$400>$DH21)*(Eingabe!$B$6:$B$400=DM$3)*(Eingabe!$E$6:$E$400))","v":0},{"$f":"SUMPRODUCT((Eingabe!$C$6:$C$400<$DH21)*(Eingabe!$D$6:$D$400>=$DH21)*(Eingabe!$B$6:$B$400=DM$3)*(Eingabe!$E$6:$E$400))","v":0},{"$f":"SUMPRODUCT((Eingabe!$C$6:$C$400<=$DH21)*(Eingabe!$D$6:$D$400>$DH21)*(Eingabe!$B$6:$B$400=DO$3)*(Eingabe!$E$6:$E$400))","v":0},{"$f":"SUMPRODUCT((Eingabe!$C$6:$C$400<$DH21)*(Eingabe!$D$6:$D$400>=$DH21)*(Eingabe!$B$6:$B$400=DO$3)*(Eingabe!$E$6:$E$400))","v":0},"2026-01-18","2026-01-18",{"$f":"SUMPRODUCT((Eingabe!$C$6:$C$400<=$B21)*(Eingabe!$D$6:$D$400>$B21)*(Eingabe!$B$6:$B$400=DS$3)*(Eingabe!$E$6:$E$400))","v":0},{"$f":"SUMPRODUCT((Eingabe!$C$6:$C$400<$B21)*(Eingabe!$D$6:$D$400>=$B21)*(Eingabe!$B$6:$B$400=DS$3)*(Eingabe!$E$6:$E$400))","v":0},{"$f":"SUMPRODUCT((Eingabe!$C$6:$C$400<=$B21)*(Eingabe!$D$6:$D$400>$B21)*(Eingabe!$B$6:$B$400=DU$3)*(Eingabe!$E$6:$E$400))","v":0},{"$f":"SUMPRODUCT((Eingabe!$C$6:$C$400<$B21)*(Eingabe!$D$6:$D$400>=$B21)*(Eingabe!$B$6:$B$400=DU$3)*(Eingabe!$E$6:$E$400))","v":0},{"$f":"SUMPRODUCT((Eingabe!$C$6:$C$400<=$B21)*(Eingabe!$D$6:$D$400>$B21)*(Eingabe!$B$6:$B$400=DW$3)*(Eingabe!$E$6:$E$400))","v":0},{"$f":"SUMPRODUCT((Eingabe!$C$6:$C$400<$B21)*(Eingabe!$D$6:$D$400>=$B21)*(Eingabe!$B$6:$B$400=DW$3)*(Eingabe!$E$6:$E$400))","v":0},{"$f":"SUMPRODUCT((Eingabe!$C$6:$C$400<=$B21)*(Eingabe!$D$6:$D$400>$B21)*(Eingabe!$B$6:$B$400=DY$3)*(Eingabe!$E$6:$E$400))","v":7},{"$f":"SUMPRODUCT((Eingabe!$C$6:$C$400<$B21)*(Eingabe!$D$6:$D$400>=$B21)*(Eingabe!$B$6:$B$400=DY$3)*(Eingabe!$E$6:$E$400))","v":7},"2026-02-18","2026-02-18",{"$f":"SUMPRODUCT((Eingabe!$C$6:$C$400<=$L21)*(Eingabe!$D$6:$D$400>$L21)*(Eingabe!$B$6:$B$400=EC$3)*(Eingabe!$E$6:$E$400))","v":0},{"$f":"SUMPRODUCT((Eingabe!$C$6:$C$400<$L21)*(Eingabe!$D$6:$D$400>=$L21)*(Eingabe!$B$6:$B$400=EC$3)*(Eingabe!$E$6:$E$400))","v":0},{"$f":"SUMPRODUCT((Eingabe!$C$6:$C$400<=$L21)*(Eingabe!$D$6:$D$400>$L21)*(Eingabe!$B$6:$B$400=EE$3)*(Eingabe!$E$6:$E$400))","v":0},{"$f":"SUMPRODUCT((Eingabe!$C$6:$C$400<$L21)*(Eingabe!$D$6:$D$400>=$L21)*(Eingabe!$B$6:$B$400=EE$3)*(Eingabe!$E$6:$E$400))","v":0},{"$f":"SUMPRODUCT((Eingabe!$C$6:$C$400<=$L21)*(Eingabe!$D$6:$D$400>$L21)*(Eingabe!$B$6:$B$400=EG$3)*(Eingabe!$E$6:$E$400))","v":0},{"$f":"SUMPRODUCT((Eingabe!$C$6:$C$400<$L21)*(Eingabe!$D$6:$D$400>=$L21)*(Eingabe!$B$6:$B$400=EG$3)*(Eingabe!$E$6:$E$400))","v":0},{"$f":"SUMPRODUCT((Eingabe!$C$6:$C$400<=$L21)*(Eingabe!$D$6:$D$400>$L21)*(Eingabe!$B$6:$B$400=EI$3)*(Eingabe!$E$6:$E$400))","v":0},{"$f":"SUMPRODUCT((Eingabe!$C$6:$C$400<$L21)*(Eingabe!$D$6:$D$400>=$L21)*(Eingabe!$B$6:$B$400=EI$3)*(Eingabe!$E$6:$E$400))","v":0},"2026-03-18","2026-03-18",{"$f":"SUMPRODUCT((Eingabe!$C$6:$C$400<=$V21)*(Eingabe!$D$6:$D$400>$V21)*(Eingabe!$B$6:$B$400=EM$3)*(Eingabe!$E$6:$E$400))","v":0},{"$f":"SUMPRODUCT((Eingabe!$C$6:$C$400<$V21)*(Eingabe!$D$6:$D$400>=$V21)*(Eingabe!$B$6:$B$400=EM$3)*(Eingabe!$E$6:$E$400))","v":0},{"$f":"SUMPRODUCT((Eingabe!$C$6:$C$400<=$V21)*(Eingabe!$D$6:$D$400>$V21)*(Eingabe!$B$6:$B$400=EO$3)*(Eingabe!$E$6:$E$400))","v":0},{"$f":"SUMPRODUCT((Eingabe!$C$6:$C$400<$V21)*(Eingabe!$D$6:$D$400>=$V21)*(Eingabe!$B$6:$B$400=EO$3)*(Eingabe!$E$6:$E$400))","v":0},{"$f":"SUMPRODUCT((Eingabe!$C$6:$C$400<=$V21)*(Eingabe!$D$6:$D$400>$V21)*(Eingabe!$B$6:$B$400=EQ$3)*(Eingabe!$E$6:$E$400))","v":0},{"$f":"SUMPRODUCT((Eingabe!$C$6:$C$400<$V21)*(Eingabe!$D$6:$D$400>=$V21)*(Eingabe!$B$6:$B$400=EQ$3)*(Eingabe!$E$6:$E$400))","v":0},{"$f":"SUMPRODUCT((Eingabe!$C$6:$C$400<=$V21)*(Eingabe!$D$6:$D$400>$V21)*(Eingabe!$B$6:$B$400=ES$3)*(Eingabe!$E$6:$E$400))","v":0},{"$f":"SUMPRODUCT((Eingabe!$C$6:$C$400<$V21)*(Eingabe!$D$6:$D$400>=$V21)*(Eingabe!$B$6:$B$400=ES$3)*(Eingabe!$E$6:$E$400))","v":0},"2026-04-18","2026-04-18",{"$f":"SUMPRODUCT((Eingabe!$C$6:$C$400<=$AF21)*(Eingabe!$D$6:$D$400>$AF21)*(Eingabe!$B$6:$B$400=EW$3)*(Eingabe!$E$6:$E$400))","v":0},{"$f":"SUMPRODUCT((Eingabe!$C$6:$C$400<$AF21)*(Eingabe!$D$6:$D$400>=$AF21)*(Eingabe!$B$6:$B$400=EW$3)*(Eingabe!$E$6:$E$400))","v":0},{"$f":"SUMPRODUCT((Eingabe!$C$6:$C$400<=$AF21)*(Eingabe!$D$6:$D$400>$AF21)*(Eingabe!$B$6:$B$400=EY$3)*(Eingabe!$E$6:$E$400))","v":8},{"$f":"SUMPRODUCT((Eingabe!$C$6:$C$400<$AF21)*(Eingabe!$D$6:$D$400>=$AF21)*(Eingabe!$B$6:$B$400=EY$3)*(Eingabe!$E$6:$E$400))","v":0},{"$f":"SUMPRODUCT((Eingabe!$C$6:$C$400<=$AF21)*(Eingabe!$D$6:$D$400>$AF21)*(Eingabe!$B$6:$B$400=FA$3)*(Eingabe!$E$6:$E$400))","v":7},{"$f":"SUMPRODUCT((Eingabe!$C$6:$C$400<$AF21)*(Eingabe!$D$6:$D$400>=$AF21)*(Eingabe!$B$6:$B$400=FA$3)*(Eingabe!$E$6:$E$400))","v":7},{"$f":"SUMPRODUCT((Eingabe!$C$6:$C$400<=$AF21)*(Eingabe!$D$6:$D$400>$AF21)*(Eingabe!$B$6:$B$400=FC$3)*(Eingabe!$E$6:$E$400))","v":0},{"$f":"SUMPRODUCT((Eingabe!$C$6:$C$400<$AF21)*(Eingabe!$D$6:$D$400>=$AF21)*(Eingabe!$B$6:$B$400=FC$3)*(Eingabe!$E$6:$E$400))","v":0},"2026-05-18","2026-05-18",{"$f":"SUMPRODUCT((Eingabe!$C$6:$C$400<=$AP21)*(Eingabe!$D$6:$D$400>$AP21)*(Eingabe!$B$6:$B$400=FG$3)*(Eingabe!$E$6:$E$400))","v":0},{"$f":"SUMPRODUCT((Eingabe!$C$6:$C$400<$AP21)*(Eingabe!$D$6:$D$400>=$AP21)*(Eingabe!$B$6:$B$400=FG$3)*(Eingabe!$E$6:$E$400))","v":0},{"$f":"SUMPRODUCT((Eingabe!$C$6:$C$400<=$AP21)*(Eingabe!$D$6:$D$400>$AP21)*(Eingabe!$B$6:$B$400=FI$3)*(Eingabe!$E$6:$E$400))","v":0},{"$f":"SUMPRODUCT((Eingabe!$C$6:$C$400<$AP21)*(Eingabe!$D$6:$D$400>=$AP21)*(Eingabe!$B$6:$B$400=FI$3)*(Eingabe!$E$6:$E$400))","v":0},{"$f":"SUMPRODUCT((Eingabe!$C$6:$C$400<=$AP21)*(Eingabe!$D$6:$D$400>$AP21)*(Eingabe!$B$6:$B$400=FK$3)*(Eingabe!$E$6:$E$400))","v":0},{"$f":"SUMPRODUCT((Eingabe!$C$6:$C$400<$AP21)*(Eingabe!$D$6:$D$400>=$AP21)*(Eingabe!$B$6:$B$400=FK$3)*(Eingabe!$E$6:$E$400))","v":0},{"$f":"SUMPRODUCT((Eingabe!$C$6:$C$400<=$AP21)*(Eingabe!$D$6:$D$400>$AP21)*(Eingabe!$B$6:$B$400=FM$3)*(Eingabe!$E$6:$E$400))","v":0},{"$f":"SUMPRODUCT((Eingabe!$C$6:$C$400<$AP21)*(Eingabe!$D$6:$D$400>=$AP21)*(Eingabe!$B$6:$B$400=FM$3)*(Eingabe!$E$6:$E$400))","v":0},"2026-06-18","2026-06-18",{"$f":"SUMPRODUCT((Eingabe!$C$6:$C$400<=$AZ21)*(Eingabe!$D$6:$D$400>$AZ21)*(Eingabe!$B$6:$B$400=FQ$3)*(Eingabe!$E$6:$E$400))","v":0},{"$f":"SUMPRODUCT((Eingabe!$C$6:$C$400<$AZ21)*(Eingabe!$D$6:$D$400>=$AZ21)*(Eingabe!$B$6:$B$400=FQ$3)*(Eingabe!$E$6:$E$400))","v":0},{"$f":"SUMPRODUCT((Eingabe!$C$6:$C$400<=$AZ21)*(Eingabe!$D$6:$D$400>$AZ21)*(Eingabe!$B$6:$B$400=FS$3)*(Eingabe!$E$6:$E$400))","v":0},{"$f":"SUMPRODUCT((Eingabe!$C$6:$C$400<$AZ21)*(Eingabe!$D$6:$D$400>=$AZ21)*(Eingabe!$B$6:$B$400=FS$3)*(Eingabe!$E$6:$E$400))","v":0},{"$f":"SUMPRODUCT((Eingabe!$C$6:$C$400<=$AZ21)*(Eingabe!$D$6:$D$400>$AZ21)*(Eingabe!$B$6:$B$400=FU$3)*(Eingabe!$E$6:$E$400))","v":0},{"$f":"SUMPRODUCT((Eingabe!$C$6:$C$400<$AZ21)*(Eingabe!$D$6:$D$400>=$AZ21)*(Eingabe!$B$6:$B$400=FU$3)*(Eingabe!$E$6:$E$400))","v":0},{"$f":"SUMPRODUCT((Eingabe!$C$6:$C$400<=$AZ21)*(Eingabe!$D$6:$D$400>$AZ21)*(Eingabe!$B$6:$B$400=FW$3)*(Eingabe!$E$6:$E$400))","v":0},{"$f":"SUMPRODUCT((Eingabe!$C$6:$C$400<$AZ21)*(Eingabe!$D$6:$D$400>=$AZ21)*(Eingabe!$B$6:$B$400=FW$3)*(Eingabe!$E$6:$E$400))","v":0},"2026-07-18","2026-07-18",{"$f":"SUMPRODUCT((Eingabe!$C$6:$C$400<=$BJ21)*(Eingabe!$D$6:$D$400>$BJ21)*(Eingabe!$B$6:$B$400=GA$3)*(Eingabe!$E$6:$E$400))","v":6},{"$f":"SUMPRODUCT((Eingabe!$C$6:$C$400<$BJ21)*(Eingabe!$D$6:$D$400>=$BJ21)*(Eingabe!$B$6:$B$400=GA$3)*(Eingabe!$E$6:$E$400))","v":6},{"$f":"SUMPRODUCT((Eingabe!$C$6:$C$400<=$BJ21)*(Eingabe!$D$6:$D$400>$BJ21)*(Eingabe!$B$6:$B$400=GC$3)*(Eingabe!$E$6:$E$400))","v":0},{"$f":"SUMPRODUCT((Eingabe!$C$6:$C$400<$BJ21)*(Eingabe!$D$6:$D$400>=$BJ21)*(Eingabe!$B$6:$B$400=GC$3)*(Eingabe!$E$6:$E$400))","v":0},{"$f":"SUMPRODUCT((Eingabe!$C$6:$C$400<=$BJ21)*(Eingabe!$D$6:$D$400>$BJ21)*(Eingabe!$B$6:$B$400=GE$3)*(Eingabe!$E$6:$E$400))","v":0},{"$f":"SUMPRODUCT((Eingabe!$C$6:$C$400<$BJ21)*(Eingabe!$D$6:$D$400>=$BJ21)*(Eingabe!$B$6:$B$400=GE$3)*(Eingabe!$E$6:$E$400))","v":0},{"$f":"SUMPRODUCT((Eingabe!$C$6:$C$400<=$BJ21)*(Eingabe!$D$6:$D$400>$BJ21)*(Eingabe!$B$6:$B$400=GG$3)*(Eingabe!$E$6:$E$400))","v":0},{"$f":"SUMPRODUCT((Eingabe!$C$6:$C$400<$BJ21)*(Eingabe!$D$6:$D$400>=$BJ21)*(Eingabe!$B$6:$B$400=GG$3)*(Eingabe!$E$6:$E$400))","v":0},"2026-08-18","2026-08-18",{"$f":"SUMPRODUCT((Eingabe!$C$6:$C$400<=$BT21)*(Eingabe!$D$6:$D$400>$BT21)*(Eingabe!$B$6:$B$400=GK$3)*(Eingabe!$E$6:$E$400))","v":0},{"$f":"SUMPRODUCT((Eingabe!$C$6:$C$400<$BT21)*(Eingabe!$D$6:$D$400>=$BT21)*(Eingabe!$B$6:$B$400=GK$3)*(Eingabe!$E$6:$E$400))","v":0},{"$f":"SUMPRODUCT((Eingabe!$C$6:$C$400<=$BT21)*(Eingabe!$D$6:$D$400>$BT21)*(Eingabe!$B$6:$B$400=GM$3)*(Eingabe!$E$6:$E$400))","v":0},{"$f":"SUMPRODUCT((Eingabe!$C$6:$C$400<$BT21)*(Eingabe!$D$6:$D$400>=$BT21)*(Eingabe!$B$6:$B$400=GM$3)*(Eingabe!$E$6:$E$400))","v":0},{"$f":"SUMPRODUCT((Eingabe!$C$6:$C$400<=$BT21)*(Eingabe!$D$6:$D$400>$BT21)*(Eingabe!$B$6:$B$400=GO$3)*(Eingabe!$E$6:$E$400))","v":0},{"$f":"SUMPRODUCT((Eingabe!$C$6:$C$400<$BT21)*(Eingabe!$D$6:$D$400>=$BT21)*(Eingabe!$B$6:$B$400=GO$3)*(Eingabe!$E$6:$E$400))","v":0},{"$f":"SUMPRODUCT((Eingabe!$C$6:$C$400<=$BT21)*(Eingabe!$D$6:$D$400>$BT21)*(Eingabe!$B$6:$B$400=GQ$3)*(Eingabe!$E$6:$E$400))","v":0},{"$f":"SUMPRODUCT((Eingabe!$C$6:$C$400<$BT21)*(Eingabe!$D$6:$D$400>=$BT21)*(Eingabe!$B$6:$B$400=GQ$3)*(Eingabe!$E$6:$E$400))","v":0},"2026-09-18","2026-09-18",{"$f":"SUMPRODUCT((Eingabe!$C$6:$C$400<=$CD21)*(Eingabe!$D$6:$D$400>$CD21)*(Eingabe!$B$6:$B$400=GU$3)*(Eingabe!$E$6:$E$400))","v":0},{"$f":"SUMPRODUCT((Eingabe!$C$6:$C$400<$CD21)*(Eingabe!$D$6:$D$400>=$CD21)*(Eingabe!$B$6:$B$400=GU$3)*(Eingabe!$E$6:$E$400))","v":0},{"$f":"SUMPRODUCT((Eingabe!$C$6:$C$400<=$CD21)*(Eingabe!$D$6:$D$400>$CD21)*(Eingabe!$B$6:$B$400=GW$3)*(Eingabe!$E$6:$E$400))","v":0},{"$f":"SUMPRODUCT((Eingabe!$C$6:$C$400<$CD21)*(Eingabe!$D$6:$D$400>=$CD21)*(Eingabe!$B$6:$B$400=GW$3)*(Eingabe!$E$6:$E$400))","v":0},{"$f":"SUMPRODUCT((Eingabe!$C$6:$C$400<=$CD21)*(Eingabe!$D$6:$D$400>$CD21)*(Eingabe!$B$6:$B$400=GY$3)*(Eingabe!$E$6:$E$400))","v":0},{"$f":"SUMPRODUCT((Eingabe!$C$6:$C$400<$CD21)*(Eingabe!$D$6:$D$400>=$CD21)*(Eingabe!$B$6:$B$400=GY$3)*(Eingabe!$E$6:$E$400))","v":0},{"$f":"SUMPRODUCT((Eingabe!$C$6:$C$400<=$CD21)*(Eingabe!$D$6:$D$400>$CD21)*(Eingabe!$B$6:$B$400=HA$3)*(Eingabe!$E$6:$E$400))","v":0},{"$f":"SUMPRODUCT((Eingabe!$C$6:$C$400<$CD21)*(Eingabe!$D$6:$D$400>=$CD21)*(Eingabe!$B$6:$B$400=HA$3)*(Eingabe!$E$6:$E$400))","v":0},"2026-10-18","2026-10-18",{"$f":"SUMPRODUCT((Eingabe!$C$6:$C$400<=$CN21)*(Eingabe!$D$6:$D$400>$CN21)*(Eingabe!$B$6:$B$400=HE$3)*(Eingabe!$E$6:$E$400))","v":7},{"$f":"SUMPRODUCT((Eingabe!$C$6:$C$400<$CN21)*(Eingabe!$D$6:$D$400>=$CN21)*(Eingabe!$B$6:$B$400=HE$3)*(Eingabe!$E$6:$E$400))","v":7},{"$f":"SUMPRODUCT((Eingabe!$C$6:$C$400<=$CN21)*(Eingabe!$D$6:$D$400>$CN21)*(Eingabe!$B$6:$B$400=HG$3)*(Eingabe!$E$6:$E$400))","v":0},{"$f":"SUMPRODUCT((Eingabe!$C$6:$C$400<$CN21)*(Eingabe!$D$6:$D$400>=$CN21)*(Eingabe!$B$6:$B$400=HG$3)*(Eingabe!$E$6:$E$400))","v":0},{"$f":"SUMPRODUCT((Eingabe!$C$6:$C$400<=$CN21)*(Eingabe!$D$6:$D$400>$CN21)*(Eingabe!$B$6:$B$400=HI$3)*(Eingabe!$E$6:$E$400))","v":0},{"$f":"SUMPRODUCT((Eingabe!$C$6:$C$400<$CN21)*(Eingabe!$D$6:$D$400>=$CN21)*(Eingabe!$B$6:$B$400=HI$3)*(Eingabe!$E$6:$E$400))","v":0},{"$f":"SUMPRODUCT((Eingabe!$C$6:$C$400<=$CN21)*(Eingabe!$D$6:$D$400>$CN21)*(Eingabe!$B$6:$B$400=HK$3)*(Eingabe!$E$6:$E$400))","v":0},{"$f":"SUMPRODUCT((Eingabe!$C$6:$C$400<$CN21)*(Eingabe!$D$6:$D$400>=$CN21)*(Eingabe!$B$6:$B$400=HK$3)*(Eingabe!$E$6:$E$400))","v":0},"2026-11-18","2026-11-18",{"$f":"SUMPRODUCT((Eingabe!$C$6:$C$400<=$CX21)*(Eingabe!$D$6:$D$400>$CX21)*(Eingabe!$B$6:$B$400=HO$3)*(Eingabe!$E$6:$E$400))","v":7},{"$f":"SUMPRODUCT((Eingabe!$C$6:$C$400<$CX21)*(Eingabe!$D$6:$D$400>=$CX21)*(Eingabe!$B$6:$B$400=HO$3)*(Eingabe!$E$6:$E$400))","v":7},{"$f":"SUMPRODUCT((Eingabe!$C$6:$C$400<=$CX21)*(Eingabe!$D$6:$D$400>$CX21)*(Eingabe!$B$6:$B$400=HQ$3)*(Eingabe!$E$6:$E$400))","v":0},{"$f":"SUMPRODUCT((Eingabe!$C$6:$C$400<$CX21)*(Eingabe!$D$6:$D$400>=$CX21)*(Eingabe!$B$6:$B$400=HQ$3)*(Eingabe!$E$6:$E$400))","v":0},{"$f":"SUMPRODUCT((Eingabe!$C$6:$C$400<=$CX21)*(Eingabe!$D$6:$D$400>$CX21)*(Eingabe!$B$6:$B$400=HS$3)*(Eingabe!$E$6:$E$400))","v":0},{"$f":"SUMPRODUCT((Eingabe!$C$6:$C$400<$CX21)*(Eingabe!$D$6:$D$400>=$CX21)*(Eingabe!$B$6:$B$400=HS$3)*(Eingabe!$E$6:$E$400))","v":0},{"$f":"SUMPRODUCT((Eingabe!$C$6:$C$400<=$CX21)*(Eingabe!$D$6:$D$400>$CX21)*(Eingabe!$B$6:$B$400=HU$3)*(Eingabe!$E$6:$E$400))","v":0},{"$f":"SUMPRODUCT((Eingabe!$C$6:$C$400<$CX21)*(Eingabe!$D$6:$D$400>=$CX21)*(Eingabe!$B$6:$B$400=HU$3)*(Eingabe!$E$6:$E$400))","v":0},"2026-12-18","2026-12-18",{"$f":"SUMPRODUCT((Eingabe!$C$6:$C$400<=$DH21)*(Eingabe!$D$6:$D$400>$DH21)*(Eingabe!$B$6:$B$400=HY$3)*(Eingabe!$E$6:$E$400))","v":7},{"$f":"SUMPRODUCT((Eingabe!$C$6:$C$400<$DH21)*(Eingabe!$D$6:$D$400>=$DH21)*(Eingabe!$B$6:$B$400=HY$3)*(Eingabe!$E$6:$E$400))","v":7},{"$f":"SUMPRODUCT((Eingabe!$C$6:$C$400<=$DH21)*(Eingabe!$D$6:$D$400>$DH21)*(Eingabe!$B$6:$B$400=IA$3)*(Eingabe!$E$6:$E$400))","v":0},{"$f":"SUMPRODUCT((Eingabe!$C$6:$C$400<$DH21)*(Eingabe!$D$6:$D$400>=$DH21)*(Eingabe!$B$6:$B$400=IA$3)*(Eingabe!$E$6:$E$400))","v":0},{"$f":"SUMPRODUCT((Eingabe!$C$6:$C$400<=$DH21)*(Eingabe!$D$6:$D$400>$DH21)*(Eingabe!$B$6:$B$400=IC$3)*(Eingabe!$E$6:$E$400))","v":0},{"$f":"SUMPRODUCT((Eingabe!$C$6:$C$400<$DH21)*(Eingabe!$D$6:$D$400>=$DH21)*(Eingabe!$B$6:$B$400=IC$3)*(Eingabe!$E$6:$E$400))","v":0},{"$f":"SUMPRODUCT((Eingabe!$C$6:$C$400<=$DH21)*(Eingabe!$D$6:$D$400>$DH21)*(Eingabe!$B$6:$B$400=IE$3)*(Eingabe!$E$6:$E$400))","v":0},{"$f":"SUMPRODUCT((Eingabe!$C$6:$C$400<$DH21)*(Eingabe!$D$6:$D$400>=$DH21)*(Eingabe!$B$6:$B$400=IE$3)*(Eingabe!$E$6:$E$400))","v":0}]
["2025-01-19","2025-01-19",{"$f":"SUMPRODUCT((Eingabe!$C$6:$C$400<=$B22)*(Eingabe!$D$6:$D$400>$B22)*(Eingabe!$B$6:$B$400=C$3)*(Eingabe!$E$6:$E$400))","v":6},{"$f":"SUMPRODUCT((Eingabe!$C$6:$C$400<$B22)*(Eingabe!$D$6:$D$400>=$B22)*(Eingabe!$B$6:$B$400=C$3)*(Eingabe!$E$6:$E$400))","v":0},{"$f":"SUMPRODUCT((Eingabe!$C$6:$C$400<=$B22)*(Eingabe!$D$6:$D$400>$B22)*(Eingabe!$B$6:$B$400=E$3)*(Eingabe!$E$6:$E$400))","v":6},{"$f":"SUMPRODUCT((Eingabe!$C$6:$C$400<$B22)*(Eingabe!$D$6:$D$400>=$B22)*(Eingabe!$B$6:$B$400=E$3)*(Eingabe!$E$6:$E$400))","v":0},{"$f":"SUMPRODUCT((Eingabe!$C$6:$C$400<=$B22)*(Eingabe!$D$6:$D$400>$B22)*(Eingabe!$B$6:$B$400=G$3)*(Eingabe!$E$6:$E$400))","v":6},{"$f":"SUMPRODUCT((Eingabe!$C$6:$C$400<$B22)*(Eingabe!$D$6:$D$400>=$B22)*(Eingabe!$B$6:$B$400=G$3)*(Eingabe!$E$6:$E$400))","v":0},{"$f":"SUMPRODUCT((Eingabe!$C$6:$C$400<=$B22)*(Eingabe!$D$6:$D$400>$B22)*(Eingabe!$B$6:$B$400=I$3)*(Eingabe!$E$6:$E$400))","v":7},{"$f":"SUMPRODUCT((Eingabe!$C$6:$C$400<$B22)*(Eingabe!$D$6:$D$400>=$B22)*(Eingabe!$B$6:$B$400=I$3)*(Eingabe!$E$6:$E$400))","v":7},"2025-02-19","2025-02-19",{"$f":"SUMPRODUCT((Eingabe!$C$6:$C$400<=$L22)*(Eingabe!$D$6:$D$400>$L22)*(Eingabe!$B$6:$B$400=M$3)*(Eingabe!$E$6:$E$400))","v":0},{"$f":"SUMPRODUCT((Eingabe!$C$6:$C$400<$L22)*(Eingabe!$D$6:$D$400>=$L22)*(Eingabe!$B$6:$B$400=M$3)*(Eingabe!$E$6:$E$400))","v":0},{"$f":"SUMPRODUCT((Eingabe!$C$6:$C$400<=$L22)*(Eingabe!$D$6:$D$400>$L22)*(Eingabe!$B$6:$B$400=O$3)*(Eingabe!$E$6:$E$400))","v":0},{"$f":"SUMPRODUCT((Eingabe!$C$6:$C$400<$L22)*(Eingabe!$D$6:$D$400>=$L22)*(Eingabe!$B$6:$B$400=O$3)*(Eingabe!$E$6:$E$400))","v":0},{"$f":"SUMPRODUCT((Eingabe!$C$6:$C$400<=$L22)*(Eingabe!$D$6:$D$400>$L22)*(Eingabe!$B$6:$B$400=Q$3)*(Eingabe!$E$6:$E$400))","v":0},{"$f":"SUMPRODUCT((Eingabe!$C$6:$C$400<$L22)*(Eingabe!$D$6:$D$400>=$L22)*(Eingabe!$B$6:$B$400=Q$3)*(Eingabe!$E$6:$E$400))","v":0},{"$f":"SUMPRODUCT((Eingabe!$C$6:$C$400<=$L22)*(Eingabe!$D$6:$D$400>$L22)*(Eingabe!$B$6:$B$400=S$3)*(Eingabe!$E$6:$E$400))","v":0},{"$f":"SUMPRODUCT((Eingabe!$C$6:$C$400<$L22)*(Eingabe!$D$6:$D$400>=$L22)*(Eingabe!$B$6:$B$400=S$3)*(Eingabe!$E$6:$E$400))","v":0},"2025-03-19","2025-03-19",{"$f":"SUMPRODUCT((Eingabe!$C$6:$C$400<=$V22)*(Eingabe!$D$6:$D$400>$V22)*(Eingabe!$B$6:$B$400=W$3)*(Eingabe!$E$6:$E$400))","v":0},{"$f":"SUMPRODUCT((Eingabe!$C$6:$C$400<$V22)*(Eingabe!$D$6:$D$400>=$V22)*(Eingabe!$B$6:$B$400=W$3)*(Eingabe!$E$6:$E$400))","v":0},{"$f":"SUMPRODUCT((Eingabe!$C$6:$C$400<=$V22)*(Eingabe!$D$6:$D$400>$V22)*(Eingabe!$B$6:$B$400=Y$3)*(Eingabe!$E$6:$E$400))","v":0},{"$f":"SUMPRODUCT((Eingabe!$C$6:$C$400<$V22)*(Eingabe!$D$6:$D$400>=$V22)*(Eingabe!$B$6:$B$400=Y$3)*(Eingabe!$E$6:$E$400))","v":0},{"$f":"SUMPRODUCT((Eingabe!$C$6:$C$400<=$V22)*(Eingabe!$D$6:$D$400>$V22)*(Eingabe!$B$6:$B$400=AA$3)*(Eingabe!$E$6:$E$400))","v":0},{"$f":"SUMPRODUCT((Eingabe!$C$6:$C$400<$V22)*(Eingabe!$D$6:$D$400>=$V22)*(Eingabe!$B$6:$B$400=AA$3)*(Eingabe!$E$6:$E$400))","v":0},{"$f":"SUMPRODUCT((Eingabe!$C$6:$C$400<=$V22)*(Eingabe!$D$6:$D$400>$V22)*(Eingabe!$B$6:$B$400=AC$3)*(Eingabe!$E$6:$E$400))","v":0},{"$f":"SUMPRODUCT((Eingabe!$C$6:$C$400<$V22)*(Eingabe!$D$6:$D$400>=$V22)*(Eingabe!$B$6:$B$400=AC$3)*(Eingabe!$E$6:$E$400))","v":0},"2025-04-19","2025-04-19",{"$f":"SUMPRODUCT((Eingabe!$C$6:$C$400<=$AF22)*(Eingabe!$D$6:$D$400>$AF22)*(Eingabe!$B$6:$B$400=AG$3)*(Eingabe!$E$6:$E$400))","v":0},{"$f":"SUMPRODUCT((Eingabe!$C$6:$C$400<$AF22)*(Eingabe!$D$6:$D$400>=$AF22)*(Eingabe!$B$6:$B$400=AG$3)*(Eingabe!$E$6:$E$400))","v":0},{"$f":"SUMPRODUCT((Eingabe!$C$6:$C$400<=$AF22)*(Eingabe!$D$6:$D$400>$AF22)*(Eingabe!$B$6:$B$400=AI$3)*(Eingabe!$E$6:$E$400))","v":8},{"$f":"SUMPRODUCT((Eingabe!$C$6:$C$400<$AF22)*(Eingabe!$D$6:$D$400>=$AF22)*(Eingabe!$B$6:$B$400=AI$3)*(Eingabe!$E$6:$E$400))","v":8},{"$f":"SUMPRODUCT((Eingabe!$C$6:$C$400<=$AF22)*(Eingabe!$D$6:$D$400>$AF22)*(Eingabe!$B$6:$B$400=AK$3)*(Eingabe!$E$6:$E$400))","v":0},{"$f":"SUMPRODUCT((Eingabe!$C$6:$C$400<$AF22)*(Eingabe!$D$6:$D$400>=$AF22)*(Eingabe!$B$6:$B$400=AK$3)*(Eingabe!$E$6:$E$400))","v":7},{"$f":"SUMPRODUCT((Eingabe!$C$6:$C$400<=$AF22)*(Eingabe!$D$6:$D$400>$AF22)*(Eingabe!$B$6:$B$400=AM$3)*(Eingabe!$E$6:$E$400))","v":0},{"$f":"SUMPRODUCT((Eingabe!$C$6:$C$400<$AF22)*(Eingabe!$D$6:$D$400>=$AF22)*(Eingabe!$B$6:$B$400=AM$3)*(Eingabe!$E$6:$E$400))","v":0},"2025-05-19","2025-05-19",{"$f":"SUMPRODUCT((Eingabe!$C$6:$C$400<=$AP22)*(Eingabe!$D$6:$D$400>$AP22)*(Eingabe!$B$6:$B$400=AQ$3)*(Eingabe!$E$6:$E$400))","v":0},{"$f":"SUMPRODUCT((Eingabe!$C$6:$C$400<$AP22)*(Eingabe!$D$6:$D$400>=$AP22)*(Eingabe!$B$6:$B$400=AQ$3)*(Eingabe!$E$6:$E$400))","v":0},{"$f":"SUMPRODUCT((Eingabe!$C$6:$C$400<=$AP22)*(Eingabe!$D$6:$D$400>$AP22)*(Eingabe!$B$6:$B$400=AS$3)*(Eingabe!$E$6:$E$400))","v":0},{"$f":"SUMPRODUCT((Eingabe!$C$6:$C$400<$AP22)*(Eingabe!$D$6:$D$400>=$AP22)*(Eingabe!$B$6:$B$400=AS$3)*(Eingabe!$E$6:$E$400))","v":0},{"$f":"SUMPRODUCT((Eingabe!$C$6:$C$400<=$AP22)*(Eingabe!$D$6:$D$400>$AP22)*(Eingabe!$B$6:$B$400=AU$3)*(Eingabe!$E$6:$E$400))","v":0},{"$f":"SUMPRODUCT((Eingabe!$C$6:$C$400<$AP22)*(Eingabe!$D$6:$D$400>=$AP22)*(Eingabe!$B$6:$B$400=AU$3)*(Eingabe!$E$6:$E$400))","v":0},{"$f":"SUMPRODUCT((Eingabe!$C$6:$C$400<=$AP22)*(Eingabe!$D$6:$D$400>$AP22)*(Eingabe!$B$6:$B$400=AW$3)*(Eingabe!$E$6:$E$400))","v":0},{"$f":"SUMPRODUCT((Eingabe!$C$6:$C$400<$AP22)*(Eingabe!$D$6:$D$400>=$AP22)*(Eingabe!$B$6:$B$400=AW$3)*(Eingabe!$E$6:$E$400))","v":0},"2025-06-19","2025-06-19",{"$f":"SUMPRODUCT((Eingabe!$C$6:$C$400<=$AZ22)*(Eingabe!$D$6:$D$400>$AZ22)*(Eingabe!$B$6:$B$400=BA$3)*(Eingabe!$E$6:$E$400))","v":0},{"$f":"SUMPRODUCT((Eingabe!$C$6:$C$400<$AZ22)*(Eingabe!$D$6:$D$400>=$AZ22)*(Eingabe!$B$6:$B$400=BA$3)*(Eingabe!$E$6:$E$400))","v":0},{"$f":"SUMPRODUCT((Eingabe!$C$6:$C$400<=$AZ22)*(Eingabe!$D$6:$D$400>$AZ22)*(Eingabe!$B$6:$B$400=BC$3)*(Eingabe!$E$6:$E$400))","v":0},{"$f":"SUMPRODUCT((Eingabe!$C$6:$C$400<$AZ22)*(Eingabe!$D$6:$D$400>=$AZ22)*(Eingabe!$B$6:$B$400=BC$3)*(Eingabe!$E$6:$E$400))","v":0},{"$f":"SUMPRODUCT((Eingabe!$C$6:$C$400<=$AZ22)*(Eingabe!$D$6:$D$400>$AZ22)*(Eingabe!$B$6:$B$400=BE$3)*(Eingabe!$E$6:$E$400))","v":0},{"$f":"SUMPRODUCT((Eingabe!$C$6:$C$400<$AZ22)*(Eingabe!$D$6:$D$400>=$AZ22)*(Eingabe!$B$6:$B$400=BE$3)*(Eingabe!$E$6:$E$400))","v":0},{"$f":"SUMPRODUCT((Eingabe!$C$6:$C$400<=$AZ22)*(Eingabe!$D$6:$D$400>$AZ22)*(Eingabe!$B$6:$B$400=BG$3)*(Eingabe!$E$6:$E$400))","v":0},{"$f":"SUMPRODUCT((Eingabe!$C$6:$C$400<$AZ22)*(Eingabe!$D$6:$D$400>=$AZ22)*(Eingabe!$B$6:$B$400=BG$3)*(Eingabe!$E$6:$E$400))","v":0},"2025-07-19","2025-07-19",{"$f":"SUMPRODUCT((Eingabe!$C$6:$C$400<=$BJ22)*(Eingabe!$D$6:$D$400>$BJ22)*(Eingabe!$B$6:$B$400=BK$3)*(Eingabe!$E$6:$E$400))","v":6},{"$f":"SUMPRODUCT((Eingabe!$C$6:$C$400<$BJ22)*(Eingabe!$D$6:$D$400>=$BJ22)*(Eingabe!$B$6:$B$400=BK$3)*(Eingabe!$E$6:$E$400))","v":6},{"$f":"SUMPRODUCT((Eingabe!$C$6:$C$400<=$BJ22)*(Eingabe!$D$6:$D$400>$BJ22)*(Eingabe!$B$6:$B$400=BM$3)*(Eingabe!$E$6:$E$400))","v":0},{"$f":"SUMPRODUCT((Eingabe!$C$6:$C$400<$BJ22)*(Eingabe!$D$6:$D$400>=$BJ22)*(Eingabe!$B$6:$B$400=BM$3)*(Eingabe!$E$6:$E$400))","v":0},{"$f":"SUMPRODUCT((Eingabe!$C$6:$C$400<=$BJ22)*(Eingabe!$D$6:$D$400>$BJ22)*(Eingabe!$B$6:$B$400=BO$3)*(Eingabe!$E$6:$E$400))","v":0},{"$f":"SUMPRODUCT((Eingabe!$C$6:$C$400<$BJ22)*(Eingabe!$D$6:$D$400>=$BJ22)*(Eingabe!$B$6:$B$400=BO$3)*(Eingabe!$E$6:$E$400))","v":0},{"$f":"SUMPRODUCT((Eingabe!$C$6:$C$400<=$BJ22)*(Eingabe!$D$6:$D$400>$BJ22)*(Eingabe!$B$6:$B$400=BQ$3)*(Eingabe!$E$6:$E$400))","v":0},{"$f":"SUMPRODUCT((Eingabe!$C$6:$C$400<$BJ22)*(Eingabe!$D$6:$D$400>=$BJ22)*(Eingabe!$B$6:$B$400=BQ$3)*(Eingabe!$E$6:$E$400))","v":0},"2025-08-19","2025-08-19",{"$f":"SUMPRODUCT((Eingabe!$C$6:$C$400<=$BT22)*(Eingabe!$D$6:$D$400>$BT22)*(Eingabe!$B$6:$B$400=BU$3)*(Eingabe!$E$6:$E$400))","v":0},{"$f":"SUMPRODUCT((Eingabe!$C$6:$C$400<$BT22)*(Eingabe!$D$6:$D$400>=$BT22)*(Eingabe!$B$6:$B$400=BU$3)*(Eingabe!$E$6:$E$400))","v":0},{"$f":"SUMPRODUCT((Eingabe!$C$6:$C$400<=$BT22)*(Eingabe!$D$6:$D$400>$BT22)*(Eingabe!$B$6:$B$400=BW$3)*(Eingabe!$E$6:$E$400))","v":0},{"$f":"SUMPRODUCT((Eingabe!$C$6:$C$400<$BT22)*(Eingabe!$D$6:$D$400>=$BT22)*(Eingabe!$B$6:$B$400=BW$3)*(Eingabe!$E$6:$E$400))","v":0},{"$f":"SUMPRODUCT((Eingabe!$C$6:$C$400<=$BT22)*(Eingabe!$D$6:$D$400>$BT22)*(Eingabe!$B$6:$B$400=BY$3)*(Eingabe!$E$6:$E$400))","v":0},{"$f":"SUMPRODUCT((Eingabe!$C$6:$C$400<$BT22)*(Eingabe!$D$6:$D$400>=$BT22)*(Eingabe!$B$6:$B$400=BY$3)*(Eingabe!$E$6:$E$400))","v":0},{"$f":"SUMPRODUCT((Eingabe!$C$6:$C$400<=$BT22)*(Eingabe!$D$6:$D$400>$BT22)*(Eingabe!$B$6:$B$400=CA$3)*(Eingabe!$E$6:$E$400))","v":0},{"$f":"SUMPRODUCT((Eingabe!$C$6:$C$400<$BT22)*(Eingabe!$D$6:$D$400>=$BT22)*(Eingabe!$B$6:$B$400=CA$3)*(Eingabe!$E$6:$E$400))","v":0},"2025-09-19","2025-09-19",{"$f":"SUMPRODUCT((Eingabe!$C$6:$C$400<=$CD22)*(Eingabe!$D$6:$D$400>$CD22)*(Eingabe!$B$6:$B$400=CE$3)*(Eingabe!$E$6:$E$400))","v":0},{"$f":"SUMPRODUCT((Eingabe!$C$6:$C$400<$CD22)*(Eingabe!$D$6:$D$400>=$CD22)*(Eingabe!$B$6:$B$400=CE$3)*(Eingabe!$E$6:$E$400))","v":0},{"$f":"SUMPRODUCT((Eingabe!$C$6:$C$400<=$CD22)*(Eingabe!$D$6:$D$400>$CD22)*(Eingabe!$B$6:$B$400=CG$3)*(Eingabe!$E$6:$E$400))","v":0},{"$f":"SUMPRODUCT((Eingabe!$C$6:$C$400<$CD22)*(Eingabe!$D$6:$D$400>=$CD22)*(Eingabe!$B$6:$B$400=CG$3)*(Eingabe!$E$6:$E$400))","v":0},{"$f":"SUMPRODUCT((Eingabe!$C$6:$C$400<=$CD22)*(Eingabe!$D$6:$D$400>$CD22)*(Eingabe!$B$6:$B$400=CI$3)*(Eingabe!$E$6:$E$400))","v":0},{"$f":"SUMPRODUCT((Eingabe!$C$6:$C$400<$CD22)*(Eingabe!$D$6:$D$400>=$CD22)*(Eingabe!$B$6:$B$400=CI$3)*(Eingabe!$E$6:$E$400))","v":0},{"$f":"SUMPRODUCT((Eingabe!$C$6:$C$400<=$CD22)*(Eingabe!$D$6:$D$400>$CD22)*(Eingabe!$B$6:$B$400=CK$3)*(Eingabe!$E$6:$E$400))","v":0},{"$f":"SUMPRODUCT((Eingabe!$C$6:$C$400<$CD22)*(Eingabe!$D$6:$D$400>=$CD22)*(Eingabe!$B$6:$B$400=CK$3)*(Eingabe!$E$6:$E$400))","v":0},"2025-10-19","2025-10-19",{"$f":"SUMPRODUCT((Eingabe!$C$6:$C$400<=$CN22)*(Eingabe!$D$6:$D$400>$CN22)*(Eingabe!$B$6:$B$400=CO$3)*(Eingabe!$E$6:$E$400))","v":7},{"$f":"SUMPRODUCT((Eingabe!$C$6:$C$400<$CN22)*(Eingabe!$D$6:$D$400>=$CN22)*(Eingabe!$B$6:$B$400=CO$3)*(Eingabe!$E$6:$E$400))","v":7},{"$f":"SUMPRODUCT((Eingabe!$C$6:$C$400<=$CN22)*(Eingabe!$D$6:$D$400>$CN22)*(Eingabe!$B$6:$B$400=CQ$3)*(Eingabe!$E$6:$E$400))","v":0},{"$f":"SUMPRODUCT((Eingabe!$C$6:$C$400<$CN22)*(Eingabe!$D$6:$D$400>=$CN22)*(Eingabe!$B$6:$B$400=CQ$3)*(Eingabe!$E$6:$E$400))","v":0},{"$f":"SUMPRODUCT((Eingabe!$C$6:$C$400<=$CN22)*(Eingabe!$D$6:$D$400>$CN22)*(Eingabe!$B$6:$B$400=CS$3)*(Eingabe!$E$6:$E$400))","v":0},{"$f":"SUMPRODUCT((Eingabe!$C$6:$C$400<$CN22)*(Eingabe!$D$6:$D$400>=$CN22)*(Eingabe!$B$6:$B$400=CS$3)*(Eingabe!$E$6:$E$400))","v":0},{"$f":"SUMPRODUCT((Eingabe!$C$6:$C$400<=$CN22)*(Eingabe!$D$6:$D$400>$CN22)*(Eingabe!$B$6:$B$400=CU$3)*(Eingabe!$E$6:$E$400))","v":0},{"$f":"SUMPRODUCT((Eingabe!$C$6:$C$400<$CN22)*(Eingabe!$D$6:$D$400>=$CN22)*(Eingabe!$B$6:$B$400=CU$3)*(Eingabe!$E$6:$E$400))","v":0},"2025-11-19","2025-11-19",{"$f":"SUMPRODUCT((Eingabe!$C$6:$C$400<=$CX22)*(Eingabe!$D$6:$D$400>$CX22)*(Eingabe!$B$6:$B$400=CY$3)*(Eingabe!$E$6:$E$400))","v":7},{"$f":"SUMPRODUCT((Eingabe!$C$6:$C$400<$CX22)*(Eingabe!$D$6:$D$400>=$CX22)*(Eingabe!$B$6:$B$400=CY$3)*(Eingabe!$E$6:$E$400))","v":7},{"$f":"SUMPRODUCT((Eingabe!$C$6:$C$400<=$CX22)*(Eingabe!$D$6:$D$400>$CX22)*(Eingabe!$B$6:$B$400=DA$3)*(Eingabe!$E$6:$E$400))","v":0},{"$f":"SUMPRODUCT((Eingabe!$C$6:$C$400<$CX22)*(Eingabe!$D$6:$D$400>=$CX22)*(Eingabe!$B$6:$B$400=DA$3)*(Eingabe!$E$6:$E$400))","v":0},{"$f":"SUMPRODUCT((Eingabe!$C$6:$C$400<=$CX22)*(Eingabe!$D$6:$D$400>$CX22)*(Eingabe!$B$6:$B$400=DC$3)*(Eingabe!$E$6:$E$400))","v":0},{"$f":"SUMPRODUCT((Eingabe!$C$6:$C$400<$CX22)*(Eingabe!$D$6:$D$400>=$CX22)*(Eingabe!$B$6:$B$400=DC$3)*(Eingabe!$E$6:$E$400))","v":0},{"$f":"SUMPRODUCT((Eingabe!$C$6:$C$400<=$CX22)*(Eingabe!$D$6:$D$400>$CX22)*(Eingabe!$B$6:$B$400=DE$3)*(Eingabe!$E$6:$E$400))","v":0},{"$f":"SUMPRODUCT((Eingabe!$C$6:$C$400<$CX22)*(Eingabe!$D$6:$D$400>=$CX22)*(Eingabe!$B$6:$B$400=DE$3)*(Eingabe!$E$6:$E$400))","v":0},"2025-12-19","2025-12-19",{"$f":"SUMPRODUCT((Eingabe!$C$6:$C$400<=$DH22)*(Eingabe!$D$6:$D$400>$DH22)*(Eingabe!$B$6:$B$400=DI$3)*(Eingabe!$E$6:$E$400))","v":7},{"$f":"SUMPRODUCT((Eingabe!$C$6:$C$400<$DH22)*(Eingabe!$D$6:$D$400>=$DH22)*(Eingabe!$B$6:$B$400=DI$3)*(Eingabe!$E$6:$E$400))","v":7},{"$f":"SUMPRODUCT((Eingabe!$C$6:$C$400<=$DH22)*(Eingabe!$D$6:$D$400>$DH22)*(Eingabe!$B$6:$B$400=DK$3)*(Eingabe!$E$6:$E$400))","v":0},{"$f":"SUMPRODUCT((Eingabe!$C$6:$C$400<$DH22)*(Eingabe!$D$6:$D$400>=$DH22)*(Eingabe!$B$6:$B$400=DK$3)*(Eingabe!$E$6:$E$400))","v":0},{"$f":"SUMPRODUCT((Eingabe!$C$6:$C$400<=$DH22)*(Eingabe!$D$6:$D$400>$DH22)*(Eingabe!$B$6:$B$400=DM$3)*(Eingabe!$E$6:$E$400))","v":0},{"$f":"SUMPRODUCT((Eingabe!$C$6:$C$400<$DH22)*(Eingabe!$D$6:$D$400>=$DH22)*(Eingabe!$B$6:$B$400=DM$3)*(Eingabe!$E$6:$E$400))","v":0},{"$f":"SUMPRODUCT((Eingabe!$C$6:$C$400<=$DH22)*(Eingabe!$D$6:$D$400>$DH22)*(Eingabe!$B$6:$B$400=DO$3)*(Eingabe!$E$6:$E$400))","v":0},{"$f":"SUMPRODUCT((Eingabe!$C$6:$C$400<$DH22)*(Eingabe!$D$6:$D$400>=$DH22)*(Eingabe!$B$6:$B$400=DO$3)*(Eingabe!$E$6:$E$400))","v":0},"2026-01-19","2026-01-19",{"$f":"SUMPRODUCT((Eingabe!$C$6:$C$400<=$B22)*(Eingabe!$D$6:$D$400>$B22)*(Eingabe!$B$6:$B$400=DS$3)*(Eingabe!$E$6:$E$400))","v":6},{"$f":"SUMPRODUCT((Eingabe!$C$6:$C$400<$B22)*(Eingabe!$D$6:$D$400>=$B22)*(Eingabe!$B$6:$B$400=DS$3)*(Eingabe!$E$6:$E$400))","v":0},{"$f":"SUMPRODUCT((Eingabe!$C$6:$C$400<=$B22)*(Eingabe!$D$6:$D$400>$B22)*(Eingabe!$B$6:$B$400=DU$3)*(Eingabe!$E$6:$E$400))","v":6},{"$f":"SUMPRODUCT((Eingabe!$C$6:$C$400<$B22)*(Eingabe!$D$6:$D$400>=$B22)*(Eingabe!$B$6:$B$400=DU$3)*(Eingabe!$E$6:$E$400))","v":0},{"$f":"SUMPRODUCT((Eingabe!$C$6:$C$400<=$B22)*(Eingabe!$D$6:$D$400>$B22)*(Eingabe!$B$6:$B$400=DW$3)*(Eingabe!$E$6:$E$400))","v":6},{"$f":"SUMPRODUCT((Eingabe!$C$6:$C$400<$B22)*(Eingabe!$D$6:$D$400>=$B22)*(Eingabe!$B$6:$B$400=DW$3)*(Eingabe!$E$6:$E$400))","v":0},{"$f":"SUMPRODUCT((Eingabe!$C$6:$C$400<=$B22)*(Eingabe!$D$6:$D$400>$B22)*(Eingabe!$B$6:$B$400=DY$3)*(Eingabe!$E$6:$E$400))","v":7},{"$f":"SUMPRODUCT((Eingabe!$C$6:$C$400<$B22)*(Eingabe!$D$6:$D$400>=$B22)*(Eingabe!$B$6:$B$400=DY$3)*(Eingabe!$E$6:$E$400))","v":7},"2026-02-19","2026-02-19",{"$f":"SUMPRODUCT((Eingabe!$C$6:$C$400<=$L22)*(Eingabe!$D$6:$D$400>$L22)*(Eingabe!$B$6:$B$400=EC$3)*(Eingabe!$E$6:$E$400))","v":0},{"$f":"SUMPRODUCT((Eingabe!$C$6:$C$400<$L22)*(Eingabe!$D$6:$D$400>=$L22)*(Eingabe!$B$6:$B$400=EC$3)*(Eingabe!$E$6:$E$400))","v":0},{"$f":"SUMPRODUCT((Eingabe!$C$6:$C$400<=$L22)*(Eingabe!$D$6:$D$400>$L22)*(Eingabe!$B$6:$B$400=EE$3)*(Eingabe!$E$6:$E$400))","v":0},{"$f":"SUMPRODUCT((Eingabe!$C$6:$C$400<$L22)*(Eingabe!$D$6:$D$400>=$L22)*(Eingabe!$B$6:$B$400=EE$3)*(Eingabe!$E$6:$E$400))","v":0},{"$f":"SUMPRODUCT((Eingabe!$C$6:$C$400<=$L22)*(Eingabe!$D$6:$D$400>$L22)*(Eingabe!$B$6:$B$400=EG$3)*(Eingabe!$E$6:$E$400))","v":0},{"$f":"SUMPRODUCT((Eingabe!$C$6:$C$400<$L22)*(Eingabe!$D$6:$D$400>=$L22)*(Eingabe!$B$6:$B$400=EG$3)*(Eingabe!$E$6:$E$400))","v":0},{"$f":"SUMPRODUCT((Eingabe!$C$6:$C$400<=$L22)*(Eingabe!$D$6:$D$400>$L22)*(Eingabe!$B$6:$B$400=EI$3)*(Eingabe!$E$6:$E$400))","v":0},{"$f":"SUMPRODUCT((Eingabe!$C$6:$C$400<$L22)*(Eingabe!$D$6:$D$400>=$L22)*(Eingabe!$B$6:$B$400=EI$3)*(Eingabe!$E$6:$E$400))","v":0},"2026-03-19","2026-03-19",{"$f":"SUMPRODUCT((Eingabe!$C$6:$C$400<=$V22)*(Eingabe!$D$6:$D$400>$V22)*(Eingabe!$B$6:$B$400=EM$3)*(Eingabe!$E$6:$E$400))","v":0},{"$f":"SUMPRODUCT((Eingabe!$C$6:$C$400<$V22)*(Eingabe!$D$6:$D$400>=$V22)*(Eingabe!$B$6:$B$400=EM$3)*(Eingabe!$E$6:$E$400))","v":0},{"$f":"SUMPRODUCT((Eingabe!$C$6:$C$400<=$V22)*(Eingabe!$D$6:$D$400>$V22)*(Eingabe!$B$6:$B$400=EO$3)*(Eingabe!$E$6:$E$400))","v":0},{"$f":"SUMPRODUCT((Eingabe!$C$6:$C$400<$V22)*(Eingabe!$D$6:$D$400>=$V22)*(Eingabe!$B$6:$B$400=EO$3)*(Eingabe!$E$6:$E$400))","v":0},{"$f":"SUMPRODUCT((Eingabe!$C$6:$C$400<=$V22)*(Eingabe!$D$6:$D$400>$V22)*(Eingabe!$B$6:$B$400=EQ$3)*(Eingabe!$E$6:$E$400))","v":0},{"$f":"SUMPRODUCT((Eingabe!$C$6:$C$400<$V22)*(Eingabe!$D$6:$D$400>=$V22)*(Eingabe!$B$6:$B$400=EQ$3)*(Eingabe!$E$6:$E$400))","v":0},{"$f":"SUMPRODUCT((Eingabe!$C$6:$C$400<=$V22)*(Eingabe!$D$6:$D$400>$V22)*(Eingabe!$B$6:$B$400=ES$3)*(Eingabe!$E$6:$E$400))","v":0},{"$f":"SUMPRODUCT((Eingabe!$C$6:$C$400<$V22)*(Eingabe!$D$6:$D$400>=$V22)*(Eingabe!$B$6:$B$400=ES$3)*(Eingabe!$E$6:$E$400))","v":0},"2026-04-19","2026-04-19",{"$f":"SUMPRODUCT((Eingabe!$C$6:$C$400<=$AF22)*(Eingabe!$D$6:$D$400>$AF22)*(Eingabe!$B$6:$B$400=EW$3)*(Eingabe!$E$6:$E$400))","v":0},{"$f":"SUMPRODUCT((Eingabe!$C$6:$C$400<$AF22)*(Eingabe!$D$6:$D$400>=$AF22)*(Eingabe!$B$6:$B$400=EW$3)*(Eingabe!$E$6:$E$400))","v":0},{"$f":"SUMPRODUCT((Eingabe!$C$6:$C$400<=$AF22)*(Eingabe!$D$6:$D$400>$AF22)*(Eingabe!$B$6:$B$400=EY$3)*(Eingabe!$E$6:$E$400))","v":8},{"$f":"SUMPRODUCT((Eingabe!$C$6:$C$400<$AF22)*(Eingabe!$D$6:$D$400>=$AF22)*(Eingabe!$B$6:$B$400=EY$3)*(Eingabe!$E$6:$E$400))","v":8},{"$f":"SUMPRODUCT((Eingabe!$C$6:$C$400<=$AF22)*(Eingabe!$D$6:$D$400>$AF22)*(Eingabe!$B$6:$B$400=FA$3)*(Eingabe!$E$6:$E$400))","v":0},{"$f":"SUMPRODUCT((Eingabe!$C$6:$C$400<$AF22)*(Eingabe!$D$6:$D$400>=$AF22)*(Eingabe!$B$6:$B$400=FA$3)*(Eingabe!$E$6:$E$400))","v":7},{"$f":"SUMPRODUCT((Eingabe!$C$6:$C$400<=$AF22)*(Eingabe!$D$6:$D$400>$AF22)*(Eingabe!$B$6:$B$400=FC$3)*(Eingabe!$E$6:$E$400))","v":0},{"$f":"SUMPRODUCT((Eingabe!$C$6:$C$400<$AF22)*(Eingabe!$D$6:$D$400>=$AF22)*(Eingabe!$B$6:$B$400=FC$3)*(Eingabe!$E$6:$E$400))","v":0},"2026-05-19","2026-05-19",{"$f":"SUMPRODUCT((Eingabe!$C$6:$C$400<=$AP22)*(Eingabe!$D$6:$D$400>$AP22)*(Eingabe!$B$6:$B$400=FG$3)*(Eingabe!$E$6:$E$400))","v":0},{"$f":"SUMPRODUCT((Eingabe!$C$6:$C$400<$AP22)*(Eingabe!$D$6:$D$400>=$AP22)*(Eingabe!$B$6:$B$400=FG$3)*(Eingabe!$E$6:$E$400))","v":0},{"$f":"SUMPRODUCT((Eingabe!$C$6:$C$400<=$AP22)*(Eingabe!$D$6:$D$400>$AP22)*(Eingabe!$B$6:$B$400=FI$3)*(Eingabe!$E$6:$E$400))","v":0},{"$f":"SUMPRODUCT((Eingabe!$C$6:$C$400<$AP22)*(Eingabe!$D$6:$D$400>=$AP22)*(Eingabe!$B$6:$B$400=FI$3)*(Eingabe!$E$6:$E$400))","v":0},{"$f":"SUMPRODUCT((Eingabe!$C$6:$C$400<=$AP22)*(Eingabe!$D$6:$D$400>$AP22)*(Eingabe!$B$6:$B$400=FK$3)*(Eingabe!$E$6:$E$400))","v":0},{"$f":"SUMPRODUCT((Eingabe!$C$6:$C$400<$AP22)*(Eingabe!$D$6:$D$400>=$AP22)*(Eingabe!$B$6:$B$400=FK$3)*(Eingabe!$E$6:$E$400))","v":0},{"$f":"SUMPRODUCT((Eingabe!$C$6:$C$400<=$AP22)*(Eingabe!$D$6:$D$400>$AP22)*(Eingabe!$B$6:$B$400=FM$3)*(Eingabe!$E$6:$E$400))","v":0},{"$f":"SUMPRODUCT((Eingabe!$C$6:$C$400<$AP22)*(Eingabe!$D$6:$D$400>=$AP22)*(Eingabe!$B$6:$B$400=FM$3)*(Eingabe!$E$6:$E$400))","v":0},"2026-06-19","2026-06-19",{"$f":"SUMPRODUCT((Eingabe!$C$6:$C$400<=$AZ22)*(Eingabe!$D$6:$D$400>$AZ22)*(Eingabe!$B$6:$B$400=FQ$3)*(Eingabe!$E$6:$E$400))","v":0},{"$f":"SUMPRODUCT((Eingabe!$C$6:$C$400<$AZ22)*(Eingabe!$D$6:$D$400>=$AZ22)*(Eingabe!$B$6:$B$400=FQ$3)*(Eingabe!$E$6:$E$400))","v":0},{"$f":"SUMPRODUCT((Eingabe!$C$6:$C$400<=$AZ22)*(Eingabe!$D$6:$D$400>$AZ22)*(Eingabe!$B$6:$B$400=FS$3)*(Eingabe!$E$6:$E$400))","v":0},{"$f":"SUMPRODUCT((Eingabe!$C$6:$C$400<$AZ22)*(Eingabe!$D$6:$D$400>=$AZ22)*(Eingabe!$B$6:$B$400=FS$3)*(Eingabe!$E$6:$E$400))","v":0},{"$f":"SUMPRODUCT((Eingabe!$C$6:$C$400<=$AZ22)*(Eingabe!$D$6:$D$400>$AZ22)*(Eingabe!$B$6:$B$400=FU$3)*(Eingabe!$E$6:$E$400))","v":0},{"$f":"SUMPRODUCT((Eingabe!$C$6:$C$400<$AZ22)*(Eingabe!$D$6:$D$400>=$AZ22)*(Eingabe!$B$6:$B$400=FU$3)*(Eingabe!$E$6:$E$400))","v":0},{"$f":"SUMPRODUCT((Eingabe!$C$6:$C$400<=$AZ22)*(Eingabe!$D$6:$D$400>$AZ22)*(Eingabe!$B$6:$B$400=FW$3)*(Eingabe!$E$6:$E$400))","v":0},{"$f":"SUMPRODUCT((Eingabe!$C$6:$C$400<$AZ22)*(Eingabe!$D$6:$D$400>=$AZ22)*(Eingabe!$B$6:$B$400=FW$3)*(Eingabe!$E$6:$E$400))","v":0},"2026-07-19","2026-07-19",{"$f":"SUMPRODUCT((Eingabe!$C$6:$C$400<=$BJ22)*(Eingabe!$D$6:$D$400>$BJ22)*(Eingabe!$B$6:$B$400=GA$3)*(Eingabe!$E$6:$E$400))","v":6},{"$f":"SUMPRODUCT((Eingabe!$C$6:$C$400<$BJ22)*(Eingabe!$D$6:$D$400>=$BJ22)*(Eingabe!$B$6:$B$400=GA$3)*(Eingabe!$E$6:$E$400))","v":6},{"$f":"SUMPRODUCT((Eingabe!$C$6:$C$400<=$BJ22)*(Eingabe!$D$6:$D$400>$BJ22)*(Eingabe!$B$6:$B$400=GC$3)*(Eingabe!$E$6:$E$400))","v":0},{"$f":"SUMPRODUCT((Eingabe!$C$6:$C$400<$BJ22)*(Eingabe!$D$6:$D$400>=$BJ22)*(Eingabe!$B$6:$B$400=GC$3)*(Eingabe!$E$6:$E$400))","v":0},{"$f":"SUMPRODUCT((Eingabe!$C$6:$C$400<=$BJ22)*(Eingabe!$D$6:$D$400>$BJ22)*(Eingabe!$B$6:$B$400=GE$3)*(Eingabe!$E$6:$E$400))","v":0},{"$f":"SUMPRODUCT((Eingabe!$C$6:$C$400<$BJ22)*(Eingabe!$D$6:$D$400>=$BJ22)*(Eingabe!$B$6:$B$400=GE$3)*(Eingabe!$E$6:$E$400))","v":0},{"$f":"SUMPRODUCT((Eingabe!$C$6:$C$400<=$BJ22)*(Eingabe!$D$6:$D$400>$BJ22)*(Eingabe!$B$6:$B$400=GG$3)*(Eingabe!$E$6:$E$400))","v":0},{"$f":"SUMPRODUCT((Eingabe!$C$6:$C$400<$BJ22)*(Eingabe!$D$6:$D$400>=$BJ22)*(Eingabe!$B$6:$B$400=GG$3)*(Eingabe!$E$6:$E$400))","v":0},"2026-08-19","2026-08-19",{"$f":"SUMPRODUCT((Eingabe!$C$6:$C$400<=$BT22)*(Eingabe!$D$6:$D$400>$BT22)*(Eingabe!$B$6:$B$400=GK$3)*(Eingabe!$E$6:$E$400))","v":0},{"$f":"SUMPRODUCT((Eingabe!$C$6:$C$400<$BT22)*(Eingabe!$D$6:$D$400>=$BT22)*(Eingabe!$B$6:$B$400=GK$3)*(Eingabe!$E$6:$E$400))","v":0},{"$f":"SUMPRODUCT((Eingabe!$C$6:$C$400<=$BT22)*(Eingabe!$D$6:$D$400>$BT22)*(Eingabe!$B$6:$B$400=GM$3)*(Eingabe!$E$6:$E$400))","v":0},{"$f":"SUMPRODUCT((Eingabe!$C$6:$C$400<$BT22)*(Eingabe!$D$6:$D$400>=$BT22)*(Eingabe!$B$6:$B$400=GM$3)*(Eingabe!$E$6:$E$400))","v":0},{"$f":"SUMPRODUCT((Eingabe!$C$6:$C$400<=$BT22)*(Eingabe!$D$6:$D$400>$BT22)*(Eingabe!$B$6:$B$400=GO$3)*(Eingabe!$E$6:$E$400))","v":0},{"$f":"SUMPRODUCT((Eingabe!$C$6:$C$400<$BT22)*(Eingabe!$D$6:$D$400>=$BT22)*(Eingabe!$B$6:$B$400=GO$3)*(Eingabe!$E$6:$E$400))","v":0},{"$f":"SUMPRODUCT((Eingabe!$C$6:$C$400<=$BT22)*(Eingabe!$D$6:$D$400>$BT22)*(Eingabe!$B$6:$B$400=GQ$3)*(Eingabe!$E$6:$E$400))","v":0},{"$f":"SUMPRODUCT((Eingabe!$C$6:$C$400<$BT22)*(Eingabe!$D$6:$D$400>=$BT22)*(Eingabe!$B$6:$B$400=GQ$3)*(Eingabe!$E$6:$E$400))","v":0},"2026-09-19","2026-09-19",{"$f":"SUMPRODUCT((Eingabe!$C$6:$C$400<=$CD22)*(Eingabe!$D$6:$D$400>$CD22)*(Eingabe!$B$6:$B$400=GU$3)*(Eingabe!$E$6:$E$400))","v":0},{"$f":"SUMPRODUCT((Eingabe!$C$6:$C$400<$CD22)*(Eingabe!$D$6:$D$400>=$CD22)*(Eingabe!$B$6:$B$400=GU$3)*(Eingabe!$E$6:$E$400))","v":0},{"$f":"SUMPRODUCT((Eingabe!$C$6:$C$400<=$CD22)*(Eingabe!$D$6:$D$400>$CD22)*(Eingabe!$B$6:$B$400=GW$3)*(Eingabe!$E$6:$E$400))","v":0},{"$f":"SUMPRODUCT((Eingabe!$C$6:$C$400<$CD22)*(Eingabe!$D$6:$D$400>=$CD22)*(Eingabe!$B$6:$B$400=GW$3)*(Eingabe!$E$6:$E$400))","v":0},{"$f":"SUMPRODUCT((Eingabe!$C$6:$C$400<=$CD22)*(Eingabe!$D$6:$D$400>$CD22)*(Eingabe!$B$6:$B$400=GY$3)*(Eingabe!$E$6:$E$400))","v":0},{"$f":"SUMPRODUCT((Eingabe!$C$6:$C$400<$CD22)*(Eingabe!$D$6:$D$400>=$CD22)*(Eingabe!$B$6:$B$400=GY$3)*(Eingabe!$E$6:$E$400))","v":0},{"$f":"SUMPRODUCT((Eingabe!$C$6:$C$400<=$CD22)*(Eingabe!$D$6:$D$400>$CD22)*(Eingabe!$B$6:$B$400=HA$3)*(Eingabe!$E$6:$E$400))","v":0},{"$f":"SUMPRODUCT((Eingabe!$C$6:$C$400<$CD22)*(Eingabe!$D$6:$D$400>=$CD22)*(Eingabe!$B$6:$B$400=HA$3)*(Eingabe!$E$6:$E$400))","v":0},"2026-10-19","2026-10-19",{"$f":"SUMPRODUCT((Eingabe!$C$6:$C$400<=$CN22)*(Eingabe!$D$6:$D$400>$CN22)*(Eingabe!$B$6:$B$400=HE$3)*(Eingabe!$E$6:$E$400))","v":7},{"$f":"SUMPRODUCT((Eingabe!$C$6:$C$400<$CN22)*(Eingabe!$D$6:$D$400>=$CN22)*(Eingabe!$B$6:$B$400=HE$3)*(Eingabe!$E$6:$E$400))","v":7},{"$f":"SUMPRODUCT((Eingabe!$C$6:$C$400<=$CN22)*(Eingabe!$D$6:$D$400>$CN22)*(Eingabe!$B$6:$B$400=HG$3)*(Eingabe!$E$6:$E$400))","v":0},{"$f":"SUMPRODUCT((Eingabe!$C$6:$C$400<$CN22)*(Eingabe!$D$6:$D$400>=$CN22)*(Eingabe!$B$6:$B$400=HG$3)*(Eingabe!$E$6:$E$400))","v":0},{"$f":"SUMPRODUCT((Eingabe!$C$6:$C$400<=$CN22)*(Eingabe!$D$6:$D$400>$CN22)*(Eingabe!$B$6:$B$400=HI$3)*(Eingabe!$E$6:$E$400))","v":0},{"$f":"SUMPRODUCT((Eingabe!$C$6:$C$400<$CN22)*(Eingabe!$D$6:$D$400>=$CN22)*(Eingabe!$B$6:$B$400=HI$3)*(Eingabe!$E$6:$E$400))","v":0},{"$f":"SUMPRODUCT((Eingabe!$C$6:$C$400<=$CN22)*(Eingabe!$D$6:$D$400>$CN22)*(Eingabe!$B$6:$B$400=HK$3)*(Eingabe!$E$6:$E$400))","v":0},{"$f":"SUMPRODUCT((Eingabe!$C$6:$C$400<$CN22)*(Eingabe!$D$6:$D$400>=$CN22)*(Eingabe!$B$6:$B$400=HK$3)*(Eingabe!$E$6:$E$400))","v":0},"2026-11-19","2026-11-19",{"$f":"SUMPRODUCT((Eingabe!$C$6:$C$400<=$CX22)*(Eingabe!$D$6:$D$400>$CX22)*(Eingabe!$B$6:$B$400=HO$3)*(Eingabe!$E$6:$E$400))","v":7},{"$f":"SUMPRODUCT((Eingabe!$C$6:$C$400<$CX22)*(Eingabe!$D$6:$D$400>=$CX22)*(Eingabe!$B$6:$B$400=HO$3)*(Eingabe!$E$6:$E$400))","v":7},{"$f":"SUMPRODUCT((Eingabe!$C$6:$C$400<=$CX22)*(Eingabe!$D$6:$D$400>$CX22)*(Eingabe!$B$6:$B$400=HQ$3)*(Eingabe!$E$6:$E$400))","v":0},{"$f":"SUMPRODUCT((Eingabe!$C$6:$C$400<$CX22)*(Eingabe!$D$6:$D$400>=$CX22)*(Eingabe!$B$6:$B$400=HQ$3)*(Eingabe!$E$6:$E$400))","v":0},{"$f":"SUMPRODUCT((Eingabe!$C$6:$C$400<=$CX22)*(Eingabe!$D$6:$D$400>$CX22)*(Eingabe!$B$6:$B$400=HS$3)*(Eingabe!$E$6:$E$400))","v":0},{"$f":"SUMPRODUCT((Eingabe!$C$6:$C$400<$CX22)*(Eingabe!$D$6:$D$400>=$CX22)*(Eingabe!$B$6:$B$400=HS$3)*(Eingabe!$E$6:$E$400))","v":0},{"$f":"SUMPRODUCT((Eingabe!$C$6:$C$400<=$CX22)*(Eingabe!$D$6:$D$400>$CX22)*(Eingabe!$B$6:$B$400=HU$3)*(Eingabe!$E$6:$E$400))","v":0},{"$f":"SUMPRODUCT((Eingabe!$C$6:$C$400<$CX22)*(Eingabe!$D$6:$D$400>=$CX22)*(Eingabe!$B$6:$B$400=HU$3)*(Eingabe!$E$6:$E$400))","v":0},"2026-12-19","2026-12-19",{"$f":"SUMPRODUCT((Eingabe!$C$6:$C$400<=$DH22)*(Eingabe!$D$6:$D$400>$DH22)*(Eingabe!$B$6:$B$400=HY$3)*(Eingabe!$E$6:$E$400))","v":7},{"$f":"SUMPRODUCT((Eingabe!$C$6:$C$400<$DH22)*(Eingabe!$D$6:$D$400>=$DH22)*(Eingabe!$B$6:$B$400=HY$3)*(Eingabe!$E$6:$E$400))","v":7},{"$f":"SUMPRODUCT((Eingabe!$C$6:$C$400<=$DH22)*(Eingabe!$D$6:$D$400>$DH22)*(Eingabe!$B$6:$B$400=IA$3)*(Eingabe!$E$6:$E$400))","v":0},{"$f":"SUMPRODUCT((Eingabe!$C$6:$C$400<$DH22)*(Eingabe!$D$6:$D$400>=$DH22)*(Eingabe!$B$6:$B$400=IA$3)*(Eingabe!$E$6:$E$400))","v":0},{"$f":"SUMPRODUCT((Eingabe!$C$6:$C$400<=$DH22)*(Eingabe!$D$6:$D$400>$DH22)*(Eingabe!$B$6:$B$400=IC$3)*(Eingabe!$E$6:$E$400))","v":0},{"$f":"SUMPRODUCT((Eingabe!$C$6:$C$400<$DH22)*(Eingabe!$D$6:$D$400>=$DH22)*(Eingabe!$B$6:$B$400=IC$3)*(Eingabe!$E$6:$E$400))","v":0},{"$f":"SUMPRODUCT((Eingabe!$C$6:$C$400<=$DH22)*(Eingabe!$D$6:$D$400>$DH22)*(Eingabe!$B$6:$B$400=IE$3)*(Eingabe!$E$6:$E$400))","v":0},{"$f":"SUMPRODUCT((Eingabe!$C$6:$C$400<$DH22)*(Eingabe!$D$6:$D$400>=$DH22)*(Eingabe!$B$6:$B$400=IE$3)*(Eingabe!$E$6:$E$400))","v":0}]
["2025-01-20","2025-01-20",{"$f":"SUMPRODUCT((Eingabe!$C$6:$C$400<=$B23)*(Eingabe!$D$6:$D$400>$B23)*(Eingabe!$B$6:$B$400=C$3)*(Eingabe!$E$6:$E$400))","v":6},{"$f":"SUMPRODUCT((Eingabe!$C$6:$C$400<$B23)*(Eingabe!$D$6:$D$400>=$B23)*(Eingabe!$B$6:$B$400=C$3)*(Eingabe!$E$6:$E$400))","v":6},{"$f":"SUMPRODUCT((Eingabe!$C$6:$C$400<=$B23)*(Eingabe!$D$6:$D$400>$B23)*(Eingabe!$B$6:$B$400=E$3)*(Eingabe!$E$6:$E$400))","v":6},{"$f":"SUMPRODUCT((Eingabe!$C$6:$C$400<$B23)*(Eingabe!$D$6:$D$400>=$B23)*(Eingabe!$B$6:$B$400=E$3)*(Eingabe!$E$6:$E$400))","v":6},{"$f":"SUMPRODUCT((Eingabe!$C$6:$C$400<=$B23)*(Eingabe!$D$6:$D$400>$B23)*(Eingabe!$B$6:$B$400=G$3)*(Eingabe!$E$6:$E$400))","v":6},{"$f":"SUMPRODUCT((Eingabe!$C$6:$C$400<$B23)*(Eingabe!$D$6:$D$400>=$B23)*(Eingabe!$B$6:$B$400=G$3)*(Eingabe!$E$6:$E$400))","v":6},{"$f":"SUMPRODUCT((Eingabe!$C$6:$C$400<=$B23)*(Eingabe!$D$6:$D$400>$B23)*(Eingabe!$B$6:$B$400=I$3)*(Eingabe!$E$6:$E$400))","v":7},{"$f":"SUMPRODUCT((Eingabe!$C$6:$C$400<$B23)*(Eingabe!$D$6:$D$400>=$B23)*(Eingabe!$B$6:$B$400=I$3)*(Eingabe!$E$6:$E$400))","v":7},"2025-02-20","2025-02-20",{"$f":"SUMPRODUCT((Eingabe!$C$6:$C$400<=$L23)*(Eingabe!$D$6:$D$400>$L23)*(Eingabe!$B$6:$B$400=M$3)*(Eingabe!$E$6:$E$400))","v":0},{"$f":"SUMPRODUCT((Eingabe!$C$6:$C$400<$L23)*(Eingabe!$D$6:$D$400>=$L23)*(Eingabe!$B$6:$B$400=M$3)*(Eingabe!$E$6:$E$400))","v":0},{"$f":"SUMPRODUCT((Eingabe!$C$6:$C$400<=$L23)*(Eingabe!$D$6:$D$400>$L23)*(Eingabe!$B$6:$B$400=O$3)*(Eingabe!$E$6:$E$400))","v":0},{"$f":"SUMPRODUCT((Eingabe!$C$6:$C$400<$L23)*(Eingabe!$D$6:$D$400>=$L23)*(Eingabe!$B$6:$B$400=O$3)*(Eingabe!$E$6:$E$400))","v":0},{"$f":"SUMPRODUCT((Eingabe!$C$6:$C$400<=$L23)*(Eingabe!$D$6:$D$400>$L23)*(Eingabe!$B$6:$B$400=Q$3)*(Eingabe!$E$6:$E$400))","v":0},{"$f":"SUMPRODUCT((Eingabe!$C$6:$C$400<$L23)*(Eingabe!$D$6:$D$400>=$L23)*(Eingabe!$B$6:$B$400=Q$3)*(Eingabe!$E$6:$E$400))","v":0},{"$f":"SUMPRODUCT((Eingabe!$C$6:$C$400<=$L23)*(Eingabe!$D$6:$D$400>$L23)*(Eingabe!$B$6:$B$400=S$3)*(Eingabe!$E$6:$E$400))","v":0},{"$f":"SUMPRODUCT((Eingabe!$C$6:$C$400<$L23)*(Eingabe!$D$6:$D$400>=$L23)*(Eingabe!$B$6:$B$400=S$3)*(Eingabe!$E$6:$E$400))","v":0},"2025-03-20","2025-03-20",{"$f":"SUMPRODUCT((Eingabe!$C$6:$C$400<=$V23)*(Eingabe!$D$6:$D$400>$V23)*(Eingabe!$B$6:$B$400=W$3)*(Eingabe!$E$6:$E$400))","v":0},{"$f":"SUMPRODUCT((Eingabe!$C$6:$C$400<$V23)*(Eingabe!$D$6:$D$400>=$V23)*(Eingabe!$B$6:$B$400=W$3)*(Eingabe!$E$6:$E$400))","v":0},{"$f":"SUMPRODUCT((Eingabe!$C$6:$C$400<=$V23)*(Eingabe!$D$6:$D$400>$V23)*(Eingabe!$B$6:$B$400=Y$3)*(Eingabe!$E$6:$E$400))","v":0},{"$f":"SUMPRODUCT((Eingabe!$C$6:$C$400<$V23)*(Eingabe!$D$6:$D$400>=$V23)*(Eingabe!$B$6:$B$400=Y$3)*(Eingabe!$E$6:$E$400))","v":0},{"$f":"SUMPRODUCT((Eingabe!$C$6:$C$400<=$V23)*(Eingabe!$D$6:$D$400>$V23)*(Eingabe!$B$6:$B$400=AA$3)*(Eingabe!$E$6:$E$400))","v":0},{"$f":"SUMPRODUCT((Eingabe!$C$6:$C$400<$V23)*(Eingabe!$D$6:$D$400>=$V23)*(Eingabe!$B$6:$B$400=AA$3)*(Eingabe!$E$6:$E$400))","v":0},{"$f":"SUMPRODUCT((Eingabe!$C$6:$C$400<=$V23)*(Eingabe!$D$6:$D$400>$V23)*(Eingabe!$B$6:$B$400=AC$3)*(Eingabe!$E$6:$E$400))","v":0},{"$f":"SUMPRODUCT((Eingabe!$C$6:$C$400<$V23)*(Eingabe!$D$6:$D$400>=$V23)*(Eingabe!$B$6:$B$400=AC$3)*(Eingabe!$E$6:$E$400))","v":0},"2025-04-20","2025-04-20",{"$f":"SUMPRODUCT((Eingabe!$C$6:$C$400<=$AF23)*(Eingabe!$D$6:$D$400>$AF23)*(Eingabe!$B$6:$B$400=AG$3)*(Eingabe!$E$6:$E$400))","v":0},{"$f":"SUMPRODUCT((Eingabe!$C$6:$C$400<$AF23)*(Eingabe!$D$6:$D$400>=$AF23)*(Eingabe!$B$6:$B$400=AG$3)*(Eingabe!$E$6:$E$400))","v":0},{"$f":"SUMPRODUCT((Eingabe!$C$6:$C$400<=$AF23)*(Eingabe!$D$6:$D$400>$AF23)*(Eingabe!$B$6:$B$400=AI$3)*(Eingabe!$E$6:$E$400))","v":8},{"$f":"SUMPRODUCT((Eingabe!$C$6:$C$400<$AF23)*(Eingabe!$D$6:$D$400>=$AF23)*(Eingabe!$B$6:$B$400=AI$3)*(Eingabe!$E$6:$E$400))","v":8},{"$f":"SUMPRODUCT((Eingabe!$C$6:$C$400<=$AF23)*(Eingabe!$D$6:$D$400>$AF23)*(Eingabe!$B$6:$B$400=AK$3)*(Eingabe!$E$6:$E$400))","v":0},{"$f":"SUMPRODUCT((Eingabe!$C$6:$C$400<$AF23)*(Eingabe!$D$6:$D$400>=$AF23)*(Eingabe!$B$6:$B$400=AK$3)*(Eingabe!$E$6:$E$400))","v":0},{"$f":"SUMPRODUCT((Eingabe!$C$6:$C$400<=$AF23)*(Eingabe!$D$6:$D$400>$AF23)*(Eingabe!$B$6:$B$400=AM$3)*(Eingabe!$E$6:$E$400))","v":0},{"$f":"SUMPRODUCT((Eingabe!$C$6:$C$400<$AF23)*(Eingabe!$D$6:$D$400>=$AF23)*(Eingabe!$B$6:$B$400=AM$3)*(Eingabe!$E$6:$E$400))","v":0},"2025-05-20","2025-05-20",{"$f":"SUMPRODUCT((Eingabe!$C$6:$C$400<=$AP23)*(Eingabe!$D$6:$D$400>$AP23)*(Eingabe!$B$6:$B$400=AQ$3)*(Eingabe!$E$6:$E$400))","v":0},{"$f":"SUMPRODUCT((Eingabe!$C$6:$C$400<$AP23)*(Eingabe!$D$6:$D$400>=$AP23)*(Eingabe!$B$6:$B$400=AQ$3)*(Eingabe!$E$6:$E$400))","v":0},{"$f":"SUMPRODUCT((Eingabe!$C$6:$C$400<=$AP23)*(Eingabe!$D$6:$D$400>$AP23)*(Eingabe!$B$6:$B$400=AS$3)*(Eingabe!$E$6:$E$400))","v":0},{"$f":"SUMPRODUCT((Eingabe!$C$6:$C$400<$AP23)*(Eingabe!$D$6:$D$400>=$AP23)*(Eingabe!$B$6:$B$400=AS$3)*(Eingabe!$E$6:$E$400))","v":0},{"$f":"SUMPRODUCT((Eingabe!$C$6:$C$400<=$AP23)*(Eingabe!$D$6:$D$400>$AP23)*(Eingabe!$B$6:$B$400=AU$3)*(Eingabe!$E$6:$E$400))","v":0},{"$f":"SUMPRODUCT((Eingabe!$C$6:$C$400<$AP23)*(Eingabe!$D$6:$D$400>=$AP23)*(Eingabe!$B$6:$B$400=AU$3)*(Eingabe!$E$6:$E$400))","v":0},{"$f":"SUMPRODUCT((Eingabe!$C$6:$C$400<=$AP23)*(Eingabe!$D$6:$D$400>$AP23)*(Eingabe!$B$6:$B$400=AW$3)*(Eingabe!$E$6:$E$400))","v":0},{"$f":"SUMPRODUCT((Eingabe!$C$6:$C$400<$AP23)*(Eingabe!$D$6:$D$400>=$AP23)*(Eingabe!$B$6:$B$400=AW$3)*(Eingabe!$E$6:$E$400))","v":0},"2025-06-20","2025-06-20",{"$f":"SUMPRODUCT((Eingabe!$C$6:$C$400<=$AZ23)*(Eingabe!$D$6:$D$400>$AZ23)*(Eingabe!$B$6:$B$400=BA$3)*(Eingabe!$E$6:$E$400))","v":0},{"$f":"SUMPRODUCT((Eingabe!$C$6:$C$400<$AZ23)*(Eingabe!$D$6:$D$400>=$AZ23)*(Eingabe!$B$6:$B$400=BA$3)*(Eingabe!$E$6:$E$400))","v":0},{"$f":"SUMPRODUCT((Eingabe!$C$6:$C$400<=$AZ23)*(Eingabe!$D$6:$D$400>$AZ23)*(Eingabe!$B$6:$B$400=BC$3)*(Eingabe!$E$6:$E$400))","v":0},{"$f":"SUMPRODUCT((Eingabe!$C$6:$C$400<$AZ23)*(Eingabe!$D$6:$D$400>=$AZ23)*(Eingabe!$B$6:$B$400=BC$3)*(Eingabe!$E$6:$E$400))","v":0},{"$f":"SUMPRODUCT((Eingabe!$C$6:$C$400<=$AZ23)*(Eingabe!$D$6:$D$400>$AZ23)*(Eingabe!$B$6:$B$400=BE$3)*(Eingabe!$E$6:$E$400))","v":0},{"$f":"SUMPRODUCT((Eingabe!$C$6:$C$400<$AZ23)*(Eingabe!$D$6:$D$400>=$AZ23)*(Eingabe!$B$6:$B$400=BE$3)*(Eingabe!$E$6:$E$400))","v":0},{"$f":"SUMPRODUCT((Eingabe!$C$6:$C$400<=$AZ23)*(Eingabe!$D$6:$D$400>$AZ23)*(Eingabe!$B$6:$B$400=BG$3)*(Eingabe!$E$6:$E$400))","v":0},{"$f":"SUMPRODUCT((Eingabe!$C$6:$C$400<$AZ23)*(Eingabe!$D$6:$D$400>=$AZ23)*(Eingabe!$B$6:$B$400=BG$3)*(Eingabe!$E$6:$E$400))","v":0},"2025-07-20","2025-07-20",{"$f":"SUMPRODUCT((Eingabe!$C$6:$C$400<=$BJ23)*(Eingabe!$D$6:$D$400>$BJ23)*(Eingabe!$B$6:$B$400=BK$3)*(Eingabe!$E$6:$E$400))","v":0},{"$f":"SUMPRODUCT((Eingabe!$C$6:$C$400<$BJ23)*(Eingabe!$D$6:$D$400>=$BJ23)*(Eingabe!$B$6:$B$400=BK$3)*(Eingabe!$E$6:$E$400))","v":6},{"$f":"SUMPRODUCT((Eingabe!$C$6:$C$400<=$BJ23)*(Eingabe!$D$6:$D$400>$BJ23)*(Eingabe!$B$6:$B$400=BM$3)*(Eingabe!$E$6:$E$400))","v":0},{"$f":"SUMPRODUCT((Eingabe!$C$6:$C$400<$BJ23)*(Eingabe!$D$6:$D$400>=$BJ23)*(Eingabe!$B$6:$B$400=BM$3)*(Eingabe!$E$6:$E$400))","v":0},{"$f":"SUMPRODUCT((Eingabe!$C$6:$C$400<=$BJ23)*(Eingabe!$D$6:$D$400>$BJ23)*(Eingabe!$B$6:$B$400=BO$3)*(Eingabe!$E$6:$E$400))","v":0},{"$f":"SUMPRODUCT((Eingabe!$C$6:$C$400<$BJ23)*(Eingabe!$D$6:$D$400>=$BJ23)*(Eingabe!$B$6:$B$400=BO$3)*(Eingabe!$E$6:$E$400))","v":0},{"$f":"SUMPRODUCT((Eingabe!$C$6:$C$400<=$BJ23)*(Eingabe!$D$6:$D$400>$BJ23)*(Eingabe!$B$6:$B$400=BQ$3)*(Eingabe!$E$6:$E$400))","v":0},{"$f":"SUMPRODUCT((Eingabe!$C$6:$C$400<$BJ23)*(Eingabe!$D$6:$D$400>=$BJ23)*(Eingabe!$B$6:$B$400=BQ$3)*(Eingabe!$E$6:$E$400))","v":0},"2025-08-20","2025-08-20",{"$f":"SUMPRODUCT((Eingabe!$C$6:$C$400<=$BT23)*(Eingabe!$D$6:$D$400>$BT23)*(Eingabe!$B$6:$B$400=BU$3)*(Eingabe!$E$6:$E$400))","v":0},{"$f":"SUMPRODUCT((Eingabe!$C$6:$C$400<$BT23)*(Eingabe!$D$6:$D$400>=$BT23)*(Eingabe!$B$6:$B$400=BU$3)*(Eingabe!$E$6:$E$400))","v":0},{"$f":"SUMPRODUCT((Eingabe!$C$6:$C$400<=$BT23)*(Eingabe!$D$6:$D$400>$BT23)*(Eingabe!$B$6:$B$400=BW$3)*(Eingabe!$E$6:$E$400))","v":0},{"$f":"SUMPRODUCT((Eingabe!$C$6:$C$400<$BT23)*(Eingabe!$D$6:$D$400>=$BT23)*(Eingabe!$B$6:$B$400=BW$3)*(Eingabe!$E$6:$E$400))","v":0},{"$f":"SUMPRODUCT((Eingabe!$C$6:$C$400<=$BT23)*(Eingabe!$D$6:$D$400>$BT23)*(Eingabe!$B$6:$B$400=BY$3)*(Eingabe!$E$6:$E$400))","v":0},{"$f":"SUMPRODUCT((Eingabe!$C$6:$C$400<$BT23)*(Eingabe!$D$6:$D$400>=$BT23)*(Eingabe!$B$6:$B$400=BY$3)*(Eingabe!$E$6:$E$400))","v":0},{"$f":"SUMPRODUCT((Eingabe!$C$6:$C$400<=$BT23)*(Eingabe!$D$6:$D$400>$BT23)*(Eingabe!$B$6:$B$400=CA$3)*(Eingabe!$E$6:$E$400))","v":0},{"$f":"SUMPRODUCT((Eingabe!$C$6:$C$400<$BT23)*(Eingabe!$D$6:$D$400>=$BT23)*(Eingabe!$B$6:$B$400=CA$3)*(Eingabe!$E$6:$E$400))","v":0},"2025-09-20","2025-09-20",{"$f":"SUMPRODUCT((Eingabe!$C$6:$C$400<=$CD23)*(Eingabe!$D$6:$D$400>$CD23)*(Eingabe!$B$6:$B$400=CE$3)*(Eingabe!$E$6:$E$400))","v":0},{"$f":"SUMPRODUCT((Eingabe!$C$6:$C$400<$CD23)*(Eingabe!$D$6:$D$400>=$CD23)*(Eingabe!$B$6:$B$400=CE$3)*(Eingabe!$E$6:$E$400))","v":0},{"$f":"SUMPRODUCT((Eingabe!$C$6:$C$400<=$CD23)*(Eingabe!$D$6:$D$400>$CD23)*(Eingabe!$B$6:$B$400=CG$3)*(Eingabe!$E$6:$E$400))","v":0},{"$f":"SUMPRODUCT((Eingabe!$C$6:$C$400<$CD23)*(Eingabe!$D$6:$D$400>=$CD23)*(Eingabe!$B$6:$B$400=CG$3)*(Eingabe!$E$6:$E$400))","v":0},{"$f":"SUMPRODUCT((Eingabe!$C$6:$C$400<=$CD23)*(Eingabe!$D$6:$D$400>$CD23)*(Eingabe!$B$6:$B$400=CI$3)*(Eingabe!$E$6:$E$400))","v":0},{"$f":"SUMPRODUCT((Eingabe!$C$6:$C$400<$CD23)*(Eingabe!$D$6:$D$400>=$CD23)*(Eingabe!$B$6:$B$400=CI$3)*(Eingabe!$E$6:$E$400))","v":0},{"$f":"SUMPRODUCT((Eingabe!$C$6:$C$400<=$CD23)*(Eingabe!$D$6:$D$400>$CD23)*(Eingabe!$B$6:$B$400=CK$3)*(Eingabe!$E$6:$E$400))","v":0},{"$f":"SUMPRODUCT((Eingabe!$C$6:$C$400<$CD23)*(Eingabe!$D$6:$D$400>=$CD23)*(Eingabe!$B$6:$B$400=CK$3)*(Eingabe!$E$6:$E$400))","v":0},"2025-10-20","2025-10-20",{"$f":"SUMPRODUCT((Eingabe!$C$6:$C$400<=$CN23)*(Eingabe!$D$6:$D$400>$CN23)*(Eingabe!$B$6:$B$400=CO$3)*(Eingabe!$E$6:$E$400))","v":7},{"$f":"SUMPRODUCT((Eingabe!$C$6:$C$400<$CN23)*(Eingabe!$D$6:$D$400>=$CN23)*(Eingabe!$B$6:$B$400=CO$3)*(Eingabe!$E$6:$E$400))","v":7},{"$f":"SUMPRODUCT((Eingabe!$C$6:$C$400<=$CN23)*(Eingabe!$D$6:$D$400>$CN23)*(Eingabe!$B$6:$B$400=CQ$3)*(Eingabe!$E$6:$E$400))","v":0},{"$f":"SUMPRODUCT((Eingabe!$C$6:$C$400<$CN23)*(Eingabe!$D$6:$D$400>=$CN23)*(Eingabe!$B$6:$B$400=CQ$3)*(Eingabe!$E$6:$E$400))","v":0},{"$f":"SUMPRODUCT((Eingabe!$C$6:$C$400<=$CN23)*(Eingabe!$D$6:$D$400>$CN23)*(Eingabe!$B$6:$B$400=CS$3)*(Eingabe!$E$6:$E$400))","v":0},{"$f":"SUMPRODUCT((Eingabe!$C$6:$C$400<$CN23)*(Eingabe!$D$6:$D$400>=$CN23)*(Eingabe!$B$6:$B$400=CS$3)*(Eingabe!$E$6:$E$400))","v":0},{"$f":"SUMPRODUCT((Eingabe!$C$6:$C$400<=$CN23)*(Eingabe!$D$6:$D$400>$CN23)*(Eingabe!$B$6:$B$400=CU$3)*(Eingabe!$E$6:$E$400))","v":0},{"$f":"SUMPRODUCT((Eingabe!$C$6:$C$400<$CN23)*(Eingabe!$D$6:$D$400>=$CN23)*(Eingabe!$B$6:$B$400=CU$3)*(Eingabe!$E$6:$E$400))","v":0},"2025-11-20","2025-11-20",{"$f":"SUMPRODUCT((Eingabe!$C$6:$C$400<=$CX23)*(Eingabe!$D$6:$D$400>$CX23)*(Eingabe!$B$6:$B$400=CY$3)*(Eingabe!$E$6:$E$400))","v":7},{"$f":"SUMPRODUCT((Eingabe!$C$6:$C$400<$CX23)*(Eingabe!$D$6:$D$400>=$CX23)*(Eingabe!$B$6:$B$400=CY$3)*(Eingabe!$E$6:$E$400))","v":7},{"$f":"SUMPRODUCT((Eingabe!$C$6:$C$400<=$CX23)*(Eingabe!$D$6:$D$400>$CX23)*(Eingabe!$B$6:$B$400=DA$3)*(Eingabe!$E$6:$E$400))","v":0},{"$f":"SUMPRODUCT((Eingabe!$C$6:$C$400<$CX23)*(Eingabe!$D$6:$D$400>=$CX23)*(Eingabe!$B$6:$B$400=DA$3)*(Eingabe!$E$6:$E$400))","v":0},{"$f":"SUMPRODUCT((Eingabe!$C$6:$C$400<=$CX23)*(Eingabe!$D$6:$D$400>$CX23)*(Eingabe!$B$6:$B$400=DC$3)*(Eingabe!$E$6:$E$400))","v":0},{"$f":"SUMPRODUCT((Eingabe!$C$6:$C$400<$CX23)*(Eingabe!$D$6:$D$400>=$CX23)*(Eingabe!$B$6:$B$400=DC$3)*(Eingabe!$E$6:$E$400))","v":0},{"$f":"SUMPRODUCT((Eingabe!$C$6:$C$400<=$CX23)*(Eingabe!$D$6:$D$400>$CX23)*(Eingabe!$B$6:$B$400=DE$3)*(Eingabe!$E$6:$E$400))","v":0},{"$f":"SUMPRODUCT((Eingabe!$C$6:$C$400<$CX23)*(Eingabe!$D$6:$D$400>=$CX23)*(Eingabe!$B$6:$B$400=DE$3)*(Eingabe!$E$6:$E$400))","v":0},"2025-12-20","2025-12-20",{"$f":"SUMPRODUCT((Eingabe!$C$6:$C$400<=$DH23)*(Eingabe!$D$6:$D$400>$DH23)*(Eingabe!$B$6:$B$400=DI$3)*(Eingabe!$E$6:$E$400))","v":7},{"$f":"SUMPRODUCT((Eingabe!$C$6:$C$400<$DH23)*(Eingabe!$D$6:$D$400>=$DH23)*(Eingabe!$B$6:$B$400=DI$3)*(Eingabe!$E$6:$E$400))","v":7},{"$f":"SUMPRODUCT((Eingabe!$C$6:$C$400<=$DH23)*(Eingabe!$D$6:$D$400>$DH23)*(Eingabe!$B$6:$B$400=DK$3)*(Eingabe!$E$6:$E$400))","v":0},{"$f":"SUMPRODUCT((Eingabe!$C$6:$C$400<$DH23)*(Eingabe!$D$6:$D$400>=$DH23)*(Eingabe!$B$6:$B$400=DK$3)*(Eingabe!$E$6:$E$400))","v":0},{"$f":"SUMPRODUCT((Eingabe!$C$6:$C$400<=$DH23)*(Eingabe!$D$6:$D$400>$DH23)*(Eingabe!$B$6:$B$400=DM$3)*(Eingabe!$E$6:$E$400))","v":0},{"$f":"SUMPRODUCT((Eingabe!$C$6:$C$400<$DH23)*(Eingabe!$D$6:$D$400>=$DH23)*(Eingabe!$B$6:$B$400=DM$3)*(Eingabe!$E$6:$E$400))","v":0},{"$f":"SUMPRODUCT((Eingabe!$C$6:$C$400<=$DH23)*(Eingabe!$D$6:$D$400>$DH23)*(Eingabe!$B$6:$B$400=DO$3)*(Eingabe!$E$6:$E$400))","v":0},{"$f":"SUMPRODUCT((Eingabe!$C$6:$C$400<$DH23)*(Eingabe!$D$6:$D$400>=$DH23)*(Eingabe!$B$6:$B$400=DO$3)*(Eingabe!$E$6:$E$400))","v":0},"2026-01-20","2026-01-20",{"$f":"SUMPRODUCT((Eingabe!$C$6:$C$400<=$B23)*(Eingabe!$D$6:$D$400>$B23)*(Eingabe!$B$6:$B$400=DS$3)*(Eingabe!$E$6:$E$400))","v":6},{"$f":"SUMPRODUCT((Eingabe!$C$6:$C$400<$B23)*(Eingabe!$D$6:$D$400>=$B23)*(Eingabe!$B$6:$B$400=DS$3)*(Eingabe!$E$6:$E$400))","v":6},{"$f":"SUMPRODUCT((Eingabe!$C$6:$C$400<=$B23)*(Eingabe!$D$6:$D$400>$B23)*(Eingabe!$B$6:$B$400=DU$3)*(Eingabe!$E$6:$E$400))","v":6},{"$f":"SUMPRODUCT((Eingabe!$C$6:$C$400<$B23)*(Eingabe!$D$6:$D$400>=$B23)*(Eingabe!$B$6:$B$400=DU$3)*(Eingabe!$E$6:$E$400))","v":6},{"$f":"SUMPRODUCT((Eingabe!$C$6:$C$400<=$B23)*(Eingabe!$D$6:$D$400>$B23)*(Eingabe!$B$6:$B$400=DW$3)*(Eingabe!$E$6:$E$400))","v":6},{"$f":"SUMPRODUCT((Eingabe!$C$6:$C$400<$B23)*(Eingabe!$D$6:$D$400>=$B23)*(Eingabe!$B$6:$B$400=DW$3)*(Eingabe!$E$6:$E$400))","v":6},{"$f":"SUMPRODUCT((Eingabe!$C$6:$C$400<=$B23)*(Eingabe!$D$6:$D$400>$B23)*(Eingabe!$B$6:$B$400=DY$3)*(Eingabe!$E$6:$E$400))","v":7},{"$f":"SUMPRODUCT((Eingabe!$C$6:$C$400<$B23)*(Eingabe!$D$6:$D$400>=$B23)*(Eingabe!$B$6:$B$400=DY$3)*(Eingabe!$E$6:$E$400))","v":7},"2026-02-20","2026-02-20",{"$f":"SUMPRODUCT((Eingabe!$C$6:$C$400<=$L23)*(Eingabe!$D$6:$D$400>$L23)*(Eingabe!$B$6:$B$400=EC$3)*(Eingabe!$E$6:$E$400))","v":0},{"$f":"SUMPRODUCT((Eingabe!$C$6:$C$400<$L23)*(Eingabe!$D$6:$D$400>=$L23)*(Eingabe!$B$6:$B$400=EC$3)*(Eingabe!$E$6:$E$400))","v":0},{"$f":"SUMPRODUCT((Eingabe!$C$6:$C$400<=$L23)*(Eingabe!$D$6:$D$400>$L23)*(Eingabe!$B$6:$B$400=EE$3)*(Eingabe!$E$6:$E$400))","v":0},{"$f":"SUMPRODUCT((Eingabe!$C$6:$C$400<$L23)*(Eingabe!$D$6:$D$400>=$L23)*(Eingabe!$B$6:$B$400=EE$3)*(Eingabe!$E$6:$E$400))","v":0},{"$f":"SUMPRODUCT((Eingabe!$C$6:$C$400<=$L23)*(Eingabe!$D$6:$D$400>$L23)*(Eingabe!$B$6:$B$400=EG$3)*(Eingabe!$E$6:$E$400))","v":0},{"$f":"SUMPRODUCT((Eingabe!$C$6:$C$400<$L23)*(Eingabe!$D$6:$D$400>=$L23)*(Eingabe!$B$6:$B$400=EG$3)*(Eingabe!$E$6:$E$400))","v":0},{"$f":"SUMPRODUCT((Eingabe!$C$6:$C$400<=$L23)*(Eingabe!$D$6:$D$400>$L23)*(Eingabe!$B$6:$B$400=EI$3)*(Eingabe!$E$6:$E$400))","v":0},{"$f":"SUMPRODUCT((Eingabe!$C$6:$C$400<$L23)*(Eingabe!$D$6:$D$400>=$L23)*(Eingabe!$B$6:$B$400=EI$3)*(Eingabe!$E$6:$E$400))","v":0},"2026-03-20","2026-03-20",{"$f":"SUMPRODUCT((Eingabe!$C$6:$C$400<=$V23)*(Eingabe!$D$6:$D$400>$V23)*(Eingabe!$B$6:$B$400=EM$3)*(Eingabe!$E$6:$E$400))","v":0},{"$f":"SUMPRODUCT((Eingabe!$C$6:$C$400<$V23)*(Eingabe!$D$6:$D$400>=$V23)*(Eingabe!$B$6:$B$400=EM$3)*(Eingabe!$E$6:$E$400))","v":0},{"$f":"SUMPRODUCT((Eingabe!$C$6:$C$400<=$V23)*(Eingabe!$D$6:$D$400>$V23)*(Eingabe!$B$6:$B$400=EO$3)*(Eingabe!$E$6:$E$400))","v":0},{"$f":"SUMPRODUCT((Eingabe!$C$6:$C$400<$V23)*(Eingabe!$D$6:$D$400>=$V23)*(Eingabe!$B$6:$B$400=EO$3)*(Eingabe!$E$6:$E$400))","v":0},{"$f":"SUMPRODUCT((Eingabe!$C$6:$C$400<=$V23)*(Eingabe!$D$6:$D$400>$V23)*(Eingabe!$B$6:$B$400=EQ$3)*(Eingabe!$E$6:$E$400))","v":0},{"$f":"SUMPRODUCT((Eingabe!$C$6:$C$400<$V23)*(Eingabe!$D$6:$D$400>=$V23)*(Eingabe!$B$6:$B$400=EQ$3)*(Eingabe!$E$6:$E$400))","v":0},{"$f":"SUMPRODUCT((Eingabe!$C$6:$C$400<=$V23)*(Eingabe!$D$6:$D$400>$V23)*(Eingabe!$B$6:$B$400=ES$3)*(Eingabe!$E$6:$E$400))","v":0},{"$f":"SUMPRODUCT((Eingabe!$C$6:$C$400<$V23)*(Eingabe!$D$6:$D$400>=$V23)*(Eingabe!$B$6:$B$400=ES$3)*(Eingabe!$E$6:$E$400))","v":0},"2026-04-20","2026-04-20",{"$f":"SUMPRODUCT((Eingabe!$C$6:$C$400<=$AF23)*(Eingabe!$D$6:$D$400>$AF23)*(Eingabe!$B$6:$B$400=EW$3)*(Eingabe!$E$6:$E$400))","v":0},{"$f":"SUMPRODUCT((Eingabe!$C$6:$C$400<$AF23)*(Eingabe!$D$6:$D$400>=$AF23)*(Eingabe!$B$6:$B$400=EW$3)*(Eingabe!$E$6:$E$400))","v":0},{"$f":"SUMPRODUCT((Eingabe!$C$6:$C$400<=$AF23)*(Eingabe!$D$6:$D$400>$AF23)*(Eingabe!$B$6:$B$400=EY$3)*(Eingabe!$E$6:$E$400))","v":8},{"$f":"SUMPRODUCT((Eingabe!$C$6:$C$400<$AF23)*(Eingabe!$D$6:$D$400>=$AF23)*(Eingabe!$B$6:$B$400=EY$3)*(Eingabe!$E$6:$E$400))","v":8},{"$f":"SUMPRODUCT((Eingabe!$C$6:$C$400<=$AF23)*(Eingabe!$D$6:$D$400>$AF23)*(Eingabe!$B$6:$B$400=FA$3)*(Eingabe!$E$6:$E$400))","v":0},{"$f":"SUMPRODUCT((Eingabe!$C$6:$C$400<$AF23)*(Eingabe!$D$6:$D$400>=$AF23)*(Eingabe!$B$6:$B$400=FA$3)*(Eingabe!$E$6:$E$400))","v":0},{"$f":"SUMPRODUCT((Eingabe!$C$6:$C$400<=$AF23)*(Eingabe!$D$6:$D$400>$AF23)*(Eingabe!$B$6:$B$400=FC$3)*(Eingabe!$E$6:$E$400))","v":0},{"$f":"SUMPRODUCT((Eingabe!$C$6:$C$400<$AF23)*(Eingabe!$D$6:$D$400>=$AF23)*(Eingabe!$B$6:$B$400=FC$3)*(Eingabe!$E$6:$E$400))","v":0},"2026-05-20","2026-05-20",{"$f":"SUMPRODUCT((Eingabe!$C$6:$C$400<=$AP23)*(Eingabe!$D$6:$D$400>$AP23)*(Eingabe!$B$6:$B$400=FG$3)*(Eingabe!$E$6:$E$400))","v":0},{"$f":"SUMPRODUCT((Eingabe!$C$6:$C$400<$AP23)*(Eingabe!$D$6:$D$400>=$AP23)*(Eingabe!$B$6:$B$400=FG$3)*(Eingabe!$E$6:$E$400))","v":0},{"$f":"SUMPRODUCT((Eingabe!$C$6:$C$400<=$AP23)*(Eingabe!$D$6:$D$400>$AP23)*(Eingabe!$B$6:$B$400=FI$3)*(Eingabe!$E$6:$E$400))","v":0},{"$f":"SUMPRODUCT((Eingabe!$C$6:$C$400<$AP23)*(Eingabe!$D$6:$D$400>=$AP23)*(Eingabe!$B$6:$B$400=FI$3)*(Eingabe!$E$6:$E$400))","v":0},{"$f":"SUMPRODUCT((Eingabe!$C$6:$C$400<=$AP23)*(Eingabe!$D$6:$D$400>$AP23)*(Eingabe!$B$6:$B$400=FK$3)*(Eingabe!$E$6:$E$400))","v":0},{"$f":"SUMPRODUCT((Eingabe!$C$6:$C$400<$AP23)*(Eingabe!$D$6:$D$400>=$AP23)*(Eingabe!$B$6:$B$400=FK$3)*(Eingabe!$E$6:$E$400))","v":0},{"$f":"SUMPRODUCT((Eingabe!$C$6:$C$400<=$AP23)*(Eingabe!$D$6:$D$400>$AP23)*(Eingabe!$B$6:$B$400=FM$3)*(Eingabe!$E$6:$E$400))","v":0},{"$f":"SUMPRODUCT((Eingabe!$C$6:$C$400<$AP23)*(Eingabe!$D$6:$D$400>=$AP23)*(Eingabe!$B$6:$B$400=FM$3)*(Eingabe!$E$6:$E$400))","v":0},"2026-06-20","2026-06-20",{"$f":"SUMPRODUCT((Eingabe!$C$6:$C$400<=$AZ23)*(Eingabe!$D$6:$D$400>$AZ23)*(Eingabe!$B$6:$B$400=FQ$3)*(Eingabe!$E$6:$E$400))","v":0},{"$f":"SUMPRODUCT((Eingabe!$C$6:$C$400<$AZ23)*(Eingabe!$D$6:$D$400>=$AZ23)*(Eingabe!$B$6:$B$400=FQ$3)*(Eingabe!$E$6:$E$400))","v":0},{"$f":"SUMPRODUCT((Eingabe!$C$6:$C$400<=$AZ23)*(Eingabe!$D$6:$D$400>$AZ23)*(Eingabe!$B$6:$B$400=FS$3)*(Eingabe!$E$6:$E$400))","v":0},{"$f":"SUMPRODUCT((Eingabe!$C$6:$C$400<$AZ23)*(Eingabe!$D$6:$D$400>=$AZ23)*(Eingabe!$B$6:$B$400=FS$3)*(Eingabe!$E$6:$E$400))","v":0},{"$f":"SUMPRODUCT((Eingabe!$C$6:$C$400<=$AZ23)*(Eingabe!$D$6:$D$400>$AZ23)*(Eingabe!$B$6:$B$400=FU$3)*(Eingabe!$E$6:$E$400))","v":0},{"$f":"SUMPRODUCT((Eingabe!$C$6:$C$400<$AZ23)*(Eingabe!$D$6:$D$400>=$AZ23)*(Eingabe!$B$6:$B$400=FU$3)*(Eingabe!$E$6:$E$400))","v":0},{"$f":"SUMPRODUCT((Eingabe!$C$6:$C$400<=$AZ23)*(Eingabe!$D$6:$D$400>$AZ23)*(Eingabe!$B$6:$B$400=FW$3)*(Eingabe!$E$6:$E$400))","v":0},{"$f":"SUMPRODUCT((Eingabe!$C$6:$C$400<$AZ23)*(Eingabe!$D$6:$D$400>=$AZ23)*(Eingabe!$B$6:$B$400=FW$3)*(Eingabe!$E$6:$E$400))","v":0},"2026-07-20","2026-07-20",{"$f":"SUMPRODUCT((Eingabe!$C$6:$C$400<=$BJ23)*(Eingabe!$D$6:$D$400>$BJ23)*(Eingabe!$B$6:$B$400=GA$3)*(Eingabe!$E$6:$E$400))","v":0},{"$f":"SUMPRODUCT((Eingabe!$C$6:$C$400<$BJ23)*(Eingabe!$D$6:$D$400>=$BJ23)*(Eingabe!$B$6:$B$400=GA$3)*(Eingabe!$E$6:$E$400))","v":6},{"$f":"SUMPRODUCT((Eingabe!$C$6:$C$400<=$BJ23)*(Eingabe!$D$6:$D$400>$BJ23)*(Eingabe!$B$6:$B$400=GC$3)*(Eingabe!$E$6:$E$400))","v":0},{"$f":"SUMPRODUCT((Eingabe!$C$6:$C$400<$BJ23)*(Eingabe!$D$6:$D$400>=$BJ23)*(Eingabe!$B$6:$B$400=GC$3)*(Eingabe!$E$6:$E$400))","v":0},{"$f":"SUMPRODUCT((Eingabe!$C$6:$C$400<=$BJ23)*(Eingabe!$D$6:$D$400>$BJ23)*(Eingabe!$B$6:$B$400=GE$3)*(Eingabe!$E$6:$E$400))","v":0},{"$f":"SUMPRODUCT((Eingabe!$C$6:$C$400<$BJ23)*(Eingabe!$D$6:$D$400>=$BJ23)*(Eingabe!$B$6:$B$400=GE$3)*(Eingabe!$E$6:$E$400))","v":0},{"$f":"SUMPRODUCT((Eingabe!$C$6:$C$400<=$BJ23)*(Eingabe!$D$6:$D$400>$BJ23)*(Eingabe!$B$6:$B$400=GG$3)*(Eingabe!$E$6:$E$400))","v":0},{"$f":"SUMPRODUCT((Eingabe!$C$6:$C$400<$BJ23)*(Eingabe!$D$6:$D$400>=$BJ23)*(Eingabe!$B$6:$B$400=GG$3)*(Eingabe!$E$6:$E$400))","v":0},"2026-08-20","2026-08-20",{"$f":"SUMPRODUCT((Eingabe!$C$6:$C$400<=$BT23)*(Eingabe!$D$6:$D$400>$BT23)*(Eingabe!$B$6:$B$400=GK$3)*(Eingabe!$E$6:$E$400))","v":0},{"$f":"SUMPRODUCT((Eingabe!$C$6:$C$400<$BT23)*(Eingabe!$D$6:$D$400>=$BT23)*(Eingabe!$B$6:$B$400=GK$3)*(Eingabe!$E$6:$E$400))","v":0},{"$f":"SUMPRODUCT((Eingabe!$C$6:$C$400<=$BT23)*(Eingabe!$D$6:$D$400>$BT23)*(Eingabe!$B$6:$B$400=GM$3)*(Eingabe!$E$6:$E$400))","v":0},{"$f":"SUMPRODUCT((Eingabe!$C$6:$C$400<$BT23)*(Eingabe!$D$6:$D$400>=$BT23)*(Eingabe!$B$6:$B$400=GM$3)*(Eingabe!$E$6:$E$400))","v":0},{"$f":"SUMPRODUCT((Eingabe!$C$6:$C$400<=$BT23)*(Eingabe!$D$6:$D$400>$BT23)*(Eingabe!$B$6:$B$400=GO$3)*(Eingabe!$E$6:$E$400))","v":0},{"$f":"SUMPRODUCT((Eingabe!$C$6:$C$400<$BT23)*(Eingabe!$D$6:$D$400>=$BT23)*(Eingabe!$B$6:$B$400=GO$3)*(Eingabe!$E$6:$E$400))","v":0},{"$f":"SUMPRODUCT((Eingabe!$C$6:$C$400<=$BT23)*(Eingabe!$D$6:$D$400>$BT23)*(Eingabe!$B$6:$B$400=GQ$3)*(Eingabe!$E$6:$E$400))","v":0},{"$f":"SUMPRODUCT((Eingabe!$C$6:$C$400<$BT23)*(Eingabe!$D$6:$D$400>=$BT23)*(Eingabe!$B$6:$B$400=GQ$3)*(Eingabe!$E$6:$E$400))","v":0},"2026-09-20","2026-09-20",{"$f":"SUMPRODUCT((Eingabe!$C$6:$C$400<=$CD23)*(Eingabe!$D$6:$D$400>$CD23)*(Eingabe!$B$6:$B$400=GU$3)*(Eingabe!$E$6:$E$400))","v":0},{"$f":"SUMPRODUCT((Eingabe!$C$6:$C$400<$CD23)*(Eingabe!$D$6:$D$400>=$CD23)*(Eingabe!$B$6:$B$400=GU$3)*(Eingabe!$E$6:$E$400))","v":0},{"$f":"SUMPRODUCT((Eingabe!$C$6:$C$400<=$CD23)*(Eingabe!$D$6:$D$400>$CD23)*(Eingabe!$B$6:$B$400=GW$3)*(Eingabe!$E$6:$E$400))","v":0},{"$f":"SUMPRODUCT((Eingabe!$C$6:$C$400<$CD23)*(Eingabe!$D$6:$D$400>=$CD23)*(Eingabe!$B$6:$B$400=GW$3)*(Eingabe!$E$6:$E$400))","v":0},{"$f":"SUMPRODUCT((Eingabe!$C$6:$C$400<=$CD23)*(Eingabe!$D$6:$D$400>$CD23)*(Eingabe!$B$6:$B$400=GY$3)*(Eingabe!$E$6:$E$400))","v":0},{"$f":"SUMPRODUCT((Eingabe!$C$6:$C$400<$CD23)*(Eingabe!$D$6:$D$400>=$CD23)*(Eingabe!$B$6:$B$400=GY$3)*(Eingabe!$E$6:$E$400))","v":0},{"$f":"SUMPRODUCT((Eingabe!$C$6:$C$400<=$CD23)*(Eingabe!$D$6:$D$400>$CD23)*(Eingabe!$B$6:$B$400=HA$3)*(Eingabe!$E$6:$E$400))","v":0},{"$f":"SUMPRODUCT((Eingabe!$C$6:$C$400<$CD23)*(Eingabe!$D$6:$D$400>=$CD23)*(Eingabe!$B$6:$B$400=HA$3)*(Eingabe!$E$6:$E$400))","v":0},"2026-10-20","2026-10-20",{"$f":"SUMPRODUCT((Eingabe!$C$6:$C$400<=$CN23)*(Eingabe!$D$6:$D$400>$CN23)*(Eingabe!$B$6:$B$400=HE$3)*(Eingabe!$E$6:$E$400))","v":7},{"$f":"SUMPRODUCT((Eingabe!$C$6:$C$400<$CN23)*(Eingabe!$D$6:$D$400>=$CN23)*(Eingabe!$B$6:$B$400=HE$3)*(Eingabe!$E$6:$E$400))","v":7},{"$f":"SUMPRODUCT((Eingabe!$C$6:$C$400<=$CN23)*(Eingabe!$D$6:$D$400>$CN23)*(Eingabe!$B$6:$B$400=HG$3)*(Eingabe!$E$6:$E$400))","v":0},{"$f":"SUMPRODUCT((Eingabe!$C$6:$C$400<$CN23)*(Eingabe!$D$6:$D$400>=$CN23)*(Eingabe!$B$6:$B$400=HG$3)*(Eingabe!$E$6:$E$400))","v":0},{"$f":"SUMPRODUCT((Eingabe!$C$6:$C$400<=$CN23)*(Eingabe!$D$6:$D$400>$CN23)*(Eingabe!$B$6:$B$400=HI$3)*(Eingabe!$E$6:$E$400))","v":0},{"$f":"SUMPRODUCT((Eingabe!$C$6:$C$400<$CN23)*(Eingabe!$D$6:$D$400>=$CN23)*(Eingabe!$B$6:$B$400=HI$3)*(Eingabe!$E$6:$E$400))","v":0},{"$f":"SUMPRODUCT((Eingabe!$C$6:$C$400<=$CN23)*(Eingabe!$D$6:$D$400>$CN23)*(Eingabe!$B$6:$B$400=HK$3)*(Eingabe!$E$6:$E$400))","v":0},{"$f":"SUMPRODUCT((Eingabe!$C$6:$C$400<$CN23)*(Eingabe!$D$6:$D$400>=$CN23)*(Eingabe!$B$6:$B$400=HK$3)*(Eingabe!$E$6:$E$400))","v":0},"2026-11-20","2026-11-20",{"$f":"SUMPRODUCT((Eingabe!$C$6:$C$400<=$CX23)*(Eingabe!$D$6:$D$400>$CX23)*(Eingabe!$B$6:$B$400=HO$3)*(Eingabe!$E$6:$E$400))","v":7},{"$f":"SUMPRODUCT((Eingabe!$C$6:$C$400<$CX23)*(Eingabe!$D$6:$D$400>=$CX23)*(Eingabe!$B$6:$B$400=HO$3)*(Eingabe!$E$6:$E$400))","v":7},{"$f":"SUMPRODUCT((Eingabe!$C$6:$C$400<=$CX23)*(Eingabe!$D$6:$D$400>$CX23)*(Eingabe!$B$6:$B$400=HQ$3)*(Eingabe!$E$6:$E$400))","v":0},{"$f":"SUMPRODUCT((Eingabe!$C$6:$C$400<$CX23)*(Eingabe!$D$6:$D$400>=$CX23)*(Eingabe!$B$6:$B$400=HQ$3)*(Eingabe!$E$6:$E$400))","v":0},{"$f":"SUMPRODUCT((Eingabe!$C$6:$C$400<=$CX23)*(Eingabe!$D$6:$D$400>$CX23)*(Eingabe!$B$6:$B$400=HS$3)*(Eingabe!$E$6:$E$400))","v":0},{"$f":"SUMPRODUCT((Eingabe!$C$6:$C$400<$CX23)*(Eingabe!$D$6:$D$400>=$CX23)*(Eingabe!$B$6:$B$400=HS$3)*(Eingabe!$E$6:$E$400))","v":0},{"$f":"SUMPRODUCT((Eingabe!$C$6:$C$400<=$CX23)*(Eingabe!$D$6:$D$400>$CX23)*(Eingabe!$B$6:$B$400=HU$3)*(Eingabe!$E$6:$E$400))","v":0},{"$f":"SUMPRODUCT((Eingabe!$C$6:$C$400<$CX23)*(Eingabe!$D$6:$D$400>=$CX23)*(Eingabe!$B$6:$B$400=HU$3)*(Eingabe!$E$6:$E$400))","v":0},"2026-12-20","2026-12-20",{"$f":"SUMPRODUCT((Eingabe!$C$6:$C$400<=$DH23)*(Eingabe!$D$6:$D$400>$DH23)*(Eingabe!$B$6:$B$400=HY$3)*(Eingabe!$E$6:$E$400))","v":7},{"$f":"SUMPRODUCT((Eingabe!$C$6:$C$400<$DH23)*(Eingabe!$D$6:$D$400>=$DH23)*(Eingabe!$B$6:$B$400=HY$3)*(Eingabe!$E$6:$E$400))","v":7},{"$f":"SUMPRODUCT((Eingabe!$C$6:$C$400<=$DH23)*(Eingabe!$D$6:$D$400>$DH23)*(Eingabe!$B$6:$B$400=IA$3)*(Eingabe!$E$6:$E$400))","v":0},{"$f":"SUMPRODUCT((Eingabe!$C$6:$C$400<$DH23)*(Eingabe!$D$6:$D$400>=$DH23)*(Eingabe!$B$6:$B$400=IA$3)*(Eingabe!$E$6:$E$400))","v":0},{"$f":"SUMPRODUCT((Eingabe!$C$6:$C$400<=$DH23)*(Eingabe!$D$6:$D$400>$DH23)*(Eingabe!$B$6:$B$400=IC$3)*(Eingabe!$E$6:$E$400))","v":0},{"$f":"SUMPRODUCT((Eingabe!$C$6:$C$400<$DH23)*(Eingabe!$D$6:$D$400>=$DH23)*(Eingabe!$B$6:$B$400=IC$3)*(Eingabe!$E$6:$E$400))","v":0},{"$f":"SUMPRODUCT((Eingabe!$C$6:$C$400<=$DH23)*(Eingabe!$D$6:$D$400>$DH23)*(Eingabe!$B$6:$B$400=IE$3)*(Eingabe!$E$6:$E$400))","v":0},{"$f":"SUMPRODUCT((Eingabe!$C$6:$C$400<$DH23)*(Eingabe!$D$6:$D$400>=$DH23)*(Eingabe!$B$6:$B$400=IE$3)*(Eingabe!$E$6:$E$400))","v":0}]
["2025-01-21","2025-01-21",{"$f":"SUMPRODUCT((Eingabe!$C$6:$C$400<=$B24)*(Eingabe!$D$6:$D$400>$B24)*(Eingabe!$B$6:$B$400=C$3)*(Eingabe!$E$6:$E$400))","v":6},{"$f":"SUMPRODUCT((Eingabe!$C$6:$C$400<$B24)*(Eingabe!$D$6:$D$400>=$B24)*(Eingabe!$B$6:$B$400=C$3)*(Eingabe!$E$6:$E$400))","v":6},{"$f":"SUMPRODUCT((Eingabe!$C$6:$C$400<=$B24)*(Eingabe!$D$6:$D$400>$B24)*(Eingabe!$B$6:$B$400=E$3)*(Eingabe!$E$6:$E$400))","v":6},{"$f":"SUMPRODUCT((Eingabe!$C$6:$C$400<$B24)*(Eingabe!$D$6:$D$400>=$B24)*(Eingabe!$B$6:$B$400=E$3)*(Eingabe!$E$6:$E$400))","v":6},{"$f":"SUMPRODUCT((Eingabe!$C$6:$C$400<=$B24)*(Eingabe!$D$6:$D$400>$B24)*(Eingabe!$B$6:$B$400=G$3)*(Eingabe!$E$6:$E$400))","v":6},{"$f":"SUMPRODUCT((Eingabe!$C$6:$C$400<$B24)*(Eingabe!$D$6:$D$400>=$B24)*(Eingabe!$B$6:$B$400=G$3)*(Eingabe!$E$6:$E$400))","v":6},{"$f":"SUMPRODUCT((Eingabe!$C$6:$C$400<=$B24)*(Eingabe!$D$6:$D$400>$B24)*(Eingabe!$B$6:$B$400=I$3)*(Eingabe!$E$6:$E$400))","v":0},{"$f":"SUMPRODUCT((Eingabe!$C$6:$C$400<$B24)*(Eingabe!$D$6:$D$400>=$B24)*(Eingabe!$B$6:$B$400=I$3)*(Eingabe!$E$6:$E$400))","v":7},"2025-02-21","2025-02-21",{"$f":"SUMPRODUCT((Eingabe!$C$6:$C$400<=$L24)*(Eingabe!$D$6:$D$400>$L24)*(Eingabe!$B$6:$B$400=M$3)*(Eingabe!$E$6:$E$400))","v":0},{"$f":"SUMPRODUCT((Eingabe!$C$6:$C$400<$L24)*(Eingabe!$D$6:$D$400>=$L24)*(Eingabe!$B$6:$B$400=M$3)*(Eingabe!$E$6:$E$400))","v":0},{"$f":"SUMPRODUCT((Eingabe!$C$6:$C$400<=$L24)*(Eingabe!$D$6:$D$400>$L24)*(Eingabe!$B$6:$B$400=O$3)*(Eingabe!$E$6:$E$400))","v":0},{"$f":"SUMPRODUCT((Eingabe!$C$6:$C$400<$L24)*(Eingabe!$D$6:$D$400>=$L24)*(Eingabe!$B$6:$B$400=O$3)*(Eingabe!$E$6:$E$400))","v":0},{"$f":"SUMPRODUCT((Eingabe!$C$6:$C$400<=$L24)*(Eingabe!$D$6:$D$400>$L24)*(Eingabe!$B$6:$B$400=Q$3)*(Eingabe!$E$6:$E$400))","v":0},{"$f":"SUMPRODUCT((Eingabe!$C$6:$C$400<$L24)*(Eingabe!$D$6:$D$400>=$L24)*(Eingabe!$B$6:$B$400=Q$3)*(Eingabe!$E$6:$E$400))","v":0},{"$f":"SUMPRODUCT((Eingabe!$C$6:$C$400<=$L24)*(Eingabe!$D$6:$D$400>$L24)*(Eingabe!$B$6:$B$400=S$3)*(Eingabe!$E$6:$E$400))","v":0},{"$f":"SUMPRODUCT((Eingabe!$C$6:$C$400<$L24)*(Eingabe!$D$6:$D$400>=$L24)*(Eingabe!$B$6:$B$400=S$3)*(Eingabe!$E$6:$E$400))","v":0},"2025-03-21","2025-03-21",{"$f":"SUMPRODUCT((Eingabe!$C$6:$C$400<=$V24)*(Eingabe!$D$6:$D$400>$V24)*(Eingabe!$B$6:$B$400=W$3)*(Eingabe!$E$6:$E$400))","v":0},{"$f":"SUMPRODUCT((Eingabe!$C$6:$C$400<$V24)*(Eingabe!$D$6:$D$400>=$V24)*(Eingabe!$B$6:$B$400=W$3)*(Eingabe!$E$6:$E$400))","v":0},{"$f":"SUMPRODUCT((Eingabe!$C$6:$C$400<=$V24)*(Eingabe!$D$6:$D$400>$V24)*(Eingabe!$B$6:$B$400=Y$3)*(Eingabe!$E$6:$E$400))","v":0},{"$f":"SUMPRODUCT((Eingabe!$C$6:$C$400<$V24)*(Eingabe!$D$6:$D$400>=$V24)*(Eingabe!$B$6:$B$400=Y$3)*(Eingabe!$E$6:$E$400))","v":0},{"$f":"SUMPRODUCT((Eingabe!$C$6:$C$400<=$V24)*(Eingabe!$D$6:$D$400>$V24)*(Eingabe!$B$6:$B$400=AA$3)*(Eingabe!$E$6:$E$400))","v":0},{"$f":"SUMPRODUCT((Eingabe!$C$6:$C$400<$V24)*(Eingabe!$D$6:$D$400>=$V24)*(Eingabe!$B$6:$B$400=AA$3)*(Eingabe!$E$6:$E$400))","v":0},{"$f":"SUMPRODUCT((Eingabe!$C$6:$C$400<=$V24)*(Eingabe!$D$6:$D$400>$V24)*(Eingabe!$B$6:$B$400=AC$3)*(Eingabe!$E$6:$E$400))","v":0},{"$f":"SUMPRODUCT((Eingabe!$C$6:$C$400<$V24)*(Eingabe!$D$6:$D$400>=$V24)*(Eingabe!$B$6:$B$400=AC$3)*(Eingabe!$E$6:$E$400))","v":0},"2025-04-21","2025-04-21",{"$f":"SUMPRODUCT((Eingabe!$C$6:$C$400<=$AF24)*(Eingabe!$D$6:$D$400>$AF24)*(Eingabe!$B$6:$B$400=AG$3)*(Eingabe!$E$6:$E$400))","v":0},{"$f":"SUMPRODUCT((Eingabe!$C$6:$C$400<$AF24)*(Eingabe!$D$6:$D$400>=$AF24)*(Eingabe!$B$6:$B$400=AG$3)*(Eingabe!$E$6:$E$400))","v":0},{"$f":"SUMPRODUCT((Eingabe!$C$6:$C$400<=$AF24)*(Eingabe!$D$6:$D$400>$AF24)*(Eingabe!$B$6:$B$400=AI$3)*(Eingabe!$E$6:$E$400))","v":8},{"$f":"SUMPRODUCT((Eingabe!$C$6:$C$400<$AF24)*(Eingabe!$D$6:$D$400>=$AF24)*(Eingabe!$B$6:$B$400=AI$3)*(Eingabe!$E$6:$E$400))","v":8},{"$f":"SUMPRODUCT((Eingabe!$C$6:$C$400<=$AF24)*(Eingabe!$D$6:$D$400>$AF24)*(Eingabe!$B$6:$B$400=AK$3)*(Eingabe!$E$6:$E$400))","v":0},{"$f":"SUMPRODUCT((Eingabe!$C$6:$C$400<$AF24)*(Eingabe!$D$6:$D$400>=$AF24)*(Eingabe!$B$6:$B$400=AK$3)*(Eingabe!$E$6:$E$400))","v":0},{"$f":"SUMPRODUCT((Eingabe!$C$6:$C$400<=$AF24)*(Eingabe!$D$6:$D$400>$AF24)*(Eingabe!$B$6:$B$400=AM$3)*(Eingabe!$E$6:$E$400))","v":0},{"$f":"SUMPRODUCT((Eingabe!$C$6:$C$400<$AF24)*(Eingabe!$D$6:$D$400>=$AF24)*(Eingabe!$B$6:$B$400=AM$3)*(Eingabe!$E$6:$E$400))","v":0},"2025-05-21","2025-05-21",{"$f":"SUMPRODUCT((Eingabe!$C$6:$C$400<=$AP24)*(Eingabe!$D$6:$D$400>$AP24)*(Eingabe!$B$6:$B$400=AQ$3)*(Eingabe!$E$6:$E$400))","v":0},{"$f":"SUMPRODUCT((Eingabe!$C$6:$C$400<$AP24)*(Eingabe!$D$6:$D$400>=$AP24)*(Eingabe!$B$6:$B$400=AQ$3)*(Eingabe!$E$6:$E$400))","v":0},{"$f":"SUMPRODUCT((Eingabe!$C$6:$C$400<=$AP24)*(Eingabe!$D$6:$D$400>$AP24)*(Eingabe!$B$6:$B$400=AS$3)*(Eingabe!$E$6:$E$400))","v":0},{"$f":"SUMPRODUCT((Eingabe!$C$6:$C$400<$AP24)*(Eingabe!$D$6:$D$400>=$AP24)*(Eingabe!$B$6:$B$400=AS$3)*(Eingabe!$E$6:$E$400))","v":0},{"$f":"SUMPRODUCT((Eingabe!$C$6:$C$400<=$AP24)*(Eingabe!$D$6:$D$400>$AP24)*(Eingabe!$B$6:$B$400=AU$3)*(Eingabe!$E$6:$E$400))","v":0},{"$f":"SUMPRODUCT((Eingabe!$C$6:$C$400<$AP24)*(Eingabe!$D$6:$D$400>=$AP24)*(Eingabe!$B$6:$B$400=AU$3)*(Eingabe!$E$6:$E$400))","v":0},{"$f":"SUMPRODUCT((Eingabe!$C$6:$C$400<=$AP24)*(Eingabe!$D$6:$D$400>$AP24)*(Eingabe!$B$6:$B$400=AW$3)*(Eingabe!$E$6:$E$400))","v":0},{"$f":"SUMPRODUCT((Eingabe!$C$6:$C$400<$AP24)*(Eingabe!$D$6:$D$400>=$AP24)*(Eingabe!$B$6:$B$400=AW$3)*(Eingabe!$E$6:$E$400))","v":0},"2025-06-21","2025-06-21",{"$f":"SUMPRODUCT((Eingabe!$C$6:$C$400<=$AZ24)*(Eingabe!$D$6:$D$400>$AZ24)*(Eingabe!$B$6:$B$400=BA$3)*(Eingabe!$E$6:$E$400))","v":0},{"$f":"SUMPRODUCT((Eingabe!$C$6:$C$400<$AZ24)*(Eingabe!$D$6:$D$400>=$AZ24)*(Eingabe!$B$6:$B$400=BA$3)*(Eingabe!$E$6:$E$400))","v":0},{"$f":"SUMPRODUCT((Eingabe!$C$6:$C$400<=$AZ24)*(Eingabe!$D$6:$D$400>$AZ24)*(Eingabe!$B$6:$B$400=BC$3)*(Eingabe!$E$6:$E$400))","v":0},{"$f":"SUMPRODUCT((Eingabe!$C$6:$C$400<$AZ24)*(Eingabe!$D$6:$D$400>=$AZ24)*(Eingabe!$B$6:$B$400=BC$3)*(Eingabe!$E$6:$E$400))","v":0},{"$f":"SUMPRODUCT((Eingabe!$C$6:$C$400<=$AZ24)*(Eingabe!$D$6:$D$400>$AZ24)*(Eingabe!$B$6:$B$400=BE$3)*(Eingabe!$E$6:$E$400))","v":0},{"$f":"SUMPRODUCT((Eingabe!$C$6:$C$400<$AZ24)*(Eingabe!$D$6:$D$400>=$AZ24)*(Eingabe!$B$6:$B$400=BE$3)*(Eingabe!$E$6:$E$400))","v":0},{"$f":"SUMPRODUCT((Eingabe!$C$6:$C$400<=$AZ24)*(Eingabe!$D$6:$D$400>$AZ24)*(Eingabe!$B$6:$B$400=BG$3)*(Eingabe!$E$6:$E$400))","v":0},{"$f":"SUMPRODUCT((Eingabe!$C$6:$C$400<$AZ24)*(Eingabe!$D$6:$D$400>=$AZ24)*(Eingabe!$B$6:$B$400=BG$3)*(Eingabe!$E$6:$E$400))","v":0},"2025-07-21","2025-07-21",{"$f":"SUMPRODUCT((Eingabe!$C$6:$C$400<=$BJ24)*(Eingabe!$D$6:$D$400>$BJ24)*(Eingabe!$B$6:$B$400=BK$3)*(Eingabe!$E$6:$E$400))","v":0},{"$f":"SUMPRODUCT((Eingabe!$C$6:$C$400<$BJ24)*(Eingabe!$D$6:$D$400>=$BJ24)*(Eingabe!$B$6:$B$400=BK$3)*(Eingabe!$E$6:$E$400))","v":0},{"$f":"SUMPRODUCT((Eingabe!$C$6:$C$400<=$BJ24)*(Eingabe!$D$6:$D$400>$BJ24)*(Eingabe!$B$6:$B$400=BM$3)*(Eingabe!$E$6:$E$400))","v":0},{"$f":"SUMPRODUCT((Eingabe!$C$6:$C$400<$BJ24)*(Eingabe!$D$6:$D$400>=$BJ24)*(Eingabe!$B$6:$B$400=BM$3)*(Eingabe!$E$6:$E$400))","v":0},{"$f":"SUMPRODUCT((Eingabe!$C$6:$C$400<=$BJ24)*(Eingabe!$D$6:$D$400>$BJ24)*(Eingabe!$B$6:$B$400=BO$3)*(Eingabe!$E$6:$E$400))","v":0},{"$f":"SUMPRODUCT((Eingabe!$C$6:$C$400<$BJ24)*(Eingabe!$D$6:$D$400>=$BJ24)*(Eingabe!$B$6:$B$400=BO$3)*(Eingabe!$E$6:$E$400))","v":0},{"$f":"SUMPRODUCT((Eingabe!$C$6:$C$400<=$BJ24)*(Eingabe!$D$6:$D$400>$BJ24)*(Eingabe!$B$6:$B$400=BQ$3)*(Eingabe!$E$6:$E$400))","v":0},{"$f":"SUMPRODUCT((Eingabe!$C$6:$C$400<$BJ24)*(Eingabe!$D$6:$D$400>=$BJ24)*(Eingabe!$B$6:$B$400=BQ$3)*(Eingabe!$E$6:$E$400))","v":0},"2025-08-21","2025-08-21",{"$f":"SUMPRODUCT((Eingabe!$C$6:$C$400<=$BT24)*(Eingabe!$D$6:$D$400>$BT24)*(Eingabe!$B$6:$B$400=BU$3)*(Eingabe!$E$6:$E$400))","v":0},{"$f":"SUMPRODUCT((Eingabe!$C$6:$C$400<$BT24)*(Eingabe!$D$6:$D$400>=$BT24)*(Eingabe!$B$6:$B$400=BU$3)*(Eingabe!$E$6:$E$400))","v":0},{"$f":"SUMPRODUCT((Eingabe!$C$6:$C$400<=$BT24)*(Eingabe!$D$6:$D$400>$BT24)*(Eingabe!$B$6:$B$400=BW$3)*(Eingabe!$E$6:$E$400))","v":0},{"$f":"SUMPRODUCT((Eingabe!$C$6:$C$400<$BT24)*(Eingabe!$D$6:$D$400>=$BT24)*(Eingabe!$B$6:$B$400=BW$3)*(Eingabe!$E$6:$E$400))","v":0},{"$f":"SUMPRODUCT((Eingabe!$C$6:$C$400<=$BT24)*(Eingabe!$D$6:$D$400>$BT24)*(Eingabe!$B$6:$B$400=BY$3)*(Eingabe!$E$6:$E$400))","v":0},{"$f":"SUMPRODUCT((Eingabe!$C$6:$C$400<$BT24)*(Eingabe!$D$6:$D$400>=$BT24)*(Eingabe!$B$6:$B$400=BY$3)*(Eingabe!$E$6:$E$400))","v":0},{"$f":"SUMPRODUCT((Eingabe!$C$6:$C$400<=$BT24)*(Eingabe!$D$6:$D$400>$BT24)*(Eingabe!$B$6:$B$400=CA$3)*(Eingabe!$E$6:$E$400))","v":0},{"$f":"SUMPRODUCT((Eingabe!$C$6:$C$400<$BT24)*(Eingabe!$D$6:$D$400>=$BT24)*(Eingabe!$B$6:$B$400=CA$3)*(Eingabe!$E$6:$E$400))","v":0},"2025-09-21","2025-09-21",{"$f":"SUMPRODUCT((Eingabe!$C$6:$C$400<=$CD24)*(Eingabe!$D$6:$D$400>$CD24)*(Eingabe!$B$6:$B$400=CE$3)*(Eingabe!$E$6:$E$400))","v":0},{"$f":"SUMPRODUCT((Eingabe!$C$6:$C$400<$CD24)*(Eingabe!$D$6:$D$400>=$CD24)*(Eingabe!$B$6:$B$400=CE$3)*(Eingabe!$E$6:$E$400))","v":0},{"$f":"SUMPRODUCT((Eingabe!$C$6:$C$400<=$CD24)*(Eingabe!$D$6:$D$400>$CD24)*(Eingabe!$B$6:$B$400=CG$3)*(Eingabe!$E$6:$E$400))","v":0},{"$f":"SUMPRODUCT((Eingabe!$C$6:$C$400<$CD24)*(Eingabe!$D$6:$D$400>=$CD24)*(Eingabe!$B$6:$B$400=CG$3)*(Eingabe!$E$6:$E$400))","v":0},{"$f":"SUMPRODUCT((Eingabe!$C$6:$C$400<=$CD24)*(Eingabe!$D$6:$D$400>$CD24)*(Eingabe!$B$6:$B$400=CI$3)*(Eingabe!$E$6:$E$400))","v":0},{"$f":"SUMPRODUCT((Eingabe!$C$6:$C$400<$CD24)*(Eingabe!$D$6:$D$400>=$CD24)*(Eingabe!$B$6:$B$400=CI$3)*(Eingabe!$E$6:$E$400))","v":0},{"$f":"SUMPRODUCT((Eingabe!$C$6:$C$400<=$CD24)*(Eingabe!$D$6:$D$400>$CD24)*(Eingabe!$B$6:$B$400=CK$3)*(Eingabe!$E$6:$E$400))","v":0},{"$f":"SUMPRODUCT((Eingabe!$C$6:$C$400<$CD24)*(Eingabe!$D$6:$D$400>=$CD24)*(Eingabe!$B$6:$B$400=CK$3)*(Eingabe!$E$6:$E$400))","v":0},"2025-10-21","2025-10-21",{"$f":"SUMPRODUCT((Eingabe!$C$6:$C$400<=$CN24)*(Eingabe!$D$6:$D$400>$CN24)*(Eingabe!$B$6:$B$400=CO$3)*(Eingabe!$E$6:$E$400))","v":7},{"$f":"SUMPRODUCT((Eingabe!$C$6:$C$400<$CN24)*(Eingabe!$D$6:$D$400>=$CN24)*(Eingabe!$B$6:$B$400=CO$3)*(Eingabe!$E$6:$E$400))","v":7},{"$f":"SUMPRODUCT((Eingabe!$C$6:$C$400<=$CN24)*(Eingabe!$D$6:$D$400>$CN24)*(Eingabe!$B$6:$B$400=CQ$3)*(Eingabe!$E$6:$E$400))","v":0},{"$f":"SUMPRODUCT((Eingabe!$C$6:$C$400<$CN24)*(Eingabe!$D$6:$D$400>=$CN24)*(Eingabe!$B$6:$B$400=CQ$3)*(Eingabe!$E$6:$E$400))","v":0},{"$f":"SUMPRODUCT((Eingabe!$C$6:$C$400<=$CN24)*(Eingabe!$D$6:$D$400>$CN24)*(Eingabe!$B$6:$B$400=CS$3)*(Eingabe!$E$6:$E$400))","v":0},{"$f":"SUMPRODUCT((Eingabe!$C$6:$C$400<$CN24)*(Eingabe!$D$6:$D$400>=$CN24)*(Eingabe!$B$6:$B$400=CS$3)*(Eingabe!$E$6:$E$400))","v":0},{"$f":"SUMPRODUCT((Eingabe!$C$6:$C$400<=$CN24)*(Eingabe!$D$6:$D$400>$CN24)*(Eingabe!$B$6:$B$400=CU$3)*(Eingabe!$E$6:$E$400))","v":0},{"$f":"SUMPRODUCT((Eingabe!$C$6:$C$400<$CN24)*(Eingabe!$D$6:$D$400>=$CN24)*(Eingabe!$B$6:$B$400=CU$3)*(Eingabe!$E$6:$E$400))","v":0},"2025-11-21","2025-11-21",{"$f":"SUMPRODUCT((Eingabe!$C$6:$C$400<=$CX24)*(Eingabe!$D$6:$D$400>$CX24)*(Eingabe!$B$6:$B$400=CY$3)*(Eingabe!$E$6:$E$400))","v":7},{"$f":"SUMPRODUCT((Eingabe!$C$6:$C$400<$CX24)*(Eingabe!$D$6:$D$400>=$CX24)*(Eingabe!$B$6:$B$400=CY$3)*(Eingabe!$E$6:$E$400))","v":7},{"$f":"SUMPRODUCT((Eingabe!$C$6:$C$400<=$CX24)*(Eingabe!$D$6:$D$400>$CX24)*(Eingabe!$B$6:$B$400=DA$3)*(Eingabe!$E$6:$E$400))","v":0},{"$f":"SUMPRODUCT((Eingabe!$C$6:$C$400<$CX24)*(Eingabe!$D$6:$D$400>=$CX24)*(Eingabe!$B$6:$B$400=DA$3)*(Eingabe!$E$6:$E$400))","v":0},{"$f":"SUMPRODUCT((Eingabe!$C$6:$C$400<=$CX24)*(Eingabe!$D$6:$D$400>$CX24)*(Eingabe!$B$6:$B$400=DC$3)*(Eingabe!$E$6:$E$400))","v":0},{"$f":"SUMPRODUCT((Eingabe!$C$6:$C$400<$CX24)*(Eingabe!$D$6:$D$400>=$CX24)*(Eingabe!$B$6:$B$400=DC$3)*(Eingabe!$E$6:$E$400))","v":0},{"$f":"SUMPRODUCT((Eingabe!$C$6:$C$400<=$CX24)*(Eingabe!$D$6:$D$400>$CX24)*(Eingabe!$B$6:$B$400=DE$3)*(Eingabe!$E$6:$E$400))","v":0},{"$f":"SUMPRODUCT((Eingabe!$C$6:$C$400<$CX24)*(Eingabe!$D$6:$D$400>=$CX24)*(Eingabe!$B$6:$B$400=DE$3)*(Eingabe!$E$6:$E$400))","v":0},"2025-12-21","2025-12-21",{"$f":"SUMPRODUCT((Eingabe!$C$6:$C$400<=$DH24)*(Eingabe!$D$6:$D$400>$DH24)*(Eingabe!$B$6:$B$400=DI$3)*(Eingabe!$E$6:$E$400))","v":7},{"$f":"SUMPRODUCT((Eingabe!$C$6:$C$400<$DH24)*(Eingabe!$D$6:$D$400>=$DH24)*(Eingabe!$B$6:$B$400=DI$3)*(Eingabe!$E$6:$E$400))","v":7},{"$f":"SUMPRODUCT((Eingabe!$C$6:$C$400<=$DH24)*(Eingabe!$D$6:$D$400>$DH24)*(Eingabe!$B$6:$B$400=DK$3)*(Eingabe!$E$6:$E$400))","v":0},{"$f":"SUMPRODUCT((Eingabe!$C$6:$C$400<$DH24)*(Eingabe!$D$6:$D$400>=$DH24)*(Eingabe!$B$6:$B$400=DK$3)*(Eingabe!$E$6:$E$400))","v":0},{"$f":"SUMPRODUCT((Eingabe!$C$6:$C$400<=$DH24)*(Eingabe!$D$6:$D$400>$DH24)*(Eingabe!$B$6:$B$400=DM$3)*(Eingabe!$E$6:$E$400))","v":0},{"$f":"SUMPRODUCT((Eingabe!$C$6:$C$400<$DH24)*(Eingabe!$D$6:$D$400>=$DH24)*(Eingabe!$B$6:$B$400=DM$3)*(Eingabe!$E$6:$E$400))","v":0},{"$f":"SUMPRODUCT((Eingabe!$C$6:$C$400<=$DH24)*(Eingabe!$D$6:$D$400>$DH24)*(Eingabe!$B$6:$B$400=DO$3)*(Eingabe!$E$6:$E$400))","v":0},{"$f":"SUMPRODUCT((Eingabe!$C$6:$C$400<$DH24)*(Eingabe!$D$6:$D$400>=$DH24)*(Eingabe!$B$6:$B$400=DO$3)*(Eingabe!$E$6:$E$400))","v":0},"2026-01-21","2026-01-21",{"$f":"SUMPRODUCT((Eingabe!$C$6:$C$400<=$B24)*(Eingabe!$D$6:$D$400>$B24)*(Eingabe!$B$6:$B$400=DS$3)*(Eingabe!$E$6:$E$400))","v":6},{"$f":"SUMPRODUCT((Eingabe!$C$6:$C$400<$B24)*(Eingabe!$D$6:$D$400>=$B24)*(Eingabe!$B$6:$B$400=DS$3)*(Eingabe!$E$6:$E$400))","v":6},{"$f":"SUMPRODUCT((Eingabe!$C$6:$C$400<=$B24)*(Eingabe!$D$6:$D$400>$B24)*(Eingabe!$B$6:$B$400=DU$3)*(Eingabe!$E$6:$E$400))","v":6},{"$f":"SUMPRODUCT((Eingabe!$C$6:$C$400<$B24)*(Eingabe!$D$6:$D$400>=$B24)*(Eingabe!$B$6:$B$400=DU$3)*(Eingabe!$E$6:$E$400))","v":6},{"$f":"SUMPRODUCT((Eingabe!$C$6:$C$400<=$B24)*(Eingabe!$D$6:$D$400>$B24)*(Eingabe!$B$6:$B$400=DW$3)*(Eingabe!$E$6:$E$400))","v":6},{"$f":"SUMPRODUCT((Eingabe!$C$6:$C$400<$B24)*(Eingabe!$D$6:$D$400>=$B24)*(Eingabe!$B$6:$B$400=DW$3)*(Eingabe!$E$6:$E$400))","v":6},{"$f":"SUMPRODUCT((Eingabe!$C$6:$C$400<=$B24)*(Eingabe!$D$6:$D$400>$B24)*(Eingabe!$B$6:$B$400=DY$3)*(Eingabe!$E$6:$E$400))","v":0},{"$f":"SUMPRODUCT((Eingabe!$C$6:$C$400<$B24)*(Eingabe!$D$6:$D$400>=$B24)*(Eingabe!$B$6:$B$400=DY$3)*(Eingabe!$E$6:$E$400))","v":7},"2026-02-21","2026-02-21",{"$f":"SUMPRODUCT((Eingabe!$C$6:$C$400<=$L24)*(Eingabe!$D$6:$D$400>$L24)*(Eingabe!$B$6:$B$400=EC$3)*(Eingabe!$E$6:$E$400))","v":0},{"$f":"SUMPRODUCT((Eingabe!$C$6:$C$400<$L24)*(Eingabe!$D$6:$D$400>=$L24)*(Eingabe!$B$6:$B$400=EC$3)*(Eingabe!$E$6:$E$400))","v":0},{"$f":"SUMPRODUCT((Eingabe!$C$6:$C$400<=$L24)*(Eingabe!$D$6:$D$400>$L24)*(Eingabe!$B$6:$B$400=EE$3)*(Eingabe!$E$6:$E$400))","v":0},{"$f":"SUMPRODUCT((Eingabe!$C$6:$C$400<$L24)*(Eingabe!$D$6:$D$400>=$L24)*(Eingabe!$B$6:$B$400=EE$3)*(Eingabe!$E$6:$E$400))","v":0},{"$f":"SUMPRODUCT((Eingabe!$C$6:$C$400<=$L24)*(Eingabe!$D$6:$D$400>$L24)*(Eingabe!$B$6:$B$400=EG$3)*(Eingabe!$E$6:$E$400))","v":0},{"$f":"SUMPRODUCT((Eingabe!$C$6:$C$400<$L24)*(Eingabe!$D$6:$D$400>=$L24)*(Eingabe!$B$6:$B$400=EG$3)*(Eingabe!$E$6:$E$400))","v":0},{"$f":"SUMPRODUCT((Eingabe!$C$6:$C$400<=$L24)*(Eingabe!$D$6:$D$400>$L24)*(Eingabe!$B$6:$B$400=EI$3)*(Eingabe!$E$6:$E$400))","v":0},{"$f":"SUMPRODUCT((Eingabe!$C$6:$C$400<$L24)*(Eingabe!$D$6:$D$400>=$L24)*(Eingabe!$B$6:$B$400=EI$3)*(Eingabe!$E$6:$E$400))","v":0},"2026-03-21","2026-03-21",{"$f":"SUMPRODUCT((Eingabe!$C$6:$C$400<=$V24)*(Eingabe!$D$6:$D$400>$V24)*(Eingabe!$B$6:$B$400=EM$3)*(Eingabe!$E$6:$E$400))","v":0},{"$f":"SUMPRODUCT((Eingabe!$C$6:$C$400<$V24)*(Eingabe!$D$6:$D$400>=$V24)*(Eingabe!$B$6:$B$400=EM$3)*(Eingabe!$E$6:$E$400))","v":0},{"$f":"SUMPRODUCT((Eingabe!$C$6:$C$400<=$V24)*(Eingabe!$D$6:$D$400>$V24)*(Eingabe!$B$6:$B$400=EO$3)*(Eingabe!$E$6:$E$400))","v":0},{"$f":"SUMPRODUCT((Eingabe!$C$6:$C$400<$V24)*(Eingabe!$D$6:$D$400>=$V24)*(Eingabe!$B$6:$B$400=EO$3)*(Eingabe!$E$6:$E$400))","v":0},{"$f":"SUMPRODUCT((Eingabe!$C$6:$C$400<=$V24)*(Eingabe!$D$6:$D$400>$V24)*(Eingabe!$B$6:$B$400=EQ$3)*(Eingabe!$E$6:$E$400))","v":0},{"$f":"SUMPRODUCT((Eingabe!$C$6:$C$400<$V24)*(Eingabe!$D$6:$D$400>=$V24)*(Eingabe!$B$6:$B$400=EQ$3)*(Eingabe!$E$6:$E$400))","v":0},{"$f":"SUMPRODUCT((Eingabe!$C$6:$C$400<=$V24)*(Eingabe!$D$6:$D$400>$V24)*(Eingabe!$B$6:$B$400=ES$3)*(Eingabe!$E$6:$E$400))","v":0},{"$f":"SUMPRODUCT((Eingabe!$C$6:$C$400<$V24)*(Eingabe!$D$6:$D$400>=$V24)*(Eingabe!$B$6:$B$400=ES$3)*(Eingabe!$E$6:$E$400))","v":0},"2026-04-21","2026-04-21",{"$f":"SUMPRODUCT((Eingabe!$C$6:$C$400<=$AF24)*(Eingabe!$D$6:$D$400>$AF24)*(Eingabe!$B$6:$B$400=EW$3)*(Eingabe!$E$6:$E$400))","v":0},{"$f":"SUMPRODUCT((Eingabe!$C$6:$C$400<$AF24)*(Eingabe!$D$6:$D$400>=$AF24)*(Eingabe!$B$6:$B$400=EW$3)*(Eingabe!$E$6:$E$400))","v":0},{"$f":"SUMPRODUCT((Eingabe!$C$6:$C$400<=$AF24)*(Eingabe!$D$6:$D$400>$AF24)*(Eingabe!$B$6:$B$400=EY$3)*(Eingabe!$E$6:$E$400))","v":8},{"$f":"SUMPRODUCT((Eingabe!$C$6:$C$400<$AF24)*(Eingabe!$D$6:$D$400>=$AF24)*(Eingabe!$B$6:$B$400=EY$3)*(Eingabe!$E$6:$E$400))","v":8},{"$f":"SUMPRODUCT((Eingabe!$C$6:$C$400<=$AF24)*(Eingabe!$D$6:$D$400>$AF24)*(Eingabe!$B$6:$B$400=FA$3)*(Eingabe!$E$6:$E$400))","v":0},{"$f":"SUMPRODUCT((Eingabe!$C$6:$C$400<$AF24)*(Eingabe!$D$6:$D$400>=$AF24)*(Eingabe!$B$6:$B$400=FA$3)*(Eingabe!$E$6:$E$400))","v":0},{"$f":"SUMPRODUCT((Eingabe!$C$6:$C$400<=$AF24)*(Eingabe!$D$6:$D$400>$AF24)*(Eingabe!$B$6:$B$400=FC$3)*(Eingabe!$E$6:$E$400))","v":0},{"$f":"SUMPRODUCT((Eingabe!$C$6:$C$400<$AF24)*(Eingabe!$D$6:$D$400>=$AF24)*(Eingabe!$B$6:$B$400=FC$3)*(Eingabe!$E$6:$E$400))","v":0},"2026-05-21","2026-05-21",{"$f":"SUMPRODUCT((Eingabe!$C$6:$C$400<=$AP24)*(Eingabe!$D$6:$D$400>$AP24)*(Eingabe!$B$6:$B$400=FG$3)*(Eingabe!$E$6:$E$400))","v":0},{"$f":"SUMPRODUCT((Eingabe!$C$6:$C$400<$AP24)*(Eingabe!$D$6:$D$400>=$AP24)*(Eingabe!$B$6:$B$400=FG$3)*(Eingabe!$E$6:$E$400))","v":0},{"$f":"SUMPRODUCT((Eingabe!$C$6:$C$400<=$AP24)*(Eingabe!$D$6:$D$400>$AP24)*(Eingabe!$B$6:$B$400=FI$3)*(Eingabe!$E$6:$E$400))","v":0},{"$f":"SUMPRODUCT((Eingabe!$C$6:$C$400<$AP24)*(Eingabe!$D$6:$D$400>=$AP24)*(Eingabe!$B$6:$B$400=FI$3)*(Eingabe!$E$6:$E$400))","v":0},{"$f":"SUMPRODUCT((Eingabe!$C$6:$C$400<=$AP24)*(Eingabe!$D$6:$D$400>$AP24)*(Eingabe!$B$6:$B$400=FK$3)*(Eingabe!$E$6:$E$400))","v":0},{"$f":"SUMPRODUCT((Eingabe!$C$6:$C$400<$AP24)*(Eingabe!$D$6:$D$400>=$AP24)*(Eingabe!$B$6:$B$400=FK$3)*(Eingabe!$E$6:$E$400))","v":0},{"$f":"SUMPRODUCT((Eingabe!$C$6:$C$400<=$AP24)*(Eingabe!$D$6:$D$400>$AP24)*(Eingabe!$B$6:$B$400=FM$3)*(Eingabe!$E$6:$E$400))","v":0},{"$f":"SUMPRODUCT((Eingabe!$C$6:$C$400<$AP24)*(Eingabe!$D$6:$D$400>=$AP24)*(Eingabe!$B$6:$B$400=FM$3)*(Eingabe!$E$6:$E$400))","v":0},"2026-06-21","2026-06-21",{"$f":"SUMPRODUCT((Eingabe!$C$6:$C$400<=$AZ24)*(Eingabe!$D$6:$D$400>$AZ24)*(Eingabe!$B$6:$B$400=FQ$3)*(Eingabe!$E$6:$E$400))","v":0},{"$f":"SUMPRODUCT((Eingabe!$C$6:$C$400<$AZ24)*(Eingabe!$D$6:$D$400>=$AZ24)*(Eingabe!$B$6:$B$400=FQ$3)*(Eingabe!$E$6:$E$400))","v":0},{"$f":"SUMPRODUCT((Eingabe!$C$6:$C$400<=$AZ24)*(Eingabe!$D$6:$D$400>$AZ24)*(Eingabe!$B$6:$B$400=FS$3)*(Eingabe!$E$6:$E$400))","v":0},{"$f":"SUMPRODUCT((Eingabe!$C$6:$C$400<$AZ24)*(Eingabe!$D$6:$D$400>=$AZ24)*(Eingabe!$B$6:$B$400=FS$3)*(Eingabe!$E$6:$E$400))","v":0},{"$f":"SUMPRODUCT((Eingabe!$C$6:$C$400<=$AZ24)*(Eingabe!$D$6:$D$400>$AZ24)*(Eingabe!$B$6:$B$400=FU$3)*(Eingabe!$E$6:$E$400))","v":0},{"$f":"SUMPRODUCT((Eingabe!$C$6:$C$400<$AZ24)*(Eingabe!$D$6:$D$400>=$AZ24)*(Eingabe!$B$6:$B$400=FU$3)*(Eingabe!$E$6:$E$400))","v":0},{"$f":"SUMPRODUCT((Eingabe!$C$6:$C$400<=$AZ24)*(Eingabe!$D$6:$D$400>$AZ24)*(Eingabe!$B$6:$B$400=FW$3)*(Eingabe!$E$6:$E$400))","v":0},{"$f":"SUMPRODUCT((Eingabe!$C$6:$C$400<$AZ24)*(Eingabe!$D$6:$D$400>=$AZ24)*(Eingabe!$B$6:$B$400=FW$3)*(Eingabe!$E$6:$E$400))","v":0},"2026-07-21","2026-07-21",{"$f":"SUMPRODUCT((Eingabe!$C$6:$C$400<=$BJ24)*(Eingabe!$D$6:$D$400>$BJ24)*(Eingabe!$B$6:$B$400=GA$3)*(Eingabe!$E$6:$E$400))","v":0},{"$f":"SUMPRODUCT((Eingabe!$C$6:$C$400<$BJ24)*(Eingabe!$D$6:$D$400>=$BJ24)*(Eingabe!$B$6:$B$400=GA$3)*(Eingabe!$E$6:$E$400))","v":0},{"$f":"SUMPRODUCT((Eingabe!$C$6:$C$400<=$BJ24)*(Eingabe!$D$6:$D$400>$BJ24)*(Eingabe!$B$6:$B$400=GC$3)*(Eingabe!$E$6:$E$400))","v":0},{"$f":"SUMPRODUCT((Eingabe!$C$6:$C$400<$BJ24)*(Eingabe!$D$6:$D$400>=$BJ24)*(Eingabe!$B$6:$B$400=GC$3)*(Eingabe!$E$6:$E$400))","v":0},{"$f":"SUMPRODUCT((Eingabe!$C$6:$C$400<=$BJ24)*(Eingabe!$D$6:$D$400>$BJ24)*(Eingabe!$B$6:$B$400=GE$3)*(Eingabe!$E$6:$E$400))","v":0},{"$f":"SUMPRODUCT((Eingabe!$C$6:$C$400<$BJ24)*(Eingabe!$D$6:$D$400>=$BJ24)*(Eingabe!$B$6:$B$400=GE$3)*(Eingabe!$E$6:$E$400))","v":0},{"$f":"SUMPRODUCT((Eingabe!$C$6:$C$400<=$BJ24)*(Eingabe!$D$6:$D$400>$BJ24)*(Eingabe!$B$6:$B$400=GG$3)*(Eingabe!$E$6:$E$400))","v":0},{"$f":"SUMPRODUCT((Eingabe!$C$6:$C$400<$BJ24)*(Eingabe!$D$6:$D$400>=$BJ24)*(Eingabe!$B$6:$B$400=GG$3)*(Eingabe!$E$6:$E$400))","v":0},"2026-08-21","2026-08-21",{"$f":"SUMPRODUCT((Eingabe!$C$6:$C$400<=$BT24)*(Eingabe!$D$6:$D$400>$BT24)*(Eingabe!$B$6:$B$400=GK$3)*(Eingabe!$E$6:$E$400))","v":0},{"$f":"SUMPRODUCT((Eingabe!$C$6:$C$400<$BT24)*(Eingabe!$D$6:$D$400>=$BT24)*(Eingabe!$B$6:$B$400=GK$3)*(Eingabe!$E$6:$E$400))","v":0},{"$f":"SUMPRODUCT((Eingabe!$C$6:$C$400<=$BT24)*(Eingabe!$D$6:$D$400>$BT24)*(Eingabe!$B$6:$B$400=GM$3)*(Eingabe!$E$6:$E$400))","v":0},{"$f":"SUMPRODUCT((Eingabe!$C$6:$C$400<$BT24)*(Eingabe!$D$6:$D$400>=$BT24)*(Eingabe!$B$6:$B$400=GM$3)*(Eingabe!$E$6:$E$400))","v":0},{"$f":"SUMPRODUCT((Eingabe!$C$6:$C$400<=$BT24)*(Eingabe!$D$6:$D$400>$BT24)*(Eingabe!$B$6:$B$400=GO$3)*(Eingabe!$E$6:$E$400))","v":0},{"$f":"SUMPRODUCT((Eingabe!$C$6:$C$400<$BT24)*(Eingabe!$D$6:$D$400>=$BT24)*(Eingabe!$B$6:$B$400=GO$3)*(Eingabe!$E$6:$E$400))","v":0},{"$f":"SUMPRODUCT((Eingabe!$C$6:$C$400<=$BT24)*(Eingabe!$D$6:$D$400>$BT24)*(Eingabe!$B$6:$B$400=GQ$3)*(Eingabe!$E$6:$E$400))","v":0},{"$f":"SUMPRODUCT((Eingabe!$C$6:$C$400<$BT24)*(Eingabe!$D$6:$D$400>=$BT24)*(Eingabe!$B$6:$B$400=GQ$3)*(Eingabe!$E$6:$E$400))","v":0},"2026-09-21","2026-09-21",{"$f":"SUMPRODUCT((Eingabe!$C$6:$C$400<=$CD24)*(Eingabe!$D$6:$D$400>$CD24)*(Eingabe!$B$6:$B$400=GU$3)*(Eingabe!$E$6:$E$400))","v":0},{"$f":"SUMPRODUCT((Eingabe!$C$6:$C$400<$CD24)*(Eingabe!$D$6:$D$400>=$CD24)*(Eingabe!$B$6:$B$400=GU$3)*(Eingabe!$E$6:$E$400))","v":0},{"$f":"SUMPRODUCT((Eingabe!$C$6:$C$400<=$CD24)*(Eingabe!$D$6:$D$400>$CD24)*(Eingabe!$B$6:$B$400=GW$3)*(Eingabe!$E$6:$E$400))","v":0},{"$f":"SUMPRODUCT((Eingabe!$C$6:$C$400<$CD24)*(Eingabe!$D$6:$D$400>=$CD24)*(Eingabe!$B$6:$B$400=GW$3)*(Eingabe!$E$6:$E$400))","v":0},{"$f":"SUMPRODUCT((Eingabe!$C$6:$C$400<=$CD24)*(Eingabe!$D$6:$D$400>$CD24)*(Eingabe!$B$6:$B$400=GY$3)*(Eingabe!$E$6:$E$400))","v":0},{"$f":"SUMPRODUCT((Eingabe!$C$6:$C$400<$CD24)*(Eingabe!$D$6:$D$400>=$CD24)*(Eingabe!$B$6:$B$400=GY$3)*(Eingabe!$E$6:$E$400))","v":0},{"$f":"SUMPRODUCT((Eingabe!$C$6:$C$400<=$CD24)*(Eingabe!$D$6:$D$400>$CD24)*(Eingabe!$B$6:$B$400=HA$3)*(Eingabe!$E$6:$E$400))","v":0},{"$f":"SUMPRODUCT((Eingabe!$C$6:$C$400<$CD24)*(Eingabe!$D$6:$D$400>=$CD24)*(Eingabe!$B$6:$B$400=HA$3)*(Eingabe!$E$6:$E$400))","v":0},"2026-10-21","2026-10-21",{"$f":"SUMPRODUCT((Eingabe!$C$6:$C$400<=$CN24)*(Eingabe!$D$6:$D$400>$CN24)*(Eingabe!$B$6:$B$400=HE$3)*(Eingabe!$E$6:$E$400))","v":7},{"$f":"SUMPRODUCT((Eingabe!$C$6:$C$400<$CN24)*(Eingabe!$D$6:$D$400>=$CN24)*(Eingabe!$B$6:$B$400=HE$3)*(Eingabe!$E$6:$E$400))","v":7},{"$f":"SUMPRODUCT((Eingabe!$C$6:$C$400<=$CN24)*(Eingabe!$D$6:$D$400>$CN24)*(Eingabe!$B$6:$B$400=HG$3)*(Eingabe!$E$6:$E$400))","v":0},{"$f":"SUMPRODUCT((Eingabe!$C$6:$C$400<$CN24)*(Eingabe!$D$6:$D$400>=$CN24)*(Eingabe!$B$6:$B$400=HG$3)*(Eingabe!$E$6:$E$400))","v":0},{"$f":"SUMPRODUCT((Eingabe!$C$6:$C$400<=$CN24)*(Eingabe!$D$6:$D$400>$CN24)*(Eingabe!$B$6:$B$400=HI$3)*(Eingabe!$E$6:$E$400))","v":0},{"$f":"SUMPRODUCT((Eingabe!$C$6:$C$400<$CN24)*(Eingabe!$D$6:$D$400>=$CN24)*(Eingabe!$B$6:$B$400=HI$3)*(Eingabe!$E$6:$E$400))","v":0},{"$f":"SUMPRODUCT((Eingabe!$C$6:$C$400<=$CN24)*(Eingabe!$D$6:$D$400>$CN24)*(Eingabe!$B$6:$B$400=HK$3)*(Eingabe!$E$6:$E$400))","v":0},{"$f":"SUMPRODUCT((Eingabe!$C$6:$C$400<$CN24)*(Eingabe!$D$6:$D$400>=$CN24)*(Eingabe!$B$6:$B$400=HK$3)*(Eingabe!$E$6:$E$400))","v":0},"2026-11-21","2026-11-21",{"$f":"SUMPRODUCT((Eingabe!$C$6:$C$400<=$CX24)*(Eingabe!$D$6:$D$400>$CX24)*(Eingabe!$B$6:$B$400=HO$3)*(Eingabe!$E$6:$E$400))","v":7},{"$f":"SUMPRODUCT((Eingabe!$C$6:$C$400<$CX24)*(Eingabe!$D$6:$D$400>=$CX24)*(Eingabe!$B$6:$B$400=HO$3)*(Eingabe!$E$6:$E$400))","v":7},{"$f":"SUMPRODUCT((Eingabe!$C$6:$C$400<=$CX24)*(Eingabe!$D$6:$D$400>$CX24)*(Eingabe!$B$6:$B$400=HQ$3)*(Eingabe!$E$6:$E$400))","v":0},{"$f":"SUMPRODUCT((Eingabe!$C$6:$C$400<$CX24)*(Eingabe!$D$6:$D$400>=$CX24)*(Eingabe!$B$6:$B$400=HQ$3)*(Eingabe!$E$6:$E$400))","v":0},{"$f":"SUMPRODUCT((Eingabe!$C$6:$C$400<=$CX24)*(Eingabe!$D$6:$D$400>$CX24)*(Eingabe!$B$6:$B$400=HS$3)*(Eingabe!$E$6:$E$400))","v":0},{"$f":"SUMPRODUCT((Eingabe!$C$6:$C$400<$CX24)*(Eingabe!$D$6:$D$400>=$CX24)*(Eingabe!$B$6:$B$400=HS$3)*(Eingabe!$E$6:$E$400))","v":0},{"$f":"SUMPRODUCT((Eingabe!$C$6:$C$400<=$CX24)*(Eingabe!$D$6:$D$400>$CX24)*(Eingabe!$B$6:$B$400=HU$3)*(Eingabe!$E$6:$E$400))","v":0},{"$f":"SUMPRODUCT((Eingabe!$C$6:$C$400<$CX24)*(Eingabe!$D$6:$D$400>=$CX24)*(Eingabe!$B$6:$B$400=HU$3)*(Eingabe!$E$6:$E$400))","v":0},"2026-12-21","2026-12-21",{"$f":"SUMPRODUCT((Eingabe!$C$6:$C$400<=$DH24)*(Eingabe!$D$6:$D$400>$DH24)*(Eingabe!$B$6:$B$400=HY$3)*(Eingabe!$E$6:$E$400))","v":7},{"$f":"SUMPRODUCT((Eingabe!$C$6:$C$400<$DH24)*(Eingabe!$D$6:$D$400>=$DH24)*(Eingabe!$B$6:$B$400=HY$3)*(Eingabe!$E$6:$E$400))","v":7},{"$f":"SUMPRODUCT((Eingabe!$C$6:$C$400<=$DH24)*(Eingabe!$D$6:$D$400>$DH24)*(Eingabe!$B$6:$B$400=IA$3)*(Eingabe!$E$6:$E$400))","v":0},{"$f":"SUMPRODUCT((Eingabe!$C$6:$C$400<$DH24)*(Eingabe!$D$6:$D$400>=$DH24)*(Eingabe!$B$6:$B$400=IA$3)*(Eingabe!$E$6:$E$400))","v":0},{"$f":"SUMPRODUCT((Eingabe!$C$6:$C$400<=$DH24)*(Eingabe!$D$6:$D$400>$DH24)*(Eingabe!$B$6:$B$400=IC$3)*(Eingabe!$E$6:$E$400))","v":0},{"$f":"SUMPRODUCT((Eingabe!$C$6:$C$400<$DH24)*(Eingabe!$D$6:$D$400>=$DH24)*(Eingabe!$B$6:$B$400=IC$3)*(Eingabe!$E$6:$E$400))","v":0},{"$f":"SUMPRODUCT((Eingabe!$C$6:$C$400<=$DH24)*(Eingabe!$D$6:$D$400>$DH24)*(Eingabe!$B$6:$B$400=IE$3)*(Eingabe!$E$6:$E$400))","v":0},{"$f":"SUMPRODUCT((Eingabe!$C$6:$C$400<$DH24)*(Eingabe!$D$6:$D$400>=$DH24)*(Eingabe!$B$6:$B$400=IE$3)*(Eingabe!$E$6:$E$400))","v":0}]
["2025-01-22","2025-01-22",{"$f":"SUMPRODUCT((Eingabe!$C$6:$C$400<=$B25)*(Eingabe!$D$6:$D$400>$B25)*(Eingabe!$B$6:$B$400=C$3)*(Eingabe!$E$6:$E$400))","v":0},{"$f":"SUMPRODUCT((Eingabe!$C$6:$C$400<$B25)*(Eingabe!$D$6:$D$400>=$B25)*(Eingabe!$B$6:$B$400=C$3)*(Eingabe!$E$6:$E$400))","v":6},{"$f":"SUMPRODUCT((Eingabe!$C$6:$C$400<=$B25)*(Eingabe!$D$6:$D$400>$B25)*(Eingabe!$B$6:$B$400=E$3)*(Eingabe!$E$6:$E$400))","v":0},{"$f":"SUMPRODUCT((Eingabe!$C$6:$C$400<$B25)*(Eingabe!$D$6:$D$400>=$B25)*(Eingabe!$B$6:$B$400=E$3)*(Eingabe!$E$6:$E$400))","v":6},{"$f":"SUMPRODUCT((Eingabe!$C$6:$C$400<=$B25)*(Eingabe!$D$6:$D$400>$B25)*(Eingabe!$B$6:$B$400=G$3)*(Eingabe!$E$6:$E$400))","v":0},{"$f":"SUMPRODUCT((Eingabe!$C$6:$C$400<$B25)*(Eingabe!$D$6:$D$400>=$B25)*(Eingabe!$B$6:$B$400=G$3)*(Eingabe!$E$6:$E$400))","v":6},{"$f":"SUMPRODUCT((Eingabe!$C$6:$C$400<=$B25)*(Eingabe!$D$6:$D$400>$B25)*(Eingabe!$B$6:$B$400=I$3)*(Eingabe!$E$6:$E$400))","v":0},{"$f":"SUMPRODUCT((Eingabe!$C$6:$C$400<$B25)*(Eingabe!$D$6:$D$400>=$B25)*(Eingabe!$B$6:$B$400=I$3)*(Eingabe!$E$6:$E$400))","v":0},"2025-02-22","2025-02-22",{"$f":"SUMPRODUCT((Eingabe!$C$6:$C$400<=$L25)*(Eingabe!$D$6:$D$400>$L25)*(Eingabe!$B$6:$B$400=M$3)*(Eingabe!$E$6:$E$400))","v":0},{"$f":"SUMPRODUCT((Eingabe!$C$6:$C$400<$L25)*(Eingabe!$D$6:$D$400>=$L25)*(Eingabe!$B$6:$B$400=M$3)*(Eingabe!$E$6:$E$400))","v":0},{"$f":"SUMPRODUCT((Eingabe!$C$6:$C$400<=$L25)*(Eingabe!$D$6:$D$400>$L25)*(Eingabe!$B$6:$B$400=O$3)*(Eingabe!$E$6:$E$400))","v":0},{"$f":"SUMPRODUCT((Eingabe!$C$6:$C$400<$L25)*(Eingabe!$D$6:$D$400>=$L25)*(Eingabe!$B$6:$B$400=O$3)*(Eingabe!$E$6:$E$400))","v":0},{"$f":"SUMPRODUCT((Eingabe!$C$6:$C$400<=$L25)*(Eingabe!$D$6:$D$400>$L25)*(Eingabe!$B$6:$B$400=Q$3)*(Eingabe!$E$6:$E$400))","v":0},{"$f":"SUMPRODUCT((Eingabe!$C$6:$C$400<$L25)*(Eingabe!$D$6:$D$400>=$L25)*(Eingabe!$B$6:$B$400=Q$3)*(Eingabe!$E$6:$E$400))","v":0},{"$f":"SUMPRODUCT((Eingabe!$C$6:$C$400<=$L25)*(Eingabe!$D$6:$D$400>$L25)*(Eingabe!$B$6:$B$400=S$3)*(Eingabe!$E$6:$E$400))","v":0},{"$f":"SUMPRODUCT((Eingabe!$C$6:$C$400<$L25)*(Eingabe!$D$6:$D$400>=$L25)*(Eingabe!$B$6:$B$400=S$3)*(Eingabe!$E$6:$E$400))","v":0},"2025-03-22","2025-03-22",{"$f":"SUMPRODUCT((Eingabe!$C$6:$C$400<=$V25)*(Eingabe!$D$6:$D$400>$V25)*(Eingabe!$B$6:$B$400=W$3)*(Eingabe!$E$6:$E$400))","v":0},{"$f":"SUMPRODUCT((Eingabe!$C$6:$C$400<$V25)*(Eingabe!$D$6:$D$400>=$V25)*(Eingabe!$B$6:$B$400=W$3)*(Eingabe!$E$6:$E$400))","v":0},{"$f":"SUMPRODUCT((Eingabe!$C$6:$C$400<=$V25)*(Eingabe!$D$6:$D$400>$V25)*(Eingabe!$B$6:$B$400=Y$3)*(Eingabe!$E$6:$E$400))","v":0},{"$f":"SUMPRODUCT((Eingabe!$C$6:$C$400<$V25)*(Eingabe!$D$6:$D$400>=$V25)*(Eingabe!$B$6:$B$400=Y$3)*(Eingabe!$E$6:$E$400))","v":0},{"$f":"SUMPRODUCT((Eingabe!$C$6:$C$400<=$V25)*(Eingabe!$D$6:$D$400>$V25)*(Eingabe!$B$6:$B$400=AA$3)*(Eingabe!$E$6:$E$400))","v":0},{"$f":"SUMPRODUCT((Eingabe!$C$6:$C$400<$V25)*(Eingabe!$D$6:$D$400>=$V25)*(Eingabe!$B$6:$B$400=AA$3)*(Eingabe!$E$6:$E$400))","v":0},{"$f":"SUMPRODUCT((Eingabe!$C$6:$C$400<=$V25)*(Eingabe!$D$6:$D$400>$V25)*(Eingabe!$B$6:$B$400=AC$3)*(Eingabe!$E$6:$E$400))","v":0},{"$f":"SUMPRODUCT((Eingabe!$C$6:$C$400<$V25)*(Eingabe!$D$6:$D$400>=$V25)*(Eingabe!$B$6:$B$400=AC$3)*(Eingabe!$E$6:$E$400))","v":0},"2025-04-22","2025-04-22",{"$f":"SUMPRODUCT((Eingabe!$C$6:$C$400<=$AF25)*(Eingabe!$D$6:$D$400>$AF25)*(Eingabe!$B$6:$B$400=AG$3)*(Eingabe!$E$6:$E$400))","v":0},{"$f":"SUMPRODUCT((Eingabe!$C$6:$C$400<$AF25)*(Eingabe!$D$6:$D$400>=$AF25)*(Eingabe!$B$6:$B$400=AG$3)*(Eingabe!$E$6:$E$400))","v":0},{"$f":"SUMPRODUCT((Eingabe!$C$6:$C$400<=$AF25)*(Eingabe!$D$6:$D$400>$AF25)*(Eingabe!$B$6:$B$400=AI$3)*(Eingabe!$E$6:$E$400))","v":8},{"$f":"SUMPRODUCT((Eingabe!$C$6:$C$400<$AF25)*(Eingabe!$D$6:$D$400>=$AF25)*(Eingabe!$B$6:$B$400=AI$3)*(Eingabe!$E$6:$E$400))","v":8},{"$f":"SUMPRODUCT((Eingabe!$C$6:$C$400<=$AF25)*(Eingabe!$D$6:$D$400>$AF25)*(Eingabe!$B$6:$B$400=AK$3)*(Eingabe!$E$6:$E$400))","v":0},{"$f":"SUMPRODUCT((Eingabe!$C$6:$C$400<$AF25)*(Eingabe!$D$6:$D$400>=$AF25)*(Eingabe!$B$6:$B$400=AK$3)*(Eingabe!$E$6:$E$400))","v":0},{"$f":"SUMPRODUCT((Eingabe!$C$6:$C$400<=$AF25)*(Eingabe!$D$6:$D$400>$AF25)*(Eingabe!$B$6:$B$400=AM$3)*(Eingabe!$E$6:$E$400))","v":0},{"$f":"SUMPRODUCT((Eingabe!$C$6:$C$400<$AF25)*(Eingabe!$D$6:$D$400>=$AF25)*(Eingabe!$B$6:$B$400=AM$3)*(Eingabe!$E$6:$E$400))","v":0},"2025-05-22","2025-05-22",{"$f":"SUMPRODUCT((Eingabe!$C$6:$C$400<=$AP25)*(Eingabe!$D$6:$D$400>$AP25)*(Eingabe!$B$6:$B$400=AQ$3)*(Eingabe!$E$6:$E$400))","v":0},{"$f":"SUMPRODUCT((Eingabe!$C$6:$C$400<$AP25)*(Eingabe!$D$6:$D$400>=$AP25)*(Eingabe!$B$6:$B$400=AQ$3)*(Eingabe!$E$6:$E$400))","v":0},{"$f":"SUMPRODUCT((Eingabe!$C$6:$C$400<=$AP25)*(Eingabe!$D$6:$D$400>$AP25)*(Eingabe!$B$6:$B$400=AS$3)*(Eingabe!$E$6:$E$400))","v":0},{"$f":"SUMPRODUCT((Eingabe!$C$6:$C$400<$AP25)*(Eingabe!$D$6:$D$400>=$AP25)*(Eingabe!$B$6:$B$400=AS$3)*(Eingabe!$E$6:$E$400))","v":0},{"$f":"SUMPRODUCT((Eingabe!$C$6:$C$400<=$AP25)*(Eingabe!$D$6:$D$400>$AP25)*(Eingabe!$B$6:$B$400=AU$3)*(Eingabe!$E$6:$E$400))","v":0},{"$f":"SUMPRODUCT((Eingabe!$C$6:$C$400<$AP25)*(Eingabe!$D$6:$D$400>=$AP25)*(Eingabe!$B$6:$B$400=AU$3)*(Eingabe!$E$6:$E$400))","v":0},{"$f":"SUMPRODUCT((Eingabe!$C$6:$C$400<=$AP25)*(Eingabe!$D$6:$D$400>$AP25)*(Eingabe!$B$6:$B$400=AW$3)*(Eingabe!$E$6:$E$400))","v":0},{"$f":"SUMPRODUCT((Eingabe!$C$6:$C$400<$AP25)*(Eingabe!$D$6:$D$400>=$AP25)*(Eingabe!$B$6:$B$400=AW$3)*(Eingabe!$E$6:$E$400))","v":0},"2025-06-22","2025-06-22",{"$f":"SUMPRODUCT((Eingabe!$C$6:$C$400<=$AZ25)*(Eingabe!$D$6:$D$400>$AZ25)*(Eingabe!$B$6:$B$400=BA$3)*(Eingabe!$E$6:$E$400))","v":0},{"$f":"SUMPRODUCT((Eingabe!$C$6:$C$400<$AZ25)*(Eingabe!$D$6:$D$400>=$AZ25)*(Eingabe!$B$6:$B$400=BA$3)*(Eingabe!$E$6:$E$400))","v":0},{"$f":"SUMPRODUCT((Eingabe!$C$6:$C$400<=$AZ25)*(Eingabe!$D$6:$D$400>$AZ25)*(Eingabe!$B$6:$B$400=BC$3)*(Eingabe!$E$6:$E$400))","v":0},{"$f":"SUMPRODUCT((Eingabe!$C$6:$C$400<$AZ25)*(Eingabe!$D$6:$D$400>=$AZ25)*(Eingabe!$B$6:$B$400=BC$3)*(Eingabe!$E$6:$E$400))","v":0},{"$f":"SUMPRODUCT((Eingabe!$C$6:$C$400<=$AZ25)*(Eingabe!$D$6:$D$400>$AZ25)*(Eingabe!$B$6:$B$400=BE$3)*(Eingabe!$E$6:$E$400))","v":0},{"$f":"SUMPRODUCT((Eingabe!$C$6:$C$400<$AZ25)*(Eingabe!$D$6:$D$400>=$AZ25)*(Eingabe!$B$6:$B$400=BE$3)*(Eingabe!$E$6:$E$400))","v":0},{"$f":"SUMPRODUCT((Eingabe!$C$6:$C$400<=$AZ25)*(Eingabe!$D$6:$D$400>$AZ25)*(Eingabe!$B$6:$B$400=BG$3)*(Eingabe!$E$6:$E$400))","v":0},{"$f":"SUMPRODUCT((Eingabe!$C$6:$C$400<$AZ25)*(Eingabe!$D$6:$D$400>=$AZ25)*(Eingabe!$B$6:$B$400=BG$3)*(Eingabe!$E$6:$E$400))","v":0},"2025-07-22","2025-07-22",{"$f":"SUMPRODUCT((Eingabe!$C$6:$C$400<=$BJ25)*(Eingabe!$D$6:$D$400>$BJ25)*(Eingabe!$B$6:$B$400=BK$3)*(Eingabe!$E$6:$E$400))","v":0},{"$f":"SUMPRODUCT((Eingabe!$C$6:$C$400<$BJ25)*(Eingabe!$D$6:$D$400>=$BJ25)*(Eingabe!$B$6:$B$400=BK$3)*(Eingabe!$E$6:$E$400))","v":0},{"$f":"SUMPRODUCT((Eingabe!$C$6:$C$400<=$BJ25)*(Eingabe!$D$6:$D$400>$BJ25)*(Eingabe!$B$6:$B$400=BM$3)*(Eingabe!$E$6:$E$400))","v":0},{"$f":"SUMPRODUCT((Eingabe!$C$6:$C$400<$BJ25)*(Eingabe!$D$6:$D$400>=$BJ25)*(Eingabe!$B$6:$B$400=BM$3)*(Eingabe!$E$6:$E$400))","v":0},{"$f":"SUMPRODUCT((Eingabe!$C$6:$C$400<=$BJ25)*(Eingabe!$D$6:$D$400>$BJ25)*(Eingabe!$B$6:$B$400=BO$3)*(Eingabe!$E$6:$E$400))","v":0},{"$f":"SUMPRODUCT((Eingabe!$C$6:$C$400<$BJ25)*(Eingabe!$D$6:$D$400>=$BJ25)*(Eingabe!$B$6:$B$400=BO$3)*(Eingabe!$E$6:$E$400))","v":0},{"$f":"SUMPRODUCT((Eingabe!$C$6:$C$400<=$BJ25)*(Eingabe!$D$6:$D$400>$BJ25)*(Eingabe!$B$6:$B$400=BQ$3)*(Eingabe!$E$6:$E$400))","v":0},{"$f":"SUMPRODUCT((Eingabe!$C$6:$C$400<$BJ25)*(Eingabe!$D$6:$D$400>=$BJ25)*(Eingabe!$B$6:$B$400=BQ$3)*(Eingabe!$E$6:$E$400))","v":0},"2025-08-22","2025-08-22",{"$f":"SUMPRODUCT((Eingabe!$C$6:$C$400<=$BT25)*(Eingabe!$D$6:$D$400>$BT25)*(Eingabe!$B$6:$B$400=BU$3)*(Eingabe!$E$6:$E$400))","v":0},{"$f":"SUMPRODUCT((Eingabe!$C$6:$C$400<$BT25)*(Eingabe!$D$6:$D$400>=$BT25)*(Eingabe!$B$6:$B$400=BU$3)*(Eingabe!$E$6:$E$400))","v":0},{"$f":"SUMPRODUCT((Eingabe!$C$6:$C$400<=$BT25)*(Eingabe!$D$6:$D$400>$BT25)*(Eingabe!$B$6:$B$400=BW$3)*(Eingabe!$E$6:$E$400))","v":0},{"$f":"SUMPRODUCT((Eingabe!$C$6:$C$400<$BT25)*(Eingabe!$D$6:$D$400>=$BT25)*(Eingabe!$B$6:$B$400=BW$3)*(Eingabe!$E$6:$E$400))","v":0},{"$f":"SUMPRODUCT((Eingabe!$C$6:$C$400<=$BT25)*(Eingabe!$D$6:$D$400>$BT25)*(Eingabe!$B$6:$B$400=BY$3)*(Eingabe!$E$6:$E$400))","v":0},{"$f":"SUMPRODUCT((Eingabe!$C$6:$C$400<$BT25)*(Eingabe!$D$6:$D$400>=$BT25)*(Eingabe!$B$6:$B$400=BY$3)*(Eingabe!$E$6:$E$400))","v":0},{"$f":"SUMPRODUCT((Eingabe!$C$6:$C$400<=$BT25)*(Eingabe!$D$6:$D$400>$BT25)*(Eingabe!$B$6:$B$400=CA$3)*(Eingabe!$E$6:$E$400))","v":0},{"$f":"SUMPRODUCT((Eingabe!$C$6:$C$400<$BT25)*(Eingabe!$D$6:$D$400>=$BT25)*(Eingabe!$B$6:$B$400=CA$3)*(Eingabe!$E$6:$E$400))","v":0},"2025-09-22","2025-09-22",{"$f":"SUMPRODUCT((Eingabe!$C$6:$C$400<=$CD25)*(Eingabe!$D$6:$D$400>$CD25)*(Eingabe!$B$6:$B$400=CE$3)*(Eingabe!$E$6:$E$400))","v":0},{"$f":"SUMPRODUCT((Eingabe!$C$6:$C$400<$CD25)*(Eingabe!$D$6:$D$400>=$CD25)*(Eingabe!$B$6:$B$400=CE$3)*(Eingabe!$E$6:$E$400))","v":0},{"$f":"SUMPRODUCT((Eingabe!$C$6:$C$400<=$CD25)*(Eingabe!$D$6:$D$400>$CD25)*(Eingabe!$B$6:$B$400=CG$3)*(Eingabe!$E$6:$E$400))","v":0},{"$f":"SUMPRODUCT((Eingabe!$C$6:$C$400<$CD25)*(Eingabe!$D$6:$D$400>=$CD25)*(Eingabe!$B$6:$B$400=CG$3)*(Eingabe!$E$6:$E$400))","v":0},{"$f":"SUMPRODUCT((Eingabe!$C$6:$C$400<=$CD25)*(Eingabe!$D$6:$D$400>$CD25)*(Eingabe!$B$6:$B$400=CI$3)*(Eingabe!$E$6:$E$400))","v":0},{"$f":"SUMPRODUCT((Eingabe!$C$6:$C$400<$CD25)*(Eingabe!$D$6:$D$400>=$CD25)*(Eingabe!$B$6:$B$400=CI$3)*(Eingabe!$E$6:$E$400))","v":0},{"$f":"SUMPRODUCT((Eingabe!$C$6:$C$400<=$CD25)*(Eingabe!$D$6:$D$400>$CD25)*(Eingabe!$B$6:$B$400=CK$3)*(Eingabe!$E$6:$E$400))","v":0},{"$f":"SUMPRODUCT((Eingabe!$C$6:$C$400<$CD25)*(Eingabe!$D$6:$D$400>=$CD25)*(Eingabe!$B$6:$B$400=CK$3)*(Eingabe!$E$6:$E$400))","v":0},"2025-10-22","2025-10-22",{"$f":"SUMPRODUCT((Eingabe!$C$6:$C$400<=$CN25)*(Eingabe!$D$6:$D$400>$CN25)*(Eingabe!$B$6:$B$400=CO$3)*(Eingabe!$E$6:$E$400))","v":7},{"$f":"SUMPRODUCT((Eingabe!$C$6:$C$400<$CN25)*(Eingabe!$D$6:$D$400>=$CN25)*(Eingabe!$B$6:$B$400=CO$3)*(Eingabe!$E$6:$E$400))","v":7},{"$f":"SUMPRODUCT((Eingabe!$C$6:$C$400<=$CN25)*(Eingabe!$D$6:$D$400>$CN25)*(Eingabe!$B$6:$B$400=CQ$3)*(Eingabe!$E$6:$E$400))","v":0},{"$f":"SUMPRODUCT((Eingabe!$C$6:$C$400<$CN25)*(Eingabe!$D$6:$D$400>=$CN25)*(Eingabe!$B$6:$B$400=CQ$3)*(Eingabe!$E$6:$E$400))","v":0},{"$f":"SUMPRODUCT((Eingabe!$C$6:$C$400<=$CN25)*(Eingabe!$D$6:$D$400>$CN25)*(Eingabe!$B$6:$B$400=CS$3)*(Eingabe!$E$6:$E$400))","v":0},{"$f":"SUMPRODUCT((Eingabe!$C$6:$C$400<$CN25)*(Eingabe!$D$6:$D$400>=$CN25)*(Eingabe!$B$6:$B$400=CS$3)*(Eingabe!$E$6:$E$400))","v":0},{"$f":"SUMPRODUCT((Eingabe!$C$6:$C$400<=$CN25)*(Eingabe!$D$6:$D$400>$CN25)*(Eingabe!$B$6:$B$400=CU$3)*(Eingabe!$E$6:$E$400))","v":0},{"$f":"SUMPRODUCT((Eingabe!$C$6:$C$400<$CN25)*(Eingabe!$D$6:$D$400>=$CN25)*(Eingabe!$B$6:$B$400=CU$3)*(Eingabe!$E$6:$E$400))","v":0},"2025-11-22","2025-11-22",{"$f":"SUMPRODUCT((Eingabe!$C$6:$C$400<=$CX25)*(Eingabe!$D$6:$D$400>$CX25)*(Eingabe!$B$6:$B$400=CY$3)*(Eingabe!$E$6:$E$400))","v":7},{"$f":"SUMPRODUCT((Eingabe!$C$6:$C$400<$CX25)*(Eingabe!$D$6:$D$400>=$CX25)*(Eingabe!$B$6:$B$400=CY$3)*(Eingabe!$E$6:$E$400))","v":7},{"$f":"SUMPRODUCT((Eingabe!$C$6:$C$400<=$CX25)*(Eingabe!$D$6:$D$400>$CX25)*(Eingabe!$B$6:$B$400=DA$3)*(Eingabe!$E$6:$E$400))","v":0},{"$f":"SUMPRODUCT((Eingabe!$C$6:$C$400<$CX25)*(Eingabe!$D$6:$D$400>=$CX25)*(Eingabe!$B$6:$B$400=DA$3)*(Eingabe!$E$6:$E$400))","v":0},{"$f":"SUMPRODUCT((Eingabe!$C$6:$C$400<=$CX25)*(Eingabe!$D$6:$D$400>$CX25)*(Eingabe!$B$6:$B$400=DC$3)*(Eingabe!$E$6:$E$400))","v":0},{"$f":"SUMPRODUCT((Eingabe!$C$6:$C$400<$CX25)*(Eingabe!$D$6:$D$400>=$CX25)*(Eingabe!$B$6:$B$400=DC$3)*(Eingabe!$E$6:$E$400))","v":0},{"$f":"SUMPRODUCT((Eingabe!$C$6:$C$400<=$CX25)*(Eingabe!$D$6:$D$400>$CX25)*(Eingabe!$B$6:$B$400=DE$3)*(Eingabe!$E$6:$E$400))","v":0},{"$f":"SUMPRODUCT((Eingabe!$C$6:$C$400<$CX25)*(Eingabe!$D$6:$D$400>=$CX25)*(Eingabe!$B$6:$B$400=DE$3)*(Eingabe!$E$6:$E$400))","v":0},"2025-12-22","2025-12-22",{"$f":"SUMPRODUCT((Eingabe!$C$6:$C$400<=$DH25)*(Eingabe!$D$6:$D$400>$DH25)*(Eingabe!$B$6:$B$400=DI$3)*(Eingabe!$E$6:$E$400))","v":7},{"$f":"SUMPRODUCT((Eingabe!$C$6:$C$400<$DH25)*(Eingabe!$D$6:$D$400>=$DH25)*(Eingabe!$B$6:$B$400=DI$3)*(Eingabe!$E$6:$E$400))","v":7},{"$f":"SUMPRODUCT((Eingabe!$C$6:$C$400<=$DH25)*(Eingabe!$D$6:$D$400>$DH25)*(Eingabe!$B$6:$B$400=DK$3)*(Eingabe!$E$6:$E$400))","v":0},{"$f":"SUMPRODUCT((Eingabe!$C$6:$C$400<$DH25)*(Eingabe!$D$6:$D$400>=$DH25)*(Eingabe!$B$6:$B$400=DK$3)*(Eingabe!$E$6:$E$400))","v":0},{"$f":"SUMPRODUCT((Eingabe!$C$6:$C$400<=$DH25)*(Eingabe!$D$6:$D$400>$DH25)*(Eingabe!$B$6:$B$400=DM$3)*(Eingabe!$E$6:$E$400))","v":0},{"$f":"SUMPRODUCT((Eingabe!$C$6:$C$400<$DH25)*(Eingabe!$D$6:$D$400>=$DH25)*(Eingabe!$B$6:$B$400=DM$3)*(Eingabe!$E$6:$E$400))","v":0},{"$f":"SUMPRODUCT((Eingabe!$C$6:$C$400<=$DH25)*(Eingabe!$D$6:$D$400>$DH25)*(Eingabe!$B$6:$B$400=DO$3)*(Eingabe!$E$6:$E$400))","v":0},{"$f":"SUMPRODUCT((Eingabe!$C$6:$C$400<$DH25)*(Eingabe!$D$6:$D$400>=$DH25)*(Eingabe!$B$6:$B$400=DO$3)*(Eingabe!$E$6:$E$400))","v":0},"2026-01-22","2026-01-22",{"$f":"SUMPRODUCT((Eingabe!$C$6:$C$400<=$B25)*(Eingabe!$D$6:$D$400>$B25)*(Eingabe!$B$6:$B$400=DS$3)*(Eingabe!$E$6:$E$400))","v":0},{"$f":"SUMPRODUCT((Eingabe!$C$6:$C$400<$B25)*(Eingabe!$D$6:$D$400>=$B25)*(Eingabe!$B$6:$B$400=DS$3)*(Eingabe!$E$6:$E$400))","v":6},{"$f":"SUMPRODUCT((Eingabe!$C$6:$C$400<=$B25)*(Eingabe!$D$6:$D$400>$B25)*(Eingabe!$B$6:$B$400=DU$3)*(Eingabe!$E$6:$E$400))","v":0},{"$f":"SUMPRODUCT((Eingabe!$C$6:$C$400<$B25)*(Eingabe!$D$6:$D$400>=$B25)*(Eingabe!$B$6:$B$400=DU$3)*(Eingabe!$E$6:$E$400))","v":6},{"$f":"SUMPRODUCT((Eingabe!$C$6:$C$400<=$B25)*(Eingabe!$D$6:$D$400>$B25)*(Eingabe!$B$6:$B$400=DW$3)*(Eingabe!$E$6:$E$400))","v":0},{"$f":"SUMPRODUCT((Eingabe!$C$6:$C$400<$B25)*(Eingabe!$D$6:$D$400>=$B25)*(Eingabe!$B$6:$B$400=DW$3)*(Eingabe!$E$6:$E$400))","v":6},{"$f":"SUMPRODUCT((Eingabe!$C$6:$C$400<=$B25)*(Eingabe!$D$6:$D$400>$B25)*(Eingabe!$B$6:$B$400=DY$3)*(Eingabe!$E$6:$E$400))","v":0},{"$f":"SUMPRODUCT((Eingabe!$C$6:$C$400<$B25)*(Eingabe!$D$6:$D$400>=$B25)*(Eingabe!$B$6:$B$400=DY$3)*(Eingabe!$E$6:$E$400))","v":0},"2026-02-22","2026-02-22",{"$f":"SUMPRODUCT((Eingabe!$C$6:$C$400<=$L25)*(Eingabe!$D$6:$D$400>$L25)*(Eingabe!$B$6:$B$400=EC$3)*(Eingabe!$E$6:$E$400))","v":0},{"$f":"SUMPRODUCT((Eingabe!$C$6:$C$400<$L25)*(Eingabe!$D$6:$D$400>=$L25)*(Eingabe!$B$6:$B$400=EC$3)*(Eingabe!$E$6:$E$400))","v":0},{"$f":"SUMPRODUCT((Eingabe!$C$6:$C$400<=$L25)*(Eingabe!$D$6:$D$400>$L25)*(Eingabe!$B$6:$B$400=EE$3)*(Eingabe!$E$6:$E$400))","v":0},{"$f":"SUMPRODUCT((Eingabe!$C$6:$C$400<$L25)*(Eingabe!$D$6:$D$400>=$L25)*(Eingabe!$B$6:$B$400=EE$3)*(Eingabe!$E$6:$E$400))","v":0},{"$f":"SUMPRODUCT((Eingabe!$C$6:$C$400<=$L25)*(Eingabe!$D$6:$D$400>$L25)*(Eingabe!$B$6:$B$400=EG$3)*(Eingabe!$E$6:$E$400))","v":0},{"$f":"SUMPRODUCT((Eingabe!$C$6:$C$400<$L25)*(Eingabe!$D$6:$D$400>=$L25)*(Eingabe!$B$6:$B$400=EG$3)*(Eingabe!$E$6:$E$400))","v":0},{"$f":"SUMPRODUCT((Eingabe!$C$6:$C$400<=$L25)*(Eingabe!$D$6:$D$400>$L25)*(Eingabe!$B$6:$B$400=EI$3)*(Eingabe!$E$6:$E$400))","v":0},{"$f":"SUMPRODUCT((Eingabe!$C$6:$C$400<$L25)*(Eingabe!$D$6:$D$400>=$L25)*(Eingabe!$B$6:$B$400=EI$3)*(Eingabe!$E$6:$E$400))","v":0},"2026-03-22","2026-03-22",{"$f":"SUMPRODUCT((Eingabe!$C$6:$C$400<=$V25)*(Eingabe!$D$6:$D$400>$V25)*(Eingabe!$B$6:$B$400=EM$3)*(Eingabe!$E$6:$E$400))","v":0},{"$f":"SUMPRODUCT((Eingabe!$C$6:$C$400<$V25)*(Eingabe!$D$6:$D$400>=$V25)*(Eingabe!$B$6:$B$400=EM$3)*(Eingabe!$E$6:$E$400))","v":0},{"$f":"SUMPRODUCT((Eingabe!$C$6:$C$400<=$V25)*(Eingabe!$D$6:$D$400>$V25)*(Eingabe!$B$6:$B$400=EO$3)*(Eingabe!$E$6:$E$400))","v":0},{"$f":"SUMPRODUCT((Eingabe!$C$6:$C$400<$V25)*(Eingabe!$D$6:$D$400>=$V25)*(Eingabe!$B$6:$B$400=EO$3)*(Eingabe!$E$6:$E$400))","v":0},{"$f":"SUMPRODUCT((Eingabe!$C$6:$C$400<=$V25)*(Eingabe!$D$6:$D$400>$V25)*(Eingabe!$B$6:$B$400=EQ$3)*(Eingabe!$E$6:$E$400))","v":0},{"$f":"SUMPRODUCT((Eingabe!$C$6:$C$400<$V25)*(Eingabe!$D$6:$D$400>=$V25)*(Eingabe!$B$6:$B$400=EQ$3)*(Eingabe!$E$6:$E$400))","v":0},{"$f":"SUMPRODUCT((Eingabe!$C$6:$C$400<=$V25)*(Eingabe!$D$6:$D$400>$V25)*(Eingabe!$B$6:$B$400=ES$3)*(Eingabe!$E$6:$E$400))","v":0},{"$f":"SUMPRODUCT((Eingabe!$C$6:$C$400<$V25)*(Eingabe!$D$6:$D$400>=$V25)*(Eingabe!$B$6:$B$400=ES$3)*(Eingabe!$E$6:$E$400))","v":0},"2026-04-22","2026-04-22",{"$f":"SUMPRODUCT((Eingabe!$C$6:$C$400<=$AF25)*(Eingabe!$D$6:$D$400>$AF25)*(Eingabe!$B$6:$B$400=EW$3)*(Eingabe!$E$6:$E$400))","v":0},{"$f":"SUMPRODUCT((Eingabe!$C$6:$C$400<$AF25)*(Eingabe!$D$6:$D$400>=$AF25)*(Eingabe!$B$6:$B$400=EW$3)*(Eingabe!$E$6:$E$400))","v":0},{"$f":"SUMPRODUCT((Eingabe!$C$6:$C$400<=$AF25)*(Eingabe!$D$6:$D$400>$AF25)*(Eingabe!$B$6:$B$400=EY$3)*(Eingabe!$E$6:$E$400))","v":8},{"$f":"SUMPRODUCT((Eingabe!$C$6:$C$400<$AF25)*(Eingabe!$D$6:$D$400>=$AF25)*(Eingabe!$B$6:$B$400=EY$3)*(Eingabe!$E$6:$E$400))","v":8},{"$f":"SUMPRODUCT((Eingabe!$C$6:$C$400<=$AF25)*(Eingabe!$D$6:$D$400>$AF25)*(Eingabe!$B$6:$B$400=FA$3)*(Eingabe!$E$6:$E$400))","v":0},{"$f":"SUMPRODUCT((Eingabe!$C$6:$C$400<$AF25)*(Eingabe!$D$6:$D$400>=$AF25)*(Eingabe!$B$6:$B$400=FA$3)*(Eingabe!$E$6:$E$400))","v":0},{"$f":"SUMPRODUCT((Eingabe!$C$6:$C$400<=$AF25)*(Eingabe!$D$6:$D$400>$AF25)*(Eingabe!$B$6:$B$400=FC$3)*(Eingabe!$E$6:$E$400))","v":0},{"$f":"SUMPRODUCT((Eingabe!$C$6:$C$400<$AF25)*(Eingabe!$D$6:$D$400>=$AF25)*(Eingabe!$B$6:$B$400=FC$3)*(Eingabe!$E$6:$E$400))","v":0},"2026-05-22","2026-05-22",{"$f":"SUMPRODUCT((Eingabe!$C$6:$C$400<=$AP25)*(Eingabe!$D$6:$D$400>$AP25)*(Eingabe!$B$6:$B$400=FG$3)*(Eingabe!$E$6:$E$400))","v":0},{"$f":"SUMPRODUCT((Eingabe!$C$6:$C$400<$AP25)*(Eingabe!$D$6:$D$400>=$AP25)*(Eingabe!$B$6:$B$400=FG$3)*(Eingabe!$E$6:$E$400))","v":0},{"$f":"SUMPRODUCT((Eingabe!$C$6:$C$400<=$AP25)*(Eingabe!$D$6:$D$400>$AP25)*(Eingabe!$B$6:$B$400=FI$3)*(Eingabe!$E$6:$E$400))","v":0},{"$f":"SUMPRODUCT((Eingabe!$C$6:$C$400<$AP25)*(Eingabe!$D$6:$D$400>=$AP25)*(Eingabe!$B$6:$B$400=FI$3)*(Eingabe!$E$6:$E$400))","v":0},{"$f":"SUMPRODUCT((Eingabe!$C$6:$C$400<=$AP25)*(Eingabe!$D$6:$D$400>$AP25)*(Eingabe!$B$6:$B$400=FK$3)*(Eingabe!$E$6:$E$400))","v":0},{"$f":"SUMPRODUCT((Eingabe!$C$6:$C$400<$AP25)*(Eingabe!$D$6:$D$400>=$AP25)*(Eingabe!$B$6:$B$400=FK$3)*(Eingabe!$E$6:$E$400))","v":0},{"$f":"SUMPRODUCT((Eingabe!$C$6:$C$400<=$AP25)*(Eingabe!$D$6:$D$400>$AP25)*(Eingabe!$B$6:$B$400=FM$3)*(Eingabe!$E$6:$E$400))","v":0},{"$f":"SUMPRODUCT((Eingabe!$C$6:$C$400<$AP25)*(Eingabe!$D$6:$D$400>=$AP25)*(Eingabe!$B$6:$B$400=FM$3)*(Eingabe!$E$6:$E$400))","v":0},"2026-06-22","2026-06-22",{"$f":"SUMPRODUCT((Eingabe!$C$6:$C$400<=$AZ25)*(Eingabe!$D$6:$D$400>$AZ25)*(Eingabe!$B$6:$B$400=FQ$3)*(Eingabe!$E$6:$E$400))","v":0},{"$f":"SUMPRODUCT((Eingabe!$C$6:$C$400<$AZ25)*(Eingabe!$D$6:$D$400>=$AZ25)*(Eingabe!$B$6:$B$400=FQ$3)*(Eingabe!$E$6:$E$400))","v":0},{"$f":"SUMPRODUCT((Eingabe!$C$6:$C$400<=$AZ25)*(Eingabe!$D$6:$D$400>$AZ25)*(Eingabe!$B$6:$B$400=FS$3)*(Eingabe!$E$6:$E$400))","v":0},{"$f":"SUMPRODUCT((Eingabe!$C$6:$C$400<$AZ25)*(Eingabe!$D$6:$D$400>=$AZ25)*(Eingabe!$B$6:$B$400=FS$3)*(Eingabe!$E$6:$E$400))","v":0},{"$f":"SUMPRODUCT((Eingabe!$C$6:$C$400<=$AZ25)*(Eingabe!$D$6:$D$400>$AZ25)*(Eingabe!$B$6:$B$400=FU$3)*(Eingabe!$E$6:$E$400))","v":0},{"$f":"SUMPRODUCT((Eingabe!$C$6:$C$400<$AZ25)*(Eingabe!$D$6:$D$400>=$AZ25)*(Eingabe!$B$6:$B$400=FU$3)*(Eingabe!$E$6:$E$400))","v":0},{"$f":"SUMPRODUCT((Eingabe!$C$6:$C$400<=$AZ25)*(Eingabe!$D$6:$D$400>$AZ25)*(Eingabe!$B$6:$B$400=FW$3)*(Eingabe!$E$6:$E$400))","v":0},{"$f":"SUMPRODUCT((Eingabe!$C$6:$C$400<$AZ25)*(Eingabe!$D$6:$D$400>=$AZ25)*(Eingabe!$B$6:$B$400=FW$3)*(Eingabe!$E$6:$E$400))","v":0},"2026-07-22","2026-07-22",{"$f":"SUMPRODUCT((Eingabe!$C$6:$C$400<=$BJ25)*(Eingabe!$D$6:$D$400>$BJ25)*(Eingabe!$B$6:$B$400=GA$3)*(Eingabe!$E$6:$E$400))","v":0},{"$f":"SUMPRODUCT((Eingabe!$C$6:$C$400<$BJ25)*(Eingabe!$D$6:$D$400>=$BJ25)*(Eingabe!$B$6:$B$400=GA$3)*(Eingabe!$E$6:$E$400))","v":0},{"$f":"SUMPRODUCT((Eingabe!$C$6:$C$400<=$BJ25)*(Eingabe!$D$6:$D$400>$BJ25)*(Eingabe!$B$6:$B$400=GC$3)*(Eingabe!$E$6:$E$400))","v":0},{"$f":"SUMPRODUCT((Eingabe!$C$6:$C$400<$BJ25)*(Eingabe!$D$6:$D$400>=$BJ25)*(Eingabe!$B$6:$B$400=GC$3)*(Eingabe!$E$6:$E$400))","v":0},{"$f":"SUMPRODUCT((Eingabe!$C$6:$C$400<=$BJ25)*(Eingabe!$D$6:$D$400>$BJ25)*(Eingabe!$B$6:$B$400=GE$3)*(Eingabe!$E$6:$E$400))","v":0},{"$f":"SUMPRODUCT((Eingabe!$C$6:$C$400<$BJ25)*(Eingabe!$D$6:$D$400>=$BJ25)*(Eingabe!$B$6:$B$400=GE$3)*(Eingabe!$E$6:$E$400))","v":0},{"$f":"SUMPRODUCT((Eingabe!$C$6:$C$400<=$BJ25)*(Eingabe!$D$6:$D$400>$BJ25)*(Eingabe!$B$6:$B$400=GG$3)*(Eingabe!$E$6:$E$400))","v":0},{"$f":"SUMPRODUCT((Eingabe!$C$6:$C$400<$BJ25)*(Eingabe!$D$6:$D$400>=$BJ25)*(Eingabe!$B$6:$B$400=GG$3)*(Eingabe!$E$6:$E$400))","v":0},"2026-08-22","2026-08-22",{"$f":"SUMPRODUCT((Eingabe!$C$6:$C$400<=$BT25)*(Eingabe!$D$6:$D$400>$BT25)*(Eingabe!$B$6:$B$400=GK$3)*(Eingabe!$E$6:$E$400))","v":0},{"$f":"SUMPRODUCT((Eingabe!$C$6:$C$400<$BT25)*(Eingabe!$D$6:$D$400>=$BT25)*(Eingabe!$B$6:$B$400=GK$3)*(Eingabe!$E$6:$E$400))","v":0},{"$f":"SUMPRODUCT((Eingabe!$C$6:$C$400<=$BT25)*(Eingabe!$D$6:$D$400>$BT25)*(Eingabe!$B$6:$B$400=GM$3)*(Eingabe!$E$6:$E$400))","v":0},{"$f":"SUMPRODUCT((Eingabe!$C$6:$C$400<$BT25)*(Eingabe!$D$6:$D$400>=$BT25)*(Eingabe!$B$6:$B$400=GM$3)*(Eingabe!$E$6:$E$400))","v":0},{"$f":"SUMPRODUCT((Eingabe!$C$6:$C$400<=$BT25)*(Eingabe!$D$6:$D$400>$BT25)*(Eingabe!$B$6:$B$400=GO$3)*(Eingabe!$E$6:$E$400))","v":0},{"$f":"SUMPRODUCT((Eingabe!$C$6:$C$400<$BT25)*(Eingabe!$D$6:$D$400>=$BT25)*(Eingabe!$B$6:$B$400=GO$3)*(Eingabe!$E$6:$E$400))","v":0},{"$f":"SUMPRODUCT((Eingabe!$C$6:$C$400<=$BT25)*(Eingabe!$D$6:$D$400>$BT25)*(Eingabe!$B$6:$B$400=GQ$3)*(Eingabe!$E$6:$E$400))","v":0},{"$f":"SUMPRODUCT((Eingabe!$C$6:$C$400<$BT25)*(Eingabe!$D$6:$D$400>=$BT25)*(Eingabe!$B$6:$B$400=GQ$3)*(Eingabe!$E$6:$E$400))","v":0},"2026-09-22","2026-09-22",{"$f":"SUMPRODUCT((Eingabe!$C$6:$C$400<=$CD25)*(Eingabe!$D$6:$D$400>$CD25)*(Eingabe!$B$6:$B$400=GU$3)*(Eingabe!$E$6:$E$400))","v":0},{"$f":"SUMPRODUCT((Eingabe!$C$6:$C$400<$CD25)*(Eingabe!$D$6:$D$400>=$CD25)*(Eingabe!$B$6:$B$400=GU$3)*(Eingabe!$E$6:$E$400))","v":0},{"$f":"SUMPRODUCT((Eingabe!$C$6:$C$400<=$CD25)*(Eingabe!$D$6:$D$400>$CD25)*(Eingabe!$B$6:$B$400=GW$3)*(Eingabe!$E$6:$E$400))","v":0},{"$f":"SUMPRODUCT((Eingabe!$C$6:$C$400<$CD25)*(Eingabe!$D$6:$D$400>=$CD25)*(Eingabe!$B$6:$B$400=GW$3)*(Eingabe!$E$6:$E$400))","v":0},{"$f":"SUMPRODUCT((Eingabe!$C$6:$C$400<=$CD25)*(Eingabe!$D$6:$D$400>$CD25)*(Eingabe!$B$6:$B$400=GY$3)*(Eingabe!$E$6:$E$400))","v":0},{"$f":"SUMPRODUCT((Eingabe!$C$6:$C$400<$CD25)*(Eingabe!$D$6:$D$400>=$CD25)*(Eingabe!$B$6:$B$400=GY$3)*(Eingabe!$E$6:$E$400))","v":0},{"$f":"SUMPRODUCT((Eingabe!$C$6:$C$400<=$CD25)*(Eingabe!$D$6:$D$400>$CD25)*(Eingabe!$B$6:$B$400=HA$3)*(Eingabe!$E$6:$E$400))","v":0},{"$f":"SUMPRODUCT((Eingabe!$C$6:$C$400<$CD25)*(Eingabe!$D$6:$D$400>=$CD25)*(Eingabe!$B$6:$B$400=HA$3)*(Eingabe!$E$6:$E$400))","v":0},"2026-10-22","2026-10-22",{"$f":"SUMPRODUCT((Eingabe!$C$6:$C$400<=$CN25)*(Eingabe!$D$6:$D$400>$CN25)*(Eingabe!$B$6:$B$400=HE$3)*(Eingabe!$E$6:$E$400))","v":7},{"$f":"SUMPRODUCT((Eingabe!$C$6:$C$400<$CN25)*(Eingabe!$D$6:$D$400>=$CN25)*(Eingabe!$B$6:$B$400=HE$3)*(Eingabe!$E$6:$E$400))","v":7},{"$f":"SUMPRODUCT((Eingabe!$C$6:$C$400<=$CN25)*(Eingabe!$D$6:$D$400>$CN25)*(Eingabe!$B$6:$B$400=HG$3)*(Eingabe!$E$6:$E$400))","v":0},{"$f":"SUMPRODUCT((Eingabe!$C$6:$C$400<$CN25)*(Eingabe!$D$6:$D$400>=$CN25)*(Eingabe!$B$6:$B$400=HG$3)*(Eingabe!$E$6:$E$400))","v":0},{"$f":"SUMPRODUCT((Eingabe!$C$6:$C$400<=$CN25)*(Eingabe!$D$6:$D$400>$CN25)*(Eingabe!$B$6:$B$400=HI$3)*(Eingabe!$E$6:$E$400))","v":0},{"$f":"SUMPRODUCT((Eingabe!$C$6:$C$400<$CN25)*(Eingabe!$D$6:$D$400>=$CN25)*(Eingabe!$B$6:$B$400=HI$3)*(Eingabe!$E$6:$E$400))","v":0},{"$f":"SUMPRODUCT((Eingabe!$C$6:$C$400<=$CN25)*(Eingabe!$D$6:$D$400>$CN25)*(Eingabe!$B$6:$B$400=HK$3)*(Eingabe!$E$6:$E$400))","v":0},{"$f":"SUMPRODUCT((Eingabe!$C$6:$C$400<$CN25)*(Eingabe!$D$6:$D$400>=$CN25)*(Eingabe!$B$6:$B$400=HK$3)*(Eingabe!$E$6:$E$400))","v":0},"2026-11-22","2026-11-22",{"$f":"SUMPRODUCT((Eingabe!$C$6:$C$400<=$CX25)*(Eingabe!$D$6:$D$400>$CX25)*(Eingabe!$B$6:$B$400=HO$3)*(Eingabe!$E$6:$E$400))","v":7},{"$f":"SUMPRODUCT((Eingabe!$C$6:$C$400<$CX25)*(Eingabe!$D$6:$D$400>=$CX25)*(Eingabe!$B$6:$B$400=HO$3)*(Eingabe!$E$6:$E$400))","v":7},{"$f":"SUMPRODUCT((Eingabe!$C$6:$C$400<=$CX25)*(Eingabe!$D$6:$D$400>$CX25)*(Eingabe!$B$6:$B$400=HQ$3)*(Eingabe!$E$6:$E$400))","v":0},{"$f":"SUMPRODUCT((Eingabe!$C$6:$C$400<$CX25)*(Eingabe!$D$6:$D$400>=$CX25)*(Eingabe!$B$6:$B$400=HQ$3)*(Eingabe!$E$6:$E$400))","v":0},{"$f":"SUMPRODUCT((Eingabe!$C$6:$C$400<=$CX25)*(Eingabe!$D$6:$D$400>$CX25)*(Eingabe!$B$6:$B$400=HS$3)*(Eingabe!$E$6:$E$400))","v":0},{"$f":"SUMPRODUCT((Eingabe!$C$6:$C$400<$CX25)*(Eingabe!$D$6:$D$400>=$CX25)*(Eingabe!$B$6:$B$400=HS$3)*(Eingabe!$E$6:$E$400))","v":0},{"$f":"SUMPRODUCT((Eingabe!$C$6:$C$400<=$CX25)*(Eingabe!$D$6:$D$400>$CX25)*(Eingabe!$B$6:$B$400=HU$3)*(Eingabe!$E$6:$E$400))","v":0},{"$f":"SUMPRODUCT((Eingabe!$C$6:$C$400<$CX25)*(Eingabe!$D$6:$D$400>=$CX25)*(Eingabe!$B$6:$B$400=HU$3)*(Eingabe!$E$6:$E$400))","v":0},"2026-12-22","2026-12-22",{"$f":"SUMPRODUCT((Eingabe!$C$6:$C$400<=$DH25)*(Eingabe!$D$6:$D$400>$DH25)*(Eingabe!$B$6:$B$400=HY$3)*(Eingabe!$E$6:$E$400))","v":7},{"$f":"SUMPRODUCT((Eingabe!$C$6:$C$400<$DH25)*(Eingabe!$D$6:$D$400>=$DH25)*(Eingabe!$B$6:$B$400=HY$3)*(Eingabe!$E$6:$E$400))","v":7},{"$f":"SUMPRODUCT((Eingabe!$C$6:$C$400<=$DH25)*(Eingabe!$D$6:$D$400>$DH25)*(Eingabe!$B$6:$B$400=IA$3)*(Eingabe!$E$6:$E$400))","v":0},{"$f":"SUMPRODUCT((Eingabe!$C$6:$C$400<$DH25)*(Eingabe!$D$6:$D$400>=$DH25)*(Eingabe!$B$6:$B$400=IA$3)*(Eingabe!$E$6:$E$400))","v":0},{"$f":"SUMPRODUCT((Eingabe!$C$6:$C$400<=$DH25)*(Eingabe!$D$6:$D$400>$DH25)*(Eingabe!$B$6:$B$400=IC$3)*(Eingabe!$E$6:$E$400))","v":0},{"$f":"SUMPRODUCT((Eingabe!$C$6:$C$400<$DH25)*(Eingabe!$D$6:$D$400>=$DH25)*(Eingabe!$B$6:$B$400=IC$3)*(Eingabe!$E$6:$E$400))","v":0},{"$f":"SUMPRODUCT((Eingabe!$C$6:$C$400<=$DH25)*(Eingabe!$D$6:$D$400>$DH25)*(Eingabe!$B$6:$B$400=IE$3)*(Eingabe!$E$6:$E$400))","v":0},{"$f":"SUMPRODUCT((Eingabe!$C$6:$C$400<$DH25)*(Eingabe!$D$6:$D$400>=$DH25)*(Eingabe!$B$6:$B$400=IE$3)*(Eingabe!$E$6:$E$400))","v":0}]
["2025-01-23","2025-01-23",{"$f":"SUMPRODUCT((Eingabe!$C$6:$C$400<=$B26)*(Eingabe!$D$6:$D$400>$B26)*(Eingabe!$B$6:$B$400=C$3)*(Eingabe!$E$6:$E$400))","v":0},{"$f":"SUMPRODUCT((Eingabe!$C$6:$C$400<$B26)*(Eingabe!$D$6:$D$400>=$B26)*(Eingabe!$B$6:$B$400=C$3)*(Eingabe!$E$6:$E$400))","v":0},{"$f":"SUMPRODUCT((Eingabe!$C$6:$C$400<=$B26)*(Eingabe!$D$6:$D$400>$B26)*(Eingabe!$B$6:$B$400=E$3)*(Eingabe!$E$6:$E$400))","v":0},{"$f":"SUMPRODUCT((Eingabe!$C$6:$C$400<$B26)*(Eingabe!$D$6:$D$400>=$B26)*(Eingabe!$B$6:$B$400=E$3)*(Eingabe!$E$6:$E$400))","v":0},{"$f":"SUMPRODUCT((Eingabe!$C$6:$C$400<=$B26)*(Eingabe!$D$6:$D$400>$B26)*(Eingabe!$B$6:$B$400=G$3)*(Eingabe!$E$6:$E$400))","v":0},{"$f":"SUMPRODUCT((Eingabe!$C$6:$C$400<$B26)*(Eingabe!$D$6:$D$400>=$B26)*(Eingabe!$B$6:$B$400=G$3)*(Eingabe!$E$6:$E$400))","v":0},{"$f":"SUMPRODUCT((Eingabe!$C$6:$C$400<=$B26)*(Eingabe!$D$6:$D$400>$B26)*(Eingabe!$B$6:$B$400=I$3)*(Eingabe!$E$6:$E$400))","v":0},{"$f":"SUMPRODUCT((Eingabe!$C$6:$C$400<$B26)*(Eingabe!$D$6:$D$400>=$B26)*(Eingabe!$B$6:$B$400=I$3)*(Eingabe!$E$6:$E$400))","v":0},"2025-02-23","2025-02-23",{"$f":"SUMPRODUCT((Eingabe!$C$6:$C$400<=$L26)*(Eingabe!$D$6:$D$400>$L26)*(Eingabe!$B$6:$B$400=M$3)*(Eingabe!$E$6:$E$400))","v":0},{"$f":"SUMPRODUCT((Eingabe!$C$6:$C$400<$L26)*(Eingabe!$D$6:$D$400>=$L26)*(Eingabe!$B$6:$B$400=M$3)*(Eingabe!$E$6:$E$400))","v":0},{"$f":"SUMPRODUCT((Eingabe!$C$6:$C$400<=$L26)*(Eingabe!$D$6:$D$400>$L26)*(Eingabe!$B$6:$B$400=O$3)*(Eingabe!$E$6:$E$400))","v":0},{"$f":"SUMPRODUCT((Eingabe!$C$6:$C$400<$L26)*(Eingabe!$D$6:$D$400>=$L26)*(Eingabe!$B$6:$B$400=O$3)*(Eingabe!$E$6:$E$400))","v":0},{"$f":"SUMPRODUCT((Eingabe!$C$6:$C$400<=$L26)*(Eingabe!$D$6:$D$400>$L26)*(Eingabe!$B$6:$B$400=Q$3)*(Eingabe!$E$6:$E$400))","v":0},{"$f":"SUMPRODUCT((Eingabe!$C$6:$C$400<$L26)*(Eingabe!$D$6:$D$400>=$L26)*(Eingabe!$B$6:$B$400=Q$3)*(Eingabe!$E$6:$E$400))","v":0},{"$f":"SUMPRODUCT((Eingabe!$C$6:$C$400<=$L26)*(Eingabe!$D$6:$D$400>$L26)*(Eingabe!$B$6:$B$400=S$3)*(Eingabe!$E$6:$E$400))","v":0},{"$f":"SUMPRODUCT((Eingabe!$C$6:$C$400<$L26)*(Eingabe!$D$6:$D$400>=$L26)*(Eingabe!$B$6:$B$400=S$3)*(Eingabe!$E$6:$E$400))","v":0},"2025-03-23","2025-03-23",{"$f":"SUMPRODUCT((Eingabe!$C$6:$C$400<=$V26)*(Eingabe!$D$6:$D$400>$V26)*(Eingabe!$B$6:$B$400=W$3)*(Eingabe!$E$6:$E$400))","v":0},{"$f":"SUMPRODUCT((Eingabe!$C$6:$C$400<$V26)*(Eingabe!$D$6:$D$400>=$V26)*(Eingabe!$B$6:$B$400=W$3)*(Eingabe!$E$6:$E$400))","v":0},{"$f":"SUMPRODUCT((Eingabe!$C$6:$C$400<=$V26)*(Eingabe!$D$6:$D$400>$V26)*(Eingabe!$B$6:$B$400=Y$3)*(Eingabe!$E$6:$E$400))","v":0},{"$f":"SUMPRODUCT((Eingabe!$C$6:$C$400<$V26)*(Eingabe!$D$6:$D$400>=$V26)*(Eingabe!$B$6:$B$400=Y$3)*(Eingabe!$E$6:$E$400))","v":0},{"$f":"SUMPRODUCT((Eingabe!$C$6:$C$400<=$V26)*(Eingabe!$D$6:$D$400>$V26)*(Eingabe!$B$6:$B$400=AA$3)*(Eingabe!$E$6:$E$400))","v":0},{"$f":"SUMPRODUCT((Eingabe!$C$6:$C$400<$V26)*(Eingabe!$D$6:$D$400>=$V26)*(Eingabe!$B$6:$B$400=AA$3)*(Eingabe!$E$6:$E$400))","v":0},{"$f":"SUMPRODUCT((Eingabe!$C$6:$C$400<=$V26)*(Eingabe!$D$6:$D$400>$V26)*(Eingabe!$B$6:$B$400=AC$3)*(Eingabe!$E$6:$E$400))","v":0},{"$f":"SUMPRODUCT((Eingabe!$C$6:$C$400<$V26)*(Eingabe!$D$6:$D$400>=$V26)*(Eingabe!$B$6:$B$400=AC$3)*(Eingabe!$E$6:$E$400))","v":0},"2025-04-23","2025-04-23",{"$f":"SUMPRODUCT((Eingabe!$C$6:$C$400<=$AF26)*(Eingabe!$D$6:$D$400>$AF26)*(Eingabe!$B$6:$B$400=AG$3)*(Eingabe!$E$6:$E$400))","v":0},{"$f":"SUMPRODUCT((Eingabe!$C$6:$C$400<$AF26)*(Eingabe!$D$6:$D$400>=$AF26)*(Eingabe!$B$6:$B$400=AG$3)*(Eingabe!$E$6:$E$400))","v":0},{"$f":"SUMPRODUCT((Eingabe!$C$6:$C$400<=$AF26)*(Eingabe!$D$6:$D$400>$AF26)*(Eingabe!$B$6:$B$400=AI$3)*(Eingabe!$E$6:$E$400))","v":8},{"$f":"SUMPRODUCT((Eingabe!$C$6:$C$400<$AF26)*(Eingabe!$D$6:$D$400>=$AF26)*(Eingabe!$B$6:$B$400=AI$3)*(Eingabe!$E$6:$E$400))","v":8},{"$f":"SUMPRODUCT((Eingabe!$C$6:$C$400<=$AF26)*(Eingabe!$D$6:$D$400>$AF26)*(Eingabe!$B$6:$B$400=AK$3)*(Eingabe!$E$6:$E$400))","v":0},{"$f":"SUMPRODUCT((Eingabe!$C$6:$C$400<$AF26)*(Eingabe!$D$6:$D$400>=$AF26)*(Eingabe!$B$6:$B$400=AK$3)*(Eingabe!$E$6:$E$400))","v":0},{"$f":"SUMPRODUCT((Eingabe!$C$6:$C$400<=$AF26)*(Eingabe!$D$6:$D$400>$AF26)*(Eingabe!$B$6:$B$400=AM$3)*(Eingabe!$E$6:$E$400))","v":0},{"$f":"SUMPRODUCT((Eingabe!$C$6:$C$400<$AF26)*(Eingabe!$D$6:$D$400>=$AF26)*(Eingabe!$B$6:$B$400=AM$3)*(Eingabe!$E$6:$E$400))","v":0},"2025-05-23","2025-05-23",{"$f":"SUMPRODUCT((Eingabe!$C$6:$C$400<=$AP26)*(Eingabe!$D$6:$D$400>$AP26)*(Eingabe!$B$6:$B$400=AQ$3)*(Eingabe!$E$6:$E$400))","v":0},{"$f":"SUMPRODUCT((Eingabe!$C$6:$C$400<$AP26)*(Eingabe!$D$6:$D$400>=$AP26)*(Eingabe!$B$6:$B$400=AQ$3)*(Eingabe!$E$6:$E$400))","v":0},{"$f":"SUMPRODUCT((Eingabe!$C$6:$C$400<=$AP26)*(Eingabe!$D$6:$D$400>$AP26)*(Eingabe!$B$6:$B$400=AS$3)*(Eingabe!$E$6:$E$400))","v":0},{"$f":"SUMPRODUCT((Eingabe!$C$6:$C$400<$AP26)*(Eingabe!$D$6:$D$400>=$AP26)*(Eingabe!$B$6:$B$400=AS$3)*(Eingabe!$E$6:$E$400))","v":0},{"$f":"SUMPRODUCT((Eingabe!$C$6:$C$400<=$AP26)*(Eingabe!$D$6:$D$400>$AP26)*(Eingabe!$B$6:$B$400=AU$3)*(Eingabe!$E$6:$E$400))","v":0},{"$f":"SUMPRODUCT((Eingabe!$C$6:$C$400<$AP26)*(Eingabe!$D$6:$D$400>=$AP26)*(Eingabe!$B$6:$B$400=AU$3)*(Eingabe!$E$6:$E$400))","v":0},{"$f":"SUMPRODUCT((Eingabe!$C$6:$C$400<=$AP26)*(Eingabe!$D$6:$D$400>$AP26)*(Eingabe!$B$6:$B$400=AW$3)*(Eingabe!$E$6:$E$400))","v":0},{"$f":"SUMPRODUCT((Eingabe!$C$6:$C$400<$AP26)*(Eingabe!$D$6:$D$400>=$AP26)*(Eingabe!$B$6:$B$400=AW$3)*(Eingabe!$E$6:$E$400))","v":0},"2025-06-23","2025-06-23",{"$f":"SUMPRODUCT((Eingabe!$C$6:$C$400<=$AZ26)*(Eingabe!$D$6:$D$400>$AZ26)*(Eingabe!$B$6:$B$400=BA$3)*(Eingabe!$E$6:$E$400))","v":0},{"$f":"SUMPRODUCT((Eingabe!$C$6:$C$400<$AZ26)*(Eingabe!$D$6:$D$400>=$AZ26)*(Eingabe!$B$6:$B$400=BA$3)*(Eingabe!$E$6:$E$400))","v":0},{"$f":"SUMPRODUCT((Eingabe!$C$6:$C$400<=$AZ26)*(Eingabe!$D$6:$D$400>$AZ26)*(Eingabe!$B$6:$B$400=BC$3)*(Eingabe!$E$6:$E$400))","v":0},{"$f":"SUMPRODUCT((Eingabe!$C$6:$C$400<$AZ26)*(Eingabe!$D$6:$D$400>=$AZ26)*(Eingabe!$B$6:$B$400=BC$3)*(Eingabe!$E$6:$E$400))","v":0},{"$f":"SUMPRODUCT((Eingabe!$C$6:$C$400<=$AZ26)*(Eingabe!$D$6:$D$400>$AZ26)*(Eingabe!$B$6:$B$400=BE$3)*(Eingabe!$E$6:$E$400))","v":0},{"$f":"SUMPRODUCT((Eingabe!$C$6:$C$400<$AZ26)*(Eingabe!$D$6:$D$400>=$AZ26)*(Eingabe!$B$6:$B$400=BE$3)*(Eingabe!$E$6:$E$400))","v":0},{"$f":"SUMPRODUCT((Eingabe!$C$6:$C$400<=$AZ26)*(Eingabe!$D$6:$D$400>$AZ26)*(Eingabe!$B$6:$B$400=BG$3)*(Eingabe!$E$6:$E$400))","v":0},{"$f":"SUMPRODUCT((Eingabe!$C$6:$C$400<$AZ26)*(Eingabe!$D$6:$D$400>=$AZ26)*(Eingabe!$B$6:$B$400=BG$3)*(Eingabe!$E$6:$E$400))","v":0},"2025-07-23","2025-07-23",{"$f":"SUMPRODUCT((Eingabe!$C$6:$C$400<=$BJ26)*(Eingabe!$D$6:$D$400>$BJ26)*(Eingabe!$B$6:$B$400=BK$3)*(Eingabe!$E$6:$E$400))","v":0},{"$f":"SUMPRODUCT((Eingabe!$C$6:$C$400<$BJ26)*(Eingabe!$D$6:$D$400>=$BJ26)*(Eingabe!$B$6:$B$400=BK$3)*(Eingabe!$E$6:$E$400))","v":0},{"$f":"SUMPRODUCT((Eingabe!$C$6:$C$400<=$BJ26)*(Eingabe!$D$6:$D$400>$BJ26)*(Eingabe!$B$6:$B$400=BM$3)*(Eingabe!$E$6:$E$400))","v":0},{"$f":"SUMPRODUCT((Eingabe!$C$6:$C$400<$BJ26)*(Eingabe!$D$6:$D$400>=$BJ26)*(Eingabe!$B$6:$B$400=BM$3)*(Eingabe!$E$6:$E$400))","v":0},{"$f":"SUMPRODUCT((Eingabe!$C$6:$C$400<=$BJ26)*(Eingabe!$D$6:$D$400>$BJ26)*(Eingabe!$B$6:$B$400=BO$3)*(Eingabe!$E$6:$E$400))","v":0},{"$f":"SUMPRODUCT((Eingabe!$C$6:$C$400<$BJ26)*(Eingabe!$D$6:$D$400>=$BJ26)*(Eingabe!$B$6:$B$400=BO$3)*(Eingabe!$E$6:$E$400))","v":0},{"$f":"SUMPRODUCT((Eingabe!$C$6:$C$400<=$BJ26)*(Eingabe!$D$6:$D$400>$BJ26)*(Eingabe!$B$6:$B$400=BQ$3)*(Eingabe!$E$6:$E$400))","v":0},{"$f":"SUMPRODUCT((Eingabe!$C$6:$C$400<$BJ26)*(Eingabe!$D$6:$D$400>=$BJ26)*(Eingabe!$B$6:$B$400=BQ$3)*(Eingabe!$E$6:$E$400))","v":0},"2025-08-23","2025-08-23",{"$f":"SUMPRODUCT((Eingabe!$C$6:$C$400<=$BT26)*(Eingabe!$D$6:$D$400>$BT26)*(Eingabe!$B$6:$B$400=BU$3)*(Eingabe!$E$6:$E$400))","v":0},{"$f":"SUMPRODUCT((Eingabe!$C$6:$C$400<$BT26)*(Eingabe!$D$6:$D$400>=$BT26)*(Eingabe!$B$6:$B$400=BU$3)*(Eingabe!$E$6:$E$400))","v":0},{"$f":"SUMPRODUCT((Eingabe!$C$6:$C$400<=$BT26)*(Eingabe!$D$6:$D$400>$BT26)*(Eingabe!$B$6:$B$400=BW$3)*(Eingabe!$E$6:$E$400))","v":0},{"$f":"SUMPRODUCT((Eingabe!$C$6:$C$400<$BT26)*(Eingabe!$D$6:$D$400>=$BT26)*(Eingabe!$B$6:$B$400=BW$3)*(Eingabe!$E$6:$E$400))","v":0},{"$f":"SUMPRODUCT((Eingabe!$C$6:$C$400<=$BT26)*(Eingabe!$D$6:$D$400>$BT26)*(Eingabe!$B$6:$B$400=BY$3)*(Eingabe!$E$6:$E$400))","v":0},{"$f":"SUMPRODUCT((Eingabe!$C$6:$C$400<$BT26)*(Eingabe!$D$6:$D$400>=$BT26)*(Eingabe!$B$6:$B$400=BY$3)*(Eingabe!$E$6:$E$400))","v":0},{"$f":"SUMPRODUCT((Eingabe!$C$6:$C$400<=$BT26)*(Eingabe!$D$6:$D$400>$BT26)*(Eingabe!$B$6:$B$400=CA$3)*(Eingabe!$E$6:$E$400))","v":0},{"$f":"SUMPRODUCT((Eingabe!$C$6:$C$400<$BT26)*(Eingabe!$D$6:$D$400>=$BT26)*(Eingabe!$B$6:$B$400=CA$3)*(Eingabe!$E$6:$E$400))","v":0},"2025-09-23","2025-09-23",{"$f":"SUMPRODUCT((Eingabe!$C$6:$C$400<=$CD26)*(Eingabe!$D$6:$D$400>$CD26)*(Eingabe!$B$6:$B$400=CE$3)*(Eingabe!$E$6:$E$400))","v":0},{"$f":"SUMPRODUCT((Eingabe!$C$6:$C$400<$CD26)*(Eingabe!$D$6:$D$400>=$CD26)*(Eingabe!$B$6:$B$400=CE$3)*(Eingabe!$E$6:$E$400))","v":0},{"$f":"SUMPRODUCT((Eingabe!$C$6:$C$400<=$CD26)*(Eingabe!$D$6:$D$400>$CD26)*(Eingabe!$B$6:$B$400=CG$3)*(Eingabe!$E$6:$E$400))","v":0},{"$f":"SUMPRODUCT((Eingabe!$C$6:$C$400<$CD26)*(Eingabe!$D$6:$D$400>=$CD26)*(Eingabe!$B$6:$B$400=CG$3)*(Eingabe!$E$6:$E$400))","v":0},{"$f":"SUMPRODUCT((Eingabe!$C$6:$C$400<=$CD26)*(Eingabe!$D$6:$D$400>$CD26)*(Eingabe!$B$6:$B$400=CI$3)*(Eingabe!$E$6:$E$400))","v":0},{"$f":"SUMPRODUCT((Eingabe!$C$6:$C$400<$CD26)*(Eingabe!$D$6:$D$400>=$CD26)*(Eingabe!$B$6:$B$400=CI$3)*(Eingabe!$E$6:$E$400))","v":0},{"$f":"SUMPRODUCT((Eingabe!$C$6:$C$400<=$CD26)*(Eingabe!$D$6:$D$400>$CD26)*(Eingabe!$B$6:$B$400=CK$3)*(Eingabe!$E$6:$E$400))","v":0},{"$f":"SUMPRODUCT((Eingabe!$C$6:$C$400<$CD26)*(Eingabe!$D$6:$D$400>=$CD26)*(Eingabe!$B$6:$B$400=CK$3)*(Eingabe!$E$6:$E$400))","v":0},"2025-10-23","2025-10-23",{"$f":"SUMPRODUCT((Eingabe!$C$6:$C$400<=$CN26)*(Eingabe!$D$6:$D$400>$CN26)*(Eingabe!$B$6:$B$400=CO$3)*(Eingabe!$E$6:$E$400))","v":7},{"$f":"SUMPRODUCT((Eingabe!$C$6:$C$400<$CN26)*(Eingabe!$D$6:$D$400>=$CN26)*(Eingabe!$B$6:$B$400=CO$3)*(Eingabe!$E$6:$E$400))","v":7},{"$f":"SUMPRODUCT((Eingabe!$C$6:$C$400<=$CN26)*(Eingabe!$D$6:$D$400>$CN26)*(Eingabe!$B$6:$B$400=CQ$3)*(Eingabe!$E$6:$E$400))","v":0},{"$f":"SUMPRODUCT((Eingabe!$C$6:$C$400<$CN26)*(Eingabe!$D$6:$D$400>=$CN26)*(Eingabe!$B$6:$B$400=CQ$3)*(Eingabe!$E$6:$E$400))","v":0},{"$f":"SUMPRODUCT((Eingabe!$C$6:$C$400<=$CN26)*(Eingabe!$D$6:$D$400>$CN26)*(Eingabe!$B$6:$B$400=CS$3)*(Eingabe!$E$6:$E$400))","v":0},{"$f":"SUMPRODUCT((Eingabe!$C$6:$C$400<$CN26)*(Eingabe!$D$6:$D$400>=$CN26)*(Eingabe!$B$6:$B$400=CS$3)*(Eingabe!$E$6:$E$400))","v":0},{"$f":"SUMPRODUCT((Eingabe!$C$6:$C$400<=$CN26)*(Eingabe!$D$6:$D$400>$CN26)*(Eingabe!$B$6:$B$400=CU$3)*(Eingabe!$E$6:$E$400))","v":0},{"$f":"SUMPRODUCT((Eingabe!$C$6:$C$400<$CN26)*(Eingabe!$D$6:$D$400>=$CN26)*(Eingabe!$B$6:$B$400=CU$3)*(Eingabe!$E$6:$E$400))","v":0},"2025-11-23","2025-11-23",{"$f":"SUMPRODUCT((Eingabe!$C$6:$C$400<=$CX26)*(Eingabe!$D$6:$D$400>$CX26)*(Eingabe!$B$6:$B$400=CY$3)*(Eingabe!$E$6:$E$400))","v":7},{"$f":"SUMPRODUCT((Eingabe!$C$6:$C$400<$CX26)*(Eingabe!$D$6:$D$400>=$CX26)*(Eingabe!$B$6:$B$400=CY$3)*(Eingabe!$E$6:$E$400))","v":7},{"$f":"SUMPRODUCT((Eingabe!$C$6:$C$400<=$CX26)*(Eingabe!$D$6:$D$400>$CX26)*(Eingabe!$B$6:$B$400=DA$3)*(Eingabe!$E$6:$E$400))","v":0},{"$f":"SUMPRODUCT((Eingabe!$C$6:$C$400<$CX26)*(Eingabe!$D$6:$D$400>=$CX26)*(Eingabe!$B$6:$B$400=DA$3)*(Eingabe!$E$6:$E$400))","v":0},{"$f":"SUMPRODUCT((Eingabe!$C$6:$C$400<=$CX26)*(Eingabe!$D$6:$D$400>$CX26)*(Eingabe!$B$6:$B$400=DC$3)*(Eingabe!$E$6:$E$400))","v":0},{"$f":"SUMPRODUCT((Eingabe!$C$6:$C$400<$CX26)*(Eingabe!$D$6:$D$400>=$CX26)*(Eingabe!$B$6:$B$400=DC$3)*(Eingabe!$E$6:$E$400))","v":0},{"$f":"SUMPRODUCT((Eingabe!$C$6:$C$400<=$CX26)*(Eingabe!$D$6:$D$400>$CX26)*(Eingabe!$B$6:$B$400=DE$3)*(Eingabe!$E$6:$E$400))","v":0},{"$f":"SUMPRODUCT((Eingabe!$C$6:$C$400<$CX26)*(Eingabe!$D$6:$D$400>=$CX26)*(Eingabe!$B$6:$B$400=DE$3)*(Eingabe!$E$6:$E$400))","v":0},"2025-12-23","2025-12-23",{"$f":"SUMPRODUCT((Eingabe!$C$6:$C$400<=$DH26)*(Eingabe!$D$6:$D$400>$DH26)*(Eingabe!$B$6:$B$400=DI$3)*(Eingabe!$E$6:$E$400))","v":7},{"$f":"SUMPRODUCT((Eingabe!$C$6:$C$400<$DH26)*(Eingabe!$D$6:$D$400>=$DH26)*(Eingabe!$B$6:$B$400=DI$3)*(Eingabe!$E$6:$E$400))","v":7},{"$f":"SUMPRODUCT((Eingabe!$C$6:$C$400<=$DH26)*(Eingabe!$D$6:$D$400>$DH26)*(Eingabe!$B$6:$B$400=DK$3)*(Eingabe!$E$6:$E$400))","v":6},{"$f":"SUMPRODUCT((Eingabe!$C$6:$C$400<$DH26)*(Eingabe!$D$6:$D$400>=$DH26)*(Eingabe!$B$6:$B$400=DK$3)*(Eingabe!$E$6:$E$400))","v":0},{"$f":"SUMPRODUCT((Eingabe!$C$6:$C$400<=$DH26)*(Eingabe!$D$6:$D$400>$DH26)*(Eingabe!$B$6:$B$400=DM$3)*(Eingabe!$E$6:$E$400))","v":0},{"$f":"SUMPRODUCT((Eingabe!$C$6:$C$400<$DH26)*(Eingabe!$D$6:$D$400>=$DH26)*(Eingabe!$B$6:$B$400=DM$3)*(Eingabe!$E$6:$E$400))","v":0},{"$f":"SUMPRODUCT((Eingabe!$C$6:$C$400<=$DH26)*(Eingabe!$D$6:$D$400>$DH26)*(Eingabe!$B$6:$B$400=DO$3)*(Eingabe!$E$6:$E$400))","v":0},{"$f":"SUMPRODUCT((Eingabe!$C$6:$C$400<$DH26)*(Eingabe!$D$6:$D$400>=$DH26)*(Eingabe!$B$6:$B$400=DO$3)*(Eingabe!$E$6:$E$400))","v":0},"2026-01-23","2026-01-23",{"$f":"SUMPRODUCT((Eingabe!$C$6:$C$400<=$B26)*(Eingabe!$D$6:$D$400>$B26)*(Eingabe!$B$6:$B$400=DS$3)*(Eingabe!$E$6:$E$400))","v":0},{"$f":"SUMPRODUCT((Eingabe!$C$6:$C$400<$B26)*(Eingabe!$D$6:$D$400>=$B26)*(Eingabe!$B$6:$B$400=DS$3)*(Eingabe!$E$6:$E$400))","v":0},{"$f":"SUMPRODUCT((Eingabe!$C$6:$C$400<=$B26)*(Eingabe!$D$6:$D$400>$B26)*(Eingabe!$B$6:$B$400=DU$3)*(Eingabe!$E$6:$E$400))","v":0},{"$f":"SUMPRODUCT((Eingabe!$C$6:$C$400<$B26)*(Eingabe!$D$6:$D$400>=$B26)*(Eingabe!$B$6:$B$400=DU$3)*(Eingabe!$E$6:$E$400))","v":0},{"$f":"SUMPRODUCT((Eingabe!$C$6:$C$400<=$B26)*(Eingabe!$D$6:$D$400>$B26)*(Eingabe!$B$6:$B$400=DW$3)*(Eingabe!$E$6:$E$400))","v":0},{"$f":"SUMPRODUCT((Eingabe!$C$6:$C$400<$B26)*(Eingabe!$D$6:$D$400>=$B26)*(Eingabe!$B$6:$B$400=DW$3)*(Eingabe!$E$6:$E$400))","v":0},{"$f":"SUMPRODUCT((Eingabe!$C$6:$C$400<=$B26)*(Eingabe!$D$6:$D$400>$B26)*(Eingabe!$B$6:$B$400=DY$3)*(Eingabe!$E$6:$E$400))","v":0},{"$f":"SUMPRODUCT((Eingabe!$C$6:$C$400<$B26)*(Eingabe!$D$6:$D$400>=$B26)*(Eingabe!$B$6:$B$400=DY$3)*(Eingabe!$E$6:$E$400))","v":0},"2026-02-23","2026-02-23",{"$f":"SUMPRODUCT((Eingabe!$C$6:$C$400<=$L26)*(Eingabe!$D$6:$D$400>$L26)*(Eingabe!$B$6:$B$400=EC$3)*(Eingabe!$E$6:$E$400))","v":0},{"$f":"SUMPRODUCT((Eingabe!$C$6:$C$400<$L26)*(Eingabe!$D$6:$D$400>=$L26)*(Eingabe!$B$6:$B$400=EC$3)*(Eingabe!$E$6:$E$400))","v":0},{"$f":"SUMPRODUCT((Eingabe!$C$6:$C$400<=$L26)*(Eingabe!$D$6:$D$400>$L26)*(Eingabe!$B$6:$B$400=EE$3)*(Eingabe!$E$6:$E$400))","v":0},{"$f":"SUMPRODUCT((Eingabe!$C$6:$C$400<$L26)*(Eingabe!$D$6:$D$400>=$L26)*(Eingabe!$B$6:$B$400=EE$3)*(Eingabe!$E$6:$E$400))","v":0},{"$f":"SUMPRODUCT((Eingabe!$C$6:$C$400<=$L26)*(Eingabe!$D$6:$D$400>$L26)*(Eingabe!$B$6:$B$400=EG$3)*(Eingabe!$E$6:$E$400))","v":0},{"$f":"SUMPRODUCT((Eingabe!$C$6:$C$400<$L26)*(Eingabe!$D$6:$D$400>=$L26)*(Eingabe!$B$6:$B$400=EG$3)*(Eingabe!$E$6:$E$400))","v":0},{"$f":"SUMPRODUCT((Eingabe!$C$6:$C$400<=$L26)*(Eingabe!$D$6:$D$400>$L26)*(Eingabe!$B$6:$B$400=EI$3)*(Eingabe!$E$6:$E$400))","v":0},{"$f":"SUMPRODUCT((Eingabe!$C$6:$C$400<$L26)*(Eingabe!$D$6:$D$400>=$L26)*(Eingabe!$B$6:$B$400=EI$3)*(Eingabe!$E$6:$E$400))","v":0},"2026-03-23","2026-03-23",{"$f":"SUMPRODUCT((Eingabe!$C$6:$C$400<=$V26)*(Eingabe!$D$6:$D$400>$V26)*(Eingabe!$B$6:$B$400=EM$3)*(Eingabe!$E$6:$E$400))","v":0},{"$f":"SUMPRODUCT((Eingabe!$C$6:$C$400<$V26)*(Eingabe!$D$6:$D$400>=$V26)*(Eingabe!$B$6:$B$400=EM$3)*(Eingabe!$E$6:$E$400))","v":0},{"$f":"SUMPRODUCT((Eingabe!$C$6:$C$400<=$V26)*(Eingabe!$D$6:$D$400>$V26)*(Eingabe!$B$6:$B$400=EO$3)*(Eingabe!$E$6:$E$400))","v":0},{"$f":"SUMPRODUCT((Eingabe!$C$6:$C$400<$V26)*(Eingabe!$D$6:$D$400>=$V26)*(Eingabe!$B$6:$B$400=EO$3)*(Eingabe!$E$6:$E$400))","v":0},{"$f":"SUMPRODUCT((Eingabe!$C$6:$C$400<=$V26)*(Eingabe!$D$6:$D$400>$V26)*(Eingabe!$B$6:$B$400=EQ$3)*(Eingabe!$E$6:$E$400))","v":0},{"$f":"SUMPRODUCT((Eingabe!$C$6:$C$400<$V26)*(Eingabe!$D$6:$D$400>=$V26)*(Eingabe!$B$6:$B$400=EQ$3)*(Eingabe!$E$6:$E$400))","v":0},{"$f":"SUMPRODUCT((Eingabe!$C$6:$C$400<=$V26)*(Eingabe!$D$6:$D$400>$V26)*(Eingabe!$B$6:$B$400=ES$3)*(Eingabe!$E$6:$E$400))","v":0},{"$f":"SUMPRODUCT((Eingabe!$C$6:$C$400<$V26)*(Eingabe!$D$6:$D$400>=$V26)*(Eingabe!$B$6:$B$400=ES$3)*(Eingabe!$E$6:$E$400))","v":0},"2026-04-23","2026-04-23",{"$f":"SUMPRODUCT((Eingabe!$C$6:$C$400<=$AF26)*(Eingabe!$D$6:$D$400>$AF26)*(Eingabe!$B$6:$B$400=EW$3)*(Eingabe!$E$6:$E$400))","v":0},{"$f":"SUMPRODUCT((Eingabe!$C$6:$C$400<$AF26)*(Eingabe!$D$6:$D$400>=$AF26)*(Eingabe!$B$6:$B$400=EW$3)*(Eingabe!$E$6:$E$400))","v":0},{"$f":"SUMPRODUCT((Eingabe!$C$6:$C$400<=$AF26)*(Eingabe!$D$6:$D$400>$AF26)*(Eingabe!$B$6:$B$400=EY$3)*(Eingabe!$E$6:$E$400))","v":8},{"$f":"SUMPRODUCT((Eingabe!$C$6:$C$400<$AF26)*(Eingabe!$D$6:$D$400>=$AF26)*(Eingabe!$B$6:$B$400=EY$3)*(Eingabe!$E$6:$E$400))","v":8},{"$f":"SUMPRODUCT((Eingabe!$C$6:$C$400<=$AF26)*(Eingabe!$D$6:$D$400>$AF26)*(Eingabe!$B$6:$B$400=FA$3)*(Eingabe!$E$6:$E$400))","v":0},{"$f":"SUMPRODUCT((Eingabe!$C$6:$C$400<$AF26)*(Eingabe!$D$6:$D$400>=$AF26)*(Eingabe!$B$6:$B$400=FA$3)*(Eingabe!$E$6:$E$400))","v":0},{"$f":"SUMPRODUCT((Eingabe!$C$6:$C$400<=$AF26)*(Eingabe!$D$6:$D$400>$AF26)*(Eingabe!$B$6:$B$400=FC$3)*(Eingabe!$E$6:$E$400))","v":0},{"$f":"SUMPRODUCT((Eingabe!$C$6:$C$400<$AF26)*(Eingabe!$D$6:$D$400>=$AF26)*(Eingabe!$B$6:$B$400=FC$3)*(Eingabe!$E$6:$E$400))","v":0},"2026-05-23","2026-05-23",{"$f":"SUMPRODUCT((Eingabe!$C$6:$C$400<=$AP26)*(Eingabe!$D$6:$D$400>$AP26)*(Eingabe!$B$6:$B$400=FG$3)*(Eingabe!$E$6:$E$400))","v":0},{"$f":"SUMPRODUCT((Eingabe!$C$6:$C$400<$AP26)*(Eingabe!$D$6:$D$400>=$AP26)*(Eingabe!$B$6:$B$400=FG$3)*(Eingabe!$E$6:$E$400))","v":0},{"$f":"SUMPRODUCT((Eingabe!$C$6:$C$400<=$AP26)*(Eingabe!$D$6:$D$400>$AP26)*(Eingabe!$B$6:$B$400=FI$3)*(Eingabe!$E$6:$E$400))","v":0},{"$f":"SUMPRODUCT((Eingabe!$C$6:$C$400<$AP26)*(Eingabe!$D$6:$D$400>=$AP26)*(Eingabe!$B$6:$B$400=FI$3)*(Eingabe!$E$6:$E$400))","v":0},{"$f":"SUMPRODUCT((Eingabe!$C$6:$C$400<=$AP26)*(Eingabe!$D$6:$D$400>$AP26)*(Eingabe!$B$6:$B$400=FK$3)*(Eingabe!$E$6:$E$400))","v":0},{"$f":"SUMPRODUCT((Eingabe!$C$6:$C$400<$AP26)*(Eingabe!$D$6:$D$400>=$AP26)*(Eingabe!$B$6:$B$400=FK$3)*(Eingabe!$E$6:$E$400))","v":0},{"$f":"SUMPRODUCT((Eingabe!$C$6:$C$400<=$AP26)*(Eingabe!$D$6:$D$400>$AP26)*(Eingabe!$B$6:$B$400=FM$3)*(Eingabe!$E$6:$E$400))","v":0},{"$f":"SUMPRODUCT((Eingabe!$C$6:$C$400<$AP26)*(Eingabe!$D$6:$D$400>=$AP26)*(Eingabe!$B$6:$B$400=FM$3)*(Eingabe!$E$6:$E$400))","v":0},"2026-06-23","2026-06-23",{"$f":"SUMPRODUCT((Eingabe!$C$6:$C$400<=$AZ26)*(Eingabe!$D$6:$D$400>$AZ26)*(Eingabe!$B$6:$B$400=FQ$3)*(Eingabe!$E$6:$E$400))","v":0},{"$f":"SUMPRODUCT((Eingabe!$C$6:$C$400<$AZ26)*(Eingabe!$D$6:$D$400>=$AZ26)*(Eingabe!$B$6:$B$400=FQ$3)*(Eingabe!$E$6:$E$400))","v":0},{"$f":"SUMPRODUCT((Eingabe!$C$6:$C$400<=$AZ26)*(Eingabe!$D$6:$D$400>$AZ26)*(Eingabe!$B$6:$B$400=FS$3)*(Eingabe!$E$6:$E$400))","v":0},{"$f":"SUMPRODUCT((Eingabe!$C$6:$C$400<$AZ26)*(Eingabe!$D$6:$D$400>=$AZ26)*(Eingabe!$B$6:$B$400=FS$3)*(Eingabe!$E$6:$E$400))","v":0},{"$f":"SUMPRODUCT((Eingabe!$C$6:$C$400<=$AZ26)*(Eingabe!$D$6:$D$400>$AZ26)*(Eingabe!$B$6:$B$400=FU$3)*(Eingabe!$E$6:$E$400))","v":0},{"$f":"SUMPRODUCT((Eingabe!$C$6:$C$400<$AZ26)*(Eingabe!$D$6:$D$400>=$AZ26)*(Eingabe!$B$6:$B$400=FU$3)*(Eingabe!$E$6:$E$400))","v":0},{"$f":"SUMPRODUCT((Eingabe!$C$6:$C$400<=$AZ26)*(Eingabe!$D$6:$D$400>$AZ26)*(Eingabe!$B$6:$B$400=FW$3)*(Eingabe!$E$6:$E$400))","v":0},{"$f":"SUMPRODUCT((Eingabe!$C$6:$C$400<$AZ26)*(Eingabe!$D$6:$D$400>=$AZ26)*(Eingabe!$B$6:$B$400=FW$3)*(Eingabe!$E$6:$E$400))","v":0},"2026-07-23","2026-07-23",{"$f":"SUMPRODUCT((Eingabe!$C$6:$C$400<=$BJ26)*(Eingabe!$D$6:$D$400>$BJ26)*(Eingabe!$B$6:$B$400=GA$3)*(Eingabe!$E$6:$E$400))","v":0},{"$f":"SUMPRODUCT((Eingabe!$C$6:$C$400<$BJ26)*(Eingabe!$D$6:$D$400>=$BJ26)*(Eingabe!$B$6:$B$400=GA$3)*(Eingabe!$E$6:$E$400))","v":0},{"$f":"SUMPRODUCT((Eingabe!$C$6:$C$400<=$BJ26)*(Eingabe!$D$6:$D$400>$BJ26)*(Eingabe!$B$6:$B$400=GC$3)*(Eingabe!$E$6:$E$400))","v":0},{"$f":"SUMPRODUCT((Eingabe!$C$6:$C$400<$BJ26)*(Eingabe!$D$6:$D$400>=$BJ26)*(Eingabe!$B$6:$B$400=GC$3)*(Eingabe!$E$6:$E$400))","v":0},{"$f":"SUMPRODUCT((Eingabe!$C$6:$C$400<=$BJ26)*(Eingabe!$D$6:$D$400>$BJ26)*(Eingabe!$B$6:$B$400=GE$3)*(Eingabe!$E$6:$E$400))","v":0},{"$f":"SUMPRODUCT((Eingabe!$C$6:$C$400<$BJ26)*(Eingabe!$D$6:$D$400>=$BJ26)*(Eingabe!$B$6:$B$400=GE$3)*(Eingabe!$E$6:$E$400))","v":0},{"$f":"SUMPRODUCT((Eingabe!$C$6:$C$400<=$BJ26)*(Eingabe!$D$6:$D$400>$BJ26)*(Eingabe!$B$6:$B$400=GG$3)*(Eingabe!$E$6:$E$400))","v":0},{"$f":"SUMPRODUCT((Eingabe!$C$6:$C$400<$BJ26)*(Eingabe!$D$6:$D$400>=$BJ26)*(Eingabe!$B$6:$B$400=GG$3)*(Eingabe!$E$6:$E$400))","v":0},"2026-08-23","2026-08-23",{"$f":"SUMPRODUCT((Eingabe!$C$6:$C$400<=$BT26)*(Eingabe!$D$6:$D$400>$BT26)*(Eingabe!$B$6:$B$400=GK$3)*(Eingabe!$E$6:$E$400))","v":0},{"$f":"SUMPRODUCT((Eingabe!$C$6:$C$400<$BT26)*(Eingabe!$D$6:$D$400>=$BT26)*(Eingabe!$B$6:$B$400=GK$3)*(Eingabe!$E$6:$E$400))","v":0},{"$f":"SUMPRODUCT((Eingabe!$C$6:$C$400<=$BT26)*(Eingabe!$D$6:$D$400>$BT26)*(Eingabe!$B$6:$B$400=GM$3)*(Eingabe!$E$6:$E$400))","v":0},{"$f":"SUMPRODUCT((Eingabe!$C$6:$C$400<$BT26)*(Eingabe!$D$6:$D$400>=$BT26)*(Eingabe!$B$6:$B$400=GM$3)*(Eingabe!$E$6:$E$400))","v":0},{"$f":"SUMPRODUCT((Eingabe!$C$6:$C$400<=$BT26)*(Eingabe!$D$6:$D$400>$BT26)*(Eingabe!$B$6:$B$400=GO$3)*(Eingabe!$E$6:$E$400))","v":0},{"$f":"SUMPRODUCT((Eingabe!$C$6:$C$400<$BT26)*(Eingabe!$D$6:$D$400>=$BT26)*(Eingabe!$B$6:$B$400=GO$3)*(Eingabe!$E$6:$E$400))","v":0},{"$f":"SUMPRODUCT((Eingabe!$C$6:$C$400<=$BT26)*(Eingabe!$D$6:$D$400>$BT26)*(Eingabe!$B$6:$B$400=GQ$3)*(Eingabe!$E$6:$E$400))","v":0},{"$f":"SUMPRODUCT((Eingabe!$C$6:$C$400<$BT26)*(Eingabe!$D$6:$D$400>=$BT26)*(Eingabe!$B$6:$B$400=GQ$3)*(Eingabe!$E$6:$E$400))","v":0},"2026-09-23","2026-09-23",{"$f":"SUMPRODUCT((Eingabe!$C$6:$C$400<=$CD26)*(Eingabe!$D$6:$D$400>$CD26)*(Eingabe!$B$6:$B$400=GU$3)*(Eingabe!$E$6:$E$400))","v":0},{"$f":"SUMPRODUCT((Eingabe!$C$6:$C$400<$CD26)*(Eingabe!$D$6:$D$400>=$CD26)*(Eingabe!$B$6:$B$400=GU$3)*(Eingabe!$E$6:$E$400))","v":0},{"$f":"SUMPRODUCT((Eingabe!$C$6:$C$400<=$CD26)*(Eingabe!$D$6:$D$400>$CD26)*(Eingabe!$B$6:$B$400=GW$3)*(Eingabe!$E$6:$E$400))","v":0},{"$f":"SUMPRODUCT((Eingabe!$C$6:$C$400<$CD26)*(Eingabe!$D$6:$D$400>=$CD26)*(Eingabe!$B$6:$B$400=GW$3)*(Eingabe!$E$6:$E$400))","v":0},{"$f":"SUMPRODUCT((Eingabe!$C$6:$C$400<=$CD26)*(Eingabe!$D$6:$D$400>$CD26)*(Eingabe!$B$6:$B$400=GY$3)*(Eingabe!$E$6:$E$400))","v":0},{"$f":"SUMPRODUCT((Eingabe!$C$6:$C$400<$CD26)*(Eingabe!$D$6:$D$400>=$CD26)*(Eingabe!$B$6:$B$400=GY$3)*(Eingabe!$E$6:$E$400))","v":0},{"$f":"SUMPRODUCT((Eingabe!$C$6:$C$400<=$CD26)*(Eingabe!$D$6:$D$400>$CD26)*(Eingabe!$B$6:$B$400=HA$3)*(Eingabe!$E$6:$E$400))","v":0},{"$f":"SUMPRODUCT((Eingabe!$C$6:$C$400<$CD26)*(Eingabe!$D$6:$D$400>=$CD26)*(Eingabe!$B$6:$B$400=HA$3)*(Eingabe!$E$6:$E$400))","v":0},"2026-10-23","2026-10-23",{"$f":"SUMPRODUCT((Eingabe!$C$6:$C$400<=$CN26)*(Eingabe!$D$6:$D$400>$CN26)*(Eingabe!$B$6:$B$400=HE$3)*(Eingabe!$E$6:$E$400))","v":7},{"$f":"SUMPRODUCT((Eingabe!$C$6:$C$400<$CN26)*(Eingabe!$D$6:$D$400>=$CN26)*(Eingabe!$B$6:$B$400=HE$3)*(Eingabe!$E$6:$E$400))","v":7},{"$f":"SUMPRODUCT((Eingabe!$C$6:$C$400<=$CN26)*(Eingabe!$D$6:$D$400>$CN26)*(Eingabe!$B$6:$B$400=HG$3)*(Eingabe!$E$6:$E$400))","v":0},{"$f":"SUMPRODUCT((Eingabe!$C$6:$C$400<$CN26)*(Eingabe!$D$6:$D$400>=$CN26)*(Eingabe!$B$6:$B$400=HG$3)*(Eingabe!$E$6:$E$400))","v":0},{"$f":"SUMPRODUCT((Eingabe!$C$6:$C$400<=$CN26)*(Eingabe!$D$6:$D$400>$CN26)*(Eingabe!$B$6:$B$400=HI$3)*(Eingabe!$E$6:$E$400))","v":0},{"$f":"SUMPRODUCT((Eingabe!$C$6:$C$400<$CN26)*(Eingabe!$D$6:$D$400>=$CN26)*(Eingabe!$B$6:$B$400=HI$3)*(Eingabe!$E$6:$E$400))","v":0},{"$f":"SUMPRODUCT((Eingabe!$C$6:$C$400<=$CN26)*(Eingabe!$D$6:$D$400>$CN26)*(Eingabe!$B$6:$B$400=HK$3)*(Eingabe!$E$6:$E$400))","v":0},{"$f":"SUMPRODUCT((Eingabe!$C$6:$C$400<$CN26)*(Eingabe!$D$6:$D$400>=$CN26)*(Eingabe!$B$6:$B$400=HK$3)*(Eingabe!$E$6:$E$400))","v":0},"2026-11-23","2026-11-23",{"$f":"SUMPRODUCT((Eingabe!$C$6:$C$400<=$CX26)*(Eingabe!$D$6:$D$400>$CX26)*(Eingabe!$B$6:$B$400=HO$3)*(Eingabe!$E$6:$E$400))","v":7},{"$f":"SUMPRODUCT((Eingabe!$C$6:$C$400<$CX26)*(Eingabe!$D$6:$D$400>=$CX26)*(Eingabe!$B$6:$B$400=HO$3)*(Eingabe!$E$6:$E$400))","v":7},{"$f":"SUMPRODUCT((Eingabe!$C$6:$C$400<=$CX26)*(Eingabe!$D$6:$D$400>$CX26)*(Eingabe!$B$6:$B$400=HQ$3)*(Eingabe!$E$6:$E$400))","v":0},{"$f":"SUMPRODUCT((Eingabe!$C$6:$C$400<$CX26)*(Eingabe!$D$6:$D$400>=$CX26)*(Eingabe!$B$6:$B$400=HQ$3)*(Eingabe!$E$6:$E$400))","v":0},{"$f":"SUMPRODUCT((Eingabe!$C$6:$C$400<=$CX26)*(Eingabe!$D$6:$D$400>$CX26)*(Eingabe!$B$6:$B$400=HS$3)*(Eingabe!$E$6:$E$400))","v":0},{"$f":"SUMPRODUCT((Eingabe!$C$6:$C$400<$CX26)*(Eingabe!$D$6:$D$400>=$CX26)*(Eingabe!$B$6:$B$400=HS$3)*(Eingabe!$E$6:$E$400))","v":0},{"$f":"SUMPRODUCT((Eingabe!$C$6:$C$400<=$CX26)*(Eingabe!$D$6:$D$400>$CX26)*(Eingabe!$B$6:$B$400=HU$3)*(Eingabe!$E$6:$E$400))","v":0},{"$f":"SUMPRODUCT((Eingabe!$C$6:$C$400<$CX26)*(Eingabe!$D$6:$D$400>=$CX26)*(Eingabe!$B$6:$B$400=HU$3)*(Eingabe!$E$6:$E$400))","v":0},"2026-12-23","2026-12-23",{"$f":"SUMPRODUCT((Eingabe!$C$6:$C$400<=$DH26)*(Eingabe!$D$6:$D$400>$DH26)*(Eingabe!$B$6:$B$400=HY$3)*(Eingabe!$E$6:$E$400))","v":7},{"$f":"SUMPRODUCT((Eingabe!$C$6:$C$400<$DH26)*(Eingabe!$D$6:$D$400>=$DH26)*(Eingabe!$B$6:$B$400=HY$3)*(Eingabe!$E$6:$E$400))","v":7},{"$f":"SUMPRODUCT((Eingabe!$C$6:$C$400<=$DH26)*(Eingabe!$D$6:$D$400>$DH26)*(Eingabe!$B$6:$B$400=IA$3)*(Eingabe!$E$6:$E$400))","v":6},{"$f":"SUMPRODUCT((Eingabe!$C$6:$C$400<$DH26)*(Eingabe!$D$6:$D$400>=$DH26)*(Eingabe!$B$6:$B$400=IA$3)*(Eingabe!$E$6:$E$400))","v":0},{"$f":"SUMPRODUCT((Eingabe!$C$6:$C$400<=$DH26)*(Eingabe!$D$6:$D$400>$DH26)*(Eingabe!$B$6:$B$400=IC$3)*(Eingabe!$E$6:$E$400))","v":0},{"$f":"SUMPRODUCT((Eingabe!$C$6:$C$400<$DH26)*(Eingabe!$D$6:$D$400>=$DH26)*(Eingabe!$B$6:$B$400=IC$3)*(Eingabe!$E$6:$E$400))","v":0},{"$f":"SUMPRODUCT((Eingabe!$C$6:$C$400<=$DH26)*(Eingabe!$D$6:$D$400>$DH26)*(Eingabe!$B$6:$B$400=IE$3)*(Eingabe!$E$6:$E$400))","v":0},{"$f":"SUMPRODUCT((Eingabe!$C$6:$C$400<$DH26)*(Eingabe!$D$6:$D$400>=$DH26)*(Eingabe!$B$6:$B$400=IE$3)*(Eingabe!$E$6:$E$400))","v":0}]
["2025-01-24","2025-01-24",{"$f":"SUMPRODUCT((Eingabe!$C$6:$C$400<=$B27)*(Eingabe!$D$6:$D$400>$B27)*(Eingabe!$B$6:$B$400=C$3)*(Eingabe!$E$6:$E$400))","v":0},{"$f":"SUMPRODUCT((Eingabe!$C$6:$C$400<$B27)*(Eingabe!$D$6:$D$400>=$B27)*(Eingabe!$B$6:$B$400=C$3)*(Eingabe!$E$6:$E$400))","v":0},{"$f":"SUMPRODUCT((Eingabe!$C$6:$C$400<=$B27)*(Eingabe!$D$6:$D$400>$B27)*(Eingabe!$B$6:$B$400=E$3)*(Eingabe!$E$6:$E$400))","v":0},{"$f":"SUMPRODUCT((Eingabe!$C$6:$C$400<$B27)*(Eingabe!$D$6:$D$400>=$B27)*(Eingabe!$B$6:$B$400=E$3)*(Eingabe!$E$6:$E$400))","v":0},{"$f":"SUMPRODUCT((Eingabe!$C$6:$C$400<=$B27)*(Eingabe!$D$6:$D$400>$B27)*(Eingabe!$B$6:$B$400=G$3)*(Eingabe!$E$6:$E$400))","v":0},{"$f":"SUMPRODUCT((Eingabe!$C$6:$C$400<$B27)*(Eingabe!$D$6:$D$400>=$B27)*(Eingabe!$B$6:$B$400=G$3)*(Eingabe!$E$6:$E$400))","v":0},{"$f":"SUMPRODUCT((Eingabe!$C$6:$C$400<=$B27)*(Eingabe!$D$6:$D$400>$B27)*(Eingabe!$B$6:$B$400=I$3)*(Eingabe!$E$6:$E$400))","v":0},{"$f":"SUMPRODUCT((Eingabe!$C$6:$C$400<$B27)*(Eingabe!$D$6:$D$400>=$B27)*(Eingabe!$B$6:$B$400=I$3)*(Eingabe!$E$6:$E$400))","v":0},"2025-02-24","2025-02-24",{"$f":"SUMPRODUCT((Eingabe!$C$6:$C$400<=$L27)*(Eingabe!$D$6:$D$400>$L27)*(Eingabe!$B$6:$B$400=M$3)*(Eingabe!$E$6:$E$400))","v":0},{"$f":"SUMPRODUCT((Eingabe!$C$6:$C$400<$L27)*(Eingabe!$D$6:$D$400>=$L27)*(Eingabe!$B$6:$B$400=M$3)*(Eingabe!$E$6:$E$400))","v":0},{"$f":"SUMPRODUCT((Eingabe!$C$6:$C$400<=$L27)*(Eingabe!$D$6:$D$400>$L27)*(Eingabe!$B$6:$B$400=O$3)*(Eingabe!$E$6:$E$400))","v":0},{"$f":"SUMPRODUCT((Eingabe!$C$6:$C$400<$L27)*(Eingabe!$D$6:$D$400>=$L27)*(Eingabe!$B$6:$B$400=O$3)*(Eingabe!$E$6:$E$400))","v":0},{"$f":"SUMPRODUCT((Eingabe!$C$6:$C$400<=$L27)*(Eingabe!$D$6:$D$400>$L27)*(Eingabe!$B$6:$B$400=Q$3)*(Eingabe!$E$6:$E$400))","v":0},{"$f":"SUMPRODUCT((Eingabe!$C$6:$C$400<$L27)*(Eingabe!$D$6:$D$400>=$L27)*(Eingabe!$B$6:$B$400=Q$3)*(Eingabe!$E$6:$E$400))","v":0},{"$f":"SUMPRODUCT((Eingabe!$C$6:$C$400<=$L27)*(Eingabe!$D$6:$D$400>$L27)*(Eingabe!$B$6:$B$400=S$3)*(Eingabe!$E$6:$E$400))","v":0},{"$f":"SUMPRODUCT((Eingabe!$C$6:$C$400<$L27)*(Eingabe!$D$6:$D$400>=$L27)*(Eingabe!$B$6:$B$400=S$3)*(Eingabe!$E$6:$E$400))","v":0},"2025-03-24","2025-03-24",{"$f":"SUMPRODUCT((Eingabe!$C$6:$C$400<=$V27)*(Eingabe!$D$6:$D$400>$V27)*(Eingabe!$B$6:$B$400=W$3)*(Eingabe!$E$6:$E$400))","v":0},{"$f":"SUMPRODUCT((Eingabe!$C$6:$C$400<$V27)*(Eingabe!$D$6:$D$400>=$V27)*(Eingabe!$B$6:$B$400=W$3)*(Eingabe!$E$6:$E$400))","v":0},{"$f":"SUMPRODUCT((Eingabe!$C$6:$C$400<=$V27)*(Eingabe!$D$6:$D$400>$V27)*(Eingabe!$B$6:$B$400=Y$3)*(Eingabe!$E$6:$E$400))","v":0},{"$f":"SUMPRODUCT((Eingabe!$C$6:$C$400<$V27)*(Eingabe!$D$6:$D$400>=$V27)*(Eingabe!$B$6:$B$400=Y$3)*(Eingabe!$E$6:$E$400))","v":0},{"$f":"SUMPRODUCT((Eingabe!$C$6:$C$400<=$V27)*(Eingabe!$D$6:$D$400>$V27)*(Eingabe!$B$6:$B$400=AA$3)*(Eingabe!$E$6:$E$400))","v":0},{"$f":"SUMPRODUCT((Eingabe!$C$6:$C$400<$V27)*(Eingabe!$D$6:$D$400>=$V27)*(Eingabe!$B$6:$B$400=AA$3)*(Eingabe!$E$6:$E$400))","v":0},{"$f":"SUMPRODUCT((Eingabe!$C$6:$C$400<=$V27)*(Eingabe!$D$6:$D$400>$V27)*(Eingabe!$B$6:$B$400=AC$3)*(Eingabe!$E$6:$E$400))","v":0},{"$f":"SUMPRODUCT((Eingabe!$C$6:$C$400<$V27)*(Eingabe!$D$6:$D$400>=$V27)*(Eingabe!$B$6:$B$400=AC$3)*(Eingabe!$E$6:$E$400))","v":0},"2025-04-24","2025-04-24",{"$f":"SUMPRODUCT((Eingabe!$C$6:$C$400<=$AF27)*(Eingabe!$D$6:$D$400>$AF27)*(Eingabe!$B$6:$B$400=AG$3)*(Eingabe!$E$6:$E$400))","v":0},{"$f":"SUMPRODUCT((Eingabe!$C$6:$C$400<$AF27)*(Eingabe!$D$6:$D$400>=$AF27)*(Eingabe!$B$6:$B$400=AG$3)*(Eingabe!$E$6:$E$400))","v":0},{"$f":"SUMPRODUCT((Eingabe!$C$6:$C$400<=$AF27)*(Eingabe!$D$6:$D$400>$AF27)*(Eingabe!$B$6:$B$400=AI$3)*(Eingabe!$E$6:$E$400))","v":8},{"$f":"SUMPRODUCT((Eingabe!$C$6:$C$400<$AF27)*(Eingabe!$D$6:$D$400>=$AF27)*(Eingabe!$B$6:$B$400=AI$3)*(Eingabe!$E$6:$E$400))","v":8},{"$f":"SUMPRODUCT((Eingabe!$C$6:$C$400<=$AF27)*(Eingabe!$D$6:$D$400>$AF27)*(Eingabe!$B$6:$B$400=AK$3)*(Eingabe!$E$6:$E$400))","v":0},{"$f":"SUMPRODUCT((Eingabe!$C$6:$C$400<$AF27)*(Eingabe!$D$6:$D$400>=$AF27)*(Eingabe!$B$6:$B$400=AK$3)*(Eingabe!$E$6:$E$400))","v":0},{"$f":"SUMPRODUCT((Eingabe!$C$6:$C$400<=$AF27)*(Eingabe!$D$6:$D$400>$AF27)*(Eingabe!$B$6:$B$400=AM$3)*(Eingabe!$E$6:$E$400))","v":0},{"$f":"SUMPRODUCT((Eingabe!$C$6:$C$400<$AF27)*(Eingabe!$D$6:$D$400>=$AF27)*(Eingabe!$B$6:$B$400=AM$3)*(Eingabe!$E$6:$E$400))","v":0},"2025-05-24","2025-05-24",{"$f":"SUMPRODUCT((Eingabe!$C$6:$C$400<=$AP27)*(Eingabe!$D$6:$D$400>$AP27)*(Eingabe!$B$6:$B$400=AQ$3)*(Eingabe!$E$6:$E$400))","v":0},{"$f":"SUMPRODUCT((Eingabe!$C$6:$C$400<$AP27)*(Eingabe!$D$6:$D$400>=$AP27)*(Eingabe!$B$6:$B$400=AQ$3)*(Eingabe!$E$6:$E$400))","v":0},{"$f":"SUMPRODUCT((Eingabe!$C$6:$C$400<=$AP27)*(Eingabe!$D$6:$D$400>$AP27)*(Eingabe!$B$6:$B$400=AS$3)*(Eingabe!$E$6:$E$400))","v":0},{"$f":"SUMPRODUCT((Eingabe!$C$6:$C$400<$AP27)*(Eingabe!$D$6:$D$400>=$AP27)*(Eingabe!$B$6:$B$400=AS$3)*(Eingabe!$E$6:$E$400))","v":0},{"$f":"SUMPRODUCT((Eingabe!$C$6:$C$400<=$AP27)*(Eingabe!$D$6:$D$400>$AP27)*(Eingabe!$B$6:$B$400=AU$3)*(Eingabe!$E$6:$E$400))","v":0},{"$f":"SUMPRODUCT((Eingabe!$C$6:$C$400<$AP27)*(Eingabe!$D$6:$D$400>=$AP27)*(Eingabe!$B$6:$B$400=AU$3)*(Eingabe!$E$6:$E$400))","v":0},{"$f":"SUMPRODUCT((Eingabe!$C$6:$C$400<=$AP27)*(Eingabe!$D$6:$D$400>$AP27)*(Eingabe!$B$6:$B$400=AW$3)*(Eingabe!$E$6:$E$400))","v":0},{"$f":"SUMPRODUCT((Eingabe!$C$6:$C$400<$AP27)*(Eingabe!$D$6:$D$400>=$AP27)*(Eingabe!$B$6:$B$400=AW$3)*(Eingabe!$E$6:$E$400))","v":0},"2025-06-24","2025-06-24",{"$f":"SUMPRODUCT((Eingabe!$C$6:$C$400<=$AZ27)*(Eingabe!$D$6:$D$400>$AZ27)*(Eingabe!$B$6:$B$400=BA$3)*(Eingabe!$E$6:$E$400))","v":0},{"$f":"SUMPRODUCT((Eingabe!$C$6:$C$400<$AZ27)*(Eingabe!$D$6:$D$400>=$AZ27)*(Eingabe!$B$6:$B$400=BA$3)*(Eingabe!$E$6:$E$400))","v":0},{"$f":"SUMPRODUCT((Eingabe!$C$6:$C$400<=$AZ27)*(Eingabe!$D$6:$D$400>$AZ27)*(Eingabe!$B$6:$B$400=BC$3)*(Eingabe!$E$6:$E$400))","v":0},{"$f":"SUMPRODUCT((Eingabe!$C$6:$C$400<$AZ27)*(Eingabe!$D$6:$D$400>=$AZ27)*(Eingabe!$B$6:$B$400=BC$3)*(Eingabe!$E$6:$E$400))","v":0},{"$f":"SUMPRODUCT((Eingabe!$C$6:$C$400<=$AZ27)*(Eingabe!$D$6:$D$400>$AZ27)*(Eingabe!$B$6:$B$400=BE$3)*(Eingabe!$E$6:$E$400))","v":0},{"$f":"SUMPRODUCT((Eingabe!$C$6:$C$400<$AZ27)*(Eingabe!$D$6:$D$400>=$AZ27)*(Eingabe!$B$6:$B$400=BE$3)*(Eingabe!$E$6:$E$400))","v":0},{"$f":"SUMPRODUCT((Eingabe!$C$6:$C$400<=$AZ27)*(Eingabe!$D$6:$D$400>$AZ27)*(Eingabe!$B$6:$B$400=BG$3)*(Eingabe!$E$6:$E$400))","v":0},{"$f":"SUMPRODUCT((Eingabe!$C$6:$C$400<$AZ27)*(Eingabe!$D$6:$D$400>=$AZ27)*(Eingabe!$B$6:$B$400=BG$3)*(Eingabe!$E$6:$E$400))","v":0},"2025-07-24","2025-07-24",{"$f":"SUMPRODUCT((Eingabe!$C$6:$C$400<=$BJ27)*(Eingabe!$D$6:$D$400>$BJ27)*(Eingabe!$B$6:$B$400=BK$3)*(Eingabe!$E$6:$E$400))","v":0},{"$f":"SUMPRODUCT((Eingabe!$C$6:$C$400<$BJ27)*(Eingabe!$D$6:$D$400>=$BJ27)*(Eingabe!$B$6:$B$400=BK$3)*(Eingabe!$E$6:$E$400))","v":0},{"$f":"SUMPRODUCT((Eingabe!$C$6:$C$400<=$BJ27)*(Eingabe!$D$6:$D$400>$BJ27)*(Eingabe!$B$6:$B$400=BM$3)*(Eingabe!$E$6:$E$400))","v":0},{"$f":"SUMPRODUCT((Eingabe!$C$6:$C$400<$BJ27)*(Eingabe!$D$6:$D$400>=$BJ27)*(Eingabe!$B$6:$B$400=BM$3)*(Eingabe!$E$6:$E$400))","v":0},{"$f":"SUMPRODUCT((Eingabe!$C$6:$C$400<=$BJ27)*(Eingabe!$D$6:$D$400>$BJ27)*(Eingabe!$B$6:$B$400=BO$3)*(Eingabe!$E$6:$E$400))","v":0},{"$f":"SUMPRODUCT((Eingabe!$C$6:$C$400<$BJ27)*(Eingabe!$D$6:$D$400>=$BJ27)*(Eingabe!$B$6:$B$400=BO$3)*(Eingabe!$E$6:$E$400))","v":0},{"$f":"SUMPRODUCT((Eingabe!$C$6:$C$400<=$BJ27)*(Eingabe!$D$6:$D$400>$BJ27)*(Eingabe!$B$6:$B$400=BQ$3)*(Eingabe!$E$6:$E$400))","v":0},{"$f":"SUMPRODUCT((Eingabe!$C$6:$C$400<$BJ27)*(Eingabe!$D$6:$D$400>=$BJ27)*(Eingabe!$B$6:$B$400=BQ$3)*(Eingabe!$E$6:$E$400))","v":0},"2025-08-24","2025-08-24",{"$f":"SUMPRODUCT((Eingabe!$C$6:$C$400<=$BT27)*(Eingabe!$D$6:$D$400>$BT27)*(Eingabe!$B$6:$B$400=BU$3)*(Eingabe!$E$6:$E$400))","v":0},{"$f":"SUMPRODUCT((Eingabe!$C$6:$C$400<$BT27)*(Eingabe!$D$6:$D$400>=$BT27)*(Eingabe!$B$6:$B$400=BU$3)*(Eingabe!$E$6:$E$400))","v":0},{"$f":"SUMPRODUCT((Eingabe!$C$6:$C$400<=$BT27)*(Eingabe!$D$6:$D$400>$BT27)*(Eingabe!$B$6:$B$400=BW$3)*(Eingabe!$E$6:$E$400))","v":0},{"$f":"SUMPRODUCT((Eingabe!$C$6:$C$400<$BT27)*(Eingabe!$D$6:$D$400>=$BT27)*(Eingabe!$B$6:$B$400=BW$3)*(Eingabe!$E$6:$E$400))","v":0},{"$f":"SUMPRODUCT((Eingabe!$C$6:$C$400<=$BT27)*(Eingabe!$D$6:$D$400>$BT27)*(Eingabe!$B$6:$B$400=BY$3)*(Eingabe!$E$6:$E$400))","v":0},{"$f":"SUMPRODUCT((Eingabe!$C$6:$C$400<$BT27)*(Eingabe!$D$6:$D$400>=$BT27)*(Eingabe!$B$6:$B$400=BY$3)*(Eingabe!$E$6:$E$400))","v":0},{"$f":"SUMPRODUCT((Eingabe!$C$6:$C$400<=$BT27)*(Eingabe!$D$6:$D$400>$BT27)*(Eingabe!$B$6:$B$400=CA$3)*(Eingabe!$E$6:$E$400))","v":0},{"$f":"SUMPRODUCT((Eingabe!$C$6:$C$400<$BT27)*(Eingabe!$D$6:$D$400>=$BT27)*(Eingabe!$B$6:$B$400=CA$3)*(Eingabe!$E$6:$E$400))","v":0},"2025-09-24","2025-09-24",{"$f":"SUMPRODUCT((Eingabe!$C$6:$C$400<=$CD27)*(Eingabe!$D$6:$D$400>$CD27)*(Eingabe!$B$6:$B$400=CE$3)*(Eingabe!$E$6:$E$400))","v":0},{"$f":"SUMPRODUCT((Eingabe!$C$6:$C$400<$CD27)*(Eingabe!$D$6:$D$400>=$CD27)*(Eingabe!$B$6:$B$400=CE$3)*(Eingabe!$E$6:$E$400))","v":0},{"$f":"SUMPRODUCT((Eingabe!$C$6:$C$400<=$CD27)*(Eingabe!$D$6:$D$400>$CD27)*(Eingabe!$B$6:$B$400=CG$3)*(Eingabe!$E$6:$E$400))","v":0},{"$f":"SUMPRODUCT((Eingabe!$C$6:$C$400<$CD27)*(Eingabe!$D$6:$D$400>=$CD27)*(Eingabe!$B$6:$B$400=CG$3)*(Eingabe!$E$6:$E$400))","v":0},{"$f":"SUMPRODUCT((Eingabe!$C$6:$C$400<=$CD27)*(Eingabe!$D$6:$D$400>$CD27)*(Eingabe!$B$6:$B$400=CI$3)*(Eingabe!$E$6:$E$400))","v":0},{"$f":"SUMPRODUCT((Eingabe!$C$6:$C$400<$CD27)*(Eingabe!$D$6:$D$400>=$CD27)*(Eingabe!$B$6:$B$400=CI$3)*(Eingabe!$E$6:$E$400))","v":0},{"$f":"SUMPRODUCT((Eingabe!$C$6:$C$400<=$CD27)*(Eingabe!$D$6:$D$400>$CD27)*(Eingabe!$B$6:$B$400=CK$3)*(Eingabe!$E$6:$E$400))","v":0},{"$f":"SUMPRODUCT((Eingabe!$C$6:$C$400<$CD27)*(Eingabe!$D$6:$D$400>=$CD27)*(Eingabe!$B$6:$B$400=CK$3)*(Eingabe!$E$6:$E$400))","v":0},"2025-10-24","2025-10-24",{"$f":"SUMPRODUCT((Eingabe!$C$6:$C$400<=$CN27)*(Eingabe!$D$6:$D$400>$CN27)*(Eingabe!$B$6:$B$400=CO$3)*(Eingabe!$E$6:$E$400))","v":7},{"$f":"SUMPRODUCT((Eingabe!$C$6:$C$400<$CN27)*(Eingabe!$D$6:$D$400>=$CN27)*(Eingabe!$B$6:$B$400=CO$3)*(Eingabe!$E$6:$E$400))","v":7},{"$f":"SUMPRODUCT((Eingabe!$C$6:$C$400<=$CN27)*(Eingabe!$D$6:$D$400>$CN27)*(Eingabe!$B$6:$B$400=CQ$3)*(Eingabe!$E$6:$E$400))","v":0},{"$f":"SUMPRODUCT((Eingabe!$C$6:$C$400<$CN27)*(Eingabe!$D$6:$D$400>=$CN27)*(Eingabe!$B$6:$B$400=CQ$3)*(Eingabe!$E$6:$E$400))","v":0},{"$f":"SUMPRODUCT((Eingabe!$C$6:$C$400<=$CN27)*(Eingabe!$D$6:$D$400>$CN27)*(Eingabe!$B$6:$B$400=CS$3)*(Eingabe!$E$6:$E$400))","v":0},{"$f":"SUMPRODUCT((Eingabe!$C$6:$C$400<$CN27)*(Eingabe!$D$6:$D$400>=$CN27)*(Eingabe!$B$6:$B$400=CS$3)*(Eingabe!$E$6:$E$400))","v":0},{"$f":"SUMPRODUCT((Eingabe!$C$6:$C$400<=$CN27)*(Eingabe!$D$6:$D$400>$CN27)*(Eingabe!$B$6:$B$400=CU$3)*(Eingabe!$E$6:$E$400))","v":0},{"$f":"SUMPRODUCT((Eingabe!$C$6:$C$400<$CN27)*(Eingabe!$D$6:$D$400>=$CN27)*(Eingabe!$B$6:$B$400=CU$3)*(Eingabe!$E$6:$E$400))","v":0},"2025-11-24","2025-11-24",{"$f":"SUMPRODUCT((Eingabe!$C$6:$C$400<=$CX27)*(Eingabe!$D$6:$D$400>$CX27)*(Eingabe!$B$6:$B$400=CY$3)*(Eingabe!$E$6:$E$400))","v":7},{"$f":"SUMPRODUCT((Eingabe!$C$6:$C$400<$CX27)*(Eingabe!$D$6:$D$400>=$CX27)*(Eingabe!$B$6:$B$400=CY$3)*(Eingabe!$E$6:$E$400))","v":7},{"$f":"SUMPRODUCT((Eingabe!$C$6:$C$400<=$CX27)*(Eingabe!$D$6:$D$400>$CX27)*(Eingabe!$B$6:$B$400=DA$3)*(Eingabe!$E$6:$E$400))","v":0},{"$f":"SUMPRODUCT((Eingabe!$C$6:$C$400<$CX27)*(Eingabe!$D$6:$D$400>=$CX27)*(Eingabe!$B$6:$B$400=DA$3)*(Eingabe!$E$6:$E$400))","v":0},{"$f":"SUMPRODUCT((Eingabe!$C$6:$C$400<=$CX27)*(Eingabe!$D$6:$D$400>$CX27)*(Eingabe!$B$6:$B$400=DC$3)*(Eingabe!$E$6:$E$400))","v":0},{"$f":"SUMPRODUCT((Eingabe!$C$6:$C$400<$CX27)*(Eingabe!$D$6:$D$400>=$CX27)*(Eingabe!$B$6:$B$400=DC$3)*(Eingabe!$E$6:$E$400))","v":0},{"$f":"SUMPRODUCT((Eingabe!$C$6:$C$400<=$CX27)*(Eingabe!$D$6:$D$400>$CX27)*(Eingabe!$B$6:$B$400=DE$3)*(Eingabe!$E$6:$E$400))","v":0},{"$f":"SUMPRODUCT((Eingabe!$C$6:$C$400<$CX27)*(Eingabe!$D$6:$D$400>=$CX27)*(Eingabe!$B$6:$B$400=DE$3)*(Eingabe!$E$6:$E$400))","v":0},"2025-12-24","2025-12-24",{"$f":"SUMPRODUCT((Eingabe!$C$6:$C$400<=$DH27)*(Eingabe!$D$6:$D$400>$DH27)*(Eingabe!$B$6:$B$400=DI$3)*(Eingabe!$E$6:$E$400))","v":7},{"$f":"SUMPRODUCT((Eingabe!$C$6:$C$400<$DH27)*(Eingabe!$D$6:$D$400>=$DH27)*(Eingabe!$B$6:$B$400=DI$3)*(Eingabe!$E$6:$E$400))","v":7},{"$f":"SUMPRODUCT((Eingabe!$C$6:$C$400<=$DH27)*(Eingabe!$D$6:$D$400>$DH27)*(Eingabe!$B$6:$B$400=DK$3)*(Eingabe!$E$6:$E$400))","v":6},{"$f":"SUMPRODUCT((Eingabe!$C$6:$C$400<$DH27)*(Eingabe!$D$6:$D$400>=$DH27)*(Eingabe!$B$6:$B$400=DK$3)*(Eingabe!$E$6:$E$400))","v":6},{"$f":"SUMPRODUCT((Eingabe!$C$6:$C$400<=$DH27)*(Eingabe!$D$6:$D$400>$DH27)*(Eingabe!$B$6:$B$400=DM$3)*(Eingabe!$E$6:$E$400))","v":0},{"$f":"SUMPRODUCT((Eingabe!$C$6:$C$400<$DH27)*(Eingabe!$D$6:$D$400>=$DH27)*(Eingabe!$B$6:$B$400=DM$3)*(Eingabe!$E$6:$E$400))","v":0},{"$f":"SUMPRODUCT((Eingabe!$C$6:$C$400<=$DH27)*(Eingabe!$D$6:$D$400>$DH27)*(Eingabe!$B$6:$B$400=DO$3)*(Eingabe!$E$6:$E$400))","v":0},{"$f":"SUMPRODUCT((Eingabe!$C$6:$C$400<$DH27)*(Eingabe!$D$6:$D$400>=$DH27)*(Eingabe!$B$6:$B$400=DO$3)*(Eingabe!$E$6:$E$400))","v":0},"2026-01-24","2026-01-24",{"$f":"SUMPRODUCT((Eingabe!$C$6:$C$400<=$B27)*(Eingabe!$D$6:$D$400>$B27)*(Eingabe!$B$6:$B$400=DS$3)*(Eingabe!$E$6:$E$400))","v":0},{"$f":"SUMPRODUCT((Eingabe!$C$6:$C$400<$B27)*(Eingabe!$D$6:$D$400>=$B27)*(Eingabe!$B$6:$B$400=DS$3)*(Eingabe!$E$6:$E$400))","v":0},{"$f":"SUMPRODUCT((Eingabe!$C$6:$C$400<=$B27)*(Eingabe!$D$6:$D$400>$B27)*(Eingabe!$B$6:$B$400=DU$3)*(Eingabe!$E$6:$E$400))","v":0},{"$f":"SUMPRODUCT((Eingabe!$C$6:$C$400<$B27)*(Eingabe!$D$6:$D$400>=$B27)*(Eingabe!$B$6:$B$400=DU$3)*(Eingabe!$E$6:$E$400))","v":0},{"$f":"SUMPRODUCT((Eingabe!$C$6:$C$400<=$B27)*(Eingabe!$D$6:$D$400>$B27)*(Eingabe!$B$6:$B$400=DW$3)*(Eingabe!$E$6:$E$400))","v":0},{"$f":"SUMPRODUCT((Eingabe!$C$6:$C$400<$B27)*(Eingabe!$D$6:$D$400>=$B27)*(Eingabe!$B$6:$B$400=DW$3)*(Eingabe!$E$6:$E$400))","v":0},{"$f":"SUMPRODUCT((Eingabe!$C$6:$C$400<=$B27)*(Eingabe!$D$6:$D$400>$B27)*(Eingabe!$B$6:$B$400=DY$3)*(Eingabe!$E$6:$E$400))","v":0},{"$f":"SUMPRODUCT((Eingabe!$C$6:$C$400<$B27)*(Eingabe!$D$6:$D$400>=$B27)*(Eingabe!$B$6:$B$400=DY$3)*(Eingabe!$E$6:$E$400))","v":0},"2026-02-24","2026-02-24",{"$f":"SUMPRODUCT((Eingabe!$C$6:$C$400<=$L27)*(Eingabe!$D$6:$D$400>$L27)*(Eingabe!$B$6:$B$400=EC$3)*(Eingabe!$E$6:$E$400))","v":0},{"$f":"SUMPRODUCT((Eingabe!$C$6:$C$400<$L27)*(Eingabe!$D$6:$D$400>=$L27)*(Eingabe!$B$6:$B$400=EC$3)*(Eingabe!$E$6:$E$400))","v":0},{"$f":"SUMPRODUCT((Eingabe!$C$6:$C$400<=$L27)*(Eingabe!$D$6:$D$400>$L27)*(Eingabe!$B$6:$B$400=EE$3)*(Eingabe!$E$6:$E$400))","v":0},{"$f":"SUMPRODUCT((Eingabe!$C$6:$C$400<$L27)*(Eingabe!$D$6:$D$400>=$L27)*(Eingabe!$B$6:$B$400=EE$3)*(Eingabe!$E$6:$E$400))","v":0},{"$f":"SUMPRODUCT((Eingabe!$C$6:$C$400<=$L27)*(Eingabe!$D$6:$D$400>$L27)*(Eingabe!$B$6:$B$400=EG$3)*(Eingabe!$E$6:$E$400))","v":0},{"$f":"SUMPRODUCT((Eingabe!$C$6:$C$400<$L27)*(Eingabe!$D$6:$D$400>=$L27)*(Eingabe!$B$6:$B$400=EG$3)*(Eingabe!$E$6:$E$400))","v":0},{"$f":"SUMPRODUCT((Eingabe!$C$6:$C$400<=$L27)*(Eingabe!$D$6:$D$400>$L27)*(Eingabe!$B$6:$B$400=EI$3)*(Eingabe!$E$6:$E$400))","v":0},{"$f":"SUMPRODUCT((Eingabe!$C$6:$C$400<$L27)*(Eingabe!$D$6:$D$400>=$L27)*(Eingabe!$B$6:$B$400=EI$3)*(Eingabe!$E$6:$E$400))","v":0},"2026-03-24","2026-03-24",{"$f":"SUMPRODUCT((Eingabe!$C$6:$C$400<=$V27)*(Eingabe!$D$6:$D$400>$V27)*(Eingabe!$B$6:$B$400=EM$3)*(Eingabe!$E$6:$E$400))","v":0},{"$f":"SUMPRODUCT((Eingabe!$C$6:$C$400<$V27)*(Eingabe!$D$6:$D$400>=$V27)*(Eingabe!$B$6:$B$400=EM$3)*(Eingabe!$E$6:$E$400))","v":0},{"$f":"SUMPRODUCT((Eingabe!$C$6:$C$400<=$V27)*(Eingabe!$D$6:$D$400>$V27)*(Eingabe!$B$6:$B$400=EO$3)*(Eingabe!$E$6:$E$400))","v":0},{"$f":"SUMPRODUCT((Eingabe!$C$6:$C$400<$V27)*(Eingabe!$D$6:$D$400>=$V27)*(Eingabe!$B$6:$B$400=EO$3)*(Eingabe!$E$6:$E$400))","v":0},{"$f":"SUMPRODUCT((Eingabe!$C$6:$C$400<=$V27)*(Eingabe!$D$6:$D$400>$V27)*(Eingabe!$B$6:$B$400=EQ$3)*(Eingabe!$E$6:$E$400))","v":0},{"$f":"SUMPRODUCT((Eingabe!$C$6:$C$400<$V27)*(Eingabe!$D$6:$D$400>=$V27)*(Eingabe!$B$6:$B$400=EQ$3)*(Eingabe!$E$6:$E$400))","v":0},{"$f":"SUMPRODUCT((Eingabe!$C$6:$C$400<=$V27)*(Eingabe!$D$6:$D$400>$V27)*(Eingabe!$B$6:$B$400=ES$3)*(Eingabe!$E$6:$E$400))","v":0},{"$f":"SUMPRODUCT((Eingabe!$C$6:$C$400<$V27)*(Eingabe!$D$6:$D$400>=$V27)*(Eingabe!$B$6:$B$400=ES$3)*(Eingabe!$E$6:$E$400))","v":0},"2026-04-24","2026-04-24",{"$f":"SUMPRODUCT((Eingabe!$C$6:$C$400<=$AF27)*(Eingabe!$D$6:$D$400>$AF27)*(Eingabe!$B$6:$B$400=EW$3)*(Eingabe!$E$6:$E$400))","v":0},{"$f":"SUMPRODUCT((Eingabe!$C$6:$C$400<$AF27)*(Eingabe!$D$6:$D$400>=$AF27)*(Eingabe!$B$6:$B$400=EW$3)*(Eingabe!$E$6:$E$400))","v":0},{"$f":"SUMPRODUCT((Eingabe!$C$6:$C$400<=$AF27)*(Eingabe!$D$6:$D$400>$AF27)*(Eingabe!$B$6:$B$400=EY$3)*(Eingabe!$E$6:$E$400))","v":8},{"$f":"SUMPRODUCT((Eingabe!$C$6:$C$400<$AF27)*(Eingabe!$D$6:$D$400>=$AF27)*(Eingabe!$B$6:$B$400=EY$3)*(Eingabe!$E$6:$E$400))","v":8},{"$f":"SUMPRODUCT((Eingabe!$C$6:$C$400<=$AF27)*(Eingabe!$D$6:$D$400>$AF27)*(Eingabe!$B$6:$B$400=FA$3)*(Eingabe!$E$6:$E$400))","v":0},{"$f":"SUMPRODUCT((Eingabe!$C$6:$C$400<$AF27)*(Eingabe!$D$6:$D$400>=$AF27)*(Eingabe!$B$6:$B$400=FA$3)*(Eingabe!$E$6:$E$400))","v":0},{"$f":"SUMPRODUCT((Eingabe!$C$6:$C$400<=$AF27)*(Eingabe!$D$6:$D$400>$AF27)*(Eingabe!$B$6:$B$400=FC$3)*(Eingabe!$E$6:$E$400))","v":0},{"$f":"SUMPRODUCT((Eingabe!$C$6:$C$400<$AF27)*(Eingabe!$D$6:$D$400>=$AF27)*(Eingabe!$B$6:$B$400=FC$3)*(Eingabe!$E$6:$E$400))","v":0},"2026-05-24","2026-05-24",{"$f":"SUMPRODUCT((Eingabe!$C$6:$C$400<=$AP27)*(Eingabe!$D$6:$D$400>$AP27)*(Eingabe!$B$6:$B$400=FG$3)*(Eingabe!$E$6:$E$400))","v":0},{"$f":"SUMPRODUCT((Eingabe!$C$6:$C$400<$AP27)*(Eingabe!$D$6:$D$400>=$AP27)*(Eingabe!$B$6:$B$400=FG$3)*(Eingabe!$E$6:$E$400))","v":0},{"$f":"SUMPRODUCT((Eingabe!$C$6:$C$400<=$AP27)*(Eingabe!$D$6:$D$400>$AP27)*(Eingabe!$B$6:$B$400=FI$3)*(Eingabe!$E$6:$E$400))","v":0},{"$f":"SUMPRODUCT((Eingabe!$C$6:$C$400<$AP27)*(Eingabe!$D$6:$D$400>=$AP27)*(Eingabe!$B$6:$B$400=FI$3)*(Eingabe!$E$6:$E$400))","v":0},{"$f":"SUMPRODUCT((Eingabe!$C$6:$C$400<=$AP27)*(Eingabe!$D$6:$D$400>$AP27)*(Eingabe!$B$6:$B$400=FK$3)*(Eingabe!$E$6:$E$400))","v":0},{"$f":"SUMPRODUCT((Eingabe!$C$6:$C$400<$AP27)*(Eingabe!$D$6:$D$400>=$AP27)*(Eingabe!$B$6:$B$400=FK$3)*(Eingabe!$E$6:$E$400))","v":0},{"$f":"SUMPRODUCT((Eingabe!$C$6:$C$400<=$AP27)*(Eingabe!$D$6:$D$400>$AP27)*(Eingabe!$B$6:$B$400=FM$3)*(Eingabe!$E$6:$E$400))","v":0},{"$f":"SUMPRODUCT((Eingabe!$C$6:$C$400<$AP27)*(Eingabe!$D$6:$D$400>=$AP27)*(Eingabe!$B$6:$B$400=FM$3)*(Eingabe!$E$6:$E$400))","v":0},"2026-06-24","2026-06-24",{"$f":"SUMPRODUCT((Eingabe!$C$6:$C$400<=$AZ27)*(Eingabe!$D$6:$D$400>$AZ27)*(Eingabe!$B$6:$B$400=FQ$3)*(Eingabe!$E$6:$E$400))","v":0},{"$f":"SUMPRODUCT((Eingabe!$C$6:$C$400<$AZ27)*(Eingabe!$D$6:$D$400>=$AZ27)*(Eingabe!$B$6:$B$400=FQ$3)*(Eingabe!$E$6:$E$400))","v":0},{"$f":"SUMPRODUCT((Eingabe!$C$6:$C$400<=$AZ27)*(Eingabe!$D$6:$D$400>$AZ27)*(Eingabe!$B$6:$B$400=FS$3)*(Eingabe!$E$6:$E$400))","v":0},{"$f":"SUMPRODUCT((Eingabe!$C$6:$C$400<$AZ27)*(Eingabe!$D$6:$D$400>=$AZ27)*(Eingabe!$B$6:$B$400=FS$3)*(Eingabe!$E$6:$E$400))","v":0},{"$f":"SUMPRODUCT((Eingabe!$C$6:$C$400<=$AZ27)*(Eingabe!$D$6:$D$400>$AZ27)*(Eingabe!$B$6:$B$400=FU$3)*(Eingabe!$E$6:$E$400))","v":0},{"$f":"SUMPRODUCT((Eingabe!$C$6:$C$400<$AZ27)*(Eingabe!$D$6:$D$400>=$AZ27)*(Eingabe!$B$6:$B$400=FU$3)*(Eingabe!$E$6:$E$400))","v":0},{"$f":"SUMPRODUCT((Eingabe!$C$6:$C$400<=$AZ27)*(Eingabe!$D$6:$D$400>$AZ27)*(Eingabe!$B$6:$B$400=FW$3)*(Eingabe!$E$6:$E$400))","v":0},{"$f":"SUMPRODUCT((Eingabe!$C$6:$C$400<$AZ27)*(Eingabe!$D$6:$D$400>=$AZ27)*(Eingabe!$B$6:$B$400=FW$3)*(Eingabe!$E$6:$E$400))","v":0},"2026-07-24","2026-07-24",{"$f":"SUMPRODUCT((Eingabe!$C$6:$C$400<=$BJ27)*(Eingabe!$D$6:$D$400>$BJ27)*(Eingabe!$B$6:$B$400=GA$3)*(Eingabe!$E$6:$E$400))","v":0},{"$f":"SUMPRODUCT((Eingabe!$C$6:$C$400<$BJ27)*(Eingabe!$D$6:$D$400>=$BJ27)*(Eingabe!$B$6:$B$400=GA$3)*(Eingabe!$E$6:$E$400))","v":0},{"$f":"SUMPRODUCT((Eingabe!$C$6:$C$400<=$BJ27)*(Eingabe!$D$6:$D$400>$BJ27)*(Eingabe!$B$6:$B$400=GC$3)*(Eingabe!$E$6:$E$400))","v":0},{"$f":"SUMPRODUCT((Eingabe!$C$6:$C$400<$BJ27)*(Eingabe!$D$6:$D$400>=$BJ27)*(Eingabe!$B$6:$B$400=GC$3)*(Eingabe!$E$6:$E$400))","v":0},{"$f":"SUMPRODUCT((Eingabe!$C$6:$C$400<=$BJ27)*(Eingabe!$D$6:$D$400>$BJ27)*(Eingabe!$B$6:$B$400=GE$3)*(Eingabe!$E$6:$E$400))","v":0},{"$f":"SUMPRODUCT((Eingabe!$C$6:$C$400<$BJ27)*(Eingabe!$D$6:$D$400>=$BJ27)*(Eingabe!$B$6:$B$400=GE$3)*(Eingabe!$E$6:$E$400))","v":0},{"$f":"SUMPRODUCT((Eingabe!$C$6:$C$400<=$BJ27)*(Eingabe!$D$6:$D$400>$BJ27)*(Eingabe!$B$6:$B$400=GG$3)*(Eingabe!$E$6:$E$400))","v":0},{"$f":"SUMPRODUCT((Eingabe!$C$6:$C$400<$BJ27)*(Eingabe!$D$6:$D$400>=$BJ27)*(Eingabe!$B$6:$B$400=GG$3)*(Eingabe!$E$6:$E$400))","v":0},"2026-08-24","2026-08-24",{"$f":"SUMPRODUCT((Eingabe!$C$6:$C$400<=$BT27)*(Eingabe!$D$6:$D$400>$BT27)*(Eingabe!$B$6:$B$400=GK$3)*(Eingabe!$E$6:$E$400))","v":0},{"$f":"SUMPRODUCT((Eingabe!$C$6:$C$400<$BT27)*(Eingabe!$D$6:$D$400>=$BT27)*(Eingabe!$B$6:$B$400=GK$3)*(Eingabe!$E$6:$E$400))","v":0},{"$f":"SUMPRODUCT((Eingabe!$C$6:$C$400<=$BT27)*(Eingabe!$D$6:$D$400>$BT27)*(Eingabe!$B$6:$B$400=GM$3)*(Eingabe!$E$6:$E$400))","v":0},{"$f":"SUMPRODUCT((Eingabe!$C$6:$C$400<$BT27)*(Eingabe!$D$6:$D$400>=$BT27)*(Eingabe!$B$6:$B$400=GM$3)*(Eingabe!$E$6:$E$400))","v":0},{"$f":"SUMPRODUCT((Eingabe!$C$6:$C$400<=$BT27)*(Eingabe!$D$6:$D$400>$BT27)*(Eingabe!$B$6:$B$400=GO$3)*(Eingabe!$E$6:$E$400))","v":0},{"$f":"SUMPRODUCT((Eingabe!$C$6:$C$400<$BT27)*(Eingabe!$D$6:$D$400>=$BT27)*(Eingabe!$B$6:$B$400=GO$3)*(Eingabe!$E$6:$E$400))","v":0},{"$f":"SUMPRODUCT((Eingabe!$C$6:$C$400<=$BT27)*(Eingabe!$D$6:$D$400>$BT27)*(Eingabe!$B$6:$B$400=GQ$3)*(Eingabe!$E$6:$E$400))","v":0},{"$f":"SUMPRODUCT((Eingabe!$C$6:$C$400<$BT27)*(Eingabe!$D$6:$D$400>=$BT27)*(Eingabe!$B$6:$B$400=GQ$3)*(Eingabe!$E$6:$E$400))","v":0},"2026-09-24","2026-09-24",{"$f":"SUMPRODUCT((Eingabe!$C$6:$C$400<=$CD27)*(Eingabe!$D$6:$D$400>$CD27)*(Eingabe!$B$6:$B$400=GU$3)*(Eingabe!$E$6:$E$400))","v":0},{"$f":"SUMPRODUCT((Eingabe!$C$6:$C$400<$CD27)*(Eingabe!$D$6:$D$400>=$CD27)*(Eingabe!$B$6:$B$400=GU$3)*(Eingabe!$E$6:$E$400))","v":0},{"$f":"SUMPRODUCT((Eingabe!$C$6:$C$400<=$CD27)*(Eingabe!$D$6:$D$400>$CD27)*(Eingabe!$B$6:$B$400=GW$3)*(Eingabe!$E$6:$E$400))","v":0},{"$f":"SUMPRODUCT((Eingabe!$C$6:$C$400<$CD27)*(Eingabe!$D$6:$D$400>=$CD27)*(Eingabe!$B$6:$B$400=GW$3)*(Eingabe!$E$6:$E$400))","v":0},{"$f":"SUMPRODUCT((Eingabe!$C$6:$C$400<=$CD27)*(Eingabe!$D$6:$D$400>$CD27)*(Eingabe!$B$6:$B$400=GY$3)*(Eingabe!$E$6:$E$400))","v":0},{"$f":"SUMPRODUCT((Eingabe!$C$6:$C$400<$CD27)*(Eingabe!$D$6:$D$400>=$CD27)*(Eingabe!$B$6:$B$400=GY$3)*(Eingabe!$E$6:$E$400))","v":0},{"$f":"SUMPRODUCT((Eingabe!$C$6:$C$400<=$CD27)*(Eingabe!$D$6:$D$400>$CD27)*(Eingabe!$B$6:$B$400=HA$3)*(Eingabe!$E$6:$E$400))","v":0},{"$f":"SUMPRODUCT((Eingabe!$C$6:$C$400<$CD27)*(Eingabe!$D$6:$D$400>=$CD27)*(Eingabe!$B$6:$B$400=HA$3)*(Eingabe!$E$6:$E$400))","v":0},"2026-10-24","2026-10-24",{"$f":"SUMPRODUCT((Eingabe!$C$6:$C$400<=$CN27)*(Eingabe!$D$6:$D$400>$CN27)*(Eingabe!$B$6:$B$400=HE$3)*(Eingabe!$E$6:$E$400))","v":7},{"$f":"SUMPRODUCT((Eingabe!$C$6:$C$400<$CN27)*(Eingabe!$D$6:$D$400>=$CN27)*(Eingabe!$B$6:$B$400=HE$3)*(Eingabe!$E$6:$E$400))","v":7},{"$f":"SUMPRODUCT((Eingabe!$C$6:$C$400<=$CN27)*(Eingabe!$D$6:$D$400>$CN27)*(Eingabe!$B$6:$B$400=HG$3)*(Eingabe!$E$6:$E$400))","v":0},{"$f":"SUMPRODUCT((Eingabe!$C$6:$C$400<$CN27)*(Eingabe!$D$6:$D$400>=$CN27)*(Eingabe!$B$6:$B$400=HG$3)*(Eingabe!$E$6:$E$400))","v":0},{"$f":"SUMPRODUCT((Eingabe!$C$6:$C$400<=$CN27)*(Eingabe!$D$6:$D$400>$CN27)*(Eingabe!$B$6:$B$400=HI$3)*(Eingabe!$E$6:$E$400))","v":0},{"$f":"SUMPRODUCT((Eingabe!$C$6:$C$400<$CN27)*(Eingabe!$D$6:$D$400>=$CN27)*(Eingabe!$B$6:$B$400=HI$3)*(Eingabe!$E$6:$E$400))","v":0},{"$f":"SUMPRODUCT((Eingabe!$C$6:$C$400<=$CN27)*(Eingabe!$D$6:$D$400>$CN27)*(Eingabe!$B$6:$B$400=HK$3)*(Eingabe!$E$6:$E$400))","v":0},{"$f":"SUMPRODUCT((Eingabe!$C$6:$C$400<$CN27)*(Eingabe!$D$6:$D$400>=$CN27)*(Eingabe!$B$6:$B$400=HK$3)*(Eingabe!$E$6:$E$400))","v":0},"2026-11-24","2026-11-24",{"$f":"SUMPRODUCT((Eingabe!$C$6:$C$400<=$CX27)*(Eingabe!$D$6:$D$400>$CX27)*(Eingabe!$B$6:$B$400=HO$3)*(Eingabe!$E$6:$E$400))","v":7},{"$f":"SUMPRODUCT((Eingabe!$C$6:$C$400<$CX27)*(Eingabe!$D$6:$D$400>=$CX27)*(Eingabe!$B$6:$B$400=HO$3)*(Eingabe!$E$6:$E$400))","v":7},{"$f":"SUMPRODUCT((Eingabe!$C$6:$C$400<=$CX27)*(Eingabe!$D$6:$D$400>$CX27)*(Eingabe!$B$6:$B$400=HQ$3)*(Eingabe!$E$6:$E$400))","v":0},{"$f":"SUMPRODUCT((Eingabe!$C$6:$C$400<$CX27)*(Eingabe!$D$6:$D$400>=$CX27)*(Eingabe!$B$6:$B$400=HQ$3)*(Eingabe!$E$6:$E$400))","v":0},{"$f":"SUMPRODUCT((Eingabe!$C$6:$C$400<=$CX27)*(Eingabe!$D$6:$D$400>$CX27)*(Eingabe!$B$6:$B$400=HS$3)*(Eingabe!$E$6:$E$400))","v":0},{"$f":"SUMPRODUCT((Eingabe!$C$6:$C$400<$CX27)*(Eingabe!$D$6:$D$400>=$CX27)*(Eingabe!$B$6:$B$400=HS$3)*(Eingabe!$E$6:$E$400))","v":0},{"$f":"SUMPRODUCT((Eingabe!$C$6:$C$400<=$CX27)*(Eingabe!$D$6:$D$400>$CX27)*(Eingabe!$B$6:$B$400=HU$3)*(Eingabe!$E$6:$E$400))","v":0},{"$f":"SUMPRODUCT((Eingabe!$C$6:$C$400<$CX27)*(Eingabe!$D$6:$D$400>=$CX27)*(Eingabe!$B$6:$B$400=HU$3)*(Eingabe!$E$6:$E$400))","v":0},"2026-12-24","2026-12-24",{"$f":"SUMPRODUCT((Eingabe!$C$6:$C$400<=$DH27)*(Eingabe!$D$6:$D$400>$DH27)*(Eingabe!$B$6:$B$400=HY$3)*(Eingabe!$E$6:$E$400))","v":7},{"$f":"SUMPRODUCT((Eingabe!$C$6:$C$400<$DH27)*(Eingabe!$D$6:$D$400>=$DH27)*(Eingabe!$B$6:$B$400=HY$3)*(Eingabe!$E$6:$E$400))","v":7},{"$f":"SUMPRODUCT((Eingabe!$C$6:$C$400<=$DH27)*(Eingabe!$D$6:$D$400>$DH27)*(Eingabe!$B$6:$B$400=IA$3)*(Eingabe!$E$6:$E$400))","v":6},{"$f":"SUMPRODUCT((Eingabe!$C$6:$C$400<$DH27)*(Eingabe!$D$6:$D$400>=$DH27)*(Eingabe!$B$6:$B$400=IA$3)*(Eingabe!$E$6:$E$400))","v":6},{"$f":"SUMPRODUCT((Eingabe!$C$6:$C$400<=$DH27)*(Eingabe!$D$6:$D$400>$DH27)*(Eingabe!$B$6:$B$400=IC$3)*(Eingabe!$E$6:$E$400))","v":0},{"$f":"SUMPRODUCT((Eingabe!$C$6:$C$400<$DH27)*(Eingabe!$D$6:$D$400>=$DH27)*(Eingabe!$B$6:$B$400=IC$3)*(Eingabe!$E$6:$E$400))","v":0},{"$f":"SUMPRODUCT((Eingabe!$C$6:$C$400<=$DH27)*(Eingabe!$D$6:$D$400>$DH27)*(Eingabe!$B$6:$B$400=IE$3)*(Eingabe!$E$6:$E$400))","v":0},{"$f":"SUMPRODUCT((Eingabe!$C$6:$C$400<$DH27)*(Eingabe!$D$6:$D$400>=$DH27)*(Eingabe!$B$6:$B$400=IE$3)*(Eingabe!$E$6:$E$400))","v":0}]
["2025-01-25","2025-01-25",{"$f":"SUMPRODUCT((Eingabe!$C$6:$C$400<=$B28)*(Eingabe!$D$6:$D$400>$B28)*(Eingabe!$B$6:$B$400=C$3)*(Eingabe!$E$6:$E$400))","v":0},{"$f":"SUMPRODUCT((Eingabe!$C$6:$C$400<$B28)*(Eingabe!$D$6:$D$400>=$B28)*(Eingabe!$B$6:$B$400=C$3)*(Eingabe!$E$6:$E$400))","v":0},{"$f":"SUMPRODUCT((Eingabe!$C$6:$C$400<=$B28)*(Eingabe!$D$6:$D$400>$B28)*(Eingabe!$B$6:$B$400=E$3)*(Eingabe!$E$6:$E$400))","v":0},{"$f":"SUMPRODUCT((Eingabe!$C$6:$C$400<$B28)*(Eingabe!$D$6:$D$400>=$B28)*(Eingabe!$B$6:$B$400=E$3)*(Eingabe!$E$6:$E$400))","v":0},{"$f":"SUMPRODUCT((Eingabe!$C$6:$C$400<=$B28)*(Eingabe!$D$6:$D$400>$B28)*(Eingabe!$B$6:$B$400=G$3)*(Eingabe!$E$6:$E$400))","v":0},{"$f":"SUMPRODUCT((Eingabe!$C$6:$C$400<$B28)*(Eingabe!$D$6:$D$400>=$B28)*(Eingabe!$B$6:$B$400=G$3)*(Eingabe!$E$6:$E$400))","v":0},{"$f":"SUMPRODUCT((Eingabe!$C$6:$C$400<=$B28)*(Eingabe!$D$6:$D$400>$B28)*(Eingabe!$B$6:$B$400=I$3)*(Eingabe!$E$6:$E$400))","v":0},{"$f":"SUMPRODUCT((Eingabe!$C$6:$C$400<$B28)*(Eingabe!$D$6:$D$400>=$B28)*(Eingabe!$B$6:$B$400=I$3)*(Eingabe!$E$6:$E$400))","v":0},"2025-02-25","2025-02-25",{"$f":"SUMPRODUCT((Eingabe!$C$6:$C$400<=$L28)*(Eingabe!$D$6:$D$400>$L28)*(Eingabe!$B$6:$B$400=M$3)*(Eingabe!$E$6:$E$400))","v":0},{"$f":"SUMPRODUCT((Eingabe!$C$6:$C$400<$L28)*(Eingabe!$D$6:$D$400>=$L28)*(Eingabe!$B$6:$B$400=M$3)*(Eingabe!$E$6:$E$400))","v":0},{"$f":"SUMPRODUCT((Eingabe!$C$6:$C$400<=$L28)*(Eingabe!$D$6:$D$400>$L28)*(Eingabe!$B$6:$B$400=O$3)*(Eingabe!$E$6:$E$400))","v":0},{"$f":"SUMPRODUCT((Eingabe!$C$6:$C$400<$L28)*(Eingabe!$D$6:$D$400>=$L28)*(Eingabe!$B$6:$B$400=O$3)*(Eingabe!$E$6:$E$400))","v":0},{"$f":"SUMPRODUCT((Eingabe!$C$6:$C$400<=$L28)*(Eingabe!$D$6:$D$400>$L28)*(Eingabe!$B$6:$B$400=Q$3)*(Eingabe!$E$6:$E$400))","v":0},{"$f":"SUMPRODUCT((Eingabe!$C$6:$C$400<$L28)*(Eingabe!$D$6:$D$400>=$L28)*(Eingabe!$B$6:$B$400=Q$3)*(Eingabe!$E$6:$E$400))","v":0},{"$f":"SUMPRODUCT((Eingabe!$C$6:$C$400<=$L28)*(Eingabe!$D$6:$D$400>$L28)*(Eingabe!$B$6:$B$400=S$3)*(Eingabe!$E$6:$E$400))","v":0},{"$f":"SUMPRODUCT((Eingabe!$C$6:$C$400<$L28)*(Eingabe!$D$6:$D$400>=$L28)*(Eingabe!$B$6:$B$400=S$3)*(Eingabe!$E$6:$E$400))","v":0},"2025-03-25","2025-03-25",{"$f":"SUMPRODUCT((Eingabe!$C$6:$C$400<=$V28)*(Eingabe!$D$6:$D$400>$V28)*(Eingabe!$B$6:$B$400=W$3)*(Eingabe!$E$6:$E$400))","v":0},{"$f":"SUMPRODUCT((Eingabe!$C$6:$C$400<$V28)*(Eingabe!$D$6:$D$400>=$V28)*(Eingabe!$B$6:$B$400=W$3)*(Eingabe!$E$6:$E$400))","v":0},{"$f":"SUMPRODUCT((Eingabe!$C$6:$C$400<=$V28)*(Eingabe!$D$6:$D$400>$V28)*(Eingabe!$B$6:$B$400=Y$3)*(Eingabe!$E$6:$E$400))","v":0},{"$f":"SUMPRODUCT((Eingabe!$C$6:$C$400<$V28)*(Eingabe!$D$6:$D$400>=$V28)*(Eingabe!$B$6:$B$400=Y$3)*(Eingabe!$E$6:$E$400))","v":0},{"$f":"SUMPRODUCT((Eingabe!$C$6:$C$400<=$V28)*(Eingabe!$D$6:$D$400>$V28)*(Eingabe!$B$6:$B$400=AA$3)*(Eingabe!$E$6:$E$400))","v":0},{"$f":"SUMPRODUCT((Eingabe!$C$6:$C$400<$V28)*(Eingabe!$D$6:$D$400>=$V28)*(Eingabe!$B$6:$B$400=AA$3)*(Eingabe!$E$6:$E$400))","v":0},{"$f":"SUMPRODUCT((Eingabe!$C$6:$C$400<=$V28)*(Eingabe!$D$6:$D$400>$V28)*(Eingabe!$B$6:$B$400=AC$3)*(Eingabe!$E$6:$E$400))","v":0},{"$f":"SUMPRODUCT((Eingabe!$C$6:$C$400<$V28)*(Eingabe!$D$6:$D$400>=$V28)*(Eingabe!$B$6:$B$400=AC$3)*(Eingabe!$E$6:$E$400))","v":0},"2025-04-25","2025-04-25",{"$f":"SUMPRODUCT((Eingabe!$C$6:$C$400<=$AF28)*(Eingabe!$D$6:$D$400>$AF28)*(Eingabe!$B$6:$B$400=AG$3)*(Eingabe!$E$6:$E$400))","v":0},{"$f":"SUMPRODUCT((Eingabe!$C$6:$C$400<$AF28)*(Eingabe!$D$6:$D$400>=$AF28)*(Eingabe!$B$6:$B$400=AG$3)*(Eingabe!$E$6:$E$400))","v":0},{"$f":"SUMPRODUCT((Eingabe!$C$6:$C$400<=$AF28)*(Eingabe!$D$6:$D$400>$AF28)*(Eingabe!$B$6:$B$400=AI$3)*(Eingabe!$E$6:$E$400))","v":8},{"$f":"SUMPRODUCT((Eingabe!$C$6:$C$400<$AF28)*(Eingabe!$D$6:$D$400>=$AF28)*(Eingabe!$B$6:$B$400=AI$3)*(Eingabe!$E$6:$E$400))","v":8},{"$f":"SUMPRODUCT((Eingabe!$C$6:$C$400<=$AF28)*(Eingabe!$D$6:$D$400>$AF28)*(Eingabe!$B$6:$B$400=AK$3)*(Eingabe!$E$6:$E$400))","v":0},{"$f":"SUMPRODUCT((Eingabe!$C$6:$C$400<$AF28)*(Eingabe!$D$6:$D$400>=$AF28)*(Eingabe!$B$6:$B$400=AK$3)*(Eingabe!$E$6:$E$400))","v":0},{"$f":"SUMPRODUCT((Eingabe!$C$6:$C$400<=$AF28)*(Eingabe!$D$6:$D$400>$AF28)*(Eingabe!$B$6:$B$400=AM$3)*(Eingabe!$E$6:$E$400))","v":0},{"$f":"SUMPRODUCT((Eingabe!$C$6:$C$400<$AF28)*(Eingabe!$D$6:$D$400>=$AF28)*(Eingabe!$B$6:$B$400=AM$3)*(Eingabe!$E$6:$E$400))","v":0},"2025-05-25","2025-05-25",{"$f":"SUMPRODUCT((Eingabe!$C$6:$C$400<=$AP28)*(Eingabe!$D$6:$D$400>$AP28)*(Eingabe!$B$6:$B$400=AQ$3)*(Eingabe!$E$6:$E$400))","v":0},{"$f":"SUMPRODUCT((Eingabe!$C$6:$C$400<$AP28)*(Eingabe!$D$6:$D$400>=$AP28)*(Eingabe!$B$6:$B$400=AQ$3)*(Eingabe!$E$6:$E$400))","v":0},{"$f":"SUMPRODUCT((Eingabe!$C$6:$C$400<=$AP28)*(Eingabe!$D$6:$D$400>$AP28)*(Eingabe!$B$6:$B$400=AS$3)*(Eingabe!$E$6:$E$400))","v":0},{"$f":"SUMPRODUCT((Eingabe!$C$6:$C$400<$AP28)*(Eingabe!$D$6:$D$400>=$AP28)*(Eingabe!$B$6:$B$400=AS$3)*(Eingabe!$E$6:$E$400))","v":0},{"$f":"SUMPRODUCT((Eingabe!$C$6:$C$400<=$AP28)*(Eingabe!$D$6:$D$400>$AP28)*(Eingabe!$B$6:$B$400=AU$3)*(Eingabe!$E$6:$E$400))","v":0},{"$f":"SUMPRODUCT((Eingabe!$C$6:$C$400<$AP28)*(Eingabe!$D$6:$D$400>=$AP28)*(Eingabe!$B$6:$B$400=AU$3)*(Eingabe!$E$6:$E$400))","v":0},{"$f":"SUMPRODUCT((Eingabe!$C$6:$C$400<=$AP28)*(Eingabe!$D$6:$D$400>$AP28)*(Eingabe!$B$6:$B$400=AW$3)*(Eingabe!$E$6:$E$400))","v":0},{"$f":"SUMPRODUCT((Eingabe!$C$6:$C$400<$AP28)*(Eingabe!$D$6:$D$400>=$AP28)*(Eingabe!$B$6:$B$400=AW$3)*(Eingabe!$E$6:$E$400))","v":0},"2025-06-25","2025-06-25",{"$f":"SUMPRODUCT((Eingabe!$C$6:$C$400<=$AZ28)*(Eingabe!$D$6:$D$400>$AZ28)*(Eingabe!$B$6:$B$400=BA$3)*(Eingabe!$E$6:$E$400))","v":0},{"$f":"SUMPRODUCT((Eingabe!$C$6:$C$400<$AZ28)*(Eingabe!$D$6:$D$400>=$AZ28)*(Eingabe!$B$6:$B$400=BA$3)*(Eingabe!$E$6:$E$400))","v":0},{"$f":"SUMPRODUCT((Eingabe!$C$6:$C$400<=$AZ28)*(Eingabe!$D$6:$D$400>$AZ28)*(Eingabe!$B$6:$B$400=BC$3)*(Eingabe!$E$6:$E$400))","v":0},{"$f":"SUMPRODUCT((Eingabe!$C$6:$C$400<$AZ28)*(Eingabe!$D$6:$D$400>=$AZ28)*(Eingabe!$B$6:$B$400=BC$3)*(Eingabe!$E$6:$E$400))","v":0},{"$f":"SUMPRODUCT((Eingabe!$C$6:$C$400<=$AZ28)*(Eingabe!$D$6:$D$400>$AZ28)*(Eingabe!$B$6:$B$400=BE$3)*(Eingabe!$E$6:$E$400))","v":0},{"$f":"SUMPRODUCT((Eingabe!$C$6:$C$400<$AZ28)*(Eingabe!$D$6:$D$400>=$AZ28)*(Eingabe!$B$6:$B$400=BE$3)*(Eingabe!$E$6:$E$400))","v":0},{"$f":"SUMPRODUCT((Eingabe!$C$6:$C$400<=$AZ28)*(Eingabe!$D$6:$D$400>$AZ28)*(Eingabe!$B$6:$B$400=BG$3)*(Eingabe!$E$6:$E$400))","v":0},{"$f":"SUMPRODUCT((Eingabe!$C$6:$C$400<$AZ28)*(Eingabe!$D$6:$D$400>=$AZ28)*(Eingabe!$B$6:$B$400=BG$3)*(Eingabe!$E$6:$E$400))","v":0},"2025-07-25","2025-07-25",{"$f":"SUMPRODUCT((Eingabe!$C$6:$C$400<=$BJ28)*(Eingabe!$D$6:$D$400>$BJ28)*(Eingabe!$B$6:$B$400=BK$3)*(Eingabe!$E$6:$E$400))","v":0},{"$f":"SUMPRODUCT((Eingabe!$C$6:$C$400<$BJ28)*(Eingabe!$D$6:$D$400>=$BJ28)*(Eingabe!$B$6:$B$400=BK$3)*(Eingabe!$E$6:$E$400))","v":0},{"$f":"SUMPRODUCT((Eingabe!$C$6:$C$400<=$BJ28)*(Eingabe!$D$6:$D$400>$BJ28)*(Eingabe!$B$6:$B$400=BM$3)*(Eingabe!$E$6:$E$400))","v":0},{"$f":"SUMPRODUCT((Eingabe!$C$6:$C$400<$BJ28)*(Eingabe!$D$6:$D$400>=$BJ28)*(Eingabe!$B$6:$B$400=BM$3)*(Eingabe!$E$6:$E$400))","v":0},{"$f":"SUMPRODUCT((Eingabe!$C$6:$C$400<=$BJ28)*(Eingabe!$D$6:$D$400>$BJ28)*(Eingabe!$B$6:$B$400=BO$3)*(Eingabe!$E$6:$E$400))","v":0},{"$f":"SUMPRODUCT((Eingabe!$C$6:$C$400<$BJ28)*(Eingabe!$D$6:$D$400>=$BJ28)*(Eingabe!$B$6:$B$400=BO$3)*(Eingabe!$E$6:$E$400))","v":0},{"$f":"SUMPRODUCT((Eingabe!$C$6:$C$400<=$BJ28)*(Eingabe!$D$6:$D$400>$BJ28)*(Eingabe!$B$6:$B$400=BQ$3)*(Eingabe!$E$6:$E$400))","v":0},{"$f":"SUMPRODUCT((Eingabe!$C$6:$C$400<$BJ28)*(Eingabe!$D$6:$D$400>=$BJ28)*(Eingabe!$B$6:$B$400=BQ$3)*(Eingabe!$E$6:$E$400))","v":0},"2025-08-25","2025-08-25",{"$f":"SUMPRODUCT((Eingabe!$C$6:$C$400<=$BT28)*(Eingabe!$D$6:$D$400>$BT28)*(Eingabe!$B$6:$B$400=BU$3)*(Eingabe!$E$6:$E$400))","v":0},{"$f":"SUMPRODUCT((Eingabe!$C$6:$C$400<$BT28)*(Eingabe!$D$6:$D$400>=$BT28)*(Eingabe!$B$6:$B$400=BU$3)*(Eingabe!$E$6:$E$400))","v":0},{"$f":"SUMPRODUCT((Eingabe!$C$6:$C$400<=$BT28)*(Eingabe!$D$6:$D$400>$BT28)*(Eingabe!$B$6:$B$400=BW$3)*(Eingabe!$E$6:$E$400))","v":0},{"$f":"SUMPRODUCT((Eingabe!$C$6:$C$400<$BT28)*(Eingabe!$D$6:$D$400>=$BT28)*(Eingabe!$B$6:$B$400=BW$3)*(Eingabe!$E$6:$E$400))","v":0},{"$f":"SUMPRODUCT((Eingabe!$C$6:$C$400<=$BT28)*(Eingabe!$D$6:$D$400>$BT28)*(Eingabe!$B$6:$B$400=BY$3)*(Eingabe!$E$6:$E$400))","v":0},{"$f":"SUMPRODUCT((Eingabe!$C$6:$C$400<$BT28)*(Eingabe!$D$6:$D$400>=$BT28)*(Eingabe!$B$6:$B$400=BY$3)*(Eingabe!$E$6:$E$400))","v":0},{"$f":"SUMPRODUCT((Eingabe!$C$6:$C$400<=$BT28)*(Eingabe!$D$6:$D$400>$BT28)*(Eingabe!$B$6:$B$400=CA$3)*(Eingabe!$E$6:$E$400))","v":0},{"$f":"SUMPRODUCT((Eingabe!$C$6:$C$400<$BT28)*(Eingabe!$D$6:$D$400>=$BT28)*(Eingabe!$B$6:$B$400=CA$3)*(Eingabe!$E$6:$E$400))","v":0},"2025-09-25","2025-09-25",{"$f":"SUMPRODUCT((Eingabe!$C$6:$C$400<=$CD28)*(Eingabe!$D$6:$D$400>$CD28)*(Eingabe!$B$6:$B$400=CE$3)*(Eingabe!$E$6:$E$400))","v":0},{"$f":"SUMPRODUCT((Eingabe!$C$6:$C$400<$CD28)*(Eingabe!$D$6:$D$400>=$CD28)*(Eingabe!$B$6:$B$400=CE$3)*(Eingabe!$E$6:$E$400))","v":0},{"$f":"SUMPRODUCT((Eingabe!$C$6:$C$400<=$CD28)*(Eingabe!$D$6:$D$400>$CD28)*(Eingabe!$B$6:$B$400=CG$3)*(Eingabe!$E$6:$E$400))","v":0},{"$f":"SUMPRODUCT((Eingabe!$C$6:$C$400<$CD28)*(Eingabe!$D$6:$D$400>=$CD28)*(Eingabe!$B$6:$B$400=CG$3)*(Eingabe!$E$6:$E$400))","v":0},{"$f":"SUMPRODUCT((Eingabe!$C$6:$C$400<=$CD28)*(Eingabe!$D$6:$D$400>$CD28)*(Eingabe!$B$6:$B$400=CI$3)*(Eingabe!$E$6:$E$400))","v":0},{"$f":"SUMPRODUCT((Eingabe!$C$6:$C$400<$CD28)*(Eingabe!$D$6:$D$400>=$CD28)*(Eingabe!$B$6:$B$400=CI$3)*(Eingabe!$E$6:$E$400))","v":0},{"$f":"SUMPRODUCT((Eingabe!$C$6:$C$400<=$CD28)*(Eingabe!$D$6:$D$400>$CD28)*(Eingabe!$B$6:$B$400=CK$3)*(Eingabe!$E$6:$E$400))","v":0},{"$f":"SUMPRODUCT((Eingabe!$C$6:$C$400<$CD28)*(Eingabe!$D$6:$D$400>=$CD28)*(Eingabe!$B$6:$B$400=CK$3)*(Eingabe!$E$6:$E$400))","v":0},"2025-10-25","2025-10-25",{"$f":"SUMPRODUCT((Eingabe!$C$6:$C$400<=$CN28)*(Eingabe!$D$6:$D$400>$CN28)*(Eingabe!$B$6:$B$400=CO$3)*(Eingabe!$E$6:$E$400))","v":7},{"$f":"SUMPRODUCT((Eingabe!$C$6:$C$400<$CN28)*(Eingabe!$D$6:$D$400>=$CN28)*(Eingabe!$B$6:$B$400=CO$3)*(Eingabe!$E$6:$E$400))","v":7},{"$f":"SUMPRODUCT((Eingabe!$C$6:$C$400<=$CN28)*(Eingabe!$D$6:$D$400>$CN28)*(Eingabe!$B$6:$B$400=CQ$3)*(Eingabe!$E$6:$E$400))","v":0},{"$f":"SUMPRODUCT((Eingabe!$C$6:$C$400<$CN28)*(Eingabe!$D$6:$D$400>=$CN28)*(Eingabe!$B$6:$B$400=CQ$3)*(Eingabe!$E$6:$E$400))","v":0},{"$f":"SUMPRODUCT((Eingabe!$C$6:$C$400<=$CN28)*(Eingabe!$D$6:$D$400>$CN28)*(Eingabe!$B$6:$B$400=CS$3)*(Eingabe!$E$6:$E$400))","v":0},{"$f":"SUMPRODUCT((Eingabe!$C$6:$C$400<$CN28)*(Eingabe!$D$6:$D$400>=$CN28)*(Eingabe!$B$6:$B$400=CS$3)*(Eingabe!$E$6:$E$400))","v":0},{"$f":"SUMPRODUCT((Eingabe!$C$6:$C$400<=$CN28)*(Eingabe!$D$6:$D$400>$CN28)*(Eingabe!$B$6:$B$400=CU$3)*(Eingabe!$E$6:$E$400))","v":0},{"$f":"SUMPRODUCT((Eingabe!$C$6:$C$400<$CN28)*(Eingabe!$D$6:$D$400>=$CN28)*(Eingabe!$B$6:$B$400=CU$3)*(Eingabe!$E$6:$E$400))","v":0},"2025-11-25","2025-11-25",{"$f":"SUMPRODUCT((Eingabe!$C$6:$C$400<=$CX28)*(Eingabe!$D$6:$D$400>$CX28)*(Eingabe!$B$6:$B$400=CY$3)*(Eingabe!$E$6:$E$400))","v":7},{"$f":"SUMPRODUCT((Eingabe!$C$6:$C$400<$CX28)*(Eingabe!$D$6:$D$400>=$CX28)*(Eingabe!$B$6:$B$400=CY$3)*(Eingabe!$E$6:$E$400))","v":7},{"$f":"SUMPRODUCT((Eingabe!$C$6:$C$400<=$CX28)*(Eingabe!$D$6:$D$400>$CX28)*(Eingabe!$B$6:$B$400=DA$3)*(Eingabe!$E$6:$E$400))","v":0},{"$f":"SUMPRODUCT((Eingabe!$C$6:$C$400<$CX28)*(Eingabe!$D$6:$D$400>=$CX28)*(Eingabe!$B$6:$B$400=DA$3)*(Eingabe!$E$6:$E$400))","v":0},{"$f":"SUMPRODUCT((Eingabe!$C$6:$C$400<=$CX28)*(Eingabe!$D$6:$D$400>$CX28)*(Eingabe!$B$6:$B$400=DC$3)*(Eingabe!$E$6:$E$400))","v":0},{"$f":"SUMPRODUCT((Eingabe!$C$6:$C$400<$CX28)*(Eingabe!$D$6:$D$400>=$CX28)*(Eingabe!$B$6:$B$400=DC$3)*(Eingabe!$E$6:$E$400))","v":0},{"$f":"SUMPRODUCT((Eingabe!$C$6:$C$400<=$CX28)*(Eingabe!$D$6:$D$400>$CX28)*(Eingabe!$B$6:$B$400=DE$3)*(Eingabe!$E$6:$E$400))","v":0},{"$f":"SUMPRODUCT((Eingabe!$C$6:$C$400<$CX28)*(Eingabe!$D$6:$D$400>=$CX28)*(Eingabe!$B$6:$B$400=DE$3)*(Eingabe!$E$6:$E$400))","v":0},"2025-12-25","2025-12-25",{"$f":"SUMPRODUCT((Eingabe!$C$6:$C$400<=$DH28)*(Eingabe!$D$6:$D$400>$DH28)*(Eingabe!$B$6:$B$400=DI$3)*(Eingabe!$E$6:$E$400))","v":7},{"$f":"SUMPRODUCT((Eingabe!$C$6:$C$400<$DH28)*(Eingabe!$D$6:$D$400>=$DH28)*(Eingabe!$B$6:$B$400=DI$3)*(Eingabe!$E$6:$E$400))","v":7},{"$f":"SUMPRODUCT((Eingabe!$C$6:$C$400<=$DH28)*(Eingabe!$D$6:$D$400>$DH28)*(Eingabe!$B$6:$B$400=DK$3)*(Eingabe!$E$6:$E$400))","v":6},{"$f":"SUMPRODUCT((Eingabe!$C$6:$C$400<$DH28)*(Eingabe!$D$6:$D$400>=$DH28)*(Eingabe!$B$6:$B$400=DK$3)*(Eingabe!$E$6:$E$400))","v":6},{"$f":"SUMPRODUCT((Eingabe!$C$6:$C$400<=$DH28)*(Eingabe!$D$6:$D$400>$DH28)*(Eingabe!$B$6:$B$400=DM$3)*(Eingabe!$E$6:$E$400))","v":0},{"$f":"SUMPRODUCT((Eingabe!$C$6:$C$400<$DH28)*(Eingabe!$D$6:$D$400>=$DH28)*(Eingabe!$B$6:$B$400=DM$3)*(Eingabe!$E$6:$E$400))","v":0},{"$f":"SUMPRODUCT((Eingabe!$C$6:$C$400<=$DH28)*(Eingabe!$D$6:$D$400>$DH28)*(Eingabe!$B$6:$B$400=DO$3)*(Eingabe!$E$6:$E$400))","v":0},{"$f":"SUMPRODUCT((Eingabe!$C$6:$C$400<$DH28)*(Eingabe!$D$6:$D$400>=$DH28)*(Eingabe!$B$6:$B$400=DO$3)*(Eingabe!$E$6:$E$400))","v":0},"2026-01-25","2026-01-25",{"$f":"SUMPRODUCT((Eingabe!$C$6:$C$400<=$B28)*(Eingabe!$D$6:$D$400>$B28)*(Eingabe!$B$6:$B$400=DS$3)*(Eingabe!$E$6:$E$400))","v":0},{"$f":"SUMPRODUCT((Eingabe!$C$6:$C$400<$B28)*(Eingabe!$D$6:$D$400>=$B28)*(Eingabe!$B$6:$B$400=DS$3)*(Eingabe!$E$6:$E$400))","v":0},{"$f":"SUMPRODUCT((Eingabe!$C$6:$C$400<=$B28)*(Eingabe!$D$6:$D$400>$B28)*(Eingabe!$B$6:$B$400=DU$3)*(Eingabe!$E$6:$E$400))","v":0},{"$f":"SUMPRODUCT((Eingabe!$C$6:$C$400<$B28)*(Eingabe!$D$6:$D$400>=$B28)*(Eingabe!$B$6:$B$400=DU$3)*(Eingabe!$E$6:$E$400))","v":0},{"$f":"SUMPRODUCT((Eingabe!$C$6:$C$400<=$B28)*(Eingabe!$D$6:$D$400>$B28)*(Eingabe!$B$6:$B$400=DW$3)*(Eingabe!$E$6:$E$400))","v":0},{"$f":"SUMPRODUCT((Eingabe!$C$6:$C$400<$B28)*(Eingabe!$D$6:$D$400>=$B28)*(Eingabe!$B$6:$B$400=DW$3)*(Eingabe!$E$6:$E$400))","v":0},{"$f":"SUMPRODUCT((Eingabe!$C$6:$C$400<=$B28)*(Eingabe!$D$6:$D$400>$B28)*(Eingabe!$B$6:$B$400=DY$3)*(Eingabe!$E$6:$E$400))","v":0},{"$f":"SUMPRODUCT((Eingabe!$C$6:$C$400<$B28)*(Eingabe!$D$6:$D$400>=$B28)*(Eingabe!$B$6:$B$400=DY$3)*(Eingabe!$E$6:$E$400))","v":0},"2026-02-25","2026-02-25",{"$f":"SUMPRODUCT((Eingabe!$C$6:$C$400<=$L28)*(Eingabe!$D$6:$D$400>$L28)*(Eingabe!$B$6:$B$400=EC$3)*(Eingabe!$E$6:$E$400))","v":0},{"$f":"SUMPRODUCT((Eingabe!$C$6:$C$400<$L28)*(Eingabe!$D$6:$D$400>=$L28)*(Eingabe!$B$6:$B$400=EC$3)*(Eingabe!$E$6:$E$400))","v":0},{"$f":"SUMPRODUCT((Eingabe!$C$6:$C$400<=$L28)*(Eingabe!$D$6:$D$400>$L28)*(Eingabe!$B$6:$B$400=EE$3)*(Eingabe!$E$6:$E$400))","v":0},{"$f":"SUMPRODUCT((Eingabe!$C$6:$C$400<$L28)*(Eingabe!$D$6:$D$400>=$L28)*(Eingabe!$B$6:$B$400=EE$3)*(Eingabe!$E$6:$E$400))","v":0},{"$f":"SUMPRODUCT((Eingabe!$C$6:$C$400<=$L28)*(Eingabe!$D$6:$D$400>$L28)*(Eingabe!$B$6:$B$400=EG$3)*(Eingabe!$E$6:$E$400))","v":0},{"$f":"SUMPRODUCT((Eingabe!$C$6:$C$400<$L28)*(Eingabe!$D$6:$D$400>=$L28)*(Eingabe!$B$6:$B$400=EG$3)*(Eingabe!$E$6:$E$400))","v":0},{"$f":"SUMPRODUCT((Eingabe!$C$6:$C$400<=$L28)*(Eingabe!$D$6:$D$400>$L28)*(Eingabe!$B$6:$B$400=EI$3)*(Eingabe!$E$6:$E$400))","v":0},{"$f":"SUMPRODUCT((Eingabe!$C$6:$C$400<$L28)*(Eingabe!$D$6:$D$400>=$L28)*(Eingabe!$B$6:$B$400=EI$3)*(Eingabe!$E$6:$E$400))","v":0},"2026-03-25","2026-03-25",{"$f":"SUMPRODUCT((Eingabe!$C$6:$C$400<=$V28)*(Eingabe!$D$6:$D$400>$V28)*(Eingabe!$B$6:$B$400=EM$3)*(Eingabe!$E$6:$E$400))","v":0},{"$f":"SUMPRODUCT((Eingabe!$C$6:$C$400<$V28)*(Eingabe!$D$6:$D$400>=$V28)*(Eingabe!$B$6:$B$400=EM$3)*(Eingabe!$E$6:$E$400))","v":0},{"$f":"SUMPRODUCT((Eingabe!$C$6:$C$400<=$V28)*(Eingabe!$D$6:$D$400>$V28)*(Eingabe!$B$6:$B$400=EO$3)*(Eingabe!$E$6:$E$400))","v":0},{"$f":"SUMPRODUCT((Eingabe!$C$6:$C$400<$V28)*(Eingabe!$D$6:$D$400>=$V28)*(Eingabe!$B$6:$B$400=EO$3)*(Eingabe!$E$6:$E$400))","v":0},{"$f":"SUMPRODUCT((Eingabe!$C$6:$C$400<=$V28)*(Eingabe!$D$6:$D$400>$V28)*(Eingabe!$B$6:$B$400=EQ$3)*(Eingabe!$E$6:$E$400))","v":0},{"$f":"SUMPRODUCT((Eingabe!$C$6:$C$400<$V28)*(Eingabe!$D$6:$D$400>=$V28)*(Eingabe!$B$6:$B$400=EQ$3)*(Eingabe!$E$6:$E$400))","v":0},{"$f":"SUMPRODUCT((Eingabe!$C$6:$C$400<=$V28)*(Eingabe!$D$6:$D$400>$V28)*(Eingabe!$B$6:$B$400=ES$3)*(Eingabe!$E$6:$E$400))","v":0},{"$f":"SUMPRODUCT((Eingabe!$C$6:$C$400<$V28)*(Eingabe!$D$6:$D$400>=$V28)*(Eingabe!$B$6:$B$400=ES$3)*(Eingabe!$E$6:$E$400))","v":0},"2026-04-25","2026-04-25",{"$f":"SUMPRODUCT((Eingabe!$C$6:$C$400<=$AF28)*(Eingabe!$D$6:$D$400>$AF28)*(Eingabe!$B$6:$B$400=EW$3)*(Eingabe!$E$6:$E$400))","v":0},{"$f":"SUMPRODUCT((Eingabe!$C$6:$C$400<$AF28)*(Eingabe!$D$6:$D$400>=$AF28)*(Eingabe!$B$6:$B$400=EW$3)*(Eingabe!$E$6:$E$400))","v":0},{"$f":"SUMPRODUCT((Eingabe!$C$6:$C$400<=$AF28)*(Eingabe!$D$6:$D$400>$AF28)*(Eingabe!$B$6:$B$400=EY$3)*(Eingabe!$E$6:$E$400))","v":8},{"$f":"SUMPRODUCT((Eingabe!$C$6:$C$400<$AF28)*(Eingabe!$D$6:$D$400>=$AF28)*(Eingabe!$B$6:$B$400=EY$3)*(Eingabe!$E$6:$E$400))","v":8},{"$f":"SUMPRODUCT((Eingabe!$C$6:$C$400<=$AF28)*(Eingabe!$D$6:$D$400>$AF28)*(Eingabe!$B$6:$B$400=FA$3)*(Eingabe!$E$6:$E$400))","v":0},{"$f":"SUMPRODUCT((Eingabe!$C$6:$C$400<$AF28)*(Eingabe!$D$6:$D$400>=$AF28)*(Eingabe!$B$6:$B$400=FA$3)*(Eingabe!$E$6:$E$400))","v":0},{"$f":"SUMPRODUCT((Eingabe!$C$6:$C$400<=$AF28)*(Eingabe!$D$6:$D$400>$AF28)*(Eingabe!$B$6:$B$400=FC$3)*(Eingabe!$E$6:$E$400))","v":0},{"$f":"SUMPRODUCT((Eingabe!$C$6:$C$400<$AF28)*(Eingabe!$D$6:$D$400>=$AF28)*(Eingabe!$B$6:$B$400=FC$3)*(Eingabe!$E$6:$E$400))","v":0},"2026-05-25","2026-05-25",{"$f":"SUMPRODUCT((Eingabe!$C$6:$C$400<=$AP28)*(Eingabe!$D$6:$D$400>$AP28)*(Eingabe!$B$6:$B$400=FG$3)*(Eingabe!$E$6:$E$400))","v":0},{"$f":"SUMPRODUCT((Eingabe!$C$6:$C$400<$AP28)*(Eingabe!$D$6:$D$400>=$AP28)*(Eingabe!$B$6:$B$400=FG$3)*(Eingabe!$E$6:$E$400))","v":0},{"$f":"SUMPRODUCT((Eingabe!$C$6:$C$400<=$AP28)*(Eingabe!$D$6:$D$400>$AP28)*(Eingabe!$B$6:$B$400=FI$3)*(Eingabe!$E$6:$E$400))","v":0},{"$f":"SUMPRODUCT((Eingabe!$C$6:$C$400<$AP28)*(Eingabe!$D$6:$D$400>=$AP28)*(Eingabe!$B$6:$B$400=FI$3)*(Eingabe!$E$6:$E$400))","v":0},{"$f":"SUMPRODUCT((Eingabe!$C$6:$C$400<=$AP28)*(Eingabe!$D$6:$D$400>$AP28)*(Eingabe!$B$6:$B$400=FK$3)*(Eingabe!$E$6:$E$400))","v":0},{"$f":"SUMPRODUCT((Eingabe!$C$6:$C$400<$AP28)*(Eingabe!$D$6:$D$400>=$AP28)*(Eingabe!$B$6:$B$400=FK$3)*(Eingabe!$E$6:$E$400))","v":0},{"$f":"SUMPRODUCT((Eingabe!$C$6:$C$400<=$AP28)*(Eingabe!$D$6:$D$400>$AP28)*(Eingabe!$B$6:$B$400=FM$3)*(Eingabe!$E$6:$E$400))","v":0},{"$f":"SUMPRODUCT((Eingabe!$C$6:$C$400<$AP28)*(Eingabe!$D$6:$D$400>=$AP28)*(Eingabe!$B$6:$B$400=FM$3)*(Eingabe!$E$6:$E$400))","v":0},"2026-06-25","2026-06-25",{"$f":"SUMPRODUCT((Eingabe!$C$6:$C$400<=$AZ28)*(Eingabe!$D$6:$D$400>$AZ28)*(Eingabe!$B$6:$B$400=FQ$3)*(Eingabe!$E$6:$E$400))","v":0},{"$f":"SUMPRODUCT((Eingabe!$C$6:$C$400<$AZ28)*(Eingabe!$D$6:$D$400>=$AZ28)*(Eingabe!$B$6:$B$400=FQ$3)*(Eingabe!$E$6:$E$400))","v":0},{"$f":"SUMPRODUCT((Eingabe!$C$6:$C$400<=$AZ28)*(Eingabe!$D$6:$D$400>$AZ28)*(Eingabe!$B$6:$B$400=FS$3)*(Eingabe!$E$6:$E$400))","v":0},{"$f":"SUMPRODUCT((Eingabe!$C$6:$C$400<$AZ28)*(Eingabe!$D$6:$D$400>=$AZ28)*(Eingabe!$B$6:$B$400=FS$3)*(Eingabe!$E$6:$E$400))","v":0},{"$f":"SUMPRODUCT((Eingabe!$C$6:$C$400<=$AZ28)*(Eingabe!$D$6:$D$400>$AZ28)*(Eingabe!$B$6:$B$400=FU$3)*(Eingabe!$E$6:$E$400))","v":0},{"$f":"SUMPRODUCT((Eingabe!$C$6:$C$400<$AZ28)*(Eingabe!$D$6:$D$400>=$AZ28)*(Eingabe!$B$6:$B$400=FU$3)*(Eingabe!$E$6:$E$400))","v":0},{"$f":"SUMPRODUCT((Eingabe!$C$6:$C$400<=$AZ28)*(Eingabe!$D$6:$D$400>$AZ28)*(Eingabe!$B$6:$B$400=FW$3)*(Eingabe!$E$6:$E$400))","v":0},{"$f":"SUMPRODUCT((Eingabe!$C$6:$C$400<$AZ28)*(Eingabe!$D$6:$D$400>=$AZ28)*(Eingabe!$B$6:$B$400=FW$3)*(Eingabe!$E$6:$E$400))","v":0},"2026-07-25","2026-07-25",{"$f":"SUMPRODUCT((Eingabe!$C$6:$C$400<=$BJ28)*(Eingabe!$D$6:$D$400>$BJ28)*(Eingabe!$B$6:$B$400=GA$3)*(Eingabe!$E$6:$E$400))","v":0},{"$f":"SUMPRODUCT((Eingabe!$C$6:$C$400<$BJ28)*(Eingabe!$D$6:$D$400>=$BJ28)*(Eingabe!$B$6:$B$400=GA$3)*(Eingabe!$E$6:$E$400))","v":0},{"$f":"SUMPRODUCT((Eingabe!$C$6:$C$400<=$BJ28)*(Eingabe!$D$6:$D$400>$BJ28)*(Eingabe!$B$6:$B$400=GC$3)*(Eingabe!$E$6:$E$400))","v":0},{"$f":"SUMPRODUCT((Eingabe!$C$6:$C$400<$BJ28)*(Eingabe!$D$6:$D$400>=$BJ28)*(Eingabe!$B$6:$B$400=GC$3)*(Eingabe!$E$6:$E$400))","v":0},{"$f":"SUMPRODUCT((Eingabe!$C$6:$C$400<=$BJ28)*(Eingabe!$D$6:$D$400>$BJ28)*(Eingabe!$B$6:$B$400=GE$3)*(Eingabe!$E$6:$E$400))","v":0},{"$f":"SUMPRODUCT((Eingabe!$C$6:$C$400<$BJ28)*(Eingabe!$D$6:$D$400>=$BJ28)*(Eingabe!$B$6:$B$400=GE$3)*(Eingabe!$E$6:$E$400))","v":0},{"$f":"SUMPRODUCT((Eingabe!$C$6:$C$400<=$BJ28)*(Eingabe!$D$6:$D$400>$BJ28)*(Eingabe!$B$6:$B$400=GG$3)*(Eingabe!$E$6:$E$400))","v":0},{"$f":"SUMPRODUCT((Eingabe!$C$6:$C$400<$BJ28)*(Eingabe!$D$6:$D$400>=$BJ28)*(Eingabe!$B$6:$B$400=GG$3)*(Eingabe!$E$6:$E$400))","v":0},"2026-08-25","2026-08-25",{"$f":"SUMPRODUCT((Eingabe!$C$6:$C$400<=$BT28)*(Eingabe!$D$6:$D$400>$BT28)*(Eingabe!$B$6:$B$400=GK$3)*(Eingabe!$E$6:$E$400))","v":0},{"$f":"SUMPRODUCT((Eingabe!$C$6:$C$400<$BT28)*(Eingabe!$D$6:$D$400>=$BT28)*(Eingabe!$B$6:$B$400=GK$3)*(Eingabe!$E$6:$E$400))","v":0},{"$f":"SUMPRODUCT((Eingabe!$C$6:$C$400<=$BT28)*(Eingabe!$D$6:$D$400>$BT28)*(Eingabe!$B$6:$B$400=GM$3)*(Eingabe!$E$6:$E$400))","v":0},{"$f":"SUMPRODUCT((Eingabe!$C$6:$C$400<$BT28)*(Eingabe!$D$6:$D$400>=$BT28)*(Eingabe!$B$6:$B$400=GM$3)*(Eingabe!$E$6:$E$400))","v":0},{"$f":"SUMPRODUCT((Eingabe!$C$6:$C$400<=$BT28)*(Eingabe!$D$6:$D$400>$BT28)*(Eingabe!$B$6:$B$400=GO$3)*(Eingabe!$E$6:$E$400))","v":0},{"$f":"SUMPRODUCT((Eingabe!$C$6:$C$400<$BT28)*(Eingabe!$D$6:$D$400>=$BT28)*(Eingabe!$B$6:$B$400=GO$3)*(Eingabe!$E$6:$E$400))","v":0},{"$f":"SUMPRODUCT((Eingabe!$C$6:$C$400<=$BT28)*(Eingabe!$D$6:$D$400>$BT28)*(Eingabe!$B$6:$B$400=GQ$3)*(Eingabe!$E$6:$E$400))","v":0},{"$f":"SUMPRODUCT((Eingabe!$C$6:$C$400<$BT28)*(Eingabe!$D$6:$D$400>=$BT28)*(Eingabe!$B$6:$B$400=GQ$3)*(Eingabe!$E$6:$E$400))","v":0},"2026-09-25","2026-09-25",{"$f":"SUMPRODUCT((Eingabe!$C$6:$C$400<=$CD28)*(Eingabe!$D$6:$D$400>$CD28)*(Eingabe!$B$6:$B$400=GU$3)*(Eingabe!$E$6:$E$400))","v":0},{"$f":"SUMPRODUCT((Eingabe!$C$6:$C$400<$CD28)*(Eingabe!$D$6:$D$400>=$CD28)*(Eingabe!$B$6:$B$400=GU$3)*(Eingabe!$E$6:$E$400))","v":0},{"$f":"SUMPRODUCT((Eingabe!$C$6:$C$400<=$CD28)*(Eingabe!$D$6:$D$400>$CD28)*(Eingabe!$B$6:$B$400=GW$3)*(Eingabe!$E$6:$E$400))","v":0},{"$f":"SUMPRODUCT((Eingabe!$C$6:$C$400<$CD28)*(Eingabe!$D$6:$D$400>=$CD28)*(Eingabe!$B$6:$B$400=GW$3)*(Eingabe!$E$6:$E$400))","v":0},{"$f":"SUMPRODUCT((Eingabe!$C$6:$C$400<=$CD28)*(Eingabe!$D$6:$D$400>$CD28)*(Eingabe!$B$6:$B$400=GY$3)*(Eingabe!$E$6:$E$400))","v":0},{"$f":"SUMPRODUCT((Eingabe!$C$6:$C$400<$CD28)*(Eingabe!$D$6:$D$400>=$CD28)*(Eingabe!$B$6:$B$400=GY$3)*(Eingabe!$E$6:$E$400))","v":0},{"$f":"SUMPRODUCT((Eingabe!$C$6:$C$400<=$CD28)*(Eingabe!$D$6:$D$400>$CD28)*(Eingabe!$B$6:$B$400=HA$3)*(Eingabe!$E$6:$E$400))","v":0},{"$f":"SUMPRODUCT((Eingabe!$C$6:$C$400<$CD28)*(Eingabe!$D$6:$D$400>=$CD28)*(Eingabe!$B$6:$B$400=HA$3)*(Eingabe!$E$6:$E$400))","v":0},"2026-10-25","2026-10-25",{"$f":"SUMPRODUCT((Eingabe!$C$6:$C$400<=$CN28)*(Eingabe!$D$6:$D$400>$CN28)*(Eingabe!$B$6:$B$400=HE$3)*(Eingabe!$E$6:$E$400))","v":7},{"$f":"SUMPRODUCT((Eingabe!$C$6:$C$400<$CN28)*(Eingabe!$D$6:$D$400>=$CN28)*(Eingabe!$B$6:$B$400=HE$3)*(Eingabe!$E$6:$E$400))","v":7},{"$f":"SUMPRODUCT((Eingabe!$C$6:$C$400<=$CN28)*(Eingabe!$D$6:$D$400>$CN28)*(Eingabe!$B$6:$B$400=HG$3)*(Eingabe!$E$6:$E$400))","v":0},{"$f":"SUMPRODUCT((Eingabe!$C$6:$C$400<$CN28)*(Eingabe!$D$6:$D$400>=$CN28)*(Eingabe!$B$6:$B$400=HG$3)*(Eingabe!$E$6:$E$400))","v":0},{"$f":"SUMPRODUCT((Eingabe!$C$6:$C$400<=$CN28)*(Eingabe!$D$6:$D$400>$CN28)*(Eingabe!$B$6:$B$400=HI$3)*(Eingabe!$E$6:$E$400))","v":0},{"$f":"SUMPRODUCT((Eingabe!$C$6:$C$400<$CN28)*(Eingabe!$D$6:$D$400>=$CN28)*(Eingabe!$B$6:$B$400=HI$3)*(Eingabe!$E$6:$E$400))","v":0},{"$f":"SUMPRODUCT((Eingabe!$C$6:$C$400<=$CN28)*(Eingabe!$D$6:$D$400>$CN28)*(Eingabe!$B$6:$B$400=HK$3)*(Eingabe!$E$6:$E$400))","v":0},{"$f":"SUMPRODUCT((Eingabe!$C$6:$C$400<$CN28)*(Eingabe!$D$6:$D$400>=$CN28)*(Eingabe!$B$6:$B$400=HK$3)*(Eingabe!$E$6:$E$400))","v":0},"2026-11-25","2026-11-25",{"$f":"SUMPRODUCT((Eingabe!$C$6:$C$400<=$CX28)*(Eingabe!$D$6:$D$400>$CX28)*(Eingabe!$B$6:$B$400=HO$3)*(Eingabe!$E$6:$E$400))","v":7},{"$f":"SUMPRODUCT((Eingabe!$C$6:$C$400<$CX28)*(Eingabe!$D$6:$D$400>=$CX28)*(Eingabe!$B$6:$B$400=HO$3)*(Eingabe!$E$6:$E$400))","v":7},{"$f":"SUMPRODUCT((Eingabe!$C$6:$C$400<=$CX28)*(Eingabe!$D$6:$D$400>$CX28)*(Eingabe!$B$6:$B$400=HQ$3)*(Eingabe!$E$6:$E$400))","v":0},{"$f":"SUMPRODUCT((Eingabe!$C$6:$C$400<$CX28)*(Eingabe!$D$6:$D$400>=$CX28)*(Eingabe!$B$6:$B$400=HQ$3)*(Eingabe!$E$6:$E$400))","v":0},{"$f":"SUMPRODUCT((Eingabe!$C$6:$C$400<=$CX28)*(Eingabe!$D$6:$D$400>$CX28)*(Eingabe!$B$6:$B$400=HS$3)*(Eingabe!$E$6:$E$400))","v":0},{"$f":"SUMPRODUCT((Eingabe!$C$6:$C$400<$CX28)*(Eingabe!$D$6:$D$400>=$CX28)*(Eingabe!$B$6:$B$400=HS$3)*(Eingabe!$E$6:$E$400))","v":0},{"$f":"SUMPRODUCT((Eingabe!$C$6:$C$400<=$CX28)*(Eingabe!$D$6:$D$400>$CX28)*(Eingabe!$B$6:$B$400=HU$3)*(Eingabe!$E$6:$E$400))","v":0},{"$f":"SUMPRODUCT((Eingabe!$C$6:$C$400<$CX28)*(Eingabe!$D$6:$D$400>=$CX28)*(Eingabe!$B$6:$B$400=HU$3)*(Eingabe!$E$6:$E$400))","v":0},"2026-12-25","2026-12-25",{"$f":"SUMPRODUCT((Eingabe!$C$6:$C$400<=$DH28)*(Eingabe!$D$6:$D$400>$DH28)*(Eingabe!$B$6:$B$400=HY$3)*(Eingabe!$E$6:$E$400))","v":7},{"$f":"SUMPRODUCT((Eingabe!$C$6:$C$400<$DH28)*(Eingabe!$D$6:$D$400>=$DH28)*(Eingabe!$B$6:$B$400=HY$3)*(Eingabe!$E$6:$E$400))","v":7},{"$f":"SUMPRODUCT((Eingabe!$C$6:$C$400<=$DH28)*(Eingabe!$D$6:$D$400>$DH28)*(Eingabe!$B$6:$B$400=IA$3)*(Eingabe!$E$6:$E$400))","v":6},{"$f":"SUMPRODUCT((Eingabe!$C$6:$C$400<$DH28)*(Eingabe!$D$6:$D$400>=$DH28)*(Eingabe!$B$6:$B$400=IA$3)*(Eingabe!$E$6:$E$400))","v":6},{"$f":"SUMPRODUCT((Eingabe!$C$6:$C$400<=$DH28)*(Eingabe!$D$6:$D$400>$DH28)*(Eingabe!$B$6:$B$400=IC$3)*(Eingabe!$E$6:$E$400))","v":0},{"$f":"SUMPRODUCT((Eingabe!$C$6:$C$400<$DH28)*(Eingabe!$D$6:$D$400>=$DH28)*(Eingabe!$B$6:$B$400=IC$3)*(Eingabe!$E$6:$E$400))","v":0},{"$f":"SUMPRODUCT((Eingabe!$C$6:$C$400<=$DH28)*(Eingabe!$D$6:$D$400>$DH28)*(Eingabe!$B$6:$B$400=IE$3)*(Eingabe!$E$6:$E$400))","v":0},{"$f":"SUMPRODUCT((Eingabe!$C$6:$C$400<$DH28)*(Eingabe!$D$6:$D$400>=$DH28)*(Eingabe!$B$6:$B$400=IE$3)*(Eingabe!$E$6:$E$400))","v":0}]
["2025-01-26","2025-01-26",{"$f":"SUMPRODUCT((Eingabe!$C$6:$C$400<=$B29)*(Eingabe!$D$6:$D$400>$B29)*(Eingabe!$B$6:$B$400=C$3)*(Eingabe!$E$6:$E$400))","v":0},{"$f":"SUMPRODUCT((Eingabe!$C$6:$C$400<$B29)*(Eingabe!$D$6:$D$400>=$B29)*(Eingabe!$B$6:$B$400=C$3)*(Eingabe!$E$6:$E$400))","v":0},{"$f":"SUMPRODUCT((Eingabe!$C$6:$C$400<=$B29)*(Eingabe!$D$6:$D$400>$B29)*(Eingabe!$B$6:$B$400=E$3)*(Eingabe!$E$6:$E$400))","v":0},{"$f":"SUMPRODUCT((Eingabe!$C$6:$C$400<$B29)*(Eingabe!$D$6:$D$400>=$B29)*(Eingabe!$B$6:$B$400=E$3)*(Eingabe!$E$6:$E$400))","v":0},{"$f":"SUMPRODUCT((Eingabe!$C$6:$C$400<=$B29)*(Eingabe!$D$6:$D$400>$B29)*(Eingabe!$B$6:$B$400=G$3)*(Eingabe!$E$6:$E$400))","v":0},{"$f":"SUMPRODUCT((Eingabe!$C$6:$C$400<$B29)*(Eingabe!$D$6:$D$400>=$B29)*(Eingabe!$B$6:$B$400=G$3)*(Eingabe!$E$6:$E$400))","v":0},{"$f":"SUMPRODUCT((Eingabe!$C$6:$C$400<=$B29)*(Eingabe!$D$6:$D$400>$B29)*(Eingabe!$B$6:$B$400=I$3)*(Eingabe!$E$6:$E$400))","v":0},{"$f":"SUMPRODUCT((Eingabe!$C$6:$C$400<$B29)*(Eingabe!$D$6:$D$400>=$B29)*(Eingabe!$B$6:$B$400=I$3)*(Eingabe!$E$6:$E$400))","v":0},"2025-02-26","2025-02-26",{"$f":"SUMPRODUCT((Eingabe!$C$6:$C$400<=$L29)*(Eingabe!$D$6:$D$400>$L29)*(Eingabe!$B$6:$B$400=M$3)*(Eingabe!$E$6:$E$400))","v":0},{"$f":"SUMPRODUCT((Eingabe!$C$6:$C$400<$L29)*(Eingabe!$D$6:$D$400>=$L29)*(Eingabe!$B$6:$B$400=M$3)*(Eingabe!$E$6:$E$400))","v":0},{"$f":"SUMPRODUCT((Eingabe!$C$6:$C$400<=$L29)*(Eingabe!$D$6:$D$400>$L29)*(Eingabe!$B$6:$B$400=O$3)*(Eingabe!$E$6:$E$400))","v":0},{"$f":"SUMPRODUCT((Eingabe!$C$6:$C$400<$L29)*(Eingabe!$D$6:$D$400>=$L29)*(Eingabe!$B$6:$B$400=O$3)*(Eingabe!$E$6:$E$400))","v":0},{"$f":"SUMPRODUCT((Eingabe!$C$6:$C$400<=$L29)*(Eingabe!$D$6:$D$400>$L29)*(Eingabe!$B$6:$B$400=Q$3)*(Eingabe!$E$6:$E$400))","v":0},{"$f":"SUMPRODUCT((Eingabe!$C$6:$C$400<$L29)*(Eingabe!$D$6:$D$400>=$L29)*(Eingabe!$B$6:$B$400=Q$3)*(Eingabe!$E$6:$E$400))","v":0},{"$f":"SUMPRODUCT((Eingabe!$C$6:$C$400<=$L29)*(Eingabe!$D$6:$D$400>$L29)*(Eingabe!$B$6:$B$400=S$3)*(Eingabe!$E$6:$E$400))","v":0},{"$f":"SUMPRODUCT((Eingabe!$C$6:$C$400<$L29)*(Eingabe!$D$6:$D$400>=$L29)*(Eingabe!$B$6:$B$400=S$3)*(Eingabe!$E$6:$E$400))","v":0},"2025-03-26","2025-03-26",{"$f":"SUMPRODUCT((Eingabe!$C$6:$C$400<=$V29)*(Eingabe!$D$6:$D$400>$V29)*(Eingabe!$B$6:$B$400=W$3)*(Eingabe!$E$6:$E$400))","v":0},{"$f":"SUMPRODUCT((Eingabe!$C$6:$C$400<$V29)*(Eingabe!$D$6:$D$400>=$V29)*(Eingabe!$B$6:$B$400=W$3)*(Eingabe!$E$6:$E$400))","v":0},{"$f":"SUMPRODUCT((Eingabe!$C$6:$C$400<=$V29)*(Eingabe!$D$6:$D$400>$V29)*(Eingabe!$B$6:$B$400=Y$3)*(Eingabe!$E$6:$E$400))","v":0},{"$f":"SUMPRODUCT((Eingabe!$C$6:$C$400<$V29)*(Eingabe!$D$6:$D$400>=$V29)*(Eingabe!$B$6:$B$400=Y$3)*(Eingabe!$E$6:$E$400))","v":0},{"$f":"SUMPRODUCT((Eingabe!$C$6:$C$400<=$V29)*(Eingabe!$D$6:$D$400>$V29)*(Eingabe!$B$6:$B$400=AA$3)*(Eingabe!$E$6:$E$400))","v":0},{"$f":"SUMPRODUCT((Eingabe!$C$6:$C$400<$V29)*(Eingabe!$D$6:$D$400>=$V29)*(Eingabe!$B$6:$B$400=AA$3)*(Eingabe!$E$6:$E$400))","v":0},{"$f":"SUMPRODUCT((Eingabe!$C$6:$C$400<=$V29)*(Eingabe!$D$6:$D$400>$V29)*(Eingabe!$B$6:$B$400=AC$3)*(Eingabe!$E$6:$E$400))","v":0},{"$f":"SUMPRODUCT((Eingabe!$C$6:$C$400<$V29)*(Eingabe!$D$6:$D$400>=$V29)*(Eingabe!$B$6:$B$400=AC$3)*(Eingabe!$E$6:$E$400))","v":0},"2025-04-26","2025-04-26",{"$f":"SUMPRODUCT((Eingabe!$C$6:$C$400<=$AF29)*(Eingabe!$D$6:$D$400>$AF29)*(Eingabe!$B$6:$B$400=AG$3)*(Eingabe!$E$6:$E$400))","v":0},{"$f":"SUMPRODUCT((Eingabe!$C$6:$C$400<$AF29)*(Eingabe!$D$6:$D$400>=$AF29)*(Eingabe!$B$6:$B$400=AG$3)*(Eingabe!$E$6:$E$400))","v":0},{"$f":"SUMPRODUCT((Eingabe!$C$6:$C$400<=$AF29)*(Eingabe!$D$6:$D$400>$AF29)*(Eingabe!$B$6:$B$400=AI$3)*(Eingabe!$E$6:$E$400))","v":0},{"$f":"SUMPRODUCT((Eingabe!$C$6:$C$400<$AF29)*(Eingabe!$D$6:$D$400>=$AF29)*(Eingabe!$B$6:$B$400=AI$3)*(Eingabe!$E$6:$E$400))","v":8},{"$f":"SUMPRODUCT((Eingabe!$C$6:$C$400<=$AF29)*(Eingabe!$D$6:$D$400>$AF29)*(Eingabe!$B$6:$B$400=AK$3)*(Eingabe!$E$6:$E$400))","v":0},{"$f":"SUMPRODUCT((Eingabe!$C$6:$C$400<$AF29)*(Eingabe!$D$6:$D$400>=$AF29)*(Eingabe!$B$6:$B$400=AK$3)*(Eingabe!$E$6:$E$400))","v":0},{"$f":"SUMPRODUCT((Eingabe!$C$6:$C$400<=$AF29)*(Eingabe!$D$6:$D$400>$AF29)*(Eingabe!$B$6:$B$400=AM$3)*(Eingabe!$E$6:$E$400))","v":0},{"$f":"SUMPRODUCT((Eingabe!$C$6:$C$400<$AF29)*(Eingabe!$D$6:$D$400>=$AF29)*(Eingabe!$B$6:$B$400=AM$3)*(Eingabe!$E$6:$E$400))","v":0},"2025-05-26","2025-05-26",{"$f":"SUMPRODUCT((Eingabe!$C$6:$C$400<=$AP29)*(Eingabe!$D$6:$D$400>$AP29)*(Eingabe!$B$6:$B$400=AQ$3)*(Eingabe!$E$6:$E$400))","v":0},{"$f":"SUMPRODUCT((Eingabe!$C$6:$C$400<$AP29)*(Eingabe!$D$6:$D$400>=$AP29)*(Eingabe!$B$6:$B$400=AQ$3)*(Eingabe!$E$6:$E$400))","v":0},{"$f":"SUMPRODUCT((Eingabe!$C$6:$C$400<=$AP29)*(Eingabe!$D$6:$D$400>$AP29)*(Eingabe!$B$6:$B$400=AS$3)*(Eingabe!$E$6:$E$400))","v":0},{"$f":"SUMPRODUCT((Eingabe!$C$6:$C$400<$AP29)*(Eingabe!$D$6:$D$400>=$AP29)*(Eingabe!$B$6:$B$400=AS$3)*(Eingabe!$E$6:$E$400))","v":0},{"$f":"SUMPRODUCT((Eingabe!$C$6:$C$400<=$AP29)*(Eingabe!$D$6:$D$400>$AP29)*(Eingabe!$B$6:$B$400=AU$3)*(Eingabe!$E$6:$E$400))","v":0},{"$f":"SUMPRODUCT((Eingabe!$C$6:$C$400<$AP29)*(Eingabe!$D$6:$D$400>=$AP29)*(Eingabe!$B$6:$B$400=AU$3)*(Eingabe!$E$6:$E$400))","v":0},{"$f":"SUMPRODUCT((Eingabe!$C$6:$C$400<=$AP29)*(Eingabe!$D$6:$D$400>$AP29)*(Eingabe!$B$6:$B$400=AW$3)*(Eingabe!$E$6:$E$400))","v":0},{"$f":"SUMPRODUCT((Eingabe!$C$6:$C$400<$AP29)*(Eingabe!$D$6:$D$400>=$AP29)*(Eingabe!$B$6:$B$400=AW$3)*(Eingabe!$E$6:$E$400))","v":0},"2025-06-26","2025-06-26",{"$f":"SUMPRODUCT((Eingabe!$C$6:$C$400<=$AZ29)*(Eingabe!$D$6:$D$400>$AZ29)*(Eingabe!$B$6:$B$400=BA$3)*(Eingabe!$E$6:$E$400))","v":0},{"$f":"SUMPRODUCT((Eingabe!$C$6:$C$400<$AZ29)*(Eingabe!$D$6:$D$400>=$AZ29)*(Eingabe!$B$6:$B$400=BA$3)*(Eingabe!$E$6:$E$400))","v":0},{"$f":"SUMPRODUCT((Eingabe!$C$6:$C$400<=$AZ29)*(Eingabe!$D$6:$D$400>$AZ29)*(Eingabe!$B$6:$B$400=BC$3)*(Eingabe!$E$6:$E$400))","v":0},{"$f":"SUMPRODUCT((Eingabe!$C$6:$C$400<$AZ29)*(Eingabe!$D$6:$D$400>=$AZ29)*(Eingabe!$B$6:$B$400=BC$3)*(Eingabe!$E$6:$E$400))","v":0},{"$f":"SUMPRODUCT((Eingabe!$C$6:$C$400<=$AZ29)*(Eingabe!$D$6:$D$400>$AZ29)*(Eingabe!$B$6:$B$400=BE$3)*(Eingabe!$E$6:$E$400))","v":0},{"$f":"SUMPRODUCT((Eingabe!$C$6:$C$400<$AZ29)*(Eingabe!$D$6:$D$400>=$AZ29)*(Eingabe!$B$6:$B$400=BE$3)*(Eingabe!$E$6:$E$400))","v":0},{"$f":"SUMPRODUCT((Eingabe!$C$6:$C$400<=$AZ29)*(Eingabe!$D$6:$D$400>$AZ29)*(Eingabe!$B$6:$B$400=BG$3)*(Eingabe!$E$6:$E$400))","v":0},{"$f":"SUMPRODUCT((Eingabe!$C$6:$C$400<$AZ29)*(Eingabe!$D$6:$D$400>=$AZ29)*(Eingabe!$B$6:$B$400=BG$3)*(Eingabe!$E$6:$E$400))","v":0},"2025-07-26","2025-07-26",{"$f":"SUMPRODUCT((Eingabe!$C$6:$C$400<=$BJ29)*(Eingabe!$D$6:$D$400>$BJ29)*(Eingabe!$B$6:$B$400=BK$3)*(Eingabe!$E$6:$E$400))","v":6},{"$f":"SUMPRODUCT((Eingabe!$C$6:$C$400<$BJ29)*(Eingabe!$D$6:$D$400>=$BJ29)*(Eingabe!$B$6:$B$400=BK$3)*(Eingabe!$E$6:$E$400))","v":0},{"$f":"SUMPRODUCT((Eingabe!$C$6:$C$400<=$BJ29)*(Eingabe!$D$6:$D$400>$BJ29)*(Eingabe!$B$6:$B$400=BM$3)*(Eingabe!$E$6:$E$400))","v":0},{"$f":"SUMPRODUCT((Eingabe!$C$6:$C$400<$BJ29)*(Eingabe!$D$6:$D$400>=$BJ29)*(Eingabe!$B$6:$B$400=BM$3)*(Eingabe!$E$6:$E$400))","v":0},{"$f":"SUMPRODUCT((Eingabe!$C$6:$C$400<=$BJ29)*(Eingabe!$D$6:$D$400>$BJ29)*(Eingabe!$B$6:$B$400=BO$3)*(Eingabe!$E$6:$E$400))","v":0},{"$f":"SUMPRODUCT((Eingabe!$C$6:$C$400<$BJ29)*(Eingabe!$D$6:$D$400>=$BJ29)*(Eingabe!$B$6:$B$400=BO$3)*(Eingabe!$E$6:$E$400))","v":0},{"$f":"SUMPRODUCT((Eingabe!$C$6:$C$400<=$BJ29)*(Eingabe!$D$6:$D$400>$BJ29)*(Eingabe!$B$6:$B$400=BQ$3)*(Eingabe!$E$6:$E$400))","v":0},{"$f":"SUMPRODUCT((Eingabe!$C$6:$C$400<$BJ29)*(Eingabe!$D$6:$D$400>=$BJ29)*(Eingabe!$B$6:$B$400=BQ$3)*(Eingabe!$E$6:$E$400))","v":0},"2025-08-26","2025-08-26",{"$f":"SUMPRODUCT((Eingabe!$C$6:$C$400<=$BT29)*(Eingabe!$D$6:$D$400>$BT29)*(Eingabe!$B$6:$B$400=BU$3)*(Eingabe!$E$6:$E$400))","v":0},{"$f":"SUMPRODUCT((Eingabe!$C$6:$C$400<$BT29)*(Eingabe!$D$6:$D$400>=$BT29)*(Eingabe!$B$6:$B$400=BU$3)*(Eingabe!$E$6:$E$400))","v":0},{"$f":"SUMPRODUCT((Eingabe!$C$6:$C$400<=$BT29)*(Eingabe!$D$6:$D$400>$BT29)*(Eingabe!$B$6:$B$400=BW$3)*(Eingabe!$E$6:$E$400))","v":0},{"$f":"SUMPRODUCT((Eingabe!$C$6:$C$400<$BT29)*(Eingabe!$D$6:$D$400>=$BT29)*(Eingabe!$B$6:$B$400=BW$3)*(Eingabe!$E$6:$E$400))","v":0},{"$f":"SUMPRODUCT((Eingabe!$C$6:$C$400<=$BT29)*(Eingabe!$D$6:$D$400>$BT29)*(Eingabe!$B$6:$B$400=BY$3)*(Eingabe!$E$6:$E$400))","v":0},{"$f":"SUMPRODUCT((Eingabe!$C$6:$C$400<$BT29)*(Eingabe!$D$6:$D$400>=$BT29)*(Eingabe!$B$6:$B$400=BY$3)*(Eingabe!$E$6:$E$400))","v":0},{"$f":"SUMPRODUCT((Eingabe!$C$6:$C$400<=$BT29)*(Eingabe!$D$6:$D$400>$BT29)*(Eingabe!$B$6:$B$400=CA$3)*(Eingabe!$E$6:$E$400))","v":0},{"$f":"SUMPRODUCT((Eingabe!$C$6:$C$400<$BT29)*(Eingabe!$D$6:$D$400>=$BT29)*(Eingabe!$B$6:$B$400=CA$3)*(Eingabe!$E$6:$E$400))","v":0},"2025-09-26","2025-09-26",{"$f":"SUMPRODUCT((Eingabe!$C$6:$C$400<=$CD29)*(Eingabe!$D$6:$D$400>$CD29)*(Eingabe!$B$6:$B$400=CE$3)*(Eingabe!$E$6:$E$400))","v":0},{"$f":"SUMPRODUCT((Eingabe!$C$6:$C$400<$CD29)*(Eingabe!$D$6:$D$400>=$CD29)*(Eingabe!$B$6:$B$400=CE$3)*(Eingabe!$E$6:$E$400))","v":0},{"$f":"SUMPRODUCT((Eingabe!$C$6:$C$400<=$CD29)*(Eingabe!$D$6:$D$400>$CD29)*(Eingabe!$B$6:$B$400=CG$3)*(Eingabe!$E$6:$E$400))","v":0},{"$f":"SUMPRODUCT((Eingabe!$C$6:$C$400<$CD29)*(Eingabe!$D$6:$D$400>=$CD29)*(Eingabe!$B$6:$B$400=CG$3)*(Eingabe!$E$6:$E$400))","v":0},{"$f":"SUMPRODUCT((Eingabe!$C$6:$C$400<=$CD29)*(Eingabe!$D$6:$D$400>$CD29)*(Eingabe!$B$6:$B$400=CI$3)*(Eingabe!$E$6:$E$400))","v":0},{"$f":"SUMPRODUCT((Eingabe!$C$6:$C$400<$CD29)*(Eingabe!$D$6:$D$400>=$CD29)*(Eingabe!$B$6:$B$400=CI$3)*(Eingabe!$E$6:$E$400))","v":0},{"$f":"SUMPRODUCT((Eingabe!$C$6:$C$400<=$CD29)*(Eingabe!$D$6:$D$400>$CD29)*(Eingabe!$B$6:$B$400=CK$3)*(Eingabe!$E$6:$E$400))","v":0},{"$f":"SUMPRODUCT((Eingabe!$C$6:$C$400<$CD29)*(Eingabe!$D$6:$D$400>=$CD29)*(Eingabe!$B$6:$B$400=CK$3)*(Eingabe!$E$6:$E$400))","v":0},"2025-10-26","2025-10-26",{"$f":"SUMPRODUCT((Eingabe!$C$6:$C$400<=$CN29)*(Eingabe!$D$6:$D$400>$CN29)*(Eingabe!$B$6:$B$400=CO$3)*(Eingabe!$E$6:$E$400))","v":7},{"$f":"SUMPRODUCT((Eingabe!$C$6:$C$400<$CN29)*(Eingabe!$D$6:$D$400>=$CN29)*(Eingabe!$B$6:$B$400=CO$3)*(Eingabe!$E$6:$E$400))","v":7},{"$f":"SUMPRODUCT((Eingabe!$C$6:$C$400<=$CN29)*(Eingabe!$D$6:$D$400>$CN29)*(Eingabe!$B$6:$B$400=CQ$3)*(Eingabe!$E$6:$E$400))","v":0},{"$f":"SUMPRODUCT((Eingabe!$C$6:$C$400<$CN29)*(Eingabe!$D$6:$D$400>=$CN29)*(Eingabe!$B$6:$B$400=CQ$3)*(Eingabe!$E$6:$E$400))","v":0},{"$f":"SUMPRODUCT((Eingabe!$C$6:$C$400<=$CN29)*(Eingabe!$D$6:$D$400>$CN29)*(Eingabe!$B$6:$B$400=CS$3)*(Eingabe!$E$6:$E$400))","v":0},{"$f":"SUMPRODUCT((Eingabe!$C$6:$C$400<$CN29)*(Eingabe!$D$6:$D$400>=$CN29)*(Eingabe!$B$6:$B$400=CS$3)*(Eingabe!$E$6:$E$400))","v":0},{"$f":"SUMPRODUCT((Eingabe!$C$6:$C$400<=$CN29)*(Eingabe!$D$6:$D$400>$CN29)*(Eingabe!$B$6:$B$400=CU$3)*(Eingabe!$E$6:$E$400))","v":0},{"$f":"SUMPRODUCT((Eingabe!$C$6:$C$400<$CN29)*(Eingabe!$D$6:$D$400>=$CN29)*(Eingabe!$B$6:$B$400=CU$3)*(Eingabe!$E$6:$E$400))","v":0},"2025-11-26","2025-11-26",{"$f":"SUMPRODUCT((Eingabe!$C$6:$C$400<=$CX29)*(Eingabe!$D$6:$D$400>$CX29)*(Eingabe!$B$6:$B$400=CY$3)*(Eingabe!$E$6:$E$400))","v":7},{"$f":"SUMPRODUCT((Eingabe!$C$6:$C$400<$CX29)*(Eingabe!$D$6:$D$400>=$CX29)*(Eingabe!$B$6:$B$400=CY$3)*(Eingabe!$E$6:$E$400))","v":7},{"$f":"SUMPRODUCT((Eingabe!$C$6:$C$400<=$CX29)*(Eingabe!$D$6:$D$400>$CX29)*(Eingabe!$B$6:$B$400=DA$3)*(Eingabe!$E$6:$E$400))","v":0},{"$f":"SUMPRODUCT((Eingabe!$C$6:$C$400<$CX29)*(Eingabe!$D$6:$D$400>=$CX29)*(Eingabe!$B$6:$B$400=DA$3)*(Eingabe!$E$6:$E$400))","v":0},{"$f":"SUMPRODUCT((Eingabe!$C$6:$C$400<=$CX29)*(Eingabe!$D$6:$D$400>$CX29)*(Eingabe!$B$6:$B$400=DC$3)*(Eingabe!$E$6:$E$400))","v":0},{"$f":"SUMPRODUCT((Eingabe!$C$6:$C$400<$CX29)*(Eingabe!$D$6:$D$400>=$CX29)*(Eingabe!$B$6:$B$400=DC$3)*(Eingabe!$E$6:$E$400))","v":0},{"$f":"SUMPRODUCT((Eingabe!$C$6:$C$400<=$CX29)*(Eingabe!$D$6:$D$400>$CX29)*(Eingabe!$B$6:$B$400=DE$3)*(Eingabe!$E$6:$E$400))","v":0},{"$f":"SUMPRODUCT((Eingabe!$C$6:$C$400<$CX29)*(Eingabe!$D$6:$D$400>=$CX29)*(Eingabe!$B$6:$B$400=DE$3)*(Eingabe!$E$6:$E$400))","v":0},"2025-12-26","2025-12-26",{"$f":"SUMPRODUCT((Eingabe!$C$6:$C$400<=$DH29)*(Eingabe!$D$6:$D$400>$DH29)*(Eingabe!$B$6:$B$400=DI$3)*(Eingabe!$E$6:$E$400))","v":7},{"$f":"SUMPRODUCT((Eingabe!$C$6:$C$400<$DH29)*(Eingabe!$D$6:$D$400>=$DH29)*(Eingabe!$B$6:$B$400=DI$3)*(Eingabe!$E$6:$E$400))","v":7},{"$f":"SUMPRODUCT((Eingabe!$C$6:$C$400<=$DH29)*(Eingabe!$D$6:$D$400>$DH29)*(Eingabe!$B$6:$B$400=DK$3)*(Eingabe!$E$6:$E$400))","v":6},{"$f":"SUMPRODUCT((Eingabe!$C$6:$C$400<$DH29)*(Eingabe!$D$6:$D$400>=$DH29)*(Eingabe!$B$6:$B$400=DK$3)*(Eingabe!$E$6:$E$400))","v":6},{"$f":"SUMPRODUCT((Eingabe!$C$6:$C$400<=$DH29)*(Eingabe!$D$6:$D$400>$DH29)*(Eingabe!$B$6:$B$400=DM$3)*(Eingabe!$E$6:$E$400))","v":0},{"$f":"SUMPRODUCT((Eingabe!$C$6:$C$400<$DH29)*(Eingabe!$D$6:$D$400>=$DH29)*(Eingabe!$B$6:$B$400=DM$3)*(Eingabe!$E$6:$E$400))","v":0},{"$f":"SUMPRODUCT((Eingabe!$C$6:$C$400<=$DH29)*(Eingabe!$D$6:$D$400>$DH29)*(Eingabe!$B$6:$B$400=DO$3)*(Eingabe!$E$6:$E$400))","v":0},{"$f":"SUMPRODUCT((Eingabe!$C$6:$C$400<$DH29)*(Eingabe!$D$6:$D$400>=$DH29)*(Eingabe!$B$6:$B$400=DO$3)*(Eingabe!$E$6:$E$400))","v":0},"2026-01-26","2026-01-26",{"$f":"SUMPRODUCT((Eingabe!$C$6:$C$400<=$B29)*(Eingabe!$D$6:$D$400>$B29)*(Eingabe!$B$6:$B$400=DS$3)*(Eingabe!$E$6:$E$400))","v":0},{"$f":"SUMPRODUCT((Eingabe!$C$6:$C$400<$B29)*(Eingabe!$D$6:$D$400>=$B29)*(Eingabe!$B$6:$B$400=DS$3)*(Eingabe!$E$6:$E$400))","v":0},{"$f":"SUMPRODUCT((Eingabe!$C$6:$C$400<=$B29)*(Eingabe!$D$6:$D$400>$B29)*(Eingabe!$B$6:$B$400=DU$3)*(Eingabe!$E$6:$E$400))","v":0},{"$f":"SUMPRODUCT((Eingabe!$C$6:$C$400<$B29)*(Eingabe!$D$6:$D$400>=$B29)*(Eingabe!$B$6:$B$400=DU$3)*(Eingabe!$E$6:$E$400))","v":0},{"$f":"SUMPRODUCT((Eingabe!$C$6:$C$400<=$B29)*(Eingabe!$D$6:$D$400>$B29)*(Eingabe!$B$6:$B$400=DW$3)*(Eingabe!$E$6:$E$400))","v":0},{"$f":"SUMPRODUCT((Eingabe!$C$6:$C$400<$B29)*(Eingabe!$D$6:$D$400>=$B29)*(Eingabe!$B$6:$B$400=DW$3)*(Eingabe!$E$6:$E$400))","v":0},{"$f":"SUMPRODUCT((Eingabe!$C$6:$C$400<=$B29)*(Eingabe!$D$6:$D$400>$B29)*(Eingabe!$B$6:$B$400=DY$3)*(Eingabe!$E$6:$E$400))","v":0},{"$f":"SUMPRODUCT((Eingabe!$C$6:$C$400<$B29)*(Eingabe!$D$6:$D$400>=$B29)*(Eingabe!$B$6:$B$400=DY$3)*(Eingabe!$E$6:$E$400))","v":0},"2026-02-26","2026-02-26",{"$f":"SUMPRODUCT((Eingabe!$C$6:$C$400<=$L29)*(Eingabe!$D$6:$D$400>$L29)*(Eingabe!$B$6:$B$400=EC$3)*(Eingabe!$E$6:$E$400))","v":0},{"$f":"SUMPRODUCT((Eingabe!$C$6:$C$400<$L29)*(Eingabe!$D$6:$D$400>=$L29)*(Eingabe!$B$6:$B$400=EC$3)*(Eingabe!$E$6:$E$400))","v":0},{"$f":"SUMPRODUCT((Eingabe!$C$6:$C$400<=$L29)*(Eingabe!$D$6:$D$400>$L29)*(Eingabe!$B$6:$B$400=EE$3)*(Eingabe!$E$6:$E$400))","v":0},{"$f":"SUMPRODUCT((Eingabe!$C$6:$C$400<$L29)*(Eingabe!$D$6:$D$400>=$L29)*(Eingabe!$B$6:$B$400=EE$3)*(Eingabe!$E$6:$E$400))","v":0},{"$f":"SUMPRODUCT((Eingabe!$C$6:$C$400<=$L29)*(Eingabe!$D$6:$D$400>$L29)*(Eingabe!$B$6:$B$400=EG$3)*(Eingabe!$E$6:$E$400))","v":0},{"$f":"SUMPRODUCT((Eingabe!$C$6:$C$400<$L29)*(Eingabe!$D$6:$D$400>=$L29)*(Eingabe!$B$6:$B$400=EG$3)*(Eingabe!$E$6:$E$400))","v":0},{"$f":"SUMPRODUCT((Eingabe!$C$6:$C$400<=$L29)*(Eingabe!$D$6:$D$400>$L29)*(Eingabe!$B$6:$B$400=EI$3)*(Eingabe!$E$6:$E$400))","v":0},{"$f":"SUMPRODUCT((Eingabe!$C$6:$C$400<$L29)*(Eingabe!$D$6:$D$400>=$L29)*(Eingabe!$B$6:$B$400=EI$3)*(Eingabe!$E$6:$E$400))","v":0},"2026-03-26","2026-03-26",{"$f":"SUMPRODUCT((Eingabe!$C$6:$C$400<=$V29)*(Eingabe!$D$6:$D$400>$V29)*(Eingabe!$B$6:$B$400=EM$3)*(Eingabe!$E$6:$E$400))","v":0},{"$f":"SUMPRODUCT((Eingabe!$C$6:$C$400<$V29)*(Eingabe!$D$6:$D$400>=$V29)*(Eingabe!$B$6:$B$400=EM$3)*(Eingabe!$E$6:$E$400))","v":0},{"$f":"SUMPRODUCT((Eingabe!$C$6:$C$400<=$V29)*(Eingabe!$D$6:$D$400>$V29)*(Eingabe!$B$6:$B$400=EO$3)*(Eingabe!$E$6:$E$400))","v":0},{"$f":"SUMPRODUCT((Eingabe!$C$6:$C$400<$V29)*(Eingabe!$D$6:$D$400>=$V29)*(Eingabe!$B$6:$B$400=EO$3)*(Eingabe!$E$6:$E$400))","v":0},{"$f":"SUMPRODUCT((Eingabe!$C$6:$C$400<=$V29)*(Eingabe!$D$6:$D$400>$V29)*(Eingabe!$B$6:$B$400=EQ$3)*(Eingabe!$E$6:$E$400))","v":0},{"$f":"SUMPRODUCT((Eingabe!$C$6:$C$400<$V29)*(Eingabe!$D$6:$D$400>=$V29)*(Eingabe!$B$6:$B$400=EQ$3)*(Eingabe!$E$6:$E$400))","v":0},{"$f":"SUMPRODUCT((Eingabe!$C$6:$C$400<=$V29)*(Eingabe!$D$6:$D$400>$V29)*(Eingabe!$B$6:$B$400=ES$3)*(Eingabe!$E$6:$E$400))","v":0},{"$f":"SUMPRODUCT((Eingabe!$C$6:$C$400<$V29)*(Eingabe!$D$6:$D$400>=$V29)*(Eingabe!$B$6:$B$400=ES$3)*(Eingabe!$E$6:$E$400))","v":0},"2026-04-26","2026-04-26",{"$f":"SUMPRODUCT((Eingabe!$C$6:$C$400<=$AF29)*(Eingabe!$D$6:$D$400>$AF29)*(Eingabe!$B$6:$B$400=EW$3)*(Eingabe!$E$6:$E$400))","v":0},{"$f":"SUMPRODUCT((Eingabe!$C$6:$C$400<$AF29)*(Eingabe!$D$6:$D$400>=$AF29)*(Eingabe!$B$6:$B$400=EW$3)*(Eingabe!$E$6:$E$400))","v":0},{"$f":"SUMPRODUCT((Eingabe!$C$6:$C$400<=$AF29)*(Eingabe!$D$6:$D$400>$AF29)*(Eingabe!$B$6:$B$400=EY$3)*(Eingabe!$E$6:$E$400))","v":0},{"$f":"SUMPRODUCT((Eingabe!$C$6:$C$400<$AF29)*(Eingabe!$D$6:$D$400>=$AF29)*(Eingabe!$B$6:$B$400=EY$3)*(Eingabe!$E$6:$E$400))","v":8},{"$f":"SUMPRODUCT((Eingabe!$C$6:$C$400<=$AF29)*(Eingabe!$D$6:$D$400>$AF29)*(Eingabe!$B$6:$B$400=FA$3)*(Eingabe!$E$6:$E$400))","v":0},{"$f":"SUMPRODUCT((Eingabe!$C$6:$C$400<$AF29)*(Eingabe!$D$6:$D$400>=$AF29)*(Eingabe!$B$6:$B$400=FA$3)*(Eingabe!$E$6:$E$400))","v":0},{"$f":"SUMPRODUCT((Eingabe!$C$6:$C$400<=$AF29)*(Eingabe!$D$6:$D$400>$AF29)*(Eingabe!$B$6:$B$400=FC$3)*(Eingabe!$E$6:$E$400))","v":0},{"$f":"SUMPRODUCT((Eingabe!$C$6:$C$400<$AF29)*(Eingabe!$D$6:$D$400>=$AF29)*(Eingabe!$B$6:$B$400=FC$3)*(Eingabe!$E$6:$E$400))","v":0},"2026-05-26","2026-05-26",{"$f":"SUMPRODUCT((Eingabe!$C$6:$C$400<=$AP29)*(Eingabe!$D$6:$D$400>$AP29)*(Eingabe!$B$6:$B$400=FG$3)*(Eingabe!$E$6:$E$400))","v":0},{"$f":"SUMPRODUCT((Eingabe!$C$6:$C$400<$AP29)*(Eingabe!$D$6:$D$400>=$AP29)*(Eingabe!$B$6:$B$400=FG$3)*(Eingabe!$E$6:$E$400))","v":0},{"$f":"SUMPRODUCT((Eingabe!$C$6:$C$400<=$AP29)*(Eingabe!$D$6:$D$400>$AP29)*(Eingabe!$B$6:$B$400=FI$3)*(Eingabe!$E$6:$E$400))","v":0},{"$f":"SUMPRODUCT((Eingabe!$C$6:$C$400<$AP29)*(Eingabe!$D$6:$D$400>=$AP29)*(Eingabe!$B$6:$B$400=FI$3)*(Eingabe!$E$6:$E$400))","v":0},{"$f":"SUMPRODUCT((Eingabe!$C$6:$C$400<=$AP29)*(Eingabe!$D$6:$D$400>$AP29)*(Eingabe!$B$6:$B$400=FK$3)*(Eingabe!$E$6:$E$400))","v":0},{"$f":"SUMPRODUCT((Eingabe!$C$6:$C$400<$AP29)*(Eingabe!$D$6:$D$400>=$AP29)*(Eingabe!$B$6:$B$400=FK$3)*(Eingabe!$E$6:$E$400))","v":0},{"$f":"SUMPRODUCT((Eingabe!$C$6:$C$400<=$AP29)*(Eingabe!$D$6:$D$400>$AP29)*(Eingabe!$B$6:$B$400=FM$3)*(Eingabe!$E$6:$E$400))","v":0},{"$f":"SUMPRODUCT((Eingabe!$C$6:$C$400<$AP29)*(Eingabe!$D$6:$D$400>=$AP29)*(Eingabe!$B$6:$B$400=FM$3)*(Eingabe!$E$6:$E$400))","v":0},"2026-06-26","2026-06-26",{"$f":"SUMPRODUCT((Eingabe!$C$6:$C$400<=$AZ29)*(Eingabe!$D$6:$D$400>$AZ29)*(Eingabe!$B$6:$B$400=FQ$3)*(Eingabe!$E$6:$E$400))","v":0},{"$f":"SUMPRODUCT((Eingabe!$C$6:$C$400<$AZ29)*(Eingabe!$D$6:$D$400>=$AZ29)*(Eingabe!$B$6:$B$400=FQ$3)*(Eingabe!$E$6:$E$400))","v":0},{"$f":"SUMPRODUCT((Eingabe!$C$6:$C$400<=$AZ29)*(Eingabe!$D$6:$D$400>$AZ29)*(Eingabe!$B$6:$B$400=FS$3)*(Eingabe!$E$6:$E$400))","v":0},{"$f":"SUMPRODUCT((Eingabe!$C$6:$C$400<$AZ29)*(Eingabe!$D$6:$D$400>=$AZ29)*(Eingabe!$B$6:$B$400=FS$3)*(Eingabe!$E$6:$E$400))","v":0},{"$f":"SUMPRODUCT((Eingabe!$C$6:$C$400<=$AZ29)*(Eingabe!$D$6:$D$400>$AZ29)*(Eingabe!$B$6:$B$400=FU$3)*(Eingabe!$E$6:$E$400))","v":0},{"$f":"SUMPRODUCT((Eingabe!$C$6:$C$400<$AZ29)*(Eingabe!$D$6:$D$400>=$AZ29)*(Eingabe!$B$6:$B$400=FU$3)*(Eingabe!$E$6:$E$400))","v":0},{"$f":"SUMPRODUCT((Eingabe!$C$6:$C$400<=$AZ29)*(Eingabe!$D$6:$D$400>$AZ29)*(Eingabe!$B$6:$B$400=FW$3)*(Eingabe!$E$6:$E$400))","v":0},{"$f":"SUMPRODUCT((Eingabe!$C$6:$C$400<$AZ29)*(Eingabe!$D$6:$D$400>=$AZ29)*(Eingabe!$B$6:$B$400=FW$3)*(Eingabe!$E$6:$E$400))","v":0},"2026-07-26","2026-07-26",{"$f":"SUMPRODUCT((Eingabe!$C$6:$C$400<=$BJ29)*(Eingabe!$D$6:$D$400>$BJ29)*(Eingabe!$B$6:$B$400=GA$3)*(Eingabe!$E$6:$E$400))","v":6},{"$f":"SUMPRODUCT((Eingabe!$C$6:$C$400<$BJ29)*(Eingabe!$D$6:$D$400>=$BJ29)*(Eingabe!$B$6:$B$400=GA$3)*(Eingabe!$E$6:$E$400))","v":0},{"$f":"SUMPRODUCT((Eingabe!$C$6:$C$400<=$BJ29)*(Eingabe!$D$6:$D$400>$BJ29)*(Eingabe!$B$6:$B$400=GC$3)*(Eingabe!$E$6:$E$400))","v":0},{"$f":"SUMPRODUCT((Eingabe!$C$6:$C$400<$BJ29)*(Eingabe!$D$6:$D$400>=$BJ29)*(Eingabe!$B$6:$B$400=GC$3)*(Eingabe!$E$6:$E$400))","v":0},{"$f":"SUMPRODUCT((Eingabe!$C$6:$C$400<=$BJ29)*(Eingabe!$D$6:$D$400>$BJ29)*(Eingabe!$B$6:$B$400=GE$3)*(Eingabe!$E$6:$E$400))","v":0},{"$f":"SUMPRODUCT((Eingabe!$C$6:$C$400<$BJ29)*(Eingabe!$D$6:$D$400>=$BJ29)*(Eingabe!$B$6:$B$400=GE$3)*(Eingabe!$E$6:$E$400))","v":0},{"$f":"SUMPRODUCT((Eingabe!$C$6:$C$400<=$BJ29)*(Eingabe!$D$6:$D$400>$BJ29)*(Eingabe!$B$6:$B$400=GG$3)*(Eingabe!$E$6:$E$400))","v":0},{"$f":"SUMPRODUCT((Eingabe!$C$6:$C$400<$BJ29)*(Eingabe!$D$6:$D$400>=$BJ29)*(Eingabe!$B$6:$B$400=GG$3)*(Eingabe!$E$6:$E$400))","v":0},"2026-08-26","2026-08-26",{"$f":"SUMPRODUCT((Eingabe!$C$6:$C$400<=$BT29)*(Eingabe!$D$6:$D$400>$BT29)*(Eingabe!$B$6:$B$400=GK$3)*(Eingabe!$E$6:$E$400))","v":0},{"$f":"SUMPRODUCT((Eingabe!$C$6:$C$400<$BT29)*(Eingabe!$D$6:$D$400>=$BT29)*(Eingabe!$B$6:$B$400=GK$3)*(Eingabe!$E$6:$E$400))","v":0},{"$f":"SUMPRODUCT((Eingabe!$C$6:$C$400<=$BT29)*(Eingabe!$D$6:$D$400>$BT29)*(Eingabe!$B$6:$B$400=GM$3)*(Eingabe!$E$6:$E$400))","v":0},{"$f":"SUMPRODUCT((Eingabe!$C$6:$C$400<$BT29)*(Eingabe!$D$6:$D$400>=$BT29)*(Eingabe!$B$6:$B$400=GM$3)*(Eingabe!$E$6:$E$400))","v":0},{"$f":"SUMPRODUCT((Eingabe!$C$6:$C$400<=$BT29)*(Eingabe!$D$6:$D$400>$BT29)*(Eingabe!$B$6:$B$400=GO$3)*(Eingabe!$E$6:$E$400))","v":0},{"$f":"SUMPRODUCT((Eingabe!$C$6:$C$400<$BT29)*(Eingabe!$D$6:$D$400>=$BT29)*(Eingabe!$B$6:$B$400=GO$3)*(Eingabe!$E$6:$E$400))","v":0},{"$f":"SUMPRODUCT((Eingabe!$C$6:$C$400<=$BT29)*(Eingabe!$D$6:$D$400>$BT29)*(Eingabe!$B$6:$B$400=GQ$3)*(Eingabe!$E$6:$E$400))","v":0},{"$f":"SUMPRODUCT((Eingabe!$C$6:$C$400<$BT29)*(Eingabe!$D$6:$D$400>=$BT29)*(Eingabe!$B$6:$B$400=GQ$3)*(Eingabe!$E$6:$E$400))","v":0},"2026-09-26","2026-09-26",{"$f":"SUMPRODUCT((Eingabe!$C$6:$C$400<=$CD29)*(Eingabe!$D$6:$D$400>$CD29)*(Eingabe!$B$6:$B$400=GU$3)*(Eingabe!$E$6:$E$400))","v":0},{"$f":"SUMPRODUCT((Eingabe!$C$6:$C$400<$CD29)*(Eingabe!$D$6:$D$400>=$CD29)*(Eingabe!$B$6:$B$400=GU$3)*(Eingabe!$E$6:$E$400))","v":0},{"$f":"SUMPRODUCT((Eingabe!$C$6:$C$400<=$CD29)*(Eingabe!$D$6:$D$400>$CD29)*(Eingabe!$B$6:$B$400=GW$3)*(Eingabe!$E$6:$E$400))","v":0},{"$f":"SUMPRODUCT((Eingabe!$C$6:$C$400<$CD29)*(Eingabe!$D$6:$D$400>=$CD29)*(Eingabe!$B$6:$B$400=GW$3)*(Eingabe!$E$6:$E$400))","v":0},{"$f":"SUMPRODUCT((Eingabe!$C$6:$C$400<=$CD29)*(Eingabe!$D$6:$D$400>$CD29)*(Eingabe!$B$6:$B$400=GY$3)*(Eingabe!$E$6:$E$400))","v":0},{"$f":"SUMPRODUCT((Eingabe!$C$6:$C$400<$CD29)*(Eingabe!$D$6:$D$400>=$CD29)*(Eingabe!$B$6:$B$400=GY$3)*(Eingabe!$E$6:$E$400))","v":0},{"$f":"SUMPRODUCT((Eingabe!$C$6:$C$400<=$CD29)*(Eingabe!$D$6:$D$400>$CD29)*(Eingabe!$B$6:$B$400=HA$3)*(Eingabe!$E$6:$E$400))","v":0},{"$f":"SUMPRODUCT((Eingabe!$C$6:$C$400<$CD29)*(Eingabe!$D$6:$D$400>=$CD29)*(Eingabe!$B$6:$B$400=HA$3)*(Eingabe!$E$6:$E$400))","v":0},"2026-10-26","2026-10-26",{"$f":"SUMPRODUCT((Eingabe!$C$6:$C$400<=$CN29)*(Eingabe!$D$6:$D$400>$CN29)*(Eingabe!$B$6:$B$400=HE$3)*(Eingabe!$E$6:$E$400))","v":7},{"$f":"SUMPRODUCT((Eingabe!$C$6:$C$400<$CN29)*(Eingabe!$D$6:$D$400>=$CN29)*(Eingabe!$B$6:$B$400=HE$3)*(Eingabe!$E$6:$E$400))","v":7},{"$f":"SUMPRODUCT((Eingabe!$C$6:$C$400<=$CN29)*(Eingabe!$D$6:$D$400>$CN29)*(Eingabe!$B$6:$B$400=HG$3)*(Eingabe!$E$6:$E$400))","v":0},{"$f":"SUMPRODUCT((Eingabe!$C$6:$C$400<$CN29)*(Eingabe!$D$6:$D$400>=$CN29)*(Eingabe!$B$6:$B$400=HG$3)*(Eingabe!$E$6:$E$400))","v":0},{"$f":"SUMPRODUCT((Eingabe!$C$6:$C$400<=$CN29)*(Eingabe!$D$6:$D$400>$CN29)*(Eingabe!$B$6:$B$400=HI$3)*(Eingabe!$E$6:$E$400))","v":0},{"$f":"SUMPRODUCT((Eingabe!$C$6:$C$400<$CN29)*(Eingabe!$D$6:$D$400>=$CN29)*(Eingabe!$B$6:$B$400=HI$3)*(Eingabe!$E$6:$E$400))","v":0},{"$f":"SUMPRODUCT((Eingabe!$C$6:$C$400<=$CN29)*(Eingabe!$D$6:$D$400>$CN29)*(Eingabe!$B$6:$B$400=HK$3)*(Eingabe!$E$6:$E$400))","v":0},{"$f":"SUMPRODUCT((Eingabe!$C$6:$C$400<$CN29)*(Eingabe!$D$6:$D$400>=$CN29)*(Eingabe!$B$6:$B$400=HK$3)*(Eingabe!$E$6:$E$400))","v":0},"2026-11-26","2026-11-26",{"$f":"SUMPRODUCT((Eingabe!$C$6:$C$400<=$CX29)*(Eingabe!$D$6:$D$400>$CX29)*(Eingabe!$B$6:$B$400=HO$3)*(Eingabe!$E$6:$E$400))","v":7},{"$f":"SUMPRODUCT((Eingabe!$C$6:$C$400<$CX29)*(Eingabe!$D$6:$D$400>=$CX29)*(Eingabe!$B$6:$B$400=HO$3)*(Eingabe!$E$6:$E$400))","v":7},{"$f":"SUMPRODUCT((Eingabe!$C$6:$C$400<=$CX29)*(Eingabe!$D$6:$D$400>$CX29)*(Eingabe!$B$6:$B$400=HQ$3)*(Eingabe!$E$6:$E$400))","v":0},{"$f":"SUMPRODUCT((Eingabe!$C$6:$C$400<$CX29)*(Eingabe!$D$6:$D$400>=$CX29)*(Eingabe!$B$6:$B$400=HQ$3)*(Eingabe!$E$6:$E$400))","v":0},{"$f":"SUMPRODUCT((Eingabe!$C$6:$C$400<=$CX29)*(Eingabe!$D$6:$D$400>$CX29)*(Eingabe!$B$6:$B$400=HS$3)*(Eingabe!$E$6:$E$400))","v":0},{"$f":"SUMPRODUCT((Eingabe!$C$6:$C$400<$CX29)*(Eingabe!$D$6:$D$400>=$CX29)*(Eingabe!$B$6:$B$400=HS$3)*(Eingabe!$E$6:$E$400))","v":0},{"$f":"SUMPRODUCT((Eingabe!$C$6:$C$400<=$CX29)*(Eingabe!$D$6:$D$400>$CX29)*(Eingabe!$B$6:$B$400=HU$3)*(Eingabe!$E$6:$E$400))","v":0},{"$f":"SUMPRODUCT((Eingabe!$C$6:$C$400<$CX29)*(Eingabe!$D$6:$D$400>=$CX29)*(Eingabe!$B$6:$B$400=HU$3)*(Eingabe!$E$6:$E$400))","v":0},"2026-12-26","2026-12-26",{"$f":"SUMPRODUCT((Eingabe!$C$6:$C$400<=$DH29)*(Eingabe!$D$6:$D$400>$DH29)*(Eingabe!$B$6:$B$400=HY$3)*(Eingabe!$E$6:$E$400))","v":7},{"$f":"SUMPRODUCT((Eingabe!$C$6:$C$400<$DH29)*(Eingabe!$D$6:$D$400>=$DH29)*(Eingabe!$B$6:$B$400=HY$3)*(Eingabe!$E$6:$E$400))","v":7},{"$f":"SUMPRODUCT((Eingabe!$C$6:$C$400<=$DH29)*(Eingabe!$D$6:$D$400>$DH29)*(Eingabe!$B$6:$B$400=IA$3)*(Eingabe!$E$6:$E$400))","v":6},{"$f":"SUMPRODUCT((Eingabe!$C$6:$C$400<$DH29)*(Eingabe!$D$6:$D$400>=$DH29)*(Eingabe!$B$6:$B$400=IA$3)*(Eingabe!$E$6:$E$400))","v":6},{"$f":"SUMPRODUCT((Eingabe!$C$6:$C$400<=$DH29)*(Eingabe!$D$6:$D$400>$DH29)*(Eingabe!$B$6:$B$400=IC$3)*(Eingabe!$E$6:$E$400))","v":0},{"$f":"SUMPRODUCT((Eingabe!$C$6:$C$400<$DH29)*(Eingabe!$D$6:$D$400>=$DH29)*(Eingabe!$B$6:$B$400=IC$3)*(Eingabe!$E$6:$E$400))","v":0},{"$f":"SUMPRODUCT((Eingabe!$C$6:$C$400<=$DH29)*(Eingabe!$D$6:$D$400>$DH29)*(Eingabe!$B$6:$B$400=IE$3)*(Eingabe!$E$6:$E$400))","v":0},{"$f":"SUMPRODUCT((Eingabe!$C$6:$C$400<$DH29)*(Eingabe!$D$6:$D$400>=$DH29)*(Eingabe!$B$6:$B$400=IE$3)*(Eingabe!$E$6:$E$400))","v":0}]
["2025-01-27","2025-01-27",{"$f":"SUMPRODUCT((Eingabe!$C$6:$C$400<=$B30)*(Eingabe!$D$6:$D$400>$B30)*(Eingabe!$B$6:$B$400=C$3)*(Eingabe!$E$6:$E$400))","v":0},{"$f":"SUMPRODUCT((Eingabe!$C$6:$C$400<$B30)*(Eingabe!$D$6:$D$400>=$B30)*(Eingabe!$B$6:$B$400=C$3)*(Eingabe!$E$6:$E$400))","v":0},{"$f":"SUMPRODUCT((Eingabe!$C$6:$C$400<=$B30)*(Eingabe!$D$6:$D$400>$B30)*(Eingabe!$B$6:$B$400=E$3)*(Eingabe!$E$6:$E$400))","v":0},{"$f":"SUMPRODUCT((Eingabe!$C$6:$C$400<$B30)*(Eingabe!$D$6:$D$400>=$B30)*(Eingabe!$B$6:$B$400=E$3)*(Eingabe!$E$6:$E$400))","v":0},{"$f":"SUMPRODUCT((Eingabe!$C$6:$C$400<=$B30)*(Eingabe!$D$6:$D$400>$B30)*(Eingabe!$B$6:$B$400=G$3)*(Eingabe!$E$6:$E$400))","v":0},{"$f":"SUMPRODUCT((Eingabe!$C$6:$C$400<$B30)*(Eingabe!$D$6:$D$400>=$B30)*(Eingabe!$B$6:$B$400=G$3)*(Eingabe!$E$6:$E$400))","v":0},{"$f":"SUMPRODUCT((Eingabe!$C$6:$C$400<=$B30)*(Eingabe!$D$6:$D$400>$B30)*(Eingabe!$B$6:$B$400=I$3)*(Eingabe!$E$6:$E$400))","v":0},{"$f":"SUMPRODUCT((Eingabe!$C$6:$C$400<$B30)*(Eingabe!$D$6:$D$400>=$B30)*(Eingabe!$B$6:$B$400=I$3)*(Eingabe!$E$6:$E$400))","v":0},"2025-02-27","2025-02-27",{"$f":"SUMPRODUCT((Eingabe!$C$6:$C$400<=$L30)*(Eingabe!$D$6:$D$400>$L30)*(Eingabe!$B$6:$B$400=M$3)*(Eingabe!$E$6:$E$400))","v":0},{"$f":"SUMPRODUCT((Eingabe!$C$6:$C$400<$L30)*(Eingabe!$D$6:$D$400>=$L30)*(Eingabe!$B$6:$B$400=M$3)*(Eingabe!$E$6:$E$400))","v":0},{"$f":"SUMPRODUCT((Eingabe!$C$6:$C$400<=$L30)*(Eingabe!$D$6:$D$400>$L30)*(Eingabe!$B$6:$B$400=O$3)*(Eingabe!$E$6:$E$400))","v":0},{"$f":"SUMPRODUCT((Eingabe!$C$6:$C$400<$L30)*(Eingabe!$D$6:$D$400>=$L30)*(Eingabe!$B$6:$B$400=O$3)*(Eingabe!$E$6:$E$400))","v":0},{"$f":"SUMPRODUCT((Eingabe!$C$6:$C$400<=$L30)*(Eingabe!$D$6:$D$400>$L30)*(Eingabe!$B$6:$B$400=Q$3)*(Eingabe!$E$6:$E$400))","v":0},{"$f":"SUMPRODUCT((Eingabe!$C$6:$C$400<$L30)*(Eingabe!$D$6:$D$400>=$L30)*(Eingabe!$B$6:$B$400=Q$3)*(Eingabe!$E$6:$E$400))","v":0},{"$f":"SUMPRODUCT((Eingabe!$C$6:$C$400<=$L30)*(Eingabe!$D$6:$D$400>$L30)*(Eingabe!$B$6:$B$400=S$3)*(Eingabe!$E$6:$E$400))","v":0},{"$f":"SUMPRODUCT((Eingabe!$C$6:$C$400<$L30)*(Eingabe!$D$6:$D$400>=$L30)*(Eingabe!$B$6:$B$400=S$3)*(Eingabe!$E$6:$E$400))","v":0},"2025-03-27","2025-03-27",{"$f":"SUMPRODUCT((Eingabe!$C$6:$C$400<=$V30)*(Eingabe!$D$6:$D$400>$V30)*(Eingabe!$B$6:$B$400=W$3)*(Eingabe!$E$6:$E$400))","v":0},{"$f":"SUMPRODUCT((Eingabe!$C$6:$C$400<$V30)*(Eingabe!$D$6:$D$400>=$V30)*(Eingabe!$B$6:$B$400=W$3)*(Eingabe!$E$6:$E$400))","v":0},{"$f":"SUMPRODUCT((Eingabe!$C$6:$C$400<=$V30)*(Eingabe!$D$6:$D$400>$V30)*(Eingabe!$B$6:$B$400=Y$3)*(Eingabe!$E$6:$E$400))","v":0},{"$f":"SUMPRODUCT((Eingabe!$C$6:$C$400<$V30)*(Eingabe!$D$6:$D$400>=$V30)*(Eingabe!$B$6:$B$400=Y$3)*(Eingabe!$E$6:$E$400))","v":0},{"$f":"SUMPRODUCT((Eingabe!$C$6:$C$400<=$V30)*(Eingabe!$D$6:$D$400>$V30)*(Eingabe!$B$6:$B$400=AA$3)*(Eingabe!$E$6:$E$400))","v":0},{"$f":"SUMPRODUCT((Eingabe!$C$6:$C$400<$V30)*(Eingabe!$D$6:$D$400>=$V30)*(Eingabe!$B$6:$B$400=AA$3)*(Eingabe!$E$6:$E$400))","v":0},{"$f":"SUMPRODUCT((Eingabe!$C$6:$C$400<=$V30)*(Eingabe!$D$6:$D$400>$V30)*(Eingabe!$B$6:$B$400=AC$3)*(Eingabe!$E$6:$E$400))","v":0},{"$f":"SUMPRODUCT((Eingabe!$C$6:$C$400<$V30)*(Eingabe!$D$6:$D$400>=$V30)*(Eingabe!$B$6:$B$400=AC$3)*(Eingabe!$E$6:$E$400))","v":0},"2025-04-27","2025-04-27",{"$f":"SUMPRODUCT((Eingabe!$C$6:$C$400<=$AF30)*(Eingabe!$D$6:$D$400>$AF30)*(Eingabe!$B$6:$B$400=AG$3)*(Eingabe!$E$6:$E$400))","v":5},{"$f":"SUMPRODUCT((Eingabe!$C$6:$C$400<$AF30)*(Eingabe!$D$6:$D$400>=$AF30)*(Eingabe!$B$6:$B$400=AG$3)*(Eingabe!$E$6:$E$400))","v":0},{"$f":"SUMPRODUCT((Eingabe!$C$6:$C$400<=$AF30)*(Eingabe!$D$6:$D$400>$AF30)*(Eingabe!$B$6:$B$400=AI$3)*(Eingabe!$E$6:$E$400))","v":5},{"$f":"SUMPRODUCT((Eingabe!$C$6:$C$400<$AF30)*(Eingabe!$D$6:$D$400>=$AF30)*(Eingabe!$B$6:$B$400=AI$3)*(Eingabe!$E$6:$E$400))","v":0},{"$f":"SUMPRODUCT((Eingabe!$C$6:$C$400<=$AF30)*(Eingabe!$D$6:$D$400>$AF30)*(Eingabe!$B$6:$B$400=AK$3)*(Eingabe!$E$6:$E$400))","v":0},{"$f":"SUMPRODUCT((Eingabe!$C$6:$C$400<$AF30)*(Eingabe!$D$6:$D$400>=$AF30)*(Eingabe!$B$6:$B$400=AK$3)*(Eingabe!$E$6:$E$400))","v":0},{"$f":"SUMPRODUCT((Eingabe!$C$6:$C$400<=$AF30)*(Eingabe!$D$6:$D$400>$AF30)*(Eingabe!$B$6:$B$400=AM$3)*(Eingabe!$E$6:$E$400))","v":5},{"$f":"SUMPRODUCT((Eingabe!$C$6:$C$400<$AF30)*(Eingabe!$D$6:$D$400>=$AF30)*(Eingabe!$B$6:$B$400=AM$3)*(Eingabe!$E$6:$E$400))","v":0},"2025-05-27","2025-05-27",{"$f":"SUMPRODUCT((Eingabe!$C$6:$C$400<=$AP30)*(Eingabe!$D$6:$D$400>$AP30)*(Eingabe!$B$6:$B$400=AQ$3)*(Eingabe!$E$6:$E$400))","v":0},{"$f":"SUMPRODUCT((Eingabe!$C$6:$C$400<$AP30)*(Eingabe!$D$6:$D$400>=$AP30)*(Eingabe!$B$6:$B$400=AQ$3)*(Eingabe!$E$6:$E$400))","v":0},{"$f":"SUMPRODUCT((Eingabe!$C$6:$C$400<=$AP30)*(Eingabe!$D$6:$D$400>$AP30)*(Eingabe!$B$6:$B$400=AS$3)*(Eingabe!$E$6:$E$400))","v":0},{"$f":"SUMPRODUCT((Eingabe!$C$6:$C$400<$AP30)*(Eingabe!$D$6:$D$400>=$AP30)*(Eingabe!$B$6:$B$400=AS$3)*(Eingabe!$E$6:$E$400))","v":0},{"$f":"SUMPRODUCT((Eingabe!$C$6:$C$400<=$AP30)*(Eingabe!$D$6:$D$400>$AP30)*(Eingabe!$B$6:$B$400=AU$3)*(Eingabe!$E$6:$E$400))","v":0},{"$f":"SUMPRODUCT((Eingabe!$C$6:$C$400<$AP30)*(Eingabe!$D$6:$D$400>=$AP30)*(Eingabe!$B$6:$B$400=AU$3)*(Eingabe!$E$6:$E$400))","v":0},{"$f":"SUMPRODUCT((Eingabe!$C$6:$C$400<=$AP30)*(Eingabe!$D$6:$D$400>$AP30)*(Eingabe!$B$6:$B$400=AW$3)*(Eingabe!$E$6:$E$400))","v":0},{"$f":"SUMPRODUCT((Eingabe!$C$6:$C$400<$AP30)*(Eingabe!$D$6:$D$400>=$AP30)*(Eingabe!$B$6:$B$400=AW$3)*(Eingabe!$E$6:$E$400))","v":0},"2025-06-27","2025-06-27",{"$f":"SUMPRODUCT((Eingabe!$C$6:$C$400<=$AZ30)*(Eingabe!$D$6:$D$400>$AZ30)*(Eingabe!$B$6:$B$400=BA$3)*(Eingabe!$E$6:$E$400))","v":0},{"$f":"SUMPRODUCT((Eingabe!$C$6:$C$400<$AZ30)*(Eingabe!$D$6:$D$400>=$AZ30)*(Eingabe!$B$6:$B$400=BA$3)*(Eingabe!$E$6:$E$400))","v":0},{"$f":"SUMPRODUCT((Eingabe!$C$6:$C$400<=$AZ30)*(Eingabe!$D$6:$D$400>$AZ30)*(Eingabe!$B$6:$B$400=BC$3)*(Eingabe!$E$6:$E$400))","v":0},{"$f":"SUMPRODUCT((Eingabe!$C$6:$C$400<$AZ30)*(Eingabe!$D$6:$D$400>=$AZ30)*(Eingabe!$B$6:$B$400=BC$3)*(Eingabe!$E$6:$E$400))","v":0},{"$f":"SUMPRODUCT((Eingabe!$C$6:$C$400<=$AZ30)*(Eingabe!$D$6:$D$400>$AZ30)*(Eingabe!$B$6:$B$400=BE$3)*(Eingabe!$E$6:$E$400))","v":0},{"$f":"SUMPRODUCT((Eingabe!$C$6:$C$400<$AZ30)*(Eingabe!$D$6:$D$400>=$AZ30)*(Eingabe!$B$6:$B$400=BE$3)*(Eingabe!$E$6:$E$400))","v":0},{"$f":"SUMPRODUCT((Eingabe!$C$6:$C$400<=$AZ30)*(Eingabe!$D$6:$D$400>$AZ30)*(Eingabe!$B$6:$B$400=BG$3)*(Eingabe!$E$6:$E$400))","v":0},{"$f":"SUMPRODUCT((Eingabe!$C$6:$C$400<$AZ30)*(Eingabe!$D$6:$D$400>=$AZ30)*(Eingabe!$B$6:$B$400=BG$3)*(Eingabe!$E$6:$E$400))","v":0},"2025-07-27","2025-07-27",{"$f":"SUMPRODUCT((Eingabe!$C$6:$C$400<=$BJ30)*(Eingabe!$D$6:$D$400>$BJ30)*(Eingabe!$B$6:$B$400=BK$3)*(Eingabe!$E$6:$E$400))","v":6},{"$f":"SUMPRODUCT((Eingabe!$C$6:$C$400<$BJ30)*(Eingabe!$D$6:$D$400>=$BJ30)*(Eingabe!$B$6:$B$400=BK$3)*(Eingabe!$E$6:$E$400))","v":6},{"$f":"SUMPRODUCT((Eingabe!$C$6:$C$400<=$BJ30)*(Eingabe!$D$6:$D$400>$BJ30)*(Eingabe!$B$6:$B$400=BM$3)*(Eingabe!$E$6:$E$400))","v":0},{"$f":"SUMPRODUCT((Eingabe!$C$6:$C$400<$BJ30)*(Eingabe!$D$6:$D$400>=$BJ30)*(Eingabe!$B$6:$B$400=BM$3)*(Eingabe!$E$6:$E$400))","v":0},{"$f":"SUMPRODUCT((Eingabe!$C$6:$C$400<=$BJ30)*(Eingabe!$D$6:$D$400>$BJ30)*(Eingabe!$B$6:$B$400=BO$3)*(Eingabe!$E$6:$E$400))","v":0},{"$f":"SUMPRODUCT((Eingabe!$C$6:$C$400<$BJ30)*(Eingabe!$D$6:$D$400>=$BJ30)*(Eingabe!$B$6:$B$400=BO$3)*(Eingabe!$E$6:$E$400))","v":0},{"$f":"SUMPRODUCT((Eingabe!$C$6:$C$400<=$BJ30)*(Eingabe!$D$6:$D$400>$BJ30)*(Eingabe!$B$6:$B$400=BQ$3)*(Eingabe!$E$6:$E$400))","v":0},{"$f":"SUMPRODUCT((Eingabe!$C$6:$C$400<$BJ30)*(Eingabe!$D$6:$D$400>=$BJ30)*(Eingabe!$B$6:$B$400=BQ$3)*(Eingabe!$E$6:$E$400))","v":0},"2025-08-27","2025-08-27",{"$f":"SUMPRODUCT((Eingabe!$C$6:$C$400<=$BT30)*(Eingabe!$D$6:$D$400>$BT30)*(Eingabe!$B$6:$B$400=BU$3)*(Eingabe!$E$6:$E$400))","v":0},{"$f":"SUMPRODUCT((Eingabe!$C$6:$C$400<$BT30)*(Eingabe!$D$6:$D$400>=$BT30)*(Eingabe!$B$6:$B$400=BU$3)*(Eingabe!$E$6:$E$400))","v":0},{"$f":"SUMPRODUCT((Eingabe!$C$6:$C$400<=$BT30)*(Eingabe!$D$6:$D$400>$BT30)*(Eingabe!$B$6:$B$400=BW$3)*(Eingabe!$E$6:$E$400))","v":0},{"$f":"SUMPRODUCT((Eingabe!$C$6:$C$400<$BT30)*(Eingabe!$D$6:$D$400>=$BT30)*(Eingabe!$B$6:$B$400=BW$3)*(Eingabe!$E$6:$E$400))","v":0},{"$f":"SUMPRODUCT((Eingabe!$C$6:$C$400<=$BT30)*(Eingabe!$D$6:$D$400>$BT30)*(Eingabe!$B$6:$B$400=BY$3)*(Eingabe!$E$6:$E$400))","v":0},{"$f":"SUMPRODUCT((Eingabe!$C$6:$C$400<$BT30)*(Eingabe!$D$6:$D$400>=$BT30)*(Eingabe!$B$6:$B$400=BY$3)*(Eingabe!$E$6:$E$400))","v":0},{"$f":"SUMPRODUCT((Eingabe!$C$6:$C$400<=$BT30)*(Eingabe!$D$6:$D$400>$BT30)*(Eingabe!$B$6:$B$400=CA$3)*(Eingabe!$E$6:$E$400))","v":0},{"$f":"SUMPRODUCT((Eingabe!$C$6:$C$400<$BT30)*(Eingabe!$D$6:$D$400>=$BT30)*(Eingabe!$B$6:$B$400=CA$3)*(Eingabe!$E$6:$E$400))","v":0},"2025-09-27","2025-09-27",{"$f":"SUMPRODUCT((Eingabe!$C$6:$C$400<=$CD30)*(Eingabe!$D$6:$D$400>$CD30)*(Eingabe!$B$6:$B$400=CE$3)*(Eingabe!$E$6:$E$400))","v":0},{"$f":"SUMPRODUCT((Eingabe!$C$6:$C$400<$CD30)*(Eingabe!$D$6:$D$400>=$CD30)*(Eingabe!$B$6:$B$400=CE$3)*(Eingabe!$E$6:$E$400))","v":0},{"$f":"SUMPRODUCT((Eingabe!$C$6:$C$400<=$CD30)*(Eingabe!$D$6:$D$400>$CD30)*(Eingabe!$B$6:$B$400=CG$3)*(Eingabe!$E$6:$E$400))","v":0},{"$f":"SUMPRODUCT((Eingabe!$C$6:$C$400<$CD30)*(Eingabe!$D$6:$D$400>=$CD30)*(Eingabe!$B$6:$B$400=CG$3)*(Eingabe!$E$6:$E$400))","v":0},{"$f":"SUMPRODUCT((Eingabe!$C$6:$C$400<=$CD30)*(Eingabe!$D$6:$D$400>$CD30)*(Eingabe!$B$6:$B$400=CI$3)*(Eingabe!$E$6:$E$400))","v":0},{"$f":"SUMPRODUCT((Eingabe!$C$6:$C$400<$CD30)*(Eingabe!$D$6:$D$400>=$CD30)*(Eingabe!$B$6:$B$400=CI$3)*(Eingabe!$E$6:$E$400))","v":0},{"$f":"SUMPRODUCT((Eingabe!$C$6:$C$400<=$CD30)*(Eingabe!$D$6:$D$400>$CD30)*(Eingabe!$B$6:$B$400=CK$3)*(Eingabe!$E$6:$E$400))","v":0},{"$f":"SUMPRODUCT((Eingabe!$C$6:$C$400<$CD30)*(Eingabe!$D$6:$D$400>=$CD30)*(Eingabe!$B$6:$B$400=CK$3)*(Eingabe!$E$6:$E$400))","v":0},"2025-10-27","2025-10-27",{"$f":"SUMPRODUCT((Eingabe!$C$6:$C$400<=$CN30)*(Eingabe!$D$6:$D$400>$CN30)*(Eingabe!$B$6:$B$400=CO$3)*(Eingabe!$E$6:$E$400))","v":7},{"$f":"SUMPRODUCT((Eingabe!$C$6:$C$400<$CN30)*(Eingabe!$D$6:$D$400>=$CN30)*(Eingabe!$B$6:$B$400=CO$3)*(Eingabe!$E$6:$E$400))","v":7},{"$f":"SUMPRODUCT((Eingabe!$C$6:$C$400<=$CN30)*(Eingabe!$D$6:$D$400>$CN30)*(Eingabe!$B$6:$B$400=CQ$3)*(Eingabe!$E$6:$E$400))","v":0},{"$f":"SUMPRODUCT((Eingabe!$C$6:$C$400<$CN30)*(Eingabe!$D$6:$D$400>=$CN30)*(Eingabe!$B$6:$B$400=CQ$3)*(Eingabe!$E$6:$E$400))","v":0},{"$f":"SUMPRODUCT((Eingabe!$C$6:$C$400<=$CN30)*(Eingabe!$D$6:$D$400>$CN30)*(Eingabe!$B$6:$B$400=CS$3)*(Eingabe!$E$6:$E$400))","v":0},{"$f":"SUMPRODUCT((Eingabe!$C$6:$C$400<$CN30)*(Eingabe!$D$6:$D$400>=$CN30)*(Eingabe!$B$6:$B$400=CS$3)*(Eingabe!$E$6:$E$400))","v":0},{"$f":"SUMPRODUCT((Eingabe!$C$6:$C$400<=$CN30)*(Eingabe!$D$6:$D$400>$CN30)*(Eingabe!$B$6:$B$400=CU$3)*(Eingabe!$E$6:$E$400))","v":0},{"$f":"SUMPRODUCT((Eingabe!$C$6:$C$400<$CN30)*(Eingabe!$D$6:$D$400>=$CN30)*(Eingabe!$B$6:$B$400=CU$3)*(Eingabe!$E$6:$E$400))","v":0},"2025-11-27","2025-11-27",{"$f":"SUMPRODUCT((Eingabe!$C$6:$C$400<=$CX30)*(Eingabe!$D$6:$D$400>$CX30)*(Eingabe!$B$6:$B$400=CY$3)*(Eingabe!$E$6:$E$400))","v":7},{"$f":"SUMPRODUCT((Eingabe!$C$6:$C$400<$CX30)*(Eingabe!$D$6:$D$400>=$CX30)*(Eingabe!$B$6:$B$400=CY$3)*(Eingabe!$E$6:$E$400))","v":7},{"$f":"SUMPRODUCT((Eingabe!$C$6:$C$400<=$CX30)*(Eingabe!$D$6:$D$400>$CX30)*(Eingabe!$B$6:$B$400=DA$3)*(Eingabe!$E$6:$E$400))","v":0},{"$f":"SUMPRODUCT((Eingabe!$C$6:$C$400<$CX30)*(Eingabe!$D$6:$D$400>=$CX30)*(Eingabe!$B$6:$B$400=DA$3)*(Eingabe!$E$6:$E$400))","v":0},{"$f":"SUMPRODUCT((Eingabe!$C$6:$C$400<=$CX30)*(Eingabe!$D$6:$D$400>$CX30)*(Eingabe!$B$6:$B$400=DC$3)*(Eingabe!$E$6:$E$400))","v":0},{"$f":"SUMPRODUCT((Eingabe!$C$6:$C$400<$CX30)*(Eingabe!$D$6:$D$400>=$CX30)*(Eingabe!$B$6:$B$400=DC$3)*(Eingabe!$E$6:$E$400))","v":0},{"$f":"SUMPRODUCT((Eingabe!$C$6:$C$400<=$CX30)*(Eingabe!$D$6:$D$400>$CX30)*(Eingabe!$B$6:$B$400=DE$3)*(Eingabe!$E$6:$E$400))","v":0},{"$f":"SUMPRODUCT((Eingabe!$C$6:$C$400<$CX30)*(Eingabe!$D$6:$D$400>=$CX30)*(Eingabe!$B$6:$B$400=DE$3)*(Eingabe!$E$6:$E$400))","v":0},"2025-12-27","2025-12-27",{"$f":"SUMPRODUCT((Eingabe!$C$6:$C$400<=$DH30)*(Eingabe!$D$6:$D$400>$DH30)*(Eingabe!$B$6:$B$400=DI$3)*(Eingabe!$E$6:$E$400))","v":7},{"$f":"SUMPRODUCT((Eingabe!$C$6:$C$400<$DH30)*(Eingabe!$D$6:$D$400>=$DH30)*(Eingabe!$B$6:$B$400=DI$3)*(Eingabe!$E$6:$E$400))","v":7},{"$f":"SUMPRODUCT((Eingabe!$C$6:$C$400<=$DH30)*(Eingabe!$D$6:$D$400>$DH30)*(Eingabe!$B$6:$B$400=DK$3)*(Eingabe!$E$6:$E$400))","v":6},{"$f":"SUMPRODUCT((Eingabe!$C$6:$C$400<$DH30)*(Eingabe!$D$6:$D$400>=$DH30)*(Eingabe!$B$6:$B$400=DK$3)*(Eingabe!$E$6:$E$400))","v":6},{"$f":"SUMPRODUCT((Eingabe!$C$6:$C$400<=$DH30)*(Eingabe!$D$6:$D$400>$DH30)*(Eingabe!$B$6:$B$400=DM$3)*(Eingabe!$E$6:$E$400))","v":0},{"$f":"SUMPRODUCT((Eingabe!$C$6:$C$400<$DH30)*(Eingabe!$D$6:$D$400>=$DH30)*(Eingabe!$B$6:$B$400=DM$3)*(Eingabe!$E$6:$E$400))","v":0},{"$f":"SUMPRODUCT((Eingabe!$C$6:$C$400<=$DH30)*(Eingabe!$D$6:$D$400>$DH30)*(Eingabe!$B$6:$B$400=DO$3)*(Eingabe!$E$6:$E$400))","v":0},{"$f":"SUMPRODUCT((Eingabe!$C$6:$C$400<$DH30)*(Eingabe!$D$6:$D$400>=$DH30)*(Eingabe!$B$6:$B$400=DO$3)*(Eingabe!$E$6:$E$400))","v":0},"2026-01-27","2026-01-27",{"$f":"SUMPRODUCT((Eingabe!$C$6:$C$400<=$B30)*(Eingabe!$D$6:$D$400>$B30)*(Eingabe!$B$6:$B$400=DS$3)*(Eingabe!$E$6:$E$400))","v":0},{"$f":"SUMPRODUCT((Eingabe!$C$6:$C$400<$B30)*(Eingabe!$D$6:$D$400>=$B30)*(Eingabe!$B$6:$B$400=DS$3)*(Eingabe!$E$6:$E$400))","v":0},{"$f":"SUMPRODUCT((Eingabe!$C$6:$C$400<=$B30)*(Eingabe!$D$6:$D$400>$B30)*(Eingabe!$B$6:$B$400=DU$3)*(Eingabe!$E$6:$E$400))","v":0},{"$f":"SUMPRODUCT((Eingabe!$C$6:$C$400<$B30)*(Eingabe!$D$6:$D$400>=$B30)*(Eingabe!$B$6:$B$400=DU$3)*(Eingabe!$E$6:$E$400))","v":0},{"$f":"SUMPRODUCT((Eingabe!$C$6:$C$400<=$B30)*(Eingabe!$D$6:$D$400>$B30)*(Eingabe!$B$6:$B$400=DW$3)*(Eingabe!$E$6:$E$400))","v":0},{"$f":"SUMPRODUCT((Eingabe!$C$6:$C$400<$B30)*(Eingabe!$D$6:$D$400>=$B30)*(Eingabe!$B$6:$B$400=DW$3)*(Eingabe!$E$6:$E$400))","v":0},{"$f":"SUMPRODUCT((Eingabe!$C$6:$C$400<=$B30)*(Eingabe!$D$6:$D$400>$B30)*(Eingabe!$B$6:$B$400=DY$3)*(Eingabe!$E$6:$E$400))","v":0},{"$f":"SUMPRODUCT((Eingabe!$C$6:$C$400<$B30)*(Eingabe!$D$6:$D$400>=$B30)*(Eingabe!$B$6:$B$400=DY$3)*(Eingabe!$E$6:$E$400))","v":0},"2026-02-27","2026-02-27",{"$f":"SUMPRODUCT((Eingabe!$C$6:$C$400<=$L30)*(Eingabe!$D$6:$D$400>$L30)*(Eingabe!$B$6:$B$400=EC$3)*(Eingabe!$E$6:$E$400))","v":0},{"$f":"SUMPRODUCT((Eingabe!$C$6:$C$400<$L30)*(Eingabe!$D$6:$D$400>=$L30)*(Eingabe!$B$6:$B$400=EC$3)*(Eingabe!$E$6:$E$400))","v":0},{"$f":"SUMPRODUCT((Eingabe!$C$6:$C$400<=$L30)*(Eingabe!$D$6:$D$400>$L30)*(Eingabe!$B$6:$B$400=EE$3)*(Eingabe!$E$6:$E$400))","v":0},{"$f":"SUMPRODUCT((Eingabe!$C$6:$C$400<$L30)*(Eingabe!$D$6:$D$400>=$L30)*(Eingabe!$B$6:$B$400=EE$3)*(Eingabe!$E$6:$E$400))","v":0},{"$f":"SUMPRODUCT((Eingabe!$C$6:$C$400<=$L30)*(Eingabe!$D$6:$D$400>$L30)*(Eingabe!$B$6:$B$400=EG$3)*(Eingabe!$E$6:$E$400))","v":0},{"$f":"SUMPRODUCT((Eingabe!$C$6:$C$400<$L30)*(Eingabe!$D$6:$D$400>=$L30)*(Eingabe!$B$6:$B$400=EG$3)*(Eingabe!$E$6:$E$400))","v":0},{"$f":"SUMPRODUCT((Eingabe!$C$6:$C$400<=$L30)*(Eingabe!$D$6:$D$400>$L30)*(Eingabe!$B$6:$B$400=EI$3)*(Eingabe!$E$6:$E$400))","v":0},{"$f":"SUMPRODUCT((Eingabe!$C$6:$C$400<$L30)*(Eingabe!$D$6:$D$400>=$L30)*(Eingabe!$B$6:$B$400=EI$3)*(Eingabe!$E$6:$E$400))","v":0},"2026-03-27","2026-03-27",{"$f":"SUMPRODUCT((Eingabe!$C$6:$C$400<=$V30)*(Eingabe!$D$6:$D$400>$V30)*(Eingabe!$B$6:$B$400=EM$3)*(Eingabe!$E$6:$E$400))","v":0},{"$f":"SUMPRODUCT((Eingabe!$C$6:$C$400<$V30)*(Eingabe!$D$6:$D$400>=$V30)*(Eingabe!$B$6:$B$400=EM$3)*(Eingabe!$E$6:$E$400))","v":0},{"$f":"SUMPRODUCT((Eingabe!$C$6:$C$400<=$V30)*(Eingabe!$D$6:$D$400>$V30)*(Eingabe!$B$6:$B$400=EO$3)*(Eingabe!$E$6:$E$400))","v":0},{"$f":"SUMPRODUCT((Eingabe!$C$6:$C$400<$V30)*(Eingabe!$D$6:$D$400>=$V30)*(Eingabe!$B$6:$B$400=EO$3)*(Eingabe!$E$6:$E$400))","v":0},{"$f":"SUMPRODUCT((Eingabe!$C$6:$C$400<=$V30)*(Eingabe!$D$6:$D$400>$V30)*(Eingabe!$B$6:$B$400=EQ$3)*(Eingabe!$E$6:$E$400))","v":0},{"$f":"SUMPRODUCT((Eingabe!$C$6:$C$400<$V30)*(Eingabe!$D$6:$D$400>=$V30)*(Eingabe!$B$6:$B$400=EQ$3)*(Eingabe!$E$6:$E$400))","v":0},{"$f":"SUMPRODUCT((Eingabe!$C$6:$C$400<=$V30)*(Eingabe!$D$6:$D$400>$V30)*(Eingabe!$B$6:$B$400=ES$3)*(Eingabe!$E$6:$E$400))","v":0},{"$f":"SUMPRODUCT((Eingabe!$C$6:$C$400<$V30)*(Eingabe!$D$6:$D$400>=$V30)*(Eingabe!$B$6:$B$400=ES$3)*(Eingabe!$E$6:$E$400))","v":0},"2026-04-27","2026-04-27",{"$f":"SUMPRODUCT((Eingabe!$C$6:$C$400<=$AF30)*(Eingabe!$D$6:$D$400>$AF30)*(Eingabe!$B$6:$B$400=EW$3)*(Eingabe!$E$6:$E$400))","v":5},{"$f":"SUMPRODUCT((Eingabe!$C$6:$C$400<$AF30)*(Eingabe!$D$6:$D$400>=$AF30)*(Eingabe!$B$6:$B$400=EW$3)*(Eingabe!$E$6:$E$400))","v":0},{"$f":"SUMPRODUCT((Eingabe!$C$6:$C$400<=$AF30)*(Eingabe!$D$6:$D$400>$AF30)*(Eingabe!$B$6:$B$400=EY$3)*(Eingabe!$E$6:$E$400))","v":5},{"$f":"SUMPRODUCT((Eingabe!$C$6:$C$400<$AF30)*(Eingabe!$D$6:$D$400>=$AF30)*(Eingabe!$B$6:$B$400=EY$3)*(Eingabe!$E$6:$E$400))","v":0},{"$f":"SUMPRODUCT((Eingabe!$C$6:$C$400<=$AF30)*(Eingabe!$D$6:$D$400>$AF30)*(Eingabe!$B$6:$B$400=FA$3)*(Eingabe!$E$6:$E$400))","v":0},{"$f":"SUMPRODUCT((Eingabe!$C$6:$C$400<$AF30)*(Eingabe!$D$6:$D$400>=$AF30)*(Eingabe!$B$6:$B$400=FA$3)*(Eingabe!$E$6:$E$400))","v":0},{"$f":"SUMPRODUCT((Eingabe!$C$6:$C$400<=$AF30)*(Eingabe!$D$6:$D$400>$AF30)*(Eingabe!$B$6:$B$400=FC$3)*(Eingabe!$E$6:$E$400))","v":5},{"$f":"SUMPRODUCT((Eingabe!$C$6:$C$400<$AF30)*(Eingabe!$D$6:$D$400>=$AF30)*(Eingabe!$B$6:$B$400=FC$3)*(Eingabe!$E$6:$E$400))","v":0},"2026-05-27","2026-05-27",{"$f":"SUMPRODUCT((Eingabe!$C$6:$C$400<=$AP30)*(Eingabe!$D$6:$D$400>$AP30)*(Eingabe!$B$6:$B$400=FG$3)*(Eingabe!$E$6:$E$400))","v":0},{"$f":"SUMPRODUCT((Eingabe!$C$6:$C$400<$AP30)*(Eingabe!$D$6:$D$400>=$AP30)*(Eingabe!$B$6:$B$400=FG$3)*(Eingabe!$E$6:$E$400))","v":0},{"$f":"SUMPRODUCT((Eingabe!$C$6:$C$400<=$AP30)*(Eingabe!$D$6:$D$400>$AP30)*(Eingabe!$B$6:$B$400=FI$3)*(Eingabe!$E$6:$E$400))","v":0},{"$f":"SUMPRODUCT((Eingabe!$C$6:$C$400<$AP30)*(Eingabe!$D$6:$D$400>=$AP30)*(Eingabe!$B$6:$B$400=FI$3)*(Eingabe!$E$6:$E$400))","v":0},{"$f":"SUMPRODUCT((Eingabe!$C$6:$C$400<=$AP30)*(Eingabe!$D$6:$D$400>$AP30)*(Eingabe!$B$6:$B$400=FK$3)*(Eingabe!$E$6:$E$400))","v":0},{"$f":"SUMPRODUCT((Eingabe!$C$6:$C$400<$AP30)*(Eingabe!$D$6:$D$400>=$AP30)*(Eingabe!$B$6:$B$400=FK$3)*(Eingabe!$E$6:$E$400))","v":0},{"$f":"SUMPRODUCT((Eingabe!$C$6:$C$400<=$AP30)*(Eingabe!$D$6:$D$400>$AP30)*(Eingabe!$B$6:$B$400=FM$3)*(Eingabe!$E$6:$E$400))","v":0},{"$f":"SUMPRODUCT((Eingabe!$C$6:$C$400<$AP30)*(Eingabe!$D$6:$D$400>=$AP30)*(Eingabe!$B$6:$B$400=FM$3)*(Eingabe!$E$6:$E$400))","v":0},"2026-06-27","2026-06-27",{"$f":"SUMPRODUCT((Eingabe!$C$6:$C$400<=$AZ30)*(Eingabe!$D$6:$D$400>$AZ30)*(Eingabe!$B$6:$B$400=FQ$3)*(Eingabe!$E$6:$E$400))","v":0},{"$f":"SUMPRODUCT((Eingabe!$C$6:$C$400<$AZ30)*(Eingabe!$D$6:$D$400>=$AZ30)*(Eingabe!$B$6:$B$400=FQ$3)*(Eingabe!$E$6:$E$400))","v":0},{"$f":"SUMPRODUCT((Eingabe!$C$6:$C$400<=$AZ30)*(Eingabe!$D$6:$D$400>$AZ30)*(Eingabe!$B$6:$B$400=FS$3)*(Eingabe!$E$6:$E$400))","v":0},{"$f":"SUMPRODUCT((Eingabe!$C$6:$C$400<$AZ30)*(Eingabe!$D$6:$D$400>=$AZ30)*(Eingabe!$B$6:$B$400=FS$3)*(Eingabe!$E$6:$E$400))","v":0},{"$f":"SUMPRODUCT((Eingabe!$C$6:$C$400<=$AZ30)*(Eingabe!$D$6:$D$400>$AZ30)*(Eingabe!$B$6:$B$400=FU$3)*(Eingabe!$E$6:$E$400))","v":0},{"$f":"SUMPRODUCT((Eingabe!$C$6:$C$400<$AZ30)*(Eingabe!$D$6:$D$400>=$AZ30)*(Eingabe!$B$6:$B$400=FU$3)*(Eingabe!$E$6:$E$400))","v":0},{"$f":"SUMPRODUCT((Eingabe!$C$6:$C$400<=$AZ30)*(Eingabe!$D$6:$D$400>$AZ30)*(Eingabe!$B$6:$B$400=FW$3)*(Eingabe!$E$6:$E$400))","v":0},{"$f":"SUMPRODUCT((Eingabe!$C$6:$C$400<$AZ30)*(Eingabe!$D$6:$D$400>=$AZ30)*(Eingabe!$B$6:$B$400=FW$3)*(Eingabe!$E$6:$E$400))","v":0},"2026-07-27","2026-07-27",{"$f":"SUMPRODUCT((Eingabe!$C$6:$C$400<=$BJ30)*(Eingabe!$D$6:$D$400>$BJ30)*(Eingabe!$B$6:$B$400=GA$3)*(Eingabe!$E$6:$E$400))","v":6},{"$f":"SUMPRODUCT((Eingabe!$C$6:$C$400<$BJ30)*(Eingabe!$D$6:$D$400>=$BJ30)*(Eingabe!$B$6:$B$400=GA$3)*(Eingabe!$E$6:$E$400))","v":6},{"$f":"SUMPRODUCT((Eingabe!$C$6:$C$400<=$BJ30)*(Eingabe!$D$6:$D$400>$BJ30)*(Eingabe!$B$6:$B$400=GC$3)*(Eingabe!$E$6:$E$400))","v":0},{"$f":"SUMPRODUCT((Eingabe!$C$6:$C$400<$BJ30)*(Eingabe!$D$6:$D$400>=$BJ30)*(Eingabe!$B$6:$B$400=GC$3)*(Eingabe!$E$6:$E$400))","v":0},{"$f":"SUMPRODUCT((Eingabe!$C$6:$C$400<=$BJ30)*(Eingabe!$D$6:$D$400>$BJ30)*(Eingabe!$B$6:$B$400=GE$3)*(Eingabe!$E$6:$E$400))","v":0},{"$f":"SUMPRODUCT((Eingabe!$C$6:$C$400<$BJ30)*(Eingabe!$D$6:$D$400>=$BJ30)*(Eingabe!$B$6:$B$400=GE$3)*(Eingabe!$E$6:$E$400))","v":0},{"$f":"SUMPRODUCT((Eingabe!$C$6:$C$400<=$BJ30)*(Eingabe!$D$6:$D$400>$BJ30)*(Eingabe!$B$6:$B$400=GG$3)*(Eingabe!$E$6:$E$400))","v":0},{"$f":"SUMPRODUCT((Eingabe!$C$6:$C$400<$BJ30)*(Eingabe!$D$6:$D$400>=$BJ30)*(Eingabe!$B$6:$B$400=GG$3)*(Eingabe!$E$6:$E$400))","v":0},"2026-08-27","2026-08-27",{"$f":"SUMPRODUCT((Eingabe!$C$6:$C$400<=$BT30)*(Eingabe!$D$6:$D$400>$BT30)*(Eingabe!$B$6:$B$400=GK$3)*(Eingabe!$E$6:$E$400))","v":0},{"$f":"SUMPRODUCT((Eingabe!$C$6:$C$400<$BT30)*(Eingabe!$D$6:$D$400>=$BT30)*(Eingabe!$B$6:$B$400=GK$3)*(Eingabe!$E$6:$E$400))","v":0},{"$f":"SUMPRODUCT((Eingabe!$C$6:$C$400<=$BT30)*(Eingabe!$D$6:$D$400>$BT30)*(Eingabe!$B$6:$B$400=GM$3)*(Eingabe!$E$6:$E$400))","v":0},{"$f":"SUMPRODUCT((Eingabe!$C$6:$C$400<$BT30)*(Eingabe!$D$6:$D$400>=$BT30)*(Eingabe!$B$6:$B$400=GM$3)*(Eingabe!$E$6:$E$400))","v":0},{"$f":"SUMPRODUCT((Eingabe!$C$6:$C$400<=$BT30)*(Eingabe!$D$6:$D$400>$BT30)*(Eingabe!$B$6:$B$400=GO$3)*(Eingabe!$E$6:$E$400))","v":0},{"$f":"SUMPRODUCT((Eingabe!$C$6:$C$400<$BT30)*(Eingabe!$D$6:$D$400>=$BT30)*(Eingabe!$B$6:$B$400=GO$3)*(Eingabe!$E$6:$E$400))","v":0},{"$f":"SUMPRODUCT((Eingabe!$C$6:$C$400<=$BT30)*(Eingabe!$D$6:$D$400>$BT30)*(Eingabe!$B$6:$B$400=GQ$3)*(Eingabe!$E$6:$E$400))","v":0},{"$f":"SUMPRODUCT((Eingabe!$C$6:$C$400<$BT30)*(Eingabe!$D$6:$D$400>=$BT30)*(Eingabe!$B$6:$B$400=GQ$3)*(Eingabe!$E$6:$E$400))","v":0},"2026-09-27","2026-09-27",{"$f":"SUMPRODUCT((Eingabe!$C$6:$C$400<=$CD30)*(Eingabe!$D$6:$D$400>$CD30)*(Eingabe!$B$6:$B$400=GU$3)*(Eingabe!$E$6:$E$400))","v":0},{"$f":"SUMPRODUCT((Eingabe!$C$6:$C$400<$CD30)*(Eingabe!$D$6:$D$400>=$CD30)*(Eingabe!$B$6:$B$400=GU$3)*(Eingabe!$E$6:$E$400))","v":0},{"$f":"SUMPRODUCT((Eingabe!$C$6:$C$400<=$CD30)*(Eingabe!$D$6:$D$400>$CD30)*(Eingabe!$B$6:$B$400=GW$3)*(Eingabe!$E$6:$E$400))","v":0},{"$f":"SUMPRODUCT((Eingabe!$C$6:$C$400<$CD30)*(Eingabe!$D$6:$D$400>=$CD30)*(Eingabe!$B$6:$B$400=GW$3)*(Eingabe!$E$6:$E$400))","v":0},{"$f":"SUMPRODUCT((Eingabe!$C$6:$C$400<=$CD30)*(Eingabe!$D$6:$D$400>$CD30)*(Eingabe!$B$6:$B$400=GY$3)*(Eingabe!$E$6:$E$400))","v":0},{"$f":"SUMPRODUCT((Eingabe!$C$6:$C$400<$CD30)*(Eingabe!$D$6:$D$400>=$CD30)*(Eingabe!$B$6:$B$400=GY$3)*(Eingabe!$E$6:$E$400))","v":0},{"$f":"SUMPRODUCT((Eingabe!$C$6:$C$400<=$CD30)*(Eingabe!$D$6:$D$400>$CD30)*(Eingabe!$B$6:$B$400=HA$3)*(Eingabe!$E$6:$E$400))","v":0},{"$f":"SUMPRODUCT((Eingabe!$C$6:$C$400<$CD30)*(Eingabe!$D$6:$D$400>=$CD30)*(Eingabe!$B$6:$B$400=HA$3)*(Eingabe!$E$6:$E$400))","v":0},"2026-10-27","2026-10-27",{"$f":"SUMPRODUCT((Eingabe!$C$6:$C$400<=$CN30)*(Eingabe!$D$6:$D$400>$CN30)*(Eingabe!$B$6:$B$400=HE$3)*(Eingabe!$E$6:$E$400))","v":7},{"$f":"SUMPRODUCT((Eingabe!$C$6:$C$400<$CN30)*(Eingabe!$D$6:$D$400>=$CN30)*(Eingabe!$B$6:$B$400=HE$3)*(Eingabe!$E$6:$E$400))","v":7},{"$f":"SUMPRODUCT((Eingabe!$C$6:$C$400<=$CN30)*(Eingabe!$D$6:$D$400>$CN30)*(Eingabe!$B$6:$B$400=HG$3)*(Eingabe!$E$6:$E$400))","v":0},{"$f":"SUMPRODUCT((Eingabe!$C$6:$C$400<$CN30)*(Eingabe!$D$6:$D$400>=$CN30)*(Eingabe!$B$6:$B$400=HG$3)*(Eingabe!$E$6:$E$400))","v":0},{"$f":"SUMPRODUCT((Eingabe!$C$6:$C$400<=$CN30)*(Eingabe!$D$6:$D$400>$CN30)*(Eingabe!$B$6:$B$400=HI$3)*(Eingabe!$E$6:$E$400))","v":0},{"$f":"SUMPRODUCT((Eingabe!$C$6:$C$400<$CN30)*(Eingabe!$D$6:$D$400>=$CN30)*(Eingabe!$B$6:$B$400=HI$3)*(Eingabe!$E$6:$E$400))","v":0},{"$f":"SUMPRODUCT((Eingabe!$C$6:$C$400<=$CN30)*(Eingabe!$D$6:$D$400>$CN30)*(Eingabe!$B$6:$B$400=HK$3)*(Eingabe!$E$6:$E$400))","v":0},{"$f":"SUMPRODUCT((Eingabe!$C$6:$C$400<$CN30)*(Eingabe!$D$6:$D$400>=$CN30)*(Eingabe!$B$6:$B$400=HK$3)*(Eingabe!$E$6:$E$400))","v":0},"2026-11-27","2026-11-27",{"$f":"SUMPRODUCT((Eingabe!$C$6:$C$400<=$CX30)*(Eingabe!$D$6:$D$400>$CX30)*(Eingabe!$B$6:$B$400=HO$3)*(Eingabe!$E$6:$E$400))","v":7},{"$f":"SUMPRODUCT((Eingabe!$C$6:$C$400<$CX30)*(Eingabe!$D$6:$D$400>=$CX30)*(Eingabe!$B$6:$B$400=HO$3)*(Eingabe!$E$6:$E$400))","v":7},{"$f":"SUMPRODUCT((Eingabe!$C$6:$C$400<=$CX30)*(Eingabe!$D$6:$D$400>$CX30)*(Eingabe!$B$6:$B$400=HQ$3)*(Eingabe!$E$6:$E$400))","v":0},{"$f":"SUMPRODUCT((Eingabe!$C$6:$C$400<$CX30)*(Eingabe!$D$6:$D$400>=$CX30)*(Eingabe!$B$6:$B$400=HQ$3)*(Eingabe!$E$6:$E$400))","v":0},{"$f":"SUMPRODUCT((Eingabe!$C$6:$C$400<=$CX30)*(Eingabe!$D$6:$D$400>$CX30)*(Eingabe!$B$6:$B$400=HS$3)*(Eingabe!$E$6:$E$400))","v":0},{"$f":"SUMPRODUCT((Eingabe!$C$6:$C$400<$CX30)*(Eingabe!$D$6:$D$400>=$CX30)*(Eingabe!$B$6:$B$400=HS$3)*(Eingabe!$E$6:$E$400))","v":0},{"$f":"SUMPRODUCT((Eingabe!$C$6:$C$400<=$CX30)*(Eingabe!$D$6:$D$400>$CX30)*(Eingabe!$B$6:$B$400=HU$3)*(Eingabe!$E$6:$E$400))","v":0},{"$f":"SUMPRODUCT((Eingabe!$C$6:$C$400<$CX30)*(Eingabe!$D$6:$D$400>=$CX30)*(Eingabe!$B$6:$B$400=HU$3)*(Eingabe!$E$6:$E$400))","v":0},"2026-12-27","2026-12-27",{"$f":"SUMPRODUCT((Eingabe!$C$6:$C$400<=$DH30)*(Eingabe!$D$6:$D$400>$DH30)*(Eingabe!$B$6:$B$400=HY$3)*(Eingabe!$E$6:$E$400))","v":7},{"$f":"SUMPRODUCT((Eingabe!$C$6:$C$400<$DH30)*(Eingabe!$D$6:$D$400>=$DH30)*(Eingabe!$B$6:$B$400=HY$3)*(Eingabe!$E$6:$E$400))","v":7},{"$f":"SUMPRODUCT((Eingabe!$C$6:$C$400<=$DH30)*(Eingabe!$D$6:$D$400>$DH30)*(Eingabe!$B$6:$B$400=IA$3)*(Eingabe!$E$6:$E$400))","v":6},{"$f":"SUMPRODUCT((Eingabe!$C$6:$C$400<$DH30)*(Eingabe!$D$6:$D$400>=$DH30)*(Eingabe!$B$6:$B$400=IA$3)*(Eingabe!$E$6:$E$400))","v":6},{"$f":"SUMPRODUCT((Eingabe!$C$6:$C$400<=$DH30)*(Eingabe!$D$6:$D$400>$DH30)*(Eingabe!$B$6:$B$400=IC$3)*(Eingabe!$E$6:$E$400))","v":0},{"$f":"SUMPRODUCT((Eingabe!$C$6:$C$400<$DH30)*(Eingabe!$D$6:$D$400>=$DH30)*(Eingabe!$B$6:$B$400=IC$3)*(Eingabe!$E$6:$E$400))","v":0},{"$f":"SUMPRODUCT((Eingabe!$C$6:$C$400<=$DH30)*(Eingabe!$D$6:$D$400>$DH30)*(Eingabe!$B$6:$B$400=IE$3)*(Eingabe!$E$6:$E$400))","v":0},{"$f":"SUMPRODUCT((Eingabe!$C$6:$C$400<$DH30)*(Eingabe!$D$6:$D$400>=$DH30)*(Eingabe!$B$6:$B$400=IE$3)*(Eingabe!$E$6:$E$400))","v":0}]
["2025-01-28","2025-01-28",{"$f":"SUMPRODUCT((Eingabe!$C$6:$C$400<=$B31)*(Eingabe!$D$6:$D$400>$B31)*(Eingabe!$B$6:$B$400=C$3)*(Eingabe!$E$6:$E$400))","v":0},{"$f":"SUMPRODUCT((Eingabe!$C$6:$C$400<$B31)*(Eingabe!$D$6:$D$400>=$B31)*(Eingabe!$B$6:$B$400=C$3)*(Eingabe!$E$6:$E$400))","v":0},{"$f":"SUMPRODUCT((Eingabe!$C$6:$C$400<=$B31)*(Eingabe!$D$6:$D$400>$B31)*(Eingabe!$B$6:$B$400=E$3)*(Eingabe!$E$6:$E$400))","v":0},{"$f":"SUMPRODUCT((Eingabe!$C$6:$C$400<$B31)*(Eingabe!$D$6:$D$400>=$B31)*(Eingabe!$B$6:$B$400=E$3)*(Eingabe!$E$6:$E$400))","v":0},{"$f":"SUMPRODUCT((Eingabe!$C$6:$C$400<=$B31)*(Eingabe!$D$6:$D$400>$B31)*(Eingabe!$B$6:$B$400=G$3)*(Eingabe!$E$6:$E$400))","v":0},{"$f":"SUMPRODUCT((Eingabe!$C$6:$C$400<$B31)*(Eingabe!$D$6:$D$400>=$B31)*(Eingabe!$B$6:$B$400=G$3)*(Eingabe!$E$6:$E$400))","v":0},{"$f":"SUMPRODUCT((Eingabe!$C$6:$C$400<=$B31)*(Eingabe!$D$6:$D$400>$B31)*(Eingabe!$B$6:$B$400=I$3)*(Eingabe!$E$6:$E$400))","v":0},{"$f":"SUMPRODUCT((Eingabe!$C$6:$C$400<$B31)*(Eingabe!$D$6:$D$400>=$B31)*(Eingabe!$B$6:$B$400=I$3)*(Eingabe!$E$6:$E$400))","v":0},"2025-02-28","2025-02-28",{"$f":"SUMPRODUCT((Eingabe!$C$6:$C$400<=$L31)*(Eingabe!$D$6:$D$400>$L31)*(Eingabe!$B$6:$B$400=M$3)*(Eingabe!$E$6:$E$400))","v":0},{"$f":"SUMPRODUCT((Eingabe!$C$6:$C$400<$L31)*(Eingabe!$D$6:$D$400>=$L31)*(Eingabe!$B$6:$B$400=M$3)*(Eingabe!$E$6:$E$400))","v":0},{"$f":"SUMPRODUCT((Eingabe!$C$6:$C$400<=$L31)*(Eingabe!$D$6:$D$400>$L31)*(Eingabe!$B$6:$B$400=O$3)*(Eingabe!$E$6:$E$400))","v":0},{"$f":"SUMPRODUCT((Eingabe!$C$6:$C$400<$L31)*(Eingabe!$D$6:$D$400>=$L31)*(Eingabe!$B$6:$B$400=O$3)*(Eingabe!$E$6:$E$400))","v":0},{"$f":"SUMPRODUCT((Eingabe!$C$6:$C$400<=$L31)*(Eingabe!$D$6:$D$400>$L31)*(Eingabe!$B$6:$B$400=Q$3)*(Eingabe!$E$6:$E$400))","v":0},{"$f":"SUMPRODUCT((Eingabe!$C$6:$C$400<$L31)*(Eingabe!$D$6:$D$400>=$L31)*(Eingabe!$B$6:$B$400=Q$3)*(Eingabe!$E$6:$E$400))","v":0},{"$f":"SUMPRODUCT((Eingabe!$C$6:$C$400<=$L31)*(Eingabe!$D$6:$D$400>$L31)*(Eingabe!$B$6:$B$400=S$3)*(Eingabe!$E$6:$E$400))","v":0},{"$f":"SUMPRODUCT((Eingabe!$C$6:$C$400<$L31)*(Eingabe!$D$6:$D$400>=$L31)*(Eingabe!$B$6:$B$400=S$3)*(Eingabe!$E$6:$E$400))","v":0},"2025-03-28","2025-03-28",{"$f":"SUMPRODUCT((Eingabe!$C$6:$C$400<=$V31)*(Eingabe!$D$6:$D$400>$V31)*(Eingabe!$B$6:$B$400=W$3)*(Eingabe!$E$6:$E$400))","v":0},{"$f":"SUMPRODUCT((Eingabe!$C$6:$C$400<$V31)*(Eingabe!$D$6:$D$400>=$V31)*(Eingabe!$B$6:$B$400=W$3)*(Eingabe!$E$6:$E$400))","v":0},{"$f":"SUMPRODUCT((Eingabe!$C$6:$C$400<=$V31)*(Eingabe!$D$6:$D$400>$V31)*(Eingabe!$B$6:$B$400=Y$3)*(Eingabe!$E$6:$E$400))","v":0},{"$f":"SUMPRODUCT((Eingabe!$C$6:$C$400<$V31)*(Eingabe!$D$6:$D$400>=$V31)*(Eingabe!$B$6:$B$400=Y$3)*(Eingabe!$E$6:$E$400))","v":0},{"$f":"SUMPRODUCT((Eingabe!$C$6:$C$400<=$V31)*(Eingabe!$D$6:$D$400>$V31)*(Eingabe!$B$6:$B$400=AA$3)*(Eingabe!$E$6:$E$400))","v":0},{"$f":"SUMPRODUCT((Eingabe!$C$6:$C$400<$V31)*(Eingabe!$D$6:$D$400>=$V31)*(Eingabe!$B$6:$B$400=AA$3)*(Eingabe!$E$6:$E$400))","v":0},{"$f":"SUMPRODUCT((Eingabe!$C$6:$C$400<=$V31)*(Eingabe!$D$6:$D$400>$V31)*(Eingabe!$B$6:$B$400=AC$3)*(Eingabe!$E$6:$E$400))","v":0},{"$f":"SUMPRODUCT((Eingabe!$C$6:$C$400<$V31)*(Eingabe!$D$6:$D$400>=$V31)*(Eingabe!$B$6:$B$400=AC$3)*(Eingabe!$E$6:$E$400))","v":0},"2025-04-28","2025-04-28",{"$f":"SUMPRODUCT((Eingabe!$C$6:$C$400<=$AF31)*(Eingabe!$D$6:$D$400>$AF31)*(Eingabe!$B$6:$B$400=AG$3)*(Eingabe!$E$6:$E$400))","v":5},{"$f":"SUMPRODUCT((Eingabe!$C$6:$C$400<$AF31)*(Eingabe!$D$6:$D$400>=$AF31)*(Eingabe!$B$6:$B$400=AG$3)*(Eingabe!$E$6:$E$400))","v":5},{"$f":"SUMPRODUCT((Eingabe!$C$6:$C$400<=$AF31)*(Eingabe!$D$6:$D$400>$AF31)*(Eingabe!$B$6:$B$400=AI$3)*(Eingabe!$E$6:$E$400))","v":5},{"$f":"SUMPRODUCT((Eingabe!$C$6:$C$400<$AF31)*(Eingabe!$D$6:$D$400>=$AF31)*(Eingabe!$B$6:$B$400=AI$3)*(Eingabe!$E$6:$E$400))","v":5},{"$f":"SUMPRODUCT((Eingabe!$C$6:$C$400<=$AF31)*(Eingabe!$D$6:$D$400>$AF31)*(Eingabe!$B$6:$B$400=AK$3)*(Eingabe!$E$6:$E$400))","v":0},{"$f":"SUMPRODUCT((Eingabe!$C$6:$C$400<$AF31)*(Eingabe!$D$6:$D$400>=$AF31)*(Eingabe!$B$6:$B$400=AK$3)*(Eingabe!$E$6:$E$400))","v":0},{"$f":"SUMPRODUCT((Eingabe!$C$6:$C$400<=$AF31)*(Eingabe!$D$6:$D$400>$AF31)*(Eingabe!$B$6:$B$400=AM$3)*(Eingabe!$E$6:$E$400))","v":5},{"$f":"SUMPRODUCT((Eingabe!$C$6:$C$400<$AF31)*(Eingabe!$D$6:$D$400>=$AF31)*(Eingabe!$B$6:$B$400=AM$3)*(Eingabe!$E$6:$E$400))","v":5},"2025-05-28","2025-05-28",{"$f":"SUMPRODUCT((Eingabe!$C$6:$C$400<=$AP31)*(Eingabe!$D$6:$D$400>$AP31)*(Eingabe!$B$6:$B$400=AQ$3)*(Eingabe!$E$6:$E$400))","v":0},{"$f":"SUMPRODUCT((Eingabe!$C$6:$C$400<$AP31)*(Eingabe!$D$6:$D$400>=$AP31)*(Eingabe!$B$6:$B$400=AQ$3)*(Eingabe!$E$6:$E$400))","v":0},{"$f":"SUMPRODUCT((Eingabe!$C$6:$C$400<=$AP31)*(Eingabe!$D$6:$D$400>$AP31)*(Eingabe!$B$6:$B$400=AS$3)*(Eingabe!$E$6:$E$400))","v":0},{"$f":"SUMPRODUCT((Eingabe!$C$6:$C$400<$AP31)*(Eingabe!$D$6:$D$400>=$AP31)*(Eingabe!$B$6:$B$400=AS$3)*(Eingabe!$E$6:$E$400))","v":0},{"$f":"SUMPRODUCT((Eingabe!$C$6:$C$400<=$AP31)*(Eingabe!$D$6:$D$400>$AP31)*(Eingabe!$B$6:$B$400=AU$3)*(Eingabe!$E$6:$E$400))","v":0},{"$f":"SUMPRODUCT((Eingabe!$C$6:$C$400<$AP31)*(Eingabe!$D$6:$D$400>=$AP31)*(Eingabe!$B$6:$B$400=AU$3)*(Eingabe!$E$6:$E$400))","v":0},{"$f":"SUMPRODUCT((Eingabe!$C$6:$C$400<=$AP31)*(Eingabe!$D$6:$D$400>$AP31)*(Eingabe!$B$6:$B$400=AW$3)*(Eingabe!$E$6:$E$400))","v":0},{"$f":"SUMPRODUCT((Eingabe!$C$6:$C$400<$AP31)*(Eingabe!$D$6:$D$400>=$AP31)*(Eingabe!$B$6:$B$400=AW$3)*(Eingabe!$E$6:$E$400))","v":0},"2025-06-28","2025-06-28",{"$f":"SUMPRODUCT((Eingabe!$C$6:$C$400<=$AZ31)*(Eingabe!$D$6:$D$400>$AZ31)*(Eingabe!$B$6:$B$400=BA$3)*(Eingabe!$E$6:$E$400))","v":0},{"$f":"SUMPRODUCT((Eingabe!$C$6:$C$400<$AZ31)*(Eingabe!$D$6:$D$400>=$AZ31)*(Eingabe!$B$6:$B$400=BA$3)*(Eingabe!$E$6:$E$400))","v":0},{"$f":"SUMPRODUCT((Eingabe!$C$6:$C$400<=$AZ31)*(Eingabe!$D$6:$D$400>$AZ31)*(Eingabe!$B$6:$B$400=BC$3)*(Eingabe!$E$6:$E$400))","v":0},{"$f":"SUMPRODUCT((Eingabe!$C$6:$C$400<$AZ31)*(Eingabe!$D$6:$D$400>=$AZ31)*(Eingabe!$B$6:$B$400=BC$3)*(Eingabe!$E$6:$E$400))","v":0},{"$f":"SUMPRODUCT((Eingabe!$C$6:$C$400<=$AZ31)*(Eingabe!$D$6:$D$400>$AZ31)*(Eingabe!$B$6:$B$400=BE$3)*(Eingabe!$E$6:$E$400))","v":0},{"$f":"SUMPRODUCT((Eingabe!$C$6:$C$400<$AZ31)*(Eingabe!$D$6:$D$400>=$AZ31)*(Eingabe!$B$6:$B$400=BE$3)*(Eingabe!$E$6:$E$400))","v":0},{"$f":"SUMPRODUCT((Eingabe!$C$6:$C$400<=$AZ31)*(Eingabe!$D$6:$D$400>$AZ31)*(Eingabe!$B$6:$B$400=BG$3)*(Eingabe!$E$6:$E$400))","v":0},{"$f":"SUMPRODUCT((Eingabe!$C$6:$C$400<$AZ31)*(Eingabe!$D$6:$D$400>=$AZ31)*(Eingabe!$B$6:$B$400=BG$3)*(Eingabe!$E$6:$E$400))","v":0},"2025-07-28","2025-07-28",{"$f":"SUMPRODUCT((Eingabe!$C$6:$C$400<=$BJ31)*(Eingabe!$D$6:$D$400>$BJ31)*(Eingabe!$B$6:$B$400=BK$3)*(Eingabe!$E$6:$E$400))","v":6},{"$f":"SUMPRODUCT((Eingabe!$C$6:$C$400<$BJ31)*(Eingabe!$D$6:$D$400>=$BJ31)*(Eingabe!$B$6:$B$400=BK$3)*(Eingabe!$E$6:$E$400))","v":6},{"$f":"SUMPRODUCT((Eingabe!$C$6:$C$400<=$BJ31)*(Eingabe!$D$6:$D$400>$BJ31)*(Eingabe!$B$6:$B$400=BM$3)*(Eingabe!$E$6:$E$400))","v":0},{"$f":"SUMPRODUCT((Eingabe!$C$6:$C$400<$BJ31)*(Eingabe!$D$6:$D$400>=$BJ31)*(Eingabe!$B$6:$B$400=BM$3)*(Eingabe!$E$6:$E$400))","v":0},{"$f":"SUMPRODUCT((Eingabe!$C$6:$C$400<=$BJ31)*(Eingabe!$D$6:$D$400>$BJ31)*(Eingabe!$B$6:$B$400=BO$3)*(Eingabe!$E$6:$E$400))","v":0},{"$f":"SUMPRODUCT((Eingabe!$C$6:$C$400<$BJ31)*(Eingabe!$D$6:$D$400>=$BJ31)*(Eingabe!$B$6:$B$400=BO$3)*(Eingabe!$E$6:$E$400))","v":0},{"$f":"SUMPRODUCT((Eingabe!$C$6:$C$400<=$BJ31)*(Eingabe!$D$6:$D$400>$BJ31)*(Eingabe!$B$6:$B$400=BQ$3)*(Eingabe!$E$6:$E$400))","v":0},{"$f":"SUMPRODUCT((Eingabe!$C$6:$C$400<$BJ31)*(Eingabe!$D$6:$D$400>=$BJ31)*(Eingabe!$B$6:$B$400=BQ$3)*(Eingabe!$E$6:$E$400))","v":0},"2025-08-28","2025-08-28",{"$f":"SUMPRODUCT((Eingabe!$C$6:$C$400<=$BT31)*(Eingabe!$D$6:$D$400>$BT31)*(Eingabe!$B$6:$B$400=BU$3)*(Eingabe!$E$6:$E$400))","v":0},{"$f":"SUMPRODUCT((Eingabe!$C$6:$C$400<$BT31)*(Eingabe!$D$6:$D$400>=$BT31)*(Eingabe!$B$6:$B$400=BU$3)*(Eingabe!$E$6:$E$400))","v":0},{"$f":"SUMPRODUCT((Eingabe!$C$6:$C$400<=$BT31)*(Eingabe!$D$6:$D$400>$BT31)*(Eingabe!$B$6:$B$400=BW$3)*(Eingabe!$E$6:$E$400))","v":0},{"$f":"SUMPRODUCT((Eingabe!$C$6:$C$400<$BT31)*(Eingabe!$D$6:$D$400>=$BT31)*(Eingabe!$B$6:$B$400=BW$3)*(Eingabe!$E$6:$E$400))","v":0},{"$f":"SUMPRODUCT((Eingabe!$C$6:$C$400<=$BT31)*(Eingabe!$D$6:$D$400>$BT31)*(Eingabe!$B$6:$B$400=BY$3)*(Eingabe!$E$6:$E$400))","v":0},{"$f":"SUMPRODUCT((Eingabe!$C$6:$C$400<$BT31)*(Eingabe!$D$6:$D$400>=$BT31)*(Eingabe!$B$6:$B$400=BY$3)*(Eingabe!$E$6:$E$400))","v":0},{"$f":"SUMPRODUCT((Eingabe!$C$6:$C$400<=$BT31)*(Eingabe!$D$6:$D$400>$BT31)*(Eingabe!$B$6:$B$400=CA$3)*(Eingabe!$E$6:$E$400))","v":0},{"$f":"SUMPRODUCT((Eingabe!$C$6:$C$400<$BT31)*(Eingabe!$D$6:$D$400>=$BT31)*(Eingabe!$B$6:$B$400=CA$3)*(Eingabe!$E$6:$E$400))","v":0},"2025-09-28","2025-09-28",{"$f":"SUMPRODUCT((Eingabe!$C$6:$C$400<=$CD31)*(Eingabe!$D$6:$D$400>$CD31)*(Eingabe!$B$6:$B$400=CE$3)*(Eingabe!$E$6:$E$400))","v":7},{"$f":"SUMPRODUCT((Eingabe!$C$6:$C$400<$CD31)*(Eingabe!$D$6:$D$400>=$CD31)*(Eingabe!$B$6:$B$400=CE$3)*(Eingabe!$E$6:$E$400))","v":0},{"$f":"SUMPRODUCT((Eingabe!$C$6:$C$400<=$CD31)*(Eingabe!$D$6:$D$400>$CD31)*(Eingabe!$B$6:$B$400=CG$3)*(Eingabe!$E$6:$E$400))","v":0},{"$f":"SUMPRODUCT((Eingabe!$C$6:$C$400<$CD31)*(Eingabe!$D$6:$D$400>=$CD31)*(Eingabe!$B$6:$B$400=CG$3)*(Eingabe!$E$6:$E$400))","v":0},{"$f":"SUMPRODUCT((Eingabe!$C$6:$C$400<=$CD31)*(Eingabe!$D$6:$D$400>$CD31)*(Eingabe!$B$6:$B$400=CI$3)*(Eingabe!$E$6:$E$400))","v":0},{"$f":"SUMPRODUCT((Eingabe!$C$6:$C$400<$CD31)*(Eingabe!$D$6:$D$400>=$CD31)*(Eingabe!$B$6:$B$400=CI$3)*(Eingabe!$E$6:$E$400))","v":0},{"$f":"SUMPRODUCT((Eingabe!$C$6:$C$400<=$CD31)*(Eingabe!$D$6:$D$400>$CD31)*(Eingabe!$B$6:$B$400=CK$3)*(Eingabe!$E$6:$E$400))","v":0},{"$f":"SUMPRODUCT((Eingabe!$C$6:$C$400<$CD31)*(Eingabe!$D$6:$D$400>=$CD31)*(Eingabe!$B$6:$B$400=CK$3)*(Eingabe!$E$6:$E$400))","v":0},"2025-10-28","2025-10-28",{"$f":"SUMPRODUCT((Eingabe!$C$6:$C$400<=$CN31)*(Eingabe!$D$6:$D$400>$CN31)*(Eingabe!$B$6:$B$400=CO$3)*(Eingabe!$E$6:$E$400))","v":7},{"$f":"SUMPRODUCT((Eingabe!$C$6:$C$400<$CN31)*(Eingabe!$D$6:$D$400>=$CN31)*(Eingabe!$B$6:$B$400=CO$3)*(Eingabe!$E$6:$E$400))","v":7},{"$f":"SUMPRODUCT((Eingabe!$C$6:$C$400<=$CN31)*(Eingabe!$D$6:$D$400>$CN31)*(Eingabe!$B$6:$B$400=CQ$3)*(Eingabe!$E$6:$E$400))","v":0},{"$f":"SUMPRODUCT((Eingabe!$C$6:$C$400<$CN31)*(Eingabe!$D$6:$D$400>=$CN31)*(Eingabe!$B$6:$B$400=CQ$3)*(Eingabe!$E$6:$E$400))","v":0},{"$f":"SUMPRODUCT((Eingabe!$C$6:$C$400<=$CN31)*(Eingabe!$D$6:$D$400>$CN31)*(Eingabe!$B$6:$B$400=CS$3)*(Eingabe!$E$6:$E$400))","v":0},{"$f":"SUMPRODUCT((Eingabe!$C$6:$C$400<$CN31)*(Eingabe!$D$6:$D$400>=$CN31)*(Eingabe!$B$6:$B$400=CS$3)*(Eingabe!$E$6:$E$400))","v":0},{"$f":"SUMPRODUCT((Eingabe!$C$6:$C$400<=$CN31)*(Eingabe!$D$6:$D$400>$CN31)*(Eingabe!$B$6:$B$400=CU$3)*(Eingabe!$E$6:$E$400))","v":0},{"$f":"SUMPRODUCT((Eingabe!$C$6:$C$400<$CN31)*(Eingabe!$D$6:$D$400>=$CN31)*(Eingabe!$B$6:$B$400=CU$3)*(Eingabe!$E$6:$E$400))","v":0},"2025-11-28","2025-11-28",{"$f":"SUMPRODUCT((Eingabe!$C$6:$C$400<=$CX31)*(Eingabe!$D$6:$D$400>$CX31)*(Eingabe!$B$6:$B$400=CY$3)*(Eingabe!$E$6:$E$400))","v":7},{"$f":"SUMPRODUCT((Eingabe!$C$6:$C$400<$CX31)*(Eingabe!$D$6:$D$400>=$CX31)*(Eingabe!$B$6:$B$400=CY$3)*(Eingabe!$E$6:$E$400))","v":7},{"$f":"SUMPRODUCT((Eingabe!$C$6:$C$400<=$CX31)*(Eingabe!$D$6:$D$400>$CX31)*(Eingabe!$B$6:$B$400=DA$3)*(Eingabe!$E$6:$E$400))","v":0},{"$f":"SUMPRODUCT((Eingabe!$C$6:$C$400<$CX31)*(Eingabe!$D$6:$D$400>=$CX31)*(Eingabe!$B$6:$B$400=DA$3)*(Eingabe!$E$6:$E$400))","v":0},{"$f":"SUMPRODUCT((Eingabe!$C$6:$C$400<=$CX31)*(Eingabe!$D$6:$D$400>$CX31)*(Eingabe!$B$6:$B$400=DC$3)*(Eingabe!$E$6:$E$400))","v":0},{"$f":"SUMPRODUCT((Eingabe!$C$6:$C$400<$CX31)*(Eingabe!$D$6:$D$400>=$CX31)*(Eingabe!$B$6:$B$400=DC$3)*(Eingabe!$E$6:$E$400))","v":0},{"$f":"SUMPRODUCT((Eingabe!$C$6:$C$400<=$CX31)*(Eingabe!$D$6:$D$400>$CX31)*(Eingabe!$B$6:$B$400=DE$3)*(Eingabe!$E$6:$E$400))","v":0},{"$f":"SUMPRODUCT((Eingabe!$C$6:$C$400<$CX31)*(Eingabe!$D$6:$D$400>=$CX31)*(Eingabe!$B$6:$B$400=DE$3)*(Eingabe!$E$6:$E$400))","v":0},"2025-12-28","2025-12-28",{"$f":"SUMPRODUCT((Eingabe!$C$6:$C$400<=$DH31)*(Eingabe!$D$6:$D$400>$DH31)*(Eingabe!$B$6:$B$400=DI$3)*(Eingabe!$E$6:$E$400))","v":7},{"$f":"SUMPRODUCT((Eingabe!$C$6:$C$400<$DH31)*(Eingabe!$D$6:$D$400>=$DH31)*(Eingabe!$B$6:$B$400=DI$3)*(Eingabe!$E$6:$E$400))","v":7},{"$f":"SUMPRODUCT((Eingabe!$C$6:$C$400<=$DH31)*(Eingabe!$D$6:$D$400>$DH31)*(Eingabe!$B$6:$B$400=DK$3)*(Eingabe!$E$6:$E$400))","v":6},{"$f":"SUMPRODUCT((Eingabe!$C$6:$C$400<$DH31)*(Eingabe!$D$6:$D$400>=$DH31)*(Eingabe!$B$6:$B$400=DK$3)*(Eingabe!$E$6:$E$400))","v":6},{"$f":"SUMPRODUCT((Eingabe!$C$6:$C$400<=$DH31)*(Eingabe!$D$6:$D$400>$DH31)*(Eingabe!$B$6:$B$400=DM$3)*(Eingabe!$E$6:$E$400))","v":0},{"$f":"SUMPRODUCT((Eingabe!$C$6:$C$400<$DH31)*(Eingabe!$D$6:$D$400>=$DH31)*(Eingabe!$B$6:$B$400=DM$3)*(Eingabe!$E$6:$E$400))","v":0},{"$f":"SUMPRODUCT((Eingabe!$C$6:$C$400<=$DH31)*(Eingabe!$D$6:$D$400>$DH31)*(Eingabe!$B$6:$B$400=DO$3)*(Eingabe!$E$6:$E$400))","v":0},{"$f":"SUMPRODUCT((Eingabe!$C$6:$C$400<$DH31)*(Eingabe!$D$6:$D$400>=$DH31)*(Eingabe!$B$6:$B$400=DO$3)*(Eingabe!$E$6:$E$400))","v":0},"2026-01-28","2026-01-28",{"$f":"SUMPRODUCT((Eingabe!$C$6:$C$400<=$B31)*(Eingabe!$D$6:$D$400>$B31)*(Eingabe!$B$6:$B$400=DS$3)*(Eingabe!$E$6:$E$400))","v":0},{"$f":"SUMPRODUCT((Eingabe!$C$6:$C$400<$B31)*(Eingabe!$D$6:$D$400>=$B31)*(Eingabe!$B$6:$B$400=DS$3)*(Eingabe!$E$6:$E$400))","v":0},{"$f":"SUMPRODUCT((Eingabe!$C$6:$C$400<=$B31)*(Eingabe!$D$6:$D$400>$B31)*(Eingabe!$B$6:$B$400=DU$3)*(Eingabe!$E$6:$E$400))","v":0},{"$f":"SUMPRODUCT((Eingabe!$C$6:$C$400<$B31)*(Eingabe!$D$6:$D$400>=$B31)*(Eingabe!$B$6:$B$400=DU$3)*(Eingabe!$E$6:$E$400))","v":0},{"$f":"SUMPRODUCT((Eingabe!$C$6:$C$400<=$B31)*(Eingabe!$D$6:$D$400>$B31)*(Eingabe!$B$6:$B$400=DW$3)*(Eingabe!$E$6:$E$400))","v":0},{"$f":"SUMPRODUCT((Eingabe!$C$6:$C$400<$B31)*(Eingabe!$D$6:$D$400>=$B31)*(Eingabe!$B$6:$B$400=DW$3)*(Eingabe!$E$6:$E$400))","v":0},{"$f":"SUMPRODUCT((Eingabe!$C$6:$C$400<=$B31)*(Eingabe!$D$6:$D$400>$B31)*(Eingabe!$B$6:$B$400=DY$3)*(Eingabe!$E$6:$E$400))","v":0},{"$f":"SUMPRODUCT((Eingabe!$C$6:$C$400<$B31)*(Eingabe!$D$6:$D$400>=$B31)*(Eingabe!$B$6:$B$400=DY$3)*(Eingabe!$E$6:$E$400))","v":0},"2026-02-28","2026-02-28",{"$f":"SUMPRODUCT((Eingabe!$C$6:$C$400<=$L31)*(Eingabe!$D$6:$D$400>$L31)*(Eingabe!$B$6:$B$400=EC$3)*(Eingabe!$E$6:$E$400))","v":0},{"$f":"SUMPRODUCT((Eingabe!$C$6:$C$400<$L31)*(Eingabe!$D$6:$D$400>=$L31)*(Eingabe!$B$6:$B$400=EC$3)*(Eingabe!$E$6:$E$400))","v":0},{"$f":"SUMPRODUCT((Eingabe!$C$6:$C$400<=$L31)*(Eingabe!$D$6:$D$400>$L31)*(Eingabe!$B$6:$B$400=EE$3)*(Eingabe!$E$6:$E$400))","v":0},{"$f":"SUMPRODUCT((Eingabe!$C$6:$C$400<$L31)*(Eingabe!$D$6:$D$400>=$L31)*(Eingabe!$B$6:$B$400=EE$3)*(Eingabe!$E$6:$E$400))","v":0},{"$f":"SUMPRODUCT((Eingabe!$C$6:$C$400<=$L31)*(Eingabe!$D$6:$D$400>$L31)*(Eingabe!$B$6:$B$400=EG$3)*(Eingabe!$E$6:$E$400))","v":0},{"$f":"SUMPRODUCT((Eingabe!$C$6:$C$400<$L31)*(Eingabe!$D$6:$D$400>=$L31)*(Eingabe!$B$6:$B$400=EG$3)*(Eingabe!$E$6:$E$400))","v":0},{"$f":"SUMPRODUCT((Eingabe!$C$6:$C$400<=$L31)*(Eingabe!$D$6:$D$400>$L31)*(Eingabe!$B$6:$B$400=EI$3)*(Eingabe!$E$6:$E$400))","v":0},{"$f":"SUMPRODUCT((Eingabe!$C$6:$C$400<$L31)*(Eingabe!$D$6:$D$400>=$L31)*(Eingabe!$B$6:$B$400=EI$3)*(Eingabe!$E$6:$E$400))","v":0},"2026-03-28","2026-03-28",{"$f":"SUMPRODUCT((Eingabe!$C$6:$C$400<=$V31)*(Eingabe!$D$6:$D$400>$V31)*(Eingabe!$B$6:$B$400=EM$3)*(Eingabe!$E$6:$E$400))","v":0},{"$f":"SUMPRODUCT((Eingabe!$C$6:$C$400<$V31)*(Eingabe!$D$6:$D$400>=$V31)*(Eingabe!$B$6:$B$400=EM$3)*(Eingabe!$E$6:$E$400))","v":0},{"$f":"SUMPRODUCT((Eingabe!$C$6:$C$400<=$V31)*(Eingabe!$D$6:$D$400>$V31)*(Eingabe!$B$6:$B$400=EO$3)*(Eingabe!$E$6:$E$400))","v":0},{"$f":"SUMPRODUCT((Eingabe!$C$6:$C$400<$V31)*(Eingabe!$D$6:$D$400>=$V31)*(Eingabe!$B$6:$B$400=EO$3)*(Eingabe!$E$6:$E$400))","v":0},{"$f":"SUMPRODUCT((Eingabe!$C$6:$C$400<=$V31)*(Eingabe!$D$6:$D$400>$V31)*(Eingabe!$B$6:$B$400=EQ$3)*(Eingabe!$E$6:$E$400))","v":0},{"$f":"SUMPRODUCT((Eingabe!$C$6:$C$400<$V31)*(Eingabe!$D$6:$D$400>=$V31)*(Eingabe!$B$6:$B$400=EQ$3)*(Eingabe!$E$6:$E$400))","v":0},{"$f":"SUMPRODUCT((Eingabe!$C$6:$C$400<=$V31)*(Eingabe!$D$6:$D$400>$V31)*(Eingabe!$B$6:$B$400=ES$3)*(Eingabe!$E$6:$E$400))","v":0},{"$f":"SUMPRODUCT((Eingabe!$C$6:$C$400<$V31)*(Eingabe!$D$6:$D$400>=$V31)*(Eingabe!$B$6:$B$400=ES$3)*(Eingabe!$E$6:$E$400))","v":0},"2026-04-28","2026-04-28",{"$f":"SUMPRODUCT((Eingabe!$C$6:$C$400<=$AF31)*(Eingabe!$D$6:$D$400>$AF31)*(Eingabe!$B$6:$B$400=EW$3)*(Eingabe!$E$6:$E$400))","v":5},{"$f":"SUMPRODUCT((Eingabe!$C$6:$C$400<$AF31)*(Eingabe!$D$6:$D$400>=$AF31)*(Eingabe!$B$6:$B$400=EW$3)*(Eingabe!$E$6:$E$400))","v":5},{"$f":"SUMPRODUCT((Eingabe!$C$6:$C$400<=$AF31)*(Eingabe!$D$6:$D$400>$AF31)*(Eingabe!$B$6:$B$400=EY$3)*(Eingabe!$E$6:$E$400))","v":5},{"$f":"SUMPRODUCT((Eingabe!$C$6:$C$400<$AF31)*(Eingabe!$D$6:$D$400>=$AF31)*(Eingabe!$B$6:$B$400=EY$3)*(Eingabe!$E$6:$E$400))","v":5},{"$f":"SUMPRODUCT((Eingabe!$C$6:$C$400<=$AF31)*(Eingabe!$D$6:$D$400>$AF31)*(Eingabe!$B$6:$B$400=FA$3)*(Eingabe!$E$6:$E$400))","v":0},{"$f":"SUMPRODUCT((Eingabe!$C$6:$C$400<$AF31)*(Eingabe!$D$6:$D$400>=$AF31)*(Eingabe!$B$6:$B$400=FA$3)*(Eingabe!$E$6:$E$400))","v":0},{"$f":"SUMPRODUCT((Eingabe!$C$6:$C$400<=$AF31)*(Eingabe!$D$6:$D$400>$AF31)*(Eingabe!$B$6:$B$400=FC$3)*(Eingabe!$E$6:$E$400))","v":5},{"$f":"SUMPRODUCT((Eingabe!$C$6:$C$400<$AF31)*(Eingabe!$D$6:$D$400>=$AF31)*(Eingabe!$B$6:$B$400=FC$3)*(Eingabe!$E$6:$E$400))","v":5},"2026-05-28","2026-05-28",{"$f":"SUMPRODUCT((Eingabe!$C$6:$C$400<=$AP31)*(Eingabe!$D$6:$D$400>$AP31)*(Eingabe!$B$6:$B$400=FG$3)*(Eingabe!$E$6:$E$400))","v":0},{"$f":"SUMPRODUCT((Eingabe!$C$6:$C$400<$AP31)*(Eingabe!$D$6:$D$400>=$AP31)*(Eingabe!$B$6:$B$400=FG$3)*(Eingabe!$E$6:$E$400))","v":0},{"$f":"SUMPRODUCT((Eingabe!$C$6:$C$400<=$AP31)*(Eingabe!$D$6:$D$400>$AP31)*(Eingabe!$B$6:$B$400=FI$3)*(Eingabe!$E$6:$E$400))","v":0},{"$f":"SUMPRODUCT((Eingabe!$C$6:$C$400<$AP31)*(Eingabe!$D$6:$D$400>=$AP31)*(Eingabe!$B$6:$B$400=FI$3)*(Eingabe!$E$6:$E$400))","v":0},{"$f":"SUMPRODUCT((Eingabe!$C$6:$C$400<=$AP31)*(Eingabe!$D$6:$D$400>$AP31)*(Eingabe!$B$6:$B$400=FK$3)*(Eingabe!$E$6:$E$400))","v":0},{"$f":"SUMPRODUCT((Eingabe!$C$6:$C$400<$AP31)*(Eingabe!$D$6:$D$400>=$AP31)*(Eingabe!$B$6:$B$400=FK$3)*(Eingabe!$E$6:$E$400))","v":0},{"$f":"SUMPRODUCT((Eingabe!$C$6:$C$400<=$AP31)*(Eingabe!$D$6:$D$400>$AP31)*(Eingabe!$B$6:$B$400=FM$3)*(Eingabe!$E$6:$E$400))","v":0},{"$f":"SUMPRODUCT((Eingabe!$C$6:$C$400<$AP31)*(Eingabe!$D$6:$D$400>=$AP31)*(Eingabe!$B$6:$B$400=FM$3)*(Eingabe!$E$6:$E$400))","v":0},"2026-06-28","2026-06-28",{"$f":"SUMPRODUCT((Eingabe!$C$6:$C$400<=$AZ31)*(Eingabe!$D$6:$D$400>$AZ31)*(Eingabe!$B$6:$B$400=FQ$3)*(Eingabe!$E$6:$E$400))","v":0},{"$f":"SUMPRODUCT((Eingabe!$C$6:$C$400<$AZ31)*(Eingabe!$D$6:$D$400>=$AZ31)*(Eingabe!$B$6:$B$400=FQ$3)*(Eingabe!$E$6:$E$400))","v":0},{"$f":"SUMPRODUCT((Eingabe!$C$6:$C$400<=$AZ31)*(Eingabe!$D$6:$D$400>$AZ31)*(Eingabe!$B$6:$B$400=FS$3)*(Eingabe!$E$6:$E$400))","v":0},{"$f":"SUMPRODUCT((Eingabe!$C$6:$C$400<$AZ31)*(Eingabe!$D$6:$D$400>=$AZ31)*(Eingabe!$B$6:$B$400=FS$3)*(Eingabe!$E$6:$E$400))","v":0},{"$f":"SUMPRODUCT((Eingabe!$C$6:$C$400<=$AZ31)*(Eingabe!$D$6:$D$400>$AZ31)*(Eingabe!$B$6:$B$400=FU$3)*(Eingabe!$E$6:$E$400))","v":0},{"$f":"SUMPRODUCT((Eingabe!$C$6:$C$400<$AZ31)*(Eingabe!$D$6:$D$400>=$AZ31)*(Eingabe!$B$6:$B$400=FU$3)*(Eingabe!$E$6:$E$400))","v":0},{"$f":"SUMPRODUCT((Eingabe!$C$6:$C$400<=$AZ31)*(Eingabe!$D$6:$D$400>$AZ31)*(Eingabe!$B$6:$B$400=FW$3)*(Eingabe!$E$6:$E$400))","v":0},{"$f":"SUMPRODUCT((Eingabe!$C$6:$C$400<$AZ31)*(Eingabe!$D$6:$D$400>=$AZ31)*(Eingabe!$B$6:$B$400=FW$3)*(Eingabe!$E$6:$E$400))","v":0},"2026-07-28","2026-07-28",{"$f":"SUMPRODUCT((Eingabe!$C$6:$C$400<=$BJ31)*(Eingabe!$D$6:$D$400>$BJ31)*(Eingabe!$B$6:$B$400=GA$3)*(Eingabe!$E$6:$E$400))","v":6},{"$f":"SUMPRODUCT((Eingabe!$C$6:$C$400<$BJ31)*(Eingabe!$D$6:$D$400>=$BJ31)*(Eingabe!$B$6:$B$400=GA$3)*(Eingabe!$E$6:$E$400))","v":6},{"$f":"SUMPRODUCT((Eingabe!$C$6:$C$400<=$BJ31)*(Eingabe!$D$6:$D$400>$BJ31)*(Eingabe!$B$6:$B$400=GC$3)*(Eingabe!$E$6:$E$400))","v":0},{"$f":"SUMPRODUCT((Eingabe!$C$6:$C$400<$BJ31)*(Eingabe!$D$6:$D$400>=$BJ31)*(Eingabe!$B$6:$B$400=GC$3)*(Eingabe!$E$6:$E$400))","v":0},{"$f":"SUMPRODUCT((Eingabe!$C$6:$C$400<=$BJ31)*(Eingabe!$D$6:$D$400>$BJ31)*(Eingabe!$B$6:$B$400=GE$3)*(Eingabe!$E$6:$E$400))","v":0},{"$f":"SUMPRODUCT((Eingabe!$C$6:$C$400<$BJ31)*(Eingabe!$D$6:$D$400>=$BJ31)*(Eingabe!$B$6:$B$400=GE$3)*(Eingabe!$E$6:$E$400))","v":0},{"$f":"SUMPRODUCT((Eingabe!$C$6:$C$400<=$BJ31)*(Eingabe!$D$6:$D$400>$BJ31)*(Eingabe!$B$6:$B$400=GG$3)*(Eingabe!$E$6:$E$400))","v":0},{"$f":"SUMPRODUCT((Eingabe!$C$6:$C$400<$BJ31)*(Eingabe!$D$6:$D$400>=$BJ31)*(Eingabe!$B$6:$B$400=GG$3)*(Eingabe!$E$6:$E$400))","v":0},"2026-08-28","2026-08-28",{"$f":"SUMPRODUCT((Eingabe!$C$6:$C$400<=$BT31)*(Eingabe!$D$6:$D$400>$BT31)*(Eingabe!$B$6:$B$400=GK$3)*(Eingabe!$E$6:$E$400))","v":0},{"$f":"SUMPRODUCT((Eingabe!$C$6:$C$400<$BT31)*(Eingabe!$D$6:$D$400>=$BT31)*(Eingabe!$B$6:$B$400=GK$3)*(Eingabe!$E$6:$E$400))","v":0},{"$f":"SUMPRODUCT((Eingabe!$C$6:$C$400<=$BT31)*(Eingabe!$D$6:$D$400>$BT31)*(Eingabe!$B$6:$B$400=GM$3)*(Eingabe!$E$6:$E$400))","v":0},{"$f":"SUMPRODUCT((Eingabe!$C$6:$C$400<$BT31)*(Eingabe!$D$6:$D$400>=$BT31)*(Eingabe!$B$6:$B$400=GM$3)*(Eingabe!$E$6:$E$400))","v":0},{"$f":"SUMPRODUCT((Eingabe!$C$6:$C$400<=$BT31)*(Eingabe!$D$6:$D$400>$BT31)*(Eingabe!$B$6:$B$400=GO$3)*(Eingabe!$E$6:$E$400))","v":0},{"$f":"SUMPRODUCT((Eingabe!$C$6:$C$400<$BT31)*(Eingabe!$D$6:$D$400>=$BT31)*(Eingabe!$B$6:$B$400=GO$3)*(Eingabe!$E$6:$E$400))","v":0},{"$f":"SUMPRODUCT((Eingabe!$C$6:$C$400<=$BT31)*(Eingabe!$D$6:$D$400>$BT31)*(Eingabe!$B$6:$B$400=GQ$3)*(Eingabe!$E$6:$E$400))","v":0},{"$f":"SUMPRODUCT((Eingabe!$C$6:$C$400<$BT31)*(Eingabe!$D$6:$D$400>=$BT31)*(Eingabe!$B$6:$B$400=GQ$3)*(Eingabe!$E$6:$E$400))","v":0},"2026-09-28","2026-09-28",{"$f":"SUMPRODUCT((Eingabe!$C$6:$C$400<=$CD31)*(Eingabe!$D$6:$D$400>$CD31)*(Eingabe!$B$6:$B$400=GU$3)*(Eingabe!$E$6:$E$400))","v":7},{"$f":"SUMPRODUCT((Eingabe!$C$6:$C$400<$CD31)*(Eingabe!$D$6:$D$400>=$CD31)*(Eingabe!$B$6:$B$400=GU$3)*(Eingabe!$E$6:$E$400))","v":0},{"$f":"SUMPRODUCT((Eingabe!$C$6:$C$400<=$CD31)*(Eingabe!$D$6:$D$400>$CD31)*(Eingabe!$B$6:$B$400=GW$3)*(Eingabe!$E$6:$E$400))","v":0},{"$f":"SUMPRODUCT((Eingabe!$C$6:$C$400<$CD31)*(Eingabe!$D$6:$D$400>=$CD31)*(Eingabe!$B$6:$B$400=GW$3)*(Eingabe!$E$6:$E$400))","v":0},{"$f":"SUMPRODUCT((Eingabe!$C$6:$C$400<=$CD31)*(Eingabe!$D$6:$D$400>$CD31)*(Eingabe!$B$6:$B$400=GY$3)*(Eingabe!$E$6:$E$400))","v":0},{"$f":"SUMPRODUCT((Eingabe!$C$6:$C$400<$CD31)*(Eingabe!$D$6:$D$400>=$CD31)*(Eingabe!$B$6:$B$400=GY$3)*(Eingabe!$E$6:$E$400))","v":0},{"$f":"SUMPRODUCT((Eingabe!$C$6:$C$400<=$CD31)*(Eingabe!$D$6:$D$400>$CD31)*(Eingabe!$B$6:$B$400=HA$3)*(Eingabe!$E$6:$E$400))","v":0},{"$f":"SUMPRODUCT((Eingabe!$C$6:$C$400<$CD31)*(Eingabe!$D$6:$D$400>=$CD31)*(Eingabe!$B$6:$B$400=HA$3)*(Eingabe!$E$6:$E$400))","v":0},"2026-10-28","2026-10-28",{"$f":"SUMPRODUCT((Eingabe!$C$6:$C$400<=$CN31)*(Eingabe!$D$6:$D$400>$CN31)*(Eingabe!$B$6:$B$400=HE$3)*(Eingabe!$E$6:$E$400))","v":7},{"$f":"SUMPRODUCT((Eingabe!$C$6:$C$400<$CN31)*(Eingabe!$D$6:$D$400>=$CN31)*(Eingabe!$B$6:$B$400=HE$3)*(Eingabe!$E$6:$E$400))","v":7},{"$f":"SUMPRODUCT((Eingabe!$C$6:$C$400<=$CN31)*(Eingabe!$D$6:$D$400>$CN31)*(Eingabe!$B$6:$B$400=HG$3)*(Eingabe!$E$6:$E$400))","v":0},{"$f":"SUMPRODUCT((Eingabe!$C$6:$C$400<$CN31)*(Eingabe!$D$6:$D$400>=$CN31)*(Eingabe!$B$6:$B$400=HG$3)*(Eingabe!$E$6:$E$400))","v":0},{"$f":"SUMPRODUCT((Eingabe!$C$6:$C$400<=$CN31)*(Eingabe!$D$6:$D$400>$CN31)*(Eingabe!$B$6:$B$400=HI$3)*(Eingabe!$E$6:$E$400))","v":0},{"$f":"SUMPRODUCT((Eingabe!$C$6:$C$400<$CN31)*(Eingabe!$D$6:$D$400>=$CN31)*(Eingabe!$B$6:$B$400=HI$3)*(Eingabe!$E$6:$E$400))","v":0},{"$f":"SUMPRODUCT((Eingabe!$C$6:$C$400<=$CN31)*(Eingabe!$D$6:$D$400>$CN31)*(Eingabe!$B$6:$B$400=HK$3)*(Eingabe!$E$6:$E$400))","v":0},{"$f":"SUMPRODUCT((Eingabe!$C$6:$C$400<$CN31)*(Eingabe!$D$6:$D$400>=$CN31)*(Eingabe!$B$6:$B$400=HK$3)*(Eingabe!$E$6:$E$400))","v":0},"2026-11-28","2026-11-28",{"$f":"SUMPRODUCT((Eingabe!$C$6:$C$400<=$CX31)*(Eingabe!$D$6:$D$400>$CX31)*(Eingabe!$B$6:$B$400=HO$3)*(Eingabe!$E$6:$E$400))","v":7},{"$f":"SUMPRODUCT((Eingabe!$C$6:$C$400<$CX31)*(Eingabe!$D$6:$D$400>=$CX31)*(Eingabe!$B$6:$B$400=HO$3)*(Eingabe!$E$6:$E$400))","v":7},{"$f":"SUMPRODUCT((Eingabe!$C$6:$C$400<=$CX31)*(Eingabe!$D$6:$D$400>$CX31)*(Eingabe!$B$6:$B$400=HQ$3)*(Eingabe!$E$6:$E$400))","v":0},{"$f":"SUMPRODUCT((Eingabe!$C$6:$C$400<$CX31)*(Eingabe!$D$6:$D$400>=$CX31)*(Eingabe!$B$6:$B$400=HQ$3)*(Eingabe!$E$6:$E$400))","v":0},{"$f":"SUMPRODUCT((Eingabe!$C$6:$C$400<=$CX31)*(Eingabe!$D$6:$D$400>$CX31)*(Eingabe!$B$6:$B$400=HS$3)*(Eingabe!$E$6:$E$400))","v":0},{"$f":"SUMPRODUCT((Eingabe!$C$6:$C$400<$CX31)*(Eingabe!$D$6:$D$400>=$CX31)*(Eingabe!$B$6:$B$400=HS$3)*(Eingabe!$E$6:$E$400))","v":0},{"$f":"SUMPRODUCT((Eingabe!$C$6:$C$400<=$CX31)*(Eingabe!$D$6:$D$400>$CX31)*(Eingabe!$B$6:$B$400=HU$3)*(Eingabe!$E$6:$E$400))","v":0},{"$f":"SUMPRODUCT((Eingabe!$C$6:$C$400<$CX31)*(Eingabe!$D$6:$D$400>=$CX31)*(Eingabe!$B$6:$B$400=HU$3)*(Eingabe!$E$6:$E$400))","v":0},"2026-12-28","2026-12-28",{"$f":"SUMPRODUCT((Eingabe!$C$6:$C$400<=$DH31)*(Eingabe!$D$6:$D$400>$DH31)*(Eingabe!$B$6:$B$400=HY$3)*(Eingabe!$E$6:$E$400))","v":7},{"$f":"SUMPRODUCT((Eingabe!$C$6:$C$400<$DH31)*(Eingabe!$D$6:$D$400>=$DH31)*(Eingabe!$B$6:$B$400=HY$3)*(Eingabe!$E$6:$E$400))","v":7},{"$f":"SUMPRODUCT((Eingabe!$C$6:$C$400<=$DH31)*(Eingabe!$D$6:$D$400>$DH31)*(Eingabe!$B$6:$B$400=IA$3)*(Eingabe!$E$6:$E$400))","v":6},{"$f":"SUMPRODUCT((Eingabe!$C$6:$C$400<$DH31)*(Eingabe!$D$6:$D$400>=$DH31)*(Eingabe!$B$6:$B$400=IA$3)*(Eingabe!$E$6:$E$400))","v":6},{"$f":"SUMPRODUCT((Eingabe!$C$6:$C$400<=$DH31)*(Eingabe!$D$6:$D$400>$DH31)*(Eingabe!$B$6:$B$400=IC$3)*(Eingabe!$E$6:$E$400))","v":0},{"$f":"SUMPRODUCT((Eingabe!$C$6:$C$400<$DH31)*(Eingabe!$D$6:$D$400>=$DH31)*(Eingabe!$B$6:$B$400=IC$3)*(Eingabe!$E$6:$E$400))","v":0},{"$f":"SUMPRODUCT((Eingabe!$C$6:$C$400<=$DH31)*(Eingabe!$D$6:$D$400>$DH31)*(Eingabe!$B$6:$B$400=IE$3)*(Eingabe!$E$6:$E$400))","v":0},{"$f":"SUMPRODUCT((Eingabe!$C$6:$C$400<$DH31)*(Eingabe!$D$6:$D$400>=$DH31)*(Eingabe!$B$6:$B$400=IE$3)*(Eingabe!$E$6:$E$400))","v":0}]
["2025-01-29","2025-01-29",{"$f":"SUMPRODUCT((Eingabe!$C$6:$C$400<=$B32)*(Eingabe!$D$6:$D$400>$B32)*(Eingabe!$B$6:$B$400=C$3)*(Eingabe!$E$6:$E$400))","v":0},{"$f":"SUMPRODUCT((Eingabe!$C$6:$C$400<$B32)*(Eingabe!$D$6:$D$400>=$B32)*(Eingabe!$B$6:$B$400=C$3)*(Eingabe!$E$6:$E$400))","v":0},{"$f":"SUMPRODUCT((Eingabe!$C$6:$C$400<=$B32)*(Eingabe!$D$6:$D$400>$B32)*(Eingabe!$B$6:$B$400=E$3)*(Eingabe!$E$6:$E$400))","v":0},{"$f":"SUMPRODUCT((Eingabe!$C$6:$C$400<$B32)*(Eingabe!$D$6:$D$400>=$B32)*(Eingabe!$B$6:$B$400=E$3)*(Eingabe!$E$6:$E$400))","v":0},{"$f":"SUMPRODUCT((Eingabe!$C$6:$C$400<=$B32)*(Eingabe!$D$6:$D$400>$B32)*(Eingabe!$B$6:$B$400=G$3)*(Eingabe!$E$6:$E$400))","v":0},{"$f":"SUMPRODUCT((Eingabe!$C$6:$C$400<$B32)*(Eingabe!$D$6:$D$400>=$B32)*(Eingabe!$B$6:$B$400=G$3)*(Eingabe!$E$6:$E$400))","v":0},{"$f":"SUMPRODUCT((Eingabe!$C$6:$C$400<=$B32)*(Eingabe!$D$6:$D$400>$B32)*(Eingabe!$B$6:$B$400=I$3)*(Eingabe!$E$6:$E$400))","v":0},{"$f":"SUMPRODUCT((Eingabe!$C$6:$C$400<$B32)*(Eingabe!$D$6:$D$400>=$B32)*(Eingabe!$B$6:$B$400=I$3)*(Eingabe!$E$6:$E$400))","v":0},"","",{"$f":"SUMPRODUCT((Eingabe!$C$6:$C$400<=$L32)*(Eingabe!$D$6:$D$400>$L32)*(Eingabe!$B$6:$B$400=M$3)*(Eingabe!$E$6:$E$400))","v":0},{"$f":"SUMPRODUCT((Eingabe!$C$6:$C$400<$L32)*(Eingabe!$D$6:$D$400>=$L32)*(Eingabe!$B$6:$B$400=M$3)*(Eingabe!$E$6:$E$400))","v":0},{"$f":"SUMPRODUCT((Eingabe!$C$6:$C$400<=$L32)*(Eingabe!$D$6:$D$400>$L32)*(Eingabe!$B$6:$B$400=O$3)*(Eingabe!$E$6:$E$400))","v":0},{"$f":"SUMPRODUCT((Eingabe!$C$6:$C$400<$L32)*(Eingabe!$D$6:$D$400>=$L32)*(Eingabe!$B$6:$B$400=O$3)*(Eingabe!$E$6:$E$400))","v":0},{"$f":"SUMPRODUCT((Eingabe!$C$6:$C$400<=$L32)*(Eingabe!$D$6:$D$400>$L32)*(Eingabe!$B$6:$B$400=Q$3)*(Eingabe!$E$6:$E$400))","v":0},{"$f":"SUMPRODUCT((Eingabe!$C$6:$C$400<$L32)*(Eingabe!$D$6:$D$400>=$L32)*(Eingabe!$B$6:$B$400=Q$3)*(Eingabe!$E$6:$E$400))","v":0},{"$f":"SUMPRODUCT((Eingabe!$C$6:$C$400<=$L32)*(Eingabe!$D$6:$D$400>$L32)*(Eingabe!$B$6:$B$400=S$3)*(Eingabe!$E$6:$E$400))","v":0},{"$f":"SUMPRODUCT((Eingabe!$C$6:$C$400<$L32)*(Eingabe!$D$6:$D$400>=$L32)*(Eingabe!$B$6:$B$400=S$3)*(Eingabe!$E$6:$E$400))","v":0},"2025-03-29","2025-03-29",{"$f":"SUMPRODUCT((Eingabe!$C$6:$C$400<=$V32)*(Eingabe!$D$6:$D$400>$V32)*(Eingabe!$B$6:$B$400=W$3)*(Eingabe!$E$6:$E$400))","v":0},{"$f":"SUMPRODUCT((Eingabe!$C$6:$C$400<$V32)*(Eingabe!$D$6:$D$400>=$V32)*(Eingabe!$B$6:$B$400=W$3)*(Eingabe!$E$6:$E$400))","v":0},{"$f":"SUMPRODUCT((Eingabe!$C$6:$C$400<=$V32)*(Eingabe!$D$6:$D$400>$V32)*(Eingabe!$B$6:$B$400=Y$3)*(Eingabe!$E$6:$E$400))","v":0},{"$f":"SUMPRODUCT((Eingabe!$C$6:$C$400<$V32)*(Eingabe!$D$6:$D$400>=$V32)*(Eingabe!$B$6:$B$400=Y$3)*(Eingabe!$E$6:$E$400))","v":0},{"$f":"SUMPRODUCT((Eingabe!$C$6:$C$400<=$V32)*(Eingabe!$D$6:$D$400>$V32)*(Eingabe!$B$6:$B$400=AA$3)*(Eingabe!$E$6:$E$400))","v":0},{"$f":"SUMPRODUCT((Eingabe!$C$6:$C$400<$V32)*(Eingabe!$D$6:$D$400>=$V32)*(Eingabe!$B$6:$B$400=AA$3)*(Eingabe!$E$6:$E$400))","v":0},{"$f":"SUMPRODUCT((Eingabe!$C$6:$C$400<=$V32)*(Eingabe!$D$6:$D$400>$V32)*(Eingabe!$B$6:$B$400=AC$3)*(Eingabe!$E$6:$E$400))","v":0},{"$f":"SUMPRODUCT((Eingabe!$C$6:$C$400<$V32)*(Eingabe!$D$6:$D$400>=$V32)*(Eingabe!$B$6:$B$400=AC$3)*(Eingabe!$E$6:$E$400))","v":0},"2025-04-29","2025-04-29",{"$f":"SUMPRODUCT((Eingabe!$C$6:$C$400<=$AF32)*(Eingabe!$D$6:$D$400>$AF32)*(Eingabe!$B$6:$B$400=AG$3)*(Eingabe!$E$6:$E$400))","v":5},{"$f":"SUMPRODUCT((Eingabe!$C$6:$C$400<$AF32)*(Eingabe!$D$6:$D$400>=$AF32)*(Eingabe!$B$6:$B$400=AG$3)*(Eingabe!$E$6:$E$400))","v":5},{"$f":"SUMPRODUCT((Eingabe!$C$6:$C$400<=$AF32)*(Eingabe!$D$6:$D$400>$AF32)*(Eingabe!$B$6:$B$400=AI$3)*(Eingabe!$E$6:$E$400))","v":5},{"$f":"SUMPRODUCT((Eingabe!$C$6:$C$400<$AF32)*(Eingabe!$D$6:$D$400>=$AF32)*(Eingabe!$B$6:$B$400=AI$3)*(Eingabe!$E$6:$E$400))","v":5},{"$f":"SUMPRODUCT((Eingabe!$C$6:$C$400<=$AF32)*(Eingabe!$D$6:$D$400>$AF32)*(Eingabe!$B$6:$B$400=AK$3)*(Eingabe!$E$6:$E$400))","v":0},{"$f":"SUMPRODUCT((Eingabe!$C$6:$C$400<$AF32)*(Eingabe!$D$6:$D$400>=$AF32)*(Eingabe!$B$6:$B$400=AK$3)*(Eingabe!$E$6:$E$400))","v":0},{"$f":"SUMPRODUCT((Eingabe!$C$6:$C$400<=$AF32)*(Eingabe!$D$6:$D$400>$AF32)*(Eingabe!$B$6:$B$400=AM$3)*(Eingabe!$E$6:$E$400))","v":5},{"$f":"SUMPRODUCT((Eingabe!$C$6:$C$400<$AF32)*(Eingabe!$D$6:$D$400>=$AF32)*(Eingabe!$B$6:$B$400=AM$3)*(Eingabe!$E$6:$E$400))","v":5},"2025-05-29","2025-05-29",{"$f":"SUMPRODUCT((Eingabe!$C$6:$C$400<=$AP32)*(Eingabe!$D$6:$D$400>$AP32)*(Eingabe!$B$6:$B$400=AQ$3)*(Eingabe!$E$6:$E$400))","v":0},{"$f":"SUMPRODUCT((Eingabe!$C$6:$C$400<$AP32)*(Eingabe!$D$6:$D$400>=$AP32)*(Eingabe!$B$6:$B$400=AQ$3)*(Eingabe!$E$6:$E$400))","v":0},{"$f":"SUMPRODUCT((Eingabe!$C$6:$C$400<=$AP32)*(Eingabe!$D$6:$D$400>$AP32)*(Eingabe!$B$6:$B$400=AS$3)*(Eingabe!$E$6:$E$400))","v":0},{"$f":"SUMPRODUCT((Eingabe!$C$6:$C$400<$AP32)*(Eingabe!$D$6:$D$400>=$AP32)*(Eingabe!$B$6:$B$400=AS$3)*(Eingabe!$E$6:$E$400))","v":0},{"$f":"SUMPRODUCT((Eingabe!$C$6:$C$400<=$AP32)*(Eingabe!$D$6:$D$400>$AP32)*(Eingabe!$B$6:$B$400=AU$3)*(Eingabe!$E$6:$E$400))","v":0},{"$f":"SUMPRODUCT((Eingabe!$C$6:$C$400<$AP32)*(Eingabe!$D$6:$D$400>=$AP32)*(Eingabe!$B$6:$B$400=AU$3)*(Eingabe!$E$6:$E$400))","v":0},{"$f":"SUMPRODUCT((Eingabe!$C$6:$C$400<=$AP32)*(Eingabe!$D$6:$D$400>$AP32)*(Eingabe!$B$6:$B$400=AW$3)*(Eingabe!$E$6:$E$400))","v":0},{"$f":"SUMPRODUCT((Eingabe!$C$6:$C$400<$AP32)*(Eingabe!$D$6:$D$400>=$AP32)*(Eingabe!$B$6:$B$400=AW$3)*(Eingabe!$E$6:$E$400))","v":0},"2025-06-29","2025-06-29",{"$f":"SUMPRODUCT((Eingabe!$C$6:$C$400<=$AZ32)*(Eingabe!$D$6:$D$400>$AZ32)*(Eingabe!$B$6:$B$400=BA$3)*(Eingabe!$E$6:$E$400))","v":0},{"$f":"SUMPRODUCT((Eingabe!$C$6:$C$400<$AZ32)*(Eingabe!$D$6:$D$400>=$AZ32)*(Eingabe!$B$6:$B$400=BA$3)*(Eingabe!$E$6:$E$400))","v":0},{"$f":"SUMPRODUCT((Eingabe!$C$6:$C$400<=$AZ32)*(Eingabe!$D$6:$D$400>$AZ32)*(Eingabe!$B$6:$B$400=BC$3)*(Eingabe!$E$6:$E$400))","v":0},{"$f":"SUMPRODUCT((Eingabe!$C$6:$C$400<$AZ32)*(Eingabe!$D$6:$D$400>=$AZ32)*(Eingabe!$B$6:$B$400=BC$3)*(Eingabe!$E$6:$E$400))","v":0},{"$f":"SUMPRODUCT((Eingabe!$C$6:$C$400<=$AZ32)*(Eingabe!$D$6:$D$400>$AZ32)*(Eingabe!$B$6:$B$400=BE$3)*(Eingabe!$E$6:$E$400))","v":0},{"$f":"SUMPRODUCT((Eingabe!$C$6:$C$400<$AZ32)*(Eingabe!$D$6:$D$400>=$AZ32)*(Eingabe!$B$6:$B$400=BE$3)*(Eingabe!$E$6:$E$400))","v":0},{"$f":"SUMPRODUCT((Eingabe!$C$6:$C$400<=$AZ32)*(Eingabe!$D$6:$D$400>$AZ32)*(Eingabe!$B$6:$B$400=BG$3)*(Eingabe!$E$6:$E$400))","v":0},{"$f":"SUMPRODUCT((Eingabe!$C$6:$C$400<$AZ32)*(Eingabe!$D$6:$D$400>=$AZ32)*(Eingabe!$B$6:$B$400=BG$3)*(Eingabe!$E$6:$E$400))","v":0},"2025-07-29","2025-07-29",{"$f":"SUMPRODUCT((Eingabe!$C$6:$C$400<=$BJ32)*(Eingabe!$D$6:$D$400>$BJ32)*(Eingabe!$B$6:$B$400=BK$3)*(Eingabe!$E$6:$E$400))","v":6},{"$f":"SUMPRODUCT((Eingabe!$C$6:$C$400<$BJ32)*(Eingabe!$D$6:$D$400>=$BJ32)*(Eingabe!$B$6:$B$400=BK$3)*(Eingabe!$E$6:$E$400))","v":6},{"$f":"SUMPRODUCT((Eingabe!$C$6:$C$400<=$BJ32)*(Eingabe!$D$6:$D$400>$BJ32)*(Eingabe!$B$6:$B$400=BM$3)*(Eingabe!$E$6:$E$400))","v":0},{"$f":"SUMPRODUCT((Eingabe!$C$6:$C$400<$BJ32)*(Eingabe!$D$6:$D$400>=$BJ32)*(Eingabe!$B$6:$B$400=BM$3)*(Eingabe!$E$6:$E$400))","v":0},{"$f":"SUMPRODUCT((Eingabe!$C$6:$C$400<=$BJ32)*(Eingabe!$D$6:$D$400>$BJ32)*(Eingabe!$B$6:$B$400=BO$3)*(Eingabe!$E$6:$E$400))","v":0},{"$f":"SUMPRODUCT((Eingabe!$C$6:$C$400<$BJ32)*(Eingabe!$D$6:$D$400>=$BJ32)*(Eingabe!$B$6:$B$400=BO$3)*(Eingabe!$E$6:$E$400))","v":0},{"$f":"SUMPRODUCT((Eingabe!$C$6:$C$400<=$BJ32)*(Eingabe!$D$6:$D$400>$BJ32)*(Eingabe!$B$6:$B$400=BQ$3)*(Eingabe!$E$6:$E$400))","v":0},{"$f":"SUMPRODUCT((Eingabe!$C$6:$C$400<$BJ32)*(Eingabe!$D$6:$D$400>=$BJ32)*(Eingabe!$B$6:$B$400=BQ$3)*(Eingabe!$E$6:$E$400))","v":0},"2025-08-29","2025-08-29",{"$f":"SUMPRODUCT((Eingabe!$C$6:$C$400<=$BT32)*(Eingabe!$D$6:$D$400>$BT32)*(Eingabe!$B$6:$B$400=BU$3)*(Eingabe!$E$6:$E$400))","v":0},{"$f":"SUMPRODUCT((Eingabe!$C$6:$C$400<$BT32)*(Eingabe!$D$6:$D$400>=$BT32)*(Eingabe!$B$6:$B$400=BU$3)*(Eingabe!$E$6:$E$400))","v":0},{"$f":"SUMPRODUCT((Eingabe!$C$6:$C$400<=$BT32)*(Eingabe!$D$6:$D$400>$BT32)*(Eingabe!$B$6:$B$400=BW$3)*(Eingabe!$E$6:$E$400))","v":0},{"$f":"SUMPRODUCT((Eingabe!$C$6:$C$400<$BT32)*(Eingabe!$D$6:$D$400>=$BT32)*(Eingabe!$B$6:$B$400=BW$3)*(Eingabe!$E$6:$E$400))","v":0},{"$f":"SUMPRODUCT((Eingabe!$C$6:$C$400<=$BT32)*(Eingabe!$D$6:$D$400>$BT32)*(Eingabe!$B$6:$B$400=BY$3)*(Eingabe!$E$6:$E$400))","v":0},{"$f":"SUMPRODUCT((Eingabe!$C$6:$C$400<$BT32)*(Eingabe!$D$6:$D$400>=$BT32)*(Eingabe!$B$6:$B$400=BY$3)*(Eingabe!$E$6:$E$400))","v":0},{"$f":"SUMPRODUCT((Eingabe!$C$6:$C$400<=$BT32)*(Eingabe!$D$6:$D$400>$BT32)*(Eingabe!$B$6:$B$400=CA$3)*(Eingabe!$E$6:$E$400))","v":0},{"$f":"SUMPRODUCT((Eingabe!$C$6:$C$400<$BT32)*(Eingabe!$D$6:$D$400>=$BT32)*(Eingabe!$B$6:$B$400=CA$3)*(Eingabe!$E$6:$E$400))","v":0},"2025-09-29","2025-09-29",{"$f":"SUMPRODUCT((Eingabe!$C$6:$C$400<=$CD32)*(Eingabe!$D$6:$D$400>$CD32)*(Eingabe!$B$6:$B$400=CE$3)*(Eingabe!$E$6:$E$400))","v":7},{"$f":"SUMPRODUCT((Eingabe!$C$6:$C$400<$CD32)*(Eingabe!$D$6:$D$400>=$CD32)*(Eingabe!$B$6:$B$400=CE$3)*(Eingabe!$E$6:$E$400))","v":7},{"$f":"SUMPRODUCT((Eingabe!$C$6:$C$400<=$CD32)*(Eingabe!$D$6:$D$400>$CD32)*(Eingabe!$B$6:$B$400=CG$3)*(Eingabe!$E$6:$E$400))","v":0},{"$f":"SUMPRODUCT((Eingabe!$C$6:$C$400<$CD32)*(Eingabe!$D$6:$D$400>=$CD32)*(Eingabe!$B$6:$B$400=CG$3)*(Eingabe!$E$6:$E$400))","v":0},{"$f":"SUMPRODUCT((Eingabe!$C$6:$C$400<=$CD32)*(Eingabe!$D$6:$D$400>$CD32)*(Eingabe!$B$6:$B$400=CI$3)*(Eingabe!$E$6:$E$400))","v":0},{"$f":"SUMPRODUCT((Eingabe!$C$6:$C$400<$CD32)*(Eingabe!$D$6:$D$400>=$CD32)*(Eingabe!$B$6:$B$400=CI$3)*(Eingabe!$E$6:$E$400))","v":0},{"$f":"SUMPRODUCT((Eingabe!$C$6:$C$400<=$CD32)*(Eingabe!$D$6:$D$400>$CD32)*(Eingabe!$B$6:$B$400=CK$3)*(Eingabe!$E$6:$E$400))","v":0},{"$f":"SUMPRODUCT((Eingabe!$C$6:$C$400<$CD32)*(Eingabe!$D$6:$D$400>=$CD32)*(Eingabe!$B$6:$B$400=CK$3)*(Eingabe!$E$6:$E$400))","v":0},"2025-10-29","2025-10-29",{"$f":"SUMPRODUCT((Eingabe!$C$6:$C$400<=$CN32)*(Eingabe!$D$6:$D$400>$CN32)*(Eingabe!$B$6:$B$400=CO$3)*(Eingabe!$E$6:$E$400))","v":7},{"$f":"SUMPRODUCT((Eingabe!$C$6:$C$400<$CN32)*(Eingabe!$D$6:$D$400>=$CN32)*(Eingabe!$B$6:$B$400=CO$3)*(Eingabe!$E$6:$E$400))","v":7},{"$f":"SUMPRODUCT((Eingabe!$C$6:$C$400<=$CN32)*(Eingabe!$D$6:$D$400>$CN32)*(Eingabe!$B$6:$B$400=CQ$3)*(Eingabe!$E$6:$E$400))","v":0},{"$f":"SUMPRODUCT((Eingabe!$C$6:$C$400<$CN32)*(Eingabe!$D$6:$D$400>=$CN32)*(Eingabe!$B$6:$B$400=CQ$3)*(Eingabe!$E$6:$E$400))","v":0},{"$f":"SUMPRODUCT((Eingabe!$C$6:$C$400<=$CN32)*(Eingabe!$D$6:$D$400>$CN32)*(Eingabe!$B$6:$B$400=CS$3)*(Eingabe!$E$6:$E$400))","v":0},{"$f":"SUMPRODUCT((Eingabe!$C$6:$C$400<$CN32)*(Eingabe!$D$6:$D$400>=$CN32)*(Eingabe!$B$6:$B$400=CS$3)*(Eingabe!$E$6:$E$400))","v":0},{"$f":"SUMPRODUCT((Eingabe!$C$6:$C$400<=$CN32)*(Eingabe!$D$6:$D$400>$CN32)*(Eingabe!$B$6:$B$400=CU$3)*(Eingabe!$E$6:$E$400))","v":0},{"$f":"SUMPRODUCT((Eingabe!$C$6:$C$400<$CN32)*(Eingabe!$D$6:$D$400>=$CN32)*(Eingabe!$B$6:$B$400=CU$3)*(Eingabe!$E$6:$E$400))","v":0},"2025-11-29","2025-11-29",{"$f":"SUMPRODUCT((Eingabe!$C$6:$C$400<=$CX32)*(Eingabe!$D$6:$D$400>$CX32)*(Eingabe!$B$6:$B$400=CY$3)*(Eingabe!$E$6:$E$400))","v":7},{"$f":"SUMPRODUCT((Eingabe!$C$6:$C$400<$CX32)*(Eingabe!$D$6:$D$400>=$CX32)*(Eingabe!$B$6:$B$400=CY$3)*(Eingabe!$E$6:$E$400))","v":7},{"$f":"SUMPRODUCT((Eingabe!$C$6:$C$400<=$CX32)*(Eingabe!$D$6:$D$400>$CX32)*(Eingabe!$B$6:$B$400=DA$3)*(Eingabe!$E$6:$E$400))","v":0},{"$f":"SUMPRODUCT((Eingabe!$C$6:$C$400<$CX32)*(Eingabe!$D$6:$D$400>=$CX32)*(Eingabe!$B$6:$B$400=DA$3)*(Eingabe!$E$6:$E$400))","v":0},{"$f":"SUMPRODUCT((Eingabe!$C$6:$C$400<=$CX32)*(Eingabe!$D$6:$D$400>$CX32)*(Eingabe!$B$6:$B$400=DC$3)*(Eingabe!$E$6:$E$400))","v":0},{"$f":"SUMPRODUCT((Eingabe!$C$6:$C$400<$CX32)*(Eingabe!$D$6:$D$400>=$CX32)*(Eingabe!$B$6:$B$400=DC$3)*(Eingabe!$E$6:$E$400))","v":0},{"$f":"SUMPRODUCT((Eingabe!$C$6:$C$400<=$CX32)*(Eingabe!$D$6:$D$400>$CX32)*(Eingabe!$B$6:$B$400=DE$3)*(Eingabe!$E$6:$E$400))","v":0},{"$f":"SUMPRODUCT((Eingabe!$C$6:$C$400<$CX32)*(Eingabe!$D$6:$D$400>=$CX32)*(Eingabe!$B$6:$B$400=DE$3)*(Eingabe!$E$6:$E$400))","v":0},"2025-12-29","2025-12-29",{"$f":"SUMPRODUCT((Eingabe!$C$6:$C$400<=$DH32)*(Eingabe!$D$6:$D$400>$DH32)*(Eingabe!$B$6:$B$400=DI$3)*(Eingabe!$E$6:$E$400))","v":7},{"$f":"SUMPRODUCT((Eingabe!$C$6:$C$400<$DH32)*(Eingabe!$D$6:$D$400>=$DH32)*(Eingabe!$B$6:$B$400=DI$3)*(Eingabe!$E$6:$E$400))","v":7},{"$f":"SUMPRODUCT((Eingabe!$C$6:$C$400<=$DH32)*(Eingabe!$D$6:$D$400>$DH32)*(Eingabe!$B$6:$B$400=DK$3)*(Eingabe!$E$6:$E$400))","v":6},{"$f":"SUMPRODUCT((Eingabe!$C$6:$C$400<$DH32)*(Eingabe!$D$6:$D$400>=$DH32)*(Eingabe!$B$6:$B$400=DK$3)*(Eingabe!$E$6:$E$400))","v":6},{"$f":"SUMPRODUCT((Eingabe!$C$6:$C$400<=$DH32)*(Eingabe!$D$6:$D$400>$DH32)*(Eingabe!$B$6:$B$400=DM$3)*(Eingabe!$E$6:$E$400))","v":0},{"$f":"SUMPRODUCT((Eingabe!$C$6:$C$400<$DH32)*(Eingabe!$D$6:$D$400>=$DH32)*(Eingabe!$B$6:$B$400=DM$3)*(Eingabe!$E$6:$E$400))","v":0},{"$f":"SUMPRODUCT((Eingabe!$C$6:$C$400<=$DH32)*(Eingabe!$D$6:$D$400>$DH32)*(Eingabe!$B$6:$B$400=DO$3)*(Eingabe!$E$6:$E$400))","v":0},{"$f":"SUMPRODUCT((Eingabe!$C$6:$C$400<$DH32)*(Eingabe!$D$6:$D$400>=$DH32)*(Eingabe!$B$6:$B$400=DO$3)*(Eingabe!$E$6:$E$400))","v":0},"2026-01-29","2026-01-29",{"$f":"SUMPRODUCT((Eingabe!$C$6:$C$400<=$B32)*(Eingabe!$D$6:$D$400>$B32)*(Eingabe!$B$6:$B$400=DS$3)*(Eingabe!$E$6:$E$400))","v":0},{"$f":"SUMPRODUCT((Eingabe!$C$6:$C$400<$B32)*(Eingabe!$D$6:$D$400>=$B32)*(Eingabe!$B$6:$B$400=DS$3)*(Eingabe!$E$6:$E$400))","v":0},{"$f":"SUMPRODUCT((Eingabe!$C$6:$C$400<=$B32)*(Eingabe!$D$6:$D$400>$B32)*(Eingabe!$B$6:$B$400=DU$3)*(Eingabe!$E$6:$E$400))","v":0},{"$f":"SUMPRODUCT((Eingabe!$C$6:$C$400<$B32)*(Eingabe!$D$6:$D$400>=$B32)*(Eingabe!$B$6:$B$400=DU$3)*(Eingabe!$E$6:$E$400))","v":0},{"$f":"SUMPRODUCT((Eingabe!$C$6:$C$400<=$B32)*(Eingabe!$D$6:$D$400>$B32)*(Eingabe!$B$6:$B$400=DW$3)*(Eingabe!$E$6:$E$400))","v":0},{"$f":"SUMPRODUCT((Eingabe!$C$6:$C$400<$B32)*(Eingabe!$D$6:$D$400>=$B32)*(Eingabe!$B$6:$B$400=DW$3)*(Eingabe!$E$6:$E$400))","v":0},{"$f":"SUMPRODUCT((Eingabe!$C$6:$C$400<=$B32)*(Eingabe!$D$6:$D$400>$B32)*(Eingabe!$B$6:$B$400=DY$3)*(Eingabe!$E$6:$E$400))","v":0},{"$f":"SUMPRODUCT((Eingabe!$C$6:$C$400<$B32)*(Eingabe!$D$6:$D$400>=$B32)*(Eingabe!$B$6:$B$400=DY$3)*(Eingabe!$E$6:$E$400))","v":0},"","",{"$f":"SUMPRODUCT((Eingabe!$C$6:$C$400<=$L32)*(Eingabe!$D$6:$D$400>$L32)*(Eingabe!$B$6:$B$400=EC$3)*(Eingabe!$E$6:$E$400))","v":0},{"$f":"SUMPRODUCT((Eingabe!$C$6:$C$400<$L32)*(Eingabe!$D$6:$D$400>=$L32)*(Eingabe!$B$6:$B$400=EC$3)*(Eingabe!$E$6:$E$400))","v":0},{"$f":"SUMPRODUCT((Eingabe!$C$6:$C$400<=$L32)*(Eingabe!$D$6:$D$400>$L32)*(Eingabe!$B$6:$B$400=EE$3)*(Eingabe!$E$6:$E$400))","v":0},{"$f":"SUMPRODUCT((Eingabe!$C$6:$C$400<$L32)*(Eingabe!$D$6:$D$400>=$L32)*(Eingabe!$B$6:$B$400=EE$3)*(Eingabe!$E$6:$E$400))","v":0},{"$f":"SUMPRODUCT((Eingabe!$C$6:$C$400<=$L32)*(Eingabe!$D$6:$D$400>$L32)*(Eingabe!$B$6:$B$400=EG$3)*(Eingabe!$E$6:$E$400))","v":0},{"$f":"SUMPRODUCT((Eingabe!$C$6:$C$400<$L32)*(Eingabe!$D$6:$D$400>=$L32)*(Eingabe!$B$6:$B$400=EG$3)*(Eingabe!$E$6:$E$400))","v":0},{"$f":"SUMPRODUCT((Eingabe!$C$6:$C$400<=$L32)*(Eingabe!$D$6:$D$400>$L32)*(Eingabe!$B$6:$B$400=EI$3)*(Eingabe!$E$6:$E$400))","v":0},{"$f":"SUMPRODUCT((Eingabe!$C$6:$C$400<$L32)*(Eingabe!$D$6:$D$400>=$L32)*(Eingabe!$B$6:$B$400=EI$3)*(Eingabe!$E$6:$E$400))","v":0},"2026-03-29","2026-03-29",{"$f":"SUMPRODUCT((Eingabe!$C$6:$C$400<=$V32)*(Eingabe!$D$6:$D$400>$V32)*(Eingabe!$B$6:$B$400=EM$3)*(Eingabe!$E$6:$E$400))","v":0},{"$f":"SUMPRODUCT((Eingabe!$C$6:$C$400<$V32)*(Eingabe!$D$6:$D$400>=$V32)*(Eingabe!$B$6:$B$400=EM$3)*(Eingabe!$E$6:$E$400))","v":0},{"$f":"SUMPRODUCT((Eingabe!$C$6:$C$400<=$V32)*(Eingabe!$D$6:$D$400>$V32)*(Eingabe!$B$6:$B$400=EO$3)*(Eingabe!$E$6:$E$400))","v":0},{"$f":"SUMPRODUCT((Eingabe!$C$6:$C$400<$V32)*(Eingabe!$D$6:$D$400>=$V32)*(Eingabe!$B$6:$B$400=EO$3)*(Eingabe!$E$6:$E$400))","v":0},{"$f":"SUMPRODUCT((Eingabe!$C$6:$C$400<=$V32)*(Eingabe!$D$6:$D$400>$V32)*(Eingabe!$B$6:$B$400=EQ$3)*(Eingabe!$E$6:$E$400))","v":0},{"$f":"SUMPRODUCT((Eingabe!$C$6:$C$400<$V32)*(Eingabe!$D$6:$D$400>=$V32)*(Eingabe!$B$6:$B$400=EQ$3)*(Eingabe!$E$6:$E$400))","v":0},{"$f":"SUMPRODUCT((Eingabe!$C$6:$C$400<=$V32)*(Eingabe!$D$6:$D$400>$V32)*(Eingabe!$B$6:$B$400=ES$3)*(Eingabe!$E$6:$E$400))","v":0},{"$f":"SUMPRODUCT((Eingabe!$C$6:$C$400<$V32)*(Eingabe!$D$6:$D$400>=$V32)*(Eingabe!$B$6:$B$400=ES$3)*(Eingabe!$E$6:$E$400))","v":0},"2026-04-29","2026-04-29",{"$f":"SUMPRODUCT((Eingabe!$C$6:$C$400<=$AF32)*(Eingabe!$D$6:$D$400>$AF32)*(Eingabe!$B$6:$B$400=EW$3)*(Eingabe!$E$6:$E$400))","v":5},{"$f":"SUMPRODUCT((Eingabe!$C$6:$C$400<$AF32)*(Eingabe!$D$6:$D$400>=$AF32)*(Eingabe!$B$6:$B$400=EW$3)*(Eingabe!$E$6:$E$400))","v":5},{"$f":"SUMPRODUCT((Eingabe!$C$6:$C$400<=$AF32)*(Eingabe!$D$6:$D$400>$AF32)*(Eingabe!$B$6:$B$400=EY$3)*(Eingabe!$E$6:$E$400))","v":5},{"$f":"SUMPRODUCT((Eingabe!$C$6:$C$400<$AF32)*(Eingabe!$D$6:$D$400>=$AF32)*(Eingabe!$B$6:$B$400=EY$3)*(Eingabe!$E$6:$E$400))","v":5},{"$f":"SUMPRODUCT((Eingabe!$C$6:$C$400<=$AF32)*(Eingabe!$D$6:$D$400>$AF32)*(Eingabe!$B$6:$B$400=FA$3)*(Eingabe!$E$6:$E$400))","v":0},{"$f":"SUMPRODUCT((Eingabe!$C$6:$C$400<$AF32)*(Eingabe!$D$6:$D$400>=$AF32)*(Eingabe!$B$6:$B$400=FA$3)*(Eingabe!$E$6:$E$400))","v":0},{"$f":"SUMPRODUCT((Eingabe!$C$6:$C$400<=$AF32)*(Eingabe!$D$6:$D$400>$AF32)*(Eingabe!$B$6:$B$400=FC$3)*(Eingabe!$E$6:$E$400))","v":5},{"$f":"SUMPRODUCT((Eingabe!$C$6:$C$400<$AF32)*(Eingabe!$D$6:$D$400>=$AF32)*(Eingabe!$B$6:$B$400=FC$3)*(Eingabe!$E$6:$E$400))","v":5},"2026-05-29","2026-05-29",{"$f":"SUMPRODUCT((Eingabe!$C$6:$C$400<=$AP32)*(Eingabe!$D$6:$D$400>$AP32)*(Eingabe!$B$6:$B$400=FG$3)*(Eingabe!$E$6:$E$400))","v":0},{"$f":"SUMPRODUCT((Eingabe!$C$6:$C$400<$AP32)*(Eingabe!$D$6:$D$400>=$AP32)*(Eingabe!$B$6:$B$400=FG$3)*(Eingabe!$E$6:$E$400))","v":0},{"$f":"SUMPRODUCT((Eingabe!$C$6:$C$400<=$AP32)*(Eingabe!$D$6:$D$400>$AP32)*(Eingabe!$B$6:$B$400=FI$3)*(Eingabe!$E$6:$E$400))","v":0},{"$f":"SUMPRODUCT((Eingabe!$C$6:$C$400<$AP32)*(Eingabe!$D$6:$D$400>=$AP32)*(Eingabe!$B$6:$B$400=FI$3)*(Eingabe!$E$6:$E$400))","v":0},{"$f":"SUMPRODUCT((Eingabe!$C$6:$C$400<=$AP32)*(Eingabe!$D$6:$D$400>$AP32)*(Eingabe!$B$6:$B$400=FK$3)*(Eingabe!$E$6:$E$400))","v":0},{"$f":"SUMPRODUCT((Eingabe!$C$6:$C$400<$AP32)*(Eingabe!$D$6:$D$400>=$AP32)*(Eingabe!$B$6:$B$400=FK$3)*(Eingabe!$E$6:$E$400))","v":0},{"$f":"SUMPRODUCT((Eingabe!$C$6:$C$400<=$AP32)*(Eingabe!$D$6:$D$400>$AP32)*(Eingabe!$B$6:$B$400=FM$3)*(Eingabe!$E$6:$E$400))","v":0},{"$f":"SUMPRODUCT((Eingabe!$C$6:$C$400<$AP32)*(Eingabe!$D$6:$D$400>=$AP32)*(Eingabe!$B$6:$B$400=FM$3)*(Eingabe!$E$6:$E$400))","v":0},"2026-06-29","2026-06-29",{"$f":"SUMPRODUCT((Eingabe!$C$6:$C$400<=$AZ32)*(Eingabe!$D$6:$D$400>$AZ32)*(Eingabe!$B$6:$B$400=FQ$3)*(Eingabe!$E$6:$E$400))","v":0},{"$f":"SUMPRODUCT((Eingabe!$C$6:$C$400<$AZ32)*(Eingabe!$D$6:$D$400>=$AZ32)*(Eingabe!$B$6:$B$400=FQ$3)*(Eingabe!$E$6:$E$400))","v":0},{"$f":"SUMPRODUCT((Eingabe!$C$6:$C$400<=$AZ32)*(Eingabe!$D$6:$D$400>$AZ32)*(Eingabe!$B$6:$B$400=FS$3)*(Eingabe!$E$6:$E$400))","v":0},{"$f":"SUMPRODUCT((Eingabe!$C$6:$C$400<$AZ32)*(Eingabe!$D$6:$D$400>=$AZ32)*(Eingabe!$B$6:$B$400=FS$3)*(Eingabe!$E$6:$E$400))","v":0},{"$f":"SUMPRODUCT((Eingabe!$C$6:$C$400<=$AZ32)*(Eingabe!$D$6:$D$400>$AZ32)*(Eingabe!$B$6:$B$400=FU$3)*(Eingabe!$E$6:$E$400))","v":0},{"$f":"SUMPRODUCT((Eingabe!$C$6:$C$400<$AZ32)*(Eingabe!$D$6:$D$400>=$AZ32)*(Eingabe!$B$6:$B$400=FU$3)*(Eingabe!$E$6:$E$400))","v":0},{"$f":"SUMPRODUCT((Eingabe!$C$6:$C$400<=$AZ32)*(Eingabe!$D$6:$D$400>$AZ32)*(Eingabe!$B$6:$B$400=FW$3)*(Eingabe!$E$6:$E$400))","v":0},{"$f":"SUMPRODUCT((Eingabe!$C$6:$C$400<$AZ32)*(Eingabe!$D$6:$D$400>=$AZ32)*(Eingabe!$B$6:$B$400=FW$3)*(Eingabe!$E$6:$E$400))","v":0},"2026-07-29","2026-07-29",{"$f":"SUMPRODUCT((Eingabe!$C$6:$C$400<=$BJ32)*(Eingabe!$D$6:$D$400>$BJ32)*(Eingabe!$B$6:$B$400=GA$3)*(Eingabe!$E$6:$E$400))","v":6},{"$f":"SUMPRODUCT((Eingabe!$C$6:$C$400<$BJ32)*(Eingabe!$D$6:$D$400>=$BJ32)*(Eingabe!$B$6:$B$400=GA$3)*(Eingabe!$E$6:$E$400))","v":6},{"$f":"SUMPRODUCT((Eingabe!$C$6:$C$400<=$BJ32)*(Eingabe!$D$6:$D$400>$BJ32)*(Eingabe!$B$6:$B$400=GC$3)*(Eingabe!$E$6:$E$400))","v":0},{"$f":"SUMPRODUCT((Eingabe!$C$6:$C$400<$BJ32)*(Eingabe!$D$6:$D$400>=$BJ32)*(Eingabe!$B$6:$B$400=GC$3)*(Eingabe!$E$6:$E$400))","v":0},{"$f":"SUMPRODUCT((Eingabe!$C$6:$C$400<=$BJ32)*(Eingabe!$D$6:$D$400>$BJ32)*(Eingabe!$B$6:$B$400=GE$3)*(Eingabe!$E$6:$E$400))","v":0},{"$f":"SUMPRODUCT((Eingabe!$C$6:$C$400<$BJ32)*(Eingabe!$D$6:$D$400>=$BJ32)*(Eingabe!$B$6:$B$400=GE$3)*(Eingabe!$E$6:$E$400))","v":0},{"$f":"SUMPRODUCT((Eingabe!$C$6:$C$400<=$BJ32)*(Eingabe!$D$6:$D$400>$BJ32)*(Eingabe!$B$6:$B$400=GG$3)*(Eingabe!$E$6:$E$400))","v":0},{"$f":"SUMPRODUCT((Eingabe!$C$6:$C$400<$BJ32)*(Eingabe!$D$6:$D$400>=$BJ32)*(Eingabe!$B$6:$B$400=GG$3)*(Eingabe!$E$6:$E$400))","v":0},"2026-08-29","2026-08-29",{"$f":"SUMPRODUCT((Eingabe!$C$6:$C$400<=$BT32)*(Eingabe!$D$6:$D$400>$BT32)*(Eingabe!$B$6:$B$400=GK$3)*(Eingabe!$E$6:$E$400))","v":0},{"$f":"SUMPRODUCT((Eingabe!$C$6:$C$400<$BT32)*(Eingabe!$D$6:$D$400>=$BT32)*(Eingabe!$B$6:$B$400=GK$3)*(Eingabe!$E$6:$E$400))","v":0},{"$f":"SUMPRODUCT((Eingabe!$C$6:$C$400<=$BT32)*(Eingabe!$D$6:$D$400>$BT32)*(Eingabe!$B$6:$B$400=GM$3)*(Eingabe!$E$6:$E$400))","v":0},{"$f":"SUMPRODUCT((Eingabe!$C$6:$C$400<$BT32)*(Eingabe!$D$6:$D$400>=$BT32)*(Eingabe!$B$6:$B$400=GM$3)*(Eingabe!$E$6:$E$400))","v":0},{"$f":"SUMPRODUCT((Eingabe!$C$6:$C$400<=$BT32)*(Eingabe!$D$6:$D$400>$BT32)*(Eingabe!$B$6:$B$400=GO$3)*(Eingabe!$E$6:$E$400))","v":0},{"$f":"SUMPRODUCT((Eingabe!$C$6:$C$400<$BT32)*(Eingabe!$D$6:$D$400>=$BT32)*(Eingabe!$B$6:$B$400=GO$3)*(Eingabe!$E$6:$E$400))","v":0},{"$f":"SUMPRODUCT((Eingabe!$C$6:$C$400<=$BT32)*(Eingabe!$D$6:$D$400>$BT32)*(Eingabe!$B$6:$B$400=GQ$3)*(Eingabe!$E$6:$E$400))","v":0},{"$f":"SUMPRODUCT((Eingabe!$C$6:$C$400<$BT32)*(Eingabe!$D$6:$D$400>=$BT32)*(Eingabe!$B$6:$B$400=GQ$3)*(Eingabe!$E$6:$E$400))","v":0},"2026-09-29","2026-09-29",{"$f":"SUMPRODUCT((Eingabe!$C$6:$C$400<=$CD32)*(Eingabe!$D$6:$D$400>$CD32)*(Eingabe!$B$6:$B$400=GU$3)*(Eingabe!$E$6:$E$400))","v":7},{"$f":"SUMPRODUCT((Eingabe!$C$6:$C$400<$CD32)*(Eingabe!$D$6:$D$400>=$CD32)*(Eingabe!$B$6:$B$400=GU$3)*(Eingabe!$E$6:$E$400))","v":7},{"$f":"SUMPRODUCT((Eingabe!$C$6:$C$400<=$CD32)*(Eingabe!$D$6:$D$400>$CD32)*(Eingabe!$B$6:$B$400=GW$3)*(Eingabe!$E$6:$E$400))","v":0},{"$f":"SUMPRODUCT((Eingabe!$C$6:$C$400<$CD32)*(Eingabe!$D$6:$D$400>=$CD32)*(Eingabe!$B$6:$B$400=GW$3)*(Eingabe!$E$6:$E$400))","v":0},{"$f":"SUMPRODUCT((Eingabe!$C$6:$C$400<=$CD32)*(Eingabe!$D$6:$D$400>$CD32)*(Eingabe!$B$6:$B$400=GY$3)*(Eingabe!$E$6:$E$400))","v":0},{"$f":"SUMPRODUCT((Eingabe!$C$6:$C$400<$CD32)*(Eingabe!$D$6:$D$400>=$CD32)*(Eingabe!$B$6:$B$400=GY$3)*(Eingabe!$E$6:$E$400))","v":0},{"$f":"SUMPRODUCT((Eingabe!$C$6:$C$400<=$CD32)*(Eingabe!$D$6:$D$400>$CD32)*(Eingabe!$B$6:$B$400=HA$3)*(Eingabe!$E$6:$E$400))","v":0},{"$f":"SUMPRODUCT((Eingabe!$C$6:$C$400<$CD32)*(Eingabe!$D$6:$D$400>=$CD32)*(Eingabe!$B$6:$B$400=HA$3)*(Eingabe!$E$6:$E$400))","v":0},"2026-10-29","2026-10-29",{"$f":"SUMPRODUCT((Eingabe!$C$6:$C$400<=$CN32)*(Eingabe!$D$6:$D$400>$CN32)*(Eingabe!$B$6:$B$400=HE$3)*(Eingabe!$E$6:$E$400))","v":7},{"$f":"SUMPRODUCT((Eingabe!$C$6:$C$400<$CN32)*(Eingabe!$D$6:$D$400>=$CN32)*(Eingabe!$B$6:$B$400=HE$3)*(Eingabe!$E$6:$E$400))","v":7},{"$f":"SUMPRODUCT((Eingabe!$C$6:$C$400<=$CN32)*(Eingabe!$D$6:$D$400>$CN32)*(Eingabe!$B$6:$B$400=HG$3)*(Eingabe!$E$6:$E$400))","v":0},{"$f":"SUMPRODUCT((Eingabe!$C$6:$C$400<$CN32)*(Eingabe!$D$6:$D$400>=$CN32)*(Eingabe!$B$6:$B$400=HG$3)*(Eingabe!$E$6:$E$400))","v":0},{"$f":"SUMPRODUCT((Eingabe!$C$6:$C$400<=$CN32)*(Eingabe!$D$6:$D$400>$CN32)*(Eingabe!$B$6:$B$400=HI$3)*(Eingabe!$E$6:$E$400))","v":0},{"$f":"SUMPRODUCT((Eingabe!$C$6:$C$400<$CN32)*(Eingabe!$D$6:$D$400>=$CN32)*(Eingabe!$B$6:$B$400=HI$3)*(Eingabe!$E$6:$E$400))","v":0},{"$f":"SUMPRODUCT((Eingabe!$C$6:$C$400<=$CN32)*(Eingabe!$D$6:$D$400>$CN32)*(Eingabe!$B$6:$B$400=HK$3)*(Eingabe!$E$6:$E$400))","v":0},{"$f":"SUMPRODUCT((Eingabe!$C$6:$C$400<$CN32)*(Eingabe!$D$6:$D$400>=$CN32)*(Eingabe!$B$6:$B$400=HK$3)*(Eingabe!$E$6:$E$400))","v":0},"2026-11-29","2026-11-29",{"$f":"SUMPRODUCT((Eingabe!$C$6:$C$400<=$CX32)*(Eingabe!$D$6:$D$400>$CX32)*(Eingabe!$B$6:$B$400=HO$3)*(Eingabe!$E$6:$E$400))","v":7},{"$f":"SUMPRODUCT((Eingabe!$C$6:$C$400<$CX32)*(Eingabe!$D$6:$D$400>=$CX32)*(Eingabe!$B$6:$B$400=HO$3)*(Eingabe!$E$6:$E$400))","v":7},{"$f":"SUMPRODUCT((Eingabe!$C$6:$C$400<=$CX32)*(Eingabe!$D$6:$D$400>$CX32)*(Eingabe!$B$6:$B$400=HQ$3)*(Eingabe!$E$6:$E$400))","v":0},{"$f":"SUMPRODUCT((Eingabe!$C$6:$C$400<$CX32)*(Eingabe!$D$6:$D$400>=$CX32)*(Eingabe!$B$6:$B$400=HQ$3)*(Eingabe!$E$6:$E$400))","v":0},{"$f":"SUMPRODUCT((Eingabe!$C$6:$C$400<=$CX32)*(Eingabe!$D$6:$D$400>$CX32)*(Eingabe!$B$6:$B$400=HS$3)*(Eingabe!$E$6:$E$400))","v":0},{"$f":"SUMPRODUCT((Eingabe!$C$6:$C$400<$CX32)*(Eingabe!$D$6:$D$400>=$CX32)*(Eingabe!$B$6:$B$400=HS$3)*(Eingabe!$E$6:$E$400))","v":0},{"$f":"SUMPRODUCT((Eingabe!$C$6:$C$400<=$CX32)*(Eingabe!$D$6:$D$400>$CX32)*(Eingabe!$B$6:$B$400=HU$3)*(Eingabe!$E$6:$E$400))","v":0},{"$f":"SUMPRODUCT((Eingabe!$C$6:$C$400<$CX32)*(Eingabe!$D$6:$D$400>=$CX32)*(Eingabe!$B$6:$B$400=HU$3)*(Eingabe!$E$6:$E$400))","v":0},"2026-12-29","2026-12-29",{"$f":"SUMPRODUCT((Eingabe!$C$6:$C$400<=$DH32)*(Eingabe!$D$6:$D$400>$DH32)*(Eingabe!$B$6:$B$400=HY$3)*(Eingabe!$E$6:$E$400))","v":7},{"$f":"SUMPRODUCT((Eingabe!$C$6:$C$400<$DH32)*(Eingabe!$D$6:$D$400>=$DH32)*(Eingabe!$B$6:$B$400=HY$3)*(Eingabe!$E$6:$E$400))","v":7},{"$f":"SUMPRODUCT((Eingabe!$C$6:$C$400<=$DH32)*(Eingabe!$D$6:$D$400>$DH32)*(Eingabe!$B$6:$B$400=IA$3)*(Eingabe!$E$6:$E$400))","v":6},{"$f":"SUMPRODUCT((Eingabe!$C$6:$C$400<$DH32)*(Eingabe!$D$6:$D$400>=$DH32)*(Eingabe!$B$6:$B$400=IA$3)*(Eingabe!$E$6:$E$400))","v":6},{"$f":"SUMPRODUCT((Eingabe!$C$6:$C$400<=$DH32)*(Eingabe!$D$6:$D$400>$DH32)*(Eingabe!$B$6:$B$400=IC$3)*(Eingabe!$E$6:$E$400))","v":0},{"$f":"SUMPRODUCT((Eingabe!$C$6:$C$400<$DH32)*(Eingabe!$D$6:$D$400>=$DH32)*(Eingabe!$B$6:$B$400=IC$3)*(Eingabe!$E$6:$E$400))","v":0},{"$f":"SUMPRODUCT((Eingabe!$C$6:$C$400<=$DH32)*(Eingabe!$D$6:$D$400>$DH32)*(Eingabe!$B$6:$B$400=IE$3)*(Eingabe!$E$6:$E$400))","v":0},{"$f":"SUMPRODUCT((Eingabe!$C$6:$C$400<$DH32)*(Eingabe!$D$6:$D$400>=$DH32)*(Eingabe!$B$6:$B$400=IE$3)*(Eingabe!$E$6:$E$400))","v":0}]
["2025-01-30","2025-01-30",{"$f":"SUMPRODUCT((Eingabe!$C$6:$C$400<=$B33)*(Eingabe!$D$6:$D$400>$B33)*(Eingabe!$B$6:$B$400=C$3)*(Eingabe!$E$6:$E$400))","v":0},{"$f":"SUMPRODUCT((Eingabe!$C$6:$C$400<$B33)*(Eingabe!$D$6:$D$400>=$B33)*(Eingabe!$B$6:$B$400=C$3)*(Eingabe!$E$6:$E$400))","v":0},{"$f":"SUMPRODUCT((Eingabe!$C$6:$C$400<=$B33)*(Eingabe!$D$6:$D$400>$B33)*(Eingabe!$B$6:$B$400=E$3)*(Eingabe!$E$6:$E$400))","v":0},{"$f":"SUMPRODUCT((Eingabe!$C$6:$C$400<$B33)*(Eingabe!$D$6:$D$400>=$B33)*(Eingabe!$B$6:$B$400=E$3)*(Eingabe!$E$6:$E$400))","v":0},{"$f":"SUMPRODUCT((Eingabe!$C$6:$C$400<=$B33)*(Eingabe!$D$6:$D$400>$B33)*(Eingabe!$B$6:$B$400=G$3)*(Eingabe!$E$6:$E$400))","v":0},{"$f":"SUMPRODUCT((Eingabe!$C$6:$C$400<$B33)*(Eingabe!$D$6:$D$400>=$B33)*(Eingabe!$B$6:$B$400=G$3)*(Eingabe!$E$6:$E$400))","v":0},{"$f":"SUMPRODUCT((Eingabe!$C$6:$C$400<=$B33)*(Eingabe!$D$6:$D$400>$B33)*(Eingabe!$B$6:$B$400=I$3)*(Eingabe!$E$6:$E$400))","v":0},{"$f":"SUMPRODUCT((Eingabe!$C$6:$C$400<$B33)*(Eingabe!$D$6:$D$400>=$B33)*(Eingabe!$B$6:$B$400=I$3)*(Eingabe!$E$6:$E$400))","v":0},"","",{"$f":"SUMPRODUCT((Eingabe!$C$6:$C$400<=$L33)*(Eingabe!$D$6:$D$400>$L33)*(Eingabe!$B$6:$B$400=M$3)*(Eingabe!$E$6:$E$400))","v":0},{"$f":"SUMPRODUCT((Eingabe!$C$6:$C$400<$L33)*(Eingabe!$D$6:$D$400>=$L33)*(Eingabe!$B$6:$B$400=M$3)*(Eingabe!$E$6:$E$400))","v":0},{"$f":"SUMPRODUCT((Eingabe!$C$6:$C$400<=$L33)*(Eingabe!$D$6:$D$400>$L33)*(Eingabe!$B$6:$B$400=O$3)*(Eingabe!$E$6:$E$400))","v":0},{"$f":"SUMPRODUCT((Eingabe!$C$6:$C$400<$L33)*(Eingabe!$D$6:$D$400>=$L33)*(Eingabe!$B$6:$B$400=O$3)*(Eingabe!$E$6:$E$400))","v":0},{"$f":"SUMPRODUCT((Eingabe!$C$6:$C$400<=$L33)*(Eingabe!$D$6:$D$400>$L33)*(Eingabe!$B$6:$B$400=Q$3)*(Eingabe!$E$6:$E$400))","v":0},{"$f":"SUMPRODUCT((Eingabe!$C$6:$C$400<$L33)*(Eingabe!$D$6:$D$400>=$L33)*(Eingabe!$B$6:$B$400=Q$3)*(Eingabe!$E$6:$E$400))","v":0},{"$f":"SUMPRODUCT((Eingabe!$C$6:$C$400<=$L33)*(Eingabe!$D$6:$D$400>$L33)*(Eingabe!$B$6:$B$400=S$3)*(Eingabe!$E$6:$E$400))","v":0},{"$f":"SUMPRODUCT((Eingabe!$C$6:$C$400<$L33)*(Eingabe!$D$6:$D$400>=$L33)*(Eingabe!$B$6:$B$400=S$3)*(Eingabe!$E$6:$E$400))","v":0},"2025-03-30","2025-03-30",{"$f":"SUMPRODUCT((Eingabe!$C$6:$C$400<=$V33)*(Eingabe!$D$6:$D$400>$V33)*(Eingabe!$B$6:$B$400=W$3)*(Eingabe!$E$6:$E$400))","v":0},{"$f":"SUMPRODUCT((Eingabe!$C$6:$C$400<$V33)*(Eingabe!$D$6:$D$400>=$V33)*(Eingabe!$B$6:$B$400=W$3)*(Eingabe!$E$6:$E$400))","v":0},{"$f":"SUMPRODUCT((Eingabe!$C$6:$C$400<=$V33)*(Eingabe!$D$6:$D$400>$V33)*(Eingabe!$B$6:$B$400=Y$3)*(Eingabe!$E$6:$E$400))","v":0},{"$f":"SUMPRODUCT((Eingabe!$C$6:$C$400<$V33)*(Eingabe!$D$6:$D$400>=$V33)*(Eingabe!$B$6:$B$400=Y$3)*(Eingabe!$E$6:$E$400))","v":0},{"$f":"SUMPRODUCT((Eingabe!$C$6:$C$400<=$V33)*(Eingabe!$D$6:$D$400>$V33)*(Eingabe!$B$6:$B$400=AA$3)*(Eingabe!$E$6:$E$400))","v":0},{"$f":"SUMPRODUCT((Eingabe!$C$6:$C$400<$V33)*(Eingabe!$D$6:$D$400>=$V33)*(Eingabe!$B$6:$B$400=AA$3)*(Eingabe!$E$6:$E$400))","v":0},{"$f":"SUMPRODUCT((Eingabe!$C$6:$C$400<=$V33)*(Eingabe!$D$6:$D$400>$V33)*(Eingabe!$B$6:$B$400=AC$3)*(Eingabe!$E$6:$E$400))","v":0},{"$f":"SUMPRODUCT((Eingabe!$C$6:$C$400<$V33)*(Eingabe!$D$6:$D$400>=$V33)*(Eingabe!$B$6:$B$400=AC$3)*(Eingabe!$E$6:$E$400))","v":0},"2025-04-30","2025-04-30",{"$f":"SUMPRODUCT((Eingabe!$C$6:$C$400<=$AF33)*(Eingabe!$D$6:$D$400>$AF33)*(Eingabe!$B$6:$B$400=AG$3)*(Eingabe!$E$6:$E$400))","v":5},{"$f":"SUMPRODUCT((Eingabe!$C$6:$C$400<$AF33)*(Eingabe!$D$6:$D$400>=$AF33)*(Eingabe!$B$6:$B$400=AG$3)*(Eingabe!$E$6:$E$400))","v":5},{"$f":"SUMPRODUCT((Eingabe!$C$6:$C$400<=$AF33)*(Eingabe!$D$6:$D$400>$AF33)*(Eingabe!$B$6:$B$400=AI$3)*(Eingabe!$E$6:$E$400))","v":5},{"$f":"SUMPRODUCT((Eingabe!$C$6:$C$400<$AF33)*(Eingabe!$D$6:$D$400>=$AF33)*(Eingabe!$B$6:$B$400=AI$3)*(Eingabe!$E$6:$E$400))","v":5},{"$f":"SUMPRODUCT((Eingabe!$C$6:$C$400<=$AF33)*(Eingabe!$D$6:$D$400>$AF33)*(Eingabe!$B$6:$B$400=AK$3)*(Eingabe!$E$6:$E$400))","v":0},{"$f":"SUMPRODUCT((Eingabe!$C$6:$C$400<$AF33)*(Eingabe!$D$6:$D$400>=$AF33)*(Eingabe!$B$6:$B$400=AK$3)*(Eingabe!$E$6:$E$400))","v":0},{"$f":"SUMPRODUCT((Eingabe!$C$6:$C$400<=$AF33)*(Eingabe!$D$6:$D$400>$AF33)*(Eingabe!$B$6:$B$400=AM$3)*(Eingabe!$E$6:$E$400))","v":5},{"$f":"SUMPRODUCT((Eingabe!$C$6:$C$400<$AF33)*(Eingabe!$D$6:$D$400>=$AF33)*(Eingabe!$B$6:$B$400=AM$3)*(Eingabe!$E$6:$E$400))","v":5},"2025-05-30","2025-05-30",{"$f":"SUMPRODUCT((Eingabe!$C$6:$C$400<=$AP33)*(Eingabe!$D$6:$D$400>$AP33)*(Eingabe!$B$6:$B$400=AQ$3)*(Eingabe!$E$6:$E$400))","v":0},{"$f":"SUMPRODUCT((Eingabe!$C$6:$C$400<$AP33)*(Eingabe!$D$6:$D$400>=$AP33)*(Eingabe!$B$6:$B$400=AQ$3)*(Eingabe!$E$6:$E$400))","v":0},{"$f":"SUMPRODUCT((Eingabe!$C$6:$C$400<=$AP33)*(Eingabe!$D$6:$D$400>$AP33)*(Eingabe!$B$6:$B$400=AS$3)*(Eingabe!$E$6:$E$400))","v":0},{"$f":"SUMPRODUCT((Eingabe!$C$6:$C$400<$AP33)*(Eingabe!$D$6:$D$400>=$AP33)*(Eingabe!$B$6:$B$400=AS$3)*(Eingabe!$E$6:$E$400))","v":0},{"$f":"SUMPRODUCT((Eingabe!$C$6:$C$400<=$AP33)*(Eingabe!$D$6:$D$400>$AP33)*(Eingabe!$B$6:$B$400=AU$3)*(Eingabe!$E$6:$E$400))","v":0},{"$f":"SUMPRODUCT((Eingabe!$C$6:$C$400<$AP33)*(Eingabe!$D$6:$D$400>=$AP33)*(Eingabe!$B$6:$B$400=AU$3)*(Eingabe!$E$6:$E$400))","v":0},{"$f":"SUMPRODUCT((Eingabe!$C$6:$C$400<=$AP33)*(Eingabe!$D$6:$D$400>$AP33)*(Eingabe!$B$6:$B$400=AW$3)*(Eingabe!$E$6:$E$400))","v":0},{"$f":"SUMPRODUCT((Eingabe!$C$6:$C$400<$AP33)*(Eingabe!$D$6:$D$400>=$AP33)*(Eingabe!$B$6:$B$400=AW$3)*(Eingabe!$E$6:$E$400))","v":0},"2025-06-30","2025-06-30",{"$f":"SUMPRODUCT((Eingabe!$C$6:$C$400<=$AZ33)*(Eingabe!$D$6:$D$400>$AZ33)*(Eingabe!$B$6:$B$400=BA$3)*(Eingabe!$E$6:$E$400))","v":0},{"$f":"SUMPRODUCT((Eingabe!$C$6:$C$400<$AZ33)*(Eingabe!$D$6:$D$400>=$AZ33)*(Eingabe!$B$6:$B$400=BA$3)*(Eingabe!$E$6:$E$400))","v":0},{"$f":"SUMPRODUCT((Eingabe!$C$6:$C$400<=$AZ33)*(Eingabe!$D$6:$D$400>$AZ33)*(Eingabe!$B$6:$B$400=BC$3)*(Eingabe!$E$6:$E$400))","v":0},{"$f":"SUMPRODUCT((Eingabe!$C$6:$C$400<$AZ33)*(Eingabe!$D$6:$D$400>=$AZ33)*(Eingabe!$B$6:$B$400=BC$3)*(Eingabe!$E$6:$E$400))","v":0},{"$f":"SUMPRODUCT((Eingabe!$C$6:$C$400<=$AZ33)*(Eingabe!$D$6:$D$400>$AZ33)*(Eingabe!$B$6:$B$400=BE$3)*(Eingabe!$E$6:$E$400))","v":0},{"$f":"SUMPRODUCT((Eingabe!$C$6:$C$400<$AZ33)*(Eingabe!$D$6:$D$400>=$AZ33)*(Eingabe!$B$6:$B$400=BE$3)*(Eingabe!$E$6:$E$400))","v":0},{"$f":"SUMPRODUCT((Eingabe!$C$6:$C$400<=$AZ33)*(Eingabe!$D$6:$D$400>$AZ33)*(Eingabe!$B$6:$B$400=BG$3)*(Eingabe!$E$6:$E$400))","v":0},{"$f":"SUMPRODUCT((Eingabe!$C$6:$C$400<$AZ33)*(Eingabe!$D$6:$D$400>=$AZ33)*(Eingabe!$B$6:$B$400=BG$3)*(Eingabe!$E$6:$E$400))","v":0},"2025-07-30","2025-07-30",{"$f":"SUMPRODUCT((Eingabe!$C$6:$C$400<=$BJ33)*(Eingabe!$D$6:$D$400>$BJ33)*(Eingabe!$B$6:$B$400=BK$3)*(Eingabe!$E$6:$E$400))","v":6},{"$f":"SUMPRODUCT((Eingabe!$C$6:$C$400<$BJ33)*(Eingabe!$D$6:$D$400>=$BJ33)*(Eingabe!$B$6:$B$400=BK$3)*(Eingabe!$E$6:$E$400))","v":6},{"$f":"SUMPRODUCT((Eingabe!$C$6:$C$400<=$BJ33)*(Eingabe!$D$6:$D$400>$BJ33)*(Eingabe!$B$6:$B$400=BM$3)*(Eingabe!$E$6:$E$400))","v":0},{"$f":"SUMPRODUCT((Eingabe!$C$6:$C$400<$BJ33)*(Eingabe!$D$6:$D$400>=$BJ33)*(Eingabe!$B$6:$B$400=BM$3)*(Eingabe!$E$6:$E$400))","v":0},{"$f":"SUMPRODUCT((Eingabe!$C$6:$C$400<=$BJ33)*(Eingabe!$D$6:$D$400>$BJ33)*(Eingabe!$B$6:$B$400=BO$3)*(Eingabe!$E$6:$E$400))","v":0},{"$f":"SUMPRODUCT((Eingabe!$C$6:$C$400<$BJ33)*(Eingabe!$D$6:$D$400>=$BJ33)*(Eingabe!$B$6:$B$400=BO$3)*(Eingabe!$E$6:$E$400))","v":0},{"$f":"SUMPRODUCT((Eingabe!$C$6:$C$400<=$BJ33)*(Eingabe!$D$6:$D$400>$BJ33)*(Eingabe!$B$6:$B$400=BQ$3)*(Eingabe!$E$6:$E$400))","v":0},{"$f":"SUMPRODUCT((Eingabe!$C$6:$C$400<$BJ33)*(Eingabe!$D$6:$D$400>=$BJ33)*(Eingabe!$B$6:$B$400=BQ$3)*(Eingabe!$E$6:$E$400))","v":0},"2025-08-30","2025-08-30",{"$f":"SUMPRODUCT((Eingabe!$C$6:$C$400<=$BT33)*(Eingabe!$D$6:$D$400>$BT33)*(Eingabe!$B$6:$B$400=BU$3)*(Eingabe!$E$6:$E$400))","v":0},{"$f":"SUMPRODUCT((Eingabe!$C$6:$C$400<$BT33)*(Eingabe!$D$6:$D$400>=$BT33)*(Eingabe!$B$6:$B$400=BU$3)*(Eingabe!$E$6:$E$400))","v":0},{"$f":"SUMPRODUCT((Eingabe!$C$6:$C$400<=$BT33)*(Eingabe!$D$6:$D$400>$BT33)*(Eingabe!$B$6:$B$400=BW$3)*(Eingabe!$E$6:$E$400))","v":0},{"$f":"SUMPRODUCT((Eingabe!$C$6:$C$400<$BT33)*(Eingabe!$D$6:$D$400>=$BT33)*(Eingabe!$B$6:$B$400=BW$3)*(Eingabe!$E$6:$E$400))","v":0},{"$f":"SUMPRODUCT((Eingabe!$C$6:$C$400<=$BT33)*(Eingabe!$D$6:$D$400>$BT33)*(Eingabe!$B$6:$B$400=BY$3)*(Eingabe!$E$6:$E$400))","v":0},{"$f":"SUMPRODUCT((Eingabe!$C$6:$C$400<$BT33)*(Eingabe!$D$6:$D$400>=$BT33)*(Eingabe!$B$6:$B$400=BY$3)*(Eingabe!$E$6:$E$400))","v":0},{"$f":"SUMPRODUCT((Eingabe!$C$6:$C$400<=$BT33)*(Eingabe!$D$6:$D$400>$BT33)*(Eingabe!$B$6:$B$400=CA$3)*(Eingabe!$E$6:$E$400))","v":0},{"$f":"SUMPRODUCT((Eingabe!$C$6:$C$400<$BT33)*(Eingabe!$D$6:$D$400>=$BT33)*(Eingabe!$B$6:$B$400=CA$3)*(Eingabe!$E$6:$E$400))","v":0},"2025-09-30","2025-09-30",{"$f":"SUMPRODUCT((Eingabe!$C$6:$C$400<=$CD33)*(Eingabe!$D$6:$D$400>$CD33)*(Eingabe!$B$6:$B$400=CE$3)*(Eingabe!$E$6:$E$400))","v":7},{"$f":"SUMPRODUCT((Eingabe!$C$6:$C$400<$CD33)*(Eingabe!$D$6:$D$400>=$CD33)*(Eingabe!$B$6:$B$400=CE$3)*(Eingabe!$E$6:$E$400))","v":7},{"$f":"SUMPRODUCT((Eingabe!$C$6:$C$400<=$CD33)*(Eingabe!$D$6:$D$400>$CD33)*(Eingabe!$B$6:$B$400=CG$3)*(Eingabe!$E$6:$E$400))","v":0},{"$f":"SUMPRODUCT((Eingabe!$C$6:$C$400<$CD33)*(Eingabe!$D$6:$D$400>=$CD33)*(Eingabe!$B$6:$B$400=CG$3)*(Eingabe!$E$6:$E$400))","v":0},{"$f":"SUMPRODUCT((Eingabe!$C$6:$C$400<=$CD33)*(Eingabe!$D$6:$D$400>$CD33)*(Eingabe!$B$6:$B$400=CI$3)*(Eingabe!$E$6:$E$400))","v":0},{"$f":"SUMPRODUCT((Eingabe!$C$6:$C$400<$CD33)*(Eingabe!$D$6:$D$400>=$CD33)*(Eingabe!$B$6:$B$400=CI$3)*(Eingabe!$E$6:$E$400))","v":0},{"$f":"SUMPRODUCT((Eingabe!$C$6:$C$400<=$CD33)*(Eingabe!$D$6:$D$400>$CD33)*(Eingabe!$B$6:$B$400=CK$3)*(Eingabe!$E$6:$E$400))","v":0},{"$f":"SUMPRODUCT((Eingabe!$C$6:$C$400<$CD33)*(Eingabe!$D$6:$D$400>=$CD33)*(Eingabe!$B$6:$B$400=CK$3)*(Eingabe!$E$6:$E$400))","v":0},"2025-10-30","2025-10-30",{"$f":"SUMPRODUCT((Eingabe!$C$6:$C$400<=$CN33)*(Eingabe!$D$6:$D$400>$CN33)*(Eingabe!$B$6:$B$400=CO$3)*(Eingabe!$E$6:$E$400))","v":7},{"$f":"SUMPRODUCT((Eingabe!$C$6:$C$400<$CN33)*(Eingabe!$D$6:$D$400>=$CN33)*(Eingabe!$B$6:$B$400=CO$3)*(Eingabe!$E$6:$E$400))","v":7},{"$f":"SUMPRODUCT((Eingabe!$C$6:$C$400<=$CN33)*(Eingabe!$D$6:$D$400>$CN33)*(Eingabe!$B$6:$B$400=CQ$3)*(Eingabe!$E$6:$E$400))","v":0},{"$f":"SUMPRODUCT((Eingabe!$C$6:$C$400<$CN33)*(Eingabe!$D$6:$D$400>=$CN33)*(Eingabe!$B$6:$B$400=CQ$3)*(Eingabe!$E$6:$E$400))","v":0},{"$f":"SUMPRODUCT((Eingabe!$C$6:$C$400<=$CN33)*(Eingabe!$D$6:$D$400>$CN33)*(Eingabe!$B$6:$B$400=CS$3)*(Eingabe!$E$6:$E$400))","v":0},{"$f":"SUMPRODUCT((Eingabe!$C$6:$C$400<$CN33)*(Eingabe!$D$6:$D$400>=$CN33)*(Eingabe!$B$6:$B$400=CS$3)*(Eingabe!$E$6:$E$400))","v":0},{"$f":"SUMPRODUCT((Eingabe!$C$6:$C$400<=$CN33)*(Eingabe!$D$6:$D$400>$CN33)*(Eingabe!$B$6:$B$400=CU$3)*(Eingabe!$E$6:$E$400))","v":0},{"$f":"SUMPRODUCT((Eingabe!$C$6:$C$400<$CN33)*(Eingabe!$D$6:$D$400>=$CN33)*(Eingabe!$B$6:$B$400=CU$3)*(Eingabe!$E$6:$E$400))","v":0},"2025-11-30","2025-11-30",{"$f":"SUMPRODUCT((Eingabe!$C$6:$C$400<=$CX33)*(Eingabe!$D$6:$D$400>$CX33)*(Eingabe!$B$6:$B$400=CY$3)*(Eingabe!$E$6:$E$400))","v":7},{"$f":"SUMPRODUCT((Eingabe!$C$6:$C$400<$CX33)*(Eingabe!$D$6:$D$400>=$CX33)*(Eingabe!$B$6:$B$400=CY$3)*(Eingabe!$E$6:$E$400))","v":7},{"$f":"SUMPRODUCT((Eingabe!$C$6:$C$400<=$CX33)*(Eingabe!$D$6:$D$400>$CX33)*(Eingabe!$B$6:$B$400=DA$3)*(Eingabe!$E$6:$E$400))","v":0},{"$f":"SUMPRODUCT((Eingabe!$C$6:$C$400<$CX33)*(Eingabe!$D$6:$D$400>=$CX33)*(Eingabe!$B$6:$B$400=DA$3)*(Eingabe!$E$6:$E$400))","v":0},{"$f":"SUMPRODUCT((Eingabe!$C$6:$C$400<=$CX33)*(Eingabe!$D$6:$D$400>$CX33)*(Eingabe!$B$6:$B$400=DC$3)*(Eingabe!$E$6:$E$400))","v":0},{"$f":"SUMPRODUCT((Eingabe!$C$6:$C$400<$CX33)*(Eingabe!$D$6:$D$400>=$CX33)*(Eingabe!$B$6:$B$400=DC$3)*(Eingabe!$E$6:$E$400))","v":0},{"$f":"SUMPRODUCT((Eingabe!$C$6:$C$400<=$CX33)*(Eingabe!$D$6:$D$400>$CX33)*(Eingabe!$B$6:$B$400=DE$3)*(Eingabe!$E$6:$E$400))","v":0},{"$f":"SUMPRODUCT((Eingabe!$C$6:$C$400<$CX33)*(Eingabe!$D$6:$D$400>=$CX33)*(Eingabe!$B$6:$B$400=DE$3)*(Eingabe!$E$6:$E$400))","v":0},"2025-12-30","2025-12-30",{"$f":"SUMPRODUCT((Eingabe!$C$6:$C$400<=$DH33)*(Eingabe!$D$6:$D$400>$DH33)*(Eingabe!$B$6:$B$400=DI$3)*(Eingabe!$E$6:$E$400))","v":7},{"$f":"SUMPRODUCT((Eingabe!$C$6:$C$400<$DH33)*(Eingabe!$D$6:$D$400>=$DH33)*(Eingabe!$B$6:$B$400=DI$3)*(Eingabe!$E$6:$E$400))","v":7},{"$f":"SUMPRODUCT((Eingabe!$C$6:$C$400<=$DH33)*(Eingabe!$D$6:$D$400>$DH33)*(Eingabe!$B$6:$B$400=DK$3)*(Eingabe!$E$6:$E$400))","v":6},{"$f":"SUMPRODUCT((Eingabe!$C$6:$C$400<$DH33)*(Eingabe!$D$6:$D$400>=$DH33)*(Eingabe!$B$6:$B$400=DK$3)*(Eingabe!$E$6:$E$400))","v":6},{"$f":"SUMPRODUCT((Eingabe!$C$6:$C$400<=$DH33)*(Eingabe!$D$6:$D$400>$DH33)*(Eingabe!$B$6:$B$400=DM$3)*(Eingabe!$E$6:$E$400))","v":8},{"$f":"SUMPRODUCT((Eingabe!$C$6:$C$400<$DH33)*(Eingabe!$D$6:$D$400>=$DH33)*(Eingabe!$B$6:$B$400=DM$3)*(Eingabe!$E$6:$E$400))","v":0},{"$f":"SUMPRODUCT((Eingabe!$C$6:$C$400<=$DH33)*(Eingabe!$D$6:$D$400>$DH33)*(Eingabe!$B$6:$B$400=DO$3)*(Eingabe!$E$6:$E$400))","v":0},{"$f":"SUMPRODUCT((Eingabe!$C$6:$C$400<$DH33)*(Eingabe!$D$6:$D$400>=$DH33)*(Eingabe!$B$6:$B$400=DO$3)*(Eingabe!$E$6:$E$400))","v":0},"2026-01-30","2026-01-30",{"$f":"SUMPRODUCT((Eingabe!$C$6:$C$400<=$B33)*(Eingabe!$D$6:$D$400>$B33)*(Eingabe!$B$6:$B$400=DS$3)*(Eingabe!$E$6:$E$400))","v":0},{"$f":"SUMPRODUCT((Eingabe!$C$6:$C$400<$B33)*(Eingabe!$D$6:$D$400>=$B33)*(Eingabe!$B$6:$B$400=DS$3)*(Eingabe!$E$6:$E$400))","v":0},{"$f":"SUMPRODUCT((Eingabe!$C$6:$C$400<=$B33)*(Eingabe!$D$6:$D$400>$B33)*(Eingabe!$B$6:$B$400=DU$3)*(Eingabe!$E$6:$E$400))","v":0},{"$f":"SUMPRODUCT((Eingabe!$C$6:$C$400<$B33)*(Eingabe!$D$6:$D$400>=$B33)*(Eingabe!$B$6:$B$400=DU$3)*(Eingabe!$E$6:$E$400))","v":0},{"$f":"SUMPRODUCT((Eingabe!$C$6:$C$400<=$B33)*(Eingabe!$D$6:$D$400>$B33)*(Eingabe!$B$6:$B$400=DW$3)*(Eingabe!$E$6:$E$400))","v":0},{"$f":"SUMPRODUCT((Eingabe!$C$6:$C$400<$B33)*(Eingabe!$D$6:$D$400>=$B33)*(Eingabe!$B$6:$B$400=DW$3)*(Eingabe!$E$6:$E$400))","v":0},{"$f":"SUMPRODUCT((Eingabe!$C$6:$C$400<=$B33)*(Eingabe!$D$6:$D$400>$B33)*(Eingabe!$B$6:$B$400=DY$3)*(Eingabe!$E$6:$E$400))","v":0},{"$f":"SUMPRODUCT((Eingabe!$C$6:$C$400<$B33)*(Eingabe!$D$6:$D$400>=$B33)*(Eingabe!$B$6:$B$400=DY$3)*(Eingabe!$E$6:$E$400))","v":0},"","",{"$f":"SUMPRODUCT((Eingabe!$C$6:$C$400<=$L33)*(Eingabe!$D$6:$D$400>$L33)*(Eingabe!$B$6:$B$400=EC$3)*(Eingabe!$E$6:$E$400))","v":0},{"$f":"SUMPRODUCT((Eingabe!$C$6:$C$400<$L33)*(Eingabe!$D$6:$D$400>=$L33)*(Eingabe!$B$6:$B$400=EC$3)*(Eingabe!$E$6:$E$400))","v":0},{"$f":"SUMPRODUCT((Eingabe!$C$6:$C$400<=$L33)*(Eingabe!$D$6:$D$400>$L33)*(Eingabe!$B$6:$B$400=EE$3)*(Eingabe!$E$6:$E$400))","v":0},{"$f":"SUMPRODUCT((Eingabe!$C$6:$C$400<$L33)*(Eingabe!$D$6:$D$400>=$L33)*(Eingabe!$B$6:$B$400=EE$3)*(Eingabe!$E$6:$E$400))","v":0},{"$f":"SUMPRODUCT((Eingabe!$C$6:$C$400<=$L33)*(Eingabe!$D$6:$D$400>$L33)*(Eingabe!$B$6:$B$400=EG$3)*(Eingabe!$E$6:$E$400))","v":0},{"$f":"SUMPRODUCT((Eingabe!$C$6:$C$400<$L33)*(Eingabe!$D$6:$D$400>=$L33)*(Eingabe!$B$6:$B$400=EG$3)*(Eingabe!$E$6:$E$400))","v":0},{"$f":"SUMPRODUCT((Eingabe!$C$6:$C$400<=$L33)*(Eingabe!$D$6:$D$400>$L33)*(Eingabe!$B$6:$B$400=EI$3)*(Eingabe!$E$6:$E$400))","v":0},{"$f":"SUMPRODUCT((Eingabe!$C$6:$C$400<$L33)*(Eingabe!$D$6:$D$400>=$L33)*(Eingabe!$B$6:$B$400=EI$3)*(Eingabe!$E$6:$E$400))","v":0},"2026-03-30","2026-03-30",{"$f":"SUMPRODUCT((Eingabe!$C$6:$C$400<=$V33)*(Eingabe!$D$6:$D$400>$V33)*(Eingabe!$B$6:$B$400=EM$3)*(Eingabe!$E$6:$E$400))","v":0},{"$f":"SUMPRODUCT((Eingabe!$C$6:$C$400<$V33)*(Eingabe!$D$6:$D$400>=$V33)*(Eingabe!$B$6:$B$400=EM$3)*(Eingabe!$E$6:$E$400))","v":0},{"$f":"SUMPRODUCT((Eingabe!$C$6:$C$400<=$V33)*(Eingabe!$D$6:$D$400>$V33)*(Eingabe!$B$6:$B$400=EO$3)*(Eingabe!$E$6:$E$400))","v":0},{"$f":"SUMPRODUCT((Eingabe!$C$6:$C$400<$V33)*(Eingabe!$D$6:$D$400>=$V33)*(Eingabe!$B$6:$B$400=EO$3)*(Eingabe!$E$6:$E$400))","v":0},{"$f":"SUMPRODUCT((Eingabe!$C$6:$C$400<=$V33)*(Eingabe!$D$6:$D$400>$V33)*(Eingabe!$B$6:$B$400=EQ$3)*(Eingabe!$E$6:$E$400))","v":0},{"$f":"SUMPRODUCT((Eingabe!$C$6:$C$400<$V33)*(Eingabe!$D$6:$D$400>=$V33)*(Eingabe!$B$6:$B$400=EQ$3)*(Eingabe!$E$6:$E$400))","v":0},{"$f":"SUMPRODUCT((Eingabe!$C$6:$C$400<=$V33)*(Eingabe!$D$6:$D$400>$V33)*(Eingabe!$B$6:$B$400=ES$3)*(Eingabe!$E$6:$E$400))","v":0},{"$f":"SUMPRODUCT((Eingabe!$C$6:$C$400<$V33)*(Eingabe!$D$6:$D$400>=$V33)*(Eingabe!$B$6:$B$400=ES$3)*(Eingabe!$E$6:$E$400))","v":0},"2026-04-30","2026-04-30",{"$f":"SUMPRODUCT((Eingabe!$C$6:$C$400<=$AF33)*(Eingabe!$D$6:$D$400>$AF33)*(Eingabe!$B$6:$B$400=EW$3)*(Eingabe!$E$6:$E$400))","v":5},{"$f":"SUMPRODUCT((Eingabe!$C$6:$C$400<$AF33)*(Eingabe!$D$6:$D$400>=$AF33)*(Eingabe!$B$6:$B$400=EW$3)*(Eingabe!$E$6:$E$400))","v":5},{"$f":"SUMPRODUCT((Eingabe!$C$6:$C$400<=$AF33)*(Eingabe!$D$6:$D$400>$AF33)*(Eingabe!$B$6:$B$400=EY$3)*(Eingabe!$E$6:$E$400))","v":5},{"$f":"SUMPRODUCT((Eingabe!$C$6:$C$400<$AF33)*(Eingabe!$D$6:$D$400>=$AF33)*(Eingabe!$B$6:$B$400=EY$3)*(Eingabe!$E$6:$E$400))","v":5},{"$f":"SUMPRODUCT((Eingabe!$C$6:$C$400<=$AF33)*(Eingabe!$D$6:$D$400>$AF33)*(Eingabe!$B$6:$B$400=FA$3)*(Eingabe!$E$6:$E$400))","v":0},{"$f":"SUMPRODUCT((Eingabe!$C$6:$C$400<$AF33)*(Eingabe!$D$6:$D$400>=$AF33)*(Eingabe!$B$6:$B$400=FA$3)*(Eingabe!$E$6:$E$400))","v":0},{"$f":"SUMPRODUCT((Eingabe!$C$6:$C$400<=$AF33)*(Eingabe!$D$6:$D$400>$AF33)*(Eingabe!$B$6:$B$400=FC$3)*(Eingabe!$E$6:$E$400))","v":5},{"$f":"SUMPRODUCT((Eingabe!$C$6:$C$400<$AF33)*(Eingabe!$D$6:$D$400>=$AF33)*(Eingabe!$B$6:$B$400=FC$3)*(Eingabe!$E$6:$E$400))","v":5},"2026-05-30","2026-05-30",{"$f":"SUMPRODUCT((Eingabe!$C$6:$C$400<=$AP33)*(Eingabe!$D$6:$D$400>$AP33)*(Eingabe!$B$6:$B$400=FG$3)*(Eingabe!$E$6:$E$400))","v":0},{"$f":"SUMPRODUCT((Eingabe!$C$6:$C$400<$AP33)*(Eingabe!$D$6:$D$400>=$AP33)*(Eingabe!$B$6:$B$400=FG$3)*(Eingabe!$E$6:$E$400))","v":0},{"$f":"SUMPRODUCT((Eingabe!$C$6:$C$400<=$AP33)*(Eingabe!$D$6:$D$400>$AP33)*(Eingabe!$B$6:$B$400=FI$3)*(Eingabe!$E$6:$E$400))","v":0},{"$f":"SUMPRODUCT((Eingabe!$C$6:$C$400<$AP33)*(Eingabe!$D$6:$D$400>=$AP33)*(Eingabe!$B$6:$B$400=FI$3)*(Eingabe!$E$6:$E$400))","v":0},{"$f":"SUMPRODUCT((Eingabe!$C$6:$C$400<=$AP33)*(Eingabe!$D$6:$D$400>$AP33)*(Eingabe!$B$6:$B$400=FK$3)*(Eingabe!$E$6:$E$400))","v":0},{"$f":"SUMPRODUCT((Eingabe!$C$6:$C$400<$AP33)*(Eingabe!$D$6:$D$400>=$AP33)*(Eingabe!$B$6:$B$400=FK$3)*(Eingabe!$E$6:$E$400))","v":0},{"$f":"SUMPRODUCT((Eingabe!$C$6:$C$400<=$AP33)*(Eingabe!$D$6:$D$400>$AP33)*(Eingabe!$B$6:$B$400=FM$3)*(Eingabe!$E$6:$E$400))","v":0},{"$f":"SUMPRODUCT((Eingabe!$C$6:$C$400<$AP33)*(Eingabe!$D$6:$D$400>=$AP33)*(Eingabe!$B$6:$B$400=FM$3)*(Eingabe!$E$6:$E$400))","v":0},"2026-06-30","2026-06-30",{"$f":"SUMPRODUCT((Eingabe!$C$6:$C$400<=$AZ33)*(Eingabe!$D$6:$D$400>$AZ33)*(Eingabe!$B$6:$B$400=FQ$3)*(Eingabe!$E$6:$E$400))","v":0},{"$f":"SUMPRODUCT((Eingabe!$C$6:$C$400<$AZ33)*(Eingabe!$D$6:$D$400>=$AZ33)*(Eingabe!$B$6:$B$400=FQ$3)*(Eingabe!$E$6:$E$400))","v":0},{"$f":"SUMPRODUCT((Eingabe!$C$6:$C$400<=$AZ33)*(Eingabe!$D$6:$D$400>$AZ33)*(Eingabe!$B$6:$B$400=FS$3)*(Eingabe!$E$6:$E$400))","v":0},{"$f":"SUMPRODUCT((Eingabe!$C$6:$C$400<$AZ33)*(Eingabe!$D$6:$D$400>=$AZ33)*(Eingabe!$B$6:$B$400=FS$3)*(Eingabe!$E$6:$E$400))","v":0},{"$f":"SUMPRODUCT((Eingabe!$C$6:$C$400<=$AZ33)*(Eingabe!$D$6:$D$400>$AZ33)*(Eingabe!$B$6:$B$400=FU$3)*(Eingabe!$E$6:$E$400))","v":0},{"$f":"SUMPRODUCT((Eingabe!$C$6:$C$400<$AZ33)*(Eingabe!$D$6:$D$400>=$AZ33)*(Eingabe!$B$6:$B$400=FU$3)*(Eingabe!$E$6:$E$400))","v":0},{"$f":"SUMPRODUCT((Eingabe!$C$6:$C$400<=$AZ33)*(Eingabe!$D$6:$D$400>$AZ33)*(Eingabe!$B$6:$B$400=FW$3)*(Eingabe!$E$6:$E$400))","v":0},{"$f":"SUMPRODUCT((Eingabe!$C$6:$C$400<$AZ33)*(Eingabe!$D$6:$D$400>=$AZ33)*(Eingabe!$B$6:$B$400=FW$3)*(Eingabe!$E$6:$E$400))","v":0},"2026-07-30","2026-07-30",{"$f":"SUMPRODUCT((Eingabe!$C$6:$C$400<=$BJ33)*(Eingabe!$D$6:$D$400>$BJ33)*(Eingabe!$B$6:$B$400=GA$3)*(Eingabe!$E$6:$E$400))","v":6},{"$f":"SUMPRODUCT((Eingabe!$C$6:$C$400<$BJ33)*(Eingabe!$D$6:$D$400>=$BJ33)*(Eingabe!$B$6:$B$400=GA$3)*(Eingabe!$E$6:$E$400))","v":6},{"$f":"SUMPRODUCT((Eingabe!$C$6:$C$400<=$BJ33)*(Eingabe!$D$6:$D$400>$BJ33)*(Eingabe!$B$6:$B$400=GC$3)*(Eingabe!$E$6:$E$400))","v":0},{"$f":"SUMPRODUCT((Eingabe!$C$6:$C$400<$BJ33)*(Eingabe!$D$6:$D$400>=$BJ33)*(Eingabe!$B$6:$B$400=GC$3)*(Eingabe!$E$6:$E$400))","v":0},{"$f":"SUMPRODUCT((Eingabe!$C$6:$C$400<=$BJ33)*(Eingabe!$D$6:$D$400>$BJ33)*(Eingabe!$B$6:$B$400=GE$3)*(Eingabe!$E$6:$E$400))","v":0},{"$f":"SUMPRODUCT((Eingabe!$C$6:$C$400<$BJ33)*(Eingabe!$D$6:$D$400>=$BJ33)*(Eingabe!$B$6:$B$400=GE$3)*(Eingabe!$E$6:$E$400))","v":0},{"$f":"SUMPRODUCT((Eingabe!$C$6:$C$400<=$BJ33)*(Eingabe!$D$6:$D$400>$BJ33)*(Eingabe!$B$6:$B$400=GG$3)*(Eingabe!$E$6:$E$400))","v":0},{"$f":"SUMPRODUCT((Eingabe!$C$6:$C$400<$BJ33)*(Eingabe!$D$6:$D$400>=$BJ33)*(Eingabe!$B$6:$B$400=GG$3)*(Eingabe!$E$6:$E$400))","v":0},"2026-08-30","2026-08-30",{"$f":"SUMPRODUCT((Eingabe!$C$6:$C$400<=$BT33)*(Eingabe!$D$6:$D$400>$BT33)*(Eingabe!$B$6:$B$400=GK$3)*(Eingabe!$E$6:$E$400))","v":0},{"$f":"SUMPRODUCT((Eingabe!$C$6:$C$400<$BT33)*(Eingabe!$D$6:$D$400>=$BT33)*(Eingabe!$B$6:$B$400=GK$3)*(Eingabe!$E$6:$E$400))","v":0},{"$f":"SUMPRODUCT((Eingabe!$C$6:$C$400<=$BT33)*(Eingabe!$D$6:$D$400>$BT33)*(Eingabe!$B$6:$B$400=GM$3)*(Eingabe!$E$6:$E$400))","v":0},{"$f":"SUMPRODUCT((Eingabe!$C$6:$C$400<$BT33)*(Eingabe!$D$6:$D$400>=$BT33)*(Eingabe!$B$6:$B$400=GM$3)*(Eingabe!$E$6:$E$400))","v":0},{"$f":"SUMPRODUCT((Eingabe!$C$6:$C$400<=$BT33)*(Eingabe!$D$6:$D$400>$BT33)*(Eingabe!$B$6:$B$400=GO$3)*(Eingabe!$E$6:$E$400))","v":0},{"$f":"SUMPRODUCT((Eingabe!$C$6:$C$400<$BT33)*(Eingabe!$D$6:$D$400>=$BT33)*(Eingabe!$B$6:$B$400=GO$3)*(Eingabe!$E$6:$E$400))","v":0},{"$f":"SUMPRODUCT((Eingabe!$C$6:$C$400<=$BT33)*(Eingabe!$D$6:$D$400>$BT33)*(Eingabe!$B$6:$B$400=GQ$3)*(Eingabe!$E$6:$E$400))","v":0},{"$f":"SUMPRODUCT((Eingabe!$C$6:$C$400<$BT33)*(Eingabe!$D$6:$D$400>=$BT33)*(Eingabe!$B$6:$B$400=GQ$3)*(Eingabe!$E$6:$E$400))","v":0},"2026-09-30","2026-09-30",{"$f":"SUMPRODUCT((Eingabe!$C$6:$C$400<=$CD33)*(Eingabe!$D$6:$D$400>$CD33)*(Eingabe!$B$6:$B$400=GU$3)*(Eingabe!$E$6:$E$400))","v":7},{"$f":"SUMPRODUCT((Eingabe!$C$6:$C$400<$CD33)*(Eingabe!$D$6:$D$400>=$CD33)*(Eingabe!$B$6:$B$400=GU$3)*(Eingabe!$E$6:$E$400))","v":7},{"$f":"SUMPRODUCT((Eingabe!$C$6:$C$400<=$CD33)*(Eingabe!$D$6:$D$400>$CD33)*(Eingabe!$B$6:$B$400=GW$3)*(Eingabe!$E$6:$E$400))","v":0},{"$f":"SUMPRODUCT((Eingabe!$C$6:$C$400<$CD33)*(Eingabe!$D$6:$D$400>=$CD33)*(Eingabe!$B$6:$B$400=GW$3)*(Eingabe!$E$6:$E$400))","v":0},{"$f":"SUMPRODUCT((Eingabe!$C$6:$C$400<=$CD33)*(Eingabe!$D$6:$D$400>$CD33)*(Eingabe!$B$6:$B$400=GY$3)*(Eingabe!$E$6:$E$400))","v":0},{"$f":"SUMPRODUCT((Eingabe!$C$6:$C$400<$CD33)*(Eingabe!$D$6:$D$400>=$CD33)*(Eingabe!$B$6:$B$400=GY$3)*(Eingabe!$E$6:$E$400))","v":0},{"$f":"SUMPRODUCT((Eingabe!$C$6:$C$400<=$CD33)*(Eingabe!$D$6:$D$400>$CD33)*(Eingabe!$B$6:$B$400=HA$3)*(Eingabe!$E$6:$E$400))","v":0},{"$f":"SUMPRODUCT((Eingabe!$C$6:$C$400<$CD33)*(Eingabe!$D$6:$D$400>=$CD33)*(Eingabe!$B$6:$B$400=HA$3)*(Eingabe!$E$6:$E$400))","v":0},"2026-10-30","2026-10-30",{"$f":"SUMPRODUCT((Eingabe!$C$6:$C$400<=$CN33)*(Eingabe!$D$6:$D$400>$CN33)*(Eingabe!$B$6:$B$400=HE$3)*(Eingabe!$E$6:$E$400))","v":7},{"$f":"SUMPRODUCT((Eingabe!$C$6:$C$400<$CN33)*(Eingabe!$D$6:$D$400>=$CN33)*(Eingabe!$B$6:$B$400=HE$3)*(Eingabe!$E$6:$E$400))","v":7},{"$f":"SUMPRODUCT((Eingabe!$C$6:$C$400<=$CN33)*(Eingabe!$D$6:$D$400>$CN33)*(Eingabe!$B$6:$B$400=HG$3)*(Eingabe!$E$6:$E$400))","v":0},{"$f":"SUMPRODUCT((Eingabe!$C$6:$C$400<$CN33)*(Eingabe!$D$6:$D$400>=$CN33)*(Eingabe!$B$6:$B$400=HG$3)*(Eingabe!$E$6:$E$400))","v":0},{"$f":"SUMPRODUCT((Eingabe!$C$6:$C$400<=$CN33)*(Eingabe!$D$6:$D$400>$CN33)*(Eingabe!$B$6:$B$400=HI$3)*(Eingabe!$E$6:$E$400))","v":0},{"$f":"SUMPRODUCT((Eingabe!$C$6:$C$400<$CN33)*(Eingabe!$D$6:$D$400>=$CN33)*(Eingabe!$B$6:$B$400=HI$3)*(Eingabe!$E$6:$E$400))","v":0},{"$f":"SUMPRODUCT((Eingabe!$C$6:$C$400<=$CN33)*(Eingabe!$D$6:$D$400>$CN33)*(Eingabe!$B$6:$B$400=HK$3)*(Eingabe!$E$6:$E$400))","v":0},{"$f":"SUMPRODUCT((Eingabe!$C$6:$C$400<$CN33)*(Eingabe!$D$6:$D$400>=$CN33)*(Eingabe!$B$6:$B$400=HK$3)*(Eingabe!$E$6:$E$400))","v":0},"2026-11-30","2026-11-30",{"$f":"SUMPRODUCT((Eingabe!$C$6:$C$400<=$CX33)*(Eingabe!$D$6:$D$400>$CX33)*(Eingabe!$B$6:$B$400=HO$3)*(Eingabe!$E$6:$E$400))","v":7},{"$f":"SUMPRODUCT((Eingabe!$C$6:$C$400<$CX33)*(Eingabe!$D$6:$D$400>=$CX33)*(Eingabe!$B$6:$B$400=HO$3)*(Eingabe!$E$6:$E$400))","v":7},{"$f":"SUMPRODUCT((Eingabe!$C$6:$C$400<=$CX33)*(Eingabe!$D$6:$D$400>$CX33)*(Eingabe!$B$6:$B$400=HQ$3)*(Eingabe!$E$6:$E$400))","v":0},{"$f":"SUMPRODUCT((Eingabe!$C$6:$C$400<$CX33)*(Eingabe!$D$6:$D$400>=$CX33)*(Eingabe!$B$6:$B$400=HQ$3)*(Eingabe!$E$6:$E$400))","v":0},{"$f":"SUMPRODUCT((Eingabe!$C$6:$C$400<=$CX33)*(Eingabe!$D$6:$D$400>$CX33)*(Eingabe!$B$6:$B$400=HS$3)*(Eingabe!$E$6:$E$400))","v":0},{"$f":"SUMPRODUCT((Eingabe!$C$6:$C$400<$CX33)*(Eingabe!$D$6:$D$400>=$CX33)*(Eingabe!$B$6:$B$400=HS$3)*(Eingabe!$E$6:$E$400))","v":0},{"$f":"SUMPRODUCT((Eingabe!$C$6:$C$400<=$CX33)*(Eingabe!$D$6:$D$400>$CX33)*(Eingabe!$B$6:$B$400=HU$3)*(Eingabe!$E$6:$E$400))","v":0},{"$f":"SUMPRODUCT((Eingabe!$C$6:$C$400<$CX33)*(Eingabe!$D$6:$D$400>=$CX33)*(Eingabe!$B$6:$B$400=HU$3)*(Eingabe!$E$6:$E$400))","v":0},"2026-12-30","2026-12-30",{"$f":"SUMPRODUCT((Eingabe!$C$6:$C$400<=$DH33)*(Eingabe!$D$6:$D$400>$DH33)*(Eingabe!$B$6:$B$400=HY$3)*(Eingabe!$E$6:$E$400))","v":7},{"$f":"SUMPRODUCT((Eingabe!$C$6:$C$400<$DH33)*(Eingabe!$D$6:$D$400>=$DH33)*(Eingabe!$B$6:$B$400=HY$3)*(Eingabe!$E$6:$E$400))","v":7},{"$f":"SUMPRODUCT((Eingabe!$C$6:$C$400<=$DH33)*(Eingabe!$D$6:$D$400>$DH33)*(Eingabe!$B$6:$B$400=IA$3)*(Eingabe!$E$6:$E$400))","v":6},{"$f":"SUMPRODUCT((Eingabe!$C$6:$C$400<$DH33)*(Eingabe!$D$6:$D$400>=$DH33)*(Eingabe!$B$6:$B$400=IA$3)*(Eingabe!$E$6:$E$400))","v":6},{"$f":"SUMPRODUCT((Eingabe!$C$6:$C$400<=$DH33)*(Eingabe!$D$6:$D$400>$DH33)*(Eingabe!$B$6:$B$400=IC$3)*(Eingabe!$E$6:$E$400))","v":8},{"$f":"SUMPRODUCT((Eingabe!$C$6:$C$400<$DH33)*(Eingabe!$D$6:$D$400>=$DH33)*(Eingabe!$B$6:$B$400=IC$3)*(Eingabe!$E$6:$E$400))","v":0},{"$f":"SUMPRODUCT((Eingabe!$C$6:$C$400<=$DH33)*(Eingabe!$D$6:$D$400>$DH33)*(Eingabe!$B$6:$B$400=IE$3)*(Eingabe!$E$6:$E$400))","v":0},{"$f":"SUMPRODUCT((Eingabe!$C$6:$C$400<$DH33)*(Eingabe!$D$6:$D$400>=$DH33)*(Eingabe!$B$6:$B$400=IE$3)*(Eingabe!$E$6:$E$400))","v":0}]
["2025-01-31","2025-01-31",{"$f":"SUMPRODUCT((Eingabe!$C$6:$C$400<=$B34)*(Eingabe!$D$6:$D$400>$B34)*(Eingabe!$B$6:$B$400=C$3)*(Eingabe!$E$6:$E$400))","v":0},{"$f":"SUMPRODUCT((Eingabe!$C$6:$C$400<$B34)*(Eingabe!$D$6:$D$400>=$B34)*(Eingabe!$B$6:$B$400=C$3)*(Eingabe!$E$6:$E$400))","v":0},{"$f":"SUMPRODUCT((Eingabe!$C$6:$C$400<=$B34)*(Eingabe!$D$6:$D$400>$B34)*(Eingabe!$B$6:$B$400=E$3)*(Eingabe!$E$6:$E$400))","v":0},{"$f":"SUMPRODUCT((Eingabe!$C$6:$C$400<$B34)*(Eingabe!$D$6:$D$400>=$B34)*(Eingabe!$B$6:$B$400=E$3)*(Eingabe!$E$6:$E$400))","v":0},{"$f":"SUMPRODUCT((Eingabe!$C$6:$C$400<=$B34)*(Eingabe!$D$6:$D$400>$B34)*(Eingabe!$B$6:$B$400=G$3)*(Eingabe!$E$6:$E$400))","v":0},{"$f":"SUMPRODUCT((Eingabe!$C$6:$C$400<$B34)*(Eingabe!$D$6:$D$400>=$B34)*(Eingabe!$B$6:$B$400=G$3)*(Eingabe!$E$6:$E$400))","v":0},{"$f":"SUMPRODUCT((Eingabe!$C$6:$C$400<=$B34)*(Eingabe!$D$6:$D$400>$B34)*(Eingabe!$B$6:$B$400=I$3)*(Eingabe!$E$6:$E$400))","v":0},{"$f":"SUMPRODUCT((Eingabe!$C$6:$C$400<$B34)*(Eingabe!$D$6:$D$400>=$B34)*(Eingabe!$B$6:$B$400=I$3)*(Eingabe!$E$6:$E$400))","v":0},"","",{"$f":"SUMPRODUCT((Eingabe!$C$6:$C$400<=$L34)*(Eingabe!$D$6:$D$400>$L34)*(Eingabe!$B$6:$B$400=M$3)*(Eingabe!$E$6:$E$400))","v":0},{"$f":"SUMPRODUCT((Eingabe!$C$6:$C$400<$L34)*(Eingabe!$D$6:$D$400>=$L34)*(Eingabe!$B$6:$B$400=M$3)*(Eingabe!$E$6:$E$400))","v":0},{"$f":"SUMPRODUCT((Eingabe!$C$6:$C$400<=$L34)*(Eingabe!$D$6:$D$400>$L34)*(Eingabe!$B$6:$B$400=O$3)*(Eingabe!$E$6:$E$400))","v":0},{"$f":"SUMPRODUCT((Eingabe!$C$6:$C$400<$L34)*(Eingabe!$D$6:$D$400>=$L34)*(Eingabe!$B$6:$B$400=O$3)*(Eingabe!$E$6:$E$400))","v":0},{"$f":"SUMPRODUCT((Eingabe!$C$6:$C$400<=$L34)*(Eingabe!$D$6:$D$400>$L34)*(Eingabe!$B$6:$B$400=Q$3)*(Eingabe!$E$6:$E$400))","v":0},{"$f":"SUMPRODUCT((Eingabe!$C$6:$C$400<$L34)*(Eingabe!$D$6:$D$400>=$L34)*(Eingabe!$B$6:$B$400=Q$3)*(Eingabe!$E$6:$E$400))","v":0},{"$f":"SUMPRODUCT((Eingabe!$C$6:$C$400<=$L34)*(Eingabe!$D$6:$D$400>$L34)*(Eingabe!$B$6:$B$400=S$3)*(Eingabe!$E$6:$E$400))","v":0},{"$f":"SUMPRODUCT((Eingabe!$C$6:$C$400<$L34)*(Eingabe!$D$6:$D$400>=$L34)*(Eingabe!$B$6:$B$400=S$3)*(Eingabe!$E$6:$E$400))","v":0},"2025-03-31","2025-03-31",{"$f":"SUMPRODUCT((Eingabe!$C$6:$C$400<=$V34)*(Eingabe!$D$6:$D$400>$V34)*(Eingabe!$B$6:$B$400=W$3)*(Eingabe!$E$6:$E$400))","v":0},{"$f":"SUMPRODUCT((Eingabe!$C$6:$C$400<$V34)*(Eingabe!$D$6:$D$400>=$V34)*(Eingabe!$B$6:$B$400=W$3)*(Eingabe!$E$6:$E$400))","v":0},{"$f":"SUMPRODUCT((Eingabe!$C$6:$C$400<=$V34)*(Eingabe!$D$6:$D$400>$V34)*(Eingabe!$B$6:$B$400=Y$3)*(Eingabe!$E$6:$E$400))","v":0},{"$f":"SUMPRODUCT((Eingabe!$C$6:$C$400<$V34)*(Eingabe!$D$6:$D$400>=$V34)*(Eingabe!$B$6:$B$400=Y$3)*(Eingabe!$E$6:$E$400))","v":0},{"$f":"SUMPRODUCT((Eingabe!$C$6:$C$400<=$V34)*(Eingabe!$D$6:$D$400>$V34)*(Eingabe!$B$6:$B$400=AA$3)*(Eingabe!$E$6:$E$400))","v":0},{"$f":"SUMPRODUCT((Eingabe!$C$6:$C$400<$V34)*(Eingabe!$D$6:$D$400>=$V34)*(Eingabe!$B$6:$B$400=AA$3)*(Eingabe!$E$6:$E$400))","v":0},{"$f":"SUMPRODUCT((Eingabe!$C$6:$C$400<=$V34)*(Eingabe!$D$6:$D$400>$V34)*(Eingabe!$B$6:$B$400=AC$3)*(Eingabe!$E$6:$E$400))","v":0},{"$f":"SUMPRODUCT((Eingabe!$C$6:$C$400<$V34)*(Eingabe!$D$6:$D$400>=$V34)*(Eingabe!$B$6:$B$400=AC$3)*(Eingabe!$E$6:$E$400))","v":0},"","",{"$f":"SUMPRODUCT((Eingabe!$C$6:$C$400<=$AF34)*(Eingabe!$D$6:$D$400>$AF34)*(Eingabe!$B$6:$B$400=AG$3)*(Eingabe!$E$6:$E$400))","v":0},{"$f":"SUMPRODUCT((Eingabe!$C$6:$C$400<$AF34)*(Eingabe!$D$6:$D$400>=$AF34)*(Eingabe!$B$6:$B$400=AG$3)*(Eingabe!$E$6:$E$400))","v":0},{"$f":"SUMPRODUCT((Eingabe!$C$6:$C$400<=$AF34)*(Eingabe!$D$6:$D$400>$AF34)*(Eingabe!$B$6:$B$400=AI$3)*(Eingabe!$E$6:$E$400))","v":0},{"$f":"SUMPRODUCT((Eingabe!$C$6:$C$400<$AF34)*(Eingabe!$D$6:$D$400>=$AF34)*(Eingabe!$B$6:$B$400=AI$3)*(Eingabe!$E$6:$E$400))","v":0},{"$f":"SUMPRODUCT((Eingabe!$C$6:$C$400<=$AF34)*(Eingabe!$D$6:$D$400>$AF34)*(Eingabe!$B$6:$B$400=AK$3)*(Eingabe!$E$6:$E$400))","v":0},{"$f":"SUMPRODUCT((Eingabe!$C$6:$C$400<$AF34)*(Eingabe!$D$6:$D$400>=$AF34)*(Eingabe!$B$6:$B$400=AK$3)*(Eingabe!$E$6:$E$400))","v":0},{"$f":"SUMPRODUCT((Eingabe!$C$6:$C$400<=$AF34)*(Eingabe!$D$6:$D$400>$AF34)*(Eingabe!$B$6:$B$400=AM$3)*(Eingabe!$E$6:$E$400))","v":0},{"$f":"SUMPRODUCT((Eingabe!$C$6:$C$400<$AF34)*(Eingabe!$D$6:$D$400>=$AF34)*(Eingabe!$B$6:$B$400=AM$3)*(Eingabe!$E$6:$E$400))","v":0},"2025-05-31","2025-05-31",{"$f":"SUMPRODUCT((Eingabe!$C$6:$C$400<=$AP34)*(Eingabe!$D$6:$D$400>$AP34)*(Eingabe!$B$6:$B$400=AQ$3)*(Eingabe!$E$6:$E$400))","v":0},{"$f":"SUMPRODUCT((Eingabe!$C$6:$C$400<$AP34)*(Eingabe!$D$6:$D$400>=$AP34)*(Eingabe!$B$6:$B$400=AQ$3)*(Eingabe!$E$6:$E$400))","v":0},{"$f":"SUMPRODUCT((Eingabe!$C$6:$C$400<=$AP34)*(Eingabe!$D$6:$D$400>$AP34)*(Eingabe!$B$6:$B$400=AS$3)*(Eingabe!$E$6:$E$400))","v":0},{"$f":"SUMPRODUCT((Eingabe!$C$6:$C$400<$AP34)*(Eingabe!$D$6:$D$400>=$AP34)*(Eingabe!$B$6:$B$400=AS$3)*(Eingabe!$E$6:$E$400))","v":0},{"$f":"SUMPRODUCT((Eingabe!$C$6:$C$400<=$AP34)*(Eingabe!$D$6:$D$400>$AP34)*(Eingabe!$B$6:$B$400=AU$3)*(Eingabe!$E$6:$E$400))","v":0},{"$f":"SUMPRODUCT((Eingabe!$C$6:$C$400<$AP34)*(Eingabe!$D$6:$D$400>=$AP34)*(Eingabe!$B$6:$B$400=AU$3)*(Eingabe!$E$6:$E$400))","v":0},{"$f":"SUMPRODUCT((Eingabe!$C$6:$C$400<=$AP34)*(Eingabe!$D$6:$D$400>$AP34)*(Eingabe!$B$6:$B$400=AW$3)*(Eingabe!$E$6:$E$400))","v":0},{"$f":"SUMPRODUCT((Eingabe!$C$6:$C$400<$AP34)*(Eingabe!$D$6:$D$400>=$AP34)*(Eingabe!$B$6:$B$400=AW$3)*(Eingabe!$E$6:$E$400))","v":0},"","",{"$f":"SUMPRODUCT((Eingabe!$C$6:$C$400<=$AZ34)*(Eingabe!$D$6:$D$400>$AZ34)*(Eingabe!$B$6:$B$400=BA$3)*(Eingabe!$E$6:$E$400))","v":0},{"$f":"SUMPRODUCT((Eingabe!$C$6:$C$400<$AZ34)*(Eingabe!$D$6:$D$400>=$AZ34)*(Eingabe!$B$6:$B$400=BA$3)*(Eingabe!$E$6:$E$400))","v":0},{"$f":"SUMPRODUCT((Eingabe!$C$6:$C$400<=$AZ34)*(Eingabe!$D$6:$D$400>$AZ34)*(Eingabe!$B$6:$B$400=BC$3)*(Eingabe!$E$6:$E$400))","v":0},{"$f":"SUMPRODUCT((Eingabe!$C$6:$C$400<$AZ34)*(Eingabe!$D$6:$D$400>=$AZ34)*(Eingabe!$B$6:$B$400=BC$3)*(Eingabe!$E$6:$E$400))","v":0},{"$f":"SUMPRODUCT((Eingabe!$C$6:$C$400<=$AZ34)*(Eingabe!$D$6:$D$400>$AZ34)*(Eingabe!$B$6:$B$400=BE$3)*(Eingabe!$E$6:$E$400))","v":0},{"$f":"SUMPRODUCT((Eingabe!$C$6:$C$400<$AZ34)*(Eingabe!$D$6:$D$400>=$AZ34)*(Eingabe!$B$6:$B$400=BE$3)*(Eingabe!$E$6:$E$400))","v":0},{"$f":"SUMPRODUCT((Eingabe!$C$6:$C$400<=$AZ34)*(Eingabe!$D$6:$D$400>$AZ34)*(Eingabe!$B$6:$B$400=BG$3)*(Eingabe!$E$6:$E$400))","v":0},{"$f":"SUMPRODUCT((Eingabe!$C$6:$C$400<$AZ34)*(Eingabe!$D$6:$D$400>=$AZ34)*(Eingabe!$B$6:$B$400=BG$3)*(Eingabe!$E$6:$E$400))","v":0},"2025-07-31","2025-07-31",{"$f":"SUMPRODUCT((Eingabe!$C$6:$C$400<=$BJ34)*(Eingabe!$D$6:$D$400>$BJ34)*(Eingabe!$B$6:$B$400=BK$3)*(Eingabe!$E$6:$E$400))","v":6},{"$f":"SUMPRODUCT((Eingabe!$C$6:$C$400<$BJ34)*(Eingabe!$D$6:$D$400>=$BJ34)*(Eingabe!$B$6:$B$400=BK$3)*(Eingabe!$E$6:$E$400))","v":6},{"$f":"SUMPRODUCT((Eingabe!$C$6:$C$400<=$BJ34)*(Eingabe!$D$6:$D$400>$BJ34)*(Eingabe!$B$6:$B$400=BM$3)*(Eingabe!$E$6:$E$400))","v":0},{"$f":"SUMPRODUCT((Eingabe!$C$6:$C$400<$BJ34)*(Eingabe!$D$6:$D$400>=$BJ34)*(Eingabe!$B$6:$B$400=BM$3)*(Eingabe!$E$6:$E$400))","v":0},{"$f":"SUMPRODUCT((Eingabe!$C$6:$C$400<=$BJ34)*(Eingabe!$D$6:$D$400>$BJ34)*(Eingabe!$B$6:$B$400=BO$3)*(Eingabe!$E$6:$E$400))","v":0},{"$f":"SUMPRODUCT((Eingabe!$C$6:$C$400<$BJ34)*(Eingabe!$D$6:$D$400>=$BJ34)*(Eingabe!$B$6:$B$400=BO$3)*(Eingabe!$E$6:$E$400))","v":0},{"$f":"SUMPRODUCT((Eingabe!$C$6:$C$400<=$BJ34)*(Eingabe!$D$6:$D$400>$BJ34)*(Eingabe!$B$6:$B$400=BQ$3)*(Eingabe!$E$6:$E$400))","v":0},{"$f":"SUMPRODUCT((Eingabe!$C$6:$C$400<$BJ34)*(Eingabe!$D$6:$D$400>=$BJ34)*(Eingabe!$B$6:$B$400=BQ$3)*(Eingabe!$E$6:$E$400))","v":0},"2025-08-31","2025-08-31",{"$f":"SUMPRODUCT((Eingabe!$C$6:$C$400<=$BT34)*(Eingabe!$D$6:$D$400>$BT34)*(Eingabe!$B$6:$B$400=BU$3)*(Eingabe!$E$6:$E$400))","v":0},{"$f":"SUMPRODUCT((Eingabe!$C$6:$C$400<$BT34)*(Eingabe!$D$6:$D$400>=$BT34)*(Eingabe!$B$6:$B$400=BU$3)*(Eingabe!$E$6:$E$400))","v":0},{"$f":"SUMPRODUCT((Eingabe!$C$6:$C$400<=$BT34)*(Eingabe!$D$6:$D$400>$BT34)*(Eingabe!$B$6:$B$400=BW$3)*(Eingabe!$E$6:$E$400))","v":0},{"$f":"SUMPRODUCT((Eingabe!$C$6:$C$400<$BT34)*(Eingabe!$D$6:$D$400>=$BT34)*(Eingabe!$B$6:$B$400=BW$3)*(Eingabe!$E$6:$E$400))","v":0},{"$f":"SUMPRODUCT((Eingabe!$C$6:$C$400<=$BT34)*(Eingabe!$D$6:$D$400>$BT34)*(Eingabe!$B$6:$B$400=BY$3)*(Eingabe!$E$6:$E$400))","v":0},{"$f":"SUMPRODUCT((Eingabe!$C$6:$C$400<$BT34)*(Eingabe!$D$6:$D$400>=$BT34)*(Eingabe!$B$6:$B$400=BY$3)*(Eingabe!$E$6:$E$400))","v":0},{"$f":"SUMPRODUCT((Eingabe!$C$6:$C$400<=$BT34)*(Eingabe!$D$6:$D$400>$BT34)*(Eingabe!$B$6:$B$400=CA$3)*(Eingabe!$E$6:$E$400))","v":0},{"$f":"SUMPRODUCT((Eingabe!$C$6:$C$400<$BT34)*(Eingabe!$D$6:$D$400>=$BT34)*(Eingabe!$B$6:$B$400=CA$3)*(Eingabe!$E$6:$E$400))","v":0},"","",{"$f":"SUMPRODUCT((Eingabe!$C$6:$C$400<=$CD34)*(Eingabe!$D$6:$D$400>$CD34)*(Eingabe!$B$6:$B$400=CE$3)*(Eingabe!$E$6:$E$400))","v":0},{"$f":"SUMPRODUCT((Eingabe!$C$6:$C$400<$CD34)*(Eingabe!$D$6:$D$400>=$CD34)*(Eingabe!$B$6:$B$400=CE$3)*(Eingabe!$E$6:$E$400))","v":0},{"$f":"SUMPRODUCT((Eingabe!$C$6:$C$400<=$CD34)*(Eingabe!$D$6:$D$400>$CD34)*(Eingabe!$B$6:$B$400=CG$3)*(Eingabe!$E$6:$E$400))","v":0},{"$f":"SUMPRODUCT((Eingabe!$C$6:$C$400<$CD34)*(Eingabe!$D$6:$D$400>=$CD34)*(Eingabe!$B$6:$B$400=CG$3)*(Eingabe!$E$6:$E$400))","v":0},{"$f":"SUMPRODUCT((Eingabe!$C$6:$C$400<=$CD34)*(Eingabe!$D$6:$D$400>$CD34)*(Eingabe!$B$6:$B$400=CI$3)*(Eingabe!$E$6:$E$400))","v":0},{"$f":"SUMPRODUCT((Eingabe!$C$6:$C$400<$CD34)*(Eingabe!$D$6:$D$400>=$CD34)*(Eingabe!$B$6:$B$400=CI$3)*(Eingabe!$E$6:$E$400))","v":0},{"$f":"SUMPRODUCT((Eingabe!$C$6:$C$400<=$CD34)*(Eingabe!$D$6:$D$400>$CD34)*(Eingabe!$B$6:$B$400=CK$3)*(Eingabe!$E$6:$E$400))","v":0},{"$f":"SUMPRODUCT((Eingabe!$C$6:$C$400<$CD34)*(Eingabe!$D$6:$D$400>=$CD34)*(Eingabe!$B$6:$B$400=CK$3)*(Eingabe!$E$6:$E$400))","v":0},"2025-10-31","2025-10-31",{"$f":"SUMPRODUCT((Eingabe!$C$6:$C$400<=$CN34)*(Eingabe!$D$6:$D$400>$CN34)*(Eingabe!$B$6:$B$400=CO$3)*(Eingabe!$E$6:$E$400))","v":7},{"$f":"SUMPRODUCT((Eingabe!$C$6:$C$400<$CN34)*(Eingabe!$D$6:$D$400>=$CN34)*(Eingabe!$B$6:$B$400=CO$3)*(Eingabe!$E$6:$E$400))","v":7},{"$f":"SUMPRODUCT((Eingabe!$C$6:$C$400<=$CN34)*(Eingabe!$D$6:$D$400>$CN34)*(Eingabe!$B$6:$B$400=CQ$3)*(Eingabe!$E$6:$E$400))","v":0},{"$f":"SUMPRODUCT((Eingabe!$C$6:$C$400<$CN34)*(Eingabe!$D$6:$D$400>=$CN34)*(Eingabe!$B$6:$B$400=CQ$3)*(Eingabe!$E$6:$E$400))","v":0},{"$f":"SUMPRODUCT((Eingabe!$C$6:$C$400<=$CN34)*(Eingabe!$D$6:$D$400>$CN34)*(Eingabe!$B$6:$B$400=CS$3)*(Eingabe!$E$6:$E$400))","v":0},{"$f":"SUMPRODUCT((Eingabe!$C$6:$C$400<$CN34)*(Eingabe!$D$6:$D$400>=$CN34)*(Eingabe!$B$6:$B$400=CS$3)*(Eingabe!$E$6:$E$400))","v":0},{"$f":"SUMPRODUCT((Eingabe!$C$6:$C$400<=$CN34)*(Eingabe!$D$6:$D$400>$CN34)*(Eingabe!$B$6:$B$400=CU$3)*(Eingabe!$E$6:$E$400))","v":0},{"$f":"SUMPRODUCT((Eingabe!$C$6:$C$400<$CN34)*(Eingabe!$D$6:$D$400>=$CN34)*(Eingabe!$B$6:$B$400=CU$3)*(Eingabe!$E$6:$E$400))","v":0},"","",{"$f":"SUMPRODUCT((Eingabe!$C$6:$C$400<=$CX34)*(Eingabe!$D$6:$D$400>$CX34)*(Eingabe!$B$6:$B$400=CY$3)*(Eingabe!$E$6:$E$400))","v":0},{"$f":"SUMPRODUCT((Eingabe!$C$6:$C$400<$CX34)*(Eingabe!$D$6:$D$400>=$CX34)*(Eingabe!$B$6:$B$400=CY$3)*(Eingabe!$E$6:$E$400))","v":0},{"$f":"SUMPRODUCT((Eingabe!$C$6:$C$400<=$CX34)*(Eingabe!$D$6:$D$400>$CX34)*(Eingabe!$B$6:$B$400=DA$3)*(Eingabe!$E$6:$E$400))","v":0},{"$f":"SUMPRODUCT((Eingabe!$C$6:$C$400<$CX34)*(Eingabe!$D$6:$D$400>=$CX34)*(Eingabe!$B$6:$B$400=DA$3)*(Eingabe!$E$6:$E$400))","v":0},{"$f":"SUMPRODUCT((Eingabe!$C$6:$C$400<=$CX34)*(Eingabe!$D$6:$D$400>$CX34)*(Eingabe!$B$6:$B$400=DC$3)*(Eingabe!$E$6:$E$400))","v":0},{"$f":"SUMPRODUCT((Eingabe!$C$6:$C$400<$CX34)*(Eingabe!$D$6:$D$400>=$CX34)*(Eingabe!$B$6:$B$400=DC$3)*(Eingabe!$E$6:$E$400))","v":0},{"$f":"SUMPRODUCT((Eingabe!$C$6:$C$400<=$CX34)*(Eingabe!$D$6:$D$400>$CX34)*(Eingabe!$B$6:$B$400=DE$3)*(Eingabe!$E$6:$E$400))","v":0},{"$f":"SUMPRODUCT((Eingabe!$C$6:$C$400<$CX34)*(Eingabe!$D$6:$D$400>=$CX34)*(Eingabe!$B$6:$B$400=DE$3)*(Eingabe!$E$6:$E$400))","v":0},"2025-12-31","2025-12-31",{"$f":"SUMPRODUCT((Eingabe!$C$6:$C$400<=$DH34)*(Eingabe!$D$6:$D$400>$DH34)*(Eingabe!$B$6:$B$400=DI$3)*(Eingabe!$E$6:$E$400))","v":0},{"$f":"SUMPRODUCT((Eingabe!$C$6:$C$400<$DH34)*(Eingabe!$D$6:$D$400>=$DH34)*(Eingabe!$B$6:$B$400=DI$3)*(Eingabe!$E$6:$E$400))","v":7},{"$f":"SUMPRODUCT((Eingabe!$C$6:$C$400<=$DH34)*(Eingabe!$D$6:$D$400>$DH34)*(Eingabe!$B$6:$B$400=DK$3)*(Eingabe!$E$6:$E$400))","v":6},{"$f":"SUMPRODUCT((Eingabe!$C$6:$C$400<$DH34)*(Eingabe!$D$6:$D$400>=$DH34)*(Eingabe!$B$6:$B$400=DK$3)*(Eingabe!$E$6:$E$400))","v":6},{"$f":"SUMPRODUCT((Eingabe!$C$6:$C$400<=$DH34)*(Eingabe!$D$6:$D$400>$DH34)*(Eingabe!$B$6:$B$400=DM$3)*(Eingabe!$E$6:$E$400))","v":8},{"$f":"SUMPRODUCT((Eingabe!$C$6:$C$400<$DH34)*(Eingabe!$D$6:$D$400>=$DH34)*(Eingabe!$B$6:$B$400=DM$3)*(Eingabe!$E$6:$E$400))","v":8},{"$f":"SUMPRODUCT((Eingabe!$C$6:$C$400<=$DH34)*(Eingabe!$D$6:$D$400>$DH34)*(Eingabe!$B$6:$B$400=DO$3)*(Eingabe!$E$6:$E$400))","v":0},{"$f":"SUMPRODUCT((Eingabe!$C$6:$C$400<$DH34)*(Eingabe!$D$6:$D$400>=$DH34)*(Eingabe!$B$6:$B$400=DO$3)*(Eingabe!$E$6:$E$400))","v":0},"2026-01-31","2026-01-31",{"$f":"SUMPRODUCT((Eingabe!$C$6:$C$400<=$B34)*(Eingabe!$D$6:$D$400>$B34)*(Eingabe!$B$6:$B$400=DS$3)*(Eingabe!$E$6:$E$400))","v":0},{"$f":"SUMPRODUCT((Eingabe!$C$6:$C$400<$B34)*(Eingabe!$D$6:$D$400>=$B34)*(Eingabe!$B$6:$B$400=DS$3)*(Eingabe!$E$6:$E$400))","v":0},{"$f":"SUMPRODUCT((Eingabe!$C$6:$C$400<=$B34)*(Eingabe!$D$6:$D$400>$B34)*(Eingabe!$B$6:$B$400=DU$3)*(Eingabe!$E$6:$E$400))","v":0},{"$f":"SUMPRODUCT((Eingabe!$C$6:$C$400<$B34)*(Eingabe!$D$6:$D$400>=$B34)*(Eingabe!$B$6:$B$400=DU$3)*(Eingabe!$E$6:$E$400))","v":0},{"$f":"SUMPRODUCT((Eingabe!$C$6:$C$400<=$B34)*(Eingabe!$D$6:$D$400>$B34)*(Eingabe!$B$6:$B$400=DW$3)*(Eingabe!$E$6:$E$400))","v":0},{"$f":"SUMPRODUCT((Eingabe!$C$6:$C$400<$B34)*(Eingabe!$D$6:$D$400>=$B34)*(Eingabe!$B$6:$B$400=DW$3)*(Eingabe!$E$6:$E$400))","v":0},{"$f":"SUMPRODUCT((Eingabe!$C$6:$C$400<=$B34)*(Eingabe!$D$6:$D$400>$B34)*(Eingabe!$B$6:$B$400=DY$3)*(Eingabe!$E$6:$E$400))","v":0},{"$f":"SUMPRODUCT((Eingabe!$C$6:$C$400<$B34)*(Eingabe!$D$6:$D$400>=$B34)*(Eingabe!$B$6:$B$400=DY$3)*(Eingabe!$E$6:$E$400))","v":0},"","",{"$f":"SUMPRODUCT((Eingabe!$C$6:$C$400<=$L34)*(Eingabe!$D$6:$D$400>$L34)*(Eingabe!$B$6:$B$400=EC$3)*(Eingabe!$E$6:$E$400))","v":0},{"$f":"SUMPRODUCT((Eingabe!$C$6:$C$400<$L34)*(Eingabe!$D$6:$D$400>=$L34)*(Eingabe!$B$6:$B$400=EC$3)*(Eingabe!$E$6:$E$400))","v":0},{"$f":"SUMPRODUCT((Eingabe!$C$6:$C$400<=$L34)*(Eingabe!$D$6:$D$400>$L34)*(Eingabe!$B$6:$B$400=EE$3)*(Eingabe!$E$6:$E$400))","v":0},{"$f":"SUMPRODUCT((Eingabe!$C$6:$C$400<$L34)*(Eingabe!$D$6:$D$400>=$L34)*(Eingabe!$B$6:$B$400=EE$3)*(Eingabe!$E$6:$E$400))","v":0},{"$f":"SUMPRODUCT((Eingabe!$C$6:$C$400<=$L34)*(Eingabe!$D$6:$D$400>$L34)*(Eingabe!$B$6:$B$400=EG$3)*(Eingabe!$E$6:$E$400))","v":0},{"$f":"SUMPRODUCT((Eingabe!$C$6:$C$400<$L34)*(Eingabe!$D$6:$D$400>=$L34)*(Eingabe!$B$6:$B$400=EG$3)*(Eingabe!$E$6:$E$400))","v":0},{"$f":"SUMPRODUCT((Eingabe!$C$6:$C$400<=$L34)*(Eingabe!$D$6:$D$400>$L34)*(Eingabe!$B$6:$B$400=EI$3)*(Eingabe!$E$6:$E$400))","v":0},{"$f":"SUMPRODUCT((Eingabe!$C$6:$C$400<$L34)*(Eingabe!$D$6:$D$400>=$L34)*(Eingabe!$B$6:$B$400=EI$3)*(Eingabe!$E$6:$E$400))","v":0},"2026-03-31","2026-03-31",{"$f":"SUMPRODUCT((Eingabe!$C$6:$C$400<=$V34)*(Eingabe!$D$6:$D$400>$V34)*(Eingabe!$B$6:$B$400=EM$3)*(Eingabe!$E$6:$E$400))","v":0},{"$f":"SUMPRODUCT((Eingabe!$C$6:$C$400<$V34)*(Eingabe!$D$6:$D$400>=$V34)*(Eingabe!$B$6:$B$400=EM$3)*(Eingabe!$E$6:$E$400))","v":0},{"$f":"SUMPRODUCT((Eingabe!$C$6:$C$400<=$V34)*(Eingabe!$D$6:$D$400>$V34)*(Eingabe!$B$6:$B$400=EO$3)*(Eingabe!$E$6:$E$400))","v":0},{"$f":"SUMPRODUCT((Eingabe!$C$6:$C$400<$V34)*(Eingabe!$D$6:$D$400>=$V34)*(Eingabe!$B$6:$B$400=EO$3)*(Eingabe!$E$6:$E$400))","v":0},{"$f":"SUMPRODUCT((Eingabe!$C$6:$C$400<=$V34)*(Eingabe!$D$6:$D$400>$V34)*(Eingabe!$B$6:$B$400=EQ$3)*(Eingabe!$E$6:$E$400))","v":0},{"$f":"SUMPRODUCT((Eingabe!$C$6:$C$400<$V34)*(Eingabe!$D$6:$D$400>=$V34)*(Eingabe!$B$6:$B$400=EQ$3)*(Eingabe!$E$6:$E$400))","v":0},{"$f":"SUMPRODUCT((Eingabe!$C$6:$C$400<=$V34)*(Eingabe!$D$6:$D$400>$V34)*(Eingabe!$B$6:$B$400=ES$3)*(Eingabe!$E$6:$E$400))","v":0},{"$f":"SUMPRODUCT((Eingabe!$C$6:$C$400<$V34)*(Eingabe!$D$6:$D$400>=$V34)*(Eingabe!$B$6:$B$400=ES$3)*(Eingabe!$E$6:$E$400))","v":0},"","",{"$f":"SUMPRODUCT((Eingabe!$C$6:$C$400<=$AF34)*(Eingabe!$D$6:$D$400>$AF34)*(Eingabe!$B$6:$B$400=EW$3)*(Eingabe!$E$6:$E$400))","v":0},{"$f":"SUMPRODUCT((Eingabe!$C$6:$C$400<$AF34)*(Eingabe!$D$6:$D$400>=$AF34)*(Eingabe!$B$6:$B$400=EW$3)*(Eingabe!$E$6:$E$400))","v":0},{"$f":"SUMPRODUCT((Eingabe!$C$6:$C$400<=$AF34)*(Eingabe!$D$6:$D$400>$AF34)*(Eingabe!$B$6:$B$400=EY$3)*(Eingabe!$E$6:$E$400))","v":0},{"$f":"SUMPRODUCT((Eingabe!$C$6:$C$400<$AF34)*(Eingabe!$D$6:$D$400>=$AF34)*(Eingabe!$B$6:$B$400=EY$3)*(Eingabe!$E$6:$E$400))","v":0},{"$f":"SUMPRODUCT((Eingabe!$C$6:$C$400<=$AF34)*(Eingabe!$D$6:$D$400>$AF34)*(Eingabe!$B$6:$B$400=FA$3)*(Eingabe!$E$6:$E$400))","v":0},{"$f":"SUMPRODUCT((Eingabe!$C$6:$C$400<$AF34)*(Eingabe!$D$6:$D$400>=$AF34)*(Eingabe!$B$6:$B$400=FA$3)*(Eingabe!$E$6:$E$400))","v":0},{"$f":"SUMPRODUCT((Eingabe!$C$6:$C$400<=$AF34)*(Eingabe!$D$6:$D$400>$AF34)*(Eingabe!$B$6:$B$400=FC$3)*(Eingabe!$E$6:$E$400))","v":0},{"$f":"SUMPRODUCT((Eingabe!$C$6:$C$400<$AF34)*(Eingabe!$D$6:$D$400>=$AF34)*(Eingabe!$B$6:$B$400=FC$3)*(Eingabe!$E$6:$E$400))","v":0},"2026-05-31","2026-05-31",{"$f":"SUMPRODUCT((Eingabe!$C$6:$C$400<=$AP34)*(Eingabe!$D$6:$D$400>$AP34)*(Eingabe!$B$6:$B$400=FG$3)*(Eingabe!$E$6:$E$400))","v":0},{"$f":"SUMPRODUCT((Eingabe!$C$6:$C$400<$AP34)*(Eingabe!$D$6:$D$400>=$AP34)*(Eingabe!$B$6:$B$400=FG$3)*(Eingabe!$E$6:$E$400))","v":0},{"$f":"SUMPRODUCT((Eingabe!$C$6:$C$400<=$AP34)*(Eingabe!$D$6:$D$400>$AP34)*(Eingabe!$B$6:$B$400=FI$3)*(Eingabe!$E$6:$E$400))","v":0},{"$f":"SUMPRODUCT((Eingabe!$C$6:$C$400<$AP34)*(Eingabe!$D$6:$D$400>=$AP34)*(Eingabe!$B$6:$B$400=FI$3)*(Eingabe!$E$6:$E$400))","v":0},{"$f":"SUMPRODUCT((Eingabe!$C$6:$C$400<=$AP34)*(Eingabe!$D$6:$D$400>$AP34)*(Eingabe!$B$6:$B$400=FK$3)*(Eingabe!$E$6:$E$400))","v":0},{"$f":"SUMPRODUCT((Eingabe!$C$6:$C$400<$AP34)*(Eingabe!$D$6:$D$400>=$AP34)*(Eingabe!$B$6:$B$400=FK$3)*(Eingabe!$E$6:$E$400))","v":0},{"$f":"SUMPRODUCT((Eingabe!$C$6:$C$400<=$AP34)*(Eingabe!$D$6:$D$400>$AP34)*(Eingabe!$B$6:$B$400=FM$3)*(Eingabe!$E$6:$E$400))","v":0},{"$f":"SUMPRODUCT((Eingabe!$C$6:$C$400<$AP34)*(Eingabe!$D$6:$D$400>=$AP34)*(Eingabe!$B$6:$B$400=FM$3)*(Eingabe!$E$6:$E$400))","v":0},"","",{"$f":"SUMPRODUCT((Eingabe!$C$6:$C$400<=$AZ34)*(Eingabe!$D$6:$D$400>$AZ34)*(Eingabe!$B$6:$B$400=FQ$3)*(Eingabe!$E$6:$E$400))","v":0},{"$f":"SUMPRODUCT((Eingabe!$C$6:$C$400<$AZ34)*(Eingabe!$D$6:$D$400>=$AZ34)*(Eingabe!$B$6:$B$400=FQ$3)*(Eingabe!$E$6:$E$400))","v":0},{"$f":"SUMPRODUCT((Eingabe!$C$6:$C$400<=$AZ34)*(Eingabe!$D$6:$D$400>$AZ34)*(Eingabe!$B$6:$B$400=FS$3)*(Eingabe!$E$6:$E$400))","v":0},{"$f":"SUMPRODUCT((Eingabe!$C$6:$C$400<$AZ34)*(Eingabe!$D$6:$D$400>=$AZ34)*(Eingabe!$B$6:$B$400=FS$3)*(Eingabe!$E$6:$E$400))","v":0},{"$f":"SUMPRODUCT((Eingabe!$C$6:$C$400<=$AZ34)*(Eingabe!$D$6:$D$400>$AZ34)*(Eingabe!$B$6:$B$400=FU$3)*(Eingabe!$E$6:$E$400))","v":0},{"$f":"SUMPRODUCT((Eingabe!$C$6:$C$400<$AZ34)*(Eingabe!$D$6:$D$400>=$AZ34)*(Eingabe!$B$6:$B$400=FU$3)*(Eingabe!$E$6:$E$400))","v":0},{"$f":"SUMPRODUCT((Eingabe!$C$6:$C$400<=$AZ34)*(Eingabe!$D$6:$D$400>$AZ34)*(Eingabe!$B$6:$B$400=FW$3)*(Eingabe!$E$6:$E$400))","v":0},{"$f":"SUMPRODUCT((Eingabe!$C$6:$C$400<$AZ34)*(Eingabe!$D$6:$D$400>=$AZ34)*(Eingabe!$B$6:$B$400=FW$3)*(Eingabe!$E$6:$E$400))","v":0},"2026-07-31","2026-07-31",{"$f":"SUMPRODUCT((Eingabe!$C$6:$C$400<=$BJ34)*(Eingabe!$D$6:$D$400>$BJ34)*(Eingabe!$B$6:$B$400=GA$3)*(Eingabe!$E$6:$E$400))","v":6},{"$f":"SUMPRODUCT((Eingabe!$C$6:$C$400<$BJ34)*(Eingabe!$D$6:$D$400>=$BJ34)*(Eingabe!$B$6:$B$400=GA$3)*(Eingabe!$E$6:$E$400))","v":6},{"$f":"SUMPRODUCT((Eingabe!$C$6:$C$400<=$BJ34)*(Eingabe!$D$6:$D$400>$BJ34)*(Eingabe!$B$6:$B$400=GC$3)*(Eingabe!$E$6:$E$400))","v":0},{"$f":"SUMPRODUCT((Eingabe!$C$6:$C$400<$BJ34)*(Eingabe!$D$6:$D$400>=$BJ34)*(Eingabe!$B$6:$B$400=GC$3)*(Eingabe!$E$6:$E$400))","v":0},{"$f":"SUMPRODUCT((Eingabe!$C$6:$C$400<=$BJ34)*(Eingabe!$D$6:$D$400>$BJ34)*(Eingabe!$B$6:$B$400=GE$3)*(Eingabe!$E$6:$E$400))","v":0},{"$f":"SUMPRODUCT((Eingabe!$C$6:$C$400<$BJ34)*(Eingabe!$D$6:$D$400>=$BJ34)*(Eingabe!$B$6:$B$400=GE$3)*(Eingabe!$E$6:$E$400))","v":0},{"$f":"SUMPRODUCT((Eingabe!$C$6:$C$400<=$BJ34)*(Eingabe!$D$6:$D$400>$BJ34)*(Eingabe!$B$6:$B$400=GG$3)*(Eingabe!$E$6:$E$400))","v":0},{"$f":"SUMPRODUCT((Eingabe!$C$6:$C$400<$BJ34)*(Eingabe!$D$6:$D$400>=$BJ34)*(Eingabe!$B$6:$B$400=GG$3)*(Eingabe!$E$6:$E$400))","v":0},"2026-08-31","2026-08-31",{"$f":"SUMPRODUCT((Eingabe!$C$6:$C$400<=$BT34)*(Eingabe!$D$6:$D$400>$BT34)*(Eingabe!$B$6:$B$400=GK$3)*(Eingabe!$E$6:$E$400))","v":0},{"$f":"SUMPRODUCT((Eingabe!$C$6:$C$400<$BT34)*(Eingabe!$D$6:$D$400>=$BT34)*(Eingabe!$B$6:$B$400=GK$3)*(Eingabe!$E$6:$E$400))","v":0},{"$f":"SUMPRODUCT((Eingabe!$C$6:$C$400<=$BT34)*(Eingabe!$D$6:$D$400>$BT34)*(Eingabe!$B$6:$B$400=GM$3)*(Eingabe!$E$6:$E$400))","v":0},{"$f":"SUMPRODUCT((Eingabe!$C$6:$C$400<$BT34)*(Eingabe!$D$6:$D$400>=$BT34)*(Eingabe!$B$6:$B$400=GM$3)*(Eingabe!$E$6:$E$400))","v":0},{"$f":"SUMPRODUCT((Eingabe!$C$6:$C$400<=$BT34)*(Eingabe!$D$6:$D$400>$BT34)*(Eingabe!$B$6:$B$400=GO$3)*(Eingabe!$E$6:$E$400))","v":0},{"$f":"SUMPRODUCT((Eingabe!$C$6:$C$400<$BT34)*(Eingabe!$D$6:$D$400>=$BT34)*(Eingabe!$B$6:$B$400=GO$3)*(Eingabe!$E$6:$E$400))","v":0},{"$f":"SUMPRODUCT((Eingabe!$C$6:$C$400<=$BT34)*(Eingabe!$D$6:$D$400>$BT34)*(Eingabe!$B$6:$B$400=GQ$3)*(Eingabe!$E$6:$E$400))","v":0},{"$f":"SUMPRODUCT((Eingabe!$C$6:$C$400<$BT34)*(Eingabe!$D$6:$D$400>=$BT34)*(Eingabe!$B$6:$B$400=GQ$3)*(Eingabe!$E$6:$E$400))","v":0},"","",{"$f":"SUMPRODUCT((Eingabe!$C$6:$C$400<=$CD34)*(Eingabe!$D$6:$D$400>$CD34)*(Eingabe!$B$6:$B$400=GU$3)*(Eingabe!$E$6:$E$400))","v":0},{"$f":"SUMPRODUCT((Eingabe!$C$6:$C$400<$CD34)*(Eingabe!$D$6:$D$400>=$CD34)*(Eingabe!$B$6:$B$400=GU$3)*(Eingabe!$E$6:$E$400))","v":0},{"$f":"SUMPRODUCT((Eingabe!$C$6:$C$400<=$CD34)*(Eingabe!$D$6:$D$400>$CD34)*(Eingabe!$B$6:$B$400=GW$3)*(Eingabe!$E$6:$E$400))","v":0},{"$f":"SUMPRODUCT((Eingabe!$C$6:$C$400<$CD34)*(Eingabe!$D$6:$D$400>=$CD34)*(Eingabe!$B$6:$B$400=GW$3)*(Eingabe!$E$6:$E$400))","v":0},{"$f":"SUMPRODUCT((Eingabe!$C$6:$C$400<=$CD34)*(Eingabe!$D$6:$D$400>$CD34)*(Eingabe!$B$6:$B$400=GY$3)*(Eingabe!$E$6:$E$400))","v":0},{"$f":"SUMPRODUCT((Eingabe!$C$6:$C$400<$CD34)*(Eingabe!$D$6:$D$400>=$CD34)*(Eingabe!$B$6:$B$400=GY$3)*(Eingabe!$E$6:$E$400))","v":0},{"$f":"SUMPRODUCT((Eingabe!$C$6:$C$400<=$CD34)*(Eingabe!$D$6:$D$400>$CD34)*(Eingabe!$B$6:$B$400=HA$3)*(Eingabe!$E$6:$E$400))","v":0},{"$f":"SUMPRODUCT((Eingabe!$C$6:$C$400<$CD34)*(Eingabe!$D$6:$D$400>=$CD34)*(Eingabe!$B$6:$B$400=HA$3)*(Eingabe!$E$6:$E$400))","v":0},"2026-10-31","2026-10-31",{"$f":"SUMPRODUCT((Eingabe!$C$6:$C$400<=$CN34)*(Eingabe!$D$6:$D$400>$CN34)*(Eingabe!$B$6:$B$400=HE$3)*(Eingabe!$E$6:$E$400))","v":7},{"$f":"SUMPRODUCT((Eingabe!$C$6:$C$400<$CN34)*(Eingabe!$D$6:$D$400>=$CN34)*(Eingabe!$B$6:$B$400=HE$3)*(Eingabe!$E$6:$E$400))","v":7},{"$f":"SUMPRODUCT((Eingabe!$C$6:$C$400<=$CN34)*(Eingabe!$D$6:$D$400>$CN34)*(Eingabe!$B$6:$B$400=HG$3)*(Eingabe!$E$6:$E$400))","v":0},{"$f":"SUMPRODUCT((Eingabe!$C$6:$C$400<$CN34)*(Eingabe!$D$6:$D$400>=$CN34)*(Eingabe!$B$6:$B$400=HG$3)*(Eingabe!$E$6:$E$400))","v":0},{"$f":"SUMPRODUCT((Eingabe!$C$6:$C$400<=$CN34)*(Eingabe!$D$6:$D$400>$CN34)*(Eingabe!$B$6:$B$400=HI$3)*(Eingabe!$E$6:$E$400))","v":0},{"$f":"SUMPRODUCT((Eingabe!$C$6:$C$400<$CN34)*(Eingabe!$D$6:$D$400>=$CN34)*(Eingabe!$B$6:$B$400=HI$3)*(Eingabe!$E$6:$E$400))","v":0},{"$f":"SUMPRODUCT((Eingabe!$C$6:$C$400<=$CN34)*(Eingabe!$D$6:$D$400>$CN34)*(Eingabe!$B$6:$B$400=HK$3)*(Eingabe!$E$6:$E$400))","v":0},{"$f":"SUMPRODUCT((Eingabe!$C$6:$C$400<$CN34)*(Eingabe!$D$6:$D$400>=$CN34)*(Eingabe!$B$6:$B$400=HK$3)*(Eingabe!$E$6:$E$400))","v":0},"","",{"$f":"SUMPRODUCT((Eingabe!$C$6:$C$400<=$CX34)*(Eingabe!$D$6:$D$400>$CX34)*(Eingabe!$B$6:$B$400=HO$3)*(Eingabe!$E$6:$E$400))","v":0},{"$f":"SUMPRODUCT((Eingabe!$C$6:$C$400<$CX34)*(Eingabe!$D$6:$D$400>=$CX34)*(Eingabe!$B$6:$B$400=HO$3)*(Eingabe!$E$6:$E$400))","v":0},{"$f":"SUMPRODUCT((Eingabe!$C$6:$C$400<=$CX34)*(Eingabe!$D$6:$D$400>$CX34)*(Eingabe!$B$6:$B$400=HQ$3)*(Eingabe!$E$6:$E$400))","v":0},{"$f":"SUMPRODUCT((Eingabe!$C$6:$C$400<$CX34)*(Eingabe!$D$6:$D$400>=$CX34)*(Eingabe!$B$6:$B$400=HQ$3)*(Eingabe!$E$6:$E$400))","v":0},{"$f":"SUMPRODUCT((Eingabe!$C$6:$C$400<=$CX34)*(Eingabe!$D$6:$D$400>$CX34)*(Eingabe!$B$6:$B$400=HS$3)*(Eingabe!$E$6:$E$400))","v":0},{"$f":"SUMPRODUCT((Eingabe!$C$6:$C$400<$CX34)*(Eingabe!$D$6:$D$400>=$CX34)*(Eingabe!$B$6:$B$400=HS$3)*(Eingabe!$E$6:$E$400))","v":0},{"$f":"SUMPRODUCT((Eingabe!$C$6:$C$400<=$CX34)*(Eingabe!$D$6:$D$400>$CX34)*(Eingabe!$B$6:$B$400=HU$3)*(Eingabe!$E$6:$E$400))","v":0},{"$f":"SUMPRODUCT((Eingabe!$C$6:$C$400<$CX34)*(Eingabe!$D$6:$D$400>=$CX34)*(Eingabe!$B$6:$B$400=HU$3)*(Eingabe!$E$6:$E$400))","v":0},"2026-12-31","2026-12-31",{"$f":"SUMPRODUCT((Eingabe!$C$6:$C$400<=$DH34)*(Eingabe!$D$6:$D$400>$DH34)*(Eingabe!$B$6:$B$400=HY$3)*(Eingabe!$E$6:$E$400))","v":0},{"$f":"SUMPRODUCT((Eingabe!$C$6:$C$400<$DH34)*(Eingabe!$D$6:$D$400>=$DH34)*(Eingabe!$B$6:$B$400=HY$3)*(Eingabe!$E$6:$E$400))","v":7},{"$f":"SUMPRODUCT((Eingabe!$C$6:$C$400<=$DH34)*(Eingabe!$D$6:$D$400>$DH34)*(Eingabe!$B$6:$B$400=IA$3)*(Eingabe!$E$6:$E$400))","v":6},{"$f":"SUMPRODUCT((Eingabe!$C$6:$C$400<$DH34)*(Eingabe!$D$6:$D$400>=$DH34)*(Eingabe!$B$6:$B$400=IA$3)*(Eingabe!$E$6:$E$400))","v":6},{"$f":"SUMPRODUCT((Eingabe!$C$6:$C$400<=$DH34)*(Eingabe!$D$6:$D$400>$DH34)*(Eingabe!$B$6:$B$400=IC$3)*(Eingabe!$E$6:$E$400))","v":8},{"$f":"SUMPRODUCT((Eingabe!$C$6:$C$400<$DH34)*(Eingabe!$D$6:$D$400>=$DH34)*(Eingabe!$B$6:$B$400=IC$3)*(Eingabe!$E$6:$E$400))","v":8},{"$f":"SUMPRODUCT((Eingabe!$C$6:$C$400<=$DH34)*(Eingabe!$D$6:$D$400>$DH34)*(Eingabe!$B$6:$B$400=IE$3)*(Eingabe!$E$6:$E$400))","v":0},{"$f":"SUMPRODUCT((Eingabe!$C$6:$C$400<$DH34)*(Eingabe!$D$6:$D$400>=$DH34)*(Eingabe!$B$6:$B$400=IE$3)*(Eingabe!$E$6:$E$400))","v":0}]

{"sheet":"Tabelle1","index":3,"n_rows":2,"n_cols":41,"rows_kept":2,"cut":false,"hidden":false,"merged":[]}
["Nr","Fewo Nr","von","bis","Farbe","Anrede","Name","Straße","Wohnort","Mail","Tel.","Erwachs.","Kinder","Haustiere","Bettwäsche","Handtücher","Bemerkungen","Tage","Mietpreis","Reinigung","Vertrieb","Buchungsgeb.","Verm. Geb.","Sonstiges","Bettwäsche","Bettwäsche","Handtücher","Handtücher","Haustiere","Gesamtpreis","Anzahlung","Dat .","bezahlt","Dat .","bezahlt","gesammt","Rechnungsdatum","Buchungsdatum","Bu.Nr.","KD.Nr.","Nr"]
[null,{"$f":"MID(A21, SEARCH(\"(Kategorie: Ferienwohnung\", A21) + 25,2)","v":{"$error":"#VALUE!"}},{"$f":"MID(B22, SEARCH(\"Anreise:\", B22) + 9, 10)","v":{"$error":"#VALUE!"}},{"$f":"MID(B22, SEARCH(\"Abreise:\", B22) + 9, 10)","v":{"$error":"#VALUE!"}},null,null,{"$f":"LEFT(B23, SEARCH(\"(\", B23) - 2)","v":{"$error":"#VALUE!"}},{"$f":"LEFT(A25,FIND(\",\",A25)-1)","v":{"$error":"#VALUE!"}},{"$f":"MID(A25,FIND(\",\",A25)+2,FIND(\",\",A25,FIND(\",\",A25)+1)-FIND(\",\",A25)-2)","v":{"$error":"#VALUE!"}},{"$f":"MID(A27,FIND(\":\",A27)+1,LEN(A27)-FIND(\":\",A27))","v":{"$error":"#VALUE!"}},{"$f":"MID(A26,FIND(\":\",A26)+1,LEN(A26)-FIND(\":\",A26))","v":{"$error":"#VALUE!"}},null,null,null,null,null,null,null,null,null,null,null,null,null,null,null,null,null,null,null,null,null,null,null,null,null,null,{"$f":"MID(A9,FIND(\",\",A9)+1,LEN(A9)-FIND(\",\",A9))","v":{"$error":"#VALUE!"}},{"$f":"MID(A17,FIND(\":\",A17)+1,FIND(\")\",A17)-FIND(\":\",A17)-1)","v":{"$error":"#VALUE!"}},{"$f":"MID(B23, SEARCH(\"K.-Nr.:\", B23) + 7, SEARCH(\")\", B23) - SEARCH(\"K.-Nr.:\", B23) - 8)","v":{"$error":"#VALUE!"}}]