{"text_format":"1","workbook":"xlsx","n_sheets":2,"sheets":["Tabelle1","Tabelle2"],"not_rendered":{"charts":0,"images":1,"macros":1,"external_links":0,"defined_names":19,"comments":0,"pivot_tables":0},"unopened":[],"bounds":{"document_bytes":16777216,"sheet_cells":100000,"rows_first":2000,"rows_last":500,"rows_between":2000,"halvings":0,"cell_chars":16384,"cell_head_chars":4096},"cells_cut":0,"cells_raw":0,"read":"whole","date_system":"1900"}

{"sheet":"Tabelle1","index":0,"n_rows":66,"n_cols":8,"rows_kept":66,"cut":false,"hidden":false,"merged":[]}
[]
[]
[]
[null,null,"Rohrlänge","Verlust"]
[null,null,6,2E-3]
[null,null,"Anzahl","Länge",{"$f":"SUM(E7:E66)","v":99.874999999999929},"Summe",{"$f":"E6/C5","v":16.645833333333321},"theor. Anzahl ideal"]
[null,null,1,5.0869999999999997,{"$f":"IF(C7=0,\"\",C7*D7)","v":5.0869999999999997}]
[null,null,1,5.08,{"$f":"IF(C8=0,\"\",C8*D8)","v":5.08}]
[null,null,1,4.2210000000000001,4.2210000000000001]
[null,null,1,4.22,4.22]
[null,null,1,4.2190000000000003,4.2190000000000003]
[null,null,1,4.218,4.218]
[null,null,1,3.673,3.673]
[null,null,1,3.665,3.665]
[null,null,1,3.6150000000000002,3.6150000000000002]
[null,null,1,2.79,2.79]
[null,null,1,2.7850000000000001,2.7850000000000001]
[null,null,1,2.78,2.78]
[null,null,1,2.58,2.58]
[null,null,1,2.57,2.57]
[null,null,1,2.36,2.36]
[null,null,1,2.33,2.33]
[null,null,1,1.905,1.905]
[null,null,1,1.83,1.83]
[null,null,1,1.71,1.71]
[null,null,1,0.95199999999999996,0.95199999999999996]
[null,null,1,0.94699999999999995,0.94699999999999995]
[null,null,1,0.94499999999999995,0.94499999999999995]
[null,null,1,0.94399999999999995,0.94399999999999995]
[null,null,1,0.94399999999999995,0.94399999999999995]
[null,null,1,0.94299999999999995,0.94299999999999995]
[null,null,1,0.94299999999999995,0.94299999999999995]
[null,null,1,0.94299999999999995,0.94299999999999995]
[null,null,1,0.94299999999999995,0.94299999999999995]
[null,null,1,0.94299999999999995,0.94299999999999995]
[null,null,1,0.94299999999999995,0.94299999999999995]
[null,null,1,0.94199999999999995,0.94199999999999995]
[null,null,1,0.94199999999999995,0.94199999999999995]
[null,null,1,0.94199999999999995,0.94199999999999995]
[null,null,1,0.94099999999999995,0.94099999999999995]
[null,null,1,0.94099999999999995,0.94099999999999995]
[null,null,1,0.94099999999999995,0.94099999999999995]
[null,null,1,0.94099999999999995,0.94099999999999995]
[null,null,1,0.94099999999999995,0.94099999999999995]
[null,null,1,0.94,0.94]
[null,null,1,0.94,0.94]
[null,null,1,0.94,0.94]
[null,null,1,0.94,0.94]
[null,null,1,0.94,0.94]
[null,null,1,0.94,0.94]
[null,null,1,0.93899999999999995,0.93899999999999995]
[null,null,1,0.93899999999999995,0.93899999999999995]
[null,null,1,0.93899999999999995,0.93899999999999995]
[null,null,1,0.93899999999999995,0.93899999999999995]
[null,null,1,0.93899999999999995,0.93899999999999995]
[null,null,1,0.93899999999999995,0.93899999999999995]
[null,null,1,0.93700000000000006,0.93700000000000006]
[null,null,1,0.93700000000000006,0.93700000000000006]
[null,null,1,0.93700000000000006,0.93700000000000006]
[null,null,1,0.93700000000000006,0.93700000000000006]
[null,null,1,0.93500000000000005,0.93500000000000005]
[null,null,1,0.93500000000000005,0.93500000000000005]
[null,null,1,0.93300000000000005,0.93300000000000005]
[null,null,1,0.93100000000000005,0.93100000000000005]
[null,null,1,0.91500000000000004,0.91500000000000004]
[null,null,1,0.64500000000000002,0.64500000000000002]

{"sheet":"Tabelle2","index":1,"n_rows":42,"n_cols":22,"rows_kept":42,"cut":false,"hidden":false,"merged":[]}
["Zuschnitt","Zuschnitt","Zuschnitt","Zuschnitt","Zuschnitt","Zuschnitt","Zuschnitt","Zuschnitt","Zuschnitt","Zuschnitt","Zuschnitt","Zuschnitt","Zuschnitt","Zuschnitt","Zuschnitt","Zuschnitt","Zuschnitt","Zuschnitt","Zuschnitt","Zuschnitt","Summe","ROHR Nr"]
[5.0869999999999997,0.64500000000000002,null,null,null,null,null,null,null,null,null,null,null,null,null,null,null,null,null,null,{"$f":"IF(A2=\"\",\"\",SUM(A2:T2)+(COUNTA(A2:T2)-1)*Tabelle1!$D$5)","v":5.7339999999999991},{"$f":"IF(U2=\"\",\"\",ROW()-1)","v":1}]
[5.08,0.91500000000000004,null,null,null,null,null,null,null,null,null,null,null,null,null,null,null,null,null,null,{"$f":"IF(A3=\"\",\"\",SUM(A3:T3)+(COUNTA(A3:T3)-1)*Tabelle1!$D$5)","v":5.9969999999999999},{"$f":"IF(U3=\"\",\"\",ROW()-1)","v":2}]
[4.2210000000000001,1.71,null,null,null,null,null,null,null,null,null,null,null,null,null,null,null,null,null,null,{"$f":"IF(A4=\"\",\"\",SUM(A4:T4)+(COUNTA(A4:T4)-1)*Tabelle1!$D$5)","v":5.9329999999999998},3]
[4.22,0.95199999999999996,null,null,null,null,null,null,null,null,null,null,null,null,null,null,null,null,null,null,{"$f":"IF(A5=\"\",\"\",SUM(A5:T5)+(COUNTA(A5:T5)-1)*Tabelle1!$D$5)","v":5.1739999999999995},4]
[4.2190000000000003,0.94699999999999995,null,null,null,null,null,null,null,null,null,null,null,null,null,null,null,null,null,null,{"$f":"IF(A6=\"\",\"\",SUM(A6:T6)+(COUNTA(A6:T6)-1)*Tabelle1!$D$5)","v":5.1680000000000001},5]
[4.218,0.94499999999999995,null,null,null,null,null,null,null,null,null,null,null,null,null,null,null,null,null,null,{"$f":"IF(A7=\"\",\"\",SUM(A7:T7)+(COUNTA(A7:T7)-1)*Tabelle1!$D$5)","v":5.165},6]
[3.673,1.905,null,null,null,null,null,null,null,null,null,null,null,null,null,null,null,null,null,null,{"$f":"IF(A8=\"\",\"\",SUM(A8:T8)+(COUNTA(A8:T8)-1)*Tabelle1!$D$5)","v":5.58},7]
[3.665,2.33,null,null,null,null,null,null,null,null,null,null,null,null,null,null,null,null,null,null,{"$f":"IF(A9=\"\",\"\",SUM(A9:T9)+(COUNTA(A9:T9)-1)*Tabelle1!$D$5)","v":5.9969999999999999},8]
[3.6150000000000002,2.36,null,null,null,null,null,null,null,null,null,null,null,null,null,null,null,null,null,null,{"$f":"IF(A10=\"\",\"\",SUM(A10:T10)+(COUNTA(A10:T10)-1)*Tabelle1!$D$5)","v":5.9769999999999994},9]
[2.79,2.7850000000000001,null,null,null,null,null,null,null,null,null,null,null,null,null,null,null,null,null,null,{"$f":"IF(A11=\"\",\"\",SUM(A11:T11)+(COUNTA(A11:T11)-1)*Tabelle1!$D$5)","v":5.577},10]
[2.78,2.58,null,null,null,null,null,null,null,null,null,null,null,null,null,null,null,null,null,null,{"$f":"IF(A12=\"\",\"\",SUM(A12:T12)+(COUNTA(A12:T12)-1)*Tabelle1!$D$5)","v":5.3619999999999992},11]
[2.57,1.83,0.94399999999999995,null,null,null,null,null,null,null,null,null,null,null,null,null,null,null,null,null,{"$f":"IF(A13=\"\",\"\",SUM(A13:T13)+(COUNTA(A13:T13)-1)*Tabelle1!$D$5)","v":5.3479999999999999},12]
[0.94399999999999995,0.94299999999999995,0.94299999999999995,0.94299999999999995,0.94299999999999995,0.94299999999999995,null,null,null,null,null,null,null,null,null,null,null,null,null,null,{"$f":"IF(A14=\"\",\"\",SUM(A14:T14)+(COUNTA(A14:T14)-1)*Tabelle1!$D$5)","v":5.6689999999999996},13]
[0.94299999999999995,0.94199999999999995,0.94199999999999995,0.94199999999999995,0.94099999999999995,0.94099999999999995,null,null,null,null,null,null,null,null,null,null,null,null,null,null,{"$f":"IF(A15=\"\",\"\",SUM(A15:T15)+(COUNTA(A15:T15)-1)*Tabelle1!$D$5)","v":5.6609999999999996},14]
[0.94099999999999995,0.94099999999999995,0.94099999999999995,0.94,0.94,0.94,null,null,null,null,null,null,null,null,null,null,null,null,null,null,{"$f":"IF(A16=\"\",\"\",SUM(A16:T16)+(COUNTA(A16:T16)-1)*Tabelle1!$D$5)","v":5.6529999999999987},15]
[0.94,0.94,0.94,0.93899999999999995,0.93899999999999995,0.93899999999999995,null,null,null,null,null,null,null,null,null,null,null,null,null,null,{"$f":"IF(A17=\"\",\"\",SUM(A17:T17)+(COUNTA(A17:T17)-1)*Tabelle1!$D$5)","v":5.6469999999999994},16]
[0.93899999999999995,0.93899999999999995,0.93899999999999995,0.93700000000000006,0.93700000000000006,0.93700000000000006,null,null,null,null,null,null,null,null,null,null,null,null,null,null,{"$f":"IF(A18=\"\",\"\",SUM(A18:T18)+(COUNTA(A18:T18)-1)*Tabelle1!$D$5)","v":5.6379999999999999},17]
[0.93700000000000006,0.93500000000000005,0.93500000000000005,0.93300000000000005,0.93100000000000005,null,null,null,null,null,null,null,null,null,null,null,null,null,null,null,{"$f":"IF(A19=\"\",\"\",SUM(A19:T19)+(COUNTA(A19:T19)-1)*Tabelle1!$D$5)","v":4.6790000000000003},18]
[null,null,null,null,null,null,null,null,null,null,null,null,null,null,null,null,null,null,null,null,{"$f":"IF(A20=\"\",\"\",SUM(A20:T20)+(COUNTA(A20:T20)-1)*Tabelle1!$D$5)","v":""},""]
[null,null,null,null,null,null,null,null,null,null,null,null,null,null,null,null,null,null,null,null,{"$f":"IF(A21=\"\",\"\",SUM(A21:T21)+(COUNTA(A21:T21)-1)*Tabelle1!$D$5)","v":""},""]
[null,null,null,null,null,null,null,null,null,null,null,null,null,null,null,null,null,null,null,null,{"$f":"IF(A22=\"\",\"\",SUM(A22:T22)+(COUNTA(A22:T22)-1)*Tabelle1!$D$5)","v":""},""]
[null,null,null,null,null,null,null,null,null,null,null,null,null,null,null,null,null,null,null,null,{"$f":"IF(A23=\"\",\"\",SUM(A23:T23)+(COUNTA(A23:T23)-1)*Tabelle1!$D$5)","v":""},""]
[null,null,null,null,null,null,null,null,null,null,null,null,null,null,null,null,null,null,null,null,{"$f":"IF(A24=\"\",\"\",SUM(A24:T24)+(COUNTA(A24:T24)-1)*Tabelle1!$D$5)","v":""},""]
[null,null,null,null,null,null,null,null,null,null,null,null,null,null,null,null,null,null,null,null,{"$f":"IF(A25=\"\",\"\",SUM(A25:T25)+(COUNTA(A25:T25)-1)*Tabelle1!$D$5)","v":""},""]
[null,null,null,null,null,null,null,null,null,null,null,null,null,null,null,null,null,null,null,null,{"$f":"IF(A26=\"\",\"\",SUM(A26:T26)+(COUNTA(A26:T26)-1)*Tabelle1!$D$5)","v":""},""]
[null,null,null,null,null,null,null,null,null,null,null,null,null,null,null,null,null,null,null,null,{"$f":"IF(A27=\"\",\"\",SUM(A27:T27)+(COUNTA(A27:T27)-1)*Tabelle1!$D$5)","v":""},""]
[null,null,null,null,null,null,null,null,null,null,null,null,null,null,null,null,null,null,null,null,{"$f":"IF(A28=\"\",\"\",SUM(A28:T28)+(COUNTA(A28:T28)-1)*Tabelle1!$D$5)","v":""},""]
[null,null,null,null,null,null,null,null,null,null,null,null,null,null,null,null,null,null,null,null,{"$f":"IF(A29=\"\",\"\",SUM(A29:T29)+(COUNTA(A29:T29)-1)*Tabelle1!$D$5)","v":""},""]
[null,null,null,null,null,null,null,null,null,null,null,null,null,null,null,null,null,null,null,null,{"$f":"IF(A30=\"\",\"\",SUM(A30:T30)+(COUNTA(A30:T30)-1)*Tabelle1!$D$5)","v":""},""]
[null,null,null,null,null,null,null,null,null,null,null,null,null,null,null,null,null,null,null,null,{"$f":"IF(A31=\"\",\"\",SUM(A31:T31)+(COUNTA(A31:T31)-1)*Tabelle1!$D$5)","v":""},""]
[null,null,null,null,null,null,null,null,null,null,null,null,null,null,null,null,null,null,null,null,{"$f":"IF(A32=\"\",\"\",SUM(A32:T32)+(COUNTA(A32:T32)-1)*Tabelle1!$D$5)","v":""},""]
[null,null,null,null,null,null,null,null,null,null,null,null,null,null,null,null,null,null,null,null,{"$f":"IF(A33=\"\",\"\",SUM(A33:T33)+(COUNTA(A33:T33)-1)*Tabelle1!$D$5)","v":""},""]
[null,null,null,null,null,null,null,null,null,null,null,null,null,null,null,null,null,null,null,null,{"$f":"IF(A34=\"\",\"\",SUM(A34:T34)+(COUNTA(A34:T34)-1)*Tabelle1!$D$5)","v":""},""]
[null,null,null,null,null,null,null,null,null,null,null,null,null,null,null,null,null,null,null,null,{"$f":"IF(A35=\"\",\"\",SUM(A35:T35)+(COUNTA(A35:T35)-1)*Tabelle1!$D$5)","v":""}]
[null,null,null,null,null,null,null,null,null,null,null,null,null,null,null,null,null,null,null,null,{"$f":"IF(A36=\"\",\"\",SUM(A36:T36)+(COUNTA(A36:T36)-1)*Tabelle1!$D$5)","v":""}]
[null,null,null,null,null,null,null,null,null,null,null,null,null,null,null,null,null,null,null,null,{"$f":"IF(A37=\"\",\"\",SUM(A37:T37)+(COUNTA(A37:T37)-1)*Tabelle1!D40)","v":""}]
[null,null,null,null,null,null,null,null,null,null,null,null,null,null,null,null,null,null,null,null,{"$f":"IF(A38=\"\",\"\",SUM(A38:T38)+(COUNTA(A38:T38)-1)*Tabelle1!D41)","v":""}]
[null,null,null,null,null,null,null,null,null,null,null,null,null,null,null,null,null,null,null,null,{"$f":"IF(A39=\"\",\"\",SUM(A39:T39)+(COUNTA(A39:T39)-1)*Tabelle1!D42)","v":""}]
[null,null,null,null,null,null,null,null,null,null,null,null,null,null,null,null,null,null,null,null,{"$f":"IF(A40=\"\",\"\",SUM(A40:T40)+(COUNTA(A40:T40)-1)*Tabelle1!D43)","v":""}]
[null,null,null,null,null,null,null,null,null,null,null,null,null,null,null,null,null,null,null,null,{"$f":"IF(A41=\"\",\"\",SUM(A41:T41)+(COUNTA(A41:T41)-1)*Tabelle1!D44)","v":""}]
[null,null,null,null,null,null,null,null,null,null,null,null,null,null,null,null,null,null,null,null,{"$f":"IF(A42=\"\",\"\",SUM(A42:T42)+(COUNTA(A42:T42)-1)*Tabelle1!D45)","v":""}]