{"text_format":"1","workbook":"xlsx","n_sheets":4,"sheets":["Einteilung-Termine","Wertung-Mannschaft","Wertung-Einzel","Grafik"],"not_rendered":{"charts":0,"images":2,"macros":1,"external_links":0,"defined_names":4,"comments":2,"pivot_tables":0},"unopened":[],"bounds":{"document_bytes":16777216,"sheet_cells":100000,"rows_first":2000,"rows_last":500,"rows_between":2000,"halvings":0,"cell_chars":16384,"cell_head_chars":4096},"cells_cut":0,"cells_raw":0,"read":"whole","date_system":"1900"}

{"sheet":"Einteilung-Termine","index":0,"n_rows":65,"n_cols":5,"rows_kept":65,"cut":false,"hidden":false,"merged":[[59,1,59,2],[59,3,59,5],[60,3,60,5],[58,3,58,5],[53,3,53,5],[52,1,52,2],[53,1,53,2],[55,1,55,2],[57,1,57,2],[49,0,49,4],[54,3,54,5],[55,3,55,5],[56,3,56,5],[57,3,57,5],[0,0,0,2],[42,0,42,4],[35,0,35,4],[28,0,28,4],[21,0,21,4],[64,3,64,5],[61,1,61,2],[61,3,61,5],[62,3,62,5],[63,1,63,2],[63,3,63,5]]}
[]
[null,null,"Gebiet",":"]
[null,null,"Veranstalter",":"]
[null,null,"Region",":"]
[null,null,"Disziplin",":"]
[null,null,"Datum",":"]
[null,null,"Vereine"]
[null,"1)",null,null,"Ligaleiter"]
[null,"2)"]
[null,"3)"]
[null,"4)"]
[null,"5)"]
[null,"6)"]
[]
[null,null,"Wettkampf",null,"© Bechtel V6.0"]
["Datum",null,"Paarungen"]
[null,null,"1.Wettkampftag","Z","Anfangstermin"]
[]
[null,1,{"$f":"IF($C$9=\"\",\"\",$C$9)","v":""},"-",{"$f":"IF($C$8=\"\",\"\",$C$8)","v":""}]
[null,2,{"$f":"IF($C$11=\"\",\"\",$C$11)","v":""},"-",{"$f":"IF($C$10=\"\",\"\",$C$10)","v":""}]
[null,3,{"$f":"IF($C$13=\"\",\"\",$C$13)","v":""},"-",{"$f":"IF($C$12=\"\",\"\",$C$12)","v":""}]
[]
[]
[null,null,"2.Wettkampftag"]
[]
[null,1,{"$f":"IF($C$11=\"\",\"\",$C$11)","v":""},"-",{"$f":"IF($C$9=\"\",\"\",$C$9)","v":""}]
[null,2,{"$f":"IF($C$8=\"\",\"\",$C$8)","v":""},"-",{"$f":"IF($C$13=\"\",\"\",$C$13)","v":""}]
[null,3,{"$f":"IF($C$12=\"\",\"\",$C$12)","v":""},"-",{"$f":"IF($C$10=\"\",\"\",$C$10)","v":""}]
[]
[]
[null,null,"3.Wettkampftag"]
[]
[null,1,{"$f":"IF($C$9=\"\",\"\",$C$9)","v":""},"-",{"$f":"IF($C$10=\"\",\"\",$C$10)","v":""}]
[null,2,{"$f":"IF($C$13=\"\",\"\",$C$13)","v":""},"-",{"$f":"IF($C$11=\"\",\"\",$C$11)","v":""}]
[null,3,{"$f":"IF($C$12=\"\",\"\",$C$12)","v":""},"-",{"$f":"IF($C$8=\"\",\"\",$C$8)","v":""}]
[]
[]
[null,null,"4.Wettkampftag"]
[]
[null,1,{"$f":"IF($C$13=\"\",\"\",$C$13)","v":""},"-",{"$f":"IF($C$9=\"\",\"\",$C$9)","v":""}]
[null,2,{"$f":"IF($C$11=\"\",\"\",$C$11)","v":""},"-",{"$f":"IF($C$12=\"\",\"\",$C$12)","v":""}]
[null,3,{"$f":"IF($C$10=\"\",\"\",$C$10)","v":""},"-",{"$f":"IF($C$8=\"\",\"\",$C$8)","v":""}]
[]
[]
[null,null,"5.Wettkampftag","Z","Endtermin"]
[]
[null,1,{"$f":"IF($C$12=\"\",\"\",$C$12)","v":""},"-",{"$f":"IF($C$9=\"\",\"\",$C$9)","v":""}]
[null,2,{"$f":"IF($C$8=\"\",\"\",$C$8)","v":""},"-",{"$f":"IF($C$11=\"\",\"\",$C$11)","v":""}]
[null,3,{"$f":"IF($C$10=\"\",\"\",$C$10)","v":""},"-",{"$f":"IF($C$13=\"\",\"\",$C$13)","v":""}]
[]
[]
[]
[null,"Mannschaftsführer"]
[null,{"$f":"IF(C8=\"\",\"\",C8)","v":""},null,"Alois Muster"]
[null,null,null,"06567-1234   am@t-online.de"]
[null,{"$f":"IF(C9=\"\",\"\",C9)","v":""},null,"Kurt Test"]
[null,null,null,"06567-5678  kt@web.de"]
[null,{"$f":"IF(C10=\"\",\"\",C10)","v":""},null,"Fred Versuch"]
[null,null,null,"06567-987  fv@t-online.de"]
[null,{"$f":"IF(C11=\"\",\"\",C11)","v":""},null,"Werner Müller"]
[null,null,null,"06587-435 wm@web.de"]
[null,{"$f":"IF(C12=\"\",\"\",C12)","v":""},null,"Arno Bauer"]
[null,null,null,"06587-8899  ab@gmail.com"]
[null,{"$f":"IF(C13=\"\",\"\",C13)","v":""},null,"Heinz Wagner"]
[null,null,null,"06587-2993  hw@gmx.de"]

{"sheet":"Wertung-Mannschaft","index":1,"n_rows":56,"n_cols":44,"rows_kept":56,"cut":false,"hidden":false,"merged":[[5,6,5,12],[7,6,7,8],[7,10,7,12],[0,0,0,2],[49,10,49,12],[49,6,49,8],[15,6,15,8],[15,10,15,12],[12,1,12,12],[20,1,20,12],[28,1,28,12],[36,1,36,12],[44,1,44,12],[23,6,23,8],[23,10,23,12],[31,6,31,8],[31,10,31,12],[39,6,39,8],[39,10,39,12]]}
[{"$f":"'Einteilung-Termine'!A1:C1","v":0}]
[null,"Ergebnis:  ","Mannschaft"]
[null,"Veranstalter:   ",{"$f":"IF('Einteilung-Termine'!E3=\"\",\"\",'Einteilung-Termine'!E3)","v":""}]
[null,"Disziplin :   ",{"$f":"IF('Einteilung-Termine'!E5=\"\",\"\",'Einteilung-Termine'!E5)","v":""}]
[]
[null,null,null,null,null,null,{"$f":"IF('Einteilung-Termine'!E15=\"\",\"\",'Einteilung-Termine'!E15)","v":"© Bechtel V6.0"},{"$f":"IF('Einteilung-Termine'!J5=\"\",\"\",'Einteilung-Termine'!J5)","v":""},{"$f":"IF('Einteilung-Termine'!K5=\"\",\"\",'Einteilung-Termine'!K5)","v":""},{"$f":"IF('Einteilung-Termine'!L5=\"\",\"\",'Einteilung-Termine'!L5)","v":""},{"$f":"IF('Einteilung-Termine'!M5=\"\",\"\",'Einteilung-Termine'!M5)","v":""},{"$f":"IF('Einteilung-Termine'!N5=\"\",\"\",'Einteilung-Termine'!N5)","v":""},{"$f":"IF('Einteilung-Termine'!O5=\"\",\"\",'Einteilung-Termine'!O5)","v":""}]
[null,"1. Wettkampf",null,null,null,null,null,null,null,null,null,null,null,null,"M+","M-","E+","E-",{"$f":"'Einteilung-Termine'!C8","v":0},"M+","M-","E+","E-",{"$f":"'Einteilung-Termine'!C9","v":0},"M+","M-","E+","E-",{"$f":"'Einteilung-Termine'!C10","v":0},"M+","M-","E+","E-",{"$f":"'Einteilung-Termine'!C11","v":0},"M+","M-","E+","E-",{"$f":"'Einteilung-Termine'!C12","v":0},"M+","M-","E+","E-",{"$f":"'Einteilung-Termine'!C13","v":0}]
[null,"Ausgetragen",null,null,null,null,"M.-Pkt.",null,null,null,"E.-Pkt."]
[null,null,{"$f":"IF('Einteilung-Termine'!C19=\"\",\"\",'Einteilung-Termine'!C19)","v":""},":",{"$f":"IF('Einteilung-Termine'!E19=\"\",\"\",'Einteilung-Termine'!E19)","v":""},null,2,":",{"$f":"IF(G9=\"\",\"\",IF(G9=2,0,IF(G9=1,1,IF(G9=0,2,\"\"))))","v":0},null,6,":",{"$f":"IF(K9=\"\",\"\",IF(K9=6,0,IF(K9=5,1,IF(K9=4,2,IF(K9=0,6,IF(K9=1,5,IF(K9=2,4,IF(K9=3,3,\"\"))))))))","v":0},null,{"$f":"IF($S$7=C9,G9,IF($S$7=E9,I9,IF($S$7=C10,G10,IF($S$7=E10,I10,IF($S$7=E11,G11,IF($S$7=C11,I11,\"\"))))))","v":""},{"$f":"IF($S$7=C9,I9,IF($S$7=E9,G9,IF($S$7=C10,I10,IF($S$7=E10,G10,IF($S$7=C11,I11,IF($S$7=E11,G11,\"\"))))))","v":""},{"$f":"IF($S$7=C9,K9,IF($S$7=E9,M9,IF($S$7=C10,K10,IF($S$7=E10,M10,IF($S$7=C11,K11,IF($S$7=E11,M11,\"\"))))))","v":""},{"$f":"IF($S$7=C9,M9,IF($S$7=E9,K9,IF($S$7=C10,M10,IF($S$7=E10,K10,IF($S$7=C11,M11,IF($S$7=E11,K11,\"\"))))))","v":""},{"$f":"IF($S$7=C9,G9+K9,IF($S$7=E9,I9+M9,IF($S$7=C10,G10+K10,IF($S$7=E10,I10+M10,IF($S$7=C11,G11+K11,IF($S$7=E11,I11+M11,\"\"))))))","v":""},{"$f":"IF($X$7=C9,G9,IF($X$7=E9,I9,IF($X$7=C10,G10,IF($X$7=E10,I10,IF($X$7=C11,G11,IF($X$7=E11,I11,\"\"))))))","v":""},{"$f":"IF($X$7=C9,I9,IF($X$7=E9,G9,IF($X$7=C10,I10,IF($X$7=E10,G10,IF($X$7=C11,I11,IF($X$7=E11,G11,\"\"))))))","v":""},{"$f":"IF($X$7=C9,K9,IF($X$7=E9,M9,IF($X$7=C10,K10,IF($X$7=E10,M10,IF($X$7=C11,K11,IF($X$7=E11,M11,\"\"))))))","v":""},{"$f":"IF($X$7=C9,M9,IF($X$7=E9,K9,IF($X$7=C10,M10,IF($X$7=E10,K10,IF($X$7=C11,M11,IF($X$7=E11,K11,\"\"))))))","v":""},{"$f":"IF($X$7=C9,G9+K9,IF($X$7=E9,I9+M9,IF($X$7=C10,G10+K10,IF($X$7=E10,I10+M10,IF($X$7=C11,G11+K11,IF($X$7=E11,I11+M11,\"\"))))))","v":""},{"$f":"IF($AC$7=C9,G9,IF($AC$7=E9,I9,IF($AC$7=C10,G10,IF($AC$7=E10,I10,IF($AC$7=C11,G11,IF($AC$7=E11,I11,\"\"))))))","v":""},{"$f":"IF($AC$7=C9,I9,IF($AC$7=E9,G9,IF($AC$7=C10,I10,IF($AC$7=E10,G10,IF($AC$7=C11,I11,IF($AC$7=E11,G11,\"\"))))))","v":""},{"$f":"IF($AC$7=C9,K9,IF($AC$7=E9,M9,IF($AC$7=C10,K10,IF($AC$7=E10,M10,IF($AC$7=C11,K11,IF($AC$7=E11,M11,\"\"))))))","v":""},{"$f":"IF($AC$7=C9,M9,IF($AC$7=E9,K9,IF($AC$7=C10,M10,IF($AC$7=E10,K10,IF($AC$7=C11,M11,IF($AC$7=E11,K11,\"\"))))))","v":""},{"$f":"IF($AC$7=C9,G9+K9,IF($AC$7=E9,I9+M9,IF($AC$7=C10,G10+K10,IF($AC$7=E10,I10+M10,IF($AC$7=C11,G11+K11,IF($AC$7=E11,I11+M11,\"\"))))))","v":""},{"$f":"IF($AH$7=C9,G9,IF($AH$7=E9,I9,IF($AH$7=C10,G10,IF($AH$7=E10,I10,IF($AH$7=C11,G11,IF($AH$7=E11,I11,\"\"))))))","v":""},{"$f":"IF($AH$7=C9,I9,IF($AH$7=E9,G9,IF($AH$7=C10,I10,IF($AH$7=E10,G10,IF($AH$7=C11,I11,IF($AH$7=E11,G11,\"\"))))))","v":""},{"$f":"IF($AH$7=C9,K9,IF($AH$7=E9,M9,IF($AH$7=C10,K10,IF($AH$7=E10,M10,IF($AH$7=C11,K11,IF($AH$7=E11,M11,\"\"))))))","v":""},{"$f":"IF($AH$7=C9,M9,IF($AH$7=E9,K9,IF($AH$7=C10,M10,IF($AH$7=E10,K10,IF($AH$7=C11,M11,IF($AH$7=E11,K11,\"\"))))))","v":""},{"$f":"IF($AH$7=C9,G9+K9,IF($AH$7=E9,I9+M9,IF($AH$7=C10,G10+K10,IF($AH$7=E10,I10+M10,IF($AH$7=C11,G11+K11,IF($AH$7=E11,I11+M11,\"\"))))))","v":""},{"$f":"IF($AM$7=C9,G9,IF($AM$7=E9,I9,IF($AM$7=C10,G10,IF($AM$7=E10,I10,IF($AM$7=C11,G11,IF($AM$7=E11,I11,\"\"))))))","v":""},{"$f":"IF($AM$7=C9,I9,IF($AM$7=E9,G9,IF($AM$7=C10,I10,IF($AM$7=E10,G10,IF($AM$7=C11,I11,IF($AM$7=E11,G11,\"\"))))))","v":""},{"$f":"IF($AM$7=C9,K9,IF($AM$7=E9,M9,IF($AM$7=C10,K10,IF($AM$7=E10,M10,IF($AM$7=C11,K11,IF($AM$7=E11,M11,\"\"))))))","v":""},{"$f":"IF($AM$7=C9,M9,IF($AM$7=E9,K9,IF($AM$7=C10,M10,IF($AM$7=E10,K10,IF($AM$7=C11,M11,IF($AM$7=E11,K11,\"\"))))))","v":""},{"$f":"IF($AM$7=C9,G9+K9,IF($AM$7=E9,I9+M9,IF($AM$7=C10,G10+K10,IF($AM$7=E10,I10+M10,IF($AM$7=C11,G11+K11,IF($AM$7=E11,I11+M11,\"\"))))))","v":""},{"$f":"IF($AR$7=C9,G9,IF($AR$7=E9,I9,IF($AR$7=C10,G10,IF($AR$7=E10,I10,IF($AR$7=C11,G11,IF($AR$7=E11,I11,\"\"))))))","v":""},{"$f":"IF($AR$7=C9,I9,IF($AR$7=E9,G9,IF($AR$7=C10,I10,IF($AR$7=E10,G10,IF($AR$7=C11,I11,IF($AR$7=E11,G11,\"\"))))))","v":""},{"$f":"IF($AR$7=C9,K9,IF($AR$7=E9,M9,IF($AR$7=C10,K10,IF($AR$7=E10,M10,IF($AR$7=C11,K11,IF($AR$7=E11,M11,\"\"))))))","v":""},{"$f":"IF($AR$7=C9,M9,IF($AR$7=E9,K9,IF($AR$7=C10,M10,IF($AR$7=E10,K10,IF($AR$7=C11,M11,IF($AR$7=E11,K11,\"\"))))))","v":""},{"$f":"IF($AR$7=C9,G9+K9,IF($AR$7=E9,I9+M9,IF($AR$7=C10,G10+K10,IF($AR$7=E10,I10+M10,IF($AR$7=C11,G11+K11,IF($AR$7=E11,I11+M11,\"\"))))))","v":""}]
[null,null,{"$f":"IF('Einteilung-Termine'!C20=\"\",\"\",'Einteilung-Termine'!C20)","v":""},":",{"$f":"IF('Einteilung-Termine'!E20=\"\",\"\",'Einteilung-Termine'!E20)","v":""},null,1,":",1,null,3,":",{"$f":"IF(K10=\"\",\"\",IF(K10=6,0,IF(K10=5,1,IF(K10=4,2,IF(K10=0,6,IF(K10=1,5,IF(K10=2,4,IF(K10=3,3,\"\"))))))))","v":3}]
[null,null,{"$f":"IF('Einteilung-Termine'!C21=\"\",\"\",'Einteilung-Termine'!C21)","v":""},":",{"$f":"IF('Einteilung-Termine'!E21=\"\",\"\",'Einteilung-Termine'!E21)","v":""},null,2,":",0,null,0,":",6]
[]
[]
[]
[null,"2. Wettkampf"]
[null,"Ausgetragen",null,null,null,null,"M.-Pkt.",null,null,null,"E.-Pkt."]
[null,null,{"$f":"IF('Einteilung-Termine'!C26=\"\",\"\",'Einteilung-Termine'!C26)","v":""},":",{"$f":"IF('Einteilung-Termine'!E26=\"\",\"\",'Einteilung-Termine'!E26)","v":""},null,null,":",{"$f":"IF(G17=\"\",\"\",IF(G17=2,0,IF(G17=1,1,IF(G17=0,2,\"\"))))","v":""},null,null,":",{"$f":"IF(K17=\"\",\"\",IF(K17=6,0,IF(K17=5,1,IF(K17=4,2,IF(K17=0,6,IF(K17=1,5,IF(K17=2,4,IF(K17=3,3,\"\"))))))))","v":""},null,{"$f":"IF($S$7=C17,G17,IF($S$7=E17,I17,IF($S$7=C18,G18,IF($S$7=E18,I18,IF($S$7=E19,G19,IF($S$7=C19,I19,\"\"))))))","v":""},{"$f":"IF($S$7=C17,I17,IF($S$7=E17,G17,IF($S$7=C18,I18,IF($S$7=E18,G18,IF($S$7=C19,I19,IF($S$7=E19,G19,\"\"))))))","v":""},{"$f":"IF($S$7=C17,K17,IF($S$7=E17,M17,IF($S$7=C18,K18,IF($S$7=E18,M18,IF($S$7=C19,K19,IF($S$7=E19,M19,\"\"))))))","v":""},{"$f":"IF($S$7=C17,M17,IF($S$7=E17,K17,IF($S$7=C18,M18,IF($S$7=E18,K18,IF($S$7=C19,M19,IF($S$7=E19,K19,\"\"))))))","v":""},{"$f":"IF($S$7=C17,G17+K17,IF($S$7=E17,I17+M17,IF($S$7=C18,G18+K18,IF($S$7=E18,I18+M18,IF($S$7=C19,G19+K19,IF($S$7=E19,I19+M19,\"\"))))))","v":""},{"$f":"IF($X$7=C17,G17,IF($X$7=E17,I17,IF($X$7=C18,G18,IF($X$7=E18,I18,IF($X$7=C19,G19,IF($X$7=E19,I19,\"\"))))))","v":""},{"$f":"IF($X$7=C17,I17,IF($X$7=E17,G17,IF($X$7=C18,I18,IF($X$7=E18,G18,IF($X$7=C19,I19,IF($X$7=E19,G19,\"\"))))))","v":""},{"$f":"IF($X$7=C17,K17,IF($X$7=E17,M17,IF($X$7=C18,K18,IF($X$7=E18,M18,IF($X$7=C19,K19,IF($X$7=E19,M19,\"\"))))))","v":""},{"$f":"IF($X$7=C17,M17,IF($X$7=E17,K17,IF($X$7=C18,M18,IF($X$7=E18,K18,IF($X$7=C19,M19,IF($X$7=E19,K19,\"\"))))))","v":""},{"$f":"IF($X$7=C17,G17+K17,IF($X$7=E17,I17+M17,IF($X$7=C18,G18+K18,IF($X$7=E18,I18+M18,IF($X$7=C19,G19+K19,IF($X$7=E19,I19+M19,\"\"))))))","v":""},{"$f":"IF($AC$7=C17,G17,IF($AC$7=E17,I17,IF($AC$7=C18,G18,IF($AC$7=E18,I18,IF($AC$7=C19,G19,IF($AC$7=E19,I19,\"\"))))))","v":""},{"$f":"IF($AC$7=C17,I17,IF($AC$7=E17,G17,IF($AC$7=C18,I18,IF($AC$7=E18,G18,IF($AC$7=C19,I19,IF($AC$7=E19,G19,\"\"))))))","v":""},{"$f":"IF($AC$7=C17,K17,IF($AC$7=E17,M17,IF($AC$7=C18,K18,IF($AC$7=E18,M18,IF($AC$7=C19,K19,IF($AC$7=E19,M19,\"\"))))))","v":""},{"$f":"IF($AC$7=C17,M17,IF($AC$7=E17,K17,IF($AC$7=C18,M18,IF($AC$7=E18,K18,IF($AC$7=C19,M19,IF($AC$7=E19,K19,\"\"))))))","v":""},{"$f":"IF($AC$7=C17,G17+K17,IF($AC$7=E17,I17+M17,IF($AC$7=C18,G18+K18,IF($AC$7=E18,I18+M18,IF($AC$7=C19,G19+K19,IF($AC$7=E19,I19+M19,\"\"))))))","v":""},{"$f":"IF($AH$7=C17,G17,IF($AH$7=E17,I17,IF($AH$7=C18,G18,IF($AH$7=E18,I18,IF($AH$7=C19,G19,IF($AH$7=E19,I19,\"\"))))))","v":""},{"$f":"IF($AH$7=C17,I17,IF($AH$7=E17,G17,IF($AH$7=C18,I18,IF($AH$7=E18,G18,IF($AH$7=C19,I19,IF($AH$7=E19,G19,\"\"))))))","v":""},{"$f":"IF($AH$7=C17,K17,IF($AH$7=E17,M17,IF($AH$7=C18,K18,IF($AH$7=E18,M18,IF($AH$7=C19,K19,IF($AH$7=E19,M19,\"\"))))))","v":""},{"$f":"IF($AH$7=C17,M17,IF($AH$7=E17,K17,IF($AH$7=C18,M18,IF($AH$7=E18,K18,IF($AH$7=C19,M19,IF($AH$7=E19,K19,\"\"))))))","v":""},{"$f":"IF($AH$7=C17,G17+K17,IF($AH$7=E17,I17+M17,IF($AH$7=C18,G18+K18,IF($AH$7=E18,I18+M18,IF($AH$7=C19,G19+K19,IF($AH$7=E19,I19+M19,\"\"))))))","v":""},{"$f":"IF($AM$7=C17,G17,IF($AM$7=E17,I17,IF($AM$7=C18,G18,IF($AM$7=E18,I18,IF($AM$7=C19,G19,IF($AM$7=E19,I19,\"\"))))))","v":""},{"$f":"IF($AM$7=C17,I17,IF($AM$7=E17,G17,IF($AM$7=C18,I18,IF($AM$7=E18,G18,IF($AM$7=C19,I19,IF($AM$7=E19,G19,\"\"))))))","v":""},{"$f":"IF($AM$7=C17,K17,IF($AM$7=E17,M17,IF($AM$7=C18,K18,IF($AM$7=E18,M18,IF($AM$7=C19,K19,IF($AM$7=E19,M19,\"\"))))))","v":""},{"$f":"IF($AM$7=C17,M17,IF($AM$7=E17,K17,IF($AM$7=C18,M18,IF($AM$7=E18,K18,IF($AM$7=C19,M19,IF($AM$7=E19,K19,\"\"))))))","v":""},{"$f":"IF($AM$7=C17,G17+K17,IF($AM$7=E17,I17+M17,IF($AM$7=C18,G18+K18,IF($AM$7=E18,I18+M18,IF($AM$7=C19,G19+K19,IF($AM$7=E19,I19+M19,\"\"))))))","v":""},{"$f":"IF($AR$7=C17,G17,IF($AR$7=E17,I17,IF($AR$7=C18,G18,IF($AR$7=E18,I18,IF($AR$7=C19,G19,IF($AR$7=E19,I19,\"\"))))))","v":""},{"$f":"IF($AR$7=C17,I17,IF($AR$7=E17,G17,IF($AR$7=C18,I18,IF($AR$7=E18,G18,IF($AR$7=C19,I19,IF($AR$7=E19,G19,\"\"))))))","v":""},{"$f":"IF($AR$7=C17,K17,IF($AR$7=E17,M17,IF($AR$7=C18,K18,IF($AR$7=E18,M18,IF($AR$7=C19,K19,IF($AR$7=E19,M19,\"\"))))))","v":""},{"$f":"IF($AR$7=C17,M17,IF($AR$7=E17,K17,IF($AR$7=C18,M18,IF($AR$7=E18,K18,IF($AR$7=C19,M19,IF($AR$7=E19,K19,\"\"))))))","v":""},{"$f":"IF($AR$7=C17,G17+K17,IF($AR$7=E17,I17+M17,IF($AR$7=C18,G18+K18,IF($AR$7=E18,I18+M18,IF($AR$7=C19,G19+K19,IF($AR$7=E19,I19+M19,\"\"))))))","v":""}]
[null,null,{"$f":"IF('Einteilung-Termine'!C27=\"\",\"\",'Einteilung-Termine'!C27)","v":""},":",{"$f":"IF('Einteilung-Termine'!E27=\"\",\"\",'Einteilung-Termine'!E27)","v":""},null,null,":","",null,null,":",""]
[null,null,{"$f":"IF('Einteilung-Termine'!C28=\"\",\"\",'Einteilung-Termine'!C28)","v":""},":",{"$f":"IF('Einteilung-Termine'!E28=\"\",\"\",'Einteilung-Termine'!E28)","v":""},null,null,":","",null,null,":",""]
[]
[]
[]
[null,"3. Wettkampf"]
[null,"Ausgetragen",null,null,null,null,"M.-Pkt.",null,null,null,"E.-Pkt."]
[null,null,{"$f":"IF('Einteilung-Termine'!C33=\"\",\"\",'Einteilung-Termine'!C33)","v":""},":",{"$f":"IF('Einteilung-Termine'!E33=\"\",\"\",'Einteilung-Termine'!E33)","v":""},null,null,":",{"$f":"IF(G25=\"\",\"\",IF(G25=2,0,IF(G25=1,1,IF(G25=0,2,\"\"))))","v":""},null,null,":",{"$f":"IF(K25=\"\",\"\",IF(K25=6,0,IF(K25=5,1,IF(K25=4,2,IF(K25=0,6,IF(K25=1,5,IF(K25=2,4,IF(K25=3,3,\"\"))))))))","v":""},null,{"$f":"IF($S$7=C25,G25,IF($S$7=E25,I25,IF($S$7=C26,G26,IF($S$7=E26,I26,IF($S$7=E27,I27,IF($S$7=C27,G27,\"\"))))))","v":""},{"$f":"IF($S$7=C25,I25,IF($S$7=E25,G25,IF($S$7=C26,I26,IF($S$7=E26,G26,IF($S$7=C27,I27,IF($S$7=E27,G27,\"\"))))))","v":""},{"$f":"IF($S$7=C25,K25,IF($S$7=E25,M25,IF($S$7=C26,K26,IF($S$7=E26,M26,IF($S$7=C27,K27,IF($S$7=E27,M27,\"\"))))))","v":""},{"$f":"IF($S$7=C25,M25,IF($S$7=E25,K25,IF($S$7=C26,M26,IF($S$7=E26,K26,IF($S$7=C27,M27,IF($S$7=E27,K27,\"\"))))))","v":""},{"$f":"IF($S$7=C25,G25+K25,IF($S$7=E25,I25+M25,IF($S$7=C26,G26+K26,IF($S$7=E26,I26+M26,IF($S$7=C27,G27+K27,IF($S$7=E27,I27+M27,\"\"))))))","v":""},{"$f":"IF($X$7=C25,G25,IF($X$7=E25,I25,IF($X$7=C26,G26,IF($X$7=E26,I26,IF($X$7=C27,G27,IF($X$7=E27,I27,\"\"))))))","v":""},{"$f":"IF($X$7=C25,I25,IF($X$7=E25,G25,IF($X$7=C26,I26,IF($X$7=E26,G26,IF($X$7=C27,I27,IF($X$7=E27,G27,\"\"))))))","v":""},{"$f":"IF($X$7=C25,K25,IF($X$7=E25,M25,IF($X$7=C26,K26,IF($X$7=E26,M26,IF($X$7=C27,K27,IF($X$7=E27,M27,\"\"))))))","v":""},{"$f":"IF($X$7=C25,M25,IF($X$7=E25,K25,IF($X$7=C26,M26,IF($X$7=E26,K26,IF($X$7=C27,M27,IF($X$7=E27,K27,\"\"))))))","v":""},{"$f":"IF($X$7=C25,G25+K25,IF($X$7=E25,I25+M25,IF($X$7=C26,G26+K26,IF($X$7=E26,I26+M26,IF($X$7=C27,G27+K27,IF($X$7=E27,I27+M27,\"\"))))))","v":""},{"$f":"IF($AC$7=C25,G25,IF($AC$7=E25,I25,IF($AC$7=C26,G26,IF($AC$7=E26,I26,IF($AC$7=C27,G27,IF($AC$7=E27,I27,\"\"))))))","v":""},{"$f":"IF($AC$7=C25,I25,IF($AC$7=E25,G25,IF($AC$7=C26,I26,IF($AC$7=E26,G26,IF($AC$7=C27,I27,IF($AC$7=E27,G27,\"\"))))))","v":""},{"$f":"IF($AC$7=C25,K25,IF($AC$7=E25,M25,IF($AC$7=C26,K26,IF($AC$7=E26,M26,IF($AC$7=C27,K27,IF($AC$7=E27,M27,\"\"))))))","v":""},{"$f":"IF($AC$7=C25,M25,IF($AC$7=E25,K25,IF($AC$7=C26,M26,IF($AC$7=E26,K26,IF($AC$7=C27,M27,IF($AC$7=E27,K27,\"\"))))))","v":""},{"$f":"IF($AC$7=C25,G25+K25,IF($AC$7=E25,I25+M25,IF($AC$7=C26,G26+K26,IF($AC$7=E26,I26+M26,IF($AC$7=C27,G27+K27,IF($AC$7=E27,I27+M27,\"\"))))))","v":""},{"$f":"IF($AH$7=C25,G25,IF($AH$7=E25,I25,IF($AH$7=C26,G26,IF($AH$7=E26,I26,IF($AH$7=C27,G27,IF($AH$7=E27,I27,\"\"))))))","v":""},{"$f":"IF($AH$7=C25,I25,IF($AH$7=E25,G25,IF($AH$7=C26,I26,IF($AH$7=E26,G26,IF($AH$7=C27,I27,IF($AH$7=E27,G27,\"\"))))))","v":""},{"$f":"IF($AH$7=C25,K25,IF($AH$7=E25,M25,IF($AH$7=C26,K26,IF($AH$7=E26,M26,IF($AH$7=C27,K27,IF($AH$7=E27,M27,\"\"))))))","v":""},{"$f":"IF($AH$7=C25,M25,IF($AH$7=E25,K25,IF($AH$7=C26,M26,IF($AH$7=E26,K26,IF($AH$7=C27,M27,IF($AH$7=E27,K27,\"\"))))))","v":""},{"$f":"IF($AH$7=C25,G25+K25,IF($AH$7=E25,I25+M25,IF($AH$7=C26,G26+K26,IF($AH$7=E26,I26+M26,IF($AH$7=C27,G27+K27,IF($AH$7=E27,I27+M27,\"\"))))))","v":""},{"$f":"IF($AM$7=C25,G25,IF($AM$7=E25,I25,IF($AM$7=C26,G26,IF($AM$7=E26,I26,IF($AM$7=C27,G27,IF($AM$7=E27,I27,\"\"))))))","v":""},{"$f":"IF($AM$7=C25,I25,IF($AM$7=E25,G25,IF($AM$7=C26,I26,IF($AM$7=E26,G26,IF($AM$7=C27,I27,IF($AM$7=E27,G27,\"\"))))))","v":""},{"$f":"IF($AM$7=C25,K25,IF($AM$7=E25,M25,IF($AM$7=C26,K26,IF($AM$7=E26,M26,IF($AM$7=C27,K27,IF($AM$7=E27,M27,\"\"))))))","v":""},{"$f":"IF($AM$7=C25,M25,IF($AM$7=E25,K25,IF($AM$7=C26,M26,IF($AM$7=E26,K26,IF($AM$7=C27,M27,IF($AM$7=E27,K27,\"\"))))))","v":""},{"$f":"IF($AM$7=C25,G25+K25,IF($AM$7=E25,I25+M25,IF($AM$7=C26,G26+K26,IF($AM$7=E26,I26+M26,IF($AM$7=C27,G27+K27,IF($AM$7=E27,I27+M27,\"\"))))))","v":""},{"$f":"IF($AR$7=C25,G25,IF($AR$7=E25,I25,IF($AR$7=C26,G26,IF($AR$7=E26,I26,IF($AR$7=C27,G27,IF($AR$7=E27,I27,\"\"))))))","v":""},{"$f":"IF($AR$7=C25,I25,IF($AR$7=E25,G25,IF($AR$7=C26,I26,IF($AR$7=E26,G26,IF($AR$7=C27,I27,IF($AR$7=E27,G27,\"\"))))))","v":""},{"$f":"IF($AR$7=C25,K25,IF($AR$7=E25,M25,IF($AR$7=C26,K26,IF($AR$7=E26,M26,IF($AR$7=C27,K27,IF($AR$7=E27,M27,\"\"))))))","v":""},{"$f":"IF($AR$7=C25,M25,IF($AR$7=E25,K25,IF($AR$7=C26,M26,IF($AR$7=E26,K26,IF($AR$7=C27,M27,IF($AR$7=E27,K27,\"\"))))))","v":""},{"$f":"IF($AR$7=C25,G25+K25,IF($AR$7=E25,I25+M25,IF($AR$7=C26,G26+K26,IF($AR$7=E26,I26+M26,IF($AR$7=C27,G27+K27,IF($AR$7=E27,I27+M27,\"\"))))))","v":""}]
[null,null,{"$f":"IF('Einteilung-Termine'!C34=\"\",\"\",'Einteilung-Termine'!C34)","v":""},":",{"$f":"IF('Einteilung-Termine'!E34=\"\",\"\",'Einteilung-Termine'!E34)","v":""},null,null,":","",null,null,":",""]
[null,null,{"$f":"IF('Einteilung-Termine'!C35=\"\",\"\",'Einteilung-Termine'!C35)","v":""},":",{"$f":"IF('Einteilung-Termine'!E35=\"\",\"\",'Einteilung-Termine'!E35)","v":""},null,null,":","",null,null,":",""]
[]
[]
[]
[null,"4. Wettkampf"]
[null,"Ausgetragen",null,null,null,null,"M.-Pkt.",null,null,null,"E.-Pkt."]
[null,null,{"$f":"IF('Einteilung-Termine'!C40=\"\",\"\",'Einteilung-Termine'!C40)","v":""},":",{"$f":"IF('Einteilung-Termine'!E40=\"\",\"\",'Einteilung-Termine'!E40)","v":""},null,null,":",{"$f":"IF(G33=\"\",\"\",IF(G33=2,0,IF(G33=1,1,IF(G33=0,2,\"\"))))","v":""},null,null,":",{"$f":"IF(K33=\"\",\"\",IF(K33=6,0,IF(K33=5,1,IF(K33=4,2,IF(K33=0,6,IF(K33=1,5,IF(K33=2,4,IF(K33=3,3,\"\"))))))))","v":""},null,{"$f":"IF($S$7=C33,G33,IF($S$7=E33,I33,IF($S$7=C34,G34,IF($S$7=E34,I34,IF($S$7=C35,G35,IF($S$7=E35,I35,\"\"))))))","v":""},{"$f":"IF($S$7=C33,I33,IF($S$7=E33,G33,IF($S$7=C34,I34,IF($S$7=E34,G34,IF($S$7=C35,I35,IF($S$7=E35,G35,\"\"))))))","v":""},{"$f":"IF($S$7=C33,K33,IF($S$7=E33,M33,IF($S$7=C34,K34,IF($S$7=E34,M34,IF($S$7=C35,K35,IF($S$7=E35,M35,\"\"))))))","v":""},{"$f":"IF($S$7=C33,M33,IF($S$7=E33,K33,IF($S$7=C34,M34,IF($S$7=E34,K34,IF($S$7=C35,M35,IF($S$7=E35,K35,\"\"))))))","v":""},{"$f":"IF($S$7=C33,G33+K33,IF($S$7=E33,I33+M33,IF($S$7=C34,G34+K34,IF($S$7=E34,I34+M34,IF($S$7=C35,G35+K35,IF($S$7=E35,I35+M35,\"\"))))))","v":""},{"$f":"IF($X$7=C33,G33,IF($X$7=E33,I33,IF($X$7=C34,G34,IF($X$7=E34,I34,IF($X$7=C35,G35,IF($X$7=E35,I35,\"\"))))))","v":""},{"$f":"IF($X$7=C33,I33,IF($X$7=E33,G33,IF($X$7=C34,I34,IF($X$7=E34,G34,IF($X$7=C35,I35,IF($X$7=E35,G35,\"\"))))))","v":""},{"$f":"IF($X$7=C33,K33,IF($X$7=E33,M33,IF($X$7=C34,K34,IF($X$7=E34,M34,IF($X$7=C35,K35,IF($X$7=E35,M35,\"\"))))))","v":""},{"$f":"IF($X$7=C33,M33,IF($X$7=E33,K33,IF($X$7=C34,M34,IF($X$7=E34,K34,IF($X$7=C35,M35,IF($X$7=E35,K35,\"\"))))))","v":""},{"$f":"IF($X$7=C33,G33+K33,IF($X$7=E33,I33+M33,IF($X$7=C34,G34+K34,IF($X$7=E34,I34+M34,IF($X$7=C35,G35+K35,IF($X$7=E35,I35+M35,\"\"))))))","v":""},{"$f":"IF($AC$7=C33,G33,IF($AC$7=E33,I33,IF($AC$7=C34,G34,IF($AC$7=E34,I34,IF($AC$7=C35,G35,IF($AC$7=E35,I35,\"\"))))))","v":""},{"$f":"IF($AC$7=C33,I33,IF($AC$7=E33,G33,IF($AC$7=C34,I34,IF($AC$7=E34,G34,IF($AC$7=C35,I35,IF($AC$7=E35,G35,\"\"))))))","v":""},{"$f":"IF($AC$7=C33,K33,IF($AC$7=E33,M33,IF($AC$7=C34,K34,IF($AC$7=E34,M34,IF($AC$7=C35,K35,IF($AC$7=E35,M35,\"\"))))))","v":""},{"$f":"IF($AC$7=C33,M33,IF($AC$7=E33,K33,IF($AC$7=C34,M34,IF($AC$7=E34,K34,IF($AC$7=C35,M35,IF($AC$7=E35,K35,\"\"))))))","v":""},{"$f":"IF($AC$7=C33,G33+K33,IF($AC$7=E33,I33+M33,IF($AC$7=C34,G34+K34,IF($AC$7=E34,I34+M34,IF($AC$7=C35,G35+K35,IF($AC$7=E35,I35+M35,\"\"))))))","v":""},{"$f":"IF($AH$7=C33,G33,IF($AH$7=E33,I33,IF($AH$7=C34,G34,IF($AH$7=E34,I34,IF($AH$7=C35,G35,IF($AH$7=E35,I35,\"\"))))))","v":""},{"$f":"IF($AH$7=C33,I33,IF($AH$7=E33,G33,IF($AH$7=C34,I34,IF($AH$7=E34,G34,IF($AH$7=C35,I35,IF($AH$7=E35,G35,\"\"))))))","v":""},{"$f":"IF($AH$7=C33,K33,IF($AH$7=E33,M33,IF($AH$7=C34,K34,IF($AH$7=E34,M34,IF($AH$7=C35,K35,IF($AH$7=E35,M35,\"\"))))))","v":""},{"$f":"IF($AH$7=C33,M33,IF($AH$7=E33,K33,IF($AH$7=C34,M34,IF($AH$7=E34,K34,IF($AH$7=C35,M35,IF($AH$7=E35,K35,\"\"))))))","v":""},{"$f":"IF($AH$7=C33,G33+K33,IF($AH$7=E33,I33+M33,IF($AH$7=C34,G34+K34,IF($AH$7=E34,I34+M34,IF($AH$7=C35,G35+K35,IF($AH$7=E35,I35+M35,\"\"))))))","v":""},{"$f":"IF($AM$7=C33,G33,IF($AM$7=E33,I33,IF($AM$7=C34,G34,IF($AM$7=E34,I34,IF($AM$7=C35,G35,IF($AM$7=E35,I35,\"\"))))))","v":""},{"$f":"IF($AM$7=C33,I33,IF($AM$7=E33,G33,IF($AM$7=C34,I34,IF($AM$7=E34,G34,IF($AM$7=C35,I35,IF($AM$7=E35,G35,\"\"))))))","v":""},{"$f":"IF($AM$7=C33,K33,IF($AM$7=E33,M33,IF($AM$7=C34,K34,IF($AM$7=E34,M34,IF($AM$7=C35,K35,IF($AM$7=E35,M35,\"\"))))))","v":""},{"$f":"IF($AM$7=C33,M33,IF($AM$7=E33,K33,IF($AM$7=C34,M34,IF($AM$7=E34,K34,IF($AM$7=C35,M35,IF($AM$7=E35,K35,\"\"))))))","v":""},{"$f":"IF($AM$7=C33,G33+K33,IF($AM$7=E33,I33+M33,IF($AM$7=C34,G34+K34,IF($AM$7=E34,I34+M34,IF($AM$7=C35,G35+K35,IF($AM$7=E35,I35+M35,\"\"))))))","v":""},{"$f":"IF($AR$7=C33,G33,IF($AR$7=E33,I33,IF($AR$7=C34,G34,IF($AR$7=E34,I34,IF($AR$7=C35,G35,IF($AR$7=E35,I35,\"\"))))))","v":""},{"$f":"IF($AR$7=C33,I33,IF($AR$7=E33,G33,IF($AR$7=C34,I34,IF($AR$7=E34,G34,IF($AR$7=C35,I35,IF($AR$7=E35,G35,\"\"))))))","v":""},{"$f":"IF($AR$7=C33,K33,IF($AR$7=E33,M33,IF($AR$7=C34,K34,IF($AR$7=E34,M34,IF($AR$7=C35,K35,IF($AR$7=E35,M35,\"\"))))))","v":""},{"$f":"IF($AR$7=C33,M33,IF($AR$7=E33,K33,IF($AR$7=C34,M34,IF($AR$7=E34,K34,IF($AR$7=C35,M35,IF($AR$7=E35,K35,\"\"))))))","v":""},{"$f":"IF($AR$7=C33,G33+K33,IF($AR$7=E33,I33+M33,IF($AR$7=C34,G34+K34,IF($AR$7=E34,I34+M34,IF($AR$7=C35,G35+K35,IF($AR$7=E35,I35+M35,\"\"))))))","v":""}]
[null,null,{"$f":"IF('Einteilung-Termine'!C41=\"\",\"\",'Einteilung-Termine'!C41)","v":""},":",{"$f":"IF('Einteilung-Termine'!E41=\"\",\"\",'Einteilung-Termine'!E41)","v":""},null,null,":","",null,null,":",""]
[null,null,{"$f":"IF('Einteilung-Termine'!C42=\"\",\"\",'Einteilung-Termine'!C42)","v":""},":",{"$f":"IF('Einteilung-Termine'!E42=\"\",\"\",'Einteilung-Termine'!E42)","v":""},null,null,":","",null,null,":",""]
[]
[]
[]
[null,"5. Wettkampf"]
[null,"Ausgetragen",null,null,null,null,"M.-Pkt.",null,null,null,"E.-Pkt."]
[null,null,{"$f":"IF('Einteilung-Termine'!C47=\"\",\"\",'Einteilung-Termine'!C47)","v":""},":",{"$f":"IF('Einteilung-Termine'!E47=\"\",\"\",'Einteilung-Termine'!E47)","v":""},null,null,":",{"$f":"IF(G41=\"\",\"\",IF(G41=2,0,IF(G41=1,1,IF(G41=0,2,\"\"))))","v":""},null,null,":",{"$f":"IF(K41=\"\",\"\",IF(K41=6,0,IF(K41=5,1,IF(K41=4,2,IF(K41=0,6,IF(K41=1,5,IF(K41=2,4,IF(K41=3,3,\"\"))))))))","v":""},null,{"$f":"IF($S$7=C41,G41,IF($S$7=E41,I41,IF($S$7=C42,G42,IF($S$7=E42,I42,IF($S$7=E43,G43,IF($S$7=C43,I43,\"\"))))))","v":""},{"$f":"IF($S$7=C41,I41,IF($S$7=E41,G41,IF($S$7=C42,I42,IF($S$7=E42,G42,IF($S$7=C43,I43,IF($S$7=E43,G43,\"\"))))))","v":""},{"$f":"IF($S$7=C41,K41,IF($S$7=E41,M41,IF($S$7=C42,K42,IF($S$7=E42,M42,IF($S$7=C43,K43,IF($S$7=E43,M43,\"\"))))))","v":""},{"$f":"IF($S$7=C41,M41,IF($S$7=E41,K41,IF($S$7=C42,M42,IF($S$7=E42,K42,IF($S$7=C43,M43,IF($S$7=E43,K43,\"\"))))))","v":""},{"$f":"IF($S$7=C41,G41+K41,IF($S$7=E41,I41+M41,IF($S$7=C42,G42+K42,IF($S$7=E42,I42+M42,IF($S$7=C43,G43+K43,IF($S$7=E43,I43+M43,\"\"))))))","v":""},{"$f":"IF($X$7=C41,G41,IF($X$7=E41,I41,IF($X$7=C42,G42,IF($X$7=E42,I42,IF($X$7=C43,G43,IF($X$7=E43,I43,\"\"))))))","v":""},{"$f":"IF($X$7=C41,I41,IF($X$7=E41,G41,IF($X$7=C42,I42,IF($X$7=E42,G42,IF($X$7=C43,I43,IF($X$7=E43,G43,\"\"))))))","v":""},{"$f":"IF($X$7=C41,K41,IF($X$7=E41,M41,IF($X$7=C42,K42,IF($X$7=E42,M42,IF($X$7=C43,K43,IF($X$7=E43,M43,\"\"))))))","v":""},{"$f":"IF($X$7=C41,M41,IF($X$7=E41,K41,IF($X$7=C42,M42,IF($X$7=E42,K42,IF($X$7=C43,M43,IF($X$7=E43,K43,\"\"))))))","v":""},{"$f":"IF($X$7=C41,G41+K41,IF($X$7=E41,I41+M41,IF($X$7=C42,G42+K42,IF($X$7=E42,I42+M42,IF($X$7=C43,G43+K43,IF($X$7=E43,I43+M43,\"\"))))))","v":""},{"$f":"IF($AC$7=C41,G41,IF($AC$7=E41,I41,IF($AC$7=C42,G42,IF($AC$7=E42,I42,IF($AC$7=C43,G43,IF($AC$7=E43,I43,\"\"))))))","v":""},{"$f":"IF($AC$7=C41,I41,IF($AC$7=E41,G41,IF($AC$7=C42,I42,IF($AC$7=E42,G42,IF($AC$7=C43,I43,IF($AC$7=E43,G43,\"\"))))))","v":""},{"$f":"IF($AC$7=C41,K41,IF($AC$7=E41,M41,IF($AC$7=C42,K42,IF($AC$7=E42,M42,IF($AC$7=C43,K43,IF($AC$7=E43,M43,\"\"))))))","v":""},{"$f":"IF($AC$7=C41,M41,IF($AC$7=E41,K41,IF($AC$7=C42,M42,IF($AC$7=E42,K42,IF($AC$7=C43,M43,IF($AC$7=E43,K43,\"\"))))))","v":""},{"$f":"IF($AC$7=C41,G41+K41,IF($AC$7=E41,I41+M41,IF($AC$7=C42,G42+K42,IF($AC$7=E42,I42+M42,IF($AC$7=C43,G43+K43,IF($AC$7=E43,I43+M43,\"\"))))))","v":""},{"$f":"IF($AH$7=C41,G41,IF($AH$7=E41,I41,IF($AH$7=C42,G42,IF($AH$7=E42,I42,IF($AH$7=C43,G43,IF($AH$7=E43,I43,\"\"))))))","v":""},{"$f":"IF($AH$7=C41,I41,IF($AH$7=E41,G41,IF($AH$7=C42,I42,IF($AH$7=E42,G42,IF($AH$7=C43,I43,IF($AH$7=E43,G43,\"\"))))))","v":""},{"$f":"IF($AH$7=C41,K41,IF($AH$7=E41,M41,IF($AH$7=C42,K42,IF($AH$7=E42,M42,IF($AH$7=C43,K43,IF($AH$7=E43,M43,\"\"))))))","v":""},{"$f":"IF($AH$7=C41,M41,IF($AH$7=E41,K41,IF($AH$7=C42,M42,IF($AH$7=E42,K42,IF($AH$7=C43,M43,IF($AH$7=E43,K43,\"\"))))))","v":""},{"$f":"IF($AH$7=C41,G41+K41,IF($AH$7=E41,I41+M41,IF($AH$7=C42,G42+K42,IF($AH$7=E42,I42+M42,IF($AH$7=C43,G43+K43,IF($AH$7=E43,I43+M43,\"\"))))))","v":""},{"$f":"IF($AM$7=C41,G41,IF($AM$7=E41,I41,IF($AM$7=C42,G42,IF($AM$7=E42,I42,IF($AM$7=C43,G43,IF($AM$7=E43,I43,\"\"))))))","v":""},{"$f":"IF($AM$7=C41,I41,IF($AM$7=E41,G41,IF($AM$7=C42,I42,IF($AM$7=E42,G42,IF($AM$7=C43,I43,IF($AM$7=E43,G43,\"\"))))))","v":""},{"$f":"IF($AM$7=C41,K41,IF($AM$7=E41,M41,IF($AM$7=C42,K42,IF($AM$7=E42,M42,IF($AM$7=C43,K43,IF($AM$7=E43,M43,\"\"))))))","v":""},{"$f":"IF($AM$7=C41,M41,IF($AM$7=E41,K41,IF($AM$7=C42,M42,IF($AM$7=E42,K42,IF($AM$7=C43,M43,IF($AM$7=E43,K43,\"\"))))))","v":""},{"$f":"IF($AM$7=C41,G41+K41,IF($AM$7=E41,I41+M41,IF($AM$7=C42,G42+K42,IF($AM$7=E42,I42+M42,IF($AM$7=C43,G43+K43,IF($AM$7=E43,I43+M43,\"\"))))))","v":""},{"$f":"IF($AR$7=C41,G41,IF($AR$7=E41,I41,IF($AR$7=C42,G42,IF($AR$7=E42,I42,IF($AR$7=C43,G43,IF($AR$7=E43,I43,\"\"))))))","v":""},{"$f":"IF($AR$7=C41,I41,IF($AR$7=E41,G41,IF($AR$7=C42,I42,IF($AR$7=E42,G42,IF($AR$7=C43,I43,IF($AR$7=E43,G43,\"\"))))))","v":""},{"$f":"IF($AR$7=C41,K41,IF($AR$7=E41,M41,IF($AR$7=C42,K42,IF($AR$7=E42,M42,IF($AR$7=C43,K43,IF($AR$7=E43,M43,\"\"))))))","v":""},{"$f":"IF($AR$7=C41,M41,IF($AR$7=E41,K41,IF($AR$7=C42,M42,IF($AR$7=E42,K42,IF($AR$7=C43,M43,IF($AR$7=E43,K43,\"\"))))))","v":""},{"$f":"IF($AR$7=C41,G41+K41,IF($AR$7=E41,I41+M41,IF($AR$7=C42,G42+K42,IF($AR$7=E42,I42+M42,IF($AR$7=C43,G43+K43,IF($AR$7=E43,I43+M43,\"\"))))))","v":""}]
[null,null,{"$f":"IF('Einteilung-Termine'!C48=\"\",\"\",'Einteilung-Termine'!C48)","v":""},":",{"$f":"IF('Einteilung-Termine'!E48=\"\",\"\",'Einteilung-Termine'!E48)","v":""},null,null,":","",null,null,":",""]
[null,null,{"$f":"IF('Einteilung-Termine'!C49=\"\",\"\",'Einteilung-Termine'!C49)","v":""},":",{"$f":"IF('Einteilung-Termine'!E49=\"\",\"\",'Einteilung-Termine'!E49)","v":""},null,null,":","",null,null,":",""]
[]
[]
[]
[]
[null,null,null,null,null,null,null,null,null,null,null,null,null,null,null,null,null,null,{"$f":"SUM(O9:O46)*100+SUM(Q9:Q46)-SUM(P9:P46)*0.1-SUM(R9:R46)*0.01+0.001","v":1E-3},null,null,null,null,{"$f":"SUM(T9:T46)*100+SUM(V9:V46)-SUM(U9:U46)*0.1-SUM(W9:W46)*0.01+0.002","v":2E-3},null,null,null,null,{"$f":"SUM(Y9:Y46)*100+SUM(AA9:AA46)-SUM(Z9:Z46)*0.1-SUM(AB9:AB46)*0.01+0.003","v":3.0000000000000001E-3},null,null,null,null,{"$f":"SUM(AD9:AD46)*100+SUM(AF9:AF46)-SUM(AE9:AE46)*0.1-SUM(AG9:AG46)*0.01+0.004","v":4.0000000000000001E-3},null,null,null,null,{"$f":"SUM(AI9:AI46)*100+SUM(AK9:AK46)-SUM(AJ9:AJ46)*0.1-SUM(AL9:AL46)*0.01+0.005","v":5.0000000000000001E-3},null,null,null,null,{"$f":"SUM(AN9:AN46)*100+SUM(AP9:AP46)-SUM(AO9:AO46)*0.1-SUM(AQ9:AQ46)*0.01+0.006","v":6.0000000000000001E-3}]
[null,"Tabelle",null,null,null,null,null,null,null,null,null,null,null,null,{"$f":"SUM(O9:O46)","v":0},{"$f":"SUM(P9:P46)","v":0},{"$f":"SUM(Q9:Q46)","v":0},{"$f":"SUM(R9:R46)","v":0},{"$f":"RANK(S48,$S$48:$BA$48)","v":6},{"$f":"SUM(T9:T46)","v":0},{"$f":"SUM(U9:U46)","v":0},{"$f":"SUM(V9:V46)","v":0},{"$f":"SUM(W9:W46)","v":0},{"$f":"RANK(X48,$S$48:$BA$48)","v":5},{"$f":"SUM(Y9:Y46)","v":0},{"$f":"SUM(Z9:Z46)","v":0},{"$f":"SUM(AA9:AA46)","v":0},{"$f":"SUM(AB9:AB46)","v":0},{"$f":"RANK(AC48,$S$48:$BA$48)","v":4},{"$f":"SUM(AD9:AD46)","v":0},{"$f":"SUM(AE9:AE46)","v":0},{"$f":"SUM(AF9:AF46)","v":0},{"$f":"SUM(AG9:AG46)","v":0},{"$f":"RANK(AH48,$S$48:$BA$48)","v":3},{"$f":"SUM(AI9:AI46)","v":0},{"$f":"SUM(AJ9:AJ46)","v":0},{"$f":"SUM(AK9:AK46)","v":0},{"$f":"SUM(AL9:AL46)","v":0},{"$f":"RANK(AM48,$S$48:$BA$48)","v":2},{"$f":"SUM(AN9:AN46)","v":0},{"$f":"SUM(AO9:AO46)","v":0},{"$f":"SUM(AP9:AP46)","v":0},{"$f":"SUM(AQ9:AQ46)","v":0},{"$f":"RANK(AR48,$S$48:$BA$48)","v":1}]
[null,"Platz","Verein",null,null,null,"M.-Pkt.",null,null,null,"E.-Pkt."]
[null,1,{"$f":"IF('Einteilung-Termine'!C8=\"\",\"\",IF(B51=$S$49,$S$7,IF(B51=$X$49,$X$7,IF(B51=$AC$49,$AC$7,IF(B51=$AH$49,$AH$7,IF(B51=$AM$49,$AM$7,IF(B51=$AR$49,$AR$7,IF(B51=$AV$49,$AV$7,IF(B51=$BA$49,$BA$7)))))))))","v":""},null,null,{"$f":"IF(C51=$S$7,$S$31,IF(C51=$X$7,$X$31,IF(C51=$AC$7,$AC$31,IF(C51=$AH$7,$AH$31,IF(C51=$AM$7,$AM$31,\"\")))))","v":""},{"$f":"IF(C51=\"\",\"\",IF(C51=$S$7,$O$49,IF(C51=$X$7,$T$49,IF(C51=$AC$7,$Y$49,IF(C51=$AH$7,$AD$49,IF(C51=$AM$7,$AI$49,IF(C51=$AR$7,$AN$49,IF(C51=$AV$7,#REF!,IF(C51=$BA$7,$AW$49)))))))))","v":""},":",{"$f":"IF(G51=\"\",\"\",IF(C51=$S$7,$P$49,IF(C51=$X$7,$U$49,IF(C51=$AC$7,$Z$49,IF(C51=$AH$7,$AE$49,IF(C51=$AM$7,$AJ$49,IF(C51=$AR$7,$AO$49,IF(C51=$AV$7,$AS$49,IF(C51=$BA$7,$AX$49)))))))))","v":""},null,{"$f":"IF(C51=\"\",\"\",IF(C51=$S$7,$Q$49,IF(C51=$X$7,$V$49,IF(C51=$AC$7,$AA$49,IF(C51=$AH$7,$AF$49,IF(C51=$AM$7,$AK$49,IF(C51=$AR$7,$AP$49,IF(C51=$AV$7,$AT$49,IF(C51=$BA$7,$AY$49)))))))))","v":""},":",{"$f":"IF(K51=\"\",\"\",IF(C51=$S$7,$R$49,IF(C51=$X$7,$W$49,IF(C51=$AC$7,$AB$49,IF(C51=$AH$7,$AG$49,IF(C51=$AM$7,$AL$49,IF(C51=$AR$7,$AQ$49,IF(C51=$AV$7,$AU$49,IF(C51=$BA$7,$AZ$49)))))))))","v":""}]
[null,2,{"$f":"IF('Einteilung-Termine'!C9=\"\",\"\",IF(C51=\"\",\"\",IF(B52=$S$49,$S$7,IF(B52=$X$49,$X$7,IF(B52=$AC$49,$AC$7,IF(B52=$AH$49,$AH$7,IF(B52=$AM$49,$AM$7,IF(B52=$AR$49,$AR$7,IF(B52=$AV$49,$AV$7,IF(B52=$BA$49,$BA$7))))))))))","v":""},null,null,{"$f":"IF(C52=$S$7,$S$31,IF(C52=$X$7,$X$31,IF(C52=$AC$7,$AC$31,IF(C52=$AH$7,$AH$31,IF(C52=$AM$7,$AM$31,\"\")))))","v":""},{"$f":"IF(C52=\"\",\"\",IF(C52=$S$7,$O$49,IF(C52=$X$7,$T$49,IF(C52=$AC$7,$Y$49,IF(C52=$AH$7,$AD$49,IF(C52=$AM$7,$AI$49,IF(C52=$AR$7,$AN$49,IF(C52=$AV$7,#REF!,IF(C52=$BA$7,$AW$49)))))))))","v":""},":","",null,"",":",""]
[null,3,{"$f":"IF('Einteilung-Termine'!C10=\"\",\"\",IF(C51=\"\",\"\",IF(B53=$S$49,$S$7,IF(B53=$X$49,$X$7,IF(B53=$AC$49,$AC$7,IF(B53=$AH$49,$AH$7,IF(B53=$AM$49,$AM$7,IF(B53=$AR$49,$AR$7,IF(B53=$AV$49,$AV$7,IF(B53=$BA$49,$BA$7))))))))))","v":""},null,null,"",{"$f":"IF(C53=\"\",\"\",IF(C53=$S$7,$O$49,IF(C53=$X$7,$T$49,IF(C53=$AC$7,$Y$49,IF(C53=$AH$7,$AD$49,IF(C53=$AM$7,$AI$49,IF(C53=$AR$7,$AN$49,IF(C53=$AV$7,#REF!,IF(C53=$BA$7,$AW$49)))))))))","v":""},":","",null,"",":",""]
[null,4,{"$f":"IF('Einteilung-Termine'!C11=\"\",\"\",IF(C51=\"\",\"\",IF(B54=$S$49,$S$7,IF(B54=$X$49,$X$7,IF(B54=$AC$49,$AC$7,IF(B54=$AH$49,$AH$7,IF(B54=$AM$49,$AM$7,IF(B54=$AR$49,$AR$7,IF(B54=$AV$49,$AV$7,IF(B54=$BA$49,$BA$7))))))))))","v":""},null,null,"",{"$f":"IF(C54=\"\",\"\",IF(C54=$S$7,$O$49,IF(C54=$X$7,$T$49,IF(C54=$AC$7,$Y$49,IF(C54=$AH$7,$AD$49,IF(C54=$AM$7,$AI$49,IF(C54=$AR$7,$AN$49,IF(C54=$AV$7,#REF!,IF(C54=$BA$7,$AW$49)))))))))","v":""},":","",null,"",":",""]
[null,5,{"$f":"IF('Einteilung-Termine'!C12=\"\",\"\",IF(C51=\"\",\"\",IF(B55=$S$49,$S$7,IF(B55=$X$49,$X$7,IF(B55=$AC$49,$AC$7,IF(B55=$AH$49,$AH$7,IF(B55=$AM$49,$AM$7,IF(B55=$AR$49,$AR$7,IF(B55=$AV$49,$AV$7,IF(B55=$BA$49,$BA$7))))))))))","v":""},null,null,"",{"$f":"IF(C55=\"\",\"\",IF(C55=$S$7,$O$49,IF(C55=$X$7,$T$49,IF(C55=$AC$7,$Y$49,IF(C55=$AH$7,$AD$49,IF(C55=$AM$7,$AI$49,IF(C55=$AR$7,$AN$49,IF(C55=$AV$7,#REF!,IF(C55=$BA$7,$AW$49)))))))))","v":""},":","",null,"",":",""]
[null,6,{"$f":"IF('Einteilung-Termine'!C13=\"\",\"\",IF(C51=\"\",\"\",IF(B56=$S$49,$S$7,IF(B56=$X$49,$X$7,IF(B56=$AC$49,$AC$7,IF(B56=$AH$49,$AH$7,IF(B56=$AM$49,$AM$7,IF(B56=$AR$49,$AR$7,IF(B56=$AV$49,$AV$7,IF(B56=$BA$49,$BA$7))))))))))","v":""},null,null,null,{"$f":"IF(C56=\"\",\"\",IF(C56=$S$7,$O$49,IF(C56=$X$7,$T$49,IF(C56=$AC$7,$Y$49,IF(C56=$AH$7,$AD$49,IF(C56=$AM$7,$AI$49,IF(C56=$AR$7,$AN$49,IF(C56=$AV$7,#REF!,IF(C56=$BA$7,$AW$49)))))))))","v":""},":","",null,"",":",""]

{"sheet":"Wertung-Einzel","index":2,"n_rows":50,"n_cols":13,"rows_kept":50,"cut":false,"hidden":false,"merged":[[4,9,4,12],[0,0,0,2],[6,4,6,12],[2,9,2,11]]}
[{"$f":"'Einteilung-Termine'!A1:C1","v":0}]
[null,"Ergebnis:  ","Einzel"]
[null,"Veranstalter:   ",{"$f":"IF('Einteilung-Termine'!E2=\"\",\"\",'Einteilung-Termine'!E2)","v":""},null,null,null,null,null,null,{"$f":"TODAY()","v":"2025-02-21"}]
[null,"Disziplin :   ",{"$f":"IF('Einteilung-Termine'!E3=\"\",\"\",'Einteilung-Termine'!E3)","v":""}]
[null,null,null,null,null,null,null,null,null,{"$f":"IF('Einteilung-Termine'!E15=\"\",\"\",'Einteilung-Termine'!E15)","v":"© Bechtel V6.0"},null,{"$f":"IF('Einteilung-Termine'!L4=\"\",\"\",'Einteilung-Termine'!L4)","v":""},{"$f":"IF('Einteilung-Termine'!M4=\"\",\"\",'Einteilung-Termine'!M4)","v":""}]
[]
[null,null,null,null,"Rangliste (RL) wird nach dem Schnitt der 4 besten Wettkämpfe sortiert"]
["RL","Name","Verein","S/E","1W","2W","3W","4W","5W","Ges.-R.","Ges.- Ø","WK","Ø 4WK"]
[1,"Marina Lose","SSV Dreis","S",399,400,398,399,387,{"$f":"IF(SUM(E9:I9)>0,SUM(E9:I9),\"\")","v":1983},{"$f":"IF(J9=\"\",\"\",AVERAGE(E9:I9))","v":396.6},{"$f":"IF(J9=\"\",\"\",COUNT(E9:I9)-COUNTIF(E9:I9,\"0\"))","v":5},{"$f":"IF(L9<4,0,IF(ISERROR(AVERAGE(LARGE(E9:I9,{1,2,3,4}))),\"\",AVERAGE(LARGE(E9:I9,{1,2,3,4}))))","v":399}]
[{"$f":"IF(L10=\"\",\"\",IF(L10<4,\"\",IF(ROUND(M10,5)=ROUND(M9,5),\"\",ROW()-8)))","v":2},"Klaus Grau","BSV Osann-Monzel","S",392,null,393,394,398,{"$f":"IF(SUM(E10:I10)>0,SUM(E10:I10),\"\")","v":1577},{"$f":"IF(J10=\"\",\"\",AVERAGE(E10:I10))","v":394.25},{"$f":"IF(J10=\"\",\"\",COUNT(E10:I10)-COUNTIF(E10:I10,\"0\"))","v":4},{"$f":"IF(L10<4,0,IF(ISERROR(AVERAGE(LARGE(E10:I10,{1,2,3,4}))),\"\",AVERAGE(LARGE(E10:I10,{1,2,3,4}))))","v":394.25}]
[{"$f":"IF(L11=\"\",\"\",IF(L11<4,\"\",IF(ROUND(M11,5)=ROUND(M10,5),\"\",ROW()-8)))","v":3},"Ulrike Lose","St.Seb.Schbr. Brauneberg","S",390,391,392,398,395,{"$f":"IF(SUM(E11:I11)>0,SUM(E11:I11),\"\")","v":1966},{"$f":"IF(J11=\"\",\"\",AVERAGE(E11:I11))","v":393.2},{"$f":"IF(J11=\"\",\"\",COUNT(E11:I11)-COUNTIF(E11:I11,\"0\"))","v":5},{"$f":"IF(L11<4,0,IF(ISERROR(AVERAGE(LARGE(E11:I11,{1,2,3,4}))),\"\",AVERAGE(LARGE(E11:I11,{1,2,3,4}))))","v":394}]
[4,"Uli Grün","SVM Zeltingen","S",389,390,null,395,399,{"$f":"IF(SUM(E12:I12)>0,SUM(E12:I12),\"\")","v":1573},{"$f":"IF(J12=\"\",\"\",AVERAGE(E12:I12))","v":393.25},{"$f":"IF(J12=\"\",\"\",COUNT(E12:I12)-COUNTIF(E12:I12,\"0\"))","v":4},{"$f":"IF(L12<4,0,IF(ISERROR(AVERAGE(LARGE(E12:I12,{1,2,3,4}))),\"\",AVERAGE(LARGE(E12:I12,{1,2,3,4}))))","v":393.25}]
[5,"Ernst Küfer","SVM Zeltingen","S",391,394,389,393,394,{"$f":"IF(SUM(E13:I13)>0,SUM(E13:I13),\"\")","v":1961},{"$f":"IF(J13=\"\",\"\",AVERAGE(E13:I13))","v":392.2},{"$f":"IF(J13=\"\",\"\",COUNT(E13:I13)-COUNTIF(E13:I13,\"0\"))","v":5},{"$f":"IF(L13<4,0,IF(ISERROR(AVERAGE(LARGE(E13:I13,{1,2,3,4}))),\"\",AVERAGE(LARGE(E13:I13,{1,2,3,4}))))","v":393}]
[6,"Horst Schall","SCC Hub. Haag","S",392,394,389,392,393,{"$f":"IF(SUM(E14:I14)>0,SUM(E14:I14),\"\")","v":1960},{"$f":"IF(J14=\"\",\"\",AVERAGE(E14:I14))","v":392},{"$f":"IF(J14=\"\",\"\",COUNT(E14:I14)-COUNTIF(E14:I14,\"0\"))","v":5},{"$f":"IF(L14<4,0,IF(ISERROR(AVERAGE(LARGE(E14:I14,{1,2,3,4}))),\"\",AVERAGE(LARGE(E14:I14,{1,2,3,4}))))","v":392.75}]
[7,"Werner Müller","SCC Hub. Haag","S",377,395,389,393,390,{"$f":"IF(SUM(E15:I15)>0,SUM(E15:I15),\"\")","v":1944},{"$f":"IF(J15=\"\",\"\",AVERAGE(E15:I15))","v":388.8},{"$f":"IF(J15=\"\",\"\",COUNT(E15:I15)-COUNTIF(E15:I15,\"0\"))","v":5},{"$f":"IF(L15<4,0,IF(ISERROR(AVERAGE(LARGE(E15:I15,{1,2,3,4}))),\"\",AVERAGE(LARGE(E15:I15,{1,2,3,4}))))","v":391.75}]
[8,"Manfred Maler","SCC Hub. Haag","S",393,390,377,389,388,{"$f":"IF(SUM(E16:I16)>0,SUM(E16:I16),\"\")","v":1937},{"$f":"IF(J16=\"\",\"\",AVERAGE(E16:I16))","v":387.4},{"$f":"IF(J16=\"\",\"\",COUNT(E16:I16)-COUNTIF(E16:I16,\"0\"))","v":5},{"$f":"IF(L16<4,0,IF(ISERROR(AVERAGE(LARGE(E16:I16,{1,2,3,4}))),\"\",AVERAGE(LARGE(E16:I16,{1,2,3,4}))))","v":390}]
[9,"Kathrin Feste","BSV Osann-Monzel","S",380,389,388,390,392,{"$f":"IF(SUM(E17:I17)>0,SUM(E17:I17),\"\")","v":1939},{"$f":"IF(J17=\"\",\"\",AVERAGE(E17:I17))","v":387.8},{"$f":"IF(J17=\"\",\"\",COUNT(E17:I17)-COUNTIF(E17:I17,\"0\"))","v":5},{"$f":"IF(L17<4,0,IF(ISERROR(AVERAGE(LARGE(E17:I17,{1,2,3,4}))),\"\",AVERAGE(LARGE(E17:I17,{1,2,3,4}))))","v":389.75}]
[10,"Arno Groß","SCC Hub. Haag","S",388,388,388,388,390,{"$f":"IF(SUM(E18:I18)>0,SUM(E18:I18),\"\")","v":1942},{"$f":"IF(J18=\"\",\"\",AVERAGE(E18:I18))","v":388.4},{"$f":"IF(J18=\"\",\"\",COUNT(E18:I18)-COUNTIF(E18:I18,\"0\"))","v":5},{"$f":"IF(L18<4,0,IF(ISERROR(AVERAGE(LARGE(E18:I18,{1,2,3,4}))),\"\",AVERAGE(LARGE(E18:I18,{1,2,3,4}))))","v":388.5}]
[11,"Otto Richter","SCC Hub. Haag","S",393,389,369,387,383,{"$f":"IF(SUM(E19:I19)>0,SUM(E19:I19),\"\")","v":1921},{"$f":"IF(J19=\"\",\"\",AVERAGE(E19:I19))","v":384.2},{"$f":"IF(J19=\"\",\"\",COUNT(E19:I19)-COUNTIF(E19:I19,\"0\"))","v":5},{"$f":"IF(L19<4,0,IF(ISERROR(AVERAGE(LARGE(E19:I19,{1,2,3,4}))),\"\",AVERAGE(LARGE(E19:I19,{1,2,3,4}))))","v":388}]
[12,"Achim Klein","SVM Zeltingen","S",369,399,374,389,388,{"$f":"IF(SUM(E20:I20)>0,SUM(E20:I20),\"\")","v":1919},{"$f":"IF(J20=\"\",\"\",AVERAGE(E20:I20))","v":383.8},{"$f":"IF(J20=\"\",\"\",COUNT(E20:I20)-COUNTIF(E20:I20,\"0\"))","v":5},{"$f":"IF(L20<4,0,IF(ISERROR(AVERAGE(LARGE(E20:I20,{1,2,3,4}))),\"\",AVERAGE(LARGE(E20:I20,{1,2,3,4}))))","v":387.5}]
[13,"Gina Blau","BSV Osann-Monzel","S",377,356,393,388,388,{"$f":"IF(SUM(E21:I21)>0,SUM(E21:I21),\"\")","v":1902},{"$f":"IF(J21=\"\",\"\",AVERAGE(E21:I21))","v":380.4},{"$f":"IF(J21=\"\",\"\",COUNT(E21:I21)-COUNTIF(E21:I21,\"0\"))","v":5},{"$f":"IF(L21<4,0,IF(ISERROR(AVERAGE(LARGE(E21:I21,{1,2,3,4}))),\"\",AVERAGE(LARGE(E21:I21,{1,2,3,4}))))","v":386.5}]
[14,"Ernst Schwarz","BSV Osann-Monzel","S",389,377,399,374,379,{"$f":"IF(SUM(E22:I22)>0,SUM(E22:I22),\"\")","v":1918},{"$f":"IF(J22=\"\",\"\",AVERAGE(E22:I22))","v":383.6},{"$f":"IF(J22=\"\",\"\",COUNT(E22:I22)-COUNTIF(E22:I22,\"0\"))","v":5},{"$f":"IF(L22<4,0,IF(ISERROR(AVERAGE(LARGE(E22:I22,{1,2,3,4}))),\"\",AVERAGE(LARGE(E22:I22,{1,2,3,4}))))","v":386}]
[15,"Georg Schreiber","SVM Zeltingen","S",389,388,387,370,378,{"$f":"IF(SUM(E23:I23)>0,SUM(E23:I23),\"\")","v":1912},{"$f":"IF(J23=\"\",\"\",AVERAGE(E23:I23))","v":382.4},{"$f":"IF(J23=\"\",\"\",COUNT(E23:I23)-COUNTIF(E23:I23,\"0\"))","v":5},{"$f":"IF(L23<4,0,IF(ISERROR(AVERAGE(LARGE(E23:I23,{1,2,3,4}))),\"\",AVERAGE(LARGE(E23:I23,{1,2,3,4}))))","v":385.5}]
["","Paul Grob","St.Seb.Schbr. Brauneberg","S",377,377,399,389,374,{"$f":"IF(SUM(E24:I24)>0,SUM(E24:I24),\"\")","v":1916},{"$f":"IF(J24=\"\",\"\",AVERAGE(E24:I24))","v":383.2},{"$f":"IF(J24=\"\",\"\",COUNT(E24:I24)-COUNTIF(E24:I24,\"0\"))","v":5},{"$f":"IF(L24<4,0,IF(ISERROR(AVERAGE(LARGE(E24:I24,{1,2,3,4}))),\"\",AVERAGE(LARGE(E24:I24,{1,2,3,4}))))","v":385.5}]
[17,"Elke Schreiner","SG Wittlich","S",376,387,366,388,390,{"$f":"IF(SUM(E25:I25)>0,SUM(E25:I25),\"\")","v":1907},{"$f":"IF(J25=\"\",\"\",AVERAGE(E25:I25))","v":381.4},{"$f":"IF(J25=\"\",\"\",COUNT(E25:I25)-COUNTIF(E25:I25,\"0\"))","v":5},{"$f":"IF(L25<4,0,IF(ISERROR(AVERAGE(LARGE(E25:I25,{1,2,3,4}))),\"\",AVERAGE(LARGE(E25:I25,{1,2,3,4}))))","v":385.25}]
[18,"Kalle Fritzen","SG Wittlich","S",377,388,369,390,385,{"$f":"IF(SUM(E26:I26)>0,SUM(E26:I26),\"\")","v":1909},{"$f":"IF(J26=\"\",\"\",AVERAGE(E26:I26))","v":381.8},{"$f":"IF(J26=\"\",\"\",COUNT(E26:I26)-COUNTIF(E26:I26,\"0\"))","v":5},{"$f":"IF(L26<4,0,IF(ISERROR(AVERAGE(LARGE(E26:I26,{1,2,3,4}))),\"\",AVERAGE(LARGE(E26:I26,{1,2,3,4}))))","v":385}]
[19,"Anna Jung","St.Seb.Schbr. Brauneberg","S",393,389,377,377,377,{"$f":"IF(SUM(E27:I27)>0,SUM(E27:I27),\"\")","v":1913},{"$f":"IF(J27=\"\",\"\",AVERAGE(E27:I27))","v":382.6},{"$f":"IF(J27=\"\",\"\",COUNT(E27:I27)-COUNTIF(E27:I27,\"0\"))","v":5},{"$f":"IF(L27<4,0,IF(ISERROR(AVERAGE(LARGE(E27:I27,{1,2,3,4}))),\"\",AVERAGE(LARGE(E27:I27,{1,2,3,4}))))","v":384}]
[20,"Manfred Maurer","SG Wittlich","S",366,387,356,391,389,{"$f":"IF(SUM(E28:I28)>0,SUM(E28:I28),\"\")","v":1889},{"$f":"IF(J28=\"\",\"\",AVERAGE(E28:I28))","v":377.8},{"$f":"IF(J28=\"\",\"\",COUNT(E28:I28)-COUNTIF(E28:I28,\"0\"))","v":5},{"$f":"IF(L28<4,0,IF(ISERROR(AVERAGE(LARGE(E28:I28,{1,2,3,4}))),\"\",AVERAGE(LARGE(E28:I28,{1,2,3,4}))))","v":383.25}]
[21,"Elfriede Riss","St.Seb.Schbr. Brauneberg","S",393,377,376,383,376,{"$f":"IF(SUM(E29:I29)>0,SUM(E29:I29),\"\")","v":1905},{"$f":"IF(J29=\"\",\"\",AVERAGE(E29:I29))","v":381},{"$f":"IF(J29=\"\",\"\",COUNT(E29:I29)-COUNTIF(E29:I29,\"0\"))","v":5},{"$f":"IF(L29<4,0,IF(ISERROR(AVERAGE(LARGE(E29:I29,{1,2,3,4}))),\"\",AVERAGE(LARGE(E29:I29,{1,2,3,4}))))","v":382.25}]
[22,"Markus Glaser","SVM Zeltingen","S",367,378,369,390,390,{"$f":"IF(SUM(E30:I30)>0,SUM(E30:I30),\"\")","v":1894},{"$f":"IF(J30=\"\",\"\",AVERAGE(E30:I30))","v":378.8},{"$f":"IF(J30=\"\",\"\",COUNT(E30:I30)-COUNTIF(E30:I30,\"0\"))","v":5},{"$f":"IF(L30<4,0,IF(ISERROR(AVERAGE(LARGE(E30:I30,{1,2,3,4}))),\"\",AVERAGE(LARGE(E30:I30,{1,2,3,4}))))","v":381.75}]
[23,"Rudi Winzer","SG Wittlich","S",378,367,384,377,379,{"$f":"IF(SUM(E31:I31)>0,SUM(E31:I31),\"\")","v":1885},{"$f":"IF(J31=\"\",\"\",AVERAGE(E31:I31))","v":377},{"$f":"IF(J31=\"\",\"\",COUNT(E31:I31)-COUNTIF(E31:I31,\"0\"))","v":5},{"$f":"IF(L31<4,0,IF(ISERROR(AVERAGE(LARGE(E31:I31,{1,2,3,4}))),\"\",AVERAGE(LARGE(E31:I31,{1,2,3,4}))))","v":379.5}]
[24,"Alois Hupe","SSV Dreis","S",376,367,349,378,379,{"$f":"IF(SUM(E32:I32)>0,SUM(E32:I32),\"\")","v":1849},{"$f":"IF(J32=\"\",\"\",AVERAGE(E32:I32))","v":369.8},{"$f":"IF(J32=\"\",\"\",COUNT(E32:I32)-COUNTIF(E32:I32,\"0\"))","v":5},{"$f":"IF(L32<4,0,IF(ISERROR(AVERAGE(LARGE(E32:I32,{1,2,3,4}))),\"\",AVERAGE(LARGE(E32:I32,{1,2,3,4}))))","v":375}]
[25,"Hans Schelle","SSV Dreis","S",345,367,376,340,377,{"$f":"IF(SUM(E33:I33)>0,SUM(E33:I33),\"\")","v":1805},{"$f":"IF(J33=\"\",\"\",AVERAGE(E33:I33))","v":361},{"$f":"IF(J33=\"\",\"\",COUNT(E33:I33)-COUNTIF(E33:I33,\"0\"))","v":5},{"$f":"IF(L33<4,0,IF(ISERROR(AVERAGE(LARGE(E33:I33,{1,2,3,4}))),\"\",AVERAGE(LARGE(E33:I33,{1,2,3,4}))))","v":366.25}]
[26,"Kurt Klingel","SSV Dreis","S",356,358,359,367,378,{"$f":"IF(SUM(E34:I34)>0,SUM(E34:I34),\"\")","v":1818},{"$f":"IF(J34=\"\",\"\",AVERAGE(E34:I34))","v":363.6},{"$f":"IF(J34=\"\",\"\",COUNT(E34:I34)-COUNTIF(E34:I34,\"0\"))","v":5},{"$f":"IF(L34<4,0,IF(ISERROR(AVERAGE(LARGE(E34:I34,{1,2,3,4}))),\"\",AVERAGE(LARGE(E34:I34,{1,2,3,4}))))","v":365.5}]
[27,"Fred Glocke","SSV Dreis","S",380,350,349,368,356,{"$f":"IF(SUM(E35:I35)>0,SUM(E35:I35),\"\")","v":1803},{"$f":"IF(J35=\"\",\"\",AVERAGE(E35:I35))","v":360.6},{"$f":"IF(J35=\"\",\"\",COUNT(E35:I35)-COUNTIF(E35:I35,\"0\"))","v":5},{"$f":"IF(L35<4,0,IF(ISERROR(AVERAGE(LARGE(E35:I35,{1,2,3,4}))),\"\",AVERAGE(LARGE(E35:I35,{1,2,3,4}))))","v":363.5}]
["","Oswald Glatt","St.Seb.Schbr. Brauneberg","S",393,389,null,379,null,{"$f":"IF(SUM(E36:I36)>0,SUM(E36:I36),\"\")","v":1161},{"$f":"IF(J36=\"\",\"\",AVERAGE(E36:I36))","v":387},{"$f":"IF(J36=\"\",\"\",COUNT(E36:I36)-COUNTIF(E36:I36,\"0\"))","v":3},{"$f":"IF(L36<4,0,IF(ISERROR(AVERAGE(LARGE(E36:I36,{1,2,3,4}))),\"\",AVERAGE(LARGE(E36:I36,{1,2,3,4}))))","v":0}]
["","Heike Braun","BSV Osann-Monzel","S",386,null,388,null,null,{"$f":"IF(SUM(E37:I37)>0,SUM(E37:I37),\"\")","v":774},{"$f":"IF(J37=\"\",\"\",AVERAGE(E37:I37))","v":387},{"$f":"IF(J37=\"\",\"\",COUNT(E37:I37)-COUNTIF(E37:I37,\"0\"))","v":2},{"$f":"IF(L37<4,0,IF(ISERROR(AVERAGE(LARGE(E37:I37,{1,2,3,4}))),\"\",AVERAGE(LARGE(E37:I37,{1,2,3,4}))))","v":0}]
["","Fritz Bauer","SG Wittlich","S",387,null,null,null,null,{"$f":"IF(SUM(E38:I38)>0,SUM(E38:I38),\"\")","v":387},{"$f":"IF(J38=\"\",\"\",AVERAGE(E38:I38))","v":387},{"$f":"IF(J38=\"\",\"\",COUNT(E38:I38)-COUNTIF(E38:I38,\"0\"))","v":1},{"$f":"IF(L38<4,0,IF(ISERROR(AVERAGE(LARGE(E38:I38,{1,2,3,4}))),\"\",AVERAGE(LARGE(E38:I38,{1,2,3,4}))))","v":0}]
["",null,null,null,null,null,null,null,null,{"$f":"IF(SUM(E39:I39)>0,SUM(E39:I39),\"\")","v":""},{"$f":"IF(J39=\"\",\"\",AVERAGE(E39:I39))","v":""},{"$f":"IF(J39=\"\",\"\",COUNT(E39:I39)-COUNTIF(E39:I39,\"0\"))","v":""},{"$f":"IF(L39<4,0,IF(ISERROR(AVERAGE(LARGE(E39:I39,{1,2,3,4}))),\"\",AVERAGE(LARGE(E39:I39,{1,2,3,4}))))","v":""}]
["",null,null,null,null,null,null,null,null,"","","",{"$f":"IF(L40<4,0,IF(ISERROR(AVERAGE(LARGE(E40:I40,{1,2,3,4}))),\"\",AVERAGE(LARGE(E40:I40,{1,2,3,4}))))","v":""}]
["",null,null,null,null,null,null,null,null,"","","",{"$f":"IF(L41<4,0,IF(ISERROR(AVERAGE(LARGE(E41:I41,{1,2,3,4}))),\"\",AVERAGE(LARGE(E41:I41,{1,2,3,4}))))","v":""}]
["",null,null,null,null,null,null,null,null,"","","",{"$f":"IF(L42<4,0,IF(ISERROR(AVERAGE(LARGE(E42:I42,{1,2,3,4}))),\"\",AVERAGE(LARGE(E42:I42,{1,2,3,4}))))","v":""}]
["",null,null,null,null,null,null,null,null,"","","",{"$f":"IF(L43<4,0,IF(ISERROR(AVERAGE(LARGE(E43:I43,{1,2,3,4}))),\"\",AVERAGE(LARGE(E43:I43,{1,2,3,4}))))","v":""}]
["",null,null,null,null,null,null,null,null,"","","",{"$f":"IF(L44<4,0,IF(ISERROR(AVERAGE(LARGE(E44:I44,{1,2,3,4}))),\"\",AVERAGE(LARGE(E44:I44,{1,2,3,4}))))","v":""}]
["",null,null,null,null,null,null,null,null,"","","",{"$f":"IF(L45<4,0,IF(ISERROR(AVERAGE(LARGE(E45:I45,{1,2,3,4}))),\"\",AVERAGE(LARGE(E45:I45,{1,2,3,4}))))","v":""}]
["",null,null,null,null,null,null,null,null,"","","",{"$f":"IF(L46<4,0,IF(ISERROR(AVERAGE(LARGE(E46:I46,{1,2,3,4}))),\"\",AVERAGE(LARGE(E46:I46,{1,2,3,4}))))","v":""}]
["",null,null,null,null,null,null,null,null,"","","",{"$f":"IF(L47<4,0,IF(ISERROR(AVERAGE(LARGE(E47:I47,{1,2,3,4}))),\"\",AVERAGE(LARGE(E47:I47,{1,2,3,4}))))","v":""}]
["",null,null,null,null,null,null,null,null,"","","",{"$f":"IF(L48<4,0,IF(ISERROR(AVERAGE(LARGE(E48:I48,{1,2,3,4}))),\"\",AVERAGE(LARGE(E48:I48,{1,2,3,4}))))","v":""}]
["",null,null,null,null,null,null,null,null,"","","",{"$f":"IF(L49<4,0,IF(ISERROR(AVERAGE(LARGE(E49:I49,{1,2,3,4}))),\"\",AVERAGE(LARGE(E49:I49,{1,2,3,4}))))","v":""}]
["",null,null,null,null,null,null,null,null,"","","",{"$f":"IF(L50<4,0,IF(ISERROR(AVERAGE(LARGE(E50:I50,{1,2,3,4}))),\"\",AVERAGE(LARGE(E50:I50,{1,2,3,4}))))","v":""}]

{"sheet":"Grafik","index":3,"n_rows":0,"n_cols":0,"rows_kept":0,"cut":false,"hidden":true,"merged":[]}