{"text_format":"1","workbook":"xlsx","n_sheets":2,"sheets":["Tabelle1","Tabelle2"],"not_rendered":{"charts":0,"images":0,"macros":1,"external_links":0,"defined_names":3,"comments":0,"pivot_tables":0},"unopened":[],"bounds":{"document_bytes":16777216,"sheet_cells":100000,"rows_first":2000,"rows_last":500,"rows_between":2000,"halvings":0,"cell_chars":16384,"cell_head_chars":4096},"cells_cut":0,"cells_raw":0,"read":"whole","date_system":"1900"}

{"sheet":"Tabelle1","index":0,"n_rows":3,"n_cols":3,"rows_kept":3,"cut":false,"hidden":false,"merged":[]}
[3]
[]
[null,null,3]

{"sheet":"Tabelle2","index":1,"n_rows":12,"n_cols":18,"rows_kept":12,"cut":false,"hidden":false,"merged":[]}
[]
[]
[0,null,null,{"$f":"SUM(A3:C3)","v":0},null,{"$f":"IF(A3-#REF!=0,\"\",IF(B3-#REF!=0,\"\",IF(C3-#REF!=0,\"\",IF(D3-#REF!=0,\"\",\"N\"))))","v":{"$error":"#REF!"}},0,{"$f":"IF(#REF!=\"k\",\"Mengenkorrektur Quadrahtmeter\",IF(G3=\"\",\"Blockberechnung\",IF(G3=0,0,VLOOKUP(G3,#REF!,2,0))))","v":{"$error":"#REF!"}},{"$f":"IF(K3=\"per\",1,0)","v":0},{"$f":"IF($AT$1=1,#REF!/1000,0)","v":0},"pl",null,null,{"$f":"SUM(P3:R3)","v":{"$error":"#REF!"}},{"$f":"IF(F3=\"n\",\"ne\",IF(#REF!=0,0,IF(L3=\"i\",(N3*#REF!)/#REF!,IF(L3=\"p\",(N3*#REF!)/#REF!,(N3*#REF!)/#REF!))))","v":{"$error":"#REF!"}},{"$f":"IF(L3=\"p\",0,IF(L3=\"p+\",0,IF(L3=\"i\",0,M3*#REF!)))","v":{"$error":"#REF!"}},{"$f":"IF(L3=\"p\",M3*#REF!,IF(L3=\"p+\",M3+#REF!*#REF!+#REF!*#REF!+AG3*#REF!,IF(L3=\"i\",0,IF(L3=\"pl\",0,IF(L3=\"e\",0,#REF!*#REF!+#REF!*#REF!+AG3*#REF!)))))","v":{"$error":"#REF!"}},{"$f":"IF(L3=\"i\",M3*#REF!,0)","v":0}]
[1,null,null,{"$f":"SUM(A4:C4)","v":1},null,{"$f":"IF(A4-#REF!=0,\"\",IF(B4-#REF!=0,\"\",IF(C4-#REF!=0,\"\",IF(D4-#REF!=0,\"\",\"N\"))))","v":{"$error":"#REF!"}},1,{"$f":"IF(#REF!=\"k\",\"Mengenkorrektur Quadrahtmeter\",IF(G4=\"\",\"Blockberechnung\",IF(G4=0,0,VLOOKUP(G4,#REF!,2,0))))","v":{"$error":"#REF!"}},{"$f":"IF(K4=\"per\",1,0)","v":0},{"$f":"IF($AT$1=1,#REF!/1000,0)","v":0},"pl",null,null,{"$f":"SUM(P4:R4)","v":{"$error":"#REF!"}},{"$f":"IF(F4=\"n\",\"ne\",IF(#REF!=0,0,IF(L4=\"i\",(N4*#REF!)/#REF!,IF(L4=\"p\",(N4*#REF!)/#REF!,(N4*#REF!)/#REF!))))","v":{"$error":"#REF!"}},{"$f":"IF(L4=\"p\",0,IF(L4=\"p+\",0,IF(L4=\"i\",0,M4*#REF!)))","v":{"$error":"#REF!"}},{"$f":"IF(L4=\"p\",M4*#REF!,IF(L4=\"p+\",M4+#REF!*#REF!+#REF!*#REF!+AG4*#REF!,IF(L4=\"i\",0,IF(L4=\"pl\",0,IF(L4=\"e\",0,#REF!*#REF!+#REF!*#REF!+AG4*#REF!)))))","v":{"$error":"#REF!"}},{"$f":"IF(L4=\"i\",M4*#REF!,0)","v":0}]
[2,null,null,2,null,{"$f":"IF(A5-#REF!=0,\"\",IF(B5-#REF!=0,\"\",IF(C5-#REF!=0,\"\",IF(D5-#REF!=0,\"\",\"N\"))))","v":{"$error":"#REF!"}},0,{"$f":"IF(#REF!=\"k\",\"Mengenkorrektur Quadrahtmeter\",IF(G5=\"\",\"Blockberechnung\",IF(G5=0,0,VLOOKUP(G5,#REF!,2,0))))","v":{"$error":"#REF!"}},0,{"$f":"IF($AT$1=1,#REF!/1000,0)","v":0},"pl",null,null,{"$error":"#REF!"},{"$f":"IF(F5=\"n\",\"ne\",IF(#REF!=0,0,IF(L5=\"i\",(N5*#REF!)/#REF!,IF(L5=\"p\",(N5*#REF!)/#REF!,(N5*#REF!)/#REF!))))","v":{"$error":"#REF!"}},{"$f":"IF(L5=\"p\",0,IF(L5=\"p+\",0,IF(L5=\"i\",0,M5*#REF!)))","v":{"$error":"#REF!"}},{"$f":"IF(L5=\"p\",M5*#REF!,IF(L5=\"p+\",M5+#REF!*#REF!+#REF!*#REF!+AG5*#REF!,IF(L5=\"i\",0,IF(L5=\"pl\",0,IF(L5=\"e\",0,#REF!*#REF!+#REF!*#REF!+AG5*#REF!)))))","v":{"$error":"#REF!"}},{"$f":"IF(L5=\"i\",M5*#REF!,0)","v":0}]
[3,null,null,3,null,{"$f":"IF(A6-#REF!=0,\"\",IF(B6-#REF!=0,\"\",IF(C6-#REF!=0,\"\",IF(D6-#REF!=0,\"\",\"N\"))))","v":{"$error":"#REF!"}},0,{"$f":"IF(#REF!=\"k\",\"Mengenkorrektur Quadrahtmeter\",IF(G6=\"\",\"Blockberechnung\",IF(G6=0,0,VLOOKUP(G6,#REF!,2,0))))","v":{"$error":"#REF!"}},0,{"$f":"IF($AT$1=1,#REF!/1000,0)","v":0},"pl",null,null,{"$error":"#REF!"},{"$f":"IF(F6=\"n\",\"ne\",IF(#REF!=0,0,IF(L6=\"i\",(N6*#REF!)/#REF!,IF(L6=\"p\",(N6*#REF!)/#REF!,(N6*#REF!)/#REF!))))","v":{"$error":"#REF!"}},{"$f":"IF(L6=\"p\",0,IF(L6=\"p+\",0,IF(L6=\"i\",0,M6*#REF!)))","v":{"$error":"#REF!"}},{"$f":"IF(L6=\"p\",M6*#REF!,IF(L6=\"p+\",M6+#REF!*#REF!+#REF!*#REF!+AG6*#REF!,IF(L6=\"i\",0,IF(L6=\"pl\",0,IF(L6=\"e\",0,#REF!*#REF!+#REF!*#REF!+AG6*#REF!)))))","v":{"$error":"#REF!"}},{"$f":"IF(L6=\"i\",M6*#REF!,0)","v":0}]
[4,null,null,4,null,{"$f":"IF(A7-#REF!=0,\"\",IF(B7-#REF!=0,\"\",IF(C7-#REF!=0,\"\",IF(D7-#REF!=0,\"\",\"N\"))))","v":{"$error":"#REF!"}},2,{"$f":"IF(#REF!=\"k\",\"Mengenkorrektur Quadrahtmeter\",IF(G7=\"\",\"Blockberechnung\",IF(G7=0,0,VLOOKUP(G7,#REF!,2,0))))","v":{"$error":"#REF!"}},0,{"$f":"IF($AT$1=1,#REF!/1000,0)","v":0},"pl",null,null,{"$error":"#REF!"},{"$f":"IF(F7=\"n\",\"ne\",IF(#REF!=0,0,IF(L7=\"i\",(N7*#REF!)/#REF!,IF(L7=\"p\",(N7*#REF!)/#REF!,(N7*#REF!)/#REF!))))","v":{"$error":"#REF!"}},{"$f":"IF(L7=\"p\",0,IF(L7=\"p+\",0,IF(L7=\"i\",0,M7*#REF!)))","v":{"$error":"#REF!"}},{"$f":"IF(L7=\"p\",M7*#REF!,IF(L7=\"p+\",M7+#REF!*#REF!+#REF!*#REF!+AG7*#REF!,IF(L7=\"i\",0,IF(L7=\"pl\",0,IF(L7=\"e\",0,#REF!*#REF!+#REF!*#REF!+AG7*#REF!)))))","v":{"$error":"#REF!"}},{"$f":"IF(L7=\"i\",M7*#REF!,0)","v":0}]
[5,null,null,5,null,{"$f":"IF(A8-#REF!=0,\"\",IF(B8-#REF!=0,\"\",IF(C8-#REF!=0,\"\",IF(D8-#REF!=0,\"\",\"N\"))))","v":{"$error":"#REF!"}},0,{"$f":"IF(#REF!=\"k\",\"Mengenkorrektur Quadrahtmeter\",IF(G8=\"\",\"Blockberechnung\",IF(G8=0,0,VLOOKUP(G8,#REF!,2,0))))","v":{"$error":"#REF!"}},0,{"$f":"IF($AT$1=1,#REF!/1000,0)","v":0},"pl",null,null,{"$error":"#REF!"},{"$f":"IF(F8=\"n\",\"ne\",IF(#REF!=0,0,IF(L8=\"i\",(N8*#REF!)/#REF!,IF(L8=\"p\",(N8*#REF!)/#REF!,(N8*#REF!)/#REF!))))","v":{"$error":"#REF!"}},{"$f":"IF(L8=\"p\",0,IF(L8=\"p+\",0,IF(L8=\"i\",0,M8*#REF!)))","v":{"$error":"#REF!"}},{"$f":"IF(L8=\"p\",M8*#REF!,IF(L8=\"p+\",M8+#REF!*#REF!+#REF!*#REF!+AG8*#REF!,IF(L8=\"i\",0,IF(L8=\"pl\",0,IF(L8=\"e\",0,#REF!*#REF!+#REF!*#REF!+AG8*#REF!)))))","v":{"$error":"#REF!"}},{"$f":"IF(L8=\"i\",M8*#REF!,0)","v":0}]
[6,null,null,6,null,{"$f":"IF(A9-#REF!=0,\"\",IF(B9-#REF!=0,\"\",IF(C9-#REF!=0,\"\",IF(D9-#REF!=0,\"\",\"N\"))))","v":{"$error":"#REF!"}},0,{"$f":"IF(#REF!=\"k\",\"Mengenkorrektur Quadrahtmeter\",IF(G9=\"\",\"Blockberechnung\",IF(G9=0,0,VLOOKUP(G9,#REF!,2,0))))","v":{"$error":"#REF!"}},0,{"$f":"IF($AT$1=1,#REF!/1000,0)","v":0},"pl",null,null,{"$error":"#REF!"},{"$f":"IF(F9=\"n\",\"ne\",IF(#REF!=0,0,IF(L9=\"i\",(N9*#REF!)/#REF!,IF(L9=\"p\",(N9*#REF!)/#REF!,(N9*#REF!)/#REF!))))","v":{"$error":"#REF!"}},{"$f":"IF(L9=\"p\",0,IF(L9=\"p+\",0,IF(L9=\"i\",0,M9*#REF!)))","v":{"$error":"#REF!"}},{"$f":"IF(L9=\"p\",M9*#REF!,IF(L9=\"p+\",M9+#REF!*#REF!+#REF!*#REF!+AG9*#REF!,IF(L9=\"i\",0,IF(L9=\"pl\",0,IF(L9=\"e\",0,#REF!*#REF!+#REF!*#REF!+AG9*#REF!)))))","v":{"$error":"#REF!"}},{"$f":"IF(L9=\"i\",M9*#REF!,0)","v":0}]
[7,null,null,7,null,{"$f":"IF(A10-#REF!=0,\"\",IF(B10-#REF!=0,\"\",IF(C10-#REF!=0,\"\",IF(D10-#REF!=0,\"\",\"N\"))))","v":{"$error":"#REF!"}},3,{"$f":"IF(#REF!=\"k\",\"Mengenkorrektur Quadrahtmeter\",IF(G10=\"\",\"Blockberechnung\",IF(G10=0,0,VLOOKUP(G10,#REF!,2,0))))","v":{"$error":"#REF!"}},0,{"$f":"IF($AT$1=1,#REF!/1000,0)","v":0},"pl",null,null,{"$error":"#REF!"},{"$f":"IF(F10=\"n\",\"ne\",IF(#REF!=0,0,IF(L10=\"i\",(N10*#REF!)/#REF!,IF(L10=\"p\",(N10*#REF!)/#REF!,(N10*#REF!)/#REF!))))","v":{"$error":"#REF!"}},{"$f":"IF(L10=\"p\",0,IF(L10=\"p+\",0,IF(L10=\"i\",0,M10*#REF!)))","v":{"$error":"#REF!"}},{"$f":"IF(L10=\"p\",M10*#REF!,IF(L10=\"p+\",M10+#REF!*#REF!+#REF!*#REF!+AG10*#REF!,IF(L10=\"i\",0,IF(L10=\"pl\",0,IF(L10=\"e\",0,#REF!*#REF!+#REF!*#REF!+AG10*#REF!)))))","v":{"$error":"#REF!"}},{"$f":"IF(L10=\"i\",M10*#REF!,0)","v":0}]
[5,null,null,{"$f":"SUM(A11:C11)","v":5},null,{"$f":"IF(A11-#REF!=0,\"\",IF(B11-#REF!=0,\"\",IF(C11-#REF!=0,\"\",IF(D11-#REF!=0,\"\",\"N\"))))","v":{"$error":"#REF!"}},0,{"$f":"IF(#REF!=\"k\",\"Mengenkorrektur Quadrahtmeter\",IF(G11=\"\",\"Blockberechnung\",IF(G11=0,0,VLOOKUP(G11,#REF!,2,0))))","v":{"$error":"#REF!"}},{"$f":"IF(K11=\"per\",1,0)","v":0},{"$f":"IF($AT$1=1,#REF!/1000,0)","v":0},"pl",null,null,{"$f":"SUM(P11:R11)","v":{"$error":"#REF!"}},{"$f":"IF(F11=\"n\",\"ne\",IF(#REF!=0,0,IF(L11=\"i\",(N11*#REF!)/#REF!,IF(L11=\"p\",(N11*#REF!)/#REF!,(N11*#REF!)/#REF!))))","v":{"$error":"#REF!"}},{"$f":"IF(L11=\"p\",0,IF(L11=\"p+\",0,IF(L11=\"i\",0,M11*#REF!)))","v":{"$error":"#REF!"}},{"$f":"IF(L11=\"p\",M11*#REF!,IF(L11=\"p+\",M11+#REF!*#REF!+#REF!*#REF!+AG11*#REF!,IF(L11=\"i\",0,IF(L11=\"pl\",0,IF(L11=\"e\",0,#REF!*#REF!+#REF!*#REF!+AG11*#REF!)))))","v":{"$error":"#REF!"}},{"$f":"IF(L11=\"i\",M11*#REF!,0)","v":0}]
[6,null,null,6,null,{"$f":"IF(A12-#REF!=0,\"\",IF(B12-#REF!=0,\"\",IF(C12-#REF!=0,\"\",IF(D12-#REF!=0,\"\",\"N\"))))","v":{"$error":"#REF!"}},0,{"$f":"IF(#REF!=\"k\",\"Mengenkorrektur Quadrahtmeter\",IF(G12=\"\",\"Blockberechnung\",IF(G12=0,0,VLOOKUP(G12,#REF!,2,0))))","v":{"$error":"#REF!"}},0,{"$f":"IF($AT$1=1,#REF!/1000,0)","v":0},"pl",null,null,{"$error":"#REF!"},{"$f":"IF(F12=\"n\",\"ne\",IF(#REF!=0,0,IF(L12=\"i\",(N12*#REF!)/#REF!,IF(L12=\"p\",(N12*#REF!)/#REF!,(N12*#REF!)/#REF!))))","v":{"$error":"#REF!"}},{"$f":"IF(L12=\"p\",0,IF(L12=\"p+\",0,IF(L12=\"i\",0,M12*#REF!)))","v":{"$error":"#REF!"}},{"$f":"IF(L12=\"p\",M12*#REF!,IF(L12=\"p+\",M12+#REF!*#REF!+#REF!*#REF!+AG12*#REF!,IF(L12=\"i\",0,IF(L12=\"pl\",0,IF(L12=\"e\",0,#REF!*#REF!+#REF!*#REF!+AG12*#REF!)))))","v":{"$error":"#REF!"}},{"$f":"IF(L12=\"i\",M12*#REF!,0)","v":0}]