{"text_format":"1","workbook":"xlsx","n_sheets":3,"sheets":["Übersicht","202501","202502"],"not_rendered":{"charts":0,"images":0,"macros":0,"external_links":1,"defined_names":0,"comments":0,"pivot_tables":0},"unopened":[],"bounds":{"document_bytes":16777216,"sheet_cells":100000,"rows_first":2000,"rows_last":500,"rows_between":2000,"halvings":0,"cell_chars":16384,"cell_head_chars":4096},"cells_cut":0,"cells_raw":0,"read":"whole","date_system":"1900"}

{"sheet":"Übersicht","index":0,"n_rows":29,"n_cols":12,"rows_kept":29,"cut":false,"hidden":false,"merged":[]}
["Mitarbeiter","Früh-\ndienst","Früh-\ndienst 2","Ersatz\nFrüh-\ndienst","Normal-\ndienst","Normal-\ndienst 2","Ersatz Normal\ndienst","Spät-\ndienst","Spät-\ndienst2",null,"Jahr",2025]
[null,"C1","F1","Z1","C2","F2","Z2","C3","F3"]
["Mitarbeiter 1",{"$f":"SUM('202501:202502'!N7)","v":0},{"$f":"SUM('202501:202502'!O7)","v":0},{"$f":"SUM('202501:202502'!P7)","v":0},{"$f":"SUM('202501:202502'!Q7)","v":0},{"$f":"SUM('202501:202502'!R7)","v":0},{"$f":"SUM('202501:202502'!S7)","v":0},{"$f":"SUM('202501:202502'!T7)","v":0},{"$f":"SUM('202501:202502'!U7)","v":0},null,"Feiertage"]
["Mitarbeiter 2",{"$f":"SUM('202501:202502'!N8)","v":0},{"$f":"SUM('202501:202502'!O8)","v":0},{"$f":"SUM('202501:202502'!P8)","v":0},{"$f":"SUM('202501:202502'!Q8)","v":0},{"$f":"SUM('202501:202502'!R8)","v":0},{"$f":"SUM('202501:202502'!S8)","v":0},{"$f":"SUM('202501:202502'!T8)","v":0},{"$f":"SUM('202501:202502'!U8)","v":0},null,"2024-12-31","Silvester"]
[null,{"$f":"SUM('202501:202502'!N9)","v":0},{"$f":"SUM('202501:202502'!O9)","v":0},{"$f":"SUM('202501:202502'!P9)","v":0},{"$f":"SUM('202501:202502'!Q9)","v":0},{"$f":"SUM('202501:202502'!R9)","v":0},{"$f":"SUM('202501:202502'!S9)","v":0},{"$f":"SUM('202501:202502'!T9)","v":0},{"$f":"SUM('202501:202502'!U9)","v":0},null,"2025-01-01","Neujahr"]
["Mitarbeiter 3",{"$f":"SUM('202501:202502'!N10)","v":2},{"$f":"SUM('202501:202502'!O10)","v":0},{"$f":"SUM('202501:202502'!P10)","v":0},{"$f":"SUM('202501:202502'!Q10)","v":0},{"$f":"SUM('202501:202502'!R10)","v":0},{"$f":"SUM('202501:202502'!S10)","v":0},{"$f":"SUM('202501:202502'!T10)","v":0},{"$f":"SUM('202501:202502'!U10)","v":0},null,"2025-01-06","Heilige Drei Könige"]
["Mitarbeiter 4",{"$f":"SUM('202501:202502'!N11)","v":0},{"$f":"SUM('202501:202502'!O11)","v":0},{"$f":"SUM('202501:202502'!P11)","v":0},{"$f":"SUM('202501:202502'!Q11)","v":0},{"$f":"SUM('202501:202502'!R11)","v":0},{"$f":"SUM('202501:202502'!S11)","v":0},{"$f":"SUM('202501:202502'!T11)","v":0},{"$f":"SUM('202501:202502'!U11)","v":0},null,"2025-04-18","Karfreitag"]
[null,{"$f":"SUM('202501:202502'!N12)","v":0},{"$f":"SUM('202501:202502'!O12)","v":0},{"$f":"SUM('202501:202502'!P12)","v":0},{"$f":"SUM('202501:202502'!Q12)","v":0},{"$f":"SUM('202501:202502'!R12)","v":0},{"$f":"SUM('202501:202502'!S12)","v":0},{"$f":"SUM('202501:202502'!T12)","v":0},{"$f":"SUM('202501:202502'!U12)","v":0},null,"2025-04-21","Ostermontag"]
["Mitarbeiter 5",{"$f":"SUM('202501:202502'!N13)","v":1},{"$f":"SUM('202501:202502'!O13)","v":0},{"$f":"SUM('202501:202502'!P13)","v":0},{"$f":"SUM('202501:202502'!Q13)","v":0},{"$f":"SUM('202501:202502'!R13)","v":0},{"$f":"SUM('202501:202502'!S13)","v":0},{"$f":"SUM('202501:202502'!T13)","v":0},{"$f":"SUM('202501:202502'!U13)","v":0},null,"2025-05-01","Tag der Arbeit"]
["Mitarbeiter 6",{"$f":"SUM('202501:202502'!N14)","v":1},{"$f":"SUM('202501:202502'!O14)","v":0},{"$f":"SUM('202501:202502'!P14)","v":0},{"$f":"SUM('202501:202502'!Q14)","v":0},{"$f":"SUM('202501:202502'!R14)","v":2},{"$f":"SUM('202501:202502'!S14)","v":0},{"$f":"SUM('202501:202502'!T14)","v":0},{"$f":"SUM('202501:202502'!U14)","v":0},null,"2025-05-29","Christi Himmelfahrt"]
["Mitarbeiter 7",{"$f":"SUM('202501:202502'!N15)","v":0},{"$f":"SUM('202501:202502'!O15)","v":0},{"$f":"SUM('202501:202502'!P15)","v":0},{"$f":"SUM('202501:202502'!Q15)","v":1},{"$f":"SUM('202501:202502'!R15)","v":0},{"$f":"SUM('202501:202502'!S15)","v":0},{"$f":"SUM('202501:202502'!T15)","v":0},{"$f":"SUM('202501:202502'!U15)","v":0},null,"2025-06-09","Pfingstmontag"]
["Mitarbeiter 8",{"$f":"SUM('202501:202502'!N16)","v":0},{"$f":"SUM('202501:202502'!O16)","v":0},{"$f":"SUM('202501:202502'!P16)","v":0},{"$f":"SUM('202501:202502'!Q16)","v":0},{"$f":"SUM('202501:202502'!R16)","v":0},{"$f":"SUM('202501:202502'!S16)","v":0},{"$f":"SUM('202501:202502'!T16)","v":1},{"$f":"SUM('202501:202502'!U16)","v":0},null,"2025-06-19","Fronleichnam"]
["Mitarbeiter 9",{"$f":"SUM('202501:202502'!N17)","v":0},{"$f":"SUM('202501:202502'!O17)","v":0},{"$f":"SUM('202501:202502'!P17)","v":0},{"$f":"SUM('202501:202502'!Q17)","v":0},{"$f":"SUM('202501:202502'!R17)","v":0},{"$f":"SUM('202501:202502'!S17)","v":0},{"$f":"SUM('202501:202502'!T17)","v":0},{"$f":"SUM('202501:202502'!U17)","v":0},null,"2025-08-15","Mariä Himmelfahrt"]
["Mitarbeiter 10",{"$f":"SUM('202501:202502'!N18)","v":0},{"$f":"SUM('202501:202502'!O18)","v":0},{"$f":"SUM('202501:202502'!P18)","v":0},{"$f":"SUM('202501:202502'!Q18)","v":0},{"$f":"SUM('202501:202502'!R18)","v":0},{"$f":"SUM('202501:202502'!S18)","v":0},{"$f":"SUM('202501:202502'!T18)","v":0},{"$f":"SUM('202501:202502'!U18)","v":0},null,"2025-10-03","Tag der Deutschen Einheit"]
["Mitarbeiter 11",{"$f":"SUM('202501:202502'!N19)","v":0},{"$f":"SUM('202501:202502'!O19)","v":0},{"$f":"SUM('202501:202502'!P19)","v":0},{"$f":"SUM('202501:202502'!Q19)","v":1},{"$f":"SUM('202501:202502'!R19)","v":0},{"$f":"SUM('202501:202502'!S19)","v":0},{"$f":"SUM('202501:202502'!T19)","v":0},{"$f":"SUM('202501:202502'!U19)","v":0},null,"2025-11-01","Allerheiligen"]
["Mitarbeiter 12",{"$f":"SUM('202501:202502'!N20)","v":1},{"$f":"SUM('202501:202502'!O20)","v":0},{"$f":"SUM('202501:202502'!P20)","v":0},{"$f":"SUM('202501:202502'!Q20)","v":0},{"$f":"SUM('202501:202502'!R20)","v":1},{"$f":"SUM('202501:202502'!S20)","v":0},{"$f":"SUM('202501:202502'!T20)","v":0},{"$f":"SUM('202501:202502'!U20)","v":0},null,"2025-12-24","Heilig Abend"]
["Mitarbeiter 13",{"$f":"SUM('202501:202502'!N21)","v":0},{"$f":"SUM('202501:202502'!O21)","v":0},{"$f":"SUM('202501:202502'!P21)","v":0},{"$f":"SUM('202501:202502'!Q21)","v":0},{"$f":"SUM('202501:202502'!R21)","v":0},{"$f":"SUM('202501:202502'!S21)","v":0},{"$f":"SUM('202501:202502'!T21)","v":0},{"$f":"SUM('202501:202502'!U21)","v":0},null,"2025-12-25","1. Weihnachtsfeiertag"]
["Mitarbeiter 14",{"$f":"SUM('202501:202502'!N22)","v":0},{"$f":"SUM('202501:202502'!O22)","v":0},{"$f":"SUM('202501:202502'!P22)","v":0},{"$f":"SUM('202501:202502'!Q22)","v":0},{"$f":"SUM('202501:202502'!R22)","v":1},{"$f":"SUM('202501:202502'!S22)","v":0},{"$f":"SUM('202501:202502'!T22)","v":0},{"$f":"SUM('202501:202502'!U22)","v":0},null,"2025-12-26","2. Weihnachtsfeiertag"]
["Mitarbeiter 15",{"$f":"SUM('202501:202502'!N23)","v":0},{"$f":"SUM('202501:202502'!O23)","v":0},{"$f":"SUM('202501:202502'!P23)","v":0},{"$f":"SUM('202501:202502'!Q23)","v":0},{"$f":"SUM('202501:202502'!R23)","v":0},{"$f":"SUM('202501:202502'!S23)","v":0},{"$f":"SUM('202501:202502'!T23)","v":0},{"$f":"SUM('202501:202502'!U23)","v":0},null,"2025-12-31","Silvester"]
["Mitarbeiter 16",{"$f":"SUM('202501:202502'!N24)","v":0},{"$f":"SUM('202501:202502'!O24)","v":0},{"$f":"SUM('202501:202502'!P24)","v":0},{"$f":"SUM('202501:202502'!Q24)","v":0},{"$f":"SUM('202501:202502'!R24)","v":0},{"$f":"SUM('202501:202502'!S24)","v":0},{"$f":"SUM('202501:202502'!T24)","v":0},{"$f":"SUM('202501:202502'!U24)","v":0},null,"2026-01-01","Neujahr"]
["Mitarbeiter 17",{"$f":"SUM('202501:202502'!N25)","v":0},{"$f":"SUM('202501:202502'!O25)","v":0},{"$f":"SUM('202501:202502'!P25)","v":0},{"$f":"SUM('202501:202502'!Q25)","v":0},{"$f":"SUM('202501:202502'!R25)","v":0},{"$f":"SUM('202501:202502'!S25)","v":0},{"$f":"SUM('202501:202502'!T25)","v":0},{"$f":"SUM('202501:202502'!U25)","v":0},null,"2026-01-06","Heilige Drei Könige"]
["Mitarbeiter 18",{"$f":"SUM('202501:202502'!N26)","v":0},{"$f":"SUM('202501:202502'!O26)","v":0},{"$f":"SUM('202501:202502'!P26)","v":0},{"$f":"SUM('202501:202502'!Q26)","v":0},{"$f":"SUM('202501:202502'!R26)","v":0},{"$f":"SUM('202501:202502'!S26)","v":0},{"$f":"SUM('202501:202502'!T26)","v":0},{"$f":"SUM('202501:202502'!U26)","v":0}]
["Mitarbeiter 19",{"$f":"SUM('202501:202502'!N27)","v":0},{"$f":"SUM('202501:202502'!O27)","v":0},{"$f":"SUM('202501:202502'!P27)","v":0},{"$f":"SUM('202501:202502'!Q27)","v":0},{"$f":"SUM('202501:202502'!R27)","v":0},{"$f":"SUM('202501:202502'!S27)","v":0},{"$f":"SUM('202501:202502'!T27)","v":0},{"$f":"SUM('202501:202502'!U27)","v":0}]
["Mitarbeiter 20",{"$f":"SUM('202501:202502'!N28)","v":0},{"$f":"SUM('202501:202502'!O28)","v":0},{"$f":"SUM('202501:202502'!P28)","v":0},{"$f":"SUM('202501:202502'!Q28)","v":0},{"$f":"SUM('202501:202502'!R28)","v":0},{"$f":"SUM('202501:202502'!S28)","v":0},{"$f":"SUM('202501:202502'!T28)","v":0},{"$f":"SUM('202501:202502'!U28)","v":0}]
["Mitarbeiter 21",{"$f":"SUM('202501:202502'!N29)","v":0},{"$f":"SUM('202501:202502'!O29)","v":0},{"$f":"SUM('202501:202502'!P29)","v":0},{"$f":"SUM('202501:202502'!Q29)","v":0},{"$f":"SUM('202501:202502'!R29)","v":0},{"$f":"SUM('202501:202502'!S29)","v":0},{"$f":"SUM('202501:202502'!T29)","v":0},{"$f":"SUM('202501:202502'!U29)","v":0}]
["Mitarbeiter 22",{"$f":"SUM('202501:202502'!N30)","v":0},{"$f":"SUM('202501:202502'!O30)","v":0},{"$f":"SUM('202501:202502'!P30)","v":0},{"$f":"SUM('202501:202502'!Q30)","v":0},{"$f":"SUM('202501:202502'!R30)","v":0},{"$f":"SUM('202501:202502'!S30)","v":0},{"$f":"SUM('202501:202502'!T30)","v":1},{"$f":"SUM('202501:202502'!U30)","v":0}]
["Mitarbeiter 23",{"$f":"SUM('202501:202502'!N31)","v":0},{"$f":"SUM('202501:202502'!O31)","v":0},{"$f":"SUM('202501:202502'!P31)","v":0},{"$f":"SUM('202501:202502'!Q31)","v":0},{"$f":"SUM('202501:202502'!R31)","v":0},{"$f":"SUM('202501:202502'!S31)","v":0},{"$f":"SUM('202501:202502'!T31)","v":0},{"$f":"SUM('202501:202502'!U31)","v":0}]
["Mitarbeiter 24",{"$f":"SUM('202501:202502'!N32)","v":0},{"$f":"SUM('202501:202502'!O32)","v":0},{"$f":"SUM('202501:202502'!P32)","v":0},{"$f":"SUM('202501:202502'!Q32)","v":0},{"$f":"SUM('202501:202502'!R32)","v":0},{"$f":"SUM('202501:202502'!S32)","v":0},{"$f":"SUM('202501:202502'!T32)","v":0},{"$f":"SUM('202501:202502'!U32)","v":0}]
["Mitarbeiter 25",{"$f":"SUM('202501:202502'!N33)","v":0},{"$f":"SUM('202501:202502'!O33)","v":0},{"$f":"SUM('202501:202502'!P33)","v":0},{"$f":"SUM('202501:202502'!Q33)","v":0},{"$f":"SUM('202501:202502'!R33)","v":0},{"$f":"SUM('202501:202502'!S33)","v":0},{"$f":"SUM('202501:202502'!T33)","v":0},{"$f":"SUM('202501:202502'!U33)","v":0}]

{"sheet":"202501","index":1,"n_rows":33,"n_cols":21,"rows_kept":33,"cut":false,"hidden":false,"merged":[]}
[null,null,null,{"$f":"IF(MATCH(D3,Übersicht!$K$4:$K$21,0),\"JA\",\"NEIN\")","v":{"$error":"#N/A"}},{"$f":"IF(MATCH(E3,Übersicht!$K$4:$K$21,0),\"JA\",\"NEIN\")","v":"JA"},{"$f":"IF(MATCH(F3,Übersicht!$K$4:$K$21,0),\"JA\",\"NEIN\")","v":"JA"},{"$f":"IF(MATCH(G3,Übersicht!$K$4:$K$21,0),\"JA\",\"NEIN\")","v":{"$error":"#N/A"}},{"$f":"IF(MATCH(H3,Übersicht!$K$4:$K$21,0),\"JA\",\"NEIN\")","v":{"$error":"#N/A"}},{"$f":"IF(MATCH(I3,Übersicht!$K$4:$K$21,0),\"JA\",\"NEIN\")","v":{"$error":"#N/A"}},{"$f":"IF(MATCH(J3,Übersicht!$K$4:$K$21,0),\"JA\",\"NEIN\")","v":{"$error":"#N/A"}}]
[null,null,null,{"$f":"IFERROR(D1:D1,\"\")","v":""},{"$f":"IFERROR(E1:E1,\"\")","v":"JA"},{"$f":"IFERROR(F1:F1,\"\")","v":"JA"},{"$f":"IFERROR(G1:G1,\"\")","v":""},{"$f":"IFERROR(H1:H1,\"\")","v":""},{"$f":"IFERROR(I1:I1,\"\")","v":""},{"$f":"IFERROR(J1:J1,\"\")","v":""}]
["KW",null,null,{"$f":"DATE(Übersicht!L1,1,1)+(A4-1)*7+1-WEEKDAY(DATE(Übersicht!L1,1,1)-1)","v":"2024-12-30"},{"$f":"D3+1","v":"2024-12-31"},{"$f":"E3+1","v":"2025-01-01"},{"$f":"F3+1","v":"2025-01-02"},"2025-01-03","2025-01-04","2025-01-05"]
[1,null,null,"Montag","Dienstag","Mittwoch","Donnerstag","Freitag","Samstag","Sonntag","Platz für Notizen:",null,null,"C1","F1","Z1","C2","F2","Z2","C3","F3"]
[]
[]
["Mitarbeiter 1",null,null,null,null,null,null,null,null,null,null,null,null,{"$f":"COUNTIF($D7:$J7,N$4)","v":0},{"$f":"COUNTIF($D7:$J7,O$4)","v":0},0,0,0,0,0,0]
["Mitarbeiter 2",null,null,null,null,null,null,null,null,null,null,null,null,{"$f":"COUNTIF($D8:$J8,N$4)","v":0},0,0,0,0,0,0,0]
[null,null,null,null,null,null,null,null,null,null,null,null,null,{"$f":"COUNTIF($D9:$J9,N$4)","v":0},0,0,0,0,0,0,0]
["Mitarbeiter 3",null,null,null,null,null,null,null,null,null,null,null,null,{"$f":"COUNTIF($D10:$J10,N$4)","v":0},0,0,0,0,0,0,0]
["Mitarbeiter 4",null,null,null,null,null,null,null,null,null,null,null,null,{"$f":"COUNTIF($D11:$J11,N$4)","v":0},0,0,0,0,0,0,0]
[null,null,null,null,null,null,null,null,null,null,null,null,null,{"$f":"COUNTIF($D12:$J12,N$4)","v":0},0,0,0,0,0,0,0]
["Mitarbeiter 5",null,null,null,null,null,null,null,null,null,null,null,null,{"$f":"COUNTIF($D13:$J13,N$4)","v":0},0,0,0,0,0,0,0]
["Mitarbeiter 6",null,null,"C1","F2","Z3",null,null,null,null,null,null,null,{"$f":"COUNTIF($D14:$J14,N$4)","v":1},0,0,0,1,0,0,0]
["Mitarbeiter 7",null,null,null,null,null,null,"C2",null,null,null,null,null,{"$f":"COUNTIF($D15:$J15,N$4)","v":0},0,0,1,0,0,0,0]
["Mitarbeiter 8",null,null,null,null,null,"C3",null,null,null,null,null,null,0,0,0,0,0,0,1,0]
["Mitarbeiter 9",null,null,null,null,null,null,null,null,null,null,null,null,0,0,0,0,0,0,0,0]
["Mitarbeiter 10",null,null,null,null,null,null,null,null,null,null,null,null,0,0,0,0,0,0,0,0]
["Mitarbeiter 11",null,null,null,null,null,null,null,null,null,null,null,null,0,0,0,0,0,0,0,0]
["Mitarbeiter 12",null,null,"F2","C1",null,null,null,null,null,null,null,null,1,0,0,0,1,0,0,0]
["Mitarbeiter 13",null,null,null,null,null,null,null,null,null,null,null,null,0,0,0,0,0,0,0,0]
["Mitarbeiter 14",null,null,null,null,null,"Z3",null,null,null,null,null,null,0,0,0,0,0,0,0,0]
["Mitarbeiter 15",null,null,null,null,null,null,null,null,null,null,null,null,0,0,0,0,0,0,0,0]
["Mitarbeiter 16",null,null,null,null,null,null,null,null,null,null,null,null,0,0,0,0,0,0,0,0]
["Mitarbeiter 17",null,null,null,null,null,null,null,null,null,null,null,null,0,0,0,0,0,0,0,0]
["Mitarbeiter 18",null,null,null,null,null,null,null,null,null,null,null,null,0,0,0,0,0,0,0,0]
["Mitarbeiter 19",null,null,null,null,null,null,null,null,null,null,null,null,0,0,0,0,0,0,0,0]
["Mitarbeiter 20",null,null,null,null,null,null,null,null,null,null,null,null,0,0,0,0,0,0,0,0]
["Mitarbeiter 21",null,null,null,null,null,null,null,null,null,null,null,null,0,0,0,0,0,0,0,0]
["Mitarbeiter 22",null,null,null,null,null,null,null,null,null,null,null,null,0,0,0,0,0,0,0,0]
["Mitarbeiter 23",null,null,null,null,null,null,null,null,null,null,null,null,0,0,0,0,0,0,0,0]
["Mitarbeiter 24",null,null,null,null,null,null,null,null,null,null,null,null,0,0,0,0,0,0,0,0]
["Mitarbeiter 25",null,null,null,null,null,null,null,null,null,null,null,null,0,0,0,0,0,0,0,0]

{"sheet":"202502","index":2,"n_rows":33,"n_cols":21,"rows_kept":33,"cut":false,"hidden":false,"merged":[]}
[null,null,null,{"$f":"IF(MATCH(D3,[1]Übersicht!$H$6:$H$22,0),\"JA\",\"NEIN\")","v":"JA"},{"$f":"IF(MATCH(E3,[1]Übersicht!$H$6:$H$22,0),\"JA\",\"NEIN\")","v":{"$error":"#N/A"}},{"$f":"IF(MATCH(F3,[1]Übersicht!$H$6:$H$22,0),\"JA\",\"NEIN\")","v":{"$error":"#N/A"}},{"$f":"IF(MATCH(G3,[1]Übersicht!$H$6:$H$22,0),\"JA\",\"NEIN\")","v":{"$error":"#N/A"}},{"$f":"IF(MATCH(H3,[1]Übersicht!$H$6:$H$22,0),\"JA\",\"NEIN\")","v":{"$error":"#N/A"}},{"$f":"IF(MATCH(I3,[1]Übersicht!$H$6:$H$22,0),\"JA\",\"NEIN\")","v":{"$error":"#N/A"}},{"$f":"IF(MATCH(J3,[1]Übersicht!$H$6:$H$22,0),\"JA\",\"NEIN\")","v":{"$error":"#N/A"}}]
[null,null,null,{"$f":"IFERROR(D1:D1,\"\")","v":"JA"},{"$f":"IFERROR(E1:E1,\"\")","v":""},{"$f":"IFERROR(F1:F1,\"\")","v":""},{"$f":"IFERROR(G1:G1,\"\")","v":""},{"$f":"IFERROR(H1:H1,\"\")","v":""},{"$f":"IFERROR(I1:I1,\"\")","v":""},{"$f":"IFERROR(J1:J1,\"\")","v":""}]
["KW",null,null,{"$f":"DATE(Übersicht!L1,1,1)+(A4-1)*7+1-WEEKDAY(DATE(Übersicht!L1,1,1)-1)","v":"2025-01-06"},{"$f":"D3+1","v":"2025-01-07"},{"$f":"E3+1","v":"2025-01-08"},{"$f":"F3+1","v":"2025-01-09"},"2025-01-10","2025-01-11","2025-01-12"]
[2,null,null,"Montag","Dienstag","Mittwoch","Donnerstag","Freitag","Samstag","Sonntag","Platz für Notizen:",null,null,"C1","F1","Z1","C2","F2","Z2","C3","F3"]
[]
[]
["Mitarbeiter 1",null,null,null,null,null,null,null,null,null,null,null,null,{"$f":"COUNTIF($D7:$J7,N$4)","v":0},{"$f":"COUNTIF($D7:$J7,O$4)","v":0},0,0,0,0,0,0]
["Mitarbeiter 2",null,null,null,null,null,null,null,null,null,null,null,null,{"$f":"COUNTIF($D8:$J8,N$4)","v":0},0,0,0,0,0,0,0]
[null,null,null,null,null,null,null,null,null,null,null,null,null,{"$f":"COUNTIF($D9:$J9,N$4)","v":0},0,0,0,0,0,0,0]
["Mitarbeiter 3",null,null,"C1",null,null,"C1",null,null,null,null,null,null,{"$f":"COUNTIF($D10:$J10,N$4)","v":2},0,0,0,0,0,0,0]
["Mitarbeiter 4",null,null,null,null,null,null,null,null,null,null,null,null,{"$f":"COUNTIF($D11:$J11,N$4)","v":0},0,0,0,0,0,0,0]
[null,null,null,null,null,null,null,null,null,null,null,null,null,{"$f":"COUNTIF($D12:$J12,N$4)","v":0},0,0,0,0,0,0,0]
["Mitarbeiter 5",null,null,null,null,"C1",null,null,null,null,null,null,null,{"$f":"COUNTIF($D13:$J13,N$4)","v":1},0,0,0,0,0,0,0]
["Mitarbeiter 6",null,null,"F2",null,null,null,null,null,null,null,null,null,{"$f":"COUNTIF($D14:$J14,N$4)","v":0},0,0,0,1,0,0,0]
["Mitarbeiter 7",null,null,null,null,null,null,null,null,null,null,null,null,{"$f":"COUNTIF($D15:$J15,N$4)","v":0},0,0,0,0,0,0,0]
["Mitarbeiter 8",null,null,null,null,null,null,null,null,null,null,null,null,0,0,0,0,0,0,0,0]
["Mitarbeiter 9",null,null,null,null,"Z3",null,null,null,null,null,null,null,0,0,0,0,0,0,0,0]
["Mitarbeiter 10",null,null,null,null,null,null,null,null,null,null,null,null,0,0,0,0,0,0,0,0]
["Mitarbeiter 11",null,null,null,null,null,"C2",null,null,null,null,null,null,0,0,0,1,0,0,0,0]
["Mitarbeiter 12",null,null,"Z3",null,null,null,null,null,null,null,null,null,0,0,0,0,0,0,0,0]
["Mitarbeiter 13",null,null,null,null,null,null,null,null,null,null,null,null,0,0,0,0,0,0,0,0]
["Mitarbeiter 14",null,null,null,null,"F2",null,null,null,null,null,null,null,0,0,0,0,1,0,0,0]
["Mitarbeiter 15",null,null,null,null,null,null,null,null,null,null,null,null,0,0,0,0,0,0,0,0]
["Mitarbeiter 16",null,null,null,null,null,null,null,null,null,null,null,null,0,0,0,0,0,0,0,0]
["Mitarbeiter 17",null,null,null,null,null,null,null,null,null,null,null,null,0,0,0,0,0,0,0,0]
["Mitarbeiter 18",null,null,null,null,null,null,null,null,null,null,null,null,0,0,0,0,0,0,0,0]
["Mitarbeiter 19",null,null,null,null,null,null,null,null,null,null,null,null,0,0,0,0,0,0,0,0]
["Mitarbeiter 20",null,null,null,null,null,null,null,null,null,null,null,null,0,0,0,0,0,0,0,0]
["Mitarbeiter 21",null,null,null,null,null,null,null,null,null,null,null,null,0,0,0,0,0,0,0,0]
["Mitarbeiter 22",null,null,null,null,null,"C3",null,null,null,null,null,null,0,0,0,0,0,0,1,0]
["Mitarbeiter 23",null,null,null,null,null,null,null,null,null,null,null,null,0,0,0,0,0,0,0,0]
["Mitarbeiter 24",null,null,null,null,null,null,null,null,null,null,null,null,0,0,0,0,0,0,0,0]
["Mitarbeiter 25",null,null,null,null,null,null,null,null,null,null,null,null,0,0,0,0,0,0,0,0]