{"text_format":"1","workbook":"xlsx","n_sheets":2,"sheets":["aktuelle Zahlen","Auswertung"],"not_rendered":{"charts":0,"images":1,"macros":1,"external_links":0,"defined_names":0,"comments":0,"pivot_tables":0},"unopened":[],"bounds":{"document_bytes":16777216,"sheet_cells":100000,"rows_first":2000,"rows_last":500,"rows_between":2000,"halvings":0,"cell_chars":16384,"cell_head_chars":4096},"cells_cut":0,"cells_raw":0,"read":"whole","date_system":"1900"}

{"sheet":"aktuelle Zahlen","index":0,"n_rows":154,"n_cols":10,"rows_kept":154,"cut":false,"hidden":false,"merged":[]}
["Mi","2025-05-14"]
[1,3]
[2,5]
[3,15]
[4,36]
[5,44]
[6,46]
[7,7]
[]
["Auswertung der Gewinnzahlen aus dem WEB"]
["Spieltag","Datum","Z1","Z2","Z3","Z4","Z5","Z6 ",null,"Zusatzzahl"]
["Mi","2024-01-03",36,14,32,49,28,25," ",4]
["Sa","2024-01-06",18,14,34,47,5,3," ",7]
["Mi","2024-01-10",37,3,7,24,21,49," ",9]
["Sa","2024-01-13",6,48,27,1,8,26," ",6]
["Mi","2024-01-17",13,44,6,40,30,9," ",6]
["Sa","2024-01-20",8,49,45,1,25,11," ",4]
["Mi","2024-01-24",35,29,9,10,39,19," ",1]
["Sa","2024-01-27",24,20,29,33,43,14," ",4]
["Mi","2024-01-31",29,24,40,11,43,28," ",7]
["Sa","2024-02-03",24,14,23,19,21,3," ",5]
["Mi","2024-02-07",1,8,31,15,19,26," ",0]
["Sa","2024-02-10",37,47,1,33,19,39," ",6]
["Mi","2024-02-14",34,48,17,35,46,43," ",4]
["Sa","2024-02-17",23,31,36,8,34,40," ",0]
["Mi","2024-02-21",33,7,8,23,30,40," ",3]
["Sa","2024-02-24",2,21,49,40,28,34," ",2]
["Mi","2024-02-28",4,28,22,1,37,26," ",3]
["Sa","2024-03-02",26,6,8,33,37,18," ",2]
["Mi","2024-03-06",17,23,40,8,42,11," ",3]
["Sa","2024-03-09",41,20,1,48,5,10," ",8]
["Mi","2024-03-13",10,11,29,39,31,18," ",5]
["Sa","2024-03-16",16,40,19,5,25,48," ",3]
["Mi","2024-03-20",40,9,7,45,24,16," ",8]
["Sa","2024-03-23",40,21,32,4,38,1," ",7]
["Mi","2024-03-27",41,32,44,20,2,13," ",2]
["Sa","2024-03-30",27,16,21,10,5,33," ",0]
["Mi","2024-04-03",35,29,31,36,2,3," ",9]
["Sa","2024-04-06",41,7,13,11,35,20," ",0]
["Mi","2024-04-10",7,49,13,8,43,47," ",2]
["Sa","2024-04-13",33,47,3,32,10,6," ",0]
["Mi","2024-04-17",37,34,16,47,40,9," ",2]
["Sa","2024-04-20",44,7,49,28,35,17," ",3]
["Mi","2024-04-24",15,19,25,29,13,12," ",7]
["Sa","2024-04-27",27,8,46,48,43,45," ",0]
["Mi","2024-05-01",41,36,31,37,26,6," ",1]
["Sa","2024-05-04",47,29,10,38,9,27," ",1]
["Mi","2024-05-08",31,3,40,23,30,27," ",8]
["Sa","2024-05-11",25,36,30,29,22,5," ",0]
["Mi","2024-05-15",31,28,44,46,10,9," ",9]
["Sa","2024-05-18",49,36,1,28,43,2," ",0]
["Mi","2024-05-22",8,15,10,9,47,38," ",4]
["Sa","2024-05-25",41,15,8,38,32,24," ",5]
["Mi","2024-05-29",3,44,5,11,12,28," ",6]
["Sa","2024-06-01",10,8,27,35,9,41," ",0]
["Mi","2024-06-05",16,26,10,33,19,11," ",5]
["Sa","2024-06-08",10,31,15,40,5,22," ",9]
["Mi","2024-06-12",11,10,46,5,9,22," ",2]
["Sa","2024-06-15",31,38,16,49,30,3," ",8]
["Mi","2024-06-19",4,1,30,43,32,12," ",4]
["Sa","2024-06-22",25,21,8,11,30,9," ",1]
["Mi","2024-06-26",7,17,39,35,36,30," ",9]
["Sa","2024-06-29",19,30,16,15,11,35," ",3]
["Mi","2024-07-03",39,18,34,30,33,3," ",8]
["Sa","2024-07-06",6,1,35,29,13,49," ",6]
["Mi","2024-07-10",2,27,12,22,43,17," ",7]
["Sa","2024-07-13",9,17,10,42,37,25," ",0]
["Mi","2024-07-17",5,9,8,22,30,33," ",6]
["Sa","2024-07-20",35,29,8,19,30,5," ",5]
["Mi","2024-07-24",47,39,38,5,24,4," ",3]
["Sa","2024-07-27",23,20,34,27,25,4," ",3]
["Mi","2024-07-31",33,18,25,13,8,2," ",1]
["Sa","2024-08-03",12,44,31,1,10,14," ",1]
["Mi","2024-08-07",37,3,33,9,15,16," ",5]
["Sa","2024-08-10",5,43,19,26,14,20," ",2]
["Mi","2024-08-14",8,26,9,22,15,3," ",4]
["Sa","2024-08-17",27,46,35,40,2,45," ",5]
["Mi","2024-08-21",25,32,37,13,9,40," ",0]
["Sa","2024-08-24",12,26,47,29,4,24," ",8]
["Mi","2024-08-28",5,22,27,2,46,25," ",5]
["Sa","2024-08-31",11,44,24,6,48,21," ",9]
["Mi","2024-09-04",10,27,48,45,3,16," ",2]
["Sa","2024-09-07",32,8,5,26,43,14," ",8]
["Mi","2024-09-11",49,33,5,9,18,28," ",8]
["Sa","2024-09-14",14,31,25,23,10,2," ",2]
["Mi","2024-09-18",44,31,41,9,43,28," ",3]
["Sa","2024-09-21",28,18,46,11,43,30," ",9]
["Mi","2024-09-25",11,9,46,4,27,28," ",1]
["Sa","2024-09-28",30,16,17,33,6,26," ",6]
["Mi","2024-10-02",5,41,18,4,23,26," ",9]
["Sa","2024-10-05",44,10,5,12,28,40," ",8]
["Mi","2024-10-09",24,46,38,15,8,34," ",3]
["Sa","2024-10-12",43,15,14,5,33,40," ",5]
["Mi","2024-10-16",9,47,22,4,5,48," ",0]
["Sa","2024-10-19",1,43,31,8,19,41," ",3]
["Mi","2024-10-23",25,18,40,49,10,37," ",1]
["Sa","2024-10-26",43,8,49,5,21,16," ",8]
["Mi","2024-10-30",25,7,46,21,32,2," ",9]
["Sa","2024-11-02",9,8,17,40,20,37," ",2]
["Mi","2024-11-06",17,44,14,33,28,40," ",3]
["Sa","2024-11-09",40,2,18,33,47,39," ",7]
["Mi","2024-11-13",38,24,36,44,47,6," ",0]
["Sa","2024-11-16",14,11,39,40,15,19," ",4]
["Mi","2024-11-20",34,25,7,45,15,26," ",6]
["Sa","2024-11-23",17,3,8,44,42,26," ",6]
["Mi","2024-11-27",12,30,39,16,34,7," ",4]
["Sa","2024-11-30",13,7,33,38,42,37," ",0]
["Mi","2024-12-04",29,41,14,18,36,5," ",3]
["Sa","2024-12-07",32,6,19,30,37,15," ",9]
["Mi","2024-12-11",30,49,34,15,14,35," ",5]
["Sa","2024-12-14",9,44,1,14,27,4," ",3]
["Mi","2024-12-18",6,42,2,30,37,22," ",6]
["Sa","2024-12-21",44,3,8,39,6,34," ",5]
["Mi","2024-12-25",24,44,5,48,9,7," ",0]
["Sa","2024-12-28",18,7,40,28,13,44," ",5]
["Mi","2025-01-01",18,15,3,26,33,7," ",2]
["Sa","2025-01-04",6,24,36,2,30,45," ",2]
["Mi","2025-01-08",45,49,27,30,28,9," ",6]
["Sa","2025-01-11",27,30,10,26,22,33," ",8]
["Mi","2025-01-15",38,13,41,1,30,36," ",6]
["Sa","2025-01-18",20,3,12,26,33,16," ",3]
["Mi","2025-01-22",34,35,41,40,31,9," ",4]
["Sa","2025-01-25",48,49,25,10,11,36," ",2]
["Mi","2025-01-29",41,48,25,35,7,16," ",2]
["Sa","2025-02-01",11,9,22,27,25,8," ",8]
["Mi","2025-02-05",15,9,18,30,14,1," ",8]
["Sa","2025-02-08",49,20,13,47,27,16," ",2]
["Mi","2025-02-12",5,12,43,39,47,30," ",5]
["Sa","2025-02-15",18,23,43,29,48,2," ",7]
["Mi","2025-02-19",8,4,28,44,25,10," ",3]
["Sa","2025-02-22",34,28,26,6,8,12," ",0]
["Mi","2025-02-26",12,45,24,29,22,17," ",7]
["Sa","2025-03-01",25,36,26,11,44,30," ",8]
["Mi","2025-03-05",46,22,45,26,4,29," ",7]
["Sa","2025-03-08",41,25,26,44,13,27," ",5]
["Mi","2025-03-12",2,26,46,14,37,38," ",2]
["Sa","2025-03-15",11,35,6,36,30,47," ",0]
["Mi","2025-03-19",9,13,29,32,38,30," ",8]
["Sa","2025-03-22",30,41,11,20,35,28," ",3]
["Mi","2025-03-26",19,12,3,41,16,22," ",4]
["Sa","2025-03-29",31,18,46,47,39,25," ",6]
["Mi","2025-04-02",48,25,20,5,19,14," ",6]
["Sa","2025-04-05",12,41,10,40,35,21," ",9]
["Mi","2025-04-09",40,34,16,31,24,37," ",1]
["Sa","2025-04-12",29,20,15,36,14,18," ",5]
["Mi","2025-04-16",2,32,13,37,49,10," ",6]
["Sa","2025-04-19",31,37,20,12,47,41," ",7]
["Mi","2025-04-23",13,21,11,7,38,5," ",1]
["Sa","2025-04-26",44,26,9,13,4,41," ",1]
["Mi","2025-04-30",38,36,18,8,42,19," ",2]
["Sa","2025-05-03",37,48,25,20,28,44," ",9]
["Mi","2025-05-07",19,9,16,5,28,12," ",8]
["Sa","2025-05-10",46,34,23,17,32,48," ",2]
["Mi","2025-05-14",5,36,44,46,15,3," ",7]

{"sheet":"Auswertung","index":1,"n_rows":711,"n_cols":121,"rows_kept":711,"cut":false,"hidden":false,"merged":[[9,37,9,42],[8,37,8,42],[8,44,8,49],[8,51,8,56],[9,2,9,7],[9,44,9,49],[8,101,8,106],[8,108,8,113],[8,115,8,120],[8,58,8,64],[8,2,8,7],[8,10,8,32],[8,66,8,71],[8,73,8,78],[8,80,8,85],[8,87,8,92],[8,94,8,99],[9,115,9,120],[9,108,9,113],[9,101,9,106],[9,94,9,99],[9,87,9,92],[9,80,9,85],[9,73,9,78],[9,66,9,71],[9,58,9,64],[9,51,9,56],[7,51,7,64],[7,37,7,49],[7,80,7,92],[7,94,7,106],[7,108,7,120],[7,66,7,78]]}
[]
[null,{"$f":"'aktuelle Zahlen'!B1","v":"2025-05-14"},"aktuelle Lottozahlen"]
[]
[null,null,"kopieren auf aktuelle Seite",null,null,null,null,null,null,null,{"$f":"SUM(K6:K8)","v":2},{"$f":"SUM(L6:L8)","v":2},5,5,1,1,1,1,1,1,3,3,2,2,4,4,3,3,3,3,2,2,5]
[]
[null,null,"kopieren in Tabelle",null,null,null,null,null,null,4,{"$f":"COUNTIF(K$12:K$46,$J$6)","v":0},0,0,0,0,0,0,0,0,0,0,0,0,0,0,0,0,0,0,0,0,0,0]
[null,null,null,null,null,null,null,null,null,3,{"$f":"COUNTIF(K$12:K$46,$J$7)","v":1},1,0,0,0,0,0,0,0,0,1,1,0,0,0,0,1,1,1,1,0,0,1]
[null,null,null,null,null,null,null,null,null,2,{"$f":"COUNTIF(K$12:K$46,$J$8)","v":1},1,5,5,1,1,1,1,1,1,2,2,2,2,4,4,2,2,2,2,2,2,4,null,null,null,null,null,null,null,null,null,null,null,null,null,null,null,null,null,null,null,null,null,null,null,null,null,null,null,null,null,null,null,null,null,null,null,null,null,null,null,null,null,null,null,null,null,null,null,"Holger"]
[null,null,"Gewinnzahlen",null,null,null,null,null,null,null,"Gewinn / Tipp",null,null,null,null,null,null,null,null,null,null,null,null,null,null,null,null,null,null,null,null,null,null,null,null,"Superzahl",null,"Tipp",null,null,null,null,null,null,"Tipp",null,null,null,null,null,null,"Tipp",null,null,null,null,null,null,"Tipp",null,null,null,null,null,null,null,"Tipp",null,null,null,null,null,null,"Tipp",null,null,null,null,null,null,"Tipp",null,null,null,null,null,null,"Tipp",null,null,null,null,null,null,"Tipp",null,null,null,null,null,null,"Tipp",null,null,null,null,null,null,"Tipp",null,null,null,null,null,null,"Tipp"]
[null,"Datum",null,null,null,null,null,null,null,null,1,null,2,null,3,null,4,null,5,null,6,null,7,null,8,null,9,null,10,null,11,null,12,null,null,null,null,1,null,null,null,null,null,null,2,null,null,null,null,null,null,3,null,null,null,null,null,null,4,null,null,null,null,null,null,null,5,null,null,null,null,null,null,6,null,null,null,null,null,null,7,null,null,null,null,null,null,8,null,null,null,null,null,null,9,null,null,null,null,null,null,10,null,null,null,null,null,null,11,null,null,null,null,null,null,12]
[null,{"$f":"B2","v":"2025-05-14"},{"$f":"VLOOKUP($B11,'aktuelle Zahlen'!$B$12:$J$10000,COLUMN()-1,FALSE)","v":5},{"$f":"VLOOKUP($B11,'aktuelle Zahlen'!$B$12:$J$10000,COLUMN()-1,FALSE)","v":36},{"$f":"VLOOKUP($B11,'aktuelle Zahlen'!$B$12:$J$10000,COLUMN()-1,FALSE)","v":44},{"$f":"VLOOKUP($B11,'aktuelle Zahlen'!$B$12:$J$10000,COLUMN()-1,FALSE)","v":46},{"$f":"VLOOKUP($B11,'aktuelle Zahlen'!$B$12:$J$10000,COLUMN()-1,FALSE)","v":15},{"$f":"VLOOKUP($B11,'aktuelle Zahlen'!$B$12:$J$10000,COLUMN()-1,FALSE)","v":3},{"$f":"VLOOKUP($B11,'aktuelle Zahlen'!$B$12:$J$10000,COLUMN(),FALSE)","v":7},null,{"$f":"IF(L11>1,(IF($I$11=$AJ$11,L11 & \"Z\",L11)),\" \")","v":" "},{"$f":"SUM(COUNTIF($C$6:$H$11,AL11:AQ11))","v":1},{"$f":"IF(N11>1,(IF($I$11=$AJ$11,N11 & \"Z\",N11)),\" \")","v":" "},{"$f":"SUM(COUNTIF($C$6:$H$11,AS11:AX11))","v":0},{"$f":"IF(P11>1,(IF($I$11=$AU$11,P11 & \"Z\",P11)),\" \")","v":" "},{"$f":"SUM(COUNTIF($C$6:$H$11,AZ11:BE11))","v":0},{"$f":"IF(R11>1,(IF($I$11=$AU$11=1,R11 & \"Z\",R11)),\" \")","v":" "},{"$f":"SUM(COUNTIF($C$6:$H$11,BG11:BM11))","v":0},{"$f":"IF(T11>1,(IF($I$11=$AU$11=1,T11 & \"Z\",T11)),\" \")","v":" "},{"$f":"SUM(COUNTIF($C$6:$H$11,BO11:BT11))","v":0},{"$f":"IF(V11>1,(IF($I$11=$AU$11=1,V11 & \"Z\",V11)),\" \")","v":" "},{"$f":"SUM(COUNTIF($C$6:$H$11,BV11:CA11))","v":1},{"$f":"IF(X11>1,(IF($I$11=$AU$11=1,X11 & \"Z\",X11)),\" \")","v":" "},{"$f":"SUM(COUNTIF($C$6:$H$11,CC11:CH11))","v":1},{"$f":"IF(Z11>1,(IF($I$11=$AU$11=1,Z11 & \"Z\",Z11)),\" \")","v":" "},{"$f":"SUM(COUNTIF($C$6:$H$11,CJ11:CO11))","v":1},{"$f":"IF(AB11>1,(IF($I$11=$AU$11=1,AB11 & \"Z\",AB11)),\" \")","v":" "},{"$f":"SUM(COUNTIF($C$6:$H$11,CQ11:CV11))","v":0},{"$f":"IF(AD11>1,(IF($I$11=$AU$11=1,AD11 & \"Z\",AD11)),\" \")","v":" "},{"$f":"SUM(COUNTIF($C$6:$H$11,CX11:DC11))","v":0},{"$f":"IF(AF11>1,(IF($I$11=$AU$11=1,AF11 & \"Z\",AF11)),\" \")","v":" "},{"$f":"SUM(COUNTIF($C$6:$H$11,DE11:DJ11))","v":0},{"$f":"IF(AH11>1,(IF($I$11=$AU$11=1,AH11 & \"Z\",AH11)),\" \")","v":" "},{"$f":"SUM(COUNTIF($C$6:$H$11,DL11:DQ11))","v":1},null,2,null,5,10,18,23,29,38,null,1,11,14,16,26,41,null,2,17,26,28,38,49,null,4,8,12,19,29,38,42,null,8,12,19,29,38,42,null,4,19,23,26,46,48,null,4,38,39,41,43,46,null,2,3,6,10,47,48,null,8,9,17,18,31,47,null,2,11,29,33,35,43,null,2,11,17,32,37,49,null,11,16,30,32,33,44]
[]
[]
[]
["Spieltag","Datum","Z1","Z2","Z3","Z4","Z5","Z6 ","Z7"]
[{"$f":"'aktuelle Zahlen'!A154","v":"Mi"},{"$f":"'aktuelle Zahlen'!B154","v":"2025-05-14"},{"$f":"'aktuelle Zahlen'!C154","v":5},{"$f":"'aktuelle Zahlen'!D154","v":36},{"$f":"'aktuelle Zahlen'!E154","v":44},{"$f":"'aktuelle Zahlen'!F154","v":46},{"$f":"'aktuelle Zahlen'!G154","v":15},{"$f":"'aktuelle Zahlen'!H154","v":3},{"$f":"'aktuelle Zahlen'!J154","v":7},null," ",1," ",0," ",1," ",0," ",0,3,3," ",1," ",1," ",1," ",0,2,2," ",1]
[{"$f":"'aktuelle Zahlen'!A153","v":"Sa"},{"$f":"'aktuelle Zahlen'!B153","v":"2025-05-10"},{"$f":"'aktuelle Zahlen'!C153","v":46},{"$f":"'aktuelle Zahlen'!D153","v":34},{"$f":"'aktuelle Zahlen'!E153","v":23},{"$f":"'aktuelle Zahlen'!F153","v":17},{"$f":"'aktuelle Zahlen'!G153","v":32},{"$f":"'aktuelle Zahlen'!H153","v":48},{"$f":"'aktuelle Zahlen'!J153","v":2},null," ",0," ",0," ",1," ",0," ",0," ",1," ",0," ",1," ",0," ",0," ",1," ",1]
[{"$f":"'aktuelle Zahlen'!A152","v":"Mi"},{"$f":"'aktuelle Zahlen'!B152","v":"2025-05-07"},{"$f":"'aktuelle Zahlen'!C152","v":19},{"$f":"'aktuelle Zahlen'!D152","v":9},{"$f":"'aktuelle Zahlen'!E152","v":16},{"$f":"'aktuelle Zahlen'!F152","v":5},{"$f":"'aktuelle Zahlen'!G152","v":28},{"$f":"'aktuelle Zahlen'!H152","v":12},{"$f":"'aktuelle Zahlen'!J152","v":8},null," ",0,2,2," ",1," ",1," ",0,2,2,2,2," ",0," ",1," ",0," ",0," ",1]
[{"$f":"'aktuelle Zahlen'!A151","v":"Sa"},{"$f":"'aktuelle Zahlen'!B151","v":"2025-05-03"},{"$f":"'aktuelle Zahlen'!C151","v":37},{"$f":"'aktuelle Zahlen'!D151","v":48},{"$f":"'aktuelle Zahlen'!E151","v":25},{"$f":"'aktuelle Zahlen'!F151","v":20},{"$f":"'aktuelle Zahlen'!G151","v":28},{"$f":"'aktuelle Zahlen'!H151","v":44},{"$f":"'aktuelle Zahlen'!J151","v":9},null," ",0," ",1," ",0," ",1," ",1," ",0," ",1," ",1,2,2," ",0," ",1," ",0]
[{"$f":"'aktuelle Zahlen'!A150","v":"Mi"},{"$f":"'aktuelle Zahlen'!B150","v":"2025-04-30"},{"$f":"'aktuelle Zahlen'!C150","v":38},{"$f":"'aktuelle Zahlen'!D150","v":36},{"$f":"'aktuelle Zahlen'!E150","v":18},{"$f":"'aktuelle Zahlen'!F150","v":8},{"$f":"'aktuelle Zahlen'!G150","v":42},{"$f":"'aktuelle Zahlen'!H150","v":19},{"$f":"'aktuelle Zahlen'!J150","v":2},null,2,2," ",1," ",0," ",1," ",1," ",0," ",0," ",0," ",1," ",1," ",0," ",0]
[{"$f":"'aktuelle Zahlen'!A149","v":"Sa"},{"$f":"'aktuelle Zahlen'!B149","v":"2025-04-26"},{"$f":"'aktuelle Zahlen'!C149","v":44},{"$f":"'aktuelle Zahlen'!D149","v":26},{"$f":"'aktuelle Zahlen'!E149","v":9},{"$f":"'aktuelle Zahlen'!F149","v":13},{"$f":"'aktuelle Zahlen'!G149","v":4},{"$f":"'aktuelle Zahlen'!H149","v":41},{"$f":"'aktuelle Zahlen'!J149","v":1},null," ",1," ",1," ",0," ",1," ",1," ",0," ",1," ",1," ",0," ",1," ",0," ",0]
[{"$f":"'aktuelle Zahlen'!A148","v":"Mi"},{"$f":"'aktuelle Zahlen'!B148","v":"2025-04-23"},{"$f":"'aktuelle Zahlen'!C148","v":13},{"$f":"'aktuelle Zahlen'!D148","v":21},{"$f":"'aktuelle Zahlen'!E148","v":11},{"$f":"'aktuelle Zahlen'!F148","v":7},{"$f":"'aktuelle Zahlen'!G148","v":38},{"$f":"'aktuelle Zahlen'!H148","v":5},{"$f":"'aktuelle Zahlen'!J148","v":1},null," ",1," ",0," ",0," ",0," ",0," ",1,2,2," ",1,3,3," ",0," ",0," ",0]
[{"$f":"'aktuelle Zahlen'!A147","v":"Sa"},{"$f":"'aktuelle Zahlen'!B147","v":"2025-04-19"},{"$f":"'aktuelle Zahlen'!C147","v":31},{"$f":"'aktuelle Zahlen'!D147","v":37},{"$f":"'aktuelle Zahlen'!E147","v":20},{"$f":"'aktuelle Zahlen'!F147","v":12},{"$f":"'aktuelle Zahlen'!G147","v":47},{"$f":"'aktuelle Zahlen'!H147","v":41},{"$f":"'aktuelle Zahlen'!J147","v":7},null," ",0,2,2," ",1," ",0," ",0," ",0," ",1," ",0," ",0,2,2," ",1,2,2]
[{"$f":"'aktuelle Zahlen'!A146","v":"Mi"},{"$f":"'aktuelle Zahlen'!B146","v":"2025-04-16"},{"$f":"'aktuelle Zahlen'!C146","v":2},{"$f":"'aktuelle Zahlen'!D146","v":32},{"$f":"'aktuelle Zahlen'!E146","v":13},{"$f":"'aktuelle Zahlen'!F146","v":37},{"$f":"'aktuelle Zahlen'!G146","v":49},{"$f":"'aktuelle Zahlen'!H146","v":10},{"$f":"'aktuelle Zahlen'!J146","v":6},null," ",0," ",1," ",0," ",0," ",0," ",0," ",0,2,2," ",1,2,2," ",1,2,2]
[{"$f":"'aktuelle Zahlen'!A145","v":"Sa"},{"$f":"'aktuelle Zahlen'!B145","v":"2025-04-12"},{"$f":"'aktuelle Zahlen'!C145","v":29},{"$f":"'aktuelle Zahlen'!D145","v":20},{"$f":"'aktuelle Zahlen'!E145","v":15},{"$f":"'aktuelle Zahlen'!F145","v":36},{"$f":"'aktuelle Zahlen'!G145","v":14},{"$f":"'aktuelle Zahlen'!H145","v":18},{"$f":"'aktuelle Zahlen'!J145","v":5},null," ",0,2,2," ",1," ",0," ",0," ",1," ",1," ",0," ",0," ",0," ",0," ",1]
[{"$f":"'aktuelle Zahlen'!A144","v":"Mi"},{"$f":"'aktuelle Zahlen'!B144","v":"2025-04-09"},{"$f":"'aktuelle Zahlen'!C144","v":40},{"$f":"'aktuelle Zahlen'!D144","v":34},{"$f":"'aktuelle Zahlen'!E144","v":16},{"$f":"'aktuelle Zahlen'!F144","v":31},{"$f":"'aktuelle Zahlen'!G144","v":24},{"$f":"'aktuelle Zahlen'!H144","v":37},{"$f":"'aktuelle Zahlen'!J144","v":1},null," ",0,2,2," ",1," ",0," ",0," ",1," ",0," ",0," ",0," ",1," ",1,3,3]
[{"$f":"'aktuelle Zahlen'!A143","v":"Sa"},{"$f":"'aktuelle Zahlen'!B143","v":"2025-04-05"},{"$f":"'aktuelle Zahlen'!C143","v":12},{"$f":"'aktuelle Zahlen'!D143","v":41},{"$f":"'aktuelle Zahlen'!E143","v":10},{"$f":"'aktuelle Zahlen'!F143","v":40},{"$f":"'aktuelle Zahlen'!G143","v":35},{"$f":"'aktuelle Zahlen'!H143","v":21},{"$f":"'aktuelle Zahlen'!J143","v":9},null," ",0," ",1,2,2,2,2,2,2," ",1," ",0," ",1," ",1," ",0," ",0," ",0]
[{"$f":"'aktuelle Zahlen'!A142","v":"Mi"},{"$f":"'aktuelle Zahlen'!B142","v":"2025-04-02"},{"$f":"'aktuelle Zahlen'!C142","v":48},{"$f":"'aktuelle Zahlen'!D142","v":25},{"$f":"'aktuelle Zahlen'!E142","v":20},{"$f":"'aktuelle Zahlen'!F142","v":5},{"$f":"'aktuelle Zahlen'!G142","v":19},{"$f":"'aktuelle Zahlen'!H142","v":14},{"$f":"'aktuelle Zahlen'!J142","v":6},null,3,3," ",0," ",1," ",1," ",1,2,2," ",1,2,2," ",1,3,3," ",1," ",0]
[{"$f":"'aktuelle Zahlen'!A141","v":"Sa"},{"$f":"'aktuelle Zahlen'!B141","v":"2025-03-29"},{"$f":"'aktuelle Zahlen'!C141","v":31},{"$f":"'aktuelle Zahlen'!D141","v":18},{"$f":"'aktuelle Zahlen'!E141","v":46},{"$f":"'aktuelle Zahlen'!F141","v":47},{"$f":"'aktuelle Zahlen'!G141","v":39},{"$f":"'aktuelle Zahlen'!H141","v":25},{"$f":"'aktuelle Zahlen'!J141","v":6},null," ",0," ",1," ",1," ",0," ",0," ",0," ",0," ",1," ",1," ",0," ",1," ",1]
[{"$f":"'aktuelle Zahlen'!A140","v":"Mi"},{"$f":"'aktuelle Zahlen'!B140","v":"2025-03-26"},{"$f":"'aktuelle Zahlen'!C140","v":19},{"$f":"'aktuelle Zahlen'!D140","v":12},{"$f":"'aktuelle Zahlen'!E140","v":3},{"$f":"'aktuelle Zahlen'!F140","v":41},{"$f":"'aktuelle Zahlen'!G140","v":16},{"$f":"'aktuelle Zahlen'!H140","v":22},{"$f":"'aktuelle Zahlen'!J140","v":4},null," ",0," ",1," ",0," ",1," ",1," ",0," ",0," ",0,2,2," ",1," ",1," ",1]
[{"$f":"'aktuelle Zahlen'!A139","v":"Sa"},{"$f":"'aktuelle Zahlen'!B139","v":"2025-03-22"},{"$f":"'aktuelle Zahlen'!C139","v":30},{"$f":"'aktuelle Zahlen'!D139","v":41},{"$f":"'aktuelle Zahlen'!E139","v":11},{"$f":"'aktuelle Zahlen'!F139","v":20},{"$f":"'aktuelle Zahlen'!G139","v":35},{"$f":"'aktuelle Zahlen'!H139","v":28},{"$f":"'aktuelle Zahlen'!J139","v":3},null," ",1," ",1," ",1," ",0," ",0," ",1," ",0,2,2," ",0," ",1,2,2," ",1]
[{"$f":"'aktuelle Zahlen'!A138","v":"Mi"},{"$f":"'aktuelle Zahlen'!B138","v":"2025-03-19"},{"$f":"'aktuelle Zahlen'!C138","v":9},{"$f":"'aktuelle Zahlen'!D138","v":13},{"$f":"'aktuelle Zahlen'!E138","v":29},{"$f":"'aktuelle Zahlen'!F138","v":32},{"$f":"'aktuelle Zahlen'!G138","v":38},{"$f":"'aktuelle Zahlen'!H138","v":30},{"$f":"'aktuelle Zahlen'!J138","v":8},null," ",0,2,2," ",1," ",1," ",1," ",1," ",0," ",1," ",0," ",1," ",0,2,2]
[{"$f":"'aktuelle Zahlen'!A137","v":"Sa"},{"$f":"'aktuelle Zahlen'!B137","v":"2025-03-15"},{"$f":"'aktuelle Zahlen'!C137","v":11},{"$f":"'aktuelle Zahlen'!D137","v":35},{"$f":"'aktuelle Zahlen'!E137","v":6},{"$f":"'aktuelle Zahlen'!F137","v":36},{"$f":"'aktuelle Zahlen'!G137","v":30},{"$f":"'aktuelle Zahlen'!H137","v":47},{"$f":"'aktuelle Zahlen'!J137","v":0},null," ",1," ",1," ",1," ",0," ",0," ",1," ",0," ",1," ",0," ",1," ",0,2,2]
[{"$f":"'aktuelle Zahlen'!A136","v":"Mi"},{"$f":"'aktuelle Zahlen'!B136","v":"2025-03-12"},{"$f":"'aktuelle Zahlen'!C136","v":2},{"$f":"'aktuelle Zahlen'!D136","v":26},{"$f":"'aktuelle Zahlen'!E136","v":46},{"$f":"'aktuelle Zahlen'!F136","v":14},{"$f":"'aktuelle Zahlen'!G136","v":37},{"$f":"'aktuelle Zahlen'!H136","v":38},{"$f":"'aktuelle Zahlen'!J136","v":2},null," ",0," ",0," ",1," ",0," ",0," ",0," ",0,2,2," ",0," ",1," ",1," ",1]
[{"$f":"'aktuelle Zahlen'!A135","v":"Sa"},{"$f":"'aktuelle Zahlen'!B135","v":"2025-03-08"},{"$f":"'aktuelle Zahlen'!C135","v":41},{"$f":"'aktuelle Zahlen'!D135","v":25},{"$f":"'aktuelle Zahlen'!E135","v":26},{"$f":"'aktuelle Zahlen'!F135","v":44},{"$f":"'aktuelle Zahlen'!G135","v":13},{"$f":"'aktuelle Zahlen'!H135","v":27},{"$f":"'aktuelle Zahlen'!J135","v":5}]
[{"$f":"'aktuelle Zahlen'!A134","v":"Mi"},{"$f":"'aktuelle Zahlen'!B134","v":"2025-03-05"},{"$f":"'aktuelle Zahlen'!C134","v":46},{"$f":"'aktuelle Zahlen'!D134","v":22},{"$f":"'aktuelle Zahlen'!E134","v":45},{"$f":"'aktuelle Zahlen'!F134","v":26},{"$f":"'aktuelle Zahlen'!G134","v":4},{"$f":"'aktuelle Zahlen'!H134","v":29},{"$f":"'aktuelle Zahlen'!J134","v":7}]
[{"$f":"'aktuelle Zahlen'!A133","v":"Sa"},{"$f":"'aktuelle Zahlen'!B133","v":"2025-03-01"},{"$f":"'aktuelle Zahlen'!C133","v":25},{"$f":"'aktuelle Zahlen'!D133","v":36},{"$f":"'aktuelle Zahlen'!E133","v":26},{"$f":"'aktuelle Zahlen'!F133","v":11},{"$f":"'aktuelle Zahlen'!G133","v":44},{"$f":"'aktuelle Zahlen'!H133","v":30},{"$f":"'aktuelle Zahlen'!J133","v":8}]
[{"$f":"'aktuelle Zahlen'!A132","v":"Mi"},{"$f":"'aktuelle Zahlen'!B132","v":"2025-02-26"},{"$f":"'aktuelle Zahlen'!C132","v":12},{"$f":"'aktuelle Zahlen'!D132","v":45},{"$f":"'aktuelle Zahlen'!E132","v":24},{"$f":"'aktuelle Zahlen'!F132","v":29},{"$f":"'aktuelle Zahlen'!G132","v":22},{"$f":"'aktuelle Zahlen'!H132","v":17},{"$f":"'aktuelle Zahlen'!J132","v":7}]
[{"$f":"'aktuelle Zahlen'!A131","v":"Sa"},{"$f":"'aktuelle Zahlen'!B131","v":"2025-02-22"},{"$f":"'aktuelle Zahlen'!C131","v":34},{"$f":"'aktuelle Zahlen'!D131","v":28},{"$f":"'aktuelle Zahlen'!E131","v":26},{"$f":"'aktuelle Zahlen'!F131","v":6},{"$f":"'aktuelle Zahlen'!G131","v":8},{"$f":"'aktuelle Zahlen'!H131","v":12},{"$f":"'aktuelle Zahlen'!J131","v":0}]
[{"$f":"'aktuelle Zahlen'!A130","v":"Mi"},{"$f":"'aktuelle Zahlen'!B130","v":"2025-02-19"},{"$f":"'aktuelle Zahlen'!C130","v":8},{"$f":"'aktuelle Zahlen'!D130","v":4},{"$f":"'aktuelle Zahlen'!E130","v":28},{"$f":"'aktuelle Zahlen'!F130","v":44},{"$f":"'aktuelle Zahlen'!G130","v":25},{"$f":"'aktuelle Zahlen'!H130","v":10},{"$f":"'aktuelle Zahlen'!J130","v":3}]
[{"$f":"'aktuelle Zahlen'!A129","v":"Sa"},{"$f":"'aktuelle Zahlen'!B129","v":"2025-02-15"},{"$f":"'aktuelle Zahlen'!C129","v":18},{"$f":"'aktuelle Zahlen'!D129","v":23},{"$f":"'aktuelle Zahlen'!E129","v":43},{"$f":"'aktuelle Zahlen'!F129","v":29},{"$f":"'aktuelle Zahlen'!G129","v":48},{"$f":"'aktuelle Zahlen'!H129","v":2},{"$f":"'aktuelle Zahlen'!J129","v":7}]
[{"$f":"'aktuelle Zahlen'!A128","v":"Mi"},{"$f":"'aktuelle Zahlen'!B128","v":"2025-02-12"},{"$f":"'aktuelle Zahlen'!C128","v":5},{"$f":"'aktuelle Zahlen'!D128","v":12},{"$f":"'aktuelle Zahlen'!E128","v":43},{"$f":"'aktuelle Zahlen'!F128","v":39},{"$f":"'aktuelle Zahlen'!G128","v":47},{"$f":"'aktuelle Zahlen'!H128","v":30},{"$f":"'aktuelle Zahlen'!J128","v":5}]
[{"$f":"'aktuelle Zahlen'!A127","v":"Sa"},{"$f":"'aktuelle Zahlen'!B127","v":"2025-02-08"},{"$f":"'aktuelle Zahlen'!C127","v":49},{"$f":"'aktuelle Zahlen'!D127","v":20},{"$f":"'aktuelle Zahlen'!E127","v":13},{"$f":"'aktuelle Zahlen'!F127","v":47},{"$f":"'aktuelle Zahlen'!G127","v":27},{"$f":"'aktuelle Zahlen'!H127","v":16},{"$f":"'aktuelle Zahlen'!J127","v":2}]
[{"$f":"'aktuelle Zahlen'!A126","v":"Mi"},{"$f":"'aktuelle Zahlen'!B126","v":"2025-02-05"},{"$f":"'aktuelle Zahlen'!C126","v":15},{"$f":"'aktuelle Zahlen'!D126","v":9},{"$f":"'aktuelle Zahlen'!E126","v":18},{"$f":"'aktuelle Zahlen'!F126","v":30},{"$f":"'aktuelle Zahlen'!G126","v":14},{"$f":"'aktuelle Zahlen'!H126","v":1},{"$f":"'aktuelle Zahlen'!J126","v":8}]
[{"$f":"'aktuelle Zahlen'!A125","v":"Sa"},{"$f":"'aktuelle Zahlen'!B125","v":"2025-02-01"},{"$f":"'aktuelle Zahlen'!C125","v":11},{"$f":"'aktuelle Zahlen'!D125","v":9},{"$f":"'aktuelle Zahlen'!E125","v":22},{"$f":"'aktuelle Zahlen'!F125","v":27},{"$f":"'aktuelle Zahlen'!G125","v":25},{"$f":"'aktuelle Zahlen'!H125","v":8},{"$f":"'aktuelle Zahlen'!J125","v":8}]
[{"$f":"'aktuelle Zahlen'!A124","v":"Mi"},{"$f":"'aktuelle Zahlen'!B124","v":"2025-01-29"},{"$f":"'aktuelle Zahlen'!C124","v":41},{"$f":"'aktuelle Zahlen'!D124","v":48},{"$f":"'aktuelle Zahlen'!E124","v":25},{"$f":"'aktuelle Zahlen'!F124","v":35},{"$f":"'aktuelle Zahlen'!G124","v":7},{"$f":"'aktuelle Zahlen'!H124","v":16},{"$f":"'aktuelle Zahlen'!J124","v":2}]
[{"$f":"'aktuelle Zahlen'!A123","v":"Sa"},{"$f":"'aktuelle Zahlen'!B123","v":"2025-01-25"},{"$f":"'aktuelle Zahlen'!C123","v":48},{"$f":"'aktuelle Zahlen'!D123","v":49},{"$f":"'aktuelle Zahlen'!E123","v":25},{"$f":"'aktuelle Zahlen'!F123","v":10},{"$f":"'aktuelle Zahlen'!G123","v":11},{"$f":"'aktuelle Zahlen'!H123","v":36},{"$f":"'aktuelle Zahlen'!J123","v":2}]
[{"$f":"'aktuelle Zahlen'!A122","v":"Mi"},{"$f":"'aktuelle Zahlen'!B122","v":"2025-01-22"},{"$f":"'aktuelle Zahlen'!C122","v":34},{"$f":"'aktuelle Zahlen'!D122","v":35},{"$f":"'aktuelle Zahlen'!E122","v":41},{"$f":"'aktuelle Zahlen'!F122","v":40},{"$f":"'aktuelle Zahlen'!G122","v":31},{"$f":"'aktuelle Zahlen'!H122","v":9},{"$f":"'aktuelle Zahlen'!J122","v":4}]
[{"$f":"'aktuelle Zahlen'!A121","v":"Sa"},{"$f":"'aktuelle Zahlen'!B121","v":"2025-01-18"},{"$f":"'aktuelle Zahlen'!C121","v":20},{"$f":"'aktuelle Zahlen'!D121","v":3},{"$f":"'aktuelle Zahlen'!E121","v":12},{"$f":"'aktuelle Zahlen'!F121","v":26},{"$f":"'aktuelle Zahlen'!G121","v":33},{"$f":"'aktuelle Zahlen'!H121","v":16},{"$f":"'aktuelle Zahlen'!J121","v":3}]
[{"$f":"'aktuelle Zahlen'!A120","v":"Mi"},{"$f":"'aktuelle Zahlen'!B120","v":"2025-01-15"},{"$f":"'aktuelle Zahlen'!C120","v":38},{"$f":"'aktuelle Zahlen'!D120","v":13},{"$f":"'aktuelle Zahlen'!E120","v":41},{"$f":"'aktuelle Zahlen'!F120","v":1},{"$f":"'aktuelle Zahlen'!G120","v":30},{"$f":"'aktuelle Zahlen'!H120","v":36},{"$f":"'aktuelle Zahlen'!J120","v":6}]
[{"$f":"'aktuelle Zahlen'!A119","v":"Sa"},{"$f":"'aktuelle Zahlen'!B119","v":"2025-01-11"},{"$f":"'aktuelle Zahlen'!C119","v":27},{"$f":"'aktuelle Zahlen'!D119","v":30},{"$f":"'aktuelle Zahlen'!E119","v":10},{"$f":"'aktuelle Zahlen'!F119","v":26},{"$f":"'aktuelle Zahlen'!G119","v":22},{"$f":"'aktuelle Zahlen'!H119","v":33},{"$f":"'aktuelle Zahlen'!J119","v":8}]
[{"$f":"'aktuelle Zahlen'!A118","v":"Mi"},{"$f":"'aktuelle Zahlen'!B118","v":"2025-01-08"},{"$f":"'aktuelle Zahlen'!C118","v":45},{"$f":"'aktuelle Zahlen'!D118","v":49},{"$f":"'aktuelle Zahlen'!E118","v":27},{"$f":"'aktuelle Zahlen'!F118","v":30},{"$f":"'aktuelle Zahlen'!G118","v":28},{"$f":"'aktuelle Zahlen'!H118","v":9},{"$f":"'aktuelle Zahlen'!J118","v":6}]
[{"$f":"'aktuelle Zahlen'!A117","v":"Sa"},{"$f":"'aktuelle Zahlen'!B117","v":"2025-01-04"},{"$f":"'aktuelle Zahlen'!C117","v":6},{"$f":"'aktuelle Zahlen'!D117","v":24},{"$f":"'aktuelle Zahlen'!E117","v":36},{"$f":"'aktuelle Zahlen'!F117","v":2},{"$f":"'aktuelle Zahlen'!G117","v":30},{"$f":"'aktuelle Zahlen'!H117","v":45},{"$f":"'aktuelle Zahlen'!J117","v":2}]
[{"$f":"'aktuelle Zahlen'!A116","v":"Mi"},{"$f":"'aktuelle Zahlen'!B116","v":"2025-01-01"},{"$f":"'aktuelle Zahlen'!C116","v":18},{"$f":"'aktuelle Zahlen'!D116","v":15},{"$f":"'aktuelle Zahlen'!E116","v":3},{"$f":"'aktuelle Zahlen'!F116","v":26},{"$f":"'aktuelle Zahlen'!G116","v":33},{"$f":"'aktuelle Zahlen'!H116","v":7},{"$f":"'aktuelle Zahlen'!J116","v":2}]
[{"$f":"'aktuelle Zahlen'!A115","v":"Sa"},{"$f":"'aktuelle Zahlen'!B115","v":"2024-12-28"},{"$f":"'aktuelle Zahlen'!C115","v":18},{"$f":"'aktuelle Zahlen'!D115","v":7},{"$f":"'aktuelle Zahlen'!E115","v":40},{"$f":"'aktuelle Zahlen'!F115","v":28},{"$f":"'aktuelle Zahlen'!G115","v":13},{"$f":"'aktuelle Zahlen'!H115","v":44},{"$f":"'aktuelle Zahlen'!J115","v":5}]
[{"$f":"'aktuelle Zahlen'!A114","v":"Mi"},{"$f":"'aktuelle Zahlen'!B114","v":"2024-12-25"},{"$f":"'aktuelle Zahlen'!C114","v":24},{"$f":"'aktuelle Zahlen'!D114","v":44},{"$f":"'aktuelle Zahlen'!E114","v":5},{"$f":"'aktuelle Zahlen'!F114","v":48},{"$f":"'aktuelle Zahlen'!G114","v":9},{"$f":"'aktuelle Zahlen'!H114","v":7},{"$f":"'aktuelle Zahlen'!J114","v":0}]
[{"$f":"'aktuelle Zahlen'!A113","v":"Sa"},{"$f":"'aktuelle Zahlen'!B113","v":"2024-12-21"},{"$f":"'aktuelle Zahlen'!C113","v":44},{"$f":"'aktuelle Zahlen'!D113","v":3},{"$f":"'aktuelle Zahlen'!E113","v":8},{"$f":"'aktuelle Zahlen'!F113","v":39},{"$f":"'aktuelle Zahlen'!G113","v":6},{"$f":"'aktuelle Zahlen'!H113","v":34},{"$f":"'aktuelle Zahlen'!J113","v":5}]
[{"$f":"'aktuelle Zahlen'!A112","v":"Mi"},{"$f":"'aktuelle Zahlen'!B112","v":"2024-12-18"},{"$f":"'aktuelle Zahlen'!C112","v":6},{"$f":"'aktuelle Zahlen'!D112","v":42},{"$f":"'aktuelle Zahlen'!E112","v":2},{"$f":"'aktuelle Zahlen'!F112","v":30},{"$f":"'aktuelle Zahlen'!G112","v":37},{"$f":"'aktuelle Zahlen'!H112","v":22},{"$f":"'aktuelle Zahlen'!J112","v":6}]
[{"$f":"'aktuelle Zahlen'!A111","v":"Sa"},{"$f":"'aktuelle Zahlen'!B111","v":"2024-12-14"},{"$f":"'aktuelle Zahlen'!C111","v":9},{"$f":"'aktuelle Zahlen'!D111","v":44},{"$f":"'aktuelle Zahlen'!E111","v":1},{"$f":"'aktuelle Zahlen'!F111","v":14},{"$f":"'aktuelle Zahlen'!G111","v":27},{"$f":"'aktuelle Zahlen'!H111","v":4},{"$f":"'aktuelle Zahlen'!J111","v":3}]
[{"$f":"'aktuelle Zahlen'!A110","v":"Mi"},{"$f":"'aktuelle Zahlen'!B110","v":"2024-12-11"},{"$f":"'aktuelle Zahlen'!C110","v":30},{"$f":"'aktuelle Zahlen'!D110","v":49},{"$f":"'aktuelle Zahlen'!E110","v":34},{"$f":"'aktuelle Zahlen'!F110","v":15},{"$f":"'aktuelle Zahlen'!G110","v":14},{"$f":"'aktuelle Zahlen'!H110","v":35},{"$f":"'aktuelle Zahlen'!J110","v":5}]
[{"$f":"'aktuelle Zahlen'!A109","v":"Sa"},{"$f":"'aktuelle Zahlen'!B109","v":"2024-12-07"},{"$f":"'aktuelle Zahlen'!C109","v":32},{"$f":"'aktuelle Zahlen'!D109","v":6},{"$f":"'aktuelle Zahlen'!E109","v":19},{"$f":"'aktuelle Zahlen'!F109","v":30},{"$f":"'aktuelle Zahlen'!G109","v":37},{"$f":"'aktuelle Zahlen'!H109","v":15},{"$f":"'aktuelle Zahlen'!J109","v":9}]
[{"$f":"'aktuelle Zahlen'!A108","v":"Mi"},{"$f":"'aktuelle Zahlen'!B108","v":"2024-12-04"},{"$f":"'aktuelle Zahlen'!C108","v":29},{"$f":"'aktuelle Zahlen'!D108","v":41},{"$f":"'aktuelle Zahlen'!E108","v":14},{"$f":"'aktuelle Zahlen'!F108","v":18},{"$f":"'aktuelle Zahlen'!G108","v":36},{"$f":"'aktuelle Zahlen'!H108","v":5},{"$f":"'aktuelle Zahlen'!J108","v":3}]
[{"$f":"'aktuelle Zahlen'!A107","v":"Sa"},{"$f":"'aktuelle Zahlen'!B107","v":"2024-11-30"},{"$f":"'aktuelle Zahlen'!C107","v":13},{"$f":"'aktuelle Zahlen'!D107","v":7},{"$f":"'aktuelle Zahlen'!E107","v":33},{"$f":"'aktuelle Zahlen'!F107","v":38},{"$f":"'aktuelle Zahlen'!G107","v":42},{"$f":"'aktuelle Zahlen'!H107","v":37},{"$f":"'aktuelle Zahlen'!J107","v":0}]
[{"$f":"'aktuelle Zahlen'!A106","v":"Mi"},{"$f":"'aktuelle Zahlen'!B106","v":"2024-11-27"},{"$f":"'aktuelle Zahlen'!C106","v":12},{"$f":"'aktuelle Zahlen'!D106","v":30},{"$f":"'aktuelle Zahlen'!E106","v":39},{"$f":"'aktuelle Zahlen'!F106","v":16},{"$f":"'aktuelle Zahlen'!G106","v":34},{"$f":"'aktuelle Zahlen'!H106","v":7},{"$f":"'aktuelle Zahlen'!J106","v":4}]
[{"$f":"'aktuelle Zahlen'!A105","v":"Sa"},{"$f":"'aktuelle Zahlen'!B105","v":"2024-11-23"},{"$f":"'aktuelle Zahlen'!C105","v":17},{"$f":"'aktuelle Zahlen'!D105","v":3},{"$f":"'aktuelle Zahlen'!E105","v":8},{"$f":"'aktuelle Zahlen'!F105","v":44},{"$f":"'aktuelle Zahlen'!G105","v":42},{"$f":"'aktuelle Zahlen'!H105","v":26},{"$f":"'aktuelle Zahlen'!J105","v":6}]
[{"$f":"'aktuelle Zahlen'!A104","v":"Mi"},{"$f":"'aktuelle Zahlen'!B104","v":"2024-11-20"},{"$f":"'aktuelle Zahlen'!C104","v":34},{"$f":"'aktuelle Zahlen'!D104","v":25},{"$f":"'aktuelle Zahlen'!E104","v":7},{"$f":"'aktuelle Zahlen'!F104","v":45},{"$f":"'aktuelle Zahlen'!G104","v":15},{"$f":"'aktuelle Zahlen'!H104","v":26},{"$f":"'aktuelle Zahlen'!J104","v":6}]
[{"$f":"'aktuelle Zahlen'!A103","v":"Sa"},{"$f":"'aktuelle Zahlen'!B103","v":"2024-11-16"},{"$f":"'aktuelle Zahlen'!C103","v":14},{"$f":"'aktuelle Zahlen'!D103","v":11},{"$f":"'aktuelle Zahlen'!E103","v":39},{"$f":"'aktuelle Zahlen'!F103","v":40},{"$f":"'aktuelle Zahlen'!G103","v":15},{"$f":"'aktuelle Zahlen'!H103","v":19},{"$f":"'aktuelle Zahlen'!J103","v":4}]
[{"$f":"'aktuelle Zahlen'!A102","v":"Mi"},{"$f":"'aktuelle Zahlen'!B102","v":"2024-11-13"},{"$f":"'aktuelle Zahlen'!C102","v":38},{"$f":"'aktuelle Zahlen'!D102","v":24},{"$f":"'aktuelle Zahlen'!E102","v":36},{"$f":"'aktuelle Zahlen'!F102","v":44},{"$f":"'aktuelle Zahlen'!G102","v":47},{"$f":"'aktuelle Zahlen'!H102","v":6},{"$f":"'aktuelle Zahlen'!J102","v":0}]
[{"$f":"'aktuelle Zahlen'!A101","v":"Sa"},{"$f":"'aktuelle Zahlen'!B101","v":"2024-11-09"},{"$f":"'aktuelle Zahlen'!C101","v":40},{"$f":"'aktuelle Zahlen'!D101","v":2},{"$f":"'aktuelle Zahlen'!E101","v":18},{"$f":"'aktuelle Zahlen'!F101","v":33},{"$f":"'aktuelle Zahlen'!G101","v":47},{"$f":"'aktuelle Zahlen'!H101","v":39},{"$f":"'aktuelle Zahlen'!J101","v":7}]
[{"$f":"'aktuelle Zahlen'!A100","v":"Mi"},{"$f":"'aktuelle Zahlen'!B100","v":"2024-11-06"},{"$f":"'aktuelle Zahlen'!C100","v":17},{"$f":"'aktuelle Zahlen'!D100","v":44},{"$f":"'aktuelle Zahlen'!E100","v":14},{"$f":"'aktuelle Zahlen'!F100","v":33},{"$f":"'aktuelle Zahlen'!G100","v":28},{"$f":"'aktuelle Zahlen'!H100","v":40},{"$f":"'aktuelle Zahlen'!J100","v":3}]
[{"$f":"'aktuelle Zahlen'!A99","v":"Sa"},{"$f":"'aktuelle Zahlen'!B99","v":"2024-11-02"},{"$f":"'aktuelle Zahlen'!C99","v":9},{"$f":"'aktuelle Zahlen'!D99","v":8},{"$f":"'aktuelle Zahlen'!E99","v":17},{"$f":"'aktuelle Zahlen'!F99","v":40},{"$f":"'aktuelle Zahlen'!G99","v":20},{"$f":"'aktuelle Zahlen'!H99","v":37},{"$f":"'aktuelle Zahlen'!J99","v":2}]
[{"$f":"'aktuelle Zahlen'!A98","v":"Mi"},{"$f":"'aktuelle Zahlen'!B98","v":"2024-10-30"},{"$f":"'aktuelle Zahlen'!C98","v":25},{"$f":"'aktuelle Zahlen'!D98","v":7},{"$f":"'aktuelle Zahlen'!E98","v":46},{"$f":"'aktuelle Zahlen'!F98","v":21},{"$f":"'aktuelle Zahlen'!G98","v":32},{"$f":"'aktuelle Zahlen'!H98","v":2},{"$f":"'aktuelle Zahlen'!J98","v":9}]
[{"$f":"'aktuelle Zahlen'!A97","v":"Sa"},{"$f":"'aktuelle Zahlen'!B97","v":"2024-10-26"},{"$f":"'aktuelle Zahlen'!C97","v":43},{"$f":"'aktuelle Zahlen'!D97","v":8},{"$f":"'aktuelle Zahlen'!E97","v":49},{"$f":"'aktuelle Zahlen'!F97","v":5},{"$f":"'aktuelle Zahlen'!G97","v":21},{"$f":"'aktuelle Zahlen'!H97","v":16},{"$f":"'aktuelle Zahlen'!J97","v":8}]
[{"$f":"'aktuelle Zahlen'!A96","v":"Mi"},{"$f":"'aktuelle Zahlen'!B96","v":"2024-10-23"},{"$f":"'aktuelle Zahlen'!C96","v":25},{"$f":"'aktuelle Zahlen'!D96","v":18},{"$f":"'aktuelle Zahlen'!E96","v":40},{"$f":"'aktuelle Zahlen'!F96","v":49},{"$f":"'aktuelle Zahlen'!G96","v":10},{"$f":"'aktuelle Zahlen'!H96","v":37},{"$f":"'aktuelle Zahlen'!J96","v":1}]
[{"$f":"'aktuelle Zahlen'!A95","v":"Sa"},{"$f":"'aktuelle Zahlen'!B95","v":"2024-10-19"},{"$f":"'aktuelle Zahlen'!C95","v":1},{"$f":"'aktuelle Zahlen'!D95","v":43},{"$f":"'aktuelle Zahlen'!E95","v":31},{"$f":"'aktuelle Zahlen'!F95","v":8},{"$f":"'aktuelle Zahlen'!G95","v":19},{"$f":"'aktuelle Zahlen'!H95","v":41},{"$f":"'aktuelle Zahlen'!J95","v":3}]
[{"$f":"'aktuelle Zahlen'!A94","v":"Mi"},{"$f":"'aktuelle Zahlen'!B94","v":"2024-10-16"},{"$f":"'aktuelle Zahlen'!C94","v":9},{"$f":"'aktuelle Zahlen'!D94","v":47},{"$f":"'aktuelle Zahlen'!E94","v":22},{"$f":"'aktuelle Zahlen'!F94","v":4},{"$f":"'aktuelle Zahlen'!G94","v":5},{"$f":"'aktuelle Zahlen'!H94","v":48},{"$f":"'aktuelle Zahlen'!J94","v":0}]
[{"$f":"'aktuelle Zahlen'!A93","v":"Sa"},{"$f":"'aktuelle Zahlen'!B93","v":"2024-10-12"},{"$f":"'aktuelle Zahlen'!C93","v":43},{"$f":"'aktuelle Zahlen'!D93","v":15},{"$f":"'aktuelle Zahlen'!E93","v":14},{"$f":"'aktuelle Zahlen'!F93","v":5},{"$f":"'aktuelle Zahlen'!G93","v":33},{"$f":"'aktuelle Zahlen'!H93","v":40},{"$f":"'aktuelle Zahlen'!J93","v":5}]
[{"$f":"'aktuelle Zahlen'!A92","v":"Mi"},{"$f":"'aktuelle Zahlen'!B92","v":"2024-10-09"},{"$f":"'aktuelle Zahlen'!C92","v":24},{"$f":"'aktuelle Zahlen'!D92","v":46},{"$f":"'aktuelle Zahlen'!E92","v":38},{"$f":"'aktuelle Zahlen'!F92","v":15},{"$f":"'aktuelle Zahlen'!G92","v":8},{"$f":"'aktuelle Zahlen'!H92","v":34},{"$f":"'aktuelle Zahlen'!J92","v":3}]
[{"$f":"'aktuelle Zahlen'!A91","v":"Sa"},{"$f":"'aktuelle Zahlen'!B91","v":"2024-10-05"},{"$f":"'aktuelle Zahlen'!C91","v":44},{"$f":"'aktuelle Zahlen'!D91","v":10},{"$f":"'aktuelle Zahlen'!E91","v":5},{"$f":"'aktuelle Zahlen'!F91","v":12},{"$f":"'aktuelle Zahlen'!G91","v":28},{"$f":"'aktuelle Zahlen'!H91","v":40},{"$f":"'aktuelle Zahlen'!J91","v":8}]
[{"$f":"'aktuelle Zahlen'!A90","v":"Mi"},{"$f":"'aktuelle Zahlen'!B90","v":"2024-10-02"},{"$f":"'aktuelle Zahlen'!C90","v":5},{"$f":"'aktuelle Zahlen'!D90","v":41},{"$f":"'aktuelle Zahlen'!E90","v":18},{"$f":"'aktuelle Zahlen'!F90","v":4},{"$f":"'aktuelle Zahlen'!G90","v":23},{"$f":"'aktuelle Zahlen'!H90","v":26},{"$f":"'aktuelle Zahlen'!J90","v":9}]
[{"$f":"'aktuelle Zahlen'!A89","v":"Sa"},{"$f":"'aktuelle Zahlen'!B89","v":"2024-09-28"},{"$f":"'aktuelle Zahlen'!C89","v":30},{"$f":"'aktuelle Zahlen'!D89","v":16},{"$f":"'aktuelle Zahlen'!E89","v":17},{"$f":"'aktuelle Zahlen'!F89","v":33},{"$f":"'aktuelle Zahlen'!G89","v":6},{"$f":"'aktuelle Zahlen'!H89","v":26},{"$f":"'aktuelle Zahlen'!J89","v":6}]
[{"$f":"'aktuelle Zahlen'!A88","v":"Mi"},{"$f":"'aktuelle Zahlen'!B88","v":"2024-09-25"},{"$f":"'aktuelle Zahlen'!C88","v":11},{"$f":"'aktuelle Zahlen'!D88","v":9},{"$f":"'aktuelle Zahlen'!E88","v":46},{"$f":"'aktuelle Zahlen'!F88","v":4},{"$f":"'aktuelle Zahlen'!G88","v":27},{"$f":"'aktuelle Zahlen'!H88","v":28},{"$f":"'aktuelle Zahlen'!J88","v":1}]
[{"$f":"'aktuelle Zahlen'!A87","v":"Sa"},{"$f":"'aktuelle Zahlen'!B87","v":"2024-09-21"},{"$f":"'aktuelle Zahlen'!C87","v":28},{"$f":"'aktuelle Zahlen'!D87","v":18},{"$f":"'aktuelle Zahlen'!E87","v":46},{"$f":"'aktuelle Zahlen'!F87","v":11},{"$f":"'aktuelle Zahlen'!G87","v":43},{"$f":"'aktuelle Zahlen'!H87","v":30},{"$f":"'aktuelle Zahlen'!J87","v":9}]
[{"$f":"'aktuelle Zahlen'!A86","v":"Mi"},{"$f":"'aktuelle Zahlen'!B86","v":"2024-09-18"},{"$f":"'aktuelle Zahlen'!C86","v":44},{"$f":"'aktuelle Zahlen'!D86","v":31},{"$f":"'aktuelle Zahlen'!E86","v":41},{"$f":"'aktuelle Zahlen'!F86","v":9},{"$f":"'aktuelle Zahlen'!G86","v":43},{"$f":"'aktuelle Zahlen'!H86","v":28},{"$f":"'aktuelle Zahlen'!J86","v":3}]
[{"$f":"'aktuelle Zahlen'!A85","v":"Sa"},{"$f":"'aktuelle Zahlen'!B85","v":"2024-09-14"},{"$f":"'aktuelle Zahlen'!C85","v":14},{"$f":"'aktuelle Zahlen'!D85","v":31},{"$f":"'aktuelle Zahlen'!E85","v":25},{"$f":"'aktuelle Zahlen'!F85","v":23},{"$f":"'aktuelle Zahlen'!G85","v":10},{"$f":"'aktuelle Zahlen'!H85","v":2},{"$f":"'aktuelle Zahlen'!J85","v":2}]
[{"$f":"'aktuelle Zahlen'!A84","v":"Mi"},{"$f":"'aktuelle Zahlen'!B84","v":"2024-09-11"},{"$f":"'aktuelle Zahlen'!C84","v":49},{"$f":"'aktuelle Zahlen'!D84","v":33},{"$f":"'aktuelle Zahlen'!E84","v":5},{"$f":"'aktuelle Zahlen'!F84","v":9},{"$f":"'aktuelle Zahlen'!G84","v":18},{"$f":"'aktuelle Zahlen'!H84","v":28},{"$f":"'aktuelle Zahlen'!J84","v":8}]
[{"$f":"'aktuelle Zahlen'!A83","v":"Sa"},{"$f":"'aktuelle Zahlen'!B83","v":"2024-09-07"},{"$f":"'aktuelle Zahlen'!C83","v":32},{"$f":"'aktuelle Zahlen'!D83","v":8},{"$f":"'aktuelle Zahlen'!E83","v":5},{"$f":"'aktuelle Zahlen'!F83","v":26},{"$f":"'aktuelle Zahlen'!G83","v":43},{"$f":"'aktuelle Zahlen'!H83","v":14},{"$f":"'aktuelle Zahlen'!J83","v":8}]
[{"$f":"'aktuelle Zahlen'!A82","v":"Mi"},{"$f":"'aktuelle Zahlen'!B82","v":"2024-09-04"},{"$f":"'aktuelle Zahlen'!C82","v":10},{"$f":"'aktuelle Zahlen'!D82","v":27},{"$f":"'aktuelle Zahlen'!E82","v":48},{"$f":"'aktuelle Zahlen'!F82","v":45},{"$f":"'aktuelle Zahlen'!G82","v":3},{"$f":"'aktuelle Zahlen'!H82","v":16},{"$f":"'aktuelle Zahlen'!J82","v":2}]
[{"$f":"'aktuelle Zahlen'!A81","v":"Sa"},{"$f":"'aktuelle Zahlen'!B81","v":"2024-08-31"},{"$f":"'aktuelle Zahlen'!C81","v":11},{"$f":"'aktuelle Zahlen'!D81","v":44},{"$f":"'aktuelle Zahlen'!E81","v":24},{"$f":"'aktuelle Zahlen'!F81","v":6},{"$f":"'aktuelle Zahlen'!G81","v":48},{"$f":"'aktuelle Zahlen'!H81","v":21},{"$f":"'aktuelle Zahlen'!J81","v":9}]
[{"$f":"'aktuelle Zahlen'!A80","v":"Mi"},{"$f":"'aktuelle Zahlen'!B80","v":"2024-08-28"},{"$f":"'aktuelle Zahlen'!C80","v":5},{"$f":"'aktuelle Zahlen'!D80","v":22},{"$f":"'aktuelle Zahlen'!E80","v":27},{"$f":"'aktuelle Zahlen'!F80","v":2},{"$f":"'aktuelle Zahlen'!G80","v":46},{"$f":"'aktuelle Zahlen'!H80","v":25},{"$f":"'aktuelle Zahlen'!J80","v":5}]
[{"$f":"'aktuelle Zahlen'!A79","v":"Sa"},{"$f":"'aktuelle Zahlen'!B79","v":"2024-08-24"},{"$f":"'aktuelle Zahlen'!C79","v":12},{"$f":"'aktuelle Zahlen'!D79","v":26},{"$f":"'aktuelle Zahlen'!E79","v":47},{"$f":"'aktuelle Zahlen'!F79","v":29},{"$f":"'aktuelle Zahlen'!G79","v":4},{"$f":"'aktuelle Zahlen'!H79","v":24},{"$f":"'aktuelle Zahlen'!J79","v":8}]
[{"$f":"'aktuelle Zahlen'!A78","v":"Mi"},{"$f":"'aktuelle Zahlen'!B78","v":"2024-08-21"},{"$f":"'aktuelle Zahlen'!C78","v":25},{"$f":"'aktuelle Zahlen'!D78","v":32},{"$f":"'aktuelle Zahlen'!E78","v":37},{"$f":"'aktuelle Zahlen'!F78","v":13},{"$f":"'aktuelle Zahlen'!G78","v":9},{"$f":"'aktuelle Zahlen'!H78","v":40},{"$f":"'aktuelle Zahlen'!J78","v":0}]
[{"$f":"'aktuelle Zahlen'!A77","v":"Sa"},{"$f":"'aktuelle Zahlen'!B77","v":"2024-08-17"},{"$f":"'aktuelle Zahlen'!C77","v":27},{"$f":"'aktuelle Zahlen'!D77","v":46},{"$f":"'aktuelle Zahlen'!E77","v":35},{"$f":"'aktuelle Zahlen'!F77","v":40},{"$f":"'aktuelle Zahlen'!G77","v":2},{"$f":"'aktuelle Zahlen'!H77","v":45},{"$f":"'aktuelle Zahlen'!J77","v":5}]
[{"$f":"'aktuelle Zahlen'!A76","v":"Mi"},{"$f":"'aktuelle Zahlen'!B76","v":"2024-08-14"},{"$f":"'aktuelle Zahlen'!C76","v":8},{"$f":"'aktuelle Zahlen'!D76","v":26},{"$f":"'aktuelle Zahlen'!E76","v":9},{"$f":"'aktuelle Zahlen'!F76","v":22},{"$f":"'aktuelle Zahlen'!G76","v":15},{"$f":"'aktuelle Zahlen'!H76","v":3},{"$f":"'aktuelle Zahlen'!J76","v":4}]
[{"$f":"'aktuelle Zahlen'!A75","v":"Sa"},{"$f":"'aktuelle Zahlen'!B75","v":"2024-08-10"},{"$f":"'aktuelle Zahlen'!C75","v":5},{"$f":"'aktuelle Zahlen'!D75","v":43},{"$f":"'aktuelle Zahlen'!E75","v":19},{"$f":"'aktuelle Zahlen'!F75","v":26},{"$f":"'aktuelle Zahlen'!G75","v":14},{"$f":"'aktuelle Zahlen'!H75","v":20},{"$f":"'aktuelle Zahlen'!J75","v":2}]
[{"$f":"'aktuelle Zahlen'!A74","v":"Mi"},{"$f":"'aktuelle Zahlen'!B74","v":"2024-08-07"},{"$f":"'aktuelle Zahlen'!C74","v":37},{"$f":"'aktuelle Zahlen'!D74","v":3},{"$f":"'aktuelle Zahlen'!E74","v":33},{"$f":"'aktuelle Zahlen'!F74","v":9},{"$f":"'aktuelle Zahlen'!G74","v":15},{"$f":"'aktuelle Zahlen'!H74","v":16},{"$f":"'aktuelle Zahlen'!J74","v":5}]
[{"$f":"'aktuelle Zahlen'!A73","v":"Sa"},{"$f":"'aktuelle Zahlen'!B73","v":"2024-08-03"},{"$f":"'aktuelle Zahlen'!C73","v":12},{"$f":"'aktuelle Zahlen'!D73","v":44},{"$f":"'aktuelle Zahlen'!E73","v":31},{"$f":"'aktuelle Zahlen'!F73","v":1},{"$f":"'aktuelle Zahlen'!G73","v":10},{"$f":"'aktuelle Zahlen'!H73","v":14},{"$f":"'aktuelle Zahlen'!J73","v":1}]
[{"$f":"'aktuelle Zahlen'!A72","v":"Mi"},{"$f":"'aktuelle Zahlen'!B72","v":"2024-07-31"},{"$f":"'aktuelle Zahlen'!C72","v":33},{"$f":"'aktuelle Zahlen'!D72","v":18},{"$f":"'aktuelle Zahlen'!E72","v":25},{"$f":"'aktuelle Zahlen'!F72","v":13},{"$f":"'aktuelle Zahlen'!G72","v":8},{"$f":"'aktuelle Zahlen'!H72","v":2},{"$f":"'aktuelle Zahlen'!J72","v":1}]
[{"$f":"'aktuelle Zahlen'!A71","v":"Sa"},{"$f":"'aktuelle Zahlen'!B71","v":"2024-07-27"},{"$f":"'aktuelle Zahlen'!C71","v":23},{"$f":"'aktuelle Zahlen'!D71","v":20},{"$f":"'aktuelle Zahlen'!E71","v":34},{"$f":"'aktuelle Zahlen'!F71","v":27},{"$f":"'aktuelle Zahlen'!G71","v":25},{"$f":"'aktuelle Zahlen'!H71","v":4},{"$f":"'aktuelle Zahlen'!J71","v":3}]
[{"$f":"'aktuelle Zahlen'!A70","v":"Mi"},{"$f":"'aktuelle Zahlen'!B70","v":"2024-07-24"},{"$f":"'aktuelle Zahlen'!C70","v":47},{"$f":"'aktuelle Zahlen'!D70","v":39},{"$f":"'aktuelle Zahlen'!E70","v":38},{"$f":"'aktuelle Zahlen'!F70","v":5},{"$f":"'aktuelle Zahlen'!G70","v":24},{"$f":"'aktuelle Zahlen'!H70","v":4},{"$f":"'aktuelle Zahlen'!J70","v":3}]
[{"$f":"'aktuelle Zahlen'!A69","v":"Sa"},{"$f":"'aktuelle Zahlen'!B69","v":"2024-07-20"},{"$f":"'aktuelle Zahlen'!C69","v":35},{"$f":"'aktuelle Zahlen'!D69","v":29},{"$f":"'aktuelle Zahlen'!E69","v":8},{"$f":"'aktuelle Zahlen'!F69","v":19},{"$f":"'aktuelle Zahlen'!G69","v":30},{"$f":"'aktuelle Zahlen'!H69","v":5},{"$f":"'aktuelle Zahlen'!J69","v":5}]
[{"$f":"'aktuelle Zahlen'!A68","v":"Mi"},{"$f":"'aktuelle Zahlen'!B68","v":"2024-07-17"},{"$f":"'aktuelle Zahlen'!C68","v":5},{"$f":"'aktuelle Zahlen'!D68","v":9},{"$f":"'aktuelle Zahlen'!E68","v":8},{"$f":"'aktuelle Zahlen'!F68","v":22},{"$f":"'aktuelle Zahlen'!G68","v":30},{"$f":"'aktuelle Zahlen'!H68","v":33},{"$f":"'aktuelle Zahlen'!J68","v":6}]
[{"$f":"'aktuelle Zahlen'!A67","v":"Sa"},{"$f":"'aktuelle Zahlen'!B67","v":"2024-07-13"},{"$f":"'aktuelle Zahlen'!C67","v":9},{"$f":"'aktuelle Zahlen'!D67","v":17},{"$f":"'aktuelle Zahlen'!E67","v":10},{"$f":"'aktuelle Zahlen'!F67","v":42},{"$f":"'aktuelle Zahlen'!G67","v":37},{"$f":"'aktuelle Zahlen'!H67","v":25},{"$f":"'aktuelle Zahlen'!J67","v":0}]
[{"$f":"'aktuelle Zahlen'!A66","v":"Mi"},{"$f":"'aktuelle Zahlen'!B66","v":"2024-07-10"},{"$f":"'aktuelle Zahlen'!C66","v":2},{"$f":"'aktuelle Zahlen'!D66","v":27},{"$f":"'aktuelle Zahlen'!E66","v":12},{"$f":"'aktuelle Zahlen'!F66","v":22},{"$f":"'aktuelle Zahlen'!G66","v":43},{"$f":"'aktuelle Zahlen'!H66","v":17},{"$f":"'aktuelle Zahlen'!J66","v":7}]
[{"$f":"'aktuelle Zahlen'!A65","v":"Sa"},{"$f":"'aktuelle Zahlen'!B65","v":"2024-07-06"},{"$f":"'aktuelle Zahlen'!C65","v":6},{"$f":"'aktuelle Zahlen'!D65","v":1},{"$f":"'aktuelle Zahlen'!E65","v":35},{"$f":"'aktuelle Zahlen'!F65","v":29},{"$f":"'aktuelle Zahlen'!G65","v":13},{"$f":"'aktuelle Zahlen'!H65","v":49},{"$f":"'aktuelle Zahlen'!J65","v":6}]
[{"$f":"'aktuelle Zahlen'!A64","v":"Mi"},{"$f":"'aktuelle Zahlen'!B64","v":"2024-07-03"},{"$f":"'aktuelle Zahlen'!C64","v":39},{"$f":"'aktuelle Zahlen'!D64","v":18},{"$f":"'aktuelle Zahlen'!E64","v":34},{"$f":"'aktuelle Zahlen'!F64","v":30},{"$f":"'aktuelle Zahlen'!G64","v":33},{"$f":"'aktuelle Zahlen'!H64","v":3},{"$f":"'aktuelle Zahlen'!J64","v":8}]
[{"$f":"'aktuelle Zahlen'!A63","v":"Sa"},{"$f":"'aktuelle Zahlen'!B63","v":"2024-06-29"},{"$f":"'aktuelle Zahlen'!C63","v":19},{"$f":"'aktuelle Zahlen'!D63","v":30},{"$f":"'aktuelle Zahlen'!E63","v":16},{"$f":"'aktuelle Zahlen'!F63","v":15},{"$f":"'aktuelle Zahlen'!G63","v":11},{"$f":"'aktuelle Zahlen'!H63","v":35},{"$f":"'aktuelle Zahlen'!J63","v":3}]
[{"$f":"'aktuelle Zahlen'!A62","v":"Mi"},{"$f":"'aktuelle Zahlen'!B62","v":"2024-06-26"},{"$f":"'aktuelle Zahlen'!C62","v":7},{"$f":"'aktuelle Zahlen'!D62","v":17},{"$f":"'aktuelle Zahlen'!E62","v":39},{"$f":"'aktuelle Zahlen'!F62","v":35},{"$f":"'aktuelle Zahlen'!G62","v":36},{"$f":"'aktuelle Zahlen'!H62","v":30},{"$f":"'aktuelle Zahlen'!J62","v":9}]
[{"$f":"'aktuelle Zahlen'!A61","v":"Sa"},{"$f":"'aktuelle Zahlen'!B61","v":"2024-06-22"},{"$f":"'aktuelle Zahlen'!C61","v":25},{"$f":"'aktuelle Zahlen'!D61","v":21},{"$f":"'aktuelle Zahlen'!E61","v":8},{"$f":"'aktuelle Zahlen'!F61","v":11},{"$f":"'aktuelle Zahlen'!G61","v":30},{"$f":"'aktuelle Zahlen'!H61","v":9},{"$f":"'aktuelle Zahlen'!J61","v":1}]
[{"$f":"'aktuelle Zahlen'!A60","v":"Mi"},{"$f":"'aktuelle Zahlen'!B60","v":"2024-06-19"},{"$f":"'aktuelle Zahlen'!C60","v":4},{"$f":"'aktuelle Zahlen'!D60","v":1},{"$f":"'aktuelle Zahlen'!E60","v":30},{"$f":"'aktuelle Zahlen'!F60","v":43},{"$f":"'aktuelle Zahlen'!G60","v":32},{"$f":"'aktuelle Zahlen'!H60","v":12},{"$f":"'aktuelle Zahlen'!J60","v":4}]
[{"$f":"'aktuelle Zahlen'!A59","v":"Sa"},{"$f":"'aktuelle Zahlen'!B59","v":"2024-06-15"},{"$f":"'aktuelle Zahlen'!C59","v":31},{"$f":"'aktuelle Zahlen'!D59","v":38},{"$f":"'aktuelle Zahlen'!E59","v":16},{"$f":"'aktuelle Zahlen'!F59","v":49},{"$f":"'aktuelle Zahlen'!G59","v":30},{"$f":"'aktuelle Zahlen'!H59","v":3},{"$f":"'aktuelle Zahlen'!J59","v":8}]
[{"$f":"'aktuelle Zahlen'!A58","v":"Mi"},{"$f":"'aktuelle Zahlen'!B58","v":"2024-06-12"},{"$f":"'aktuelle Zahlen'!C58","v":11},{"$f":"'aktuelle Zahlen'!D58","v":10},{"$f":"'aktuelle Zahlen'!E58","v":46},{"$f":"'aktuelle Zahlen'!F58","v":5},{"$f":"'aktuelle Zahlen'!G58","v":9},{"$f":"'aktuelle Zahlen'!H58","v":22},{"$f":"'aktuelle Zahlen'!J58","v":2}]
[{"$f":"'aktuelle Zahlen'!A57","v":"Sa"},{"$f":"'aktuelle Zahlen'!B57","v":"2024-06-08"},{"$f":"'aktuelle Zahlen'!C57","v":10},{"$f":"'aktuelle Zahlen'!D57","v":31},{"$f":"'aktuelle Zahlen'!E57","v":15},{"$f":"'aktuelle Zahlen'!F57","v":40},{"$f":"'aktuelle Zahlen'!G57","v":5},{"$f":"'aktuelle Zahlen'!H57","v":22},{"$f":"'aktuelle Zahlen'!J57","v":9}]
[{"$f":"'aktuelle Zahlen'!A56","v":"Mi"},{"$f":"'aktuelle Zahlen'!B56","v":"2024-06-05"},{"$f":"'aktuelle Zahlen'!C56","v":16},{"$f":"'aktuelle Zahlen'!D56","v":26},{"$f":"'aktuelle Zahlen'!E56","v":10},{"$f":"'aktuelle Zahlen'!F56","v":33},{"$f":"'aktuelle Zahlen'!G56","v":19},{"$f":"'aktuelle Zahlen'!H56","v":11},{"$f":"'aktuelle Zahlen'!J56","v":5}]
[{"$f":"'aktuelle Zahlen'!A55","v":"Sa"},{"$f":"'aktuelle Zahlen'!B55","v":"2024-06-01"},{"$f":"'aktuelle Zahlen'!C55","v":10},{"$f":"'aktuelle Zahlen'!D55","v":8},{"$f":"'aktuelle Zahlen'!E55","v":27},{"$f":"'aktuelle Zahlen'!F55","v":35},{"$f":"'aktuelle Zahlen'!G55","v":9},{"$f":"'aktuelle Zahlen'!H55","v":41},{"$f":"'aktuelle Zahlen'!J55","v":0}]
[{"$f":"'aktuelle Zahlen'!A54","v":"Mi"},{"$f":"'aktuelle Zahlen'!B54","v":"2024-05-29"},{"$f":"'aktuelle Zahlen'!C54","v":3},{"$f":"'aktuelle Zahlen'!D54","v":44},{"$f":"'aktuelle Zahlen'!E54","v":5},{"$f":"'aktuelle Zahlen'!F54","v":11},{"$f":"'aktuelle Zahlen'!G54","v":12},{"$f":"'aktuelle Zahlen'!H54","v":28},{"$f":"'aktuelle Zahlen'!J54","v":6}]
[{"$f":"'aktuelle Zahlen'!A53","v":"Sa"},{"$f":"'aktuelle Zahlen'!B53","v":"2024-05-25"},{"$f":"'aktuelle Zahlen'!C53","v":41},{"$f":"'aktuelle Zahlen'!D53","v":15},{"$f":"'aktuelle Zahlen'!E53","v":8},{"$f":"'aktuelle Zahlen'!F53","v":38},{"$f":"'aktuelle Zahlen'!G53","v":32},{"$f":"'aktuelle Zahlen'!H53","v":24},{"$f":"'aktuelle Zahlen'!J53","v":5}]
[{"$f":"'aktuelle Zahlen'!A52","v":"Mi"},{"$f":"'aktuelle Zahlen'!B52","v":"2024-05-22"},{"$f":"'aktuelle Zahlen'!C52","v":8},{"$f":"'aktuelle Zahlen'!D52","v":15},{"$f":"'aktuelle Zahlen'!E52","v":10},{"$f":"'aktuelle Zahlen'!F52","v":9},{"$f":"'aktuelle Zahlen'!G52","v":47},{"$f":"'aktuelle Zahlen'!H52","v":38},{"$f":"'aktuelle Zahlen'!J52","v":4}]
[{"$f":"'aktuelle Zahlen'!A51","v":"Sa"},{"$f":"'aktuelle Zahlen'!B51","v":"2024-05-18"},{"$f":"'aktuelle Zahlen'!C51","v":49},{"$f":"'aktuelle Zahlen'!D51","v":36},{"$f":"'aktuelle Zahlen'!E51","v":1},{"$f":"'aktuelle Zahlen'!F51","v":28},{"$f":"'aktuelle Zahlen'!G51","v":43},{"$f":"'aktuelle Zahlen'!H51","v":2},{"$f":"'aktuelle Zahlen'!J51","v":0}]
[{"$f":"'aktuelle Zahlen'!A50","v":"Mi"},{"$f":"'aktuelle Zahlen'!B50","v":"2024-05-15"},{"$f":"'aktuelle Zahlen'!C50","v":31},{"$f":"'aktuelle Zahlen'!D50","v":28},{"$f":"'aktuelle Zahlen'!E50","v":44},{"$f":"'aktuelle Zahlen'!F50","v":46},{"$f":"'aktuelle Zahlen'!G50","v":10},{"$f":"'aktuelle Zahlen'!H50","v":9},{"$f":"'aktuelle Zahlen'!J50","v":9}]
[{"$f":"'aktuelle Zahlen'!A49","v":"Sa"},{"$f":"'aktuelle Zahlen'!B49","v":"2024-05-11"},{"$f":"'aktuelle Zahlen'!C49","v":25},{"$f":"'aktuelle Zahlen'!D49","v":36},{"$f":"'aktuelle Zahlen'!E49","v":30},{"$f":"'aktuelle Zahlen'!F49","v":29},{"$f":"'aktuelle Zahlen'!G49","v":22},{"$f":"'aktuelle Zahlen'!H49","v":5},{"$f":"'aktuelle Zahlen'!J49","v":0}]
[{"$f":"'aktuelle Zahlen'!A48","v":"Mi"},{"$f":"'aktuelle Zahlen'!B48","v":"2024-05-08"},{"$f":"'aktuelle Zahlen'!C48","v":31},{"$f":"'aktuelle Zahlen'!D48","v":3},{"$f":"'aktuelle Zahlen'!E48","v":40},{"$f":"'aktuelle Zahlen'!F48","v":23},{"$f":"'aktuelle Zahlen'!G48","v":30},{"$f":"'aktuelle Zahlen'!H48","v":27},{"$f":"'aktuelle Zahlen'!J48","v":8}]
[{"$f":"'aktuelle Zahlen'!A47","v":"Sa"},{"$f":"'aktuelle Zahlen'!B47","v":"2024-05-04"},{"$f":"'aktuelle Zahlen'!C47","v":47},{"$f":"'aktuelle Zahlen'!D47","v":29},{"$f":"'aktuelle Zahlen'!E47","v":10},{"$f":"'aktuelle Zahlen'!F47","v":38},{"$f":"'aktuelle Zahlen'!G47","v":9},{"$f":"'aktuelle Zahlen'!H47","v":27},{"$f":"'aktuelle Zahlen'!J47","v":1}]
[{"$f":"'aktuelle Zahlen'!A46","v":"Mi"},{"$f":"'aktuelle Zahlen'!B46","v":"2024-05-01"},{"$f":"'aktuelle Zahlen'!C46","v":41},{"$f":"'aktuelle Zahlen'!D46","v":36},{"$f":"'aktuelle Zahlen'!E46","v":31},{"$f":"'aktuelle Zahlen'!F46","v":37},{"$f":"'aktuelle Zahlen'!G46","v":26},{"$f":"'aktuelle Zahlen'!H46","v":6},{"$f":"'aktuelle Zahlen'!J46","v":1}]
[{"$f":"'aktuelle Zahlen'!A45","v":"Sa"},{"$f":"'aktuelle Zahlen'!B45","v":"2024-04-27"},{"$f":"'aktuelle Zahlen'!C45","v":27},{"$f":"'aktuelle Zahlen'!D45","v":8},{"$f":"'aktuelle Zahlen'!E45","v":46},{"$f":"'aktuelle Zahlen'!F45","v":48},{"$f":"'aktuelle Zahlen'!G45","v":43},{"$f":"'aktuelle Zahlen'!H45","v":45},{"$f":"'aktuelle Zahlen'!J45","v":0}]
[{"$f":"'aktuelle Zahlen'!A44","v":"Mi"},{"$f":"'aktuelle Zahlen'!B44","v":"2024-04-24"},{"$f":"'aktuelle Zahlen'!C44","v":15},{"$f":"'aktuelle Zahlen'!D44","v":19},{"$f":"'aktuelle Zahlen'!E44","v":25},{"$f":"'aktuelle Zahlen'!F44","v":29},{"$f":"'aktuelle Zahlen'!G44","v":13},{"$f":"'aktuelle Zahlen'!H44","v":12},{"$f":"'aktuelle Zahlen'!J44","v":7}]
[{"$f":"'aktuelle Zahlen'!A43","v":"Sa"},{"$f":"'aktuelle Zahlen'!B43","v":"2024-04-20"},{"$f":"'aktuelle Zahlen'!C43","v":44},{"$f":"'aktuelle Zahlen'!D43","v":7},{"$f":"'aktuelle Zahlen'!E43","v":49},{"$f":"'aktuelle Zahlen'!F43","v":28},{"$f":"'aktuelle Zahlen'!G43","v":35},{"$f":"'aktuelle Zahlen'!H43","v":17},{"$f":"'aktuelle Zahlen'!J43","v":3}]
[{"$f":"'aktuelle Zahlen'!A42","v":"Mi"},{"$f":"'aktuelle Zahlen'!B42","v":"2024-04-17"},{"$f":"'aktuelle Zahlen'!C42","v":37},{"$f":"'aktuelle Zahlen'!D42","v":34},{"$f":"'aktuelle Zahlen'!E42","v":16},{"$f":"'aktuelle Zahlen'!F42","v":47},{"$f":"'aktuelle Zahlen'!G42","v":40},{"$f":"'aktuelle Zahlen'!H42","v":9},{"$f":"'aktuelle Zahlen'!J42","v":2}]
[{"$f":"'aktuelle Zahlen'!A41","v":"Sa"},{"$f":"'aktuelle Zahlen'!B41","v":"2024-04-13"},{"$f":"'aktuelle Zahlen'!C41","v":33},{"$f":"'aktuelle Zahlen'!D41","v":47},{"$f":"'aktuelle Zahlen'!E41","v":3},{"$f":"'aktuelle Zahlen'!F41","v":32},{"$f":"'aktuelle Zahlen'!G41","v":10},{"$f":"'aktuelle Zahlen'!H41","v":6},{"$f":"'aktuelle Zahlen'!J41","v":0}]
[{"$f":"'aktuelle Zahlen'!A40","v":"Mi"},{"$f":"'aktuelle Zahlen'!B40","v":"2024-04-10"},{"$f":"'aktuelle Zahlen'!C40","v":7},{"$f":"'aktuelle Zahlen'!D40","v":49},{"$f":"'aktuelle Zahlen'!E40","v":13},{"$f":"'aktuelle Zahlen'!F40","v":8},{"$f":"'aktuelle Zahlen'!G40","v":43},{"$f":"'aktuelle Zahlen'!H40","v":47},{"$f":"'aktuelle Zahlen'!J40","v":2}]
[{"$f":"'aktuelle Zahlen'!A39","v":"Sa"},{"$f":"'aktuelle Zahlen'!B39","v":"2024-04-06"},{"$f":"'aktuelle Zahlen'!C39","v":41},{"$f":"'aktuelle Zahlen'!D39","v":7},{"$f":"'aktuelle Zahlen'!E39","v":13},{"$f":"'aktuelle Zahlen'!F39","v":11},{"$f":"'aktuelle Zahlen'!G39","v":35},{"$f":"'aktuelle Zahlen'!H39","v":20},{"$f":"'aktuelle Zahlen'!J39","v":0}]
[{"$f":"'aktuelle Zahlen'!A38","v":"Mi"},{"$f":"'aktuelle Zahlen'!B38","v":"2024-04-03"},{"$f":"'aktuelle Zahlen'!C38","v":35},{"$f":"'aktuelle Zahlen'!D38","v":29},{"$f":"'aktuelle Zahlen'!E38","v":31},{"$f":"'aktuelle Zahlen'!F38","v":36},{"$f":"'aktuelle Zahlen'!G38","v":2},{"$f":"'aktuelle Zahlen'!H38","v":3},{"$f":"'aktuelle Zahlen'!J38","v":9}]
[{"$f":"'aktuelle Zahlen'!A37","v":"Sa"},{"$f":"'aktuelle Zahlen'!B37","v":"2024-03-30"},{"$f":"'aktuelle Zahlen'!C37","v":27},{"$f":"'aktuelle Zahlen'!D37","v":16},{"$f":"'aktuelle Zahlen'!E37","v":21},{"$f":"'aktuelle Zahlen'!F37","v":10},{"$f":"'aktuelle Zahlen'!G37","v":5},{"$f":"'aktuelle Zahlen'!H37","v":33},{"$f":"'aktuelle Zahlen'!J37","v":0}]
[{"$f":"'aktuelle Zahlen'!A36","v":"Mi"},{"$f":"'aktuelle Zahlen'!B36","v":"2024-03-27"},{"$f":"'aktuelle Zahlen'!C36","v":41},{"$f":"'aktuelle Zahlen'!D36","v":32},{"$f":"'aktuelle Zahlen'!E36","v":44},{"$f":"'aktuelle Zahlen'!F36","v":20},{"$f":"'aktuelle Zahlen'!G36","v":2},{"$f":"'aktuelle Zahlen'!H36","v":13},{"$f":"'aktuelle Zahlen'!J36","v":2}]
[{"$f":"'aktuelle Zahlen'!A35","v":"Sa"},{"$f":"'aktuelle Zahlen'!B35","v":"2024-03-23"},{"$f":"'aktuelle Zahlen'!C35","v":40},{"$f":"'aktuelle Zahlen'!D35","v":21},{"$f":"'aktuelle Zahlen'!E35","v":32},{"$f":"'aktuelle Zahlen'!F35","v":4},{"$f":"'aktuelle Zahlen'!G35","v":38},{"$f":"'aktuelle Zahlen'!H35","v":1},{"$f":"'aktuelle Zahlen'!J35","v":7}]
[{"$f":"'aktuelle Zahlen'!A34","v":"Mi"},{"$f":"'aktuelle Zahlen'!B34","v":"2024-03-20"},{"$f":"'aktuelle Zahlen'!C34","v":40},{"$f":"'aktuelle Zahlen'!D34","v":9},{"$f":"'aktuelle Zahlen'!E34","v":7},{"$f":"'aktuelle Zahlen'!F34","v":45},{"$f":"'aktuelle Zahlen'!G34","v":24},{"$f":"'aktuelle Zahlen'!H34","v":16},{"$f":"'aktuelle Zahlen'!J34","v":8}]
[{"$f":"'aktuelle Zahlen'!A33","v":"Sa"},{"$f":"'aktuelle Zahlen'!B33","v":"2024-03-16"},{"$f":"'aktuelle Zahlen'!C33","v":16},{"$f":"'aktuelle Zahlen'!D33","v":40},{"$f":"'aktuelle Zahlen'!E33","v":19},{"$f":"'aktuelle Zahlen'!F33","v":5},{"$f":"'aktuelle Zahlen'!G33","v":25},{"$f":"'aktuelle Zahlen'!H33","v":48},{"$f":"'aktuelle Zahlen'!J33","v":3}]
[{"$f":"'aktuelle Zahlen'!A32","v":"Mi"},{"$f":"'aktuelle Zahlen'!B32","v":"2024-03-13"},{"$f":"'aktuelle Zahlen'!C32","v":10},{"$f":"'aktuelle Zahlen'!D32","v":11},{"$f":"'aktuelle Zahlen'!E32","v":29},{"$f":"'aktuelle Zahlen'!F32","v":39},{"$f":"'aktuelle Zahlen'!G32","v":31},{"$f":"'aktuelle Zahlen'!H32","v":18},{"$f":"'aktuelle Zahlen'!J32","v":5}]
[{"$f":"'aktuelle Zahlen'!A31","v":"Sa"},{"$f":"'aktuelle Zahlen'!B31","v":"2024-03-09"},{"$f":"'aktuelle Zahlen'!C31","v":41},{"$f":"'aktuelle Zahlen'!D31","v":20},{"$f":"'aktuelle Zahlen'!E31","v":1},{"$f":"'aktuelle Zahlen'!F31","v":48},{"$f":"'aktuelle Zahlen'!G31","v":5},{"$f":"'aktuelle Zahlen'!H31","v":10},{"$f":"'aktuelle Zahlen'!J31","v":8}]
[{"$f":"'aktuelle Zahlen'!A30","v":"Mi"},{"$f":"'aktuelle Zahlen'!B30","v":"2024-03-06"},{"$f":"'aktuelle Zahlen'!C30","v":17},{"$f":"'aktuelle Zahlen'!D30","v":23},{"$f":"'aktuelle Zahlen'!E30","v":40},{"$f":"'aktuelle Zahlen'!F30","v":8},{"$f":"'aktuelle Zahlen'!G30","v":42},{"$f":"'aktuelle Zahlen'!H30","v":11},{"$f":"'aktuelle Zahlen'!J30","v":3}]
[{"$f":"'aktuelle Zahlen'!A29","v":"Sa"},{"$f":"'aktuelle Zahlen'!B29","v":"2024-03-02"},{"$f":"'aktuelle Zahlen'!C29","v":26},{"$f":"'aktuelle Zahlen'!D29","v":6},{"$f":"'aktuelle Zahlen'!E29","v":8},{"$f":"'aktuelle Zahlen'!F29","v":33},{"$f":"'aktuelle Zahlen'!G29","v":37},{"$f":"'aktuelle Zahlen'!H29","v":18},{"$f":"'aktuelle Zahlen'!J29","v":2}]
[{"$f":"'aktuelle Zahlen'!A28","v":"Mi"},{"$f":"'aktuelle Zahlen'!B28","v":"2024-02-28"},{"$f":"'aktuelle Zahlen'!C28","v":4},{"$f":"'aktuelle Zahlen'!D28","v":28},{"$f":"'aktuelle Zahlen'!E28","v":22},{"$f":"'aktuelle Zahlen'!F28","v":1},{"$f":"'aktuelle Zahlen'!G28","v":37},{"$f":"'aktuelle Zahlen'!H28","v":26},{"$f":"'aktuelle Zahlen'!J28","v":3}]
[{"$f":"'aktuelle Zahlen'!A27","v":"Sa"},{"$f":"'aktuelle Zahlen'!B27","v":"2024-02-24"},{"$f":"'aktuelle Zahlen'!C27","v":2},{"$f":"'aktuelle Zahlen'!D27","v":21},{"$f":"'aktuelle Zahlen'!E27","v":49},{"$f":"'aktuelle Zahlen'!F27","v":40},{"$f":"'aktuelle Zahlen'!G27","v":28},{"$f":"'aktuelle Zahlen'!H27","v":34},{"$f":"'aktuelle Zahlen'!J27","v":2}]
[{"$f":"'aktuelle Zahlen'!A26","v":"Mi"},{"$f":"'aktuelle Zahlen'!B26","v":"2024-02-21"},{"$f":"'aktuelle Zahlen'!C26","v":33},{"$f":"'aktuelle Zahlen'!D26","v":7},{"$f":"'aktuelle Zahlen'!E26","v":8},{"$f":"'aktuelle Zahlen'!F26","v":23},{"$f":"'aktuelle Zahlen'!G26","v":30},{"$f":"'aktuelle Zahlen'!H26","v":40},{"$f":"'aktuelle Zahlen'!J26","v":3}]
[{"$f":"'aktuelle Zahlen'!A25","v":"Sa"},{"$f":"'aktuelle Zahlen'!B25","v":"2024-02-17"},{"$f":"'aktuelle Zahlen'!C25","v":23},{"$f":"'aktuelle Zahlen'!D25","v":31},{"$f":"'aktuelle Zahlen'!E25","v":36},{"$f":"'aktuelle Zahlen'!F25","v":8},{"$f":"'aktuelle Zahlen'!G25","v":34},{"$f":"'aktuelle Zahlen'!H25","v":40},{"$f":"'aktuelle Zahlen'!J25","v":0}]
[{"$f":"'aktuelle Zahlen'!A24","v":"Mi"},{"$f":"'aktuelle Zahlen'!B24","v":"2024-02-14"},{"$f":"'aktuelle Zahlen'!C24","v":34},{"$f":"'aktuelle Zahlen'!D24","v":48},{"$f":"'aktuelle Zahlen'!E24","v":17},{"$f":"'aktuelle Zahlen'!F24","v":35},{"$f":"'aktuelle Zahlen'!G24","v":46},{"$f":"'aktuelle Zahlen'!H24","v":43},{"$f":"'aktuelle Zahlen'!J24","v":4}]
[{"$f":"'aktuelle Zahlen'!A23","v":"Sa"},{"$f":"'aktuelle Zahlen'!B23","v":"2024-02-10"},{"$f":"'aktuelle Zahlen'!C23","v":37},{"$f":"'aktuelle Zahlen'!D23","v":47},{"$f":"'aktuelle Zahlen'!E23","v":1},{"$f":"'aktuelle Zahlen'!F23","v":33},{"$f":"'aktuelle Zahlen'!G23","v":19},{"$f":"'aktuelle Zahlen'!H23","v":39},{"$f":"'aktuelle Zahlen'!J23","v":6}]
[{"$f":"'aktuelle Zahlen'!A22","v":"Mi"},{"$f":"'aktuelle Zahlen'!B22","v":"2024-02-07"},{"$f":"'aktuelle Zahlen'!C22","v":1},{"$f":"'aktuelle Zahlen'!D22","v":8},{"$f":"'aktuelle Zahlen'!E22","v":31},{"$f":"'aktuelle Zahlen'!F22","v":15},{"$f":"'aktuelle Zahlen'!G22","v":19},{"$f":"'aktuelle Zahlen'!H22","v":26},{"$f":"'aktuelle Zahlen'!J22","v":0}]
[{"$f":"'aktuelle Zahlen'!A21","v":"Sa"},{"$f":"'aktuelle Zahlen'!B21","v":"2024-02-03"},{"$f":"'aktuelle Zahlen'!C21","v":24},{"$f":"'aktuelle Zahlen'!D21","v":14},{"$f":"'aktuelle Zahlen'!E21","v":23},{"$f":"'aktuelle Zahlen'!F21","v":19},{"$f":"'aktuelle Zahlen'!G21","v":21},{"$f":"'aktuelle Zahlen'!H21","v":3},{"$f":"'aktuelle Zahlen'!J21","v":5}]
[{"$f":"'aktuelle Zahlen'!A20","v":"Mi"},{"$f":"'aktuelle Zahlen'!B20","v":"2024-01-31"},{"$f":"'aktuelle Zahlen'!C20","v":29},{"$f":"'aktuelle Zahlen'!D20","v":24},{"$f":"'aktuelle Zahlen'!E20","v":40},{"$f":"'aktuelle Zahlen'!F20","v":11},{"$f":"'aktuelle Zahlen'!G20","v":43},{"$f":"'aktuelle Zahlen'!H20","v":28},{"$f":"'aktuelle Zahlen'!J20","v":7}]
[{"$f":"'aktuelle Zahlen'!A19","v":"Sa"},{"$f":"'aktuelle Zahlen'!B19","v":"2024-01-27"},{"$f":"'aktuelle Zahlen'!C19","v":24},{"$f":"'aktuelle Zahlen'!D19","v":20},{"$f":"'aktuelle Zahlen'!E19","v":29},{"$f":"'aktuelle Zahlen'!F19","v":33},{"$f":"'aktuelle Zahlen'!G19","v":43},{"$f":"'aktuelle Zahlen'!H19","v":14},{"$f":"'aktuelle Zahlen'!J19","v":4}]
[{"$f":"'aktuelle Zahlen'!A18","v":"Mi"},{"$f":"'aktuelle Zahlen'!B18","v":"2024-01-24"},{"$f":"'aktuelle Zahlen'!C18","v":35},{"$f":"'aktuelle Zahlen'!D18","v":29},{"$f":"'aktuelle Zahlen'!E18","v":9},{"$f":"'aktuelle Zahlen'!F18","v":10},{"$f":"'aktuelle Zahlen'!G18","v":39},{"$f":"'aktuelle Zahlen'!H18","v":19},{"$f":"'aktuelle Zahlen'!J18","v":1}]
[{"$f":"'aktuelle Zahlen'!A17","v":"Sa"},{"$f":"'aktuelle Zahlen'!B17","v":"2024-01-20"},{"$f":"'aktuelle Zahlen'!C17","v":8},{"$f":"'aktuelle Zahlen'!D17","v":49},{"$f":"'aktuelle Zahlen'!E17","v":45},{"$f":"'aktuelle Zahlen'!F17","v":1},{"$f":"'aktuelle Zahlen'!G17","v":25},{"$f":"'aktuelle Zahlen'!H17","v":11},{"$f":"'aktuelle Zahlen'!J17","v":4}]
[{"$f":"'aktuelle Zahlen'!A16","v":"Mi"},{"$f":"'aktuelle Zahlen'!B16","v":"2024-01-17"},{"$f":"'aktuelle Zahlen'!C16","v":13},{"$f":"'aktuelle Zahlen'!D16","v":44},{"$f":"'aktuelle Zahlen'!E16","v":6},{"$f":"'aktuelle Zahlen'!F16","v":40},{"$f":"'aktuelle Zahlen'!G16","v":30},{"$f":"'aktuelle Zahlen'!H16","v":9},{"$f":"'aktuelle Zahlen'!J16","v":6}]
[{"$f":"'aktuelle Zahlen'!A15","v":"Sa"},{"$f":"'aktuelle Zahlen'!B15","v":"2024-01-13"},{"$f":"'aktuelle Zahlen'!C15","v":6},{"$f":"'aktuelle Zahlen'!D15","v":48},{"$f":"'aktuelle Zahlen'!E15","v":27},{"$f":"'aktuelle Zahlen'!F15","v":1},{"$f":"'aktuelle Zahlen'!G15","v":8},{"$f":"'aktuelle Zahlen'!H15","v":26},{"$f":"'aktuelle Zahlen'!J15","v":6}]
[{"$f":"'aktuelle Zahlen'!A14","v":"Mi"},{"$f":"'aktuelle Zahlen'!B14","v":"2024-01-10"},{"$f":"'aktuelle Zahlen'!C14","v":37},{"$f":"'aktuelle Zahlen'!D14","v":3},{"$f":"'aktuelle Zahlen'!E14","v":7},{"$f":"'aktuelle Zahlen'!F14","v":24},{"$f":"'aktuelle Zahlen'!G14","v":21},{"$f":"'aktuelle Zahlen'!H14","v":49},{"$f":"'aktuelle Zahlen'!J14","v":9}]
[{"$f":"'aktuelle Zahlen'!A13","v":"Sa"},{"$f":"'aktuelle Zahlen'!B13","v":"2024-01-06"},{"$f":"'aktuelle Zahlen'!C13","v":18},{"$f":"'aktuelle Zahlen'!D13","v":14},{"$f":"'aktuelle Zahlen'!E13","v":34},{"$f":"'aktuelle Zahlen'!F13","v":47},{"$f":"'aktuelle Zahlen'!G13","v":5},{"$f":"'aktuelle Zahlen'!H13","v":3},{"$f":"'aktuelle Zahlen'!J13","v":7}]
[{"$f":"'aktuelle Zahlen'!A12","v":"Mi"},{"$f":"'aktuelle Zahlen'!B12","v":"2024-01-03"},{"$f":"'aktuelle Zahlen'!C12","v":36},{"$f":"'aktuelle Zahlen'!D12","v":14},{"$f":"'aktuelle Zahlen'!E12","v":32},{"$f":"'aktuelle Zahlen'!F12","v":49},{"$f":"'aktuelle Zahlen'!G12","v":28},{"$f":"'aktuelle Zahlen'!H12","v":25},{"$f":"'aktuelle Zahlen'!J12","v":4}]
[{"$f":"'aktuelle Zahlen'!A155","v":0},{"$f":"'aktuelle Zahlen'!B155","v":"00:00:00"},{"$f":"'aktuelle Zahlen'!C155","v":0},{"$f":"'aktuelle Zahlen'!D155","v":0},{"$f":"'aktuelle Zahlen'!E155","v":0},{"$f":"'aktuelle Zahlen'!F155","v":0},{"$f":"'aktuelle Zahlen'!G155","v":0},{"$f":"'aktuelle Zahlen'!H155","v":0},{"$f":"'aktuelle Zahlen'!J155","v":0}]
[{"$f":"'aktuelle Zahlen'!A156","v":0},{"$f":"'aktuelle Zahlen'!B156","v":"00:00:00"},{"$f":"'aktuelle Zahlen'!C156","v":0},{"$f":"'aktuelle Zahlen'!D156","v":0},{"$f":"'aktuelle Zahlen'!E156","v":0},{"$f":"'aktuelle Zahlen'!F156","v":0},{"$f":"'aktuelle Zahlen'!G156","v":0},{"$f":"'aktuelle Zahlen'!H156","v":0},{"$f":"'aktuelle Zahlen'!J156","v":0}]
[{"$f":"'aktuelle Zahlen'!A157","v":0},{"$f":"'aktuelle Zahlen'!B157","v":"00:00:00"},{"$f":"'aktuelle Zahlen'!C157","v":0},{"$f":"'aktuelle Zahlen'!D157","v":0},{"$f":"'aktuelle Zahlen'!E157","v":0},{"$f":"'aktuelle Zahlen'!F157","v":0},{"$f":"'aktuelle Zahlen'!G157","v":0},{"$f":"'aktuelle Zahlen'!H157","v":0},{"$f":"'aktuelle Zahlen'!J157","v":0}]
[{"$f":"'aktuelle Zahlen'!A158","v":0},{"$f":"'aktuelle Zahlen'!B158","v":"00:00:00"},{"$f":"'aktuelle Zahlen'!C158","v":0},{"$f":"'aktuelle Zahlen'!D158","v":0},{"$f":"'aktuelle Zahlen'!E158","v":0},{"$f":"'aktuelle Zahlen'!F158","v":0},{"$f":"'aktuelle Zahlen'!G158","v":0},{"$f":"'aktuelle Zahlen'!H158","v":0},{"$f":"'aktuelle Zahlen'!J158","v":0}]
[{"$f":"'aktuelle Zahlen'!A159","v":0},{"$f":"'aktuelle Zahlen'!B159","v":"00:00:00"},{"$f":"'aktuelle Zahlen'!C159","v":0},{"$f":"'aktuelle Zahlen'!D159","v":0},{"$f":"'aktuelle Zahlen'!E159","v":0},{"$f":"'aktuelle Zahlen'!F159","v":0},{"$f":"'aktuelle Zahlen'!G159","v":0},{"$f":"'aktuelle Zahlen'!H159","v":0},{"$f":"'aktuelle Zahlen'!J159","v":0}]
[{"$f":"'aktuelle Zahlen'!A160","v":0},{"$f":"'aktuelle Zahlen'!B160","v":"00:00:00"},{"$f":"'aktuelle Zahlen'!C160","v":0},{"$f":"'aktuelle Zahlen'!D160","v":0},{"$f":"'aktuelle Zahlen'!E160","v":0},{"$f":"'aktuelle Zahlen'!F160","v":0},{"$f":"'aktuelle Zahlen'!G160","v":0},{"$f":"'aktuelle Zahlen'!H160","v":0},{"$f":"'aktuelle Zahlen'!J160","v":0}]
[{"$f":"'aktuelle Zahlen'!A161","v":0},{"$f":"'aktuelle Zahlen'!B161","v":"00:00:00"},{"$f":"'aktuelle Zahlen'!C161","v":0},{"$f":"'aktuelle Zahlen'!D161","v":0},{"$f":"'aktuelle Zahlen'!E161","v":0},{"$f":"'aktuelle Zahlen'!F161","v":0},{"$f":"'aktuelle Zahlen'!G161","v":0},{"$f":"'aktuelle Zahlen'!H161","v":0},{"$f":"'aktuelle Zahlen'!J161","v":0}]
[{"$f":"'aktuelle Zahlen'!A162","v":0},{"$f":"'aktuelle Zahlen'!B162","v":"00:00:00"},{"$f":"'aktuelle Zahlen'!C162","v":0},{"$f":"'aktuelle Zahlen'!D162","v":0},{"$f":"'aktuelle Zahlen'!E162","v":0},{"$f":"'aktuelle Zahlen'!F162","v":0},{"$f":"'aktuelle Zahlen'!G162","v":0},{"$f":"'aktuelle Zahlen'!H162","v":0},{"$f":"'aktuelle Zahlen'!J162","v":0}]
[{"$f":"'aktuelle Zahlen'!A163","v":0},{"$f":"'aktuelle Zahlen'!B163","v":"00:00:00"},{"$f":"'aktuelle Zahlen'!C163","v":0},{"$f":"'aktuelle Zahlen'!D163","v":0},{"$f":"'aktuelle Zahlen'!E163","v":0},{"$f":"'aktuelle Zahlen'!F163","v":0},{"$f":"'aktuelle Zahlen'!G163","v":0},{"$f":"'aktuelle Zahlen'!H163","v":0},{"$f":"'aktuelle Zahlen'!J163","v":0}]
[{"$f":"'aktuelle Zahlen'!A164","v":0},{"$f":"'aktuelle Zahlen'!B164","v":"00:00:00"},{"$f":"'aktuelle Zahlen'!C164","v":0},{"$f":"'aktuelle Zahlen'!D164","v":0},{"$f":"'aktuelle Zahlen'!E164","v":0},{"$f":"'aktuelle Zahlen'!F164","v":0},{"$f":"'aktuelle Zahlen'!G164","v":0},{"$f":"'aktuelle Zahlen'!H164","v":0},{"$f":"'aktuelle Zahlen'!J164","v":0}]
[{"$f":"'aktuelle Zahlen'!A165","v":0},{"$f":"'aktuelle Zahlen'!B165","v":"00:00:00"},{"$f":"'aktuelle Zahlen'!C165","v":0},{"$f":"'aktuelle Zahlen'!D165","v":0},{"$f":"'aktuelle Zahlen'!E165","v":0},{"$f":"'aktuelle Zahlen'!F165","v":0},{"$f":"'aktuelle Zahlen'!G165","v":0},{"$f":"'aktuelle Zahlen'!H165","v":0},{"$f":"'aktuelle Zahlen'!J165","v":0}]
[{"$f":"'aktuelle Zahlen'!A166","v":0},{"$f":"'aktuelle Zahlen'!B166","v":"00:00:00"},{"$f":"'aktuelle Zahlen'!C166","v":0},{"$f":"'aktuelle Zahlen'!D166","v":0},{"$f":"'aktuelle Zahlen'!E166","v":0},{"$f":"'aktuelle Zahlen'!F166","v":0},{"$f":"'aktuelle Zahlen'!G166","v":0},{"$f":"'aktuelle Zahlen'!H166","v":0},{"$f":"'aktuelle Zahlen'!J166","v":0}]
[{"$f":"'aktuelle Zahlen'!A167","v":0},{"$f":"'aktuelle Zahlen'!B167","v":"00:00:00"},{"$f":"'aktuelle Zahlen'!C167","v":0},{"$f":"'aktuelle Zahlen'!D167","v":0},{"$f":"'aktuelle Zahlen'!E167","v":0},{"$f":"'aktuelle Zahlen'!F167","v":0},{"$f":"'aktuelle Zahlen'!G167","v":0},{"$f":"'aktuelle Zahlen'!H167","v":0},{"$f":"'aktuelle Zahlen'!J167","v":0}]
[{"$f":"'aktuelle Zahlen'!A168","v":0},{"$f":"'aktuelle Zahlen'!B168","v":"00:00:00"},{"$f":"'aktuelle Zahlen'!C168","v":0},{"$f":"'aktuelle Zahlen'!D168","v":0},{"$f":"'aktuelle Zahlen'!E168","v":0},{"$f":"'aktuelle Zahlen'!F168","v":0},{"$f":"'aktuelle Zahlen'!G168","v":0},{"$f":"'aktuelle Zahlen'!H168","v":0},{"$f":"'aktuelle Zahlen'!J168","v":0}]
[{"$f":"'aktuelle Zahlen'!A169","v":0},{"$f":"'aktuelle Zahlen'!B169","v":"00:00:00"},{"$f":"'aktuelle Zahlen'!C169","v":0},{"$f":"'aktuelle Zahlen'!D169","v":0},{"$f":"'aktuelle Zahlen'!E169","v":0},{"$f":"'aktuelle Zahlen'!F169","v":0},{"$f":"'aktuelle Zahlen'!G169","v":0},{"$f":"'aktuelle Zahlen'!H169","v":0},{"$f":"'aktuelle Zahlen'!J169","v":0}]
[{"$f":"'aktuelle Zahlen'!A170","v":0},{"$f":"'aktuelle Zahlen'!B170","v":"00:00:00"},{"$f":"'aktuelle Zahlen'!C170","v":0},{"$f":"'aktuelle Zahlen'!D170","v":0},{"$f":"'aktuelle Zahlen'!E170","v":0},{"$f":"'aktuelle Zahlen'!F170","v":0},{"$f":"'aktuelle Zahlen'!G170","v":0},{"$f":"'aktuelle Zahlen'!H170","v":0},{"$f":"'aktuelle Zahlen'!J170","v":0}]
[{"$f":"'aktuelle Zahlen'!A171","v":0},{"$f":"'aktuelle Zahlen'!B171","v":"00:00:00"},{"$f":"'aktuelle Zahlen'!C171","v":0},{"$f":"'aktuelle Zahlen'!D171","v":0},{"$f":"'aktuelle Zahlen'!E171","v":0},{"$f":"'aktuelle Zahlen'!F171","v":0},{"$f":"'aktuelle Zahlen'!G171","v":0},{"$f":"'aktuelle Zahlen'!H171","v":0},{"$f":"'aktuelle Zahlen'!J171","v":0}]
[{"$f":"'aktuelle Zahlen'!A172","v":0},{"$f":"'aktuelle Zahlen'!B172","v":"00:00:00"},{"$f":"'aktuelle Zahlen'!C172","v":0},{"$f":"'aktuelle Zahlen'!D172","v":0},{"$f":"'aktuelle Zahlen'!E172","v":0},{"$f":"'aktuelle Zahlen'!F172","v":0},{"$f":"'aktuelle Zahlen'!G172","v":0},{"$f":"'aktuelle Zahlen'!H172","v":0},{"$f":"'aktuelle Zahlen'!J172","v":0}]
[{"$f":"'aktuelle Zahlen'!A173","v":0},{"$f":"'aktuelle Zahlen'!B173","v":"00:00:00"},{"$f":"'aktuelle Zahlen'!C173","v":0},{"$f":"'aktuelle Zahlen'!D173","v":0},{"$f":"'aktuelle Zahlen'!E173","v":0},{"$f":"'aktuelle Zahlen'!F173","v":0},{"$f":"'aktuelle Zahlen'!G173","v":0},{"$f":"'aktuelle Zahlen'!H173","v":0},{"$f":"'aktuelle Zahlen'!J173","v":0}]
[{"$f":"'aktuelle Zahlen'!A174","v":0},{"$f":"'aktuelle Zahlen'!B174","v":"00:00:00"},{"$f":"'aktuelle Zahlen'!C174","v":0},{"$f":"'aktuelle Zahlen'!D174","v":0},{"$f":"'aktuelle Zahlen'!E174","v":0},{"$f":"'aktuelle Zahlen'!F174","v":0},{"$f":"'aktuelle Zahlen'!G174","v":0},{"$f":"'aktuelle Zahlen'!H174","v":0},{"$f":"'aktuelle Zahlen'!J174","v":0}]
[{"$f":"'aktuelle Zahlen'!A175","v":0},{"$f":"'aktuelle Zahlen'!B175","v":"00:00:00"},{"$f":"'aktuelle Zahlen'!C175","v":0},{"$f":"'aktuelle Zahlen'!D175","v":0},{"$f":"'aktuelle Zahlen'!E175","v":0},{"$f":"'aktuelle Zahlen'!F175","v":0},{"$f":"'aktuelle Zahlen'!G175","v":0},{"$f":"'aktuelle Zahlen'!H175","v":0},{"$f":"'aktuelle Zahlen'!J175","v":0}]
[{"$f":"'aktuelle Zahlen'!A176","v":0},{"$f":"'aktuelle Zahlen'!B176","v":"00:00:00"},{"$f":"'aktuelle Zahlen'!C176","v":0},{"$f":"'aktuelle Zahlen'!D176","v":0},{"$f":"'aktuelle Zahlen'!E176","v":0},{"$f":"'aktuelle Zahlen'!F176","v":0},{"$f":"'aktuelle Zahlen'!G176","v":0},{"$f":"'aktuelle Zahlen'!H176","v":0},{"$f":"'aktuelle Zahlen'!J176","v":0}]
[{"$f":"'aktuelle Zahlen'!A177","v":0},{"$f":"'aktuelle Zahlen'!B177","v":"00:00:00"},{"$f":"'aktuelle Zahlen'!C177","v":0},{"$f":"'aktuelle Zahlen'!D177","v":0},{"$f":"'aktuelle Zahlen'!E177","v":0},{"$f":"'aktuelle Zahlen'!F177","v":0},{"$f":"'aktuelle Zahlen'!G177","v":0},{"$f":"'aktuelle Zahlen'!H177","v":0},{"$f":"'aktuelle Zahlen'!J177","v":0}]
[{"$f":"'aktuelle Zahlen'!A178","v":0},{"$f":"'aktuelle Zahlen'!B178","v":"00:00:00"},{"$f":"'aktuelle Zahlen'!C178","v":0},{"$f":"'aktuelle Zahlen'!D178","v":0},{"$f":"'aktuelle Zahlen'!E178","v":0},{"$f":"'aktuelle Zahlen'!F178","v":0},{"$f":"'aktuelle Zahlen'!G178","v":0},{"$f":"'aktuelle Zahlen'!H178","v":0},{"$f":"'aktuelle Zahlen'!J178","v":0}]
[{"$f":"'aktuelle Zahlen'!A179","v":0},{"$f":"'aktuelle Zahlen'!B179","v":"00:00:00"},{"$f":"'aktuelle Zahlen'!C179","v":0},{"$f":"'aktuelle Zahlen'!D179","v":0},{"$f":"'aktuelle Zahlen'!E179","v":0},{"$f":"'aktuelle Zahlen'!F179","v":0},{"$f":"'aktuelle Zahlen'!G179","v":0},{"$f":"'aktuelle Zahlen'!H179","v":0},{"$f":"'aktuelle Zahlen'!J179","v":0}]
[{"$f":"'aktuelle Zahlen'!A180","v":0},{"$f":"'aktuelle Zahlen'!B180","v":"00:00:00"},{"$f":"'aktuelle Zahlen'!C180","v":0},{"$f":"'aktuelle Zahlen'!D180","v":0},{"$f":"'aktuelle Zahlen'!E180","v":0},{"$f":"'aktuelle Zahlen'!F180","v":0},{"$f":"'aktuelle Zahlen'!G180","v":0},{"$f":"'aktuelle Zahlen'!H180","v":0},{"$f":"'aktuelle Zahlen'!J180","v":0}]
[{"$f":"'aktuelle Zahlen'!A181","v":0},{"$f":"'aktuelle Zahlen'!B181","v":"00:00:00"},{"$f":"'aktuelle Zahlen'!C181","v":0},{"$f":"'aktuelle Zahlen'!D181","v":0},{"$f":"'aktuelle Zahlen'!E181","v":0},{"$f":"'aktuelle Zahlen'!F181","v":0},{"$f":"'aktuelle Zahlen'!G181","v":0},{"$f":"'aktuelle Zahlen'!H181","v":0},{"$f":"'aktuelle Zahlen'!J181","v":0}]
[{"$f":"'aktuelle Zahlen'!A182","v":0},{"$f":"'aktuelle Zahlen'!B182","v":"00:00:00"},{"$f":"'aktuelle Zahlen'!C182","v":0},{"$f":"'aktuelle Zahlen'!D182","v":0},{"$f":"'aktuelle Zahlen'!E182","v":0},{"$f":"'aktuelle Zahlen'!F182","v":0},{"$f":"'aktuelle Zahlen'!G182","v":0},{"$f":"'aktuelle Zahlen'!H182","v":0},{"$f":"'aktuelle Zahlen'!J182","v":0}]
[{"$f":"'aktuelle Zahlen'!A183","v":0},{"$f":"'aktuelle Zahlen'!B183","v":"00:00:00"},{"$f":"'aktuelle Zahlen'!C183","v":0},{"$f":"'aktuelle Zahlen'!D183","v":0},{"$f":"'aktuelle Zahlen'!E183","v":0},{"$f":"'aktuelle Zahlen'!F183","v":0},{"$f":"'aktuelle Zahlen'!G183","v":0},{"$f":"'aktuelle Zahlen'!H183","v":0},{"$f":"'aktuelle Zahlen'!J183","v":0}]
[{"$f":"'aktuelle Zahlen'!A184","v":0},{"$f":"'aktuelle Zahlen'!B184","v":"00:00:00"},{"$f":"'aktuelle Zahlen'!C184","v":0},{"$f":"'aktuelle Zahlen'!D184","v":0},{"$f":"'aktuelle Zahlen'!E184","v":0},{"$f":"'aktuelle Zahlen'!F184","v":0},{"$f":"'aktuelle Zahlen'!G184","v":0},{"$f":"'aktuelle Zahlen'!H184","v":0},{"$f":"'aktuelle Zahlen'!J184","v":0}]
[{"$f":"'aktuelle Zahlen'!A185","v":0},{"$f":"'aktuelle Zahlen'!B185","v":"00:00:00"},{"$f":"'aktuelle Zahlen'!C185","v":0},{"$f":"'aktuelle Zahlen'!D185","v":0},{"$f":"'aktuelle Zahlen'!E185","v":0},{"$f":"'aktuelle Zahlen'!F185","v":0},{"$f":"'aktuelle Zahlen'!G185","v":0},{"$f":"'aktuelle Zahlen'!H185","v":0},{"$f":"'aktuelle Zahlen'!J185","v":0}]
[{"$f":"'aktuelle Zahlen'!A186","v":0},{"$f":"'aktuelle Zahlen'!B186","v":"00:00:00"},{"$f":"'aktuelle Zahlen'!C186","v":0},{"$f":"'aktuelle Zahlen'!D186","v":0},{"$f":"'aktuelle Zahlen'!E186","v":0},{"$f":"'aktuelle Zahlen'!F186","v":0},{"$f":"'aktuelle Zahlen'!G186","v":0},{"$f":"'aktuelle Zahlen'!H186","v":0},{"$f":"'aktuelle Zahlen'!J186","v":0}]
[{"$f":"'aktuelle Zahlen'!A187","v":0},{"$f":"'aktuelle Zahlen'!B187","v":"00:00:00"},{"$f":"'aktuelle Zahlen'!C187","v":0},{"$f":"'aktuelle Zahlen'!D187","v":0},{"$f":"'aktuelle Zahlen'!E187","v":0},{"$f":"'aktuelle Zahlen'!F187","v":0},{"$f":"'aktuelle Zahlen'!G187","v":0},{"$f":"'aktuelle Zahlen'!H187","v":0},{"$f":"'aktuelle Zahlen'!J187","v":0}]
[{"$f":"'aktuelle Zahlen'!A188","v":0},{"$f":"'aktuelle Zahlen'!B188","v":"00:00:00"},{"$f":"'aktuelle Zahlen'!C188","v":0},{"$f":"'aktuelle Zahlen'!D188","v":0},{"$f":"'aktuelle Zahlen'!E188","v":0},{"$f":"'aktuelle Zahlen'!F188","v":0},{"$f":"'aktuelle Zahlen'!G188","v":0},{"$f":"'aktuelle Zahlen'!H188","v":0},{"$f":"'aktuelle Zahlen'!J188","v":0}]
[{"$f":"'aktuelle Zahlen'!A189","v":0},{"$f":"'aktuelle Zahlen'!B189","v":"00:00:00"},{"$f":"'aktuelle Zahlen'!C189","v":0},{"$f":"'aktuelle Zahlen'!D189","v":0},{"$f":"'aktuelle Zahlen'!E189","v":0},{"$f":"'aktuelle Zahlen'!F189","v":0},{"$f":"'aktuelle Zahlen'!G189","v":0},{"$f":"'aktuelle Zahlen'!H189","v":0},{"$f":"'aktuelle Zahlen'!J189","v":0}]
[{"$f":"'aktuelle Zahlen'!A190","v":0},{"$f":"'aktuelle Zahlen'!B190","v":"00:00:00"},{"$f":"'aktuelle Zahlen'!C190","v":0},{"$f":"'aktuelle Zahlen'!D190","v":0},{"$f":"'aktuelle Zahlen'!E190","v":0},{"$f":"'aktuelle Zahlen'!F190","v":0},{"$f":"'aktuelle Zahlen'!G190","v":0},{"$f":"'aktuelle Zahlen'!H190","v":0},{"$f":"'aktuelle Zahlen'!J190","v":0}]
[{"$f":"'aktuelle Zahlen'!A191","v":0},{"$f":"'aktuelle Zahlen'!B191","v":"00:00:00"},{"$f":"'aktuelle Zahlen'!C191","v":0},{"$f":"'aktuelle Zahlen'!D191","v":0},{"$f":"'aktuelle Zahlen'!E191","v":0},{"$f":"'aktuelle Zahlen'!F191","v":0},{"$f":"'aktuelle Zahlen'!G191","v":0},{"$f":"'aktuelle Zahlen'!H191","v":0},{"$f":"'aktuelle Zahlen'!J191","v":0}]
[{"$f":"'aktuelle Zahlen'!A192","v":0},{"$f":"'aktuelle Zahlen'!B192","v":"00:00:00"},{"$f":"'aktuelle Zahlen'!C192","v":0},{"$f":"'aktuelle Zahlen'!D192","v":0},{"$f":"'aktuelle Zahlen'!E192","v":0},{"$f":"'aktuelle Zahlen'!F192","v":0},{"$f":"'aktuelle Zahlen'!G192","v":0},{"$f":"'aktuelle Zahlen'!H192","v":0},{"$f":"'aktuelle Zahlen'!J192","v":0}]
[{"$f":"'aktuelle Zahlen'!A193","v":0},{"$f":"'aktuelle Zahlen'!B193","v":"00:00:00"},{"$f":"'aktuelle Zahlen'!C193","v":0},{"$f":"'aktuelle Zahlen'!D193","v":0},{"$f":"'aktuelle Zahlen'!E193","v":0},{"$f":"'aktuelle Zahlen'!F193","v":0},{"$f":"'aktuelle Zahlen'!G193","v":0},{"$f":"'aktuelle Zahlen'!H193","v":0},{"$f":"'aktuelle Zahlen'!J193","v":0}]
[{"$f":"'aktuelle Zahlen'!A194","v":0},{"$f":"'aktuelle Zahlen'!B194","v":"00:00:00"},{"$f":"'aktuelle Zahlen'!C194","v":0},{"$f":"'aktuelle Zahlen'!D194","v":0},{"$f":"'aktuelle Zahlen'!E194","v":0},{"$f":"'aktuelle Zahlen'!F194","v":0},{"$f":"'aktuelle Zahlen'!G194","v":0},{"$f":"'aktuelle Zahlen'!H194","v":0},{"$f":"'aktuelle Zahlen'!J194","v":0}]
[{"$f":"'aktuelle Zahlen'!A195","v":0},{"$f":"'aktuelle Zahlen'!B195","v":"00:00:00"},{"$f":"'aktuelle Zahlen'!C195","v":0},{"$f":"'aktuelle Zahlen'!D195","v":0},{"$f":"'aktuelle Zahlen'!E195","v":0},{"$f":"'aktuelle Zahlen'!F195","v":0},{"$f":"'aktuelle Zahlen'!G195","v":0},{"$f":"'aktuelle Zahlen'!H195","v":0},{"$f":"'aktuelle Zahlen'!J195","v":0}]
[{"$f":"'aktuelle Zahlen'!A196","v":0},{"$f":"'aktuelle Zahlen'!B196","v":"00:00:00"},{"$f":"'aktuelle Zahlen'!C196","v":0},{"$f":"'aktuelle Zahlen'!D196","v":0},{"$f":"'aktuelle Zahlen'!E196","v":0},{"$f":"'aktuelle Zahlen'!F196","v":0},{"$f":"'aktuelle Zahlen'!G196","v":0},{"$f":"'aktuelle Zahlen'!H196","v":0},{"$f":"'aktuelle Zahlen'!J196","v":0}]
[{"$f":"'aktuelle Zahlen'!A197","v":0},{"$f":"'aktuelle Zahlen'!B197","v":"00:00:00"},{"$f":"'aktuelle Zahlen'!C197","v":0},{"$f":"'aktuelle Zahlen'!D197","v":0},{"$f":"'aktuelle Zahlen'!E197","v":0},{"$f":"'aktuelle Zahlen'!F197","v":0},{"$f":"'aktuelle Zahlen'!G197","v":0},{"$f":"'aktuelle Zahlen'!H197","v":0},{"$f":"'aktuelle Zahlen'!J197","v":0}]
[{"$f":"'aktuelle Zahlen'!A198","v":0},{"$f":"'aktuelle Zahlen'!B198","v":"00:00:00"},{"$f":"'aktuelle Zahlen'!C198","v":0},{"$f":"'aktuelle Zahlen'!D198","v":0},{"$f":"'aktuelle Zahlen'!E198","v":0},{"$f":"'aktuelle Zahlen'!F198","v":0},{"$f":"'aktuelle Zahlen'!G198","v":0},{"$f":"'aktuelle Zahlen'!H198","v":0},{"$f":"'aktuelle Zahlen'!J198","v":0}]
[{"$f":"'aktuelle Zahlen'!A199","v":0},{"$f":"'aktuelle Zahlen'!B199","v":"00:00:00"},{"$f":"'aktuelle Zahlen'!C199","v":0},{"$f":"'aktuelle Zahlen'!D199","v":0},{"$f":"'aktuelle Zahlen'!E199","v":0},{"$f":"'aktuelle Zahlen'!F199","v":0},{"$f":"'aktuelle Zahlen'!G199","v":0},{"$f":"'aktuelle Zahlen'!H199","v":0},{"$f":"'aktuelle Zahlen'!J199","v":0}]
[{"$f":"'aktuelle Zahlen'!A200","v":0},{"$f":"'aktuelle Zahlen'!B200","v":"00:00:00"},{"$f":"'aktuelle Zahlen'!C200","v":0},{"$f":"'aktuelle Zahlen'!D200","v":0},{"$f":"'aktuelle Zahlen'!E200","v":0},{"$f":"'aktuelle Zahlen'!F200","v":0},{"$f":"'aktuelle Zahlen'!G200","v":0},{"$f":"'aktuelle Zahlen'!H200","v":0},{"$f":"'aktuelle Zahlen'!J200","v":0}]
[{"$f":"'aktuelle Zahlen'!A201","v":0},{"$f":"'aktuelle Zahlen'!B201","v":"00:00:00"},{"$f":"'aktuelle Zahlen'!C201","v":0},{"$f":"'aktuelle Zahlen'!D201","v":0},{"$f":"'aktuelle Zahlen'!E201","v":0},{"$f":"'aktuelle Zahlen'!F201","v":0},{"$f":"'aktuelle Zahlen'!G201","v":0},{"$f":"'aktuelle Zahlen'!H201","v":0},{"$f":"'aktuelle Zahlen'!J201","v":0}]
[{"$f":"'aktuelle Zahlen'!A202","v":0},{"$f":"'aktuelle Zahlen'!B202","v":"00:00:00"},{"$f":"'aktuelle Zahlen'!C202","v":0},{"$f":"'aktuelle Zahlen'!D202","v":0},{"$f":"'aktuelle Zahlen'!E202","v":0},{"$f":"'aktuelle Zahlen'!F202","v":0},{"$f":"'aktuelle Zahlen'!G202","v":0},{"$f":"'aktuelle Zahlen'!H202","v":0},{"$f":"'aktuelle Zahlen'!J202","v":0}]
[{"$f":"'aktuelle Zahlen'!A203","v":0},{"$f":"'aktuelle Zahlen'!B203","v":"00:00:00"},{"$f":"'aktuelle Zahlen'!C203","v":0},{"$f":"'aktuelle Zahlen'!D203","v":0},{"$f":"'aktuelle Zahlen'!E203","v":0},{"$f":"'aktuelle Zahlen'!F203","v":0},{"$f":"'aktuelle Zahlen'!G203","v":0},{"$f":"'aktuelle Zahlen'!H203","v":0},{"$f":"'aktuelle Zahlen'!J203","v":0}]
[{"$f":"'aktuelle Zahlen'!A204","v":0},{"$f":"'aktuelle Zahlen'!B204","v":"00:00:00"},{"$f":"'aktuelle Zahlen'!C204","v":0},{"$f":"'aktuelle Zahlen'!D204","v":0},{"$f":"'aktuelle Zahlen'!E204","v":0},{"$f":"'aktuelle Zahlen'!F204","v":0},{"$f":"'aktuelle Zahlen'!G204","v":0},{"$f":"'aktuelle Zahlen'!H204","v":0},{"$f":"'aktuelle Zahlen'!J204","v":0}]
[{"$f":"'aktuelle Zahlen'!A205","v":0},{"$f":"'aktuelle Zahlen'!B205","v":"00:00:00"},{"$f":"'aktuelle Zahlen'!C205","v":0},{"$f":"'aktuelle Zahlen'!D205","v":0},{"$f":"'aktuelle Zahlen'!E205","v":0},{"$f":"'aktuelle Zahlen'!F205","v":0},{"$f":"'aktuelle Zahlen'!G205","v":0},{"$f":"'aktuelle Zahlen'!H205","v":0},{"$f":"'aktuelle Zahlen'!J205","v":0}]
[{"$f":"'aktuelle Zahlen'!A206","v":0},{"$f":"'aktuelle Zahlen'!B206","v":"00:00:00"},{"$f":"'aktuelle Zahlen'!C206","v":0},{"$f":"'aktuelle Zahlen'!D206","v":0},{"$f":"'aktuelle Zahlen'!E206","v":0},{"$f":"'aktuelle Zahlen'!F206","v":0},{"$f":"'aktuelle Zahlen'!G206","v":0},{"$f":"'aktuelle Zahlen'!H206","v":0},{"$f":"'aktuelle Zahlen'!J206","v":0}]
[{"$f":"'aktuelle Zahlen'!A207","v":0},{"$f":"'aktuelle Zahlen'!B207","v":"00:00:00"},{"$f":"'aktuelle Zahlen'!C207","v":0},{"$f":"'aktuelle Zahlen'!D207","v":0},{"$f":"'aktuelle Zahlen'!E207","v":0},{"$f":"'aktuelle Zahlen'!F207","v":0},{"$f":"'aktuelle Zahlen'!G207","v":0},{"$f":"'aktuelle Zahlen'!H207","v":0},{"$f":"'aktuelle Zahlen'!J207","v":0}]
[{"$f":"'aktuelle Zahlen'!A208","v":0},{"$f":"'aktuelle Zahlen'!B208","v":"00:00:00"},{"$f":"'aktuelle Zahlen'!C208","v":0},{"$f":"'aktuelle Zahlen'!D208","v":0},{"$f":"'aktuelle Zahlen'!E208","v":0},{"$f":"'aktuelle Zahlen'!F208","v":0},{"$f":"'aktuelle Zahlen'!G208","v":0},{"$f":"'aktuelle Zahlen'!H208","v":0},{"$f":"'aktuelle Zahlen'!J208","v":0}]
[{"$f":"'aktuelle Zahlen'!A209","v":0},{"$f":"'aktuelle Zahlen'!B209","v":"00:00:00"},{"$f":"'aktuelle Zahlen'!C209","v":0},{"$f":"'aktuelle Zahlen'!D209","v":0},{"$f":"'aktuelle Zahlen'!E209","v":0},{"$f":"'aktuelle Zahlen'!F209","v":0},{"$f":"'aktuelle Zahlen'!G209","v":0},{"$f":"'aktuelle Zahlen'!H209","v":0},{"$f":"'aktuelle Zahlen'!J209","v":0}]
[{"$f":"'aktuelle Zahlen'!A210","v":0},{"$f":"'aktuelle Zahlen'!B210","v":"00:00:00"},{"$f":"'aktuelle Zahlen'!C210","v":0},{"$f":"'aktuelle Zahlen'!D210","v":0},{"$f":"'aktuelle Zahlen'!E210","v":0},{"$f":"'aktuelle Zahlen'!F210","v":0},{"$f":"'aktuelle Zahlen'!G210","v":0},{"$f":"'aktuelle Zahlen'!H210","v":0},{"$f":"'aktuelle Zahlen'!J210","v":0}]
[{"$f":"'aktuelle Zahlen'!A211","v":0},{"$f":"'aktuelle Zahlen'!B211","v":"00:00:00"},{"$f":"'aktuelle Zahlen'!C211","v":0},{"$f":"'aktuelle Zahlen'!D211","v":0},{"$f":"'aktuelle Zahlen'!E211","v":0},{"$f":"'aktuelle Zahlen'!F211","v":0},{"$f":"'aktuelle Zahlen'!G211","v":0},{"$f":"'aktuelle Zahlen'!H211","v":0},{"$f":"'aktuelle Zahlen'!J211","v":0}]
[{"$f":"'aktuelle Zahlen'!A212","v":0},{"$f":"'aktuelle Zahlen'!B212","v":"00:00:00"},{"$f":"'aktuelle Zahlen'!C212","v":0},{"$f":"'aktuelle Zahlen'!D212","v":0},{"$f":"'aktuelle Zahlen'!E212","v":0},{"$f":"'aktuelle Zahlen'!F212","v":0},{"$f":"'aktuelle Zahlen'!G212","v":0},{"$f":"'aktuelle Zahlen'!H212","v":0},{"$f":"'aktuelle Zahlen'!J212","v":0}]
[{"$f":"'aktuelle Zahlen'!A213","v":0},{"$f":"'aktuelle Zahlen'!B213","v":"00:00:00"},{"$f":"'aktuelle Zahlen'!C213","v":0},{"$f":"'aktuelle Zahlen'!D213","v":0},{"$f":"'aktuelle Zahlen'!E213","v":0},{"$f":"'aktuelle Zahlen'!F213","v":0},{"$f":"'aktuelle Zahlen'!G213","v":0},{"$f":"'aktuelle Zahlen'!H213","v":0},{"$f":"'aktuelle Zahlen'!J213","v":0}]
[{"$f":"'aktuelle Zahlen'!A214","v":0},{"$f":"'aktuelle Zahlen'!B214","v":"00:00:00"},{"$f":"'aktuelle Zahlen'!C214","v":0},{"$f":"'aktuelle Zahlen'!D214","v":0},{"$f":"'aktuelle Zahlen'!E214","v":0},{"$f":"'aktuelle Zahlen'!F214","v":0},{"$f":"'aktuelle Zahlen'!G214","v":0},{"$f":"'aktuelle Zahlen'!H214","v":0},{"$f":"'aktuelle Zahlen'!J214","v":0}]
[{"$f":"'aktuelle Zahlen'!A215","v":0},{"$f":"'aktuelle Zahlen'!B215","v":"00:00:00"},{"$f":"'aktuelle Zahlen'!C215","v":0},{"$f":"'aktuelle Zahlen'!D215","v":0},{"$f":"'aktuelle Zahlen'!E215","v":0},{"$f":"'aktuelle Zahlen'!F215","v":0},{"$f":"'aktuelle Zahlen'!G215","v":0},{"$f":"'aktuelle Zahlen'!H215","v":0},{"$f":"'aktuelle Zahlen'!J215","v":0}]
[{"$f":"'aktuelle Zahlen'!A216","v":0},{"$f":"'aktuelle Zahlen'!B216","v":"00:00:00"},{"$f":"'aktuelle Zahlen'!C216","v":0},{"$f":"'aktuelle Zahlen'!D216","v":0},{"$f":"'aktuelle Zahlen'!E216","v":0},{"$f":"'aktuelle Zahlen'!F216","v":0},{"$f":"'aktuelle Zahlen'!G216","v":0},{"$f":"'aktuelle Zahlen'!H216","v":0},{"$f":"'aktuelle Zahlen'!J216","v":0}]
[{"$f":"'aktuelle Zahlen'!A217","v":0},{"$f":"'aktuelle Zahlen'!B217","v":"00:00:00"},{"$f":"'aktuelle Zahlen'!C217","v":0},{"$f":"'aktuelle Zahlen'!D217","v":0},{"$f":"'aktuelle Zahlen'!E217","v":0},{"$f":"'aktuelle Zahlen'!F217","v":0},{"$f":"'aktuelle Zahlen'!G217","v":0},{"$f":"'aktuelle Zahlen'!H217","v":0},{"$f":"'aktuelle Zahlen'!J217","v":0}]
[{"$f":"'aktuelle Zahlen'!A218","v":0},{"$f":"'aktuelle Zahlen'!B218","v":"00:00:00"},{"$f":"'aktuelle Zahlen'!C218","v":0},{"$f":"'aktuelle Zahlen'!D218","v":0},{"$f":"'aktuelle Zahlen'!E218","v":0},{"$f":"'aktuelle Zahlen'!F218","v":0},{"$f":"'aktuelle Zahlen'!G218","v":0},{"$f":"'aktuelle Zahlen'!H218","v":0},{"$f":"'aktuelle Zahlen'!J218","v":0}]
[{"$f":"'aktuelle Zahlen'!A219","v":0},{"$f":"'aktuelle Zahlen'!B219","v":"00:00:00"},{"$f":"'aktuelle Zahlen'!C219","v":0},{"$f":"'aktuelle Zahlen'!D219","v":0},{"$f":"'aktuelle Zahlen'!E219","v":0},{"$f":"'aktuelle Zahlen'!F219","v":0},{"$f":"'aktuelle Zahlen'!G219","v":0},{"$f":"'aktuelle Zahlen'!H219","v":0},{"$f":"'aktuelle Zahlen'!J219","v":0}]
[{"$f":"'aktuelle Zahlen'!A220","v":0},{"$f":"'aktuelle Zahlen'!B220","v":"00:00:00"},{"$f":"'aktuelle Zahlen'!C220","v":0},{"$f":"'aktuelle Zahlen'!D220","v":0},{"$f":"'aktuelle Zahlen'!E220","v":0},{"$f":"'aktuelle Zahlen'!F220","v":0},{"$f":"'aktuelle Zahlen'!G220","v":0},{"$f":"'aktuelle Zahlen'!H220","v":0},{"$f":"'aktuelle Zahlen'!J220","v":0}]
[{"$f":"'aktuelle Zahlen'!A221","v":0},{"$f":"'aktuelle Zahlen'!B221","v":"00:00:00"},{"$f":"'aktuelle Zahlen'!C221","v":0},{"$f":"'aktuelle Zahlen'!D221","v":0},{"$f":"'aktuelle Zahlen'!E221","v":0},{"$f":"'aktuelle Zahlen'!F221","v":0},{"$f":"'aktuelle Zahlen'!G221","v":0},{"$f":"'aktuelle Zahlen'!H221","v":0},{"$f":"'aktuelle Zahlen'!J221","v":0}]
[{"$f":"'aktuelle Zahlen'!A222","v":0},{"$f":"'aktuelle Zahlen'!B222","v":"00:00:00"},{"$f":"'aktuelle Zahlen'!C222","v":0},{"$f":"'aktuelle Zahlen'!D222","v":0},{"$f":"'aktuelle Zahlen'!E222","v":0},{"$f":"'aktuelle Zahlen'!F222","v":0},{"$f":"'aktuelle Zahlen'!G222","v":0},{"$f":"'aktuelle Zahlen'!H222","v":0},{"$f":"'aktuelle Zahlen'!J222","v":0}]
[{"$f":"'aktuelle Zahlen'!A223","v":0},{"$f":"'aktuelle Zahlen'!B223","v":"00:00:00"},{"$f":"'aktuelle Zahlen'!C223","v":0},{"$f":"'aktuelle Zahlen'!D223","v":0},{"$f":"'aktuelle Zahlen'!E223","v":0},{"$f":"'aktuelle Zahlen'!F223","v":0},{"$f":"'aktuelle Zahlen'!G223","v":0},{"$f":"'aktuelle Zahlen'!H223","v":0},{"$f":"'aktuelle Zahlen'!J223","v":0}]
[{"$f":"'aktuelle Zahlen'!A224","v":0},{"$f":"'aktuelle Zahlen'!B224","v":"00:00:00"},{"$f":"'aktuelle Zahlen'!C224","v":0},{"$f":"'aktuelle Zahlen'!D224","v":0},{"$f":"'aktuelle Zahlen'!E224","v":0},{"$f":"'aktuelle Zahlen'!F224","v":0},{"$f":"'aktuelle Zahlen'!G224","v":0},{"$f":"'aktuelle Zahlen'!H224","v":0},{"$f":"'aktuelle Zahlen'!J224","v":0}]
[{"$f":"'aktuelle Zahlen'!A225","v":0},{"$f":"'aktuelle Zahlen'!B225","v":"00:00:00"},{"$f":"'aktuelle Zahlen'!C225","v":0},{"$f":"'aktuelle Zahlen'!D225","v":0},{"$f":"'aktuelle Zahlen'!E225","v":0},{"$f":"'aktuelle Zahlen'!F225","v":0},{"$f":"'aktuelle Zahlen'!G225","v":0},{"$f":"'aktuelle Zahlen'!H225","v":0},{"$f":"'aktuelle Zahlen'!J225","v":0}]
[{"$f":"'aktuelle Zahlen'!A226","v":0},{"$f":"'aktuelle Zahlen'!B226","v":"00:00:00"},{"$f":"'aktuelle Zahlen'!C226","v":0},{"$f":"'aktuelle Zahlen'!D226","v":0},{"$f":"'aktuelle Zahlen'!E226","v":0},{"$f":"'aktuelle Zahlen'!F226","v":0},{"$f":"'aktuelle Zahlen'!G226","v":0},{"$f":"'aktuelle Zahlen'!H226","v":0},{"$f":"'aktuelle Zahlen'!J226","v":0}]
[{"$f":"'aktuelle Zahlen'!A227","v":0},{"$f":"'aktuelle Zahlen'!B227","v":"00:00:00"},{"$f":"'aktuelle Zahlen'!C227","v":0},{"$f":"'aktuelle Zahlen'!D227","v":0},{"$f":"'aktuelle Zahlen'!E227","v":0},{"$f":"'aktuelle Zahlen'!F227","v":0},{"$f":"'aktuelle Zahlen'!G227","v":0},{"$f":"'aktuelle Zahlen'!H227","v":0},{"$f":"'aktuelle Zahlen'!J227","v":0}]
[{"$f":"'aktuelle Zahlen'!A228","v":0},{"$f":"'aktuelle Zahlen'!B228","v":"00:00:00"},{"$f":"'aktuelle Zahlen'!C228","v":0},{"$f":"'aktuelle Zahlen'!D228","v":0},{"$f":"'aktuelle Zahlen'!E228","v":0},{"$f":"'aktuelle Zahlen'!F228","v":0},{"$f":"'aktuelle Zahlen'!G228","v":0},{"$f":"'aktuelle Zahlen'!H228","v":0},{"$f":"'aktuelle Zahlen'!J228","v":0}]
[{"$f":"'aktuelle Zahlen'!A229","v":0},{"$f":"'aktuelle Zahlen'!B229","v":"00:00:00"},{"$f":"'aktuelle Zahlen'!C229","v":0},{"$f":"'aktuelle Zahlen'!D229","v":0},{"$f":"'aktuelle Zahlen'!E229","v":0},{"$f":"'aktuelle Zahlen'!F229","v":0},{"$f":"'aktuelle Zahlen'!G229","v":0},{"$f":"'aktuelle Zahlen'!H229","v":0},{"$f":"'aktuelle Zahlen'!J229","v":0}]
[{"$f":"'aktuelle Zahlen'!A230","v":0},{"$f":"'aktuelle Zahlen'!B230","v":"00:00:00"},{"$f":"'aktuelle Zahlen'!C230","v":0},{"$f":"'aktuelle Zahlen'!D230","v":0},{"$f":"'aktuelle Zahlen'!E230","v":0},{"$f":"'aktuelle Zahlen'!F230","v":0},{"$f":"'aktuelle Zahlen'!G230","v":0},{"$f":"'aktuelle Zahlen'!H230","v":0},{"$f":"'aktuelle Zahlen'!J230","v":0}]
[{"$f":"'aktuelle Zahlen'!A231","v":0},{"$f":"'aktuelle Zahlen'!B231","v":"00:00:00"},{"$f":"'aktuelle Zahlen'!C231","v":0},{"$f":"'aktuelle Zahlen'!D231","v":0},{"$f":"'aktuelle Zahlen'!E231","v":0},{"$f":"'aktuelle Zahlen'!F231","v":0},{"$f":"'aktuelle Zahlen'!G231","v":0},{"$f":"'aktuelle Zahlen'!H231","v":0},{"$f":"'aktuelle Zahlen'!J231","v":0}]
[{"$f":"'aktuelle Zahlen'!A232","v":0},{"$f":"'aktuelle Zahlen'!B232","v":"00:00:00"},{"$f":"'aktuelle Zahlen'!C232","v":0},{"$f":"'aktuelle Zahlen'!D232","v":0},{"$f":"'aktuelle Zahlen'!E232","v":0},{"$f":"'aktuelle Zahlen'!F232","v":0},{"$f":"'aktuelle Zahlen'!G232","v":0},{"$f":"'aktuelle Zahlen'!H232","v":0},{"$f":"'aktuelle Zahlen'!J232","v":0}]
[{"$f":"'aktuelle Zahlen'!A233","v":0},{"$f":"'aktuelle Zahlen'!B233","v":"00:00:00"},{"$f":"'aktuelle Zahlen'!C233","v":0},{"$f":"'aktuelle Zahlen'!D233","v":0},{"$f":"'aktuelle Zahlen'!E233","v":0},{"$f":"'aktuelle Zahlen'!F233","v":0},{"$f":"'aktuelle Zahlen'!G233","v":0},{"$f":"'aktuelle Zahlen'!H233","v":0},{"$f":"'aktuelle Zahlen'!J233","v":0}]
[{"$f":"'aktuelle Zahlen'!A234","v":0},{"$f":"'aktuelle Zahlen'!B234","v":"00:00:00"},{"$f":"'aktuelle Zahlen'!C234","v":0},{"$f":"'aktuelle Zahlen'!D234","v":0},{"$f":"'aktuelle Zahlen'!E234","v":0},{"$f":"'aktuelle Zahlen'!F234","v":0},{"$f":"'aktuelle Zahlen'!G234","v":0},{"$f":"'aktuelle Zahlen'!H234","v":0},{"$f":"'aktuelle Zahlen'!J234","v":0}]
[{"$f":"'aktuelle Zahlen'!A235","v":0},{"$f":"'aktuelle Zahlen'!B235","v":"00:00:00"},{"$f":"'aktuelle Zahlen'!C235","v":0},{"$f":"'aktuelle Zahlen'!D235","v":0},{"$f":"'aktuelle Zahlen'!E235","v":0},{"$f":"'aktuelle Zahlen'!F235","v":0},{"$f":"'aktuelle Zahlen'!G235","v":0},{"$f":"'aktuelle Zahlen'!H235","v":0},{"$f":"'aktuelle Zahlen'!J235","v":0}]
[{"$f":"'aktuelle Zahlen'!A236","v":0},{"$f":"'aktuelle Zahlen'!B236","v":"00:00:00"},{"$f":"'aktuelle Zahlen'!C236","v":0},{"$f":"'aktuelle Zahlen'!D236","v":0},{"$f":"'aktuelle Zahlen'!E236","v":0},{"$f":"'aktuelle Zahlen'!F236","v":0},{"$f":"'aktuelle Zahlen'!G236","v":0},{"$f":"'aktuelle Zahlen'!H236","v":0},{"$f":"'aktuelle Zahlen'!J236","v":0}]
[{"$f":"'aktuelle Zahlen'!A237","v":0},{"$f":"'aktuelle Zahlen'!B237","v":"00:00:00"},{"$f":"'aktuelle Zahlen'!C237","v":0},{"$f":"'aktuelle Zahlen'!D237","v":0},{"$f":"'aktuelle Zahlen'!E237","v":0},{"$f":"'aktuelle Zahlen'!F237","v":0},{"$f":"'aktuelle Zahlen'!G237","v":0},{"$f":"'aktuelle Zahlen'!H237","v":0},{"$f":"'aktuelle Zahlen'!J237","v":0}]
[{"$f":"'aktuelle Zahlen'!A238","v":0},{"$f":"'aktuelle Zahlen'!B238","v":"00:00:00"},{"$f":"'aktuelle Zahlen'!C238","v":0},{"$f":"'aktuelle Zahlen'!D238","v":0},{"$f":"'aktuelle Zahlen'!E238","v":0},{"$f":"'aktuelle Zahlen'!F238","v":0},{"$f":"'aktuelle Zahlen'!G238","v":0},{"$f":"'aktuelle Zahlen'!H238","v":0},{"$f":"'aktuelle Zahlen'!J238","v":0}]
[{"$f":"'aktuelle Zahlen'!A239","v":0},{"$f":"'aktuelle Zahlen'!B239","v":"00:00:00"},{"$f":"'aktuelle Zahlen'!C239","v":0},{"$f":"'aktuelle Zahlen'!D239","v":0},{"$f":"'aktuelle Zahlen'!E239","v":0},{"$f":"'aktuelle Zahlen'!F239","v":0},{"$f":"'aktuelle Zahlen'!G239","v":0},{"$f":"'aktuelle Zahlen'!H239","v":0},{"$f":"'aktuelle Zahlen'!J239","v":0}]
[{"$f":"'aktuelle Zahlen'!A240","v":0},{"$f":"'aktuelle Zahlen'!B240","v":"00:00:00"},{"$f":"'aktuelle Zahlen'!C240","v":0},{"$f":"'aktuelle Zahlen'!D240","v":0},{"$f":"'aktuelle Zahlen'!E240","v":0},{"$f":"'aktuelle Zahlen'!F240","v":0},{"$f":"'aktuelle Zahlen'!G240","v":0},{"$f":"'aktuelle Zahlen'!H240","v":0},{"$f":"'aktuelle Zahlen'!J240","v":0}]
[{"$f":"'aktuelle Zahlen'!A241","v":0},{"$f":"'aktuelle Zahlen'!B241","v":"00:00:00"},{"$f":"'aktuelle Zahlen'!C241","v":0},{"$f":"'aktuelle Zahlen'!D241","v":0},{"$f":"'aktuelle Zahlen'!E241","v":0},{"$f":"'aktuelle Zahlen'!F241","v":0},{"$f":"'aktuelle Zahlen'!G241","v":0},{"$f":"'aktuelle Zahlen'!H241","v":0},{"$f":"'aktuelle Zahlen'!J241","v":0}]
[{"$f":"'aktuelle Zahlen'!A242","v":0},{"$f":"'aktuelle Zahlen'!B242","v":"00:00:00"},{"$f":"'aktuelle Zahlen'!C242","v":0},{"$f":"'aktuelle Zahlen'!D242","v":0},{"$f":"'aktuelle Zahlen'!E242","v":0},{"$f":"'aktuelle Zahlen'!F242","v":0},{"$f":"'aktuelle Zahlen'!G242","v":0},{"$f":"'aktuelle Zahlen'!H242","v":0},{"$f":"'aktuelle Zahlen'!J242","v":0}]
[{"$f":"'aktuelle Zahlen'!A243","v":0},{"$f":"'aktuelle Zahlen'!B243","v":"00:00:00"},{"$f":"'aktuelle Zahlen'!C243","v":0},{"$f":"'aktuelle Zahlen'!D243","v":0},{"$f":"'aktuelle Zahlen'!E243","v":0},{"$f":"'aktuelle Zahlen'!F243","v":0},{"$f":"'aktuelle Zahlen'!G243","v":0},{"$f":"'aktuelle Zahlen'!H243","v":0},{"$f":"'aktuelle Zahlen'!J243","v":0}]
[{"$f":"'aktuelle Zahlen'!A244","v":0},{"$f":"'aktuelle Zahlen'!B244","v":"00:00:00"},{"$f":"'aktuelle Zahlen'!C244","v":0},{"$f":"'aktuelle Zahlen'!D244","v":0},{"$f":"'aktuelle Zahlen'!E244","v":0},{"$f":"'aktuelle Zahlen'!F244","v":0},{"$f":"'aktuelle Zahlen'!G244","v":0},{"$f":"'aktuelle Zahlen'!H244","v":0},{"$f":"'aktuelle Zahlen'!J244","v":0}]
[{"$f":"'aktuelle Zahlen'!A245","v":0},{"$f":"'aktuelle Zahlen'!B245","v":"00:00:00"},{"$f":"'aktuelle Zahlen'!C245","v":0},{"$f":"'aktuelle Zahlen'!D245","v":0},{"$f":"'aktuelle Zahlen'!E245","v":0},{"$f":"'aktuelle Zahlen'!F245","v":0},{"$f":"'aktuelle Zahlen'!G245","v":0},{"$f":"'aktuelle Zahlen'!H245","v":0},{"$f":"'aktuelle Zahlen'!J245","v":0}]
[{"$f":"'aktuelle Zahlen'!A246","v":0},{"$f":"'aktuelle Zahlen'!B246","v":"00:00:00"},{"$f":"'aktuelle Zahlen'!C246","v":0},{"$f":"'aktuelle Zahlen'!D246","v":0},{"$f":"'aktuelle Zahlen'!E246","v":0},{"$f":"'aktuelle Zahlen'!F246","v":0},{"$f":"'aktuelle Zahlen'!G246","v":0},{"$f":"'aktuelle Zahlen'!H246","v":0},{"$f":"'aktuelle Zahlen'!J246","v":0}]
[{"$f":"'aktuelle Zahlen'!A247","v":0},{"$f":"'aktuelle Zahlen'!B247","v":"00:00:00"},{"$f":"'aktuelle Zahlen'!C247","v":0},{"$f":"'aktuelle Zahlen'!D247","v":0},{"$f":"'aktuelle Zahlen'!E247","v":0},{"$f":"'aktuelle Zahlen'!F247","v":0},{"$f":"'aktuelle Zahlen'!G247","v":0},{"$f":"'aktuelle Zahlen'!H247","v":0},{"$f":"'aktuelle Zahlen'!J247","v":0}]
[{"$f":"'aktuelle Zahlen'!A248","v":0},{"$f":"'aktuelle Zahlen'!B248","v":"00:00:00"},{"$f":"'aktuelle Zahlen'!C248","v":0},{"$f":"'aktuelle Zahlen'!D248","v":0},{"$f":"'aktuelle Zahlen'!E248","v":0},{"$f":"'aktuelle Zahlen'!F248","v":0},{"$f":"'aktuelle Zahlen'!G248","v":0},{"$f":"'aktuelle Zahlen'!H248","v":0},{"$f":"'aktuelle Zahlen'!J248","v":0}]
[{"$f":"'aktuelle Zahlen'!A249","v":0},{"$f":"'aktuelle Zahlen'!B249","v":"00:00:00"},{"$f":"'aktuelle Zahlen'!C249","v":0},{"$f":"'aktuelle Zahlen'!D249","v":0},{"$f":"'aktuelle Zahlen'!E249","v":0},{"$f":"'aktuelle Zahlen'!F249","v":0},{"$f":"'aktuelle Zahlen'!G249","v":0},{"$f":"'aktuelle Zahlen'!H249","v":0},{"$f":"'aktuelle Zahlen'!J249","v":0}]
[{"$f":"'aktuelle Zahlen'!A250","v":0},{"$f":"'aktuelle Zahlen'!B250","v":"00:00:00"},{"$f":"'aktuelle Zahlen'!C250","v":0},{"$f":"'aktuelle Zahlen'!D250","v":0},{"$f":"'aktuelle Zahlen'!E250","v":0},{"$f":"'aktuelle Zahlen'!F250","v":0},{"$f":"'aktuelle Zahlen'!G250","v":0},{"$f":"'aktuelle Zahlen'!H250","v":0},{"$f":"'aktuelle Zahlen'!J250","v":0}]
[{"$f":"'aktuelle Zahlen'!A251","v":0},{"$f":"'aktuelle Zahlen'!B251","v":"00:00:00"},{"$f":"'aktuelle Zahlen'!C251","v":0},{"$f":"'aktuelle Zahlen'!D251","v":0},{"$f":"'aktuelle Zahlen'!E251","v":0},{"$f":"'aktuelle Zahlen'!F251","v":0},{"$f":"'aktuelle Zahlen'!G251","v":0},{"$f":"'aktuelle Zahlen'!H251","v":0},{"$f":"'aktuelle Zahlen'!J251","v":0}]
[{"$f":"'aktuelle Zahlen'!A252","v":0},{"$f":"'aktuelle Zahlen'!B252","v":"00:00:00"},{"$f":"'aktuelle Zahlen'!C252","v":0},{"$f":"'aktuelle Zahlen'!D252","v":0},{"$f":"'aktuelle Zahlen'!E252","v":0},{"$f":"'aktuelle Zahlen'!F252","v":0},{"$f":"'aktuelle Zahlen'!G252","v":0},{"$f":"'aktuelle Zahlen'!H252","v":0},{"$f":"'aktuelle Zahlen'!J252","v":0}]
[{"$f":"'aktuelle Zahlen'!A253","v":0},{"$f":"'aktuelle Zahlen'!B253","v":"00:00:00"},{"$f":"'aktuelle Zahlen'!C253","v":0},{"$f":"'aktuelle Zahlen'!D253","v":0},{"$f":"'aktuelle Zahlen'!E253","v":0},{"$f":"'aktuelle Zahlen'!F253","v":0},{"$f":"'aktuelle Zahlen'!G253","v":0},{"$f":"'aktuelle Zahlen'!H253","v":0},{"$f":"'aktuelle Zahlen'!J253","v":0}]
[{"$f":"'aktuelle Zahlen'!A254","v":0},{"$f":"'aktuelle Zahlen'!B254","v":"00:00:00"},{"$f":"'aktuelle Zahlen'!C254","v":0},{"$f":"'aktuelle Zahlen'!D254","v":0},{"$f":"'aktuelle Zahlen'!E254","v":0},{"$f":"'aktuelle Zahlen'!F254","v":0},{"$f":"'aktuelle Zahlen'!G254","v":0},{"$f":"'aktuelle Zahlen'!H254","v":0},{"$f":"'aktuelle Zahlen'!J254","v":0}]
[{"$f":"'aktuelle Zahlen'!A255","v":0},{"$f":"'aktuelle Zahlen'!B255","v":"00:00:00"},{"$f":"'aktuelle Zahlen'!C255","v":0},{"$f":"'aktuelle Zahlen'!D255","v":0},{"$f":"'aktuelle Zahlen'!E255","v":0},{"$f":"'aktuelle Zahlen'!F255","v":0},{"$f":"'aktuelle Zahlen'!G255","v":0},{"$f":"'aktuelle Zahlen'!H255","v":0},{"$f":"'aktuelle Zahlen'!J255","v":0}]
[{"$f":"'aktuelle Zahlen'!A256","v":0},{"$f":"'aktuelle Zahlen'!B256","v":"00:00:00"},{"$f":"'aktuelle Zahlen'!C256","v":0},{"$f":"'aktuelle Zahlen'!D256","v":0},{"$f":"'aktuelle Zahlen'!E256","v":0},{"$f":"'aktuelle Zahlen'!F256","v":0},{"$f":"'aktuelle Zahlen'!G256","v":0},{"$f":"'aktuelle Zahlen'!H256","v":0},{"$f":"'aktuelle Zahlen'!J256","v":0}]
[{"$f":"'aktuelle Zahlen'!A257","v":0},{"$f":"'aktuelle Zahlen'!B257","v":"00:00:00"},{"$f":"'aktuelle Zahlen'!C257","v":0},{"$f":"'aktuelle Zahlen'!D257","v":0},{"$f":"'aktuelle Zahlen'!E257","v":0},{"$f":"'aktuelle Zahlen'!F257","v":0},{"$f":"'aktuelle Zahlen'!G257","v":0},{"$f":"'aktuelle Zahlen'!H257","v":0},{"$f":"'aktuelle Zahlen'!J257","v":0}]
[{"$f":"'aktuelle Zahlen'!A258","v":0},{"$f":"'aktuelle Zahlen'!B258","v":"00:00:00"},{"$f":"'aktuelle Zahlen'!C258","v":0},{"$f":"'aktuelle Zahlen'!D258","v":0},{"$f":"'aktuelle Zahlen'!E258","v":0},{"$f":"'aktuelle Zahlen'!F258","v":0},{"$f":"'aktuelle Zahlen'!G258","v":0},{"$f":"'aktuelle Zahlen'!H258","v":0},{"$f":"'aktuelle Zahlen'!J258","v":0}]
[{"$f":"'aktuelle Zahlen'!A259","v":0},{"$f":"'aktuelle Zahlen'!B259","v":"00:00:00"},{"$f":"'aktuelle Zahlen'!C259","v":0},{"$f":"'aktuelle Zahlen'!D259","v":0},{"$f":"'aktuelle Zahlen'!E259","v":0},{"$f":"'aktuelle Zahlen'!F259","v":0},{"$f":"'aktuelle Zahlen'!G259","v":0},{"$f":"'aktuelle Zahlen'!H259","v":0},{"$f":"'aktuelle Zahlen'!J259","v":0}]
[{"$f":"'aktuelle Zahlen'!A260","v":0},{"$f":"'aktuelle Zahlen'!B260","v":"00:00:00"},{"$f":"'aktuelle Zahlen'!C260","v":0},{"$f":"'aktuelle Zahlen'!D260","v":0},{"$f":"'aktuelle Zahlen'!E260","v":0},{"$f":"'aktuelle Zahlen'!F260","v":0},{"$f":"'aktuelle Zahlen'!G260","v":0},{"$f":"'aktuelle Zahlen'!H260","v":0},{"$f":"'aktuelle Zahlen'!J260","v":0}]
[{"$f":"'aktuelle Zahlen'!A261","v":0},{"$f":"'aktuelle Zahlen'!B261","v":"00:00:00"},{"$f":"'aktuelle Zahlen'!C261","v":0},{"$f":"'aktuelle Zahlen'!D261","v":0},{"$f":"'aktuelle Zahlen'!E261","v":0},{"$f":"'aktuelle Zahlen'!F261","v":0},{"$f":"'aktuelle Zahlen'!G261","v":0},{"$f":"'aktuelle Zahlen'!H261","v":0},{"$f":"'aktuelle Zahlen'!J261","v":0}]
[{"$f":"'aktuelle Zahlen'!A262","v":0},{"$f":"'aktuelle Zahlen'!B262","v":"00:00:00"},{"$f":"'aktuelle Zahlen'!C262","v":0},{"$f":"'aktuelle Zahlen'!D262","v":0},{"$f":"'aktuelle Zahlen'!E262","v":0},{"$f":"'aktuelle Zahlen'!F262","v":0},{"$f":"'aktuelle Zahlen'!G262","v":0},{"$f":"'aktuelle Zahlen'!H262","v":0},{"$f":"'aktuelle Zahlen'!J262","v":0}]
[{"$f":"'aktuelle Zahlen'!A263","v":0},{"$f":"'aktuelle Zahlen'!B263","v":"00:00:00"},{"$f":"'aktuelle Zahlen'!C263","v":0},{"$f":"'aktuelle Zahlen'!D263","v":0},{"$f":"'aktuelle Zahlen'!E263","v":0},{"$f":"'aktuelle Zahlen'!F263","v":0},{"$f":"'aktuelle Zahlen'!G263","v":0},{"$f":"'aktuelle Zahlen'!H263","v":0},{"$f":"'aktuelle Zahlen'!J263","v":0}]
[{"$f":"'aktuelle Zahlen'!A264","v":0},{"$f":"'aktuelle Zahlen'!B264","v":"00:00:00"},{"$f":"'aktuelle Zahlen'!C264","v":0},{"$f":"'aktuelle Zahlen'!D264","v":0},{"$f":"'aktuelle Zahlen'!E264","v":0},{"$f":"'aktuelle Zahlen'!F264","v":0},{"$f":"'aktuelle Zahlen'!G264","v":0},{"$f":"'aktuelle Zahlen'!H264","v":0},{"$f":"'aktuelle Zahlen'!J264","v":0}]
[{"$f":"'aktuelle Zahlen'!A265","v":0},{"$f":"'aktuelle Zahlen'!B265","v":"00:00:00"},{"$f":"'aktuelle Zahlen'!C265","v":0},{"$f":"'aktuelle Zahlen'!D265","v":0},{"$f":"'aktuelle Zahlen'!E265","v":0},{"$f":"'aktuelle Zahlen'!F265","v":0},{"$f":"'aktuelle Zahlen'!G265","v":0},{"$f":"'aktuelle Zahlen'!H265","v":0},{"$f":"'aktuelle Zahlen'!J265","v":0}]
[{"$f":"'aktuelle Zahlen'!A266","v":0},{"$f":"'aktuelle Zahlen'!B266","v":"00:00:00"},{"$f":"'aktuelle Zahlen'!C266","v":0},{"$f":"'aktuelle Zahlen'!D266","v":0},{"$f":"'aktuelle Zahlen'!E266","v":0},{"$f":"'aktuelle Zahlen'!F266","v":0},{"$f":"'aktuelle Zahlen'!G266","v":0},{"$f":"'aktuelle Zahlen'!H266","v":0},{"$f":"'aktuelle Zahlen'!J266","v":0}]
[{"$f":"'aktuelle Zahlen'!A267","v":0},{"$f":"'aktuelle Zahlen'!B267","v":"00:00:00"},{"$f":"'aktuelle Zahlen'!C267","v":0},{"$f":"'aktuelle Zahlen'!D267","v":0},{"$f":"'aktuelle Zahlen'!E267","v":0},{"$f":"'aktuelle Zahlen'!F267","v":0},{"$f":"'aktuelle Zahlen'!G267","v":0},{"$f":"'aktuelle Zahlen'!H267","v":0},{"$f":"'aktuelle Zahlen'!J267","v":0}]
[{"$f":"'aktuelle Zahlen'!A268","v":0},{"$f":"'aktuelle Zahlen'!B268","v":"00:00:00"},{"$f":"'aktuelle Zahlen'!C268","v":0},{"$f":"'aktuelle Zahlen'!D268","v":0},{"$f":"'aktuelle Zahlen'!E268","v":0},{"$f":"'aktuelle Zahlen'!F268","v":0},{"$f":"'aktuelle Zahlen'!G268","v":0},{"$f":"'aktuelle Zahlen'!H268","v":0},{"$f":"'aktuelle Zahlen'!J268","v":0}]
[{"$f":"'aktuelle Zahlen'!A269","v":0},{"$f":"'aktuelle Zahlen'!B269","v":"00:00:00"},{"$f":"'aktuelle Zahlen'!C269","v":0},{"$f":"'aktuelle Zahlen'!D269","v":0},{"$f":"'aktuelle Zahlen'!E269","v":0},{"$f":"'aktuelle Zahlen'!F269","v":0},{"$f":"'aktuelle Zahlen'!G269","v":0},{"$f":"'aktuelle Zahlen'!H269","v":0},{"$f":"'aktuelle Zahlen'!J269","v":0}]
[{"$f":"'aktuelle Zahlen'!A270","v":0},{"$f":"'aktuelle Zahlen'!B270","v":"00:00:00"},{"$f":"'aktuelle Zahlen'!C270","v":0},{"$f":"'aktuelle Zahlen'!D270","v":0},{"$f":"'aktuelle Zahlen'!E270","v":0},{"$f":"'aktuelle Zahlen'!F270","v":0},{"$f":"'aktuelle Zahlen'!G270","v":0},{"$f":"'aktuelle Zahlen'!H270","v":0},{"$f":"'aktuelle Zahlen'!J270","v":0}]
[{"$f":"'aktuelle Zahlen'!A271","v":0},{"$f":"'aktuelle Zahlen'!B271","v":"00:00:00"},{"$f":"'aktuelle Zahlen'!C271","v":0},{"$f":"'aktuelle Zahlen'!D271","v":0},{"$f":"'aktuelle Zahlen'!E271","v":0},{"$f":"'aktuelle Zahlen'!F271","v":0},{"$f":"'aktuelle Zahlen'!G271","v":0},{"$f":"'aktuelle Zahlen'!H271","v":0},{"$f":"'aktuelle Zahlen'!J271","v":0}]
[{"$f":"'aktuelle Zahlen'!A272","v":0},{"$f":"'aktuelle Zahlen'!B272","v":"00:00:00"},{"$f":"'aktuelle Zahlen'!C272","v":0},{"$f":"'aktuelle Zahlen'!D272","v":0},{"$f":"'aktuelle Zahlen'!E272","v":0},{"$f":"'aktuelle Zahlen'!F272","v":0},{"$f":"'aktuelle Zahlen'!G272","v":0},{"$f":"'aktuelle Zahlen'!H272","v":0},{"$f":"'aktuelle Zahlen'!J272","v":0}]
[{"$f":"'aktuelle Zahlen'!A273","v":0},{"$f":"'aktuelle Zahlen'!B273","v":"00:00:00"},{"$f":"'aktuelle Zahlen'!C273","v":0},{"$f":"'aktuelle Zahlen'!D273","v":0},{"$f":"'aktuelle Zahlen'!E273","v":0},{"$f":"'aktuelle Zahlen'!F273","v":0},{"$f":"'aktuelle Zahlen'!G273","v":0},{"$f":"'aktuelle Zahlen'!H273","v":0},{"$f":"'aktuelle Zahlen'!J273","v":0}]
[{"$f":"'aktuelle Zahlen'!A274","v":0},{"$f":"'aktuelle Zahlen'!B274","v":"00:00:00"},{"$f":"'aktuelle Zahlen'!C274","v":0},{"$f":"'aktuelle Zahlen'!D274","v":0},{"$f":"'aktuelle Zahlen'!E274","v":0},{"$f":"'aktuelle Zahlen'!F274","v":0},{"$f":"'aktuelle Zahlen'!G274","v":0},{"$f":"'aktuelle Zahlen'!H274","v":0},{"$f":"'aktuelle Zahlen'!J274","v":0}]
[{"$f":"'aktuelle Zahlen'!A275","v":0},{"$f":"'aktuelle Zahlen'!B275","v":"00:00:00"},{"$f":"'aktuelle Zahlen'!C275","v":0},{"$f":"'aktuelle Zahlen'!D275","v":0},{"$f":"'aktuelle Zahlen'!E275","v":0},{"$f":"'aktuelle Zahlen'!F275","v":0},{"$f":"'aktuelle Zahlen'!G275","v":0},{"$f":"'aktuelle Zahlen'!H275","v":0},{"$f":"'aktuelle Zahlen'!J275","v":0}]
[{"$f":"'aktuelle Zahlen'!A276","v":0},{"$f":"'aktuelle Zahlen'!B276","v":"00:00:00"},{"$f":"'aktuelle Zahlen'!C276","v":0},{"$f":"'aktuelle Zahlen'!D276","v":0},{"$f":"'aktuelle Zahlen'!E276","v":0},{"$f":"'aktuelle Zahlen'!F276","v":0},{"$f":"'aktuelle Zahlen'!G276","v":0},{"$f":"'aktuelle Zahlen'!H276","v":0},{"$f":"'aktuelle Zahlen'!J276","v":0}]
[{"$f":"'aktuelle Zahlen'!A277","v":0},{"$f":"'aktuelle Zahlen'!B277","v":"00:00:00"},{"$f":"'aktuelle Zahlen'!C277","v":0},{"$f":"'aktuelle Zahlen'!D277","v":0},{"$f":"'aktuelle Zahlen'!E277","v":0},{"$f":"'aktuelle Zahlen'!F277","v":0},{"$f":"'aktuelle Zahlen'!G277","v":0},{"$f":"'aktuelle Zahlen'!H277","v":0},{"$f":"'aktuelle Zahlen'!J277","v":0}]
[{"$f":"'aktuelle Zahlen'!A278","v":0},{"$f":"'aktuelle Zahlen'!B278","v":"00:00:00"},{"$f":"'aktuelle Zahlen'!C278","v":0},{"$f":"'aktuelle Zahlen'!D278","v":0},{"$f":"'aktuelle Zahlen'!E278","v":0},{"$f":"'aktuelle Zahlen'!F278","v":0},{"$f":"'aktuelle Zahlen'!G278","v":0},{"$f":"'aktuelle Zahlen'!H278","v":0},{"$f":"'aktuelle Zahlen'!J278","v":0}]
[{"$f":"'aktuelle Zahlen'!A279","v":0},{"$f":"'aktuelle Zahlen'!B279","v":"00:00:00"},{"$f":"'aktuelle Zahlen'!C279","v":0},{"$f":"'aktuelle Zahlen'!D279","v":0},{"$f":"'aktuelle Zahlen'!E279","v":0},{"$f":"'aktuelle Zahlen'!F279","v":0},{"$f":"'aktuelle Zahlen'!G279","v":0},{"$f":"'aktuelle Zahlen'!H279","v":0},{"$f":"'aktuelle Zahlen'!J279","v":0}]
[{"$f":"'aktuelle Zahlen'!A280","v":0},{"$f":"'aktuelle Zahlen'!B280","v":"00:00:00"},{"$f":"'aktuelle Zahlen'!C280","v":0},{"$f":"'aktuelle Zahlen'!D280","v":0},{"$f":"'aktuelle Zahlen'!E280","v":0},{"$f":"'aktuelle Zahlen'!F280","v":0},{"$f":"'aktuelle Zahlen'!G280","v":0},{"$f":"'aktuelle Zahlen'!H280","v":0},{"$f":"'aktuelle Zahlen'!J280","v":0}]
[{"$f":"'aktuelle Zahlen'!A281","v":0},{"$f":"'aktuelle Zahlen'!B281","v":"00:00:00"},{"$f":"'aktuelle Zahlen'!C281","v":0},{"$f":"'aktuelle Zahlen'!D281","v":0},{"$f":"'aktuelle Zahlen'!E281","v":0},{"$f":"'aktuelle Zahlen'!F281","v":0},{"$f":"'aktuelle Zahlen'!G281","v":0},{"$f":"'aktuelle Zahlen'!H281","v":0},{"$f":"'aktuelle Zahlen'!J281","v":0}]
[{"$f":"'aktuelle Zahlen'!A282","v":0},{"$f":"'aktuelle Zahlen'!B282","v":"00:00:00"},{"$f":"'aktuelle Zahlen'!C282","v":0},{"$f":"'aktuelle Zahlen'!D282","v":0},{"$f":"'aktuelle Zahlen'!E282","v":0},{"$f":"'aktuelle Zahlen'!F282","v":0},{"$f":"'aktuelle Zahlen'!G282","v":0},{"$f":"'aktuelle Zahlen'!H282","v":0},{"$f":"'aktuelle Zahlen'!J282","v":0}]
[{"$f":"'aktuelle Zahlen'!A283","v":0},{"$f":"'aktuelle Zahlen'!B283","v":"00:00:00"},{"$f":"'aktuelle Zahlen'!C283","v":0},{"$f":"'aktuelle Zahlen'!D283","v":0},{"$f":"'aktuelle Zahlen'!E283","v":0},{"$f":"'aktuelle Zahlen'!F283","v":0},{"$f":"'aktuelle Zahlen'!G283","v":0},{"$f":"'aktuelle Zahlen'!H283","v":0},{"$f":"'aktuelle Zahlen'!J283","v":0}]
[{"$f":"'aktuelle Zahlen'!A284","v":0},{"$f":"'aktuelle Zahlen'!B284","v":"00:00:00"},{"$f":"'aktuelle Zahlen'!C284","v":0},{"$f":"'aktuelle Zahlen'!D284","v":0},{"$f":"'aktuelle Zahlen'!E284","v":0},{"$f":"'aktuelle Zahlen'!F284","v":0},{"$f":"'aktuelle Zahlen'!G284","v":0},{"$f":"'aktuelle Zahlen'!H284","v":0},{"$f":"'aktuelle Zahlen'!J284","v":0}]
[{"$f":"'aktuelle Zahlen'!A285","v":0},{"$f":"'aktuelle Zahlen'!B285","v":"00:00:00"},{"$f":"'aktuelle Zahlen'!C285","v":0},{"$f":"'aktuelle Zahlen'!D285","v":0},{"$f":"'aktuelle Zahlen'!E285","v":0},{"$f":"'aktuelle Zahlen'!F285","v":0},{"$f":"'aktuelle Zahlen'!G285","v":0},{"$f":"'aktuelle Zahlen'!H285","v":0},{"$f":"'aktuelle Zahlen'!J285","v":0}]
[{"$f":"'aktuelle Zahlen'!A286","v":0},{"$f":"'aktuelle Zahlen'!B286","v":"00:00:00"},{"$f":"'aktuelle Zahlen'!C286","v":0},{"$f":"'aktuelle Zahlen'!D286","v":0},{"$f":"'aktuelle Zahlen'!E286","v":0},{"$f":"'aktuelle Zahlen'!F286","v":0},{"$f":"'aktuelle Zahlen'!G286","v":0},{"$f":"'aktuelle Zahlen'!H286","v":0},{"$f":"'aktuelle Zahlen'!J286","v":0}]
[{"$f":"'aktuelle Zahlen'!A287","v":0},{"$f":"'aktuelle Zahlen'!B287","v":"00:00:00"},{"$f":"'aktuelle Zahlen'!C287","v":0},{"$f":"'aktuelle Zahlen'!D287","v":0},{"$f":"'aktuelle Zahlen'!E287","v":0},{"$f":"'aktuelle Zahlen'!F287","v":0},{"$f":"'aktuelle Zahlen'!G287","v":0},{"$f":"'aktuelle Zahlen'!H287","v":0},{"$f":"'aktuelle Zahlen'!J287","v":0}]
[{"$f":"'aktuelle Zahlen'!A288","v":0},{"$f":"'aktuelle Zahlen'!B288","v":"00:00:00"},{"$f":"'aktuelle Zahlen'!C288","v":0},{"$f":"'aktuelle Zahlen'!D288","v":0},{"$f":"'aktuelle Zahlen'!E288","v":0},{"$f":"'aktuelle Zahlen'!F288","v":0},{"$f":"'aktuelle Zahlen'!G288","v":0},{"$f":"'aktuelle Zahlen'!H288","v":0},{"$f":"'aktuelle Zahlen'!J288","v":0}]
[{"$f":"'aktuelle Zahlen'!A289","v":0},{"$f":"'aktuelle Zahlen'!B289","v":"00:00:00"},{"$f":"'aktuelle Zahlen'!C289","v":0},{"$f":"'aktuelle Zahlen'!D289","v":0},{"$f":"'aktuelle Zahlen'!E289","v":0},{"$f":"'aktuelle Zahlen'!F289","v":0},{"$f":"'aktuelle Zahlen'!G289","v":0},{"$f":"'aktuelle Zahlen'!H289","v":0},{"$f":"'aktuelle Zahlen'!J289","v":0}]
[{"$f":"'aktuelle Zahlen'!A290","v":0},{"$f":"'aktuelle Zahlen'!B290","v":"00:00:00"},{"$f":"'aktuelle Zahlen'!C290","v":0},{"$f":"'aktuelle Zahlen'!D290","v":0},{"$f":"'aktuelle Zahlen'!E290","v":0},{"$f":"'aktuelle Zahlen'!F290","v":0},{"$f":"'aktuelle Zahlen'!G290","v":0},{"$f":"'aktuelle Zahlen'!H290","v":0},{"$f":"'aktuelle Zahlen'!J290","v":0}]
[{"$f":"'aktuelle Zahlen'!A291","v":0},{"$f":"'aktuelle Zahlen'!B291","v":"00:00:00"},{"$f":"'aktuelle Zahlen'!C291","v":0},{"$f":"'aktuelle Zahlen'!D291","v":0},{"$f":"'aktuelle Zahlen'!E291","v":0},{"$f":"'aktuelle Zahlen'!F291","v":0},{"$f":"'aktuelle Zahlen'!G291","v":0},{"$f":"'aktuelle Zahlen'!H291","v":0},{"$f":"'aktuelle Zahlen'!J291","v":0}]
[{"$f":"'aktuelle Zahlen'!A292","v":0},{"$f":"'aktuelle Zahlen'!B292","v":"00:00:00"},{"$f":"'aktuelle Zahlen'!C292","v":0},{"$f":"'aktuelle Zahlen'!D292","v":0},{"$f":"'aktuelle Zahlen'!E292","v":0},{"$f":"'aktuelle Zahlen'!F292","v":0},{"$f":"'aktuelle Zahlen'!G292","v":0},{"$f":"'aktuelle Zahlen'!H292","v":0},{"$f":"'aktuelle Zahlen'!J292","v":0}]
[{"$f":"'aktuelle Zahlen'!A293","v":0},{"$f":"'aktuelle Zahlen'!B293","v":"00:00:00"},{"$f":"'aktuelle Zahlen'!C293","v":0},{"$f":"'aktuelle Zahlen'!D293","v":0},{"$f":"'aktuelle Zahlen'!E293","v":0},{"$f":"'aktuelle Zahlen'!F293","v":0},{"$f":"'aktuelle Zahlen'!G293","v":0},{"$f":"'aktuelle Zahlen'!H293","v":0},{"$f":"'aktuelle Zahlen'!J293","v":0}]
[{"$f":"'aktuelle Zahlen'!A294","v":0},{"$f":"'aktuelle Zahlen'!B294","v":"00:00:00"},{"$f":"'aktuelle Zahlen'!C294","v":0},{"$f":"'aktuelle Zahlen'!D294","v":0},{"$f":"'aktuelle Zahlen'!E294","v":0},{"$f":"'aktuelle Zahlen'!F294","v":0},{"$f":"'aktuelle Zahlen'!G294","v":0},{"$f":"'aktuelle Zahlen'!H294","v":0},{"$f":"'aktuelle Zahlen'!J294","v":0}]
[{"$f":"'aktuelle Zahlen'!A295","v":0},{"$f":"'aktuelle Zahlen'!B295","v":"00:00:00"},{"$f":"'aktuelle Zahlen'!C295","v":0},{"$f":"'aktuelle Zahlen'!D295","v":0},{"$f":"'aktuelle Zahlen'!E295","v":0},{"$f":"'aktuelle Zahlen'!F295","v":0},{"$f":"'aktuelle Zahlen'!G295","v":0},{"$f":"'aktuelle Zahlen'!H295","v":0},{"$f":"'aktuelle Zahlen'!J295","v":0}]
[{"$f":"'aktuelle Zahlen'!A296","v":0},{"$f":"'aktuelle Zahlen'!B296","v":"00:00:00"},{"$f":"'aktuelle Zahlen'!C296","v":0},{"$f":"'aktuelle Zahlen'!D296","v":0},{"$f":"'aktuelle Zahlen'!E296","v":0},{"$f":"'aktuelle Zahlen'!F296","v":0},{"$f":"'aktuelle Zahlen'!G296","v":0},{"$f":"'aktuelle Zahlen'!H296","v":0},{"$f":"'aktuelle Zahlen'!J296","v":0}]
[{"$f":"'aktuelle Zahlen'!A297","v":0},{"$f":"'aktuelle Zahlen'!B297","v":"00:00:00"},{"$f":"'aktuelle Zahlen'!C297","v":0},{"$f":"'aktuelle Zahlen'!D297","v":0},{"$f":"'aktuelle Zahlen'!E297","v":0},{"$f":"'aktuelle Zahlen'!F297","v":0},{"$f":"'aktuelle Zahlen'!G297","v":0},{"$f":"'aktuelle Zahlen'!H297","v":0},{"$f":"'aktuelle Zahlen'!J297","v":0}]
[{"$f":"'aktuelle Zahlen'!A298","v":0},{"$f":"'aktuelle Zahlen'!B298","v":"00:00:00"},{"$f":"'aktuelle Zahlen'!C298","v":0},{"$f":"'aktuelle Zahlen'!D298","v":0},{"$f":"'aktuelle Zahlen'!E298","v":0},{"$f":"'aktuelle Zahlen'!F298","v":0},{"$f":"'aktuelle Zahlen'!G298","v":0},{"$f":"'aktuelle Zahlen'!H298","v":0},{"$f":"'aktuelle Zahlen'!J298","v":0}]
[{"$f":"'aktuelle Zahlen'!A299","v":0},{"$f":"'aktuelle Zahlen'!B299","v":"00:00:00"},{"$f":"'aktuelle Zahlen'!C299","v":0},{"$f":"'aktuelle Zahlen'!D299","v":0},{"$f":"'aktuelle Zahlen'!E299","v":0},{"$f":"'aktuelle Zahlen'!F299","v":0},{"$f":"'aktuelle Zahlen'!G299","v":0},{"$f":"'aktuelle Zahlen'!H299","v":0},{"$f":"'aktuelle Zahlen'!J299","v":0}]
[{"$f":"'aktuelle Zahlen'!A300","v":0},{"$f":"'aktuelle Zahlen'!B300","v":"00:00:00"},{"$f":"'aktuelle Zahlen'!C300","v":0},{"$f":"'aktuelle Zahlen'!D300","v":0},{"$f":"'aktuelle Zahlen'!E300","v":0},{"$f":"'aktuelle Zahlen'!F300","v":0},{"$f":"'aktuelle Zahlen'!G300","v":0},{"$f":"'aktuelle Zahlen'!H300","v":0},{"$f":"'aktuelle Zahlen'!J300","v":0}]
[{"$f":"'aktuelle Zahlen'!A301","v":0},{"$f":"'aktuelle Zahlen'!B301","v":"00:00:00"},{"$f":"'aktuelle Zahlen'!C301","v":0},{"$f":"'aktuelle Zahlen'!D301","v":0},{"$f":"'aktuelle Zahlen'!E301","v":0},{"$f":"'aktuelle Zahlen'!F301","v":0},{"$f":"'aktuelle Zahlen'!G301","v":0},{"$f":"'aktuelle Zahlen'!H301","v":0},{"$f":"'aktuelle Zahlen'!J301","v":0}]
[{"$f":"'aktuelle Zahlen'!A302","v":0},{"$f":"'aktuelle Zahlen'!B302","v":"00:00:00"},{"$f":"'aktuelle Zahlen'!C302","v":0},{"$f":"'aktuelle Zahlen'!D302","v":0},{"$f":"'aktuelle Zahlen'!E302","v":0},{"$f":"'aktuelle Zahlen'!F302","v":0},{"$f":"'aktuelle Zahlen'!G302","v":0},{"$f":"'aktuelle Zahlen'!H302","v":0},{"$f":"'aktuelle Zahlen'!J302","v":0}]
[{"$f":"'aktuelle Zahlen'!A303","v":0},{"$f":"'aktuelle Zahlen'!B303","v":"00:00:00"},{"$f":"'aktuelle Zahlen'!C303","v":0},{"$f":"'aktuelle Zahlen'!D303","v":0},{"$f":"'aktuelle Zahlen'!E303","v":0},{"$f":"'aktuelle Zahlen'!F303","v":0},{"$f":"'aktuelle Zahlen'!G303","v":0},{"$f":"'aktuelle Zahlen'!H303","v":0},{"$f":"'aktuelle Zahlen'!J303","v":0}]
[{"$f":"'aktuelle Zahlen'!A304","v":0},{"$f":"'aktuelle Zahlen'!B304","v":"00:00:00"},{"$f":"'aktuelle Zahlen'!C304","v":0},{"$f":"'aktuelle Zahlen'!D304","v":0},{"$f":"'aktuelle Zahlen'!E304","v":0},{"$f":"'aktuelle Zahlen'!F304","v":0},{"$f":"'aktuelle Zahlen'!G304","v":0},{"$f":"'aktuelle Zahlen'!H304","v":0},{"$f":"'aktuelle Zahlen'!J304","v":0}]
[{"$f":"'aktuelle Zahlen'!A305","v":0},{"$f":"'aktuelle Zahlen'!B305","v":"00:00:00"},{"$f":"'aktuelle Zahlen'!C305","v":0},{"$f":"'aktuelle Zahlen'!D305","v":0},{"$f":"'aktuelle Zahlen'!E305","v":0},{"$f":"'aktuelle Zahlen'!F305","v":0},{"$f":"'aktuelle Zahlen'!G305","v":0},{"$f":"'aktuelle Zahlen'!H305","v":0},{"$f":"'aktuelle Zahlen'!J305","v":0}]
[{"$f":"'aktuelle Zahlen'!A306","v":0},{"$f":"'aktuelle Zahlen'!B306","v":"00:00:00"},{"$f":"'aktuelle Zahlen'!C306","v":0},{"$f":"'aktuelle Zahlen'!D306","v":0},{"$f":"'aktuelle Zahlen'!E306","v":0},{"$f":"'aktuelle Zahlen'!F306","v":0},{"$f":"'aktuelle Zahlen'!G306","v":0},{"$f":"'aktuelle Zahlen'!H306","v":0},{"$f":"'aktuelle Zahlen'!J306","v":0}]
[{"$f":"'aktuelle Zahlen'!A307","v":0},{"$f":"'aktuelle Zahlen'!B307","v":"00:00:00"},{"$f":"'aktuelle Zahlen'!C307","v":0},{"$f":"'aktuelle Zahlen'!D307","v":0},{"$f":"'aktuelle Zahlen'!E307","v":0},{"$f":"'aktuelle Zahlen'!F307","v":0},{"$f":"'aktuelle Zahlen'!G307","v":0},{"$f":"'aktuelle Zahlen'!H307","v":0},{"$f":"'aktuelle Zahlen'!J307","v":0}]
[{"$f":"'aktuelle Zahlen'!A308","v":0},{"$f":"'aktuelle Zahlen'!B308","v":"00:00:00"},{"$f":"'aktuelle Zahlen'!C308","v":0},{"$f":"'aktuelle Zahlen'!D308","v":0},{"$f":"'aktuelle Zahlen'!E308","v":0},{"$f":"'aktuelle Zahlen'!F308","v":0},{"$f":"'aktuelle Zahlen'!G308","v":0},{"$f":"'aktuelle Zahlen'!H308","v":0},{"$f":"'aktuelle Zahlen'!J308","v":0}]
[{"$f":"'aktuelle Zahlen'!A309","v":0},{"$f":"'aktuelle Zahlen'!B309","v":"00:00:00"},{"$f":"'aktuelle Zahlen'!C309","v":0},{"$f":"'aktuelle Zahlen'!D309","v":0},{"$f":"'aktuelle Zahlen'!E309","v":0},{"$f":"'aktuelle Zahlen'!F309","v":0},{"$f":"'aktuelle Zahlen'!G309","v":0},{"$f":"'aktuelle Zahlen'!H309","v":0},{"$f":"'aktuelle Zahlen'!J309","v":0}]
[{"$f":"'aktuelle Zahlen'!A310","v":0},{"$f":"'aktuelle Zahlen'!B310","v":"00:00:00"},{"$f":"'aktuelle Zahlen'!C310","v":0},{"$f":"'aktuelle Zahlen'!D310","v":0},{"$f":"'aktuelle Zahlen'!E310","v":0},{"$f":"'aktuelle Zahlen'!F310","v":0},{"$f":"'aktuelle Zahlen'!G310","v":0},{"$f":"'aktuelle Zahlen'!H310","v":0},{"$f":"'aktuelle Zahlen'!J310","v":0}]
[{"$f":"'aktuelle Zahlen'!A311","v":0},{"$f":"'aktuelle Zahlen'!B311","v":"00:00:00"},{"$f":"'aktuelle Zahlen'!C311","v":0},{"$f":"'aktuelle Zahlen'!D311","v":0},{"$f":"'aktuelle Zahlen'!E311","v":0},{"$f":"'aktuelle Zahlen'!F311","v":0},{"$f":"'aktuelle Zahlen'!G311","v":0},{"$f":"'aktuelle Zahlen'!H311","v":0},{"$f":"'aktuelle Zahlen'!J311","v":0}]
[{"$f":"'aktuelle Zahlen'!A312","v":0},{"$f":"'aktuelle Zahlen'!B312","v":"00:00:00"},{"$f":"'aktuelle Zahlen'!C312","v":0},{"$f":"'aktuelle Zahlen'!D312","v":0},{"$f":"'aktuelle Zahlen'!E312","v":0},{"$f":"'aktuelle Zahlen'!F312","v":0},{"$f":"'aktuelle Zahlen'!G312","v":0},{"$f":"'aktuelle Zahlen'!H312","v":0},{"$f":"'aktuelle Zahlen'!J312","v":0}]
[{"$f":"'aktuelle Zahlen'!A313","v":0},{"$f":"'aktuelle Zahlen'!B313","v":"00:00:00"},{"$f":"'aktuelle Zahlen'!C313","v":0},{"$f":"'aktuelle Zahlen'!D313","v":0},{"$f":"'aktuelle Zahlen'!E313","v":0},{"$f":"'aktuelle Zahlen'!F313","v":0},{"$f":"'aktuelle Zahlen'!G313","v":0},{"$f":"'aktuelle Zahlen'!H313","v":0},{"$f":"'aktuelle Zahlen'!J313","v":0}]
[{"$f":"'aktuelle Zahlen'!A314","v":0},{"$f":"'aktuelle Zahlen'!B314","v":"00:00:00"},{"$f":"'aktuelle Zahlen'!C314","v":0},{"$f":"'aktuelle Zahlen'!D314","v":0},{"$f":"'aktuelle Zahlen'!E314","v":0},{"$f":"'aktuelle Zahlen'!F314","v":0},{"$f":"'aktuelle Zahlen'!G314","v":0},{"$f":"'aktuelle Zahlen'!H314","v":0},{"$f":"'aktuelle Zahlen'!J314","v":0}]
[{"$f":"'aktuelle Zahlen'!A315","v":0},{"$f":"'aktuelle Zahlen'!B315","v":"00:00:00"},{"$f":"'aktuelle Zahlen'!C315","v":0},{"$f":"'aktuelle Zahlen'!D315","v":0},{"$f":"'aktuelle Zahlen'!E315","v":0},{"$f":"'aktuelle Zahlen'!F315","v":0},{"$f":"'aktuelle Zahlen'!G315","v":0},{"$f":"'aktuelle Zahlen'!H315","v":0},{"$f":"'aktuelle Zahlen'!J315","v":0}]
[{"$f":"'aktuelle Zahlen'!A316","v":0},{"$f":"'aktuelle Zahlen'!B316","v":"00:00:00"},{"$f":"'aktuelle Zahlen'!C316","v":0},{"$f":"'aktuelle Zahlen'!D316","v":0},{"$f":"'aktuelle Zahlen'!E316","v":0},{"$f":"'aktuelle Zahlen'!F316","v":0},{"$f":"'aktuelle Zahlen'!G316","v":0},{"$f":"'aktuelle Zahlen'!H316","v":0},{"$f":"'aktuelle Zahlen'!J316","v":0}]
[{"$f":"'aktuelle Zahlen'!A317","v":0},{"$f":"'aktuelle Zahlen'!B317","v":"00:00:00"},{"$f":"'aktuelle Zahlen'!C317","v":0},{"$f":"'aktuelle Zahlen'!D317","v":0},{"$f":"'aktuelle Zahlen'!E317","v":0},{"$f":"'aktuelle Zahlen'!F317","v":0},{"$f":"'aktuelle Zahlen'!G317","v":0},{"$f":"'aktuelle Zahlen'!H317","v":0},{"$f":"'aktuelle Zahlen'!J317","v":0}]
[{"$f":"'aktuelle Zahlen'!A318","v":0},{"$f":"'aktuelle Zahlen'!B318","v":"00:00:00"},{"$f":"'aktuelle Zahlen'!C318","v":0},{"$f":"'aktuelle Zahlen'!D318","v":0},{"$f":"'aktuelle Zahlen'!E318","v":0},{"$f":"'aktuelle Zahlen'!F318","v":0},{"$f":"'aktuelle Zahlen'!G318","v":0},{"$f":"'aktuelle Zahlen'!H318","v":0},{"$f":"'aktuelle Zahlen'!J318","v":0}]
[{"$f":"'aktuelle Zahlen'!A319","v":0},{"$f":"'aktuelle Zahlen'!B319","v":"00:00:00"},{"$f":"'aktuelle Zahlen'!C319","v":0},{"$f":"'aktuelle Zahlen'!D319","v":0},{"$f":"'aktuelle Zahlen'!E319","v":0},{"$f":"'aktuelle Zahlen'!F319","v":0},{"$f":"'aktuelle Zahlen'!G319","v":0},{"$f":"'aktuelle Zahlen'!H319","v":0},{"$f":"'aktuelle Zahlen'!J319","v":0}]
[{"$f":"'aktuelle Zahlen'!A320","v":0},{"$f":"'aktuelle Zahlen'!B320","v":"00:00:00"},{"$f":"'aktuelle Zahlen'!C320","v":0},{"$f":"'aktuelle Zahlen'!D320","v":0},{"$f":"'aktuelle Zahlen'!E320","v":0},{"$f":"'aktuelle Zahlen'!F320","v":0},{"$f":"'aktuelle Zahlen'!G320","v":0},{"$f":"'aktuelle Zahlen'!H320","v":0},{"$f":"'aktuelle Zahlen'!J320","v":0}]
[{"$f":"'aktuelle Zahlen'!A321","v":0},{"$f":"'aktuelle Zahlen'!B321","v":"00:00:00"},{"$f":"'aktuelle Zahlen'!C321","v":0},{"$f":"'aktuelle Zahlen'!D321","v":0},{"$f":"'aktuelle Zahlen'!E321","v":0},{"$f":"'aktuelle Zahlen'!F321","v":0},{"$f":"'aktuelle Zahlen'!G321","v":0},{"$f":"'aktuelle Zahlen'!H321","v":0},{"$f":"'aktuelle Zahlen'!J321","v":0}]
[{"$f":"'aktuelle Zahlen'!A322","v":0},{"$f":"'aktuelle Zahlen'!B322","v":"00:00:00"},{"$f":"'aktuelle Zahlen'!C322","v":0},{"$f":"'aktuelle Zahlen'!D322","v":0},{"$f":"'aktuelle Zahlen'!E322","v":0},{"$f":"'aktuelle Zahlen'!F322","v":0},{"$f":"'aktuelle Zahlen'!G322","v":0},{"$f":"'aktuelle Zahlen'!H322","v":0},{"$f":"'aktuelle Zahlen'!J322","v":0}]
[{"$f":"'aktuelle Zahlen'!A323","v":0},{"$f":"'aktuelle Zahlen'!B323","v":"00:00:00"},{"$f":"'aktuelle Zahlen'!C323","v":0},{"$f":"'aktuelle Zahlen'!D323","v":0},{"$f":"'aktuelle Zahlen'!E323","v":0},{"$f":"'aktuelle Zahlen'!F323","v":0},{"$f":"'aktuelle Zahlen'!G323","v":0},{"$f":"'aktuelle Zahlen'!H323","v":0},{"$f":"'aktuelle Zahlen'!J323","v":0}]
[{"$f":"'aktuelle Zahlen'!A324","v":0},{"$f":"'aktuelle Zahlen'!B324","v":"00:00:00"},{"$f":"'aktuelle Zahlen'!C324","v":0},{"$f":"'aktuelle Zahlen'!D324","v":0},{"$f":"'aktuelle Zahlen'!E324","v":0},{"$f":"'aktuelle Zahlen'!F324","v":0},{"$f":"'aktuelle Zahlen'!G324","v":0},{"$f":"'aktuelle Zahlen'!H324","v":0},{"$f":"'aktuelle Zahlen'!J324","v":0}]
[{"$f":"'aktuelle Zahlen'!A325","v":0},{"$f":"'aktuelle Zahlen'!B325","v":"00:00:00"},{"$f":"'aktuelle Zahlen'!C325","v":0},{"$f":"'aktuelle Zahlen'!D325","v":0},{"$f":"'aktuelle Zahlen'!E325","v":0},{"$f":"'aktuelle Zahlen'!F325","v":0},{"$f":"'aktuelle Zahlen'!G325","v":0},{"$f":"'aktuelle Zahlen'!H325","v":0},{"$f":"'aktuelle Zahlen'!J325","v":0}]
[{"$f":"'aktuelle Zahlen'!A326","v":0},{"$f":"'aktuelle Zahlen'!B326","v":"00:00:00"},{"$f":"'aktuelle Zahlen'!C326","v":0},{"$f":"'aktuelle Zahlen'!D326","v":0},{"$f":"'aktuelle Zahlen'!E326","v":0},{"$f":"'aktuelle Zahlen'!F326","v":0},{"$f":"'aktuelle Zahlen'!G326","v":0},{"$f":"'aktuelle Zahlen'!H326","v":0},{"$f":"'aktuelle Zahlen'!J326","v":0}]
[{"$f":"'aktuelle Zahlen'!A327","v":0},{"$f":"'aktuelle Zahlen'!B327","v":"00:00:00"},{"$f":"'aktuelle Zahlen'!C327","v":0},{"$f":"'aktuelle Zahlen'!D327","v":0},{"$f":"'aktuelle Zahlen'!E327","v":0},{"$f":"'aktuelle Zahlen'!F327","v":0},{"$f":"'aktuelle Zahlen'!G327","v":0},{"$f":"'aktuelle Zahlen'!H327","v":0},{"$f":"'aktuelle Zahlen'!J327","v":0}]
[{"$f":"'aktuelle Zahlen'!A328","v":0},{"$f":"'aktuelle Zahlen'!B328","v":"00:00:00"},{"$f":"'aktuelle Zahlen'!C328","v":0},{"$f":"'aktuelle Zahlen'!D328","v":0},{"$f":"'aktuelle Zahlen'!E328","v":0},{"$f":"'aktuelle Zahlen'!F328","v":0},{"$f":"'aktuelle Zahlen'!G328","v":0},{"$f":"'aktuelle Zahlen'!H328","v":0},{"$f":"'aktuelle Zahlen'!J328","v":0}]
[{"$f":"'aktuelle Zahlen'!A329","v":0},{"$f":"'aktuelle Zahlen'!B329","v":"00:00:00"},{"$f":"'aktuelle Zahlen'!C329","v":0},{"$f":"'aktuelle Zahlen'!D329","v":0},{"$f":"'aktuelle Zahlen'!E329","v":0},{"$f":"'aktuelle Zahlen'!F329","v":0},{"$f":"'aktuelle Zahlen'!G329","v":0},{"$f":"'aktuelle Zahlen'!H329","v":0},{"$f":"'aktuelle Zahlen'!J329","v":0}]
[{"$f":"'aktuelle Zahlen'!A330","v":0},{"$f":"'aktuelle Zahlen'!B330","v":"00:00:00"},{"$f":"'aktuelle Zahlen'!C330","v":0},{"$f":"'aktuelle Zahlen'!D330","v":0},{"$f":"'aktuelle Zahlen'!E330","v":0},{"$f":"'aktuelle Zahlen'!F330","v":0},{"$f":"'aktuelle Zahlen'!G330","v":0},{"$f":"'aktuelle Zahlen'!H330","v":0},{"$f":"'aktuelle Zahlen'!J330","v":0}]
[{"$f":"'aktuelle Zahlen'!A331","v":0},{"$f":"'aktuelle Zahlen'!B331","v":"00:00:00"},{"$f":"'aktuelle Zahlen'!C331","v":0},{"$f":"'aktuelle Zahlen'!D331","v":0},{"$f":"'aktuelle Zahlen'!E331","v":0},{"$f":"'aktuelle Zahlen'!F331","v":0},{"$f":"'aktuelle Zahlen'!G331","v":0},{"$f":"'aktuelle Zahlen'!H331","v":0},{"$f":"'aktuelle Zahlen'!J331","v":0}]
[{"$f":"'aktuelle Zahlen'!A332","v":0},{"$f":"'aktuelle Zahlen'!B332","v":"00:00:00"},{"$f":"'aktuelle Zahlen'!C332","v":0},{"$f":"'aktuelle Zahlen'!D332","v":0},{"$f":"'aktuelle Zahlen'!E332","v":0},{"$f":"'aktuelle Zahlen'!F332","v":0},{"$f":"'aktuelle Zahlen'!G332","v":0},{"$f":"'aktuelle Zahlen'!H332","v":0},{"$f":"'aktuelle Zahlen'!J332","v":0}]
[{"$f":"'aktuelle Zahlen'!A333","v":0},{"$f":"'aktuelle Zahlen'!B333","v":"00:00:00"},{"$f":"'aktuelle Zahlen'!C333","v":0},{"$f":"'aktuelle Zahlen'!D333","v":0},{"$f":"'aktuelle Zahlen'!E333","v":0},{"$f":"'aktuelle Zahlen'!F333","v":0},{"$f":"'aktuelle Zahlen'!G333","v":0},{"$f":"'aktuelle Zahlen'!H333","v":0},{"$f":"'aktuelle Zahlen'!J333","v":0}]
[{"$f":"'aktuelle Zahlen'!A334","v":0},{"$f":"'aktuelle Zahlen'!B334","v":"00:00:00"},{"$f":"'aktuelle Zahlen'!C334","v":0},{"$f":"'aktuelle Zahlen'!D334","v":0},{"$f":"'aktuelle Zahlen'!E334","v":0},{"$f":"'aktuelle Zahlen'!F334","v":0},{"$f":"'aktuelle Zahlen'!G334","v":0},{"$f":"'aktuelle Zahlen'!H334","v":0},{"$f":"'aktuelle Zahlen'!J334","v":0}]
[{"$f":"'aktuelle Zahlen'!A335","v":0},{"$f":"'aktuelle Zahlen'!B335","v":"00:00:00"},{"$f":"'aktuelle Zahlen'!C335","v":0},{"$f":"'aktuelle Zahlen'!D335","v":0},{"$f":"'aktuelle Zahlen'!E335","v":0},{"$f":"'aktuelle Zahlen'!F335","v":0},{"$f":"'aktuelle Zahlen'!G335","v":0},{"$f":"'aktuelle Zahlen'!H335","v":0},{"$f":"'aktuelle Zahlen'!J335","v":0}]
[{"$f":"'aktuelle Zahlen'!A336","v":0},{"$f":"'aktuelle Zahlen'!B336","v":"00:00:00"},{"$f":"'aktuelle Zahlen'!C336","v":0},{"$f":"'aktuelle Zahlen'!D336","v":0},{"$f":"'aktuelle Zahlen'!E336","v":0},{"$f":"'aktuelle Zahlen'!F336","v":0},{"$f":"'aktuelle Zahlen'!G336","v":0},{"$f":"'aktuelle Zahlen'!H336","v":0},{"$f":"'aktuelle Zahlen'!J336","v":0}]
[{"$f":"'aktuelle Zahlen'!A337","v":0},{"$f":"'aktuelle Zahlen'!B337","v":"00:00:00"},{"$f":"'aktuelle Zahlen'!C337","v":0},{"$f":"'aktuelle Zahlen'!D337","v":0},{"$f":"'aktuelle Zahlen'!E337","v":0},{"$f":"'aktuelle Zahlen'!F337","v":0},{"$f":"'aktuelle Zahlen'!G337","v":0},{"$f":"'aktuelle Zahlen'!H337","v":0},{"$f":"'aktuelle Zahlen'!J337","v":0}]
[{"$f":"'aktuelle Zahlen'!A338","v":0},{"$f":"'aktuelle Zahlen'!B338","v":"00:00:00"},{"$f":"'aktuelle Zahlen'!C338","v":0},{"$f":"'aktuelle Zahlen'!D338","v":0},{"$f":"'aktuelle Zahlen'!E338","v":0},{"$f":"'aktuelle Zahlen'!F338","v":0},{"$f":"'aktuelle Zahlen'!G338","v":0},{"$f":"'aktuelle Zahlen'!H338","v":0},{"$f":"'aktuelle Zahlen'!J338","v":0}]
[{"$f":"'aktuelle Zahlen'!A339","v":0},{"$f":"'aktuelle Zahlen'!B339","v":"00:00:00"},{"$f":"'aktuelle Zahlen'!C339","v":0},{"$f":"'aktuelle Zahlen'!D339","v":0},{"$f":"'aktuelle Zahlen'!E339","v":0},{"$f":"'aktuelle Zahlen'!F339","v":0},{"$f":"'aktuelle Zahlen'!G339","v":0},{"$f":"'aktuelle Zahlen'!H339","v":0},{"$f":"'aktuelle Zahlen'!J339","v":0}]
[{"$f":"'aktuelle Zahlen'!A340","v":0},{"$f":"'aktuelle Zahlen'!B340","v":"00:00:00"},{"$f":"'aktuelle Zahlen'!C340","v":0},{"$f":"'aktuelle Zahlen'!D340","v":0},{"$f":"'aktuelle Zahlen'!E340","v":0},{"$f":"'aktuelle Zahlen'!F340","v":0},{"$f":"'aktuelle Zahlen'!G340","v":0},{"$f":"'aktuelle Zahlen'!H340","v":0},{"$f":"'aktuelle Zahlen'!J340","v":0}]
[{"$f":"'aktuelle Zahlen'!A341","v":0},{"$f":"'aktuelle Zahlen'!B341","v":"00:00:00"},{"$f":"'aktuelle Zahlen'!C341","v":0},{"$f":"'aktuelle Zahlen'!D341","v":0},{"$f":"'aktuelle Zahlen'!E341","v":0},{"$f":"'aktuelle Zahlen'!F341","v":0},{"$f":"'aktuelle Zahlen'!G341","v":0},{"$f":"'aktuelle Zahlen'!H341","v":0},{"$f":"'aktuelle Zahlen'!J341","v":0}]
[{"$f":"'aktuelle Zahlen'!A342","v":0},{"$f":"'aktuelle Zahlen'!B342","v":"00:00:00"},{"$f":"'aktuelle Zahlen'!C342","v":0},{"$f":"'aktuelle Zahlen'!D342","v":0},{"$f":"'aktuelle Zahlen'!E342","v":0},{"$f":"'aktuelle Zahlen'!F342","v":0},{"$f":"'aktuelle Zahlen'!G342","v":0},{"$f":"'aktuelle Zahlen'!H342","v":0},{"$f":"'aktuelle Zahlen'!J342","v":0}]
[{"$f":"'aktuelle Zahlen'!A343","v":0},{"$f":"'aktuelle Zahlen'!B343","v":"00:00:00"},{"$f":"'aktuelle Zahlen'!C343","v":0},{"$f":"'aktuelle Zahlen'!D343","v":0},{"$f":"'aktuelle Zahlen'!E343","v":0},{"$f":"'aktuelle Zahlen'!F343","v":0},{"$f":"'aktuelle Zahlen'!G343","v":0},{"$f":"'aktuelle Zahlen'!H343","v":0},{"$f":"'aktuelle Zahlen'!J343","v":0}]
[{"$f":"'aktuelle Zahlen'!A344","v":0},{"$f":"'aktuelle Zahlen'!B344","v":"00:00:00"},{"$f":"'aktuelle Zahlen'!C344","v":0},{"$f":"'aktuelle Zahlen'!D344","v":0},{"$f":"'aktuelle Zahlen'!E344","v":0},{"$f":"'aktuelle Zahlen'!F344","v":0},{"$f":"'aktuelle Zahlen'!G344","v":0},{"$f":"'aktuelle Zahlen'!H344","v":0},{"$f":"'aktuelle Zahlen'!J344","v":0}]
[{"$f":"'aktuelle Zahlen'!A345","v":0},{"$f":"'aktuelle Zahlen'!B345","v":"00:00:00"},{"$f":"'aktuelle Zahlen'!C345","v":0},{"$f":"'aktuelle Zahlen'!D345","v":0},{"$f":"'aktuelle Zahlen'!E345","v":0},{"$f":"'aktuelle Zahlen'!F345","v":0},{"$f":"'aktuelle Zahlen'!G345","v":0},{"$f":"'aktuelle Zahlen'!H345","v":0},{"$f":"'aktuelle Zahlen'!J345","v":0}]
[{"$f":"'aktuelle Zahlen'!A346","v":0},{"$f":"'aktuelle Zahlen'!B346","v":"00:00:00"},{"$f":"'aktuelle Zahlen'!C346","v":0},{"$f":"'aktuelle Zahlen'!D346","v":0},{"$f":"'aktuelle Zahlen'!E346","v":0},{"$f":"'aktuelle Zahlen'!F346","v":0},{"$f":"'aktuelle Zahlen'!G346","v":0},{"$f":"'aktuelle Zahlen'!H346","v":0},{"$f":"'aktuelle Zahlen'!J346","v":0}]
[{"$f":"'aktuelle Zahlen'!A347","v":0},{"$f":"'aktuelle Zahlen'!B347","v":"00:00:00"},{"$f":"'aktuelle Zahlen'!C347","v":0},{"$f":"'aktuelle Zahlen'!D347","v":0},{"$f":"'aktuelle Zahlen'!E347","v":0},{"$f":"'aktuelle Zahlen'!F347","v":0},{"$f":"'aktuelle Zahlen'!G347","v":0},{"$f":"'aktuelle Zahlen'!H347","v":0},{"$f":"'aktuelle Zahlen'!J347","v":0}]
[{"$f":"'aktuelle Zahlen'!A348","v":0},{"$f":"'aktuelle Zahlen'!B348","v":"00:00:00"},{"$f":"'aktuelle Zahlen'!C348","v":0},{"$f":"'aktuelle Zahlen'!D348","v":0},{"$f":"'aktuelle Zahlen'!E348","v":0},{"$f":"'aktuelle Zahlen'!F348","v":0},{"$f":"'aktuelle Zahlen'!G348","v":0},{"$f":"'aktuelle Zahlen'!H348","v":0},{"$f":"'aktuelle Zahlen'!J348","v":0}]
[{"$f":"'aktuelle Zahlen'!A349","v":0},{"$f":"'aktuelle Zahlen'!B349","v":"00:00:00"},{"$f":"'aktuelle Zahlen'!C349","v":0},{"$f":"'aktuelle Zahlen'!D349","v":0},{"$f":"'aktuelle Zahlen'!E349","v":0},{"$f":"'aktuelle Zahlen'!F349","v":0},{"$f":"'aktuelle Zahlen'!G349","v":0},{"$f":"'aktuelle Zahlen'!H349","v":0},{"$f":"'aktuelle Zahlen'!J349","v":0}]
[{"$f":"'aktuelle Zahlen'!A350","v":0},{"$f":"'aktuelle Zahlen'!B350","v":"00:00:00"},{"$f":"'aktuelle Zahlen'!C350","v":0},{"$f":"'aktuelle Zahlen'!D350","v":0},{"$f":"'aktuelle Zahlen'!E350","v":0},{"$f":"'aktuelle Zahlen'!F350","v":0},{"$f":"'aktuelle Zahlen'!G350","v":0},{"$f":"'aktuelle Zahlen'!H350","v":0},{"$f":"'aktuelle Zahlen'!J350","v":0}]
[{"$f":"'aktuelle Zahlen'!A351","v":0},{"$f":"'aktuelle Zahlen'!B351","v":"00:00:00"},{"$f":"'aktuelle Zahlen'!C351","v":0},{"$f":"'aktuelle Zahlen'!D351","v":0},{"$f":"'aktuelle Zahlen'!E351","v":0},{"$f":"'aktuelle Zahlen'!F351","v":0},{"$f":"'aktuelle Zahlen'!G351","v":0},{"$f":"'aktuelle Zahlen'!H351","v":0},{"$f":"'aktuelle Zahlen'!J351","v":0}]
[{"$f":"'aktuelle Zahlen'!A352","v":0},{"$f":"'aktuelle Zahlen'!B352","v":"00:00:00"},{"$f":"'aktuelle Zahlen'!C352","v":0},{"$f":"'aktuelle Zahlen'!D352","v":0},{"$f":"'aktuelle Zahlen'!E352","v":0},{"$f":"'aktuelle Zahlen'!F352","v":0},{"$f":"'aktuelle Zahlen'!G352","v":0},{"$f":"'aktuelle Zahlen'!H352","v":0},{"$f":"'aktuelle Zahlen'!J352","v":0}]
[{"$f":"'aktuelle Zahlen'!A353","v":0},{"$f":"'aktuelle Zahlen'!B353","v":"00:00:00"},{"$f":"'aktuelle Zahlen'!C353","v":0},{"$f":"'aktuelle Zahlen'!D353","v":0},{"$f":"'aktuelle Zahlen'!E353","v":0},{"$f":"'aktuelle Zahlen'!F353","v":0},{"$f":"'aktuelle Zahlen'!G353","v":0},{"$f":"'aktuelle Zahlen'!H353","v":0},{"$f":"'aktuelle Zahlen'!J353","v":0}]
[{"$f":"'aktuelle Zahlen'!A354","v":0},{"$f":"'aktuelle Zahlen'!B354","v":"00:00:00"},{"$f":"'aktuelle Zahlen'!C354","v":0},{"$f":"'aktuelle Zahlen'!D354","v":0},{"$f":"'aktuelle Zahlen'!E354","v":0},{"$f":"'aktuelle Zahlen'!F354","v":0},{"$f":"'aktuelle Zahlen'!G354","v":0},{"$f":"'aktuelle Zahlen'!H354","v":0},{"$f":"'aktuelle Zahlen'!J354","v":0}]
[{"$f":"'aktuelle Zahlen'!A355","v":0},{"$f":"'aktuelle Zahlen'!B355","v":"00:00:00"},{"$f":"'aktuelle Zahlen'!C355","v":0},{"$f":"'aktuelle Zahlen'!D355","v":0},{"$f":"'aktuelle Zahlen'!E355","v":0},{"$f":"'aktuelle Zahlen'!F355","v":0},{"$f":"'aktuelle Zahlen'!G355","v":0},{"$f":"'aktuelle Zahlen'!H355","v":0},{"$f":"'aktuelle Zahlen'!J355","v":0}]
[{"$f":"'aktuelle Zahlen'!A356","v":0},{"$f":"'aktuelle Zahlen'!B356","v":"00:00:00"},{"$f":"'aktuelle Zahlen'!C356","v":0},{"$f":"'aktuelle Zahlen'!D356","v":0},{"$f":"'aktuelle Zahlen'!E356","v":0},{"$f":"'aktuelle Zahlen'!F356","v":0},{"$f":"'aktuelle Zahlen'!G356","v":0},{"$f":"'aktuelle Zahlen'!H356","v":0},{"$f":"'aktuelle Zahlen'!J356","v":0}]
[{"$f":"'aktuelle Zahlen'!A357","v":0},{"$f":"'aktuelle Zahlen'!B357","v":"00:00:00"},{"$f":"'aktuelle Zahlen'!C357","v":0},{"$f":"'aktuelle Zahlen'!D357","v":0},{"$f":"'aktuelle Zahlen'!E357","v":0},{"$f":"'aktuelle Zahlen'!F357","v":0},{"$f":"'aktuelle Zahlen'!G357","v":0},{"$f":"'aktuelle Zahlen'!H357","v":0},{"$f":"'aktuelle Zahlen'!J357","v":0}]
[{"$f":"'aktuelle Zahlen'!A358","v":0},{"$f":"'aktuelle Zahlen'!B358","v":"00:00:00"},{"$f":"'aktuelle Zahlen'!C358","v":0},{"$f":"'aktuelle Zahlen'!D358","v":0},{"$f":"'aktuelle Zahlen'!E358","v":0},{"$f":"'aktuelle Zahlen'!F358","v":0},{"$f":"'aktuelle Zahlen'!G358","v":0},{"$f":"'aktuelle Zahlen'!H358","v":0},{"$f":"'aktuelle Zahlen'!J358","v":0}]
[{"$f":"'aktuelle Zahlen'!A359","v":0},{"$f":"'aktuelle Zahlen'!B359","v":"00:00:00"},{"$f":"'aktuelle Zahlen'!C359","v":0},{"$f":"'aktuelle Zahlen'!D359","v":0},{"$f":"'aktuelle Zahlen'!E359","v":0},{"$f":"'aktuelle Zahlen'!F359","v":0},{"$f":"'aktuelle Zahlen'!G359","v":0},{"$f":"'aktuelle Zahlen'!H359","v":0},{"$f":"'aktuelle Zahlen'!J359","v":0}]
[{"$f":"'aktuelle Zahlen'!A360","v":0},{"$f":"'aktuelle Zahlen'!B360","v":"00:00:00"},{"$f":"'aktuelle Zahlen'!C360","v":0},{"$f":"'aktuelle Zahlen'!D360","v":0},{"$f":"'aktuelle Zahlen'!E360","v":0},{"$f":"'aktuelle Zahlen'!F360","v":0},{"$f":"'aktuelle Zahlen'!G360","v":0},{"$f":"'aktuelle Zahlen'!H360","v":0},{"$f":"'aktuelle Zahlen'!J360","v":0}]
[{"$f":"'aktuelle Zahlen'!A361","v":0},{"$f":"'aktuelle Zahlen'!B361","v":"00:00:00"},{"$f":"'aktuelle Zahlen'!C361","v":0},{"$f":"'aktuelle Zahlen'!D361","v":0},{"$f":"'aktuelle Zahlen'!E361","v":0},{"$f":"'aktuelle Zahlen'!F361","v":0},{"$f":"'aktuelle Zahlen'!G361","v":0},{"$f":"'aktuelle Zahlen'!H361","v":0},{"$f":"'aktuelle Zahlen'!J361","v":0}]
[{"$f":"'aktuelle Zahlen'!A362","v":0},{"$f":"'aktuelle Zahlen'!B362","v":"00:00:00"},{"$f":"'aktuelle Zahlen'!C362","v":0},{"$f":"'aktuelle Zahlen'!D362","v":0},{"$f":"'aktuelle Zahlen'!E362","v":0},{"$f":"'aktuelle Zahlen'!F362","v":0},{"$f":"'aktuelle Zahlen'!G362","v":0},{"$f":"'aktuelle Zahlen'!H362","v":0},{"$f":"'aktuelle Zahlen'!J362","v":0}]
[{"$f":"'aktuelle Zahlen'!A363","v":0},{"$f":"'aktuelle Zahlen'!B363","v":"00:00:00"},{"$f":"'aktuelle Zahlen'!C363","v":0},{"$f":"'aktuelle Zahlen'!D363","v":0},{"$f":"'aktuelle Zahlen'!E363","v":0},{"$f":"'aktuelle Zahlen'!F363","v":0},{"$f":"'aktuelle Zahlen'!G363","v":0},{"$f":"'aktuelle Zahlen'!H363","v":0},{"$f":"'aktuelle Zahlen'!J363","v":0}]
[{"$f":"'aktuelle Zahlen'!A364","v":0},{"$f":"'aktuelle Zahlen'!B364","v":"00:00:00"},{"$f":"'aktuelle Zahlen'!C364","v":0},{"$f":"'aktuelle Zahlen'!D364","v":0},{"$f":"'aktuelle Zahlen'!E364","v":0},{"$f":"'aktuelle Zahlen'!F364","v":0},{"$f":"'aktuelle Zahlen'!G364","v":0},{"$f":"'aktuelle Zahlen'!H364","v":0},{"$f":"'aktuelle Zahlen'!J364","v":0}]
[{"$f":"'aktuelle Zahlen'!A365","v":0},{"$f":"'aktuelle Zahlen'!B365","v":"00:00:00"},{"$f":"'aktuelle Zahlen'!C365","v":0},{"$f":"'aktuelle Zahlen'!D365","v":0},{"$f":"'aktuelle Zahlen'!E365","v":0},{"$f":"'aktuelle Zahlen'!F365","v":0},{"$f":"'aktuelle Zahlen'!G365","v":0},{"$f":"'aktuelle Zahlen'!H365","v":0},{"$f":"'aktuelle Zahlen'!J365","v":0}]
[{"$f":"'aktuelle Zahlen'!A366","v":0},{"$f":"'aktuelle Zahlen'!B366","v":"00:00:00"},{"$f":"'aktuelle Zahlen'!C366","v":0},{"$f":"'aktuelle Zahlen'!D366","v":0},{"$f":"'aktuelle Zahlen'!E366","v":0},{"$f":"'aktuelle Zahlen'!F366","v":0},{"$f":"'aktuelle Zahlen'!G366","v":0},{"$f":"'aktuelle Zahlen'!H366","v":0},{"$f":"'aktuelle Zahlen'!J366","v":0}]
[{"$f":"'aktuelle Zahlen'!A367","v":0},{"$f":"'aktuelle Zahlen'!B367","v":"00:00:00"},{"$f":"'aktuelle Zahlen'!C367","v":0},{"$f":"'aktuelle Zahlen'!D367","v":0},{"$f":"'aktuelle Zahlen'!E367","v":0},{"$f":"'aktuelle Zahlen'!F367","v":0},{"$f":"'aktuelle Zahlen'!G367","v":0},{"$f":"'aktuelle Zahlen'!H367","v":0},{"$f":"'aktuelle Zahlen'!J367","v":0}]
[{"$f":"'aktuelle Zahlen'!A368","v":0},{"$f":"'aktuelle Zahlen'!B368","v":"00:00:00"},{"$f":"'aktuelle Zahlen'!C368","v":0},{"$f":"'aktuelle Zahlen'!D368","v":0},{"$f":"'aktuelle Zahlen'!E368","v":0},{"$f":"'aktuelle Zahlen'!F368","v":0},{"$f":"'aktuelle Zahlen'!G368","v":0},{"$f":"'aktuelle Zahlen'!H368","v":0},{"$f":"'aktuelle Zahlen'!J368","v":0}]
[{"$f":"'aktuelle Zahlen'!A369","v":0},{"$f":"'aktuelle Zahlen'!B369","v":"00:00:00"},{"$f":"'aktuelle Zahlen'!C369","v":0},{"$f":"'aktuelle Zahlen'!D369","v":0},{"$f":"'aktuelle Zahlen'!E369","v":0},{"$f":"'aktuelle Zahlen'!F369","v":0},{"$f":"'aktuelle Zahlen'!G369","v":0},{"$f":"'aktuelle Zahlen'!H369","v":0},{"$f":"'aktuelle Zahlen'!J369","v":0}]
[{"$f":"'aktuelle Zahlen'!A370","v":0},{"$f":"'aktuelle Zahlen'!B370","v":"00:00:00"},{"$f":"'aktuelle Zahlen'!C370","v":0},{"$f":"'aktuelle Zahlen'!D370","v":0},{"$f":"'aktuelle Zahlen'!E370","v":0},{"$f":"'aktuelle Zahlen'!F370","v":0},{"$f":"'aktuelle Zahlen'!G370","v":0},{"$f":"'aktuelle Zahlen'!H370","v":0},{"$f":"'aktuelle Zahlen'!J370","v":0}]
[{"$f":"'aktuelle Zahlen'!A371","v":0},{"$f":"'aktuelle Zahlen'!B371","v":"00:00:00"},{"$f":"'aktuelle Zahlen'!C371","v":0},{"$f":"'aktuelle Zahlen'!D371","v":0},{"$f":"'aktuelle Zahlen'!E371","v":0},{"$f":"'aktuelle Zahlen'!F371","v":0},{"$f":"'aktuelle Zahlen'!G371","v":0},{"$f":"'aktuelle Zahlen'!H371","v":0},{"$f":"'aktuelle Zahlen'!J371","v":0}]
[{"$f":"'aktuelle Zahlen'!A372","v":0},{"$f":"'aktuelle Zahlen'!B372","v":"00:00:00"},{"$f":"'aktuelle Zahlen'!C372","v":0},{"$f":"'aktuelle Zahlen'!D372","v":0},{"$f":"'aktuelle Zahlen'!E372","v":0},{"$f":"'aktuelle Zahlen'!F372","v":0},{"$f":"'aktuelle Zahlen'!G372","v":0},{"$f":"'aktuelle Zahlen'!H372","v":0},{"$f":"'aktuelle Zahlen'!J372","v":0}]
[{"$f":"'aktuelle Zahlen'!A373","v":0},{"$f":"'aktuelle Zahlen'!B373","v":"00:00:00"},{"$f":"'aktuelle Zahlen'!C373","v":0},{"$f":"'aktuelle Zahlen'!D373","v":0},{"$f":"'aktuelle Zahlen'!E373","v":0},{"$f":"'aktuelle Zahlen'!F373","v":0},{"$f":"'aktuelle Zahlen'!G373","v":0},{"$f":"'aktuelle Zahlen'!H373","v":0},{"$f":"'aktuelle Zahlen'!J373","v":0}]
[{"$f":"'aktuelle Zahlen'!A374","v":0},{"$f":"'aktuelle Zahlen'!B374","v":"00:00:00"},{"$f":"'aktuelle Zahlen'!C374","v":0},{"$f":"'aktuelle Zahlen'!D374","v":0},{"$f":"'aktuelle Zahlen'!E374","v":0},{"$f":"'aktuelle Zahlen'!F374","v":0},{"$f":"'aktuelle Zahlen'!G374","v":0},{"$f":"'aktuelle Zahlen'!H374","v":0},{"$f":"'aktuelle Zahlen'!J374","v":0}]
[{"$f":"'aktuelle Zahlen'!A375","v":0},{"$f":"'aktuelle Zahlen'!B375","v":"00:00:00"},{"$f":"'aktuelle Zahlen'!C375","v":0},{"$f":"'aktuelle Zahlen'!D375","v":0},{"$f":"'aktuelle Zahlen'!E375","v":0},{"$f":"'aktuelle Zahlen'!F375","v":0},{"$f":"'aktuelle Zahlen'!G375","v":0},{"$f":"'aktuelle Zahlen'!H375","v":0},{"$f":"'aktuelle Zahlen'!J375","v":0}]
[{"$f":"'aktuelle Zahlen'!A376","v":0},{"$f":"'aktuelle Zahlen'!B376","v":"00:00:00"},{"$f":"'aktuelle Zahlen'!C376","v":0},{"$f":"'aktuelle Zahlen'!D376","v":0},{"$f":"'aktuelle Zahlen'!E376","v":0},{"$f":"'aktuelle Zahlen'!F376","v":0},{"$f":"'aktuelle Zahlen'!G376","v":0},{"$f":"'aktuelle Zahlen'!H376","v":0},{"$f":"'aktuelle Zahlen'!J376","v":0}]
[{"$f":"'aktuelle Zahlen'!A377","v":0},{"$f":"'aktuelle Zahlen'!B377","v":"00:00:00"},{"$f":"'aktuelle Zahlen'!C377","v":0},{"$f":"'aktuelle Zahlen'!D377","v":0},{"$f":"'aktuelle Zahlen'!E377","v":0},{"$f":"'aktuelle Zahlen'!F377","v":0},{"$f":"'aktuelle Zahlen'!G377","v":0},{"$f":"'aktuelle Zahlen'!H377","v":0},{"$f":"'aktuelle Zahlen'!J377","v":0}]
[{"$f":"'aktuelle Zahlen'!A378","v":0},{"$f":"'aktuelle Zahlen'!B378","v":"00:00:00"},{"$f":"'aktuelle Zahlen'!C378","v":0},{"$f":"'aktuelle Zahlen'!D378","v":0},{"$f":"'aktuelle Zahlen'!E378","v":0},{"$f":"'aktuelle Zahlen'!F378","v":0},{"$f":"'aktuelle Zahlen'!G378","v":0},{"$f":"'aktuelle Zahlen'!H378","v":0},{"$f":"'aktuelle Zahlen'!J378","v":0}]
[{"$f":"'aktuelle Zahlen'!A379","v":0},{"$f":"'aktuelle Zahlen'!B379","v":"00:00:00"},{"$f":"'aktuelle Zahlen'!C379","v":0},{"$f":"'aktuelle Zahlen'!D379","v":0},{"$f":"'aktuelle Zahlen'!E379","v":0},{"$f":"'aktuelle Zahlen'!F379","v":0},{"$f":"'aktuelle Zahlen'!G379","v":0},{"$f":"'aktuelle Zahlen'!H379","v":0},{"$f":"'aktuelle Zahlen'!J379","v":0}]
[{"$f":"'aktuelle Zahlen'!A380","v":0},{"$f":"'aktuelle Zahlen'!B380","v":"00:00:00"},{"$f":"'aktuelle Zahlen'!C380","v":0},{"$f":"'aktuelle Zahlen'!D380","v":0},{"$f":"'aktuelle Zahlen'!E380","v":0},{"$f":"'aktuelle Zahlen'!F380","v":0},{"$f":"'aktuelle Zahlen'!G380","v":0},{"$f":"'aktuelle Zahlen'!H380","v":0},{"$f":"'aktuelle Zahlen'!J380","v":0}]
[{"$f":"'aktuelle Zahlen'!A381","v":0},{"$f":"'aktuelle Zahlen'!B381","v":"00:00:00"},{"$f":"'aktuelle Zahlen'!C381","v":0},{"$f":"'aktuelle Zahlen'!D381","v":0},{"$f":"'aktuelle Zahlen'!E381","v":0},{"$f":"'aktuelle Zahlen'!F381","v":0},{"$f":"'aktuelle Zahlen'!G381","v":0},{"$f":"'aktuelle Zahlen'!H381","v":0},{"$f":"'aktuelle Zahlen'!J381","v":0}]
[{"$f":"'aktuelle Zahlen'!A382","v":0},{"$f":"'aktuelle Zahlen'!B382","v":"00:00:00"},{"$f":"'aktuelle Zahlen'!C382","v":0},{"$f":"'aktuelle Zahlen'!D382","v":0},{"$f":"'aktuelle Zahlen'!E382","v":0},{"$f":"'aktuelle Zahlen'!F382","v":0},{"$f":"'aktuelle Zahlen'!G382","v":0},{"$f":"'aktuelle Zahlen'!H382","v":0},{"$f":"'aktuelle Zahlen'!J382","v":0}]
[{"$f":"'aktuelle Zahlen'!A383","v":0},{"$f":"'aktuelle Zahlen'!B383","v":"00:00:00"},{"$f":"'aktuelle Zahlen'!C383","v":0},{"$f":"'aktuelle Zahlen'!D383","v":0},{"$f":"'aktuelle Zahlen'!E383","v":0},{"$f":"'aktuelle Zahlen'!F383","v":0},{"$f":"'aktuelle Zahlen'!G383","v":0},{"$f":"'aktuelle Zahlen'!H383","v":0},{"$f":"'aktuelle Zahlen'!J383","v":0}]
[{"$f":"'aktuelle Zahlen'!A384","v":0},{"$f":"'aktuelle Zahlen'!B384","v":"00:00:00"},{"$f":"'aktuelle Zahlen'!C384","v":0},{"$f":"'aktuelle Zahlen'!D384","v":0},{"$f":"'aktuelle Zahlen'!E384","v":0},{"$f":"'aktuelle Zahlen'!F384","v":0},{"$f":"'aktuelle Zahlen'!G384","v":0},{"$f":"'aktuelle Zahlen'!H384","v":0},{"$f":"'aktuelle Zahlen'!J384","v":0}]
[{"$f":"'aktuelle Zahlen'!A385","v":0},{"$f":"'aktuelle Zahlen'!B385","v":"00:00:00"},{"$f":"'aktuelle Zahlen'!C385","v":0},{"$f":"'aktuelle Zahlen'!D385","v":0},{"$f":"'aktuelle Zahlen'!E385","v":0},{"$f":"'aktuelle Zahlen'!F385","v":0},{"$f":"'aktuelle Zahlen'!G385","v":0},{"$f":"'aktuelle Zahlen'!H385","v":0},{"$f":"'aktuelle Zahlen'!J385","v":0}]
[{"$f":"'aktuelle Zahlen'!A386","v":0},{"$f":"'aktuelle Zahlen'!B386","v":"00:00:00"},{"$f":"'aktuelle Zahlen'!C386","v":0},{"$f":"'aktuelle Zahlen'!D386","v":0},{"$f":"'aktuelle Zahlen'!E386","v":0},{"$f":"'aktuelle Zahlen'!F386","v":0},{"$f":"'aktuelle Zahlen'!G386","v":0},{"$f":"'aktuelle Zahlen'!H386","v":0},{"$f":"'aktuelle Zahlen'!J386","v":0}]
[{"$f":"'aktuelle Zahlen'!A387","v":0},{"$f":"'aktuelle Zahlen'!B387","v":"00:00:00"},{"$f":"'aktuelle Zahlen'!C387","v":0},{"$f":"'aktuelle Zahlen'!D387","v":0},{"$f":"'aktuelle Zahlen'!E387","v":0},{"$f":"'aktuelle Zahlen'!F387","v":0},{"$f":"'aktuelle Zahlen'!G387","v":0},{"$f":"'aktuelle Zahlen'!H387","v":0},{"$f":"'aktuelle Zahlen'!J387","v":0}]
[{"$f":"'aktuelle Zahlen'!A388","v":0},{"$f":"'aktuelle Zahlen'!B388","v":"00:00:00"},{"$f":"'aktuelle Zahlen'!C388","v":0},{"$f":"'aktuelle Zahlen'!D388","v":0},{"$f":"'aktuelle Zahlen'!E388","v":0},{"$f":"'aktuelle Zahlen'!F388","v":0},{"$f":"'aktuelle Zahlen'!G388","v":0},{"$f":"'aktuelle Zahlen'!H388","v":0},{"$f":"'aktuelle Zahlen'!J388","v":0}]
[{"$f":"'aktuelle Zahlen'!A389","v":0},{"$f":"'aktuelle Zahlen'!B389","v":"00:00:00"},{"$f":"'aktuelle Zahlen'!C389","v":0},{"$f":"'aktuelle Zahlen'!D389","v":0},{"$f":"'aktuelle Zahlen'!E389","v":0},{"$f":"'aktuelle Zahlen'!F389","v":0},{"$f":"'aktuelle Zahlen'!G389","v":0},{"$f":"'aktuelle Zahlen'!H389","v":0},{"$f":"'aktuelle Zahlen'!J389","v":0}]
[{"$f":"'aktuelle Zahlen'!A390","v":0},{"$f":"'aktuelle Zahlen'!B390","v":"00:00:00"},{"$f":"'aktuelle Zahlen'!C390","v":0},{"$f":"'aktuelle Zahlen'!D390","v":0},{"$f":"'aktuelle Zahlen'!E390","v":0},{"$f":"'aktuelle Zahlen'!F390","v":0},{"$f":"'aktuelle Zahlen'!G390","v":0},{"$f":"'aktuelle Zahlen'!H390","v":0},{"$f":"'aktuelle Zahlen'!J390","v":0}]
[{"$f":"'aktuelle Zahlen'!A391","v":0},{"$f":"'aktuelle Zahlen'!B391","v":"00:00:00"},{"$f":"'aktuelle Zahlen'!C391","v":0},{"$f":"'aktuelle Zahlen'!D391","v":0},{"$f":"'aktuelle Zahlen'!E391","v":0},{"$f":"'aktuelle Zahlen'!F391","v":0},{"$f":"'aktuelle Zahlen'!G391","v":0},{"$f":"'aktuelle Zahlen'!H391","v":0},{"$f":"'aktuelle Zahlen'!J391","v":0}]
[{"$f":"'aktuelle Zahlen'!A392","v":0},{"$f":"'aktuelle Zahlen'!B392","v":"00:00:00"},{"$f":"'aktuelle Zahlen'!C392","v":0},{"$f":"'aktuelle Zahlen'!D392","v":0},{"$f":"'aktuelle Zahlen'!E392","v":0},{"$f":"'aktuelle Zahlen'!F392","v":0},{"$f":"'aktuelle Zahlen'!G392","v":0},{"$f":"'aktuelle Zahlen'!H392","v":0},{"$f":"'aktuelle Zahlen'!J392","v":0}]
[{"$f":"'aktuelle Zahlen'!A393","v":0},{"$f":"'aktuelle Zahlen'!B393","v":"00:00:00"},{"$f":"'aktuelle Zahlen'!C393","v":0},{"$f":"'aktuelle Zahlen'!D393","v":0},{"$f":"'aktuelle Zahlen'!E393","v":0},{"$f":"'aktuelle Zahlen'!F393","v":0},{"$f":"'aktuelle Zahlen'!G393","v":0},{"$f":"'aktuelle Zahlen'!H393","v":0},{"$f":"'aktuelle Zahlen'!J393","v":0}]
[{"$f":"'aktuelle Zahlen'!A394","v":0},{"$f":"'aktuelle Zahlen'!B394","v":"00:00:00"},{"$f":"'aktuelle Zahlen'!C394","v":0},{"$f":"'aktuelle Zahlen'!D394","v":0},{"$f":"'aktuelle Zahlen'!E394","v":0},{"$f":"'aktuelle Zahlen'!F394","v":0},{"$f":"'aktuelle Zahlen'!G394","v":0},{"$f":"'aktuelle Zahlen'!H394","v":0},{"$f":"'aktuelle Zahlen'!J394","v":0}]
[{"$f":"'aktuelle Zahlen'!A395","v":0},{"$f":"'aktuelle Zahlen'!B395","v":"00:00:00"},{"$f":"'aktuelle Zahlen'!C395","v":0},{"$f":"'aktuelle Zahlen'!D395","v":0},{"$f":"'aktuelle Zahlen'!E395","v":0},{"$f":"'aktuelle Zahlen'!F395","v":0},{"$f":"'aktuelle Zahlen'!G395","v":0},{"$f":"'aktuelle Zahlen'!H395","v":0},{"$f":"'aktuelle Zahlen'!J395","v":0}]
[{"$f":"'aktuelle Zahlen'!A396","v":0},{"$f":"'aktuelle Zahlen'!B396","v":"00:00:00"},{"$f":"'aktuelle Zahlen'!C396","v":0},{"$f":"'aktuelle Zahlen'!D396","v":0},{"$f":"'aktuelle Zahlen'!E396","v":0},{"$f":"'aktuelle Zahlen'!F396","v":0},{"$f":"'aktuelle Zahlen'!G396","v":0},{"$f":"'aktuelle Zahlen'!H396","v":0},{"$f":"'aktuelle Zahlen'!J396","v":0}]
[{"$f":"'aktuelle Zahlen'!A397","v":0},{"$f":"'aktuelle Zahlen'!B397","v":"00:00:00"},{"$f":"'aktuelle Zahlen'!C397","v":0},{"$f":"'aktuelle Zahlen'!D397","v":0},{"$f":"'aktuelle Zahlen'!E397","v":0},{"$f":"'aktuelle Zahlen'!F397","v":0},{"$f":"'aktuelle Zahlen'!G397","v":0},{"$f":"'aktuelle Zahlen'!H397","v":0},{"$f":"'aktuelle Zahlen'!J397","v":0}]
[{"$f":"'aktuelle Zahlen'!A398","v":0},{"$f":"'aktuelle Zahlen'!B398","v":"00:00:00"},{"$f":"'aktuelle Zahlen'!C398","v":0},{"$f":"'aktuelle Zahlen'!D398","v":0},{"$f":"'aktuelle Zahlen'!E398","v":0},{"$f":"'aktuelle Zahlen'!F398","v":0},{"$f":"'aktuelle Zahlen'!G398","v":0},{"$f":"'aktuelle Zahlen'!H398","v":0},{"$f":"'aktuelle Zahlen'!J398","v":0}]
[{"$f":"'aktuelle Zahlen'!A399","v":0},{"$f":"'aktuelle Zahlen'!B399","v":"00:00:00"},{"$f":"'aktuelle Zahlen'!C399","v":0},{"$f":"'aktuelle Zahlen'!D399","v":0},{"$f":"'aktuelle Zahlen'!E399","v":0},{"$f":"'aktuelle Zahlen'!F399","v":0},{"$f":"'aktuelle Zahlen'!G399","v":0},{"$f":"'aktuelle Zahlen'!H399","v":0},{"$f":"'aktuelle Zahlen'!J399","v":0}]
[{"$f":"'aktuelle Zahlen'!A400","v":0},{"$f":"'aktuelle Zahlen'!B400","v":"00:00:00"},{"$f":"'aktuelle Zahlen'!C400","v":0},{"$f":"'aktuelle Zahlen'!D400","v":0},{"$f":"'aktuelle Zahlen'!E400","v":0},{"$f":"'aktuelle Zahlen'!F400","v":0},{"$f":"'aktuelle Zahlen'!G400","v":0},{"$f":"'aktuelle Zahlen'!H400","v":0},{"$f":"'aktuelle Zahlen'!J400","v":0}]
[{"$f":"'aktuelle Zahlen'!A401","v":0},{"$f":"'aktuelle Zahlen'!B401","v":"00:00:00"},{"$f":"'aktuelle Zahlen'!C401","v":0},{"$f":"'aktuelle Zahlen'!D401","v":0},{"$f":"'aktuelle Zahlen'!E401","v":0},{"$f":"'aktuelle Zahlen'!F401","v":0},{"$f":"'aktuelle Zahlen'!G401","v":0},{"$f":"'aktuelle Zahlen'!H401","v":0},{"$f":"'aktuelle Zahlen'!J401","v":0}]
[{"$f":"'aktuelle Zahlen'!A402","v":0},{"$f":"'aktuelle Zahlen'!B402","v":"00:00:00"},{"$f":"'aktuelle Zahlen'!C402","v":0},{"$f":"'aktuelle Zahlen'!D402","v":0},{"$f":"'aktuelle Zahlen'!E402","v":0},{"$f":"'aktuelle Zahlen'!F402","v":0},{"$f":"'aktuelle Zahlen'!G402","v":0},{"$f":"'aktuelle Zahlen'!H402","v":0},{"$f":"'aktuelle Zahlen'!J402","v":0}]
[{"$f":"'aktuelle Zahlen'!A403","v":0},{"$f":"'aktuelle Zahlen'!B403","v":"00:00:00"},{"$f":"'aktuelle Zahlen'!C403","v":0},{"$f":"'aktuelle Zahlen'!D403","v":0},{"$f":"'aktuelle Zahlen'!E403","v":0},{"$f":"'aktuelle Zahlen'!F403","v":0},{"$f":"'aktuelle Zahlen'!G403","v":0},{"$f":"'aktuelle Zahlen'!H403","v":0},{"$f":"'aktuelle Zahlen'!J403","v":0}]
[{"$f":"'aktuelle Zahlen'!A404","v":0},{"$f":"'aktuelle Zahlen'!B404","v":"00:00:00"},{"$f":"'aktuelle Zahlen'!C404","v":0},{"$f":"'aktuelle Zahlen'!D404","v":0},{"$f":"'aktuelle Zahlen'!E404","v":0},{"$f":"'aktuelle Zahlen'!F404","v":0},{"$f":"'aktuelle Zahlen'!G404","v":0},{"$f":"'aktuelle Zahlen'!H404","v":0},{"$f":"'aktuelle Zahlen'!J404","v":0}]
[{"$f":"'aktuelle Zahlen'!A405","v":0},{"$f":"'aktuelle Zahlen'!B405","v":"00:00:00"},{"$f":"'aktuelle Zahlen'!C405","v":0},{"$f":"'aktuelle Zahlen'!D405","v":0},{"$f":"'aktuelle Zahlen'!E405","v":0},{"$f":"'aktuelle Zahlen'!F405","v":0},{"$f":"'aktuelle Zahlen'!G405","v":0},{"$f":"'aktuelle Zahlen'!H405","v":0},{"$f":"'aktuelle Zahlen'!J405","v":0}]
[{"$f":"'aktuelle Zahlen'!A406","v":0},{"$f":"'aktuelle Zahlen'!B406","v":"00:00:00"},{"$f":"'aktuelle Zahlen'!C406","v":0},{"$f":"'aktuelle Zahlen'!D406","v":0},{"$f":"'aktuelle Zahlen'!E406","v":0},{"$f":"'aktuelle Zahlen'!F406","v":0},{"$f":"'aktuelle Zahlen'!G406","v":0},{"$f":"'aktuelle Zahlen'!H406","v":0},{"$f":"'aktuelle Zahlen'!J406","v":0}]
[{"$f":"'aktuelle Zahlen'!A407","v":0},{"$f":"'aktuelle Zahlen'!B407","v":"00:00:00"},{"$f":"'aktuelle Zahlen'!C407","v":0},{"$f":"'aktuelle Zahlen'!D407","v":0},{"$f":"'aktuelle Zahlen'!E407","v":0},{"$f":"'aktuelle Zahlen'!F407","v":0},{"$f":"'aktuelle Zahlen'!G407","v":0},{"$f":"'aktuelle Zahlen'!H407","v":0},{"$f":"'aktuelle Zahlen'!J407","v":0}]
[{"$f":"'aktuelle Zahlen'!A408","v":0},{"$f":"'aktuelle Zahlen'!B408","v":"00:00:00"},{"$f":"'aktuelle Zahlen'!C408","v":0},{"$f":"'aktuelle Zahlen'!D408","v":0},{"$f":"'aktuelle Zahlen'!E408","v":0},{"$f":"'aktuelle Zahlen'!F408","v":0},{"$f":"'aktuelle Zahlen'!G408","v":0},{"$f":"'aktuelle Zahlen'!H408","v":0},{"$f":"'aktuelle Zahlen'!J408","v":0}]
[{"$f":"'aktuelle Zahlen'!A409","v":0},{"$f":"'aktuelle Zahlen'!B409","v":"00:00:00"},{"$f":"'aktuelle Zahlen'!C409","v":0},{"$f":"'aktuelle Zahlen'!D409","v":0},{"$f":"'aktuelle Zahlen'!E409","v":0},{"$f":"'aktuelle Zahlen'!F409","v":0},{"$f":"'aktuelle Zahlen'!G409","v":0},{"$f":"'aktuelle Zahlen'!H409","v":0},{"$f":"'aktuelle Zahlen'!J409","v":0}]
[{"$f":"'aktuelle Zahlen'!A410","v":0},{"$f":"'aktuelle Zahlen'!B410","v":"00:00:00"},{"$f":"'aktuelle Zahlen'!C410","v":0},{"$f":"'aktuelle Zahlen'!D410","v":0},{"$f":"'aktuelle Zahlen'!E410","v":0},{"$f":"'aktuelle Zahlen'!F410","v":0},{"$f":"'aktuelle Zahlen'!G410","v":0},{"$f":"'aktuelle Zahlen'!H410","v":0},{"$f":"'aktuelle Zahlen'!J410","v":0}]
[{"$f":"'aktuelle Zahlen'!A411","v":0},{"$f":"'aktuelle Zahlen'!B411","v":"00:00:00"},{"$f":"'aktuelle Zahlen'!C411","v":0},{"$f":"'aktuelle Zahlen'!D411","v":0},{"$f":"'aktuelle Zahlen'!E411","v":0},{"$f":"'aktuelle Zahlen'!F411","v":0},{"$f":"'aktuelle Zahlen'!G411","v":0},{"$f":"'aktuelle Zahlen'!H411","v":0},{"$f":"'aktuelle Zahlen'!J411","v":0}]
[{"$f":"'aktuelle Zahlen'!A412","v":0},{"$f":"'aktuelle Zahlen'!B412","v":"00:00:00"},{"$f":"'aktuelle Zahlen'!C412","v":0},{"$f":"'aktuelle Zahlen'!D412","v":0},{"$f":"'aktuelle Zahlen'!E412","v":0},{"$f":"'aktuelle Zahlen'!F412","v":0},{"$f":"'aktuelle Zahlen'!G412","v":0},{"$f":"'aktuelle Zahlen'!H412","v":0},{"$f":"'aktuelle Zahlen'!J412","v":0}]
[{"$f":"'aktuelle Zahlen'!A413","v":0},{"$f":"'aktuelle Zahlen'!B413","v":"00:00:00"},{"$f":"'aktuelle Zahlen'!C413","v":0},{"$f":"'aktuelle Zahlen'!D413","v":0},{"$f":"'aktuelle Zahlen'!E413","v":0},{"$f":"'aktuelle Zahlen'!F413","v":0},{"$f":"'aktuelle Zahlen'!G413","v":0},{"$f":"'aktuelle Zahlen'!H413","v":0},{"$f":"'aktuelle Zahlen'!J413","v":0}]
[{"$f":"'aktuelle Zahlen'!A414","v":0},{"$f":"'aktuelle Zahlen'!B414","v":"00:00:00"},{"$f":"'aktuelle Zahlen'!C414","v":0},{"$f":"'aktuelle Zahlen'!D414","v":0},{"$f":"'aktuelle Zahlen'!E414","v":0},{"$f":"'aktuelle Zahlen'!F414","v":0},{"$f":"'aktuelle Zahlen'!G414","v":0},{"$f":"'aktuelle Zahlen'!H414","v":0},{"$f":"'aktuelle Zahlen'!J414","v":0}]
[{"$f":"'aktuelle Zahlen'!A415","v":0},{"$f":"'aktuelle Zahlen'!B415","v":"00:00:00"},{"$f":"'aktuelle Zahlen'!C415","v":0},{"$f":"'aktuelle Zahlen'!D415","v":0},{"$f":"'aktuelle Zahlen'!E415","v":0},{"$f":"'aktuelle Zahlen'!F415","v":0},{"$f":"'aktuelle Zahlen'!G415","v":0},{"$f":"'aktuelle Zahlen'!H415","v":0},{"$f":"'aktuelle Zahlen'!J415","v":0}]
[{"$f":"'aktuelle Zahlen'!A416","v":0},{"$f":"'aktuelle Zahlen'!B416","v":"00:00:00"},{"$f":"'aktuelle Zahlen'!C416","v":0},{"$f":"'aktuelle Zahlen'!D416","v":0},{"$f":"'aktuelle Zahlen'!E416","v":0},{"$f":"'aktuelle Zahlen'!F416","v":0},{"$f":"'aktuelle Zahlen'!G416","v":0},{"$f":"'aktuelle Zahlen'!H416","v":0},{"$f":"'aktuelle Zahlen'!J416","v":0}]
[{"$f":"'aktuelle Zahlen'!A417","v":0},{"$f":"'aktuelle Zahlen'!B417","v":"00:00:00"},{"$f":"'aktuelle Zahlen'!C417","v":0},{"$f":"'aktuelle Zahlen'!D417","v":0},{"$f":"'aktuelle Zahlen'!E417","v":0},{"$f":"'aktuelle Zahlen'!F417","v":0},{"$f":"'aktuelle Zahlen'!G417","v":0},{"$f":"'aktuelle Zahlen'!H417","v":0},{"$f":"'aktuelle Zahlen'!J417","v":0}]
[{"$f":"'aktuelle Zahlen'!A418","v":0},{"$f":"'aktuelle Zahlen'!B418","v":"00:00:00"},{"$f":"'aktuelle Zahlen'!C418","v":0},{"$f":"'aktuelle Zahlen'!D418","v":0},{"$f":"'aktuelle Zahlen'!E418","v":0},{"$f":"'aktuelle Zahlen'!F418","v":0},{"$f":"'aktuelle Zahlen'!G418","v":0},{"$f":"'aktuelle Zahlen'!H418","v":0},{"$f":"'aktuelle Zahlen'!J418","v":0}]
[{"$f":"'aktuelle Zahlen'!A419","v":0},{"$f":"'aktuelle Zahlen'!B419","v":"00:00:00"},{"$f":"'aktuelle Zahlen'!C419","v":0},{"$f":"'aktuelle Zahlen'!D419","v":0},{"$f":"'aktuelle Zahlen'!E419","v":0},{"$f":"'aktuelle Zahlen'!F419","v":0},{"$f":"'aktuelle Zahlen'!G419","v":0},{"$f":"'aktuelle Zahlen'!H419","v":0},{"$f":"'aktuelle Zahlen'!J419","v":0}]
[{"$f":"'aktuelle Zahlen'!A420","v":0},{"$f":"'aktuelle Zahlen'!B420","v":"00:00:00"},{"$f":"'aktuelle Zahlen'!C420","v":0},{"$f":"'aktuelle Zahlen'!D420","v":0},{"$f":"'aktuelle Zahlen'!E420","v":0},{"$f":"'aktuelle Zahlen'!F420","v":0},{"$f":"'aktuelle Zahlen'!G420","v":0},{"$f":"'aktuelle Zahlen'!H420","v":0},{"$f":"'aktuelle Zahlen'!J420","v":0}]
[{"$f":"'aktuelle Zahlen'!A421","v":0},{"$f":"'aktuelle Zahlen'!B421","v":"00:00:00"},{"$f":"'aktuelle Zahlen'!C421","v":0},{"$f":"'aktuelle Zahlen'!D421","v":0},{"$f":"'aktuelle Zahlen'!E421","v":0},{"$f":"'aktuelle Zahlen'!F421","v":0},{"$f":"'aktuelle Zahlen'!G421","v":0},{"$f":"'aktuelle Zahlen'!H421","v":0},{"$f":"'aktuelle Zahlen'!J421","v":0}]
[{"$f":"'aktuelle Zahlen'!A422","v":0},{"$f":"'aktuelle Zahlen'!B422","v":"00:00:00"},{"$f":"'aktuelle Zahlen'!C422","v":0},{"$f":"'aktuelle Zahlen'!D422","v":0},{"$f":"'aktuelle Zahlen'!E422","v":0},{"$f":"'aktuelle Zahlen'!F422","v":0},{"$f":"'aktuelle Zahlen'!G422","v":0},{"$f":"'aktuelle Zahlen'!H422","v":0},{"$f":"'aktuelle Zahlen'!J422","v":0}]
[{"$f":"'aktuelle Zahlen'!A423","v":0},{"$f":"'aktuelle Zahlen'!B423","v":"00:00:00"},{"$f":"'aktuelle Zahlen'!C423","v":0},{"$f":"'aktuelle Zahlen'!D423","v":0},{"$f":"'aktuelle Zahlen'!E423","v":0},{"$f":"'aktuelle Zahlen'!F423","v":0},{"$f":"'aktuelle Zahlen'!G423","v":0},{"$f":"'aktuelle Zahlen'!H423","v":0},{"$f":"'aktuelle Zahlen'!J423","v":0}]
[{"$f":"'aktuelle Zahlen'!A424","v":0},{"$f":"'aktuelle Zahlen'!B424","v":"00:00:00"},{"$f":"'aktuelle Zahlen'!C424","v":0},{"$f":"'aktuelle Zahlen'!D424","v":0},{"$f":"'aktuelle Zahlen'!E424","v":0},{"$f":"'aktuelle Zahlen'!F424","v":0},{"$f":"'aktuelle Zahlen'!G424","v":0},{"$f":"'aktuelle Zahlen'!H424","v":0},{"$f":"'aktuelle Zahlen'!J424","v":0}]
[{"$f":"'aktuelle Zahlen'!A425","v":0},{"$f":"'aktuelle Zahlen'!B425","v":"00:00:00"},{"$f":"'aktuelle Zahlen'!C425","v":0},{"$f":"'aktuelle Zahlen'!D425","v":0},{"$f":"'aktuelle Zahlen'!E425","v":0},{"$f":"'aktuelle Zahlen'!F425","v":0},{"$f":"'aktuelle Zahlen'!G425","v":0},{"$f":"'aktuelle Zahlen'!H425","v":0},{"$f":"'aktuelle Zahlen'!J425","v":0}]
[{"$f":"'aktuelle Zahlen'!A426","v":0},{"$f":"'aktuelle Zahlen'!B426","v":"00:00:00"},{"$f":"'aktuelle Zahlen'!C426","v":0},{"$f":"'aktuelle Zahlen'!D426","v":0},{"$f":"'aktuelle Zahlen'!E426","v":0},{"$f":"'aktuelle Zahlen'!F426","v":0},{"$f":"'aktuelle Zahlen'!G426","v":0},{"$f":"'aktuelle Zahlen'!H426","v":0},{"$f":"'aktuelle Zahlen'!J426","v":0}]
[{"$f":"'aktuelle Zahlen'!A427","v":0},{"$f":"'aktuelle Zahlen'!B427","v":"00:00:00"},{"$f":"'aktuelle Zahlen'!C427","v":0},{"$f":"'aktuelle Zahlen'!D427","v":0},{"$f":"'aktuelle Zahlen'!E427","v":0},{"$f":"'aktuelle Zahlen'!F427","v":0},{"$f":"'aktuelle Zahlen'!G427","v":0},{"$f":"'aktuelle Zahlen'!H427","v":0},{"$f":"'aktuelle Zahlen'!J427","v":0}]
[{"$f":"'aktuelle Zahlen'!A428","v":0},{"$f":"'aktuelle Zahlen'!B428","v":"00:00:00"},{"$f":"'aktuelle Zahlen'!C428","v":0},{"$f":"'aktuelle Zahlen'!D428","v":0},{"$f":"'aktuelle Zahlen'!E428","v":0},{"$f":"'aktuelle Zahlen'!F428","v":0},{"$f":"'aktuelle Zahlen'!G428","v":0},{"$f":"'aktuelle Zahlen'!H428","v":0},{"$f":"'aktuelle Zahlen'!J428","v":0}]
[{"$f":"'aktuelle Zahlen'!A429","v":0},{"$f":"'aktuelle Zahlen'!B429","v":"00:00:00"},{"$f":"'aktuelle Zahlen'!C429","v":0},{"$f":"'aktuelle Zahlen'!D429","v":0},{"$f":"'aktuelle Zahlen'!E429","v":0},{"$f":"'aktuelle Zahlen'!F429","v":0},{"$f":"'aktuelle Zahlen'!G429","v":0},{"$f":"'aktuelle Zahlen'!H429","v":0},{"$f":"'aktuelle Zahlen'!J429","v":0}]
[{"$f":"'aktuelle Zahlen'!A430","v":0},{"$f":"'aktuelle Zahlen'!B430","v":"00:00:00"},{"$f":"'aktuelle Zahlen'!C430","v":0},{"$f":"'aktuelle Zahlen'!D430","v":0},{"$f":"'aktuelle Zahlen'!E430","v":0},{"$f":"'aktuelle Zahlen'!F430","v":0},{"$f":"'aktuelle Zahlen'!G430","v":0},{"$f":"'aktuelle Zahlen'!H430","v":0},{"$f":"'aktuelle Zahlen'!J430","v":0}]
[{"$f":"'aktuelle Zahlen'!A431","v":0},{"$f":"'aktuelle Zahlen'!B431","v":"00:00:00"},{"$f":"'aktuelle Zahlen'!C431","v":0},{"$f":"'aktuelle Zahlen'!D431","v":0},{"$f":"'aktuelle Zahlen'!E431","v":0},{"$f":"'aktuelle Zahlen'!F431","v":0},{"$f":"'aktuelle Zahlen'!G431","v":0},{"$f":"'aktuelle Zahlen'!H431","v":0},{"$f":"'aktuelle Zahlen'!J431","v":0}]
[{"$f":"'aktuelle Zahlen'!A432","v":0},{"$f":"'aktuelle Zahlen'!B432","v":"00:00:00"},{"$f":"'aktuelle Zahlen'!C432","v":0},{"$f":"'aktuelle Zahlen'!D432","v":0},{"$f":"'aktuelle Zahlen'!E432","v":0},{"$f":"'aktuelle Zahlen'!F432","v":0},{"$f":"'aktuelle Zahlen'!G432","v":0},{"$f":"'aktuelle Zahlen'!H432","v":0},{"$f":"'aktuelle Zahlen'!J432","v":0}]
[{"$f":"'aktuelle Zahlen'!A433","v":0},{"$f":"'aktuelle Zahlen'!B433","v":"00:00:00"},{"$f":"'aktuelle Zahlen'!C433","v":0},{"$f":"'aktuelle Zahlen'!D433","v":0},{"$f":"'aktuelle Zahlen'!E433","v":0},{"$f":"'aktuelle Zahlen'!F433","v":0},{"$f":"'aktuelle Zahlen'!G433","v":0},{"$f":"'aktuelle Zahlen'!H433","v":0},{"$f":"'aktuelle Zahlen'!J433","v":0}]
[{"$f":"'aktuelle Zahlen'!A434","v":0},{"$f":"'aktuelle Zahlen'!B434","v":"00:00:00"},{"$f":"'aktuelle Zahlen'!C434","v":0},{"$f":"'aktuelle Zahlen'!D434","v":0},{"$f":"'aktuelle Zahlen'!E434","v":0},{"$f":"'aktuelle Zahlen'!F434","v":0},{"$f":"'aktuelle Zahlen'!G434","v":0},{"$f":"'aktuelle Zahlen'!H434","v":0},{"$f":"'aktuelle Zahlen'!J434","v":0}]
[{"$f":"'aktuelle Zahlen'!A435","v":0},{"$f":"'aktuelle Zahlen'!B435","v":"00:00:00"},{"$f":"'aktuelle Zahlen'!C435","v":0},{"$f":"'aktuelle Zahlen'!D435","v":0},{"$f":"'aktuelle Zahlen'!E435","v":0},{"$f":"'aktuelle Zahlen'!F435","v":0},{"$f":"'aktuelle Zahlen'!G435","v":0},{"$f":"'aktuelle Zahlen'!H435","v":0},{"$f":"'aktuelle Zahlen'!J435","v":0}]
[{"$f":"'aktuelle Zahlen'!A436","v":0},{"$f":"'aktuelle Zahlen'!B436","v":"00:00:00"},{"$f":"'aktuelle Zahlen'!C436","v":0},{"$f":"'aktuelle Zahlen'!D436","v":0},{"$f":"'aktuelle Zahlen'!E436","v":0},{"$f":"'aktuelle Zahlen'!F436","v":0},{"$f":"'aktuelle Zahlen'!G436","v":0},{"$f":"'aktuelle Zahlen'!H436","v":0},{"$f":"'aktuelle Zahlen'!J436","v":0}]
[{"$f":"'aktuelle Zahlen'!A437","v":0},{"$f":"'aktuelle Zahlen'!B437","v":"00:00:00"},{"$f":"'aktuelle Zahlen'!C437","v":0},{"$f":"'aktuelle Zahlen'!D437","v":0},{"$f":"'aktuelle Zahlen'!E437","v":0},{"$f":"'aktuelle Zahlen'!F437","v":0},{"$f":"'aktuelle Zahlen'!G437","v":0},{"$f":"'aktuelle Zahlen'!H437","v":0},{"$f":"'aktuelle Zahlen'!J437","v":0}]
[{"$f":"'aktuelle Zahlen'!A438","v":0},{"$f":"'aktuelle Zahlen'!B438","v":"00:00:00"},{"$f":"'aktuelle Zahlen'!C438","v":0},{"$f":"'aktuelle Zahlen'!D438","v":0},{"$f":"'aktuelle Zahlen'!E438","v":0},{"$f":"'aktuelle Zahlen'!F438","v":0},{"$f":"'aktuelle Zahlen'!G438","v":0},{"$f":"'aktuelle Zahlen'!H438","v":0},{"$f":"'aktuelle Zahlen'!J438","v":0}]
[{"$f":"'aktuelle Zahlen'!A439","v":0},{"$f":"'aktuelle Zahlen'!B439","v":"00:00:00"},{"$f":"'aktuelle Zahlen'!C439","v":0},{"$f":"'aktuelle Zahlen'!D439","v":0},{"$f":"'aktuelle Zahlen'!E439","v":0},{"$f":"'aktuelle Zahlen'!F439","v":0},{"$f":"'aktuelle Zahlen'!G439","v":0},{"$f":"'aktuelle Zahlen'!H439","v":0},{"$f":"'aktuelle Zahlen'!J439","v":0}]
[{"$f":"'aktuelle Zahlen'!A440","v":0},{"$f":"'aktuelle Zahlen'!B440","v":"00:00:00"},{"$f":"'aktuelle Zahlen'!C440","v":0},{"$f":"'aktuelle Zahlen'!D440","v":0},{"$f":"'aktuelle Zahlen'!E440","v":0},{"$f":"'aktuelle Zahlen'!F440","v":0},{"$f":"'aktuelle Zahlen'!G440","v":0},{"$f":"'aktuelle Zahlen'!H440","v":0},{"$f":"'aktuelle Zahlen'!J440","v":0}]
[{"$f":"'aktuelle Zahlen'!A441","v":0},{"$f":"'aktuelle Zahlen'!B441","v":"00:00:00"},{"$f":"'aktuelle Zahlen'!C441","v":0},{"$f":"'aktuelle Zahlen'!D441","v":0},{"$f":"'aktuelle Zahlen'!E441","v":0},{"$f":"'aktuelle Zahlen'!F441","v":0},{"$f":"'aktuelle Zahlen'!G441","v":0},{"$f":"'aktuelle Zahlen'!H441","v":0},{"$f":"'aktuelle Zahlen'!J441","v":0}]
[{"$f":"'aktuelle Zahlen'!A442","v":0},{"$f":"'aktuelle Zahlen'!B442","v":"00:00:00"},{"$f":"'aktuelle Zahlen'!C442","v":0},{"$f":"'aktuelle Zahlen'!D442","v":0},{"$f":"'aktuelle Zahlen'!E442","v":0},{"$f":"'aktuelle Zahlen'!F442","v":0},{"$f":"'aktuelle Zahlen'!G442","v":0},{"$f":"'aktuelle Zahlen'!H442","v":0},{"$f":"'aktuelle Zahlen'!J442","v":0}]
[{"$f":"'aktuelle Zahlen'!A443","v":0},{"$f":"'aktuelle Zahlen'!B443","v":"00:00:00"},{"$f":"'aktuelle Zahlen'!C443","v":0},{"$f":"'aktuelle Zahlen'!D443","v":0},{"$f":"'aktuelle Zahlen'!E443","v":0},{"$f":"'aktuelle Zahlen'!F443","v":0},{"$f":"'aktuelle Zahlen'!G443","v":0},{"$f":"'aktuelle Zahlen'!H443","v":0},{"$f":"'aktuelle Zahlen'!J443","v":0}]
[{"$f":"'aktuelle Zahlen'!A444","v":0},{"$f":"'aktuelle Zahlen'!B444","v":"00:00:00"},{"$f":"'aktuelle Zahlen'!C444","v":0},{"$f":"'aktuelle Zahlen'!D444","v":0},{"$f":"'aktuelle Zahlen'!E444","v":0},{"$f":"'aktuelle Zahlen'!F444","v":0},{"$f":"'aktuelle Zahlen'!G444","v":0},{"$f":"'aktuelle Zahlen'!H444","v":0},{"$f":"'aktuelle Zahlen'!J444","v":0}]
[{"$f":"'aktuelle Zahlen'!A445","v":0},{"$f":"'aktuelle Zahlen'!B445","v":"00:00:00"},{"$f":"'aktuelle Zahlen'!C445","v":0},{"$f":"'aktuelle Zahlen'!D445","v":0},{"$f":"'aktuelle Zahlen'!E445","v":0},{"$f":"'aktuelle Zahlen'!F445","v":0},{"$f":"'aktuelle Zahlen'!G445","v":0},{"$f":"'aktuelle Zahlen'!H445","v":0},{"$f":"'aktuelle Zahlen'!J445","v":0}]
[{"$f":"'aktuelle Zahlen'!A446","v":0},{"$f":"'aktuelle Zahlen'!B446","v":"00:00:00"},{"$f":"'aktuelle Zahlen'!C446","v":0},{"$f":"'aktuelle Zahlen'!D446","v":0},{"$f":"'aktuelle Zahlen'!E446","v":0},{"$f":"'aktuelle Zahlen'!F446","v":0},{"$f":"'aktuelle Zahlen'!G446","v":0},{"$f":"'aktuelle Zahlen'!H446","v":0},{"$f":"'aktuelle Zahlen'!J446","v":0}]
[{"$f":"'aktuelle Zahlen'!A447","v":0},{"$f":"'aktuelle Zahlen'!B447","v":"00:00:00"},{"$f":"'aktuelle Zahlen'!C447","v":0},{"$f":"'aktuelle Zahlen'!D447","v":0},{"$f":"'aktuelle Zahlen'!E447","v":0},{"$f":"'aktuelle Zahlen'!F447","v":0},{"$f":"'aktuelle Zahlen'!G447","v":0},{"$f":"'aktuelle Zahlen'!H447","v":0},{"$f":"'aktuelle Zahlen'!J447","v":0}]
[{"$f":"'aktuelle Zahlen'!A448","v":0},{"$f":"'aktuelle Zahlen'!B448","v":"00:00:00"},{"$f":"'aktuelle Zahlen'!C448","v":0},{"$f":"'aktuelle Zahlen'!D448","v":0},{"$f":"'aktuelle Zahlen'!E448","v":0},{"$f":"'aktuelle Zahlen'!F448","v":0},{"$f":"'aktuelle Zahlen'!G448","v":0},{"$f":"'aktuelle Zahlen'!H448","v":0},{"$f":"'aktuelle Zahlen'!J448","v":0}]
[{"$f":"'aktuelle Zahlen'!A449","v":0},{"$f":"'aktuelle Zahlen'!B449","v":"00:00:00"},{"$f":"'aktuelle Zahlen'!C449","v":0},{"$f":"'aktuelle Zahlen'!D449","v":0},{"$f":"'aktuelle Zahlen'!E449","v":0},{"$f":"'aktuelle Zahlen'!F449","v":0},{"$f":"'aktuelle Zahlen'!G449","v":0},{"$f":"'aktuelle Zahlen'!H449","v":0},{"$f":"'aktuelle Zahlen'!J449","v":0}]
[{"$f":"'aktuelle Zahlen'!A450","v":0},{"$f":"'aktuelle Zahlen'!B450","v":"00:00:00"},{"$f":"'aktuelle Zahlen'!C450","v":0},{"$f":"'aktuelle Zahlen'!D450","v":0},{"$f":"'aktuelle Zahlen'!E450","v":0},{"$f":"'aktuelle Zahlen'!F450","v":0},{"$f":"'aktuelle Zahlen'!G450","v":0},{"$f":"'aktuelle Zahlen'!H450","v":0},{"$f":"'aktuelle Zahlen'!J450","v":0}]
[{"$f":"'aktuelle Zahlen'!A451","v":0},{"$f":"'aktuelle Zahlen'!B451","v":"00:00:00"},{"$f":"'aktuelle Zahlen'!C451","v":0},{"$f":"'aktuelle Zahlen'!D451","v":0},{"$f":"'aktuelle Zahlen'!E451","v":0},{"$f":"'aktuelle Zahlen'!F451","v":0},{"$f":"'aktuelle Zahlen'!G451","v":0},{"$f":"'aktuelle Zahlen'!H451","v":0},{"$f":"'aktuelle Zahlen'!J451","v":0}]
[{"$f":"'aktuelle Zahlen'!A452","v":0},{"$f":"'aktuelle Zahlen'!B452","v":"00:00:00"},{"$f":"'aktuelle Zahlen'!C452","v":0},{"$f":"'aktuelle Zahlen'!D452","v":0},{"$f":"'aktuelle Zahlen'!E452","v":0},{"$f":"'aktuelle Zahlen'!F452","v":0},{"$f":"'aktuelle Zahlen'!G452","v":0},{"$f":"'aktuelle Zahlen'!H452","v":0},{"$f":"'aktuelle Zahlen'!J452","v":0}]
[{"$f":"'aktuelle Zahlen'!A453","v":0},{"$f":"'aktuelle Zahlen'!B453","v":"00:00:00"},{"$f":"'aktuelle Zahlen'!C453","v":0},{"$f":"'aktuelle Zahlen'!D453","v":0},{"$f":"'aktuelle Zahlen'!E453","v":0},{"$f":"'aktuelle Zahlen'!F453","v":0},{"$f":"'aktuelle Zahlen'!G453","v":0},{"$f":"'aktuelle Zahlen'!H453","v":0},{"$f":"'aktuelle Zahlen'!J453","v":0}]
[{"$f":"'aktuelle Zahlen'!A454","v":0},{"$f":"'aktuelle Zahlen'!B454","v":"00:00:00"},{"$f":"'aktuelle Zahlen'!C454","v":0},{"$f":"'aktuelle Zahlen'!D454","v":0},{"$f":"'aktuelle Zahlen'!E454","v":0},{"$f":"'aktuelle Zahlen'!F454","v":0},{"$f":"'aktuelle Zahlen'!G454","v":0},{"$f":"'aktuelle Zahlen'!H454","v":0},{"$f":"'aktuelle Zahlen'!J454","v":0}]
[{"$f":"'aktuelle Zahlen'!A455","v":0},{"$f":"'aktuelle Zahlen'!B455","v":"00:00:00"},{"$f":"'aktuelle Zahlen'!C455","v":0},{"$f":"'aktuelle Zahlen'!D455","v":0},{"$f":"'aktuelle Zahlen'!E455","v":0},{"$f":"'aktuelle Zahlen'!F455","v":0},{"$f":"'aktuelle Zahlen'!G455","v":0},{"$f":"'aktuelle Zahlen'!H455","v":0},{"$f":"'aktuelle Zahlen'!J455","v":0}]
[{"$f":"'aktuelle Zahlen'!A456","v":0},{"$f":"'aktuelle Zahlen'!B456","v":"00:00:00"},{"$f":"'aktuelle Zahlen'!C456","v":0},{"$f":"'aktuelle Zahlen'!D456","v":0},{"$f":"'aktuelle Zahlen'!E456","v":0},{"$f":"'aktuelle Zahlen'!F456","v":0},{"$f":"'aktuelle Zahlen'!G456","v":0},{"$f":"'aktuelle Zahlen'!H456","v":0},{"$f":"'aktuelle Zahlen'!J456","v":0}]
[{"$f":"'aktuelle Zahlen'!A457","v":0},{"$f":"'aktuelle Zahlen'!B457","v":"00:00:00"},{"$f":"'aktuelle Zahlen'!C457","v":0},{"$f":"'aktuelle Zahlen'!D457","v":0},{"$f":"'aktuelle Zahlen'!E457","v":0},{"$f":"'aktuelle Zahlen'!F457","v":0},{"$f":"'aktuelle Zahlen'!G457","v":0},{"$f":"'aktuelle Zahlen'!H457","v":0},{"$f":"'aktuelle Zahlen'!J457","v":0}]
[{"$f":"'aktuelle Zahlen'!A458","v":0},{"$f":"'aktuelle Zahlen'!B458","v":"00:00:00"},{"$f":"'aktuelle Zahlen'!C458","v":0},{"$f":"'aktuelle Zahlen'!D458","v":0},{"$f":"'aktuelle Zahlen'!E458","v":0},{"$f":"'aktuelle Zahlen'!F458","v":0},{"$f":"'aktuelle Zahlen'!G458","v":0},{"$f":"'aktuelle Zahlen'!H458","v":0},{"$f":"'aktuelle Zahlen'!J458","v":0}]
[{"$f":"'aktuelle Zahlen'!A459","v":0},{"$f":"'aktuelle Zahlen'!B459","v":"00:00:00"},{"$f":"'aktuelle Zahlen'!C459","v":0},{"$f":"'aktuelle Zahlen'!D459","v":0},{"$f":"'aktuelle Zahlen'!E459","v":0},{"$f":"'aktuelle Zahlen'!F459","v":0},{"$f":"'aktuelle Zahlen'!G459","v":0},{"$f":"'aktuelle Zahlen'!H459","v":0},{"$f":"'aktuelle Zahlen'!J459","v":0}]
[{"$f":"'aktuelle Zahlen'!A460","v":0},{"$f":"'aktuelle Zahlen'!B460","v":"00:00:00"},{"$f":"'aktuelle Zahlen'!C460","v":0},{"$f":"'aktuelle Zahlen'!D460","v":0},{"$f":"'aktuelle Zahlen'!E460","v":0},{"$f":"'aktuelle Zahlen'!F460","v":0},{"$f":"'aktuelle Zahlen'!G460","v":0},{"$f":"'aktuelle Zahlen'!H460","v":0},{"$f":"'aktuelle Zahlen'!J460","v":0}]
[{"$f":"'aktuelle Zahlen'!A461","v":0},{"$f":"'aktuelle Zahlen'!B461","v":"00:00:00"},{"$f":"'aktuelle Zahlen'!C461","v":0},{"$f":"'aktuelle Zahlen'!D461","v":0},{"$f":"'aktuelle Zahlen'!E461","v":0},{"$f":"'aktuelle Zahlen'!F461","v":0},{"$f":"'aktuelle Zahlen'!G461","v":0},{"$f":"'aktuelle Zahlen'!H461","v":0},{"$f":"'aktuelle Zahlen'!J461","v":0}]
[{"$f":"'aktuelle Zahlen'!A462","v":0},{"$f":"'aktuelle Zahlen'!B462","v":"00:00:00"},{"$f":"'aktuelle Zahlen'!C462","v":0},{"$f":"'aktuelle Zahlen'!D462","v":0},{"$f":"'aktuelle Zahlen'!E462","v":0},{"$f":"'aktuelle Zahlen'!F462","v":0},{"$f":"'aktuelle Zahlen'!G462","v":0},{"$f":"'aktuelle Zahlen'!H462","v":0},{"$f":"'aktuelle Zahlen'!J462","v":0}]
[{"$f":"'aktuelle Zahlen'!A463","v":0},{"$f":"'aktuelle Zahlen'!B463","v":"00:00:00"},{"$f":"'aktuelle Zahlen'!C463","v":0},{"$f":"'aktuelle Zahlen'!D463","v":0},{"$f":"'aktuelle Zahlen'!E463","v":0},{"$f":"'aktuelle Zahlen'!F463","v":0},{"$f":"'aktuelle Zahlen'!G463","v":0},{"$f":"'aktuelle Zahlen'!H463","v":0},{"$f":"'aktuelle Zahlen'!J463","v":0}]
[{"$f":"'aktuelle Zahlen'!A464","v":0},{"$f":"'aktuelle Zahlen'!B464","v":"00:00:00"},{"$f":"'aktuelle Zahlen'!C464","v":0},{"$f":"'aktuelle Zahlen'!D464","v":0},{"$f":"'aktuelle Zahlen'!E464","v":0},{"$f":"'aktuelle Zahlen'!F464","v":0},{"$f":"'aktuelle Zahlen'!G464","v":0},{"$f":"'aktuelle Zahlen'!H464","v":0},{"$f":"'aktuelle Zahlen'!J464","v":0}]
[{"$f":"'aktuelle Zahlen'!A465","v":0},{"$f":"'aktuelle Zahlen'!B465","v":"00:00:00"},{"$f":"'aktuelle Zahlen'!C465","v":0},{"$f":"'aktuelle Zahlen'!D465","v":0},{"$f":"'aktuelle Zahlen'!E465","v":0},{"$f":"'aktuelle Zahlen'!F465","v":0},{"$f":"'aktuelle Zahlen'!G465","v":0},{"$f":"'aktuelle Zahlen'!H465","v":0},{"$f":"'aktuelle Zahlen'!J465","v":0}]
[{"$f":"'aktuelle Zahlen'!A466","v":0},{"$f":"'aktuelle Zahlen'!B466","v":"00:00:00"},{"$f":"'aktuelle Zahlen'!C466","v":0},{"$f":"'aktuelle Zahlen'!D466","v":0},{"$f":"'aktuelle Zahlen'!E466","v":0},{"$f":"'aktuelle Zahlen'!F466","v":0},{"$f":"'aktuelle Zahlen'!G466","v":0},{"$f":"'aktuelle Zahlen'!H466","v":0},{"$f":"'aktuelle Zahlen'!J466","v":0}]
[{"$f":"'aktuelle Zahlen'!A467","v":0},{"$f":"'aktuelle Zahlen'!B467","v":"00:00:00"},{"$f":"'aktuelle Zahlen'!C467","v":0},{"$f":"'aktuelle Zahlen'!D467","v":0},{"$f":"'aktuelle Zahlen'!E467","v":0},{"$f":"'aktuelle Zahlen'!F467","v":0},{"$f":"'aktuelle Zahlen'!G467","v":0},{"$f":"'aktuelle Zahlen'!H467","v":0},{"$f":"'aktuelle Zahlen'!J467","v":0}]
[{"$f":"'aktuelle Zahlen'!A468","v":0},{"$f":"'aktuelle Zahlen'!B468","v":"00:00:00"},{"$f":"'aktuelle Zahlen'!C468","v":0},{"$f":"'aktuelle Zahlen'!D468","v":0},{"$f":"'aktuelle Zahlen'!E468","v":0},{"$f":"'aktuelle Zahlen'!F468","v":0},{"$f":"'aktuelle Zahlen'!G468","v":0},{"$f":"'aktuelle Zahlen'!H468","v":0},{"$f":"'aktuelle Zahlen'!J468","v":0}]
[{"$f":"'aktuelle Zahlen'!A469","v":0},{"$f":"'aktuelle Zahlen'!B469","v":"00:00:00"},{"$f":"'aktuelle Zahlen'!C469","v":0},{"$f":"'aktuelle Zahlen'!D469","v":0},{"$f":"'aktuelle Zahlen'!E469","v":0},{"$f":"'aktuelle Zahlen'!F469","v":0},{"$f":"'aktuelle Zahlen'!G469","v":0},{"$f":"'aktuelle Zahlen'!H469","v":0},{"$f":"'aktuelle Zahlen'!J469","v":0}]
[{"$f":"'aktuelle Zahlen'!A470","v":0},{"$f":"'aktuelle Zahlen'!B470","v":"00:00:00"},{"$f":"'aktuelle Zahlen'!C470","v":0},{"$f":"'aktuelle Zahlen'!D470","v":0},{"$f":"'aktuelle Zahlen'!E470","v":0},{"$f":"'aktuelle Zahlen'!F470","v":0},{"$f":"'aktuelle Zahlen'!G470","v":0},{"$f":"'aktuelle Zahlen'!H470","v":0},{"$f":"'aktuelle Zahlen'!J470","v":0}]
[{"$f":"'aktuelle Zahlen'!A471","v":0},{"$f":"'aktuelle Zahlen'!B471","v":"00:00:00"},{"$f":"'aktuelle Zahlen'!C471","v":0},{"$f":"'aktuelle Zahlen'!D471","v":0},{"$f":"'aktuelle Zahlen'!E471","v":0},{"$f":"'aktuelle Zahlen'!F471","v":0},{"$f":"'aktuelle Zahlen'!G471","v":0},{"$f":"'aktuelle Zahlen'!H471","v":0},{"$f":"'aktuelle Zahlen'!J471","v":0}]
[{"$f":"'aktuelle Zahlen'!A472","v":0},{"$f":"'aktuelle Zahlen'!B472","v":"00:00:00"},{"$f":"'aktuelle Zahlen'!C472","v":0},{"$f":"'aktuelle Zahlen'!D472","v":0},{"$f":"'aktuelle Zahlen'!E472","v":0},{"$f":"'aktuelle Zahlen'!F472","v":0},{"$f":"'aktuelle Zahlen'!G472","v":0},{"$f":"'aktuelle Zahlen'!H472","v":0},{"$f":"'aktuelle Zahlen'!J472","v":0}]
[{"$f":"'aktuelle Zahlen'!A473","v":0},{"$f":"'aktuelle Zahlen'!B473","v":"00:00:00"},{"$f":"'aktuelle Zahlen'!C473","v":0},{"$f":"'aktuelle Zahlen'!D473","v":0},{"$f":"'aktuelle Zahlen'!E473","v":0},{"$f":"'aktuelle Zahlen'!F473","v":0},{"$f":"'aktuelle Zahlen'!G473","v":0},{"$f":"'aktuelle Zahlen'!H473","v":0},{"$f":"'aktuelle Zahlen'!J473","v":0}]
[{"$f":"'aktuelle Zahlen'!A474","v":0},{"$f":"'aktuelle Zahlen'!B474","v":"00:00:00"},{"$f":"'aktuelle Zahlen'!C474","v":0},{"$f":"'aktuelle Zahlen'!D474","v":0},{"$f":"'aktuelle Zahlen'!E474","v":0},{"$f":"'aktuelle Zahlen'!F474","v":0},{"$f":"'aktuelle Zahlen'!G474","v":0},{"$f":"'aktuelle Zahlen'!H474","v":0},{"$f":"'aktuelle Zahlen'!J474","v":0}]
[{"$f":"'aktuelle Zahlen'!A475","v":0},{"$f":"'aktuelle Zahlen'!B475","v":"00:00:00"},{"$f":"'aktuelle Zahlen'!C475","v":0},{"$f":"'aktuelle Zahlen'!D475","v":0},{"$f":"'aktuelle Zahlen'!E475","v":0},{"$f":"'aktuelle Zahlen'!F475","v":0},{"$f":"'aktuelle Zahlen'!G475","v":0},{"$f":"'aktuelle Zahlen'!H475","v":0},{"$f":"'aktuelle Zahlen'!J475","v":0}]
[{"$f":"'aktuelle Zahlen'!A476","v":0},{"$f":"'aktuelle Zahlen'!B476","v":"00:00:00"},{"$f":"'aktuelle Zahlen'!C476","v":0},{"$f":"'aktuelle Zahlen'!D476","v":0},{"$f":"'aktuelle Zahlen'!E476","v":0},{"$f":"'aktuelle Zahlen'!F476","v":0},{"$f":"'aktuelle Zahlen'!G476","v":0},{"$f":"'aktuelle Zahlen'!H476","v":0},{"$f":"'aktuelle Zahlen'!J476","v":0}]
[{"$f":"'aktuelle Zahlen'!A477","v":0},{"$f":"'aktuelle Zahlen'!B477","v":"00:00:00"},{"$f":"'aktuelle Zahlen'!C477","v":0},{"$f":"'aktuelle Zahlen'!D477","v":0},{"$f":"'aktuelle Zahlen'!E477","v":0},{"$f":"'aktuelle Zahlen'!F477","v":0},{"$f":"'aktuelle Zahlen'!G477","v":0},{"$f":"'aktuelle Zahlen'!H477","v":0},{"$f":"'aktuelle Zahlen'!J477","v":0}]
[{"$f":"'aktuelle Zahlen'!A478","v":0},{"$f":"'aktuelle Zahlen'!B478","v":"00:00:00"},{"$f":"'aktuelle Zahlen'!C478","v":0},{"$f":"'aktuelle Zahlen'!D478","v":0},{"$f":"'aktuelle Zahlen'!E478","v":0},{"$f":"'aktuelle Zahlen'!F478","v":0},{"$f":"'aktuelle Zahlen'!G478","v":0},{"$f":"'aktuelle Zahlen'!H478","v":0},{"$f":"'aktuelle Zahlen'!J478","v":0}]
[{"$f":"'aktuelle Zahlen'!A479","v":0},{"$f":"'aktuelle Zahlen'!B479","v":"00:00:00"},{"$f":"'aktuelle Zahlen'!C479","v":0},{"$f":"'aktuelle Zahlen'!D479","v":0},{"$f":"'aktuelle Zahlen'!E479","v":0},{"$f":"'aktuelle Zahlen'!F479","v":0},{"$f":"'aktuelle Zahlen'!G479","v":0},{"$f":"'aktuelle Zahlen'!H479","v":0},{"$f":"'aktuelle Zahlen'!J479","v":0}]
[{"$f":"'aktuelle Zahlen'!A480","v":0},{"$f":"'aktuelle Zahlen'!B480","v":"00:00:00"},{"$f":"'aktuelle Zahlen'!C480","v":0},{"$f":"'aktuelle Zahlen'!D480","v":0},{"$f":"'aktuelle Zahlen'!E480","v":0},{"$f":"'aktuelle Zahlen'!F480","v":0},{"$f":"'aktuelle Zahlen'!G480","v":0},{"$f":"'aktuelle Zahlen'!H480","v":0},{"$f":"'aktuelle Zahlen'!J480","v":0}]
[{"$f":"'aktuelle Zahlen'!A481","v":0},{"$f":"'aktuelle Zahlen'!B481","v":"00:00:00"},{"$f":"'aktuelle Zahlen'!C481","v":0},{"$f":"'aktuelle Zahlen'!D481","v":0},{"$f":"'aktuelle Zahlen'!E481","v":0},{"$f":"'aktuelle Zahlen'!F481","v":0},{"$f":"'aktuelle Zahlen'!G481","v":0},{"$f":"'aktuelle Zahlen'!H481","v":0},{"$f":"'aktuelle Zahlen'!J481","v":0}]
[{"$f":"'aktuelle Zahlen'!A482","v":0},{"$f":"'aktuelle Zahlen'!B482","v":"00:00:00"},{"$f":"'aktuelle Zahlen'!C482","v":0},{"$f":"'aktuelle Zahlen'!D482","v":0},{"$f":"'aktuelle Zahlen'!E482","v":0},{"$f":"'aktuelle Zahlen'!F482","v":0},{"$f":"'aktuelle Zahlen'!G482","v":0},{"$f":"'aktuelle Zahlen'!H482","v":0},{"$f":"'aktuelle Zahlen'!J482","v":0}]
[{"$f":"'aktuelle Zahlen'!A483","v":0},{"$f":"'aktuelle Zahlen'!B483","v":"00:00:00"},{"$f":"'aktuelle Zahlen'!C483","v":0},{"$f":"'aktuelle Zahlen'!D483","v":0},{"$f":"'aktuelle Zahlen'!E483","v":0},{"$f":"'aktuelle Zahlen'!F483","v":0},{"$f":"'aktuelle Zahlen'!G483","v":0},{"$f":"'aktuelle Zahlen'!H483","v":0},{"$f":"'aktuelle Zahlen'!J483","v":0}]
[{"$f":"'aktuelle Zahlen'!A484","v":0},{"$f":"'aktuelle Zahlen'!B484","v":"00:00:00"},{"$f":"'aktuelle Zahlen'!C484","v":0},{"$f":"'aktuelle Zahlen'!D484","v":0},{"$f":"'aktuelle Zahlen'!E484","v":0},{"$f":"'aktuelle Zahlen'!F484","v":0},{"$f":"'aktuelle Zahlen'!G484","v":0},{"$f":"'aktuelle Zahlen'!H484","v":0},{"$f":"'aktuelle Zahlen'!J484","v":0}]
[{"$f":"'aktuelle Zahlen'!A485","v":0},{"$f":"'aktuelle Zahlen'!B485","v":"00:00:00"},{"$f":"'aktuelle Zahlen'!C485","v":0},{"$f":"'aktuelle Zahlen'!D485","v":0},{"$f":"'aktuelle Zahlen'!E485","v":0},{"$f":"'aktuelle Zahlen'!F485","v":0},{"$f":"'aktuelle Zahlen'!G485","v":0},{"$f":"'aktuelle Zahlen'!H485","v":0},{"$f":"'aktuelle Zahlen'!J485","v":0}]
[{"$f":"'aktuelle Zahlen'!A486","v":0},{"$f":"'aktuelle Zahlen'!B486","v":"00:00:00"},{"$f":"'aktuelle Zahlen'!C486","v":0},{"$f":"'aktuelle Zahlen'!D486","v":0},{"$f":"'aktuelle Zahlen'!E486","v":0},{"$f":"'aktuelle Zahlen'!F486","v":0},{"$f":"'aktuelle Zahlen'!G486","v":0},{"$f":"'aktuelle Zahlen'!H486","v":0},{"$f":"'aktuelle Zahlen'!J486","v":0}]
[{"$f":"'aktuelle Zahlen'!A487","v":0},{"$f":"'aktuelle Zahlen'!B487","v":"00:00:00"},{"$f":"'aktuelle Zahlen'!C487","v":0},{"$f":"'aktuelle Zahlen'!D487","v":0},{"$f":"'aktuelle Zahlen'!E487","v":0},{"$f":"'aktuelle Zahlen'!F487","v":0},{"$f":"'aktuelle Zahlen'!G487","v":0},{"$f":"'aktuelle Zahlen'!H487","v":0},{"$f":"'aktuelle Zahlen'!J487","v":0}]
[{"$f":"'aktuelle Zahlen'!A488","v":0},{"$f":"'aktuelle Zahlen'!B488","v":"00:00:00"},{"$f":"'aktuelle Zahlen'!C488","v":0},{"$f":"'aktuelle Zahlen'!D488","v":0},{"$f":"'aktuelle Zahlen'!E488","v":0},{"$f":"'aktuelle Zahlen'!F488","v":0},{"$f":"'aktuelle Zahlen'!G488","v":0},{"$f":"'aktuelle Zahlen'!H488","v":0},{"$f":"'aktuelle Zahlen'!J488","v":0}]
[{"$f":"'aktuelle Zahlen'!A489","v":0},{"$f":"'aktuelle Zahlen'!B489","v":"00:00:00"},{"$f":"'aktuelle Zahlen'!C489","v":0},{"$f":"'aktuelle Zahlen'!D489","v":0},{"$f":"'aktuelle Zahlen'!E489","v":0},{"$f":"'aktuelle Zahlen'!F489","v":0},{"$f":"'aktuelle Zahlen'!G489","v":0},{"$f":"'aktuelle Zahlen'!H489","v":0},{"$f":"'aktuelle Zahlen'!J489","v":0}]
[{"$f":"'aktuelle Zahlen'!A490","v":0},{"$f":"'aktuelle Zahlen'!B490","v":"00:00:00"},{"$f":"'aktuelle Zahlen'!C490","v":0},{"$f":"'aktuelle Zahlen'!D490","v":0},{"$f":"'aktuelle Zahlen'!E490","v":0},{"$f":"'aktuelle Zahlen'!F490","v":0},{"$f":"'aktuelle Zahlen'!G490","v":0},{"$f":"'aktuelle Zahlen'!H490","v":0},{"$f":"'aktuelle Zahlen'!J490","v":0}]
[{"$f":"'aktuelle Zahlen'!A491","v":0},{"$f":"'aktuelle Zahlen'!B491","v":"00:00:00"},{"$f":"'aktuelle Zahlen'!C491","v":0},{"$f":"'aktuelle Zahlen'!D491","v":0},{"$f":"'aktuelle Zahlen'!E491","v":0},{"$f":"'aktuelle Zahlen'!F491","v":0},{"$f":"'aktuelle Zahlen'!G491","v":0},{"$f":"'aktuelle Zahlen'!H491","v":0},{"$f":"'aktuelle Zahlen'!J491","v":0}]
[{"$f":"'aktuelle Zahlen'!A492","v":0},{"$f":"'aktuelle Zahlen'!B492","v":"00:00:00"},{"$f":"'aktuelle Zahlen'!C492","v":0},{"$f":"'aktuelle Zahlen'!D492","v":0},{"$f":"'aktuelle Zahlen'!E492","v":0},{"$f":"'aktuelle Zahlen'!F492","v":0},{"$f":"'aktuelle Zahlen'!G492","v":0},{"$f":"'aktuelle Zahlen'!H492","v":0},{"$f":"'aktuelle Zahlen'!J492","v":0}]
[{"$f":"'aktuelle Zahlen'!A493","v":0},{"$f":"'aktuelle Zahlen'!B493","v":"00:00:00"},{"$f":"'aktuelle Zahlen'!C493","v":0},{"$f":"'aktuelle Zahlen'!D493","v":0},{"$f":"'aktuelle Zahlen'!E493","v":0},{"$f":"'aktuelle Zahlen'!F493","v":0},{"$f":"'aktuelle Zahlen'!G493","v":0},{"$f":"'aktuelle Zahlen'!H493","v":0},{"$f":"'aktuelle Zahlen'!J493","v":0}]
[{"$f":"'aktuelle Zahlen'!A494","v":0},{"$f":"'aktuelle Zahlen'!B494","v":"00:00:00"},{"$f":"'aktuelle Zahlen'!C494","v":0},{"$f":"'aktuelle Zahlen'!D494","v":0},{"$f":"'aktuelle Zahlen'!E494","v":0},{"$f":"'aktuelle Zahlen'!F494","v":0},{"$f":"'aktuelle Zahlen'!G494","v":0},{"$f":"'aktuelle Zahlen'!H494","v":0},{"$f":"'aktuelle Zahlen'!J494","v":0}]
[{"$f":"'aktuelle Zahlen'!A495","v":0},{"$f":"'aktuelle Zahlen'!B495","v":"00:00:00"},{"$f":"'aktuelle Zahlen'!C495","v":0},{"$f":"'aktuelle Zahlen'!D495","v":0},{"$f":"'aktuelle Zahlen'!E495","v":0},{"$f":"'aktuelle Zahlen'!F495","v":0},{"$f":"'aktuelle Zahlen'!G495","v":0},{"$f":"'aktuelle Zahlen'!H495","v":0},{"$f":"'aktuelle Zahlen'!J495","v":0}]
[{"$f":"'aktuelle Zahlen'!A496","v":0},{"$f":"'aktuelle Zahlen'!B496","v":"00:00:00"},{"$f":"'aktuelle Zahlen'!C496","v":0},{"$f":"'aktuelle Zahlen'!D496","v":0},{"$f":"'aktuelle Zahlen'!E496","v":0},{"$f":"'aktuelle Zahlen'!F496","v":0},{"$f":"'aktuelle Zahlen'!G496","v":0},{"$f":"'aktuelle Zahlen'!H496","v":0},{"$f":"'aktuelle Zahlen'!J496","v":0}]
[{"$f":"'aktuelle Zahlen'!A497","v":0},{"$f":"'aktuelle Zahlen'!B497","v":"00:00:00"},{"$f":"'aktuelle Zahlen'!C497","v":0},{"$f":"'aktuelle Zahlen'!D497","v":0},{"$f":"'aktuelle Zahlen'!E497","v":0},{"$f":"'aktuelle Zahlen'!F497","v":0},{"$f":"'aktuelle Zahlen'!G497","v":0},{"$f":"'aktuelle Zahlen'!H497","v":0},{"$f":"'aktuelle Zahlen'!J497","v":0}]
[{"$f":"'aktuelle Zahlen'!A498","v":0},{"$f":"'aktuelle Zahlen'!B498","v":"00:00:00"},{"$f":"'aktuelle Zahlen'!C498","v":0},{"$f":"'aktuelle Zahlen'!D498","v":0},{"$f":"'aktuelle Zahlen'!E498","v":0},{"$f":"'aktuelle Zahlen'!F498","v":0},{"$f":"'aktuelle Zahlen'!G498","v":0},{"$f":"'aktuelle Zahlen'!H498","v":0},{"$f":"'aktuelle Zahlen'!J498","v":0}]
[{"$f":"'aktuelle Zahlen'!A499","v":0},{"$f":"'aktuelle Zahlen'!B499","v":"00:00:00"},{"$f":"'aktuelle Zahlen'!C499","v":0},{"$f":"'aktuelle Zahlen'!D499","v":0},{"$f":"'aktuelle Zahlen'!E499","v":0},{"$f":"'aktuelle Zahlen'!F499","v":0},{"$f":"'aktuelle Zahlen'!G499","v":0},{"$f":"'aktuelle Zahlen'!H499","v":0},{"$f":"'aktuelle Zahlen'!J499","v":0}]
[{"$f":"'aktuelle Zahlen'!A500","v":0},{"$f":"'aktuelle Zahlen'!B500","v":"00:00:00"},{"$f":"'aktuelle Zahlen'!C500","v":0},{"$f":"'aktuelle Zahlen'!D500","v":0},{"$f":"'aktuelle Zahlen'!E500","v":0},{"$f":"'aktuelle Zahlen'!F500","v":0},{"$f":"'aktuelle Zahlen'!G500","v":0},{"$f":"'aktuelle Zahlen'!H500","v":0},{"$f":"'aktuelle Zahlen'!J500","v":0}]
[{"$f":"'aktuelle Zahlen'!A501","v":0},{"$f":"'aktuelle Zahlen'!B501","v":"00:00:00"},{"$f":"'aktuelle Zahlen'!C501","v":0},{"$f":"'aktuelle Zahlen'!D501","v":0},{"$f":"'aktuelle Zahlen'!E501","v":0},{"$f":"'aktuelle Zahlen'!F501","v":0},{"$f":"'aktuelle Zahlen'!G501","v":0},{"$f":"'aktuelle Zahlen'!H501","v":0},{"$f":"'aktuelle Zahlen'!J501","v":0}]
[{"$f":"'aktuelle Zahlen'!A502","v":0},{"$f":"'aktuelle Zahlen'!B502","v":"00:00:00"},{"$f":"'aktuelle Zahlen'!C502","v":0},{"$f":"'aktuelle Zahlen'!D502","v":0},{"$f":"'aktuelle Zahlen'!E502","v":0},{"$f":"'aktuelle Zahlen'!F502","v":0},{"$f":"'aktuelle Zahlen'!G502","v":0},{"$f":"'aktuelle Zahlen'!H502","v":0},{"$f":"'aktuelle Zahlen'!J502","v":0}]
[{"$f":"'aktuelle Zahlen'!A503","v":0},{"$f":"'aktuelle Zahlen'!B503","v":"00:00:00"},{"$f":"'aktuelle Zahlen'!C503","v":0},{"$f":"'aktuelle Zahlen'!D503","v":0},{"$f":"'aktuelle Zahlen'!E503","v":0},{"$f":"'aktuelle Zahlen'!F503","v":0},{"$f":"'aktuelle Zahlen'!G503","v":0},{"$f":"'aktuelle Zahlen'!H503","v":0},{"$f":"'aktuelle Zahlen'!J503","v":0}]
[{"$f":"'aktuelle Zahlen'!A504","v":0},{"$f":"'aktuelle Zahlen'!B504","v":"00:00:00"},{"$f":"'aktuelle Zahlen'!C504","v":0},{"$f":"'aktuelle Zahlen'!D504","v":0},{"$f":"'aktuelle Zahlen'!E504","v":0},{"$f":"'aktuelle Zahlen'!F504","v":0},{"$f":"'aktuelle Zahlen'!G504","v":0},{"$f":"'aktuelle Zahlen'!H504","v":0},{"$f":"'aktuelle Zahlen'!J504","v":0}]
[{"$f":"'aktuelle Zahlen'!A505","v":0},{"$f":"'aktuelle Zahlen'!B505","v":"00:00:00"},{"$f":"'aktuelle Zahlen'!C505","v":0},{"$f":"'aktuelle Zahlen'!D505","v":0},{"$f":"'aktuelle Zahlen'!E505","v":0},{"$f":"'aktuelle Zahlen'!F505","v":0},{"$f":"'aktuelle Zahlen'!G505","v":0},{"$f":"'aktuelle Zahlen'!H505","v":0},{"$f":"'aktuelle Zahlen'!J505","v":0}]
[{"$f":"'aktuelle Zahlen'!A506","v":0},{"$f":"'aktuelle Zahlen'!B506","v":"00:00:00"},{"$f":"'aktuelle Zahlen'!C506","v":0},{"$f":"'aktuelle Zahlen'!D506","v":0},{"$f":"'aktuelle Zahlen'!E506","v":0},{"$f":"'aktuelle Zahlen'!F506","v":0},{"$f":"'aktuelle Zahlen'!G506","v":0},{"$f":"'aktuelle Zahlen'!H506","v":0},{"$f":"'aktuelle Zahlen'!J506","v":0}]
[{"$f":"'aktuelle Zahlen'!A507","v":0},{"$f":"'aktuelle Zahlen'!B507","v":"00:00:00"},{"$f":"'aktuelle Zahlen'!C507","v":0},{"$f":"'aktuelle Zahlen'!D507","v":0},{"$f":"'aktuelle Zahlen'!E507","v":0},{"$f":"'aktuelle Zahlen'!F507","v":0},{"$f":"'aktuelle Zahlen'!G507","v":0},{"$f":"'aktuelle Zahlen'!H507","v":0},{"$f":"'aktuelle Zahlen'!J507","v":0}]
[{"$f":"'aktuelle Zahlen'!A508","v":0},{"$f":"'aktuelle Zahlen'!B508","v":"00:00:00"},{"$f":"'aktuelle Zahlen'!C508","v":0},{"$f":"'aktuelle Zahlen'!D508","v":0},{"$f":"'aktuelle Zahlen'!E508","v":0},{"$f":"'aktuelle Zahlen'!F508","v":0},{"$f":"'aktuelle Zahlen'!G508","v":0},{"$f":"'aktuelle Zahlen'!H508","v":0},{"$f":"'aktuelle Zahlen'!J508","v":0}]
[{"$f":"'aktuelle Zahlen'!A509","v":0},{"$f":"'aktuelle Zahlen'!B509","v":"00:00:00"},{"$f":"'aktuelle Zahlen'!C509","v":0},{"$f":"'aktuelle Zahlen'!D509","v":0},{"$f":"'aktuelle Zahlen'!E509","v":0},{"$f":"'aktuelle Zahlen'!F509","v":0},{"$f":"'aktuelle Zahlen'!G509","v":0},{"$f":"'aktuelle Zahlen'!H509","v":0},{"$f":"'aktuelle Zahlen'!J509","v":0}]
[{"$f":"'aktuelle Zahlen'!A510","v":0},{"$f":"'aktuelle Zahlen'!B510","v":"00:00:00"},{"$f":"'aktuelle Zahlen'!C510","v":0},{"$f":"'aktuelle Zahlen'!D510","v":0},{"$f":"'aktuelle Zahlen'!E510","v":0},{"$f":"'aktuelle Zahlen'!F510","v":0},{"$f":"'aktuelle Zahlen'!G510","v":0},{"$f":"'aktuelle Zahlen'!H510","v":0},{"$f":"'aktuelle Zahlen'!J510","v":0}]
[{"$f":"'aktuelle Zahlen'!A511","v":0},{"$f":"'aktuelle Zahlen'!B511","v":"00:00:00"},{"$f":"'aktuelle Zahlen'!C511","v":0},{"$f":"'aktuelle Zahlen'!D511","v":0},{"$f":"'aktuelle Zahlen'!E511","v":0},{"$f":"'aktuelle Zahlen'!F511","v":0},{"$f":"'aktuelle Zahlen'!G511","v":0},{"$f":"'aktuelle Zahlen'!H511","v":0},{"$f":"'aktuelle Zahlen'!J511","v":0}]
[{"$f":"'aktuelle Zahlen'!A512","v":0},{"$f":"'aktuelle Zahlen'!B512","v":"00:00:00"},{"$f":"'aktuelle Zahlen'!C512","v":0},{"$f":"'aktuelle Zahlen'!D512","v":0},{"$f":"'aktuelle Zahlen'!E512","v":0},{"$f":"'aktuelle Zahlen'!F512","v":0},{"$f":"'aktuelle Zahlen'!G512","v":0},{"$f":"'aktuelle Zahlen'!H512","v":0},{"$f":"'aktuelle Zahlen'!J512","v":0}]
[{"$f":"'aktuelle Zahlen'!A513","v":0},{"$f":"'aktuelle Zahlen'!B513","v":"00:00:00"},{"$f":"'aktuelle Zahlen'!C513","v":0},{"$f":"'aktuelle Zahlen'!D513","v":0},{"$f":"'aktuelle Zahlen'!E513","v":0},{"$f":"'aktuelle Zahlen'!F513","v":0},{"$f":"'aktuelle Zahlen'!G513","v":0},{"$f":"'aktuelle Zahlen'!H513","v":0},{"$f":"'aktuelle Zahlen'!J513","v":0}]
[{"$f":"'aktuelle Zahlen'!A514","v":0},{"$f":"'aktuelle Zahlen'!B514","v":"00:00:00"},{"$f":"'aktuelle Zahlen'!C514","v":0},{"$f":"'aktuelle Zahlen'!D514","v":0},{"$f":"'aktuelle Zahlen'!E514","v":0},{"$f":"'aktuelle Zahlen'!F514","v":0},{"$f":"'aktuelle Zahlen'!G514","v":0},{"$f":"'aktuelle Zahlen'!H514","v":0},{"$f":"'aktuelle Zahlen'!J514","v":0}]
[{"$f":"'aktuelle Zahlen'!A515","v":0},{"$f":"'aktuelle Zahlen'!B515","v":"00:00:00"},{"$f":"'aktuelle Zahlen'!C515","v":0},{"$f":"'aktuelle Zahlen'!D515","v":0},{"$f":"'aktuelle Zahlen'!E515","v":0},{"$f":"'aktuelle Zahlen'!F515","v":0},{"$f":"'aktuelle Zahlen'!G515","v":0},{"$f":"'aktuelle Zahlen'!H515","v":0},{"$f":"'aktuelle Zahlen'!J515","v":0}]
[{"$f":"'aktuelle Zahlen'!A516","v":0},{"$f":"'aktuelle Zahlen'!B516","v":"00:00:00"},{"$f":"'aktuelle Zahlen'!C516","v":0},{"$f":"'aktuelle Zahlen'!D516","v":0},{"$f":"'aktuelle Zahlen'!E516","v":0},{"$f":"'aktuelle Zahlen'!F516","v":0},{"$f":"'aktuelle Zahlen'!G516","v":0},{"$f":"'aktuelle Zahlen'!H516","v":0},{"$f":"'aktuelle Zahlen'!J516","v":0}]
[{"$f":"'aktuelle Zahlen'!A517","v":0},{"$f":"'aktuelle Zahlen'!B517","v":"00:00:00"},{"$f":"'aktuelle Zahlen'!C517","v":0},{"$f":"'aktuelle Zahlen'!D517","v":0},{"$f":"'aktuelle Zahlen'!E517","v":0},{"$f":"'aktuelle Zahlen'!F517","v":0},{"$f":"'aktuelle Zahlen'!G517","v":0},{"$f":"'aktuelle Zahlen'!H517","v":0},{"$f":"'aktuelle Zahlen'!J517","v":0}]
[{"$f":"'aktuelle Zahlen'!A518","v":0},{"$f":"'aktuelle Zahlen'!B518","v":"00:00:00"},{"$f":"'aktuelle Zahlen'!C518","v":0},{"$f":"'aktuelle Zahlen'!D518","v":0},{"$f":"'aktuelle Zahlen'!E518","v":0},{"$f":"'aktuelle Zahlen'!F518","v":0},{"$f":"'aktuelle Zahlen'!G518","v":0},{"$f":"'aktuelle Zahlen'!H518","v":0},{"$f":"'aktuelle Zahlen'!J518","v":0}]
[{"$f":"'aktuelle Zahlen'!A519","v":0},{"$f":"'aktuelle Zahlen'!B519","v":"00:00:00"},{"$f":"'aktuelle Zahlen'!C519","v":0},{"$f":"'aktuelle Zahlen'!D519","v":0},{"$f":"'aktuelle Zahlen'!E519","v":0},{"$f":"'aktuelle Zahlen'!F519","v":0},{"$f":"'aktuelle Zahlen'!G519","v":0},{"$f":"'aktuelle Zahlen'!H519","v":0},{"$f":"'aktuelle Zahlen'!J519","v":0}]
[{"$f":"'aktuelle Zahlen'!A520","v":0},{"$f":"'aktuelle Zahlen'!B520","v":"00:00:00"},{"$f":"'aktuelle Zahlen'!C520","v":0},{"$f":"'aktuelle Zahlen'!D520","v":0},{"$f":"'aktuelle Zahlen'!E520","v":0},{"$f":"'aktuelle Zahlen'!F520","v":0},{"$f":"'aktuelle Zahlen'!G520","v":0},{"$f":"'aktuelle Zahlen'!H520","v":0},{"$f":"'aktuelle Zahlen'!J520","v":0}]
[{"$f":"'aktuelle Zahlen'!A521","v":0},{"$f":"'aktuelle Zahlen'!B521","v":"00:00:00"},{"$f":"'aktuelle Zahlen'!C521","v":0},{"$f":"'aktuelle Zahlen'!D521","v":0},{"$f":"'aktuelle Zahlen'!E521","v":0},{"$f":"'aktuelle Zahlen'!F521","v":0},{"$f":"'aktuelle Zahlen'!G521","v":0},{"$f":"'aktuelle Zahlen'!H521","v":0},{"$f":"'aktuelle Zahlen'!J521","v":0}]
[{"$f":"'aktuelle Zahlen'!A522","v":0},{"$f":"'aktuelle Zahlen'!B522","v":"00:00:00"},{"$f":"'aktuelle Zahlen'!C522","v":0},{"$f":"'aktuelle Zahlen'!D522","v":0},{"$f":"'aktuelle Zahlen'!E522","v":0},{"$f":"'aktuelle Zahlen'!F522","v":0},{"$f":"'aktuelle Zahlen'!G522","v":0},{"$f":"'aktuelle Zahlen'!H522","v":0},{"$f":"'aktuelle Zahlen'!J522","v":0}]
[{"$f":"'aktuelle Zahlen'!A523","v":0},{"$f":"'aktuelle Zahlen'!B523","v":"00:00:00"},{"$f":"'aktuelle Zahlen'!C523","v":0},{"$f":"'aktuelle Zahlen'!D523","v":0},{"$f":"'aktuelle Zahlen'!E523","v":0},{"$f":"'aktuelle Zahlen'!F523","v":0},{"$f":"'aktuelle Zahlen'!G523","v":0},{"$f":"'aktuelle Zahlen'!H523","v":0},{"$f":"'aktuelle Zahlen'!J523","v":0}]
[{"$f":"'aktuelle Zahlen'!A524","v":0},{"$f":"'aktuelle Zahlen'!B524","v":"00:00:00"},{"$f":"'aktuelle Zahlen'!C524","v":0},{"$f":"'aktuelle Zahlen'!D524","v":0},{"$f":"'aktuelle Zahlen'!E524","v":0},{"$f":"'aktuelle Zahlen'!F524","v":0},{"$f":"'aktuelle Zahlen'!G524","v":0},{"$f":"'aktuelle Zahlen'!H524","v":0},{"$f":"'aktuelle Zahlen'!J524","v":0}]
[{"$f":"'aktuelle Zahlen'!A525","v":0},{"$f":"'aktuelle Zahlen'!B525","v":"00:00:00"},{"$f":"'aktuelle Zahlen'!C525","v":0},{"$f":"'aktuelle Zahlen'!D525","v":0},{"$f":"'aktuelle Zahlen'!E525","v":0},{"$f":"'aktuelle Zahlen'!F525","v":0},{"$f":"'aktuelle Zahlen'!G525","v":0},{"$f":"'aktuelle Zahlen'!H525","v":0},{"$f":"'aktuelle Zahlen'!J525","v":0}]
[{"$f":"'aktuelle Zahlen'!A526","v":0},{"$f":"'aktuelle Zahlen'!B526","v":"00:00:00"},{"$f":"'aktuelle Zahlen'!C526","v":0},{"$f":"'aktuelle Zahlen'!D526","v":0},{"$f":"'aktuelle Zahlen'!E526","v":0},{"$f":"'aktuelle Zahlen'!F526","v":0},{"$f":"'aktuelle Zahlen'!G526","v":0},{"$f":"'aktuelle Zahlen'!H526","v":0},{"$f":"'aktuelle Zahlen'!J526","v":0}]
[{"$f":"'aktuelle Zahlen'!A527","v":0},{"$f":"'aktuelle Zahlen'!B527","v":"00:00:00"},{"$f":"'aktuelle Zahlen'!C527","v":0},{"$f":"'aktuelle Zahlen'!D527","v":0},{"$f":"'aktuelle Zahlen'!E527","v":0},{"$f":"'aktuelle Zahlen'!F527","v":0},{"$f":"'aktuelle Zahlen'!G527","v":0},{"$f":"'aktuelle Zahlen'!H527","v":0},{"$f":"'aktuelle Zahlen'!J527","v":0}]
[{"$f":"'aktuelle Zahlen'!A528","v":0},{"$f":"'aktuelle Zahlen'!B528","v":"00:00:00"},{"$f":"'aktuelle Zahlen'!C528","v":0},{"$f":"'aktuelle Zahlen'!D528","v":0},{"$f":"'aktuelle Zahlen'!E528","v":0},{"$f":"'aktuelle Zahlen'!F528","v":0},{"$f":"'aktuelle Zahlen'!G528","v":0},{"$f":"'aktuelle Zahlen'!H528","v":0},{"$f":"'aktuelle Zahlen'!J528","v":0}]
[{"$f":"'aktuelle Zahlen'!A529","v":0},{"$f":"'aktuelle Zahlen'!B529","v":"00:00:00"},{"$f":"'aktuelle Zahlen'!C529","v":0},{"$f":"'aktuelle Zahlen'!D529","v":0},{"$f":"'aktuelle Zahlen'!E529","v":0},{"$f":"'aktuelle Zahlen'!F529","v":0},{"$f":"'aktuelle Zahlen'!G529","v":0},{"$f":"'aktuelle Zahlen'!H529","v":0},{"$f":"'aktuelle Zahlen'!J529","v":0}]
[{"$f":"'aktuelle Zahlen'!A530","v":0},{"$f":"'aktuelle Zahlen'!B530","v":"00:00:00"},{"$f":"'aktuelle Zahlen'!C530","v":0},{"$f":"'aktuelle Zahlen'!D530","v":0},{"$f":"'aktuelle Zahlen'!E530","v":0},{"$f":"'aktuelle Zahlen'!F530","v":0},{"$f":"'aktuelle Zahlen'!G530","v":0},{"$f":"'aktuelle Zahlen'!H530","v":0},{"$f":"'aktuelle Zahlen'!J530","v":0}]
[{"$f":"'aktuelle Zahlen'!A531","v":0},{"$f":"'aktuelle Zahlen'!B531","v":"00:00:00"},{"$f":"'aktuelle Zahlen'!C531","v":0},{"$f":"'aktuelle Zahlen'!D531","v":0},{"$f":"'aktuelle Zahlen'!E531","v":0},{"$f":"'aktuelle Zahlen'!F531","v":0},{"$f":"'aktuelle Zahlen'!G531","v":0},{"$f":"'aktuelle Zahlen'!H531","v":0},{"$f":"'aktuelle Zahlen'!J531","v":0}]
[{"$f":"'aktuelle Zahlen'!A532","v":0},{"$f":"'aktuelle Zahlen'!B532","v":"00:00:00"},{"$f":"'aktuelle Zahlen'!C532","v":0},{"$f":"'aktuelle Zahlen'!D532","v":0},{"$f":"'aktuelle Zahlen'!E532","v":0},{"$f":"'aktuelle Zahlen'!F532","v":0},{"$f":"'aktuelle Zahlen'!G532","v":0},{"$f":"'aktuelle Zahlen'!H532","v":0},{"$f":"'aktuelle Zahlen'!J532","v":0}]
[{"$f":"'aktuelle Zahlen'!A533","v":0},{"$f":"'aktuelle Zahlen'!B533","v":"00:00:00"},{"$f":"'aktuelle Zahlen'!C533","v":0},{"$f":"'aktuelle Zahlen'!D533","v":0},{"$f":"'aktuelle Zahlen'!E533","v":0},{"$f":"'aktuelle Zahlen'!F533","v":0},{"$f":"'aktuelle Zahlen'!G533","v":0},{"$f":"'aktuelle Zahlen'!H533","v":0},{"$f":"'aktuelle Zahlen'!J533","v":0}]
[{"$f":"'aktuelle Zahlen'!A534","v":0},{"$f":"'aktuelle Zahlen'!B534","v":"00:00:00"},{"$f":"'aktuelle Zahlen'!C534","v":0},{"$f":"'aktuelle Zahlen'!D534","v":0},{"$f":"'aktuelle Zahlen'!E534","v":0},{"$f":"'aktuelle Zahlen'!F534","v":0},{"$f":"'aktuelle Zahlen'!G534","v":0},{"$f":"'aktuelle Zahlen'!H534","v":0},{"$f":"'aktuelle Zahlen'!J534","v":0}]
[{"$f":"'aktuelle Zahlen'!A535","v":0},{"$f":"'aktuelle Zahlen'!B535","v":"00:00:00"},{"$f":"'aktuelle Zahlen'!C535","v":0},{"$f":"'aktuelle Zahlen'!D535","v":0},{"$f":"'aktuelle Zahlen'!E535","v":0},{"$f":"'aktuelle Zahlen'!F535","v":0},{"$f":"'aktuelle Zahlen'!G535","v":0},{"$f":"'aktuelle Zahlen'!H535","v":0},{"$f":"'aktuelle Zahlen'!J535","v":0}]
[{"$f":"'aktuelle Zahlen'!A536","v":0},{"$f":"'aktuelle Zahlen'!B536","v":"00:00:00"},{"$f":"'aktuelle Zahlen'!C536","v":0},{"$f":"'aktuelle Zahlen'!D536","v":0},{"$f":"'aktuelle Zahlen'!E536","v":0},{"$f":"'aktuelle Zahlen'!F536","v":0},{"$f":"'aktuelle Zahlen'!G536","v":0},{"$f":"'aktuelle Zahlen'!H536","v":0},{"$f":"'aktuelle Zahlen'!J536","v":0}]
[{"$f":"'aktuelle Zahlen'!A537","v":0},{"$f":"'aktuelle Zahlen'!B537","v":"00:00:00"},{"$f":"'aktuelle Zahlen'!C537","v":0},{"$f":"'aktuelle Zahlen'!D537","v":0},{"$f":"'aktuelle Zahlen'!E537","v":0},{"$f":"'aktuelle Zahlen'!F537","v":0},{"$f":"'aktuelle Zahlen'!G537","v":0},{"$f":"'aktuelle Zahlen'!H537","v":0},{"$f":"'aktuelle Zahlen'!J537","v":0}]
[{"$f":"'aktuelle Zahlen'!A538","v":0},{"$f":"'aktuelle Zahlen'!B538","v":"00:00:00"},{"$f":"'aktuelle Zahlen'!C538","v":0},{"$f":"'aktuelle Zahlen'!D538","v":0},{"$f":"'aktuelle Zahlen'!E538","v":0},{"$f":"'aktuelle Zahlen'!F538","v":0},{"$f":"'aktuelle Zahlen'!G538","v":0},{"$f":"'aktuelle Zahlen'!H538","v":0},{"$f":"'aktuelle Zahlen'!J538","v":0}]
[{"$f":"'aktuelle Zahlen'!A539","v":0},{"$f":"'aktuelle Zahlen'!B539","v":"00:00:00"},{"$f":"'aktuelle Zahlen'!C539","v":0},{"$f":"'aktuelle Zahlen'!D539","v":0},{"$f":"'aktuelle Zahlen'!E539","v":0},{"$f":"'aktuelle Zahlen'!F539","v":0},{"$f":"'aktuelle Zahlen'!G539","v":0},{"$f":"'aktuelle Zahlen'!H539","v":0},{"$f":"'aktuelle Zahlen'!J539","v":0}]
[{"$f":"'aktuelle Zahlen'!A540","v":0},{"$f":"'aktuelle Zahlen'!B540","v":"00:00:00"},{"$f":"'aktuelle Zahlen'!C540","v":0},{"$f":"'aktuelle Zahlen'!D540","v":0},{"$f":"'aktuelle Zahlen'!E540","v":0},{"$f":"'aktuelle Zahlen'!F540","v":0},{"$f":"'aktuelle Zahlen'!G540","v":0},{"$f":"'aktuelle Zahlen'!H540","v":0},{"$f":"'aktuelle Zahlen'!J540","v":0}]
[{"$f":"'aktuelle Zahlen'!A541","v":0},{"$f":"'aktuelle Zahlen'!B541","v":"00:00:00"},{"$f":"'aktuelle Zahlen'!C541","v":0},{"$f":"'aktuelle Zahlen'!D541","v":0},{"$f":"'aktuelle Zahlen'!E541","v":0},{"$f":"'aktuelle Zahlen'!F541","v":0},{"$f":"'aktuelle Zahlen'!G541","v":0},{"$f":"'aktuelle Zahlen'!H541","v":0},{"$f":"'aktuelle Zahlen'!J541","v":0}]
[{"$f":"'aktuelle Zahlen'!A542","v":0},{"$f":"'aktuelle Zahlen'!B542","v":"00:00:00"},{"$f":"'aktuelle Zahlen'!C542","v":0},{"$f":"'aktuelle Zahlen'!D542","v":0},{"$f":"'aktuelle Zahlen'!E542","v":0},{"$f":"'aktuelle Zahlen'!F542","v":0},{"$f":"'aktuelle Zahlen'!G542","v":0},{"$f":"'aktuelle Zahlen'!H542","v":0},{"$f":"'aktuelle Zahlen'!J542","v":0}]
[{"$f":"'aktuelle Zahlen'!A543","v":0},{"$f":"'aktuelle Zahlen'!B543","v":"00:00:00"},{"$f":"'aktuelle Zahlen'!C543","v":0},{"$f":"'aktuelle Zahlen'!D543","v":0},{"$f":"'aktuelle Zahlen'!E543","v":0},{"$f":"'aktuelle Zahlen'!F543","v":0},{"$f":"'aktuelle Zahlen'!G543","v":0},{"$f":"'aktuelle Zahlen'!H543","v":0},{"$f":"'aktuelle Zahlen'!J543","v":0}]
[{"$f":"'aktuelle Zahlen'!A544","v":0},{"$f":"'aktuelle Zahlen'!B544","v":"00:00:00"},{"$f":"'aktuelle Zahlen'!C544","v":0},{"$f":"'aktuelle Zahlen'!D544","v":0},{"$f":"'aktuelle Zahlen'!E544","v":0},{"$f":"'aktuelle Zahlen'!F544","v":0},{"$f":"'aktuelle Zahlen'!G544","v":0},{"$f":"'aktuelle Zahlen'!H544","v":0},{"$f":"'aktuelle Zahlen'!J544","v":0}]
[{"$f":"'aktuelle Zahlen'!A545","v":0},{"$f":"'aktuelle Zahlen'!B545","v":"00:00:00"},{"$f":"'aktuelle Zahlen'!C545","v":0},{"$f":"'aktuelle Zahlen'!D545","v":0},{"$f":"'aktuelle Zahlen'!E545","v":0},{"$f":"'aktuelle Zahlen'!F545","v":0},{"$f":"'aktuelle Zahlen'!G545","v":0},{"$f":"'aktuelle Zahlen'!H545","v":0},{"$f":"'aktuelle Zahlen'!J545","v":0}]
[{"$f":"'aktuelle Zahlen'!A546","v":0},{"$f":"'aktuelle Zahlen'!B546","v":"00:00:00"},{"$f":"'aktuelle Zahlen'!C546","v":0},{"$f":"'aktuelle Zahlen'!D546","v":0},{"$f":"'aktuelle Zahlen'!E546","v":0},{"$f":"'aktuelle Zahlen'!F546","v":0},{"$f":"'aktuelle Zahlen'!G546","v":0},{"$f":"'aktuelle Zahlen'!H546","v":0},{"$f":"'aktuelle Zahlen'!J546","v":0}]
[{"$f":"'aktuelle Zahlen'!A547","v":0},{"$f":"'aktuelle Zahlen'!B547","v":"00:00:00"},{"$f":"'aktuelle Zahlen'!C547","v":0},{"$f":"'aktuelle Zahlen'!D547","v":0},{"$f":"'aktuelle Zahlen'!E547","v":0},{"$f":"'aktuelle Zahlen'!F547","v":0},{"$f":"'aktuelle Zahlen'!G547","v":0},{"$f":"'aktuelle Zahlen'!H547","v":0},{"$f":"'aktuelle Zahlen'!J547","v":0}]
[{"$f":"'aktuelle Zahlen'!A548","v":0},{"$f":"'aktuelle Zahlen'!B548","v":"00:00:00"},{"$f":"'aktuelle Zahlen'!C548","v":0},{"$f":"'aktuelle Zahlen'!D548","v":0},{"$f":"'aktuelle Zahlen'!E548","v":0},{"$f":"'aktuelle Zahlen'!F548","v":0},{"$f":"'aktuelle Zahlen'!G548","v":0},{"$f":"'aktuelle Zahlen'!H548","v":0},{"$f":"'aktuelle Zahlen'!J548","v":0}]
[{"$f":"'aktuelle Zahlen'!A549","v":0},{"$f":"'aktuelle Zahlen'!B549","v":"00:00:00"},{"$f":"'aktuelle Zahlen'!C549","v":0},{"$f":"'aktuelle Zahlen'!D549","v":0},{"$f":"'aktuelle Zahlen'!E549","v":0},{"$f":"'aktuelle Zahlen'!F549","v":0},{"$f":"'aktuelle Zahlen'!G549","v":0},{"$f":"'aktuelle Zahlen'!H549","v":0},{"$f":"'aktuelle Zahlen'!J549","v":0}]
[{"$f":"'aktuelle Zahlen'!A550","v":0},{"$f":"'aktuelle Zahlen'!B550","v":"00:00:00"},{"$f":"'aktuelle Zahlen'!C550","v":0},{"$f":"'aktuelle Zahlen'!D550","v":0},{"$f":"'aktuelle Zahlen'!E550","v":0},{"$f":"'aktuelle Zahlen'!F550","v":0},{"$f":"'aktuelle Zahlen'!G550","v":0},{"$f":"'aktuelle Zahlen'!H550","v":0},{"$f":"'aktuelle Zahlen'!J550","v":0}]
[{"$f":"'aktuelle Zahlen'!A551","v":0},{"$f":"'aktuelle Zahlen'!B551","v":"00:00:00"},{"$f":"'aktuelle Zahlen'!C551","v":0},{"$f":"'aktuelle Zahlen'!D551","v":0},{"$f":"'aktuelle Zahlen'!E551","v":0},{"$f":"'aktuelle Zahlen'!F551","v":0},{"$f":"'aktuelle Zahlen'!G551","v":0},{"$f":"'aktuelle Zahlen'!H551","v":0},{"$f":"'aktuelle Zahlen'!J551","v":0}]
[{"$f":"'aktuelle Zahlen'!A552","v":0},{"$f":"'aktuelle Zahlen'!B552","v":"00:00:00"},{"$f":"'aktuelle Zahlen'!C552","v":0},{"$f":"'aktuelle Zahlen'!D552","v":0},{"$f":"'aktuelle Zahlen'!E552","v":0},{"$f":"'aktuelle Zahlen'!F552","v":0},{"$f":"'aktuelle Zahlen'!G552","v":0},{"$f":"'aktuelle Zahlen'!H552","v":0},{"$f":"'aktuelle Zahlen'!J552","v":0}]
[{"$f":"'aktuelle Zahlen'!A553","v":0},{"$f":"'aktuelle Zahlen'!B553","v":"00:00:00"},{"$f":"'aktuelle Zahlen'!C553","v":0},{"$f":"'aktuelle Zahlen'!D553","v":0},{"$f":"'aktuelle Zahlen'!E553","v":0},{"$f":"'aktuelle Zahlen'!F553","v":0},{"$f":"'aktuelle Zahlen'!G553","v":0},{"$f":"'aktuelle Zahlen'!H553","v":0},{"$f":"'aktuelle Zahlen'!J553","v":0}]
[{"$f":"'aktuelle Zahlen'!A554","v":0},{"$f":"'aktuelle Zahlen'!B554","v":"00:00:00"},{"$f":"'aktuelle Zahlen'!C554","v":0},{"$f":"'aktuelle Zahlen'!D554","v":0},{"$f":"'aktuelle Zahlen'!E554","v":0},{"$f":"'aktuelle Zahlen'!F554","v":0},{"$f":"'aktuelle Zahlen'!G554","v":0},{"$f":"'aktuelle Zahlen'!H554","v":0},{"$f":"'aktuelle Zahlen'!J554","v":0}]
[{"$f":"'aktuelle Zahlen'!A555","v":0},{"$f":"'aktuelle Zahlen'!B555","v":"00:00:00"},{"$f":"'aktuelle Zahlen'!C555","v":0},{"$f":"'aktuelle Zahlen'!D555","v":0},{"$f":"'aktuelle Zahlen'!E555","v":0},{"$f":"'aktuelle Zahlen'!F555","v":0},{"$f":"'aktuelle Zahlen'!G555","v":0},{"$f":"'aktuelle Zahlen'!H555","v":0},{"$f":"'aktuelle Zahlen'!J555","v":0}]
[{"$f":"'aktuelle Zahlen'!A556","v":0},{"$f":"'aktuelle Zahlen'!B556","v":"00:00:00"},{"$f":"'aktuelle Zahlen'!C556","v":0},{"$f":"'aktuelle Zahlen'!D556","v":0},{"$f":"'aktuelle Zahlen'!E556","v":0},{"$f":"'aktuelle Zahlen'!F556","v":0},{"$f":"'aktuelle Zahlen'!G556","v":0},{"$f":"'aktuelle Zahlen'!H556","v":0},{"$f":"'aktuelle Zahlen'!J556","v":0}]
[{"$f":"'aktuelle Zahlen'!A557","v":0},{"$f":"'aktuelle Zahlen'!B557","v":"00:00:00"},{"$f":"'aktuelle Zahlen'!C557","v":0},{"$f":"'aktuelle Zahlen'!D557","v":0},{"$f":"'aktuelle Zahlen'!E557","v":0},{"$f":"'aktuelle Zahlen'!F557","v":0},{"$f":"'aktuelle Zahlen'!G557","v":0},{"$f":"'aktuelle Zahlen'!H557","v":0},{"$f":"'aktuelle Zahlen'!J557","v":0}]
[{"$f":"'aktuelle Zahlen'!A558","v":0},{"$f":"'aktuelle Zahlen'!B558","v":"00:00:00"},{"$f":"'aktuelle Zahlen'!C558","v":0},{"$f":"'aktuelle Zahlen'!D558","v":0},{"$f":"'aktuelle Zahlen'!E558","v":0},{"$f":"'aktuelle Zahlen'!F558","v":0},{"$f":"'aktuelle Zahlen'!G558","v":0},{"$f":"'aktuelle Zahlen'!H558","v":0},{"$f":"'aktuelle Zahlen'!J558","v":0}]
[{"$f":"'aktuelle Zahlen'!A559","v":0},{"$f":"'aktuelle Zahlen'!B559","v":"00:00:00"},{"$f":"'aktuelle Zahlen'!C559","v":0},{"$f":"'aktuelle Zahlen'!D559","v":0},{"$f":"'aktuelle Zahlen'!E559","v":0},{"$f":"'aktuelle Zahlen'!F559","v":0},{"$f":"'aktuelle Zahlen'!G559","v":0},{"$f":"'aktuelle Zahlen'!H559","v":0},{"$f":"'aktuelle Zahlen'!J559","v":0}]
[{"$f":"'aktuelle Zahlen'!A560","v":0},{"$f":"'aktuelle Zahlen'!B560","v":"00:00:00"},{"$f":"'aktuelle Zahlen'!C560","v":0},{"$f":"'aktuelle Zahlen'!D560","v":0},{"$f":"'aktuelle Zahlen'!E560","v":0},{"$f":"'aktuelle Zahlen'!F560","v":0},{"$f":"'aktuelle Zahlen'!G560","v":0},{"$f":"'aktuelle Zahlen'!H560","v":0},{"$f":"'aktuelle Zahlen'!J560","v":0}]
[{"$f":"'aktuelle Zahlen'!A561","v":0},{"$f":"'aktuelle Zahlen'!B561","v":"00:00:00"},{"$f":"'aktuelle Zahlen'!C561","v":0},{"$f":"'aktuelle Zahlen'!D561","v":0},{"$f":"'aktuelle Zahlen'!E561","v":0},{"$f":"'aktuelle Zahlen'!F561","v":0},{"$f":"'aktuelle Zahlen'!G561","v":0},{"$f":"'aktuelle Zahlen'!H561","v":0},{"$f":"'aktuelle Zahlen'!J561","v":0}]
[{"$f":"'aktuelle Zahlen'!A562","v":0},{"$f":"'aktuelle Zahlen'!B562","v":"00:00:00"},{"$f":"'aktuelle Zahlen'!C562","v":0},{"$f":"'aktuelle Zahlen'!D562","v":0},{"$f":"'aktuelle Zahlen'!E562","v":0},{"$f":"'aktuelle Zahlen'!F562","v":0},{"$f":"'aktuelle Zahlen'!G562","v":0},{"$f":"'aktuelle Zahlen'!H562","v":0},{"$f":"'aktuelle Zahlen'!J562","v":0}]
[{"$f":"'aktuelle Zahlen'!A563","v":0},{"$f":"'aktuelle Zahlen'!B563","v":"00:00:00"},{"$f":"'aktuelle Zahlen'!C563","v":0},{"$f":"'aktuelle Zahlen'!D563","v":0},{"$f":"'aktuelle Zahlen'!E563","v":0},{"$f":"'aktuelle Zahlen'!F563","v":0},{"$f":"'aktuelle Zahlen'!G563","v":0},{"$f":"'aktuelle Zahlen'!H563","v":0},{"$f":"'aktuelle Zahlen'!J563","v":0}]
[{"$f":"'aktuelle Zahlen'!A564","v":0},{"$f":"'aktuelle Zahlen'!B564","v":"00:00:00"},{"$f":"'aktuelle Zahlen'!C564","v":0},{"$f":"'aktuelle Zahlen'!D564","v":0},{"$f":"'aktuelle Zahlen'!E564","v":0},{"$f":"'aktuelle Zahlen'!F564","v":0},{"$f":"'aktuelle Zahlen'!G564","v":0},{"$f":"'aktuelle Zahlen'!H564","v":0},{"$f":"'aktuelle Zahlen'!J564","v":0}]
[{"$f":"'aktuelle Zahlen'!A565","v":0},{"$f":"'aktuelle Zahlen'!B565","v":"00:00:00"},{"$f":"'aktuelle Zahlen'!C565","v":0},{"$f":"'aktuelle Zahlen'!D565","v":0},{"$f":"'aktuelle Zahlen'!E565","v":0},{"$f":"'aktuelle Zahlen'!F565","v":0},{"$f":"'aktuelle Zahlen'!G565","v":0},{"$f":"'aktuelle Zahlen'!H565","v":0},{"$f":"'aktuelle Zahlen'!J565","v":0}]
[{"$f":"'aktuelle Zahlen'!A566","v":0},{"$f":"'aktuelle Zahlen'!B566","v":"00:00:00"},{"$f":"'aktuelle Zahlen'!C566","v":0},{"$f":"'aktuelle Zahlen'!D566","v":0},{"$f":"'aktuelle Zahlen'!E566","v":0},{"$f":"'aktuelle Zahlen'!F566","v":0},{"$f":"'aktuelle Zahlen'!G566","v":0},{"$f":"'aktuelle Zahlen'!H566","v":0},{"$f":"'aktuelle Zahlen'!J566","v":0}]
[{"$f":"'aktuelle Zahlen'!A567","v":0},{"$f":"'aktuelle Zahlen'!B567","v":"00:00:00"},{"$f":"'aktuelle Zahlen'!C567","v":0},{"$f":"'aktuelle Zahlen'!D567","v":0},{"$f":"'aktuelle Zahlen'!E567","v":0},{"$f":"'aktuelle Zahlen'!F567","v":0},{"$f":"'aktuelle Zahlen'!G567","v":0},{"$f":"'aktuelle Zahlen'!H567","v":0},{"$f":"'aktuelle Zahlen'!J567","v":0}]
[{"$f":"'aktuelle Zahlen'!A568","v":0},{"$f":"'aktuelle Zahlen'!B568","v":"00:00:00"},{"$f":"'aktuelle Zahlen'!C568","v":0},{"$f":"'aktuelle Zahlen'!D568","v":0},{"$f":"'aktuelle Zahlen'!E568","v":0},{"$f":"'aktuelle Zahlen'!F568","v":0},{"$f":"'aktuelle Zahlen'!G568","v":0},{"$f":"'aktuelle Zahlen'!H568","v":0},{"$f":"'aktuelle Zahlen'!J568","v":0}]
[{"$f":"'aktuelle Zahlen'!A569","v":0},{"$f":"'aktuelle Zahlen'!B569","v":"00:00:00"},{"$f":"'aktuelle Zahlen'!C569","v":0},{"$f":"'aktuelle Zahlen'!D569","v":0},{"$f":"'aktuelle Zahlen'!E569","v":0},{"$f":"'aktuelle Zahlen'!F569","v":0},{"$f":"'aktuelle Zahlen'!G569","v":0},{"$f":"'aktuelle Zahlen'!H569","v":0},{"$f":"'aktuelle Zahlen'!J569","v":0}]
[{"$f":"'aktuelle Zahlen'!A570","v":0},{"$f":"'aktuelle Zahlen'!B570","v":"00:00:00"},{"$f":"'aktuelle Zahlen'!C570","v":0},{"$f":"'aktuelle Zahlen'!D570","v":0},{"$f":"'aktuelle Zahlen'!E570","v":0},{"$f":"'aktuelle Zahlen'!F570","v":0},{"$f":"'aktuelle Zahlen'!G570","v":0},{"$f":"'aktuelle Zahlen'!H570","v":0},{"$f":"'aktuelle Zahlen'!J570","v":0}]
[{"$f":"'aktuelle Zahlen'!A571","v":0},{"$f":"'aktuelle Zahlen'!B571","v":"00:00:00"},{"$f":"'aktuelle Zahlen'!C571","v":0},{"$f":"'aktuelle Zahlen'!D571","v":0},{"$f":"'aktuelle Zahlen'!E571","v":0},{"$f":"'aktuelle Zahlen'!F571","v":0},{"$f":"'aktuelle Zahlen'!G571","v":0},{"$f":"'aktuelle Zahlen'!H571","v":0},{"$f":"'aktuelle Zahlen'!J571","v":0}]
[{"$f":"'aktuelle Zahlen'!A572","v":0},{"$f":"'aktuelle Zahlen'!B572","v":"00:00:00"},{"$f":"'aktuelle Zahlen'!C572","v":0},{"$f":"'aktuelle Zahlen'!D572","v":0},{"$f":"'aktuelle Zahlen'!E572","v":0},{"$f":"'aktuelle Zahlen'!F572","v":0},{"$f":"'aktuelle Zahlen'!G572","v":0},{"$f":"'aktuelle Zahlen'!H572","v":0},{"$f":"'aktuelle Zahlen'!J572","v":0}]
[{"$f":"'aktuelle Zahlen'!A573","v":0},{"$f":"'aktuelle Zahlen'!B573","v":"00:00:00"},{"$f":"'aktuelle Zahlen'!C573","v":0},{"$f":"'aktuelle Zahlen'!D573","v":0},{"$f":"'aktuelle Zahlen'!E573","v":0},{"$f":"'aktuelle Zahlen'!F573","v":0},{"$f":"'aktuelle Zahlen'!G573","v":0},{"$f":"'aktuelle Zahlen'!H573","v":0},{"$f":"'aktuelle Zahlen'!J573","v":0}]
[{"$f":"'aktuelle Zahlen'!A574","v":0},{"$f":"'aktuelle Zahlen'!B574","v":"00:00:00"},{"$f":"'aktuelle Zahlen'!C574","v":0},{"$f":"'aktuelle Zahlen'!D574","v":0},{"$f":"'aktuelle Zahlen'!E574","v":0},{"$f":"'aktuelle Zahlen'!F574","v":0},{"$f":"'aktuelle Zahlen'!G574","v":0},{"$f":"'aktuelle Zahlen'!H574","v":0},{"$f":"'aktuelle Zahlen'!J574","v":0}]
[{"$f":"'aktuelle Zahlen'!A575","v":0},{"$f":"'aktuelle Zahlen'!B575","v":"00:00:00"},{"$f":"'aktuelle Zahlen'!C575","v":0},{"$f":"'aktuelle Zahlen'!D575","v":0},{"$f":"'aktuelle Zahlen'!E575","v":0},{"$f":"'aktuelle Zahlen'!F575","v":0},{"$f":"'aktuelle Zahlen'!G575","v":0},{"$f":"'aktuelle Zahlen'!H575","v":0},{"$f":"'aktuelle Zahlen'!J575","v":0}]
[{"$f":"'aktuelle Zahlen'!A576","v":0},{"$f":"'aktuelle Zahlen'!B576","v":"00:00:00"},{"$f":"'aktuelle Zahlen'!C576","v":0},{"$f":"'aktuelle Zahlen'!D576","v":0},{"$f":"'aktuelle Zahlen'!E576","v":0},{"$f":"'aktuelle Zahlen'!F576","v":0},{"$f":"'aktuelle Zahlen'!G576","v":0},{"$f":"'aktuelle Zahlen'!H576","v":0},{"$f":"'aktuelle Zahlen'!J576","v":0}]
[{"$f":"'aktuelle Zahlen'!A577","v":0},{"$f":"'aktuelle Zahlen'!B577","v":"00:00:00"},{"$f":"'aktuelle Zahlen'!C577","v":0},{"$f":"'aktuelle Zahlen'!D577","v":0},{"$f":"'aktuelle Zahlen'!E577","v":0},{"$f":"'aktuelle Zahlen'!F577","v":0},{"$f":"'aktuelle Zahlen'!G577","v":0},{"$f":"'aktuelle Zahlen'!H577","v":0},{"$f":"'aktuelle Zahlen'!J577","v":0}]
[{"$f":"'aktuelle Zahlen'!A578","v":0},{"$f":"'aktuelle Zahlen'!B578","v":"00:00:00"},{"$f":"'aktuelle Zahlen'!C578","v":0},{"$f":"'aktuelle Zahlen'!D578","v":0},{"$f":"'aktuelle Zahlen'!E578","v":0},{"$f":"'aktuelle Zahlen'!F578","v":0},{"$f":"'aktuelle Zahlen'!G578","v":0},{"$f":"'aktuelle Zahlen'!H578","v":0},{"$f":"'aktuelle Zahlen'!J578","v":0}]
[{"$f":"'aktuelle Zahlen'!A579","v":0},{"$f":"'aktuelle Zahlen'!B579","v":"00:00:00"},{"$f":"'aktuelle Zahlen'!C579","v":0},{"$f":"'aktuelle Zahlen'!D579","v":0},{"$f":"'aktuelle Zahlen'!E579","v":0},{"$f":"'aktuelle Zahlen'!F579","v":0},{"$f":"'aktuelle Zahlen'!G579","v":0},{"$f":"'aktuelle Zahlen'!H579","v":0},{"$f":"'aktuelle Zahlen'!J579","v":0}]
[{"$f":"'aktuelle Zahlen'!A580","v":0},{"$f":"'aktuelle Zahlen'!B580","v":"00:00:00"},{"$f":"'aktuelle Zahlen'!C580","v":0},{"$f":"'aktuelle Zahlen'!D580","v":0},{"$f":"'aktuelle Zahlen'!E580","v":0},{"$f":"'aktuelle Zahlen'!F580","v":0},{"$f":"'aktuelle Zahlen'!G580","v":0},{"$f":"'aktuelle Zahlen'!H580","v":0},{"$f":"'aktuelle Zahlen'!J580","v":0}]
[{"$f":"'aktuelle Zahlen'!A581","v":0},{"$f":"'aktuelle Zahlen'!B581","v":"00:00:00"},{"$f":"'aktuelle Zahlen'!C581","v":0},{"$f":"'aktuelle Zahlen'!D581","v":0},{"$f":"'aktuelle Zahlen'!E581","v":0},{"$f":"'aktuelle Zahlen'!F581","v":0},{"$f":"'aktuelle Zahlen'!G581","v":0},{"$f":"'aktuelle Zahlen'!H581","v":0},{"$f":"'aktuelle Zahlen'!J581","v":0}]
[{"$f":"'aktuelle Zahlen'!A582","v":0},{"$f":"'aktuelle Zahlen'!B582","v":"00:00:00"},{"$f":"'aktuelle Zahlen'!C582","v":0},{"$f":"'aktuelle Zahlen'!D582","v":0},{"$f":"'aktuelle Zahlen'!E582","v":0},{"$f":"'aktuelle Zahlen'!F582","v":0},{"$f":"'aktuelle Zahlen'!G582","v":0},{"$f":"'aktuelle Zahlen'!H582","v":0},{"$f":"'aktuelle Zahlen'!J582","v":0}]
[{"$f":"'aktuelle Zahlen'!A583","v":0},{"$f":"'aktuelle Zahlen'!B583","v":"00:00:00"},{"$f":"'aktuelle Zahlen'!C583","v":0},{"$f":"'aktuelle Zahlen'!D583","v":0},{"$f":"'aktuelle Zahlen'!E583","v":0},{"$f":"'aktuelle Zahlen'!F583","v":0},{"$f":"'aktuelle Zahlen'!G583","v":0},{"$f":"'aktuelle Zahlen'!H583","v":0},{"$f":"'aktuelle Zahlen'!J583","v":0}]
[{"$f":"'aktuelle Zahlen'!A584","v":0},{"$f":"'aktuelle Zahlen'!B584","v":"00:00:00"},{"$f":"'aktuelle Zahlen'!C584","v":0},{"$f":"'aktuelle Zahlen'!D584","v":0},{"$f":"'aktuelle Zahlen'!E584","v":0},{"$f":"'aktuelle Zahlen'!F584","v":0},{"$f":"'aktuelle Zahlen'!G584","v":0},{"$f":"'aktuelle Zahlen'!H584","v":0},{"$f":"'aktuelle Zahlen'!J584","v":0}]
[{"$f":"'aktuelle Zahlen'!A585","v":0},{"$f":"'aktuelle Zahlen'!B585","v":"00:00:00"},{"$f":"'aktuelle Zahlen'!C585","v":0},{"$f":"'aktuelle Zahlen'!D585","v":0},{"$f":"'aktuelle Zahlen'!E585","v":0},{"$f":"'aktuelle Zahlen'!F585","v":0},{"$f":"'aktuelle Zahlen'!G585","v":0},{"$f":"'aktuelle Zahlen'!H585","v":0},{"$f":"'aktuelle Zahlen'!J585","v":0}]
[{"$f":"'aktuelle Zahlen'!A586","v":0},{"$f":"'aktuelle Zahlen'!B586","v":"00:00:00"},{"$f":"'aktuelle Zahlen'!C586","v":0},{"$f":"'aktuelle Zahlen'!D586","v":0},{"$f":"'aktuelle Zahlen'!E586","v":0},{"$f":"'aktuelle Zahlen'!F586","v":0},{"$f":"'aktuelle Zahlen'!G586","v":0},{"$f":"'aktuelle Zahlen'!H586","v":0},{"$f":"'aktuelle Zahlen'!J586","v":0}]
[{"$f":"'aktuelle Zahlen'!A587","v":0},{"$f":"'aktuelle Zahlen'!B587","v":"00:00:00"},{"$f":"'aktuelle Zahlen'!C587","v":0},{"$f":"'aktuelle Zahlen'!D587","v":0},{"$f":"'aktuelle Zahlen'!E587","v":0},{"$f":"'aktuelle Zahlen'!F587","v":0},{"$f":"'aktuelle Zahlen'!G587","v":0},{"$f":"'aktuelle Zahlen'!H587","v":0},{"$f":"'aktuelle Zahlen'!J587","v":0}]
[{"$f":"'aktuelle Zahlen'!A588","v":0},{"$f":"'aktuelle Zahlen'!B588","v":"00:00:00"},{"$f":"'aktuelle Zahlen'!C588","v":0},{"$f":"'aktuelle Zahlen'!D588","v":0},{"$f":"'aktuelle Zahlen'!E588","v":0},{"$f":"'aktuelle Zahlen'!F588","v":0},{"$f":"'aktuelle Zahlen'!G588","v":0},{"$f":"'aktuelle Zahlen'!H588","v":0},{"$f":"'aktuelle Zahlen'!J588","v":0}]
[{"$f":"'aktuelle Zahlen'!A589","v":0},{"$f":"'aktuelle Zahlen'!B589","v":"00:00:00"},{"$f":"'aktuelle Zahlen'!C589","v":0},{"$f":"'aktuelle Zahlen'!D589","v":0},{"$f":"'aktuelle Zahlen'!E589","v":0},{"$f":"'aktuelle Zahlen'!F589","v":0},{"$f":"'aktuelle Zahlen'!G589","v":0},{"$f":"'aktuelle Zahlen'!H589","v":0},{"$f":"'aktuelle Zahlen'!J589","v":0}]
[{"$f":"'aktuelle Zahlen'!A590","v":0},{"$f":"'aktuelle Zahlen'!B590","v":"00:00:00"},{"$f":"'aktuelle Zahlen'!C590","v":0},{"$f":"'aktuelle Zahlen'!D590","v":0},{"$f":"'aktuelle Zahlen'!E590","v":0},{"$f":"'aktuelle Zahlen'!F590","v":0},{"$f":"'aktuelle Zahlen'!G590","v":0},{"$f":"'aktuelle Zahlen'!H590","v":0},{"$f":"'aktuelle Zahlen'!J590","v":0}]
[{"$f":"'aktuelle Zahlen'!A591","v":0},{"$f":"'aktuelle Zahlen'!B591","v":"00:00:00"},{"$f":"'aktuelle Zahlen'!C591","v":0},{"$f":"'aktuelle Zahlen'!D591","v":0},{"$f":"'aktuelle Zahlen'!E591","v":0},{"$f":"'aktuelle Zahlen'!F591","v":0},{"$f":"'aktuelle Zahlen'!G591","v":0},{"$f":"'aktuelle Zahlen'!H591","v":0},{"$f":"'aktuelle Zahlen'!J591","v":0}]
[{"$f":"'aktuelle Zahlen'!A592","v":0},{"$f":"'aktuelle Zahlen'!B592","v":"00:00:00"},{"$f":"'aktuelle Zahlen'!C592","v":0},{"$f":"'aktuelle Zahlen'!D592","v":0},{"$f":"'aktuelle Zahlen'!E592","v":0},{"$f":"'aktuelle Zahlen'!F592","v":0},{"$f":"'aktuelle Zahlen'!G592","v":0},{"$f":"'aktuelle Zahlen'!H592","v":0},{"$f":"'aktuelle Zahlen'!J592","v":0}]
[{"$f":"'aktuelle Zahlen'!A593","v":0},{"$f":"'aktuelle Zahlen'!B593","v":"00:00:00"},{"$f":"'aktuelle Zahlen'!C593","v":0},{"$f":"'aktuelle Zahlen'!D593","v":0},{"$f":"'aktuelle Zahlen'!E593","v":0},{"$f":"'aktuelle Zahlen'!F593","v":0},{"$f":"'aktuelle Zahlen'!G593","v":0},{"$f":"'aktuelle Zahlen'!H593","v":0},{"$f":"'aktuelle Zahlen'!J593","v":0}]
[{"$f":"'aktuelle Zahlen'!A594","v":0},{"$f":"'aktuelle Zahlen'!B594","v":"00:00:00"},{"$f":"'aktuelle Zahlen'!C594","v":0},{"$f":"'aktuelle Zahlen'!D594","v":0},{"$f":"'aktuelle Zahlen'!E594","v":0},{"$f":"'aktuelle Zahlen'!F594","v":0},{"$f":"'aktuelle Zahlen'!G594","v":0},{"$f":"'aktuelle Zahlen'!H594","v":0},{"$f":"'aktuelle Zahlen'!J594","v":0}]
[{"$f":"'aktuelle Zahlen'!A595","v":0},{"$f":"'aktuelle Zahlen'!B595","v":"00:00:00"},{"$f":"'aktuelle Zahlen'!C595","v":0},{"$f":"'aktuelle Zahlen'!D595","v":0},{"$f":"'aktuelle Zahlen'!E595","v":0},{"$f":"'aktuelle Zahlen'!F595","v":0},{"$f":"'aktuelle Zahlen'!G595","v":0},{"$f":"'aktuelle Zahlen'!H595","v":0},{"$f":"'aktuelle Zahlen'!J595","v":0}]
[{"$f":"'aktuelle Zahlen'!A596","v":0},{"$f":"'aktuelle Zahlen'!B596","v":"00:00:00"},{"$f":"'aktuelle Zahlen'!C596","v":0},{"$f":"'aktuelle Zahlen'!D596","v":0},{"$f":"'aktuelle Zahlen'!E596","v":0},{"$f":"'aktuelle Zahlen'!F596","v":0},{"$f":"'aktuelle Zahlen'!G596","v":0},{"$f":"'aktuelle Zahlen'!H596","v":0},{"$f":"'aktuelle Zahlen'!J596","v":0}]
[{"$f":"'aktuelle Zahlen'!A597","v":0},{"$f":"'aktuelle Zahlen'!B597","v":"00:00:00"},{"$f":"'aktuelle Zahlen'!C597","v":0},{"$f":"'aktuelle Zahlen'!D597","v":0},{"$f":"'aktuelle Zahlen'!E597","v":0},{"$f":"'aktuelle Zahlen'!F597","v":0},{"$f":"'aktuelle Zahlen'!G597","v":0},{"$f":"'aktuelle Zahlen'!H597","v":0},{"$f":"'aktuelle Zahlen'!J597","v":0}]
[{"$f":"'aktuelle Zahlen'!A598","v":0},{"$f":"'aktuelle Zahlen'!B598","v":"00:00:00"},{"$f":"'aktuelle Zahlen'!C598","v":0},{"$f":"'aktuelle Zahlen'!D598","v":0},{"$f":"'aktuelle Zahlen'!E598","v":0},{"$f":"'aktuelle Zahlen'!F598","v":0},{"$f":"'aktuelle Zahlen'!G598","v":0},{"$f":"'aktuelle Zahlen'!H598","v":0},{"$f":"'aktuelle Zahlen'!J598","v":0}]
[{"$f":"'aktuelle Zahlen'!A599","v":0},{"$f":"'aktuelle Zahlen'!B599","v":"00:00:00"},{"$f":"'aktuelle Zahlen'!C599","v":0},{"$f":"'aktuelle Zahlen'!D599","v":0},{"$f":"'aktuelle Zahlen'!E599","v":0},{"$f":"'aktuelle Zahlen'!F599","v":0},{"$f":"'aktuelle Zahlen'!G599","v":0},{"$f":"'aktuelle Zahlen'!H599","v":0},{"$f":"'aktuelle Zahlen'!J599","v":0}]
[{"$f":"'aktuelle Zahlen'!A600","v":0},{"$f":"'aktuelle Zahlen'!B600","v":"00:00:00"},{"$f":"'aktuelle Zahlen'!C600","v":0},{"$f":"'aktuelle Zahlen'!D600","v":0},{"$f":"'aktuelle Zahlen'!E600","v":0},{"$f":"'aktuelle Zahlen'!F600","v":0},{"$f":"'aktuelle Zahlen'!G600","v":0},{"$f":"'aktuelle Zahlen'!H600","v":0},{"$f":"'aktuelle Zahlen'!J600","v":0}]
[{"$f":"'aktuelle Zahlen'!A601","v":0},{"$f":"'aktuelle Zahlen'!B601","v":"00:00:00"},{"$f":"'aktuelle Zahlen'!C601","v":0},{"$f":"'aktuelle Zahlen'!D601","v":0},{"$f":"'aktuelle Zahlen'!E601","v":0},{"$f":"'aktuelle Zahlen'!F601","v":0},{"$f":"'aktuelle Zahlen'!G601","v":0},{"$f":"'aktuelle Zahlen'!H601","v":0},{"$f":"'aktuelle Zahlen'!J601","v":0}]
[{"$f":"'aktuelle Zahlen'!A602","v":0},{"$f":"'aktuelle Zahlen'!B602","v":"00:00:00"},{"$f":"'aktuelle Zahlen'!C602","v":0},{"$f":"'aktuelle Zahlen'!D602","v":0},{"$f":"'aktuelle Zahlen'!E602","v":0},{"$f":"'aktuelle Zahlen'!F602","v":0},{"$f":"'aktuelle Zahlen'!G602","v":0},{"$f":"'aktuelle Zahlen'!H602","v":0},{"$f":"'aktuelle Zahlen'!J602","v":0}]
[{"$f":"'aktuelle Zahlen'!A603","v":0},{"$f":"'aktuelle Zahlen'!B603","v":"00:00:00"},{"$f":"'aktuelle Zahlen'!C603","v":0},{"$f":"'aktuelle Zahlen'!D603","v":0},{"$f":"'aktuelle Zahlen'!E603","v":0},{"$f":"'aktuelle Zahlen'!F603","v":0},{"$f":"'aktuelle Zahlen'!G603","v":0},{"$f":"'aktuelle Zahlen'!H603","v":0},{"$f":"'aktuelle Zahlen'!J603","v":0}]
[{"$f":"'aktuelle Zahlen'!A604","v":0},{"$f":"'aktuelle Zahlen'!B604","v":"00:00:00"},{"$f":"'aktuelle Zahlen'!C604","v":0},{"$f":"'aktuelle Zahlen'!D604","v":0},{"$f":"'aktuelle Zahlen'!E604","v":0},{"$f":"'aktuelle Zahlen'!F604","v":0},{"$f":"'aktuelle Zahlen'!G604","v":0},{"$f":"'aktuelle Zahlen'!H604","v":0},{"$f":"'aktuelle Zahlen'!J604","v":0}]
[{"$f":"'aktuelle Zahlen'!A605","v":0},{"$f":"'aktuelle Zahlen'!B605","v":"00:00:00"},{"$f":"'aktuelle Zahlen'!C605","v":0},{"$f":"'aktuelle Zahlen'!D605","v":0},{"$f":"'aktuelle Zahlen'!E605","v":0},{"$f":"'aktuelle Zahlen'!F605","v":0},{"$f":"'aktuelle Zahlen'!G605","v":0},{"$f":"'aktuelle Zahlen'!H605","v":0},{"$f":"'aktuelle Zahlen'!J605","v":0}]
[{"$f":"'aktuelle Zahlen'!A606","v":0},{"$f":"'aktuelle Zahlen'!B606","v":"00:00:00"},{"$f":"'aktuelle Zahlen'!C606","v":0},{"$f":"'aktuelle Zahlen'!D606","v":0},{"$f":"'aktuelle Zahlen'!E606","v":0},{"$f":"'aktuelle Zahlen'!F606","v":0},{"$f":"'aktuelle Zahlen'!G606","v":0},{"$f":"'aktuelle Zahlen'!H606","v":0},{"$f":"'aktuelle Zahlen'!J606","v":0}]
[{"$f":"'aktuelle Zahlen'!A607","v":0},{"$f":"'aktuelle Zahlen'!B607","v":"00:00:00"},{"$f":"'aktuelle Zahlen'!C607","v":0},{"$f":"'aktuelle Zahlen'!D607","v":0},{"$f":"'aktuelle Zahlen'!E607","v":0},{"$f":"'aktuelle Zahlen'!F607","v":0},{"$f":"'aktuelle Zahlen'!G607","v":0},{"$f":"'aktuelle Zahlen'!H607","v":0},{"$f":"'aktuelle Zahlen'!J607","v":0}]
[{"$f":"'aktuelle Zahlen'!A608","v":0},{"$f":"'aktuelle Zahlen'!B608","v":"00:00:00"},{"$f":"'aktuelle Zahlen'!C608","v":0},{"$f":"'aktuelle Zahlen'!D608","v":0},{"$f":"'aktuelle Zahlen'!E608","v":0},{"$f":"'aktuelle Zahlen'!F608","v":0},{"$f":"'aktuelle Zahlen'!G608","v":0},{"$f":"'aktuelle Zahlen'!H608","v":0},{"$f":"'aktuelle Zahlen'!J608","v":0}]
[{"$f":"'aktuelle Zahlen'!A609","v":0},{"$f":"'aktuelle Zahlen'!B609","v":"00:00:00"},{"$f":"'aktuelle Zahlen'!C609","v":0},{"$f":"'aktuelle Zahlen'!D609","v":0},{"$f":"'aktuelle Zahlen'!E609","v":0},{"$f":"'aktuelle Zahlen'!F609","v":0},{"$f":"'aktuelle Zahlen'!G609","v":0},{"$f":"'aktuelle Zahlen'!H609","v":0},{"$f":"'aktuelle Zahlen'!J609","v":0}]
[{"$f":"'aktuelle Zahlen'!A610","v":0},{"$f":"'aktuelle Zahlen'!B610","v":"00:00:00"},{"$f":"'aktuelle Zahlen'!C610","v":0},{"$f":"'aktuelle Zahlen'!D610","v":0},{"$f":"'aktuelle Zahlen'!E610","v":0},{"$f":"'aktuelle Zahlen'!F610","v":0},{"$f":"'aktuelle Zahlen'!G610","v":0},{"$f":"'aktuelle Zahlen'!H610","v":0},{"$f":"'aktuelle Zahlen'!J610","v":0}]
[{"$f":"'aktuelle Zahlen'!A611","v":0},{"$f":"'aktuelle Zahlen'!B611","v":"00:00:00"},{"$f":"'aktuelle Zahlen'!C611","v":0},{"$f":"'aktuelle Zahlen'!D611","v":0},{"$f":"'aktuelle Zahlen'!E611","v":0},{"$f":"'aktuelle Zahlen'!F611","v":0},{"$f":"'aktuelle Zahlen'!G611","v":0},{"$f":"'aktuelle Zahlen'!H611","v":0},{"$f":"'aktuelle Zahlen'!J611","v":0}]
[{"$f":"'aktuelle Zahlen'!A612","v":0},{"$f":"'aktuelle Zahlen'!B612","v":"00:00:00"},{"$f":"'aktuelle Zahlen'!C612","v":0},{"$f":"'aktuelle Zahlen'!D612","v":0},{"$f":"'aktuelle Zahlen'!E612","v":0},{"$f":"'aktuelle Zahlen'!F612","v":0},{"$f":"'aktuelle Zahlen'!G612","v":0},{"$f":"'aktuelle Zahlen'!H612","v":0},{"$f":"'aktuelle Zahlen'!J612","v":0}]
[{"$f":"'aktuelle Zahlen'!A613","v":0},{"$f":"'aktuelle Zahlen'!B613","v":"00:00:00"},{"$f":"'aktuelle Zahlen'!C613","v":0},{"$f":"'aktuelle Zahlen'!D613","v":0},{"$f":"'aktuelle Zahlen'!E613","v":0},{"$f":"'aktuelle Zahlen'!F613","v":0},{"$f":"'aktuelle Zahlen'!G613","v":0},{"$f":"'aktuelle Zahlen'!H613","v":0},{"$f":"'aktuelle Zahlen'!J613","v":0}]
[{"$f":"'aktuelle Zahlen'!A614","v":0},{"$f":"'aktuelle Zahlen'!B614","v":"00:00:00"},{"$f":"'aktuelle Zahlen'!C614","v":0},{"$f":"'aktuelle Zahlen'!D614","v":0},{"$f":"'aktuelle Zahlen'!E614","v":0},{"$f":"'aktuelle Zahlen'!F614","v":0},{"$f":"'aktuelle Zahlen'!G614","v":0},{"$f":"'aktuelle Zahlen'!H614","v":0},{"$f":"'aktuelle Zahlen'!J614","v":0}]
[{"$f":"'aktuelle Zahlen'!A615","v":0},{"$f":"'aktuelle Zahlen'!B615","v":"00:00:00"},{"$f":"'aktuelle Zahlen'!C615","v":0},{"$f":"'aktuelle Zahlen'!D615","v":0},{"$f":"'aktuelle Zahlen'!E615","v":0},{"$f":"'aktuelle Zahlen'!F615","v":0},{"$f":"'aktuelle Zahlen'!G615","v":0},{"$f":"'aktuelle Zahlen'!H615","v":0},{"$f":"'aktuelle Zahlen'!J615","v":0}]
[{"$f":"'aktuelle Zahlen'!A616","v":0},{"$f":"'aktuelle Zahlen'!B616","v":"00:00:00"},{"$f":"'aktuelle Zahlen'!C616","v":0},{"$f":"'aktuelle Zahlen'!D616","v":0},{"$f":"'aktuelle Zahlen'!E616","v":0},{"$f":"'aktuelle Zahlen'!F616","v":0},{"$f":"'aktuelle Zahlen'!G616","v":0},{"$f":"'aktuelle Zahlen'!H616","v":0},{"$f":"'aktuelle Zahlen'!J616","v":0}]
[{"$f":"'aktuelle Zahlen'!A617","v":0},{"$f":"'aktuelle Zahlen'!B617","v":"00:00:00"},{"$f":"'aktuelle Zahlen'!C617","v":0},{"$f":"'aktuelle Zahlen'!D617","v":0},{"$f":"'aktuelle Zahlen'!E617","v":0},{"$f":"'aktuelle Zahlen'!F617","v":0},{"$f":"'aktuelle Zahlen'!G617","v":0},{"$f":"'aktuelle Zahlen'!H617","v":0},{"$f":"'aktuelle Zahlen'!J617","v":0}]
[{"$f":"'aktuelle Zahlen'!A618","v":0},{"$f":"'aktuelle Zahlen'!B618","v":"00:00:00"},{"$f":"'aktuelle Zahlen'!C618","v":0},{"$f":"'aktuelle Zahlen'!D618","v":0},{"$f":"'aktuelle Zahlen'!E618","v":0},{"$f":"'aktuelle Zahlen'!F618","v":0},{"$f":"'aktuelle Zahlen'!G618","v":0},{"$f":"'aktuelle Zahlen'!H618","v":0},{"$f":"'aktuelle Zahlen'!J618","v":0}]
[{"$f":"'aktuelle Zahlen'!A619","v":0},{"$f":"'aktuelle Zahlen'!B619","v":"00:00:00"},{"$f":"'aktuelle Zahlen'!C619","v":0},{"$f":"'aktuelle Zahlen'!D619","v":0},{"$f":"'aktuelle Zahlen'!E619","v":0},{"$f":"'aktuelle Zahlen'!F619","v":0},{"$f":"'aktuelle Zahlen'!G619","v":0},{"$f":"'aktuelle Zahlen'!H619","v":0},{"$f":"'aktuelle Zahlen'!J619","v":0}]
[{"$f":"'aktuelle Zahlen'!A620","v":0},{"$f":"'aktuelle Zahlen'!B620","v":"00:00:00"},{"$f":"'aktuelle Zahlen'!C620","v":0},{"$f":"'aktuelle Zahlen'!D620","v":0},{"$f":"'aktuelle Zahlen'!E620","v":0},{"$f":"'aktuelle Zahlen'!F620","v":0},{"$f":"'aktuelle Zahlen'!G620","v":0},{"$f":"'aktuelle Zahlen'!H620","v":0},{"$f":"'aktuelle Zahlen'!J620","v":0}]
[{"$f":"'aktuelle Zahlen'!A621","v":0},{"$f":"'aktuelle Zahlen'!B621","v":"00:00:00"},{"$f":"'aktuelle Zahlen'!C621","v":0},{"$f":"'aktuelle Zahlen'!D621","v":0},{"$f":"'aktuelle Zahlen'!E621","v":0},{"$f":"'aktuelle Zahlen'!F621","v":0},{"$f":"'aktuelle Zahlen'!G621","v":0},{"$f":"'aktuelle Zahlen'!H621","v":0},{"$f":"'aktuelle Zahlen'!J621","v":0}]
[{"$f":"'aktuelle Zahlen'!A622","v":0},{"$f":"'aktuelle Zahlen'!B622","v":"00:00:00"},{"$f":"'aktuelle Zahlen'!C622","v":0},{"$f":"'aktuelle Zahlen'!D622","v":0},{"$f":"'aktuelle Zahlen'!E622","v":0},{"$f":"'aktuelle Zahlen'!F622","v":0},{"$f":"'aktuelle Zahlen'!G622","v":0},{"$f":"'aktuelle Zahlen'!H622","v":0},{"$f":"'aktuelle Zahlen'!J622","v":0}]
[{"$f":"'aktuelle Zahlen'!A623","v":0},{"$f":"'aktuelle Zahlen'!B623","v":"00:00:00"},{"$f":"'aktuelle Zahlen'!C623","v":0},{"$f":"'aktuelle Zahlen'!D623","v":0},{"$f":"'aktuelle Zahlen'!E623","v":0},{"$f":"'aktuelle Zahlen'!F623","v":0},{"$f":"'aktuelle Zahlen'!G623","v":0},{"$f":"'aktuelle Zahlen'!H623","v":0},{"$f":"'aktuelle Zahlen'!J623","v":0}]
[{"$f":"'aktuelle Zahlen'!A624","v":0},{"$f":"'aktuelle Zahlen'!B624","v":"00:00:00"},{"$f":"'aktuelle Zahlen'!C624","v":0},{"$f":"'aktuelle Zahlen'!D624","v":0},{"$f":"'aktuelle Zahlen'!E624","v":0},{"$f":"'aktuelle Zahlen'!F624","v":0},{"$f":"'aktuelle Zahlen'!G624","v":0},{"$f":"'aktuelle Zahlen'!H624","v":0},{"$f":"'aktuelle Zahlen'!J624","v":0}]
[{"$f":"'aktuelle Zahlen'!A625","v":0},{"$f":"'aktuelle Zahlen'!B625","v":"00:00:00"},{"$f":"'aktuelle Zahlen'!C625","v":0},{"$f":"'aktuelle Zahlen'!D625","v":0},{"$f":"'aktuelle Zahlen'!E625","v":0},{"$f":"'aktuelle Zahlen'!F625","v":0},{"$f":"'aktuelle Zahlen'!G625","v":0},{"$f":"'aktuelle Zahlen'!H625","v":0},{"$f":"'aktuelle Zahlen'!J625","v":0}]
[{"$f":"'aktuelle Zahlen'!A626","v":0},{"$f":"'aktuelle Zahlen'!B626","v":"00:00:00"},{"$f":"'aktuelle Zahlen'!C626","v":0},{"$f":"'aktuelle Zahlen'!D626","v":0},{"$f":"'aktuelle Zahlen'!E626","v":0},{"$f":"'aktuelle Zahlen'!F626","v":0},{"$f":"'aktuelle Zahlen'!G626","v":0},{"$f":"'aktuelle Zahlen'!H626","v":0},{"$f":"'aktuelle Zahlen'!J626","v":0}]
[{"$f":"'aktuelle Zahlen'!A627","v":0},{"$f":"'aktuelle Zahlen'!B627","v":"00:00:00"},{"$f":"'aktuelle Zahlen'!C627","v":0},{"$f":"'aktuelle Zahlen'!D627","v":0},{"$f":"'aktuelle Zahlen'!E627","v":0},{"$f":"'aktuelle Zahlen'!F627","v":0},{"$f":"'aktuelle Zahlen'!G627","v":0},{"$f":"'aktuelle Zahlen'!H627","v":0},{"$f":"'aktuelle Zahlen'!J627","v":0}]
[{"$f":"'aktuelle Zahlen'!A628","v":0},{"$f":"'aktuelle Zahlen'!B628","v":"00:00:00"},{"$f":"'aktuelle Zahlen'!C628","v":0},{"$f":"'aktuelle Zahlen'!D628","v":0},{"$f":"'aktuelle Zahlen'!E628","v":0},{"$f":"'aktuelle Zahlen'!F628","v":0},{"$f":"'aktuelle Zahlen'!G628","v":0},{"$f":"'aktuelle Zahlen'!H628","v":0},{"$f":"'aktuelle Zahlen'!J628","v":0}]
[{"$f":"'aktuelle Zahlen'!A629","v":0},{"$f":"'aktuelle Zahlen'!B629","v":"00:00:00"},{"$f":"'aktuelle Zahlen'!C629","v":0},{"$f":"'aktuelle Zahlen'!D629","v":0},{"$f":"'aktuelle Zahlen'!E629","v":0},{"$f":"'aktuelle Zahlen'!F629","v":0},{"$f":"'aktuelle Zahlen'!G629","v":0},{"$f":"'aktuelle Zahlen'!H629","v":0},{"$f":"'aktuelle Zahlen'!J629","v":0}]
[{"$f":"'aktuelle Zahlen'!A630","v":0},{"$f":"'aktuelle Zahlen'!B630","v":"00:00:00"},{"$f":"'aktuelle Zahlen'!C630","v":0},{"$f":"'aktuelle Zahlen'!D630","v":0},{"$f":"'aktuelle Zahlen'!E630","v":0},{"$f":"'aktuelle Zahlen'!F630","v":0},{"$f":"'aktuelle Zahlen'!G630","v":0},{"$f":"'aktuelle Zahlen'!H630","v":0},{"$f":"'aktuelle Zahlen'!J630","v":0}]
[{"$f":"'aktuelle Zahlen'!A631","v":0},{"$f":"'aktuelle Zahlen'!B631","v":"00:00:00"},{"$f":"'aktuelle Zahlen'!C631","v":0},{"$f":"'aktuelle Zahlen'!D631","v":0},{"$f":"'aktuelle Zahlen'!E631","v":0},{"$f":"'aktuelle Zahlen'!F631","v":0},{"$f":"'aktuelle Zahlen'!G631","v":0},{"$f":"'aktuelle Zahlen'!H631","v":0},{"$f":"'aktuelle Zahlen'!J631","v":0}]
[{"$f":"'aktuelle Zahlen'!A632","v":0},{"$f":"'aktuelle Zahlen'!B632","v":"00:00:00"},{"$f":"'aktuelle Zahlen'!C632","v":0},{"$f":"'aktuelle Zahlen'!D632","v":0},{"$f":"'aktuelle Zahlen'!E632","v":0},{"$f":"'aktuelle Zahlen'!F632","v":0},{"$f":"'aktuelle Zahlen'!G632","v":0},{"$f":"'aktuelle Zahlen'!H632","v":0},{"$f":"'aktuelle Zahlen'!J632","v":0}]
[{"$f":"'aktuelle Zahlen'!A633","v":0},{"$f":"'aktuelle Zahlen'!B633","v":"00:00:00"},{"$f":"'aktuelle Zahlen'!C633","v":0},{"$f":"'aktuelle Zahlen'!D633","v":0},{"$f":"'aktuelle Zahlen'!E633","v":0},{"$f":"'aktuelle Zahlen'!F633","v":0},{"$f":"'aktuelle Zahlen'!G633","v":0},{"$f":"'aktuelle Zahlen'!H633","v":0},{"$f":"'aktuelle Zahlen'!J633","v":0}]
[{"$f":"'aktuelle Zahlen'!A634","v":0},{"$f":"'aktuelle Zahlen'!B634","v":"00:00:00"},{"$f":"'aktuelle Zahlen'!C634","v":0},{"$f":"'aktuelle Zahlen'!D634","v":0},{"$f":"'aktuelle Zahlen'!E634","v":0},{"$f":"'aktuelle Zahlen'!F634","v":0},{"$f":"'aktuelle Zahlen'!G634","v":0},{"$f":"'aktuelle Zahlen'!H634","v":0},{"$f":"'aktuelle Zahlen'!J634","v":0}]
[{"$f":"'aktuelle Zahlen'!A635","v":0},{"$f":"'aktuelle Zahlen'!B635","v":"00:00:00"},{"$f":"'aktuelle Zahlen'!C635","v":0},{"$f":"'aktuelle Zahlen'!D635","v":0},{"$f":"'aktuelle Zahlen'!E635","v":0},{"$f":"'aktuelle Zahlen'!F635","v":0},{"$f":"'aktuelle Zahlen'!G635","v":0},{"$f":"'aktuelle Zahlen'!H635","v":0},{"$f":"'aktuelle Zahlen'!J635","v":0}]
[{"$f":"'aktuelle Zahlen'!A636","v":0},{"$f":"'aktuelle Zahlen'!B636","v":"00:00:00"},{"$f":"'aktuelle Zahlen'!C636","v":0},{"$f":"'aktuelle Zahlen'!D636","v":0},{"$f":"'aktuelle Zahlen'!E636","v":0},{"$f":"'aktuelle Zahlen'!F636","v":0},{"$f":"'aktuelle Zahlen'!G636","v":0},{"$f":"'aktuelle Zahlen'!H636","v":0},{"$f":"'aktuelle Zahlen'!J636","v":0}]
[{"$f":"'aktuelle Zahlen'!A637","v":0},{"$f":"'aktuelle Zahlen'!B637","v":"00:00:00"},{"$f":"'aktuelle Zahlen'!C637","v":0},{"$f":"'aktuelle Zahlen'!D637","v":0},{"$f":"'aktuelle Zahlen'!E637","v":0},{"$f":"'aktuelle Zahlen'!F637","v":0},{"$f":"'aktuelle Zahlen'!G637","v":0},{"$f":"'aktuelle Zahlen'!H637","v":0},{"$f":"'aktuelle Zahlen'!J637","v":0}]
[{"$f":"'aktuelle Zahlen'!A638","v":0},{"$f":"'aktuelle Zahlen'!B638","v":"00:00:00"},{"$f":"'aktuelle Zahlen'!C638","v":0},{"$f":"'aktuelle Zahlen'!D638","v":0},{"$f":"'aktuelle Zahlen'!E638","v":0},{"$f":"'aktuelle Zahlen'!F638","v":0},{"$f":"'aktuelle Zahlen'!G638","v":0},{"$f":"'aktuelle Zahlen'!H638","v":0},{"$f":"'aktuelle Zahlen'!J638","v":0}]
[{"$f":"'aktuelle Zahlen'!A639","v":0},{"$f":"'aktuelle Zahlen'!B639","v":"00:00:00"},{"$f":"'aktuelle Zahlen'!C639","v":0},{"$f":"'aktuelle Zahlen'!D639","v":0},{"$f":"'aktuelle Zahlen'!E639","v":0},{"$f":"'aktuelle Zahlen'!F639","v":0},{"$f":"'aktuelle Zahlen'!G639","v":0},{"$f":"'aktuelle Zahlen'!H639","v":0},{"$f":"'aktuelle Zahlen'!J639","v":0}]
[{"$f":"'aktuelle Zahlen'!A640","v":0},{"$f":"'aktuelle Zahlen'!B640","v":"00:00:00"},{"$f":"'aktuelle Zahlen'!C640","v":0},{"$f":"'aktuelle Zahlen'!D640","v":0},{"$f":"'aktuelle Zahlen'!E640","v":0},{"$f":"'aktuelle Zahlen'!F640","v":0},{"$f":"'aktuelle Zahlen'!G640","v":0},{"$f":"'aktuelle Zahlen'!H640","v":0},{"$f":"'aktuelle Zahlen'!J640","v":0}]
[{"$f":"'aktuelle Zahlen'!A641","v":0},{"$f":"'aktuelle Zahlen'!B641","v":"00:00:00"},{"$f":"'aktuelle Zahlen'!C641","v":0},{"$f":"'aktuelle Zahlen'!D641","v":0},{"$f":"'aktuelle Zahlen'!E641","v":0},{"$f":"'aktuelle Zahlen'!F641","v":0},{"$f":"'aktuelle Zahlen'!G641","v":0},{"$f":"'aktuelle Zahlen'!H641","v":0},{"$f":"'aktuelle Zahlen'!J641","v":0}]
[{"$f":"'aktuelle Zahlen'!A642","v":0},{"$f":"'aktuelle Zahlen'!B642","v":"00:00:00"},{"$f":"'aktuelle Zahlen'!C642","v":0},{"$f":"'aktuelle Zahlen'!D642","v":0},{"$f":"'aktuelle Zahlen'!E642","v":0},{"$f":"'aktuelle Zahlen'!F642","v":0},{"$f":"'aktuelle Zahlen'!G642","v":0},{"$f":"'aktuelle Zahlen'!H642","v":0},{"$f":"'aktuelle Zahlen'!J642","v":0}]
[{"$f":"'aktuelle Zahlen'!A643","v":0},{"$f":"'aktuelle Zahlen'!B643","v":"00:00:00"},{"$f":"'aktuelle Zahlen'!C643","v":0},{"$f":"'aktuelle Zahlen'!D643","v":0},{"$f":"'aktuelle Zahlen'!E643","v":0},{"$f":"'aktuelle Zahlen'!F643","v":0},{"$f":"'aktuelle Zahlen'!G643","v":0},{"$f":"'aktuelle Zahlen'!H643","v":0},{"$f":"'aktuelle Zahlen'!J643","v":0}]
[{"$f":"'aktuelle Zahlen'!A644","v":0},{"$f":"'aktuelle Zahlen'!B644","v":"00:00:00"},{"$f":"'aktuelle Zahlen'!C644","v":0},{"$f":"'aktuelle Zahlen'!D644","v":0},{"$f":"'aktuelle Zahlen'!E644","v":0},{"$f":"'aktuelle Zahlen'!F644","v":0},{"$f":"'aktuelle Zahlen'!G644","v":0},{"$f":"'aktuelle Zahlen'!H644","v":0},{"$f":"'aktuelle Zahlen'!J644","v":0}]
[{"$f":"'aktuelle Zahlen'!A645","v":0},{"$f":"'aktuelle Zahlen'!B645","v":"00:00:00"},{"$f":"'aktuelle Zahlen'!C645","v":0},{"$f":"'aktuelle Zahlen'!D645","v":0},{"$f":"'aktuelle Zahlen'!E645","v":0},{"$f":"'aktuelle Zahlen'!F645","v":0},{"$f":"'aktuelle Zahlen'!G645","v":0},{"$f":"'aktuelle Zahlen'!H645","v":0},{"$f":"'aktuelle Zahlen'!J645","v":0}]
[{"$f":"'aktuelle Zahlen'!A646","v":0},{"$f":"'aktuelle Zahlen'!B646","v":"00:00:00"},{"$f":"'aktuelle Zahlen'!C646","v":0},{"$f":"'aktuelle Zahlen'!D646","v":0},{"$f":"'aktuelle Zahlen'!E646","v":0},{"$f":"'aktuelle Zahlen'!F646","v":0},{"$f":"'aktuelle Zahlen'!G646","v":0},{"$f":"'aktuelle Zahlen'!H646","v":0},{"$f":"'aktuelle Zahlen'!J646","v":0}]
[{"$f":"'aktuelle Zahlen'!A647","v":0},{"$f":"'aktuelle Zahlen'!B647","v":"00:00:00"},{"$f":"'aktuelle Zahlen'!C647","v":0},{"$f":"'aktuelle Zahlen'!D647","v":0},{"$f":"'aktuelle Zahlen'!E647","v":0},{"$f":"'aktuelle Zahlen'!F647","v":0},{"$f":"'aktuelle Zahlen'!G647","v":0},{"$f":"'aktuelle Zahlen'!H647","v":0},{"$f":"'aktuelle Zahlen'!J647","v":0}]
[{"$f":"'aktuelle Zahlen'!A648","v":0},{"$f":"'aktuelle Zahlen'!B648","v":"00:00:00"},{"$f":"'aktuelle Zahlen'!C648","v":0},{"$f":"'aktuelle Zahlen'!D648","v":0},{"$f":"'aktuelle Zahlen'!E648","v":0},{"$f":"'aktuelle Zahlen'!F648","v":0},{"$f":"'aktuelle Zahlen'!G648","v":0},{"$f":"'aktuelle Zahlen'!H648","v":0},{"$f":"'aktuelle Zahlen'!J648","v":0}]
[{"$f":"'aktuelle Zahlen'!A649","v":0},{"$f":"'aktuelle Zahlen'!B649","v":"00:00:00"},{"$f":"'aktuelle Zahlen'!C649","v":0},{"$f":"'aktuelle Zahlen'!D649","v":0},{"$f":"'aktuelle Zahlen'!E649","v":0},{"$f":"'aktuelle Zahlen'!F649","v":0},{"$f":"'aktuelle Zahlen'!G649","v":0},{"$f":"'aktuelle Zahlen'!H649","v":0},{"$f":"'aktuelle Zahlen'!J649","v":0}]
[{"$f":"'aktuelle Zahlen'!A650","v":0},{"$f":"'aktuelle Zahlen'!B650","v":"00:00:00"},{"$f":"'aktuelle Zahlen'!C650","v":0},{"$f":"'aktuelle Zahlen'!D650","v":0},{"$f":"'aktuelle Zahlen'!E650","v":0},{"$f":"'aktuelle Zahlen'!F650","v":0},{"$f":"'aktuelle Zahlen'!G650","v":0},{"$f":"'aktuelle Zahlen'!H650","v":0},{"$f":"'aktuelle Zahlen'!J650","v":0}]
[{"$f":"'aktuelle Zahlen'!A651","v":0},{"$f":"'aktuelle Zahlen'!B651","v":"00:00:00"},{"$f":"'aktuelle Zahlen'!C651","v":0},{"$f":"'aktuelle Zahlen'!D651","v":0},{"$f":"'aktuelle Zahlen'!E651","v":0},{"$f":"'aktuelle Zahlen'!F651","v":0},{"$f":"'aktuelle Zahlen'!G651","v":0},{"$f":"'aktuelle Zahlen'!H651","v":0},{"$f":"'aktuelle Zahlen'!J651","v":0}]
[{"$f":"'aktuelle Zahlen'!A652","v":0},{"$f":"'aktuelle Zahlen'!B652","v":"00:00:00"},{"$f":"'aktuelle Zahlen'!C652","v":0},{"$f":"'aktuelle Zahlen'!D652","v":0},{"$f":"'aktuelle Zahlen'!E652","v":0},{"$f":"'aktuelle Zahlen'!F652","v":0},{"$f":"'aktuelle Zahlen'!G652","v":0},{"$f":"'aktuelle Zahlen'!H652","v":0},{"$f":"'aktuelle Zahlen'!J652","v":0}]
[{"$f":"'aktuelle Zahlen'!A653","v":0},{"$f":"'aktuelle Zahlen'!B653","v":"00:00:00"},{"$f":"'aktuelle Zahlen'!C653","v":0},{"$f":"'aktuelle Zahlen'!D653","v":0},{"$f":"'aktuelle Zahlen'!E653","v":0},{"$f":"'aktuelle Zahlen'!F653","v":0},{"$f":"'aktuelle Zahlen'!G653","v":0},{"$f":"'aktuelle Zahlen'!H653","v":0},{"$f":"'aktuelle Zahlen'!J653","v":0}]
[{"$f":"'aktuelle Zahlen'!A654","v":0},{"$f":"'aktuelle Zahlen'!B654","v":"00:00:00"},{"$f":"'aktuelle Zahlen'!C654","v":0},{"$f":"'aktuelle Zahlen'!D654","v":0},{"$f":"'aktuelle Zahlen'!E654","v":0},{"$f":"'aktuelle Zahlen'!F654","v":0},{"$f":"'aktuelle Zahlen'!G654","v":0},{"$f":"'aktuelle Zahlen'!H654","v":0},{"$f":"'aktuelle Zahlen'!J654","v":0}]
[{"$f":"'aktuelle Zahlen'!A655","v":0},{"$f":"'aktuelle Zahlen'!B655","v":"00:00:00"},{"$f":"'aktuelle Zahlen'!C655","v":0},{"$f":"'aktuelle Zahlen'!D655","v":0},{"$f":"'aktuelle Zahlen'!E655","v":0},{"$f":"'aktuelle Zahlen'!F655","v":0},{"$f":"'aktuelle Zahlen'!G655","v":0},{"$f":"'aktuelle Zahlen'!H655","v":0},{"$f":"'aktuelle Zahlen'!J655","v":0}]
[{"$f":"'aktuelle Zahlen'!A656","v":0},{"$f":"'aktuelle Zahlen'!B656","v":"00:00:00"},{"$f":"'aktuelle Zahlen'!C656","v":0},{"$f":"'aktuelle Zahlen'!D656","v":0},{"$f":"'aktuelle Zahlen'!E656","v":0},{"$f":"'aktuelle Zahlen'!F656","v":0},{"$f":"'aktuelle Zahlen'!G656","v":0},{"$f":"'aktuelle Zahlen'!H656","v":0},{"$f":"'aktuelle Zahlen'!J656","v":0}]
[{"$f":"'aktuelle Zahlen'!A657","v":0},{"$f":"'aktuelle Zahlen'!B657","v":"00:00:00"},{"$f":"'aktuelle Zahlen'!C657","v":0},{"$f":"'aktuelle Zahlen'!D657","v":0},{"$f":"'aktuelle Zahlen'!E657","v":0},{"$f":"'aktuelle Zahlen'!F657","v":0},{"$f":"'aktuelle Zahlen'!G657","v":0},{"$f":"'aktuelle Zahlen'!H657","v":0},{"$f":"'aktuelle Zahlen'!J657","v":0}]
[{"$f":"'aktuelle Zahlen'!A658","v":0},{"$f":"'aktuelle Zahlen'!B658","v":"00:00:00"},{"$f":"'aktuelle Zahlen'!C658","v":0},{"$f":"'aktuelle Zahlen'!D658","v":0},{"$f":"'aktuelle Zahlen'!E658","v":0},{"$f":"'aktuelle Zahlen'!F658","v":0},{"$f":"'aktuelle Zahlen'!G658","v":0},{"$f":"'aktuelle Zahlen'!H658","v":0},{"$f":"'aktuelle Zahlen'!J658","v":0}]
[{"$f":"'aktuelle Zahlen'!A659","v":0},{"$f":"'aktuelle Zahlen'!B659","v":"00:00:00"},{"$f":"'aktuelle Zahlen'!C659","v":0},{"$f":"'aktuelle Zahlen'!D659","v":0},{"$f":"'aktuelle Zahlen'!E659","v":0},{"$f":"'aktuelle Zahlen'!F659","v":0},{"$f":"'aktuelle Zahlen'!G659","v":0},{"$f":"'aktuelle Zahlen'!H659","v":0},{"$f":"'aktuelle Zahlen'!J659","v":0}]
[{"$f":"'aktuelle Zahlen'!A660","v":0},{"$f":"'aktuelle Zahlen'!B660","v":"00:00:00"},{"$f":"'aktuelle Zahlen'!C660","v":0},{"$f":"'aktuelle Zahlen'!D660","v":0},{"$f":"'aktuelle Zahlen'!E660","v":0},{"$f":"'aktuelle Zahlen'!F660","v":0},{"$f":"'aktuelle Zahlen'!G660","v":0},{"$f":"'aktuelle Zahlen'!H660","v":0},{"$f":"'aktuelle Zahlen'!J660","v":0}]
[{"$f":"'aktuelle Zahlen'!A661","v":0},{"$f":"'aktuelle Zahlen'!B661","v":"00:00:00"},{"$f":"'aktuelle Zahlen'!C661","v":0},{"$f":"'aktuelle Zahlen'!D661","v":0},{"$f":"'aktuelle Zahlen'!E661","v":0},{"$f":"'aktuelle Zahlen'!F661","v":0},{"$f":"'aktuelle Zahlen'!G661","v":0},{"$f":"'aktuelle Zahlen'!H661","v":0},{"$f":"'aktuelle Zahlen'!J661","v":0}]
[{"$f":"'aktuelle Zahlen'!A662","v":0},{"$f":"'aktuelle Zahlen'!B662","v":"00:00:00"},{"$f":"'aktuelle Zahlen'!C662","v":0},{"$f":"'aktuelle Zahlen'!D662","v":0},{"$f":"'aktuelle Zahlen'!E662","v":0},{"$f":"'aktuelle Zahlen'!F662","v":0},{"$f":"'aktuelle Zahlen'!G662","v":0},{"$f":"'aktuelle Zahlen'!H662","v":0},{"$f":"'aktuelle Zahlen'!J662","v":0}]
[{"$f":"'aktuelle Zahlen'!A663","v":0},{"$f":"'aktuelle Zahlen'!B663","v":"00:00:00"},{"$f":"'aktuelle Zahlen'!C663","v":0},{"$f":"'aktuelle Zahlen'!D663","v":0},{"$f":"'aktuelle Zahlen'!E663","v":0},{"$f":"'aktuelle Zahlen'!F663","v":0},{"$f":"'aktuelle Zahlen'!G663","v":0},{"$f":"'aktuelle Zahlen'!H663","v":0},{"$f":"'aktuelle Zahlen'!J663","v":0}]
[{"$f":"'aktuelle Zahlen'!A664","v":0},{"$f":"'aktuelle Zahlen'!B664","v":"00:00:00"},{"$f":"'aktuelle Zahlen'!C664","v":0},{"$f":"'aktuelle Zahlen'!D664","v":0},{"$f":"'aktuelle Zahlen'!E664","v":0},{"$f":"'aktuelle Zahlen'!F664","v":0},{"$f":"'aktuelle Zahlen'!G664","v":0},{"$f":"'aktuelle Zahlen'!H664","v":0},{"$f":"'aktuelle Zahlen'!J664","v":0}]
[{"$f":"'aktuelle Zahlen'!A665","v":0},{"$f":"'aktuelle Zahlen'!B665","v":"00:00:00"},{"$f":"'aktuelle Zahlen'!C665","v":0},{"$f":"'aktuelle Zahlen'!D665","v":0},{"$f":"'aktuelle Zahlen'!E665","v":0},{"$f":"'aktuelle Zahlen'!F665","v":0},{"$f":"'aktuelle Zahlen'!G665","v":0},{"$f":"'aktuelle Zahlen'!H665","v":0},{"$f":"'aktuelle Zahlen'!J665","v":0}]
[{"$f":"'aktuelle Zahlen'!A666","v":0},{"$f":"'aktuelle Zahlen'!B666","v":"00:00:00"},{"$f":"'aktuelle Zahlen'!C666","v":0},{"$f":"'aktuelle Zahlen'!D666","v":0},{"$f":"'aktuelle Zahlen'!E666","v":0},{"$f":"'aktuelle Zahlen'!F666","v":0},{"$f":"'aktuelle Zahlen'!G666","v":0},{"$f":"'aktuelle Zahlen'!H666","v":0},{"$f":"'aktuelle Zahlen'!J666","v":0}]
[{"$f":"'aktuelle Zahlen'!A667","v":0},{"$f":"'aktuelle Zahlen'!B667","v":"00:00:00"},{"$f":"'aktuelle Zahlen'!C667","v":0},{"$f":"'aktuelle Zahlen'!D667","v":0},{"$f":"'aktuelle Zahlen'!E667","v":0},{"$f":"'aktuelle Zahlen'!F667","v":0},{"$f":"'aktuelle Zahlen'!G667","v":0},{"$f":"'aktuelle Zahlen'!H667","v":0},{"$f":"'aktuelle Zahlen'!J667","v":0}]
[{"$f":"'aktuelle Zahlen'!A668","v":0},{"$f":"'aktuelle Zahlen'!B668","v":"00:00:00"},{"$f":"'aktuelle Zahlen'!C668","v":0},{"$f":"'aktuelle Zahlen'!D668","v":0},{"$f":"'aktuelle Zahlen'!E668","v":0},{"$f":"'aktuelle Zahlen'!F668","v":0},{"$f":"'aktuelle Zahlen'!G668","v":0},{"$f":"'aktuelle Zahlen'!H668","v":0},{"$f":"'aktuelle Zahlen'!J668","v":0}]
[{"$f":"'aktuelle Zahlen'!A669","v":0},{"$f":"'aktuelle Zahlen'!B669","v":"00:00:00"},{"$f":"'aktuelle Zahlen'!C669","v":0},{"$f":"'aktuelle Zahlen'!D669","v":0},{"$f":"'aktuelle Zahlen'!E669","v":0},{"$f":"'aktuelle Zahlen'!F669","v":0},{"$f":"'aktuelle Zahlen'!G669","v":0},{"$f":"'aktuelle Zahlen'!H669","v":0},{"$f":"'aktuelle Zahlen'!J669","v":0}]
[{"$f":"'aktuelle Zahlen'!A670","v":0},{"$f":"'aktuelle Zahlen'!B670","v":"00:00:00"},{"$f":"'aktuelle Zahlen'!C670","v":0},{"$f":"'aktuelle Zahlen'!D670","v":0},{"$f":"'aktuelle Zahlen'!E670","v":0},{"$f":"'aktuelle Zahlen'!F670","v":0},{"$f":"'aktuelle Zahlen'!G670","v":0},{"$f":"'aktuelle Zahlen'!H670","v":0},{"$f":"'aktuelle Zahlen'!J670","v":0}]
[{"$f":"'aktuelle Zahlen'!A671","v":0},{"$f":"'aktuelle Zahlen'!B671","v":"00:00:00"},{"$f":"'aktuelle Zahlen'!C671","v":0},{"$f":"'aktuelle Zahlen'!D671","v":0},{"$f":"'aktuelle Zahlen'!E671","v":0},{"$f":"'aktuelle Zahlen'!F671","v":0},{"$f":"'aktuelle Zahlen'!G671","v":0},{"$f":"'aktuelle Zahlen'!H671","v":0},{"$f":"'aktuelle Zahlen'!J671","v":0}]
[{"$f":"'aktuelle Zahlen'!A672","v":0},{"$f":"'aktuelle Zahlen'!B672","v":"00:00:00"},{"$f":"'aktuelle Zahlen'!C672","v":0},{"$f":"'aktuelle Zahlen'!D672","v":0},{"$f":"'aktuelle Zahlen'!E672","v":0},{"$f":"'aktuelle Zahlen'!F672","v":0},{"$f":"'aktuelle Zahlen'!G672","v":0},{"$f":"'aktuelle Zahlen'!H672","v":0},{"$f":"'aktuelle Zahlen'!J672","v":0}]
[{"$f":"'aktuelle Zahlen'!A673","v":0},{"$f":"'aktuelle Zahlen'!B673","v":"00:00:00"},{"$f":"'aktuelle Zahlen'!C673","v":0},{"$f":"'aktuelle Zahlen'!D673","v":0},{"$f":"'aktuelle Zahlen'!E673","v":0},{"$f":"'aktuelle Zahlen'!F673","v":0},{"$f":"'aktuelle Zahlen'!G673","v":0},{"$f":"'aktuelle Zahlen'!H673","v":0},{"$f":"'aktuelle Zahlen'!J673","v":0}]
[{"$f":"'aktuelle Zahlen'!A674","v":0},{"$f":"'aktuelle Zahlen'!B674","v":"00:00:00"},{"$f":"'aktuelle Zahlen'!C674","v":0},{"$f":"'aktuelle Zahlen'!D674","v":0},{"$f":"'aktuelle Zahlen'!E674","v":0},{"$f":"'aktuelle Zahlen'!F674","v":0},{"$f":"'aktuelle Zahlen'!G674","v":0},{"$f":"'aktuelle Zahlen'!H674","v":0},{"$f":"'aktuelle Zahlen'!J674","v":0}]
[{"$f":"'aktuelle Zahlen'!A675","v":0},{"$f":"'aktuelle Zahlen'!B675","v":"00:00:00"},{"$f":"'aktuelle Zahlen'!C675","v":0},{"$f":"'aktuelle Zahlen'!D675","v":0},{"$f":"'aktuelle Zahlen'!E675","v":0},{"$f":"'aktuelle Zahlen'!F675","v":0},{"$f":"'aktuelle Zahlen'!G675","v":0},{"$f":"'aktuelle Zahlen'!H675","v":0},{"$f":"'aktuelle Zahlen'!J675","v":0}]
[{"$f":"'aktuelle Zahlen'!A676","v":0},{"$f":"'aktuelle Zahlen'!B676","v":"00:00:00"},{"$f":"'aktuelle Zahlen'!C676","v":0},{"$f":"'aktuelle Zahlen'!D676","v":0},{"$f":"'aktuelle Zahlen'!E676","v":0},{"$f":"'aktuelle Zahlen'!F676","v":0},{"$f":"'aktuelle Zahlen'!G676","v":0},{"$f":"'aktuelle Zahlen'!H676","v":0},{"$f":"'aktuelle Zahlen'!J676","v":0}]
[{"$f":"'aktuelle Zahlen'!A677","v":0},{"$f":"'aktuelle Zahlen'!B677","v":"00:00:00"},{"$f":"'aktuelle Zahlen'!C677","v":0},{"$f":"'aktuelle Zahlen'!D677","v":0},{"$f":"'aktuelle Zahlen'!E677","v":0},{"$f":"'aktuelle Zahlen'!F677","v":0},{"$f":"'aktuelle Zahlen'!G677","v":0},{"$f":"'aktuelle Zahlen'!H677","v":0},{"$f":"'aktuelle Zahlen'!J677","v":0}]
[{"$f":"'aktuelle Zahlen'!A678","v":0},{"$f":"'aktuelle Zahlen'!B678","v":"00:00:00"},{"$f":"'aktuelle Zahlen'!C678","v":0},{"$f":"'aktuelle Zahlen'!D678","v":0},{"$f":"'aktuelle Zahlen'!E678","v":0},{"$f":"'aktuelle Zahlen'!F678","v":0},{"$f":"'aktuelle Zahlen'!G678","v":0},{"$f":"'aktuelle Zahlen'!H678","v":0},{"$f":"'aktuelle Zahlen'!J678","v":0}]
[{"$f":"'aktuelle Zahlen'!A679","v":0},{"$f":"'aktuelle Zahlen'!B679","v":"00:00:00"},{"$f":"'aktuelle Zahlen'!C679","v":0},{"$f":"'aktuelle Zahlen'!D679","v":0},{"$f":"'aktuelle Zahlen'!E679","v":0},{"$f":"'aktuelle Zahlen'!F679","v":0},{"$f":"'aktuelle Zahlen'!G679","v":0},{"$f":"'aktuelle Zahlen'!H679","v":0},{"$f":"'aktuelle Zahlen'!J679","v":0}]
[{"$f":"'aktuelle Zahlen'!A680","v":0},{"$f":"'aktuelle Zahlen'!B680","v":"00:00:00"},{"$f":"'aktuelle Zahlen'!C680","v":0},{"$f":"'aktuelle Zahlen'!D680","v":0},{"$f":"'aktuelle Zahlen'!E680","v":0},{"$f":"'aktuelle Zahlen'!F680","v":0},{"$f":"'aktuelle Zahlen'!G680","v":0},{"$f":"'aktuelle Zahlen'!H680","v":0},{"$f":"'aktuelle Zahlen'!J680","v":0}]
[{"$f":"'aktuelle Zahlen'!A681","v":0},{"$f":"'aktuelle Zahlen'!B681","v":"00:00:00"},{"$f":"'aktuelle Zahlen'!C681","v":0},{"$f":"'aktuelle Zahlen'!D681","v":0},{"$f":"'aktuelle Zahlen'!E681","v":0},{"$f":"'aktuelle Zahlen'!F681","v":0},{"$f":"'aktuelle Zahlen'!G681","v":0},{"$f":"'aktuelle Zahlen'!H681","v":0},{"$f":"'aktuelle Zahlen'!J681","v":0}]
[{"$f":"'aktuelle Zahlen'!A682","v":0},{"$f":"'aktuelle Zahlen'!B682","v":"00:00:00"},{"$f":"'aktuelle Zahlen'!C682","v":0},{"$f":"'aktuelle Zahlen'!D682","v":0},{"$f":"'aktuelle Zahlen'!E682","v":0},{"$f":"'aktuelle Zahlen'!F682","v":0},{"$f":"'aktuelle Zahlen'!G682","v":0},{"$f":"'aktuelle Zahlen'!H682","v":0},{"$f":"'aktuelle Zahlen'!J682","v":0}]
[{"$f":"'aktuelle Zahlen'!A683","v":0},{"$f":"'aktuelle Zahlen'!B683","v":"00:00:00"},{"$f":"'aktuelle Zahlen'!C683","v":0},{"$f":"'aktuelle Zahlen'!D683","v":0},{"$f":"'aktuelle Zahlen'!E683","v":0},{"$f":"'aktuelle Zahlen'!F683","v":0},{"$f":"'aktuelle Zahlen'!G683","v":0},{"$f":"'aktuelle Zahlen'!H683","v":0},{"$f":"'aktuelle Zahlen'!J683","v":0}]
[{"$f":"'aktuelle Zahlen'!A684","v":0},{"$f":"'aktuelle Zahlen'!B684","v":"00:00:00"},{"$f":"'aktuelle Zahlen'!C684","v":0},{"$f":"'aktuelle Zahlen'!D684","v":0},{"$f":"'aktuelle Zahlen'!E684","v":0},{"$f":"'aktuelle Zahlen'!F684","v":0},{"$f":"'aktuelle Zahlen'!G684","v":0},{"$f":"'aktuelle Zahlen'!H684","v":0},{"$f":"'aktuelle Zahlen'!J684","v":0}]
[{"$f":"'aktuelle Zahlen'!A685","v":0},{"$f":"'aktuelle Zahlen'!B685","v":"00:00:00"},{"$f":"'aktuelle Zahlen'!C685","v":0},{"$f":"'aktuelle Zahlen'!D685","v":0},{"$f":"'aktuelle Zahlen'!E685","v":0},{"$f":"'aktuelle Zahlen'!F685","v":0},{"$f":"'aktuelle Zahlen'!G685","v":0},{"$f":"'aktuelle Zahlen'!H685","v":0},{"$f":"'aktuelle Zahlen'!J685","v":0}]
[{"$f":"'aktuelle Zahlen'!A686","v":0},{"$f":"'aktuelle Zahlen'!B686","v":"00:00:00"},{"$f":"'aktuelle Zahlen'!C686","v":0},{"$f":"'aktuelle Zahlen'!D686","v":0},{"$f":"'aktuelle Zahlen'!E686","v":0},{"$f":"'aktuelle Zahlen'!F686","v":0},{"$f":"'aktuelle Zahlen'!G686","v":0},{"$f":"'aktuelle Zahlen'!H686","v":0},{"$f":"'aktuelle Zahlen'!J686","v":0}]
[{"$f":"'aktuelle Zahlen'!A687","v":0},{"$f":"'aktuelle Zahlen'!B687","v":"00:00:00"},{"$f":"'aktuelle Zahlen'!C687","v":0},{"$f":"'aktuelle Zahlen'!D687","v":0},{"$f":"'aktuelle Zahlen'!E687","v":0},{"$f":"'aktuelle Zahlen'!F687","v":0},{"$f":"'aktuelle Zahlen'!G687","v":0},{"$f":"'aktuelle Zahlen'!H687","v":0},{"$f":"'aktuelle Zahlen'!J687","v":0}]
[{"$f":"'aktuelle Zahlen'!A688","v":0},{"$f":"'aktuelle Zahlen'!B688","v":"00:00:00"},{"$f":"'aktuelle Zahlen'!C688","v":0},{"$f":"'aktuelle Zahlen'!D688","v":0},{"$f":"'aktuelle Zahlen'!E688","v":0},{"$f":"'aktuelle Zahlen'!F688","v":0},{"$f":"'aktuelle Zahlen'!G688","v":0},{"$f":"'aktuelle Zahlen'!H688","v":0},{"$f":"'aktuelle Zahlen'!J688","v":0}]
[{"$f":"'aktuelle Zahlen'!A689","v":0},{"$f":"'aktuelle Zahlen'!B689","v":"00:00:00"},{"$f":"'aktuelle Zahlen'!C689","v":0},{"$f":"'aktuelle Zahlen'!D689","v":0},{"$f":"'aktuelle Zahlen'!E689","v":0},{"$f":"'aktuelle Zahlen'!F689","v":0},{"$f":"'aktuelle Zahlen'!G689","v":0},{"$f":"'aktuelle Zahlen'!H689","v":0},{"$f":"'aktuelle Zahlen'!J689","v":0}]
[{"$f":"'aktuelle Zahlen'!A690","v":0},{"$f":"'aktuelle Zahlen'!B690","v":"00:00:00"},{"$f":"'aktuelle Zahlen'!C690","v":0},{"$f":"'aktuelle Zahlen'!D690","v":0},{"$f":"'aktuelle Zahlen'!E690","v":0},{"$f":"'aktuelle Zahlen'!F690","v":0},{"$f":"'aktuelle Zahlen'!G690","v":0},{"$f":"'aktuelle Zahlen'!H690","v":0},{"$f":"'aktuelle Zahlen'!J690","v":0}]
[{"$f":"'aktuelle Zahlen'!A691","v":0},{"$f":"'aktuelle Zahlen'!B691","v":"00:00:00"},{"$f":"'aktuelle Zahlen'!C691","v":0},{"$f":"'aktuelle Zahlen'!D691","v":0},{"$f":"'aktuelle Zahlen'!E691","v":0},{"$f":"'aktuelle Zahlen'!F691","v":0},{"$f":"'aktuelle Zahlen'!G691","v":0},{"$f":"'aktuelle Zahlen'!H691","v":0},{"$f":"'aktuelle Zahlen'!J691","v":0}]
[{"$f":"'aktuelle Zahlen'!A692","v":0},{"$f":"'aktuelle Zahlen'!B692","v":"00:00:00"},{"$f":"'aktuelle Zahlen'!C692","v":0},{"$f":"'aktuelle Zahlen'!D692","v":0},{"$f":"'aktuelle Zahlen'!E692","v":0},{"$f":"'aktuelle Zahlen'!F692","v":0},{"$f":"'aktuelle Zahlen'!G692","v":0},{"$f":"'aktuelle Zahlen'!H692","v":0},{"$f":"'aktuelle Zahlen'!J692","v":0}]
[{"$f":"'aktuelle Zahlen'!A693","v":0},{"$f":"'aktuelle Zahlen'!B693","v":"00:00:00"},{"$f":"'aktuelle Zahlen'!C693","v":0},{"$f":"'aktuelle Zahlen'!D693","v":0},{"$f":"'aktuelle Zahlen'!E693","v":0},{"$f":"'aktuelle Zahlen'!F693","v":0},{"$f":"'aktuelle Zahlen'!G693","v":0},{"$f":"'aktuelle Zahlen'!H693","v":0},{"$f":"'aktuelle Zahlen'!J693","v":0}]
[{"$f":"'aktuelle Zahlen'!A694","v":0},{"$f":"'aktuelle Zahlen'!B694","v":"00:00:00"},{"$f":"'aktuelle Zahlen'!C694","v":0},{"$f":"'aktuelle Zahlen'!D694","v":0},{"$f":"'aktuelle Zahlen'!E694","v":0},{"$f":"'aktuelle Zahlen'!F694","v":0},{"$f":"'aktuelle Zahlen'!G694","v":0},{"$f":"'aktuelle Zahlen'!H694","v":0},{"$f":"'aktuelle Zahlen'!J694","v":0}]
[{"$f":"'aktuelle Zahlen'!A695","v":0},{"$f":"'aktuelle Zahlen'!B695","v":"00:00:00"},{"$f":"'aktuelle Zahlen'!C695","v":0},{"$f":"'aktuelle Zahlen'!D695","v":0},{"$f":"'aktuelle Zahlen'!E695","v":0},{"$f":"'aktuelle Zahlen'!F695","v":0},{"$f":"'aktuelle Zahlen'!G695","v":0},{"$f":"'aktuelle Zahlen'!H695","v":0},{"$f":"'aktuelle Zahlen'!J695","v":0}]
[{"$f":"'aktuelle Zahlen'!A696","v":0},{"$f":"'aktuelle Zahlen'!B696","v":"00:00:00"},{"$f":"'aktuelle Zahlen'!C696","v":0},{"$f":"'aktuelle Zahlen'!D696","v":0},{"$f":"'aktuelle Zahlen'!E696","v":0},{"$f":"'aktuelle Zahlen'!F696","v":0},{"$f":"'aktuelle Zahlen'!G696","v":0},{"$f":"'aktuelle Zahlen'!H696","v":0},{"$f":"'aktuelle Zahlen'!J696","v":0}]
[{"$f":"'aktuelle Zahlen'!A697","v":0},{"$f":"'aktuelle Zahlen'!B697","v":"00:00:00"},{"$f":"'aktuelle Zahlen'!C697","v":0},{"$f":"'aktuelle Zahlen'!D697","v":0},{"$f":"'aktuelle Zahlen'!E697","v":0},{"$f":"'aktuelle Zahlen'!F697","v":0},{"$f":"'aktuelle Zahlen'!G697","v":0},{"$f":"'aktuelle Zahlen'!H697","v":0},{"$f":"'aktuelle Zahlen'!J697","v":0}]
[{"$f":"'aktuelle Zahlen'!A698","v":0},{"$f":"'aktuelle Zahlen'!B698","v":"00:00:00"},{"$f":"'aktuelle Zahlen'!C698","v":0},{"$f":"'aktuelle Zahlen'!D698","v":0},{"$f":"'aktuelle Zahlen'!E698","v":0},{"$f":"'aktuelle Zahlen'!F698","v":0},{"$f":"'aktuelle Zahlen'!G698","v":0},{"$f":"'aktuelle Zahlen'!H698","v":0},{"$f":"'aktuelle Zahlen'!J698","v":0}]
[{"$f":"'aktuelle Zahlen'!A699","v":0},{"$f":"'aktuelle Zahlen'!B699","v":"00:00:00"},{"$f":"'aktuelle Zahlen'!C699","v":0},{"$f":"'aktuelle Zahlen'!D699","v":0},{"$f":"'aktuelle Zahlen'!E699","v":0},{"$f":"'aktuelle Zahlen'!F699","v":0},{"$f":"'aktuelle Zahlen'!G699","v":0},{"$f":"'aktuelle Zahlen'!H699","v":0},{"$f":"'aktuelle Zahlen'!J699","v":0}]
[{"$f":"'aktuelle Zahlen'!A700","v":0},{"$f":"'aktuelle Zahlen'!B700","v":"00:00:00"},{"$f":"'aktuelle Zahlen'!C700","v":0},{"$f":"'aktuelle Zahlen'!D700","v":0},{"$f":"'aktuelle Zahlen'!E700","v":0},{"$f":"'aktuelle Zahlen'!F700","v":0},{"$f":"'aktuelle Zahlen'!G700","v":0},{"$f":"'aktuelle Zahlen'!H700","v":0},{"$f":"'aktuelle Zahlen'!J700","v":0}]
[{"$f":"'aktuelle Zahlen'!A701","v":0},{"$f":"'aktuelle Zahlen'!B701","v":"00:00:00"},{"$f":"'aktuelle Zahlen'!C701","v":0},{"$f":"'aktuelle Zahlen'!D701","v":0},{"$f":"'aktuelle Zahlen'!E701","v":0},{"$f":"'aktuelle Zahlen'!F701","v":0},{"$f":"'aktuelle Zahlen'!G701","v":0},{"$f":"'aktuelle Zahlen'!H701","v":0},{"$f":"'aktuelle Zahlen'!J701","v":0}]
[{"$f":"'aktuelle Zahlen'!A702","v":0},{"$f":"'aktuelle Zahlen'!B702","v":"00:00:00"},{"$f":"'aktuelle Zahlen'!C702","v":0},{"$f":"'aktuelle Zahlen'!D702","v":0},{"$f":"'aktuelle Zahlen'!E702","v":0},{"$f":"'aktuelle Zahlen'!F702","v":0},{"$f":"'aktuelle Zahlen'!G702","v":0},{"$f":"'aktuelle Zahlen'!H702","v":0},{"$f":"'aktuelle Zahlen'!J702","v":0}]
[{"$f":"'aktuelle Zahlen'!A703","v":0},{"$f":"'aktuelle Zahlen'!B703","v":"00:00:00"},{"$f":"'aktuelle Zahlen'!C703","v":0},{"$f":"'aktuelle Zahlen'!D703","v":0},{"$f":"'aktuelle Zahlen'!E703","v":0},{"$f":"'aktuelle Zahlen'!F703","v":0},{"$f":"'aktuelle Zahlen'!G703","v":0},{"$f":"'aktuelle Zahlen'!H703","v":0},{"$f":"'aktuelle Zahlen'!J703","v":0}]
[{"$f":"'aktuelle Zahlen'!A704","v":0},{"$f":"'aktuelle Zahlen'!B704","v":"00:00:00"},{"$f":"'aktuelle Zahlen'!C704","v":0},{"$f":"'aktuelle Zahlen'!D704","v":0},{"$f":"'aktuelle Zahlen'!E704","v":0},{"$f":"'aktuelle Zahlen'!F704","v":0},{"$f":"'aktuelle Zahlen'!G704","v":0},{"$f":"'aktuelle Zahlen'!H704","v":0},{"$f":"'aktuelle Zahlen'!J704","v":0}]
[{"$f":"'aktuelle Zahlen'!A705","v":0},{"$f":"'aktuelle Zahlen'!B705","v":"00:00:00"},{"$f":"'aktuelle Zahlen'!C705","v":0},{"$f":"'aktuelle Zahlen'!D705","v":0},{"$f":"'aktuelle Zahlen'!E705","v":0},{"$f":"'aktuelle Zahlen'!F705","v":0},{"$f":"'aktuelle Zahlen'!G705","v":0},{"$f":"'aktuelle Zahlen'!H705","v":0},{"$f":"'aktuelle Zahlen'!J705","v":0}]
[{"$f":"'aktuelle Zahlen'!A706","v":0},{"$f":"'aktuelle Zahlen'!B706","v":"00:00:00"},{"$f":"'aktuelle Zahlen'!C706","v":0},{"$f":"'aktuelle Zahlen'!D706","v":0},{"$f":"'aktuelle Zahlen'!E706","v":0},{"$f":"'aktuelle Zahlen'!F706","v":0},{"$f":"'aktuelle Zahlen'!G706","v":0},{"$f":"'aktuelle Zahlen'!H706","v":0},{"$f":"'aktuelle Zahlen'!J706","v":0}]
[{"$f":"'aktuelle Zahlen'!A707","v":0},{"$f":"'aktuelle Zahlen'!B707","v":"00:00:00"},{"$f":"'aktuelle Zahlen'!C707","v":0},{"$f":"'aktuelle Zahlen'!D707","v":0},{"$f":"'aktuelle Zahlen'!E707","v":0},{"$f":"'aktuelle Zahlen'!F707","v":0},{"$f":"'aktuelle Zahlen'!G707","v":0},{"$f":"'aktuelle Zahlen'!H707","v":0},{"$f":"'aktuelle Zahlen'!J707","v":0}]