{"text_format":"1","workbook":"xlsx","n_sheets":2,"sheets":["aktuelle Zahlen","Auswertung"],"not_rendered":{"charts":0,"images":1,"macros":1,"external_links":0,"defined_names":1,"comments":0,"pivot_tables":0},"unopened":[],"bounds":{"document_bytes":16777216,"sheet_cells":100000,"rows_first":2000,"rows_last":500,"rows_between":2000,"halvings":0,"cell_chars":16384,"cell_head_chars":4096},"cells_cut":0,"cells_raw":0,"read":"whole","date_system":"1900"}

{"sheet":"aktuelle Zahlen","index":0,"n_rows":155,"n_cols":10,"rows_kept":155,"cut":false,"hidden":false,"merged":[]}
["Sa","2026-05-17"]
[1]
[2]
[3]
[4]
[5]
[6]
[7]
[]
["Auswertung der Gewinnzahlen aus dem WEB"]
["Spieltag","Datum","Z1","Z2","Z3","Z4","Z5","Z6 ",null,"Zusatzzahl"]
["Mi","2024-01-03",36,14,32,49,28,25," ",4]
["Sa","2024-01-06",18,14,34,47,5,3," ",7]
["Mi","2024-01-10",37,3,7,24,21,49," ",9]
["Sa","2024-01-13",6,48,27,1,8,26," ",6]
["Mi","2024-01-17",13,44,6,40,30,9," ",6]
["Sa","2024-01-20",8,49,45,1,25,11," ",4]
["Mi","2024-01-24",35,29,9,10,39,19," ",1]
["Sa","2024-01-27",24,20,29,33,43,14," ",4]
["Mi","2024-01-31",29,24,40,11,43,28," ",7]
["Sa","2024-02-03",24,14,23,19,21,3," ",5]
["Mi","2024-02-07",1,8,31,15,19,26," ",0]
["Sa","2024-02-10",37,47,1,33,19,39," ",6]
["Mi","2024-02-14",34,48,17,35,46,43," ",4]
["Sa","2024-02-17",23,31,36,8,34,40," ",0]
["Mi","2024-02-21",33,7,8,23,30,40," ",3]
["Sa","2024-02-24",2,21,49,40,28,34," ",2]
["Mi","2024-02-28",4,28,22,1,37,26," ",3]
["Sa","2024-03-02",26,6,8,33,37,18," ",2]
["Mi","2024-03-06",17,23,40,8,42,11," ",3]
["Sa","2024-03-09",41,20,1,48,5,10," ",8]
["Mi","2024-03-13",10,11,29,39,31,18," ",5]
["Sa","2024-03-16",16,40,19,5,25,48," ",3]
["Mi","2024-03-20",40,9,7,45,24,16," ",8]
["Sa","2024-03-23",40,21,32,4,38,1," ",7]
["Mi","2024-03-27",41,32,44,20,2,13," ",2]
["Sa","2024-03-30",27,16,21,10,5,33," ",0]
["Mi","2024-04-03",35,29,31,36,2,3," ",9]
["Sa","2024-04-06",41,7,13,11,35,20," ",0]
["Mi","2024-04-10",7,49,13,8,43,47," ",2]
["Sa","2024-04-13",33,47,3,32,10,6," ",0]
["Mi","2024-04-17",37,34,16,47,40,9," ",2]
["Sa","2024-04-20",44,7,49,28,35,17," ",3]
["Mi","2024-04-24",15,19,25,29,13,12," ",7]
["Sa","2024-04-27",27,8,46,48,43,45," ",0]
["Mi","2024-05-01",41,36,31,37,26,6," ",1]
["Sa","2024-05-04",47,29,10,38,9,27," ",1]
["Mi","2024-05-08",31,3,40,23,30,27," ",8]
["Sa","2024-05-11",25,36,30,29,22,5," ",0]
["Mi","2024-05-15",31,28,44,46,10,9," ",9]
["Sa","2024-05-18",49,36,1,28,43,2," ",0]
["Mi","2024-05-22",8,15,10,9,47,38," ",4]
["Sa","2024-05-25",41,15,8,38,32,24," ",5]
["Mi","2024-05-29",3,44,5,11,12,28," ",6]
["Sa","2024-06-01",10,8,27,35,9,41," ",0]
["Mi","2024-06-05",16,26,10,33,19,11," ",5]
["Sa","2024-06-08",10,31,15,40,5,22," ",9]
["Mi","2024-06-12",11,10,46,5,9,22," ",2]
["Sa","2024-06-15",31,38,16,49,30,3," ",8]
["Mi","2024-06-19",4,1,30,43,32,12," ",4]
["Sa","2024-06-22",25,21,8,11,30,9," ",1]
["Mi","2024-06-26",7,17,39,35,36,30," ",9]
["Sa","2024-06-29",19,30,16,15,11,35," ",3]
["Mi","2024-07-03",39,18,34,30,33,3," ",8]
["Sa","2024-07-06",6,1,35,29,13,49," ",6]
["Mi","2024-07-10",2,27,12,22,43,17," ",7]
["Sa","2024-07-13",9,17,10,42,37,25," ",0]
["Mi","2024-07-17",5,9,8,22,30,33," ",6]
["Sa","2024-07-20",35,29,8,19,30,5," ",5]
["Mi","2024-07-24",47,39,38,5,24,4," ",3]
["Sa","2024-07-27",23,20,34,27,25,4," ",3]
["Mi","2024-07-31",33,18,25,13,8,2," ",1]
["Sa","2024-08-03",12,44,31,1,10,14," ",1]
["Mi","2024-08-07",37,3,33,9,15,16," ",5]
["Sa","2024-08-10",5,43,19,26,14,20," ",2]
["Mi","2024-08-14",8,26,9,22,15,3," ",4]
["Sa","2024-08-17",27,46,35,40,2,45," ",5]
["Mi","2024-08-21",25,32,37,13,9,40," ",0]
["Sa","2024-08-24",12,26,47,29,4,24," ",8]
["Mi","2024-08-28",5,22,27,2,46,25," ",5]
["Sa","2024-08-31",11,44,24,6,48,21," ",9]
["Mi","2024-09-04",10,27,48,45,3,16," ",2]
["Sa","2024-09-07",32,8,5,26,43,14," ",8]
["Mi","2024-09-11",49,33,5,9,18,28," ",8]
["Sa","2024-09-14",14,31,25,23,10,2," ",2]
["Mi","2024-09-18",44,31,41,9,43,28," ",3]
["Sa","2024-09-21",28,18,46,11,43,30," ",9]
["Mi","2024-09-25",11,9,46,4,27,28," ",1]
["Sa","2024-09-28",30,16,17,33,6,26," ",6]
["Mi","2024-10-02",5,41,18,4,23,26," ",9]
["Sa","2024-10-05",44,10,5,12,28,40," ",8]
["Mi","2024-10-09",24,46,38,15,8,34," ",3]
["Sa","2024-10-12",43,15,14,5,33,40," ",5]
["Mi","2024-10-16",9,47,22,4,5,48," ",0]
["Sa","2024-10-19",1,43,31,8,19,41," ",3]
["Mi","2024-10-23",25,18,40,49,10,37," ",1]
["Sa","2024-10-26",43,8,49,5,21,16," ",8]
["Mi","2024-10-30",25,7,46,21,32,2," ",9]
["Sa","2024-11-02",9,8,17,40,20,37," ",2]
["Mi","2024-11-06",17,44,14,33,28,40," ",3]
["Sa","2024-11-09",40,2,18,33,47,39," ",7]
["Mi","2024-11-13",38,24,36,44,47,6," ",0]
["Sa","2024-11-16",14,11,39,40,15,19," ",4]
["Mi","2024-11-20",34,25,7,45,15,26," ",6]
["Sa","2024-11-23",17,3,8,44,42,26," ",6]
["Mi","2024-11-27",12,30,39,16,34,7," ",4]
["Sa","2024-11-30",13,7,33,38,42,37," ",0]
["Mi","2024-12-04",29,41,14,18,36,5," ",3]
["Sa","2024-12-07",32,6,19,30,37,15," ",9]
["Mi","2024-12-11",30,49,34,15,14,35," ",5]
["Sa","2024-12-14",9,44,1,14,27,4," ",3]
["Mi","2024-12-18",6,42,2,30,37,22," ",6]
["Sa","2024-12-21",44,3,8,39,6,34," ",5]
["Mi","2024-12-25",24,44,5,48,9,7," ",0]
["Sa","2024-12-28",18,7,40,28,13,44," ",5]
["Mi","2025-01-01",18,15,3,26,33,7," ",2]
["Sa","2025-01-04",6,24,36,2,30,45," ",2]
["Mi","2025-01-08",45,49,27,30,28,9," ",6]
["Sa","2025-01-11",27,30,10,26,22,33," ",8]
["Mi","2025-01-15",38,13,41,1,30,36," ",6]
["Sa","2025-01-18",20,3,12,26,33,16," ",3]
["Mi","2025-01-22",34,35,41,40,31,9," ",4]
["Sa","2025-01-25",48,49,25,10,11,36," ",2]
["Mi","2025-01-29",41,48,25,35,7,16," ",2]
["Sa","2025-02-01",11,9,22,27,25,8," ",8]
["Mi","2025-02-05",15,9,18,30,14,1," ",8]
["Sa","2025-02-08",49,20,13,47,27,16," ",2]
["Mi","2025-02-12",5,12,43,39,47,30," ",5]
["Sa","2025-02-15",18,23,43,29,48,2," ",7]
["Mi","2025-02-19",8,4,28,44,25,10," ",3]
["Sa","2025-02-22",34,28,26,6,8,12," ",0]
["Mi","2025-02-26",12,45,24,29,22,17," ",7]
["Sa","2025-03-01",25,36,26,11,44,30," ",8]
["Mi","2025-03-05",46,22,45,26,4,29," ",7]
["Sa","2025-03-08",41,25,26,44,13,27," ",5]
["Mi","2025-03-12",2,26,46,14,37,38," ",2]
["Sa","2025-03-15",11,35,6,36,30,47," ",0]
["Mi","2025-03-19",9,13,29,32,38,30," ",8]
["Sa","2025-03-22",30,41,11,20,35,28," ",3]
["Mi","2025-03-26",19,12,3,41,16,22," ",4]
["Sa","2025-03-29",31,18,46,47,39,25," ",6]
["Mi","2025-04-02",48,25,20,5,19,14," ",6]
["Sa","2025-04-05",12,41,10,40,35,21," ",9]
["Mi","2025-04-09",40,34,16,31,24,37," ",1]
["Sa","2025-04-12",29,20,15,36,14,18," ",5]
["Mi","2025-04-16",2,32,13,37,49,10," ",6]
["Sa","2025-04-19",31,37,20,12,47,41," ",7]
["Mi","2025-04-23",13,21,11,7,38,5," ",1]
["Sa","2025-04-26",44,26,9,13,4,41," ",1]
["Mi","2025-04-30",38,36,18,8,42,19," ",2]
["Sa","2025-05-03",37,48,25,20,28,44," ",9]
["Mi","2025-05-07",19,9,16,5,28,12," ",8]
["Sa","2025-05-10",46,34,23,17,32,48," ",2]
["Mi","2025-05-14",5,36,44,46,15,3," ",7]
["Sa","2025-05-17",15,21,34,4,12,36," ",9]

{"sheet":"Auswertung","index":1,"n_rows":711,"n_cols":120,"rows_kept":711,"cut":false,"hidden":false,"merged":[[8,72,8,77],[8,79,8,84],[8,86,8,91],[8,93,8,98],[9,37,9,42],[8,37,8,42],[8,44,8,49],[8,51,8,56],[9,44,9,49],[7,79,7,91],[7,93,7,105],[7,107,7,119],[7,65,7,77],[9,79,9,84],[9,72,9,77],[9,65,9,70],[9,114,9,119],[9,107,9,112],[9,100,9,105],[9,93,9,98],[9,86,9,91],[8,100,8,105],[8,107,8,112],[8,114,8,119],[8,65,8,70],[8,10,9,32],[8,2,9,8],[1,3,1,7],[7,51,7,63],[7,37,7,49],[9,58,9,63],[9,51,9,56],[8,58,8,63]]}
[]
[null,{"$f":"'aktuelle Zahlen'!B1","v":"2026-05-17"},null,"aktuelle Lottozahlen"]
[]
[null,null,null,null,null,null,null,null,null,null,{"$f":"SUM(K6:K8)","v":5},null,{"$f":"SUM(M6:M8)","v":7},null,3,null,4,null,6,null,6,null,5,null,3,null,5,null,3,null,3,null,4]
[]
[null,null,null,null,null,null,null,null,4,4,{"$f":"COUNTIF(K$12:K$46,$J$6)","v":0},null,0,null,0,null,0,null,1,null,0,null,0,null,0,null,0,null,0,null,1,null,0]
[null,null,null,null,null,null,null,null,3,3,{"$f":"COUNTIF(K$12:K$46,$J$7)","v":1},null,0,null,1,null,1,null,0,null,2,null,0,null,0,null,1,null,1,null,0,null,1]
[null,null,null,null,null,null,null,null,2,2,{"$f":"COUNTIF(K$12:K$46,$J$8)","v":4},null,7,null,2,null,3,null,5,null,4,null,5,null,3,null,4,null,2,null,2,null,3,null,null,null,null,null,null,null,null,null,null,null,null,null,null,null,null,null,null,null,null,null,null,null,null,null,null,null,null,null,null,null,null,null,null,null,null,null,null,null,null,null,null,null,null,null,null,"Holger"]
[null,null,"Gewinnzahlen",null,null,null,null,null,null,null,"Gewinn / Tipp",null,null,null,null,null,null,null,null,null,null,null,null,null,null,null,null,null,null,null,null,null,null,null,null,"Superzahl",null,"Tipp",null,null,null,null,null,null,"Tipp",null,null,null,null,null,null,"Tipp",null,null,null,null,null,null,"Tipp",null,null,null,null,null,null,"Tipp",null,null,null,null,null,null,"Tipp",null,null,null,null,null,null,"Tipp",null,null,null,null,null,null,"Tipp",null,null,null,null,null,null,"Tipp",null,null,null,null,null,null,"Tipp",null,null,null,null,null,null,"Tipp",null,null,null,null,null,null,"Tipp"]
[null,null,null,null,null,null,null,null,null,null,null,null,null,null,null,null,null,null,null,null,null,null,null,null,null,null,null,null,null,null,null,null,null,null,null,null,null,1,null,null,null,null,null,null,2,null,null,null,null,null,null,3,null,null,null,null,null,null,4,null,null,null,null,null,null,5,null,null,null,null,null,null,6,null,null,null,null,null,null,7,null,null,null,null,null,null,8,null,null,null,null,null,null,9,null,null,null,null,null,null,10,null,null,null,null,null,null,11,null,null,null,null,null,null,12]
[null,null,null,null,null,null,null,null,null,null,1,null,2,null,3,null,4,null,5,null,6,null,7,null,8,null,9,null,10,null,11,null,12,{"$f":"SUM(COUNTIF($C$6:$H$11,DK11:DP11))","v":0},null,10,null,5,10,18,23,29,38,null,1,11,14,16,26,41,null,2,17,26,28,38,49,null,4,18,22,28,32,46,null,8,12,19,29,38,42,null,4,19,23,26,46,48,null,4,38,39,41,43,46,null,2,3,6,10,47,48,null,8,9,17,18,31,47,null,2,11,29,33,35,43,null,2,11,17,32,37,49,null,11,16,30,32,33,44]
[]
[]
[]
["Spieltag","Datum","Z1","Z2","Z3","Z4","Z5","Z6 ","Z7"]
[{"$f":"'aktuelle Zahlen'!A155","v":"Sa"},{"$f":"'aktuelle Zahlen'!B155","v":"2025-05-17"},{"$f":"'aktuelle Zahlen'!C155","v":15},{"$f":"'aktuelle Zahlen'!D155","v":21},{"$f":"'aktuelle Zahlen'!E155","v":34},{"$f":"'aktuelle Zahlen'!F155","v":4},{"$f":"'aktuelle Zahlen'!G155","v":12},{"$f":"'aktuelle Zahlen'!H155","v":36},{"$f":"'aktuelle Zahlen'!J155","v":9},null,{"$f":"IF(L16>1,(IF($I16=$AJ$11,L16 & \"Z\",L16)),\" \")","v":" "},{"$f":"SUM(COUNTIF($C16:$H16,$AL$11:$AQ$11))","v":0},{"$f":"IF(N16>1,(IF($I16=$AJ$11,N16 & \"Z\",N16)),\" \")","v":" "},{"$f":"SUM(COUNTIF($C16:$H16,$AS$11:$AX$11))","v":0},{"$f":"IF(P16>1,(IF($I16=$AJ$11,P16 & \"Z\",P16)),\" \")","v":" "},{"$f":"SUM(COUNTIF($C16:$H16,$AZ$11:$BE$11))","v":0},{"$f":"IF(R16>1,(IF($I16=$AJ$11,R16 & \"Z\",R16)),\" \")","v":" "},{"$f":"SUM(COUNTIF($C16:$H16,$BG$11:$BL$11))","v":1},{"$f":"IF(T16>1,(IF($I16=$AJ$11,T16 & \"Z\",T16)),\" \")","v":" "},{"$f":"SUM(COUNTIF($C16:$H16,$BN$11:$BS$11))","v":1},{"$f":"IF(V16>1,(IF($I16=$AJ$11,V16 & \"Z\",V16)),\" \")","v":" "},{"$f":"SUM(COUNTIF($C16:$H16,$BU$11:$BZ$11))","v":1},{"$f":"IF(X16>1,(IF($I16=$AJ$11,X16 & \"Z\",X16)),\" \")","v":" "},{"$f":"SUM(COUNTIF($C16:$H16,$CB$11:$CG$11))","v":1},{"$f":"IF(Z16>1,(IF($I16=$AJ$11,Z16 & \"Z\",Z16)),\" \")","v":" "},{"$f":"SUM(COUNTIF($C16:$H16,$CI$11:$CN$11))","v":0},{"$f":"IF(AB16>1,(IF($I16=$AJ$11,AB16 & \"Z\",AB16)),\" \")","v":" "},{"$f":"SUM(COUNTIF($C16:$H16,$CP$11:$CU$11))","v":0},{"$f":"IF(AD16>1,(IF($I16=$AJ$11,AD16 & \"Z\",AD16)),\" \")","v":" "},{"$f":"SUM(COUNTIF($C16:$H16,$CW$11:$DB$11))","v":0},{"$f":"IF(AF16>1,(IF($I16=$AJ$11,AF16 & \"Z\",AF16)),\" \")","v":" "},{"$f":"SUM(COUNTIF($C16:$H16,$DD$11:$DI$11))","v":0},{"$f":"IF(AH16>1,(IF($I16=$AJ$11,AH16 & \"Z\",AH16)),\" \")","v":" "},{"$f":"SUM(COUNTIF($C16:$H16,$DK$11:$DP$11))","v":0}]
[{"$f":"'aktuelle Zahlen'!A154","v":"Mi"},{"$f":"'aktuelle Zahlen'!B154","v":"2025-05-14"},{"$f":"'aktuelle Zahlen'!C154","v":5},{"$f":"'aktuelle Zahlen'!D154","v":36},{"$f":"'aktuelle Zahlen'!E154","v":44},{"$f":"'aktuelle Zahlen'!F154","v":46},{"$f":"'aktuelle Zahlen'!G154","v":15},{"$f":"'aktuelle Zahlen'!H154","v":3},{"$f":"'aktuelle Zahlen'!J154","v":7},null,{"$f":"IF(L17>1,(IF($I17=$AJ$11,L17 & \"Z\",L17)),\" \")","v":" "},{"$f":"SUM(COUNTIF($C17:$H17,$AL$11:$AQ$11))","v":1},{"$f":"IF(N17>1,(IF($I17=$AJ$11,N17 & \"Z\",N17)),\" \")","v":" "},{"$f":"SUM(COUNTIF($C17:$H17,$AS$11:$AX$11))","v":0},{"$f":"IF(P17>1,(IF($I17=$AJ$11,P17 & \"Z\",P17)),\" \")","v":" "},{"$f":"SUM(COUNTIF($C17:$H17,$AZ$11:$BE$11))","v":0},{"$f":"IF(R17>1,(IF($I17=$AJ$11,R17 & \"Z\",R17)),\" \")","v":" "},{"$f":"SUM(COUNTIF($C17:$H17,$BG$11:$BL$11))","v":1},{"$f":"IF(T17>1,(IF($I17=$AJ$11,T17 & \"Z\",T17)),\" \")","v":" "},{"$f":"SUM(COUNTIF($C17:$H17,$BN$11:$BS$11))","v":0},{"$f":"IF(V17>1,(IF($I17=$AJ$11,V17 & \"Z\",V17)),\" \")","v":" "},{"$f":"SUM(COUNTIF($C17:$H17,$BU$11:$BZ$11))","v":1},{"$f":"IF(X17>1,(IF($I17=$AJ$11,X17 & \"Z\",X17)),\" \")","v":" "},{"$f":"SUM(COUNTIF($C17:$H17,$CB$11:$CG$11))","v":1},{"$f":"IF(Z17>1,(IF($I17=$AJ$11,Z17 & \"Z\",Z17)),\" \")","v":" "},{"$f":"SUM(COUNTIF($C17:$H17,$CI$11:$CN$11))","v":1},{"$f":"IF(AB17>1,(IF($I17=$AJ$11,AB17 & \"Z\",AB17)),\" \")","v":" "},{"$f":"SUM(COUNTIF($C17:$H17,$CP$11:$CU$11))","v":0},{"$f":"IF(AD17>1,(IF($I17=$AJ$11,AD17 & \"Z\",AD17)),\" \")","v":" "},{"$f":"SUM(COUNTIF($C17:$H17,$CW$11:$DB$11))","v":0},{"$f":"IF(AF17>1,(IF($I17=$AJ$11,AF17 & \"Z\",AF17)),\" \")","v":" "},{"$f":"SUM(COUNTIF($C17:$H17,$DD$11:$DI$11))","v":0},{"$f":"IF(AH17>1,(IF($I17=$AJ$11,AH17 & \"Z\",AH17)),\" \")","v":" "},{"$f":"SUM(COUNTIF($C17:$H17,$DK$11:$DP$11))","v":1}]
[{"$f":"'aktuelle Zahlen'!A153","v":"Sa"},{"$f":"'aktuelle Zahlen'!B153","v":"2025-05-10"},{"$f":"'aktuelle Zahlen'!C153","v":46},{"$f":"'aktuelle Zahlen'!D153","v":34},{"$f":"'aktuelle Zahlen'!E153","v":23},{"$f":"'aktuelle Zahlen'!F153","v":17},{"$f":"'aktuelle Zahlen'!G153","v":32},{"$f":"'aktuelle Zahlen'!H153","v":48},{"$f":"'aktuelle Zahlen'!J153","v":2},null," ",{"$f":"SUM(COUNTIF($C18:$H18,$AL$11:$AQ$11))","v":1}," ",{"$f":"SUM(COUNTIF($C18:$H18,$AS$11:$AX$11))","v":0}," ",{"$f":"SUM(COUNTIF($C18:$H18,$AZ$11:$BE$11))","v":1},2,{"$f":"SUM(COUNTIF($C18:$H18,$BG$11:$BL$11))","v":2}," ",{"$f":"SUM(COUNTIF($C18:$H18,$BN$11:$BS$11))","v":0},3,{"$f":"SUM(COUNTIF($C18:$H18,$BU$11:$BZ$11))","v":3}," ",{"$f":"SUM(COUNTIF($C18:$H18,$CB$11:$CG$11))","v":1}," ",{"$f":"SUM(COUNTIF($C18:$H18,$CI$11:$CN$11))","v":1}," ",{"$f":"SUM(COUNTIF($C18:$H18,$CP$11:$CU$11))","v":1}," ",{"$f":"SUM(COUNTIF($C18:$H18,$CW$11:$DB$11))","v":0},2,{"$f":"SUM(COUNTIF($C18:$H18,$DD$11:$DI$11))","v":2}," ",{"$f":"SUM(COUNTIF($C18:$H18,$DK$11:$DP$11))","v":1}]
[{"$f":"'aktuelle Zahlen'!A152","v":"Mi"},{"$f":"'aktuelle Zahlen'!B152","v":"2025-05-07"},{"$f":"'aktuelle Zahlen'!C152","v":19},{"$f":"'aktuelle Zahlen'!D152","v":9},{"$f":"'aktuelle Zahlen'!E152","v":16},{"$f":"'aktuelle Zahlen'!F152","v":5},{"$f":"'aktuelle Zahlen'!G152","v":28},{"$f":"'aktuelle Zahlen'!H152","v":12},{"$f":"'aktuelle Zahlen'!J152","v":8},null," ",{"$f":"SUM(COUNTIF($C19:$H19,$AL$11:$AQ$11))","v":1}," ",{"$f":"SUM(COUNTIF($C19:$H19,$AS$11:$AX$11))","v":1}," ",{"$f":"SUM(COUNTIF($C19:$H19,$AZ$11:$BE$11))","v":1}," ",{"$f":"SUM(COUNTIF($C19:$H19,$BG$11:$BL$11))","v":1},2,{"$f":"SUM(COUNTIF($C19:$H19,$BN$11:$BS$11))","v":2}," ",{"$f":"SUM(COUNTIF($C19:$H19,$BU$11:$BZ$11))","v":1}," ",{"$f":"SUM(COUNTIF($C19:$H19,$CB$11:$CG$11))","v":0}," ",{"$f":"SUM(COUNTIF($C19:$H19,$CI$11:$CN$11))","v":0}," ",{"$f":"SUM(COUNTIF($C19:$H19,$CP$11:$CU$11))","v":1}," ",{"$f":"SUM(COUNTIF($C19:$H19,$CW$11:$DB$11))","v":0}," ",{"$f":"SUM(COUNTIF($C19:$H19,$DD$11:$DI$11))","v":0}," ",{"$f":"SUM(COUNTIF($C19:$H19,$DK$11:$DP$11))","v":1}]
[{"$f":"'aktuelle Zahlen'!A151","v":"Sa"},{"$f":"'aktuelle Zahlen'!B151","v":"2025-05-03"},{"$f":"'aktuelle Zahlen'!C151","v":37},{"$f":"'aktuelle Zahlen'!D151","v":48},{"$f":"'aktuelle Zahlen'!E151","v":25},{"$f":"'aktuelle Zahlen'!F151","v":20},{"$f":"'aktuelle Zahlen'!G151","v":28},{"$f":"'aktuelle Zahlen'!H151","v":44},{"$f":"'aktuelle Zahlen'!J151","v":9},null," ",{"$f":"SUM(COUNTIF($C20:$H20,$AL$11:$AQ$11))","v":0}," ",{"$f":"SUM(COUNTIF($C20:$H20,$AS$11:$AX$11))","v":0}," ",{"$f":"SUM(COUNTIF($C20:$H20,$AZ$11:$BE$11))","v":1}," ",{"$f":"SUM(COUNTIF($C20:$H20,$BG$11:$BL$11))","v":1}," ",{"$f":"SUM(COUNTIF($C20:$H20,$BN$11:$BS$11))","v":0}," ",{"$f":"SUM(COUNTIF($C20:$H20,$BU$11:$BZ$11))","v":1}," ",{"$f":"SUM(COUNTIF($C20:$H20,$CB$11:$CG$11))","v":0}," ",{"$f":"SUM(COUNTIF($C20:$H20,$CI$11:$CN$11))","v":1}," ",{"$f":"SUM(COUNTIF($C20:$H20,$CP$11:$CU$11))","v":0}," ",{"$f":"SUM(COUNTIF($C20:$H20,$CW$11:$DB$11))","v":0}," ",{"$f":"SUM(COUNTIF($C20:$H20,$DD$11:$DI$11))","v":1}," ",{"$f":"SUM(COUNTIF($C20:$H20,$DK$11:$DP$11))","v":1}]
[{"$f":"'aktuelle Zahlen'!A150","v":"Mi"},{"$f":"'aktuelle Zahlen'!B150","v":"2025-04-30"},{"$f":"'aktuelle Zahlen'!C150","v":38},{"$f":"'aktuelle Zahlen'!D150","v":36},{"$f":"'aktuelle Zahlen'!E150","v":18},{"$f":"'aktuelle Zahlen'!F150","v":8},{"$f":"'aktuelle Zahlen'!G150","v":42},{"$f":"'aktuelle Zahlen'!H150","v":19},{"$f":"'aktuelle Zahlen'!J150","v":2},null,2,{"$f":"SUM(COUNTIF($C21:$H21,$AL$11:$AQ$11))","v":2}," ",{"$f":"SUM(COUNTIF($C21:$H21,$AS$11:$AX$11))","v":0}," ",{"$f":"SUM(COUNTIF($C21:$H21,$AZ$11:$BE$11))","v":1}," ",{"$f":"SUM(COUNTIF($C21:$H21,$BG$11:$BL$11))","v":1},4,{"$f":"SUM(COUNTIF($C21:$H21,$BN$11:$BS$11))","v":4}," ",{"$f":"SUM(COUNTIF($C21:$H21,$BU$11:$BZ$11))","v":1}," ",{"$f":"SUM(COUNTIF($C21:$H21,$CB$11:$CG$11))","v":1}," ",{"$f":"SUM(COUNTIF($C21:$H21,$CI$11:$CN$11))","v":0},2,{"$f":"SUM(COUNTIF($C21:$H21,$CP$11:$CU$11))","v":2}," ",{"$f":"SUM(COUNTIF($C21:$H21,$CW$11:$DB$11))","v":0}," ",{"$f":"SUM(COUNTIF($C21:$H21,$DD$11:$DI$11))","v":0}," ",{"$f":"SUM(COUNTIF($C21:$H21,$DK$11:$DP$11))","v":0}]
[{"$f":"'aktuelle Zahlen'!A149","v":"Sa"},{"$f":"'aktuelle Zahlen'!B149","v":"2025-04-26"},{"$f":"'aktuelle Zahlen'!C149","v":44},{"$f":"'aktuelle Zahlen'!D149","v":26},{"$f":"'aktuelle Zahlen'!E149","v":9},{"$f":"'aktuelle Zahlen'!F149","v":13},{"$f":"'aktuelle Zahlen'!G149","v":4},{"$f":"'aktuelle Zahlen'!H149","v":41},{"$f":"'aktuelle Zahlen'!J149","v":1},null," ",{"$f":"SUM(COUNTIF($C22:$H22,$AL$11:$AQ$11))","v":0},2,{"$f":"SUM(COUNTIF($C22:$H22,$AS$11:$AX$11))","v":2}," ",{"$f":"SUM(COUNTIF($C22:$H22,$AZ$11:$BE$11))","v":1}," ",{"$f":"SUM(COUNTIF($C22:$H22,$BG$11:$BL$11))","v":1}," ",{"$f":"SUM(COUNTIF($C22:$H22,$BN$11:$BS$11))","v":0},2,{"$f":"SUM(COUNTIF($C22:$H22,$BU$11:$BZ$11))","v":2},2,{"$f":"SUM(COUNTIF($C22:$H22,$CB$11:$CG$11))","v":2}," ",{"$f":"SUM(COUNTIF($C22:$H22,$CI$11:$CN$11))","v":0}," ",{"$f":"SUM(COUNTIF($C22:$H22,$CP$11:$CU$11))","v":1}," ",{"$f":"SUM(COUNTIF($C22:$H22,$CW$11:$DB$11))","v":0}," ",{"$f":"SUM(COUNTIF($C22:$H22,$DD$11:$DI$11))","v":0}," ",{"$f":"SUM(COUNTIF($C22:$H22,$DK$11:$DP$11))","v":1}]
[{"$f":"'aktuelle Zahlen'!A148","v":"Mi"},{"$f":"'aktuelle Zahlen'!B148","v":"2025-04-23"},{"$f":"'aktuelle Zahlen'!C148","v":13},{"$f":"'aktuelle Zahlen'!D148","v":21},{"$f":"'aktuelle Zahlen'!E148","v":11},{"$f":"'aktuelle Zahlen'!F148","v":7},{"$f":"'aktuelle Zahlen'!G148","v":38},{"$f":"'aktuelle Zahlen'!H148","v":5},{"$f":"'aktuelle Zahlen'!J148","v":1},null,2,{"$f":"SUM(COUNTIF($C23:$H23,$AL$11:$AQ$11))","v":2}," ",{"$f":"SUM(COUNTIF($C23:$H23,$AS$11:$AX$11))","v":1}," ",{"$f":"SUM(COUNTIF($C23:$H23,$AZ$11:$BE$11))","v":1}," ",{"$f":"SUM(COUNTIF($C23:$H23,$BG$11:$BL$11))","v":0}," ",{"$f":"SUM(COUNTIF($C23:$H23,$BN$11:$BS$11))","v":1}," ",{"$f":"SUM(COUNTIF($C23:$H23,$BU$11:$BZ$11))","v":0}," ",{"$f":"SUM(COUNTIF($C23:$H23,$CB$11:$CG$11))","v":1}," ",{"$f":"SUM(COUNTIF($C23:$H23,$CI$11:$CN$11))","v":0}," ",{"$f":"SUM(COUNTIF($C23:$H23,$CP$11:$CU$11))","v":0}," ",{"$f":"SUM(COUNTIF($C23:$H23,$CW$11:$DB$11))","v":1}," ",{"$f":"SUM(COUNTIF($C23:$H23,$DD$11:$DI$11))","v":1}," ",{"$f":"SUM(COUNTIF($C23:$H23,$DK$11:$DP$11))","v":1}]
[{"$f":"'aktuelle Zahlen'!A147","v":"Sa"},{"$f":"'aktuelle Zahlen'!B147","v":"2025-04-19"},{"$f":"'aktuelle Zahlen'!C147","v":31},{"$f":"'aktuelle Zahlen'!D147","v":37},{"$f":"'aktuelle Zahlen'!E147","v":20},{"$f":"'aktuelle Zahlen'!F147","v":12},{"$f":"'aktuelle Zahlen'!G147","v":47},{"$f":"'aktuelle Zahlen'!H147","v":41},{"$f":"'aktuelle Zahlen'!J147","v":7},null," ",{"$f":"SUM(COUNTIF($C24:$H24,$AL$11:$AQ$11))","v":0}," ",{"$f":"SUM(COUNTIF($C24:$H24,$AS$11:$AX$11))","v":1}," ",{"$f":"SUM(COUNTIF($C24:$H24,$AZ$11:$BE$11))","v":0}," ",{"$f":"SUM(COUNTIF($C24:$H24,$BG$11:$BL$11))","v":0}," ",{"$f":"SUM(COUNTIF($C24:$H24,$BN$11:$BS$11))","v":1}," ",{"$f":"SUM(COUNTIF($C24:$H24,$BU$11:$BZ$11))","v":0}," ",{"$f":"SUM(COUNTIF($C24:$H24,$CB$11:$CG$11))","v":1}," ",{"$f":"SUM(COUNTIF($C24:$H24,$CI$11:$CN$11))","v":1},2,{"$f":"SUM(COUNTIF($C24:$H24,$CP$11:$CU$11))","v":2}," ",{"$f":"SUM(COUNTIF($C24:$H24,$CW$11:$DB$11))","v":0}," ",{"$f":"SUM(COUNTIF($C24:$H24,$DD$11:$DI$11))","v":1}," ",{"$f":"SUM(COUNTIF($C24:$H24,$DK$11:$DP$11))","v":0}]
[{"$f":"'aktuelle Zahlen'!A146","v":"Mi"},{"$f":"'aktuelle Zahlen'!B146","v":"2025-04-16"},{"$f":"'aktuelle Zahlen'!C146","v":2},{"$f":"'aktuelle Zahlen'!D146","v":32},{"$f":"'aktuelle Zahlen'!E146","v":13},{"$f":"'aktuelle Zahlen'!F146","v":37},{"$f":"'aktuelle Zahlen'!G146","v":49},{"$f":"'aktuelle Zahlen'!H146","v":10},{"$f":"'aktuelle Zahlen'!J146","v":6},null," ",{"$f":"SUM(COUNTIF($C25:$H25,$AL$11:$AQ$11))","v":1}," ",{"$f":"SUM(COUNTIF($C25:$H25,$AS$11:$AX$11))","v":0},2,{"$f":"SUM(COUNTIF($C25:$H25,$AZ$11:$BE$11))","v":2}," ",{"$f":"SUM(COUNTIF($C25:$H25,$BG$11:$BL$11))","v":1}," ",{"$f":"SUM(COUNTIF($C25:$H25,$BN$11:$BS$11))","v":0}," ",{"$f":"SUM(COUNTIF($C25:$H25,$BU$11:$BZ$11))","v":0}," ",{"$f":"SUM(COUNTIF($C25:$H25,$CB$11:$CG$11))","v":0},2,{"$f":"SUM(COUNTIF($C25:$H25,$CI$11:$CN$11))","v":2}," ",{"$f":"SUM(COUNTIF($C25:$H25,$CP$11:$CU$11))","v":0}," ",{"$f":"SUM(COUNTIF($C25:$H25,$CW$11:$DB$11))","v":1},4,{"$f":"SUM(COUNTIF($C25:$H25,$DD$11:$DI$11))","v":4}," ",{"$f":"SUM(COUNTIF($C25:$H25,$DK$11:$DP$11))","v":1}]
[{"$f":"'aktuelle Zahlen'!A145","v":"Sa"},{"$f":"'aktuelle Zahlen'!B145","v":"2025-04-12"},{"$f":"'aktuelle Zahlen'!C145","v":29},{"$f":"'aktuelle Zahlen'!D145","v":20},{"$f":"'aktuelle Zahlen'!E145","v":15},{"$f":"'aktuelle Zahlen'!F145","v":36},{"$f":"'aktuelle Zahlen'!G145","v":14},{"$f":"'aktuelle Zahlen'!H145","v":18},{"$f":"'aktuelle Zahlen'!J145","v":5},null,2,{"$f":"SUM(COUNTIF($C26:$H26,$AL$11:$AQ$11))","v":2}," ",{"$f":"SUM(COUNTIF($C26:$H26,$AS$11:$AX$11))","v":1}," ",{"$f":"SUM(COUNTIF($C26:$H26,$AZ$11:$BE$11))","v":0}," ",{"$f":"SUM(COUNTIF($C26:$H26,$BG$11:$BL$11))","v":1}," ",{"$f":"SUM(COUNTIF($C26:$H26,$BN$11:$BS$11))","v":1}," ",{"$f":"SUM(COUNTIF($C26:$H26,$BU$11:$BZ$11))","v":0}," ",{"$f":"SUM(COUNTIF($C26:$H26,$CB$11:$CG$11))","v":0}," ",{"$f":"SUM(COUNTIF($C26:$H26,$CI$11:$CN$11))","v":0}," ",{"$f":"SUM(COUNTIF($C26:$H26,$CP$11:$CU$11))","v":1}," ",{"$f":"SUM(COUNTIF($C26:$H26,$CW$11:$DB$11))","v":1}," ",{"$f":"SUM(COUNTIF($C26:$H26,$DD$11:$DI$11))","v":0}," ",{"$f":"SUM(COUNTIF($C26:$H26,$DK$11:$DP$11))","v":0}]
[{"$f":"'aktuelle Zahlen'!A144","v":"Mi"},{"$f":"'aktuelle Zahlen'!B144","v":"2025-04-09"},{"$f":"'aktuelle Zahlen'!C144","v":40},{"$f":"'aktuelle Zahlen'!D144","v":34},{"$f":"'aktuelle Zahlen'!E144","v":16},{"$f":"'aktuelle Zahlen'!F144","v":31},{"$f":"'aktuelle Zahlen'!G144","v":24},{"$f":"'aktuelle Zahlen'!H144","v":37},{"$f":"'aktuelle Zahlen'!J144","v":1},null," ",{"$f":"SUM(COUNTIF($C27:$H27,$AL$11:$AQ$11))","v":0}," ",{"$f":"SUM(COUNTIF($C27:$H27,$AS$11:$AX$11))","v":1}," ",{"$f":"SUM(COUNTIF($C27:$H27,$AZ$11:$BE$11))","v":0}," ",{"$f":"SUM(COUNTIF($C27:$H27,$BG$11:$BL$11))","v":0}," ",{"$f":"SUM(COUNTIF($C27:$H27,$BN$11:$BS$11))","v":0}," ",{"$f":"SUM(COUNTIF($C27:$H27,$BU$11:$BZ$11))","v":0}," ",{"$f":"SUM(COUNTIF($C27:$H27,$CB$11:$CG$11))","v":0}," ",{"$f":"SUM(COUNTIF($C27:$H27,$CI$11:$CN$11))","v":0}," ",{"$f":"SUM(COUNTIF($C27:$H27,$CP$11:$CU$11))","v":1}," ",{"$f":"SUM(COUNTIF($C27:$H27,$CW$11:$DB$11))","v":0}," ",{"$f":"SUM(COUNTIF($C27:$H27,$DD$11:$DI$11))","v":1}," ",{"$f":"SUM(COUNTIF($C27:$H27,$DK$11:$DP$11))","v":1}]
[{"$f":"'aktuelle Zahlen'!A143","v":"Sa"},{"$f":"'aktuelle Zahlen'!B143","v":"2025-04-05"},{"$f":"'aktuelle Zahlen'!C143","v":12},{"$f":"'aktuelle Zahlen'!D143","v":41},{"$f":"'aktuelle Zahlen'!E143","v":10},{"$f":"'aktuelle Zahlen'!F143","v":40},{"$f":"'aktuelle Zahlen'!G143","v":35},{"$f":"'aktuelle Zahlen'!H143","v":21},{"$f":"'aktuelle Zahlen'!J143","v":9},null," ",{"$f":"SUM(COUNTIF($C28:$H28,$AL$11:$AQ$11))","v":1}," ",{"$f":"SUM(COUNTIF($C28:$H28,$AS$11:$AX$11))","v":1}," ",{"$f":"SUM(COUNTIF($C28:$H28,$AZ$11:$BE$11))","v":0}," ",{"$f":"SUM(COUNTIF($C28:$H28,$BG$11:$BL$11))","v":0}," ",{"$f":"SUM(COUNTIF($C28:$H28,$BN$11:$BS$11))","v":1}," ",{"$f":"SUM(COUNTIF($C28:$H28,$BU$11:$BZ$11))","v":0}," ",{"$f":"SUM(COUNTIF($C28:$H28,$CB$11:$CG$11))","v":1}," ",{"$f":"SUM(COUNTIF($C28:$H28,$CI$11:$CN$11))","v":1}," ",{"$f":"SUM(COUNTIF($C28:$H28,$CP$11:$CU$11))","v":0}," ",{"$f":"SUM(COUNTIF($C28:$H28,$CW$11:$DB$11))","v":1}," ",{"$f":"SUM(COUNTIF($C28:$H28,$DD$11:$DI$11))","v":0}," ",{"$f":"SUM(COUNTIF($C28:$H28,$DK$11:$DP$11))","v":0}]
[{"$f":"'aktuelle Zahlen'!A142","v":"Mi"},{"$f":"'aktuelle Zahlen'!B142","v":"2025-04-02"},{"$f":"'aktuelle Zahlen'!C142","v":48},{"$f":"'aktuelle Zahlen'!D142","v":25},{"$f":"'aktuelle Zahlen'!E142","v":20},{"$f":"'aktuelle Zahlen'!F142","v":5},{"$f":"'aktuelle Zahlen'!G142","v":19},{"$f":"'aktuelle Zahlen'!H142","v":14},{"$f":"'aktuelle Zahlen'!J142","v":6},null," ",{"$f":"SUM(COUNTIF($C29:$H29,$AL$11:$AQ$11))","v":1}," ",{"$f":"SUM(COUNTIF($C29:$H29,$AS$11:$AX$11))","v":1}," ",{"$f":"SUM(COUNTIF($C29:$H29,$AZ$11:$BE$11))","v":0}," ",{"$f":"SUM(COUNTIF($C29:$H29,$BG$11:$BL$11))","v":0}," ",{"$f":"SUM(COUNTIF($C29:$H29,$BN$11:$BS$11))","v":1},2,{"$f":"SUM(COUNTIF($C29:$H29,$BU$11:$BZ$11))","v":2}," ",{"$f":"SUM(COUNTIF($C29:$H29,$CB$11:$CG$11))","v":0}," ",{"$f":"SUM(COUNTIF($C29:$H29,$CI$11:$CN$11))","v":1}," ",{"$f":"SUM(COUNTIF($C29:$H29,$CP$11:$CU$11))","v":0}," ",{"$f":"SUM(COUNTIF($C29:$H29,$CW$11:$DB$11))","v":0}," ",{"$f":"SUM(COUNTIF($C29:$H29,$DD$11:$DI$11))","v":0}," ",{"$f":"SUM(COUNTIF($C29:$H29,$DK$11:$DP$11))","v":0}]
[{"$f":"'aktuelle Zahlen'!A141","v":"Sa"},{"$f":"'aktuelle Zahlen'!B141","v":"2025-03-29"},{"$f":"'aktuelle Zahlen'!C141","v":31},{"$f":"'aktuelle Zahlen'!D141","v":18},{"$f":"'aktuelle Zahlen'!E141","v":46},{"$f":"'aktuelle Zahlen'!F141","v":47},{"$f":"'aktuelle Zahlen'!G141","v":39},{"$f":"'aktuelle Zahlen'!H141","v":25},{"$f":"'aktuelle Zahlen'!J141","v":6},null," ",{"$f":"SUM(COUNTIF($C30:$H30,$AL$11:$AQ$11))","v":1}," ",{"$f":"SUM(COUNTIF($C30:$H30,$AS$11:$AX$11))","v":0}," ",{"$f":"SUM(COUNTIF($C30:$H30,$AZ$11:$BE$11))","v":0},2,{"$f":"SUM(COUNTIF($C30:$H30,$BG$11:$BL$11))","v":2}," ",{"$f":"SUM(COUNTIF($C30:$H30,$BN$11:$BS$11))","v":0}," ",{"$f":"SUM(COUNTIF($C30:$H30,$BU$11:$BZ$11))","v":1},2,{"$f":"SUM(COUNTIF($C30:$H30,$CB$11:$CG$11))","v":2}," ",{"$f":"SUM(COUNTIF($C30:$H30,$CI$11:$CN$11))","v":1},3,{"$f":"SUM(COUNTIF($C30:$H30,$CP$11:$CU$11))","v":3}," ",{"$f":"SUM(COUNTIF($C30:$H30,$CW$11:$DB$11))","v":0}," ",{"$f":"SUM(COUNTIF($C30:$H30,$DD$11:$DI$11))","v":0}," ",{"$f":"SUM(COUNTIF($C30:$H30,$DK$11:$DP$11))","v":0}]
[{"$f":"'aktuelle Zahlen'!A140","v":"Mi"},{"$f":"'aktuelle Zahlen'!B140","v":"2025-03-26"},{"$f":"'aktuelle Zahlen'!C140","v":19},{"$f":"'aktuelle Zahlen'!D140","v":12},{"$f":"'aktuelle Zahlen'!E140","v":3},{"$f":"'aktuelle Zahlen'!F140","v":41},{"$f":"'aktuelle Zahlen'!G140","v":16},{"$f":"'aktuelle Zahlen'!H140","v":22},{"$f":"'aktuelle Zahlen'!J140","v":4},null," ",{"$f":"SUM(COUNTIF($C31:$H31,$AL$11:$AQ$11))","v":0},2,{"$f":"SUM(COUNTIF($C31:$H31,$AS$11:$AX$11))","v":2}," ",{"$f":"SUM(COUNTIF($C31:$H31,$AZ$11:$BE$11))","v":0}," ",{"$f":"SUM(COUNTIF($C31:$H31,$BG$11:$BL$11))","v":1},2,{"$f":"SUM(COUNTIF($C31:$H31,$BN$11:$BS$11))","v":2}," ",{"$f":"SUM(COUNTIF($C31:$H31,$BU$11:$BZ$11))","v":1}," ",{"$f":"SUM(COUNTIF($C31:$H31,$CB$11:$CG$11))","v":1}," ",{"$f":"SUM(COUNTIF($C31:$H31,$CI$11:$CN$11))","v":1}," ",{"$f":"SUM(COUNTIF($C31:$H31,$CP$11:$CU$11))","v":0}," ",{"$f":"SUM(COUNTIF($C31:$H31,$CW$11:$DB$11))","v":0}," ",{"$f":"SUM(COUNTIF($C31:$H31,$DD$11:$DI$11))","v":0}," ",{"$f":"SUM(COUNTIF($C31:$H31,$DK$11:$DP$11))","v":1}]
[{"$f":"'aktuelle Zahlen'!A139","v":"Sa"},{"$f":"'aktuelle Zahlen'!B139","v":"2025-03-22"},{"$f":"'aktuelle Zahlen'!C139","v":30},{"$f":"'aktuelle Zahlen'!D139","v":41},{"$f":"'aktuelle Zahlen'!E139","v":11},{"$f":"'aktuelle Zahlen'!F139","v":20},{"$f":"'aktuelle Zahlen'!G139","v":35},{"$f":"'aktuelle Zahlen'!H139","v":28},{"$f":"'aktuelle Zahlen'!J139","v":3},null," ",{"$f":"SUM(COUNTIF($C32:$H32,$AL$11:$AQ$11))","v":0},2,{"$f":"SUM(COUNTIF($C32:$H32,$AS$11:$AX$11))","v":2}," ",{"$f":"SUM(COUNTIF($C32:$H32,$AZ$11:$BE$11))","v":1}," ",{"$f":"SUM(COUNTIF($C32:$H32,$BG$11:$BL$11))","v":1}," ",{"$f":"SUM(COUNTIF($C32:$H32,$BN$11:$BS$11))","v":0}," ",{"$f":"SUM(COUNTIF($C32:$H32,$BU$11:$BZ$11))","v":0}," ",{"$f":"SUM(COUNTIF($C32:$H32,$CB$11:$CG$11))","v":1}," ",{"$f":"SUM(COUNTIF($C32:$H32,$CI$11:$CN$11))","v":0}," ",{"$f":"SUM(COUNTIF($C32:$H32,$CP$11:$CU$11))","v":0},2,{"$f":"SUM(COUNTIF($C32:$H32,$CW$11:$DB$11))","v":2}," ",{"$f":"SUM(COUNTIF($C32:$H32,$DD$11:$DI$11))","v":1},2,{"$f":"SUM(COUNTIF($C32:$H32,$DK$11:$DP$11))","v":2}]
[{"$f":"'aktuelle Zahlen'!A138","v":"Mi"},{"$f":"'aktuelle Zahlen'!B138","v":"2025-03-19"},{"$f":"'aktuelle Zahlen'!C138","v":9},{"$f":"'aktuelle Zahlen'!D138","v":13},{"$f":"'aktuelle Zahlen'!E138","v":29},{"$f":"'aktuelle Zahlen'!F138","v":32},{"$f":"'aktuelle Zahlen'!G138","v":38},{"$f":"'aktuelle Zahlen'!H138","v":30},{"$f":"'aktuelle Zahlen'!J138","v":8},null,2,{"$f":"SUM(COUNTIF($C33:$H33,$AL$11:$AQ$11))","v":2}," ",{"$f":"SUM(COUNTIF($C33:$H33,$AS$11:$AX$11))","v":0}," ",{"$f":"SUM(COUNTIF($C33:$H33,$AZ$11:$BE$11))","v":1}," ",{"$f":"SUM(COUNTIF($C33:$H33,$BG$11:$BL$11))","v":1},2,{"$f":"SUM(COUNTIF($C33:$H33,$BN$11:$BS$11))","v":2}," ",{"$f":"SUM(COUNTIF($C33:$H33,$BU$11:$BZ$11))","v":0}," ",{"$f":"SUM(COUNTIF($C33:$H33,$CB$11:$CG$11))","v":1}," ",{"$f":"SUM(COUNTIF($C33:$H33,$CI$11:$CN$11))","v":0}," ",{"$f":"SUM(COUNTIF($C33:$H33,$CP$11:$CU$11))","v":1}," ",{"$f":"SUM(COUNTIF($C33:$H33,$CW$11:$DB$11))","v":1}," ",{"$f":"SUM(COUNTIF($C33:$H33,$DD$11:$DI$11))","v":1},2,{"$f":"SUM(COUNTIF($C33:$H33,$DK$11:$DP$11))","v":2}]
[{"$f":"'aktuelle Zahlen'!A137","v":"Sa"},{"$f":"'aktuelle Zahlen'!B137","v":"2025-03-15"},{"$f":"'aktuelle Zahlen'!C137","v":11},{"$f":"'aktuelle Zahlen'!D137","v":35},{"$f":"'aktuelle Zahlen'!E137","v":6},{"$f":"'aktuelle Zahlen'!F137","v":36},{"$f":"'aktuelle Zahlen'!G137","v":30},{"$f":"'aktuelle Zahlen'!H137","v":47},{"$f":"'aktuelle Zahlen'!J137","v":0},null," ",{"$f":"SUM(COUNTIF($C34:$H34,$AL$11:$AQ$11))","v":0}," ",{"$f":"SUM(COUNTIF($C34:$H34,$AS$11:$AX$11))","v":1}," ",{"$f":"SUM(COUNTIF($C34:$H34,$AZ$11:$BE$11))","v":0}," ",{"$f":"SUM(COUNTIF($C34:$H34,$BG$11:$BL$11))","v":0}," ",{"$f":"SUM(COUNTIF($C34:$H34,$BN$11:$BS$11))","v":0}," ",{"$f":"SUM(COUNTIF($C34:$H34,$BU$11:$BZ$11))","v":0}," ",{"$f":"SUM(COUNTIF($C34:$H34,$CB$11:$CG$11))","v":0},2,{"$f":"SUM(COUNTIF($C34:$H34,$CI$11:$CN$11))","v":2}," ",{"$f":"SUM(COUNTIF($C34:$H34,$CP$11:$CU$11))","v":1},2,{"$f":"SUM(COUNTIF($C34:$H34,$CW$11:$DB$11))","v":2}," ",{"$f":"SUM(COUNTIF($C34:$H34,$DD$11:$DI$11))","v":1},2,{"$f":"SUM(COUNTIF($C34:$H34,$DK$11:$DP$11))","v":2}]
[{"$f":"'aktuelle Zahlen'!A136","v":"Mi"},{"$f":"'aktuelle Zahlen'!B136","v":"2025-03-12"},{"$f":"'aktuelle Zahlen'!C136","v":2},{"$f":"'aktuelle Zahlen'!D136","v":26},{"$f":"'aktuelle Zahlen'!E136","v":46},{"$f":"'aktuelle Zahlen'!F136","v":14},{"$f":"'aktuelle Zahlen'!G136","v":37},{"$f":"'aktuelle Zahlen'!H136","v":38},{"$f":"'aktuelle Zahlen'!J136","v":2},null," ",{"$f":"SUM(COUNTIF($C35:$H35,$AL$11:$AQ$11))","v":1},2,{"$f":"SUM(COUNTIF($C35:$H35,$AS$11:$AX$11))","v":2},3,{"$f":"SUM(COUNTIF($C35:$H35,$AZ$11:$BE$11))","v":3}," ",{"$f":"SUM(COUNTIF($C35:$H35,$BG$11:$BL$11))","v":1}," ",{"$f":"SUM(COUNTIF($C35:$H35,$BN$11:$BS$11))","v":1},2,{"$f":"SUM(COUNTIF($C35:$H35,$BU$11:$BZ$11))","v":2},2,{"$f":"SUM(COUNTIF($C35:$H35,$CB$11:$CG$11))","v":2}," ",{"$f":"SUM(COUNTIF($C35:$H35,$CI$11:$CN$11))","v":1}," ",{"$f":"SUM(COUNTIF($C35:$H35,$CP$11:$CU$11))","v":0}," ",{"$f":"SUM(COUNTIF($C35:$H35,$CW$11:$DB$11))","v":1},2,{"$f":"SUM(COUNTIF($C35:$H35,$DD$11:$DI$11))","v":2}," ",{"$f":"SUM(COUNTIF($C35:$H35,$DK$11:$DP$11))","v":0}]
[{"$f":"'aktuelle Zahlen'!A135","v":"Sa"},{"$f":"'aktuelle Zahlen'!B135","v":"2025-03-08"},{"$f":"'aktuelle Zahlen'!C135","v":41},{"$f":"'aktuelle Zahlen'!D135","v":25},{"$f":"'aktuelle Zahlen'!E135","v":26},{"$f":"'aktuelle Zahlen'!F135","v":44},{"$f":"'aktuelle Zahlen'!G135","v":13},{"$f":"'aktuelle Zahlen'!H135","v":27},{"$f":"'aktuelle Zahlen'!J135","v":5},null," ",{"$f":"SUM(COUNTIF($C36:$H36,$AL$11:$AQ$11))","v":0},2,{"$f":"SUM(COUNTIF($C36:$H36,$AS$11:$AX$11))","v":2}," ",{"$f":"SUM(COUNTIF($C36:$H36,$AZ$11:$BE$11))","v":1}," ",{"$f":"SUM(COUNTIF($C36:$H36,$BG$11:$BL$11))","v":0}," ",{"$f":"SUM(COUNTIF($C36:$H36,$BN$11:$BS$11))","v":0}," ",{"$f":"SUM(COUNTIF($C36:$H36,$BU$11:$BZ$11))","v":1}," ",{"$f":"SUM(COUNTIF($C36:$H36,$CB$11:$CG$11))","v":1}," ",{"$f":"SUM(COUNTIF($C36:$H36,$CI$11:$CN$11))","v":0}," ",{"$f":"SUM(COUNTIF($C36:$H36,$CP$11:$CU$11))","v":0}," ",{"$f":"SUM(COUNTIF($C36:$H36,$CW$11:$DB$11))","v":0}," ",{"$f":"SUM(COUNTIF($C36:$H36,$DD$11:$DI$11))","v":0}," ",{"$f":"SUM(COUNTIF($C36:$H36,$DK$11:$DP$11))","v":1}]
[{"$f":"'aktuelle Zahlen'!A134","v":"Mi"},{"$f":"'aktuelle Zahlen'!B134","v":"2025-03-05"},{"$f":"'aktuelle Zahlen'!C134","v":46},{"$f":"'aktuelle Zahlen'!D134","v":22},{"$f":"'aktuelle Zahlen'!E134","v":45},{"$f":"'aktuelle Zahlen'!F134","v":26},{"$f":"'aktuelle Zahlen'!G134","v":4},{"$f":"'aktuelle Zahlen'!H134","v":29},{"$f":"'aktuelle Zahlen'!J134","v":7},null," ",{"$f":"SUM(COUNTIF($C37:$H37,$AL$11:$AQ$11))","v":1}," ",{"$f":"SUM(COUNTIF($C37:$H37,$AS$11:$AX$11))","v":1}," ",{"$f":"SUM(COUNTIF($C37:$H37,$AZ$11:$BE$11))","v":1},3,{"$f":"SUM(COUNTIF($C37:$H37,$BG$11:$BL$11))","v":3}," ",{"$f":"SUM(COUNTIF($C37:$H37,$BN$11:$BS$11))","v":1},3,{"$f":"SUM(COUNTIF($C37:$H37,$BU$11:$BZ$11))","v":3},2,{"$f":"SUM(COUNTIF($C37:$H37,$CB$11:$CG$11))","v":2}," ",{"$f":"SUM(COUNTIF($C37:$H37,$CI$11:$CN$11))","v":0}," ",{"$f":"SUM(COUNTIF($C37:$H37,$CP$11:$CU$11))","v":0}," ",{"$f":"SUM(COUNTIF($C37:$H37,$CW$11:$DB$11))","v":1}," ",{"$f":"SUM(COUNTIF($C37:$H37,$DD$11:$DI$11))","v":0}," ",{"$f":"SUM(COUNTIF($C37:$H37,$DK$11:$DP$11))","v":0}]
[{"$f":"'aktuelle Zahlen'!A133","v":"Sa"},{"$f":"'aktuelle Zahlen'!B133","v":"2025-03-01"},{"$f":"'aktuelle Zahlen'!C133","v":25},{"$f":"'aktuelle Zahlen'!D133","v":36},{"$f":"'aktuelle Zahlen'!E133","v":26},{"$f":"'aktuelle Zahlen'!F133","v":11},{"$f":"'aktuelle Zahlen'!G133","v":44},{"$f":"'aktuelle Zahlen'!H133","v":30},{"$f":"'aktuelle Zahlen'!J133","v":8},null," ",{"$f":"SUM(COUNTIF($C38:$H38,$AL$11:$AQ$11))","v":0},2,{"$f":"SUM(COUNTIF($C38:$H38,$AS$11:$AX$11))","v":2}," ",{"$f":"SUM(COUNTIF($C38:$H38,$AZ$11:$BE$11))","v":1}," ",{"$f":"SUM(COUNTIF($C38:$H38,$BG$11:$BL$11))","v":0}," ",{"$f":"SUM(COUNTIF($C38:$H38,$BN$11:$BS$11))","v":0}," ",{"$f":"SUM(COUNTIF($C38:$H38,$BU$11:$BZ$11))","v":1}," ",{"$f":"SUM(COUNTIF($C38:$H38,$CB$11:$CG$11))","v":0}," ",{"$f":"SUM(COUNTIF($C38:$H38,$CI$11:$CN$11))","v":0}," ",{"$f":"SUM(COUNTIF($C38:$H38,$CP$11:$CU$11))","v":0}," ",{"$f":"SUM(COUNTIF($C38:$H38,$CW$11:$DB$11))","v":1}," ",{"$f":"SUM(COUNTIF($C38:$H38,$DD$11:$DI$11))","v":1},3,{"$f":"SUM(COUNTIF($C38:$H38,$DK$11:$DP$11))","v":3}]
[{"$f":"'aktuelle Zahlen'!A132","v":"Mi"},{"$f":"'aktuelle Zahlen'!B132","v":"2025-02-26"},{"$f":"'aktuelle Zahlen'!C132","v":12},{"$f":"'aktuelle Zahlen'!D132","v":45},{"$f":"'aktuelle Zahlen'!E132","v":24},{"$f":"'aktuelle Zahlen'!F132","v":29},{"$f":"'aktuelle Zahlen'!G132","v":22},{"$f":"'aktuelle Zahlen'!H132","v":17},{"$f":"'aktuelle Zahlen'!J132","v":7},null," ",{"$f":"SUM(COUNTIF($C39:$H39,$AL$11:$AQ$11))","v":1}," ",{"$f":"SUM(COUNTIF($C39:$H39,$AS$11:$AX$11))","v":0}," ",{"$f":"SUM(COUNTIF($C39:$H39,$AZ$11:$BE$11))","v":1}," ",{"$f":"SUM(COUNTIF($C39:$H39,$BG$11:$BL$11))","v":1},2,{"$f":"SUM(COUNTIF($C39:$H39,$BN$11:$BS$11))","v":2}," ",{"$f":"SUM(COUNTIF($C39:$H39,$BU$11:$BZ$11))","v":0}," ",{"$f":"SUM(COUNTIF($C39:$H39,$CB$11:$CG$11))","v":0}," ",{"$f":"SUM(COUNTIF($C39:$H39,$CI$11:$CN$11))","v":0}," ",{"$f":"SUM(COUNTIF($C39:$H39,$CP$11:$CU$11))","v":1}," ",{"$f":"SUM(COUNTIF($C39:$H39,$CW$11:$DB$11))","v":1}," ",{"$f":"SUM(COUNTIF($C39:$H39,$DD$11:$DI$11))","v":1}," ",{"$f":"SUM(COUNTIF($C39:$H39,$DK$11:$DP$11))","v":0}]
[{"$f":"'aktuelle Zahlen'!A131","v":"Sa"},{"$f":"'aktuelle Zahlen'!B131","v":"2025-02-22"},{"$f":"'aktuelle Zahlen'!C131","v":34},{"$f":"'aktuelle Zahlen'!D131","v":28},{"$f":"'aktuelle Zahlen'!E131","v":26},{"$f":"'aktuelle Zahlen'!F131","v":6},{"$f":"'aktuelle Zahlen'!G131","v":8},{"$f":"'aktuelle Zahlen'!H131","v":12},{"$f":"'aktuelle Zahlen'!J131","v":0},null," ",{"$f":"SUM(COUNTIF($C40:$H40,$AL$11:$AQ$11))","v":0}," ",{"$f":"SUM(COUNTIF($C40:$H40,$AS$11:$AX$11))","v":1},2,{"$f":"SUM(COUNTIF($C40:$H40,$AZ$11:$BE$11))","v":2}," ",{"$f":"SUM(COUNTIF($C40:$H40,$BG$11:$BL$11))","v":1},2,{"$f":"SUM(COUNTIF($C40:$H40,$BN$11:$BS$11))","v":2}," ",{"$f":"SUM(COUNTIF($C40:$H40,$BU$11:$BZ$11))","v":1}," ",{"$f":"SUM(COUNTIF($C40:$H40,$CB$11:$CG$11))","v":0}," ",{"$f":"SUM(COUNTIF($C40:$H40,$CI$11:$CN$11))","v":1}," ",{"$f":"SUM(COUNTIF($C40:$H40,$CP$11:$CU$11))","v":1}," ",{"$f":"SUM(COUNTIF($C40:$H40,$CW$11:$DB$11))","v":0}," ",{"$f":"SUM(COUNTIF($C40:$H40,$DD$11:$DI$11))","v":0}," ",{"$f":"SUM(COUNTIF($C40:$H40,$DK$11:$DP$11))","v":0}]
[{"$f":"'aktuelle Zahlen'!A130","v":"Mi"},{"$f":"'aktuelle Zahlen'!B130","v":"2025-02-19"},{"$f":"'aktuelle Zahlen'!C130","v":8},{"$f":"'aktuelle Zahlen'!D130","v":4},{"$f":"'aktuelle Zahlen'!E130","v":28},{"$f":"'aktuelle Zahlen'!F130","v":44},{"$f":"'aktuelle Zahlen'!G130","v":25},{"$f":"'aktuelle Zahlen'!H130","v":10},{"$f":"'aktuelle Zahlen'!J130","v":3},null," ",{"$f":"SUM(COUNTIF($C41:$H41,$AL$11:$AQ$11))","v":1}," ",{"$f":"SUM(COUNTIF($C41:$H41,$AS$11:$AX$11))","v":0}," ",{"$f":"SUM(COUNTIF($C41:$H41,$AZ$11:$BE$11))","v":1},2,{"$f":"SUM(COUNTIF($C41:$H41,$BG$11:$BL$11))","v":2}," ",{"$f":"SUM(COUNTIF($C41:$H41,$BN$11:$BS$11))","v":1}," ",{"$f":"SUM(COUNTIF($C41:$H41,$BU$11:$BZ$11))","v":1}," ",{"$f":"SUM(COUNTIF($C41:$H41,$CB$11:$CG$11))","v":1}," ",{"$f":"SUM(COUNTIF($C41:$H41,$CI$11:$CN$11))","v":1}," ",{"$f":"SUM(COUNTIF($C41:$H41,$CP$11:$CU$11))","v":1}," ",{"$f":"SUM(COUNTIF($C41:$H41,$CW$11:$DB$11))","v":0}," ",{"$f":"SUM(COUNTIF($C41:$H41,$DD$11:$DI$11))","v":0}," ",{"$f":"SUM(COUNTIF($C41:$H41,$DK$11:$DP$11))","v":1}]
[{"$f":"'aktuelle Zahlen'!A129","v":"Sa"},{"$f":"'aktuelle Zahlen'!B129","v":"2025-02-15"},{"$f":"'aktuelle Zahlen'!C129","v":18},{"$f":"'aktuelle Zahlen'!D129","v":23},{"$f":"'aktuelle Zahlen'!E129","v":43},{"$f":"'aktuelle Zahlen'!F129","v":29},{"$f":"'aktuelle Zahlen'!G129","v":48},{"$f":"'aktuelle Zahlen'!H129","v":2},{"$f":"'aktuelle Zahlen'!J129","v":7},null,3,{"$f":"SUM(COUNTIF($C42:$H42,$AL$11:$AQ$11))","v":3}," ",{"$f":"SUM(COUNTIF($C42:$H42,$AS$11:$AX$11))","v":0}," ",{"$f":"SUM(COUNTIF($C42:$H42,$AZ$11:$BE$11))","v":1}," ",{"$f":"SUM(COUNTIF($C42:$H42,$BG$11:$BL$11))","v":1}," ",{"$f":"SUM(COUNTIF($C42:$H42,$BN$11:$BS$11))","v":1},2,{"$f":"SUM(COUNTIF($C42:$H42,$BU$11:$BZ$11))","v":2}," ",{"$f":"SUM(COUNTIF($C42:$H42,$CB$11:$CG$11))","v":1},2,{"$f":"SUM(COUNTIF($C42:$H42,$CI$11:$CN$11))","v":2}," ",{"$f":"SUM(COUNTIF($C42:$H42,$CP$11:$CU$11))","v":1},3,{"$f":"SUM(COUNTIF($C42:$H42,$CW$11:$DB$11))","v":3}," ",{"$f":"SUM(COUNTIF($C42:$H42,$DD$11:$DI$11))","v":1}," ",{"$f":"SUM(COUNTIF($C42:$H42,$DK$11:$DP$11))","v":0}]
[{"$f":"'aktuelle Zahlen'!A128","v":"Mi"},{"$f":"'aktuelle Zahlen'!B128","v":"2025-02-12"},{"$f":"'aktuelle Zahlen'!C128","v":5},{"$f":"'aktuelle Zahlen'!D128","v":12},{"$f":"'aktuelle Zahlen'!E128","v":43},{"$f":"'aktuelle Zahlen'!F128","v":39},{"$f":"'aktuelle Zahlen'!G128","v":47},{"$f":"'aktuelle Zahlen'!H128","v":30},{"$f":"'aktuelle Zahlen'!J128","v":5},null," ",{"$f":"SUM(COUNTIF($C43:$H43,$AL$11:$AQ$11))","v":1}," ",{"$f":"SUM(COUNTIF($C43:$H43,$AS$11:$AX$11))","v":0}," ",{"$f":"SUM(COUNTIF($C43:$H43,$AZ$11:$BE$11))","v":0}," ",{"$f":"SUM(COUNTIF($C43:$H43,$BG$11:$BL$11))","v":0}," ",{"$f":"SUM(COUNTIF($C43:$H43,$BN$11:$BS$11))","v":1}," ",{"$f":"SUM(COUNTIF($C43:$H43,$BU$11:$BZ$11))","v":0},2,{"$f":"SUM(COUNTIF($C43:$H43,$CB$11:$CG$11))","v":2}," ",{"$f":"SUM(COUNTIF($C43:$H43,$CI$11:$CN$11))","v":1}," ",{"$f":"SUM(COUNTIF($C43:$H43,$CP$11:$CU$11))","v":1}," ",{"$f":"SUM(COUNTIF($C43:$H43,$CW$11:$DB$11))","v":1}," ",{"$f":"SUM(COUNTIF($C43:$H43,$DD$11:$DI$11))","v":0}," ",{"$f":"SUM(COUNTIF($C43:$H43,$DK$11:$DP$11))","v":1}]
[{"$f":"'aktuelle Zahlen'!A127","v":"Sa"},{"$f":"'aktuelle Zahlen'!B127","v":"2025-02-08"},{"$f":"'aktuelle Zahlen'!C127","v":49},{"$f":"'aktuelle Zahlen'!D127","v":20},{"$f":"'aktuelle Zahlen'!E127","v":13},{"$f":"'aktuelle Zahlen'!F127","v":47},{"$f":"'aktuelle Zahlen'!G127","v":27},{"$f":"'aktuelle Zahlen'!H127","v":16},{"$f":"'aktuelle Zahlen'!J127","v":2},null," ",{"$f":"SUM(COUNTIF($C44:$H44,$AL$11:$AQ$11))","v":0}," ",{"$f":"SUM(COUNTIF($C44:$H44,$AS$11:$AX$11))","v":1}," ",{"$f":"SUM(COUNTIF($C44:$H44,$AZ$11:$BE$11))","v":1}," ",{"$f":"SUM(COUNTIF($C44:$H44,$BG$11:$BL$11))","v":0}," ",{"$f":"SUM(COUNTIF($C44:$H44,$BN$11:$BS$11))","v":0}," ",{"$f":"SUM(COUNTIF($C44:$H44,$BU$11:$BZ$11))","v":0}," ",{"$f":"SUM(COUNTIF($C44:$H44,$CB$11:$CG$11))","v":0}," ",{"$f":"SUM(COUNTIF($C44:$H44,$CI$11:$CN$11))","v":1}," ",{"$f":"SUM(COUNTIF($C44:$H44,$CP$11:$CU$11))","v":1}," ",{"$f":"SUM(COUNTIF($C44:$H44,$CW$11:$DB$11))","v":0}," ",{"$f":"SUM(COUNTIF($C44:$H44,$DD$11:$DI$11))","v":1}," ",{"$f":"SUM(COUNTIF($C44:$H44,$DK$11:$DP$11))","v":1}]
[{"$f":"'aktuelle Zahlen'!A126","v":"Mi"},{"$f":"'aktuelle Zahlen'!B126","v":"2025-02-05"},{"$f":"'aktuelle Zahlen'!C126","v":15},{"$f":"'aktuelle Zahlen'!D126","v":9},{"$f":"'aktuelle Zahlen'!E126","v":18},{"$f":"'aktuelle Zahlen'!F126","v":30},{"$f":"'aktuelle Zahlen'!G126","v":14},{"$f":"'aktuelle Zahlen'!H126","v":1},{"$f":"'aktuelle Zahlen'!J126","v":8},null," ",{"$f":"SUM(COUNTIF($C45:$H45,$AL$11:$AQ$11))","v":1},2,{"$f":"SUM(COUNTIF($C45:$H45,$AS$11:$AX$11))","v":2}," ",{"$f":"SUM(COUNTIF($C45:$H45,$AZ$11:$BE$11))","v":0}," ",{"$f":"SUM(COUNTIF($C45:$H45,$BG$11:$BL$11))","v":1}," ",{"$f":"SUM(COUNTIF($C45:$H45,$BN$11:$BS$11))","v":0}," ",{"$f":"SUM(COUNTIF($C45:$H45,$BU$11:$BZ$11))","v":0}," ",{"$f":"SUM(COUNTIF($C45:$H45,$CB$11:$CG$11))","v":0}," ",{"$f":"SUM(COUNTIF($C45:$H45,$CI$11:$CN$11))","v":0},2,{"$f":"SUM(COUNTIF($C45:$H45,$CP$11:$CU$11))","v":2}," ",{"$f":"SUM(COUNTIF($C45:$H45,$CW$11:$DB$11))","v":0}," ",{"$f":"SUM(COUNTIF($C45:$H45,$DD$11:$DI$11))","v":0}," ",{"$f":"SUM(COUNTIF($C45:$H45,$DK$11:$DP$11))","v":1}]
[{"$f":"'aktuelle Zahlen'!A125","v":"Sa"},{"$f":"'aktuelle Zahlen'!B125","v":"2025-02-01"},{"$f":"'aktuelle Zahlen'!C125","v":11},{"$f":"'aktuelle Zahlen'!D125","v":9},{"$f":"'aktuelle Zahlen'!E125","v":22},{"$f":"'aktuelle Zahlen'!F125","v":27},{"$f":"'aktuelle Zahlen'!G125","v":25},{"$f":"'aktuelle Zahlen'!H125","v":8},{"$f":"'aktuelle Zahlen'!J125","v":8},null," ",{"$f":"SUM(COUNTIF($C46:$H46,$AL$11:$AQ$11))","v":0}," ",{"$f":"SUM(COUNTIF($C46:$H46,$AS$11:$AX$11))","v":1}," ",{"$f":"SUM(COUNTIF($C46:$H46,$AZ$11:$BE$11))","v":0}," ",{"$f":"SUM(COUNTIF($C46:$H46,$BG$11:$BL$11))","v":1}," ",{"$f":"SUM(COUNTIF($C46:$H46,$BN$11:$BS$11))","v":1}," ",{"$f":"SUM(COUNTIF($C46:$H46,$BU$11:$BZ$11))","v":0}," ",{"$f":"SUM(COUNTIF($C46:$H46,$CB$11:$CG$11))","v":0}," ",{"$f":"SUM(COUNTIF($C46:$H46,$CI$11:$CN$11))","v":0},2,{"$f":"SUM(COUNTIF($C46:$H46,$CP$11:$CU$11))","v":2}," ",{"$f":"SUM(COUNTIF($C46:$H46,$CW$11:$DB$11))","v":1}," ",{"$f":"SUM(COUNTIF($C46:$H46,$DD$11:$DI$11))","v":1}," ",{"$f":"SUM(COUNTIF($C46:$H46,$DK$11:$DP$11))","v":1}]
[{"$f":"'aktuelle Zahlen'!A124","v":"Mi"},{"$f":"'aktuelle Zahlen'!B124","v":"2025-01-29"},{"$f":"'aktuelle Zahlen'!C124","v":41},{"$f":"'aktuelle Zahlen'!D124","v":48},{"$f":"'aktuelle Zahlen'!E124","v":25},{"$f":"'aktuelle Zahlen'!F124","v":35},{"$f":"'aktuelle Zahlen'!G124","v":7},{"$f":"'aktuelle Zahlen'!H124","v":16},{"$f":"'aktuelle Zahlen'!J124","v":2},null," ",{"$f":"SUM(COUNTIF($C47:$H47,$AL$11:$AQ$11))","v":0},2,{"$f":"SUM(COUNTIF($C47:$H47,$AS$11:$AX$11))","v":2}," ",{"$f":"SUM(COUNTIF($C47:$H47,$AZ$11:$BE$11))","v":0}," ",{"$f":"SUM(COUNTIF($C47:$H47,$BG$11:$BL$11))","v":0}," ",{"$f":"SUM(COUNTIF($C47:$H47,$BN$11:$BS$11))","v":0}," ",{"$f":"SUM(COUNTIF($C47:$H47,$BU$11:$BZ$11))","v":1}," ",{"$f":"SUM(COUNTIF($C47:$H47,$CB$11:$CG$11))","v":1}," ",{"$f":"SUM(COUNTIF($C47:$H47,$CI$11:$CN$11))","v":1}," ",{"$f":"SUM(COUNTIF($C47:$H47,$CP$11:$CU$11))","v":0}," ",{"$f":"SUM(COUNTIF($C47:$H47,$CW$11:$DB$11))","v":1}," ",{"$f":"SUM(COUNTIF($C47:$H47,$DD$11:$DI$11))","v":0}," ",{"$f":"SUM(COUNTIF($C47:$H47,$DK$11:$DP$11))","v":1}]
[{"$f":"'aktuelle Zahlen'!A123","v":"Sa"},{"$f":"'aktuelle Zahlen'!B123","v":"2025-01-25"},{"$f":"'aktuelle Zahlen'!C123","v":48},{"$f":"'aktuelle Zahlen'!D123","v":49},{"$f":"'aktuelle Zahlen'!E123","v":25},{"$f":"'aktuelle Zahlen'!F123","v":10},{"$f":"'aktuelle Zahlen'!G123","v":11},{"$f":"'aktuelle Zahlen'!H123","v":36},{"$f":"'aktuelle Zahlen'!J123","v":2},null," ",{"$f":"SUM(COUNTIF($C48:$H48,$AL$11:$AQ$11))","v":1}," ",{"$f":"SUM(COUNTIF($C48:$H48,$AS$11:$AX$11))","v":1}," ",{"$f":"SUM(COUNTIF($C48:$H48,$AZ$11:$BE$11))","v":1}," ",{"$f":"SUM(COUNTIF($C48:$H48,$BG$11:$BL$11))","v":0}," ",{"$f":"SUM(COUNTIF($C48:$H48,$BN$11:$BS$11))","v":0}," ",{"$f":"SUM(COUNTIF($C48:$H48,$BU$11:$BZ$11))","v":1}," ",{"$f":"SUM(COUNTIF($C48:$H48,$CB$11:$CG$11))","v":0},2,{"$f":"SUM(COUNTIF($C48:$H48,$CI$11:$CN$11))","v":2}," ",{"$f":"SUM(COUNTIF($C48:$H48,$CP$11:$CU$11))","v":0}," ",{"$f":"SUM(COUNTIF($C48:$H48,$CW$11:$DB$11))","v":1},2,{"$f":"SUM(COUNTIF($C48:$H48,$DD$11:$DI$11))","v":2}," ",{"$f":"SUM(COUNTIF($C48:$H48,$DK$11:$DP$11))","v":1}]
[{"$f":"'aktuelle Zahlen'!A122","v":"Mi"},{"$f":"'aktuelle Zahlen'!B122","v":"2025-01-22"},{"$f":"'aktuelle Zahlen'!C122","v":34},{"$f":"'aktuelle Zahlen'!D122","v":35},{"$f":"'aktuelle Zahlen'!E122","v":41},{"$f":"'aktuelle Zahlen'!F122","v":40},{"$f":"'aktuelle Zahlen'!G122","v":31},{"$f":"'aktuelle Zahlen'!H122","v":9},{"$f":"'aktuelle Zahlen'!J122","v":4},null," ",{"$f":"SUM(COUNTIF($C49:$H49,$AL$11:$AQ$11))","v":0}," ",{"$f":"SUM(COUNTIF($C49:$H49,$AS$11:$AX$11))","v":1}," ",{"$f":"SUM(COUNTIF($C49:$H49,$AZ$11:$BE$11))","v":0}," ",{"$f":"SUM(COUNTIF($C49:$H49,$BG$11:$BL$11))","v":0}," ",{"$f":"SUM(COUNTIF($C49:$H49,$BN$11:$BS$11))","v":0}," ",{"$f":"SUM(COUNTIF($C49:$H49,$BU$11:$BZ$11))","v":0}," ",{"$f":"SUM(COUNTIF($C49:$H49,$CB$11:$CG$11))","v":1}," ",{"$f":"SUM(COUNTIF($C49:$H49,$CI$11:$CN$11))","v":0},2,{"$f":"SUM(COUNTIF($C49:$H49,$CP$11:$CU$11))","v":2}," ",{"$f":"SUM(COUNTIF($C49:$H49,$CW$11:$DB$11))","v":1}," ",{"$f":"SUM(COUNTIF($C49:$H49,$DD$11:$DI$11))","v":0}," ",{"$f":"SUM(COUNTIF($C49:$H49,$DK$11:$DP$11))","v":0}]
[{"$f":"'aktuelle Zahlen'!A121","v":"Sa"},{"$f":"'aktuelle Zahlen'!B121","v":"2025-01-18"},{"$f":"'aktuelle Zahlen'!C121","v":20},{"$f":"'aktuelle Zahlen'!D121","v":3},{"$f":"'aktuelle Zahlen'!E121","v":12},{"$f":"'aktuelle Zahlen'!F121","v":26},{"$f":"'aktuelle Zahlen'!G121","v":33},{"$f":"'aktuelle Zahlen'!H121","v":16},{"$f":"'aktuelle Zahlen'!J121","v":3},null," ",{"$f":"SUM(COUNTIF($C50:$H50,$AL$11:$AQ$11))","v":0},2,{"$f":"SUM(COUNTIF($C50:$H50,$AS$11:$AX$11))","v":2}," ",{"$f":"SUM(COUNTIF($C50:$H50,$AZ$11:$BE$11))","v":1}," ",{"$f":"SUM(COUNTIF($C50:$H50,$BG$11:$BL$11))","v":0}," ",{"$f":"SUM(COUNTIF($C50:$H50,$BN$11:$BS$11))","v":1}," ",{"$f":"SUM(COUNTIF($C50:$H50,$BU$11:$BZ$11))","v":1}," ",{"$f":"SUM(COUNTIF($C50:$H50,$CB$11:$CG$11))","v":0}," ",{"$f":"SUM(COUNTIF($C50:$H50,$CI$11:$CN$11))","v":1}," ",{"$f":"SUM(COUNTIF($C50:$H50,$CP$11:$CU$11))","v":0}," ",{"$f":"SUM(COUNTIF($C50:$H50,$CW$11:$DB$11))","v":1}," ",{"$f":"SUM(COUNTIF($C50:$H50,$DD$11:$DI$11))","v":0},2,{"$f":"SUM(COUNTIF($C50:$H50,$DK$11:$DP$11))","v":2}]
[{"$f":"'aktuelle Zahlen'!A120","v":"Mi"},{"$f":"'aktuelle Zahlen'!B120","v":"2025-01-15"},{"$f":"'aktuelle Zahlen'!C120","v":38},{"$f":"'aktuelle Zahlen'!D120","v":13},{"$f":"'aktuelle Zahlen'!E120","v":41},{"$f":"'aktuelle Zahlen'!F120","v":1},{"$f":"'aktuelle Zahlen'!G120","v":30},{"$f":"'aktuelle Zahlen'!H120","v":36},{"$f":"'aktuelle Zahlen'!J120","v":6},null," ",{"$f":"SUM(COUNTIF($C51:$H51,$AL$11:$AQ$11))","v":1},2,{"$f":"SUM(COUNTIF($C51:$H51,$AS$11:$AX$11))","v":2}," ",{"$f":"SUM(COUNTIF($C51:$H51,$AZ$11:$BE$11))","v":1}," ",{"$f":"SUM(COUNTIF($C51:$H51,$BG$11:$BL$11))","v":0}," ",{"$f":"SUM(COUNTIF($C51:$H51,$BN$11:$BS$11))","v":1}," ",{"$f":"SUM(COUNTIF($C51:$H51,$BU$11:$BZ$11))","v":0},2,{"$f":"SUM(COUNTIF($C51:$H51,$CB$11:$CG$11))","v":2}," ",{"$f":"SUM(COUNTIF($C51:$H51,$CI$11:$CN$11))","v":0}," ",{"$f":"SUM(COUNTIF($C51:$H51,$CP$11:$CU$11))","v":0}," ",{"$f":"SUM(COUNTIF($C51:$H51,$CW$11:$DB$11))","v":0}," ",{"$f":"SUM(COUNTIF($C51:$H51,$DD$11:$DI$11))","v":0}," ",{"$f":"SUM(COUNTIF($C51:$H51,$DK$11:$DP$11))","v":1}]
[{"$f":"'aktuelle Zahlen'!A119","v":"Sa"},{"$f":"'aktuelle Zahlen'!B119","v":"2025-01-11"},{"$f":"'aktuelle Zahlen'!C119","v":27},{"$f":"'aktuelle Zahlen'!D119","v":30},{"$f":"'aktuelle Zahlen'!E119","v":10},{"$f":"'aktuelle Zahlen'!F119","v":26},{"$f":"'aktuelle Zahlen'!G119","v":22},{"$f":"'aktuelle Zahlen'!H119","v":33},{"$f":"'aktuelle Zahlen'!J119","v":8},null," ",{"$f":"SUM(COUNTIF($C52:$H52,$AL$11:$AQ$11))","v":1}," ",{"$f":"SUM(COUNTIF($C52:$H52,$AS$11:$AX$11))","v":1}," ",{"$f":"SUM(COUNTIF($C52:$H52,$AZ$11:$BE$11))","v":1}," ",{"$f":"SUM(COUNTIF($C52:$H52,$BG$11:$BL$11))","v":1}," ",{"$f":"SUM(COUNTIF($C52:$H52,$BN$11:$BS$11))","v":0}," ",{"$f":"SUM(COUNTIF($C52:$H52,$BU$11:$BZ$11))","v":1}," ",{"$f":"SUM(COUNTIF($C52:$H52,$CB$11:$CG$11))","v":0}," ",{"$f":"SUM(COUNTIF($C52:$H52,$CI$11:$CN$11))","v":1}," ",{"$f":"SUM(COUNTIF($C52:$H52,$CP$11:$CU$11))","v":0}," ",{"$f":"SUM(COUNTIF($C52:$H52,$CW$11:$DB$11))","v":1}," ",{"$f":"SUM(COUNTIF($C52:$H52,$DD$11:$DI$11))","v":0},2,{"$f":"SUM(COUNTIF($C52:$H52,$DK$11:$DP$11))","v":2}]
[{"$f":"'aktuelle Zahlen'!A118","v":"Mi"},{"$f":"'aktuelle Zahlen'!B118","v":"2025-01-08"},{"$f":"'aktuelle Zahlen'!C118","v":45},{"$f":"'aktuelle Zahlen'!D118","v":49},{"$f":"'aktuelle Zahlen'!E118","v":27},{"$f":"'aktuelle Zahlen'!F118","v":30},{"$f":"'aktuelle Zahlen'!G118","v":28},{"$f":"'aktuelle Zahlen'!H118","v":9},{"$f":"'aktuelle Zahlen'!J118","v":6},null," ",{"$f":"SUM(COUNTIF($C53:$H53,$AL$11:$AQ$11))","v":0}," ",{"$f":"SUM(COUNTIF($C53:$H53,$AS$11:$AX$11))","v":0},2,{"$f":"SUM(COUNTIF($C53:$H53,$AZ$11:$BE$11))","v":2}," ",{"$f":"SUM(COUNTIF($C53:$H53,$BG$11:$BL$11))","v":1}," ",{"$f":"SUM(COUNTIF($C53:$H53,$BN$11:$BS$11))","v":0}," ",{"$f":"SUM(COUNTIF($C53:$H53,$BU$11:$BZ$11))","v":0}," ",{"$f":"SUM(COUNTIF($C53:$H53,$CB$11:$CG$11))","v":0}," ",{"$f":"SUM(COUNTIF($C53:$H53,$CI$11:$CN$11))","v":0}," ",{"$f":"SUM(COUNTIF($C53:$H53,$CP$11:$CU$11))","v":1}," ",{"$f":"SUM(COUNTIF($C53:$H53,$CW$11:$DB$11))","v":0}," ",{"$f":"SUM(COUNTIF($C53:$H53,$DD$11:$DI$11))","v":1}," ",{"$f":"SUM(COUNTIF($C53:$H53,$DK$11:$DP$11))","v":1}]
[{"$f":"'aktuelle Zahlen'!A117","v":"Sa"},{"$f":"'aktuelle Zahlen'!B117","v":"2025-01-04"},{"$f":"'aktuelle Zahlen'!C117","v":6},{"$f":"'aktuelle Zahlen'!D117","v":24},{"$f":"'aktuelle Zahlen'!E117","v":36},{"$f":"'aktuelle Zahlen'!F117","v":2},{"$f":"'aktuelle Zahlen'!G117","v":30},{"$f":"'aktuelle Zahlen'!H117","v":45},{"$f":"'aktuelle Zahlen'!J117","v":2},null," ",{"$f":"SUM(COUNTIF($C54:$H54,$AL$11:$AQ$11))","v":0}," ",{"$f":"SUM(COUNTIF($C54:$H54,$AS$11:$AX$11))","v":0}," ",{"$f":"SUM(COUNTIF($C54:$H54,$AZ$11:$BE$11))","v":1}," ",{"$f":"SUM(COUNTIF($C54:$H54,$BG$11:$BL$11))","v":0}," ",{"$f":"SUM(COUNTIF($C54:$H54,$BN$11:$BS$11))","v":0}," ",{"$f":"SUM(COUNTIF($C54:$H54,$BU$11:$BZ$11))","v":0}," ",{"$f":"SUM(COUNTIF($C54:$H54,$CB$11:$CG$11))","v":0},2,{"$f":"SUM(COUNTIF($C54:$H54,$CI$11:$CN$11))","v":2}," ",{"$f":"SUM(COUNTIF($C54:$H54,$CP$11:$CU$11))","v":0}," ",{"$f":"SUM(COUNTIF($C54:$H54,$CW$11:$DB$11))","v":1}," ",{"$f":"SUM(COUNTIF($C54:$H54,$DD$11:$DI$11))","v":1}," ",{"$f":"SUM(COUNTIF($C54:$H54,$DK$11:$DP$11))","v":1}]
[{"$f":"'aktuelle Zahlen'!A116","v":"Mi"},{"$f":"'aktuelle Zahlen'!B116","v":"2025-01-01"},{"$f":"'aktuelle Zahlen'!C116","v":18},{"$f":"'aktuelle Zahlen'!D116","v":15},{"$f":"'aktuelle Zahlen'!E116","v":3},{"$f":"'aktuelle Zahlen'!F116","v":26},{"$f":"'aktuelle Zahlen'!G116","v":33},{"$f":"'aktuelle Zahlen'!H116","v":7},{"$f":"'aktuelle Zahlen'!J116","v":2},null," ",{"$f":"SUM(COUNTIF($C55:$H55,$AL$11:$AQ$11))","v":1}," ",{"$f":"SUM(COUNTIF($C55:$H55,$AS$11:$AX$11))","v":1}," ",{"$f":"SUM(COUNTIF($C55:$H55,$AZ$11:$BE$11))","v":1}," ",{"$f":"SUM(COUNTIF($C55:$H55,$BG$11:$BL$11))","v":1}," ",{"$f":"SUM(COUNTIF($C55:$H55,$BN$11:$BS$11))","v":0}," ",{"$f":"SUM(COUNTIF($C55:$H55,$BU$11:$BZ$11))","v":1}," ",{"$f":"SUM(COUNTIF($C55:$H55,$CB$11:$CG$11))","v":0}," ",{"$f":"SUM(COUNTIF($C55:$H55,$CI$11:$CN$11))","v":1}," ",{"$f":"SUM(COUNTIF($C55:$H55,$CP$11:$CU$11))","v":1}," ",{"$f":"SUM(COUNTIF($C55:$H55,$CW$11:$DB$11))","v":1}," ",{"$f":"SUM(COUNTIF($C55:$H55,$DD$11:$DI$11))","v":0}," ",{"$f":"SUM(COUNTIF($C55:$H55,$DK$11:$DP$11))","v":1}]
[{"$f":"'aktuelle Zahlen'!A115","v":"Sa"},{"$f":"'aktuelle Zahlen'!B115","v":"2024-12-28"},{"$f":"'aktuelle Zahlen'!C115","v":18},{"$f":"'aktuelle Zahlen'!D115","v":7},{"$f":"'aktuelle Zahlen'!E115","v":40},{"$f":"'aktuelle Zahlen'!F115","v":28},{"$f":"'aktuelle Zahlen'!G115","v":13},{"$f":"'aktuelle Zahlen'!H115","v":44},{"$f":"'aktuelle Zahlen'!J115","v":5},null," ",{"$f":"SUM(COUNTIF($C56:$H56,$AL$11:$AQ$11))","v":1}," ",{"$f":"SUM(COUNTIF($C56:$H56,$AS$11:$AX$11))","v":0}," ",{"$f":"SUM(COUNTIF($C56:$H56,$AZ$11:$BE$11))","v":1},2,{"$f":"SUM(COUNTIF($C56:$H56,$BG$11:$BL$11))","v":2}," ",{"$f":"SUM(COUNTIF($C56:$H56,$BN$11:$BS$11))","v":0}," ",{"$f":"SUM(COUNTIF($C56:$H56,$BU$11:$BZ$11))","v":0}," ",{"$f":"SUM(COUNTIF($C56:$H56,$CB$11:$CG$11))","v":0}," ",{"$f":"SUM(COUNTIF($C56:$H56,$CI$11:$CN$11))","v":0}," ",{"$f":"SUM(COUNTIF($C56:$H56,$CP$11:$CU$11))","v":1}," ",{"$f":"SUM(COUNTIF($C56:$H56,$CW$11:$DB$11))","v":0}," ",{"$f":"SUM(COUNTIF($C56:$H56,$DD$11:$DI$11))","v":0}," ",{"$f":"SUM(COUNTIF($C56:$H56,$DK$11:$DP$11))","v":1}]
[{"$f":"'aktuelle Zahlen'!A114","v":"Mi"},{"$f":"'aktuelle Zahlen'!B114","v":"2024-12-25"},{"$f":"'aktuelle Zahlen'!C114","v":24},{"$f":"'aktuelle Zahlen'!D114","v":44},{"$f":"'aktuelle Zahlen'!E114","v":5},{"$f":"'aktuelle Zahlen'!F114","v":48},{"$f":"'aktuelle Zahlen'!G114","v":9},{"$f":"'aktuelle Zahlen'!H114","v":7},{"$f":"'aktuelle Zahlen'!J114","v":0},null," ",{"$f":"SUM(COUNTIF($C57:$H57,$AL$11:$AQ$11))","v":1}," ",{"$f":"SUM(COUNTIF($C57:$H57,$AS$11:$AX$11))","v":0}," ",{"$f":"SUM(COUNTIF($C57:$H57,$AZ$11:$BE$11))","v":0}," ",{"$f":"SUM(COUNTIF($C57:$H57,$BG$11:$BL$11))","v":0}," ",{"$f":"SUM(COUNTIF($C57:$H57,$BN$11:$BS$11))","v":0}," ",{"$f":"SUM(COUNTIF($C57:$H57,$BU$11:$BZ$11))","v":1}," ",{"$f":"SUM(COUNTIF($C57:$H57,$CB$11:$CG$11))","v":0}," ",{"$f":"SUM(COUNTIF($C57:$H57,$CI$11:$CN$11))","v":1}," ",{"$f":"SUM(COUNTIF($C57:$H57,$CP$11:$CU$11))","v":1}," ",{"$f":"SUM(COUNTIF($C57:$H57,$CW$11:$DB$11))","v":0}," ",{"$f":"SUM(COUNTIF($C57:$H57,$DD$11:$DI$11))","v":0}," ",{"$f":"SUM(COUNTIF($C57:$H57,$DK$11:$DP$11))","v":1}]
[{"$f":"'aktuelle Zahlen'!A113","v":"Sa"},{"$f":"'aktuelle Zahlen'!B113","v":"2024-12-21"},{"$f":"'aktuelle Zahlen'!C113","v":44},{"$f":"'aktuelle Zahlen'!D113","v":3},{"$f":"'aktuelle Zahlen'!E113","v":8},{"$f":"'aktuelle Zahlen'!F113","v":39},{"$f":"'aktuelle Zahlen'!G113","v":6},{"$f":"'aktuelle Zahlen'!H113","v":34},{"$f":"'aktuelle Zahlen'!J113","v":5},null," ",{"$f":"SUM(COUNTIF($C58:$H58,$AL$11:$AQ$11))","v":0}," ",{"$f":"SUM(COUNTIF($C58:$H58,$AS$11:$AX$11))","v":0}," ",{"$f":"SUM(COUNTIF($C58:$H58,$AZ$11:$BE$11))","v":0}," ",{"$f":"SUM(COUNTIF($C58:$H58,$BG$11:$BL$11))","v":0}," ",{"$f":"SUM(COUNTIF($C58:$H58,$BN$11:$BS$11))","v":1}," ",{"$f":"SUM(COUNTIF($C58:$H58,$BU$11:$BZ$11))","v":0}," ",{"$f":"SUM(COUNTIF($C58:$H58,$CB$11:$CG$11))","v":1},2,{"$f":"SUM(COUNTIF($C58:$H58,$CI$11:$CN$11))","v":2}," ",{"$f":"SUM(COUNTIF($C58:$H58,$CP$11:$CU$11))","v":1}," ",{"$f":"SUM(COUNTIF($C58:$H58,$CW$11:$DB$11))","v":0}," ",{"$f":"SUM(COUNTIF($C58:$H58,$DD$11:$DI$11))","v":0}," ",{"$f":"SUM(COUNTIF($C58:$H58,$DK$11:$DP$11))","v":1}]
[{"$f":"'aktuelle Zahlen'!A112","v":"Mi"},{"$f":"'aktuelle Zahlen'!B112","v":"2024-12-18"},{"$f":"'aktuelle Zahlen'!C112","v":6},{"$f":"'aktuelle Zahlen'!D112","v":42},{"$f":"'aktuelle Zahlen'!E112","v":2},{"$f":"'aktuelle Zahlen'!F112","v":30},{"$f":"'aktuelle Zahlen'!G112","v":37},{"$f":"'aktuelle Zahlen'!H112","v":22},{"$f":"'aktuelle Zahlen'!J112","v":6},null," ",{"$f":"SUM(COUNTIF($C59:$H59,$AL$11:$AQ$11))","v":0}," ",{"$f":"SUM(COUNTIF($C59:$H59,$AS$11:$AX$11))","v":0}," ",{"$f":"SUM(COUNTIF($C59:$H59,$AZ$11:$BE$11))","v":1}," ",{"$f":"SUM(COUNTIF($C59:$H59,$BG$11:$BL$11))","v":1}," ",{"$f":"SUM(COUNTIF($C59:$H59,$BN$11:$BS$11))","v":1}," ",{"$f":"SUM(COUNTIF($C59:$H59,$BU$11:$BZ$11))","v":0}," ",{"$f":"SUM(COUNTIF($C59:$H59,$CB$11:$CG$11))","v":0},2,{"$f":"SUM(COUNTIF($C59:$H59,$CI$11:$CN$11))","v":2}," ",{"$f":"SUM(COUNTIF($C59:$H59,$CP$11:$CU$11))","v":0}," ",{"$f":"SUM(COUNTIF($C59:$H59,$CW$11:$DB$11))","v":1},2,{"$f":"SUM(COUNTIF($C59:$H59,$DD$11:$DI$11))","v":2}," ",{"$f":"SUM(COUNTIF($C59:$H59,$DK$11:$DP$11))","v":1}]
[{"$f":"'aktuelle Zahlen'!A111","v":"Sa"},{"$f":"'aktuelle Zahlen'!B111","v":"2024-12-14"},{"$f":"'aktuelle Zahlen'!C111","v":9},{"$f":"'aktuelle Zahlen'!D111","v":44},{"$f":"'aktuelle Zahlen'!E111","v":1},{"$f":"'aktuelle Zahlen'!F111","v":14},{"$f":"'aktuelle Zahlen'!G111","v":27},{"$f":"'aktuelle Zahlen'!H111","v":4},{"$f":"'aktuelle Zahlen'!J111","v":3},null," ",{"$f":"SUM(COUNTIF($C60:$H60,$AL$11:$AQ$11))","v":0},2,{"$f":"SUM(COUNTIF($C60:$H60,$AS$11:$AX$11))","v":2}," ",{"$f":"SUM(COUNTIF($C60:$H60,$AZ$11:$BE$11))","v":0}," ",{"$f":"SUM(COUNTIF($C60:$H60,$BG$11:$BL$11))","v":1}," ",{"$f":"SUM(COUNTIF($C60:$H60,$BN$11:$BS$11))","v":0}," ",{"$f":"SUM(COUNTIF($C60:$H60,$BU$11:$BZ$11))","v":1}," ",{"$f":"SUM(COUNTIF($C60:$H60,$CB$11:$CG$11))","v":1}," ",{"$f":"SUM(COUNTIF($C60:$H60,$CI$11:$CN$11))","v":0}," ",{"$f":"SUM(COUNTIF($C60:$H60,$CP$11:$CU$11))","v":1}," ",{"$f":"SUM(COUNTIF($C60:$H60,$CW$11:$DB$11))","v":0}," ",{"$f":"SUM(COUNTIF($C60:$H60,$DD$11:$DI$11))","v":0}," ",{"$f":"SUM(COUNTIF($C60:$H60,$DK$11:$DP$11))","v":1}]
[{"$f":"'aktuelle Zahlen'!A110","v":"Mi"},{"$f":"'aktuelle Zahlen'!B110","v":"2024-12-11"},{"$f":"'aktuelle Zahlen'!C110","v":30},{"$f":"'aktuelle Zahlen'!D110","v":49},{"$f":"'aktuelle Zahlen'!E110","v":34},{"$f":"'aktuelle Zahlen'!F110","v":15},{"$f":"'aktuelle Zahlen'!G110","v":14},{"$f":"'aktuelle Zahlen'!H110","v":35},{"$f":"'aktuelle Zahlen'!J110","v":5},null," ",{"$f":"SUM(COUNTIF($C61:$H61,$AL$11:$AQ$11))","v":0}," ",{"$f":"SUM(COUNTIF($C61:$H61,$AS$11:$AX$11))","v":1}," ",{"$f":"SUM(COUNTIF($C61:$H61,$AZ$11:$BE$11))","v":1}," ",{"$f":"SUM(COUNTIF($C61:$H61,$BG$11:$BL$11))","v":0}," ",{"$f":"SUM(COUNTIF($C61:$H61,$BN$11:$BS$11))","v":0}," ",{"$f":"SUM(COUNTIF($C61:$H61,$BU$11:$BZ$11))","v":0}," ",{"$f":"SUM(COUNTIF($C61:$H61,$CB$11:$CG$11))","v":0}," ",{"$f":"SUM(COUNTIF($C61:$H61,$CI$11:$CN$11))","v":0}," ",{"$f":"SUM(COUNTIF($C61:$H61,$CP$11:$CU$11))","v":0}," ",{"$f":"SUM(COUNTIF($C61:$H61,$CW$11:$DB$11))","v":1}," ",{"$f":"SUM(COUNTIF($C61:$H61,$DD$11:$DI$11))","v":1}," ",{"$f":"SUM(COUNTIF($C61:$H61,$DK$11:$DP$11))","v":1}]
[{"$f":"'aktuelle Zahlen'!A109","v":"Sa"},{"$f":"'aktuelle Zahlen'!B109","v":"2024-12-07"},{"$f":"'aktuelle Zahlen'!C109","v":32},{"$f":"'aktuelle Zahlen'!D109","v":6},{"$f":"'aktuelle Zahlen'!E109","v":19},{"$f":"'aktuelle Zahlen'!F109","v":30},{"$f":"'aktuelle Zahlen'!G109","v":37},{"$f":"'aktuelle Zahlen'!H109","v":15},{"$f":"'aktuelle Zahlen'!J109","v":9},null," ",{"$f":"SUM(COUNTIF($C62:$H62,$AL$11:$AQ$11))","v":0}," ",{"$f":"SUM(COUNTIF($C62:$H62,$AS$11:$AX$11))","v":0}," ",{"$f":"SUM(COUNTIF($C62:$H62,$AZ$11:$BE$11))","v":0}," ",{"$f":"SUM(COUNTIF($C62:$H62,$BG$11:$BL$11))","v":1}," ",{"$f":"SUM(COUNTIF($C62:$H62,$BN$11:$BS$11))","v":1}," ",{"$f":"SUM(COUNTIF($C62:$H62,$BU$11:$BZ$11))","v":1}," ",{"$f":"SUM(COUNTIF($C62:$H62,$CB$11:$CG$11))","v":0}," ",{"$f":"SUM(COUNTIF($C62:$H62,$CI$11:$CN$11))","v":1}," ",{"$f":"SUM(COUNTIF($C62:$H62,$CP$11:$CU$11))","v":0}," ",{"$f":"SUM(COUNTIF($C62:$H62,$CW$11:$DB$11))","v":0},2,{"$f":"SUM(COUNTIF($C62:$H62,$DD$11:$DI$11))","v":2},2,{"$f":"SUM(COUNTIF($C62:$H62,$DK$11:$DP$11))","v":2}]
[{"$f":"'aktuelle Zahlen'!A108","v":"Mi"},{"$f":"'aktuelle Zahlen'!B108","v":"2024-12-04"},{"$f":"'aktuelle Zahlen'!C108","v":29},{"$f":"'aktuelle Zahlen'!D108","v":41},{"$f":"'aktuelle Zahlen'!E108","v":14},{"$f":"'aktuelle Zahlen'!F108","v":18},{"$f":"'aktuelle Zahlen'!G108","v":36},{"$f":"'aktuelle Zahlen'!H108","v":5},{"$f":"'aktuelle Zahlen'!J108","v":3},null,3,{"$f":"SUM(COUNTIF($C63:$H63,$AL$11:$AQ$11))","v":3},2,{"$f":"SUM(COUNTIF($C63:$H63,$AS$11:$AX$11))","v":2}," ",{"$f":"SUM(COUNTIF($C63:$H63,$AZ$11:$BE$11))","v":0}," ",{"$f":"SUM(COUNTIF($C63:$H63,$BG$11:$BL$11))","v":1}," ",{"$f":"SUM(COUNTIF($C63:$H63,$BN$11:$BS$11))","v":1}," ",{"$f":"SUM(COUNTIF($C63:$H63,$BU$11:$BZ$11))","v":0}," ",{"$f":"SUM(COUNTIF($C63:$H63,$CB$11:$CG$11))","v":1}," ",{"$f":"SUM(COUNTIF($C63:$H63,$CI$11:$CN$11))","v":0}," ",{"$f":"SUM(COUNTIF($C63:$H63,$CP$11:$CU$11))","v":1}," ",{"$f":"SUM(COUNTIF($C63:$H63,$CW$11:$DB$11))","v":1}," ",{"$f":"SUM(COUNTIF($C63:$H63,$DD$11:$DI$11))","v":0}," ",{"$f":"SUM(COUNTIF($C63:$H63,$DK$11:$DP$11))","v":0}]
[{"$f":"'aktuelle Zahlen'!A107","v":"Sa"},{"$f":"'aktuelle Zahlen'!B107","v":"2024-11-30"},{"$f":"'aktuelle Zahlen'!C107","v":13},{"$f":"'aktuelle Zahlen'!D107","v":7},{"$f":"'aktuelle Zahlen'!E107","v":33},{"$f":"'aktuelle Zahlen'!F107","v":38},{"$f":"'aktuelle Zahlen'!G107","v":42},{"$f":"'aktuelle Zahlen'!H107","v":37},{"$f":"'aktuelle Zahlen'!J107","v":0},null," ",{"$f":"SUM(COUNTIF($C64:$H64,$AL$11:$AQ$11))","v":1}," ",{"$f":"SUM(COUNTIF($C64:$H64,$AS$11:$AX$11))","v":0}," ",{"$f":"SUM(COUNTIF($C64:$H64,$AZ$11:$BE$11))","v":1}," ",{"$f":"SUM(COUNTIF($C64:$H64,$BG$11:$BL$11))","v":0},2,{"$f":"SUM(COUNTIF($C64:$H64,$BN$11:$BS$11))","v":2}," ",{"$f":"SUM(COUNTIF($C64:$H64,$BU$11:$BZ$11))","v":0}," ",{"$f":"SUM(COUNTIF($C64:$H64,$CB$11:$CG$11))","v":1}," ",{"$f":"SUM(COUNTIF($C64:$H64,$CI$11:$CN$11))","v":0}," ",{"$f":"SUM(COUNTIF($C64:$H64,$CP$11:$CU$11))","v":0}," ",{"$f":"SUM(COUNTIF($C64:$H64,$CW$11:$DB$11))","v":1}," ",{"$f":"SUM(COUNTIF($C64:$H64,$DD$11:$DI$11))","v":1}," ",{"$f":"SUM(COUNTIF($C64:$H64,$DK$11:$DP$11))","v":1}]
[{"$f":"'aktuelle Zahlen'!A106","v":"Mi"},{"$f":"'aktuelle Zahlen'!B106","v":"2024-11-27"},{"$f":"'aktuelle Zahlen'!C106","v":12},{"$f":"'aktuelle Zahlen'!D106","v":30},{"$f":"'aktuelle Zahlen'!E106","v":39},{"$f":"'aktuelle Zahlen'!F106","v":16},{"$f":"'aktuelle Zahlen'!G106","v":34},{"$f":"'aktuelle Zahlen'!H106","v":7},{"$f":"'aktuelle Zahlen'!J106","v":4},null," ",{"$f":"SUM(COUNTIF($C65:$H65,$AL$11:$AQ$11))","v":0}," ",{"$f":"SUM(COUNTIF($C65:$H65,$AS$11:$AX$11))","v":1}," ",{"$f":"SUM(COUNTIF($C65:$H65,$AZ$11:$BE$11))","v":0}," ",{"$f":"SUM(COUNTIF($C65:$H65,$BG$11:$BL$11))","v":0}," ",{"$f":"SUM(COUNTIF($C65:$H65,$BN$11:$BS$11))","v":1}," ",{"$f":"SUM(COUNTIF($C65:$H65,$BU$11:$BZ$11))","v":0}," ",{"$f":"SUM(COUNTIF($C65:$H65,$CB$11:$CG$11))","v":1}," ",{"$f":"SUM(COUNTIF($C65:$H65,$CI$11:$CN$11))","v":0}," ",{"$f":"SUM(COUNTIF($C65:$H65,$CP$11:$CU$11))","v":0}," ",{"$f":"SUM(COUNTIF($C65:$H65,$CW$11:$DB$11))","v":0}," ",{"$f":"SUM(COUNTIF($C65:$H65,$DD$11:$DI$11))","v":0},2,{"$f":"SUM(COUNTIF($C65:$H65,$DK$11:$DP$11))","v":2}]
[{"$f":"'aktuelle Zahlen'!A105","v":"Sa"},{"$f":"'aktuelle Zahlen'!B105","v":"2024-11-23"},{"$f":"'aktuelle Zahlen'!C105","v":17},{"$f":"'aktuelle Zahlen'!D105","v":3},{"$f":"'aktuelle Zahlen'!E105","v":8},{"$f":"'aktuelle Zahlen'!F105","v":44},{"$f":"'aktuelle Zahlen'!G105","v":42},{"$f":"'aktuelle Zahlen'!H105","v":26},{"$f":"'aktuelle Zahlen'!J105","v":6},null," ",{"$f":"SUM(COUNTIF($C66:$H66,$AL$11:$AQ$11))","v":0}," ",{"$f":"SUM(COUNTIF($C66:$H66,$AS$11:$AX$11))","v":1},2,{"$f":"SUM(COUNTIF($C66:$H66,$AZ$11:$BE$11))","v":2}," ",{"$f":"SUM(COUNTIF($C66:$H66,$BG$11:$BL$11))","v":0},2,{"$f":"SUM(COUNTIF($C66:$H66,$BN$11:$BS$11))","v":2}," ",{"$f":"SUM(COUNTIF($C66:$H66,$BU$11:$BZ$11))","v":1}," ",{"$f":"SUM(COUNTIF($C66:$H66,$CB$11:$CG$11))","v":0}," ",{"$f":"SUM(COUNTIF($C66:$H66,$CI$11:$CN$11))","v":1},2,{"$f":"SUM(COUNTIF($C66:$H66,$CP$11:$CU$11))","v":2}," ",{"$f":"SUM(COUNTIF($C66:$H66,$CW$11:$DB$11))","v":0}," ",{"$f":"SUM(COUNTIF($C66:$H66,$DD$11:$DI$11))","v":1}," ",{"$f":"SUM(COUNTIF($C66:$H66,$DK$11:$DP$11))","v":1}]
[{"$f":"'aktuelle Zahlen'!A104","v":"Mi"},{"$f":"'aktuelle Zahlen'!B104","v":"2024-11-20"},{"$f":"'aktuelle Zahlen'!C104","v":34},{"$f":"'aktuelle Zahlen'!D104","v":25},{"$f":"'aktuelle Zahlen'!E104","v":7},{"$f":"'aktuelle Zahlen'!F104","v":45},{"$f":"'aktuelle Zahlen'!G104","v":15},{"$f":"'aktuelle Zahlen'!H104","v":26},{"$f":"'aktuelle Zahlen'!J104","v":6},null," ",{"$f":"SUM(COUNTIF($C67:$H67,$AL$11:$AQ$11))","v":0}," ",{"$f":"SUM(COUNTIF($C67:$H67,$AS$11:$AX$11))","v":1}," ",{"$f":"SUM(COUNTIF($C67:$H67,$AZ$11:$BE$11))","v":1}," ",{"$f":"SUM(COUNTIF($C67:$H67,$BG$11:$BL$11))","v":0}," ",{"$f":"SUM(COUNTIF($C67:$H67,$BN$11:$BS$11))","v":0}," ",{"$f":"SUM(COUNTIF($C67:$H67,$BU$11:$BZ$11))","v":1}," ",{"$f":"SUM(COUNTIF($C67:$H67,$CB$11:$CG$11))","v":0}," ",{"$f":"SUM(COUNTIF($C67:$H67,$CI$11:$CN$11))","v":0}," ",{"$f":"SUM(COUNTIF($C67:$H67,$CP$11:$CU$11))","v":0}," ",{"$f":"SUM(COUNTIF($C67:$H67,$CW$11:$DB$11))","v":0}," ",{"$f":"SUM(COUNTIF($C67:$H67,$DD$11:$DI$11))","v":0}," ",{"$f":"SUM(COUNTIF($C67:$H67,$DK$11:$DP$11))","v":0}]
[{"$f":"'aktuelle Zahlen'!A103","v":"Sa"},{"$f":"'aktuelle Zahlen'!B103","v":"2024-11-16"},{"$f":"'aktuelle Zahlen'!C103","v":14},{"$f":"'aktuelle Zahlen'!D103","v":11},{"$f":"'aktuelle Zahlen'!E103","v":39},{"$f":"'aktuelle Zahlen'!F103","v":40},{"$f":"'aktuelle Zahlen'!G103","v":15},{"$f":"'aktuelle Zahlen'!H103","v":19},{"$f":"'aktuelle Zahlen'!J103","v":4},null," ",{"$f":"SUM(COUNTIF($C68:$H68,$AL$11:$AQ$11))","v":0},2,{"$f":"SUM(COUNTIF($C68:$H68,$AS$11:$AX$11))","v":2}," ",{"$f":"SUM(COUNTIF($C68:$H68,$AZ$11:$BE$11))","v":0}," ",{"$f":"SUM(COUNTIF($C68:$H68,$BG$11:$BL$11))","v":0}," ",{"$f":"SUM(COUNTIF($C68:$H68,$BN$11:$BS$11))","v":1}," ",{"$f":"SUM(COUNTIF($C68:$H68,$BU$11:$BZ$11))","v":1}," ",{"$f":"SUM(COUNTIF($C68:$H68,$CB$11:$CG$11))","v":1}," ",{"$f":"SUM(COUNTIF($C68:$H68,$CI$11:$CN$11))","v":0}," ",{"$f":"SUM(COUNTIF($C68:$H68,$CP$11:$CU$11))","v":0}," ",{"$f":"SUM(COUNTIF($C68:$H68,$CW$11:$DB$11))","v":1}," ",{"$f":"SUM(COUNTIF($C68:$H68,$DD$11:$DI$11))","v":1}," ",{"$f":"SUM(COUNTIF($C68:$H68,$DK$11:$DP$11))","v":1}]
[{"$f":"'aktuelle Zahlen'!A102","v":"Mi"},{"$f":"'aktuelle Zahlen'!B102","v":"2024-11-13"},{"$f":"'aktuelle Zahlen'!C102","v":38},{"$f":"'aktuelle Zahlen'!D102","v":24},{"$f":"'aktuelle Zahlen'!E102","v":36},{"$f":"'aktuelle Zahlen'!F102","v":44},{"$f":"'aktuelle Zahlen'!G102","v":47},{"$f":"'aktuelle Zahlen'!H102","v":6},{"$f":"'aktuelle Zahlen'!J102","v":0},null," ",{"$f":"SUM(COUNTIF($C69:$H69,$AL$11:$AQ$11))","v":1}," ",{"$f":"SUM(COUNTIF($C69:$H69,$AS$11:$AX$11))","v":0}," ",{"$f":"SUM(COUNTIF($C69:$H69,$AZ$11:$BE$11))","v":1}," ",{"$f":"SUM(COUNTIF($C69:$H69,$BG$11:$BL$11))","v":0}," ",{"$f":"SUM(COUNTIF($C69:$H69,$BN$11:$BS$11))","v":1}," ",{"$f":"SUM(COUNTIF($C69:$H69,$BU$11:$BZ$11))","v":0}," ",{"$f":"SUM(COUNTIF($C69:$H69,$CB$11:$CG$11))","v":1},2,{"$f":"SUM(COUNTIF($C69:$H69,$CI$11:$CN$11))","v":2}," ",{"$f":"SUM(COUNTIF($C69:$H69,$CP$11:$CU$11))","v":1}," ",{"$f":"SUM(COUNTIF($C69:$H69,$CW$11:$DB$11))","v":0}," ",{"$f":"SUM(COUNTIF($C69:$H69,$DD$11:$DI$11))","v":0}," ",{"$f":"SUM(COUNTIF($C69:$H69,$DK$11:$DP$11))","v":1}]
[{"$f":"'aktuelle Zahlen'!A101","v":"Sa"},{"$f":"'aktuelle Zahlen'!B101","v":"2024-11-09"},{"$f":"'aktuelle Zahlen'!C101","v":40},{"$f":"'aktuelle Zahlen'!D101","v":2},{"$f":"'aktuelle Zahlen'!E101","v":18},{"$f":"'aktuelle Zahlen'!F101","v":33},{"$f":"'aktuelle Zahlen'!G101","v":47},{"$f":"'aktuelle Zahlen'!H101","v":39},{"$f":"'aktuelle Zahlen'!J101","v":7},null," ",{"$f":"SUM(COUNTIF($C70:$H70,$AL$11:$AQ$11))","v":1}," ",{"$f":"SUM(COUNTIF($C70:$H70,$AS$11:$AX$11))","v":0}," ",{"$f":"SUM(COUNTIF($C70:$H70,$AZ$11:$BE$11))","v":1}," ",{"$f":"SUM(COUNTIF($C70:$H70,$BG$11:$BL$11))","v":1}," ",{"$f":"SUM(COUNTIF($C70:$H70,$BN$11:$BS$11))","v":0}," ",{"$f":"SUM(COUNTIF($C70:$H70,$BU$11:$BZ$11))","v":0}," ",{"$f":"SUM(COUNTIF($C70:$H70,$CB$11:$CG$11))","v":1},2,{"$f":"SUM(COUNTIF($C70:$H70,$CI$11:$CN$11))","v":2},2,{"$f":"SUM(COUNTIF($C70:$H70,$CP$11:$CU$11))","v":2},2,{"$f":"SUM(COUNTIF($C70:$H70,$CW$11:$DB$11))","v":2}," ",{"$f":"SUM(COUNTIF($C70:$H70,$DD$11:$DI$11))","v":1}," ",{"$f":"SUM(COUNTIF($C70:$H70,$DK$11:$DP$11))","v":1}]
[{"$f":"'aktuelle Zahlen'!A100","v":"Mi"},{"$f":"'aktuelle Zahlen'!B100","v":"2024-11-06"},{"$f":"'aktuelle Zahlen'!C100","v":17},{"$f":"'aktuelle Zahlen'!D100","v":44},{"$f":"'aktuelle Zahlen'!E100","v":14},{"$f":"'aktuelle Zahlen'!F100","v":33},{"$f":"'aktuelle Zahlen'!G100","v":28},{"$f":"'aktuelle Zahlen'!H100","v":40},{"$f":"'aktuelle Zahlen'!J100","v":3},null," ",{"$f":"SUM(COUNTIF($C71:$H71,$AL$11:$AQ$11))","v":0}," ",{"$f":"SUM(COUNTIF($C71:$H71,$AS$11:$AX$11))","v":1},2,{"$f":"SUM(COUNTIF($C71:$H71,$AZ$11:$BE$11))","v":2}," ",{"$f":"SUM(COUNTIF($C71:$H71,$BG$11:$BL$11))","v":1}," ",{"$f":"SUM(COUNTIF($C71:$H71,$BN$11:$BS$11))","v":0}," ",{"$f":"SUM(COUNTIF($C71:$H71,$BU$11:$BZ$11))","v":0}," ",{"$f":"SUM(COUNTIF($C71:$H71,$CB$11:$CG$11))","v":0}," ",{"$f":"SUM(COUNTIF($C71:$H71,$CI$11:$CN$11))","v":0}," ",{"$f":"SUM(COUNTIF($C71:$H71,$CP$11:$CU$11))","v":1}," ",{"$f":"SUM(COUNTIF($C71:$H71,$CW$11:$DB$11))","v":1}," ",{"$f":"SUM(COUNTIF($C71:$H71,$DD$11:$DI$11))","v":1},2,{"$f":"SUM(COUNTIF($C71:$H71,$DK$11:$DP$11))","v":2}]
[{"$f":"'aktuelle Zahlen'!A99","v":"Sa"},{"$f":"'aktuelle Zahlen'!B99","v":"2024-11-02"},{"$f":"'aktuelle Zahlen'!C99","v":9},{"$f":"'aktuelle Zahlen'!D99","v":8},{"$f":"'aktuelle Zahlen'!E99","v":17},{"$f":"'aktuelle Zahlen'!F99","v":40},{"$f":"'aktuelle Zahlen'!G99","v":20},{"$f":"'aktuelle Zahlen'!H99","v":37},{"$f":"'aktuelle Zahlen'!J99","v":2},null," ",{"$f":"SUM(COUNTIF($C72:$H72,$AL$11:$AQ$11))","v":0}," ",{"$f":"SUM(COUNTIF($C72:$H72,$AS$11:$AX$11))","v":0}," ",{"$f":"SUM(COUNTIF($C72:$H72,$AZ$11:$BE$11))","v":1}," ",{"$f":"SUM(COUNTIF($C72:$H72,$BG$11:$BL$11))","v":0}," ",{"$f":"SUM(COUNTIF($C72:$H72,$BN$11:$BS$11))","v":1}," ",{"$f":"SUM(COUNTIF($C72:$H72,$BU$11:$BZ$11))","v":0}," ",{"$f":"SUM(COUNTIF($C72:$H72,$CB$11:$CG$11))","v":0}," ",{"$f":"SUM(COUNTIF($C72:$H72,$CI$11:$CN$11))","v":0},3,{"$f":"SUM(COUNTIF($C72:$H72,$CP$11:$CU$11))","v":3}," ",{"$f":"SUM(COUNTIF($C72:$H72,$CW$11:$DB$11))","v":0},2,{"$f":"SUM(COUNTIF($C72:$H72,$DD$11:$DI$11))","v":2}," ",{"$f":"SUM(COUNTIF($C72:$H72,$DK$11:$DP$11))","v":0}]
[{"$f":"'aktuelle Zahlen'!A98","v":"Mi"},{"$f":"'aktuelle Zahlen'!B98","v":"2024-10-30"},{"$f":"'aktuelle Zahlen'!C98","v":25},{"$f":"'aktuelle Zahlen'!D98","v":7},{"$f":"'aktuelle Zahlen'!E98","v":46},{"$f":"'aktuelle Zahlen'!F98","v":21},{"$f":"'aktuelle Zahlen'!G98","v":32},{"$f":"'aktuelle Zahlen'!H98","v":2},{"$f":"'aktuelle Zahlen'!J98","v":9},null," ",{"$f":"SUM(COUNTIF($C73:$H73,$AL$11:$AQ$11))","v":0}," ",{"$f":"SUM(COUNTIF($C73:$H73,$AS$11:$AX$11))","v":0}," ",{"$f":"SUM(COUNTIF($C73:$H73,$AZ$11:$BE$11))","v":1},2,{"$f":"SUM(COUNTIF($C73:$H73,$BG$11:$BL$11))","v":2}," ",{"$f":"SUM(COUNTIF($C73:$H73,$BN$11:$BS$11))","v":0}," ",{"$f":"SUM(COUNTIF($C73:$H73,$BU$11:$BZ$11))","v":1}," ",{"$f":"SUM(COUNTIF($C73:$H73,$CB$11:$CG$11))","v":1}," ",{"$f":"SUM(COUNTIF($C73:$H73,$CI$11:$CN$11))","v":1}," ",{"$f":"SUM(COUNTIF($C73:$H73,$CP$11:$CU$11))","v":0}," ",{"$f":"SUM(COUNTIF($C73:$H73,$CW$11:$DB$11))","v":1},2,{"$f":"SUM(COUNTIF($C73:$H73,$DD$11:$DI$11))","v":2}," ",{"$f":"SUM(COUNTIF($C73:$H73,$DK$11:$DP$11))","v":1}]
[{"$f":"'aktuelle Zahlen'!A97","v":"Sa"},{"$f":"'aktuelle Zahlen'!B97","v":"2024-10-26"},{"$f":"'aktuelle Zahlen'!C97","v":43},{"$f":"'aktuelle Zahlen'!D97","v":8},{"$f":"'aktuelle Zahlen'!E97","v":49},{"$f":"'aktuelle Zahlen'!F97","v":5},{"$f":"'aktuelle Zahlen'!G97","v":21},{"$f":"'aktuelle Zahlen'!H97","v":16},{"$f":"'aktuelle Zahlen'!J97","v":8},null," ",{"$f":"SUM(COUNTIF($C74:$H74,$AL$11:$AQ$11))","v":1}," ",{"$f":"SUM(COUNTIF($C74:$H74,$AS$11:$AX$11))","v":1}," ",{"$f":"SUM(COUNTIF($C74:$H74,$AZ$11:$BE$11))","v":1}," ",{"$f":"SUM(COUNTIF($C74:$H74,$BG$11:$BL$11))","v":0}," ",{"$f":"SUM(COUNTIF($C74:$H74,$BN$11:$BS$11))","v":1}," ",{"$f":"SUM(COUNTIF($C74:$H74,$BU$11:$BZ$11))","v":0}," ",{"$f":"SUM(COUNTIF($C74:$H74,$CB$11:$CG$11))","v":1}," ",{"$f":"SUM(COUNTIF($C74:$H74,$CI$11:$CN$11))","v":0}," ",{"$f":"SUM(COUNTIF($C74:$H74,$CP$11:$CU$11))","v":1}," ",{"$f":"SUM(COUNTIF($C74:$H74,$CW$11:$DB$11))","v":1}," ",{"$f":"SUM(COUNTIF($C74:$H74,$DD$11:$DI$11))","v":1}," ",{"$f":"SUM(COUNTIF($C74:$H74,$DK$11:$DP$11))","v":1}]
[{"$f":"'aktuelle Zahlen'!A96","v":"Mi"},{"$f":"'aktuelle Zahlen'!B96","v":"2024-10-23"},{"$f":"'aktuelle Zahlen'!C96","v":25},{"$f":"'aktuelle Zahlen'!D96","v":18},{"$f":"'aktuelle Zahlen'!E96","v":40},{"$f":"'aktuelle Zahlen'!F96","v":49},{"$f":"'aktuelle Zahlen'!G96","v":10},{"$f":"'aktuelle Zahlen'!H96","v":37},{"$f":"'aktuelle Zahlen'!J96","v":1},null,2,{"$f":"SUM(COUNTIF($C75:$H75,$AL$11:$AQ$11))","v":2}," ",{"$f":"SUM(COUNTIF($C75:$H75,$AS$11:$AX$11))","v":0}," ",{"$f":"SUM(COUNTIF($C75:$H75,$AZ$11:$BE$11))","v":1}," ",{"$f":"SUM(COUNTIF($C75:$H75,$BG$11:$BL$11))","v":1}," ",{"$f":"SUM(COUNTIF($C75:$H75,$BN$11:$BS$11))","v":0}," ",{"$f":"SUM(COUNTIF($C75:$H75,$BU$11:$BZ$11))","v":0}," ",{"$f":"SUM(COUNTIF($C75:$H75,$CB$11:$CG$11))","v":0}," ",{"$f":"SUM(COUNTIF($C75:$H75,$CI$11:$CN$11))","v":1}," ",{"$f":"SUM(COUNTIF($C75:$H75,$CP$11:$CU$11))","v":1}," ",{"$f":"SUM(COUNTIF($C75:$H75,$CW$11:$DB$11))","v":0},2,{"$f":"SUM(COUNTIF($C75:$H75,$DD$11:$DI$11))","v":2}," ",{"$f":"SUM(COUNTIF($C75:$H75,$DK$11:$DP$11))","v":0}]
[{"$f":"'aktuelle Zahlen'!A95","v":"Sa"},{"$f":"'aktuelle Zahlen'!B95","v":"2024-10-19"},{"$f":"'aktuelle Zahlen'!C95","v":1},{"$f":"'aktuelle Zahlen'!D95","v":43},{"$f":"'aktuelle Zahlen'!E95","v":31},{"$f":"'aktuelle Zahlen'!F95","v":8},{"$f":"'aktuelle Zahlen'!G95","v":19},{"$f":"'aktuelle Zahlen'!H95","v":41},{"$f":"'aktuelle Zahlen'!J95","v":3},null," ",{"$f":"SUM(COUNTIF($C76:$H76,$AL$11:$AQ$11))","v":0},2,{"$f":"SUM(COUNTIF($C76:$H76,$AS$11:$AX$11))","v":2}," ",{"$f":"SUM(COUNTIF($C76:$H76,$AZ$11:$BE$11))","v":0}," ",{"$f":"SUM(COUNTIF($C76:$H76,$BG$11:$BL$11))","v":0},2,{"$f":"SUM(COUNTIF($C76:$H76,$BN$11:$BS$11))","v":2}," ",{"$f":"SUM(COUNTIF($C76:$H76,$BU$11:$BZ$11))","v":1},2,{"$f":"SUM(COUNTIF($C76:$H76,$CB$11:$CG$11))","v":2}," ",{"$f":"SUM(COUNTIF($C76:$H76,$CI$11:$CN$11))","v":0},2,{"$f":"SUM(COUNTIF($C76:$H76,$CP$11:$CU$11))","v":2}," ",{"$f":"SUM(COUNTIF($C76:$H76,$CW$11:$DB$11))","v":1}," ",{"$f":"SUM(COUNTIF($C76:$H76,$DD$11:$DI$11))","v":0}," ",{"$f":"SUM(COUNTIF($C76:$H76,$DK$11:$DP$11))","v":0}]
[{"$f":"'aktuelle Zahlen'!A94","v":"Mi"},{"$f":"'aktuelle Zahlen'!B94","v":"2024-10-16"},{"$f":"'aktuelle Zahlen'!C94","v":9},{"$f":"'aktuelle Zahlen'!D94","v":47},{"$f":"'aktuelle Zahlen'!E94","v":22},{"$f":"'aktuelle Zahlen'!F94","v":4},{"$f":"'aktuelle Zahlen'!G94","v":5},{"$f":"'aktuelle Zahlen'!H94","v":48},{"$f":"'aktuelle Zahlen'!J94","v":0},null," ",{"$f":"SUM(COUNTIF($C77:$H77,$AL$11:$AQ$11))","v":1}," ",{"$f":"SUM(COUNTIF($C77:$H77,$AS$11:$AX$11))","v":0}," ",{"$f":"SUM(COUNTIF($C77:$H77,$AZ$11:$BE$11))","v":0},2,{"$f":"SUM(COUNTIF($C77:$H77,$BG$11:$BL$11))","v":2}," ",{"$f":"SUM(COUNTIF($C77:$H77,$BN$11:$BS$11))","v":0},2,{"$f":"SUM(COUNTIF($C77:$H77,$BU$11:$BZ$11))","v":2}," ",{"$f":"SUM(COUNTIF($C77:$H77,$CB$11:$CG$11))","v":1},2,{"$f":"SUM(COUNTIF($C77:$H77,$CI$11:$CN$11))","v":2},2,{"$f":"SUM(COUNTIF($C77:$H77,$CP$11:$CU$11))","v":2}," ",{"$f":"SUM(COUNTIF($C77:$H77,$CW$11:$DB$11))","v":0}," ",{"$f":"SUM(COUNTIF($C77:$H77,$DD$11:$DI$11))","v":0}," ",{"$f":"SUM(COUNTIF($C77:$H77,$DK$11:$DP$11))","v":0}]
[{"$f":"'aktuelle Zahlen'!A93","v":"Sa"},{"$f":"'aktuelle Zahlen'!B93","v":"2024-10-12"},{"$f":"'aktuelle Zahlen'!C93","v":43},{"$f":"'aktuelle Zahlen'!D93","v":15},{"$f":"'aktuelle Zahlen'!E93","v":14},{"$f":"'aktuelle Zahlen'!F93","v":5},{"$f":"'aktuelle Zahlen'!G93","v":33},{"$f":"'aktuelle Zahlen'!H93","v":40},{"$f":"'aktuelle Zahlen'!J93","v":5},null," ",{"$f":"SUM(COUNTIF($C78:$H78,$AL$11:$AQ$11))","v":1}," ",{"$f":"SUM(COUNTIF($C78:$H78,$AS$11:$AX$11))","v":1}," ",{"$f":"SUM(COUNTIF($C78:$H78,$AZ$11:$BE$11))","v":0}," ",{"$f":"SUM(COUNTIF($C78:$H78,$BG$11:$BL$11))","v":0}," ",{"$f":"SUM(COUNTIF($C78:$H78,$BN$11:$BS$11))","v":0}," ",{"$f":"SUM(COUNTIF($C78:$H78,$BU$11:$BZ$11))","v":0}," ",{"$f":"SUM(COUNTIF($C78:$H78,$CB$11:$CG$11))","v":1}," ",{"$f":"SUM(COUNTIF($C78:$H78,$CI$11:$CN$11))","v":0}," ",{"$f":"SUM(COUNTIF($C78:$H78,$CP$11:$CU$11))","v":0},2,{"$f":"SUM(COUNTIF($C78:$H78,$CW$11:$DB$11))","v":2}," ",{"$f":"SUM(COUNTIF($C78:$H78,$DD$11:$DI$11))","v":0}," ",{"$f":"SUM(COUNTIF($C78:$H78,$DK$11:$DP$11))","v":1}]
[{"$f":"'aktuelle Zahlen'!A92","v":"Mi"},{"$f":"'aktuelle Zahlen'!B92","v":"2024-10-09"},{"$f":"'aktuelle Zahlen'!C92","v":24},{"$f":"'aktuelle Zahlen'!D92","v":46},{"$f":"'aktuelle Zahlen'!E92","v":38},{"$f":"'aktuelle Zahlen'!F92","v":15},{"$f":"'aktuelle Zahlen'!G92","v":8},{"$f":"'aktuelle Zahlen'!H92","v":34},{"$f":"'aktuelle Zahlen'!J92","v":3},null," ",{"$f":"SUM(COUNTIF($C79:$H79,$AL$11:$AQ$11))","v":1}," ",{"$f":"SUM(COUNTIF($C79:$H79,$AS$11:$AX$11))","v":0}," ",{"$f":"SUM(COUNTIF($C79:$H79,$AZ$11:$BE$11))","v":1}," ",{"$f":"SUM(COUNTIF($C79:$H79,$BG$11:$BL$11))","v":1},2,{"$f":"SUM(COUNTIF($C79:$H79,$BN$11:$BS$11))","v":2}," ",{"$f":"SUM(COUNTIF($C79:$H79,$BU$11:$BZ$11))","v":1},2,{"$f":"SUM(COUNTIF($C79:$H79,$CB$11:$CG$11))","v":2}," ",{"$f":"SUM(COUNTIF($C79:$H79,$CI$11:$CN$11))","v":0}," ",{"$f":"SUM(COUNTIF($C79:$H79,$CP$11:$CU$11))","v":1}," ",{"$f":"SUM(COUNTIF($C79:$H79,$CW$11:$DB$11))","v":0}," ",{"$f":"SUM(COUNTIF($C79:$H79,$DD$11:$DI$11))","v":0}," ",{"$f":"SUM(COUNTIF($C79:$H79,$DK$11:$DP$11))","v":0}]
[{"$f":"'aktuelle Zahlen'!A91","v":"Sa"},{"$f":"'aktuelle Zahlen'!B91","v":"2024-10-05"},{"$f":"'aktuelle Zahlen'!C91","v":44},{"$f":"'aktuelle Zahlen'!D91","v":10},{"$f":"'aktuelle Zahlen'!E91","v":5},{"$f":"'aktuelle Zahlen'!F91","v":12},{"$f":"'aktuelle Zahlen'!G91","v":28},{"$f":"'aktuelle Zahlen'!H91","v":40},{"$f":"'aktuelle Zahlen'!J91","v":8},null,2,{"$f":"SUM(COUNTIF($C80:$H80,$AL$11:$AQ$11))","v":2}," ",{"$f":"SUM(COUNTIF($C80:$H80,$AS$11:$AX$11))","v":0}," ",{"$f":"SUM(COUNTIF($C80:$H80,$AZ$11:$BE$11))","v":1}," ",{"$f":"SUM(COUNTIF($C80:$H80,$BG$11:$BL$11))","v":1}," ",{"$f":"SUM(COUNTIF($C80:$H80,$BN$11:$BS$11))","v":1}," ",{"$f":"SUM(COUNTIF($C80:$H80,$BU$11:$BZ$11))","v":0}," ",{"$f":"SUM(COUNTIF($C80:$H80,$CB$11:$CG$11))","v":0}," ",{"$f":"SUM(COUNTIF($C80:$H80,$CI$11:$CN$11))","v":1}," ",{"$f":"SUM(COUNTIF($C80:$H80,$CP$11:$CU$11))","v":0}," ",{"$f":"SUM(COUNTIF($C80:$H80,$CW$11:$DB$11))","v":0}," ",{"$f":"SUM(COUNTIF($C80:$H80,$DD$11:$DI$11))","v":0}," ",{"$f":"SUM(COUNTIF($C80:$H80,$DK$11:$DP$11))","v":1}]
[{"$f":"'aktuelle Zahlen'!A90","v":"Mi"},{"$f":"'aktuelle Zahlen'!B90","v":"2024-10-02"},{"$f":"'aktuelle Zahlen'!C90","v":5},{"$f":"'aktuelle Zahlen'!D90","v":41},{"$f":"'aktuelle Zahlen'!E90","v":18},{"$f":"'aktuelle Zahlen'!F90","v":4},{"$f":"'aktuelle Zahlen'!G90","v":23},{"$f":"'aktuelle Zahlen'!H90","v":26},{"$f":"'aktuelle Zahlen'!J90","v":9},null,{"$f":"IF(L81>1,(IF($I81=$AJ$11,L81 & \"Z\",L81)),\" \")","v":3},{"$f":"SUM(COUNTIF($C81:$H81,$AL$11:$AQ$11))","v":3},{"$f":"IF(N81>1,(IF($I81=$AJ$11,N81 & \"Z\",N81)),\" \")","v":2},{"$f":"SUM(COUNTIF($C81:$H81,$AS$11:$AX$11))","v":2},{"$f":"IF(P81>1,(IF($I81=$AJ$11,P81 & \"Z\",P81)),\" \")","v":" "},{"$f":"SUM(COUNTIF($C81:$H81,$AZ$11:$BE$11))","v":1},{"$f":"IF(R81>1,(IF($I81=$AJ$11,R81 & \"Z\",R81)),\" \")","v":2},{"$f":"SUM(COUNTIF($C81:$H81,$BG$11:$BL$11))","v":2},{"$f":"IF(T81>1,(IF($I81=$AJ$11,T81 & \"Z\",T81)),\" \")","v":" "},{"$f":"SUM(COUNTIF($C81:$H81,$BN$11:$BS$11))","v":0},{"$f":"IF(V81>1,(IF($I81=$AJ$11,V81 & \"Z\",V81)),\" \")","v":3},{"$f":"SUM(COUNTIF($C81:$H81,$BU$11:$BZ$11))","v":3},{"$f":"IF(X81>1,(IF($I81=$AJ$11,X81 & \"Z\",X81)),\" \")","v":2},{"$f":"SUM(COUNTIF($C81:$H81,$CB$11:$CG$11))","v":2},{"$f":"IF(Z81>1,(IF($I81=$AJ$11,Z81 & \"Z\",Z81)),\" \")","v":" "},{"$f":"SUM(COUNTIF($C81:$H81,$CI$11:$CN$11))","v":0},{"$f":"IF(AB81>1,(IF($I81=$AJ$11,AB81 & \"Z\",AB81)),\" \")","v":" "},{"$f":"SUM(COUNTIF($C81:$H81,$CP$11:$CU$11))","v":1},{"$f":"IF(AD81>1,(IF($I81=$AJ$11,AD81 & \"Z\",AD81)),\" \")","v":" "},{"$f":"SUM(COUNTIF($C81:$H81,$CW$11:$DB$11))","v":0},{"$f":"IF(AF81>1,(IF($I81=$AJ$11,AF81 & \"Z\",AF81)),\" \")","v":" "},{"$f":"SUM(COUNTIF($C81:$H81,$DD$11:$DI$11))","v":0},{"$f":"IF(AH81>1,(IF($I81=$AJ$11,AH81 & \"Z\",AH81)),\" \")","v":" "},{"$f":"SUM(COUNTIF($C81:$H81,$DK$11:$DP$11))","v":0}]
[{"$f":"'aktuelle Zahlen'!A89","v":"Sa"},{"$f":"'aktuelle Zahlen'!B89","v":"2024-09-28"},{"$f":"'aktuelle Zahlen'!C89","v":30},{"$f":"'aktuelle Zahlen'!D89","v":16},{"$f":"'aktuelle Zahlen'!E89","v":17},{"$f":"'aktuelle Zahlen'!F89","v":33},{"$f":"'aktuelle Zahlen'!G89","v":6},{"$f":"'aktuelle Zahlen'!H89","v":26},{"$f":"'aktuelle Zahlen'!J89","v":6},null," ",{"$f":"SUM(COUNTIF($C82:$H82,$AL$11:$AQ$11))","v":0},2,{"$f":"SUM(COUNTIF($C82:$H82,$AS$11:$AX$11))","v":2},2,{"$f":"SUM(COUNTIF($C82:$H82,$AZ$11:$BE$11))","v":2}," ",{"$f":"SUM(COUNTIF($C82:$H82,$BG$11:$BL$11))","v":0}," ",{"$f":"SUM(COUNTIF($C82:$H82,$BN$11:$BS$11))","v":0}," ",{"$f":"SUM(COUNTIF($C82:$H82,$BU$11:$BZ$11))","v":1}," ",{"$f":"SUM(COUNTIF($C82:$H82,$CB$11:$CG$11))","v":0}," ",{"$f":"SUM(COUNTIF($C82:$H82,$CI$11:$CN$11))","v":1}," ",{"$f":"SUM(COUNTIF($C82:$H82,$CP$11:$CU$11))","v":1}," ",{"$f":"SUM(COUNTIF($C82:$H82,$CW$11:$DB$11))","v":1}," ",{"$f":"SUM(COUNTIF($C82:$H82,$DD$11:$DI$11))","v":1},3,{"$f":"SUM(COUNTIF($C82:$H82,$DK$11:$DP$11))","v":3}]
[{"$f":"'aktuelle Zahlen'!A88","v":"Mi"},{"$f":"'aktuelle Zahlen'!B88","v":"2024-09-25"},{"$f":"'aktuelle Zahlen'!C88","v":11},{"$f":"'aktuelle Zahlen'!D88","v":9},{"$f":"'aktuelle Zahlen'!E88","v":46},{"$f":"'aktuelle Zahlen'!F88","v":4},{"$f":"'aktuelle Zahlen'!G88","v":27},{"$f":"'aktuelle Zahlen'!H88","v":28},{"$f":"'aktuelle Zahlen'!J88","v":1},null," ",{"$f":"SUM(COUNTIF($C83:$H83,$AL$11:$AQ$11))","v":0}," ",{"$f":"SUM(COUNTIF($C83:$H83,$AS$11:$AX$11))","v":1}," ",{"$f":"SUM(COUNTIF($C83:$H83,$AZ$11:$BE$11))","v":1},3,{"$f":"SUM(COUNTIF($C83:$H83,$BG$11:$BL$11))","v":3}," ",{"$f":"SUM(COUNTIF($C83:$H83,$BN$11:$BS$11))","v":0},2,{"$f":"SUM(COUNTIF($C83:$H83,$BU$11:$BZ$11))","v":2},2,{"$f":"SUM(COUNTIF($C83:$H83,$CB$11:$CG$11))","v":2}," ",{"$f":"SUM(COUNTIF($C83:$H83,$CI$11:$CN$11))","v":0}," ",{"$f":"SUM(COUNTIF($C83:$H83,$CP$11:$CU$11))","v":1}," ",{"$f":"SUM(COUNTIF($C83:$H83,$CW$11:$DB$11))","v":1}," ",{"$f":"SUM(COUNTIF($C83:$H83,$DD$11:$DI$11))","v":1}," ",{"$f":"SUM(COUNTIF($C83:$H83,$DK$11:$DP$11))","v":1}]
[{"$f":"'aktuelle Zahlen'!A87","v":"Sa"},{"$f":"'aktuelle Zahlen'!B87","v":"2024-09-21"},{"$f":"'aktuelle Zahlen'!C87","v":28},{"$f":"'aktuelle Zahlen'!D87","v":18},{"$f":"'aktuelle Zahlen'!E87","v":46},{"$f":"'aktuelle Zahlen'!F87","v":11},{"$f":"'aktuelle Zahlen'!G87","v":43},{"$f":"'aktuelle Zahlen'!H87","v":30},{"$f":"'aktuelle Zahlen'!J87","v":9},null," ",{"$f":"SUM(COUNTIF($C84:$H84,$AL$11:$AQ$11))","v":1}," ",{"$f":"SUM(COUNTIF($C84:$H84,$AS$11:$AX$11))","v":1}," ",{"$f":"SUM(COUNTIF($C84:$H84,$AZ$11:$BE$11))","v":1},3,{"$f":"SUM(COUNTIF($C84:$H84,$BG$11:$BL$11))","v":3}," ",{"$f":"SUM(COUNTIF($C84:$H84,$BN$11:$BS$11))","v":0}," ",{"$f":"SUM(COUNTIF($C84:$H84,$BU$11:$BZ$11))","v":1},2,{"$f":"SUM(COUNTIF($C84:$H84,$CB$11:$CG$11))","v":2}," ",{"$f":"SUM(COUNTIF($C84:$H84,$CI$11:$CN$11))","v":0}," ",{"$f":"SUM(COUNTIF($C84:$H84,$CP$11:$CU$11))","v":1},2,{"$f":"SUM(COUNTIF($C84:$H84,$CW$11:$DB$11))","v":2}," ",{"$f":"SUM(COUNTIF($C84:$H84,$DD$11:$DI$11))","v":1},2,{"$f":"SUM(COUNTIF($C84:$H84,$DK$11:$DP$11))","v":2}]
[{"$f":"'aktuelle Zahlen'!A86","v":"Mi"},{"$f":"'aktuelle Zahlen'!B86","v":"2024-09-18"},{"$f":"'aktuelle Zahlen'!C86","v":44},{"$f":"'aktuelle Zahlen'!D86","v":31},{"$f":"'aktuelle Zahlen'!E86","v":41},{"$f":"'aktuelle Zahlen'!F86","v":9},{"$f":"'aktuelle Zahlen'!G86","v":43},{"$f":"'aktuelle Zahlen'!H86","v":28},{"$f":"'aktuelle Zahlen'!J86","v":3},null," ",{"$f":"SUM(COUNTIF($C85:$H85,$AL$11:$AQ$11))","v":0}," ",{"$f":"SUM(COUNTIF($C85:$H85,$AS$11:$AX$11))","v":1}," ",{"$f":"SUM(COUNTIF($C85:$H85,$AZ$11:$BE$11))","v":1}," ",{"$f":"SUM(COUNTIF($C85:$H85,$BG$11:$BL$11))","v":1}," ",{"$f":"SUM(COUNTIF($C85:$H85,$BN$11:$BS$11))","v":0}," ",{"$f":"SUM(COUNTIF($C85:$H85,$BU$11:$BZ$11))","v":0},2,{"$f":"SUM(COUNTIF($C85:$H85,$CB$11:$CG$11))","v":2}," ",{"$f":"SUM(COUNTIF($C85:$H85,$CI$11:$CN$11))","v":0},2,{"$f":"SUM(COUNTIF($C85:$H85,$CP$11:$CU$11))","v":2}," ",{"$f":"SUM(COUNTIF($C85:$H85,$CW$11:$DB$11))","v":1}," ",{"$f":"SUM(COUNTIF($C85:$H85,$DD$11:$DI$11))","v":0}," ",{"$f":"SUM(COUNTIF($C85:$H85,$DK$11:$DP$11))","v":1}]
[{"$f":"'aktuelle Zahlen'!A85","v":"Sa"},{"$f":"'aktuelle Zahlen'!B85","v":"2024-09-14"},{"$f":"'aktuelle Zahlen'!C85","v":14},{"$f":"'aktuelle Zahlen'!D85","v":31},{"$f":"'aktuelle Zahlen'!E85","v":25},{"$f":"'aktuelle Zahlen'!F85","v":23},{"$f":"'aktuelle Zahlen'!G85","v":10},{"$f":"'aktuelle Zahlen'!H85","v":2},{"$f":"'aktuelle Zahlen'!J85","v":2},null,2,{"$f":"SUM(COUNTIF($C86:$H86,$AL$11:$AQ$11))","v":2}," ",{"$f":"SUM(COUNTIF($C86:$H86,$AS$11:$AX$11))","v":1}," ",{"$f":"SUM(COUNTIF($C86:$H86,$AZ$11:$BE$11))","v":1}," ",{"$f":"SUM(COUNTIF($C86:$H86,$BG$11:$BL$11))","v":0}," ",{"$f":"SUM(COUNTIF($C86:$H86,$BN$11:$BS$11))","v":0}," ",{"$f":"SUM(COUNTIF($C86:$H86,$BU$11:$BZ$11))","v":1}," ",{"$f":"SUM(COUNTIF($C86:$H86,$CB$11:$CG$11))","v":0},2,{"$f":"SUM(COUNTIF($C86:$H86,$CI$11:$CN$11))","v":2}," ",{"$f":"SUM(COUNTIF($C86:$H86,$CP$11:$CU$11))","v":1}," ",{"$f":"SUM(COUNTIF($C86:$H86,$CW$11:$DB$11))","v":1}," ",{"$f":"SUM(COUNTIF($C86:$H86,$DD$11:$DI$11))","v":1}," ",{"$f":"SUM(COUNTIF($C86:$H86,$DK$11:$DP$11))","v":0}]
[{"$f":"'aktuelle Zahlen'!A84","v":"Mi"},{"$f":"'aktuelle Zahlen'!B84","v":"2024-09-11"},{"$f":"'aktuelle Zahlen'!C84","v":49},{"$f":"'aktuelle Zahlen'!D84","v":33},{"$f":"'aktuelle Zahlen'!E84","v":5},{"$f":"'aktuelle Zahlen'!F84","v":9},{"$f":"'aktuelle Zahlen'!G84","v":18},{"$f":"'aktuelle Zahlen'!H84","v":28},{"$f":"'aktuelle Zahlen'!J84","v":8},null,2,{"$f":"SUM(COUNTIF($C87:$H87,$AL$11:$AQ$11))","v":2}," ",{"$f":"SUM(COUNTIF($C87:$H87,$AS$11:$AX$11))","v":0},2,{"$f":"SUM(COUNTIF($C87:$H87,$AZ$11:$BE$11))","v":2},2,{"$f":"SUM(COUNTIF($C87:$H87,$BG$11:$BL$11))","v":2}," ",{"$f":"SUM(COUNTIF($C87:$H87,$BN$11:$BS$11))","v":0}," ",{"$f":"SUM(COUNTIF($C87:$H87,$BU$11:$BZ$11))","v":0}," ",{"$f":"SUM(COUNTIF($C87:$H87,$CB$11:$CG$11))","v":0}," ",{"$f":"SUM(COUNTIF($C87:$H87,$CI$11:$CN$11))","v":0},2,{"$f":"SUM(COUNTIF($C87:$H87,$CP$11:$CU$11))","v":2}," ",{"$f":"SUM(COUNTIF($C87:$H87,$CW$11:$DB$11))","v":1}," ",{"$f":"SUM(COUNTIF($C87:$H87,$DD$11:$DI$11))","v":1}," ",{"$f":"SUM(COUNTIF($C87:$H87,$DK$11:$DP$11))","v":1}]
[{"$f":"'aktuelle Zahlen'!A83","v":"Sa"},{"$f":"'aktuelle Zahlen'!B83","v":"2024-09-07"},{"$f":"'aktuelle Zahlen'!C83","v":32},{"$f":"'aktuelle Zahlen'!D83","v":8},{"$f":"'aktuelle Zahlen'!E83","v":5},{"$f":"'aktuelle Zahlen'!F83","v":26},{"$f":"'aktuelle Zahlen'!G83","v":43},{"$f":"'aktuelle Zahlen'!H83","v":14},{"$f":"'aktuelle Zahlen'!J83","v":8},null," ",{"$f":"SUM(COUNTIF($C88:$H88,$AL$11:$AQ$11))","v":1},2,{"$f":"SUM(COUNTIF($C88:$H88,$AS$11:$AX$11))","v":2}," ",{"$f":"SUM(COUNTIF($C88:$H88,$AZ$11:$BE$11))","v":1}," ",{"$f":"SUM(COUNTIF($C88:$H88,$BG$11:$BL$11))","v":1}," ",{"$f":"SUM(COUNTIF($C88:$H88,$BN$11:$BS$11))","v":1}," ",{"$f":"SUM(COUNTIF($C88:$H88,$BU$11:$BZ$11))","v":1}," ",{"$f":"SUM(COUNTIF($C88:$H88,$CB$11:$CG$11))","v":1}," ",{"$f":"SUM(COUNTIF($C88:$H88,$CI$11:$CN$11))","v":0}," ",{"$f":"SUM(COUNTIF($C88:$H88,$CP$11:$CU$11))","v":1}," ",{"$f":"SUM(COUNTIF($C88:$H88,$CW$11:$DB$11))","v":1}," ",{"$f":"SUM(COUNTIF($C88:$H88,$DD$11:$DI$11))","v":1}," ",{"$f":"SUM(COUNTIF($C88:$H88,$DK$11:$DP$11))","v":1}]
[{"$f":"'aktuelle Zahlen'!A82","v":"Mi"},{"$f":"'aktuelle Zahlen'!B82","v":"2024-09-04"},{"$f":"'aktuelle Zahlen'!C82","v":10},{"$f":"'aktuelle Zahlen'!D82","v":27},{"$f":"'aktuelle Zahlen'!E82","v":48},{"$f":"'aktuelle Zahlen'!F82","v":45},{"$f":"'aktuelle Zahlen'!G82","v":3},{"$f":"'aktuelle Zahlen'!H82","v":16},{"$f":"'aktuelle Zahlen'!J82","v":2},null," ",{"$f":"SUM(COUNTIF($C89:$H89,$AL$11:$AQ$11))","v":1}," ",{"$f":"SUM(COUNTIF($C89:$H89,$AS$11:$AX$11))","v":1}," ",{"$f":"SUM(COUNTIF($C89:$H89,$AZ$11:$BE$11))","v":0}," ",{"$f":"SUM(COUNTIF($C89:$H89,$BG$11:$BL$11))","v":0}," ",{"$f":"SUM(COUNTIF($C89:$H89,$BN$11:$BS$11))","v":0}," ",{"$f":"SUM(COUNTIF($C89:$H89,$BU$11:$BZ$11))","v":1}," ",{"$f":"SUM(COUNTIF($C89:$H89,$CB$11:$CG$11))","v":0},3,{"$f":"SUM(COUNTIF($C89:$H89,$CI$11:$CN$11))","v":3}," ",{"$f":"SUM(COUNTIF($C89:$H89,$CP$11:$CU$11))","v":0}," ",{"$f":"SUM(COUNTIF($C89:$H89,$CW$11:$DB$11))","v":0}," ",{"$f":"SUM(COUNTIF($C89:$H89,$DD$11:$DI$11))","v":0}," ",{"$f":"SUM(COUNTIF($C89:$H89,$DK$11:$DP$11))","v":1}]
[{"$f":"'aktuelle Zahlen'!A81","v":"Sa"},{"$f":"'aktuelle Zahlen'!B81","v":"2024-08-31"},{"$f":"'aktuelle Zahlen'!C81","v":11},{"$f":"'aktuelle Zahlen'!D81","v":44},{"$f":"'aktuelle Zahlen'!E81","v":24},{"$f":"'aktuelle Zahlen'!F81","v":6},{"$f":"'aktuelle Zahlen'!G81","v":48},{"$f":"'aktuelle Zahlen'!H81","v":21},{"$f":"'aktuelle Zahlen'!J81","v":9},null," ",{"$f":"SUM(COUNTIF($C90:$H90,$AL$11:$AQ$11))","v":0}," ",{"$f":"SUM(COUNTIF($C90:$H90,$AS$11:$AX$11))","v":1}," ",{"$f":"SUM(COUNTIF($C90:$H90,$AZ$11:$BE$11))","v":0}," ",{"$f":"SUM(COUNTIF($C90:$H90,$BG$11:$BL$11))","v":0}," ",{"$f":"SUM(COUNTIF($C90:$H90,$BN$11:$BS$11))","v":0}," ",{"$f":"SUM(COUNTIF($C90:$H90,$BU$11:$BZ$11))","v":1}," ",{"$f":"SUM(COUNTIF($C90:$H90,$CB$11:$CG$11))","v":0},2,{"$f":"SUM(COUNTIF($C90:$H90,$CI$11:$CN$11))","v":2}," ",{"$f":"SUM(COUNTIF($C90:$H90,$CP$11:$CU$11))","v":0}," ",{"$f":"SUM(COUNTIF($C90:$H90,$CW$11:$DB$11))","v":1}," ",{"$f":"SUM(COUNTIF($C90:$H90,$DD$11:$DI$11))","v":1},2,{"$f":"SUM(COUNTIF($C90:$H90,$DK$11:$DP$11))","v":2}]
[{"$f":"'aktuelle Zahlen'!A80","v":"Mi"},{"$f":"'aktuelle Zahlen'!B80","v":"2024-08-28"},{"$f":"'aktuelle Zahlen'!C80","v":5},{"$f":"'aktuelle Zahlen'!D80","v":22},{"$f":"'aktuelle Zahlen'!E80","v":27},{"$f":"'aktuelle Zahlen'!F80","v":2},{"$f":"'aktuelle Zahlen'!G80","v":46},{"$f":"'aktuelle Zahlen'!H80","v":25},{"$f":"'aktuelle Zahlen'!J80","v":5},null," ",{"$f":"SUM(COUNTIF($C91:$H91,$AL$11:$AQ$11))","v":1}," ",{"$f":"SUM(COUNTIF($C91:$H91,$AS$11:$AX$11))","v":0}," ",{"$f":"SUM(COUNTIF($C91:$H91,$AZ$11:$BE$11))","v":1},2,{"$f":"SUM(COUNTIF($C91:$H91,$BG$11:$BL$11))","v":2}," ",{"$f":"SUM(COUNTIF($C91:$H91,$BN$11:$BS$11))","v":0}," ",{"$f":"SUM(COUNTIF($C91:$H91,$BU$11:$BZ$11))","v":1}," ",{"$f":"SUM(COUNTIF($C91:$H91,$CB$11:$CG$11))","v":1}," ",{"$f":"SUM(COUNTIF($C91:$H91,$CI$11:$CN$11))","v":1}," ",{"$f":"SUM(COUNTIF($C91:$H91,$CP$11:$CU$11))","v":0}," ",{"$f":"SUM(COUNTIF($C91:$H91,$CW$11:$DB$11))","v":1}," ",{"$f":"SUM(COUNTIF($C91:$H91,$DD$11:$DI$11))","v":1}," ",{"$f":"SUM(COUNTIF($C91:$H91,$DK$11:$DP$11))","v":0}]
[{"$f":"'aktuelle Zahlen'!A79","v":"Sa"},{"$f":"'aktuelle Zahlen'!B79","v":"2024-08-24"},{"$f":"'aktuelle Zahlen'!C79","v":12},{"$f":"'aktuelle Zahlen'!D79","v":26},{"$f":"'aktuelle Zahlen'!E79","v":47},{"$f":"'aktuelle Zahlen'!F79","v":29},{"$f":"'aktuelle Zahlen'!G79","v":4},{"$f":"'aktuelle Zahlen'!H79","v":24},{"$f":"'aktuelle Zahlen'!J79","v":8},null," ",{"$f":"SUM(COUNTIF($C92:$H92,$AL$11:$AQ$11))","v":1}," ",{"$f":"SUM(COUNTIF($C92:$H92,$AS$11:$AX$11))","v":1}," ",{"$f":"SUM(COUNTIF($C92:$H92,$AZ$11:$BE$11))","v":1}," ",{"$f":"SUM(COUNTIF($C92:$H92,$BG$11:$BL$11))","v":1},2,{"$f":"SUM(COUNTIF($C92:$H92,$BN$11:$BS$11))","v":2},2,{"$f":"SUM(COUNTIF($C92:$H92,$BU$11:$BZ$11))","v":2}," ",{"$f":"SUM(COUNTIF($C92:$H92,$CB$11:$CG$11))","v":1}," ",{"$f":"SUM(COUNTIF($C92:$H92,$CI$11:$CN$11))","v":1}," ",{"$f":"SUM(COUNTIF($C92:$H92,$CP$11:$CU$11))","v":1}," ",{"$f":"SUM(COUNTIF($C92:$H92,$CW$11:$DB$11))","v":1}," ",{"$f":"SUM(COUNTIF($C92:$H92,$DD$11:$DI$11))","v":0}," ",{"$f":"SUM(COUNTIF($C92:$H92,$DK$11:$DP$11))","v":0}]
[{"$f":"'aktuelle Zahlen'!A78","v":"Mi"},{"$f":"'aktuelle Zahlen'!B78","v":"2024-08-21"},{"$f":"'aktuelle Zahlen'!C78","v":25},{"$f":"'aktuelle Zahlen'!D78","v":32},{"$f":"'aktuelle Zahlen'!E78","v":37},{"$f":"'aktuelle Zahlen'!F78","v":13},{"$f":"'aktuelle Zahlen'!G78","v":9},{"$f":"'aktuelle Zahlen'!H78","v":40},{"$f":"'aktuelle Zahlen'!J78","v":0},null," ",{"$f":"SUM(COUNTIF($C93:$H93,$AL$11:$AQ$11))","v":0}," ",{"$f":"SUM(COUNTIF($C93:$H93,$AS$11:$AX$11))","v":0}," ",{"$f":"SUM(COUNTIF($C93:$H93,$AZ$11:$BE$11))","v":0}," ",{"$f":"SUM(COUNTIF($C93:$H93,$BG$11:$BL$11))","v":1}," ",{"$f":"SUM(COUNTIF($C93:$H93,$BN$11:$BS$11))","v":0}," ",{"$f":"SUM(COUNTIF($C93:$H93,$BU$11:$BZ$11))","v":0}," ",{"$f":"SUM(COUNTIF($C93:$H93,$CB$11:$CG$11))","v":0}," ",{"$f":"SUM(COUNTIF($C93:$H93,$CI$11:$CN$11))","v":0}," ",{"$f":"SUM(COUNTIF($C93:$H93,$CP$11:$CU$11))","v":1}," ",{"$f":"SUM(COUNTIF($C93:$H93,$CW$11:$DB$11))","v":0},2,{"$f":"SUM(COUNTIF($C93:$H93,$DD$11:$DI$11))","v":2}," ",{"$f":"SUM(COUNTIF($C93:$H93,$DK$11:$DP$11))","v":1}]
[{"$f":"'aktuelle Zahlen'!A77","v":"Sa"},{"$f":"'aktuelle Zahlen'!B77","v":"2024-08-17"},{"$f":"'aktuelle Zahlen'!C77","v":27},{"$f":"'aktuelle Zahlen'!D77","v":46},{"$f":"'aktuelle Zahlen'!E77","v":35},{"$f":"'aktuelle Zahlen'!F77","v":40},{"$f":"'aktuelle Zahlen'!G77","v":2},{"$f":"'aktuelle Zahlen'!H77","v":45},{"$f":"'aktuelle Zahlen'!J77","v":5},null," ",{"$f":"SUM(COUNTIF($C94:$H94,$AL$11:$AQ$11))","v":0}," ",{"$f":"SUM(COUNTIF($C94:$H94,$AS$11:$AX$11))","v":0}," ",{"$f":"SUM(COUNTIF($C94:$H94,$AZ$11:$BE$11))","v":1}," ",{"$f":"SUM(COUNTIF($C94:$H94,$BG$11:$BL$11))","v":1}," ",{"$f":"SUM(COUNTIF($C94:$H94,$BN$11:$BS$11))","v":0}," ",{"$f":"SUM(COUNTIF($C94:$H94,$BU$11:$BZ$11))","v":1}," ",{"$f":"SUM(COUNTIF($C94:$H94,$CB$11:$CG$11))","v":1}," ",{"$f":"SUM(COUNTIF($C94:$H94,$CI$11:$CN$11))","v":1}," ",{"$f":"SUM(COUNTIF($C94:$H94,$CP$11:$CU$11))","v":0},2,{"$f":"SUM(COUNTIF($C94:$H94,$CW$11:$DB$11))","v":2}," ",{"$f":"SUM(COUNTIF($C94:$H94,$DD$11:$DI$11))","v":1}," ",{"$f":"SUM(COUNTIF($C94:$H94,$DK$11:$DP$11))","v":0}]
[{"$f":"'aktuelle Zahlen'!A76","v":"Mi"},{"$f":"'aktuelle Zahlen'!B76","v":"2024-08-14"},{"$f":"'aktuelle Zahlen'!C76","v":8},{"$f":"'aktuelle Zahlen'!D76","v":26},{"$f":"'aktuelle Zahlen'!E76","v":9},{"$f":"'aktuelle Zahlen'!F76","v":22},{"$f":"'aktuelle Zahlen'!G76","v":15},{"$f":"'aktuelle Zahlen'!H76","v":3},{"$f":"'aktuelle Zahlen'!J76","v":4},null," ",{"$f":"SUM(COUNTIF($C95:$H95,$AL$11:$AQ$11))","v":0}," ",{"$f":"SUM(COUNTIF($C95:$H95,$AS$11:$AX$11))","v":1}," ",{"$f":"SUM(COUNTIF($C95:$H95,$AZ$11:$BE$11))","v":1}," ",{"$f":"SUM(COUNTIF($C95:$H95,$BG$11:$BL$11))","v":1}," ",{"$f":"SUM(COUNTIF($C95:$H95,$BN$11:$BS$11))","v":1}," ",{"$f":"SUM(COUNTIF($C95:$H95,$BU$11:$BZ$11))","v":1}," ",{"$f":"SUM(COUNTIF($C95:$H95,$CB$11:$CG$11))","v":0}," ",{"$f":"SUM(COUNTIF($C95:$H95,$CI$11:$CN$11))","v":1},2,{"$f":"SUM(COUNTIF($C95:$H95,$CP$11:$CU$11))","v":2}," ",{"$f":"SUM(COUNTIF($C95:$H95,$CW$11:$DB$11))","v":0}," ",{"$f":"SUM(COUNTIF($C95:$H95,$DD$11:$DI$11))","v":0}," ",{"$f":"SUM(COUNTIF($C95:$H95,$DK$11:$DP$11))","v":0}]
[{"$f":"'aktuelle Zahlen'!A75","v":"Sa"},{"$f":"'aktuelle Zahlen'!B75","v":"2024-08-10"},{"$f":"'aktuelle Zahlen'!C75","v":5},{"$f":"'aktuelle Zahlen'!D75","v":43},{"$f":"'aktuelle Zahlen'!E75","v":19},{"$f":"'aktuelle Zahlen'!F75","v":26},{"$f":"'aktuelle Zahlen'!G75","v":14},{"$f":"'aktuelle Zahlen'!H75","v":20},{"$f":"'aktuelle Zahlen'!J75","v":2},null," ",{"$f":"SUM(COUNTIF($C96:$H96,$AL$11:$AQ$11))","v":1},2,{"$f":"SUM(COUNTIF($C96:$H96,$AS$11:$AX$11))","v":2}," ",{"$f":"SUM(COUNTIF($C96:$H96,$AZ$11:$BE$11))","v":1}," ",{"$f":"SUM(COUNTIF($C96:$H96,$BG$11:$BL$11))","v":0}," ",{"$f":"SUM(COUNTIF($C96:$H96,$BN$11:$BS$11))","v":1},2,{"$f":"SUM(COUNTIF($C96:$H96,$BU$11:$BZ$11))","v":2}," ",{"$f":"SUM(COUNTIF($C96:$H96,$CB$11:$CG$11))","v":1}," ",{"$f":"SUM(COUNTIF($C96:$H96,$CI$11:$CN$11))","v":0}," ",{"$f":"SUM(COUNTIF($C96:$H96,$CP$11:$CU$11))","v":0}," ",{"$f":"SUM(COUNTIF($C96:$H96,$CW$11:$DB$11))","v":1}," ",{"$f":"SUM(COUNTIF($C96:$H96,$DD$11:$DI$11))","v":0}," ",{"$f":"SUM(COUNTIF($C96:$H96,$DK$11:$DP$11))","v":0}]
[{"$f":"'aktuelle Zahlen'!A74","v":"Mi"},{"$f":"'aktuelle Zahlen'!B74","v":"2024-08-07"},{"$f":"'aktuelle Zahlen'!C74","v":37},{"$f":"'aktuelle Zahlen'!D74","v":3},{"$f":"'aktuelle Zahlen'!E74","v":33},{"$f":"'aktuelle Zahlen'!F74","v":9},{"$f":"'aktuelle Zahlen'!G74","v":15},{"$f":"'aktuelle Zahlen'!H74","v":16},{"$f":"'aktuelle Zahlen'!J74","v":5},null," ",{"$f":"SUM(COUNTIF($C97:$H97,$AL$11:$AQ$11))","v":0}," ",{"$f":"SUM(COUNTIF($C97:$H97,$AS$11:$AX$11))","v":1}," ",{"$f":"SUM(COUNTIF($C97:$H97,$AZ$11:$BE$11))","v":0}," ",{"$f":"SUM(COUNTIF($C97:$H97,$BG$11:$BL$11))","v":0}," ",{"$f":"SUM(COUNTIF($C97:$H97,$BN$11:$BS$11))","v":0}," ",{"$f":"SUM(COUNTIF($C97:$H97,$BU$11:$BZ$11))","v":0}," ",{"$f":"SUM(COUNTIF($C97:$H97,$CB$11:$CG$11))","v":0}," ",{"$f":"SUM(COUNTIF($C97:$H97,$CI$11:$CN$11))","v":1}," ",{"$f":"SUM(COUNTIF($C97:$H97,$CP$11:$CU$11))","v":1}," ",{"$f":"SUM(COUNTIF($C97:$H97,$CW$11:$DB$11))","v":1}," ",{"$f":"SUM(COUNTIF($C97:$H97,$DD$11:$DI$11))","v":1},2,{"$f":"SUM(COUNTIF($C97:$H97,$DK$11:$DP$11))","v":2}]
[{"$f":"'aktuelle Zahlen'!A73","v":"Sa"},{"$f":"'aktuelle Zahlen'!B73","v":"2024-08-03"},{"$f":"'aktuelle Zahlen'!C73","v":12},{"$f":"'aktuelle Zahlen'!D73","v":44},{"$f":"'aktuelle Zahlen'!E73","v":31},{"$f":"'aktuelle Zahlen'!F73","v":1},{"$f":"'aktuelle Zahlen'!G73","v":10},{"$f":"'aktuelle Zahlen'!H73","v":14},{"$f":"'aktuelle Zahlen'!J73","v":1},null," ",{"$f":"SUM(COUNTIF($C98:$H98,$AL$11:$AQ$11))","v":1},2,{"$f":"SUM(COUNTIF($C98:$H98,$AS$11:$AX$11))","v":2}," ",{"$f":"SUM(COUNTIF($C98:$H98,$AZ$11:$BE$11))","v":0}," ",{"$f":"SUM(COUNTIF($C98:$H98,$BG$11:$BL$11))","v":0}," ",{"$f":"SUM(COUNTIF($C98:$H98,$BN$11:$BS$11))","v":1}," ",{"$f":"SUM(COUNTIF($C98:$H98,$BU$11:$BZ$11))","v":0}," ",{"$f":"SUM(COUNTIF($C98:$H98,$CB$11:$CG$11))","v":0}," ",{"$f":"SUM(COUNTIF($C98:$H98,$CI$11:$CN$11))","v":1}," ",{"$f":"SUM(COUNTIF($C98:$H98,$CP$11:$CU$11))","v":1}," ",{"$f":"SUM(COUNTIF($C98:$H98,$CW$11:$DB$11))","v":0}," ",{"$f":"SUM(COUNTIF($C98:$H98,$DD$11:$DI$11))","v":0}," ",{"$f":"SUM(COUNTIF($C98:$H98,$DK$11:$DP$11))","v":1}]
[{"$f":"'aktuelle Zahlen'!A72","v":"Mi"},{"$f":"'aktuelle Zahlen'!B72","v":"2024-07-31"},{"$f":"'aktuelle Zahlen'!C72","v":33},{"$f":"'aktuelle Zahlen'!D72","v":18},{"$f":"'aktuelle Zahlen'!E72","v":25},{"$f":"'aktuelle Zahlen'!F72","v":13},{"$f":"'aktuelle Zahlen'!G72","v":8},{"$f":"'aktuelle Zahlen'!H72","v":2},{"$f":"'aktuelle Zahlen'!J72","v":1},null," ",{"$f":"SUM(COUNTIF($C99:$H99,$AL$11:$AQ$11))","v":1}," ",{"$f":"SUM(COUNTIF($C99:$H99,$AS$11:$AX$11))","v":0}," ",{"$f":"SUM(COUNTIF($C99:$H99,$AZ$11:$BE$11))","v":1}," ",{"$f":"SUM(COUNTIF($C99:$H99,$BG$11:$BL$11))","v":1}," ",{"$f":"SUM(COUNTIF($C99:$H99,$BN$11:$BS$11))","v":1}," ",{"$f":"SUM(COUNTIF($C99:$H99,$BU$11:$BZ$11))","v":0}," ",{"$f":"SUM(COUNTIF($C99:$H99,$CB$11:$CG$11))","v":0}," ",{"$f":"SUM(COUNTIF($C99:$H99,$CI$11:$CN$11))","v":1},2,{"$f":"SUM(COUNTIF($C99:$H99,$CP$11:$CU$11))","v":2},2,{"$f":"SUM(COUNTIF($C99:$H99,$CW$11:$DB$11))","v":2}," ",{"$f":"SUM(COUNTIF($C99:$H99,$DD$11:$DI$11))","v":1}," ",{"$f":"SUM(COUNTIF($C99:$H99,$DK$11:$DP$11))","v":1}]
[{"$f":"'aktuelle Zahlen'!A71","v":"Sa"},{"$f":"'aktuelle Zahlen'!B71","v":"2024-07-27"},{"$f":"'aktuelle Zahlen'!C71","v":23},{"$f":"'aktuelle Zahlen'!D71","v":20},{"$f":"'aktuelle Zahlen'!E71","v":34},{"$f":"'aktuelle Zahlen'!F71","v":27},{"$f":"'aktuelle Zahlen'!G71","v":25},{"$f":"'aktuelle Zahlen'!H71","v":4},{"$f":"'aktuelle Zahlen'!J71","v":3},null," ",{"$f":"SUM(COUNTIF($C100:$H100,$AL$11:$AQ$11))","v":1}," ",{"$f":"SUM(COUNTIF($C100:$H100,$AS$11:$AX$11))","v":0}," ",{"$f":"SUM(COUNTIF($C100:$H100,$AZ$11:$BE$11))","v":0}," ",{"$f":"SUM(COUNTIF($C100:$H100,$BG$11:$BL$11))","v":1}," ",{"$f":"SUM(COUNTIF($C100:$H100,$BN$11:$BS$11))","v":0},2,{"$f":"SUM(COUNTIF($C100:$H100,$BU$11:$BZ$11))","v":2}," ",{"$f":"SUM(COUNTIF($C100:$H100,$CB$11:$CG$11))","v":1}," ",{"$f":"SUM(COUNTIF($C100:$H100,$CI$11:$CN$11))","v":0}," ",{"$f":"SUM(COUNTIF($C100:$H100,$CP$11:$CU$11))","v":0}," ",{"$f":"SUM(COUNTIF($C100:$H100,$CW$11:$DB$11))","v":0}," ",{"$f":"SUM(COUNTIF($C100:$H100,$DD$11:$DI$11))","v":0}," ",{"$f":"SUM(COUNTIF($C100:$H100,$DK$11:$DP$11))","v":0}]
[{"$f":"'aktuelle Zahlen'!A70","v":"Mi"},{"$f":"'aktuelle Zahlen'!B70","v":"2024-07-24"},{"$f":"'aktuelle Zahlen'!C70","v":47},{"$f":"'aktuelle Zahlen'!D70","v":39},{"$f":"'aktuelle Zahlen'!E70","v":38},{"$f":"'aktuelle Zahlen'!F70","v":5},{"$f":"'aktuelle Zahlen'!G70","v":24},{"$f":"'aktuelle Zahlen'!H70","v":4},{"$f":"'aktuelle Zahlen'!J70","v":3},null,2,{"$f":"SUM(COUNTIF($C101:$H101,$AL$11:$AQ$11))","v":2}," ",{"$f":"SUM(COUNTIF($C101:$H101,$AS$11:$AX$11))","v":0}," ",{"$f":"SUM(COUNTIF($C101:$H101,$AZ$11:$BE$11))","v":1}," ",{"$f":"SUM(COUNTIF($C101:$H101,$BG$11:$BL$11))","v":1}," ",{"$f":"SUM(COUNTIF($C101:$H101,$BN$11:$BS$11))","v":1}," ",{"$f":"SUM(COUNTIF($C101:$H101,$BU$11:$BZ$11))","v":1},3,{"$f":"SUM(COUNTIF($C101:$H101,$CB$11:$CG$11))","v":3}," ",{"$f":"SUM(COUNTIF($C101:$H101,$CI$11:$CN$11))","v":1}," ",{"$f":"SUM(COUNTIF($C101:$H101,$CP$11:$CU$11))","v":1}," ",{"$f":"SUM(COUNTIF($C101:$H101,$CW$11:$DB$11))","v":0}," ",{"$f":"SUM(COUNTIF($C101:$H101,$DD$11:$DI$11))","v":0}," ",{"$f":"SUM(COUNTIF($C101:$H101,$DK$11:$DP$11))","v":0}]
[{"$f":"'aktuelle Zahlen'!A69","v":"Sa"},{"$f":"'aktuelle Zahlen'!B69","v":"2024-07-20"},{"$f":"'aktuelle Zahlen'!C69","v":35},{"$f":"'aktuelle Zahlen'!D69","v":29},{"$f":"'aktuelle Zahlen'!E69","v":8},{"$f":"'aktuelle Zahlen'!F69","v":19},{"$f":"'aktuelle Zahlen'!G69","v":30},{"$f":"'aktuelle Zahlen'!H69","v":5},{"$f":"'aktuelle Zahlen'!J69","v":5},null,2,{"$f":"SUM(COUNTIF($C102:$H102,$AL$11:$AQ$11))","v":2}," ",{"$f":"SUM(COUNTIF($C102:$H102,$AS$11:$AX$11))","v":0}," ",{"$f":"SUM(COUNTIF($C102:$H102,$AZ$11:$BE$11))","v":0}," ",{"$f":"SUM(COUNTIF($C102:$H102,$BG$11:$BL$11))","v":0},3,{"$f":"SUM(COUNTIF($C102:$H102,$BN$11:$BS$11))","v":3}," ",{"$f":"SUM(COUNTIF($C102:$H102,$BU$11:$BZ$11))","v":1}," ",{"$f":"SUM(COUNTIF($C102:$H102,$CB$11:$CG$11))","v":0}," ",{"$f":"SUM(COUNTIF($C102:$H102,$CI$11:$CN$11))","v":0}," ",{"$f":"SUM(COUNTIF($C102:$H102,$CP$11:$CU$11))","v":1},2,{"$f":"SUM(COUNTIF($C102:$H102,$CW$11:$DB$11))","v":2}," ",{"$f":"SUM(COUNTIF($C102:$H102,$DD$11:$DI$11))","v":0}," ",{"$f":"SUM(COUNTIF($C102:$H102,$DK$11:$DP$11))","v":1}]
[{"$f":"'aktuelle Zahlen'!A68","v":"Mi"},{"$f":"'aktuelle Zahlen'!B68","v":"2024-07-17"},{"$f":"'aktuelle Zahlen'!C68","v":5},{"$f":"'aktuelle Zahlen'!D68","v":9},{"$f":"'aktuelle Zahlen'!E68","v":8},{"$f":"'aktuelle Zahlen'!F68","v":22},{"$f":"'aktuelle Zahlen'!G68","v":30},{"$f":"'aktuelle Zahlen'!H68","v":33},{"$f":"'aktuelle Zahlen'!J68","v":6},null," ",{"$f":"SUM(COUNTIF($C103:$H103,$AL$11:$AQ$11))","v":1}," ",{"$f":"SUM(COUNTIF($C103:$H103,$AS$11:$AX$11))","v":0}," ",{"$f":"SUM(COUNTIF($C103:$H103,$AZ$11:$BE$11))","v":0}," ",{"$f":"SUM(COUNTIF($C103:$H103,$BG$11:$BL$11))","v":1}," ",{"$f":"SUM(COUNTIF($C103:$H103,$BN$11:$BS$11))","v":1}," ",{"$f":"SUM(COUNTIF($C103:$H103,$BU$11:$BZ$11))","v":0}," ",{"$f":"SUM(COUNTIF($C103:$H103,$CB$11:$CG$11))","v":0}," ",{"$f":"SUM(COUNTIF($C103:$H103,$CI$11:$CN$11))","v":0},2,{"$f":"SUM(COUNTIF($C103:$H103,$CP$11:$CU$11))","v":2}," ",{"$f":"SUM(COUNTIF($C103:$H103,$CW$11:$DB$11))","v":1}," ",{"$f":"SUM(COUNTIF($C103:$H103,$DD$11:$DI$11))","v":0},2,{"$f":"SUM(COUNTIF($C103:$H103,$DK$11:$DP$11))","v":2}]
[{"$f":"'aktuelle Zahlen'!A67","v":"Sa"},{"$f":"'aktuelle Zahlen'!B67","v":"2024-07-13"},{"$f":"'aktuelle Zahlen'!C67","v":9},{"$f":"'aktuelle Zahlen'!D67","v":17},{"$f":"'aktuelle Zahlen'!E67","v":10},{"$f":"'aktuelle Zahlen'!F67","v":42},{"$f":"'aktuelle Zahlen'!G67","v":37},{"$f":"'aktuelle Zahlen'!H67","v":25},{"$f":"'aktuelle Zahlen'!J67","v":0},null," ",{"$f":"SUM(COUNTIF($C104:$H104,$AL$11:$AQ$11))","v":1}," ",{"$f":"SUM(COUNTIF($C104:$H104,$AS$11:$AX$11))","v":0}," ",{"$f":"SUM(COUNTIF($C104:$H104,$AZ$11:$BE$11))","v":1}," ",{"$f":"SUM(COUNTIF($C104:$H104,$BG$11:$BL$11))","v":0}," ",{"$f":"SUM(COUNTIF($C104:$H104,$BN$11:$BS$11))","v":1}," ",{"$f":"SUM(COUNTIF($C104:$H104,$BU$11:$BZ$11))","v":0}," ",{"$f":"SUM(COUNTIF($C104:$H104,$CB$11:$CG$11))","v":0}," ",{"$f":"SUM(COUNTIF($C104:$H104,$CI$11:$CN$11))","v":1},2,{"$f":"SUM(COUNTIF($C104:$H104,$CP$11:$CU$11))","v":2}," ",{"$f":"SUM(COUNTIF($C104:$H104,$CW$11:$DB$11))","v":0},2,{"$f":"SUM(COUNTIF($C104:$H104,$DD$11:$DI$11))","v":2}," ",{"$f":"SUM(COUNTIF($C104:$H104,$DK$11:$DP$11))","v":0}]
[{"$f":"'aktuelle Zahlen'!A66","v":"Mi"},{"$f":"'aktuelle Zahlen'!B66","v":"2024-07-10"},{"$f":"'aktuelle Zahlen'!C66","v":2},{"$f":"'aktuelle Zahlen'!D66","v":27},{"$f":"'aktuelle Zahlen'!E66","v":12},{"$f":"'aktuelle Zahlen'!F66","v":22},{"$f":"'aktuelle Zahlen'!G66","v":43},{"$f":"'aktuelle Zahlen'!H66","v":17},{"$f":"'aktuelle Zahlen'!J66","v":7},null," ",{"$f":"SUM(COUNTIF($C105:$H105,$AL$11:$AQ$11))","v":0}," ",{"$f":"SUM(COUNTIF($C105:$H105,$AS$11:$AX$11))","v":0},2,{"$f":"SUM(COUNTIF($C105:$H105,$AZ$11:$BE$11))","v":2}," ",{"$f":"SUM(COUNTIF($C105:$H105,$BG$11:$BL$11))","v":1}," ",{"$f":"SUM(COUNTIF($C105:$H105,$BN$11:$BS$11))","v":1}," ",{"$f":"SUM(COUNTIF($C105:$H105,$BU$11:$BZ$11))","v":0}," ",{"$f":"SUM(COUNTIF($C105:$H105,$CB$11:$CG$11))","v":1}," ",{"$f":"SUM(COUNTIF($C105:$H105,$CI$11:$CN$11))","v":1}," ",{"$f":"SUM(COUNTIF($C105:$H105,$CP$11:$CU$11))","v":1},2,{"$f":"SUM(COUNTIF($C105:$H105,$CW$11:$DB$11))","v":2},2,{"$f":"SUM(COUNTIF($C105:$H105,$DD$11:$DI$11))","v":2}," ",{"$f":"SUM(COUNTIF($C105:$H105,$DK$11:$DP$11))","v":0}]
[{"$f":"'aktuelle Zahlen'!A65","v":"Sa"},{"$f":"'aktuelle Zahlen'!B65","v":"2024-07-06"},{"$f":"'aktuelle Zahlen'!C65","v":6},{"$f":"'aktuelle Zahlen'!D65","v":1},{"$f":"'aktuelle Zahlen'!E65","v":35},{"$f":"'aktuelle Zahlen'!F65","v":29},{"$f":"'aktuelle Zahlen'!G65","v":13},{"$f":"'aktuelle Zahlen'!H65","v":49},{"$f":"'aktuelle Zahlen'!J65","v":6},null," ",{"$f":"SUM(COUNTIF($C106:$H106,$AL$11:$AQ$11))","v":1}," ",{"$f":"SUM(COUNTIF($C106:$H106,$AS$11:$AX$11))","v":1}," ",{"$f":"SUM(COUNTIF($C106:$H106,$AZ$11:$BE$11))","v":1}," ",{"$f":"SUM(COUNTIF($C106:$H106,$BG$11:$BL$11))","v":0}," ",{"$f":"SUM(COUNTIF($C106:$H106,$BN$11:$BS$11))","v":1}," ",{"$f":"SUM(COUNTIF($C106:$H106,$BU$11:$BZ$11))","v":0}," ",{"$f":"SUM(COUNTIF($C106:$H106,$CB$11:$CG$11))","v":0}," ",{"$f":"SUM(COUNTIF($C106:$H106,$CI$11:$CN$11))","v":1}," ",{"$f":"SUM(COUNTIF($C106:$H106,$CP$11:$CU$11))","v":0},2,{"$f":"SUM(COUNTIF($C106:$H106,$CW$11:$DB$11))","v":2}," ",{"$f":"SUM(COUNTIF($C106:$H106,$DD$11:$DI$11))","v":1}," ",{"$f":"SUM(COUNTIF($C106:$H106,$DK$11:$DP$11))","v":0}]
[{"$f":"'aktuelle Zahlen'!A64","v":"Mi"},{"$f":"'aktuelle Zahlen'!B64","v":"2024-07-03"},{"$f":"'aktuelle Zahlen'!C64","v":39},{"$f":"'aktuelle Zahlen'!D64","v":18},{"$f":"'aktuelle Zahlen'!E64","v":34},{"$f":"'aktuelle Zahlen'!F64","v":30},{"$f":"'aktuelle Zahlen'!G64","v":33},{"$f":"'aktuelle Zahlen'!H64","v":3},{"$f":"'aktuelle Zahlen'!J64","v":8},null," ",{"$f":"SUM(COUNTIF($C107:$H107,$AL$11:$AQ$11))","v":1}," ",{"$f":"SUM(COUNTIF($C107:$H107,$AS$11:$AX$11))","v":0}," ",{"$f":"SUM(COUNTIF($C107:$H107,$AZ$11:$BE$11))","v":0}," ",{"$f":"SUM(COUNTIF($C107:$H107,$BG$11:$BL$11))","v":1}," ",{"$f":"SUM(COUNTIF($C107:$H107,$BN$11:$BS$11))","v":0}," ",{"$f":"SUM(COUNTIF($C107:$H107,$BU$11:$BZ$11))","v":0}," ",{"$f":"SUM(COUNTIF($C107:$H107,$CB$11:$CG$11))","v":1}," ",{"$f":"SUM(COUNTIF($C107:$H107,$CI$11:$CN$11))","v":1}," ",{"$f":"SUM(COUNTIF($C107:$H107,$CP$11:$CU$11))","v":1}," ",{"$f":"SUM(COUNTIF($C107:$H107,$CW$11:$DB$11))","v":1}," ",{"$f":"SUM(COUNTIF($C107:$H107,$DD$11:$DI$11))","v":0},2,{"$f":"SUM(COUNTIF($C107:$H107,$DK$11:$DP$11))","v":2}]
[{"$f":"'aktuelle Zahlen'!A63","v":"Sa"},{"$f":"'aktuelle Zahlen'!B63","v":"2024-06-29"},{"$f":"'aktuelle Zahlen'!C63","v":19},{"$f":"'aktuelle Zahlen'!D63","v":30},{"$f":"'aktuelle Zahlen'!E63","v":16},{"$f":"'aktuelle Zahlen'!F63","v":15},{"$f":"'aktuelle Zahlen'!G63","v":11},{"$f":"'aktuelle Zahlen'!H63","v":35},{"$f":"'aktuelle Zahlen'!J63","v":3},null," ",{"$f":"SUM(COUNTIF($C108:$H108,$AL$11:$AQ$11))","v":0},2,{"$f":"SUM(COUNTIF($C108:$H108,$AS$11:$AX$11))","v":2}," ",{"$f":"SUM(COUNTIF($C108:$H108,$AZ$11:$BE$11))","v":0}," ",{"$f":"SUM(COUNTIF($C108:$H108,$BG$11:$BL$11))","v":0}," ",{"$f":"SUM(COUNTIF($C108:$H108,$BN$11:$BS$11))","v":1}," ",{"$f":"SUM(COUNTIF($C108:$H108,$BU$11:$BZ$11))","v":1}," ",{"$f":"SUM(COUNTIF($C108:$H108,$CB$11:$CG$11))","v":0}," ",{"$f":"SUM(COUNTIF($C108:$H108,$CI$11:$CN$11))","v":0}," ",{"$f":"SUM(COUNTIF($C108:$H108,$CP$11:$CU$11))","v":0},2,{"$f":"SUM(COUNTIF($C108:$H108,$CW$11:$DB$11))","v":2}," ",{"$f":"SUM(COUNTIF($C108:$H108,$DD$11:$DI$11))","v":1},3,{"$f":"SUM(COUNTIF($C108:$H108,$DK$11:$DP$11))","v":3}]
[{"$f":"'aktuelle Zahlen'!A62","v":"Mi"},{"$f":"'aktuelle Zahlen'!B62","v":"2024-06-26"},{"$f":"'aktuelle Zahlen'!C62","v":7},{"$f":"'aktuelle Zahlen'!D62","v":17},{"$f":"'aktuelle Zahlen'!E62","v":39},{"$f":"'aktuelle Zahlen'!F62","v":35},{"$f":"'aktuelle Zahlen'!G62","v":36},{"$f":"'aktuelle Zahlen'!H62","v":30},{"$f":"'aktuelle Zahlen'!J62","v":9},null," ",{"$f":"SUM(COUNTIF($C109:$H109,$AL$11:$AQ$11))","v":0}," ",{"$f":"SUM(COUNTIF($C109:$H109,$AS$11:$AX$11))","v":0}," ",{"$f":"SUM(COUNTIF($C109:$H109,$AZ$11:$BE$11))","v":1}," ",{"$f":"SUM(COUNTIF($C109:$H109,$BG$11:$BL$11))","v":0}," ",{"$f":"SUM(COUNTIF($C109:$H109,$BN$11:$BS$11))","v":0}," ",{"$f":"SUM(COUNTIF($C109:$H109,$BU$11:$BZ$11))","v":0}," ",{"$f":"SUM(COUNTIF($C109:$H109,$CB$11:$CG$11))","v":1}," ",{"$f":"SUM(COUNTIF($C109:$H109,$CI$11:$CN$11))","v":0}," ",{"$f":"SUM(COUNTIF($C109:$H109,$CP$11:$CU$11))","v":1}," ",{"$f":"SUM(COUNTIF($C109:$H109,$CW$11:$DB$11))","v":1}," ",{"$f":"SUM(COUNTIF($C109:$H109,$DD$11:$DI$11))","v":1}," ",{"$f":"SUM(COUNTIF($C109:$H109,$DK$11:$DP$11))","v":1}]
[{"$f":"'aktuelle Zahlen'!A61","v":"Sa"},{"$f":"'aktuelle Zahlen'!B61","v":"2024-06-22"},{"$f":"'aktuelle Zahlen'!C61","v":25},{"$f":"'aktuelle Zahlen'!D61","v":21},{"$f":"'aktuelle Zahlen'!E61","v":8},{"$f":"'aktuelle Zahlen'!F61","v":11},{"$f":"'aktuelle Zahlen'!G61","v":30},{"$f":"'aktuelle Zahlen'!H61","v":9},{"$f":"'aktuelle Zahlen'!J61","v":1},null," ",{"$f":"SUM(COUNTIF($C110:$H110,$AL$11:$AQ$11))","v":0}," ",{"$f":"SUM(COUNTIF($C110:$H110,$AS$11:$AX$11))","v":1}," ",{"$f":"SUM(COUNTIF($C110:$H110,$AZ$11:$BE$11))","v":0}," ",{"$f":"SUM(COUNTIF($C110:$H110,$BG$11:$BL$11))","v":0}," ",{"$f":"SUM(COUNTIF($C110:$H110,$BN$11:$BS$11))","v":1}," ",{"$f":"SUM(COUNTIF($C110:$H110,$BU$11:$BZ$11))","v":0}," ",{"$f":"SUM(COUNTIF($C110:$H110,$CB$11:$CG$11))","v":0}," ",{"$f":"SUM(COUNTIF($C110:$H110,$CI$11:$CN$11))","v":0},2,{"$f":"SUM(COUNTIF($C110:$H110,$CP$11:$CU$11))","v":2}," ",{"$f":"SUM(COUNTIF($C110:$H110,$CW$11:$DB$11))","v":1}," ",{"$f":"SUM(COUNTIF($C110:$H110,$DD$11:$DI$11))","v":1},2,{"$f":"SUM(COUNTIF($C110:$H110,$DK$11:$DP$11))","v":2}]
[{"$f":"'aktuelle Zahlen'!A60","v":"Mi"},{"$f":"'aktuelle Zahlen'!B60","v":"2024-06-19"},{"$f":"'aktuelle Zahlen'!C60","v":4},{"$f":"'aktuelle Zahlen'!D60","v":1},{"$f":"'aktuelle Zahlen'!E60","v":30},{"$f":"'aktuelle Zahlen'!F60","v":43},{"$f":"'aktuelle Zahlen'!G60","v":32},{"$f":"'aktuelle Zahlen'!H60","v":12},{"$f":"'aktuelle Zahlen'!J60","v":4},null," ",{"$f":"SUM(COUNTIF($C111:$H111,$AL$11:$AQ$11))","v":0}," ",{"$f":"SUM(COUNTIF($C111:$H111,$AS$11:$AX$11))","v":1}," ",{"$f":"SUM(COUNTIF($C111:$H111,$AZ$11:$BE$11))","v":0},2,{"$f":"SUM(COUNTIF($C111:$H111,$BG$11:$BL$11))","v":2}," ",{"$f":"SUM(COUNTIF($C111:$H111,$BN$11:$BS$11))","v":1}," ",{"$f":"SUM(COUNTIF($C111:$H111,$BU$11:$BZ$11))","v":1},2,{"$f":"SUM(COUNTIF($C111:$H111,$CB$11:$CG$11))","v":2}," ",{"$f":"SUM(COUNTIF($C111:$H111,$CI$11:$CN$11))","v":0}," ",{"$f":"SUM(COUNTIF($C111:$H111,$CP$11:$CU$11))","v":0}," ",{"$f":"SUM(COUNTIF($C111:$H111,$CW$11:$DB$11))","v":1}," ",{"$f":"SUM(COUNTIF($C111:$H111,$DD$11:$DI$11))","v":1},2,{"$f":"SUM(COUNTIF($C111:$H111,$DK$11:$DP$11))","v":2}]
[{"$f":"'aktuelle Zahlen'!A59","v":"Sa"},{"$f":"'aktuelle Zahlen'!B59","v":"2024-06-15"},{"$f":"'aktuelle Zahlen'!C59","v":31},{"$f":"'aktuelle Zahlen'!D59","v":38},{"$f":"'aktuelle Zahlen'!E59","v":16},{"$f":"'aktuelle Zahlen'!F59","v":49},{"$f":"'aktuelle Zahlen'!G59","v":30},{"$f":"'aktuelle Zahlen'!H59","v":3},{"$f":"'aktuelle Zahlen'!J59","v":8},null," ",{"$f":"SUM(COUNTIF($C112:$H112,$AL$11:$AQ$11))","v":1}," ",{"$f":"SUM(COUNTIF($C112:$H112,$AS$11:$AX$11))","v":1},2,{"$f":"SUM(COUNTIF($C112:$H112,$AZ$11:$BE$11))","v":2}," ",{"$f":"SUM(COUNTIF($C112:$H112,$BG$11:$BL$11))","v":0}," ",{"$f":"SUM(COUNTIF($C112:$H112,$BN$11:$BS$11))","v":1}," ",{"$f":"SUM(COUNTIF($C112:$H112,$BU$11:$BZ$11))","v":0}," ",{"$f":"SUM(COUNTIF($C112:$H112,$CB$11:$CG$11))","v":1}," ",{"$f":"SUM(COUNTIF($C112:$H112,$CI$11:$CN$11))","v":1}," ",{"$f":"SUM(COUNTIF($C112:$H112,$CP$11:$CU$11))","v":1}," ",{"$f":"SUM(COUNTIF($C112:$H112,$CW$11:$DB$11))","v":0}," ",{"$f":"SUM(COUNTIF($C112:$H112,$DD$11:$DI$11))","v":1},2,{"$f":"SUM(COUNTIF($C112:$H112,$DK$11:$DP$11))","v":2}]
[{"$f":"'aktuelle Zahlen'!A58","v":"Mi"},{"$f":"'aktuelle Zahlen'!B58","v":"2024-06-12"},{"$f":"'aktuelle Zahlen'!C58","v":11},{"$f":"'aktuelle Zahlen'!D58","v":10},{"$f":"'aktuelle Zahlen'!E58","v":46},{"$f":"'aktuelle Zahlen'!F58","v":5},{"$f":"'aktuelle Zahlen'!G58","v":9},{"$f":"'aktuelle Zahlen'!H58","v":22},{"$f":"'aktuelle Zahlen'!J58","v":2},null,2,{"$f":"SUM(COUNTIF($C113:$H113,$AL$11:$AQ$11))","v":2}," ",{"$f":"SUM(COUNTIF($C113:$H113,$AS$11:$AX$11))","v":1}," ",{"$f":"SUM(COUNTIF($C113:$H113,$AZ$11:$BE$11))","v":0},2,{"$f":"SUM(COUNTIF($C113:$H113,$BG$11:$BL$11))","v":2}," ",{"$f":"SUM(COUNTIF($C113:$H113,$BN$11:$BS$11))","v":0}," ",{"$f":"SUM(COUNTIF($C113:$H113,$BU$11:$BZ$11))","v":1}," ",{"$f":"SUM(COUNTIF($C113:$H113,$CB$11:$CG$11))","v":1}," ",{"$f":"SUM(COUNTIF($C113:$H113,$CI$11:$CN$11))","v":1}," ",{"$f":"SUM(COUNTIF($C113:$H113,$CP$11:$CU$11))","v":1}," ",{"$f":"SUM(COUNTIF($C113:$H113,$CW$11:$DB$11))","v":1}," ",{"$f":"SUM(COUNTIF($C113:$H113,$DD$11:$DI$11))","v":1}," ",{"$f":"SUM(COUNTIF($C113:$H113,$DK$11:$DP$11))","v":1}]
[{"$f":"'aktuelle Zahlen'!A57","v":"Sa"},{"$f":"'aktuelle Zahlen'!B57","v":"2024-06-08"},{"$f":"'aktuelle Zahlen'!C57","v":10},{"$f":"'aktuelle Zahlen'!D57","v":31},{"$f":"'aktuelle Zahlen'!E57","v":15},{"$f":"'aktuelle Zahlen'!F57","v":40},{"$f":"'aktuelle Zahlen'!G57","v":5},{"$f":"'aktuelle Zahlen'!H57","v":22},{"$f":"'aktuelle Zahlen'!J57","v":9},null,2,{"$f":"SUM(COUNTIF($C114:$H114,$AL$11:$AQ$11))","v":2}," ",{"$f":"SUM(COUNTIF($C114:$H114,$AS$11:$AX$11))","v":0}," ",{"$f":"SUM(COUNTIF($C114:$H114,$AZ$11:$BE$11))","v":0}," ",{"$f":"SUM(COUNTIF($C114:$H114,$BG$11:$BL$11))","v":1}," ",{"$f":"SUM(COUNTIF($C114:$H114,$BN$11:$BS$11))","v":0}," ",{"$f":"SUM(COUNTIF($C114:$H114,$BU$11:$BZ$11))","v":0}," ",{"$f":"SUM(COUNTIF($C114:$H114,$CB$11:$CG$11))","v":0}," ",{"$f":"SUM(COUNTIF($C114:$H114,$CI$11:$CN$11))","v":1}," ",{"$f":"SUM(COUNTIF($C114:$H114,$CP$11:$CU$11))","v":1}," ",{"$f":"SUM(COUNTIF($C114:$H114,$CW$11:$DB$11))","v":0}," ",{"$f":"SUM(COUNTIF($C114:$H114,$DD$11:$DI$11))","v":0}," ",{"$f":"SUM(COUNTIF($C114:$H114,$DK$11:$DP$11))","v":0}]
[{"$f":"'aktuelle Zahlen'!A56","v":"Mi"},{"$f":"'aktuelle Zahlen'!B56","v":"2024-06-05"},{"$f":"'aktuelle Zahlen'!C56","v":16},{"$f":"'aktuelle Zahlen'!D56","v":26},{"$f":"'aktuelle Zahlen'!E56","v":10},{"$f":"'aktuelle Zahlen'!F56","v":33},{"$f":"'aktuelle Zahlen'!G56","v":19},{"$f":"'aktuelle Zahlen'!H56","v":11},{"$f":"'aktuelle Zahlen'!J56","v":5},null," ",{"$f":"SUM(COUNTIF($C115:$H115,$AL$11:$AQ$11))","v":1},3,{"$f":"SUM(COUNTIF($C115:$H115,$AS$11:$AX$11))","v":3}," ",{"$f":"SUM(COUNTIF($C115:$H115,$AZ$11:$BE$11))","v":1}," ",{"$f":"SUM(COUNTIF($C115:$H115,$BG$11:$BL$11))","v":0}," ",{"$f":"SUM(COUNTIF($C115:$H115,$BN$11:$BS$11))","v":1},2,{"$f":"SUM(COUNTIF($C115:$H115,$BU$11:$BZ$11))","v":2}," ",{"$f":"SUM(COUNTIF($C115:$H115,$CB$11:$CG$11))","v":0}," ",{"$f":"SUM(COUNTIF($C115:$H115,$CI$11:$CN$11))","v":1}," ",{"$f":"SUM(COUNTIF($C115:$H115,$CP$11:$CU$11))","v":0},2,{"$f":"SUM(COUNTIF($C115:$H115,$CW$11:$DB$11))","v":2}," ",{"$f":"SUM(COUNTIF($C115:$H115,$DD$11:$DI$11))","v":1},3,{"$f":"SUM(COUNTIF($C115:$H115,$DK$11:$DP$11))","v":3}]
[{"$f":"'aktuelle Zahlen'!A55","v":"Sa"},{"$f":"'aktuelle Zahlen'!B55","v":"2024-06-01"},{"$f":"'aktuelle Zahlen'!C55","v":10},{"$f":"'aktuelle Zahlen'!D55","v":8},{"$f":"'aktuelle Zahlen'!E55","v":27},{"$f":"'aktuelle Zahlen'!F55","v":35},{"$f":"'aktuelle Zahlen'!G55","v":9},{"$f":"'aktuelle Zahlen'!H55","v":41},{"$f":"'aktuelle Zahlen'!J55","v":0},null," ",{"$f":"SUM(COUNTIF($C116:$H116,$AL$11:$AQ$11))","v":1}," ",{"$f":"SUM(COUNTIF($C116:$H116,$AS$11:$AX$11))","v":1}," ",{"$f":"SUM(COUNTIF($C116:$H116,$AZ$11:$BE$11))","v":0}," ",{"$f":"SUM(COUNTIF($C116:$H116,$BG$11:$BL$11))","v":0}," ",{"$f":"SUM(COUNTIF($C116:$H116,$BN$11:$BS$11))","v":1}," ",{"$f":"SUM(COUNTIF($C116:$H116,$BU$11:$BZ$11))","v":0}," ",{"$f":"SUM(COUNTIF($C116:$H116,$CB$11:$CG$11))","v":1}," ",{"$f":"SUM(COUNTIF($C116:$H116,$CI$11:$CN$11))","v":1},2,{"$f":"SUM(COUNTIF($C116:$H116,$CP$11:$CU$11))","v":2}," ",{"$f":"SUM(COUNTIF($C116:$H116,$CW$11:$DB$11))","v":1}," ",{"$f":"SUM(COUNTIF($C116:$H116,$DD$11:$DI$11))","v":0}," ",{"$f":"SUM(COUNTIF($C116:$H116,$DK$11:$DP$11))","v":0}]
[{"$f":"'aktuelle Zahlen'!A54","v":"Mi"},{"$f":"'aktuelle Zahlen'!B54","v":"2024-05-29"},{"$f":"'aktuelle Zahlen'!C54","v":3},{"$f":"'aktuelle Zahlen'!D54","v":44},{"$f":"'aktuelle Zahlen'!E54","v":5},{"$f":"'aktuelle Zahlen'!F54","v":11},{"$f":"'aktuelle Zahlen'!G54","v":12},{"$f":"'aktuelle Zahlen'!H54","v":28},{"$f":"'aktuelle Zahlen'!J54","v":6},null," ",{"$f":"SUM(COUNTIF($C117:$H117,$AL$11:$AQ$11))","v":1}," ",{"$f":"SUM(COUNTIF($C117:$H117,$AS$11:$AX$11))","v":1}," ",{"$f":"SUM(COUNTIF($C117:$H117,$AZ$11:$BE$11))","v":1}," ",{"$f":"SUM(COUNTIF($C117:$H117,$BG$11:$BL$11))","v":1}," ",{"$f":"SUM(COUNTIF($C117:$H117,$BN$11:$BS$11))","v":1}," ",{"$f":"SUM(COUNTIF($C117:$H117,$BU$11:$BZ$11))","v":0}," ",{"$f":"SUM(COUNTIF($C117:$H117,$CB$11:$CG$11))","v":0}," ",{"$f":"SUM(COUNTIF($C117:$H117,$CI$11:$CN$11))","v":1}," ",{"$f":"SUM(COUNTIF($C117:$H117,$CP$11:$CU$11))","v":0}," ",{"$f":"SUM(COUNTIF($C117:$H117,$CW$11:$DB$11))","v":1}," ",{"$f":"SUM(COUNTIF($C117:$H117,$DD$11:$DI$11))","v":1},2,{"$f":"SUM(COUNTIF($C117:$H117,$DK$11:$DP$11))","v":2}]
[{"$f":"'aktuelle Zahlen'!A53","v":"Sa"},{"$f":"'aktuelle Zahlen'!B53","v":"2024-05-25"},{"$f":"'aktuelle Zahlen'!C53","v":41},{"$f":"'aktuelle Zahlen'!D53","v":15},{"$f":"'aktuelle Zahlen'!E53","v":8},{"$f":"'aktuelle Zahlen'!F53","v":38},{"$f":"'aktuelle Zahlen'!G53","v":32},{"$f":"'aktuelle Zahlen'!H53","v":24},{"$f":"'aktuelle Zahlen'!J53","v":5},null," ",{"$f":"SUM(COUNTIF($C118:$H118,$AL$11:$AQ$11))","v":1}," ",{"$f":"SUM(COUNTIF($C118:$H118,$AS$11:$AX$11))","v":1}," ",{"$f":"SUM(COUNTIF($C118:$H118,$AZ$11:$BE$11))","v":1}," ",{"$f":"SUM(COUNTIF($C118:$H118,$BG$11:$BL$11))","v":1},2,{"$f":"SUM(COUNTIF($C118:$H118,$BN$11:$BS$11))","v":2}," ",{"$f":"SUM(COUNTIF($C118:$H118,$BU$11:$BZ$11))","v":0},2,{"$f":"SUM(COUNTIF($C118:$H118,$CB$11:$CG$11))","v":2}," ",{"$f":"SUM(COUNTIF($C118:$H118,$CI$11:$CN$11))","v":0}," ",{"$f":"SUM(COUNTIF($C118:$H118,$CP$11:$CU$11))","v":1}," ",{"$f":"SUM(COUNTIF($C118:$H118,$CW$11:$DB$11))","v":0}," ",{"$f":"SUM(COUNTIF($C118:$H118,$DD$11:$DI$11))","v":1}," ",{"$f":"SUM(COUNTIF($C118:$H118,$DK$11:$DP$11))","v":1}]
[{"$f":"'aktuelle Zahlen'!A52","v":"Mi"},{"$f":"'aktuelle Zahlen'!B52","v":"2024-05-22"},{"$f":"'aktuelle Zahlen'!C52","v":8},{"$f":"'aktuelle Zahlen'!D52","v":15},{"$f":"'aktuelle Zahlen'!E52","v":10},{"$f":"'aktuelle Zahlen'!F52","v":9},{"$f":"'aktuelle Zahlen'!G52","v":47},{"$f":"'aktuelle Zahlen'!H52","v":38},{"$f":"'aktuelle Zahlen'!J52","v":4},null,2,{"$f":"SUM(COUNTIF($C119:$H119,$AL$11:$AQ$11))","v":2}," ",{"$f":"SUM(COUNTIF($C119:$H119,$AS$11:$AX$11))","v":0}," ",{"$f":"SUM(COUNTIF($C119:$H119,$AZ$11:$BE$11))","v":1}," ",{"$f":"SUM(COUNTIF($C119:$H119,$BG$11:$BL$11))","v":0},2,{"$f":"SUM(COUNTIF($C119:$H119,$BN$11:$BS$11))","v":2}," ",{"$f":"SUM(COUNTIF($C119:$H119,$BU$11:$BZ$11))","v":0}," ",{"$f":"SUM(COUNTIF($C119:$H119,$CB$11:$CG$11))","v":1},2,{"$f":"SUM(COUNTIF($C119:$H119,$CI$11:$CN$11))","v":2},3,{"$f":"SUM(COUNTIF($C119:$H119,$CP$11:$CU$11))","v":3}," ",{"$f":"SUM(COUNTIF($C119:$H119,$CW$11:$DB$11))","v":0}," ",{"$f":"SUM(COUNTIF($C119:$H119,$DD$11:$DI$11))","v":0}," ",{"$f":"SUM(COUNTIF($C119:$H119,$DK$11:$DP$11))","v":0}]
[{"$f":"'aktuelle Zahlen'!A51","v":"Sa"},{"$f":"'aktuelle Zahlen'!B51","v":"2024-05-18"},{"$f":"'aktuelle Zahlen'!C51","v":49},{"$f":"'aktuelle Zahlen'!D51","v":36},{"$f":"'aktuelle Zahlen'!E51","v":1},{"$f":"'aktuelle Zahlen'!F51","v":28},{"$f":"'aktuelle Zahlen'!G51","v":43},{"$f":"'aktuelle Zahlen'!H51","v":2},{"$f":"'aktuelle Zahlen'!J51","v":0},null," ",{"$f":"SUM(COUNTIF($C120:$H120,$AL$11:$AQ$11))","v":0}," ",{"$f":"SUM(COUNTIF($C120:$H120,$AS$11:$AX$11))","v":1},3,{"$f":"SUM(COUNTIF($C120:$H120,$AZ$11:$BE$11))","v":3}," ",{"$f":"SUM(COUNTIF($C120:$H120,$BG$11:$BL$11))","v":1}," ",{"$f":"SUM(COUNTIF($C120:$H120,$BN$11:$BS$11))","v":0}," ",{"$f":"SUM(COUNTIF($C120:$H120,$BU$11:$BZ$11))","v":0}," ",{"$f":"SUM(COUNTIF($C120:$H120,$CB$11:$CG$11))","v":1}," ",{"$f":"SUM(COUNTIF($C120:$H120,$CI$11:$CN$11))","v":1}," ",{"$f":"SUM(COUNTIF($C120:$H120,$CP$11:$CU$11))","v":0},2,{"$f":"SUM(COUNTIF($C120:$H120,$CW$11:$DB$11))","v":2},2,{"$f":"SUM(COUNTIF($C120:$H120,$DD$11:$DI$11))","v":2}," ",{"$f":"SUM(COUNTIF($C120:$H120,$DK$11:$DP$11))","v":0}]
[{"$f":"'aktuelle Zahlen'!A50","v":"Mi"},{"$f":"'aktuelle Zahlen'!B50","v":"2024-05-15"},{"$f":"'aktuelle Zahlen'!C50","v":31},{"$f":"'aktuelle Zahlen'!D50","v":28},{"$f":"'aktuelle Zahlen'!E50","v":44},{"$f":"'aktuelle Zahlen'!F50","v":46},{"$f":"'aktuelle Zahlen'!G50","v":10},{"$f":"'aktuelle Zahlen'!H50","v":9},{"$f":"'aktuelle Zahlen'!J50","v":9},null," ",{"$f":"SUM(COUNTIF($C121:$H121,$AL$11:$AQ$11))","v":1}," ",{"$f":"SUM(COUNTIF($C121:$H121,$AS$11:$AX$11))","v":0}," ",{"$f":"SUM(COUNTIF($C121:$H121,$AZ$11:$BE$11))","v":1},2,{"$f":"SUM(COUNTIF($C121:$H121,$BG$11:$BL$11))","v":2}," ",{"$f":"SUM(COUNTIF($C121:$H121,$BN$11:$BS$11))","v":0}," ",{"$f":"SUM(COUNTIF($C121:$H121,$BU$11:$BZ$11))","v":1}," ",{"$f":"SUM(COUNTIF($C121:$H121,$CB$11:$CG$11))","v":1}," ",{"$f":"SUM(COUNTIF($C121:$H121,$CI$11:$CN$11))","v":1},2,{"$f":"SUM(COUNTIF($C121:$H121,$CP$11:$CU$11))","v":2}," ",{"$f":"SUM(COUNTIF($C121:$H121,$CW$11:$DB$11))","v":0}," ",{"$f":"SUM(COUNTIF($C121:$H121,$DD$11:$DI$11))","v":0}," ",{"$f":"SUM(COUNTIF($C121:$H121,$DK$11:$DP$11))","v":1}]
[{"$f":"'aktuelle Zahlen'!A49","v":"Sa"},{"$f":"'aktuelle Zahlen'!B49","v":"2024-05-11"},{"$f":"'aktuelle Zahlen'!C49","v":25},{"$f":"'aktuelle Zahlen'!D49","v":36},{"$f":"'aktuelle Zahlen'!E49","v":30},{"$f":"'aktuelle Zahlen'!F49","v":29},{"$f":"'aktuelle Zahlen'!G49","v":22},{"$f":"'aktuelle Zahlen'!H49","v":5},{"$f":"'aktuelle Zahlen'!J49","v":0},null,2,{"$f":"SUM(COUNTIF($C122:$H122,$AL$11:$AQ$11))","v":2}," ",{"$f":"SUM(COUNTIF($C122:$H122,$AS$11:$AX$11))","v":0}," ",{"$f":"SUM(COUNTIF($C122:$H122,$AZ$11:$BE$11))","v":0}," ",{"$f":"SUM(COUNTIF($C122:$H122,$BG$11:$BL$11))","v":1}," ",{"$f":"SUM(COUNTIF($C122:$H122,$BN$11:$BS$11))","v":1}," ",{"$f":"SUM(COUNTIF($C122:$H122,$BU$11:$BZ$11))","v":0}," ",{"$f":"SUM(COUNTIF($C122:$H122,$CB$11:$CG$11))","v":0}," ",{"$f":"SUM(COUNTIF($C122:$H122,$CI$11:$CN$11))","v":0}," ",{"$f":"SUM(COUNTIF($C122:$H122,$CP$11:$CU$11))","v":0}," ",{"$f":"SUM(COUNTIF($C122:$H122,$CW$11:$DB$11))","v":1}," ",{"$f":"SUM(COUNTIF($C122:$H122,$DD$11:$DI$11))","v":0}," ",{"$f":"SUM(COUNTIF($C122:$H122,$DK$11:$DP$11))","v":1}]
[{"$f":"'aktuelle Zahlen'!A48","v":"Mi"},{"$f":"'aktuelle Zahlen'!B48","v":"2024-05-08"},{"$f":"'aktuelle Zahlen'!C48","v":31},{"$f":"'aktuelle Zahlen'!D48","v":3},{"$f":"'aktuelle Zahlen'!E48","v":40},{"$f":"'aktuelle Zahlen'!F48","v":23},{"$f":"'aktuelle Zahlen'!G48","v":30},{"$f":"'aktuelle Zahlen'!H48","v":27},{"$f":"'aktuelle Zahlen'!J48","v":8},null," ",{"$f":"SUM(COUNTIF($C123:$H123,$AL$11:$AQ$11))","v":1}," ",{"$f":"SUM(COUNTIF($C123:$H123,$AS$11:$AX$11))","v":0}," ",{"$f":"SUM(COUNTIF($C123:$H123,$AZ$11:$BE$11))","v":0}," ",{"$f":"SUM(COUNTIF($C123:$H123,$BG$11:$BL$11))","v":0}," ",{"$f":"SUM(COUNTIF($C123:$H123,$BN$11:$BS$11))","v":0}," ",{"$f":"SUM(COUNTIF($C123:$H123,$BU$11:$BZ$11))","v":1}," ",{"$f":"SUM(COUNTIF($C123:$H123,$CB$11:$CG$11))","v":0}," ",{"$f":"SUM(COUNTIF($C123:$H123,$CI$11:$CN$11))","v":1}," ",{"$f":"SUM(COUNTIF($C123:$H123,$CP$11:$CU$11))","v":1}," ",{"$f":"SUM(COUNTIF($C123:$H123,$CW$11:$DB$11))","v":0}," ",{"$f":"SUM(COUNTIF($C123:$H123,$DD$11:$DI$11))","v":0}," ",{"$f":"SUM(COUNTIF($C123:$H123,$DK$11:$DP$11))","v":1}]
[{"$f":"'aktuelle Zahlen'!A47","v":"Sa"},{"$f":"'aktuelle Zahlen'!B47","v":"2024-05-04"},{"$f":"'aktuelle Zahlen'!C47","v":47},{"$f":"'aktuelle Zahlen'!D47","v":29},{"$f":"'aktuelle Zahlen'!E47","v":10},{"$f":"'aktuelle Zahlen'!F47","v":38},{"$f":"'aktuelle Zahlen'!G47","v":9},{"$f":"'aktuelle Zahlen'!H47","v":27},{"$f":"'aktuelle Zahlen'!J47","v":1},null,3,{"$f":"SUM(COUNTIF($C124:$H124,$AL$11:$AQ$11))","v":3}," ",{"$f":"SUM(COUNTIF($C124:$H124,$AS$11:$AX$11))","v":0}," ",{"$f":"SUM(COUNTIF($C124:$H124,$AZ$11:$BE$11))","v":1}," ",{"$f":"SUM(COUNTIF($C124:$H124,$BG$11:$BL$11))","v":0},2,{"$f":"SUM(COUNTIF($C124:$H124,$BN$11:$BS$11))","v":2}," ",{"$f":"SUM(COUNTIF($C124:$H124,$BU$11:$BZ$11))","v":0}," ",{"$f":"SUM(COUNTIF($C124:$H124,$CB$11:$CG$11))","v":1},2,{"$f":"SUM(COUNTIF($C124:$H124,$CI$11:$CN$11))","v":2},2,{"$f":"SUM(COUNTIF($C124:$H124,$CP$11:$CU$11))","v":2}," ",{"$f":"SUM(COUNTIF($C124:$H124,$CW$11:$DB$11))","v":1}," ",{"$f":"SUM(COUNTIF($C124:$H124,$DD$11:$DI$11))","v":0}," ",{"$f":"SUM(COUNTIF($C124:$H124,$DK$11:$DP$11))","v":0}]
[{"$f":"'aktuelle Zahlen'!A46","v":"Mi"},{"$f":"'aktuelle Zahlen'!B46","v":"2024-05-01"},{"$f":"'aktuelle Zahlen'!C46","v":41},{"$f":"'aktuelle Zahlen'!D46","v":36},{"$f":"'aktuelle Zahlen'!E46","v":31},{"$f":"'aktuelle Zahlen'!F46","v":37},{"$f":"'aktuelle Zahlen'!G46","v":26},{"$f":"'aktuelle Zahlen'!H46","v":6},{"$f":"'aktuelle Zahlen'!J46","v":1},null," ",{"$f":"SUM(COUNTIF($C125:$H125,$AL$11:$AQ$11))","v":0},2,{"$f":"SUM(COUNTIF($C125:$H125,$AS$11:$AX$11))","v":2}," ",{"$f":"SUM(COUNTIF($C125:$H125,$AZ$11:$BE$11))","v":1}," ",{"$f":"SUM(COUNTIF($C125:$H125,$BG$11:$BL$11))","v":0}," ",{"$f":"SUM(COUNTIF($C125:$H125,$BN$11:$BS$11))","v":0}," ",{"$f":"SUM(COUNTIF($C125:$H125,$BU$11:$BZ$11))","v":1}," ",{"$f":"SUM(COUNTIF($C125:$H125,$CB$11:$CG$11))","v":1}," ",{"$f":"SUM(COUNTIF($C125:$H125,$CI$11:$CN$11))","v":1}," ",{"$f":"SUM(COUNTIF($C125:$H125,$CP$11:$CU$11))","v":1}," ",{"$f":"SUM(COUNTIF($C125:$H125,$CW$11:$DB$11))","v":0}," ",{"$f":"SUM(COUNTIF($C125:$H125,$DD$11:$DI$11))","v":1}," ",{"$f":"SUM(COUNTIF($C125:$H125,$DK$11:$DP$11))","v":0}]
[{"$f":"'aktuelle Zahlen'!A45","v":"Sa"},{"$f":"'aktuelle Zahlen'!B45","v":"2024-04-27"},{"$f":"'aktuelle Zahlen'!C45","v":27},{"$f":"'aktuelle Zahlen'!D45","v":8},{"$f":"'aktuelle Zahlen'!E45","v":46},{"$f":"'aktuelle Zahlen'!F45","v":48},{"$f":"'aktuelle Zahlen'!G45","v":43},{"$f":"'aktuelle Zahlen'!H45","v":45},{"$f":"'aktuelle Zahlen'!J45","v":0},null," ",{"$f":"SUM(COUNTIF($C126:$H126,$AL$11:$AQ$11))","v":0}," ",{"$f":"SUM(COUNTIF($C126:$H126,$AS$11:$AX$11))","v":0}," ",{"$f":"SUM(COUNTIF($C126:$H126,$AZ$11:$BE$11))","v":0}," ",{"$f":"SUM(COUNTIF($C126:$H126,$BG$11:$BL$11))","v":1}," ",{"$f":"SUM(COUNTIF($C126:$H126,$BN$11:$BS$11))","v":1},2,{"$f":"SUM(COUNTIF($C126:$H126,$BU$11:$BZ$11))","v":2},2,{"$f":"SUM(COUNTIF($C126:$H126,$CB$11:$CG$11))","v":2}," ",{"$f":"SUM(COUNTIF($C126:$H126,$CI$11:$CN$11))","v":1}," ",{"$f":"SUM(COUNTIF($C126:$H126,$CP$11:$CU$11))","v":1}," ",{"$f":"SUM(COUNTIF($C126:$H126,$CW$11:$DB$11))","v":1}," ",{"$f":"SUM(COUNTIF($C126:$H126,$DD$11:$DI$11))","v":0}," ",{"$f":"SUM(COUNTIF($C126:$H126,$DK$11:$DP$11))","v":0}]
[{"$f":"'aktuelle Zahlen'!A44","v":"Mi"},{"$f":"'aktuelle Zahlen'!B44","v":"2024-04-24"},{"$f":"'aktuelle Zahlen'!C44","v":15},{"$f":"'aktuelle Zahlen'!D44","v":19},{"$f":"'aktuelle Zahlen'!E44","v":25},{"$f":"'aktuelle Zahlen'!F44","v":29},{"$f":"'aktuelle Zahlen'!G44","v":13},{"$f":"'aktuelle Zahlen'!H44","v":12},{"$f":"'aktuelle Zahlen'!J44","v":7},null," ",{"$f":"SUM(COUNTIF($C127:$H127,$AL$11:$AQ$11))","v":1}," ",{"$f":"SUM(COUNTIF($C127:$H127,$AS$11:$AX$11))","v":0}," ",{"$f":"SUM(COUNTIF($C127:$H127,$AZ$11:$BE$11))","v":0}," ",{"$f":"SUM(COUNTIF($C127:$H127,$BG$11:$BL$11))","v":0},3,{"$f":"SUM(COUNTIF($C127:$H127,$BN$11:$BS$11))","v":3}," ",{"$f":"SUM(COUNTIF($C127:$H127,$BU$11:$BZ$11))","v":1}," ",{"$f":"SUM(COUNTIF($C127:$H127,$CB$11:$CG$11))","v":0}," ",{"$f":"SUM(COUNTIF($C127:$H127,$CI$11:$CN$11))","v":0}," ",{"$f":"SUM(COUNTIF($C127:$H127,$CP$11:$CU$11))","v":0}," ",{"$f":"SUM(COUNTIF($C127:$H127,$CW$11:$DB$11))","v":1}," ",{"$f":"SUM(COUNTIF($C127:$H127,$DD$11:$DI$11))","v":0}," ",{"$f":"SUM(COUNTIF($C127:$H127,$DK$11:$DP$11))","v":0}]
[{"$f":"'aktuelle Zahlen'!A43","v":"Sa"},{"$f":"'aktuelle Zahlen'!B43","v":"2024-04-20"},{"$f":"'aktuelle Zahlen'!C43","v":44},{"$f":"'aktuelle Zahlen'!D43","v":7},{"$f":"'aktuelle Zahlen'!E43","v":49},{"$f":"'aktuelle Zahlen'!F43","v":28},{"$f":"'aktuelle Zahlen'!G43","v":35},{"$f":"'aktuelle Zahlen'!H43","v":17},{"$f":"'aktuelle Zahlen'!J43","v":3},null," ",{"$f":"SUM(COUNTIF($C128:$H128,$AL$11:$AQ$11))","v":0}," ",{"$f":"SUM(COUNTIF($C128:$H128,$AS$11:$AX$11))","v":0},3,{"$f":"SUM(COUNTIF($C128:$H128,$AZ$11:$BE$11))","v":3}," ",{"$f":"SUM(COUNTIF($C128:$H128,$BG$11:$BL$11))","v":1}," ",{"$f":"SUM(COUNTIF($C128:$H128,$BN$11:$BS$11))","v":0}," ",{"$f":"SUM(COUNTIF($C128:$H128,$BU$11:$BZ$11))","v":0}," ",{"$f":"SUM(COUNTIF($C128:$H128,$CB$11:$CG$11))","v":0}," ",{"$f":"SUM(COUNTIF($C128:$H128,$CI$11:$CN$11))","v":0}," ",{"$f":"SUM(COUNTIF($C128:$H128,$CP$11:$CU$11))","v":1}," ",{"$f":"SUM(COUNTIF($C128:$H128,$CW$11:$DB$11))","v":1},2,{"$f":"SUM(COUNTIF($C128:$H128,$DD$11:$DI$11))","v":2}," ",{"$f":"SUM(COUNTIF($C128:$H128,$DK$11:$DP$11))","v":1}]
[{"$f":"'aktuelle Zahlen'!A42","v":"Mi"},{"$f":"'aktuelle Zahlen'!B42","v":"2024-04-17"},{"$f":"'aktuelle Zahlen'!C42","v":37},{"$f":"'aktuelle Zahlen'!D42","v":34},{"$f":"'aktuelle Zahlen'!E42","v":16},{"$f":"'aktuelle Zahlen'!F42","v":47},{"$f":"'aktuelle Zahlen'!G42","v":40},{"$f":"'aktuelle Zahlen'!H42","v":9},{"$f":"'aktuelle Zahlen'!J42","v":2},null," ",{"$f":"SUM(COUNTIF($C129:$H129,$AL$11:$AQ$11))","v":0}," ",{"$f":"SUM(COUNTIF($C129:$H129,$AS$11:$AX$11))","v":1}," ",{"$f":"SUM(COUNTIF($C129:$H129,$AZ$11:$BE$11))","v":0}," ",{"$f":"SUM(COUNTIF($C129:$H129,$BG$11:$BL$11))","v":0}," ",{"$f":"SUM(COUNTIF($C129:$H129,$BN$11:$BS$11))","v":0}," ",{"$f":"SUM(COUNTIF($C129:$H129,$BU$11:$BZ$11))","v":0}," ",{"$f":"SUM(COUNTIF($C129:$H129,$CB$11:$CG$11))","v":0}," ",{"$f":"SUM(COUNTIF($C129:$H129,$CI$11:$CN$11))","v":1},2,{"$f":"SUM(COUNTIF($C129:$H129,$CP$11:$CU$11))","v":2}," ",{"$f":"SUM(COUNTIF($C129:$H129,$CW$11:$DB$11))","v":0}," ",{"$f":"SUM(COUNTIF($C129:$H129,$DD$11:$DI$11))","v":1}," ",{"$f":"SUM(COUNTIF($C129:$H129,$DK$11:$DP$11))","v":1}]
[{"$f":"'aktuelle Zahlen'!A41","v":"Sa"},{"$f":"'aktuelle Zahlen'!B41","v":"2024-04-13"},{"$f":"'aktuelle Zahlen'!C41","v":33},{"$f":"'aktuelle Zahlen'!D41","v":47},{"$f":"'aktuelle Zahlen'!E41","v":3},{"$f":"'aktuelle Zahlen'!F41","v":32},{"$f":"'aktuelle Zahlen'!G41","v":10},{"$f":"'aktuelle Zahlen'!H41","v":6},{"$f":"'aktuelle Zahlen'!J41","v":0},null," ",{"$f":"SUM(COUNTIF($C130:$H130,$AL$11:$AQ$11))","v":1}," ",{"$f":"SUM(COUNTIF($C130:$H130,$AS$11:$AX$11))","v":0}," ",{"$f":"SUM(COUNTIF($C130:$H130,$AZ$11:$BE$11))","v":0}," ",{"$f":"SUM(COUNTIF($C130:$H130,$BG$11:$BL$11))","v":1}," ",{"$f":"SUM(COUNTIF($C130:$H130,$BN$11:$BS$11))","v":0}," ",{"$f":"SUM(COUNTIF($C130:$H130,$BU$11:$BZ$11))","v":0}," ",{"$f":"SUM(COUNTIF($C130:$H130,$CB$11:$CG$11))","v":0},4,{"$f":"SUM(COUNTIF($C130:$H130,$CI$11:$CN$11))","v":4}," ",{"$f":"SUM(COUNTIF($C130:$H130,$CP$11:$CU$11))","v":1}," ",{"$f":"SUM(COUNTIF($C130:$H130,$CW$11:$DB$11))","v":1}," ",{"$f":"SUM(COUNTIF($C130:$H130,$DD$11:$DI$11))","v":1},2,{"$f":"SUM(COUNTIF($C130:$H130,$DK$11:$DP$11))","v":2}]
[{"$f":"'aktuelle Zahlen'!A40","v":"Mi"},{"$f":"'aktuelle Zahlen'!B40","v":"2024-04-10"},{"$f":"'aktuelle Zahlen'!C40","v":7},{"$f":"'aktuelle Zahlen'!D40","v":49},{"$f":"'aktuelle Zahlen'!E40","v":13},{"$f":"'aktuelle Zahlen'!F40","v":8},{"$f":"'aktuelle Zahlen'!G40","v":43},{"$f":"'aktuelle Zahlen'!H40","v":47},{"$f":"'aktuelle Zahlen'!J40","v":2},null," ",{"$f":"SUM(COUNTIF($C131:$H131,$AL$11:$AQ$11))","v":0}," ",{"$f":"SUM(COUNTIF($C131:$H131,$AS$11:$AX$11))","v":0}," ",{"$f":"SUM(COUNTIF($C131:$H131,$AZ$11:$BE$11))","v":1}," ",{"$f":"SUM(COUNTIF($C131:$H131,$BG$11:$BL$11))","v":0}," ",{"$f":"SUM(COUNTIF($C131:$H131,$BN$11:$BS$11))","v":1}," ",{"$f":"SUM(COUNTIF($C131:$H131,$BU$11:$BZ$11))","v":0}," ",{"$f":"SUM(COUNTIF($C131:$H131,$CB$11:$CG$11))","v":1}," ",{"$f":"SUM(COUNTIF($C131:$H131,$CI$11:$CN$11))","v":1},2,{"$f":"SUM(COUNTIF($C131:$H131,$CP$11:$CU$11))","v":2}," ",{"$f":"SUM(COUNTIF($C131:$H131,$CW$11:$DB$11))","v":1}," ",{"$f":"SUM(COUNTIF($C131:$H131,$DD$11:$DI$11))","v":1}," ",{"$f":"SUM(COUNTIF($C131:$H131,$DK$11:$DP$11))","v":0}]
[{"$f":"'aktuelle Zahlen'!A39","v":"Sa"},{"$f":"'aktuelle Zahlen'!B39","v":"2024-04-06"},{"$f":"'aktuelle Zahlen'!C39","v":41},{"$f":"'aktuelle Zahlen'!D39","v":7},{"$f":"'aktuelle Zahlen'!E39","v":13},{"$f":"'aktuelle Zahlen'!F39","v":11},{"$f":"'aktuelle Zahlen'!G39","v":35},{"$f":"'aktuelle Zahlen'!H39","v":20},{"$f":"'aktuelle Zahlen'!J39","v":0},null," ",{"$f":"SUM(COUNTIF($C132:$H132,$AL$11:$AQ$11))","v":0},2,{"$f":"SUM(COUNTIF($C132:$H132,$AS$11:$AX$11))","v":2}," ",{"$f":"SUM(COUNTIF($C132:$H132,$AZ$11:$BE$11))","v":0}," ",{"$f":"SUM(COUNTIF($C132:$H132,$BG$11:$BL$11))","v":0}," ",{"$f":"SUM(COUNTIF($C132:$H132,$BN$11:$BS$11))","v":0}," ",{"$f":"SUM(COUNTIF($C132:$H132,$BU$11:$BZ$11))","v":0}," ",{"$f":"SUM(COUNTIF($C132:$H132,$CB$11:$CG$11))","v":1}," ",{"$f":"SUM(COUNTIF($C132:$H132,$CI$11:$CN$11))","v":0}," ",{"$f":"SUM(COUNTIF($C132:$H132,$CP$11:$CU$11))","v":0},2,{"$f":"SUM(COUNTIF($C132:$H132,$CW$11:$DB$11))","v":2}," ",{"$f":"SUM(COUNTIF($C132:$H132,$DD$11:$DI$11))","v":1}," ",{"$f":"SUM(COUNTIF($C132:$H132,$DK$11:$DP$11))","v":1}]
[{"$f":"'aktuelle Zahlen'!A38","v":"Mi"},{"$f":"'aktuelle Zahlen'!B38","v":"2024-04-03"},{"$f":"'aktuelle Zahlen'!C38","v":35},{"$f":"'aktuelle Zahlen'!D38","v":29},{"$f":"'aktuelle Zahlen'!E38","v":31},{"$f":"'aktuelle Zahlen'!F38","v":36},{"$f":"'aktuelle Zahlen'!G38","v":2},{"$f":"'aktuelle Zahlen'!H38","v":3},{"$f":"'aktuelle Zahlen'!J38","v":9},null," ",{"$f":"SUM(COUNTIF($C133:$H133,$AL$11:$AQ$11))","v":1}," ",{"$f":"SUM(COUNTIF($C133:$H133,$AS$11:$AX$11))","v":0}," ",{"$f":"SUM(COUNTIF($C133:$H133,$AZ$11:$BE$11))","v":1}," ",{"$f":"SUM(COUNTIF($C133:$H133,$BG$11:$BL$11))","v":0}," ",{"$f":"SUM(COUNTIF($C133:$H133,$BN$11:$BS$11))","v":1}," ",{"$f":"SUM(COUNTIF($C133:$H133,$BU$11:$BZ$11))","v":0}," ",{"$f":"SUM(COUNTIF($C133:$H133,$CB$11:$CG$11))","v":0},2,{"$f":"SUM(COUNTIF($C133:$H133,$CI$11:$CN$11))","v":2}," ",{"$f":"SUM(COUNTIF($C133:$H133,$CP$11:$CU$11))","v":1},3,{"$f":"SUM(COUNTIF($C133:$H133,$CW$11:$DB$11))","v":3}," ",{"$f":"SUM(COUNTIF($C133:$H133,$DD$11:$DI$11))","v":1}," ",{"$f":"SUM(COUNTIF($C133:$H133,$DK$11:$DP$11))","v":0}]
[{"$f":"'aktuelle Zahlen'!A37","v":"Sa"},{"$f":"'aktuelle Zahlen'!B37","v":"2024-03-30"},{"$f":"'aktuelle Zahlen'!C37","v":27},{"$f":"'aktuelle Zahlen'!D37","v":16},{"$f":"'aktuelle Zahlen'!E37","v":21},{"$f":"'aktuelle Zahlen'!F37","v":10},{"$f":"'aktuelle Zahlen'!G37","v":5},{"$f":"'aktuelle Zahlen'!H37","v":33},{"$f":"'aktuelle Zahlen'!J37","v":0},null,2,{"$f":"SUM(COUNTIF($C134:$H134,$AL$11:$AQ$11))","v":2}," ",{"$f":"SUM(COUNTIF($C134:$H134,$AS$11:$AX$11))","v":1}," ",{"$f":"SUM(COUNTIF($C134:$H134,$AZ$11:$BE$11))","v":0}," ",{"$f":"SUM(COUNTIF($C134:$H134,$BG$11:$BL$11))","v":0}," ",{"$f":"SUM(COUNTIF($C134:$H134,$BN$11:$BS$11))","v":0}," ",{"$f":"SUM(COUNTIF($C134:$H134,$BU$11:$BZ$11))","v":0}," ",{"$f":"SUM(COUNTIF($C134:$H134,$CB$11:$CG$11))","v":0}," ",{"$f":"SUM(COUNTIF($C134:$H134,$CI$11:$CN$11))","v":1}," ",{"$f":"SUM(COUNTIF($C134:$H134,$CP$11:$CU$11))","v":0}," ",{"$f":"SUM(COUNTIF($C134:$H134,$CW$11:$DB$11))","v":1}," ",{"$f":"SUM(COUNTIF($C134:$H134,$DD$11:$DI$11))","v":0},2,{"$f":"SUM(COUNTIF($C134:$H134,$DK$11:$DP$11))","v":2}]
[{"$f":"'aktuelle Zahlen'!A36","v":"Mi"},{"$f":"'aktuelle Zahlen'!B36","v":"2024-03-27"},{"$f":"'aktuelle Zahlen'!C36","v":41},{"$f":"'aktuelle Zahlen'!D36","v":32},{"$f":"'aktuelle Zahlen'!E36","v":44},{"$f":"'aktuelle Zahlen'!F36","v":20},{"$f":"'aktuelle Zahlen'!G36","v":2},{"$f":"'aktuelle Zahlen'!H36","v":13},{"$f":"'aktuelle Zahlen'!J36","v":2},null," ",{"$f":"SUM(COUNTIF($C135:$H135,$AL$11:$AQ$11))","v":0}," ",{"$f":"SUM(COUNTIF($C135:$H135,$AS$11:$AX$11))","v":1}," ",{"$f":"SUM(COUNTIF($C135:$H135,$AZ$11:$BE$11))","v":1}," ",{"$f":"SUM(COUNTIF($C135:$H135,$BG$11:$BL$11))","v":1}," ",{"$f":"SUM(COUNTIF($C135:$H135,$BN$11:$BS$11))","v":0}," ",{"$f":"SUM(COUNTIF($C135:$H135,$BU$11:$BZ$11))","v":0}," ",{"$f":"SUM(COUNTIF($C135:$H135,$CB$11:$CG$11))","v":1}," ",{"$f":"SUM(COUNTIF($C135:$H135,$CI$11:$CN$11))","v":1}," ",{"$f":"SUM(COUNTIF($C135:$H135,$CP$11:$CU$11))","v":0}," ",{"$f":"SUM(COUNTIF($C135:$H135,$CW$11:$DB$11))","v":1},2,{"$f":"SUM(COUNTIF($C135:$H135,$DD$11:$DI$11))","v":2},2,{"$f":"SUM(COUNTIF($C135:$H135,$DK$11:$DP$11))","v":2}]
[{"$f":"'aktuelle Zahlen'!A35","v":"Sa"},{"$f":"'aktuelle Zahlen'!B35","v":"2024-03-23"},{"$f":"'aktuelle Zahlen'!C35","v":40},{"$f":"'aktuelle Zahlen'!D35","v":21},{"$f":"'aktuelle Zahlen'!E35","v":32},{"$f":"'aktuelle Zahlen'!F35","v":4},{"$f":"'aktuelle Zahlen'!G35","v":38},{"$f":"'aktuelle Zahlen'!H35","v":1},{"$f":"'aktuelle Zahlen'!J35","v":7},null," ",{"$f":"SUM(COUNTIF($C136:$H136,$AL$11:$AQ$11))","v":1}," ",{"$f":"SUM(COUNTIF($C136:$H136,$AS$11:$AX$11))","v":1}," ",{"$f":"SUM(COUNTIF($C136:$H136,$AZ$11:$BE$11))","v":1},2,{"$f":"SUM(COUNTIF($C136:$H136,$BG$11:$BL$11))","v":2}," ",{"$f":"SUM(COUNTIF($C136:$H136,$BN$11:$BS$11))","v":1}," ",{"$f":"SUM(COUNTIF($C136:$H136,$BU$11:$BZ$11))","v":1},2,{"$f":"SUM(COUNTIF($C136:$H136,$CB$11:$CG$11))","v":2}," ",{"$f":"SUM(COUNTIF($C136:$H136,$CI$11:$CN$11))","v":0}," ",{"$f":"SUM(COUNTIF($C136:$H136,$CP$11:$CU$11))","v":0}," ",{"$f":"SUM(COUNTIF($C136:$H136,$CW$11:$DB$11))","v":0}," ",{"$f":"SUM(COUNTIF($C136:$H136,$DD$11:$DI$11))","v":1}," ",{"$f":"SUM(COUNTIF($C136:$H136,$DK$11:$DP$11))","v":1}]
[{"$f":"'aktuelle Zahlen'!A34","v":"Mi"},{"$f":"'aktuelle Zahlen'!B34","v":"2024-03-20"},{"$f":"'aktuelle Zahlen'!C34","v":40},{"$f":"'aktuelle Zahlen'!D34","v":9},{"$f":"'aktuelle Zahlen'!E34","v":7},{"$f":"'aktuelle Zahlen'!F34","v":45},{"$f":"'aktuelle Zahlen'!G34","v":24},{"$f":"'aktuelle Zahlen'!H34","v":16},{"$f":"'aktuelle Zahlen'!J34","v":8},null," ",{"$f":"SUM(COUNTIF($C137:$H137,$AL$11:$AQ$11))","v":0}," ",{"$f":"SUM(COUNTIF($C137:$H137,$AS$11:$AX$11))","v":1}," ",{"$f":"SUM(COUNTIF($C137:$H137,$AZ$11:$BE$11))","v":0}," ",{"$f":"SUM(COUNTIF($C137:$H137,$BG$11:$BL$11))","v":0}," ",{"$f":"SUM(COUNTIF($C137:$H137,$BN$11:$BS$11))","v":0}," ",{"$f":"SUM(COUNTIF($C137:$H137,$BU$11:$BZ$11))","v":0}," ",{"$f":"SUM(COUNTIF($C137:$H137,$CB$11:$CG$11))","v":0}," ",{"$f":"SUM(COUNTIF($C137:$H137,$CI$11:$CN$11))","v":0}," ",{"$f":"SUM(COUNTIF($C137:$H137,$CP$11:$CU$11))","v":1}," ",{"$f":"SUM(COUNTIF($C137:$H137,$CW$11:$DB$11))","v":0}," ",{"$f":"SUM(COUNTIF($C137:$H137,$DD$11:$DI$11))","v":0}," ",{"$f":"SUM(COUNTIF($C137:$H137,$DK$11:$DP$11))","v":1}]
[{"$f":"'aktuelle Zahlen'!A33","v":"Sa"},{"$f":"'aktuelle Zahlen'!B33","v":"2024-03-16"},{"$f":"'aktuelle Zahlen'!C33","v":16},{"$f":"'aktuelle Zahlen'!D33","v":40},{"$f":"'aktuelle Zahlen'!E33","v":19},{"$f":"'aktuelle Zahlen'!F33","v":5},{"$f":"'aktuelle Zahlen'!G33","v":25},{"$f":"'aktuelle Zahlen'!H33","v":48},{"$f":"'aktuelle Zahlen'!J33","v":3},null," ",{"$f":"SUM(COUNTIF($C138:$H138,$AL$11:$AQ$11))","v":1}," ",{"$f":"SUM(COUNTIF($C138:$H138,$AS$11:$AX$11))","v":1}," ",{"$f":"SUM(COUNTIF($C138:$H138,$AZ$11:$BE$11))","v":0}," ",{"$f":"SUM(COUNTIF($C138:$H138,$BG$11:$BL$11))","v":0}," ",{"$f":"SUM(COUNTIF($C138:$H138,$BN$11:$BS$11))","v":1},2,{"$f":"SUM(COUNTIF($C138:$H138,$BU$11:$BZ$11))","v":2}," ",{"$f":"SUM(COUNTIF($C138:$H138,$CB$11:$CG$11))","v":0}," ",{"$f":"SUM(COUNTIF($C138:$H138,$CI$11:$CN$11))","v":1}," ",{"$f":"SUM(COUNTIF($C138:$H138,$CP$11:$CU$11))","v":0}," ",{"$f":"SUM(COUNTIF($C138:$H138,$CW$11:$DB$11))","v":0}," ",{"$f":"SUM(COUNTIF($C138:$H138,$DD$11:$DI$11))","v":0}," ",{"$f":"SUM(COUNTIF($C138:$H138,$DK$11:$DP$11))","v":1}]
[{"$f":"'aktuelle Zahlen'!A32","v":"Mi"},{"$f":"'aktuelle Zahlen'!B32","v":"2024-03-13"},{"$f":"'aktuelle Zahlen'!C32","v":10},{"$f":"'aktuelle Zahlen'!D32","v":11},{"$f":"'aktuelle Zahlen'!E32","v":29},{"$f":"'aktuelle Zahlen'!F32","v":39},{"$f":"'aktuelle Zahlen'!G32","v":31},{"$f":"'aktuelle Zahlen'!H32","v":18},{"$f":"'aktuelle Zahlen'!J32","v":5},null,3,{"$f":"SUM(COUNTIF($C139:$H139,$AL$11:$AQ$11))","v":3}," ",{"$f":"SUM(COUNTIF($C139:$H139,$AS$11:$AX$11))","v":1}," ",{"$f":"SUM(COUNTIF($C139:$H139,$AZ$11:$BE$11))","v":0}," ",{"$f":"SUM(COUNTIF($C139:$H139,$BG$11:$BL$11))","v":1}," ",{"$f":"SUM(COUNTIF($C139:$H139,$BN$11:$BS$11))","v":1}," ",{"$f":"SUM(COUNTIF($C139:$H139,$BU$11:$BZ$11))","v":0}," ",{"$f":"SUM(COUNTIF($C139:$H139,$CB$11:$CG$11))","v":1}," ",{"$f":"SUM(COUNTIF($C139:$H139,$CI$11:$CN$11))","v":1},2,{"$f":"SUM(COUNTIF($C139:$H139,$CP$11:$CU$11))","v":2},2,{"$f":"SUM(COUNTIF($C139:$H139,$CW$11:$DB$11))","v":2}," ",{"$f":"SUM(COUNTIF($C139:$H139,$DD$11:$DI$11))","v":1}," ",{"$f":"SUM(COUNTIF($C139:$H139,$DK$11:$DP$11))","v":1}]
[{"$f":"'aktuelle Zahlen'!A31","v":"Sa"},{"$f":"'aktuelle Zahlen'!B31","v":"2024-03-09"},{"$f":"'aktuelle Zahlen'!C31","v":41},{"$f":"'aktuelle Zahlen'!D31","v":20},{"$f":"'aktuelle Zahlen'!E31","v":1},{"$f":"'aktuelle Zahlen'!F31","v":48},{"$f":"'aktuelle Zahlen'!G31","v":5},{"$f":"'aktuelle Zahlen'!H31","v":10},{"$f":"'aktuelle Zahlen'!J31","v":8},null,2,{"$f":"SUM(COUNTIF($C140:$H140,$AL$11:$AQ$11))","v":2},2,{"$f":"SUM(COUNTIF($C140:$H140,$AS$11:$AX$11))","v":2}," ",{"$f":"SUM(COUNTIF($C140:$H140,$AZ$11:$BE$11))","v":0}," ",{"$f":"SUM(COUNTIF($C140:$H140,$BG$11:$BL$11))","v":0}," ",{"$f":"SUM(COUNTIF($C140:$H140,$BN$11:$BS$11))","v":0}," ",{"$f":"SUM(COUNTIF($C140:$H140,$BU$11:$BZ$11))","v":1}," ",{"$f":"SUM(COUNTIF($C140:$H140,$CB$11:$CG$11))","v":1},2,{"$f":"SUM(COUNTIF($C140:$H140,$CI$11:$CN$11))","v":2}," ",{"$f":"SUM(COUNTIF($C140:$H140,$CP$11:$CU$11))","v":0}," ",{"$f":"SUM(COUNTIF($C140:$H140,$CW$11:$DB$11))","v":0}," ",{"$f":"SUM(COUNTIF($C140:$H140,$DD$11:$DI$11))","v":0}," ",{"$f":"SUM(COUNTIF($C140:$H140,$DK$11:$DP$11))","v":0}]
[{"$f":"'aktuelle Zahlen'!A30","v":"Mi"},{"$f":"'aktuelle Zahlen'!B30","v":"2024-03-06"},{"$f":"'aktuelle Zahlen'!C30","v":17},{"$f":"'aktuelle Zahlen'!D30","v":23},{"$f":"'aktuelle Zahlen'!E30","v":40},{"$f":"'aktuelle Zahlen'!F30","v":8},{"$f":"'aktuelle Zahlen'!G30","v":42},{"$f":"'aktuelle Zahlen'!H30","v":11},{"$f":"'aktuelle Zahlen'!J30","v":3},null," ",{"$f":"SUM(COUNTIF($C141:$H141,$AL$11:$AQ$11))","v":1}," ",{"$f":"SUM(COUNTIF($C141:$H141,$AS$11:$AX$11))","v":1}," ",{"$f":"SUM(COUNTIF($C141:$H141,$AZ$11:$BE$11))","v":1}," ",{"$f":"SUM(COUNTIF($C141:$H141,$BG$11:$BL$11))","v":0},2,{"$f":"SUM(COUNTIF($C141:$H141,$BN$11:$BS$11))","v":2}," ",{"$f":"SUM(COUNTIF($C141:$H141,$BU$11:$BZ$11))","v":1}," ",{"$f":"SUM(COUNTIF($C141:$H141,$CB$11:$CG$11))","v":0}," ",{"$f":"SUM(COUNTIF($C141:$H141,$CI$11:$CN$11))","v":0},2,{"$f":"SUM(COUNTIF($C141:$H141,$CP$11:$CU$11))","v":2}," ",{"$f":"SUM(COUNTIF($C141:$H141,$CW$11:$DB$11))","v":1},2,{"$f":"SUM(COUNTIF($C141:$H141,$DD$11:$DI$11))","v":2}," ",{"$f":"SUM(COUNTIF($C141:$H141,$DK$11:$DP$11))","v":1}]
[{"$f":"'aktuelle Zahlen'!A29","v":"Sa"},{"$f":"'aktuelle Zahlen'!B29","v":"2024-03-02"},{"$f":"'aktuelle Zahlen'!C29","v":26},{"$f":"'aktuelle Zahlen'!D29","v":6},{"$f":"'aktuelle Zahlen'!E29","v":8},{"$f":"'aktuelle Zahlen'!F29","v":33},{"$f":"'aktuelle Zahlen'!G29","v":37},{"$f":"'aktuelle Zahlen'!H29","v":18},{"$f":"'aktuelle Zahlen'!J29","v":2},null," ",{"$f":"SUM(COUNTIF($C142:$H142,$AL$11:$AQ$11))","v":1}," ",{"$f":"SUM(COUNTIF($C142:$H142,$AS$11:$AX$11))","v":1}," ",{"$f":"SUM(COUNTIF($C142:$H142,$AZ$11:$BE$11))","v":1}," ",{"$f":"SUM(COUNTIF($C142:$H142,$BG$11:$BL$11))","v":1}," ",{"$f":"SUM(COUNTIF($C142:$H142,$BN$11:$BS$11))","v":1}," ",{"$f":"SUM(COUNTIF($C142:$H142,$BU$11:$BZ$11))","v":1}," ",{"$f":"SUM(COUNTIF($C142:$H142,$CB$11:$CG$11))","v":0}," ",{"$f":"SUM(COUNTIF($C142:$H142,$CI$11:$CN$11))","v":1},2,{"$f":"SUM(COUNTIF($C142:$H142,$CP$11:$CU$11))","v":2}," ",{"$f":"SUM(COUNTIF($C142:$H142,$CW$11:$DB$11))","v":1}," ",{"$f":"SUM(COUNTIF($C142:$H142,$DD$11:$DI$11))","v":1}," ",{"$f":"SUM(COUNTIF($C142:$H142,$DK$11:$DP$11))","v":1}]
[{"$f":"'aktuelle Zahlen'!A28","v":"Mi"},{"$f":"'aktuelle Zahlen'!B28","v":"2024-02-28"},{"$f":"'aktuelle Zahlen'!C28","v":4},{"$f":"'aktuelle Zahlen'!D28","v":28},{"$f":"'aktuelle Zahlen'!E28","v":22},{"$f":"'aktuelle Zahlen'!F28","v":1},{"$f":"'aktuelle Zahlen'!G28","v":37},{"$f":"'aktuelle Zahlen'!H28","v":26},{"$f":"'aktuelle Zahlen'!J28","v":3},null," ",{"$f":"SUM(COUNTIF($C143:$H143,$AL$11:$AQ$11))","v":0},2,{"$f":"SUM(COUNTIF($C143:$H143,$AS$11:$AX$11))","v":2},2,{"$f":"SUM(COUNTIF($C143:$H143,$AZ$11:$BE$11))","v":2},3,{"$f":"SUM(COUNTIF($C143:$H143,$BG$11:$BL$11))","v":3}," ",{"$f":"SUM(COUNTIF($C143:$H143,$BN$11:$BS$11))","v":0},2,{"$f":"SUM(COUNTIF($C143:$H143,$BU$11:$BZ$11))","v":2}," ",{"$f":"SUM(COUNTIF($C143:$H143,$CB$11:$CG$11))","v":1}," ",{"$f":"SUM(COUNTIF($C143:$H143,$CI$11:$CN$11))","v":0}," ",{"$f":"SUM(COUNTIF($C143:$H143,$CP$11:$CU$11))","v":0}," ",{"$f":"SUM(COUNTIF($C143:$H143,$CW$11:$DB$11))","v":0}," ",{"$f":"SUM(COUNTIF($C143:$H143,$DD$11:$DI$11))","v":1}," ",{"$f":"SUM(COUNTIF($C143:$H143,$DK$11:$DP$11))","v":0}]
[{"$f":"'aktuelle Zahlen'!A27","v":"Sa"},{"$f":"'aktuelle Zahlen'!B27","v":"2024-02-24"},{"$f":"'aktuelle Zahlen'!C27","v":2},{"$f":"'aktuelle Zahlen'!D27","v":21},{"$f":"'aktuelle Zahlen'!E27","v":49},{"$f":"'aktuelle Zahlen'!F27","v":40},{"$f":"'aktuelle Zahlen'!G27","v":28},{"$f":"'aktuelle Zahlen'!H27","v":34},{"$f":"'aktuelle Zahlen'!J27","v":2},null," ",{"$f":"SUM(COUNTIF($C144:$H144,$AL$11:$AQ$11))","v":0}," ",{"$f":"SUM(COUNTIF($C144:$H144,$AS$11:$AX$11))","v":0},3,{"$f":"SUM(COUNTIF($C144:$H144,$AZ$11:$BE$11))","v":3}," ",{"$f":"SUM(COUNTIF($C144:$H144,$BG$11:$BL$11))","v":1}," ",{"$f":"SUM(COUNTIF($C144:$H144,$BN$11:$BS$11))","v":0}," ",{"$f":"SUM(COUNTIF($C144:$H144,$BU$11:$BZ$11))","v":0}," ",{"$f":"SUM(COUNTIF($C144:$H144,$CB$11:$CG$11))","v":0}," ",{"$f":"SUM(COUNTIF($C144:$H144,$CI$11:$CN$11))","v":1}," ",{"$f":"SUM(COUNTIF($C144:$H144,$CP$11:$CU$11))","v":0}," ",{"$f":"SUM(COUNTIF($C144:$H144,$CW$11:$DB$11))","v":1},2,{"$f":"SUM(COUNTIF($C144:$H144,$DD$11:$DI$11))","v":2}," ",{"$f":"SUM(COUNTIF($C144:$H144,$DK$11:$DP$11))","v":0}]
[{"$f":"'aktuelle Zahlen'!A26","v":"Mi"},{"$f":"'aktuelle Zahlen'!B26","v":"2024-02-21"},{"$f":"'aktuelle Zahlen'!C26","v":33},{"$f":"'aktuelle Zahlen'!D26","v":7},{"$f":"'aktuelle Zahlen'!E26","v":8},{"$f":"'aktuelle Zahlen'!F26","v":23},{"$f":"'aktuelle Zahlen'!G26","v":30},{"$f":"'aktuelle Zahlen'!H26","v":40},{"$f":"'aktuelle Zahlen'!J26","v":3},null,{"$f":"IF(L145>1,(IF($I145=$AJ$11,L145 & \"Z\",L145)),\" \")","v":" "},{"$f":"SUM(COUNTIF($C145:$H145,$AL$11:$AQ$11))","v":1},{"$f":"IF(N145>1,(IF($I145=$AJ$11,N145 & \"Z\",N145)),\" \")","v":" "},{"$f":"SUM(COUNTIF($C145:$H145,$AS$11:$AX$11))","v":0},{"$f":"IF(P145>1,(IF($I145=$AJ$11,P145 & \"Z\",P145)),\" \")","v":" "},{"$f":"SUM(COUNTIF($C145:$H145,$AZ$11:$BE$11))","v":0},{"$f":"IF(R145>1,(IF($I145=$AJ$11,R145 & \"Z\",R145)),\" \")","v":" "},{"$f":"SUM(COUNTIF($C145:$H145,$BG$11:$BL$11))","v":0},{"$f":"IF(T145>1,(IF($I145=$AJ$11,T145 & \"Z\",T145)),\" \")","v":" "},{"$f":"SUM(COUNTIF($C145:$H145,$BN$11:$BS$11))","v":1},{"$f":"IF(V145>1,(IF($I145=$AJ$11,V145 & \"Z\",V145)),\" \")","v":" "},{"$f":"SUM(COUNTIF($C145:$H145,$BU$11:$BZ$11))","v":1},{"$f":"IF(X145>1,(IF($I145=$AJ$11,X145 & \"Z\",X145)),\" \")","v":" "},{"$f":"SUM(COUNTIF($C145:$H145,$CB$11:$CG$11))","v":0},{"$f":"IF(Z145>1,(IF($I145=$AJ$11,Z145 & \"Z\",Z145)),\" \")","v":" "},{"$f":"SUM(COUNTIF($C145:$H145,$CI$11:$CN$11))","v":0},{"$f":"IF(AB145>1,(IF($I145=$AJ$11,AB145 & \"Z\",AB145)),\" \")","v":" "},{"$f":"SUM(COUNTIF($C145:$H145,$CP$11:$CU$11))","v":1},{"$f":"IF(AD145>1,(IF($I145=$AJ$11,AD145 & \"Z\",AD145)),\" \")","v":" "},{"$f":"SUM(COUNTIF($C145:$H145,$CW$11:$DB$11))","v":1},{"$f":"IF(AF145>1,(IF($I145=$AJ$11,AF145 & \"Z\",AF145)),\" \")","v":" "},{"$f":"SUM(COUNTIF($C145:$H145,$DD$11:$DI$11))","v":0},{"$f":"IF(AH145>1,(IF($I145=$AJ$11,AH145 & \"Z\",AH145)),\" \")","v":2},{"$f":"SUM(COUNTIF($C145:$H145,$DK$11:$DP$11))","v":2}]
[{"$f":"'aktuelle Zahlen'!A25","v":"Sa"},{"$f":"'aktuelle Zahlen'!B25","v":"2024-02-17"},{"$f":"'aktuelle Zahlen'!C25","v":23},{"$f":"'aktuelle Zahlen'!D25","v":31},{"$f":"'aktuelle Zahlen'!E25","v":36},{"$f":"'aktuelle Zahlen'!F25","v":8},{"$f":"'aktuelle Zahlen'!G25","v":34},{"$f":"'aktuelle Zahlen'!H25","v":40},{"$f":"'aktuelle Zahlen'!J25","v":0},null," ",{"$f":"SUM(COUNTIF($C146:$H146,$AL$11:$AQ$11))","v":1}," ",{"$f":"SUM(COUNTIF($C146:$H146,$AS$11:$AX$11))","v":0}," ",{"$f":"SUM(COUNTIF($C146:$H146,$AZ$11:$BE$11))","v":0}," ",{"$f":"SUM(COUNTIF($C146:$H146,$BG$11:$BL$11))","v":0}," ",{"$f":"SUM(COUNTIF($C146:$H146,$BN$11:$BS$11))","v":1}," ",{"$f":"SUM(COUNTIF($C146:$H146,$BU$11:$BZ$11))","v":1}," ",{"$f":"SUM(COUNTIF($C146:$H146,$CB$11:$CG$11))","v":0}," ",{"$f":"SUM(COUNTIF($C146:$H146,$CI$11:$CN$11))","v":0},2,{"$f":"SUM(COUNTIF($C146:$H146,$CP$11:$CU$11))","v":2}," ",{"$f":"SUM(COUNTIF($C146:$H146,$CW$11:$DB$11))","v":0}," ",{"$f":"SUM(COUNTIF($C146:$H146,$DD$11:$DI$11))","v":0}," ",{"$f":"SUM(COUNTIF($C146:$H146,$DK$11:$DP$11))","v":0}]
[{"$f":"'aktuelle Zahlen'!A24","v":"Mi"},{"$f":"'aktuelle Zahlen'!B24","v":"2024-02-14"},{"$f":"'aktuelle Zahlen'!C24","v":34},{"$f":"'aktuelle Zahlen'!D24","v":48},{"$f":"'aktuelle Zahlen'!E24","v":17},{"$f":"'aktuelle Zahlen'!F24","v":35},{"$f":"'aktuelle Zahlen'!G24","v":46},{"$f":"'aktuelle Zahlen'!H24","v":43},{"$f":"'aktuelle Zahlen'!J24","v":4},null," ",{"$f":"SUM(COUNTIF($C147:$H147,$AL$11:$AQ$11))","v":0}," ",{"$f":"SUM(COUNTIF($C147:$H147,$AS$11:$AX$11))","v":0}," ",{"$f":"SUM(COUNTIF($C147:$H147,$AZ$11:$BE$11))","v":1}," ",{"$f":"SUM(COUNTIF($C147:$H147,$BG$11:$BL$11))","v":1}," ",{"$f":"SUM(COUNTIF($C147:$H147,$BN$11:$BS$11))","v":0},2,{"$f":"SUM(COUNTIF($C147:$H147,$BU$11:$BZ$11))","v":2},2,{"$f":"SUM(COUNTIF($C147:$H147,$CB$11:$CG$11))","v":2}," ",{"$f":"SUM(COUNTIF($C147:$H147,$CI$11:$CN$11))","v":1}," ",{"$f":"SUM(COUNTIF($C147:$H147,$CP$11:$CU$11))","v":1},2,{"$f":"SUM(COUNTIF($C147:$H147,$CW$11:$DB$11))","v":2}," ",{"$f":"SUM(COUNTIF($C147:$H147,$DD$11:$DI$11))","v":1}," ",{"$f":"SUM(COUNTIF($C147:$H147,$DK$11:$DP$11))","v":0}]
[{"$f":"'aktuelle Zahlen'!A23","v":"Sa"},{"$f":"'aktuelle Zahlen'!B23","v":"2024-02-10"},{"$f":"'aktuelle Zahlen'!C23","v":37},{"$f":"'aktuelle Zahlen'!D23","v":47},{"$f":"'aktuelle Zahlen'!E23","v":1},{"$f":"'aktuelle Zahlen'!F23","v":33},{"$f":"'aktuelle Zahlen'!G23","v":19},{"$f":"'aktuelle Zahlen'!H23","v":39},{"$f":"'aktuelle Zahlen'!J23","v":6},null," ",{"$f":"SUM(COUNTIF($C148:$H148,$AL$11:$AQ$11))","v":0}," ",{"$f":"SUM(COUNTIF($C148:$H148,$AS$11:$AX$11))","v":1}," ",{"$f":"SUM(COUNTIF($C148:$H148,$AZ$11:$BE$11))","v":0}," ",{"$f":"SUM(COUNTIF($C148:$H148,$BG$11:$BL$11))","v":0}," ",{"$f":"SUM(COUNTIF($C148:$H148,$BN$11:$BS$11))","v":1}," ",{"$f":"SUM(COUNTIF($C148:$H148,$BU$11:$BZ$11))","v":1}," ",{"$f":"SUM(COUNTIF($C148:$H148,$CB$11:$CG$11))","v":1}," ",{"$f":"SUM(COUNTIF($C148:$H148,$CI$11:$CN$11))","v":1}," ",{"$f":"SUM(COUNTIF($C148:$H148,$CP$11:$CU$11))","v":1}," ",{"$f":"SUM(COUNTIF($C148:$H148,$CW$11:$DB$11))","v":1}," ",{"$f":"SUM(COUNTIF($C148:$H148,$DD$11:$DI$11))","v":1}," ",{"$f":"SUM(COUNTIF($C148:$H148,$DK$11:$DP$11))","v":1}]
[{"$f":"'aktuelle Zahlen'!A22","v":"Mi"},{"$f":"'aktuelle Zahlen'!B22","v":"2024-02-07"},{"$f":"'aktuelle Zahlen'!C22","v":1},{"$f":"'aktuelle Zahlen'!D22","v":8},{"$f":"'aktuelle Zahlen'!E22","v":31},{"$f":"'aktuelle Zahlen'!F22","v":15},{"$f":"'aktuelle Zahlen'!G22","v":19},{"$f":"'aktuelle Zahlen'!H22","v":26},{"$f":"'aktuelle Zahlen'!J22","v":0},null," ",{"$f":"SUM(COUNTIF($C149:$H149,$AL$11:$AQ$11))","v":0},2,{"$f":"SUM(COUNTIF($C149:$H149,$AS$11:$AX$11))","v":2}," ",{"$f":"SUM(COUNTIF($C149:$H149,$AZ$11:$BE$11))","v":1}," ",{"$f":"SUM(COUNTIF($C149:$H149,$BG$11:$BL$11))","v":0},2,{"$f":"SUM(COUNTIF($C149:$H149,$BN$11:$BS$11))","v":2},2,{"$f":"SUM(COUNTIF($C149:$H149,$BU$11:$BZ$11))","v":2}," ",{"$f":"SUM(COUNTIF($C149:$H149,$CB$11:$CG$11))","v":0}," ",{"$f":"SUM(COUNTIF($C149:$H149,$CI$11:$CN$11))","v":0},2,{"$f":"SUM(COUNTIF($C149:$H149,$CP$11:$CU$11))","v":2}," ",{"$f":"SUM(COUNTIF($C149:$H149,$CW$11:$DB$11))","v":0}," ",{"$f":"SUM(COUNTIF($C149:$H149,$DD$11:$DI$11))","v":0}," ",{"$f":"SUM(COUNTIF($C149:$H149,$DK$11:$DP$11))","v":0}]
[{"$f":"'aktuelle Zahlen'!A21","v":"Sa"},{"$f":"'aktuelle Zahlen'!B21","v":"2024-02-03"},{"$f":"'aktuelle Zahlen'!C21","v":24},{"$f":"'aktuelle Zahlen'!D21","v":14},{"$f":"'aktuelle Zahlen'!E21","v":23},{"$f":"'aktuelle Zahlen'!F21","v":19},{"$f":"'aktuelle Zahlen'!G21","v":21},{"$f":"'aktuelle Zahlen'!H21","v":3},{"$f":"'aktuelle Zahlen'!J21","v":5},null," ",{"$f":"SUM(COUNTIF($C150:$H150,$AL$11:$AQ$11))","v":1}," ",{"$f":"SUM(COUNTIF($C150:$H150,$AS$11:$AX$11))","v":1}," ",{"$f":"SUM(COUNTIF($C150:$H150,$AZ$11:$BE$11))","v":0}," ",{"$f":"SUM(COUNTIF($C150:$H150,$BG$11:$BL$11))","v":0}," ",{"$f":"SUM(COUNTIF($C150:$H150,$BN$11:$BS$11))","v":1},2,{"$f":"SUM(COUNTIF($C150:$H150,$BU$11:$BZ$11))","v":2}," ",{"$f":"SUM(COUNTIF($C150:$H150,$CB$11:$CG$11))","v":0}," ",{"$f":"SUM(COUNTIF($C150:$H150,$CI$11:$CN$11))","v":1}," ",{"$f":"SUM(COUNTIF($C150:$H150,$CP$11:$CU$11))","v":0}," ",{"$f":"SUM(COUNTIF($C150:$H150,$CW$11:$DB$11))","v":0}," ",{"$f":"SUM(COUNTIF($C150:$H150,$DD$11:$DI$11))","v":0}," ",{"$f":"SUM(COUNTIF($C150:$H150,$DK$11:$DP$11))","v":0}]
[{"$f":"'aktuelle Zahlen'!A20","v":"Mi"},{"$f":"'aktuelle Zahlen'!B20","v":"2024-01-31"},{"$f":"'aktuelle Zahlen'!C20","v":29},{"$f":"'aktuelle Zahlen'!D20","v":24},{"$f":"'aktuelle Zahlen'!E20","v":40},{"$f":"'aktuelle Zahlen'!F20","v":11},{"$f":"'aktuelle Zahlen'!G20","v":43},{"$f":"'aktuelle Zahlen'!H20","v":28},{"$f":"'aktuelle Zahlen'!J20","v":7},null," ",{"$f":"SUM(COUNTIF($C151:$H151,$AL$11:$AQ$11))","v":1}," ",{"$f":"SUM(COUNTIF($C151:$H151,$AS$11:$AX$11))","v":1}," ",{"$f":"SUM(COUNTIF($C151:$H151,$AZ$11:$BE$11))","v":1}," ",{"$f":"SUM(COUNTIF($C151:$H151,$BG$11:$BL$11))","v":1}," ",{"$f":"SUM(COUNTIF($C151:$H151,$BN$11:$BS$11))","v":1}," ",{"$f":"SUM(COUNTIF($C151:$H151,$BU$11:$BZ$11))","v":0}," ",{"$f":"SUM(COUNTIF($C151:$H151,$CB$11:$CG$11))","v":1}," ",{"$f":"SUM(COUNTIF($C151:$H151,$CI$11:$CN$11))","v":0}," ",{"$f":"SUM(COUNTIF($C151:$H151,$CP$11:$CU$11))","v":0},3,{"$f":"SUM(COUNTIF($C151:$H151,$CW$11:$DB$11))","v":3}," ",{"$f":"SUM(COUNTIF($C151:$H151,$DD$11:$DI$11))","v":1}," ",{"$f":"SUM(COUNTIF($C151:$H151,$DK$11:$DP$11))","v":1}]
[{"$f":"'aktuelle Zahlen'!A19","v":"Sa"},{"$f":"'aktuelle Zahlen'!B19","v":"2024-01-27"},{"$f":"'aktuelle Zahlen'!C19","v":24},{"$f":"'aktuelle Zahlen'!D19","v":20},{"$f":"'aktuelle Zahlen'!E19","v":29},{"$f":"'aktuelle Zahlen'!F19","v":33},{"$f":"'aktuelle Zahlen'!G19","v":43},{"$f":"'aktuelle Zahlen'!H19","v":14},{"$f":"'aktuelle Zahlen'!J19","v":4},null," ",{"$f":"SUM(COUNTIF($C152:$H152,$AL$11:$AQ$11))","v":1}," ",{"$f":"SUM(COUNTIF($C152:$H152,$AS$11:$AX$11))","v":1}," ",{"$f":"SUM(COUNTIF($C152:$H152,$AZ$11:$BE$11))","v":0}," ",{"$f":"SUM(COUNTIF($C152:$H152,$BG$11:$BL$11))","v":0}," ",{"$f":"SUM(COUNTIF($C152:$H152,$BN$11:$BS$11))","v":1}," ",{"$f":"SUM(COUNTIF($C152:$H152,$BU$11:$BZ$11))","v":0}," ",{"$f":"SUM(COUNTIF($C152:$H152,$CB$11:$CG$11))","v":1}," ",{"$f":"SUM(COUNTIF($C152:$H152,$CI$11:$CN$11))","v":0}," ",{"$f":"SUM(COUNTIF($C152:$H152,$CP$11:$CU$11))","v":0},3,{"$f":"SUM(COUNTIF($C152:$H152,$CW$11:$DB$11))","v":3}," ",{"$f":"SUM(COUNTIF($C152:$H152,$DD$11:$DI$11))","v":0}," ",{"$f":"SUM(COUNTIF($C152:$H152,$DK$11:$DP$11))","v":1}]
[{"$f":"'aktuelle Zahlen'!A18","v":"Mi"},{"$f":"'aktuelle Zahlen'!B18","v":"2024-01-24"},{"$f":"'aktuelle Zahlen'!C18","v":35},{"$f":"'aktuelle Zahlen'!D18","v":29},{"$f":"'aktuelle Zahlen'!E18","v":9},{"$f":"'aktuelle Zahlen'!F18","v":10},{"$f":"'aktuelle Zahlen'!G18","v":39},{"$f":"'aktuelle Zahlen'!H18","v":19},{"$f":"'aktuelle Zahlen'!J18","v":1},null,2,{"$f":"SUM(COUNTIF($C153:$H153,$AL$11:$AQ$11))","v":2}," ",{"$f":"SUM(COUNTIF($C153:$H153,$AS$11:$AX$11))","v":0}," ",{"$f":"SUM(COUNTIF($C153:$H153,$AZ$11:$BE$11))","v":0}," ",{"$f":"SUM(COUNTIF($C153:$H153,$BG$11:$BL$11))","v":0},2,{"$f":"SUM(COUNTIF($C153:$H153,$BN$11:$BS$11))","v":2}," ",{"$f":"SUM(COUNTIF($C153:$H153,$BU$11:$BZ$11))","v":1}," ",{"$f":"SUM(COUNTIF($C153:$H153,$CB$11:$CG$11))","v":1}," ",{"$f":"SUM(COUNTIF($C153:$H153,$CI$11:$CN$11))","v":1}," ",{"$f":"SUM(COUNTIF($C153:$H153,$CP$11:$CU$11))","v":1},2,{"$f":"SUM(COUNTIF($C153:$H153,$CW$11:$DB$11))","v":2}," ",{"$f":"SUM(COUNTIF($C153:$H153,$DD$11:$DI$11))","v":0}," ",{"$f":"SUM(COUNTIF($C153:$H153,$DK$11:$DP$11))","v":0}]
[{"$f":"'aktuelle Zahlen'!A17","v":"Sa"},{"$f":"'aktuelle Zahlen'!B17","v":"2024-01-20"},{"$f":"'aktuelle Zahlen'!C17","v":8},{"$f":"'aktuelle Zahlen'!D17","v":49},{"$f":"'aktuelle Zahlen'!E17","v":45},{"$f":"'aktuelle Zahlen'!F17","v":1},{"$f":"'aktuelle Zahlen'!G17","v":25},{"$f":"'aktuelle Zahlen'!H17","v":11},{"$f":"'aktuelle Zahlen'!J17","v":4},null," ",{"$f":"SUM(COUNTIF($C154:$H154,$AL$11:$AQ$11))","v":0},2,{"$f":"SUM(COUNTIF($C154:$H154,$AS$11:$AX$11))","v":2}," ",{"$f":"SUM(COUNTIF($C154:$H154,$AZ$11:$BE$11))","v":1}," ",{"$f":"SUM(COUNTIF($C154:$H154,$BG$11:$BL$11))","v":0}," ",{"$f":"SUM(COUNTIF($C154:$H154,$BN$11:$BS$11))","v":1}," ",{"$f":"SUM(COUNTIF($C154:$H154,$BU$11:$BZ$11))","v":0}," ",{"$f":"SUM(COUNTIF($C154:$H154,$CB$11:$CG$11))","v":0}," ",{"$f":"SUM(COUNTIF($C154:$H154,$CI$11:$CN$11))","v":0}," ",{"$f":"SUM(COUNTIF($C154:$H154,$CP$11:$CU$11))","v":1}," ",{"$f":"SUM(COUNTIF($C154:$H154,$CW$11:$DB$11))","v":1},2,{"$f":"SUM(COUNTIF($C154:$H154,$DD$11:$DI$11))","v":2}," ",{"$f":"SUM(COUNTIF($C154:$H154,$DK$11:$DP$11))","v":1}]
[{"$f":"'aktuelle Zahlen'!A16","v":"Mi"},{"$f":"'aktuelle Zahlen'!B16","v":"2024-01-17"},{"$f":"'aktuelle Zahlen'!C16","v":13},{"$f":"'aktuelle Zahlen'!D16","v":44},{"$f":"'aktuelle Zahlen'!E16","v":6},{"$f":"'aktuelle Zahlen'!F16","v":40},{"$f":"'aktuelle Zahlen'!G16","v":30},{"$f":"'aktuelle Zahlen'!H16","v":9},{"$f":"'aktuelle Zahlen'!J16","v":6},null," ",{"$f":"SUM(COUNTIF($C155:$H155,$AL$11:$AQ$11))","v":0}," ",{"$f":"SUM(COUNTIF($C155:$H155,$AS$11:$AX$11))","v":0}," ",{"$f":"SUM(COUNTIF($C155:$H155,$AZ$11:$BE$11))","v":0}," ",{"$f":"SUM(COUNTIF($C155:$H155,$BG$11:$BL$11))","v":0}," ",{"$f":"SUM(COUNTIF($C155:$H155,$BN$11:$BS$11))","v":0}," ",{"$f":"SUM(COUNTIF($C155:$H155,$BU$11:$BZ$11))","v":0}," ",{"$f":"SUM(COUNTIF($C155:$H155,$CB$11:$CG$11))","v":0}," ",{"$f":"SUM(COUNTIF($C155:$H155,$CI$11:$CN$11))","v":1}," ",{"$f":"SUM(COUNTIF($C155:$H155,$CP$11:$CU$11))","v":1}," ",{"$f":"SUM(COUNTIF($C155:$H155,$CW$11:$DB$11))","v":0}," ",{"$f":"SUM(COUNTIF($C155:$H155,$DD$11:$DI$11))","v":0},2,{"$f":"SUM(COUNTIF($C155:$H155,$DK$11:$DP$11))","v":2}]
[{"$f":"'aktuelle Zahlen'!A15","v":"Sa"},{"$f":"'aktuelle Zahlen'!B15","v":"2024-01-13"},{"$f":"'aktuelle Zahlen'!C15","v":6},{"$f":"'aktuelle Zahlen'!D15","v":48},{"$f":"'aktuelle Zahlen'!E15","v":27},{"$f":"'aktuelle Zahlen'!F15","v":1},{"$f":"'aktuelle Zahlen'!G15","v":8},{"$f":"'aktuelle Zahlen'!H15","v":26},{"$f":"'aktuelle Zahlen'!J15","v":6},null," ",{"$f":"SUM(COUNTIF($C156:$H156,$AL$11:$AQ$11))","v":0},2,{"$f":"SUM(COUNTIF($C156:$H156,$AS$11:$AX$11))","v":2}," ",{"$f":"SUM(COUNTIF($C156:$H156,$AZ$11:$BE$11))","v":1}," ",{"$f":"SUM(COUNTIF($C156:$H156,$BG$11:$BL$11))","v":0}," ",{"$f":"SUM(COUNTIF($C156:$H156,$BN$11:$BS$11))","v":1},2,{"$f":"SUM(COUNTIF($C156:$H156,$BU$11:$BZ$11))","v":2}," ",{"$f":"SUM(COUNTIF($C156:$H156,$CB$11:$CG$11))","v":0},2,{"$f":"SUM(COUNTIF($C156:$H156,$CI$11:$CN$11))","v":2}," ",{"$f":"SUM(COUNTIF($C156:$H156,$CP$11:$CU$11))","v":1}," ",{"$f":"SUM(COUNTIF($C156:$H156,$CW$11:$DB$11))","v":0}," ",{"$f":"SUM(COUNTIF($C156:$H156,$DD$11:$DI$11))","v":0}," ",{"$f":"SUM(COUNTIF($C156:$H156,$DK$11:$DP$11))","v":0}]
[{"$f":"'aktuelle Zahlen'!A14","v":"Mi"},{"$f":"'aktuelle Zahlen'!B14","v":"2024-01-10"},{"$f":"'aktuelle Zahlen'!C14","v":37},{"$f":"'aktuelle Zahlen'!D14","v":3},{"$f":"'aktuelle Zahlen'!E14","v":7},{"$f":"'aktuelle Zahlen'!F14","v":24},{"$f":"'aktuelle Zahlen'!G14","v":21},{"$f":"'aktuelle Zahlen'!H14","v":49},{"$f":"'aktuelle Zahlen'!J14","v":9},null," ",{"$f":"SUM(COUNTIF($C157:$H157,$AL$11:$AQ$11))","v":0}," ",{"$f":"SUM(COUNTIF($C157:$H157,$AS$11:$AX$11))","v":0}," ",{"$f":"SUM(COUNTIF($C157:$H157,$AZ$11:$BE$11))","v":1}," ",{"$f":"SUM(COUNTIF($C157:$H157,$BG$11:$BL$11))","v":0}," ",{"$f":"SUM(COUNTIF($C157:$H157,$BN$11:$BS$11))","v":0}," ",{"$f":"SUM(COUNTIF($C157:$H157,$BU$11:$BZ$11))","v":0}," ",{"$f":"SUM(COUNTIF($C157:$H157,$CB$11:$CG$11))","v":0}," ",{"$f":"SUM(COUNTIF($C157:$H157,$CI$11:$CN$11))","v":1}," ",{"$f":"SUM(COUNTIF($C157:$H157,$CP$11:$CU$11))","v":0}," ",{"$f":"SUM(COUNTIF($C157:$H157,$CW$11:$DB$11))","v":0},2,{"$f":"SUM(COUNTIF($C157:$H157,$DD$11:$DI$11))","v":2}," ",{"$f":"SUM(COUNTIF($C157:$H157,$DK$11:$DP$11))","v":0}]
[{"$f":"'aktuelle Zahlen'!A13","v":"Sa"},{"$f":"'aktuelle Zahlen'!B13","v":"2024-01-06"},{"$f":"'aktuelle Zahlen'!C13","v":18},{"$f":"'aktuelle Zahlen'!D13","v":14},{"$f":"'aktuelle Zahlen'!E13","v":34},{"$f":"'aktuelle Zahlen'!F13","v":47},{"$f":"'aktuelle Zahlen'!G13","v":5},{"$f":"'aktuelle Zahlen'!H13","v":3},{"$f":"'aktuelle Zahlen'!J13","v":7},null,2,{"$f":"SUM(COUNTIF($C158:$H158,$AL$11:$AQ$11))","v":2}," ",{"$f":"SUM(COUNTIF($C158:$H158,$AS$11:$AX$11))","v":1}," ",{"$f":"SUM(COUNTIF($C158:$H158,$AZ$11:$BE$11))","v":0}," ",{"$f":"SUM(COUNTIF($C158:$H158,$BG$11:$BL$11))","v":1}," ",{"$f":"SUM(COUNTIF($C158:$H158,$BN$11:$BS$11))","v":0}," ",{"$f":"SUM(COUNTIF($C158:$H158,$BU$11:$BZ$11))","v":0}," ",{"$f":"SUM(COUNTIF($C158:$H158,$CB$11:$CG$11))","v":0},2,{"$f":"SUM(COUNTIF($C158:$H158,$CI$11:$CN$11))","v":2},2,{"$f":"SUM(COUNTIF($C158:$H158,$CP$11:$CU$11))","v":2}," ",{"$f":"SUM(COUNTIF($C158:$H158,$CW$11:$DB$11))","v":0}," ",{"$f":"SUM(COUNTIF($C158:$H158,$DD$11:$DI$11))","v":0}," ",{"$f":"SUM(COUNTIF($C158:$H158,$DK$11:$DP$11))","v":0}]
[{"$f":"'aktuelle Zahlen'!A12","v":"Mi"},{"$f":"'aktuelle Zahlen'!B12","v":"2024-01-03"},{"$f":"'aktuelle Zahlen'!C12","v":36},{"$f":"'aktuelle Zahlen'!D12","v":14},{"$f":"'aktuelle Zahlen'!E12","v":32},{"$f":"'aktuelle Zahlen'!F12","v":49},{"$f":"'aktuelle Zahlen'!G12","v":28},{"$f":"'aktuelle Zahlen'!H12","v":25},{"$f":"'aktuelle Zahlen'!J12","v":4},null," ",{"$f":"SUM(COUNTIF($C159:$H159,$AL$11:$AQ$11))","v":0}," ",{"$f":"SUM(COUNTIF($C159:$H159,$AS$11:$AX$11))","v":1},2,{"$f":"SUM(COUNTIF($C159:$H159,$AZ$11:$BE$11))","v":2},2,{"$f":"SUM(COUNTIF($C159:$H159,$BG$11:$BL$11))","v":2}," ",{"$f":"SUM(COUNTIF($C159:$H159,$BN$11:$BS$11))","v":0}," ",{"$f":"SUM(COUNTIF($C159:$H159,$BU$11:$BZ$11))","v":0}," ",{"$f":"SUM(COUNTIF($C159:$H159,$CB$11:$CG$11))","v":0}," ",{"$f":"SUM(COUNTIF($C159:$H159,$CI$11:$CN$11))","v":0}," ",{"$f":"SUM(COUNTIF($C159:$H159,$CP$11:$CU$11))","v":0}," ",{"$f":"SUM(COUNTIF($C159:$H159,$CW$11:$DB$11))","v":0},2,{"$f":"SUM(COUNTIF($C159:$H159,$DD$11:$DI$11))","v":2}," ",{"$f":"SUM(COUNTIF($C159:$H159,$DK$11:$DP$11))","v":1}]
[{"$f":"'aktuelle Zahlen'!A156","v":0},{"$f":"'aktuelle Zahlen'!B156","v":"00:00:00"},{"$f":"'aktuelle Zahlen'!C156","v":0},{"$f":"'aktuelle Zahlen'!D156","v":0},{"$f":"'aktuelle Zahlen'!E156","v":0},{"$f":"'aktuelle Zahlen'!F156","v":0},{"$f":"'aktuelle Zahlen'!G156","v":0},{"$f":"'aktuelle Zahlen'!H156","v":0},{"$f":"'aktuelle Zahlen'!J156","v":0},null," ",{"$f":"SUM(COUNTIF($C160:$H160,$AL$11:$AQ$11))","v":0}," ",{"$f":"SUM(COUNTIF($C160:$H160,$AS$11:$AX$11))","v":0}," ",{"$f":"SUM(COUNTIF($C160:$H160,$AZ$11:$BE$11))","v":0}," ",{"$f":"SUM(COUNTIF($C160:$H160,$BG$11:$BL$11))","v":0}," ",{"$f":"SUM(COUNTIF($C160:$H160,$BN$11:$BS$11))","v":0}," ",{"$f":"SUM(COUNTIF($C160:$H160,$BU$11:$BZ$11))","v":0}," ",{"$f":"SUM(COUNTIF($C160:$H160,$CB$11:$CG$11))","v":0}," ",{"$f":"SUM(COUNTIF($C160:$H160,$CI$11:$CN$11))","v":0}," ",{"$f":"SUM(COUNTIF($C160:$H160,$CP$11:$CU$11))","v":0}," ",{"$f":"SUM(COUNTIF($C160:$H160,$CW$11:$DB$11))","v":0}," ",{"$f":"SUM(COUNTIF($C160:$H160,$DD$11:$DI$11))","v":0}," ",{"$f":"SUM(COUNTIF($C160:$H160,$DK$11:$DP$11))","v":0}]
[{"$f":"'aktuelle Zahlen'!A157","v":0},{"$f":"'aktuelle Zahlen'!B157","v":"00:00:00"},{"$f":"'aktuelle Zahlen'!C157","v":0},{"$f":"'aktuelle Zahlen'!D157","v":0},{"$f":"'aktuelle Zahlen'!E157","v":0},{"$f":"'aktuelle Zahlen'!F157","v":0},{"$f":"'aktuelle Zahlen'!G157","v":0},{"$f":"'aktuelle Zahlen'!H157","v":0},{"$f":"'aktuelle Zahlen'!J157","v":0},null," ",{"$f":"SUM(COUNTIF($C161:$H161,$AL$11:$AQ$11))","v":0}," ",{"$f":"SUM(COUNTIF($C161:$H161,$AS$11:$AX$11))","v":0}," ",{"$f":"SUM(COUNTIF($C161:$H161,$AZ$11:$BE$11))","v":0}," ",{"$f":"SUM(COUNTIF($C161:$H161,$BG$11:$BL$11))","v":0}," ",{"$f":"SUM(COUNTIF($C161:$H161,$BN$11:$BS$11))","v":0}," ",{"$f":"SUM(COUNTIF($C161:$H161,$BU$11:$BZ$11))","v":0}," ",{"$f":"SUM(COUNTIF($C161:$H161,$CB$11:$CG$11))","v":0}," ",{"$f":"SUM(COUNTIF($C161:$H161,$CI$11:$CN$11))","v":0}," ",{"$f":"SUM(COUNTIF($C161:$H161,$CP$11:$CU$11))","v":0}," ",{"$f":"SUM(COUNTIF($C161:$H161,$CW$11:$DB$11))","v":0}," ",{"$f":"SUM(COUNTIF($C161:$H161,$DD$11:$DI$11))","v":0}," ",{"$f":"SUM(COUNTIF($C161:$H161,$DK$11:$DP$11))","v":0}]
[{"$f":"'aktuelle Zahlen'!A158","v":0},{"$f":"'aktuelle Zahlen'!B158","v":"00:00:00"},{"$f":"'aktuelle Zahlen'!C158","v":0},{"$f":"'aktuelle Zahlen'!D158","v":0},{"$f":"'aktuelle Zahlen'!E158","v":0},{"$f":"'aktuelle Zahlen'!F158","v":0},{"$f":"'aktuelle Zahlen'!G158","v":0},{"$f":"'aktuelle Zahlen'!H158","v":0},{"$f":"'aktuelle Zahlen'!J158","v":0},null," ",{"$f":"SUM(COUNTIF($C162:$H162,$AL$11:$AQ$11))","v":0}," ",{"$f":"SUM(COUNTIF($C162:$H162,$AS$11:$AX$11))","v":0}," ",{"$f":"SUM(COUNTIF($C162:$H162,$AZ$11:$BE$11))","v":0}," ",{"$f":"SUM(COUNTIF($C162:$H162,$BG$11:$BL$11))","v":0}," ",{"$f":"SUM(COUNTIF($C162:$H162,$BN$11:$BS$11))","v":0}," ",{"$f":"SUM(COUNTIF($C162:$H162,$BU$11:$BZ$11))","v":0}," ",{"$f":"SUM(COUNTIF($C162:$H162,$CB$11:$CG$11))","v":0}," ",{"$f":"SUM(COUNTIF($C162:$H162,$CI$11:$CN$11))","v":0}," ",{"$f":"SUM(COUNTIF($C162:$H162,$CP$11:$CU$11))","v":0}," ",{"$f":"SUM(COUNTIF($C162:$H162,$CW$11:$DB$11))","v":0}," ",{"$f":"SUM(COUNTIF($C162:$H162,$DD$11:$DI$11))","v":0}," ",{"$f":"SUM(COUNTIF($C162:$H162,$DK$11:$DP$11))","v":0}]
[{"$f":"'aktuelle Zahlen'!A159","v":0},{"$f":"'aktuelle Zahlen'!B159","v":"00:00:00"},{"$f":"'aktuelle Zahlen'!C159","v":0},{"$f":"'aktuelle Zahlen'!D159","v":0},{"$f":"'aktuelle Zahlen'!E159","v":0},{"$f":"'aktuelle Zahlen'!F159","v":0},{"$f":"'aktuelle Zahlen'!G159","v":0},{"$f":"'aktuelle Zahlen'!H159","v":0},{"$f":"'aktuelle Zahlen'!J159","v":0},null," ",{"$f":"SUM(COUNTIF($C163:$H163,$AL$11:$AQ$11))","v":0}," ",{"$f":"SUM(COUNTIF($C163:$H163,$AS$11:$AX$11))","v":0}," ",{"$f":"SUM(COUNTIF($C163:$H163,$AZ$11:$BE$11))","v":0}," ",{"$f":"SUM(COUNTIF($C163:$H163,$BG$11:$BL$11))","v":0}," ",{"$f":"SUM(COUNTIF($C163:$H163,$BN$11:$BS$11))","v":0}," ",{"$f":"SUM(COUNTIF($C163:$H163,$BU$11:$BZ$11))","v":0}," ",{"$f":"SUM(COUNTIF($C163:$H163,$CB$11:$CG$11))","v":0}," ",{"$f":"SUM(COUNTIF($C163:$H163,$CI$11:$CN$11))","v":0}," ",{"$f":"SUM(COUNTIF($C163:$H163,$CP$11:$CU$11))","v":0}," ",{"$f":"SUM(COUNTIF($C163:$H163,$CW$11:$DB$11))","v":0}," ",{"$f":"SUM(COUNTIF($C163:$H163,$DD$11:$DI$11))","v":0}," ",{"$f":"SUM(COUNTIF($C163:$H163,$DK$11:$DP$11))","v":0}]
[{"$f":"'aktuelle Zahlen'!A160","v":0},{"$f":"'aktuelle Zahlen'!B160","v":"00:00:00"},{"$f":"'aktuelle Zahlen'!C160","v":0},{"$f":"'aktuelle Zahlen'!D160","v":0},{"$f":"'aktuelle Zahlen'!E160","v":0},{"$f":"'aktuelle Zahlen'!F160","v":0},{"$f":"'aktuelle Zahlen'!G160","v":0},{"$f":"'aktuelle Zahlen'!H160","v":0},{"$f":"'aktuelle Zahlen'!J160","v":0},null," ",{"$f":"SUM(COUNTIF($C164:$H164,$AL$11:$AQ$11))","v":0}," ",{"$f":"SUM(COUNTIF($C164:$H164,$AS$11:$AX$11))","v":0}," ",{"$f":"SUM(COUNTIF($C164:$H164,$AZ$11:$BE$11))","v":0}," ",{"$f":"SUM(COUNTIF($C164:$H164,$BG$11:$BL$11))","v":0}," ",{"$f":"SUM(COUNTIF($C164:$H164,$BN$11:$BS$11))","v":0}," ",{"$f":"SUM(COUNTIF($C164:$H164,$BU$11:$BZ$11))","v":0}," ",{"$f":"SUM(COUNTIF($C164:$H164,$CB$11:$CG$11))","v":0}," ",{"$f":"SUM(COUNTIF($C164:$H164,$CI$11:$CN$11))","v":0}," ",{"$f":"SUM(COUNTIF($C164:$H164,$CP$11:$CU$11))","v":0}," ",{"$f":"SUM(COUNTIF($C164:$H164,$CW$11:$DB$11))","v":0}," ",{"$f":"SUM(COUNTIF($C164:$H164,$DD$11:$DI$11))","v":0}," ",{"$f":"SUM(COUNTIF($C164:$H164,$DK$11:$DP$11))","v":0}]
[{"$f":"'aktuelle Zahlen'!A161","v":0},{"$f":"'aktuelle Zahlen'!B161","v":"00:00:00"},{"$f":"'aktuelle Zahlen'!C161","v":0},{"$f":"'aktuelle Zahlen'!D161","v":0},{"$f":"'aktuelle Zahlen'!E161","v":0},{"$f":"'aktuelle Zahlen'!F161","v":0},{"$f":"'aktuelle Zahlen'!G161","v":0},{"$f":"'aktuelle Zahlen'!H161","v":0},{"$f":"'aktuelle Zahlen'!J161","v":0},null," ",{"$f":"SUM(COUNTIF($C165:$H165,$AL$11:$AQ$11))","v":0}," ",{"$f":"SUM(COUNTIF($C165:$H165,$AS$11:$AX$11))","v":0}," ",{"$f":"SUM(COUNTIF($C165:$H165,$AZ$11:$BE$11))","v":0}," ",{"$f":"SUM(COUNTIF($C165:$H165,$BG$11:$BL$11))","v":0}," ",{"$f":"SUM(COUNTIF($C165:$H165,$BN$11:$BS$11))","v":0}," ",{"$f":"SUM(COUNTIF($C165:$H165,$BU$11:$BZ$11))","v":0}," ",{"$f":"SUM(COUNTIF($C165:$H165,$CB$11:$CG$11))","v":0}," ",{"$f":"SUM(COUNTIF($C165:$H165,$CI$11:$CN$11))","v":0}," ",{"$f":"SUM(COUNTIF($C165:$H165,$CP$11:$CU$11))","v":0}," ",{"$f":"SUM(COUNTIF($C165:$H165,$CW$11:$DB$11))","v":0}," ",{"$f":"SUM(COUNTIF($C165:$H165,$DD$11:$DI$11))","v":0}," ",{"$f":"SUM(COUNTIF($C165:$H165,$DK$11:$DP$11))","v":0}]
[{"$f":"'aktuelle Zahlen'!A162","v":0},{"$f":"'aktuelle Zahlen'!B162","v":"00:00:00"},{"$f":"'aktuelle Zahlen'!C162","v":0},{"$f":"'aktuelle Zahlen'!D162","v":0},{"$f":"'aktuelle Zahlen'!E162","v":0},{"$f":"'aktuelle Zahlen'!F162","v":0},{"$f":"'aktuelle Zahlen'!G162","v":0},{"$f":"'aktuelle Zahlen'!H162","v":0},{"$f":"'aktuelle Zahlen'!J162","v":0},null," ",{"$f":"SUM(COUNTIF($C166:$H166,$AL$11:$AQ$11))","v":0}," ",{"$f":"SUM(COUNTIF($C166:$H166,$AS$11:$AX$11))","v":0}," ",{"$f":"SUM(COUNTIF($C166:$H166,$AZ$11:$BE$11))","v":0}," ",{"$f":"SUM(COUNTIF($C166:$H166,$BG$11:$BL$11))","v":0}," ",{"$f":"SUM(COUNTIF($C166:$H166,$BN$11:$BS$11))","v":0}," ",{"$f":"SUM(COUNTIF($C166:$H166,$BU$11:$BZ$11))","v":0}," ",{"$f":"SUM(COUNTIF($C166:$H166,$CB$11:$CG$11))","v":0}," ",{"$f":"SUM(COUNTIF($C166:$H166,$CI$11:$CN$11))","v":0}," ",{"$f":"SUM(COUNTIF($C166:$H166,$CP$11:$CU$11))","v":0}," ",{"$f":"SUM(COUNTIF($C166:$H166,$CW$11:$DB$11))","v":0}," ",{"$f":"SUM(COUNTIF($C166:$H166,$DD$11:$DI$11))","v":0}," ",{"$f":"SUM(COUNTIF($C166:$H166,$DK$11:$DP$11))","v":0}]
[{"$f":"'aktuelle Zahlen'!A163","v":0},{"$f":"'aktuelle Zahlen'!B163","v":"00:00:00"},{"$f":"'aktuelle Zahlen'!C163","v":0},{"$f":"'aktuelle Zahlen'!D163","v":0},{"$f":"'aktuelle Zahlen'!E163","v":0},{"$f":"'aktuelle Zahlen'!F163","v":0},{"$f":"'aktuelle Zahlen'!G163","v":0},{"$f":"'aktuelle Zahlen'!H163","v":0},{"$f":"'aktuelle Zahlen'!J163","v":0},null," ",{"$f":"SUM(COUNTIF($C167:$H167,$AL$11:$AQ$11))","v":0}," ",{"$f":"SUM(COUNTIF($C167:$H167,$AS$11:$AX$11))","v":0}," ",{"$f":"SUM(COUNTIF($C167:$H167,$AZ$11:$BE$11))","v":0}," ",{"$f":"SUM(COUNTIF($C167:$H167,$BG$11:$BL$11))","v":0}," ",{"$f":"SUM(COUNTIF($C167:$H167,$BN$11:$BS$11))","v":0}," ",{"$f":"SUM(COUNTIF($C167:$H167,$BU$11:$BZ$11))","v":0}," ",{"$f":"SUM(COUNTIF($C167:$H167,$CB$11:$CG$11))","v":0}," ",{"$f":"SUM(COUNTIF($C167:$H167,$CI$11:$CN$11))","v":0}," ",{"$f":"SUM(COUNTIF($C167:$H167,$CP$11:$CU$11))","v":0}," ",{"$f":"SUM(COUNTIF($C167:$H167,$CW$11:$DB$11))","v":0}," ",{"$f":"SUM(COUNTIF($C167:$H167,$DD$11:$DI$11))","v":0}," ",{"$f":"SUM(COUNTIF($C167:$H167,$DK$11:$DP$11))","v":0}]
[{"$f":"'aktuelle Zahlen'!A164","v":0},{"$f":"'aktuelle Zahlen'!B164","v":"00:00:00"},{"$f":"'aktuelle Zahlen'!C164","v":0},{"$f":"'aktuelle Zahlen'!D164","v":0},{"$f":"'aktuelle Zahlen'!E164","v":0},{"$f":"'aktuelle Zahlen'!F164","v":0},{"$f":"'aktuelle Zahlen'!G164","v":0},{"$f":"'aktuelle Zahlen'!H164","v":0},{"$f":"'aktuelle Zahlen'!J164","v":0},null," ",{"$f":"SUM(COUNTIF($C168:$H168,$AL$11:$AQ$11))","v":0}," ",{"$f":"SUM(COUNTIF($C168:$H168,$AS$11:$AX$11))","v":0}," ",{"$f":"SUM(COUNTIF($C168:$H168,$AZ$11:$BE$11))","v":0}," ",{"$f":"SUM(COUNTIF($C168:$H168,$BG$11:$BL$11))","v":0}," ",{"$f":"SUM(COUNTIF($C168:$H168,$BN$11:$BS$11))","v":0}," ",{"$f":"SUM(COUNTIF($C168:$H168,$BU$11:$BZ$11))","v":0}," ",{"$f":"SUM(COUNTIF($C168:$H168,$CB$11:$CG$11))","v":0}," ",{"$f":"SUM(COUNTIF($C168:$H168,$CI$11:$CN$11))","v":0}," ",{"$f":"SUM(COUNTIF($C168:$H168,$CP$11:$CU$11))","v":0}," ",{"$f":"SUM(COUNTIF($C168:$H168,$CW$11:$DB$11))","v":0}," ",{"$f":"SUM(COUNTIF($C168:$H168,$DD$11:$DI$11))","v":0}," ",{"$f":"SUM(COUNTIF($C168:$H168,$DK$11:$DP$11))","v":0}]
[{"$f":"'aktuelle Zahlen'!A165","v":0},{"$f":"'aktuelle Zahlen'!B165","v":"00:00:00"},{"$f":"'aktuelle Zahlen'!C165","v":0},{"$f":"'aktuelle Zahlen'!D165","v":0},{"$f":"'aktuelle Zahlen'!E165","v":0},{"$f":"'aktuelle Zahlen'!F165","v":0},{"$f":"'aktuelle Zahlen'!G165","v":0},{"$f":"'aktuelle Zahlen'!H165","v":0},{"$f":"'aktuelle Zahlen'!J165","v":0},null," ",{"$f":"SUM(COUNTIF($C169:$H169,$AL$11:$AQ$11))","v":0}," ",{"$f":"SUM(COUNTIF($C169:$H169,$AS$11:$AX$11))","v":0}," ",{"$f":"SUM(COUNTIF($C169:$H169,$AZ$11:$BE$11))","v":0}," ",{"$f":"SUM(COUNTIF($C169:$H169,$BG$11:$BL$11))","v":0}," ",{"$f":"SUM(COUNTIF($C169:$H169,$BN$11:$BS$11))","v":0}," ",{"$f":"SUM(COUNTIF($C169:$H169,$BU$11:$BZ$11))","v":0}," ",{"$f":"SUM(COUNTIF($C169:$H169,$CB$11:$CG$11))","v":0}," ",{"$f":"SUM(COUNTIF($C169:$H169,$CI$11:$CN$11))","v":0}," ",{"$f":"SUM(COUNTIF($C169:$H169,$CP$11:$CU$11))","v":0}," ",{"$f":"SUM(COUNTIF($C169:$H169,$CW$11:$DB$11))","v":0}," ",{"$f":"SUM(COUNTIF($C169:$H169,$DD$11:$DI$11))","v":0}," ",{"$f":"SUM(COUNTIF($C169:$H169,$DK$11:$DP$11))","v":0}]
[{"$f":"'aktuelle Zahlen'!A166","v":0},{"$f":"'aktuelle Zahlen'!B166","v":"00:00:00"},{"$f":"'aktuelle Zahlen'!C166","v":0},{"$f":"'aktuelle Zahlen'!D166","v":0},{"$f":"'aktuelle Zahlen'!E166","v":0},{"$f":"'aktuelle Zahlen'!F166","v":0},{"$f":"'aktuelle Zahlen'!G166","v":0},{"$f":"'aktuelle Zahlen'!H166","v":0},{"$f":"'aktuelle Zahlen'!J166","v":0},null," ",{"$f":"SUM(COUNTIF($C170:$H170,$AL$11:$AQ$11))","v":0}," ",{"$f":"SUM(COUNTIF($C170:$H170,$AS$11:$AX$11))","v":0}," ",{"$f":"SUM(COUNTIF($C170:$H170,$AZ$11:$BE$11))","v":0}," ",{"$f":"SUM(COUNTIF($C170:$H170,$BG$11:$BL$11))","v":0}," ",{"$f":"SUM(COUNTIF($C170:$H170,$BN$11:$BS$11))","v":0}," ",{"$f":"SUM(COUNTIF($C170:$H170,$BU$11:$BZ$11))","v":0}," ",{"$f":"SUM(COUNTIF($C170:$H170,$CB$11:$CG$11))","v":0}," ",{"$f":"SUM(COUNTIF($C170:$H170,$CI$11:$CN$11))","v":0}," ",{"$f":"SUM(COUNTIF($C170:$H170,$CP$11:$CU$11))","v":0}," ",{"$f":"SUM(COUNTIF($C170:$H170,$CW$11:$DB$11))","v":0}," ",{"$f":"SUM(COUNTIF($C170:$H170,$DD$11:$DI$11))","v":0}," ",{"$f":"SUM(COUNTIF($C170:$H170,$DK$11:$DP$11))","v":0}]
[{"$f":"'aktuelle Zahlen'!A167","v":0},{"$f":"'aktuelle Zahlen'!B167","v":"00:00:00"},{"$f":"'aktuelle Zahlen'!C167","v":0},{"$f":"'aktuelle Zahlen'!D167","v":0},{"$f":"'aktuelle Zahlen'!E167","v":0},{"$f":"'aktuelle Zahlen'!F167","v":0},{"$f":"'aktuelle Zahlen'!G167","v":0},{"$f":"'aktuelle Zahlen'!H167","v":0},{"$f":"'aktuelle Zahlen'!J167","v":0},null," ",{"$f":"SUM(COUNTIF($C171:$H171,$AL$11:$AQ$11))","v":0}," ",{"$f":"SUM(COUNTIF($C171:$H171,$AS$11:$AX$11))","v":0}," ",{"$f":"SUM(COUNTIF($C171:$H171,$AZ$11:$BE$11))","v":0}," ",{"$f":"SUM(COUNTIF($C171:$H171,$BG$11:$BL$11))","v":0}," ",{"$f":"SUM(COUNTIF($C171:$H171,$BN$11:$BS$11))","v":0}," ",{"$f":"SUM(COUNTIF($C171:$H171,$BU$11:$BZ$11))","v":0}," ",{"$f":"SUM(COUNTIF($C171:$H171,$CB$11:$CG$11))","v":0}," ",{"$f":"SUM(COUNTIF($C171:$H171,$CI$11:$CN$11))","v":0}," ",{"$f":"SUM(COUNTIF($C171:$H171,$CP$11:$CU$11))","v":0}," ",{"$f":"SUM(COUNTIF($C171:$H171,$CW$11:$DB$11))","v":0}," ",{"$f":"SUM(COUNTIF($C171:$H171,$DD$11:$DI$11))","v":0}," ",{"$f":"SUM(COUNTIF($C171:$H171,$DK$11:$DP$11))","v":0}]
[{"$f":"'aktuelle Zahlen'!A168","v":0},{"$f":"'aktuelle Zahlen'!B168","v":"00:00:00"},{"$f":"'aktuelle Zahlen'!C168","v":0},{"$f":"'aktuelle Zahlen'!D168","v":0},{"$f":"'aktuelle Zahlen'!E168","v":0},{"$f":"'aktuelle Zahlen'!F168","v":0},{"$f":"'aktuelle Zahlen'!G168","v":0},{"$f":"'aktuelle Zahlen'!H168","v":0},{"$f":"'aktuelle Zahlen'!J168","v":0},null," ",{"$f":"SUM(COUNTIF($C172:$H172,$AL$11:$AQ$11))","v":0}," ",{"$f":"SUM(COUNTIF($C172:$H172,$AS$11:$AX$11))","v":0}," ",{"$f":"SUM(COUNTIF($C172:$H172,$AZ$11:$BE$11))","v":0}," ",{"$f":"SUM(COUNTIF($C172:$H172,$BG$11:$BL$11))","v":0}," ",{"$f":"SUM(COUNTIF($C172:$H172,$BN$11:$BS$11))","v":0}," ",{"$f":"SUM(COUNTIF($C172:$H172,$BU$11:$BZ$11))","v":0}," ",{"$f":"SUM(COUNTIF($C172:$H172,$CB$11:$CG$11))","v":0}," ",{"$f":"SUM(COUNTIF($C172:$H172,$CI$11:$CN$11))","v":0}," ",{"$f":"SUM(COUNTIF($C172:$H172,$CP$11:$CU$11))","v":0}," ",{"$f":"SUM(COUNTIF($C172:$H172,$CW$11:$DB$11))","v":0}," ",{"$f":"SUM(COUNTIF($C172:$H172,$DD$11:$DI$11))","v":0}," ",{"$f":"SUM(COUNTIF($C172:$H172,$DK$11:$DP$11))","v":0}]
[{"$f":"'aktuelle Zahlen'!A169","v":0},{"$f":"'aktuelle Zahlen'!B169","v":"00:00:00"},{"$f":"'aktuelle Zahlen'!C169","v":0},{"$f":"'aktuelle Zahlen'!D169","v":0},{"$f":"'aktuelle Zahlen'!E169","v":0},{"$f":"'aktuelle Zahlen'!F169","v":0},{"$f":"'aktuelle Zahlen'!G169","v":0},{"$f":"'aktuelle Zahlen'!H169","v":0},{"$f":"'aktuelle Zahlen'!J169","v":0},null," ",{"$f":"SUM(COUNTIF($C173:$H173,$AL$11:$AQ$11))","v":0}," ",{"$f":"SUM(COUNTIF($C173:$H173,$AS$11:$AX$11))","v":0}," ",{"$f":"SUM(COUNTIF($C173:$H173,$AZ$11:$BE$11))","v":0}," ",{"$f":"SUM(COUNTIF($C173:$H173,$BG$11:$BL$11))","v":0}," ",{"$f":"SUM(COUNTIF($C173:$H173,$BN$11:$BS$11))","v":0}," ",{"$f":"SUM(COUNTIF($C173:$H173,$BU$11:$BZ$11))","v":0}," ",{"$f":"SUM(COUNTIF($C173:$H173,$CB$11:$CG$11))","v":0}," ",{"$f":"SUM(COUNTIF($C173:$H173,$CI$11:$CN$11))","v":0}," ",{"$f":"SUM(COUNTIF($C173:$H173,$CP$11:$CU$11))","v":0}," ",{"$f":"SUM(COUNTIF($C173:$H173,$CW$11:$DB$11))","v":0}," ",{"$f":"SUM(COUNTIF($C173:$H173,$DD$11:$DI$11))","v":0}," ",{"$f":"SUM(COUNTIF($C173:$H173,$DK$11:$DP$11))","v":0}]
[{"$f":"'aktuelle Zahlen'!A170","v":0},{"$f":"'aktuelle Zahlen'!B170","v":"00:00:00"},{"$f":"'aktuelle Zahlen'!C170","v":0},{"$f":"'aktuelle Zahlen'!D170","v":0},{"$f":"'aktuelle Zahlen'!E170","v":0},{"$f":"'aktuelle Zahlen'!F170","v":0},{"$f":"'aktuelle Zahlen'!G170","v":0},{"$f":"'aktuelle Zahlen'!H170","v":0},{"$f":"'aktuelle Zahlen'!J170","v":0},null," ",{"$f":"SUM(COUNTIF($C174:$H174,$AL$11:$AQ$11))","v":0}," ",{"$f":"SUM(COUNTIF($C174:$H174,$AS$11:$AX$11))","v":0}," ",{"$f":"SUM(COUNTIF($C174:$H174,$AZ$11:$BE$11))","v":0}," ",{"$f":"SUM(COUNTIF($C174:$H174,$BG$11:$BL$11))","v":0}," ",{"$f":"SUM(COUNTIF($C174:$H174,$BN$11:$BS$11))","v":0}," ",{"$f":"SUM(COUNTIF($C174:$H174,$BU$11:$BZ$11))","v":0}," ",{"$f":"SUM(COUNTIF($C174:$H174,$CB$11:$CG$11))","v":0}," ",{"$f":"SUM(COUNTIF($C174:$H174,$CI$11:$CN$11))","v":0}," ",{"$f":"SUM(COUNTIF($C174:$H174,$CP$11:$CU$11))","v":0}," ",{"$f":"SUM(COUNTIF($C174:$H174,$CW$11:$DB$11))","v":0}," ",{"$f":"SUM(COUNTIF($C174:$H174,$DD$11:$DI$11))","v":0}," ",{"$f":"SUM(COUNTIF($C174:$H174,$DK$11:$DP$11))","v":0}]
[{"$f":"'aktuelle Zahlen'!A171","v":0},{"$f":"'aktuelle Zahlen'!B171","v":"00:00:00"},{"$f":"'aktuelle Zahlen'!C171","v":0},{"$f":"'aktuelle Zahlen'!D171","v":0},{"$f":"'aktuelle Zahlen'!E171","v":0},{"$f":"'aktuelle Zahlen'!F171","v":0},{"$f":"'aktuelle Zahlen'!G171","v":0},{"$f":"'aktuelle Zahlen'!H171","v":0},{"$f":"'aktuelle Zahlen'!J171","v":0},null," ",{"$f":"SUM(COUNTIF($C175:$H175,$AL$11:$AQ$11))","v":0}," ",{"$f":"SUM(COUNTIF($C175:$H175,$AS$11:$AX$11))","v":0}," ",{"$f":"SUM(COUNTIF($C175:$H175,$AZ$11:$BE$11))","v":0}," ",{"$f":"SUM(COUNTIF($C175:$H175,$BG$11:$BL$11))","v":0}," ",{"$f":"SUM(COUNTIF($C175:$H175,$BN$11:$BS$11))","v":0}," ",{"$f":"SUM(COUNTIF($C175:$H175,$BU$11:$BZ$11))","v":0}," ",{"$f":"SUM(COUNTIF($C175:$H175,$CB$11:$CG$11))","v":0}," ",{"$f":"SUM(COUNTIF($C175:$H175,$CI$11:$CN$11))","v":0}," ",{"$f":"SUM(COUNTIF($C175:$H175,$CP$11:$CU$11))","v":0}," ",{"$f":"SUM(COUNTIF($C175:$H175,$CW$11:$DB$11))","v":0}," ",{"$f":"SUM(COUNTIF($C175:$H175,$DD$11:$DI$11))","v":0}," ",{"$f":"SUM(COUNTIF($C175:$H175,$DK$11:$DP$11))","v":0}]
[{"$f":"'aktuelle Zahlen'!A172","v":0},{"$f":"'aktuelle Zahlen'!B172","v":"00:00:00"},{"$f":"'aktuelle Zahlen'!C172","v":0},{"$f":"'aktuelle Zahlen'!D172","v":0},{"$f":"'aktuelle Zahlen'!E172","v":0},{"$f":"'aktuelle Zahlen'!F172","v":0},{"$f":"'aktuelle Zahlen'!G172","v":0},{"$f":"'aktuelle Zahlen'!H172","v":0},{"$f":"'aktuelle Zahlen'!J172","v":0},null," ",{"$f":"SUM(COUNTIF($C176:$H176,$AL$11:$AQ$11))","v":0}," ",{"$f":"SUM(COUNTIF($C176:$H176,$AS$11:$AX$11))","v":0}," ",{"$f":"SUM(COUNTIF($C176:$H176,$AZ$11:$BE$11))","v":0}," ",{"$f":"SUM(COUNTIF($C176:$H176,$BG$11:$BL$11))","v":0}," ",{"$f":"SUM(COUNTIF($C176:$H176,$BN$11:$BS$11))","v":0}," ",{"$f":"SUM(COUNTIF($C176:$H176,$BU$11:$BZ$11))","v":0}," ",{"$f":"SUM(COUNTIF($C176:$H176,$CB$11:$CG$11))","v":0}," ",{"$f":"SUM(COUNTIF($C176:$H176,$CI$11:$CN$11))","v":0}," ",{"$f":"SUM(COUNTIF($C176:$H176,$CP$11:$CU$11))","v":0}," ",{"$f":"SUM(COUNTIF($C176:$H176,$CW$11:$DB$11))","v":0}," ",{"$f":"SUM(COUNTIF($C176:$H176,$DD$11:$DI$11))","v":0}," ",{"$f":"SUM(COUNTIF($C176:$H176,$DK$11:$DP$11))","v":0}]
[{"$f":"'aktuelle Zahlen'!A173","v":0},{"$f":"'aktuelle Zahlen'!B173","v":"00:00:00"},{"$f":"'aktuelle Zahlen'!C173","v":0},{"$f":"'aktuelle Zahlen'!D173","v":0},{"$f":"'aktuelle Zahlen'!E173","v":0},{"$f":"'aktuelle Zahlen'!F173","v":0},{"$f":"'aktuelle Zahlen'!G173","v":0},{"$f":"'aktuelle Zahlen'!H173","v":0},{"$f":"'aktuelle Zahlen'!J173","v":0},null," ",{"$f":"SUM(COUNTIF($C177:$H177,$AL$11:$AQ$11))","v":0}," ",{"$f":"SUM(COUNTIF($C177:$H177,$AS$11:$AX$11))","v":0}," ",{"$f":"SUM(COUNTIF($C177:$H177,$AZ$11:$BE$11))","v":0}," ",{"$f":"SUM(COUNTIF($C177:$H177,$BG$11:$BL$11))","v":0}," ",{"$f":"SUM(COUNTIF($C177:$H177,$BN$11:$BS$11))","v":0}," ",{"$f":"SUM(COUNTIF($C177:$H177,$BU$11:$BZ$11))","v":0}," ",{"$f":"SUM(COUNTIF($C177:$H177,$CB$11:$CG$11))","v":0}," ",{"$f":"SUM(COUNTIF($C177:$H177,$CI$11:$CN$11))","v":0}," ",{"$f":"SUM(COUNTIF($C177:$H177,$CP$11:$CU$11))","v":0}," ",{"$f":"SUM(COUNTIF($C177:$H177,$CW$11:$DB$11))","v":0}," ",{"$f":"SUM(COUNTIF($C177:$H177,$DD$11:$DI$11))","v":0}," ",{"$f":"SUM(COUNTIF($C177:$H177,$DK$11:$DP$11))","v":0}]
[{"$f":"'aktuelle Zahlen'!A174","v":0},{"$f":"'aktuelle Zahlen'!B174","v":"00:00:00"},{"$f":"'aktuelle Zahlen'!C174","v":0},{"$f":"'aktuelle Zahlen'!D174","v":0},{"$f":"'aktuelle Zahlen'!E174","v":0},{"$f":"'aktuelle Zahlen'!F174","v":0},{"$f":"'aktuelle Zahlen'!G174","v":0},{"$f":"'aktuelle Zahlen'!H174","v":0},{"$f":"'aktuelle Zahlen'!J174","v":0},null," ",{"$f":"SUM(COUNTIF($C178:$H178,$AL$11:$AQ$11))","v":0}," ",{"$f":"SUM(COUNTIF($C178:$H178,$AS$11:$AX$11))","v":0}," ",{"$f":"SUM(COUNTIF($C178:$H178,$AZ$11:$BE$11))","v":0}," ",{"$f":"SUM(COUNTIF($C178:$H178,$BG$11:$BL$11))","v":0}," ",{"$f":"SUM(COUNTIF($C178:$H178,$BN$11:$BS$11))","v":0}," ",{"$f":"SUM(COUNTIF($C178:$H178,$BU$11:$BZ$11))","v":0}," ",{"$f":"SUM(COUNTIF($C178:$H178,$CB$11:$CG$11))","v":0}," ",{"$f":"SUM(COUNTIF($C178:$H178,$CI$11:$CN$11))","v":0}," ",{"$f":"SUM(COUNTIF($C178:$H178,$CP$11:$CU$11))","v":0}," ",{"$f":"SUM(COUNTIF($C178:$H178,$CW$11:$DB$11))","v":0}," ",{"$f":"SUM(COUNTIF($C178:$H178,$DD$11:$DI$11))","v":0}," ",{"$f":"SUM(COUNTIF($C178:$H178,$DK$11:$DP$11))","v":0}]
[{"$f":"'aktuelle Zahlen'!A175","v":0},{"$f":"'aktuelle Zahlen'!B175","v":"00:00:00"},{"$f":"'aktuelle Zahlen'!C175","v":0},{"$f":"'aktuelle Zahlen'!D175","v":0},{"$f":"'aktuelle Zahlen'!E175","v":0},{"$f":"'aktuelle Zahlen'!F175","v":0},{"$f":"'aktuelle Zahlen'!G175","v":0},{"$f":"'aktuelle Zahlen'!H175","v":0},{"$f":"'aktuelle Zahlen'!J175","v":0},null," ",{"$f":"SUM(COUNTIF($C179:$H179,$AL$11:$AQ$11))","v":0}," ",{"$f":"SUM(COUNTIF($C179:$H179,$AS$11:$AX$11))","v":0}," ",{"$f":"SUM(COUNTIF($C179:$H179,$AZ$11:$BE$11))","v":0}," ",{"$f":"SUM(COUNTIF($C179:$H179,$BG$11:$BL$11))","v":0}," ",{"$f":"SUM(COUNTIF($C179:$H179,$BN$11:$BS$11))","v":0}," ",{"$f":"SUM(COUNTIF($C179:$H179,$BU$11:$BZ$11))","v":0}," ",{"$f":"SUM(COUNTIF($C179:$H179,$CB$11:$CG$11))","v":0}," ",{"$f":"SUM(COUNTIF($C179:$H179,$CI$11:$CN$11))","v":0}," ",{"$f":"SUM(COUNTIF($C179:$H179,$CP$11:$CU$11))","v":0}," ",{"$f":"SUM(COUNTIF($C179:$H179,$CW$11:$DB$11))","v":0}," ",{"$f":"SUM(COUNTIF($C179:$H179,$DD$11:$DI$11))","v":0}," ",{"$f":"SUM(COUNTIF($C179:$H179,$DK$11:$DP$11))","v":0}]
[{"$f":"'aktuelle Zahlen'!A176","v":0},{"$f":"'aktuelle Zahlen'!B176","v":"00:00:00"},{"$f":"'aktuelle Zahlen'!C176","v":0},{"$f":"'aktuelle Zahlen'!D176","v":0},{"$f":"'aktuelle Zahlen'!E176","v":0},{"$f":"'aktuelle Zahlen'!F176","v":0},{"$f":"'aktuelle Zahlen'!G176","v":0},{"$f":"'aktuelle Zahlen'!H176","v":0},{"$f":"'aktuelle Zahlen'!J176","v":0},null," ",{"$f":"SUM(COUNTIF($C180:$H180,$AL$11:$AQ$11))","v":0}," ",{"$f":"SUM(COUNTIF($C180:$H180,$AS$11:$AX$11))","v":0}," ",{"$f":"SUM(COUNTIF($C180:$H180,$AZ$11:$BE$11))","v":0}," ",{"$f":"SUM(COUNTIF($C180:$H180,$BG$11:$BL$11))","v":0}," ",{"$f":"SUM(COUNTIF($C180:$H180,$BN$11:$BS$11))","v":0}," ",{"$f":"SUM(COUNTIF($C180:$H180,$BU$11:$BZ$11))","v":0}," ",{"$f":"SUM(COUNTIF($C180:$H180,$CB$11:$CG$11))","v":0}," ",{"$f":"SUM(COUNTIF($C180:$H180,$CI$11:$CN$11))","v":0}," ",{"$f":"SUM(COUNTIF($C180:$H180,$CP$11:$CU$11))","v":0}," ",{"$f":"SUM(COUNTIF($C180:$H180,$CW$11:$DB$11))","v":0}," ",{"$f":"SUM(COUNTIF($C180:$H180,$DD$11:$DI$11))","v":0}," ",{"$f":"SUM(COUNTIF($C180:$H180,$DK$11:$DP$11))","v":0}]
[{"$f":"'aktuelle Zahlen'!A177","v":0},{"$f":"'aktuelle Zahlen'!B177","v":"00:00:00"},{"$f":"'aktuelle Zahlen'!C177","v":0},{"$f":"'aktuelle Zahlen'!D177","v":0},{"$f":"'aktuelle Zahlen'!E177","v":0},{"$f":"'aktuelle Zahlen'!F177","v":0},{"$f":"'aktuelle Zahlen'!G177","v":0},{"$f":"'aktuelle Zahlen'!H177","v":0},{"$f":"'aktuelle Zahlen'!J177","v":0},null," ",{"$f":"SUM(COUNTIF($C181:$H181,$AL$11:$AQ$11))","v":0}," ",{"$f":"SUM(COUNTIF($C181:$H181,$AS$11:$AX$11))","v":0}," ",{"$f":"SUM(COUNTIF($C181:$H181,$AZ$11:$BE$11))","v":0}," ",{"$f":"SUM(COUNTIF($C181:$H181,$BG$11:$BL$11))","v":0}," ",{"$f":"SUM(COUNTIF($C181:$H181,$BN$11:$BS$11))","v":0}," ",{"$f":"SUM(COUNTIF($C181:$H181,$BU$11:$BZ$11))","v":0}," ",{"$f":"SUM(COUNTIF($C181:$H181,$CB$11:$CG$11))","v":0}," ",{"$f":"SUM(COUNTIF($C181:$H181,$CI$11:$CN$11))","v":0}," ",{"$f":"SUM(COUNTIF($C181:$H181,$CP$11:$CU$11))","v":0}," ",{"$f":"SUM(COUNTIF($C181:$H181,$CW$11:$DB$11))","v":0}," ",{"$f":"SUM(COUNTIF($C181:$H181,$DD$11:$DI$11))","v":0}," ",{"$f":"SUM(COUNTIF($C181:$H181,$DK$11:$DP$11))","v":0}]
[{"$f":"'aktuelle Zahlen'!A178","v":0},{"$f":"'aktuelle Zahlen'!B178","v":"00:00:00"},{"$f":"'aktuelle Zahlen'!C178","v":0},{"$f":"'aktuelle Zahlen'!D178","v":0},{"$f":"'aktuelle Zahlen'!E178","v":0},{"$f":"'aktuelle Zahlen'!F178","v":0},{"$f":"'aktuelle Zahlen'!G178","v":0},{"$f":"'aktuelle Zahlen'!H178","v":0},{"$f":"'aktuelle Zahlen'!J178","v":0},null," ",{"$f":"SUM(COUNTIF($C182:$H182,$AL$11:$AQ$11))","v":0}," ",{"$f":"SUM(COUNTIF($C182:$H182,$AS$11:$AX$11))","v":0}," ",{"$f":"SUM(COUNTIF($C182:$H182,$AZ$11:$BE$11))","v":0}," ",{"$f":"SUM(COUNTIF($C182:$H182,$BG$11:$BL$11))","v":0}," ",{"$f":"SUM(COUNTIF($C182:$H182,$BN$11:$BS$11))","v":0}," ",{"$f":"SUM(COUNTIF($C182:$H182,$BU$11:$BZ$11))","v":0}," ",{"$f":"SUM(COUNTIF($C182:$H182,$CB$11:$CG$11))","v":0}," ",{"$f":"SUM(COUNTIF($C182:$H182,$CI$11:$CN$11))","v":0}," ",{"$f":"SUM(COUNTIF($C182:$H182,$CP$11:$CU$11))","v":0}," ",{"$f":"SUM(COUNTIF($C182:$H182,$CW$11:$DB$11))","v":0}," ",{"$f":"SUM(COUNTIF($C182:$H182,$DD$11:$DI$11))","v":0}," ",{"$f":"SUM(COUNTIF($C182:$H182,$DK$11:$DP$11))","v":0}]
[{"$f":"'aktuelle Zahlen'!A179","v":0},{"$f":"'aktuelle Zahlen'!B179","v":"00:00:00"},{"$f":"'aktuelle Zahlen'!C179","v":0},{"$f":"'aktuelle Zahlen'!D179","v":0},{"$f":"'aktuelle Zahlen'!E179","v":0},{"$f":"'aktuelle Zahlen'!F179","v":0},{"$f":"'aktuelle Zahlen'!G179","v":0},{"$f":"'aktuelle Zahlen'!H179","v":0},{"$f":"'aktuelle Zahlen'!J179","v":0},null," ",{"$f":"SUM(COUNTIF($C183:$H183,$AL$11:$AQ$11))","v":0}," ",{"$f":"SUM(COUNTIF($C183:$H183,$AS$11:$AX$11))","v":0}," ",{"$f":"SUM(COUNTIF($C183:$H183,$AZ$11:$BE$11))","v":0}," ",{"$f":"SUM(COUNTIF($C183:$H183,$BG$11:$BL$11))","v":0}," ",{"$f":"SUM(COUNTIF($C183:$H183,$BN$11:$BS$11))","v":0}," ",{"$f":"SUM(COUNTIF($C183:$H183,$BU$11:$BZ$11))","v":0}," ",{"$f":"SUM(COUNTIF($C183:$H183,$CB$11:$CG$11))","v":0}," ",{"$f":"SUM(COUNTIF($C183:$H183,$CI$11:$CN$11))","v":0}," ",{"$f":"SUM(COUNTIF($C183:$H183,$CP$11:$CU$11))","v":0}," ",{"$f":"SUM(COUNTIF($C183:$H183,$CW$11:$DB$11))","v":0}," ",{"$f":"SUM(COUNTIF($C183:$H183,$DD$11:$DI$11))","v":0}," ",{"$f":"SUM(COUNTIF($C183:$H183,$DK$11:$DP$11))","v":0}]
[{"$f":"'aktuelle Zahlen'!A180","v":0},{"$f":"'aktuelle Zahlen'!B180","v":"00:00:00"},{"$f":"'aktuelle Zahlen'!C180","v":0},{"$f":"'aktuelle Zahlen'!D180","v":0},{"$f":"'aktuelle Zahlen'!E180","v":0},{"$f":"'aktuelle Zahlen'!F180","v":0},{"$f":"'aktuelle Zahlen'!G180","v":0},{"$f":"'aktuelle Zahlen'!H180","v":0},{"$f":"'aktuelle Zahlen'!J180","v":0},null," ",{"$f":"SUM(COUNTIF($C184:$H184,$AL$11:$AQ$11))","v":0}," ",{"$f":"SUM(COUNTIF($C184:$H184,$AS$11:$AX$11))","v":0}," ",{"$f":"SUM(COUNTIF($C184:$H184,$AZ$11:$BE$11))","v":0}," ",{"$f":"SUM(COUNTIF($C184:$H184,$BG$11:$BL$11))","v":0}," ",{"$f":"SUM(COUNTIF($C184:$H184,$BN$11:$BS$11))","v":0}," ",{"$f":"SUM(COUNTIF($C184:$H184,$BU$11:$BZ$11))","v":0}," ",{"$f":"SUM(COUNTIF($C184:$H184,$CB$11:$CG$11))","v":0}," ",{"$f":"SUM(COUNTIF($C184:$H184,$CI$11:$CN$11))","v":0}," ",{"$f":"SUM(COUNTIF($C184:$H184,$CP$11:$CU$11))","v":0}," ",{"$f":"SUM(COUNTIF($C184:$H184,$CW$11:$DB$11))","v":0}," ",{"$f":"SUM(COUNTIF($C184:$H184,$DD$11:$DI$11))","v":0}," ",{"$f":"SUM(COUNTIF($C184:$H184,$DK$11:$DP$11))","v":0}]
[{"$f":"'aktuelle Zahlen'!A181","v":0},{"$f":"'aktuelle Zahlen'!B181","v":"00:00:00"},{"$f":"'aktuelle Zahlen'!C181","v":0},{"$f":"'aktuelle Zahlen'!D181","v":0},{"$f":"'aktuelle Zahlen'!E181","v":0},{"$f":"'aktuelle Zahlen'!F181","v":0},{"$f":"'aktuelle Zahlen'!G181","v":0},{"$f":"'aktuelle Zahlen'!H181","v":0},{"$f":"'aktuelle Zahlen'!J181","v":0},null," ",{"$f":"SUM(COUNTIF($C185:$H185,$AL$11:$AQ$11))","v":0}," ",{"$f":"SUM(COUNTIF($C185:$H185,$AS$11:$AX$11))","v":0}," ",{"$f":"SUM(COUNTIF($C185:$H185,$AZ$11:$BE$11))","v":0}," ",{"$f":"SUM(COUNTIF($C185:$H185,$BG$11:$BL$11))","v":0}," ",{"$f":"SUM(COUNTIF($C185:$H185,$BN$11:$BS$11))","v":0}," ",{"$f":"SUM(COUNTIF($C185:$H185,$BU$11:$BZ$11))","v":0}," ",{"$f":"SUM(COUNTIF($C185:$H185,$CB$11:$CG$11))","v":0}," ",{"$f":"SUM(COUNTIF($C185:$H185,$CI$11:$CN$11))","v":0}," ",{"$f":"SUM(COUNTIF($C185:$H185,$CP$11:$CU$11))","v":0}," ",{"$f":"SUM(COUNTIF($C185:$H185,$CW$11:$DB$11))","v":0}," ",{"$f":"SUM(COUNTIF($C185:$H185,$DD$11:$DI$11))","v":0}," ",{"$f":"SUM(COUNTIF($C185:$H185,$DK$11:$DP$11))","v":0}]
[{"$f":"'aktuelle Zahlen'!A182","v":0},{"$f":"'aktuelle Zahlen'!B182","v":"00:00:00"},{"$f":"'aktuelle Zahlen'!C182","v":0},{"$f":"'aktuelle Zahlen'!D182","v":0},{"$f":"'aktuelle Zahlen'!E182","v":0},{"$f":"'aktuelle Zahlen'!F182","v":0},{"$f":"'aktuelle Zahlen'!G182","v":0},{"$f":"'aktuelle Zahlen'!H182","v":0},{"$f":"'aktuelle Zahlen'!J182","v":0},null," ",{"$f":"SUM(COUNTIF($C186:$H186,$AL$11:$AQ$11))","v":0}," ",{"$f":"SUM(COUNTIF($C186:$H186,$AS$11:$AX$11))","v":0}," ",{"$f":"SUM(COUNTIF($C186:$H186,$AZ$11:$BE$11))","v":0}," ",{"$f":"SUM(COUNTIF($C186:$H186,$BG$11:$BL$11))","v":0}," ",{"$f":"SUM(COUNTIF($C186:$H186,$BN$11:$BS$11))","v":0}," ",{"$f":"SUM(COUNTIF($C186:$H186,$BU$11:$BZ$11))","v":0}," ",{"$f":"SUM(COUNTIF($C186:$H186,$CB$11:$CG$11))","v":0}," ",{"$f":"SUM(COUNTIF($C186:$H186,$CI$11:$CN$11))","v":0}," ",{"$f":"SUM(COUNTIF($C186:$H186,$CP$11:$CU$11))","v":0}," ",{"$f":"SUM(COUNTIF($C186:$H186,$CW$11:$DB$11))","v":0}," ",{"$f":"SUM(COUNTIF($C186:$H186,$DD$11:$DI$11))","v":0}," ",{"$f":"SUM(COUNTIF($C186:$H186,$DK$11:$DP$11))","v":0}]
[{"$f":"'aktuelle Zahlen'!A183","v":0},{"$f":"'aktuelle Zahlen'!B183","v":"00:00:00"},{"$f":"'aktuelle Zahlen'!C183","v":0},{"$f":"'aktuelle Zahlen'!D183","v":0},{"$f":"'aktuelle Zahlen'!E183","v":0},{"$f":"'aktuelle Zahlen'!F183","v":0},{"$f":"'aktuelle Zahlen'!G183","v":0},{"$f":"'aktuelle Zahlen'!H183","v":0},{"$f":"'aktuelle Zahlen'!J183","v":0},null," ",{"$f":"SUM(COUNTIF($C187:$H187,$AL$11:$AQ$11))","v":0}," ",{"$f":"SUM(COUNTIF($C187:$H187,$AS$11:$AX$11))","v":0}," ",{"$f":"SUM(COUNTIF($C187:$H187,$AZ$11:$BE$11))","v":0}," ",{"$f":"SUM(COUNTIF($C187:$H187,$BG$11:$BL$11))","v":0}," ",{"$f":"SUM(COUNTIF($C187:$H187,$BN$11:$BS$11))","v":0}," ",{"$f":"SUM(COUNTIF($C187:$H187,$BU$11:$BZ$11))","v":0}," ",{"$f":"SUM(COUNTIF($C187:$H187,$CB$11:$CG$11))","v":0}," ",{"$f":"SUM(COUNTIF($C187:$H187,$CI$11:$CN$11))","v":0}," ",{"$f":"SUM(COUNTIF($C187:$H187,$CP$11:$CU$11))","v":0}," ",{"$f":"SUM(COUNTIF($C187:$H187,$CW$11:$DB$11))","v":0}," ",{"$f":"SUM(COUNTIF($C187:$H187,$DD$11:$DI$11))","v":0}," ",{"$f":"SUM(COUNTIF($C187:$H187,$DK$11:$DP$11))","v":0}]
[{"$f":"'aktuelle Zahlen'!A184","v":0},{"$f":"'aktuelle Zahlen'!B184","v":"00:00:00"},{"$f":"'aktuelle Zahlen'!C184","v":0},{"$f":"'aktuelle Zahlen'!D184","v":0},{"$f":"'aktuelle Zahlen'!E184","v":0},{"$f":"'aktuelle Zahlen'!F184","v":0},{"$f":"'aktuelle Zahlen'!G184","v":0},{"$f":"'aktuelle Zahlen'!H184","v":0},{"$f":"'aktuelle Zahlen'!J184","v":0},null," ",{"$f":"SUM(COUNTIF($C188:$H188,$AL$11:$AQ$11))","v":0}," ",{"$f":"SUM(COUNTIF($C188:$H188,$AS$11:$AX$11))","v":0}," ",{"$f":"SUM(COUNTIF($C188:$H188,$AZ$11:$BE$11))","v":0}," ",{"$f":"SUM(COUNTIF($C188:$H188,$BG$11:$BL$11))","v":0}," ",{"$f":"SUM(COUNTIF($C188:$H188,$BN$11:$BS$11))","v":0}," ",{"$f":"SUM(COUNTIF($C188:$H188,$BU$11:$BZ$11))","v":0}," ",{"$f":"SUM(COUNTIF($C188:$H188,$CB$11:$CG$11))","v":0}," ",{"$f":"SUM(COUNTIF($C188:$H188,$CI$11:$CN$11))","v":0}," ",{"$f":"SUM(COUNTIF($C188:$H188,$CP$11:$CU$11))","v":0}," ",{"$f":"SUM(COUNTIF($C188:$H188,$CW$11:$DB$11))","v":0}," ",{"$f":"SUM(COUNTIF($C188:$H188,$DD$11:$DI$11))","v":0}," ",{"$f":"SUM(COUNTIF($C188:$H188,$DK$11:$DP$11))","v":0}]
[{"$f":"'aktuelle Zahlen'!A185","v":0},{"$f":"'aktuelle Zahlen'!B185","v":"00:00:00"},{"$f":"'aktuelle Zahlen'!C185","v":0},{"$f":"'aktuelle Zahlen'!D185","v":0},{"$f":"'aktuelle Zahlen'!E185","v":0},{"$f":"'aktuelle Zahlen'!F185","v":0},{"$f":"'aktuelle Zahlen'!G185","v":0},{"$f":"'aktuelle Zahlen'!H185","v":0},{"$f":"'aktuelle Zahlen'!J185","v":0},null," ",{"$f":"SUM(COUNTIF($C189:$H189,$AL$11:$AQ$11))","v":0}," ",{"$f":"SUM(COUNTIF($C189:$H189,$AS$11:$AX$11))","v":0}," ",{"$f":"SUM(COUNTIF($C189:$H189,$AZ$11:$BE$11))","v":0}," ",{"$f":"SUM(COUNTIF($C189:$H189,$BG$11:$BL$11))","v":0}," ",{"$f":"SUM(COUNTIF($C189:$H189,$BN$11:$BS$11))","v":0}," ",{"$f":"SUM(COUNTIF($C189:$H189,$BU$11:$BZ$11))","v":0}," ",{"$f":"SUM(COUNTIF($C189:$H189,$CB$11:$CG$11))","v":0}," ",{"$f":"SUM(COUNTIF($C189:$H189,$CI$11:$CN$11))","v":0}," ",{"$f":"SUM(COUNTIF($C189:$H189,$CP$11:$CU$11))","v":0}," ",{"$f":"SUM(COUNTIF($C189:$H189,$CW$11:$DB$11))","v":0}," ",{"$f":"SUM(COUNTIF($C189:$H189,$DD$11:$DI$11))","v":0}," ",{"$f":"SUM(COUNTIF($C189:$H189,$DK$11:$DP$11))","v":0}]
[{"$f":"'aktuelle Zahlen'!A186","v":0},{"$f":"'aktuelle Zahlen'!B186","v":"00:00:00"},{"$f":"'aktuelle Zahlen'!C186","v":0},{"$f":"'aktuelle Zahlen'!D186","v":0},{"$f":"'aktuelle Zahlen'!E186","v":0},{"$f":"'aktuelle Zahlen'!F186","v":0},{"$f":"'aktuelle Zahlen'!G186","v":0},{"$f":"'aktuelle Zahlen'!H186","v":0},{"$f":"'aktuelle Zahlen'!J186","v":0},null," ",{"$f":"SUM(COUNTIF($C190:$H190,$AL$11:$AQ$11))","v":0}," ",{"$f":"SUM(COUNTIF($C190:$H190,$AS$11:$AX$11))","v":0}," ",{"$f":"SUM(COUNTIF($C190:$H190,$AZ$11:$BE$11))","v":0}," ",{"$f":"SUM(COUNTIF($C190:$H190,$BG$11:$BL$11))","v":0}," ",{"$f":"SUM(COUNTIF($C190:$H190,$BN$11:$BS$11))","v":0}," ",{"$f":"SUM(COUNTIF($C190:$H190,$BU$11:$BZ$11))","v":0}," ",{"$f":"SUM(COUNTIF($C190:$H190,$CB$11:$CG$11))","v":0}," ",{"$f":"SUM(COUNTIF($C190:$H190,$CI$11:$CN$11))","v":0}," ",{"$f":"SUM(COUNTIF($C190:$H190,$CP$11:$CU$11))","v":0}," ",{"$f":"SUM(COUNTIF($C190:$H190,$CW$11:$DB$11))","v":0}," ",{"$f":"SUM(COUNTIF($C190:$H190,$DD$11:$DI$11))","v":0}," ",{"$f":"SUM(COUNTIF($C190:$H190,$DK$11:$DP$11))","v":0}]
[{"$f":"'aktuelle Zahlen'!A187","v":0},{"$f":"'aktuelle Zahlen'!B187","v":"00:00:00"},{"$f":"'aktuelle Zahlen'!C187","v":0},{"$f":"'aktuelle Zahlen'!D187","v":0},{"$f":"'aktuelle Zahlen'!E187","v":0},{"$f":"'aktuelle Zahlen'!F187","v":0},{"$f":"'aktuelle Zahlen'!G187","v":0},{"$f":"'aktuelle Zahlen'!H187","v":0},{"$f":"'aktuelle Zahlen'!J187","v":0},null," ",{"$f":"SUM(COUNTIF($C191:$H191,$AL$11:$AQ$11))","v":0}," ",{"$f":"SUM(COUNTIF($C191:$H191,$AS$11:$AX$11))","v":0}," ",{"$f":"SUM(COUNTIF($C191:$H191,$AZ$11:$BE$11))","v":0}," ",{"$f":"SUM(COUNTIF($C191:$H191,$BG$11:$BL$11))","v":0}," ",{"$f":"SUM(COUNTIF($C191:$H191,$BN$11:$BS$11))","v":0}," ",{"$f":"SUM(COUNTIF($C191:$H191,$BU$11:$BZ$11))","v":0}," ",{"$f":"SUM(COUNTIF($C191:$H191,$CB$11:$CG$11))","v":0}," ",{"$f":"SUM(COUNTIF($C191:$H191,$CI$11:$CN$11))","v":0}," ",{"$f":"SUM(COUNTIF($C191:$H191,$CP$11:$CU$11))","v":0}," ",{"$f":"SUM(COUNTIF($C191:$H191,$CW$11:$DB$11))","v":0}," ",{"$f":"SUM(COUNTIF($C191:$H191,$DD$11:$DI$11))","v":0}," ",{"$f":"SUM(COUNTIF($C191:$H191,$DK$11:$DP$11))","v":0}]
[{"$f":"'aktuelle Zahlen'!A188","v":0},{"$f":"'aktuelle Zahlen'!B188","v":"00:00:00"},{"$f":"'aktuelle Zahlen'!C188","v":0},{"$f":"'aktuelle Zahlen'!D188","v":0},{"$f":"'aktuelle Zahlen'!E188","v":0},{"$f":"'aktuelle Zahlen'!F188","v":0},{"$f":"'aktuelle Zahlen'!G188","v":0},{"$f":"'aktuelle Zahlen'!H188","v":0},{"$f":"'aktuelle Zahlen'!J188","v":0},null," ",{"$f":"SUM(COUNTIF($C192:$H192,$AL$11:$AQ$11))","v":0}," ",{"$f":"SUM(COUNTIF($C192:$H192,$AS$11:$AX$11))","v":0}," ",{"$f":"SUM(COUNTIF($C192:$H192,$AZ$11:$BE$11))","v":0}," ",{"$f":"SUM(COUNTIF($C192:$H192,$BG$11:$BL$11))","v":0}," ",{"$f":"SUM(COUNTIF($C192:$H192,$BN$11:$BS$11))","v":0}," ",{"$f":"SUM(COUNTIF($C192:$H192,$BU$11:$BZ$11))","v":0}," ",{"$f":"SUM(COUNTIF($C192:$H192,$CB$11:$CG$11))","v":0}," ",{"$f":"SUM(COUNTIF($C192:$H192,$CI$11:$CN$11))","v":0}," ",{"$f":"SUM(COUNTIF($C192:$H192,$CP$11:$CU$11))","v":0}," ",{"$f":"SUM(COUNTIF($C192:$H192,$CW$11:$DB$11))","v":0}," ",{"$f":"SUM(COUNTIF($C192:$H192,$DD$11:$DI$11))","v":0}," ",{"$f":"SUM(COUNTIF($C192:$H192,$DK$11:$DP$11))","v":0}]
[{"$f":"'aktuelle Zahlen'!A189","v":0},{"$f":"'aktuelle Zahlen'!B189","v":"00:00:00"},{"$f":"'aktuelle Zahlen'!C189","v":0},{"$f":"'aktuelle Zahlen'!D189","v":0},{"$f":"'aktuelle Zahlen'!E189","v":0},{"$f":"'aktuelle Zahlen'!F189","v":0},{"$f":"'aktuelle Zahlen'!G189","v":0},{"$f":"'aktuelle Zahlen'!H189","v":0},{"$f":"'aktuelle Zahlen'!J189","v":0},null," ",{"$f":"SUM(COUNTIF($C193:$H193,$AL$11:$AQ$11))","v":0}," ",{"$f":"SUM(COUNTIF($C193:$H193,$AS$11:$AX$11))","v":0}," ",{"$f":"SUM(COUNTIF($C193:$H193,$AZ$11:$BE$11))","v":0}," ",{"$f":"SUM(COUNTIF($C193:$H193,$BG$11:$BL$11))","v":0}," ",{"$f":"SUM(COUNTIF($C193:$H193,$BN$11:$BS$11))","v":0}," ",{"$f":"SUM(COUNTIF($C193:$H193,$BU$11:$BZ$11))","v":0}," ",{"$f":"SUM(COUNTIF($C193:$H193,$CB$11:$CG$11))","v":0}," ",{"$f":"SUM(COUNTIF($C193:$H193,$CI$11:$CN$11))","v":0}," ",{"$f":"SUM(COUNTIF($C193:$H193,$CP$11:$CU$11))","v":0}," ",{"$f":"SUM(COUNTIF($C193:$H193,$CW$11:$DB$11))","v":0}," ",{"$f":"SUM(COUNTIF($C193:$H193,$DD$11:$DI$11))","v":0}," ",{"$f":"SUM(COUNTIF($C193:$H193,$DK$11:$DP$11))","v":0}]
[{"$f":"'aktuelle Zahlen'!A190","v":0},{"$f":"'aktuelle Zahlen'!B190","v":"00:00:00"},{"$f":"'aktuelle Zahlen'!C190","v":0},{"$f":"'aktuelle Zahlen'!D190","v":0},{"$f":"'aktuelle Zahlen'!E190","v":0},{"$f":"'aktuelle Zahlen'!F190","v":0},{"$f":"'aktuelle Zahlen'!G190","v":0},{"$f":"'aktuelle Zahlen'!H190","v":0},{"$f":"'aktuelle Zahlen'!J190","v":0},null," ",{"$f":"SUM(COUNTIF($C194:$H194,$AL$11:$AQ$11))","v":0}," ",{"$f":"SUM(COUNTIF($C194:$H194,$AS$11:$AX$11))","v":0}," ",{"$f":"SUM(COUNTIF($C194:$H194,$AZ$11:$BE$11))","v":0}," ",{"$f":"SUM(COUNTIF($C194:$H194,$BG$11:$BL$11))","v":0}," ",{"$f":"SUM(COUNTIF($C194:$H194,$BN$11:$BS$11))","v":0}," ",{"$f":"SUM(COUNTIF($C194:$H194,$BU$11:$BZ$11))","v":0}," ",{"$f":"SUM(COUNTIF($C194:$H194,$CB$11:$CG$11))","v":0}," ",{"$f":"SUM(COUNTIF($C194:$H194,$CI$11:$CN$11))","v":0}," ",{"$f":"SUM(COUNTIF($C194:$H194,$CP$11:$CU$11))","v":0}," ",{"$f":"SUM(COUNTIF($C194:$H194,$CW$11:$DB$11))","v":0}," ",{"$f":"SUM(COUNTIF($C194:$H194,$DD$11:$DI$11))","v":0}," ",{"$f":"SUM(COUNTIF($C194:$H194,$DK$11:$DP$11))","v":0}]
[{"$f":"'aktuelle Zahlen'!A191","v":0},{"$f":"'aktuelle Zahlen'!B191","v":"00:00:00"},{"$f":"'aktuelle Zahlen'!C191","v":0},{"$f":"'aktuelle Zahlen'!D191","v":0},{"$f":"'aktuelle Zahlen'!E191","v":0},{"$f":"'aktuelle Zahlen'!F191","v":0},{"$f":"'aktuelle Zahlen'!G191","v":0},{"$f":"'aktuelle Zahlen'!H191","v":0},{"$f":"'aktuelle Zahlen'!J191","v":0},null," ",{"$f":"SUM(COUNTIF($C195:$H195,$AL$11:$AQ$11))","v":0}," ",{"$f":"SUM(COUNTIF($C195:$H195,$AS$11:$AX$11))","v":0}," ",{"$f":"SUM(COUNTIF($C195:$H195,$AZ$11:$BE$11))","v":0}," ",{"$f":"SUM(COUNTIF($C195:$H195,$BG$11:$BL$11))","v":0}," ",{"$f":"SUM(COUNTIF($C195:$H195,$BN$11:$BS$11))","v":0}," ",{"$f":"SUM(COUNTIF($C195:$H195,$BU$11:$BZ$11))","v":0}," ",{"$f":"SUM(COUNTIF($C195:$H195,$CB$11:$CG$11))","v":0}," ",{"$f":"SUM(COUNTIF($C195:$H195,$CI$11:$CN$11))","v":0}," ",{"$f":"SUM(COUNTIF($C195:$H195,$CP$11:$CU$11))","v":0}," ",{"$f":"SUM(COUNTIF($C195:$H195,$CW$11:$DB$11))","v":0}," ",{"$f":"SUM(COUNTIF($C195:$H195,$DD$11:$DI$11))","v":0}," ",{"$f":"SUM(COUNTIF($C195:$H195,$DK$11:$DP$11))","v":0}]
[{"$f":"'aktuelle Zahlen'!A192","v":0},{"$f":"'aktuelle Zahlen'!B192","v":"00:00:00"},{"$f":"'aktuelle Zahlen'!C192","v":0},{"$f":"'aktuelle Zahlen'!D192","v":0},{"$f":"'aktuelle Zahlen'!E192","v":0},{"$f":"'aktuelle Zahlen'!F192","v":0},{"$f":"'aktuelle Zahlen'!G192","v":0},{"$f":"'aktuelle Zahlen'!H192","v":0},{"$f":"'aktuelle Zahlen'!J192","v":0},null," ",{"$f":"SUM(COUNTIF($C196:$H196,$AL$11:$AQ$11))","v":0}," ",{"$f":"SUM(COUNTIF($C196:$H196,$AS$11:$AX$11))","v":0}," ",{"$f":"SUM(COUNTIF($C196:$H196,$AZ$11:$BE$11))","v":0}," ",{"$f":"SUM(COUNTIF($C196:$H196,$BG$11:$BL$11))","v":0}," ",{"$f":"SUM(COUNTIF($C196:$H196,$BN$11:$BS$11))","v":0}," ",{"$f":"SUM(COUNTIF($C196:$H196,$BU$11:$BZ$11))","v":0}," ",{"$f":"SUM(COUNTIF($C196:$H196,$CB$11:$CG$11))","v":0}," ",{"$f":"SUM(COUNTIF($C196:$H196,$CI$11:$CN$11))","v":0}," ",{"$f":"SUM(COUNTIF($C196:$H196,$CP$11:$CU$11))","v":0}," ",{"$f":"SUM(COUNTIF($C196:$H196,$CW$11:$DB$11))","v":0}," ",{"$f":"SUM(COUNTIF($C196:$H196,$DD$11:$DI$11))","v":0}," ",{"$f":"SUM(COUNTIF($C196:$H196,$DK$11:$DP$11))","v":0}]
[{"$f":"'aktuelle Zahlen'!A193","v":0},{"$f":"'aktuelle Zahlen'!B193","v":"00:00:00"},{"$f":"'aktuelle Zahlen'!C193","v":0},{"$f":"'aktuelle Zahlen'!D193","v":0},{"$f":"'aktuelle Zahlen'!E193","v":0},{"$f":"'aktuelle Zahlen'!F193","v":0},{"$f":"'aktuelle Zahlen'!G193","v":0},{"$f":"'aktuelle Zahlen'!H193","v":0},{"$f":"'aktuelle Zahlen'!J193","v":0},null," ",{"$f":"SUM(COUNTIF($C197:$H197,$AL$11:$AQ$11))","v":0}," ",{"$f":"SUM(COUNTIF($C197:$H197,$AS$11:$AX$11))","v":0}," ",{"$f":"SUM(COUNTIF($C197:$H197,$AZ$11:$BE$11))","v":0}," ",{"$f":"SUM(COUNTIF($C197:$H197,$BG$11:$BL$11))","v":0}," ",{"$f":"SUM(COUNTIF($C197:$H197,$BN$11:$BS$11))","v":0}," ",{"$f":"SUM(COUNTIF($C197:$H197,$BU$11:$BZ$11))","v":0}," ",{"$f":"SUM(COUNTIF($C197:$H197,$CB$11:$CG$11))","v":0}," ",{"$f":"SUM(COUNTIF($C197:$H197,$CI$11:$CN$11))","v":0}," ",{"$f":"SUM(COUNTIF($C197:$H197,$CP$11:$CU$11))","v":0}," ",{"$f":"SUM(COUNTIF($C197:$H197,$CW$11:$DB$11))","v":0}," ",{"$f":"SUM(COUNTIF($C197:$H197,$DD$11:$DI$11))","v":0}," ",{"$f":"SUM(COUNTIF($C197:$H197,$DK$11:$DP$11))","v":0}]
[{"$f":"'aktuelle Zahlen'!A194","v":0},{"$f":"'aktuelle Zahlen'!B194","v":"00:00:00"},{"$f":"'aktuelle Zahlen'!C194","v":0},{"$f":"'aktuelle Zahlen'!D194","v":0},{"$f":"'aktuelle Zahlen'!E194","v":0},{"$f":"'aktuelle Zahlen'!F194","v":0},{"$f":"'aktuelle Zahlen'!G194","v":0},{"$f":"'aktuelle Zahlen'!H194","v":0},{"$f":"'aktuelle Zahlen'!J194","v":0},null," ",{"$f":"SUM(COUNTIF($C198:$H198,$AL$11:$AQ$11))","v":0}," ",{"$f":"SUM(COUNTIF($C198:$H198,$AS$11:$AX$11))","v":0}," ",{"$f":"SUM(COUNTIF($C198:$H198,$AZ$11:$BE$11))","v":0}," ",{"$f":"SUM(COUNTIF($C198:$H198,$BG$11:$BL$11))","v":0}," ",{"$f":"SUM(COUNTIF($C198:$H198,$BN$11:$BS$11))","v":0}," ",{"$f":"SUM(COUNTIF($C198:$H198,$BU$11:$BZ$11))","v":0}," ",{"$f":"SUM(COUNTIF($C198:$H198,$CB$11:$CG$11))","v":0}," ",{"$f":"SUM(COUNTIF($C198:$H198,$CI$11:$CN$11))","v":0}," ",{"$f":"SUM(COUNTIF($C198:$H198,$CP$11:$CU$11))","v":0}," ",{"$f":"SUM(COUNTIF($C198:$H198,$CW$11:$DB$11))","v":0}," ",{"$f":"SUM(COUNTIF($C198:$H198,$DD$11:$DI$11))","v":0}," ",{"$f":"SUM(COUNTIF($C198:$H198,$DK$11:$DP$11))","v":0}]
[{"$f":"'aktuelle Zahlen'!A195","v":0},{"$f":"'aktuelle Zahlen'!B195","v":"00:00:00"},{"$f":"'aktuelle Zahlen'!C195","v":0},{"$f":"'aktuelle Zahlen'!D195","v":0},{"$f":"'aktuelle Zahlen'!E195","v":0},{"$f":"'aktuelle Zahlen'!F195","v":0},{"$f":"'aktuelle Zahlen'!G195","v":0},{"$f":"'aktuelle Zahlen'!H195","v":0},{"$f":"'aktuelle Zahlen'!J195","v":0},null," ",{"$f":"SUM(COUNTIF($C199:$H199,$AL$11:$AQ$11))","v":0}," ",{"$f":"SUM(COUNTIF($C199:$H199,$AS$11:$AX$11))","v":0}," ",{"$f":"SUM(COUNTIF($C199:$H199,$AZ$11:$BE$11))","v":0}," ",{"$f":"SUM(COUNTIF($C199:$H199,$BG$11:$BL$11))","v":0}," ",{"$f":"SUM(COUNTIF($C199:$H199,$BN$11:$BS$11))","v":0}," ",{"$f":"SUM(COUNTIF($C199:$H199,$BU$11:$BZ$11))","v":0}," ",{"$f":"SUM(COUNTIF($C199:$H199,$CB$11:$CG$11))","v":0}," ",{"$f":"SUM(COUNTIF($C199:$H199,$CI$11:$CN$11))","v":0}," ",{"$f":"SUM(COUNTIF($C199:$H199,$CP$11:$CU$11))","v":0}," ",{"$f":"SUM(COUNTIF($C199:$H199,$CW$11:$DB$11))","v":0}," ",{"$f":"SUM(COUNTIF($C199:$H199,$DD$11:$DI$11))","v":0}," ",{"$f":"SUM(COUNTIF($C199:$H199,$DK$11:$DP$11))","v":0}]
[{"$f":"'aktuelle Zahlen'!A196","v":0},{"$f":"'aktuelle Zahlen'!B196","v":"00:00:00"},{"$f":"'aktuelle Zahlen'!C196","v":0},{"$f":"'aktuelle Zahlen'!D196","v":0},{"$f":"'aktuelle Zahlen'!E196","v":0},{"$f":"'aktuelle Zahlen'!F196","v":0},{"$f":"'aktuelle Zahlen'!G196","v":0},{"$f":"'aktuelle Zahlen'!H196","v":0},{"$f":"'aktuelle Zahlen'!J196","v":0},null," ",{"$f":"SUM(COUNTIF($C200:$H200,$AL$11:$AQ$11))","v":0}," ",{"$f":"SUM(COUNTIF($C200:$H200,$AS$11:$AX$11))","v":0}," ",{"$f":"SUM(COUNTIF($C200:$H200,$AZ$11:$BE$11))","v":0}," ",{"$f":"SUM(COUNTIF($C200:$H200,$BG$11:$BL$11))","v":0}," ",{"$f":"SUM(COUNTIF($C200:$H200,$BN$11:$BS$11))","v":0}," ",{"$f":"SUM(COUNTIF($C200:$H200,$BU$11:$BZ$11))","v":0}," ",{"$f":"SUM(COUNTIF($C200:$H200,$CB$11:$CG$11))","v":0}," ",{"$f":"SUM(COUNTIF($C200:$H200,$CI$11:$CN$11))","v":0}," ",{"$f":"SUM(COUNTIF($C200:$H200,$CP$11:$CU$11))","v":0}," ",{"$f":"SUM(COUNTIF($C200:$H200,$CW$11:$DB$11))","v":0}," ",{"$f":"SUM(COUNTIF($C200:$H200,$DD$11:$DI$11))","v":0}," ",{"$f":"SUM(COUNTIF($C200:$H200,$DK$11:$DP$11))","v":0}]
[{"$f":"'aktuelle Zahlen'!A197","v":0},{"$f":"'aktuelle Zahlen'!B197","v":"00:00:00"},{"$f":"'aktuelle Zahlen'!C197","v":0},{"$f":"'aktuelle Zahlen'!D197","v":0},{"$f":"'aktuelle Zahlen'!E197","v":0},{"$f":"'aktuelle Zahlen'!F197","v":0},{"$f":"'aktuelle Zahlen'!G197","v":0},{"$f":"'aktuelle Zahlen'!H197","v":0},{"$f":"'aktuelle Zahlen'!J197","v":0},null," ",{"$f":"SUM(COUNTIF($C201:$H201,$AL$11:$AQ$11))","v":0}," ",{"$f":"SUM(COUNTIF($C201:$H201,$AS$11:$AX$11))","v":0}," ",{"$f":"SUM(COUNTIF($C201:$H201,$AZ$11:$BE$11))","v":0}," ",{"$f":"SUM(COUNTIF($C201:$H201,$BG$11:$BL$11))","v":0}," ",{"$f":"SUM(COUNTIF($C201:$H201,$BN$11:$BS$11))","v":0}," ",{"$f":"SUM(COUNTIF($C201:$H201,$BU$11:$BZ$11))","v":0}," ",{"$f":"SUM(COUNTIF($C201:$H201,$CB$11:$CG$11))","v":0}," ",{"$f":"SUM(COUNTIF($C201:$H201,$CI$11:$CN$11))","v":0}," ",{"$f":"SUM(COUNTIF($C201:$H201,$CP$11:$CU$11))","v":0}," ",{"$f":"SUM(COUNTIF($C201:$H201,$CW$11:$DB$11))","v":0}," ",{"$f":"SUM(COUNTIF($C201:$H201,$DD$11:$DI$11))","v":0}," ",{"$f":"SUM(COUNTIF($C201:$H201,$DK$11:$DP$11))","v":0}]
[{"$f":"'aktuelle Zahlen'!A198","v":0},{"$f":"'aktuelle Zahlen'!B198","v":"00:00:00"},{"$f":"'aktuelle Zahlen'!C198","v":0},{"$f":"'aktuelle Zahlen'!D198","v":0},{"$f":"'aktuelle Zahlen'!E198","v":0},{"$f":"'aktuelle Zahlen'!F198","v":0},{"$f":"'aktuelle Zahlen'!G198","v":0},{"$f":"'aktuelle Zahlen'!H198","v":0},{"$f":"'aktuelle Zahlen'!J198","v":0},null," ",{"$f":"SUM(COUNTIF($C202:$H202,$AL$11:$AQ$11))","v":0}," ",{"$f":"SUM(COUNTIF($C202:$H202,$AS$11:$AX$11))","v":0}," ",{"$f":"SUM(COUNTIF($C202:$H202,$AZ$11:$BE$11))","v":0}," ",{"$f":"SUM(COUNTIF($C202:$H202,$BG$11:$BL$11))","v":0}," ",{"$f":"SUM(COUNTIF($C202:$H202,$BN$11:$BS$11))","v":0}," ",{"$f":"SUM(COUNTIF($C202:$H202,$BU$11:$BZ$11))","v":0}," ",{"$f":"SUM(COUNTIF($C202:$H202,$CB$11:$CG$11))","v":0}," ",{"$f":"SUM(COUNTIF($C202:$H202,$CI$11:$CN$11))","v":0}," ",{"$f":"SUM(COUNTIF($C202:$H202,$CP$11:$CU$11))","v":0}," ",{"$f":"SUM(COUNTIF($C202:$H202,$CW$11:$DB$11))","v":0}," ",{"$f":"SUM(COUNTIF($C202:$H202,$DD$11:$DI$11))","v":0}," ",{"$f":"SUM(COUNTIF($C202:$H202,$DK$11:$DP$11))","v":0}]
[{"$f":"'aktuelle Zahlen'!A199","v":0},{"$f":"'aktuelle Zahlen'!B199","v":"00:00:00"},{"$f":"'aktuelle Zahlen'!C199","v":0},{"$f":"'aktuelle Zahlen'!D199","v":0},{"$f":"'aktuelle Zahlen'!E199","v":0},{"$f":"'aktuelle Zahlen'!F199","v":0},{"$f":"'aktuelle Zahlen'!G199","v":0},{"$f":"'aktuelle Zahlen'!H199","v":0},{"$f":"'aktuelle Zahlen'!J199","v":0},null," ",{"$f":"SUM(COUNTIF($C203:$H203,$AL$11:$AQ$11))","v":0}," ",{"$f":"SUM(COUNTIF($C203:$H203,$AS$11:$AX$11))","v":0}," ",{"$f":"SUM(COUNTIF($C203:$H203,$AZ$11:$BE$11))","v":0}," ",{"$f":"SUM(COUNTIF($C203:$H203,$BG$11:$BL$11))","v":0}," ",{"$f":"SUM(COUNTIF($C203:$H203,$BN$11:$BS$11))","v":0}," ",{"$f":"SUM(COUNTIF($C203:$H203,$BU$11:$BZ$11))","v":0}," ",{"$f":"SUM(COUNTIF($C203:$H203,$CB$11:$CG$11))","v":0}," ",{"$f":"SUM(COUNTIF($C203:$H203,$CI$11:$CN$11))","v":0}," ",{"$f":"SUM(COUNTIF($C203:$H203,$CP$11:$CU$11))","v":0}," ",{"$f":"SUM(COUNTIF($C203:$H203,$CW$11:$DB$11))","v":0}," ",{"$f":"SUM(COUNTIF($C203:$H203,$DD$11:$DI$11))","v":0}," ",{"$f":"SUM(COUNTIF($C203:$H203,$DK$11:$DP$11))","v":0}]
[{"$f":"'aktuelle Zahlen'!A200","v":0},{"$f":"'aktuelle Zahlen'!B200","v":"00:00:00"},{"$f":"'aktuelle Zahlen'!C200","v":0},{"$f":"'aktuelle Zahlen'!D200","v":0},{"$f":"'aktuelle Zahlen'!E200","v":0},{"$f":"'aktuelle Zahlen'!F200","v":0},{"$f":"'aktuelle Zahlen'!G200","v":0},{"$f":"'aktuelle Zahlen'!H200","v":0},{"$f":"'aktuelle Zahlen'!J200","v":0},null," ",{"$f":"SUM(COUNTIF($C204:$H204,$AL$11:$AQ$11))","v":0}," ",{"$f":"SUM(COUNTIF($C204:$H204,$AS$11:$AX$11))","v":0}," ",{"$f":"SUM(COUNTIF($C204:$H204,$AZ$11:$BE$11))","v":0}," ",{"$f":"SUM(COUNTIF($C204:$H204,$BG$11:$BL$11))","v":0}," ",{"$f":"SUM(COUNTIF($C204:$H204,$BN$11:$BS$11))","v":0}," ",{"$f":"SUM(COUNTIF($C204:$H204,$BU$11:$BZ$11))","v":0}," ",{"$f":"SUM(COUNTIF($C204:$H204,$CB$11:$CG$11))","v":0}," ",{"$f":"SUM(COUNTIF($C204:$H204,$CI$11:$CN$11))","v":0}," ",{"$f":"SUM(COUNTIF($C204:$H204,$CP$11:$CU$11))","v":0}," ",{"$f":"SUM(COUNTIF($C204:$H204,$CW$11:$DB$11))","v":0}," ",{"$f":"SUM(COUNTIF($C204:$H204,$DD$11:$DI$11))","v":0}," ",{"$f":"SUM(COUNTIF($C204:$H204,$DK$11:$DP$11))","v":0}]
[{"$f":"'aktuelle Zahlen'!A201","v":0},{"$f":"'aktuelle Zahlen'!B201","v":"00:00:00"},{"$f":"'aktuelle Zahlen'!C201","v":0},{"$f":"'aktuelle Zahlen'!D201","v":0},{"$f":"'aktuelle Zahlen'!E201","v":0},{"$f":"'aktuelle Zahlen'!F201","v":0},{"$f":"'aktuelle Zahlen'!G201","v":0},{"$f":"'aktuelle Zahlen'!H201","v":0},{"$f":"'aktuelle Zahlen'!J201","v":0},null," ",{"$f":"SUM(COUNTIF($C205:$H205,$AL$11:$AQ$11))","v":0}," ",{"$f":"SUM(COUNTIF($C205:$H205,$AS$11:$AX$11))","v":0}," ",{"$f":"SUM(COUNTIF($C205:$H205,$AZ$11:$BE$11))","v":0}," ",{"$f":"SUM(COUNTIF($C205:$H205,$BG$11:$BL$11))","v":0}," ",{"$f":"SUM(COUNTIF($C205:$H205,$BN$11:$BS$11))","v":0}," ",{"$f":"SUM(COUNTIF($C205:$H205,$BU$11:$BZ$11))","v":0}," ",{"$f":"SUM(COUNTIF($C205:$H205,$CB$11:$CG$11))","v":0}," ",{"$f":"SUM(COUNTIF($C205:$H205,$CI$11:$CN$11))","v":0}," ",{"$f":"SUM(COUNTIF($C205:$H205,$CP$11:$CU$11))","v":0}," ",{"$f":"SUM(COUNTIF($C205:$H205,$CW$11:$DB$11))","v":0}," ",{"$f":"SUM(COUNTIF($C205:$H205,$DD$11:$DI$11))","v":0}," ",{"$f":"SUM(COUNTIF($C205:$H205,$DK$11:$DP$11))","v":0}]
[{"$f":"'aktuelle Zahlen'!A202","v":0},{"$f":"'aktuelle Zahlen'!B202","v":"00:00:00"},{"$f":"'aktuelle Zahlen'!C202","v":0},{"$f":"'aktuelle Zahlen'!D202","v":0},{"$f":"'aktuelle Zahlen'!E202","v":0},{"$f":"'aktuelle Zahlen'!F202","v":0},{"$f":"'aktuelle Zahlen'!G202","v":0},{"$f":"'aktuelle Zahlen'!H202","v":0},{"$f":"'aktuelle Zahlen'!J202","v":0},null," ",{"$f":"SUM(COUNTIF($C206:$H206,$AL$11:$AQ$11))","v":0}," ",{"$f":"SUM(COUNTIF($C206:$H206,$AS$11:$AX$11))","v":0}," ",{"$f":"SUM(COUNTIF($C206:$H206,$AZ$11:$BE$11))","v":0}," ",{"$f":"SUM(COUNTIF($C206:$H206,$BG$11:$BL$11))","v":0}," ",{"$f":"SUM(COUNTIF($C206:$H206,$BN$11:$BS$11))","v":0}," ",{"$f":"SUM(COUNTIF($C206:$H206,$BU$11:$BZ$11))","v":0}," ",{"$f":"SUM(COUNTIF($C206:$H206,$CB$11:$CG$11))","v":0}," ",{"$f":"SUM(COUNTIF($C206:$H206,$CI$11:$CN$11))","v":0}," ",{"$f":"SUM(COUNTIF($C206:$H206,$CP$11:$CU$11))","v":0}," ",{"$f":"SUM(COUNTIF($C206:$H206,$CW$11:$DB$11))","v":0}," ",{"$f":"SUM(COUNTIF($C206:$H206,$DD$11:$DI$11))","v":0}," ",{"$f":"SUM(COUNTIF($C206:$H206,$DK$11:$DP$11))","v":0}]
[{"$f":"'aktuelle Zahlen'!A203","v":0},{"$f":"'aktuelle Zahlen'!B203","v":"00:00:00"},{"$f":"'aktuelle Zahlen'!C203","v":0},{"$f":"'aktuelle Zahlen'!D203","v":0},{"$f":"'aktuelle Zahlen'!E203","v":0},{"$f":"'aktuelle Zahlen'!F203","v":0},{"$f":"'aktuelle Zahlen'!G203","v":0},{"$f":"'aktuelle Zahlen'!H203","v":0},{"$f":"'aktuelle Zahlen'!J203","v":0},null," ",{"$f":"SUM(COUNTIF($C207:$H207,$AL$11:$AQ$11))","v":0}," ",{"$f":"SUM(COUNTIF($C207:$H207,$AS$11:$AX$11))","v":0}," ",{"$f":"SUM(COUNTIF($C207:$H207,$AZ$11:$BE$11))","v":0}," ",{"$f":"SUM(COUNTIF($C207:$H207,$BG$11:$BL$11))","v":0}," ",{"$f":"SUM(COUNTIF($C207:$H207,$BN$11:$BS$11))","v":0}," ",{"$f":"SUM(COUNTIF($C207:$H207,$BU$11:$BZ$11))","v":0}," ",{"$f":"SUM(COUNTIF($C207:$H207,$CB$11:$CG$11))","v":0}," ",{"$f":"SUM(COUNTIF($C207:$H207,$CI$11:$CN$11))","v":0}," ",{"$f":"SUM(COUNTIF($C207:$H207,$CP$11:$CU$11))","v":0}," ",{"$f":"SUM(COUNTIF($C207:$H207,$CW$11:$DB$11))","v":0}," ",{"$f":"SUM(COUNTIF($C207:$H207,$DD$11:$DI$11))","v":0}," ",{"$f":"SUM(COUNTIF($C207:$H207,$DK$11:$DP$11))","v":0}]
[{"$f":"'aktuelle Zahlen'!A204","v":0},{"$f":"'aktuelle Zahlen'!B204","v":"00:00:00"},{"$f":"'aktuelle Zahlen'!C204","v":0},{"$f":"'aktuelle Zahlen'!D204","v":0},{"$f":"'aktuelle Zahlen'!E204","v":0},{"$f":"'aktuelle Zahlen'!F204","v":0},{"$f":"'aktuelle Zahlen'!G204","v":0},{"$f":"'aktuelle Zahlen'!H204","v":0},{"$f":"'aktuelle Zahlen'!J204","v":0},null," ",{"$f":"SUM(COUNTIF($C208:$H208,$AL$11:$AQ$11))","v":0}," ",{"$f":"SUM(COUNTIF($C208:$H208,$AS$11:$AX$11))","v":0}," ",{"$f":"SUM(COUNTIF($C208:$H208,$AZ$11:$BE$11))","v":0}," ",{"$f":"SUM(COUNTIF($C208:$H208,$BG$11:$BL$11))","v":0}," ",{"$f":"SUM(COUNTIF($C208:$H208,$BN$11:$BS$11))","v":0}," ",{"$f":"SUM(COUNTIF($C208:$H208,$BU$11:$BZ$11))","v":0}," ",{"$f":"SUM(COUNTIF($C208:$H208,$CB$11:$CG$11))","v":0}," ",{"$f":"SUM(COUNTIF($C208:$H208,$CI$11:$CN$11))","v":0}," ",{"$f":"SUM(COUNTIF($C208:$H208,$CP$11:$CU$11))","v":0}," ",{"$f":"SUM(COUNTIF($C208:$H208,$CW$11:$DB$11))","v":0}," ",{"$f":"SUM(COUNTIF($C208:$H208,$DD$11:$DI$11))","v":0}," ",{"$f":"SUM(COUNTIF($C208:$H208,$DK$11:$DP$11))","v":0}]
[{"$f":"'aktuelle Zahlen'!A205","v":0},{"$f":"'aktuelle Zahlen'!B205","v":"00:00:00"},{"$f":"'aktuelle Zahlen'!C205","v":0},{"$f":"'aktuelle Zahlen'!D205","v":0},{"$f":"'aktuelle Zahlen'!E205","v":0},{"$f":"'aktuelle Zahlen'!F205","v":0},{"$f":"'aktuelle Zahlen'!G205","v":0},{"$f":"'aktuelle Zahlen'!H205","v":0},{"$f":"'aktuelle Zahlen'!J205","v":0},null,{"$f":"IF(L209>1,(IF($I209=$AJ$11,L209 & \"Z\",L209)),\" \")","v":" "},{"$f":"SUM(COUNTIF($C209:$H209,$AL$11:$AQ$11))","v":0},{"$f":"IF(N209>1,(IF($I209=$AJ$11,N209 & \"Z\",N209)),\" \")","v":" "},{"$f":"SUM(COUNTIF($C209:$H209,$AS$11:$AX$11))","v":0},{"$f":"IF(P209>1,(IF($I209=$AJ$11,P209 & \"Z\",P209)),\" \")","v":" "},{"$f":"SUM(COUNTIF($C209:$H209,$AZ$11:$BE$11))","v":0},{"$f":"IF(R209>1,(IF($I209=$AJ$11,R209 & \"Z\",R209)),\" \")","v":" "},{"$f":"SUM(COUNTIF($C209:$H209,$BG$11:$BL$11))","v":0},{"$f":"IF(T209>1,(IF($I209=$AJ$11,T209 & \"Z\",T209)),\" \")","v":" "},{"$f":"SUM(COUNTIF($C209:$H209,$BN$11:$BS$11))","v":0},{"$f":"IF(V209>1,(IF($I209=$AJ$11,V209 & \"Z\",V209)),\" \")","v":" "},{"$f":"SUM(COUNTIF($C209:$H209,$BU$11:$BZ$11))","v":0},{"$f":"IF(X209>1,(IF($I209=$AJ$11,X209 & \"Z\",X209)),\" \")","v":" "},{"$f":"SUM(COUNTIF($C209:$H209,$CB$11:$CG$11))","v":0},{"$f":"IF(Z209>1,(IF($I209=$AJ$11,Z209 & \"Z\",Z209)),\" \")","v":" "},{"$f":"SUM(COUNTIF($C209:$H209,$CI$11:$CN$11))","v":0},{"$f":"IF(AB209>1,(IF($I209=$AJ$11,AB209 & \"Z\",AB209)),\" \")","v":" "},{"$f":"SUM(COUNTIF($C209:$H209,$CP$11:$CU$11))","v":0},{"$f":"IF(AD209>1,(IF($I209=$AJ$11,AD209 & \"Z\",AD209)),\" \")","v":" "},{"$f":"SUM(COUNTIF($C209:$H209,$CW$11:$DB$11))","v":0},{"$f":"IF(AF209>1,(IF($I209=$AJ$11,AF209 & \"Z\",AF209)),\" \")","v":" "},{"$f":"SUM(COUNTIF($C209:$H209,$DD$11:$DI$11))","v":0},{"$f":"IF(AH209>1,(IF($I209=$AJ$11,AH209 & \"Z\",AH209)),\" \")","v":" "},{"$f":"SUM(COUNTIF($C209:$H209,$DK$11:$DP$11))","v":0}]
[{"$f":"'aktuelle Zahlen'!A206","v":0},{"$f":"'aktuelle Zahlen'!B206","v":"00:00:00"},{"$f":"'aktuelle Zahlen'!C206","v":0},{"$f":"'aktuelle Zahlen'!D206","v":0},{"$f":"'aktuelle Zahlen'!E206","v":0},{"$f":"'aktuelle Zahlen'!F206","v":0},{"$f":"'aktuelle Zahlen'!G206","v":0},{"$f":"'aktuelle Zahlen'!H206","v":0},{"$f":"'aktuelle Zahlen'!J206","v":0},null," ",{"$f":"SUM(COUNTIF($C210:$H210,$AL$11:$AQ$11))","v":0}," ",{"$f":"SUM(COUNTIF($C210:$H210,$AS$11:$AX$11))","v":0}," ",{"$f":"SUM(COUNTIF($C210:$H210,$AZ$11:$BE$11))","v":0}," ",{"$f":"SUM(COUNTIF($C210:$H210,$BG$11:$BL$11))","v":0}," ",{"$f":"SUM(COUNTIF($C210:$H210,$BN$11:$BS$11))","v":0}," ",{"$f":"SUM(COUNTIF($C210:$H210,$BU$11:$BZ$11))","v":0}," ",{"$f":"SUM(COUNTIF($C210:$H210,$CB$11:$CG$11))","v":0}," ",{"$f":"SUM(COUNTIF($C210:$H210,$CI$11:$CN$11))","v":0}," ",{"$f":"SUM(COUNTIF($C210:$H210,$CP$11:$CU$11))","v":0}," ",{"$f":"SUM(COUNTIF($C210:$H210,$CW$11:$DB$11))","v":0}," ",{"$f":"SUM(COUNTIF($C210:$H210,$DD$11:$DI$11))","v":0}," ",{"$f":"SUM(COUNTIF($C210:$H210,$DK$11:$DP$11))","v":0}]
[{"$f":"'aktuelle Zahlen'!A207","v":0},{"$f":"'aktuelle Zahlen'!B207","v":"00:00:00"},{"$f":"'aktuelle Zahlen'!C207","v":0},{"$f":"'aktuelle Zahlen'!D207","v":0},{"$f":"'aktuelle Zahlen'!E207","v":0},{"$f":"'aktuelle Zahlen'!F207","v":0},{"$f":"'aktuelle Zahlen'!G207","v":0},{"$f":"'aktuelle Zahlen'!H207","v":0},{"$f":"'aktuelle Zahlen'!J207","v":0},null," ",{"$f":"SUM(COUNTIF($C211:$H211,$AL$11:$AQ$11))","v":0}," ",{"$f":"SUM(COUNTIF($C211:$H211,$AS$11:$AX$11))","v":0}," ",{"$f":"SUM(COUNTIF($C211:$H211,$AZ$11:$BE$11))","v":0}," ",{"$f":"SUM(COUNTIF($C211:$H211,$BG$11:$BL$11))","v":0}," ",{"$f":"SUM(COUNTIF($C211:$H211,$BN$11:$BS$11))","v":0}," ",{"$f":"SUM(COUNTIF($C211:$H211,$BU$11:$BZ$11))","v":0}," ",{"$f":"SUM(COUNTIF($C211:$H211,$CB$11:$CG$11))","v":0}," ",{"$f":"SUM(COUNTIF($C211:$H211,$CI$11:$CN$11))","v":0}," ",{"$f":"SUM(COUNTIF($C211:$H211,$CP$11:$CU$11))","v":0}," ",{"$f":"SUM(COUNTIF($C211:$H211,$CW$11:$DB$11))","v":0}," ",{"$f":"SUM(COUNTIF($C211:$H211,$DD$11:$DI$11))","v":0}," ",{"$f":"SUM(COUNTIF($C211:$H211,$DK$11:$DP$11))","v":0}]
[{"$f":"'aktuelle Zahlen'!A208","v":0},{"$f":"'aktuelle Zahlen'!B208","v":"00:00:00"},{"$f":"'aktuelle Zahlen'!C208","v":0},{"$f":"'aktuelle Zahlen'!D208","v":0},{"$f":"'aktuelle Zahlen'!E208","v":0},{"$f":"'aktuelle Zahlen'!F208","v":0},{"$f":"'aktuelle Zahlen'!G208","v":0},{"$f":"'aktuelle Zahlen'!H208","v":0},{"$f":"'aktuelle Zahlen'!J208","v":0},null," ",{"$f":"SUM(COUNTIF($C212:$H212,$AL$11:$AQ$11))","v":0}," ",{"$f":"SUM(COUNTIF($C212:$H212,$AS$11:$AX$11))","v":0}," ",{"$f":"SUM(COUNTIF($C212:$H212,$AZ$11:$BE$11))","v":0}," ",{"$f":"SUM(COUNTIF($C212:$H212,$BG$11:$BL$11))","v":0}," ",{"$f":"SUM(COUNTIF($C212:$H212,$BN$11:$BS$11))","v":0}," ",{"$f":"SUM(COUNTIF($C212:$H212,$BU$11:$BZ$11))","v":0}," ",{"$f":"SUM(COUNTIF($C212:$H212,$CB$11:$CG$11))","v":0}," ",{"$f":"SUM(COUNTIF($C212:$H212,$CI$11:$CN$11))","v":0}," ",{"$f":"SUM(COUNTIF($C212:$H212,$CP$11:$CU$11))","v":0}," ",{"$f":"SUM(COUNTIF($C212:$H212,$CW$11:$DB$11))","v":0}," ",{"$f":"SUM(COUNTIF($C212:$H212,$DD$11:$DI$11))","v":0}," ",{"$f":"SUM(COUNTIF($C212:$H212,$DK$11:$DP$11))","v":0}]
[{"$f":"'aktuelle Zahlen'!A209","v":0},{"$f":"'aktuelle Zahlen'!B209","v":"00:00:00"},{"$f":"'aktuelle Zahlen'!C209","v":0},{"$f":"'aktuelle Zahlen'!D209","v":0},{"$f":"'aktuelle Zahlen'!E209","v":0},{"$f":"'aktuelle Zahlen'!F209","v":0},{"$f":"'aktuelle Zahlen'!G209","v":0},{"$f":"'aktuelle Zahlen'!H209","v":0},{"$f":"'aktuelle Zahlen'!J209","v":0},null," ",{"$f":"SUM(COUNTIF($C213:$H213,$AL$11:$AQ$11))","v":0}," ",{"$f":"SUM(COUNTIF($C213:$H213,$AS$11:$AX$11))","v":0}," ",{"$f":"SUM(COUNTIF($C213:$H213,$AZ$11:$BE$11))","v":0}," ",{"$f":"SUM(COUNTIF($C213:$H213,$BG$11:$BL$11))","v":0}," ",{"$f":"SUM(COUNTIF($C213:$H213,$BN$11:$BS$11))","v":0}," ",{"$f":"SUM(COUNTIF($C213:$H213,$BU$11:$BZ$11))","v":0}," ",{"$f":"SUM(COUNTIF($C213:$H213,$CB$11:$CG$11))","v":0}," ",{"$f":"SUM(COUNTIF($C213:$H213,$CI$11:$CN$11))","v":0}," ",{"$f":"SUM(COUNTIF($C213:$H213,$CP$11:$CU$11))","v":0}," ",{"$f":"SUM(COUNTIF($C213:$H213,$CW$11:$DB$11))","v":0}," ",{"$f":"SUM(COUNTIF($C213:$H213,$DD$11:$DI$11))","v":0}," ",{"$f":"SUM(COUNTIF($C213:$H213,$DK$11:$DP$11))","v":0}]
[{"$f":"'aktuelle Zahlen'!A210","v":0},{"$f":"'aktuelle Zahlen'!B210","v":"00:00:00"},{"$f":"'aktuelle Zahlen'!C210","v":0},{"$f":"'aktuelle Zahlen'!D210","v":0},{"$f":"'aktuelle Zahlen'!E210","v":0},{"$f":"'aktuelle Zahlen'!F210","v":0},{"$f":"'aktuelle Zahlen'!G210","v":0},{"$f":"'aktuelle Zahlen'!H210","v":0},{"$f":"'aktuelle Zahlen'!J210","v":0},null," ",{"$f":"SUM(COUNTIF($C214:$H214,$AL$11:$AQ$11))","v":0}," ",{"$f":"SUM(COUNTIF($C214:$H214,$AS$11:$AX$11))","v":0}," ",{"$f":"SUM(COUNTIF($C214:$H214,$AZ$11:$BE$11))","v":0}," ",{"$f":"SUM(COUNTIF($C214:$H214,$BG$11:$BL$11))","v":0}," ",{"$f":"SUM(COUNTIF($C214:$H214,$BN$11:$BS$11))","v":0}," ",{"$f":"SUM(COUNTIF($C214:$H214,$BU$11:$BZ$11))","v":0}," ",{"$f":"SUM(COUNTIF($C214:$H214,$CB$11:$CG$11))","v":0}," ",{"$f":"SUM(COUNTIF($C214:$H214,$CI$11:$CN$11))","v":0}," ",{"$f":"SUM(COUNTIF($C214:$H214,$CP$11:$CU$11))","v":0}," ",{"$f":"SUM(COUNTIF($C214:$H214,$CW$11:$DB$11))","v":0}," ",{"$f":"SUM(COUNTIF($C214:$H214,$DD$11:$DI$11))","v":0}," ",{"$f":"SUM(COUNTIF($C214:$H214,$DK$11:$DP$11))","v":0}]
[{"$f":"'aktuelle Zahlen'!A211","v":0},{"$f":"'aktuelle Zahlen'!B211","v":"00:00:00"},{"$f":"'aktuelle Zahlen'!C211","v":0},{"$f":"'aktuelle Zahlen'!D211","v":0},{"$f":"'aktuelle Zahlen'!E211","v":0},{"$f":"'aktuelle Zahlen'!F211","v":0},{"$f":"'aktuelle Zahlen'!G211","v":0},{"$f":"'aktuelle Zahlen'!H211","v":0},{"$f":"'aktuelle Zahlen'!J211","v":0},null," ",{"$f":"SUM(COUNTIF($C215:$H215,$AL$11:$AQ$11))","v":0}," ",{"$f":"SUM(COUNTIF($C215:$H215,$AS$11:$AX$11))","v":0}," ",{"$f":"SUM(COUNTIF($C215:$H215,$AZ$11:$BE$11))","v":0}," ",{"$f":"SUM(COUNTIF($C215:$H215,$BG$11:$BL$11))","v":0}," ",{"$f":"SUM(COUNTIF($C215:$H215,$BN$11:$BS$11))","v":0}," ",{"$f":"SUM(COUNTIF($C215:$H215,$BU$11:$BZ$11))","v":0}," ",{"$f":"SUM(COUNTIF($C215:$H215,$CB$11:$CG$11))","v":0}," ",{"$f":"SUM(COUNTIF($C215:$H215,$CI$11:$CN$11))","v":0}," ",{"$f":"SUM(COUNTIF($C215:$H215,$CP$11:$CU$11))","v":0}," ",{"$f":"SUM(COUNTIF($C215:$H215,$CW$11:$DB$11))","v":0}," ",{"$f":"SUM(COUNTIF($C215:$H215,$DD$11:$DI$11))","v":0}," ",{"$f":"SUM(COUNTIF($C215:$H215,$DK$11:$DP$11))","v":0}]
[{"$f":"'aktuelle Zahlen'!A212","v":0},{"$f":"'aktuelle Zahlen'!B212","v":"00:00:00"},{"$f":"'aktuelle Zahlen'!C212","v":0},{"$f":"'aktuelle Zahlen'!D212","v":0},{"$f":"'aktuelle Zahlen'!E212","v":0},{"$f":"'aktuelle Zahlen'!F212","v":0},{"$f":"'aktuelle Zahlen'!G212","v":0},{"$f":"'aktuelle Zahlen'!H212","v":0},{"$f":"'aktuelle Zahlen'!J212","v":0},null," ",{"$f":"SUM(COUNTIF($C216:$H216,$AL$11:$AQ$11))","v":0}," ",{"$f":"SUM(COUNTIF($C216:$H216,$AS$11:$AX$11))","v":0}," ",{"$f":"SUM(COUNTIF($C216:$H216,$AZ$11:$BE$11))","v":0}," ",{"$f":"SUM(COUNTIF($C216:$H216,$BG$11:$BL$11))","v":0}," ",{"$f":"SUM(COUNTIF($C216:$H216,$BN$11:$BS$11))","v":0}," ",{"$f":"SUM(COUNTIF($C216:$H216,$BU$11:$BZ$11))","v":0}," ",{"$f":"SUM(COUNTIF($C216:$H216,$CB$11:$CG$11))","v":0}," ",{"$f":"SUM(COUNTIF($C216:$H216,$CI$11:$CN$11))","v":0}," ",{"$f":"SUM(COUNTIF($C216:$H216,$CP$11:$CU$11))","v":0}," ",{"$f":"SUM(COUNTIF($C216:$H216,$CW$11:$DB$11))","v":0}," ",{"$f":"SUM(COUNTIF($C216:$H216,$DD$11:$DI$11))","v":0}," ",{"$f":"SUM(COUNTIF($C216:$H216,$DK$11:$DP$11))","v":0}]
[{"$f":"'aktuelle Zahlen'!A213","v":0},{"$f":"'aktuelle Zahlen'!B213","v":"00:00:00"},{"$f":"'aktuelle Zahlen'!C213","v":0},{"$f":"'aktuelle Zahlen'!D213","v":0},{"$f":"'aktuelle Zahlen'!E213","v":0},{"$f":"'aktuelle Zahlen'!F213","v":0},{"$f":"'aktuelle Zahlen'!G213","v":0},{"$f":"'aktuelle Zahlen'!H213","v":0},{"$f":"'aktuelle Zahlen'!J213","v":0},null," ",{"$f":"SUM(COUNTIF($C217:$H217,$AL$11:$AQ$11))","v":0}," ",{"$f":"SUM(COUNTIF($C217:$H217,$AS$11:$AX$11))","v":0}," ",{"$f":"SUM(COUNTIF($C217:$H217,$AZ$11:$BE$11))","v":0}," ",{"$f":"SUM(COUNTIF($C217:$H217,$BG$11:$BL$11))","v":0}," ",{"$f":"SUM(COUNTIF($C217:$H217,$BN$11:$BS$11))","v":0}," ",{"$f":"SUM(COUNTIF($C217:$H217,$BU$11:$BZ$11))","v":0}," ",{"$f":"SUM(COUNTIF($C217:$H217,$CB$11:$CG$11))","v":0}," ",{"$f":"SUM(COUNTIF($C217:$H217,$CI$11:$CN$11))","v":0}," ",{"$f":"SUM(COUNTIF($C217:$H217,$CP$11:$CU$11))","v":0}," ",{"$f":"SUM(COUNTIF($C217:$H217,$CW$11:$DB$11))","v":0}," ",{"$f":"SUM(COUNTIF($C217:$H217,$DD$11:$DI$11))","v":0}," ",{"$f":"SUM(COUNTIF($C217:$H217,$DK$11:$DP$11))","v":0}]
[{"$f":"'aktuelle Zahlen'!A214","v":0},{"$f":"'aktuelle Zahlen'!B214","v":"00:00:00"},{"$f":"'aktuelle Zahlen'!C214","v":0},{"$f":"'aktuelle Zahlen'!D214","v":0},{"$f":"'aktuelle Zahlen'!E214","v":0},{"$f":"'aktuelle Zahlen'!F214","v":0},{"$f":"'aktuelle Zahlen'!G214","v":0},{"$f":"'aktuelle Zahlen'!H214","v":0},{"$f":"'aktuelle Zahlen'!J214","v":0},null," ",{"$f":"SUM(COUNTIF($C218:$H218,$AL$11:$AQ$11))","v":0}," ",{"$f":"SUM(COUNTIF($C218:$H218,$AS$11:$AX$11))","v":0}," ",{"$f":"SUM(COUNTIF($C218:$H218,$AZ$11:$BE$11))","v":0}," ",{"$f":"SUM(COUNTIF($C218:$H218,$BG$11:$BL$11))","v":0}," ",{"$f":"SUM(COUNTIF($C218:$H218,$BN$11:$BS$11))","v":0}," ",{"$f":"SUM(COUNTIF($C218:$H218,$BU$11:$BZ$11))","v":0}," ",{"$f":"SUM(COUNTIF($C218:$H218,$CB$11:$CG$11))","v":0}," ",{"$f":"SUM(COUNTIF($C218:$H218,$CI$11:$CN$11))","v":0}," ",{"$f":"SUM(COUNTIF($C218:$H218,$CP$11:$CU$11))","v":0}," ",{"$f":"SUM(COUNTIF($C218:$H218,$CW$11:$DB$11))","v":0}," ",{"$f":"SUM(COUNTIF($C218:$H218,$DD$11:$DI$11))","v":0}," ",{"$f":"SUM(COUNTIF($C218:$H218,$DK$11:$DP$11))","v":0}]
[{"$f":"'aktuelle Zahlen'!A215","v":0},{"$f":"'aktuelle Zahlen'!B215","v":"00:00:00"},{"$f":"'aktuelle Zahlen'!C215","v":0},{"$f":"'aktuelle Zahlen'!D215","v":0},{"$f":"'aktuelle Zahlen'!E215","v":0},{"$f":"'aktuelle Zahlen'!F215","v":0},{"$f":"'aktuelle Zahlen'!G215","v":0},{"$f":"'aktuelle Zahlen'!H215","v":0},{"$f":"'aktuelle Zahlen'!J215","v":0},null," ",{"$f":"SUM(COUNTIF($C219:$H219,$AL$11:$AQ$11))","v":0}," ",{"$f":"SUM(COUNTIF($C219:$H219,$AS$11:$AX$11))","v":0}," ",{"$f":"SUM(COUNTIF($C219:$H219,$AZ$11:$BE$11))","v":0}," ",{"$f":"SUM(COUNTIF($C219:$H219,$BG$11:$BL$11))","v":0}," ",{"$f":"SUM(COUNTIF($C219:$H219,$BN$11:$BS$11))","v":0}," ",{"$f":"SUM(COUNTIF($C219:$H219,$BU$11:$BZ$11))","v":0}," ",{"$f":"SUM(COUNTIF($C219:$H219,$CB$11:$CG$11))","v":0}," ",{"$f":"SUM(COUNTIF($C219:$H219,$CI$11:$CN$11))","v":0}," ",{"$f":"SUM(COUNTIF($C219:$H219,$CP$11:$CU$11))","v":0}," ",{"$f":"SUM(COUNTIF($C219:$H219,$CW$11:$DB$11))","v":0}," ",{"$f":"SUM(COUNTIF($C219:$H219,$DD$11:$DI$11))","v":0}," ",{"$f":"SUM(COUNTIF($C219:$H219,$DK$11:$DP$11))","v":0}]
[{"$f":"'aktuelle Zahlen'!A216","v":0},{"$f":"'aktuelle Zahlen'!B216","v":"00:00:00"},{"$f":"'aktuelle Zahlen'!C216","v":0},{"$f":"'aktuelle Zahlen'!D216","v":0},{"$f":"'aktuelle Zahlen'!E216","v":0},{"$f":"'aktuelle Zahlen'!F216","v":0},{"$f":"'aktuelle Zahlen'!G216","v":0},{"$f":"'aktuelle Zahlen'!H216","v":0},{"$f":"'aktuelle Zahlen'!J216","v":0},null," ",{"$f":"SUM(COUNTIF($C220:$H220,$AL$11:$AQ$11))","v":0}," ",{"$f":"SUM(COUNTIF($C220:$H220,$AS$11:$AX$11))","v":0}," ",{"$f":"SUM(COUNTIF($C220:$H220,$AZ$11:$BE$11))","v":0}," ",{"$f":"SUM(COUNTIF($C220:$H220,$BG$11:$BL$11))","v":0}," ",{"$f":"SUM(COUNTIF($C220:$H220,$BN$11:$BS$11))","v":0}," ",{"$f":"SUM(COUNTIF($C220:$H220,$BU$11:$BZ$11))","v":0}," ",{"$f":"SUM(COUNTIF($C220:$H220,$CB$11:$CG$11))","v":0}," ",{"$f":"SUM(COUNTIF($C220:$H220,$CI$11:$CN$11))","v":0}," ",{"$f":"SUM(COUNTIF($C220:$H220,$CP$11:$CU$11))","v":0}," ",{"$f":"SUM(COUNTIF($C220:$H220,$CW$11:$DB$11))","v":0}," ",{"$f":"SUM(COUNTIF($C220:$H220,$DD$11:$DI$11))","v":0}," ",{"$f":"SUM(COUNTIF($C220:$H220,$DK$11:$DP$11))","v":0}]
[{"$f":"'aktuelle Zahlen'!A217","v":0},{"$f":"'aktuelle Zahlen'!B217","v":"00:00:00"},{"$f":"'aktuelle Zahlen'!C217","v":0},{"$f":"'aktuelle Zahlen'!D217","v":0},{"$f":"'aktuelle Zahlen'!E217","v":0},{"$f":"'aktuelle Zahlen'!F217","v":0},{"$f":"'aktuelle Zahlen'!G217","v":0},{"$f":"'aktuelle Zahlen'!H217","v":0},{"$f":"'aktuelle Zahlen'!J217","v":0},null," ",{"$f":"SUM(COUNTIF($C221:$H221,$AL$11:$AQ$11))","v":0}," ",{"$f":"SUM(COUNTIF($C221:$H221,$AS$11:$AX$11))","v":0}," ",{"$f":"SUM(COUNTIF($C221:$H221,$AZ$11:$BE$11))","v":0}," ",{"$f":"SUM(COUNTIF($C221:$H221,$BG$11:$BL$11))","v":0}," ",{"$f":"SUM(COUNTIF($C221:$H221,$BN$11:$BS$11))","v":0}," ",{"$f":"SUM(COUNTIF($C221:$H221,$BU$11:$BZ$11))","v":0}," ",{"$f":"SUM(COUNTIF($C221:$H221,$CB$11:$CG$11))","v":0}," ",{"$f":"SUM(COUNTIF($C221:$H221,$CI$11:$CN$11))","v":0}," ",{"$f":"SUM(COUNTIF($C221:$H221,$CP$11:$CU$11))","v":0}," ",{"$f":"SUM(COUNTIF($C221:$H221,$CW$11:$DB$11))","v":0}," ",{"$f":"SUM(COUNTIF($C221:$H221,$DD$11:$DI$11))","v":0}," ",{"$f":"SUM(COUNTIF($C221:$H221,$DK$11:$DP$11))","v":0}]
[{"$f":"'aktuelle Zahlen'!A218","v":0},{"$f":"'aktuelle Zahlen'!B218","v":"00:00:00"},{"$f":"'aktuelle Zahlen'!C218","v":0},{"$f":"'aktuelle Zahlen'!D218","v":0},{"$f":"'aktuelle Zahlen'!E218","v":0},{"$f":"'aktuelle Zahlen'!F218","v":0},{"$f":"'aktuelle Zahlen'!G218","v":0},{"$f":"'aktuelle Zahlen'!H218","v":0},{"$f":"'aktuelle Zahlen'!J218","v":0},null," ",{"$f":"SUM(COUNTIF($C222:$H222,$AL$11:$AQ$11))","v":0}," ",{"$f":"SUM(COUNTIF($C222:$H222,$AS$11:$AX$11))","v":0}," ",{"$f":"SUM(COUNTIF($C222:$H222,$AZ$11:$BE$11))","v":0}," ",{"$f":"SUM(COUNTIF($C222:$H222,$BG$11:$BL$11))","v":0}," ",{"$f":"SUM(COUNTIF($C222:$H222,$BN$11:$BS$11))","v":0}," ",{"$f":"SUM(COUNTIF($C222:$H222,$BU$11:$BZ$11))","v":0}," ",{"$f":"SUM(COUNTIF($C222:$H222,$CB$11:$CG$11))","v":0}," ",{"$f":"SUM(COUNTIF($C222:$H222,$CI$11:$CN$11))","v":0}," ",{"$f":"SUM(COUNTIF($C222:$H222,$CP$11:$CU$11))","v":0}," ",{"$f":"SUM(COUNTIF($C222:$H222,$CW$11:$DB$11))","v":0}," ",{"$f":"SUM(COUNTIF($C222:$H222,$DD$11:$DI$11))","v":0}," ",{"$f":"SUM(COUNTIF($C222:$H222,$DK$11:$DP$11))","v":0}]
[{"$f":"'aktuelle Zahlen'!A219","v":0},{"$f":"'aktuelle Zahlen'!B219","v":"00:00:00"},{"$f":"'aktuelle Zahlen'!C219","v":0},{"$f":"'aktuelle Zahlen'!D219","v":0},{"$f":"'aktuelle Zahlen'!E219","v":0},{"$f":"'aktuelle Zahlen'!F219","v":0},{"$f":"'aktuelle Zahlen'!G219","v":0},{"$f":"'aktuelle Zahlen'!H219","v":0},{"$f":"'aktuelle Zahlen'!J219","v":0},null," ",{"$f":"SUM(COUNTIF($C223:$H223,$AL$11:$AQ$11))","v":0}," ",{"$f":"SUM(COUNTIF($C223:$H223,$AS$11:$AX$11))","v":0}," ",{"$f":"SUM(COUNTIF($C223:$H223,$AZ$11:$BE$11))","v":0}," ",{"$f":"SUM(COUNTIF($C223:$H223,$BG$11:$BL$11))","v":0}," ",{"$f":"SUM(COUNTIF($C223:$H223,$BN$11:$BS$11))","v":0}," ",{"$f":"SUM(COUNTIF($C223:$H223,$BU$11:$BZ$11))","v":0}," ",{"$f":"SUM(COUNTIF($C223:$H223,$CB$11:$CG$11))","v":0}," ",{"$f":"SUM(COUNTIF($C223:$H223,$CI$11:$CN$11))","v":0}," ",{"$f":"SUM(COUNTIF($C223:$H223,$CP$11:$CU$11))","v":0}," ",{"$f":"SUM(COUNTIF($C223:$H223,$CW$11:$DB$11))","v":0}," ",{"$f":"SUM(COUNTIF($C223:$H223,$DD$11:$DI$11))","v":0}," ",{"$f":"SUM(COUNTIF($C223:$H223,$DK$11:$DP$11))","v":0}]
[{"$f":"'aktuelle Zahlen'!A220","v":0},{"$f":"'aktuelle Zahlen'!B220","v":"00:00:00"},{"$f":"'aktuelle Zahlen'!C220","v":0},{"$f":"'aktuelle Zahlen'!D220","v":0},{"$f":"'aktuelle Zahlen'!E220","v":0},{"$f":"'aktuelle Zahlen'!F220","v":0},{"$f":"'aktuelle Zahlen'!G220","v":0},{"$f":"'aktuelle Zahlen'!H220","v":0},{"$f":"'aktuelle Zahlen'!J220","v":0},null," ",{"$f":"SUM(COUNTIF($C224:$H224,$AL$11:$AQ$11))","v":0}," ",{"$f":"SUM(COUNTIF($C224:$H224,$AS$11:$AX$11))","v":0}," ",{"$f":"SUM(COUNTIF($C224:$H224,$AZ$11:$BE$11))","v":0}," ",{"$f":"SUM(COUNTIF($C224:$H224,$BG$11:$BL$11))","v":0}," ",{"$f":"SUM(COUNTIF($C224:$H224,$BN$11:$BS$11))","v":0}," ",{"$f":"SUM(COUNTIF($C224:$H224,$BU$11:$BZ$11))","v":0}," ",{"$f":"SUM(COUNTIF($C224:$H224,$CB$11:$CG$11))","v":0}," ",{"$f":"SUM(COUNTIF($C224:$H224,$CI$11:$CN$11))","v":0}," ",{"$f":"SUM(COUNTIF($C224:$H224,$CP$11:$CU$11))","v":0}," ",{"$f":"SUM(COUNTIF($C224:$H224,$CW$11:$DB$11))","v":0}," ",{"$f":"SUM(COUNTIF($C224:$H224,$DD$11:$DI$11))","v":0}," ",{"$f":"SUM(COUNTIF($C224:$H224,$DK$11:$DP$11))","v":0}]
[{"$f":"'aktuelle Zahlen'!A221","v":0},{"$f":"'aktuelle Zahlen'!B221","v":"00:00:00"},{"$f":"'aktuelle Zahlen'!C221","v":0},{"$f":"'aktuelle Zahlen'!D221","v":0},{"$f":"'aktuelle Zahlen'!E221","v":0},{"$f":"'aktuelle Zahlen'!F221","v":0},{"$f":"'aktuelle Zahlen'!G221","v":0},{"$f":"'aktuelle Zahlen'!H221","v":0},{"$f":"'aktuelle Zahlen'!J221","v":0},null," ",{"$f":"SUM(COUNTIF($C225:$H225,$AL$11:$AQ$11))","v":0}," ",{"$f":"SUM(COUNTIF($C225:$H225,$AS$11:$AX$11))","v":0}," ",{"$f":"SUM(COUNTIF($C225:$H225,$AZ$11:$BE$11))","v":0}," ",{"$f":"SUM(COUNTIF($C225:$H225,$BG$11:$BL$11))","v":0}," ",{"$f":"SUM(COUNTIF($C225:$H225,$BN$11:$BS$11))","v":0}," ",{"$f":"SUM(COUNTIF($C225:$H225,$BU$11:$BZ$11))","v":0}," ",{"$f":"SUM(COUNTIF($C225:$H225,$CB$11:$CG$11))","v":0}," ",{"$f":"SUM(COUNTIF($C225:$H225,$CI$11:$CN$11))","v":0}," ",{"$f":"SUM(COUNTIF($C225:$H225,$CP$11:$CU$11))","v":0}," ",{"$f":"SUM(COUNTIF($C225:$H225,$CW$11:$DB$11))","v":0}," ",{"$f":"SUM(COUNTIF($C225:$H225,$DD$11:$DI$11))","v":0}," ",{"$f":"SUM(COUNTIF($C225:$H225,$DK$11:$DP$11))","v":0}]
[{"$f":"'aktuelle Zahlen'!A222","v":0},{"$f":"'aktuelle Zahlen'!B222","v":"00:00:00"},{"$f":"'aktuelle Zahlen'!C222","v":0},{"$f":"'aktuelle Zahlen'!D222","v":0},{"$f":"'aktuelle Zahlen'!E222","v":0},{"$f":"'aktuelle Zahlen'!F222","v":0},{"$f":"'aktuelle Zahlen'!G222","v":0},{"$f":"'aktuelle Zahlen'!H222","v":0},{"$f":"'aktuelle Zahlen'!J222","v":0},null," ",{"$f":"SUM(COUNTIF($C226:$H226,$AL$11:$AQ$11))","v":0}," ",{"$f":"SUM(COUNTIF($C226:$H226,$AS$11:$AX$11))","v":0}," ",{"$f":"SUM(COUNTIF($C226:$H226,$AZ$11:$BE$11))","v":0}," ",{"$f":"SUM(COUNTIF($C226:$H226,$BG$11:$BL$11))","v":0}," ",{"$f":"SUM(COUNTIF($C226:$H226,$BN$11:$BS$11))","v":0}," ",{"$f":"SUM(COUNTIF($C226:$H226,$BU$11:$BZ$11))","v":0}," ",{"$f":"SUM(COUNTIF($C226:$H226,$CB$11:$CG$11))","v":0}," ",{"$f":"SUM(COUNTIF($C226:$H226,$CI$11:$CN$11))","v":0}," ",{"$f":"SUM(COUNTIF($C226:$H226,$CP$11:$CU$11))","v":0}," ",{"$f":"SUM(COUNTIF($C226:$H226,$CW$11:$DB$11))","v":0}," ",{"$f":"SUM(COUNTIF($C226:$H226,$DD$11:$DI$11))","v":0}," ",{"$f":"SUM(COUNTIF($C226:$H226,$DK$11:$DP$11))","v":0}]
[{"$f":"'aktuelle Zahlen'!A223","v":0},{"$f":"'aktuelle Zahlen'!B223","v":"00:00:00"},{"$f":"'aktuelle Zahlen'!C223","v":0},{"$f":"'aktuelle Zahlen'!D223","v":0},{"$f":"'aktuelle Zahlen'!E223","v":0},{"$f":"'aktuelle Zahlen'!F223","v":0},{"$f":"'aktuelle Zahlen'!G223","v":0},{"$f":"'aktuelle Zahlen'!H223","v":0},{"$f":"'aktuelle Zahlen'!J223","v":0},null," ",{"$f":"SUM(COUNTIF($C227:$H227,$AL$11:$AQ$11))","v":0}," ",{"$f":"SUM(COUNTIF($C227:$H227,$AS$11:$AX$11))","v":0}," ",{"$f":"SUM(COUNTIF($C227:$H227,$AZ$11:$BE$11))","v":0}," ",{"$f":"SUM(COUNTIF($C227:$H227,$BG$11:$BL$11))","v":0}," ",{"$f":"SUM(COUNTIF($C227:$H227,$BN$11:$BS$11))","v":0}," ",{"$f":"SUM(COUNTIF($C227:$H227,$BU$11:$BZ$11))","v":0}," ",{"$f":"SUM(COUNTIF($C227:$H227,$CB$11:$CG$11))","v":0}," ",{"$f":"SUM(COUNTIF($C227:$H227,$CI$11:$CN$11))","v":0}," ",{"$f":"SUM(COUNTIF($C227:$H227,$CP$11:$CU$11))","v":0}," ",{"$f":"SUM(COUNTIF($C227:$H227,$CW$11:$DB$11))","v":0}," ",{"$f":"SUM(COUNTIF($C227:$H227,$DD$11:$DI$11))","v":0}," ",{"$f":"SUM(COUNTIF($C227:$H227,$DK$11:$DP$11))","v":0}]
[{"$f":"'aktuelle Zahlen'!A224","v":0},{"$f":"'aktuelle Zahlen'!B224","v":"00:00:00"},{"$f":"'aktuelle Zahlen'!C224","v":0},{"$f":"'aktuelle Zahlen'!D224","v":0},{"$f":"'aktuelle Zahlen'!E224","v":0},{"$f":"'aktuelle Zahlen'!F224","v":0},{"$f":"'aktuelle Zahlen'!G224","v":0},{"$f":"'aktuelle Zahlen'!H224","v":0},{"$f":"'aktuelle Zahlen'!J224","v":0},null," ",{"$f":"SUM(COUNTIF($C228:$H228,$AL$11:$AQ$11))","v":0}," ",{"$f":"SUM(COUNTIF($C228:$H228,$AS$11:$AX$11))","v":0}," ",{"$f":"SUM(COUNTIF($C228:$H228,$AZ$11:$BE$11))","v":0}," ",{"$f":"SUM(COUNTIF($C228:$H228,$BG$11:$BL$11))","v":0}," ",{"$f":"SUM(COUNTIF($C228:$H228,$BN$11:$BS$11))","v":0}," ",{"$f":"SUM(COUNTIF($C228:$H228,$BU$11:$BZ$11))","v":0}," ",{"$f":"SUM(COUNTIF($C228:$H228,$CB$11:$CG$11))","v":0}," ",{"$f":"SUM(COUNTIF($C228:$H228,$CI$11:$CN$11))","v":0}," ",{"$f":"SUM(COUNTIF($C228:$H228,$CP$11:$CU$11))","v":0}," ",{"$f":"SUM(COUNTIF($C228:$H228,$CW$11:$DB$11))","v":0}," ",{"$f":"SUM(COUNTIF($C228:$H228,$DD$11:$DI$11))","v":0}," ",{"$f":"SUM(COUNTIF($C228:$H228,$DK$11:$DP$11))","v":0}]
[{"$f":"'aktuelle Zahlen'!A225","v":0},{"$f":"'aktuelle Zahlen'!B225","v":"00:00:00"},{"$f":"'aktuelle Zahlen'!C225","v":0},{"$f":"'aktuelle Zahlen'!D225","v":0},{"$f":"'aktuelle Zahlen'!E225","v":0},{"$f":"'aktuelle Zahlen'!F225","v":0},{"$f":"'aktuelle Zahlen'!G225","v":0},{"$f":"'aktuelle Zahlen'!H225","v":0},{"$f":"'aktuelle Zahlen'!J225","v":0},null," ",{"$f":"SUM(COUNTIF($C229:$H229,$AL$11:$AQ$11))","v":0}," ",{"$f":"SUM(COUNTIF($C229:$H229,$AS$11:$AX$11))","v":0}," ",{"$f":"SUM(COUNTIF($C229:$H229,$AZ$11:$BE$11))","v":0}," ",{"$f":"SUM(COUNTIF($C229:$H229,$BG$11:$BL$11))","v":0}," ",{"$f":"SUM(COUNTIF($C229:$H229,$BN$11:$BS$11))","v":0}," ",{"$f":"SUM(COUNTIF($C229:$H229,$BU$11:$BZ$11))","v":0}," ",{"$f":"SUM(COUNTIF($C229:$H229,$CB$11:$CG$11))","v":0}," ",{"$f":"SUM(COUNTIF($C229:$H229,$CI$11:$CN$11))","v":0}," ",{"$f":"SUM(COUNTIF($C229:$H229,$CP$11:$CU$11))","v":0}," ",{"$f":"SUM(COUNTIF($C229:$H229,$CW$11:$DB$11))","v":0}," ",{"$f":"SUM(COUNTIF($C229:$H229,$DD$11:$DI$11))","v":0}," ",{"$f":"SUM(COUNTIF($C229:$H229,$DK$11:$DP$11))","v":0}]
[{"$f":"'aktuelle Zahlen'!A226","v":0},{"$f":"'aktuelle Zahlen'!B226","v":"00:00:00"},{"$f":"'aktuelle Zahlen'!C226","v":0},{"$f":"'aktuelle Zahlen'!D226","v":0},{"$f":"'aktuelle Zahlen'!E226","v":0},{"$f":"'aktuelle Zahlen'!F226","v":0},{"$f":"'aktuelle Zahlen'!G226","v":0},{"$f":"'aktuelle Zahlen'!H226","v":0},{"$f":"'aktuelle Zahlen'!J226","v":0},null," ",{"$f":"SUM(COUNTIF($C230:$H230,$AL$11:$AQ$11))","v":0}," ",{"$f":"SUM(COUNTIF($C230:$H230,$AS$11:$AX$11))","v":0}," ",{"$f":"SUM(COUNTIF($C230:$H230,$AZ$11:$BE$11))","v":0}," ",{"$f":"SUM(COUNTIF($C230:$H230,$BG$11:$BL$11))","v":0}," ",{"$f":"SUM(COUNTIF($C230:$H230,$BN$11:$BS$11))","v":0}," ",{"$f":"SUM(COUNTIF($C230:$H230,$BU$11:$BZ$11))","v":0}," ",{"$f":"SUM(COUNTIF($C230:$H230,$CB$11:$CG$11))","v":0}," ",{"$f":"SUM(COUNTIF($C230:$H230,$CI$11:$CN$11))","v":0}," ",{"$f":"SUM(COUNTIF($C230:$H230,$CP$11:$CU$11))","v":0}," ",{"$f":"SUM(COUNTIF($C230:$H230,$CW$11:$DB$11))","v":0}," ",{"$f":"SUM(COUNTIF($C230:$H230,$DD$11:$DI$11))","v":0}," ",{"$f":"SUM(COUNTIF($C230:$H230,$DK$11:$DP$11))","v":0}]
[{"$f":"'aktuelle Zahlen'!A227","v":0},{"$f":"'aktuelle Zahlen'!B227","v":"00:00:00"},{"$f":"'aktuelle Zahlen'!C227","v":0},{"$f":"'aktuelle Zahlen'!D227","v":0},{"$f":"'aktuelle Zahlen'!E227","v":0},{"$f":"'aktuelle Zahlen'!F227","v":0},{"$f":"'aktuelle Zahlen'!G227","v":0},{"$f":"'aktuelle Zahlen'!H227","v":0},{"$f":"'aktuelle Zahlen'!J227","v":0},null," ",{"$f":"SUM(COUNTIF($C231:$H231,$AL$11:$AQ$11))","v":0}," ",{"$f":"SUM(COUNTIF($C231:$H231,$AS$11:$AX$11))","v":0}," ",{"$f":"SUM(COUNTIF($C231:$H231,$AZ$11:$BE$11))","v":0}," ",{"$f":"SUM(COUNTIF($C231:$H231,$BG$11:$BL$11))","v":0}," ",{"$f":"SUM(COUNTIF($C231:$H231,$BN$11:$BS$11))","v":0}," ",{"$f":"SUM(COUNTIF($C231:$H231,$BU$11:$BZ$11))","v":0}," ",{"$f":"SUM(COUNTIF($C231:$H231,$CB$11:$CG$11))","v":0}," ",{"$f":"SUM(COUNTIF($C231:$H231,$CI$11:$CN$11))","v":0}," ",{"$f":"SUM(COUNTIF($C231:$H231,$CP$11:$CU$11))","v":0}," ",{"$f":"SUM(COUNTIF($C231:$H231,$CW$11:$DB$11))","v":0}," ",{"$f":"SUM(COUNTIF($C231:$H231,$DD$11:$DI$11))","v":0}," ",{"$f":"SUM(COUNTIF($C231:$H231,$DK$11:$DP$11))","v":0}]
[{"$f":"'aktuelle Zahlen'!A228","v":0},{"$f":"'aktuelle Zahlen'!B228","v":"00:00:00"},{"$f":"'aktuelle Zahlen'!C228","v":0},{"$f":"'aktuelle Zahlen'!D228","v":0},{"$f":"'aktuelle Zahlen'!E228","v":0},{"$f":"'aktuelle Zahlen'!F228","v":0},{"$f":"'aktuelle Zahlen'!G228","v":0},{"$f":"'aktuelle Zahlen'!H228","v":0},{"$f":"'aktuelle Zahlen'!J228","v":0},null," ",{"$f":"SUM(COUNTIF($C232:$H232,$AL$11:$AQ$11))","v":0}," ",{"$f":"SUM(COUNTIF($C232:$H232,$AS$11:$AX$11))","v":0}," ",{"$f":"SUM(COUNTIF($C232:$H232,$AZ$11:$BE$11))","v":0}," ",{"$f":"SUM(COUNTIF($C232:$H232,$BG$11:$BL$11))","v":0}," ",{"$f":"SUM(COUNTIF($C232:$H232,$BN$11:$BS$11))","v":0}," ",{"$f":"SUM(COUNTIF($C232:$H232,$BU$11:$BZ$11))","v":0}," ",{"$f":"SUM(COUNTIF($C232:$H232,$CB$11:$CG$11))","v":0}," ",{"$f":"SUM(COUNTIF($C232:$H232,$CI$11:$CN$11))","v":0}," ",{"$f":"SUM(COUNTIF($C232:$H232,$CP$11:$CU$11))","v":0}," ",{"$f":"SUM(COUNTIF($C232:$H232,$CW$11:$DB$11))","v":0}," ",{"$f":"SUM(COUNTIF($C232:$H232,$DD$11:$DI$11))","v":0}," ",{"$f":"SUM(COUNTIF($C232:$H232,$DK$11:$DP$11))","v":0}]
[{"$f":"'aktuelle Zahlen'!A229","v":0},{"$f":"'aktuelle Zahlen'!B229","v":"00:00:00"},{"$f":"'aktuelle Zahlen'!C229","v":0},{"$f":"'aktuelle Zahlen'!D229","v":0},{"$f":"'aktuelle Zahlen'!E229","v":0},{"$f":"'aktuelle Zahlen'!F229","v":0},{"$f":"'aktuelle Zahlen'!G229","v":0},{"$f":"'aktuelle Zahlen'!H229","v":0},{"$f":"'aktuelle Zahlen'!J229","v":0},null," ",{"$f":"SUM(COUNTIF($C233:$H233,$AL$11:$AQ$11))","v":0}," ",{"$f":"SUM(COUNTIF($C233:$H233,$AS$11:$AX$11))","v":0}," ",{"$f":"SUM(COUNTIF($C233:$H233,$AZ$11:$BE$11))","v":0}," ",{"$f":"SUM(COUNTIF($C233:$H233,$BG$11:$BL$11))","v":0}," ",{"$f":"SUM(COUNTIF($C233:$H233,$BN$11:$BS$11))","v":0}," ",{"$f":"SUM(COUNTIF($C233:$H233,$BU$11:$BZ$11))","v":0}," ",{"$f":"SUM(COUNTIF($C233:$H233,$CB$11:$CG$11))","v":0}," ",{"$f":"SUM(COUNTIF($C233:$H233,$CI$11:$CN$11))","v":0}," ",{"$f":"SUM(COUNTIF($C233:$H233,$CP$11:$CU$11))","v":0}," ",{"$f":"SUM(COUNTIF($C233:$H233,$CW$11:$DB$11))","v":0}," ",{"$f":"SUM(COUNTIF($C233:$H233,$DD$11:$DI$11))","v":0}," ",{"$f":"SUM(COUNTIF($C233:$H233,$DK$11:$DP$11))","v":0}]
[{"$f":"'aktuelle Zahlen'!A230","v":0},{"$f":"'aktuelle Zahlen'!B230","v":"00:00:00"},{"$f":"'aktuelle Zahlen'!C230","v":0},{"$f":"'aktuelle Zahlen'!D230","v":0},{"$f":"'aktuelle Zahlen'!E230","v":0},{"$f":"'aktuelle Zahlen'!F230","v":0},{"$f":"'aktuelle Zahlen'!G230","v":0},{"$f":"'aktuelle Zahlen'!H230","v":0},{"$f":"'aktuelle Zahlen'!J230","v":0},null," ",{"$f":"SUM(COUNTIF($C234:$H234,$AL$11:$AQ$11))","v":0}," ",{"$f":"SUM(COUNTIF($C234:$H234,$AS$11:$AX$11))","v":0}," ",{"$f":"SUM(COUNTIF($C234:$H234,$AZ$11:$BE$11))","v":0}," ",{"$f":"SUM(COUNTIF($C234:$H234,$BG$11:$BL$11))","v":0}," ",{"$f":"SUM(COUNTIF($C234:$H234,$BN$11:$BS$11))","v":0}," ",{"$f":"SUM(COUNTIF($C234:$H234,$BU$11:$BZ$11))","v":0}," ",{"$f":"SUM(COUNTIF($C234:$H234,$CB$11:$CG$11))","v":0}," ",{"$f":"SUM(COUNTIF($C234:$H234,$CI$11:$CN$11))","v":0}," ",{"$f":"SUM(COUNTIF($C234:$H234,$CP$11:$CU$11))","v":0}," ",{"$f":"SUM(COUNTIF($C234:$H234,$CW$11:$DB$11))","v":0}," ",{"$f":"SUM(COUNTIF($C234:$H234,$DD$11:$DI$11))","v":0}," ",{"$f":"SUM(COUNTIF($C234:$H234,$DK$11:$DP$11))","v":0}]
[{"$f":"'aktuelle Zahlen'!A231","v":0},{"$f":"'aktuelle Zahlen'!B231","v":"00:00:00"},{"$f":"'aktuelle Zahlen'!C231","v":0},{"$f":"'aktuelle Zahlen'!D231","v":0},{"$f":"'aktuelle Zahlen'!E231","v":0},{"$f":"'aktuelle Zahlen'!F231","v":0},{"$f":"'aktuelle Zahlen'!G231","v":0},{"$f":"'aktuelle Zahlen'!H231","v":0},{"$f":"'aktuelle Zahlen'!J231","v":0},null," ",{"$f":"SUM(COUNTIF($C235:$H235,$AL$11:$AQ$11))","v":0}," ",{"$f":"SUM(COUNTIF($C235:$H235,$AS$11:$AX$11))","v":0}," ",{"$f":"SUM(COUNTIF($C235:$H235,$AZ$11:$BE$11))","v":0}," ",{"$f":"SUM(COUNTIF($C235:$H235,$BG$11:$BL$11))","v":0}," ",{"$f":"SUM(COUNTIF($C235:$H235,$BN$11:$BS$11))","v":0}," ",{"$f":"SUM(COUNTIF($C235:$H235,$BU$11:$BZ$11))","v":0}," ",{"$f":"SUM(COUNTIF($C235:$H235,$CB$11:$CG$11))","v":0}," ",{"$f":"SUM(COUNTIF($C235:$H235,$CI$11:$CN$11))","v":0}," ",{"$f":"SUM(COUNTIF($C235:$H235,$CP$11:$CU$11))","v":0}," ",{"$f":"SUM(COUNTIF($C235:$H235,$CW$11:$DB$11))","v":0}," ",{"$f":"SUM(COUNTIF($C235:$H235,$DD$11:$DI$11))","v":0}," ",{"$f":"SUM(COUNTIF($C235:$H235,$DK$11:$DP$11))","v":0}]
[{"$f":"'aktuelle Zahlen'!A232","v":0},{"$f":"'aktuelle Zahlen'!B232","v":"00:00:00"},{"$f":"'aktuelle Zahlen'!C232","v":0},{"$f":"'aktuelle Zahlen'!D232","v":0},{"$f":"'aktuelle Zahlen'!E232","v":0},{"$f":"'aktuelle Zahlen'!F232","v":0},{"$f":"'aktuelle Zahlen'!G232","v":0},{"$f":"'aktuelle Zahlen'!H232","v":0},{"$f":"'aktuelle Zahlen'!J232","v":0},null," ",{"$f":"SUM(COUNTIF($C236:$H236,$AL$11:$AQ$11))","v":0}," ",{"$f":"SUM(COUNTIF($C236:$H236,$AS$11:$AX$11))","v":0}," ",{"$f":"SUM(COUNTIF($C236:$H236,$AZ$11:$BE$11))","v":0}," ",{"$f":"SUM(COUNTIF($C236:$H236,$BG$11:$BL$11))","v":0}," ",{"$f":"SUM(COUNTIF($C236:$H236,$BN$11:$BS$11))","v":0}," ",{"$f":"SUM(COUNTIF($C236:$H236,$BU$11:$BZ$11))","v":0}," ",{"$f":"SUM(COUNTIF($C236:$H236,$CB$11:$CG$11))","v":0}," ",{"$f":"SUM(COUNTIF($C236:$H236,$CI$11:$CN$11))","v":0}," ",{"$f":"SUM(COUNTIF($C236:$H236,$CP$11:$CU$11))","v":0}," ",{"$f":"SUM(COUNTIF($C236:$H236,$CW$11:$DB$11))","v":0}," ",{"$f":"SUM(COUNTIF($C236:$H236,$DD$11:$DI$11))","v":0}," ",{"$f":"SUM(COUNTIF($C236:$H236,$DK$11:$DP$11))","v":0}]
[{"$f":"'aktuelle Zahlen'!A233","v":0},{"$f":"'aktuelle Zahlen'!B233","v":"00:00:00"},{"$f":"'aktuelle Zahlen'!C233","v":0},{"$f":"'aktuelle Zahlen'!D233","v":0},{"$f":"'aktuelle Zahlen'!E233","v":0},{"$f":"'aktuelle Zahlen'!F233","v":0},{"$f":"'aktuelle Zahlen'!G233","v":0},{"$f":"'aktuelle Zahlen'!H233","v":0},{"$f":"'aktuelle Zahlen'!J233","v":0},null," ",{"$f":"SUM(COUNTIF($C237:$H237,$AL$11:$AQ$11))","v":0}," ",{"$f":"SUM(COUNTIF($C237:$H237,$AS$11:$AX$11))","v":0}," ",{"$f":"SUM(COUNTIF($C237:$H237,$AZ$11:$BE$11))","v":0}," ",{"$f":"SUM(COUNTIF($C237:$H237,$BG$11:$BL$11))","v":0}," ",{"$f":"SUM(COUNTIF($C237:$H237,$BN$11:$BS$11))","v":0}," ",{"$f":"SUM(COUNTIF($C237:$H237,$BU$11:$BZ$11))","v":0}," ",{"$f":"SUM(COUNTIF($C237:$H237,$CB$11:$CG$11))","v":0}," ",{"$f":"SUM(COUNTIF($C237:$H237,$CI$11:$CN$11))","v":0}," ",{"$f":"SUM(COUNTIF($C237:$H237,$CP$11:$CU$11))","v":0}," ",{"$f":"SUM(COUNTIF($C237:$H237,$CW$11:$DB$11))","v":0}," ",{"$f":"SUM(COUNTIF($C237:$H237,$DD$11:$DI$11))","v":0}," ",{"$f":"SUM(COUNTIF($C237:$H237,$DK$11:$DP$11))","v":0}]
[{"$f":"'aktuelle Zahlen'!A234","v":0},{"$f":"'aktuelle Zahlen'!B234","v":"00:00:00"},{"$f":"'aktuelle Zahlen'!C234","v":0},{"$f":"'aktuelle Zahlen'!D234","v":0},{"$f":"'aktuelle Zahlen'!E234","v":0},{"$f":"'aktuelle Zahlen'!F234","v":0},{"$f":"'aktuelle Zahlen'!G234","v":0},{"$f":"'aktuelle Zahlen'!H234","v":0},{"$f":"'aktuelle Zahlen'!J234","v":0},null," ",{"$f":"SUM(COUNTIF($C238:$H238,$AL$11:$AQ$11))","v":0}," ",{"$f":"SUM(COUNTIF($C238:$H238,$AS$11:$AX$11))","v":0}," ",{"$f":"SUM(COUNTIF($C238:$H238,$AZ$11:$BE$11))","v":0}," ",{"$f":"SUM(COUNTIF($C238:$H238,$BG$11:$BL$11))","v":0}," ",{"$f":"SUM(COUNTIF($C238:$H238,$BN$11:$BS$11))","v":0}," ",{"$f":"SUM(COUNTIF($C238:$H238,$BU$11:$BZ$11))","v":0}," ",{"$f":"SUM(COUNTIF($C238:$H238,$CB$11:$CG$11))","v":0}," ",{"$f":"SUM(COUNTIF($C238:$H238,$CI$11:$CN$11))","v":0}," ",{"$f":"SUM(COUNTIF($C238:$H238,$CP$11:$CU$11))","v":0}," ",{"$f":"SUM(COUNTIF($C238:$H238,$CW$11:$DB$11))","v":0}," ",{"$f":"SUM(COUNTIF($C238:$H238,$DD$11:$DI$11))","v":0}," ",{"$f":"SUM(COUNTIF($C238:$H238,$DK$11:$DP$11))","v":0}]
[{"$f":"'aktuelle Zahlen'!A235","v":0},{"$f":"'aktuelle Zahlen'!B235","v":"00:00:00"},{"$f":"'aktuelle Zahlen'!C235","v":0},{"$f":"'aktuelle Zahlen'!D235","v":0},{"$f":"'aktuelle Zahlen'!E235","v":0},{"$f":"'aktuelle Zahlen'!F235","v":0},{"$f":"'aktuelle Zahlen'!G235","v":0},{"$f":"'aktuelle Zahlen'!H235","v":0},{"$f":"'aktuelle Zahlen'!J235","v":0},null," ",{"$f":"SUM(COUNTIF($C239:$H239,$AL$11:$AQ$11))","v":0}," ",{"$f":"SUM(COUNTIF($C239:$H239,$AS$11:$AX$11))","v":0}," ",{"$f":"SUM(COUNTIF($C239:$H239,$AZ$11:$BE$11))","v":0}," ",{"$f":"SUM(COUNTIF($C239:$H239,$BG$11:$BL$11))","v":0}," ",{"$f":"SUM(COUNTIF($C239:$H239,$BN$11:$BS$11))","v":0}," ",{"$f":"SUM(COUNTIF($C239:$H239,$BU$11:$BZ$11))","v":0}," ",{"$f":"SUM(COUNTIF($C239:$H239,$CB$11:$CG$11))","v":0}," ",{"$f":"SUM(COUNTIF($C239:$H239,$CI$11:$CN$11))","v":0}," ",{"$f":"SUM(COUNTIF($C239:$H239,$CP$11:$CU$11))","v":0}," ",{"$f":"SUM(COUNTIF($C239:$H239,$CW$11:$DB$11))","v":0}," ",{"$f":"SUM(COUNTIF($C239:$H239,$DD$11:$DI$11))","v":0}," ",{"$f":"SUM(COUNTIF($C239:$H239,$DK$11:$DP$11))","v":0}]
[{"$f":"'aktuelle Zahlen'!A236","v":0},{"$f":"'aktuelle Zahlen'!B236","v":"00:00:00"},{"$f":"'aktuelle Zahlen'!C236","v":0},{"$f":"'aktuelle Zahlen'!D236","v":0},{"$f":"'aktuelle Zahlen'!E236","v":0},{"$f":"'aktuelle Zahlen'!F236","v":0},{"$f":"'aktuelle Zahlen'!G236","v":0},{"$f":"'aktuelle Zahlen'!H236","v":0},{"$f":"'aktuelle Zahlen'!J236","v":0},null," ",{"$f":"SUM(COUNTIF($C240:$H240,$AL$11:$AQ$11))","v":0}," ",{"$f":"SUM(COUNTIF($C240:$H240,$AS$11:$AX$11))","v":0}," ",{"$f":"SUM(COUNTIF($C240:$H240,$AZ$11:$BE$11))","v":0}," ",{"$f":"SUM(COUNTIF($C240:$H240,$BG$11:$BL$11))","v":0}," ",{"$f":"SUM(COUNTIF($C240:$H240,$BN$11:$BS$11))","v":0}," ",{"$f":"SUM(COUNTIF($C240:$H240,$BU$11:$BZ$11))","v":0}," ",{"$f":"SUM(COUNTIF($C240:$H240,$CB$11:$CG$11))","v":0}," ",{"$f":"SUM(COUNTIF($C240:$H240,$CI$11:$CN$11))","v":0}," ",{"$f":"SUM(COUNTIF($C240:$H240,$CP$11:$CU$11))","v":0}," ",{"$f":"SUM(COUNTIF($C240:$H240,$CW$11:$DB$11))","v":0}," ",{"$f":"SUM(COUNTIF($C240:$H240,$DD$11:$DI$11))","v":0}," ",{"$f":"SUM(COUNTIF($C240:$H240,$DK$11:$DP$11))","v":0}]
[{"$f":"'aktuelle Zahlen'!A237","v":0},{"$f":"'aktuelle Zahlen'!B237","v":"00:00:00"},{"$f":"'aktuelle Zahlen'!C237","v":0},{"$f":"'aktuelle Zahlen'!D237","v":0},{"$f":"'aktuelle Zahlen'!E237","v":0},{"$f":"'aktuelle Zahlen'!F237","v":0},{"$f":"'aktuelle Zahlen'!G237","v":0},{"$f":"'aktuelle Zahlen'!H237","v":0},{"$f":"'aktuelle Zahlen'!J237","v":0},null," ",{"$f":"SUM(COUNTIF($C241:$H241,$AL$11:$AQ$11))","v":0}," ",{"$f":"SUM(COUNTIF($C241:$H241,$AS$11:$AX$11))","v":0}," ",{"$f":"SUM(COUNTIF($C241:$H241,$AZ$11:$BE$11))","v":0}," ",{"$f":"SUM(COUNTIF($C241:$H241,$BG$11:$BL$11))","v":0}," ",{"$f":"SUM(COUNTIF($C241:$H241,$BN$11:$BS$11))","v":0}," ",{"$f":"SUM(COUNTIF($C241:$H241,$BU$11:$BZ$11))","v":0}," ",{"$f":"SUM(COUNTIF($C241:$H241,$CB$11:$CG$11))","v":0}," ",{"$f":"SUM(COUNTIF($C241:$H241,$CI$11:$CN$11))","v":0}," ",{"$f":"SUM(COUNTIF($C241:$H241,$CP$11:$CU$11))","v":0}," ",{"$f":"SUM(COUNTIF($C241:$H241,$CW$11:$DB$11))","v":0}," ",{"$f":"SUM(COUNTIF($C241:$H241,$DD$11:$DI$11))","v":0}," ",{"$f":"SUM(COUNTIF($C241:$H241,$DK$11:$DP$11))","v":0}]
[{"$f":"'aktuelle Zahlen'!A238","v":0},{"$f":"'aktuelle Zahlen'!B238","v":"00:00:00"},{"$f":"'aktuelle Zahlen'!C238","v":0},{"$f":"'aktuelle Zahlen'!D238","v":0},{"$f":"'aktuelle Zahlen'!E238","v":0},{"$f":"'aktuelle Zahlen'!F238","v":0},{"$f":"'aktuelle Zahlen'!G238","v":0},{"$f":"'aktuelle Zahlen'!H238","v":0},{"$f":"'aktuelle Zahlen'!J238","v":0},null," ",{"$f":"SUM(COUNTIF($C242:$H242,$AL$11:$AQ$11))","v":0}," ",{"$f":"SUM(COUNTIF($C242:$H242,$AS$11:$AX$11))","v":0}," ",{"$f":"SUM(COUNTIF($C242:$H242,$AZ$11:$BE$11))","v":0}," ",{"$f":"SUM(COUNTIF($C242:$H242,$BG$11:$BL$11))","v":0}," ",{"$f":"SUM(COUNTIF($C242:$H242,$BN$11:$BS$11))","v":0}," ",{"$f":"SUM(COUNTIF($C242:$H242,$BU$11:$BZ$11))","v":0}," ",{"$f":"SUM(COUNTIF($C242:$H242,$CB$11:$CG$11))","v":0}," ",{"$f":"SUM(COUNTIF($C242:$H242,$CI$11:$CN$11))","v":0}," ",{"$f":"SUM(COUNTIF($C242:$H242,$CP$11:$CU$11))","v":0}," ",{"$f":"SUM(COUNTIF($C242:$H242,$CW$11:$DB$11))","v":0}," ",{"$f":"SUM(COUNTIF($C242:$H242,$DD$11:$DI$11))","v":0}," ",{"$f":"SUM(COUNTIF($C242:$H242,$DK$11:$DP$11))","v":0}]
[{"$f":"'aktuelle Zahlen'!A239","v":0},{"$f":"'aktuelle Zahlen'!B239","v":"00:00:00"},{"$f":"'aktuelle Zahlen'!C239","v":0},{"$f":"'aktuelle Zahlen'!D239","v":0},{"$f":"'aktuelle Zahlen'!E239","v":0},{"$f":"'aktuelle Zahlen'!F239","v":0},{"$f":"'aktuelle Zahlen'!G239","v":0},{"$f":"'aktuelle Zahlen'!H239","v":0},{"$f":"'aktuelle Zahlen'!J239","v":0},null," ",{"$f":"SUM(COUNTIF($C243:$H243,$AL$11:$AQ$11))","v":0}," ",{"$f":"SUM(COUNTIF($C243:$H243,$AS$11:$AX$11))","v":0}," ",{"$f":"SUM(COUNTIF($C243:$H243,$AZ$11:$BE$11))","v":0}," ",{"$f":"SUM(COUNTIF($C243:$H243,$BG$11:$BL$11))","v":0}," ",{"$f":"SUM(COUNTIF($C243:$H243,$BN$11:$BS$11))","v":0}," ",{"$f":"SUM(COUNTIF($C243:$H243,$BU$11:$BZ$11))","v":0}," ",{"$f":"SUM(COUNTIF($C243:$H243,$CB$11:$CG$11))","v":0}," ",{"$f":"SUM(COUNTIF($C243:$H243,$CI$11:$CN$11))","v":0}," ",{"$f":"SUM(COUNTIF($C243:$H243,$CP$11:$CU$11))","v":0}," ",{"$f":"SUM(COUNTIF($C243:$H243,$CW$11:$DB$11))","v":0}," ",{"$f":"SUM(COUNTIF($C243:$H243,$DD$11:$DI$11))","v":0}," ",{"$f":"SUM(COUNTIF($C243:$H243,$DK$11:$DP$11))","v":0}]
[{"$f":"'aktuelle Zahlen'!A240","v":0},{"$f":"'aktuelle Zahlen'!B240","v":"00:00:00"},{"$f":"'aktuelle Zahlen'!C240","v":0},{"$f":"'aktuelle Zahlen'!D240","v":0},{"$f":"'aktuelle Zahlen'!E240","v":0},{"$f":"'aktuelle Zahlen'!F240","v":0},{"$f":"'aktuelle Zahlen'!G240","v":0},{"$f":"'aktuelle Zahlen'!H240","v":0},{"$f":"'aktuelle Zahlen'!J240","v":0},null," ",{"$f":"SUM(COUNTIF($C244:$H244,$AL$11:$AQ$11))","v":0}," ",{"$f":"SUM(COUNTIF($C244:$H244,$AS$11:$AX$11))","v":0}," ",{"$f":"SUM(COUNTIF($C244:$H244,$AZ$11:$BE$11))","v":0}," ",{"$f":"SUM(COUNTIF($C244:$H244,$BG$11:$BL$11))","v":0}," ",{"$f":"SUM(COUNTIF($C244:$H244,$BN$11:$BS$11))","v":0}," ",{"$f":"SUM(COUNTIF($C244:$H244,$BU$11:$BZ$11))","v":0}," ",{"$f":"SUM(COUNTIF($C244:$H244,$CB$11:$CG$11))","v":0}," ",{"$f":"SUM(COUNTIF($C244:$H244,$CI$11:$CN$11))","v":0}," ",{"$f":"SUM(COUNTIF($C244:$H244,$CP$11:$CU$11))","v":0}," ",{"$f":"SUM(COUNTIF($C244:$H244,$CW$11:$DB$11))","v":0}," ",{"$f":"SUM(COUNTIF($C244:$H244,$DD$11:$DI$11))","v":0}," ",{"$f":"SUM(COUNTIF($C244:$H244,$DK$11:$DP$11))","v":0}]
[{"$f":"'aktuelle Zahlen'!A241","v":0},{"$f":"'aktuelle Zahlen'!B241","v":"00:00:00"},{"$f":"'aktuelle Zahlen'!C241","v":0},{"$f":"'aktuelle Zahlen'!D241","v":0},{"$f":"'aktuelle Zahlen'!E241","v":0},{"$f":"'aktuelle Zahlen'!F241","v":0},{"$f":"'aktuelle Zahlen'!G241","v":0},{"$f":"'aktuelle Zahlen'!H241","v":0},{"$f":"'aktuelle Zahlen'!J241","v":0},null," ",{"$f":"SUM(COUNTIF($C245:$H245,$AL$11:$AQ$11))","v":0}," ",{"$f":"SUM(COUNTIF($C245:$H245,$AS$11:$AX$11))","v":0}," ",{"$f":"SUM(COUNTIF($C245:$H245,$AZ$11:$BE$11))","v":0}," ",{"$f":"SUM(COUNTIF($C245:$H245,$BG$11:$BL$11))","v":0}," ",{"$f":"SUM(COUNTIF($C245:$H245,$BN$11:$BS$11))","v":0}," ",{"$f":"SUM(COUNTIF($C245:$H245,$BU$11:$BZ$11))","v":0}," ",{"$f":"SUM(COUNTIF($C245:$H245,$CB$11:$CG$11))","v":0}," ",{"$f":"SUM(COUNTIF($C245:$H245,$CI$11:$CN$11))","v":0}," ",{"$f":"SUM(COUNTIF($C245:$H245,$CP$11:$CU$11))","v":0}," ",{"$f":"SUM(COUNTIF($C245:$H245,$CW$11:$DB$11))","v":0}," ",{"$f":"SUM(COUNTIF($C245:$H245,$DD$11:$DI$11))","v":0}," ",{"$f":"SUM(COUNTIF($C245:$H245,$DK$11:$DP$11))","v":0}]
[{"$f":"'aktuelle Zahlen'!A242","v":0},{"$f":"'aktuelle Zahlen'!B242","v":"00:00:00"},{"$f":"'aktuelle Zahlen'!C242","v":0},{"$f":"'aktuelle Zahlen'!D242","v":0},{"$f":"'aktuelle Zahlen'!E242","v":0},{"$f":"'aktuelle Zahlen'!F242","v":0},{"$f":"'aktuelle Zahlen'!G242","v":0},{"$f":"'aktuelle Zahlen'!H242","v":0},{"$f":"'aktuelle Zahlen'!J242","v":0},null," ",{"$f":"SUM(COUNTIF($C246:$H246,$AL$11:$AQ$11))","v":0}," ",{"$f":"SUM(COUNTIF($C246:$H246,$AS$11:$AX$11))","v":0}," ",{"$f":"SUM(COUNTIF($C246:$H246,$AZ$11:$BE$11))","v":0}," ",{"$f":"SUM(COUNTIF($C246:$H246,$BG$11:$BL$11))","v":0}," ",{"$f":"SUM(COUNTIF($C246:$H246,$BN$11:$BS$11))","v":0}," ",{"$f":"SUM(COUNTIF($C246:$H246,$BU$11:$BZ$11))","v":0}," ",{"$f":"SUM(COUNTIF($C246:$H246,$CB$11:$CG$11))","v":0}," ",{"$f":"SUM(COUNTIF($C246:$H246,$CI$11:$CN$11))","v":0}," ",{"$f":"SUM(COUNTIF($C246:$H246,$CP$11:$CU$11))","v":0}," ",{"$f":"SUM(COUNTIF($C246:$H246,$CW$11:$DB$11))","v":0}," ",{"$f":"SUM(COUNTIF($C246:$H246,$DD$11:$DI$11))","v":0}," ",{"$f":"SUM(COUNTIF($C246:$H246,$DK$11:$DP$11))","v":0}]
[{"$f":"'aktuelle Zahlen'!A243","v":0},{"$f":"'aktuelle Zahlen'!B243","v":"00:00:00"},{"$f":"'aktuelle Zahlen'!C243","v":0},{"$f":"'aktuelle Zahlen'!D243","v":0},{"$f":"'aktuelle Zahlen'!E243","v":0},{"$f":"'aktuelle Zahlen'!F243","v":0},{"$f":"'aktuelle Zahlen'!G243","v":0},{"$f":"'aktuelle Zahlen'!H243","v":0},{"$f":"'aktuelle Zahlen'!J243","v":0},null," ",{"$f":"SUM(COUNTIF($C247:$H247,$AL$11:$AQ$11))","v":0}," ",{"$f":"SUM(COUNTIF($C247:$H247,$AS$11:$AX$11))","v":0}," ",{"$f":"SUM(COUNTIF($C247:$H247,$AZ$11:$BE$11))","v":0}," ",{"$f":"SUM(COUNTIF($C247:$H247,$BG$11:$BL$11))","v":0}," ",{"$f":"SUM(COUNTIF($C247:$H247,$BN$11:$BS$11))","v":0}," ",{"$f":"SUM(COUNTIF($C247:$H247,$BU$11:$BZ$11))","v":0}," ",{"$f":"SUM(COUNTIF($C247:$H247,$CB$11:$CG$11))","v":0}," ",{"$f":"SUM(COUNTIF($C247:$H247,$CI$11:$CN$11))","v":0}," ",{"$f":"SUM(COUNTIF($C247:$H247,$CP$11:$CU$11))","v":0}," ",{"$f":"SUM(COUNTIF($C247:$H247,$CW$11:$DB$11))","v":0}," ",{"$f":"SUM(COUNTIF($C247:$H247,$DD$11:$DI$11))","v":0}," ",{"$f":"SUM(COUNTIF($C247:$H247,$DK$11:$DP$11))","v":0}]
[{"$f":"'aktuelle Zahlen'!A244","v":0},{"$f":"'aktuelle Zahlen'!B244","v":"00:00:00"},{"$f":"'aktuelle Zahlen'!C244","v":0},{"$f":"'aktuelle Zahlen'!D244","v":0},{"$f":"'aktuelle Zahlen'!E244","v":0},{"$f":"'aktuelle Zahlen'!F244","v":0},{"$f":"'aktuelle Zahlen'!G244","v":0},{"$f":"'aktuelle Zahlen'!H244","v":0},{"$f":"'aktuelle Zahlen'!J244","v":0},null," ",{"$f":"SUM(COUNTIF($C248:$H248,$AL$11:$AQ$11))","v":0}," ",{"$f":"SUM(COUNTIF($C248:$H248,$AS$11:$AX$11))","v":0}," ",{"$f":"SUM(COUNTIF($C248:$H248,$AZ$11:$BE$11))","v":0}," ",{"$f":"SUM(COUNTIF($C248:$H248,$BG$11:$BL$11))","v":0}," ",{"$f":"SUM(COUNTIF($C248:$H248,$BN$11:$BS$11))","v":0}," ",{"$f":"SUM(COUNTIF($C248:$H248,$BU$11:$BZ$11))","v":0}," ",{"$f":"SUM(COUNTIF($C248:$H248,$CB$11:$CG$11))","v":0}," ",{"$f":"SUM(COUNTIF($C248:$H248,$CI$11:$CN$11))","v":0}," ",{"$f":"SUM(COUNTIF($C248:$H248,$CP$11:$CU$11))","v":0}," ",{"$f":"SUM(COUNTIF($C248:$H248,$CW$11:$DB$11))","v":0}," ",{"$f":"SUM(COUNTIF($C248:$H248,$DD$11:$DI$11))","v":0}," ",{"$f":"SUM(COUNTIF($C248:$H248,$DK$11:$DP$11))","v":0}]
[{"$f":"'aktuelle Zahlen'!A245","v":0},{"$f":"'aktuelle Zahlen'!B245","v":"00:00:00"},{"$f":"'aktuelle Zahlen'!C245","v":0},{"$f":"'aktuelle Zahlen'!D245","v":0},{"$f":"'aktuelle Zahlen'!E245","v":0},{"$f":"'aktuelle Zahlen'!F245","v":0},{"$f":"'aktuelle Zahlen'!G245","v":0},{"$f":"'aktuelle Zahlen'!H245","v":0},{"$f":"'aktuelle Zahlen'!J245","v":0},null," ",{"$f":"SUM(COUNTIF($C249:$H249,$AL$11:$AQ$11))","v":0}," ",{"$f":"SUM(COUNTIF($C249:$H249,$AS$11:$AX$11))","v":0}," ",{"$f":"SUM(COUNTIF($C249:$H249,$AZ$11:$BE$11))","v":0}," ",{"$f":"SUM(COUNTIF($C249:$H249,$BG$11:$BL$11))","v":0}," ",{"$f":"SUM(COUNTIF($C249:$H249,$BN$11:$BS$11))","v":0}," ",{"$f":"SUM(COUNTIF($C249:$H249,$BU$11:$BZ$11))","v":0}," ",{"$f":"SUM(COUNTIF($C249:$H249,$CB$11:$CG$11))","v":0}," ",{"$f":"SUM(COUNTIF($C249:$H249,$CI$11:$CN$11))","v":0}," ",{"$f":"SUM(COUNTIF($C249:$H249,$CP$11:$CU$11))","v":0}," ",{"$f":"SUM(COUNTIF($C249:$H249,$CW$11:$DB$11))","v":0}," ",{"$f":"SUM(COUNTIF($C249:$H249,$DD$11:$DI$11))","v":0}," ",{"$f":"SUM(COUNTIF($C249:$H249,$DK$11:$DP$11))","v":0}]
[{"$f":"'aktuelle Zahlen'!A246","v":0},{"$f":"'aktuelle Zahlen'!B246","v":"00:00:00"},{"$f":"'aktuelle Zahlen'!C246","v":0},{"$f":"'aktuelle Zahlen'!D246","v":0},{"$f":"'aktuelle Zahlen'!E246","v":0},{"$f":"'aktuelle Zahlen'!F246","v":0},{"$f":"'aktuelle Zahlen'!G246","v":0},{"$f":"'aktuelle Zahlen'!H246","v":0},{"$f":"'aktuelle Zahlen'!J246","v":0},null," ",{"$f":"SUM(COUNTIF($C250:$H250,$AL$11:$AQ$11))","v":0}," ",{"$f":"SUM(COUNTIF($C250:$H250,$AS$11:$AX$11))","v":0}," ",{"$f":"SUM(COUNTIF($C250:$H250,$AZ$11:$BE$11))","v":0}," ",{"$f":"SUM(COUNTIF($C250:$H250,$BG$11:$BL$11))","v":0}," ",{"$f":"SUM(COUNTIF($C250:$H250,$BN$11:$BS$11))","v":0}," ",{"$f":"SUM(COUNTIF($C250:$H250,$BU$11:$BZ$11))","v":0}," ",{"$f":"SUM(COUNTIF($C250:$H250,$CB$11:$CG$11))","v":0}," ",{"$f":"SUM(COUNTIF($C250:$H250,$CI$11:$CN$11))","v":0}," ",{"$f":"SUM(COUNTIF($C250:$H250,$CP$11:$CU$11))","v":0}," ",{"$f":"SUM(COUNTIF($C250:$H250,$CW$11:$DB$11))","v":0}," ",{"$f":"SUM(COUNTIF($C250:$H250,$DD$11:$DI$11))","v":0}," ",{"$f":"SUM(COUNTIF($C250:$H250,$DK$11:$DP$11))","v":0}]
[{"$f":"'aktuelle Zahlen'!A247","v":0},{"$f":"'aktuelle Zahlen'!B247","v":"00:00:00"},{"$f":"'aktuelle Zahlen'!C247","v":0},{"$f":"'aktuelle Zahlen'!D247","v":0},{"$f":"'aktuelle Zahlen'!E247","v":0},{"$f":"'aktuelle Zahlen'!F247","v":0},{"$f":"'aktuelle Zahlen'!G247","v":0},{"$f":"'aktuelle Zahlen'!H247","v":0},{"$f":"'aktuelle Zahlen'!J247","v":0},null," ",{"$f":"SUM(COUNTIF($C251:$H251,$AL$11:$AQ$11))","v":0}," ",{"$f":"SUM(COUNTIF($C251:$H251,$AS$11:$AX$11))","v":0}," ",{"$f":"SUM(COUNTIF($C251:$H251,$AZ$11:$BE$11))","v":0}," ",{"$f":"SUM(COUNTIF($C251:$H251,$BG$11:$BL$11))","v":0}," ",{"$f":"SUM(COUNTIF($C251:$H251,$BN$11:$BS$11))","v":0}," ",{"$f":"SUM(COUNTIF($C251:$H251,$BU$11:$BZ$11))","v":0}," ",{"$f":"SUM(COUNTIF($C251:$H251,$CB$11:$CG$11))","v":0}," ",{"$f":"SUM(COUNTIF($C251:$H251,$CI$11:$CN$11))","v":0}," ",{"$f":"SUM(COUNTIF($C251:$H251,$CP$11:$CU$11))","v":0}," ",{"$f":"SUM(COUNTIF($C251:$H251,$CW$11:$DB$11))","v":0}," ",{"$f":"SUM(COUNTIF($C251:$H251,$DD$11:$DI$11))","v":0}," ",{"$f":"SUM(COUNTIF($C251:$H251,$DK$11:$DP$11))","v":0}]
[{"$f":"'aktuelle Zahlen'!A248","v":0},{"$f":"'aktuelle Zahlen'!B248","v":"00:00:00"},{"$f":"'aktuelle Zahlen'!C248","v":0},{"$f":"'aktuelle Zahlen'!D248","v":0},{"$f":"'aktuelle Zahlen'!E248","v":0},{"$f":"'aktuelle Zahlen'!F248","v":0},{"$f":"'aktuelle Zahlen'!G248","v":0},{"$f":"'aktuelle Zahlen'!H248","v":0},{"$f":"'aktuelle Zahlen'!J248","v":0},null," ",{"$f":"SUM(COUNTIF($C252:$H252,$AL$11:$AQ$11))","v":0}," ",{"$f":"SUM(COUNTIF($C252:$H252,$AS$11:$AX$11))","v":0}," ",{"$f":"SUM(COUNTIF($C252:$H252,$AZ$11:$BE$11))","v":0}," ",{"$f":"SUM(COUNTIF($C252:$H252,$BG$11:$BL$11))","v":0}," ",{"$f":"SUM(COUNTIF($C252:$H252,$BN$11:$BS$11))","v":0}," ",{"$f":"SUM(COUNTIF($C252:$H252,$BU$11:$BZ$11))","v":0}," ",{"$f":"SUM(COUNTIF($C252:$H252,$CB$11:$CG$11))","v":0}," ",{"$f":"SUM(COUNTIF($C252:$H252,$CI$11:$CN$11))","v":0}," ",{"$f":"SUM(COUNTIF($C252:$H252,$CP$11:$CU$11))","v":0}," ",{"$f":"SUM(COUNTIF($C252:$H252,$CW$11:$DB$11))","v":0}," ",{"$f":"SUM(COUNTIF($C252:$H252,$DD$11:$DI$11))","v":0}," ",{"$f":"SUM(COUNTIF($C252:$H252,$DK$11:$DP$11))","v":0}]
[{"$f":"'aktuelle Zahlen'!A249","v":0},{"$f":"'aktuelle Zahlen'!B249","v":"00:00:00"},{"$f":"'aktuelle Zahlen'!C249","v":0},{"$f":"'aktuelle Zahlen'!D249","v":0},{"$f":"'aktuelle Zahlen'!E249","v":0},{"$f":"'aktuelle Zahlen'!F249","v":0},{"$f":"'aktuelle Zahlen'!G249","v":0},{"$f":"'aktuelle Zahlen'!H249","v":0},{"$f":"'aktuelle Zahlen'!J249","v":0},null," ",{"$f":"SUM(COUNTIF($C253:$H253,$AL$11:$AQ$11))","v":0}," ",{"$f":"SUM(COUNTIF($C253:$H253,$AS$11:$AX$11))","v":0}," ",{"$f":"SUM(COUNTIF($C253:$H253,$AZ$11:$BE$11))","v":0}," ",{"$f":"SUM(COUNTIF($C253:$H253,$BG$11:$BL$11))","v":0}," ",{"$f":"SUM(COUNTIF($C253:$H253,$BN$11:$BS$11))","v":0}," ",{"$f":"SUM(COUNTIF($C253:$H253,$BU$11:$BZ$11))","v":0}," ",{"$f":"SUM(COUNTIF($C253:$H253,$CB$11:$CG$11))","v":0}," ",{"$f":"SUM(COUNTIF($C253:$H253,$CI$11:$CN$11))","v":0}," ",{"$f":"SUM(COUNTIF($C253:$H253,$CP$11:$CU$11))","v":0}," ",{"$f":"SUM(COUNTIF($C253:$H253,$CW$11:$DB$11))","v":0}," ",{"$f":"SUM(COUNTIF($C253:$H253,$DD$11:$DI$11))","v":0}," ",{"$f":"SUM(COUNTIF($C253:$H253,$DK$11:$DP$11))","v":0}]
[{"$f":"'aktuelle Zahlen'!A250","v":0},{"$f":"'aktuelle Zahlen'!B250","v":"00:00:00"},{"$f":"'aktuelle Zahlen'!C250","v":0},{"$f":"'aktuelle Zahlen'!D250","v":0},{"$f":"'aktuelle Zahlen'!E250","v":0},{"$f":"'aktuelle Zahlen'!F250","v":0},{"$f":"'aktuelle Zahlen'!G250","v":0},{"$f":"'aktuelle Zahlen'!H250","v":0},{"$f":"'aktuelle Zahlen'!J250","v":0},null," ",{"$f":"SUM(COUNTIF($C254:$H254,$AL$11:$AQ$11))","v":0}," ",{"$f":"SUM(COUNTIF($C254:$H254,$AS$11:$AX$11))","v":0}," ",{"$f":"SUM(COUNTIF($C254:$H254,$AZ$11:$BE$11))","v":0}," ",{"$f":"SUM(COUNTIF($C254:$H254,$BG$11:$BL$11))","v":0}," ",{"$f":"SUM(COUNTIF($C254:$H254,$BN$11:$BS$11))","v":0}," ",{"$f":"SUM(COUNTIF($C254:$H254,$BU$11:$BZ$11))","v":0}," ",{"$f":"SUM(COUNTIF($C254:$H254,$CB$11:$CG$11))","v":0}," ",{"$f":"SUM(COUNTIF($C254:$H254,$CI$11:$CN$11))","v":0}," ",{"$f":"SUM(COUNTIF($C254:$H254,$CP$11:$CU$11))","v":0}," ",{"$f":"SUM(COUNTIF($C254:$H254,$CW$11:$DB$11))","v":0}," ",{"$f":"SUM(COUNTIF($C254:$H254,$DD$11:$DI$11))","v":0}," ",{"$f":"SUM(COUNTIF($C254:$H254,$DK$11:$DP$11))","v":0}]
[{"$f":"'aktuelle Zahlen'!A251","v":0},{"$f":"'aktuelle Zahlen'!B251","v":"00:00:00"},{"$f":"'aktuelle Zahlen'!C251","v":0},{"$f":"'aktuelle Zahlen'!D251","v":0},{"$f":"'aktuelle Zahlen'!E251","v":0},{"$f":"'aktuelle Zahlen'!F251","v":0},{"$f":"'aktuelle Zahlen'!G251","v":0},{"$f":"'aktuelle Zahlen'!H251","v":0},{"$f":"'aktuelle Zahlen'!J251","v":0},null," ",{"$f":"SUM(COUNTIF($C255:$H255,$AL$11:$AQ$11))","v":0}," ",{"$f":"SUM(COUNTIF($C255:$H255,$AS$11:$AX$11))","v":0}," ",{"$f":"SUM(COUNTIF($C255:$H255,$AZ$11:$BE$11))","v":0}," ",{"$f":"SUM(COUNTIF($C255:$H255,$BG$11:$BL$11))","v":0}," ",{"$f":"SUM(COUNTIF($C255:$H255,$BN$11:$BS$11))","v":0}," ",{"$f":"SUM(COUNTIF($C255:$H255,$BU$11:$BZ$11))","v":0}," ",{"$f":"SUM(COUNTIF($C255:$H255,$CB$11:$CG$11))","v":0}," ",{"$f":"SUM(COUNTIF($C255:$H255,$CI$11:$CN$11))","v":0}," ",{"$f":"SUM(COUNTIF($C255:$H255,$CP$11:$CU$11))","v":0}," ",{"$f":"SUM(COUNTIF($C255:$H255,$CW$11:$DB$11))","v":0}," ",{"$f":"SUM(COUNTIF($C255:$H255,$DD$11:$DI$11))","v":0}," ",{"$f":"SUM(COUNTIF($C255:$H255,$DK$11:$DP$11))","v":0}]
[{"$f":"'aktuelle Zahlen'!A252","v":0},{"$f":"'aktuelle Zahlen'!B252","v":"00:00:00"},{"$f":"'aktuelle Zahlen'!C252","v":0},{"$f":"'aktuelle Zahlen'!D252","v":0},{"$f":"'aktuelle Zahlen'!E252","v":0},{"$f":"'aktuelle Zahlen'!F252","v":0},{"$f":"'aktuelle Zahlen'!G252","v":0},{"$f":"'aktuelle Zahlen'!H252","v":0},{"$f":"'aktuelle Zahlen'!J252","v":0},null," ",{"$f":"SUM(COUNTIF($C256:$H256,$AL$11:$AQ$11))","v":0}," ",{"$f":"SUM(COUNTIF($C256:$H256,$AS$11:$AX$11))","v":0}," ",{"$f":"SUM(COUNTIF($C256:$H256,$AZ$11:$BE$11))","v":0}," ",{"$f":"SUM(COUNTIF($C256:$H256,$BG$11:$BL$11))","v":0}," ",{"$f":"SUM(COUNTIF($C256:$H256,$BN$11:$BS$11))","v":0}," ",{"$f":"SUM(COUNTIF($C256:$H256,$BU$11:$BZ$11))","v":0}," ",{"$f":"SUM(COUNTIF($C256:$H256,$CB$11:$CG$11))","v":0}," ",{"$f":"SUM(COUNTIF($C256:$H256,$CI$11:$CN$11))","v":0}," ",{"$f":"SUM(COUNTIF($C256:$H256,$CP$11:$CU$11))","v":0}," ",{"$f":"SUM(COUNTIF($C256:$H256,$CW$11:$DB$11))","v":0}," ",{"$f":"SUM(COUNTIF($C256:$H256,$DD$11:$DI$11))","v":0}," ",{"$f":"SUM(COUNTIF($C256:$H256,$DK$11:$DP$11))","v":0}]
[{"$f":"'aktuelle Zahlen'!A253","v":0},{"$f":"'aktuelle Zahlen'!B253","v":"00:00:00"},{"$f":"'aktuelle Zahlen'!C253","v":0},{"$f":"'aktuelle Zahlen'!D253","v":0},{"$f":"'aktuelle Zahlen'!E253","v":0},{"$f":"'aktuelle Zahlen'!F253","v":0},{"$f":"'aktuelle Zahlen'!G253","v":0},{"$f":"'aktuelle Zahlen'!H253","v":0},{"$f":"'aktuelle Zahlen'!J253","v":0},null," ",{"$f":"SUM(COUNTIF($C257:$H257,$AL$11:$AQ$11))","v":0}," ",{"$f":"SUM(COUNTIF($C257:$H257,$AS$11:$AX$11))","v":0}," ",{"$f":"SUM(COUNTIF($C257:$H257,$AZ$11:$BE$11))","v":0}," ",{"$f":"SUM(COUNTIF($C257:$H257,$BG$11:$BL$11))","v":0}," ",{"$f":"SUM(COUNTIF($C257:$H257,$BN$11:$BS$11))","v":0}," ",{"$f":"SUM(COUNTIF($C257:$H257,$BU$11:$BZ$11))","v":0}," ",{"$f":"SUM(COUNTIF($C257:$H257,$CB$11:$CG$11))","v":0}," ",{"$f":"SUM(COUNTIF($C257:$H257,$CI$11:$CN$11))","v":0}," ",{"$f":"SUM(COUNTIF($C257:$H257,$CP$11:$CU$11))","v":0}," ",{"$f":"SUM(COUNTIF($C257:$H257,$CW$11:$DB$11))","v":0}," ",{"$f":"SUM(COUNTIF($C257:$H257,$DD$11:$DI$11))","v":0}," ",{"$f":"SUM(COUNTIF($C257:$H257,$DK$11:$DP$11))","v":0}]
[{"$f":"'aktuelle Zahlen'!A254","v":0},{"$f":"'aktuelle Zahlen'!B254","v":"00:00:00"},{"$f":"'aktuelle Zahlen'!C254","v":0},{"$f":"'aktuelle Zahlen'!D254","v":0},{"$f":"'aktuelle Zahlen'!E254","v":0},{"$f":"'aktuelle Zahlen'!F254","v":0},{"$f":"'aktuelle Zahlen'!G254","v":0},{"$f":"'aktuelle Zahlen'!H254","v":0},{"$f":"'aktuelle Zahlen'!J254","v":0},null," ",{"$f":"SUM(COUNTIF($C258:$H258,$AL$11:$AQ$11))","v":0}," ",{"$f":"SUM(COUNTIF($C258:$H258,$AS$11:$AX$11))","v":0}," ",{"$f":"SUM(COUNTIF($C258:$H258,$AZ$11:$BE$11))","v":0}," ",{"$f":"SUM(COUNTIF($C258:$H258,$BG$11:$BL$11))","v":0}," ",{"$f":"SUM(COUNTIF($C258:$H258,$BN$11:$BS$11))","v":0}," ",{"$f":"SUM(COUNTIF($C258:$H258,$BU$11:$BZ$11))","v":0}," ",{"$f":"SUM(COUNTIF($C258:$H258,$CB$11:$CG$11))","v":0}," ",{"$f":"SUM(COUNTIF($C258:$H258,$CI$11:$CN$11))","v":0}," ",{"$f":"SUM(COUNTIF($C258:$H258,$CP$11:$CU$11))","v":0}," ",{"$f":"SUM(COUNTIF($C258:$H258,$CW$11:$DB$11))","v":0}," ",{"$f":"SUM(COUNTIF($C258:$H258,$DD$11:$DI$11))","v":0}," ",{"$f":"SUM(COUNTIF($C258:$H258,$DK$11:$DP$11))","v":0}]
[{"$f":"'aktuelle Zahlen'!A255","v":0},{"$f":"'aktuelle Zahlen'!B255","v":"00:00:00"},{"$f":"'aktuelle Zahlen'!C255","v":0},{"$f":"'aktuelle Zahlen'!D255","v":0},{"$f":"'aktuelle Zahlen'!E255","v":0},{"$f":"'aktuelle Zahlen'!F255","v":0},{"$f":"'aktuelle Zahlen'!G255","v":0},{"$f":"'aktuelle Zahlen'!H255","v":0},{"$f":"'aktuelle Zahlen'!J255","v":0},null," ",{"$f":"SUM(COUNTIF($C259:$H259,$AL$11:$AQ$11))","v":0}," ",{"$f":"SUM(COUNTIF($C259:$H259,$AS$11:$AX$11))","v":0}," ",{"$f":"SUM(COUNTIF($C259:$H259,$AZ$11:$BE$11))","v":0}," ",{"$f":"SUM(COUNTIF($C259:$H259,$BG$11:$BL$11))","v":0}," ",{"$f":"SUM(COUNTIF($C259:$H259,$BN$11:$BS$11))","v":0}," ",{"$f":"SUM(COUNTIF($C259:$H259,$BU$11:$BZ$11))","v":0}," ",{"$f":"SUM(COUNTIF($C259:$H259,$CB$11:$CG$11))","v":0}," ",{"$f":"SUM(COUNTIF($C259:$H259,$CI$11:$CN$11))","v":0}," ",{"$f":"SUM(COUNTIF($C259:$H259,$CP$11:$CU$11))","v":0}," ",{"$f":"SUM(COUNTIF($C259:$H259,$CW$11:$DB$11))","v":0}," ",{"$f":"SUM(COUNTIF($C259:$H259,$DD$11:$DI$11))","v":0}," ",{"$f":"SUM(COUNTIF($C259:$H259,$DK$11:$DP$11))","v":0}]
[{"$f":"'aktuelle Zahlen'!A256","v":0},{"$f":"'aktuelle Zahlen'!B256","v":"00:00:00"},{"$f":"'aktuelle Zahlen'!C256","v":0},{"$f":"'aktuelle Zahlen'!D256","v":0},{"$f":"'aktuelle Zahlen'!E256","v":0},{"$f":"'aktuelle Zahlen'!F256","v":0},{"$f":"'aktuelle Zahlen'!G256","v":0},{"$f":"'aktuelle Zahlen'!H256","v":0},{"$f":"'aktuelle Zahlen'!J256","v":0},null," ",{"$f":"SUM(COUNTIF($C260:$H260,$AL$11:$AQ$11))","v":0}," ",{"$f":"SUM(COUNTIF($C260:$H260,$AS$11:$AX$11))","v":0}," ",{"$f":"SUM(COUNTIF($C260:$H260,$AZ$11:$BE$11))","v":0}," ",{"$f":"SUM(COUNTIF($C260:$H260,$BG$11:$BL$11))","v":0}," ",{"$f":"SUM(COUNTIF($C260:$H260,$BN$11:$BS$11))","v":0}," ",{"$f":"SUM(COUNTIF($C260:$H260,$BU$11:$BZ$11))","v":0}," ",{"$f":"SUM(COUNTIF($C260:$H260,$CB$11:$CG$11))","v":0}," ",{"$f":"SUM(COUNTIF($C260:$H260,$CI$11:$CN$11))","v":0}," ",{"$f":"SUM(COUNTIF($C260:$H260,$CP$11:$CU$11))","v":0}," ",{"$f":"SUM(COUNTIF($C260:$H260,$CW$11:$DB$11))","v":0}," ",{"$f":"SUM(COUNTIF($C260:$H260,$DD$11:$DI$11))","v":0}," ",{"$f":"SUM(COUNTIF($C260:$H260,$DK$11:$DP$11))","v":0}]
[{"$f":"'aktuelle Zahlen'!A257","v":0},{"$f":"'aktuelle Zahlen'!B257","v":"00:00:00"},{"$f":"'aktuelle Zahlen'!C257","v":0},{"$f":"'aktuelle Zahlen'!D257","v":0},{"$f":"'aktuelle Zahlen'!E257","v":0},{"$f":"'aktuelle Zahlen'!F257","v":0},{"$f":"'aktuelle Zahlen'!G257","v":0},{"$f":"'aktuelle Zahlen'!H257","v":0},{"$f":"'aktuelle Zahlen'!J257","v":0},null," ",{"$f":"SUM(COUNTIF($C261:$H261,$AL$11:$AQ$11))","v":0}," ",{"$f":"SUM(COUNTIF($C261:$H261,$AS$11:$AX$11))","v":0}," ",{"$f":"SUM(COUNTIF($C261:$H261,$AZ$11:$BE$11))","v":0}," ",{"$f":"SUM(COUNTIF($C261:$H261,$BG$11:$BL$11))","v":0}," ",{"$f":"SUM(COUNTIF($C261:$H261,$BN$11:$BS$11))","v":0}," ",{"$f":"SUM(COUNTIF($C261:$H261,$BU$11:$BZ$11))","v":0}," ",{"$f":"SUM(COUNTIF($C261:$H261,$CB$11:$CG$11))","v":0}," ",{"$f":"SUM(COUNTIF($C261:$H261,$CI$11:$CN$11))","v":0}," ",{"$f":"SUM(COUNTIF($C261:$H261,$CP$11:$CU$11))","v":0}," ",{"$f":"SUM(COUNTIF($C261:$H261,$CW$11:$DB$11))","v":0}," ",{"$f":"SUM(COUNTIF($C261:$H261,$DD$11:$DI$11))","v":0}," ",{"$f":"SUM(COUNTIF($C261:$H261,$DK$11:$DP$11))","v":0}]
[{"$f":"'aktuelle Zahlen'!A258","v":0},{"$f":"'aktuelle Zahlen'!B258","v":"00:00:00"},{"$f":"'aktuelle Zahlen'!C258","v":0},{"$f":"'aktuelle Zahlen'!D258","v":0},{"$f":"'aktuelle Zahlen'!E258","v":0},{"$f":"'aktuelle Zahlen'!F258","v":0},{"$f":"'aktuelle Zahlen'!G258","v":0},{"$f":"'aktuelle Zahlen'!H258","v":0},{"$f":"'aktuelle Zahlen'!J258","v":0},null," ",{"$f":"SUM(COUNTIF($C262:$H262,$AL$11:$AQ$11))","v":0}," ",{"$f":"SUM(COUNTIF($C262:$H262,$AS$11:$AX$11))","v":0}," ",{"$f":"SUM(COUNTIF($C262:$H262,$AZ$11:$BE$11))","v":0}," ",{"$f":"SUM(COUNTIF($C262:$H262,$BG$11:$BL$11))","v":0}," ",{"$f":"SUM(COUNTIF($C262:$H262,$BN$11:$BS$11))","v":0}," ",{"$f":"SUM(COUNTIF($C262:$H262,$BU$11:$BZ$11))","v":0}," ",{"$f":"SUM(COUNTIF($C262:$H262,$CB$11:$CG$11))","v":0}," ",{"$f":"SUM(COUNTIF($C262:$H262,$CI$11:$CN$11))","v":0}," ",{"$f":"SUM(COUNTIF($C262:$H262,$CP$11:$CU$11))","v":0}," ",{"$f":"SUM(COUNTIF($C262:$H262,$CW$11:$DB$11))","v":0}," ",{"$f":"SUM(COUNTIF($C262:$H262,$DD$11:$DI$11))","v":0}," ",{"$f":"SUM(COUNTIF($C262:$H262,$DK$11:$DP$11))","v":0}]
[{"$f":"'aktuelle Zahlen'!A259","v":0},{"$f":"'aktuelle Zahlen'!B259","v":"00:00:00"},{"$f":"'aktuelle Zahlen'!C259","v":0},{"$f":"'aktuelle Zahlen'!D259","v":0},{"$f":"'aktuelle Zahlen'!E259","v":0},{"$f":"'aktuelle Zahlen'!F259","v":0},{"$f":"'aktuelle Zahlen'!G259","v":0},{"$f":"'aktuelle Zahlen'!H259","v":0},{"$f":"'aktuelle Zahlen'!J259","v":0},null," ",{"$f":"SUM(COUNTIF($C263:$H263,$AL$11:$AQ$11))","v":0}," ",{"$f":"SUM(COUNTIF($C263:$H263,$AS$11:$AX$11))","v":0}," ",{"$f":"SUM(COUNTIF($C263:$H263,$AZ$11:$BE$11))","v":0}," ",{"$f":"SUM(COUNTIF($C263:$H263,$BG$11:$BL$11))","v":0}," ",{"$f":"SUM(COUNTIF($C263:$H263,$BN$11:$BS$11))","v":0}," ",{"$f":"SUM(COUNTIF($C263:$H263,$BU$11:$BZ$11))","v":0}," ",{"$f":"SUM(COUNTIF($C263:$H263,$CB$11:$CG$11))","v":0}," ",{"$f":"SUM(COUNTIF($C263:$H263,$CI$11:$CN$11))","v":0}," ",{"$f":"SUM(COUNTIF($C263:$H263,$CP$11:$CU$11))","v":0}," ",{"$f":"SUM(COUNTIF($C263:$H263,$CW$11:$DB$11))","v":0}," ",{"$f":"SUM(COUNTIF($C263:$H263,$DD$11:$DI$11))","v":0}," ",{"$f":"SUM(COUNTIF($C263:$H263,$DK$11:$DP$11))","v":0}]
[{"$f":"'aktuelle Zahlen'!A260","v":0},{"$f":"'aktuelle Zahlen'!B260","v":"00:00:00"},{"$f":"'aktuelle Zahlen'!C260","v":0},{"$f":"'aktuelle Zahlen'!D260","v":0},{"$f":"'aktuelle Zahlen'!E260","v":0},{"$f":"'aktuelle Zahlen'!F260","v":0},{"$f":"'aktuelle Zahlen'!G260","v":0},{"$f":"'aktuelle Zahlen'!H260","v":0},{"$f":"'aktuelle Zahlen'!J260","v":0},null," ",{"$f":"SUM(COUNTIF($C264:$H264,$AL$11:$AQ$11))","v":0}," ",{"$f":"SUM(COUNTIF($C264:$H264,$AS$11:$AX$11))","v":0}," ",{"$f":"SUM(COUNTIF($C264:$H264,$AZ$11:$BE$11))","v":0}," ",{"$f":"SUM(COUNTIF($C264:$H264,$BG$11:$BL$11))","v":0}," ",{"$f":"SUM(COUNTIF($C264:$H264,$BN$11:$BS$11))","v":0}," ",{"$f":"SUM(COUNTIF($C264:$H264,$BU$11:$BZ$11))","v":0}," ",{"$f":"SUM(COUNTIF($C264:$H264,$CB$11:$CG$11))","v":0}," ",{"$f":"SUM(COUNTIF($C264:$H264,$CI$11:$CN$11))","v":0}," ",{"$f":"SUM(COUNTIF($C264:$H264,$CP$11:$CU$11))","v":0}," ",{"$f":"SUM(COUNTIF($C264:$H264,$CW$11:$DB$11))","v":0}," ",{"$f":"SUM(COUNTIF($C264:$H264,$DD$11:$DI$11))","v":0}," ",{"$f":"SUM(COUNTIF($C264:$H264,$DK$11:$DP$11))","v":0}]
[{"$f":"'aktuelle Zahlen'!A261","v":0},{"$f":"'aktuelle Zahlen'!B261","v":"00:00:00"},{"$f":"'aktuelle Zahlen'!C261","v":0},{"$f":"'aktuelle Zahlen'!D261","v":0},{"$f":"'aktuelle Zahlen'!E261","v":0},{"$f":"'aktuelle Zahlen'!F261","v":0},{"$f":"'aktuelle Zahlen'!G261","v":0},{"$f":"'aktuelle Zahlen'!H261","v":0},{"$f":"'aktuelle Zahlen'!J261","v":0},null," ",{"$f":"SUM(COUNTIF($C265:$H265,$AL$11:$AQ$11))","v":0}," ",{"$f":"SUM(COUNTIF($C265:$H265,$AS$11:$AX$11))","v":0}," ",{"$f":"SUM(COUNTIF($C265:$H265,$AZ$11:$BE$11))","v":0}," ",{"$f":"SUM(COUNTIF($C265:$H265,$BG$11:$BL$11))","v":0}," ",{"$f":"SUM(COUNTIF($C265:$H265,$BN$11:$BS$11))","v":0}," ",{"$f":"SUM(COUNTIF($C265:$H265,$BU$11:$BZ$11))","v":0}," ",{"$f":"SUM(COUNTIF($C265:$H265,$CB$11:$CG$11))","v":0}," ",{"$f":"SUM(COUNTIF($C265:$H265,$CI$11:$CN$11))","v":0}," ",{"$f":"SUM(COUNTIF($C265:$H265,$CP$11:$CU$11))","v":0}," ",{"$f":"SUM(COUNTIF($C265:$H265,$CW$11:$DB$11))","v":0}," ",{"$f":"SUM(COUNTIF($C265:$H265,$DD$11:$DI$11))","v":0}," ",{"$f":"SUM(COUNTIF($C265:$H265,$DK$11:$DP$11))","v":0}]
[{"$f":"'aktuelle Zahlen'!A262","v":0},{"$f":"'aktuelle Zahlen'!B262","v":"00:00:00"},{"$f":"'aktuelle Zahlen'!C262","v":0},{"$f":"'aktuelle Zahlen'!D262","v":0},{"$f":"'aktuelle Zahlen'!E262","v":0},{"$f":"'aktuelle Zahlen'!F262","v":0},{"$f":"'aktuelle Zahlen'!G262","v":0},{"$f":"'aktuelle Zahlen'!H262","v":0},{"$f":"'aktuelle Zahlen'!J262","v":0},null," ",{"$f":"SUM(COUNTIF($C266:$H266,$AL$11:$AQ$11))","v":0}," ",{"$f":"SUM(COUNTIF($C266:$H266,$AS$11:$AX$11))","v":0}," ",{"$f":"SUM(COUNTIF($C266:$H266,$AZ$11:$BE$11))","v":0}," ",{"$f":"SUM(COUNTIF($C266:$H266,$BG$11:$BL$11))","v":0}," ",{"$f":"SUM(COUNTIF($C266:$H266,$BN$11:$BS$11))","v":0}," ",{"$f":"SUM(COUNTIF($C266:$H266,$BU$11:$BZ$11))","v":0}," ",{"$f":"SUM(COUNTIF($C266:$H266,$CB$11:$CG$11))","v":0}," ",{"$f":"SUM(COUNTIF($C266:$H266,$CI$11:$CN$11))","v":0}," ",{"$f":"SUM(COUNTIF($C266:$H266,$CP$11:$CU$11))","v":0}," ",{"$f":"SUM(COUNTIF($C266:$H266,$CW$11:$DB$11))","v":0}," ",{"$f":"SUM(COUNTIF($C266:$H266,$DD$11:$DI$11))","v":0}," ",{"$f":"SUM(COUNTIF($C266:$H266,$DK$11:$DP$11))","v":0}]
[{"$f":"'aktuelle Zahlen'!A263","v":0},{"$f":"'aktuelle Zahlen'!B263","v":"00:00:00"},{"$f":"'aktuelle Zahlen'!C263","v":0},{"$f":"'aktuelle Zahlen'!D263","v":0},{"$f":"'aktuelle Zahlen'!E263","v":0},{"$f":"'aktuelle Zahlen'!F263","v":0},{"$f":"'aktuelle Zahlen'!G263","v":0},{"$f":"'aktuelle Zahlen'!H263","v":0},{"$f":"'aktuelle Zahlen'!J263","v":0},null," ",{"$f":"SUM(COUNTIF($C267:$H267,$AL$11:$AQ$11))","v":0}," ",{"$f":"SUM(COUNTIF($C267:$H267,$AS$11:$AX$11))","v":0}," ",{"$f":"SUM(COUNTIF($C267:$H267,$AZ$11:$BE$11))","v":0}," ",{"$f":"SUM(COUNTIF($C267:$H267,$BG$11:$BL$11))","v":0}," ",{"$f":"SUM(COUNTIF($C267:$H267,$BN$11:$BS$11))","v":0}," ",{"$f":"SUM(COUNTIF($C267:$H267,$BU$11:$BZ$11))","v":0}," ",{"$f":"SUM(COUNTIF($C267:$H267,$CB$11:$CG$11))","v":0}," ",{"$f":"SUM(COUNTIF($C267:$H267,$CI$11:$CN$11))","v":0}," ",{"$f":"SUM(COUNTIF($C267:$H267,$CP$11:$CU$11))","v":0}," ",{"$f":"SUM(COUNTIF($C267:$H267,$CW$11:$DB$11))","v":0}," ",{"$f":"SUM(COUNTIF($C267:$H267,$DD$11:$DI$11))","v":0}," ",{"$f":"SUM(COUNTIF($C267:$H267,$DK$11:$DP$11))","v":0}]
[{"$f":"'aktuelle Zahlen'!A264","v":0},{"$f":"'aktuelle Zahlen'!B264","v":"00:00:00"},{"$f":"'aktuelle Zahlen'!C264","v":0},{"$f":"'aktuelle Zahlen'!D264","v":0},{"$f":"'aktuelle Zahlen'!E264","v":0},{"$f":"'aktuelle Zahlen'!F264","v":0},{"$f":"'aktuelle Zahlen'!G264","v":0},{"$f":"'aktuelle Zahlen'!H264","v":0},{"$f":"'aktuelle Zahlen'!J264","v":0},null," ",{"$f":"SUM(COUNTIF($C268:$H268,$AL$11:$AQ$11))","v":0}," ",{"$f":"SUM(COUNTIF($C268:$H268,$AS$11:$AX$11))","v":0}," ",{"$f":"SUM(COUNTIF($C268:$H268,$AZ$11:$BE$11))","v":0}," ",{"$f":"SUM(COUNTIF($C268:$H268,$BG$11:$BL$11))","v":0}," ",{"$f":"SUM(COUNTIF($C268:$H268,$BN$11:$BS$11))","v":0}," ",{"$f":"SUM(COUNTIF($C268:$H268,$BU$11:$BZ$11))","v":0}," ",{"$f":"SUM(COUNTIF($C268:$H268,$CB$11:$CG$11))","v":0}," ",{"$f":"SUM(COUNTIF($C268:$H268,$CI$11:$CN$11))","v":0}," ",{"$f":"SUM(COUNTIF($C268:$H268,$CP$11:$CU$11))","v":0}," ",{"$f":"SUM(COUNTIF($C268:$H268,$CW$11:$DB$11))","v":0}," ",{"$f":"SUM(COUNTIF($C268:$H268,$DD$11:$DI$11))","v":0}," ",{"$f":"SUM(COUNTIF($C268:$H268,$DK$11:$DP$11))","v":0}]
[{"$f":"'aktuelle Zahlen'!A265","v":0},{"$f":"'aktuelle Zahlen'!B265","v":"00:00:00"},{"$f":"'aktuelle Zahlen'!C265","v":0},{"$f":"'aktuelle Zahlen'!D265","v":0},{"$f":"'aktuelle Zahlen'!E265","v":0},{"$f":"'aktuelle Zahlen'!F265","v":0},{"$f":"'aktuelle Zahlen'!G265","v":0},{"$f":"'aktuelle Zahlen'!H265","v":0},{"$f":"'aktuelle Zahlen'!J265","v":0},null," ",{"$f":"SUM(COUNTIF($C269:$H269,$AL$11:$AQ$11))","v":0}," ",{"$f":"SUM(COUNTIF($C269:$H269,$AS$11:$AX$11))","v":0}," ",{"$f":"SUM(COUNTIF($C269:$H269,$AZ$11:$BE$11))","v":0}," ",{"$f":"SUM(COUNTIF($C269:$H269,$BG$11:$BL$11))","v":0}," ",{"$f":"SUM(COUNTIF($C269:$H269,$BN$11:$BS$11))","v":0}," ",{"$f":"SUM(COUNTIF($C269:$H269,$BU$11:$BZ$11))","v":0}," ",{"$f":"SUM(COUNTIF($C269:$H269,$CB$11:$CG$11))","v":0}," ",{"$f":"SUM(COUNTIF($C269:$H269,$CI$11:$CN$11))","v":0}," ",{"$f":"SUM(COUNTIF($C269:$H269,$CP$11:$CU$11))","v":0}," ",{"$f":"SUM(COUNTIF($C269:$H269,$CW$11:$DB$11))","v":0}," ",{"$f":"SUM(COUNTIF($C269:$H269,$DD$11:$DI$11))","v":0}," ",{"$f":"SUM(COUNTIF($C269:$H269,$DK$11:$DP$11))","v":0}]
[{"$f":"'aktuelle Zahlen'!A266","v":0},{"$f":"'aktuelle Zahlen'!B266","v":"00:00:00"},{"$f":"'aktuelle Zahlen'!C266","v":0},{"$f":"'aktuelle Zahlen'!D266","v":0},{"$f":"'aktuelle Zahlen'!E266","v":0},{"$f":"'aktuelle Zahlen'!F266","v":0},{"$f":"'aktuelle Zahlen'!G266","v":0},{"$f":"'aktuelle Zahlen'!H266","v":0},{"$f":"'aktuelle Zahlen'!J266","v":0},null," ",{"$f":"SUM(COUNTIF($C270:$H270,$AL$11:$AQ$11))","v":0}," ",{"$f":"SUM(COUNTIF($C270:$H270,$AS$11:$AX$11))","v":0}," ",{"$f":"SUM(COUNTIF($C270:$H270,$AZ$11:$BE$11))","v":0}," ",{"$f":"SUM(COUNTIF($C270:$H270,$BG$11:$BL$11))","v":0}," ",{"$f":"SUM(COUNTIF($C270:$H270,$BN$11:$BS$11))","v":0}," ",{"$f":"SUM(COUNTIF($C270:$H270,$BU$11:$BZ$11))","v":0}," ",{"$f":"SUM(COUNTIF($C270:$H270,$CB$11:$CG$11))","v":0}," ",{"$f":"SUM(COUNTIF($C270:$H270,$CI$11:$CN$11))","v":0}," ",{"$f":"SUM(COUNTIF($C270:$H270,$CP$11:$CU$11))","v":0}," ",{"$f":"SUM(COUNTIF($C270:$H270,$CW$11:$DB$11))","v":0}," ",{"$f":"SUM(COUNTIF($C270:$H270,$DD$11:$DI$11))","v":0}," ",{"$f":"SUM(COUNTIF($C270:$H270,$DK$11:$DP$11))","v":0}]
[{"$f":"'aktuelle Zahlen'!A267","v":0},{"$f":"'aktuelle Zahlen'!B267","v":"00:00:00"},{"$f":"'aktuelle Zahlen'!C267","v":0},{"$f":"'aktuelle Zahlen'!D267","v":0},{"$f":"'aktuelle Zahlen'!E267","v":0},{"$f":"'aktuelle Zahlen'!F267","v":0},{"$f":"'aktuelle Zahlen'!G267","v":0},{"$f":"'aktuelle Zahlen'!H267","v":0},{"$f":"'aktuelle Zahlen'!J267","v":0},null," ",{"$f":"SUM(COUNTIF($C271:$H271,$AL$11:$AQ$11))","v":0}," ",{"$f":"SUM(COUNTIF($C271:$H271,$AS$11:$AX$11))","v":0}," ",{"$f":"SUM(COUNTIF($C271:$H271,$AZ$11:$BE$11))","v":0}," ",{"$f":"SUM(COUNTIF($C271:$H271,$BG$11:$BL$11))","v":0}," ",{"$f":"SUM(COUNTIF($C271:$H271,$BN$11:$BS$11))","v":0}," ",{"$f":"SUM(COUNTIF($C271:$H271,$BU$11:$BZ$11))","v":0}," ",{"$f":"SUM(COUNTIF($C271:$H271,$CB$11:$CG$11))","v":0}," ",{"$f":"SUM(COUNTIF($C271:$H271,$CI$11:$CN$11))","v":0}," ",{"$f":"SUM(COUNTIF($C271:$H271,$CP$11:$CU$11))","v":0}," ",{"$f":"SUM(COUNTIF($C271:$H271,$CW$11:$DB$11))","v":0}," ",{"$f":"SUM(COUNTIF($C271:$H271,$DD$11:$DI$11))","v":0}," ",{"$f":"SUM(COUNTIF($C271:$H271,$DK$11:$DP$11))","v":0}]
[{"$f":"'aktuelle Zahlen'!A268","v":0},{"$f":"'aktuelle Zahlen'!B268","v":"00:00:00"},{"$f":"'aktuelle Zahlen'!C268","v":0},{"$f":"'aktuelle Zahlen'!D268","v":0},{"$f":"'aktuelle Zahlen'!E268","v":0},{"$f":"'aktuelle Zahlen'!F268","v":0},{"$f":"'aktuelle Zahlen'!G268","v":0},{"$f":"'aktuelle Zahlen'!H268","v":0},{"$f":"'aktuelle Zahlen'!J268","v":0},null," ",{"$f":"SUM(COUNTIF($C272:$H272,$AL$11:$AQ$11))","v":0}," ",{"$f":"SUM(COUNTIF($C272:$H272,$AS$11:$AX$11))","v":0}," ",{"$f":"SUM(COUNTIF($C272:$H272,$AZ$11:$BE$11))","v":0}," ",{"$f":"SUM(COUNTIF($C272:$H272,$BG$11:$BL$11))","v":0}," ",{"$f":"SUM(COUNTIF($C272:$H272,$BN$11:$BS$11))","v":0}," ",{"$f":"SUM(COUNTIF($C272:$H272,$BU$11:$BZ$11))","v":0}," ",{"$f":"SUM(COUNTIF($C272:$H272,$CB$11:$CG$11))","v":0}," ",{"$f":"SUM(COUNTIF($C272:$H272,$CI$11:$CN$11))","v":0}," ",{"$f":"SUM(COUNTIF($C272:$H272,$CP$11:$CU$11))","v":0}," ",{"$f":"SUM(COUNTIF($C272:$H272,$CW$11:$DB$11))","v":0}," ",{"$f":"SUM(COUNTIF($C272:$H272,$DD$11:$DI$11))","v":0}," ",{"$f":"SUM(COUNTIF($C272:$H272,$DK$11:$DP$11))","v":0}]
[{"$f":"'aktuelle Zahlen'!A269","v":0},{"$f":"'aktuelle Zahlen'!B269","v":"00:00:00"},{"$f":"'aktuelle Zahlen'!C269","v":0},{"$f":"'aktuelle Zahlen'!D269","v":0},{"$f":"'aktuelle Zahlen'!E269","v":0},{"$f":"'aktuelle Zahlen'!F269","v":0},{"$f":"'aktuelle Zahlen'!G269","v":0},{"$f":"'aktuelle Zahlen'!H269","v":0},{"$f":"'aktuelle Zahlen'!J269","v":0},null,{"$f":"IF(L273>1,(IF($I273=$AJ$11,L273 & \"Z\",L273)),\" \")","v":" "},{"$f":"SUM(COUNTIF($C273:$H273,$AL$11:$AQ$11))","v":0},{"$f":"IF(N273>1,(IF($I273=$AJ$11,N273 & \"Z\",N273)),\" \")","v":" "},{"$f":"SUM(COUNTIF($C273:$H273,$AS$11:$AX$11))","v":0},{"$f":"IF(P273>1,(IF($I273=$AJ$11,P273 & \"Z\",P273)),\" \")","v":" "},{"$f":"SUM(COUNTIF($C273:$H273,$AZ$11:$BE$11))","v":0},{"$f":"IF(R273>1,(IF($I273=$AJ$11,R273 & \"Z\",R273)),\" \")","v":" "},{"$f":"SUM(COUNTIF($C273:$H273,$BG$11:$BL$11))","v":0},{"$f":"IF(T273>1,(IF($I273=$AJ$11,T273 & \"Z\",T273)),\" \")","v":" "},{"$f":"SUM(COUNTIF($C273:$H273,$BN$11:$BS$11))","v":0},{"$f":"IF(V273>1,(IF($I273=$AJ$11,V273 & \"Z\",V273)),\" \")","v":" "},{"$f":"SUM(COUNTIF($C273:$H273,$BU$11:$BZ$11))","v":0},{"$f":"IF(X273>1,(IF($I273=$AJ$11,X273 & \"Z\",X273)),\" \")","v":" "},{"$f":"SUM(COUNTIF($C273:$H273,$CB$11:$CG$11))","v":0},{"$f":"IF(Z273>1,(IF($I273=$AJ$11,Z273 & \"Z\",Z273)),\" \")","v":" "},{"$f":"SUM(COUNTIF($C273:$H273,$CI$11:$CN$11))","v":0},{"$f":"IF(AB273>1,(IF($I273=$AJ$11,AB273 & \"Z\",AB273)),\" \")","v":" "},{"$f":"SUM(COUNTIF($C273:$H273,$CP$11:$CU$11))","v":0},{"$f":"IF(AD273>1,(IF($I273=$AJ$11,AD273 & \"Z\",AD273)),\" \")","v":" "},{"$f":"SUM(COUNTIF($C273:$H273,$CW$11:$DB$11))","v":0},{"$f":"IF(AF273>1,(IF($I273=$AJ$11,AF273 & \"Z\",AF273)),\" \")","v":" "},{"$f":"SUM(COUNTIF($C273:$H273,$DD$11:$DI$11))","v":0},{"$f":"IF(AH273>1,(IF($I273=$AJ$11,AH273 & \"Z\",AH273)),\" \")","v":" "},{"$f":"SUM(COUNTIF($C273:$H273,$DK$11:$DP$11))","v":0}]
[{"$f":"'aktuelle Zahlen'!A270","v":0},{"$f":"'aktuelle Zahlen'!B270","v":"00:00:00"},{"$f":"'aktuelle Zahlen'!C270","v":0},{"$f":"'aktuelle Zahlen'!D270","v":0},{"$f":"'aktuelle Zahlen'!E270","v":0},{"$f":"'aktuelle Zahlen'!F270","v":0},{"$f":"'aktuelle Zahlen'!G270","v":0},{"$f":"'aktuelle Zahlen'!H270","v":0},{"$f":"'aktuelle Zahlen'!J270","v":0},null," ",{"$f":"SUM(COUNTIF($C274:$H274,$AL$11:$AQ$11))","v":0}," ",{"$f":"SUM(COUNTIF($C274:$H274,$AS$11:$AX$11))","v":0}," ",{"$f":"SUM(COUNTIF($C274:$H274,$AZ$11:$BE$11))","v":0}," ",{"$f":"SUM(COUNTIF($C274:$H274,$BG$11:$BL$11))","v":0}," ",{"$f":"SUM(COUNTIF($C274:$H274,$BN$11:$BS$11))","v":0}," ",{"$f":"SUM(COUNTIF($C274:$H274,$BU$11:$BZ$11))","v":0}," ",{"$f":"SUM(COUNTIF($C274:$H274,$CB$11:$CG$11))","v":0}," ",{"$f":"SUM(COUNTIF($C274:$H274,$CI$11:$CN$11))","v":0}," ",{"$f":"SUM(COUNTIF($C274:$H274,$CP$11:$CU$11))","v":0}," ",{"$f":"SUM(COUNTIF($C274:$H274,$CW$11:$DB$11))","v":0}," ",{"$f":"SUM(COUNTIF($C274:$H274,$DD$11:$DI$11))","v":0}," ",{"$f":"SUM(COUNTIF($C274:$H274,$DK$11:$DP$11))","v":0}]
[{"$f":"'aktuelle Zahlen'!A271","v":0},{"$f":"'aktuelle Zahlen'!B271","v":"00:00:00"},{"$f":"'aktuelle Zahlen'!C271","v":0},{"$f":"'aktuelle Zahlen'!D271","v":0},{"$f":"'aktuelle Zahlen'!E271","v":0},{"$f":"'aktuelle Zahlen'!F271","v":0},{"$f":"'aktuelle Zahlen'!G271","v":0},{"$f":"'aktuelle Zahlen'!H271","v":0},{"$f":"'aktuelle Zahlen'!J271","v":0},null," ",{"$f":"SUM(COUNTIF($C275:$H275,$AL$11:$AQ$11))","v":0}," ",{"$f":"SUM(COUNTIF($C275:$H275,$AS$11:$AX$11))","v":0}," ",{"$f":"SUM(COUNTIF($C275:$H275,$AZ$11:$BE$11))","v":0}," ",{"$f":"SUM(COUNTIF($C275:$H275,$BG$11:$BL$11))","v":0}," ",{"$f":"SUM(COUNTIF($C275:$H275,$BN$11:$BS$11))","v":0}," ",{"$f":"SUM(COUNTIF($C275:$H275,$BU$11:$BZ$11))","v":0}," ",{"$f":"SUM(COUNTIF($C275:$H275,$CB$11:$CG$11))","v":0}," ",{"$f":"SUM(COUNTIF($C275:$H275,$CI$11:$CN$11))","v":0}," ",{"$f":"SUM(COUNTIF($C275:$H275,$CP$11:$CU$11))","v":0}," ",{"$f":"SUM(COUNTIF($C275:$H275,$CW$11:$DB$11))","v":0}," ",{"$f":"SUM(COUNTIF($C275:$H275,$DD$11:$DI$11))","v":0}," ",{"$f":"SUM(COUNTIF($C275:$H275,$DK$11:$DP$11))","v":0}]
[{"$f":"'aktuelle Zahlen'!A272","v":0},{"$f":"'aktuelle Zahlen'!B272","v":"00:00:00"},{"$f":"'aktuelle Zahlen'!C272","v":0},{"$f":"'aktuelle Zahlen'!D272","v":0},{"$f":"'aktuelle Zahlen'!E272","v":0},{"$f":"'aktuelle Zahlen'!F272","v":0},{"$f":"'aktuelle Zahlen'!G272","v":0},{"$f":"'aktuelle Zahlen'!H272","v":0},{"$f":"'aktuelle Zahlen'!J272","v":0},null," ",{"$f":"SUM(COUNTIF($C276:$H276,$AL$11:$AQ$11))","v":0}," ",{"$f":"SUM(COUNTIF($C276:$H276,$AS$11:$AX$11))","v":0}," ",{"$f":"SUM(COUNTIF($C276:$H276,$AZ$11:$BE$11))","v":0}," ",{"$f":"SUM(COUNTIF($C276:$H276,$BG$11:$BL$11))","v":0}," ",{"$f":"SUM(COUNTIF($C276:$H276,$BN$11:$BS$11))","v":0}," ",{"$f":"SUM(COUNTIF($C276:$H276,$BU$11:$BZ$11))","v":0}," ",{"$f":"SUM(COUNTIF($C276:$H276,$CB$11:$CG$11))","v":0}," ",{"$f":"SUM(COUNTIF($C276:$H276,$CI$11:$CN$11))","v":0}," ",{"$f":"SUM(COUNTIF($C276:$H276,$CP$11:$CU$11))","v":0}," ",{"$f":"SUM(COUNTIF($C276:$H276,$CW$11:$DB$11))","v":0}," ",{"$f":"SUM(COUNTIF($C276:$H276,$DD$11:$DI$11))","v":0}," ",{"$f":"SUM(COUNTIF($C276:$H276,$DK$11:$DP$11))","v":0}]
[{"$f":"'aktuelle Zahlen'!A273","v":0},{"$f":"'aktuelle Zahlen'!B273","v":"00:00:00"},{"$f":"'aktuelle Zahlen'!C273","v":0},{"$f":"'aktuelle Zahlen'!D273","v":0},{"$f":"'aktuelle Zahlen'!E273","v":0},{"$f":"'aktuelle Zahlen'!F273","v":0},{"$f":"'aktuelle Zahlen'!G273","v":0},{"$f":"'aktuelle Zahlen'!H273","v":0},{"$f":"'aktuelle Zahlen'!J273","v":0},null," ",{"$f":"SUM(COUNTIF($C277:$H277,$AL$11:$AQ$11))","v":0}," ",{"$f":"SUM(COUNTIF($C277:$H277,$AS$11:$AX$11))","v":0}," ",{"$f":"SUM(COUNTIF($C277:$H277,$AZ$11:$BE$11))","v":0}," ",{"$f":"SUM(COUNTIF($C277:$H277,$BG$11:$BL$11))","v":0}," ",{"$f":"SUM(COUNTIF($C277:$H277,$BN$11:$BS$11))","v":0}," ",{"$f":"SUM(COUNTIF($C277:$H277,$BU$11:$BZ$11))","v":0}," ",{"$f":"SUM(COUNTIF($C277:$H277,$CB$11:$CG$11))","v":0}," ",{"$f":"SUM(COUNTIF($C277:$H277,$CI$11:$CN$11))","v":0}," ",{"$f":"SUM(COUNTIF($C277:$H277,$CP$11:$CU$11))","v":0}," ",{"$f":"SUM(COUNTIF($C277:$H277,$CW$11:$DB$11))","v":0}," ",{"$f":"SUM(COUNTIF($C277:$H277,$DD$11:$DI$11))","v":0}," ",{"$f":"SUM(COUNTIF($C277:$H277,$DK$11:$DP$11))","v":0}]
[{"$f":"'aktuelle Zahlen'!A274","v":0},{"$f":"'aktuelle Zahlen'!B274","v":"00:00:00"},{"$f":"'aktuelle Zahlen'!C274","v":0},{"$f":"'aktuelle Zahlen'!D274","v":0},{"$f":"'aktuelle Zahlen'!E274","v":0},{"$f":"'aktuelle Zahlen'!F274","v":0},{"$f":"'aktuelle Zahlen'!G274","v":0},{"$f":"'aktuelle Zahlen'!H274","v":0},{"$f":"'aktuelle Zahlen'!J274","v":0},null," ",{"$f":"SUM(COUNTIF($C278:$H278,$AL$11:$AQ$11))","v":0}," ",{"$f":"SUM(COUNTIF($C278:$H278,$AS$11:$AX$11))","v":0}," ",{"$f":"SUM(COUNTIF($C278:$H278,$AZ$11:$BE$11))","v":0}," ",{"$f":"SUM(COUNTIF($C278:$H278,$BG$11:$BL$11))","v":0}," ",{"$f":"SUM(COUNTIF($C278:$H278,$BN$11:$BS$11))","v":0}," ",{"$f":"SUM(COUNTIF($C278:$H278,$BU$11:$BZ$11))","v":0}," ",{"$f":"SUM(COUNTIF($C278:$H278,$CB$11:$CG$11))","v":0}," ",{"$f":"SUM(COUNTIF($C278:$H278,$CI$11:$CN$11))","v":0}," ",{"$f":"SUM(COUNTIF($C278:$H278,$CP$11:$CU$11))","v":0}," ",{"$f":"SUM(COUNTIF($C278:$H278,$CW$11:$DB$11))","v":0}," ",{"$f":"SUM(COUNTIF($C278:$H278,$DD$11:$DI$11))","v":0}," ",{"$f":"SUM(COUNTIF($C278:$H278,$DK$11:$DP$11))","v":0}]
[{"$f":"'aktuelle Zahlen'!A275","v":0},{"$f":"'aktuelle Zahlen'!B275","v":"00:00:00"},{"$f":"'aktuelle Zahlen'!C275","v":0},{"$f":"'aktuelle Zahlen'!D275","v":0},{"$f":"'aktuelle Zahlen'!E275","v":0},{"$f":"'aktuelle Zahlen'!F275","v":0},{"$f":"'aktuelle Zahlen'!G275","v":0},{"$f":"'aktuelle Zahlen'!H275","v":0},{"$f":"'aktuelle Zahlen'!J275","v":0},null," ",{"$f":"SUM(COUNTIF($C279:$H279,$AL$11:$AQ$11))","v":0}," ",{"$f":"SUM(COUNTIF($C279:$H279,$AS$11:$AX$11))","v":0}," ",{"$f":"SUM(COUNTIF($C279:$H279,$AZ$11:$BE$11))","v":0}," ",{"$f":"SUM(COUNTIF($C279:$H279,$BG$11:$BL$11))","v":0}," ",{"$f":"SUM(COUNTIF($C279:$H279,$BN$11:$BS$11))","v":0}," ",{"$f":"SUM(COUNTIF($C279:$H279,$BU$11:$BZ$11))","v":0}," ",{"$f":"SUM(COUNTIF($C279:$H279,$CB$11:$CG$11))","v":0}," ",{"$f":"SUM(COUNTIF($C279:$H279,$CI$11:$CN$11))","v":0}," ",{"$f":"SUM(COUNTIF($C279:$H279,$CP$11:$CU$11))","v":0}," ",{"$f":"SUM(COUNTIF($C279:$H279,$CW$11:$DB$11))","v":0}," ",{"$f":"SUM(COUNTIF($C279:$H279,$DD$11:$DI$11))","v":0}," ",{"$f":"SUM(COUNTIF($C279:$H279,$DK$11:$DP$11))","v":0}]
[{"$f":"'aktuelle Zahlen'!A276","v":0},{"$f":"'aktuelle Zahlen'!B276","v":"00:00:00"},{"$f":"'aktuelle Zahlen'!C276","v":0},{"$f":"'aktuelle Zahlen'!D276","v":0},{"$f":"'aktuelle Zahlen'!E276","v":0},{"$f":"'aktuelle Zahlen'!F276","v":0},{"$f":"'aktuelle Zahlen'!G276","v":0},{"$f":"'aktuelle Zahlen'!H276","v":0},{"$f":"'aktuelle Zahlen'!J276","v":0},null," ",{"$f":"SUM(COUNTIF($C280:$H280,$AL$11:$AQ$11))","v":0}," ",{"$f":"SUM(COUNTIF($C280:$H280,$AS$11:$AX$11))","v":0}," ",{"$f":"SUM(COUNTIF($C280:$H280,$AZ$11:$BE$11))","v":0}," ",{"$f":"SUM(COUNTIF($C280:$H280,$BG$11:$BL$11))","v":0}," ",{"$f":"SUM(COUNTIF($C280:$H280,$BN$11:$BS$11))","v":0}," ",{"$f":"SUM(COUNTIF($C280:$H280,$BU$11:$BZ$11))","v":0}," ",{"$f":"SUM(COUNTIF($C280:$H280,$CB$11:$CG$11))","v":0}," ",{"$f":"SUM(COUNTIF($C280:$H280,$CI$11:$CN$11))","v":0}," ",{"$f":"SUM(COUNTIF($C280:$H280,$CP$11:$CU$11))","v":0}," ",{"$f":"SUM(COUNTIF($C280:$H280,$CW$11:$DB$11))","v":0}," ",{"$f":"SUM(COUNTIF($C280:$H280,$DD$11:$DI$11))","v":0}," ",{"$f":"SUM(COUNTIF($C280:$H280,$DK$11:$DP$11))","v":0}]
[{"$f":"'aktuelle Zahlen'!A277","v":0},{"$f":"'aktuelle Zahlen'!B277","v":"00:00:00"},{"$f":"'aktuelle Zahlen'!C277","v":0},{"$f":"'aktuelle Zahlen'!D277","v":0},{"$f":"'aktuelle Zahlen'!E277","v":0},{"$f":"'aktuelle Zahlen'!F277","v":0},{"$f":"'aktuelle Zahlen'!G277","v":0},{"$f":"'aktuelle Zahlen'!H277","v":0},{"$f":"'aktuelle Zahlen'!J277","v":0},null," ",{"$f":"SUM(COUNTIF($C281:$H281,$AL$11:$AQ$11))","v":0}," ",{"$f":"SUM(COUNTIF($C281:$H281,$AS$11:$AX$11))","v":0}," ",{"$f":"SUM(COUNTIF($C281:$H281,$AZ$11:$BE$11))","v":0}," ",{"$f":"SUM(COUNTIF($C281:$H281,$BG$11:$BL$11))","v":0}," ",{"$f":"SUM(COUNTIF($C281:$H281,$BN$11:$BS$11))","v":0}," ",{"$f":"SUM(COUNTIF($C281:$H281,$BU$11:$BZ$11))","v":0}," ",{"$f":"SUM(COUNTIF($C281:$H281,$CB$11:$CG$11))","v":0}," ",{"$f":"SUM(COUNTIF($C281:$H281,$CI$11:$CN$11))","v":0}," ",{"$f":"SUM(COUNTIF($C281:$H281,$CP$11:$CU$11))","v":0}," ",{"$f":"SUM(COUNTIF($C281:$H281,$CW$11:$DB$11))","v":0}," ",{"$f":"SUM(COUNTIF($C281:$H281,$DD$11:$DI$11))","v":0}," ",{"$f":"SUM(COUNTIF($C281:$H281,$DK$11:$DP$11))","v":0}]
[{"$f":"'aktuelle Zahlen'!A278","v":0},{"$f":"'aktuelle Zahlen'!B278","v":"00:00:00"},{"$f":"'aktuelle Zahlen'!C278","v":0},{"$f":"'aktuelle Zahlen'!D278","v":0},{"$f":"'aktuelle Zahlen'!E278","v":0},{"$f":"'aktuelle Zahlen'!F278","v":0},{"$f":"'aktuelle Zahlen'!G278","v":0},{"$f":"'aktuelle Zahlen'!H278","v":0},{"$f":"'aktuelle Zahlen'!J278","v":0},null," ",{"$f":"SUM(COUNTIF($C282:$H282,$AL$11:$AQ$11))","v":0}," ",{"$f":"SUM(COUNTIF($C282:$H282,$AS$11:$AX$11))","v":0}," ",{"$f":"SUM(COUNTIF($C282:$H282,$AZ$11:$BE$11))","v":0}," ",{"$f":"SUM(COUNTIF($C282:$H282,$BG$11:$BL$11))","v":0}," ",{"$f":"SUM(COUNTIF($C282:$H282,$BN$11:$BS$11))","v":0}," ",{"$f":"SUM(COUNTIF($C282:$H282,$BU$11:$BZ$11))","v":0}," ",{"$f":"SUM(COUNTIF($C282:$H282,$CB$11:$CG$11))","v":0}," ",{"$f":"SUM(COUNTIF($C282:$H282,$CI$11:$CN$11))","v":0}," ",{"$f":"SUM(COUNTIF($C282:$H282,$CP$11:$CU$11))","v":0}," ",{"$f":"SUM(COUNTIF($C282:$H282,$CW$11:$DB$11))","v":0}," ",{"$f":"SUM(COUNTIF($C282:$H282,$DD$11:$DI$11))","v":0}," ",{"$f":"SUM(COUNTIF($C282:$H282,$DK$11:$DP$11))","v":0}]
[{"$f":"'aktuelle Zahlen'!A279","v":0},{"$f":"'aktuelle Zahlen'!B279","v":"00:00:00"},{"$f":"'aktuelle Zahlen'!C279","v":0},{"$f":"'aktuelle Zahlen'!D279","v":0},{"$f":"'aktuelle Zahlen'!E279","v":0},{"$f":"'aktuelle Zahlen'!F279","v":0},{"$f":"'aktuelle Zahlen'!G279","v":0},{"$f":"'aktuelle Zahlen'!H279","v":0},{"$f":"'aktuelle Zahlen'!J279","v":0},null," ",{"$f":"SUM(COUNTIF($C283:$H283,$AL$11:$AQ$11))","v":0}," ",{"$f":"SUM(COUNTIF($C283:$H283,$AS$11:$AX$11))","v":0}," ",{"$f":"SUM(COUNTIF($C283:$H283,$AZ$11:$BE$11))","v":0}," ",{"$f":"SUM(COUNTIF($C283:$H283,$BG$11:$BL$11))","v":0}," ",{"$f":"SUM(COUNTIF($C283:$H283,$BN$11:$BS$11))","v":0}," ",{"$f":"SUM(COUNTIF($C283:$H283,$BU$11:$BZ$11))","v":0}," ",{"$f":"SUM(COUNTIF($C283:$H283,$CB$11:$CG$11))","v":0}," ",{"$f":"SUM(COUNTIF($C283:$H283,$CI$11:$CN$11))","v":0}," ",{"$f":"SUM(COUNTIF($C283:$H283,$CP$11:$CU$11))","v":0}," ",{"$f":"SUM(COUNTIF($C283:$H283,$CW$11:$DB$11))","v":0}," ",{"$f":"SUM(COUNTIF($C283:$H283,$DD$11:$DI$11))","v":0}," ",{"$f":"SUM(COUNTIF($C283:$H283,$DK$11:$DP$11))","v":0}]
[{"$f":"'aktuelle Zahlen'!A280","v":0},{"$f":"'aktuelle Zahlen'!B280","v":"00:00:00"},{"$f":"'aktuelle Zahlen'!C280","v":0},{"$f":"'aktuelle Zahlen'!D280","v":0},{"$f":"'aktuelle Zahlen'!E280","v":0},{"$f":"'aktuelle Zahlen'!F280","v":0},{"$f":"'aktuelle Zahlen'!G280","v":0},{"$f":"'aktuelle Zahlen'!H280","v":0},{"$f":"'aktuelle Zahlen'!J280","v":0},null," ",{"$f":"SUM(COUNTIF($C284:$H284,$AL$11:$AQ$11))","v":0}," ",{"$f":"SUM(COUNTIF($C284:$H284,$AS$11:$AX$11))","v":0}," ",{"$f":"SUM(COUNTIF($C284:$H284,$AZ$11:$BE$11))","v":0}," ",{"$f":"SUM(COUNTIF($C284:$H284,$BG$11:$BL$11))","v":0}," ",{"$f":"SUM(COUNTIF($C284:$H284,$BN$11:$BS$11))","v":0}," ",{"$f":"SUM(COUNTIF($C284:$H284,$BU$11:$BZ$11))","v":0}," ",{"$f":"SUM(COUNTIF($C284:$H284,$CB$11:$CG$11))","v":0}," ",{"$f":"SUM(COUNTIF($C284:$H284,$CI$11:$CN$11))","v":0}," ",{"$f":"SUM(COUNTIF($C284:$H284,$CP$11:$CU$11))","v":0}," ",{"$f":"SUM(COUNTIF($C284:$H284,$CW$11:$DB$11))","v":0}," ",{"$f":"SUM(COUNTIF($C284:$H284,$DD$11:$DI$11))","v":0}," ",{"$f":"SUM(COUNTIF($C284:$H284,$DK$11:$DP$11))","v":0}]
[{"$f":"'aktuelle Zahlen'!A281","v":0},{"$f":"'aktuelle Zahlen'!B281","v":"00:00:00"},{"$f":"'aktuelle Zahlen'!C281","v":0},{"$f":"'aktuelle Zahlen'!D281","v":0},{"$f":"'aktuelle Zahlen'!E281","v":0},{"$f":"'aktuelle Zahlen'!F281","v":0},{"$f":"'aktuelle Zahlen'!G281","v":0},{"$f":"'aktuelle Zahlen'!H281","v":0},{"$f":"'aktuelle Zahlen'!J281","v":0},null," ",{"$f":"SUM(COUNTIF($C285:$H285,$AL$11:$AQ$11))","v":0}," ",{"$f":"SUM(COUNTIF($C285:$H285,$AS$11:$AX$11))","v":0}," ",{"$f":"SUM(COUNTIF($C285:$H285,$AZ$11:$BE$11))","v":0}," ",{"$f":"SUM(COUNTIF($C285:$H285,$BG$11:$BL$11))","v":0}," ",{"$f":"SUM(COUNTIF($C285:$H285,$BN$11:$BS$11))","v":0}," ",{"$f":"SUM(COUNTIF($C285:$H285,$BU$11:$BZ$11))","v":0}," ",{"$f":"SUM(COUNTIF($C285:$H285,$CB$11:$CG$11))","v":0}," ",{"$f":"SUM(COUNTIF($C285:$H285,$CI$11:$CN$11))","v":0}," ",{"$f":"SUM(COUNTIF($C285:$H285,$CP$11:$CU$11))","v":0}," ",{"$f":"SUM(COUNTIF($C285:$H285,$CW$11:$DB$11))","v":0}," ",{"$f":"SUM(COUNTIF($C285:$H285,$DD$11:$DI$11))","v":0}," ",{"$f":"SUM(COUNTIF($C285:$H285,$DK$11:$DP$11))","v":0}]
[{"$f":"'aktuelle Zahlen'!A282","v":0},{"$f":"'aktuelle Zahlen'!B282","v":"00:00:00"},{"$f":"'aktuelle Zahlen'!C282","v":0},{"$f":"'aktuelle Zahlen'!D282","v":0},{"$f":"'aktuelle Zahlen'!E282","v":0},{"$f":"'aktuelle Zahlen'!F282","v":0},{"$f":"'aktuelle Zahlen'!G282","v":0},{"$f":"'aktuelle Zahlen'!H282","v":0},{"$f":"'aktuelle Zahlen'!J282","v":0},null," ",{"$f":"SUM(COUNTIF($C286:$H286,$AL$11:$AQ$11))","v":0}," ",{"$f":"SUM(COUNTIF($C286:$H286,$AS$11:$AX$11))","v":0}," ",{"$f":"SUM(COUNTIF($C286:$H286,$AZ$11:$BE$11))","v":0}," ",{"$f":"SUM(COUNTIF($C286:$H286,$BG$11:$BL$11))","v":0}," ",{"$f":"SUM(COUNTIF($C286:$H286,$BN$11:$BS$11))","v":0}," ",{"$f":"SUM(COUNTIF($C286:$H286,$BU$11:$BZ$11))","v":0}," ",{"$f":"SUM(COUNTIF($C286:$H286,$CB$11:$CG$11))","v":0}," ",{"$f":"SUM(COUNTIF($C286:$H286,$CI$11:$CN$11))","v":0}," ",{"$f":"SUM(COUNTIF($C286:$H286,$CP$11:$CU$11))","v":0}," ",{"$f":"SUM(COUNTIF($C286:$H286,$CW$11:$DB$11))","v":0}," ",{"$f":"SUM(COUNTIF($C286:$H286,$DD$11:$DI$11))","v":0}," ",{"$f":"SUM(COUNTIF($C286:$H286,$DK$11:$DP$11))","v":0}]
[{"$f":"'aktuelle Zahlen'!A283","v":0},{"$f":"'aktuelle Zahlen'!B283","v":"00:00:00"},{"$f":"'aktuelle Zahlen'!C283","v":0},{"$f":"'aktuelle Zahlen'!D283","v":0},{"$f":"'aktuelle Zahlen'!E283","v":0},{"$f":"'aktuelle Zahlen'!F283","v":0},{"$f":"'aktuelle Zahlen'!G283","v":0},{"$f":"'aktuelle Zahlen'!H283","v":0},{"$f":"'aktuelle Zahlen'!J283","v":0},null," ",{"$f":"SUM(COUNTIF($C287:$H287,$AL$11:$AQ$11))","v":0}," ",{"$f":"SUM(COUNTIF($C287:$H287,$AS$11:$AX$11))","v":0}," ",{"$f":"SUM(COUNTIF($C287:$H287,$AZ$11:$BE$11))","v":0}," ",{"$f":"SUM(COUNTIF($C287:$H287,$BG$11:$BL$11))","v":0}," ",{"$f":"SUM(COUNTIF($C287:$H287,$BN$11:$BS$11))","v":0}," ",{"$f":"SUM(COUNTIF($C287:$H287,$BU$11:$BZ$11))","v":0}," ",{"$f":"SUM(COUNTIF($C287:$H287,$CB$11:$CG$11))","v":0}," ",{"$f":"SUM(COUNTIF($C287:$H287,$CI$11:$CN$11))","v":0}," ",{"$f":"SUM(COUNTIF($C287:$H287,$CP$11:$CU$11))","v":0}," ",{"$f":"SUM(COUNTIF($C287:$H287,$CW$11:$DB$11))","v":0}," ",{"$f":"SUM(COUNTIF($C287:$H287,$DD$11:$DI$11))","v":0}," ",{"$f":"SUM(COUNTIF($C287:$H287,$DK$11:$DP$11))","v":0}]
[{"$f":"'aktuelle Zahlen'!A284","v":0},{"$f":"'aktuelle Zahlen'!B284","v":"00:00:00"},{"$f":"'aktuelle Zahlen'!C284","v":0},{"$f":"'aktuelle Zahlen'!D284","v":0},{"$f":"'aktuelle Zahlen'!E284","v":0},{"$f":"'aktuelle Zahlen'!F284","v":0},{"$f":"'aktuelle Zahlen'!G284","v":0},{"$f":"'aktuelle Zahlen'!H284","v":0},{"$f":"'aktuelle Zahlen'!J284","v":0},null," ",{"$f":"SUM(COUNTIF($C288:$H288,$AL$11:$AQ$11))","v":0}," ",{"$f":"SUM(COUNTIF($C288:$H288,$AS$11:$AX$11))","v":0}," ",{"$f":"SUM(COUNTIF($C288:$H288,$AZ$11:$BE$11))","v":0}," ",{"$f":"SUM(COUNTIF($C288:$H288,$BG$11:$BL$11))","v":0}," ",{"$f":"SUM(COUNTIF($C288:$H288,$BN$11:$BS$11))","v":0}," ",{"$f":"SUM(COUNTIF($C288:$H288,$BU$11:$BZ$11))","v":0}," ",{"$f":"SUM(COUNTIF($C288:$H288,$CB$11:$CG$11))","v":0}," ",{"$f":"SUM(COUNTIF($C288:$H288,$CI$11:$CN$11))","v":0}," ",{"$f":"SUM(COUNTIF($C288:$H288,$CP$11:$CU$11))","v":0}," ",{"$f":"SUM(COUNTIF($C288:$H288,$CW$11:$DB$11))","v":0}," ",{"$f":"SUM(COUNTIF($C288:$H288,$DD$11:$DI$11))","v":0}," ",{"$f":"SUM(COUNTIF($C288:$H288,$DK$11:$DP$11))","v":0}]
[{"$f":"'aktuelle Zahlen'!A285","v":0},{"$f":"'aktuelle Zahlen'!B285","v":"00:00:00"},{"$f":"'aktuelle Zahlen'!C285","v":0},{"$f":"'aktuelle Zahlen'!D285","v":0},{"$f":"'aktuelle Zahlen'!E285","v":0},{"$f":"'aktuelle Zahlen'!F285","v":0},{"$f":"'aktuelle Zahlen'!G285","v":0},{"$f":"'aktuelle Zahlen'!H285","v":0},{"$f":"'aktuelle Zahlen'!J285","v":0},null," ",{"$f":"SUM(COUNTIF($C289:$H289,$AL$11:$AQ$11))","v":0}," ",{"$f":"SUM(COUNTIF($C289:$H289,$AS$11:$AX$11))","v":0}," ",{"$f":"SUM(COUNTIF($C289:$H289,$AZ$11:$BE$11))","v":0}," ",{"$f":"SUM(COUNTIF($C289:$H289,$BG$11:$BL$11))","v":0}," ",{"$f":"SUM(COUNTIF($C289:$H289,$BN$11:$BS$11))","v":0}," ",{"$f":"SUM(COUNTIF($C289:$H289,$BU$11:$BZ$11))","v":0}," ",{"$f":"SUM(COUNTIF($C289:$H289,$CB$11:$CG$11))","v":0}," ",{"$f":"SUM(COUNTIF($C289:$H289,$CI$11:$CN$11))","v":0}," ",{"$f":"SUM(COUNTIF($C289:$H289,$CP$11:$CU$11))","v":0}," ",{"$f":"SUM(COUNTIF($C289:$H289,$CW$11:$DB$11))","v":0}," ",{"$f":"SUM(COUNTIF($C289:$H289,$DD$11:$DI$11))","v":0}," ",{"$f":"SUM(COUNTIF($C289:$H289,$DK$11:$DP$11))","v":0}]
[{"$f":"'aktuelle Zahlen'!A286","v":0},{"$f":"'aktuelle Zahlen'!B286","v":"00:00:00"},{"$f":"'aktuelle Zahlen'!C286","v":0},{"$f":"'aktuelle Zahlen'!D286","v":0},{"$f":"'aktuelle Zahlen'!E286","v":0},{"$f":"'aktuelle Zahlen'!F286","v":0},{"$f":"'aktuelle Zahlen'!G286","v":0},{"$f":"'aktuelle Zahlen'!H286","v":0},{"$f":"'aktuelle Zahlen'!J286","v":0},null," ",{"$f":"SUM(COUNTIF($C290:$H290,$AL$11:$AQ$11))","v":0}," ",{"$f":"SUM(COUNTIF($C290:$H290,$AS$11:$AX$11))","v":0}," ",{"$f":"SUM(COUNTIF($C290:$H290,$AZ$11:$BE$11))","v":0}," ",{"$f":"SUM(COUNTIF($C290:$H290,$BG$11:$BL$11))","v":0}," ",{"$f":"SUM(COUNTIF($C290:$H290,$BN$11:$BS$11))","v":0}," ",{"$f":"SUM(COUNTIF($C290:$H290,$BU$11:$BZ$11))","v":0}," ",{"$f":"SUM(COUNTIF($C290:$H290,$CB$11:$CG$11))","v":0}," ",{"$f":"SUM(COUNTIF($C290:$H290,$CI$11:$CN$11))","v":0}," ",{"$f":"SUM(COUNTIF($C290:$H290,$CP$11:$CU$11))","v":0}," ",{"$f":"SUM(COUNTIF($C290:$H290,$CW$11:$DB$11))","v":0}," ",{"$f":"SUM(COUNTIF($C290:$H290,$DD$11:$DI$11))","v":0}," ",{"$f":"SUM(COUNTIF($C290:$H290,$DK$11:$DP$11))","v":0}]
[{"$f":"'aktuelle Zahlen'!A287","v":0},{"$f":"'aktuelle Zahlen'!B287","v":"00:00:00"},{"$f":"'aktuelle Zahlen'!C287","v":0},{"$f":"'aktuelle Zahlen'!D287","v":0},{"$f":"'aktuelle Zahlen'!E287","v":0},{"$f":"'aktuelle Zahlen'!F287","v":0},{"$f":"'aktuelle Zahlen'!G287","v":0},{"$f":"'aktuelle Zahlen'!H287","v":0},{"$f":"'aktuelle Zahlen'!J287","v":0},null," ",{"$f":"SUM(COUNTIF($C291:$H291,$AL$11:$AQ$11))","v":0}," ",{"$f":"SUM(COUNTIF($C291:$H291,$AS$11:$AX$11))","v":0}," ",{"$f":"SUM(COUNTIF($C291:$H291,$AZ$11:$BE$11))","v":0}," ",{"$f":"SUM(COUNTIF($C291:$H291,$BG$11:$BL$11))","v":0}," ",{"$f":"SUM(COUNTIF($C291:$H291,$BN$11:$BS$11))","v":0}," ",{"$f":"SUM(COUNTIF($C291:$H291,$BU$11:$BZ$11))","v":0}," ",{"$f":"SUM(COUNTIF($C291:$H291,$CB$11:$CG$11))","v":0}," ",{"$f":"SUM(COUNTIF($C291:$H291,$CI$11:$CN$11))","v":0}," ",{"$f":"SUM(COUNTIF($C291:$H291,$CP$11:$CU$11))","v":0}," ",{"$f":"SUM(COUNTIF($C291:$H291,$CW$11:$DB$11))","v":0}," ",{"$f":"SUM(COUNTIF($C291:$H291,$DD$11:$DI$11))","v":0}," ",{"$f":"SUM(COUNTIF($C291:$H291,$DK$11:$DP$11))","v":0}]
[{"$f":"'aktuelle Zahlen'!A288","v":0},{"$f":"'aktuelle Zahlen'!B288","v":"00:00:00"},{"$f":"'aktuelle Zahlen'!C288","v":0},{"$f":"'aktuelle Zahlen'!D288","v":0},{"$f":"'aktuelle Zahlen'!E288","v":0},{"$f":"'aktuelle Zahlen'!F288","v":0},{"$f":"'aktuelle Zahlen'!G288","v":0},{"$f":"'aktuelle Zahlen'!H288","v":0},{"$f":"'aktuelle Zahlen'!J288","v":0},null," ",{"$f":"SUM(COUNTIF($C292:$H292,$AL$11:$AQ$11))","v":0}," ",{"$f":"SUM(COUNTIF($C292:$H292,$AS$11:$AX$11))","v":0}," ",{"$f":"SUM(COUNTIF($C292:$H292,$AZ$11:$BE$11))","v":0}," ",{"$f":"SUM(COUNTIF($C292:$H292,$BG$11:$BL$11))","v":0}," ",{"$f":"SUM(COUNTIF($C292:$H292,$BN$11:$BS$11))","v":0}," ",{"$f":"SUM(COUNTIF($C292:$H292,$BU$11:$BZ$11))","v":0}," ",{"$f":"SUM(COUNTIF($C292:$H292,$CB$11:$CG$11))","v":0}," ",{"$f":"SUM(COUNTIF($C292:$H292,$CI$11:$CN$11))","v":0}," ",{"$f":"SUM(COUNTIF($C292:$H292,$CP$11:$CU$11))","v":0}," ",{"$f":"SUM(COUNTIF($C292:$H292,$CW$11:$DB$11))","v":0}," ",{"$f":"SUM(COUNTIF($C292:$H292,$DD$11:$DI$11))","v":0}," ",{"$f":"SUM(COUNTIF($C292:$H292,$DK$11:$DP$11))","v":0}]
[{"$f":"'aktuelle Zahlen'!A289","v":0},{"$f":"'aktuelle Zahlen'!B289","v":"00:00:00"},{"$f":"'aktuelle Zahlen'!C289","v":0},{"$f":"'aktuelle Zahlen'!D289","v":0},{"$f":"'aktuelle Zahlen'!E289","v":0},{"$f":"'aktuelle Zahlen'!F289","v":0},{"$f":"'aktuelle Zahlen'!G289","v":0},{"$f":"'aktuelle Zahlen'!H289","v":0},{"$f":"'aktuelle Zahlen'!J289","v":0},null," ",{"$f":"SUM(COUNTIF($C293:$H293,$AL$11:$AQ$11))","v":0}," ",{"$f":"SUM(COUNTIF($C293:$H293,$AS$11:$AX$11))","v":0}," ",{"$f":"SUM(COUNTIF($C293:$H293,$AZ$11:$BE$11))","v":0}," ",{"$f":"SUM(COUNTIF($C293:$H293,$BG$11:$BL$11))","v":0}," ",{"$f":"SUM(COUNTIF($C293:$H293,$BN$11:$BS$11))","v":0}," ",{"$f":"SUM(COUNTIF($C293:$H293,$BU$11:$BZ$11))","v":0}," ",{"$f":"SUM(COUNTIF($C293:$H293,$CB$11:$CG$11))","v":0}," ",{"$f":"SUM(COUNTIF($C293:$H293,$CI$11:$CN$11))","v":0}," ",{"$f":"SUM(COUNTIF($C293:$H293,$CP$11:$CU$11))","v":0}," ",{"$f":"SUM(COUNTIF($C293:$H293,$CW$11:$DB$11))","v":0}," ",{"$f":"SUM(COUNTIF($C293:$H293,$DD$11:$DI$11))","v":0}," ",{"$f":"SUM(COUNTIF($C293:$H293,$DK$11:$DP$11))","v":0}]
[{"$f":"'aktuelle Zahlen'!A290","v":0},{"$f":"'aktuelle Zahlen'!B290","v":"00:00:00"},{"$f":"'aktuelle Zahlen'!C290","v":0},{"$f":"'aktuelle Zahlen'!D290","v":0},{"$f":"'aktuelle Zahlen'!E290","v":0},{"$f":"'aktuelle Zahlen'!F290","v":0},{"$f":"'aktuelle Zahlen'!G290","v":0},{"$f":"'aktuelle Zahlen'!H290","v":0},{"$f":"'aktuelle Zahlen'!J290","v":0},null," ",{"$f":"SUM(COUNTIF($C294:$H294,$AL$11:$AQ$11))","v":0}," ",{"$f":"SUM(COUNTIF($C294:$H294,$AS$11:$AX$11))","v":0}," ",{"$f":"SUM(COUNTIF($C294:$H294,$AZ$11:$BE$11))","v":0}," ",{"$f":"SUM(COUNTIF($C294:$H294,$BG$11:$BL$11))","v":0}," ",{"$f":"SUM(COUNTIF($C294:$H294,$BN$11:$BS$11))","v":0}," ",{"$f":"SUM(COUNTIF($C294:$H294,$BU$11:$BZ$11))","v":0}," ",{"$f":"SUM(COUNTIF($C294:$H294,$CB$11:$CG$11))","v":0}," ",{"$f":"SUM(COUNTIF($C294:$H294,$CI$11:$CN$11))","v":0}," ",{"$f":"SUM(COUNTIF($C294:$H294,$CP$11:$CU$11))","v":0}," ",{"$f":"SUM(COUNTIF($C294:$H294,$CW$11:$DB$11))","v":0}," ",{"$f":"SUM(COUNTIF($C294:$H294,$DD$11:$DI$11))","v":0}," ",{"$f":"SUM(COUNTIF($C294:$H294,$DK$11:$DP$11))","v":0}]
[{"$f":"'aktuelle Zahlen'!A291","v":0},{"$f":"'aktuelle Zahlen'!B291","v":"00:00:00"},{"$f":"'aktuelle Zahlen'!C291","v":0},{"$f":"'aktuelle Zahlen'!D291","v":0},{"$f":"'aktuelle Zahlen'!E291","v":0},{"$f":"'aktuelle Zahlen'!F291","v":0},{"$f":"'aktuelle Zahlen'!G291","v":0},{"$f":"'aktuelle Zahlen'!H291","v":0},{"$f":"'aktuelle Zahlen'!J291","v":0},null," ",{"$f":"SUM(COUNTIF($C295:$H295,$AL$11:$AQ$11))","v":0}," ",{"$f":"SUM(COUNTIF($C295:$H295,$AS$11:$AX$11))","v":0}," ",{"$f":"SUM(COUNTIF($C295:$H295,$AZ$11:$BE$11))","v":0}," ",{"$f":"SUM(COUNTIF($C295:$H295,$BG$11:$BL$11))","v":0}," ",{"$f":"SUM(COUNTIF($C295:$H295,$BN$11:$BS$11))","v":0}," ",{"$f":"SUM(COUNTIF($C295:$H295,$BU$11:$BZ$11))","v":0}," ",{"$f":"SUM(COUNTIF($C295:$H295,$CB$11:$CG$11))","v":0}," ",{"$f":"SUM(COUNTIF($C295:$H295,$CI$11:$CN$11))","v":0}," ",{"$f":"SUM(COUNTIF($C295:$H295,$CP$11:$CU$11))","v":0}," ",{"$f":"SUM(COUNTIF($C295:$H295,$CW$11:$DB$11))","v":0}," ",{"$f":"SUM(COUNTIF($C295:$H295,$DD$11:$DI$11))","v":0}," ",{"$f":"SUM(COUNTIF($C295:$H295,$DK$11:$DP$11))","v":0}]
[{"$f":"'aktuelle Zahlen'!A292","v":0},{"$f":"'aktuelle Zahlen'!B292","v":"00:00:00"},{"$f":"'aktuelle Zahlen'!C292","v":0},{"$f":"'aktuelle Zahlen'!D292","v":0},{"$f":"'aktuelle Zahlen'!E292","v":0},{"$f":"'aktuelle Zahlen'!F292","v":0},{"$f":"'aktuelle Zahlen'!G292","v":0},{"$f":"'aktuelle Zahlen'!H292","v":0},{"$f":"'aktuelle Zahlen'!J292","v":0},null," ",{"$f":"SUM(COUNTIF($C296:$H296,$AL$11:$AQ$11))","v":0}," ",{"$f":"SUM(COUNTIF($C296:$H296,$AS$11:$AX$11))","v":0}," ",{"$f":"SUM(COUNTIF($C296:$H296,$AZ$11:$BE$11))","v":0}," ",{"$f":"SUM(COUNTIF($C296:$H296,$BG$11:$BL$11))","v":0}," ",{"$f":"SUM(COUNTIF($C296:$H296,$BN$11:$BS$11))","v":0}," ",{"$f":"SUM(COUNTIF($C296:$H296,$BU$11:$BZ$11))","v":0}," ",{"$f":"SUM(COUNTIF($C296:$H296,$CB$11:$CG$11))","v":0}," ",{"$f":"SUM(COUNTIF($C296:$H296,$CI$11:$CN$11))","v":0}," ",{"$f":"SUM(COUNTIF($C296:$H296,$CP$11:$CU$11))","v":0}," ",{"$f":"SUM(COUNTIF($C296:$H296,$CW$11:$DB$11))","v":0}," ",{"$f":"SUM(COUNTIF($C296:$H296,$DD$11:$DI$11))","v":0}," ",{"$f":"SUM(COUNTIF($C296:$H296,$DK$11:$DP$11))","v":0}]
[{"$f":"'aktuelle Zahlen'!A293","v":0},{"$f":"'aktuelle Zahlen'!B293","v":"00:00:00"},{"$f":"'aktuelle Zahlen'!C293","v":0},{"$f":"'aktuelle Zahlen'!D293","v":0},{"$f":"'aktuelle Zahlen'!E293","v":0},{"$f":"'aktuelle Zahlen'!F293","v":0},{"$f":"'aktuelle Zahlen'!G293","v":0},{"$f":"'aktuelle Zahlen'!H293","v":0},{"$f":"'aktuelle Zahlen'!J293","v":0},null," ",{"$f":"SUM(COUNTIF($C297:$H297,$AL$11:$AQ$11))","v":0}," ",{"$f":"SUM(COUNTIF($C297:$H297,$AS$11:$AX$11))","v":0}," ",{"$f":"SUM(COUNTIF($C297:$H297,$AZ$11:$BE$11))","v":0}," ",{"$f":"SUM(COUNTIF($C297:$H297,$BG$11:$BL$11))","v":0}," ",{"$f":"SUM(COUNTIF($C297:$H297,$BN$11:$BS$11))","v":0}," ",{"$f":"SUM(COUNTIF($C297:$H297,$BU$11:$BZ$11))","v":0}," ",{"$f":"SUM(COUNTIF($C297:$H297,$CB$11:$CG$11))","v":0}," ",{"$f":"SUM(COUNTIF($C297:$H297,$CI$11:$CN$11))","v":0}," ",{"$f":"SUM(COUNTIF($C297:$H297,$CP$11:$CU$11))","v":0}," ",{"$f":"SUM(COUNTIF($C297:$H297,$CW$11:$DB$11))","v":0}," ",{"$f":"SUM(COUNTIF($C297:$H297,$DD$11:$DI$11))","v":0}," ",{"$f":"SUM(COUNTIF($C297:$H297,$DK$11:$DP$11))","v":0}]
[{"$f":"'aktuelle Zahlen'!A294","v":0},{"$f":"'aktuelle Zahlen'!B294","v":"00:00:00"},{"$f":"'aktuelle Zahlen'!C294","v":0},{"$f":"'aktuelle Zahlen'!D294","v":0},{"$f":"'aktuelle Zahlen'!E294","v":0},{"$f":"'aktuelle Zahlen'!F294","v":0},{"$f":"'aktuelle Zahlen'!G294","v":0},{"$f":"'aktuelle Zahlen'!H294","v":0},{"$f":"'aktuelle Zahlen'!J294","v":0},null," ",{"$f":"SUM(COUNTIF($C298:$H298,$AL$11:$AQ$11))","v":0}," ",{"$f":"SUM(COUNTIF($C298:$H298,$AS$11:$AX$11))","v":0}," ",{"$f":"SUM(COUNTIF($C298:$H298,$AZ$11:$BE$11))","v":0}," ",{"$f":"SUM(COUNTIF($C298:$H298,$BG$11:$BL$11))","v":0}," ",{"$f":"SUM(COUNTIF($C298:$H298,$BN$11:$BS$11))","v":0}," ",{"$f":"SUM(COUNTIF($C298:$H298,$BU$11:$BZ$11))","v":0}," ",{"$f":"SUM(COUNTIF($C298:$H298,$CB$11:$CG$11))","v":0}," ",{"$f":"SUM(COUNTIF($C298:$H298,$CI$11:$CN$11))","v":0}," ",{"$f":"SUM(COUNTIF($C298:$H298,$CP$11:$CU$11))","v":0}," ",{"$f":"SUM(COUNTIF($C298:$H298,$CW$11:$DB$11))","v":0}," ",{"$f":"SUM(COUNTIF($C298:$H298,$DD$11:$DI$11))","v":0}," ",{"$f":"SUM(COUNTIF($C298:$H298,$DK$11:$DP$11))","v":0}]
[{"$f":"'aktuelle Zahlen'!A295","v":0},{"$f":"'aktuelle Zahlen'!B295","v":"00:00:00"},{"$f":"'aktuelle Zahlen'!C295","v":0},{"$f":"'aktuelle Zahlen'!D295","v":0},{"$f":"'aktuelle Zahlen'!E295","v":0},{"$f":"'aktuelle Zahlen'!F295","v":0},{"$f":"'aktuelle Zahlen'!G295","v":0},{"$f":"'aktuelle Zahlen'!H295","v":0},{"$f":"'aktuelle Zahlen'!J295","v":0},null," ",{"$f":"SUM(COUNTIF($C299:$H299,$AL$11:$AQ$11))","v":0}," ",{"$f":"SUM(COUNTIF($C299:$H299,$AS$11:$AX$11))","v":0}," ",{"$f":"SUM(COUNTIF($C299:$H299,$AZ$11:$BE$11))","v":0}," ",{"$f":"SUM(COUNTIF($C299:$H299,$BG$11:$BL$11))","v":0}," ",{"$f":"SUM(COUNTIF($C299:$H299,$BN$11:$BS$11))","v":0}," ",{"$f":"SUM(COUNTIF($C299:$H299,$BU$11:$BZ$11))","v":0}," ",{"$f":"SUM(COUNTIF($C299:$H299,$CB$11:$CG$11))","v":0}," ",{"$f":"SUM(COUNTIF($C299:$H299,$CI$11:$CN$11))","v":0}," ",{"$f":"SUM(COUNTIF($C299:$H299,$CP$11:$CU$11))","v":0}," ",{"$f":"SUM(COUNTIF($C299:$H299,$CW$11:$DB$11))","v":0}," ",{"$f":"SUM(COUNTIF($C299:$H299,$DD$11:$DI$11))","v":0}," ",{"$f":"SUM(COUNTIF($C299:$H299,$DK$11:$DP$11))","v":0}]
[{"$f":"'aktuelle Zahlen'!A296","v":0},{"$f":"'aktuelle Zahlen'!B296","v":"00:00:00"},{"$f":"'aktuelle Zahlen'!C296","v":0},{"$f":"'aktuelle Zahlen'!D296","v":0},{"$f":"'aktuelle Zahlen'!E296","v":0},{"$f":"'aktuelle Zahlen'!F296","v":0},{"$f":"'aktuelle Zahlen'!G296","v":0},{"$f":"'aktuelle Zahlen'!H296","v":0},{"$f":"'aktuelle Zahlen'!J296","v":0},null," ",{"$f":"SUM(COUNTIF($C300:$H300,$AL$11:$AQ$11))","v":0}," ",{"$f":"SUM(COUNTIF($C300:$H300,$AS$11:$AX$11))","v":0}," ",{"$f":"SUM(COUNTIF($C300:$H300,$AZ$11:$BE$11))","v":0}," ",{"$f":"SUM(COUNTIF($C300:$H300,$BG$11:$BL$11))","v":0}," ",{"$f":"SUM(COUNTIF($C300:$H300,$BN$11:$BS$11))","v":0}," ",{"$f":"SUM(COUNTIF($C300:$H300,$BU$11:$BZ$11))","v":0}," ",{"$f":"SUM(COUNTIF($C300:$H300,$CB$11:$CG$11))","v":0}," ",{"$f":"SUM(COUNTIF($C300:$H300,$CI$11:$CN$11))","v":0}," ",{"$f":"SUM(COUNTIF($C300:$H300,$CP$11:$CU$11))","v":0}," ",{"$f":"SUM(COUNTIF($C300:$H300,$CW$11:$DB$11))","v":0}," ",{"$f":"SUM(COUNTIF($C300:$H300,$DD$11:$DI$11))","v":0}," ",{"$f":"SUM(COUNTIF($C300:$H300,$DK$11:$DP$11))","v":0}]
[{"$f":"'aktuelle Zahlen'!A297","v":0},{"$f":"'aktuelle Zahlen'!B297","v":"00:00:00"},{"$f":"'aktuelle Zahlen'!C297","v":0},{"$f":"'aktuelle Zahlen'!D297","v":0},{"$f":"'aktuelle Zahlen'!E297","v":0},{"$f":"'aktuelle Zahlen'!F297","v":0},{"$f":"'aktuelle Zahlen'!G297","v":0},{"$f":"'aktuelle Zahlen'!H297","v":0},{"$f":"'aktuelle Zahlen'!J297","v":0},null," ",{"$f":"SUM(COUNTIF($C301:$H301,$AL$11:$AQ$11))","v":0}," ",{"$f":"SUM(COUNTIF($C301:$H301,$AS$11:$AX$11))","v":0}," ",{"$f":"SUM(COUNTIF($C301:$H301,$AZ$11:$BE$11))","v":0}," ",{"$f":"SUM(COUNTIF($C301:$H301,$BG$11:$BL$11))","v":0}," ",{"$f":"SUM(COUNTIF($C301:$H301,$BN$11:$BS$11))","v":0}," ",{"$f":"SUM(COUNTIF($C301:$H301,$BU$11:$BZ$11))","v":0}," ",{"$f":"SUM(COUNTIF($C301:$H301,$CB$11:$CG$11))","v":0}," ",{"$f":"SUM(COUNTIF($C301:$H301,$CI$11:$CN$11))","v":0}," ",{"$f":"SUM(COUNTIF($C301:$H301,$CP$11:$CU$11))","v":0}," ",{"$f":"SUM(COUNTIF($C301:$H301,$CW$11:$DB$11))","v":0}," ",{"$f":"SUM(COUNTIF($C301:$H301,$DD$11:$DI$11))","v":0}," ",{"$f":"SUM(COUNTIF($C301:$H301,$DK$11:$DP$11))","v":0}]
[{"$f":"'aktuelle Zahlen'!A298","v":0},{"$f":"'aktuelle Zahlen'!B298","v":"00:00:00"},{"$f":"'aktuelle Zahlen'!C298","v":0},{"$f":"'aktuelle Zahlen'!D298","v":0},{"$f":"'aktuelle Zahlen'!E298","v":0},{"$f":"'aktuelle Zahlen'!F298","v":0},{"$f":"'aktuelle Zahlen'!G298","v":0},{"$f":"'aktuelle Zahlen'!H298","v":0},{"$f":"'aktuelle Zahlen'!J298","v":0},null," ",{"$f":"SUM(COUNTIF($C302:$H302,$AL$11:$AQ$11))","v":0}," ",{"$f":"SUM(COUNTIF($C302:$H302,$AS$11:$AX$11))","v":0}," ",{"$f":"SUM(COUNTIF($C302:$H302,$AZ$11:$BE$11))","v":0}," ",{"$f":"SUM(COUNTIF($C302:$H302,$BG$11:$BL$11))","v":0}," ",{"$f":"SUM(COUNTIF($C302:$H302,$BN$11:$BS$11))","v":0}," ",{"$f":"SUM(COUNTIF($C302:$H302,$BU$11:$BZ$11))","v":0}," ",{"$f":"SUM(COUNTIF($C302:$H302,$CB$11:$CG$11))","v":0}," ",{"$f":"SUM(COUNTIF($C302:$H302,$CI$11:$CN$11))","v":0}," ",{"$f":"SUM(COUNTIF($C302:$H302,$CP$11:$CU$11))","v":0}," ",{"$f":"SUM(COUNTIF($C302:$H302,$CW$11:$DB$11))","v":0}," ",{"$f":"SUM(COUNTIF($C302:$H302,$DD$11:$DI$11))","v":0}," ",{"$f":"SUM(COUNTIF($C302:$H302,$DK$11:$DP$11))","v":0}]
[{"$f":"'aktuelle Zahlen'!A299","v":0},{"$f":"'aktuelle Zahlen'!B299","v":"00:00:00"},{"$f":"'aktuelle Zahlen'!C299","v":0},{"$f":"'aktuelle Zahlen'!D299","v":0},{"$f":"'aktuelle Zahlen'!E299","v":0},{"$f":"'aktuelle Zahlen'!F299","v":0},{"$f":"'aktuelle Zahlen'!G299","v":0},{"$f":"'aktuelle Zahlen'!H299","v":0},{"$f":"'aktuelle Zahlen'!J299","v":0},null," ",{"$f":"SUM(COUNTIF($C303:$H303,$AL$11:$AQ$11))","v":0}," ",{"$f":"SUM(COUNTIF($C303:$H303,$AS$11:$AX$11))","v":0}," ",{"$f":"SUM(COUNTIF($C303:$H303,$AZ$11:$BE$11))","v":0}," ",{"$f":"SUM(COUNTIF($C303:$H303,$BG$11:$BL$11))","v":0}," ",{"$f":"SUM(COUNTIF($C303:$H303,$BN$11:$BS$11))","v":0}," ",{"$f":"SUM(COUNTIF($C303:$H303,$BU$11:$BZ$11))","v":0}," ",{"$f":"SUM(COUNTIF($C303:$H303,$CB$11:$CG$11))","v":0}," ",{"$f":"SUM(COUNTIF($C303:$H303,$CI$11:$CN$11))","v":0}," ",{"$f":"SUM(COUNTIF($C303:$H303,$CP$11:$CU$11))","v":0}," ",{"$f":"SUM(COUNTIF($C303:$H303,$CW$11:$DB$11))","v":0}," ",{"$f":"SUM(COUNTIF($C303:$H303,$DD$11:$DI$11))","v":0}," ",{"$f":"SUM(COUNTIF($C303:$H303,$DK$11:$DP$11))","v":0}]
[{"$f":"'aktuelle Zahlen'!A300","v":0},{"$f":"'aktuelle Zahlen'!B300","v":"00:00:00"},{"$f":"'aktuelle Zahlen'!C300","v":0},{"$f":"'aktuelle Zahlen'!D300","v":0},{"$f":"'aktuelle Zahlen'!E300","v":0},{"$f":"'aktuelle Zahlen'!F300","v":0},{"$f":"'aktuelle Zahlen'!G300","v":0},{"$f":"'aktuelle Zahlen'!H300","v":0},{"$f":"'aktuelle Zahlen'!J300","v":0},null," ",{"$f":"SUM(COUNTIF($C304:$H304,$AL$11:$AQ$11))","v":0}," ",{"$f":"SUM(COUNTIF($C304:$H304,$AS$11:$AX$11))","v":0}," ",{"$f":"SUM(COUNTIF($C304:$H304,$AZ$11:$BE$11))","v":0}," ",{"$f":"SUM(COUNTIF($C304:$H304,$BG$11:$BL$11))","v":0}," ",{"$f":"SUM(COUNTIF($C304:$H304,$BN$11:$BS$11))","v":0}," ",{"$f":"SUM(COUNTIF($C304:$H304,$BU$11:$BZ$11))","v":0}," ",{"$f":"SUM(COUNTIF($C304:$H304,$CB$11:$CG$11))","v":0}," ",{"$f":"SUM(COUNTIF($C304:$H304,$CI$11:$CN$11))","v":0}," ",{"$f":"SUM(COUNTIF($C304:$H304,$CP$11:$CU$11))","v":0}," ",{"$f":"SUM(COUNTIF($C304:$H304,$CW$11:$DB$11))","v":0}," ",{"$f":"SUM(COUNTIF($C304:$H304,$DD$11:$DI$11))","v":0}," ",{"$f":"SUM(COUNTIF($C304:$H304,$DK$11:$DP$11))","v":0}]
[{"$f":"'aktuelle Zahlen'!A301","v":0},{"$f":"'aktuelle Zahlen'!B301","v":"00:00:00"},{"$f":"'aktuelle Zahlen'!C301","v":0},{"$f":"'aktuelle Zahlen'!D301","v":0},{"$f":"'aktuelle Zahlen'!E301","v":0},{"$f":"'aktuelle Zahlen'!F301","v":0},{"$f":"'aktuelle Zahlen'!G301","v":0},{"$f":"'aktuelle Zahlen'!H301","v":0},{"$f":"'aktuelle Zahlen'!J301","v":0},null," ",{"$f":"SUM(COUNTIF($C305:$H305,$AL$11:$AQ$11))","v":0}," ",{"$f":"SUM(COUNTIF($C305:$H305,$AS$11:$AX$11))","v":0}," ",{"$f":"SUM(COUNTIF($C305:$H305,$AZ$11:$BE$11))","v":0}," ",{"$f":"SUM(COUNTIF($C305:$H305,$BG$11:$BL$11))","v":0}," ",{"$f":"SUM(COUNTIF($C305:$H305,$BN$11:$BS$11))","v":0}," ",{"$f":"SUM(COUNTIF($C305:$H305,$BU$11:$BZ$11))","v":0}," ",{"$f":"SUM(COUNTIF($C305:$H305,$CB$11:$CG$11))","v":0}," ",{"$f":"SUM(COUNTIF($C305:$H305,$CI$11:$CN$11))","v":0}," ",{"$f":"SUM(COUNTIF($C305:$H305,$CP$11:$CU$11))","v":0}," ",{"$f":"SUM(COUNTIF($C305:$H305,$CW$11:$DB$11))","v":0}," ",{"$f":"SUM(COUNTIF($C305:$H305,$DD$11:$DI$11))","v":0}," ",{"$f":"SUM(COUNTIF($C305:$H305,$DK$11:$DP$11))","v":0}]
[{"$f":"'aktuelle Zahlen'!A302","v":0},{"$f":"'aktuelle Zahlen'!B302","v":"00:00:00"},{"$f":"'aktuelle Zahlen'!C302","v":0},{"$f":"'aktuelle Zahlen'!D302","v":0},{"$f":"'aktuelle Zahlen'!E302","v":0},{"$f":"'aktuelle Zahlen'!F302","v":0},{"$f":"'aktuelle Zahlen'!G302","v":0},{"$f":"'aktuelle Zahlen'!H302","v":0},{"$f":"'aktuelle Zahlen'!J302","v":0},null," ",{"$f":"SUM(COUNTIF($C306:$H306,$AL$11:$AQ$11))","v":0}," ",{"$f":"SUM(COUNTIF($C306:$H306,$AS$11:$AX$11))","v":0}," ",{"$f":"SUM(COUNTIF($C306:$H306,$AZ$11:$BE$11))","v":0}," ",{"$f":"SUM(COUNTIF($C306:$H306,$BG$11:$BL$11))","v":0}," ",{"$f":"SUM(COUNTIF($C306:$H306,$BN$11:$BS$11))","v":0}," ",{"$f":"SUM(COUNTIF($C306:$H306,$BU$11:$BZ$11))","v":0}," ",{"$f":"SUM(COUNTIF($C306:$H306,$CB$11:$CG$11))","v":0}," ",{"$f":"SUM(COUNTIF($C306:$H306,$CI$11:$CN$11))","v":0}," ",{"$f":"SUM(COUNTIF($C306:$H306,$CP$11:$CU$11))","v":0}," ",{"$f":"SUM(COUNTIF($C306:$H306,$CW$11:$DB$11))","v":0}," ",{"$f":"SUM(COUNTIF($C306:$H306,$DD$11:$DI$11))","v":0}," ",{"$f":"SUM(COUNTIF($C306:$H306,$DK$11:$DP$11))","v":0}]
[{"$f":"'aktuelle Zahlen'!A303","v":0},{"$f":"'aktuelle Zahlen'!B303","v":"00:00:00"},{"$f":"'aktuelle Zahlen'!C303","v":0},{"$f":"'aktuelle Zahlen'!D303","v":0},{"$f":"'aktuelle Zahlen'!E303","v":0},{"$f":"'aktuelle Zahlen'!F303","v":0},{"$f":"'aktuelle Zahlen'!G303","v":0},{"$f":"'aktuelle Zahlen'!H303","v":0},{"$f":"'aktuelle Zahlen'!J303","v":0},null," ",{"$f":"SUM(COUNTIF($C307:$H307,$AL$11:$AQ$11))","v":0}," ",{"$f":"SUM(COUNTIF($C307:$H307,$AS$11:$AX$11))","v":0}," ",{"$f":"SUM(COUNTIF($C307:$H307,$AZ$11:$BE$11))","v":0}," ",{"$f":"SUM(COUNTIF($C307:$H307,$BG$11:$BL$11))","v":0}," ",{"$f":"SUM(COUNTIF($C307:$H307,$BN$11:$BS$11))","v":0}," ",{"$f":"SUM(COUNTIF($C307:$H307,$BU$11:$BZ$11))","v":0}," ",{"$f":"SUM(COUNTIF($C307:$H307,$CB$11:$CG$11))","v":0}," ",{"$f":"SUM(COUNTIF($C307:$H307,$CI$11:$CN$11))","v":0}," ",{"$f":"SUM(COUNTIF($C307:$H307,$CP$11:$CU$11))","v":0}," ",{"$f":"SUM(COUNTIF($C307:$H307,$CW$11:$DB$11))","v":0}," ",{"$f":"SUM(COUNTIF($C307:$H307,$DD$11:$DI$11))","v":0}," ",{"$f":"SUM(COUNTIF($C307:$H307,$DK$11:$DP$11))","v":0}]
[{"$f":"'aktuelle Zahlen'!A304","v":0},{"$f":"'aktuelle Zahlen'!B304","v":"00:00:00"},{"$f":"'aktuelle Zahlen'!C304","v":0},{"$f":"'aktuelle Zahlen'!D304","v":0},{"$f":"'aktuelle Zahlen'!E304","v":0},{"$f":"'aktuelle Zahlen'!F304","v":0},{"$f":"'aktuelle Zahlen'!G304","v":0},{"$f":"'aktuelle Zahlen'!H304","v":0},{"$f":"'aktuelle Zahlen'!J304","v":0},null," ",{"$f":"SUM(COUNTIF($C308:$H308,$AL$11:$AQ$11))","v":0}," ",{"$f":"SUM(COUNTIF($C308:$H308,$AS$11:$AX$11))","v":0}," ",{"$f":"SUM(COUNTIF($C308:$H308,$AZ$11:$BE$11))","v":0}," ",{"$f":"SUM(COUNTIF($C308:$H308,$BG$11:$BL$11))","v":0}," ",{"$f":"SUM(COUNTIF($C308:$H308,$BN$11:$BS$11))","v":0}," ",{"$f":"SUM(COUNTIF($C308:$H308,$BU$11:$BZ$11))","v":0}," ",{"$f":"SUM(COUNTIF($C308:$H308,$CB$11:$CG$11))","v":0}," ",{"$f":"SUM(COUNTIF($C308:$H308,$CI$11:$CN$11))","v":0}," ",{"$f":"SUM(COUNTIF($C308:$H308,$CP$11:$CU$11))","v":0}," ",{"$f":"SUM(COUNTIF($C308:$H308,$CW$11:$DB$11))","v":0}," ",{"$f":"SUM(COUNTIF($C308:$H308,$DD$11:$DI$11))","v":0}," ",{"$f":"SUM(COUNTIF($C308:$H308,$DK$11:$DP$11))","v":0}]
[{"$f":"'aktuelle Zahlen'!A305","v":0},{"$f":"'aktuelle Zahlen'!B305","v":"00:00:00"},{"$f":"'aktuelle Zahlen'!C305","v":0},{"$f":"'aktuelle Zahlen'!D305","v":0},{"$f":"'aktuelle Zahlen'!E305","v":0},{"$f":"'aktuelle Zahlen'!F305","v":0},{"$f":"'aktuelle Zahlen'!G305","v":0},{"$f":"'aktuelle Zahlen'!H305","v":0},{"$f":"'aktuelle Zahlen'!J305","v":0},null," ",{"$f":"SUM(COUNTIF($C309:$H309,$AL$11:$AQ$11))","v":0}," ",{"$f":"SUM(COUNTIF($C309:$H309,$AS$11:$AX$11))","v":0}," ",{"$f":"SUM(COUNTIF($C309:$H309,$AZ$11:$BE$11))","v":0}," ",{"$f":"SUM(COUNTIF($C309:$H309,$BG$11:$BL$11))","v":0}," ",{"$f":"SUM(COUNTIF($C309:$H309,$BN$11:$BS$11))","v":0}," ",{"$f":"SUM(COUNTIF($C309:$H309,$BU$11:$BZ$11))","v":0}," ",{"$f":"SUM(COUNTIF($C309:$H309,$CB$11:$CG$11))","v":0}," ",{"$f":"SUM(COUNTIF($C309:$H309,$CI$11:$CN$11))","v":0}," ",{"$f":"SUM(COUNTIF($C309:$H309,$CP$11:$CU$11))","v":0}," ",{"$f":"SUM(COUNTIF($C309:$H309,$CW$11:$DB$11))","v":0}," ",{"$f":"SUM(COUNTIF($C309:$H309,$DD$11:$DI$11))","v":0}," ",{"$f":"SUM(COUNTIF($C309:$H309,$DK$11:$DP$11))","v":0}]
[{"$f":"'aktuelle Zahlen'!A306","v":0},{"$f":"'aktuelle Zahlen'!B306","v":"00:00:00"},{"$f":"'aktuelle Zahlen'!C306","v":0},{"$f":"'aktuelle Zahlen'!D306","v":0},{"$f":"'aktuelle Zahlen'!E306","v":0},{"$f":"'aktuelle Zahlen'!F306","v":0},{"$f":"'aktuelle Zahlen'!G306","v":0},{"$f":"'aktuelle Zahlen'!H306","v":0},{"$f":"'aktuelle Zahlen'!J306","v":0},null," ",{"$f":"SUM(COUNTIF($C310:$H310,$AL$11:$AQ$11))","v":0}," ",{"$f":"SUM(COUNTIF($C310:$H310,$AS$11:$AX$11))","v":0}," ",{"$f":"SUM(COUNTIF($C310:$H310,$AZ$11:$BE$11))","v":0}," ",{"$f":"SUM(COUNTIF($C310:$H310,$BG$11:$BL$11))","v":0}," ",{"$f":"SUM(COUNTIF($C310:$H310,$BN$11:$BS$11))","v":0}," ",{"$f":"SUM(COUNTIF($C310:$H310,$BU$11:$BZ$11))","v":0}," ",{"$f":"SUM(COUNTIF($C310:$H310,$CB$11:$CG$11))","v":0}," ",{"$f":"SUM(COUNTIF($C310:$H310,$CI$11:$CN$11))","v":0}," ",{"$f":"SUM(COUNTIF($C310:$H310,$CP$11:$CU$11))","v":0}," ",{"$f":"SUM(COUNTIF($C310:$H310,$CW$11:$DB$11))","v":0}," ",{"$f":"SUM(COUNTIF($C310:$H310,$DD$11:$DI$11))","v":0}," ",{"$f":"SUM(COUNTIF($C310:$H310,$DK$11:$DP$11))","v":0}]
[{"$f":"'aktuelle Zahlen'!A307","v":0},{"$f":"'aktuelle Zahlen'!B307","v":"00:00:00"},{"$f":"'aktuelle Zahlen'!C307","v":0},{"$f":"'aktuelle Zahlen'!D307","v":0},{"$f":"'aktuelle Zahlen'!E307","v":0},{"$f":"'aktuelle Zahlen'!F307","v":0},{"$f":"'aktuelle Zahlen'!G307","v":0},{"$f":"'aktuelle Zahlen'!H307","v":0},{"$f":"'aktuelle Zahlen'!J307","v":0},null," ",{"$f":"SUM(COUNTIF($C311:$H311,$AL$11:$AQ$11))","v":0}," ",{"$f":"SUM(COUNTIF($C311:$H311,$AS$11:$AX$11))","v":0}," ",{"$f":"SUM(COUNTIF($C311:$H311,$AZ$11:$BE$11))","v":0}," ",{"$f":"SUM(COUNTIF($C311:$H311,$BG$11:$BL$11))","v":0}," ",{"$f":"SUM(COUNTIF($C311:$H311,$BN$11:$BS$11))","v":0}," ",{"$f":"SUM(COUNTIF($C311:$H311,$BU$11:$BZ$11))","v":0}," ",{"$f":"SUM(COUNTIF($C311:$H311,$CB$11:$CG$11))","v":0}," ",{"$f":"SUM(COUNTIF($C311:$H311,$CI$11:$CN$11))","v":0}," ",{"$f":"SUM(COUNTIF($C311:$H311,$CP$11:$CU$11))","v":0}," ",{"$f":"SUM(COUNTIF($C311:$H311,$CW$11:$DB$11))","v":0}," ",{"$f":"SUM(COUNTIF($C311:$H311,$DD$11:$DI$11))","v":0}," ",{"$f":"SUM(COUNTIF($C311:$H311,$DK$11:$DP$11))","v":0}]
[{"$f":"'aktuelle Zahlen'!A308","v":0},{"$f":"'aktuelle Zahlen'!B308","v":"00:00:00"},{"$f":"'aktuelle Zahlen'!C308","v":0},{"$f":"'aktuelle Zahlen'!D308","v":0},{"$f":"'aktuelle Zahlen'!E308","v":0},{"$f":"'aktuelle Zahlen'!F308","v":0},{"$f":"'aktuelle Zahlen'!G308","v":0},{"$f":"'aktuelle Zahlen'!H308","v":0},{"$f":"'aktuelle Zahlen'!J308","v":0},null," ",{"$f":"SUM(COUNTIF($C312:$H312,$AL$11:$AQ$11))","v":0}," ",{"$f":"SUM(COUNTIF($C312:$H312,$AS$11:$AX$11))","v":0}," ",{"$f":"SUM(COUNTIF($C312:$H312,$AZ$11:$BE$11))","v":0}," ",{"$f":"SUM(COUNTIF($C312:$H312,$BG$11:$BL$11))","v":0}," ",{"$f":"SUM(COUNTIF($C312:$H312,$BN$11:$BS$11))","v":0}," ",{"$f":"SUM(COUNTIF($C312:$H312,$BU$11:$BZ$11))","v":0}," ",{"$f":"SUM(COUNTIF($C312:$H312,$CB$11:$CG$11))","v":0}," ",{"$f":"SUM(COUNTIF($C312:$H312,$CI$11:$CN$11))","v":0}," ",{"$f":"SUM(COUNTIF($C312:$H312,$CP$11:$CU$11))","v":0}," ",{"$f":"SUM(COUNTIF($C312:$H312,$CW$11:$DB$11))","v":0}," ",{"$f":"SUM(COUNTIF($C312:$H312,$DD$11:$DI$11))","v":0}," ",{"$f":"SUM(COUNTIF($C312:$H312,$DK$11:$DP$11))","v":0}]
[{"$f":"'aktuelle Zahlen'!A309","v":0},{"$f":"'aktuelle Zahlen'!B309","v":"00:00:00"},{"$f":"'aktuelle Zahlen'!C309","v":0},{"$f":"'aktuelle Zahlen'!D309","v":0},{"$f":"'aktuelle Zahlen'!E309","v":0},{"$f":"'aktuelle Zahlen'!F309","v":0},{"$f":"'aktuelle Zahlen'!G309","v":0},{"$f":"'aktuelle Zahlen'!H309","v":0},{"$f":"'aktuelle Zahlen'!J309","v":0},null," ",{"$f":"SUM(COUNTIF($C313:$H313,$AL$11:$AQ$11))","v":0}," ",{"$f":"SUM(COUNTIF($C313:$H313,$AS$11:$AX$11))","v":0}," ",{"$f":"SUM(COUNTIF($C313:$H313,$AZ$11:$BE$11))","v":0}," ",{"$f":"SUM(COUNTIF($C313:$H313,$BG$11:$BL$11))","v":0}," ",{"$f":"SUM(COUNTIF($C313:$H313,$BN$11:$BS$11))","v":0}," ",{"$f":"SUM(COUNTIF($C313:$H313,$BU$11:$BZ$11))","v":0}," ",{"$f":"SUM(COUNTIF($C313:$H313,$CB$11:$CG$11))","v":0}," ",{"$f":"SUM(COUNTIF($C313:$H313,$CI$11:$CN$11))","v":0}," ",{"$f":"SUM(COUNTIF($C313:$H313,$CP$11:$CU$11))","v":0}," ",{"$f":"SUM(COUNTIF($C313:$H313,$CW$11:$DB$11))","v":0}," ",{"$f":"SUM(COUNTIF($C313:$H313,$DD$11:$DI$11))","v":0}," ",{"$f":"SUM(COUNTIF($C313:$H313,$DK$11:$DP$11))","v":0}]
[{"$f":"'aktuelle Zahlen'!A310","v":0},{"$f":"'aktuelle Zahlen'!B310","v":"00:00:00"},{"$f":"'aktuelle Zahlen'!C310","v":0},{"$f":"'aktuelle Zahlen'!D310","v":0},{"$f":"'aktuelle Zahlen'!E310","v":0},{"$f":"'aktuelle Zahlen'!F310","v":0},{"$f":"'aktuelle Zahlen'!G310","v":0},{"$f":"'aktuelle Zahlen'!H310","v":0},{"$f":"'aktuelle Zahlen'!J310","v":0},null," ",{"$f":"SUM(COUNTIF($C314:$H314,$AL$11:$AQ$11))","v":0}," ",{"$f":"SUM(COUNTIF($C314:$H314,$AS$11:$AX$11))","v":0}," ",{"$f":"SUM(COUNTIF($C314:$H314,$AZ$11:$BE$11))","v":0}," ",{"$f":"SUM(COUNTIF($C314:$H314,$BG$11:$BL$11))","v":0}," ",{"$f":"SUM(COUNTIF($C314:$H314,$BN$11:$BS$11))","v":0}," ",{"$f":"SUM(COUNTIF($C314:$H314,$BU$11:$BZ$11))","v":0}," ",{"$f":"SUM(COUNTIF($C314:$H314,$CB$11:$CG$11))","v":0}," ",{"$f":"SUM(COUNTIF($C314:$H314,$CI$11:$CN$11))","v":0}," ",{"$f":"SUM(COUNTIF($C314:$H314,$CP$11:$CU$11))","v":0}," ",{"$f":"SUM(COUNTIF($C314:$H314,$CW$11:$DB$11))","v":0}," ",{"$f":"SUM(COUNTIF($C314:$H314,$DD$11:$DI$11))","v":0}," ",{"$f":"SUM(COUNTIF($C314:$H314,$DK$11:$DP$11))","v":0}]
[{"$f":"'aktuelle Zahlen'!A311","v":0},{"$f":"'aktuelle Zahlen'!B311","v":"00:00:00"},{"$f":"'aktuelle Zahlen'!C311","v":0},{"$f":"'aktuelle Zahlen'!D311","v":0},{"$f":"'aktuelle Zahlen'!E311","v":0},{"$f":"'aktuelle Zahlen'!F311","v":0},{"$f":"'aktuelle Zahlen'!G311","v":0},{"$f":"'aktuelle Zahlen'!H311","v":0},{"$f":"'aktuelle Zahlen'!J311","v":0},null," ",{"$f":"SUM(COUNTIF($C315:$H315,$AL$11:$AQ$11))","v":0}," ",{"$f":"SUM(COUNTIF($C315:$H315,$AS$11:$AX$11))","v":0}," ",{"$f":"SUM(COUNTIF($C315:$H315,$AZ$11:$BE$11))","v":0}," ",{"$f":"SUM(COUNTIF($C315:$H315,$BG$11:$BL$11))","v":0}," ",{"$f":"SUM(COUNTIF($C315:$H315,$BN$11:$BS$11))","v":0}," ",{"$f":"SUM(COUNTIF($C315:$H315,$BU$11:$BZ$11))","v":0}," ",{"$f":"SUM(COUNTIF($C315:$H315,$CB$11:$CG$11))","v":0}," ",{"$f":"SUM(COUNTIF($C315:$H315,$CI$11:$CN$11))","v":0}," ",{"$f":"SUM(COUNTIF($C315:$H315,$CP$11:$CU$11))","v":0}," ",{"$f":"SUM(COUNTIF($C315:$H315,$CW$11:$DB$11))","v":0}," ",{"$f":"SUM(COUNTIF($C315:$H315,$DD$11:$DI$11))","v":0}," ",{"$f":"SUM(COUNTIF($C315:$H315,$DK$11:$DP$11))","v":0}]
[{"$f":"'aktuelle Zahlen'!A312","v":0},{"$f":"'aktuelle Zahlen'!B312","v":"00:00:00"},{"$f":"'aktuelle Zahlen'!C312","v":0},{"$f":"'aktuelle Zahlen'!D312","v":0},{"$f":"'aktuelle Zahlen'!E312","v":0},{"$f":"'aktuelle Zahlen'!F312","v":0},{"$f":"'aktuelle Zahlen'!G312","v":0},{"$f":"'aktuelle Zahlen'!H312","v":0},{"$f":"'aktuelle Zahlen'!J312","v":0},null," ",{"$f":"SUM(COUNTIF($C316:$H316,$AL$11:$AQ$11))","v":0}," ",{"$f":"SUM(COUNTIF($C316:$H316,$AS$11:$AX$11))","v":0}," ",{"$f":"SUM(COUNTIF($C316:$H316,$AZ$11:$BE$11))","v":0}," ",{"$f":"SUM(COUNTIF($C316:$H316,$BG$11:$BL$11))","v":0}," ",{"$f":"SUM(COUNTIF($C316:$H316,$BN$11:$BS$11))","v":0}," ",{"$f":"SUM(COUNTIF($C316:$H316,$BU$11:$BZ$11))","v":0}," ",{"$f":"SUM(COUNTIF($C316:$H316,$CB$11:$CG$11))","v":0}," ",{"$f":"SUM(COUNTIF($C316:$H316,$CI$11:$CN$11))","v":0}," ",{"$f":"SUM(COUNTIF($C316:$H316,$CP$11:$CU$11))","v":0}," ",{"$f":"SUM(COUNTIF($C316:$H316,$CW$11:$DB$11))","v":0}," ",{"$f":"SUM(COUNTIF($C316:$H316,$DD$11:$DI$11))","v":0}," ",{"$f":"SUM(COUNTIF($C316:$H316,$DK$11:$DP$11))","v":0}]
[{"$f":"'aktuelle Zahlen'!A313","v":0},{"$f":"'aktuelle Zahlen'!B313","v":"00:00:00"},{"$f":"'aktuelle Zahlen'!C313","v":0},{"$f":"'aktuelle Zahlen'!D313","v":0},{"$f":"'aktuelle Zahlen'!E313","v":0},{"$f":"'aktuelle Zahlen'!F313","v":0},{"$f":"'aktuelle Zahlen'!G313","v":0},{"$f":"'aktuelle Zahlen'!H313","v":0},{"$f":"'aktuelle Zahlen'!J313","v":0},null," ",{"$f":"SUM(COUNTIF($C317:$H317,$AL$11:$AQ$11))","v":0}," ",{"$f":"SUM(COUNTIF($C317:$H317,$AS$11:$AX$11))","v":0}," ",{"$f":"SUM(COUNTIF($C317:$H317,$AZ$11:$BE$11))","v":0}," ",{"$f":"SUM(COUNTIF($C317:$H317,$BG$11:$BL$11))","v":0}," ",{"$f":"SUM(COUNTIF($C317:$H317,$BN$11:$BS$11))","v":0}," ",{"$f":"SUM(COUNTIF($C317:$H317,$BU$11:$BZ$11))","v":0}," ",{"$f":"SUM(COUNTIF($C317:$H317,$CB$11:$CG$11))","v":0}," ",{"$f":"SUM(COUNTIF($C317:$H317,$CI$11:$CN$11))","v":0}," ",{"$f":"SUM(COUNTIF($C317:$H317,$CP$11:$CU$11))","v":0}," ",{"$f":"SUM(COUNTIF($C317:$H317,$CW$11:$DB$11))","v":0}," ",{"$f":"SUM(COUNTIF($C317:$H317,$DD$11:$DI$11))","v":0}," ",{"$f":"SUM(COUNTIF($C317:$H317,$DK$11:$DP$11))","v":0}]
[{"$f":"'aktuelle Zahlen'!A314","v":0},{"$f":"'aktuelle Zahlen'!B314","v":"00:00:00"},{"$f":"'aktuelle Zahlen'!C314","v":0},{"$f":"'aktuelle Zahlen'!D314","v":0},{"$f":"'aktuelle Zahlen'!E314","v":0},{"$f":"'aktuelle Zahlen'!F314","v":0},{"$f":"'aktuelle Zahlen'!G314","v":0},{"$f":"'aktuelle Zahlen'!H314","v":0},{"$f":"'aktuelle Zahlen'!J314","v":0},null," ",{"$f":"SUM(COUNTIF($C318:$H318,$AL$11:$AQ$11))","v":0}," ",{"$f":"SUM(COUNTIF($C318:$H318,$AS$11:$AX$11))","v":0}," ",{"$f":"SUM(COUNTIF($C318:$H318,$AZ$11:$BE$11))","v":0}," ",{"$f":"SUM(COUNTIF($C318:$H318,$BG$11:$BL$11))","v":0}," ",{"$f":"SUM(COUNTIF($C318:$H318,$BN$11:$BS$11))","v":0}," ",{"$f":"SUM(COUNTIF($C318:$H318,$BU$11:$BZ$11))","v":0}," ",{"$f":"SUM(COUNTIF($C318:$H318,$CB$11:$CG$11))","v":0}," ",{"$f":"SUM(COUNTIF($C318:$H318,$CI$11:$CN$11))","v":0}," ",{"$f":"SUM(COUNTIF($C318:$H318,$CP$11:$CU$11))","v":0}," ",{"$f":"SUM(COUNTIF($C318:$H318,$CW$11:$DB$11))","v":0}," ",{"$f":"SUM(COUNTIF($C318:$H318,$DD$11:$DI$11))","v":0}," ",{"$f":"SUM(COUNTIF($C318:$H318,$DK$11:$DP$11))","v":0}]
[{"$f":"'aktuelle Zahlen'!A315","v":0},{"$f":"'aktuelle Zahlen'!B315","v":"00:00:00"},{"$f":"'aktuelle Zahlen'!C315","v":0},{"$f":"'aktuelle Zahlen'!D315","v":0},{"$f":"'aktuelle Zahlen'!E315","v":0},{"$f":"'aktuelle Zahlen'!F315","v":0},{"$f":"'aktuelle Zahlen'!G315","v":0},{"$f":"'aktuelle Zahlen'!H315","v":0},{"$f":"'aktuelle Zahlen'!J315","v":0},null," ",{"$f":"SUM(COUNTIF($C319:$H319,$AL$11:$AQ$11))","v":0}," ",{"$f":"SUM(COUNTIF($C319:$H319,$AS$11:$AX$11))","v":0}," ",{"$f":"SUM(COUNTIF($C319:$H319,$AZ$11:$BE$11))","v":0}," ",{"$f":"SUM(COUNTIF($C319:$H319,$BG$11:$BL$11))","v":0}," ",{"$f":"SUM(COUNTIF($C319:$H319,$BN$11:$BS$11))","v":0}," ",{"$f":"SUM(COUNTIF($C319:$H319,$BU$11:$BZ$11))","v":0}," ",{"$f":"SUM(COUNTIF($C319:$H319,$CB$11:$CG$11))","v":0}," ",{"$f":"SUM(COUNTIF($C319:$H319,$CI$11:$CN$11))","v":0}," ",{"$f":"SUM(COUNTIF($C319:$H319,$CP$11:$CU$11))","v":0}," ",{"$f":"SUM(COUNTIF($C319:$H319,$CW$11:$DB$11))","v":0}," ",{"$f":"SUM(COUNTIF($C319:$H319,$DD$11:$DI$11))","v":0}," ",{"$f":"SUM(COUNTIF($C319:$H319,$DK$11:$DP$11))","v":0}]
[{"$f":"'aktuelle Zahlen'!A316","v":0},{"$f":"'aktuelle Zahlen'!B316","v":"00:00:00"},{"$f":"'aktuelle Zahlen'!C316","v":0},{"$f":"'aktuelle Zahlen'!D316","v":0},{"$f":"'aktuelle Zahlen'!E316","v":0},{"$f":"'aktuelle Zahlen'!F316","v":0},{"$f":"'aktuelle Zahlen'!G316","v":0},{"$f":"'aktuelle Zahlen'!H316","v":0},{"$f":"'aktuelle Zahlen'!J316","v":0},null," ",{"$f":"SUM(COUNTIF($C320:$H320,$AL$11:$AQ$11))","v":0}," ",{"$f":"SUM(COUNTIF($C320:$H320,$AS$11:$AX$11))","v":0}," ",{"$f":"SUM(COUNTIF($C320:$H320,$AZ$11:$BE$11))","v":0}," ",{"$f":"SUM(COUNTIF($C320:$H320,$BG$11:$BL$11))","v":0}," ",{"$f":"SUM(COUNTIF($C320:$H320,$BN$11:$BS$11))","v":0}," ",{"$f":"SUM(COUNTIF($C320:$H320,$BU$11:$BZ$11))","v":0}," ",{"$f":"SUM(COUNTIF($C320:$H320,$CB$11:$CG$11))","v":0}," ",{"$f":"SUM(COUNTIF($C320:$H320,$CI$11:$CN$11))","v":0}," ",{"$f":"SUM(COUNTIF($C320:$H320,$CP$11:$CU$11))","v":0}," ",{"$f":"SUM(COUNTIF($C320:$H320,$CW$11:$DB$11))","v":0}," ",{"$f":"SUM(COUNTIF($C320:$H320,$DD$11:$DI$11))","v":0}," ",{"$f":"SUM(COUNTIF($C320:$H320,$DK$11:$DP$11))","v":0}]
[{"$f":"'aktuelle Zahlen'!A317","v":0},{"$f":"'aktuelle Zahlen'!B317","v":"00:00:00"},{"$f":"'aktuelle Zahlen'!C317","v":0},{"$f":"'aktuelle Zahlen'!D317","v":0},{"$f":"'aktuelle Zahlen'!E317","v":0},{"$f":"'aktuelle Zahlen'!F317","v":0},{"$f":"'aktuelle Zahlen'!G317","v":0},{"$f":"'aktuelle Zahlen'!H317","v":0},{"$f":"'aktuelle Zahlen'!J317","v":0},null," ",{"$f":"SUM(COUNTIF($C321:$H321,$AL$11:$AQ$11))","v":0}," ",{"$f":"SUM(COUNTIF($C321:$H321,$AS$11:$AX$11))","v":0}," ",{"$f":"SUM(COUNTIF($C321:$H321,$AZ$11:$BE$11))","v":0}," ",{"$f":"SUM(COUNTIF($C321:$H321,$BG$11:$BL$11))","v":0}," ",{"$f":"SUM(COUNTIF($C321:$H321,$BN$11:$BS$11))","v":0}," ",{"$f":"SUM(COUNTIF($C321:$H321,$BU$11:$BZ$11))","v":0}," ",{"$f":"SUM(COUNTIF($C321:$H321,$CB$11:$CG$11))","v":0}," ",{"$f":"SUM(COUNTIF($C321:$H321,$CI$11:$CN$11))","v":0}," ",{"$f":"SUM(COUNTIF($C321:$H321,$CP$11:$CU$11))","v":0}," ",{"$f":"SUM(COUNTIF($C321:$H321,$CW$11:$DB$11))","v":0}," ",{"$f":"SUM(COUNTIF($C321:$H321,$DD$11:$DI$11))","v":0}," ",{"$f":"SUM(COUNTIF($C321:$H321,$DK$11:$DP$11))","v":0}]
[{"$f":"'aktuelle Zahlen'!A318","v":0},{"$f":"'aktuelle Zahlen'!B318","v":"00:00:00"},{"$f":"'aktuelle Zahlen'!C318","v":0},{"$f":"'aktuelle Zahlen'!D318","v":0},{"$f":"'aktuelle Zahlen'!E318","v":0},{"$f":"'aktuelle Zahlen'!F318","v":0},{"$f":"'aktuelle Zahlen'!G318","v":0},{"$f":"'aktuelle Zahlen'!H318","v":0},{"$f":"'aktuelle Zahlen'!J318","v":0},null," ",{"$f":"SUM(COUNTIF($C322:$H322,$AL$11:$AQ$11))","v":0}," ",{"$f":"SUM(COUNTIF($C322:$H322,$AS$11:$AX$11))","v":0}," ",{"$f":"SUM(COUNTIF($C322:$H322,$AZ$11:$BE$11))","v":0}," ",{"$f":"SUM(COUNTIF($C322:$H322,$BG$11:$BL$11))","v":0}," ",{"$f":"SUM(COUNTIF($C322:$H322,$BN$11:$BS$11))","v":0}," ",{"$f":"SUM(COUNTIF($C322:$H322,$BU$11:$BZ$11))","v":0}," ",{"$f":"SUM(COUNTIF($C322:$H322,$CB$11:$CG$11))","v":0}," ",{"$f":"SUM(COUNTIF($C322:$H322,$CI$11:$CN$11))","v":0}," ",{"$f":"SUM(COUNTIF($C322:$H322,$CP$11:$CU$11))","v":0}," ",{"$f":"SUM(COUNTIF($C322:$H322,$CW$11:$DB$11))","v":0}," ",{"$f":"SUM(COUNTIF($C322:$H322,$DD$11:$DI$11))","v":0}," ",{"$f":"SUM(COUNTIF($C322:$H322,$DK$11:$DP$11))","v":0}]
[{"$f":"'aktuelle Zahlen'!A319","v":0},{"$f":"'aktuelle Zahlen'!B319","v":"00:00:00"},{"$f":"'aktuelle Zahlen'!C319","v":0},{"$f":"'aktuelle Zahlen'!D319","v":0},{"$f":"'aktuelle Zahlen'!E319","v":0},{"$f":"'aktuelle Zahlen'!F319","v":0},{"$f":"'aktuelle Zahlen'!G319","v":0},{"$f":"'aktuelle Zahlen'!H319","v":0},{"$f":"'aktuelle Zahlen'!J319","v":0},null," ",{"$f":"SUM(COUNTIF($C323:$H323,$AL$11:$AQ$11))","v":0}," ",{"$f":"SUM(COUNTIF($C323:$H323,$AS$11:$AX$11))","v":0}," ",{"$f":"SUM(COUNTIF($C323:$H323,$AZ$11:$BE$11))","v":0}," ",{"$f":"SUM(COUNTIF($C323:$H323,$BG$11:$BL$11))","v":0}," ",{"$f":"SUM(COUNTIF($C323:$H323,$BN$11:$BS$11))","v":0}," ",{"$f":"SUM(COUNTIF($C323:$H323,$BU$11:$BZ$11))","v":0}," ",{"$f":"SUM(COUNTIF($C323:$H323,$CB$11:$CG$11))","v":0}," ",{"$f":"SUM(COUNTIF($C323:$H323,$CI$11:$CN$11))","v":0}," ",{"$f":"SUM(COUNTIF($C323:$H323,$CP$11:$CU$11))","v":0}," ",{"$f":"SUM(COUNTIF($C323:$H323,$CW$11:$DB$11))","v":0}," ",{"$f":"SUM(COUNTIF($C323:$H323,$DD$11:$DI$11))","v":0}," ",{"$f":"SUM(COUNTIF($C323:$H323,$DK$11:$DP$11))","v":0}]
[{"$f":"'aktuelle Zahlen'!A320","v":0},{"$f":"'aktuelle Zahlen'!B320","v":"00:00:00"},{"$f":"'aktuelle Zahlen'!C320","v":0},{"$f":"'aktuelle Zahlen'!D320","v":0},{"$f":"'aktuelle Zahlen'!E320","v":0},{"$f":"'aktuelle Zahlen'!F320","v":0},{"$f":"'aktuelle Zahlen'!G320","v":0},{"$f":"'aktuelle Zahlen'!H320","v":0},{"$f":"'aktuelle Zahlen'!J320","v":0},null," ",{"$f":"SUM(COUNTIF($C324:$H324,$AL$11:$AQ$11))","v":0}," ",{"$f":"SUM(COUNTIF($C324:$H324,$AS$11:$AX$11))","v":0}," ",{"$f":"SUM(COUNTIF($C324:$H324,$AZ$11:$BE$11))","v":0}," ",{"$f":"SUM(COUNTIF($C324:$H324,$BG$11:$BL$11))","v":0}," ",{"$f":"SUM(COUNTIF($C324:$H324,$BN$11:$BS$11))","v":0}," ",{"$f":"SUM(COUNTIF($C324:$H324,$BU$11:$BZ$11))","v":0}," ",{"$f":"SUM(COUNTIF($C324:$H324,$CB$11:$CG$11))","v":0}," ",{"$f":"SUM(COUNTIF($C324:$H324,$CI$11:$CN$11))","v":0}," ",{"$f":"SUM(COUNTIF($C324:$H324,$CP$11:$CU$11))","v":0}," ",{"$f":"SUM(COUNTIF($C324:$H324,$CW$11:$DB$11))","v":0}," ",{"$f":"SUM(COUNTIF($C324:$H324,$DD$11:$DI$11))","v":0}," ",{"$f":"SUM(COUNTIF($C324:$H324,$DK$11:$DP$11))","v":0}]
[{"$f":"'aktuelle Zahlen'!A321","v":0},{"$f":"'aktuelle Zahlen'!B321","v":"00:00:00"},{"$f":"'aktuelle Zahlen'!C321","v":0},{"$f":"'aktuelle Zahlen'!D321","v":0},{"$f":"'aktuelle Zahlen'!E321","v":0},{"$f":"'aktuelle Zahlen'!F321","v":0},{"$f":"'aktuelle Zahlen'!G321","v":0},{"$f":"'aktuelle Zahlen'!H321","v":0},{"$f":"'aktuelle Zahlen'!J321","v":0},null," ",{"$f":"SUM(COUNTIF($C325:$H325,$AL$11:$AQ$11))","v":0}," ",{"$f":"SUM(COUNTIF($C325:$H325,$AS$11:$AX$11))","v":0}," ",{"$f":"SUM(COUNTIF($C325:$H325,$AZ$11:$BE$11))","v":0}," ",{"$f":"SUM(COUNTIF($C325:$H325,$BG$11:$BL$11))","v":0}," ",{"$f":"SUM(COUNTIF($C325:$H325,$BN$11:$BS$11))","v":0}," ",{"$f":"SUM(COUNTIF($C325:$H325,$BU$11:$BZ$11))","v":0}," ",{"$f":"SUM(COUNTIF($C325:$H325,$CB$11:$CG$11))","v":0}," ",{"$f":"SUM(COUNTIF($C325:$H325,$CI$11:$CN$11))","v":0}," ",{"$f":"SUM(COUNTIF($C325:$H325,$CP$11:$CU$11))","v":0}," ",{"$f":"SUM(COUNTIF($C325:$H325,$CW$11:$DB$11))","v":0}," ",{"$f":"SUM(COUNTIF($C325:$H325,$DD$11:$DI$11))","v":0}," ",{"$f":"SUM(COUNTIF($C325:$H325,$DK$11:$DP$11))","v":0}]
[{"$f":"'aktuelle Zahlen'!A322","v":0},{"$f":"'aktuelle Zahlen'!B322","v":"00:00:00"},{"$f":"'aktuelle Zahlen'!C322","v":0},{"$f":"'aktuelle Zahlen'!D322","v":0},{"$f":"'aktuelle Zahlen'!E322","v":0},{"$f":"'aktuelle Zahlen'!F322","v":0},{"$f":"'aktuelle Zahlen'!G322","v":0},{"$f":"'aktuelle Zahlen'!H322","v":0},{"$f":"'aktuelle Zahlen'!J322","v":0},null," ",{"$f":"SUM(COUNTIF($C326:$H326,$AL$11:$AQ$11))","v":0}," ",{"$f":"SUM(COUNTIF($C326:$H326,$AS$11:$AX$11))","v":0}," ",{"$f":"SUM(COUNTIF($C326:$H326,$AZ$11:$BE$11))","v":0}," ",{"$f":"SUM(COUNTIF($C326:$H326,$BG$11:$BL$11))","v":0}," ",{"$f":"SUM(COUNTIF($C326:$H326,$BN$11:$BS$11))","v":0}," ",{"$f":"SUM(COUNTIF($C326:$H326,$BU$11:$BZ$11))","v":0}," ",{"$f":"SUM(COUNTIF($C326:$H326,$CB$11:$CG$11))","v":0}," ",{"$f":"SUM(COUNTIF($C326:$H326,$CI$11:$CN$11))","v":0}," ",{"$f":"SUM(COUNTIF($C326:$H326,$CP$11:$CU$11))","v":0}," ",{"$f":"SUM(COUNTIF($C326:$H326,$CW$11:$DB$11))","v":0}," ",{"$f":"SUM(COUNTIF($C326:$H326,$DD$11:$DI$11))","v":0}," ",{"$f":"SUM(COUNTIF($C326:$H326,$DK$11:$DP$11))","v":0}]
[{"$f":"'aktuelle Zahlen'!A323","v":0},{"$f":"'aktuelle Zahlen'!B323","v":"00:00:00"},{"$f":"'aktuelle Zahlen'!C323","v":0},{"$f":"'aktuelle Zahlen'!D323","v":0},{"$f":"'aktuelle Zahlen'!E323","v":0},{"$f":"'aktuelle Zahlen'!F323","v":0},{"$f":"'aktuelle Zahlen'!G323","v":0},{"$f":"'aktuelle Zahlen'!H323","v":0},{"$f":"'aktuelle Zahlen'!J323","v":0},null," ",{"$f":"SUM(COUNTIF($C327:$H327,$AL$11:$AQ$11))","v":0}," ",{"$f":"SUM(COUNTIF($C327:$H327,$AS$11:$AX$11))","v":0}," ",{"$f":"SUM(COUNTIF($C327:$H327,$AZ$11:$BE$11))","v":0}," ",{"$f":"SUM(COUNTIF($C327:$H327,$BG$11:$BL$11))","v":0}," ",{"$f":"SUM(COUNTIF($C327:$H327,$BN$11:$BS$11))","v":0}," ",{"$f":"SUM(COUNTIF($C327:$H327,$BU$11:$BZ$11))","v":0}," ",{"$f":"SUM(COUNTIF($C327:$H327,$CB$11:$CG$11))","v":0}," ",{"$f":"SUM(COUNTIF($C327:$H327,$CI$11:$CN$11))","v":0}," ",{"$f":"SUM(COUNTIF($C327:$H327,$CP$11:$CU$11))","v":0}," ",{"$f":"SUM(COUNTIF($C327:$H327,$CW$11:$DB$11))","v":0}," ",{"$f":"SUM(COUNTIF($C327:$H327,$DD$11:$DI$11))","v":0}," ",{"$f":"SUM(COUNTIF($C327:$H327,$DK$11:$DP$11))","v":0}]
[{"$f":"'aktuelle Zahlen'!A324","v":0},{"$f":"'aktuelle Zahlen'!B324","v":"00:00:00"},{"$f":"'aktuelle Zahlen'!C324","v":0},{"$f":"'aktuelle Zahlen'!D324","v":0},{"$f":"'aktuelle Zahlen'!E324","v":0},{"$f":"'aktuelle Zahlen'!F324","v":0},{"$f":"'aktuelle Zahlen'!G324","v":0},{"$f":"'aktuelle Zahlen'!H324","v":0},{"$f":"'aktuelle Zahlen'!J324","v":0},null," ",{"$f":"SUM(COUNTIF($C328:$H328,$AL$11:$AQ$11))","v":0}," ",{"$f":"SUM(COUNTIF($C328:$H328,$AS$11:$AX$11))","v":0}," ",{"$f":"SUM(COUNTIF($C328:$H328,$AZ$11:$BE$11))","v":0}," ",{"$f":"SUM(COUNTIF($C328:$H328,$BG$11:$BL$11))","v":0}," ",{"$f":"SUM(COUNTIF($C328:$H328,$BN$11:$BS$11))","v":0}," ",{"$f":"SUM(COUNTIF($C328:$H328,$BU$11:$BZ$11))","v":0}," ",{"$f":"SUM(COUNTIF($C328:$H328,$CB$11:$CG$11))","v":0}," ",{"$f":"SUM(COUNTIF($C328:$H328,$CI$11:$CN$11))","v":0}," ",{"$f":"SUM(COUNTIF($C328:$H328,$CP$11:$CU$11))","v":0}," ",{"$f":"SUM(COUNTIF($C328:$H328,$CW$11:$DB$11))","v":0}," ",{"$f":"SUM(COUNTIF($C328:$H328,$DD$11:$DI$11))","v":0}," ",{"$f":"SUM(COUNTIF($C328:$H328,$DK$11:$DP$11))","v":0}]
[{"$f":"'aktuelle Zahlen'!A325","v":0},{"$f":"'aktuelle Zahlen'!B325","v":"00:00:00"},{"$f":"'aktuelle Zahlen'!C325","v":0},{"$f":"'aktuelle Zahlen'!D325","v":0},{"$f":"'aktuelle Zahlen'!E325","v":0},{"$f":"'aktuelle Zahlen'!F325","v":0},{"$f":"'aktuelle Zahlen'!G325","v":0},{"$f":"'aktuelle Zahlen'!H325","v":0},{"$f":"'aktuelle Zahlen'!J325","v":0},null," ",{"$f":"SUM(COUNTIF($C329:$H329,$AL$11:$AQ$11))","v":0}," ",{"$f":"SUM(COUNTIF($C329:$H329,$AS$11:$AX$11))","v":0}," ",{"$f":"SUM(COUNTIF($C329:$H329,$AZ$11:$BE$11))","v":0}," ",{"$f":"SUM(COUNTIF($C329:$H329,$BG$11:$BL$11))","v":0}," ",{"$f":"SUM(COUNTIF($C329:$H329,$BN$11:$BS$11))","v":0}," ",{"$f":"SUM(COUNTIF($C329:$H329,$BU$11:$BZ$11))","v":0}," ",{"$f":"SUM(COUNTIF($C329:$H329,$CB$11:$CG$11))","v":0}," ",{"$f":"SUM(COUNTIF($C329:$H329,$CI$11:$CN$11))","v":0}," ",{"$f":"SUM(COUNTIF($C329:$H329,$CP$11:$CU$11))","v":0}," ",{"$f":"SUM(COUNTIF($C329:$H329,$CW$11:$DB$11))","v":0}," ",{"$f":"SUM(COUNTIF($C329:$H329,$DD$11:$DI$11))","v":0}," ",{"$f":"SUM(COUNTIF($C329:$H329,$DK$11:$DP$11))","v":0}]
[{"$f":"'aktuelle Zahlen'!A326","v":0},{"$f":"'aktuelle Zahlen'!B326","v":"00:00:00"},{"$f":"'aktuelle Zahlen'!C326","v":0},{"$f":"'aktuelle Zahlen'!D326","v":0},{"$f":"'aktuelle Zahlen'!E326","v":0},{"$f":"'aktuelle Zahlen'!F326","v":0},{"$f":"'aktuelle Zahlen'!G326","v":0},{"$f":"'aktuelle Zahlen'!H326","v":0},{"$f":"'aktuelle Zahlen'!J326","v":0},null," ",{"$f":"SUM(COUNTIF($C330:$H330,$AL$11:$AQ$11))","v":0}," ",{"$f":"SUM(COUNTIF($C330:$H330,$AS$11:$AX$11))","v":0}," ",{"$f":"SUM(COUNTIF($C330:$H330,$AZ$11:$BE$11))","v":0}," ",{"$f":"SUM(COUNTIF($C330:$H330,$BG$11:$BL$11))","v":0}," ",{"$f":"SUM(COUNTIF($C330:$H330,$BN$11:$BS$11))","v":0}," ",{"$f":"SUM(COUNTIF($C330:$H330,$BU$11:$BZ$11))","v":0}," ",{"$f":"SUM(COUNTIF($C330:$H330,$CB$11:$CG$11))","v":0}," ",{"$f":"SUM(COUNTIF($C330:$H330,$CI$11:$CN$11))","v":0}," ",{"$f":"SUM(COUNTIF($C330:$H330,$CP$11:$CU$11))","v":0}," ",{"$f":"SUM(COUNTIF($C330:$H330,$CW$11:$DB$11))","v":0}," ",{"$f":"SUM(COUNTIF($C330:$H330,$DD$11:$DI$11))","v":0}," ",{"$f":"SUM(COUNTIF($C330:$H330,$DK$11:$DP$11))","v":0}]
[{"$f":"'aktuelle Zahlen'!A327","v":0},{"$f":"'aktuelle Zahlen'!B327","v":"00:00:00"},{"$f":"'aktuelle Zahlen'!C327","v":0},{"$f":"'aktuelle Zahlen'!D327","v":0},{"$f":"'aktuelle Zahlen'!E327","v":0},{"$f":"'aktuelle Zahlen'!F327","v":0},{"$f":"'aktuelle Zahlen'!G327","v":0},{"$f":"'aktuelle Zahlen'!H327","v":0},{"$f":"'aktuelle Zahlen'!J327","v":0},null," ",{"$f":"SUM(COUNTIF($C331:$H331,$AL$11:$AQ$11))","v":0}," ",{"$f":"SUM(COUNTIF($C331:$H331,$AS$11:$AX$11))","v":0}," ",{"$f":"SUM(COUNTIF($C331:$H331,$AZ$11:$BE$11))","v":0}," ",{"$f":"SUM(COUNTIF($C331:$H331,$BG$11:$BL$11))","v":0}," ",{"$f":"SUM(COUNTIF($C331:$H331,$BN$11:$BS$11))","v":0}," ",{"$f":"SUM(COUNTIF($C331:$H331,$BU$11:$BZ$11))","v":0}," ",{"$f":"SUM(COUNTIF($C331:$H331,$CB$11:$CG$11))","v":0}," ",{"$f":"SUM(COUNTIF($C331:$H331,$CI$11:$CN$11))","v":0}," ",{"$f":"SUM(COUNTIF($C331:$H331,$CP$11:$CU$11))","v":0}," ",{"$f":"SUM(COUNTIF($C331:$H331,$CW$11:$DB$11))","v":0}," ",{"$f":"SUM(COUNTIF($C331:$H331,$DD$11:$DI$11))","v":0}," ",{"$f":"SUM(COUNTIF($C331:$H331,$DK$11:$DP$11))","v":0}]
[{"$f":"'aktuelle Zahlen'!A328","v":0},{"$f":"'aktuelle Zahlen'!B328","v":"00:00:00"},{"$f":"'aktuelle Zahlen'!C328","v":0},{"$f":"'aktuelle Zahlen'!D328","v":0},{"$f":"'aktuelle Zahlen'!E328","v":0},{"$f":"'aktuelle Zahlen'!F328","v":0},{"$f":"'aktuelle Zahlen'!G328","v":0},{"$f":"'aktuelle Zahlen'!H328","v":0},{"$f":"'aktuelle Zahlen'!J328","v":0},null," ",{"$f":"SUM(COUNTIF($C332:$H332,$AL$11:$AQ$11))","v":0}," ",{"$f":"SUM(COUNTIF($C332:$H332,$AS$11:$AX$11))","v":0}," ",{"$f":"SUM(COUNTIF($C332:$H332,$AZ$11:$BE$11))","v":0}," ",{"$f":"SUM(COUNTIF($C332:$H332,$BG$11:$BL$11))","v":0}," ",{"$f":"SUM(COUNTIF($C332:$H332,$BN$11:$BS$11))","v":0}," ",{"$f":"SUM(COUNTIF($C332:$H332,$BU$11:$BZ$11))","v":0}," ",{"$f":"SUM(COUNTIF($C332:$H332,$CB$11:$CG$11))","v":0}," ",{"$f":"SUM(COUNTIF($C332:$H332,$CI$11:$CN$11))","v":0}," ",{"$f":"SUM(COUNTIF($C332:$H332,$CP$11:$CU$11))","v":0}," ",{"$f":"SUM(COUNTIF($C332:$H332,$CW$11:$DB$11))","v":0}," ",{"$f":"SUM(COUNTIF($C332:$H332,$DD$11:$DI$11))","v":0}," ",{"$f":"SUM(COUNTIF($C332:$H332,$DK$11:$DP$11))","v":0}]
[{"$f":"'aktuelle Zahlen'!A329","v":0},{"$f":"'aktuelle Zahlen'!B329","v":"00:00:00"},{"$f":"'aktuelle Zahlen'!C329","v":0},{"$f":"'aktuelle Zahlen'!D329","v":0},{"$f":"'aktuelle Zahlen'!E329","v":0},{"$f":"'aktuelle Zahlen'!F329","v":0},{"$f":"'aktuelle Zahlen'!G329","v":0},{"$f":"'aktuelle Zahlen'!H329","v":0},{"$f":"'aktuelle Zahlen'!J329","v":0},null," ",{"$f":"SUM(COUNTIF($C333:$H333,$AL$11:$AQ$11))","v":0}," ",{"$f":"SUM(COUNTIF($C333:$H333,$AS$11:$AX$11))","v":0}," ",{"$f":"SUM(COUNTIF($C333:$H333,$AZ$11:$BE$11))","v":0}," ",{"$f":"SUM(COUNTIF($C333:$H333,$BG$11:$BL$11))","v":0}," ",{"$f":"SUM(COUNTIF($C333:$H333,$BN$11:$BS$11))","v":0}," ",{"$f":"SUM(COUNTIF($C333:$H333,$BU$11:$BZ$11))","v":0}," ",{"$f":"SUM(COUNTIF($C333:$H333,$CB$11:$CG$11))","v":0}," ",{"$f":"SUM(COUNTIF($C333:$H333,$CI$11:$CN$11))","v":0}," ",{"$f":"SUM(COUNTIF($C333:$H333,$CP$11:$CU$11))","v":0}," ",{"$f":"SUM(COUNTIF($C333:$H333,$CW$11:$DB$11))","v":0}," ",{"$f":"SUM(COUNTIF($C333:$H333,$DD$11:$DI$11))","v":0}," ",{"$f":"SUM(COUNTIF($C333:$H333,$DK$11:$DP$11))","v":0}]
[{"$f":"'aktuelle Zahlen'!A330","v":0},{"$f":"'aktuelle Zahlen'!B330","v":"00:00:00"},{"$f":"'aktuelle Zahlen'!C330","v":0},{"$f":"'aktuelle Zahlen'!D330","v":0},{"$f":"'aktuelle Zahlen'!E330","v":0},{"$f":"'aktuelle Zahlen'!F330","v":0},{"$f":"'aktuelle Zahlen'!G330","v":0},{"$f":"'aktuelle Zahlen'!H330","v":0},{"$f":"'aktuelle Zahlen'!J330","v":0},null," ",{"$f":"SUM(COUNTIF($C334:$H334,$AL$11:$AQ$11))","v":0}," ",{"$f":"SUM(COUNTIF($C334:$H334,$AS$11:$AX$11))","v":0}," ",{"$f":"SUM(COUNTIF($C334:$H334,$AZ$11:$BE$11))","v":0}," ",{"$f":"SUM(COUNTIF($C334:$H334,$BG$11:$BL$11))","v":0}," ",{"$f":"SUM(COUNTIF($C334:$H334,$BN$11:$BS$11))","v":0}," ",{"$f":"SUM(COUNTIF($C334:$H334,$BU$11:$BZ$11))","v":0}," ",{"$f":"SUM(COUNTIF($C334:$H334,$CB$11:$CG$11))","v":0}," ",{"$f":"SUM(COUNTIF($C334:$H334,$CI$11:$CN$11))","v":0}," ",{"$f":"SUM(COUNTIF($C334:$H334,$CP$11:$CU$11))","v":0}," ",{"$f":"SUM(COUNTIF($C334:$H334,$CW$11:$DB$11))","v":0}," ",{"$f":"SUM(COUNTIF($C334:$H334,$DD$11:$DI$11))","v":0}," ",{"$f":"SUM(COUNTIF($C334:$H334,$DK$11:$DP$11))","v":0}]
[{"$f":"'aktuelle Zahlen'!A331","v":0},{"$f":"'aktuelle Zahlen'!B331","v":"00:00:00"},{"$f":"'aktuelle Zahlen'!C331","v":0},{"$f":"'aktuelle Zahlen'!D331","v":0},{"$f":"'aktuelle Zahlen'!E331","v":0},{"$f":"'aktuelle Zahlen'!F331","v":0},{"$f":"'aktuelle Zahlen'!G331","v":0},{"$f":"'aktuelle Zahlen'!H331","v":0},{"$f":"'aktuelle Zahlen'!J331","v":0},null," ",{"$f":"SUM(COUNTIF($C335:$H335,$AL$11:$AQ$11))","v":0}," ",{"$f":"SUM(COUNTIF($C335:$H335,$AS$11:$AX$11))","v":0}," ",{"$f":"SUM(COUNTIF($C335:$H335,$AZ$11:$BE$11))","v":0}," ",{"$f":"SUM(COUNTIF($C335:$H335,$BG$11:$BL$11))","v":0}," ",{"$f":"SUM(COUNTIF($C335:$H335,$BN$11:$BS$11))","v":0}," ",{"$f":"SUM(COUNTIF($C335:$H335,$BU$11:$BZ$11))","v":0}," ",{"$f":"SUM(COUNTIF($C335:$H335,$CB$11:$CG$11))","v":0}," ",{"$f":"SUM(COUNTIF($C335:$H335,$CI$11:$CN$11))","v":0}," ",{"$f":"SUM(COUNTIF($C335:$H335,$CP$11:$CU$11))","v":0}," ",{"$f":"SUM(COUNTIF($C335:$H335,$CW$11:$DB$11))","v":0}," ",{"$f":"SUM(COUNTIF($C335:$H335,$DD$11:$DI$11))","v":0}," ",{"$f":"SUM(COUNTIF($C335:$H335,$DK$11:$DP$11))","v":0}]
[{"$f":"'aktuelle Zahlen'!A332","v":0},{"$f":"'aktuelle Zahlen'!B332","v":"00:00:00"},{"$f":"'aktuelle Zahlen'!C332","v":0},{"$f":"'aktuelle Zahlen'!D332","v":0},{"$f":"'aktuelle Zahlen'!E332","v":0},{"$f":"'aktuelle Zahlen'!F332","v":0},{"$f":"'aktuelle Zahlen'!G332","v":0},{"$f":"'aktuelle Zahlen'!H332","v":0},{"$f":"'aktuelle Zahlen'!J332","v":0},null," ",{"$f":"SUM(COUNTIF($C336:$H336,$AL$11:$AQ$11))","v":0}," ",{"$f":"SUM(COUNTIF($C336:$H336,$AS$11:$AX$11))","v":0}," ",{"$f":"SUM(COUNTIF($C336:$H336,$AZ$11:$BE$11))","v":0}," ",{"$f":"SUM(COUNTIF($C336:$H336,$BG$11:$BL$11))","v":0}," ",{"$f":"SUM(COUNTIF($C336:$H336,$BN$11:$BS$11))","v":0}," ",{"$f":"SUM(COUNTIF($C336:$H336,$BU$11:$BZ$11))","v":0}," ",{"$f":"SUM(COUNTIF($C336:$H336,$CB$11:$CG$11))","v":0}," ",{"$f":"SUM(COUNTIF($C336:$H336,$CI$11:$CN$11))","v":0}," ",{"$f":"SUM(COUNTIF($C336:$H336,$CP$11:$CU$11))","v":0}," ",{"$f":"SUM(COUNTIF($C336:$H336,$CW$11:$DB$11))","v":0}," ",{"$f":"SUM(COUNTIF($C336:$H336,$DD$11:$DI$11))","v":0}," ",{"$f":"SUM(COUNTIF($C336:$H336,$DK$11:$DP$11))","v":0}]
[{"$f":"'aktuelle Zahlen'!A333","v":0},{"$f":"'aktuelle Zahlen'!B333","v":"00:00:00"},{"$f":"'aktuelle Zahlen'!C333","v":0},{"$f":"'aktuelle Zahlen'!D333","v":0},{"$f":"'aktuelle Zahlen'!E333","v":0},{"$f":"'aktuelle Zahlen'!F333","v":0},{"$f":"'aktuelle Zahlen'!G333","v":0},{"$f":"'aktuelle Zahlen'!H333","v":0},{"$f":"'aktuelle Zahlen'!J333","v":0},null,{"$f":"IF(L337>1,(IF($I337=$AJ$11,L337 & \"Z\",L337)),\" \")","v":" "},{"$f":"SUM(COUNTIF($C337:$H337,$AL$11:$AQ$11))","v":0},{"$f":"IF(N337>1,(IF($I337=$AJ$11,N337 & \"Z\",N337)),\" \")","v":" "},{"$f":"SUM(COUNTIF($C337:$H337,$AS$11:$AX$11))","v":0},{"$f":"IF(P337>1,(IF($I337=$AJ$11,P337 & \"Z\",P337)),\" \")","v":" "},{"$f":"SUM(COUNTIF($C337:$H337,$AZ$11:$BE$11))","v":0},{"$f":"IF(R337>1,(IF($I337=$AJ$11,R337 & \"Z\",R337)),\" \")","v":" "},{"$f":"SUM(COUNTIF($C337:$H337,$BG$11:$BL$11))","v":0},{"$f":"IF(T337>1,(IF($I337=$AJ$11,T337 & \"Z\",T337)),\" \")","v":" "},{"$f":"SUM(COUNTIF($C337:$H337,$BN$11:$BS$11))","v":0},{"$f":"IF(V337>1,(IF($I337=$AJ$11,V337 & \"Z\",V337)),\" \")","v":" "},{"$f":"SUM(COUNTIF($C337:$H337,$BU$11:$BZ$11))","v":0},{"$f":"IF(X337>1,(IF($I337=$AJ$11,X337 & \"Z\",X337)),\" \")","v":" "},{"$f":"SUM(COUNTIF($C337:$H337,$CB$11:$CG$11))","v":0},{"$f":"IF(Z337>1,(IF($I337=$AJ$11,Z337 & \"Z\",Z337)),\" \")","v":" "},{"$f":"SUM(COUNTIF($C337:$H337,$CI$11:$CN$11))","v":0},{"$f":"IF(AB337>1,(IF($I337=$AJ$11,AB337 & \"Z\",AB337)),\" \")","v":" "},{"$f":"SUM(COUNTIF($C337:$H337,$CP$11:$CU$11))","v":0},{"$f":"IF(AD337>1,(IF($I337=$AJ$11,AD337 & \"Z\",AD337)),\" \")","v":" "},{"$f":"SUM(COUNTIF($C337:$H337,$CW$11:$DB$11))","v":0},{"$f":"IF(AF337>1,(IF($I337=$AJ$11,AF337 & \"Z\",AF337)),\" \")","v":" "},{"$f":"SUM(COUNTIF($C337:$H337,$DD$11:$DI$11))","v":0},{"$f":"IF(AH337>1,(IF($I337=$AJ$11,AH337 & \"Z\",AH337)),\" \")","v":" "},{"$f":"SUM(COUNTIF($C337:$H337,$DK$11:$DP$11))","v":0}]
[{"$f":"'aktuelle Zahlen'!A334","v":0},{"$f":"'aktuelle Zahlen'!B334","v":"00:00:00"},{"$f":"'aktuelle Zahlen'!C334","v":0},{"$f":"'aktuelle Zahlen'!D334","v":0},{"$f":"'aktuelle Zahlen'!E334","v":0},{"$f":"'aktuelle Zahlen'!F334","v":0},{"$f":"'aktuelle Zahlen'!G334","v":0},{"$f":"'aktuelle Zahlen'!H334","v":0},{"$f":"'aktuelle Zahlen'!J334","v":0},null," ",{"$f":"SUM(COUNTIF($C338:$H338,$AL$11:$AQ$11))","v":0}," ",{"$f":"SUM(COUNTIF($C338:$H338,$AS$11:$AX$11))","v":0}," ",{"$f":"SUM(COUNTIF($C338:$H338,$AZ$11:$BE$11))","v":0}," ",{"$f":"SUM(COUNTIF($C338:$H338,$BG$11:$BL$11))","v":0}," ",{"$f":"SUM(COUNTIF($C338:$H338,$BN$11:$BS$11))","v":0}," ",{"$f":"SUM(COUNTIF($C338:$H338,$BU$11:$BZ$11))","v":0}," ",{"$f":"SUM(COUNTIF($C338:$H338,$CB$11:$CG$11))","v":0}," ",{"$f":"SUM(COUNTIF($C338:$H338,$CI$11:$CN$11))","v":0}," ",{"$f":"SUM(COUNTIF($C338:$H338,$CP$11:$CU$11))","v":0}," ",{"$f":"SUM(COUNTIF($C338:$H338,$CW$11:$DB$11))","v":0}," ",{"$f":"SUM(COUNTIF($C338:$H338,$DD$11:$DI$11))","v":0}," ",{"$f":"SUM(COUNTIF($C338:$H338,$DK$11:$DP$11))","v":0}]
[{"$f":"'aktuelle Zahlen'!A335","v":0},{"$f":"'aktuelle Zahlen'!B335","v":"00:00:00"},{"$f":"'aktuelle Zahlen'!C335","v":0},{"$f":"'aktuelle Zahlen'!D335","v":0},{"$f":"'aktuelle Zahlen'!E335","v":0},{"$f":"'aktuelle Zahlen'!F335","v":0},{"$f":"'aktuelle Zahlen'!G335","v":0},{"$f":"'aktuelle Zahlen'!H335","v":0},{"$f":"'aktuelle Zahlen'!J335","v":0},null," ",{"$f":"SUM(COUNTIF($C339:$H339,$AL$11:$AQ$11))","v":0}," ",{"$f":"SUM(COUNTIF($C339:$H339,$AS$11:$AX$11))","v":0}," ",{"$f":"SUM(COUNTIF($C339:$H339,$AZ$11:$BE$11))","v":0}," ",{"$f":"SUM(COUNTIF($C339:$H339,$BG$11:$BL$11))","v":0}," ",{"$f":"SUM(COUNTIF($C339:$H339,$BN$11:$BS$11))","v":0}," ",{"$f":"SUM(COUNTIF($C339:$H339,$BU$11:$BZ$11))","v":0}," ",{"$f":"SUM(COUNTIF($C339:$H339,$CB$11:$CG$11))","v":0}," ",{"$f":"SUM(COUNTIF($C339:$H339,$CI$11:$CN$11))","v":0}," ",{"$f":"SUM(COUNTIF($C339:$H339,$CP$11:$CU$11))","v":0}," ",{"$f":"SUM(COUNTIF($C339:$H339,$CW$11:$DB$11))","v":0}," ",{"$f":"SUM(COUNTIF($C339:$H339,$DD$11:$DI$11))","v":0}," ",{"$f":"SUM(COUNTIF($C339:$H339,$DK$11:$DP$11))","v":0}]
[{"$f":"'aktuelle Zahlen'!A336","v":0},{"$f":"'aktuelle Zahlen'!B336","v":"00:00:00"},{"$f":"'aktuelle Zahlen'!C336","v":0},{"$f":"'aktuelle Zahlen'!D336","v":0},{"$f":"'aktuelle Zahlen'!E336","v":0},{"$f":"'aktuelle Zahlen'!F336","v":0},{"$f":"'aktuelle Zahlen'!G336","v":0},{"$f":"'aktuelle Zahlen'!H336","v":0},{"$f":"'aktuelle Zahlen'!J336","v":0},null," ",{"$f":"SUM(COUNTIF($C340:$H340,$AL$11:$AQ$11))","v":0}," ",{"$f":"SUM(COUNTIF($C340:$H340,$AS$11:$AX$11))","v":0}," ",{"$f":"SUM(COUNTIF($C340:$H340,$AZ$11:$BE$11))","v":0}," ",{"$f":"SUM(COUNTIF($C340:$H340,$BG$11:$BL$11))","v":0}," ",{"$f":"SUM(COUNTIF($C340:$H340,$BN$11:$BS$11))","v":0}," ",{"$f":"SUM(COUNTIF($C340:$H340,$BU$11:$BZ$11))","v":0}," ",{"$f":"SUM(COUNTIF($C340:$H340,$CB$11:$CG$11))","v":0}," ",{"$f":"SUM(COUNTIF($C340:$H340,$CI$11:$CN$11))","v":0}," ",{"$f":"SUM(COUNTIF($C340:$H340,$CP$11:$CU$11))","v":0}," ",{"$f":"SUM(COUNTIF($C340:$H340,$CW$11:$DB$11))","v":0}," ",{"$f":"SUM(COUNTIF($C340:$H340,$DD$11:$DI$11))","v":0}," ",{"$f":"SUM(COUNTIF($C340:$H340,$DK$11:$DP$11))","v":0}]
[{"$f":"'aktuelle Zahlen'!A337","v":0},{"$f":"'aktuelle Zahlen'!B337","v":"00:00:00"},{"$f":"'aktuelle Zahlen'!C337","v":0},{"$f":"'aktuelle Zahlen'!D337","v":0},{"$f":"'aktuelle Zahlen'!E337","v":0},{"$f":"'aktuelle Zahlen'!F337","v":0},{"$f":"'aktuelle Zahlen'!G337","v":0},{"$f":"'aktuelle Zahlen'!H337","v":0},{"$f":"'aktuelle Zahlen'!J337","v":0},null," ",{"$f":"SUM(COUNTIF($C341:$H341,$AL$11:$AQ$11))","v":0}," ",{"$f":"SUM(COUNTIF($C341:$H341,$AS$11:$AX$11))","v":0}," ",{"$f":"SUM(COUNTIF($C341:$H341,$AZ$11:$BE$11))","v":0}," ",{"$f":"SUM(COUNTIF($C341:$H341,$BG$11:$BL$11))","v":0}," ",{"$f":"SUM(COUNTIF($C341:$H341,$BN$11:$BS$11))","v":0}," ",{"$f":"SUM(COUNTIF($C341:$H341,$BU$11:$BZ$11))","v":0}," ",{"$f":"SUM(COUNTIF($C341:$H341,$CB$11:$CG$11))","v":0}," ",{"$f":"SUM(COUNTIF($C341:$H341,$CI$11:$CN$11))","v":0}," ",{"$f":"SUM(COUNTIF($C341:$H341,$CP$11:$CU$11))","v":0}," ",{"$f":"SUM(COUNTIF($C341:$H341,$CW$11:$DB$11))","v":0}," ",{"$f":"SUM(COUNTIF($C341:$H341,$DD$11:$DI$11))","v":0}," ",{"$f":"SUM(COUNTIF($C341:$H341,$DK$11:$DP$11))","v":0}]
[{"$f":"'aktuelle Zahlen'!A338","v":0},{"$f":"'aktuelle Zahlen'!B338","v":"00:00:00"},{"$f":"'aktuelle Zahlen'!C338","v":0},{"$f":"'aktuelle Zahlen'!D338","v":0},{"$f":"'aktuelle Zahlen'!E338","v":0},{"$f":"'aktuelle Zahlen'!F338","v":0},{"$f":"'aktuelle Zahlen'!G338","v":0},{"$f":"'aktuelle Zahlen'!H338","v":0},{"$f":"'aktuelle Zahlen'!J338","v":0},null," ",{"$f":"SUM(COUNTIF($C342:$H342,$AL$11:$AQ$11))","v":0}," ",{"$f":"SUM(COUNTIF($C342:$H342,$AS$11:$AX$11))","v":0}," ",{"$f":"SUM(COUNTIF($C342:$H342,$AZ$11:$BE$11))","v":0}," ",{"$f":"SUM(COUNTIF($C342:$H342,$BG$11:$BL$11))","v":0}," ",{"$f":"SUM(COUNTIF($C342:$H342,$BN$11:$BS$11))","v":0}," ",{"$f":"SUM(COUNTIF($C342:$H342,$BU$11:$BZ$11))","v":0}," ",{"$f":"SUM(COUNTIF($C342:$H342,$CB$11:$CG$11))","v":0}," ",{"$f":"SUM(COUNTIF($C342:$H342,$CI$11:$CN$11))","v":0}," ",{"$f":"SUM(COUNTIF($C342:$H342,$CP$11:$CU$11))","v":0}," ",{"$f":"SUM(COUNTIF($C342:$H342,$CW$11:$DB$11))","v":0}," ",{"$f":"SUM(COUNTIF($C342:$H342,$DD$11:$DI$11))","v":0}," ",{"$f":"SUM(COUNTIF($C342:$H342,$DK$11:$DP$11))","v":0}]
[{"$f":"'aktuelle Zahlen'!A339","v":0},{"$f":"'aktuelle Zahlen'!B339","v":"00:00:00"},{"$f":"'aktuelle Zahlen'!C339","v":0},{"$f":"'aktuelle Zahlen'!D339","v":0},{"$f":"'aktuelle Zahlen'!E339","v":0},{"$f":"'aktuelle Zahlen'!F339","v":0},{"$f":"'aktuelle Zahlen'!G339","v":0},{"$f":"'aktuelle Zahlen'!H339","v":0},{"$f":"'aktuelle Zahlen'!J339","v":0},null," ",{"$f":"SUM(COUNTIF($C343:$H343,$AL$11:$AQ$11))","v":0}," ",{"$f":"SUM(COUNTIF($C343:$H343,$AS$11:$AX$11))","v":0}," ",{"$f":"SUM(COUNTIF($C343:$H343,$AZ$11:$BE$11))","v":0}," ",{"$f":"SUM(COUNTIF($C343:$H343,$BG$11:$BL$11))","v":0}," ",{"$f":"SUM(COUNTIF($C343:$H343,$BN$11:$BS$11))","v":0}," ",{"$f":"SUM(COUNTIF($C343:$H343,$BU$11:$BZ$11))","v":0}," ",{"$f":"SUM(COUNTIF($C343:$H343,$CB$11:$CG$11))","v":0}," ",{"$f":"SUM(COUNTIF($C343:$H343,$CI$11:$CN$11))","v":0}," ",{"$f":"SUM(COUNTIF($C343:$H343,$CP$11:$CU$11))","v":0}," ",{"$f":"SUM(COUNTIF($C343:$H343,$CW$11:$DB$11))","v":0}," ",{"$f":"SUM(COUNTIF($C343:$H343,$DD$11:$DI$11))","v":0}," ",{"$f":"SUM(COUNTIF($C343:$H343,$DK$11:$DP$11))","v":0}]
[{"$f":"'aktuelle Zahlen'!A340","v":0},{"$f":"'aktuelle Zahlen'!B340","v":"00:00:00"},{"$f":"'aktuelle Zahlen'!C340","v":0},{"$f":"'aktuelle Zahlen'!D340","v":0},{"$f":"'aktuelle Zahlen'!E340","v":0},{"$f":"'aktuelle Zahlen'!F340","v":0},{"$f":"'aktuelle Zahlen'!G340","v":0},{"$f":"'aktuelle Zahlen'!H340","v":0},{"$f":"'aktuelle Zahlen'!J340","v":0},null," ",{"$f":"SUM(COUNTIF($C344:$H344,$AL$11:$AQ$11))","v":0}," ",{"$f":"SUM(COUNTIF($C344:$H344,$AS$11:$AX$11))","v":0}," ",{"$f":"SUM(COUNTIF($C344:$H344,$AZ$11:$BE$11))","v":0}," ",{"$f":"SUM(COUNTIF($C344:$H344,$BG$11:$BL$11))","v":0}," ",{"$f":"SUM(COUNTIF($C344:$H344,$BN$11:$BS$11))","v":0}," ",{"$f":"SUM(COUNTIF($C344:$H344,$BU$11:$BZ$11))","v":0}," ",{"$f":"SUM(COUNTIF($C344:$H344,$CB$11:$CG$11))","v":0}," ",{"$f":"SUM(COUNTIF($C344:$H344,$CI$11:$CN$11))","v":0}," ",{"$f":"SUM(COUNTIF($C344:$H344,$CP$11:$CU$11))","v":0}," ",{"$f":"SUM(COUNTIF($C344:$H344,$CW$11:$DB$11))","v":0}," ",{"$f":"SUM(COUNTIF($C344:$H344,$DD$11:$DI$11))","v":0}," ",{"$f":"SUM(COUNTIF($C344:$H344,$DK$11:$DP$11))","v":0}]
[{"$f":"'aktuelle Zahlen'!A341","v":0},{"$f":"'aktuelle Zahlen'!B341","v":"00:00:00"},{"$f":"'aktuelle Zahlen'!C341","v":0},{"$f":"'aktuelle Zahlen'!D341","v":0},{"$f":"'aktuelle Zahlen'!E341","v":0},{"$f":"'aktuelle Zahlen'!F341","v":0},{"$f":"'aktuelle Zahlen'!G341","v":0},{"$f":"'aktuelle Zahlen'!H341","v":0},{"$f":"'aktuelle Zahlen'!J341","v":0},null," ",{"$f":"SUM(COUNTIF($C345:$H345,$AL$11:$AQ$11))","v":0}," ",{"$f":"SUM(COUNTIF($C345:$H345,$AS$11:$AX$11))","v":0}," ",{"$f":"SUM(COUNTIF($C345:$H345,$AZ$11:$BE$11))","v":0}," ",{"$f":"SUM(COUNTIF($C345:$H345,$BG$11:$BL$11))","v":0}," ",{"$f":"SUM(COUNTIF($C345:$H345,$BN$11:$BS$11))","v":0}," ",{"$f":"SUM(COUNTIF($C345:$H345,$BU$11:$BZ$11))","v":0}," ",{"$f":"SUM(COUNTIF($C345:$H345,$CB$11:$CG$11))","v":0}," ",{"$f":"SUM(COUNTIF($C345:$H345,$CI$11:$CN$11))","v":0}," ",{"$f":"SUM(COUNTIF($C345:$H345,$CP$11:$CU$11))","v":0}," ",{"$f":"SUM(COUNTIF($C345:$H345,$CW$11:$DB$11))","v":0}," ",{"$f":"SUM(COUNTIF($C345:$H345,$DD$11:$DI$11))","v":0}," ",{"$f":"SUM(COUNTIF($C345:$H345,$DK$11:$DP$11))","v":0}]
[{"$f":"'aktuelle Zahlen'!A342","v":0},{"$f":"'aktuelle Zahlen'!B342","v":"00:00:00"},{"$f":"'aktuelle Zahlen'!C342","v":0},{"$f":"'aktuelle Zahlen'!D342","v":0},{"$f":"'aktuelle Zahlen'!E342","v":0},{"$f":"'aktuelle Zahlen'!F342","v":0},{"$f":"'aktuelle Zahlen'!G342","v":0},{"$f":"'aktuelle Zahlen'!H342","v":0},{"$f":"'aktuelle Zahlen'!J342","v":0},null," ",{"$f":"SUM(COUNTIF($C346:$H346,$AL$11:$AQ$11))","v":0}," ",{"$f":"SUM(COUNTIF($C346:$H346,$AS$11:$AX$11))","v":0}," ",{"$f":"SUM(COUNTIF($C346:$H346,$AZ$11:$BE$11))","v":0}," ",{"$f":"SUM(COUNTIF($C346:$H346,$BG$11:$BL$11))","v":0}," ",{"$f":"SUM(COUNTIF($C346:$H346,$BN$11:$BS$11))","v":0}," ",{"$f":"SUM(COUNTIF($C346:$H346,$BU$11:$BZ$11))","v":0}," ",{"$f":"SUM(COUNTIF($C346:$H346,$CB$11:$CG$11))","v":0}," ",{"$f":"SUM(COUNTIF($C346:$H346,$CI$11:$CN$11))","v":0}," ",{"$f":"SUM(COUNTIF($C346:$H346,$CP$11:$CU$11))","v":0}," ",{"$f":"SUM(COUNTIF($C346:$H346,$CW$11:$DB$11))","v":0}," ",{"$f":"SUM(COUNTIF($C346:$H346,$DD$11:$DI$11))","v":0}," ",{"$f":"SUM(COUNTIF($C346:$H346,$DK$11:$DP$11))","v":0}]
[{"$f":"'aktuelle Zahlen'!A343","v":0},{"$f":"'aktuelle Zahlen'!B343","v":"00:00:00"},{"$f":"'aktuelle Zahlen'!C343","v":0},{"$f":"'aktuelle Zahlen'!D343","v":0},{"$f":"'aktuelle Zahlen'!E343","v":0},{"$f":"'aktuelle Zahlen'!F343","v":0},{"$f":"'aktuelle Zahlen'!G343","v":0},{"$f":"'aktuelle Zahlen'!H343","v":0},{"$f":"'aktuelle Zahlen'!J343","v":0},null," ",{"$f":"SUM(COUNTIF($C347:$H347,$AL$11:$AQ$11))","v":0}," ",{"$f":"SUM(COUNTIF($C347:$H347,$AS$11:$AX$11))","v":0}," ",{"$f":"SUM(COUNTIF($C347:$H347,$AZ$11:$BE$11))","v":0}," ",{"$f":"SUM(COUNTIF($C347:$H347,$BG$11:$BL$11))","v":0}," ",{"$f":"SUM(COUNTIF($C347:$H347,$BN$11:$BS$11))","v":0}," ",{"$f":"SUM(COUNTIF($C347:$H347,$BU$11:$BZ$11))","v":0}," ",{"$f":"SUM(COUNTIF($C347:$H347,$CB$11:$CG$11))","v":0}," ",{"$f":"SUM(COUNTIF($C347:$H347,$CI$11:$CN$11))","v":0}," ",{"$f":"SUM(COUNTIF($C347:$H347,$CP$11:$CU$11))","v":0}," ",{"$f":"SUM(COUNTIF($C347:$H347,$CW$11:$DB$11))","v":0}," ",{"$f":"SUM(COUNTIF($C347:$H347,$DD$11:$DI$11))","v":0}," ",{"$f":"SUM(COUNTIF($C347:$H347,$DK$11:$DP$11))","v":0}]
[{"$f":"'aktuelle Zahlen'!A344","v":0},{"$f":"'aktuelle Zahlen'!B344","v":"00:00:00"},{"$f":"'aktuelle Zahlen'!C344","v":0},{"$f":"'aktuelle Zahlen'!D344","v":0},{"$f":"'aktuelle Zahlen'!E344","v":0},{"$f":"'aktuelle Zahlen'!F344","v":0},{"$f":"'aktuelle Zahlen'!G344","v":0},{"$f":"'aktuelle Zahlen'!H344","v":0},{"$f":"'aktuelle Zahlen'!J344","v":0},null," ",{"$f":"SUM(COUNTIF($C348:$H348,$AL$11:$AQ$11))","v":0}," ",{"$f":"SUM(COUNTIF($C348:$H348,$AS$11:$AX$11))","v":0}," ",{"$f":"SUM(COUNTIF($C348:$H348,$AZ$11:$BE$11))","v":0}," ",{"$f":"SUM(COUNTIF($C348:$H348,$BG$11:$BL$11))","v":0}," ",{"$f":"SUM(COUNTIF($C348:$H348,$BN$11:$BS$11))","v":0}," ",{"$f":"SUM(COUNTIF($C348:$H348,$BU$11:$BZ$11))","v":0}," ",{"$f":"SUM(COUNTIF($C348:$H348,$CB$11:$CG$11))","v":0}," ",{"$f":"SUM(COUNTIF($C348:$H348,$CI$11:$CN$11))","v":0}," ",{"$f":"SUM(COUNTIF($C348:$H348,$CP$11:$CU$11))","v":0}," ",{"$f":"SUM(COUNTIF($C348:$H348,$CW$11:$DB$11))","v":0}," ",{"$f":"SUM(COUNTIF($C348:$H348,$DD$11:$DI$11))","v":0}," ",{"$f":"SUM(COUNTIF($C348:$H348,$DK$11:$DP$11))","v":0}]
[{"$f":"'aktuelle Zahlen'!A345","v":0},{"$f":"'aktuelle Zahlen'!B345","v":"00:00:00"},{"$f":"'aktuelle Zahlen'!C345","v":0},{"$f":"'aktuelle Zahlen'!D345","v":0},{"$f":"'aktuelle Zahlen'!E345","v":0},{"$f":"'aktuelle Zahlen'!F345","v":0},{"$f":"'aktuelle Zahlen'!G345","v":0},{"$f":"'aktuelle Zahlen'!H345","v":0},{"$f":"'aktuelle Zahlen'!J345","v":0},null," ",{"$f":"SUM(COUNTIF($C349:$H349,$AL$11:$AQ$11))","v":0}," ",{"$f":"SUM(COUNTIF($C349:$H349,$AS$11:$AX$11))","v":0}," ",{"$f":"SUM(COUNTIF($C349:$H349,$AZ$11:$BE$11))","v":0}," ",{"$f":"SUM(COUNTIF($C349:$H349,$BG$11:$BL$11))","v":0}," ",{"$f":"SUM(COUNTIF($C349:$H349,$BN$11:$BS$11))","v":0}," ",{"$f":"SUM(COUNTIF($C349:$H349,$BU$11:$BZ$11))","v":0}," ",{"$f":"SUM(COUNTIF($C349:$H349,$CB$11:$CG$11))","v":0}," ",{"$f":"SUM(COUNTIF($C349:$H349,$CI$11:$CN$11))","v":0}," ",{"$f":"SUM(COUNTIF($C349:$H349,$CP$11:$CU$11))","v":0}," ",{"$f":"SUM(COUNTIF($C349:$H349,$CW$11:$DB$11))","v":0}," ",{"$f":"SUM(COUNTIF($C349:$H349,$DD$11:$DI$11))","v":0}," ",{"$f":"SUM(COUNTIF($C349:$H349,$DK$11:$DP$11))","v":0}]
[{"$f":"'aktuelle Zahlen'!A346","v":0},{"$f":"'aktuelle Zahlen'!B346","v":"00:00:00"},{"$f":"'aktuelle Zahlen'!C346","v":0},{"$f":"'aktuelle Zahlen'!D346","v":0},{"$f":"'aktuelle Zahlen'!E346","v":0},{"$f":"'aktuelle Zahlen'!F346","v":0},{"$f":"'aktuelle Zahlen'!G346","v":0},{"$f":"'aktuelle Zahlen'!H346","v":0},{"$f":"'aktuelle Zahlen'!J346","v":0},null," ",{"$f":"SUM(COUNTIF($C350:$H350,$AL$11:$AQ$11))","v":0}," ",{"$f":"SUM(COUNTIF($C350:$H350,$AS$11:$AX$11))","v":0}," ",{"$f":"SUM(COUNTIF($C350:$H350,$AZ$11:$BE$11))","v":0}," ",{"$f":"SUM(COUNTIF($C350:$H350,$BG$11:$BL$11))","v":0}," ",{"$f":"SUM(COUNTIF($C350:$H350,$BN$11:$BS$11))","v":0}," ",{"$f":"SUM(COUNTIF($C350:$H350,$BU$11:$BZ$11))","v":0}," ",{"$f":"SUM(COUNTIF($C350:$H350,$CB$11:$CG$11))","v":0}," ",{"$f":"SUM(COUNTIF($C350:$H350,$CI$11:$CN$11))","v":0}," ",{"$f":"SUM(COUNTIF($C350:$H350,$CP$11:$CU$11))","v":0}," ",{"$f":"SUM(COUNTIF($C350:$H350,$CW$11:$DB$11))","v":0}," ",{"$f":"SUM(COUNTIF($C350:$H350,$DD$11:$DI$11))","v":0}," ",{"$f":"SUM(COUNTIF($C350:$H350,$DK$11:$DP$11))","v":0}]
[{"$f":"'aktuelle Zahlen'!A347","v":0},{"$f":"'aktuelle Zahlen'!B347","v":"00:00:00"},{"$f":"'aktuelle Zahlen'!C347","v":0},{"$f":"'aktuelle Zahlen'!D347","v":0},{"$f":"'aktuelle Zahlen'!E347","v":0},{"$f":"'aktuelle Zahlen'!F347","v":0},{"$f":"'aktuelle Zahlen'!G347","v":0},{"$f":"'aktuelle Zahlen'!H347","v":0},{"$f":"'aktuelle Zahlen'!J347","v":0},null," ",{"$f":"SUM(COUNTIF($C351:$H351,$AL$11:$AQ$11))","v":0}," ",{"$f":"SUM(COUNTIF($C351:$H351,$AS$11:$AX$11))","v":0}," ",{"$f":"SUM(COUNTIF($C351:$H351,$AZ$11:$BE$11))","v":0}," ",{"$f":"SUM(COUNTIF($C351:$H351,$BG$11:$BL$11))","v":0}," ",{"$f":"SUM(COUNTIF($C351:$H351,$BN$11:$BS$11))","v":0}," ",{"$f":"SUM(COUNTIF($C351:$H351,$BU$11:$BZ$11))","v":0}," ",{"$f":"SUM(COUNTIF($C351:$H351,$CB$11:$CG$11))","v":0}," ",{"$f":"SUM(COUNTIF($C351:$H351,$CI$11:$CN$11))","v":0}," ",{"$f":"SUM(COUNTIF($C351:$H351,$CP$11:$CU$11))","v":0}," ",{"$f":"SUM(COUNTIF($C351:$H351,$CW$11:$DB$11))","v":0}," ",{"$f":"SUM(COUNTIF($C351:$H351,$DD$11:$DI$11))","v":0}," ",{"$f":"SUM(COUNTIF($C351:$H351,$DK$11:$DP$11))","v":0}]
[{"$f":"'aktuelle Zahlen'!A348","v":0},{"$f":"'aktuelle Zahlen'!B348","v":"00:00:00"},{"$f":"'aktuelle Zahlen'!C348","v":0},{"$f":"'aktuelle Zahlen'!D348","v":0},{"$f":"'aktuelle Zahlen'!E348","v":0},{"$f":"'aktuelle Zahlen'!F348","v":0},{"$f":"'aktuelle Zahlen'!G348","v":0},{"$f":"'aktuelle Zahlen'!H348","v":0},{"$f":"'aktuelle Zahlen'!J348","v":0},null," ",{"$f":"SUM(COUNTIF($C352:$H352,$AL$11:$AQ$11))","v":0}," ",{"$f":"SUM(COUNTIF($C352:$H352,$AS$11:$AX$11))","v":0}," ",{"$f":"SUM(COUNTIF($C352:$H352,$AZ$11:$BE$11))","v":0}," ",{"$f":"SUM(COUNTIF($C352:$H352,$BG$11:$BL$11))","v":0}," ",{"$f":"SUM(COUNTIF($C352:$H352,$BN$11:$BS$11))","v":0}," ",{"$f":"SUM(COUNTIF($C352:$H352,$BU$11:$BZ$11))","v":0}," ",{"$f":"SUM(COUNTIF($C352:$H352,$CB$11:$CG$11))","v":0}," ",{"$f":"SUM(COUNTIF($C352:$H352,$CI$11:$CN$11))","v":0}," ",{"$f":"SUM(COUNTIF($C352:$H352,$CP$11:$CU$11))","v":0}," ",{"$f":"SUM(COUNTIF($C352:$H352,$CW$11:$DB$11))","v":0}," ",{"$f":"SUM(COUNTIF($C352:$H352,$DD$11:$DI$11))","v":0}," ",{"$f":"SUM(COUNTIF($C352:$H352,$DK$11:$DP$11))","v":0}]
[{"$f":"'aktuelle Zahlen'!A349","v":0},{"$f":"'aktuelle Zahlen'!B349","v":"00:00:00"},{"$f":"'aktuelle Zahlen'!C349","v":0},{"$f":"'aktuelle Zahlen'!D349","v":0},{"$f":"'aktuelle Zahlen'!E349","v":0},{"$f":"'aktuelle Zahlen'!F349","v":0},{"$f":"'aktuelle Zahlen'!G349","v":0},{"$f":"'aktuelle Zahlen'!H349","v":0},{"$f":"'aktuelle Zahlen'!J349","v":0},null," ",{"$f":"SUM(COUNTIF($C353:$H353,$AL$11:$AQ$11))","v":0}," ",{"$f":"SUM(COUNTIF($C353:$H353,$AS$11:$AX$11))","v":0}," ",{"$f":"SUM(COUNTIF($C353:$H353,$AZ$11:$BE$11))","v":0}," ",{"$f":"SUM(COUNTIF($C353:$H353,$BG$11:$BL$11))","v":0}," ",{"$f":"SUM(COUNTIF($C353:$H353,$BN$11:$BS$11))","v":0}," ",{"$f":"SUM(COUNTIF($C353:$H353,$BU$11:$BZ$11))","v":0}," ",{"$f":"SUM(COUNTIF($C353:$H353,$CB$11:$CG$11))","v":0}," ",{"$f":"SUM(COUNTIF($C353:$H353,$CI$11:$CN$11))","v":0}," ",{"$f":"SUM(COUNTIF($C353:$H353,$CP$11:$CU$11))","v":0}," ",{"$f":"SUM(COUNTIF($C353:$H353,$CW$11:$DB$11))","v":0}," ",{"$f":"SUM(COUNTIF($C353:$H353,$DD$11:$DI$11))","v":0}," ",{"$f":"SUM(COUNTIF($C353:$H353,$DK$11:$DP$11))","v":0}]
[{"$f":"'aktuelle Zahlen'!A350","v":0},{"$f":"'aktuelle Zahlen'!B350","v":"00:00:00"},{"$f":"'aktuelle Zahlen'!C350","v":0},{"$f":"'aktuelle Zahlen'!D350","v":0},{"$f":"'aktuelle Zahlen'!E350","v":0},{"$f":"'aktuelle Zahlen'!F350","v":0},{"$f":"'aktuelle Zahlen'!G350","v":0},{"$f":"'aktuelle Zahlen'!H350","v":0},{"$f":"'aktuelle Zahlen'!J350","v":0},null," ",{"$f":"SUM(COUNTIF($C354:$H354,$AL$11:$AQ$11))","v":0}," ",{"$f":"SUM(COUNTIF($C354:$H354,$AS$11:$AX$11))","v":0}," ",{"$f":"SUM(COUNTIF($C354:$H354,$AZ$11:$BE$11))","v":0}," ",{"$f":"SUM(COUNTIF($C354:$H354,$BG$11:$BL$11))","v":0}," ",{"$f":"SUM(COUNTIF($C354:$H354,$BN$11:$BS$11))","v":0}," ",{"$f":"SUM(COUNTIF($C354:$H354,$BU$11:$BZ$11))","v":0}," ",{"$f":"SUM(COUNTIF($C354:$H354,$CB$11:$CG$11))","v":0}," ",{"$f":"SUM(COUNTIF($C354:$H354,$CI$11:$CN$11))","v":0}," ",{"$f":"SUM(COUNTIF($C354:$H354,$CP$11:$CU$11))","v":0}," ",{"$f":"SUM(COUNTIF($C354:$H354,$CW$11:$DB$11))","v":0}," ",{"$f":"SUM(COUNTIF($C354:$H354,$DD$11:$DI$11))","v":0}," ",{"$f":"SUM(COUNTIF($C354:$H354,$DK$11:$DP$11))","v":0}]
[{"$f":"'aktuelle Zahlen'!A351","v":0},{"$f":"'aktuelle Zahlen'!B351","v":"00:00:00"},{"$f":"'aktuelle Zahlen'!C351","v":0},{"$f":"'aktuelle Zahlen'!D351","v":0},{"$f":"'aktuelle Zahlen'!E351","v":0},{"$f":"'aktuelle Zahlen'!F351","v":0},{"$f":"'aktuelle Zahlen'!G351","v":0},{"$f":"'aktuelle Zahlen'!H351","v":0},{"$f":"'aktuelle Zahlen'!J351","v":0},null," ",{"$f":"SUM(COUNTIF($C355:$H355,$AL$11:$AQ$11))","v":0}," ",{"$f":"SUM(COUNTIF($C355:$H355,$AS$11:$AX$11))","v":0}," ",{"$f":"SUM(COUNTIF($C355:$H355,$AZ$11:$BE$11))","v":0}," ",{"$f":"SUM(COUNTIF($C355:$H355,$BG$11:$BL$11))","v":0}," ",{"$f":"SUM(COUNTIF($C355:$H355,$BN$11:$BS$11))","v":0}," ",{"$f":"SUM(COUNTIF($C355:$H355,$BU$11:$BZ$11))","v":0}," ",{"$f":"SUM(COUNTIF($C355:$H355,$CB$11:$CG$11))","v":0}," ",{"$f":"SUM(COUNTIF($C355:$H355,$CI$11:$CN$11))","v":0}," ",{"$f":"SUM(COUNTIF($C355:$H355,$CP$11:$CU$11))","v":0}," ",{"$f":"SUM(COUNTIF($C355:$H355,$CW$11:$DB$11))","v":0}," ",{"$f":"SUM(COUNTIF($C355:$H355,$DD$11:$DI$11))","v":0}," ",{"$f":"SUM(COUNTIF($C355:$H355,$DK$11:$DP$11))","v":0}]
[{"$f":"'aktuelle Zahlen'!A352","v":0},{"$f":"'aktuelle Zahlen'!B352","v":"00:00:00"},{"$f":"'aktuelle Zahlen'!C352","v":0},{"$f":"'aktuelle Zahlen'!D352","v":0},{"$f":"'aktuelle Zahlen'!E352","v":0},{"$f":"'aktuelle Zahlen'!F352","v":0},{"$f":"'aktuelle Zahlen'!G352","v":0},{"$f":"'aktuelle Zahlen'!H352","v":0},{"$f":"'aktuelle Zahlen'!J352","v":0},null," ",{"$f":"SUM(COUNTIF($C356:$H356,$AL$11:$AQ$11))","v":0}," ",{"$f":"SUM(COUNTIF($C356:$H356,$AS$11:$AX$11))","v":0}," ",{"$f":"SUM(COUNTIF($C356:$H356,$AZ$11:$BE$11))","v":0}," ",{"$f":"SUM(COUNTIF($C356:$H356,$BG$11:$BL$11))","v":0}," ",{"$f":"SUM(COUNTIF($C356:$H356,$BN$11:$BS$11))","v":0}," ",{"$f":"SUM(COUNTIF($C356:$H356,$BU$11:$BZ$11))","v":0}," ",{"$f":"SUM(COUNTIF($C356:$H356,$CB$11:$CG$11))","v":0}," ",{"$f":"SUM(COUNTIF($C356:$H356,$CI$11:$CN$11))","v":0}," ",{"$f":"SUM(COUNTIF($C356:$H356,$CP$11:$CU$11))","v":0}," ",{"$f":"SUM(COUNTIF($C356:$H356,$CW$11:$DB$11))","v":0}," ",{"$f":"SUM(COUNTIF($C356:$H356,$DD$11:$DI$11))","v":0}," ",{"$f":"SUM(COUNTIF($C356:$H356,$DK$11:$DP$11))","v":0}]
[{"$f":"'aktuelle Zahlen'!A353","v":0},{"$f":"'aktuelle Zahlen'!B353","v":"00:00:00"},{"$f":"'aktuelle Zahlen'!C353","v":0},{"$f":"'aktuelle Zahlen'!D353","v":0},{"$f":"'aktuelle Zahlen'!E353","v":0},{"$f":"'aktuelle Zahlen'!F353","v":0},{"$f":"'aktuelle Zahlen'!G353","v":0},{"$f":"'aktuelle Zahlen'!H353","v":0},{"$f":"'aktuelle Zahlen'!J353","v":0},null," ",{"$f":"SUM(COUNTIF($C357:$H357,$AL$11:$AQ$11))","v":0}," ",{"$f":"SUM(COUNTIF($C357:$H357,$AS$11:$AX$11))","v":0}," ",{"$f":"SUM(COUNTIF($C357:$H357,$AZ$11:$BE$11))","v":0}," ",{"$f":"SUM(COUNTIF($C357:$H357,$BG$11:$BL$11))","v":0}," ",{"$f":"SUM(COUNTIF($C357:$H357,$BN$11:$BS$11))","v":0}," ",{"$f":"SUM(COUNTIF($C357:$H357,$BU$11:$BZ$11))","v":0}," ",{"$f":"SUM(COUNTIF($C357:$H357,$CB$11:$CG$11))","v":0}," ",{"$f":"SUM(COUNTIF($C357:$H357,$CI$11:$CN$11))","v":0}," ",{"$f":"SUM(COUNTIF($C357:$H357,$CP$11:$CU$11))","v":0}," ",{"$f":"SUM(COUNTIF($C357:$H357,$CW$11:$DB$11))","v":0}," ",{"$f":"SUM(COUNTIF($C357:$H357,$DD$11:$DI$11))","v":0}," ",{"$f":"SUM(COUNTIF($C357:$H357,$DK$11:$DP$11))","v":0}]
[{"$f":"'aktuelle Zahlen'!A354","v":0},{"$f":"'aktuelle Zahlen'!B354","v":"00:00:00"},{"$f":"'aktuelle Zahlen'!C354","v":0},{"$f":"'aktuelle Zahlen'!D354","v":0},{"$f":"'aktuelle Zahlen'!E354","v":0},{"$f":"'aktuelle Zahlen'!F354","v":0},{"$f":"'aktuelle Zahlen'!G354","v":0},{"$f":"'aktuelle Zahlen'!H354","v":0},{"$f":"'aktuelle Zahlen'!J354","v":0},null," ",{"$f":"SUM(COUNTIF($C358:$H358,$AL$11:$AQ$11))","v":0}," ",{"$f":"SUM(COUNTIF($C358:$H358,$AS$11:$AX$11))","v":0}," ",{"$f":"SUM(COUNTIF($C358:$H358,$AZ$11:$BE$11))","v":0}," ",{"$f":"SUM(COUNTIF($C358:$H358,$BG$11:$BL$11))","v":0}," ",{"$f":"SUM(COUNTIF($C358:$H358,$BN$11:$BS$11))","v":0}," ",{"$f":"SUM(COUNTIF($C358:$H358,$BU$11:$BZ$11))","v":0}," ",{"$f":"SUM(COUNTIF($C358:$H358,$CB$11:$CG$11))","v":0}," ",{"$f":"SUM(COUNTIF($C358:$H358,$CI$11:$CN$11))","v":0}," ",{"$f":"SUM(COUNTIF($C358:$H358,$CP$11:$CU$11))","v":0}," ",{"$f":"SUM(COUNTIF($C358:$H358,$CW$11:$DB$11))","v":0}," ",{"$f":"SUM(COUNTIF($C358:$H358,$DD$11:$DI$11))","v":0}," ",{"$f":"SUM(COUNTIF($C358:$H358,$DK$11:$DP$11))","v":0}]
[{"$f":"'aktuelle Zahlen'!A355","v":0},{"$f":"'aktuelle Zahlen'!B355","v":"00:00:00"},{"$f":"'aktuelle Zahlen'!C355","v":0},{"$f":"'aktuelle Zahlen'!D355","v":0},{"$f":"'aktuelle Zahlen'!E355","v":0},{"$f":"'aktuelle Zahlen'!F355","v":0},{"$f":"'aktuelle Zahlen'!G355","v":0},{"$f":"'aktuelle Zahlen'!H355","v":0},{"$f":"'aktuelle Zahlen'!J355","v":0},null," ",{"$f":"SUM(COUNTIF($C359:$H359,$AL$11:$AQ$11))","v":0}," ",{"$f":"SUM(COUNTIF($C359:$H359,$AS$11:$AX$11))","v":0}," ",{"$f":"SUM(COUNTIF($C359:$H359,$AZ$11:$BE$11))","v":0}," ",{"$f":"SUM(COUNTIF($C359:$H359,$BG$11:$BL$11))","v":0}," ",{"$f":"SUM(COUNTIF($C359:$H359,$BN$11:$BS$11))","v":0}," ",{"$f":"SUM(COUNTIF($C359:$H359,$BU$11:$BZ$11))","v":0}," ",{"$f":"SUM(COUNTIF($C359:$H359,$CB$11:$CG$11))","v":0}," ",{"$f":"SUM(COUNTIF($C359:$H359,$CI$11:$CN$11))","v":0}," ",{"$f":"SUM(COUNTIF($C359:$H359,$CP$11:$CU$11))","v":0}," ",{"$f":"SUM(COUNTIF($C359:$H359,$CW$11:$DB$11))","v":0}," ",{"$f":"SUM(COUNTIF($C359:$H359,$DD$11:$DI$11))","v":0}," ",{"$f":"SUM(COUNTIF($C359:$H359,$DK$11:$DP$11))","v":0}]
[{"$f":"'aktuelle Zahlen'!A356","v":0},{"$f":"'aktuelle Zahlen'!B356","v":"00:00:00"},{"$f":"'aktuelle Zahlen'!C356","v":0},{"$f":"'aktuelle Zahlen'!D356","v":0},{"$f":"'aktuelle Zahlen'!E356","v":0},{"$f":"'aktuelle Zahlen'!F356","v":0},{"$f":"'aktuelle Zahlen'!G356","v":0},{"$f":"'aktuelle Zahlen'!H356","v":0},{"$f":"'aktuelle Zahlen'!J356","v":0},null," ",{"$f":"SUM(COUNTIF($C360:$H360,$AL$11:$AQ$11))","v":0}," ",{"$f":"SUM(COUNTIF($C360:$H360,$AS$11:$AX$11))","v":0}," ",{"$f":"SUM(COUNTIF($C360:$H360,$AZ$11:$BE$11))","v":0}," ",{"$f":"SUM(COUNTIF($C360:$H360,$BG$11:$BL$11))","v":0}," ",{"$f":"SUM(COUNTIF($C360:$H360,$BN$11:$BS$11))","v":0}," ",{"$f":"SUM(COUNTIF($C360:$H360,$BU$11:$BZ$11))","v":0}," ",{"$f":"SUM(COUNTIF($C360:$H360,$CB$11:$CG$11))","v":0}," ",{"$f":"SUM(COUNTIF($C360:$H360,$CI$11:$CN$11))","v":0}," ",{"$f":"SUM(COUNTIF($C360:$H360,$CP$11:$CU$11))","v":0}," ",{"$f":"SUM(COUNTIF($C360:$H360,$CW$11:$DB$11))","v":0}," ",{"$f":"SUM(COUNTIF($C360:$H360,$DD$11:$DI$11))","v":0}," ",{"$f":"SUM(COUNTIF($C360:$H360,$DK$11:$DP$11))","v":0}]
[{"$f":"'aktuelle Zahlen'!A357","v":0},{"$f":"'aktuelle Zahlen'!B357","v":"00:00:00"},{"$f":"'aktuelle Zahlen'!C357","v":0},{"$f":"'aktuelle Zahlen'!D357","v":0},{"$f":"'aktuelle Zahlen'!E357","v":0},{"$f":"'aktuelle Zahlen'!F357","v":0},{"$f":"'aktuelle Zahlen'!G357","v":0},{"$f":"'aktuelle Zahlen'!H357","v":0},{"$f":"'aktuelle Zahlen'!J357","v":0},null," ",{"$f":"SUM(COUNTIF($C361:$H361,$AL$11:$AQ$11))","v":0}," ",{"$f":"SUM(COUNTIF($C361:$H361,$AS$11:$AX$11))","v":0}," ",{"$f":"SUM(COUNTIF($C361:$H361,$AZ$11:$BE$11))","v":0}," ",{"$f":"SUM(COUNTIF($C361:$H361,$BG$11:$BL$11))","v":0}," ",{"$f":"SUM(COUNTIF($C361:$H361,$BN$11:$BS$11))","v":0}," ",{"$f":"SUM(COUNTIF($C361:$H361,$BU$11:$BZ$11))","v":0}," ",{"$f":"SUM(COUNTIF($C361:$H361,$CB$11:$CG$11))","v":0}," ",{"$f":"SUM(COUNTIF($C361:$H361,$CI$11:$CN$11))","v":0}," ",{"$f":"SUM(COUNTIF($C361:$H361,$CP$11:$CU$11))","v":0}," ",{"$f":"SUM(COUNTIF($C361:$H361,$CW$11:$DB$11))","v":0}," ",{"$f":"SUM(COUNTIF($C361:$H361,$DD$11:$DI$11))","v":0}," ",{"$f":"SUM(COUNTIF($C361:$H361,$DK$11:$DP$11))","v":0}]
[{"$f":"'aktuelle Zahlen'!A358","v":0},{"$f":"'aktuelle Zahlen'!B358","v":"00:00:00"},{"$f":"'aktuelle Zahlen'!C358","v":0},{"$f":"'aktuelle Zahlen'!D358","v":0},{"$f":"'aktuelle Zahlen'!E358","v":0},{"$f":"'aktuelle Zahlen'!F358","v":0},{"$f":"'aktuelle Zahlen'!G358","v":0},{"$f":"'aktuelle Zahlen'!H358","v":0},{"$f":"'aktuelle Zahlen'!J358","v":0},null," ",{"$f":"SUM(COUNTIF($C362:$H362,$AL$11:$AQ$11))","v":0}," ",{"$f":"SUM(COUNTIF($C362:$H362,$AS$11:$AX$11))","v":0}," ",{"$f":"SUM(COUNTIF($C362:$H362,$AZ$11:$BE$11))","v":0}," ",{"$f":"SUM(COUNTIF($C362:$H362,$BG$11:$BL$11))","v":0}," ",{"$f":"SUM(COUNTIF($C362:$H362,$BN$11:$BS$11))","v":0}," ",{"$f":"SUM(COUNTIF($C362:$H362,$BU$11:$BZ$11))","v":0}," ",{"$f":"SUM(COUNTIF($C362:$H362,$CB$11:$CG$11))","v":0}," ",{"$f":"SUM(COUNTIF($C362:$H362,$CI$11:$CN$11))","v":0}," ",{"$f":"SUM(COUNTIF($C362:$H362,$CP$11:$CU$11))","v":0}," ",{"$f":"SUM(COUNTIF($C362:$H362,$CW$11:$DB$11))","v":0}," ",{"$f":"SUM(COUNTIF($C362:$H362,$DD$11:$DI$11))","v":0}," ",{"$f":"SUM(COUNTIF($C362:$H362,$DK$11:$DP$11))","v":0}]
[{"$f":"'aktuelle Zahlen'!A359","v":0},{"$f":"'aktuelle Zahlen'!B359","v":"00:00:00"},{"$f":"'aktuelle Zahlen'!C359","v":0},{"$f":"'aktuelle Zahlen'!D359","v":0},{"$f":"'aktuelle Zahlen'!E359","v":0},{"$f":"'aktuelle Zahlen'!F359","v":0},{"$f":"'aktuelle Zahlen'!G359","v":0},{"$f":"'aktuelle Zahlen'!H359","v":0},{"$f":"'aktuelle Zahlen'!J359","v":0},null," ",{"$f":"SUM(COUNTIF($C363:$H363,$AL$11:$AQ$11))","v":0}," ",{"$f":"SUM(COUNTIF($C363:$H363,$AS$11:$AX$11))","v":0}," ",{"$f":"SUM(COUNTIF($C363:$H363,$AZ$11:$BE$11))","v":0}," ",{"$f":"SUM(COUNTIF($C363:$H363,$BG$11:$BL$11))","v":0}," ",{"$f":"SUM(COUNTIF($C363:$H363,$BN$11:$BS$11))","v":0}," ",{"$f":"SUM(COUNTIF($C363:$H363,$BU$11:$BZ$11))","v":0}," ",{"$f":"SUM(COUNTIF($C363:$H363,$CB$11:$CG$11))","v":0}," ",{"$f":"SUM(COUNTIF($C363:$H363,$CI$11:$CN$11))","v":0}," ",{"$f":"SUM(COUNTIF($C363:$H363,$CP$11:$CU$11))","v":0}," ",{"$f":"SUM(COUNTIF($C363:$H363,$CW$11:$DB$11))","v":0}," ",{"$f":"SUM(COUNTIF($C363:$H363,$DD$11:$DI$11))","v":0}," ",{"$f":"SUM(COUNTIF($C363:$H363,$DK$11:$DP$11))","v":0}]
[{"$f":"'aktuelle Zahlen'!A360","v":0},{"$f":"'aktuelle Zahlen'!B360","v":"00:00:00"},{"$f":"'aktuelle Zahlen'!C360","v":0},{"$f":"'aktuelle Zahlen'!D360","v":0},{"$f":"'aktuelle Zahlen'!E360","v":0},{"$f":"'aktuelle Zahlen'!F360","v":0},{"$f":"'aktuelle Zahlen'!G360","v":0},{"$f":"'aktuelle Zahlen'!H360","v":0},{"$f":"'aktuelle Zahlen'!J360","v":0},null," ",{"$f":"SUM(COUNTIF($C364:$H364,$AL$11:$AQ$11))","v":0}," ",{"$f":"SUM(COUNTIF($C364:$H364,$AS$11:$AX$11))","v":0}," ",{"$f":"SUM(COUNTIF($C364:$H364,$AZ$11:$BE$11))","v":0}," ",{"$f":"SUM(COUNTIF($C364:$H364,$BG$11:$BL$11))","v":0}," ",{"$f":"SUM(COUNTIF($C364:$H364,$BN$11:$BS$11))","v":0}," ",{"$f":"SUM(COUNTIF($C364:$H364,$BU$11:$BZ$11))","v":0}," ",{"$f":"SUM(COUNTIF($C364:$H364,$CB$11:$CG$11))","v":0}," ",{"$f":"SUM(COUNTIF($C364:$H364,$CI$11:$CN$11))","v":0}," ",{"$f":"SUM(COUNTIF($C364:$H364,$CP$11:$CU$11))","v":0}," ",{"$f":"SUM(COUNTIF($C364:$H364,$CW$11:$DB$11))","v":0}," ",{"$f":"SUM(COUNTIF($C364:$H364,$DD$11:$DI$11))","v":0}," ",{"$f":"SUM(COUNTIF($C364:$H364,$DK$11:$DP$11))","v":0}]
[{"$f":"'aktuelle Zahlen'!A361","v":0},{"$f":"'aktuelle Zahlen'!B361","v":"00:00:00"},{"$f":"'aktuelle Zahlen'!C361","v":0},{"$f":"'aktuelle Zahlen'!D361","v":0},{"$f":"'aktuelle Zahlen'!E361","v":0},{"$f":"'aktuelle Zahlen'!F361","v":0},{"$f":"'aktuelle Zahlen'!G361","v":0},{"$f":"'aktuelle Zahlen'!H361","v":0},{"$f":"'aktuelle Zahlen'!J361","v":0},null," ",{"$f":"SUM(COUNTIF($C365:$H365,$AL$11:$AQ$11))","v":0}," ",{"$f":"SUM(COUNTIF($C365:$H365,$AS$11:$AX$11))","v":0}," ",{"$f":"SUM(COUNTIF($C365:$H365,$AZ$11:$BE$11))","v":0}," ",{"$f":"SUM(COUNTIF($C365:$H365,$BG$11:$BL$11))","v":0}," ",{"$f":"SUM(COUNTIF($C365:$H365,$BN$11:$BS$11))","v":0}," ",{"$f":"SUM(COUNTIF($C365:$H365,$BU$11:$BZ$11))","v":0}," ",{"$f":"SUM(COUNTIF($C365:$H365,$CB$11:$CG$11))","v":0}," ",{"$f":"SUM(COUNTIF($C365:$H365,$CI$11:$CN$11))","v":0}," ",{"$f":"SUM(COUNTIF($C365:$H365,$CP$11:$CU$11))","v":0}," ",{"$f":"SUM(COUNTIF($C365:$H365,$CW$11:$DB$11))","v":0}," ",{"$f":"SUM(COUNTIF($C365:$H365,$DD$11:$DI$11))","v":0}," ",{"$f":"SUM(COUNTIF($C365:$H365,$DK$11:$DP$11))","v":0}]
[{"$f":"'aktuelle Zahlen'!A362","v":0},{"$f":"'aktuelle Zahlen'!B362","v":"00:00:00"},{"$f":"'aktuelle Zahlen'!C362","v":0},{"$f":"'aktuelle Zahlen'!D362","v":0},{"$f":"'aktuelle Zahlen'!E362","v":0},{"$f":"'aktuelle Zahlen'!F362","v":0},{"$f":"'aktuelle Zahlen'!G362","v":0},{"$f":"'aktuelle Zahlen'!H362","v":0},{"$f":"'aktuelle Zahlen'!J362","v":0},null," ",{"$f":"SUM(COUNTIF($C366:$H366,$AL$11:$AQ$11))","v":0}," ",{"$f":"SUM(COUNTIF($C366:$H366,$AS$11:$AX$11))","v":0}," ",{"$f":"SUM(COUNTIF($C366:$H366,$AZ$11:$BE$11))","v":0}," ",{"$f":"SUM(COUNTIF($C366:$H366,$BG$11:$BL$11))","v":0}," ",{"$f":"SUM(COUNTIF($C366:$H366,$BN$11:$BS$11))","v":0}," ",{"$f":"SUM(COUNTIF($C366:$H366,$BU$11:$BZ$11))","v":0}," ",{"$f":"SUM(COUNTIF($C366:$H366,$CB$11:$CG$11))","v":0}," ",{"$f":"SUM(COUNTIF($C366:$H366,$CI$11:$CN$11))","v":0}," ",{"$f":"SUM(COUNTIF($C366:$H366,$CP$11:$CU$11))","v":0}," ",{"$f":"SUM(COUNTIF($C366:$H366,$CW$11:$DB$11))","v":0}," ",{"$f":"SUM(COUNTIF($C366:$H366,$DD$11:$DI$11))","v":0}," ",{"$f":"SUM(COUNTIF($C366:$H366,$DK$11:$DP$11))","v":0}]
[{"$f":"'aktuelle Zahlen'!A363","v":0},{"$f":"'aktuelle Zahlen'!B363","v":"00:00:00"},{"$f":"'aktuelle Zahlen'!C363","v":0},{"$f":"'aktuelle Zahlen'!D363","v":0},{"$f":"'aktuelle Zahlen'!E363","v":0},{"$f":"'aktuelle Zahlen'!F363","v":0},{"$f":"'aktuelle Zahlen'!G363","v":0},{"$f":"'aktuelle Zahlen'!H363","v":0},{"$f":"'aktuelle Zahlen'!J363","v":0},null," ",{"$f":"SUM(COUNTIF($C367:$H367,$AL$11:$AQ$11))","v":0}," ",{"$f":"SUM(COUNTIF($C367:$H367,$AS$11:$AX$11))","v":0}," ",{"$f":"SUM(COUNTIF($C367:$H367,$AZ$11:$BE$11))","v":0}," ",{"$f":"SUM(COUNTIF($C367:$H367,$BG$11:$BL$11))","v":0}," ",{"$f":"SUM(COUNTIF($C367:$H367,$BN$11:$BS$11))","v":0}," ",{"$f":"SUM(COUNTIF($C367:$H367,$BU$11:$BZ$11))","v":0}," ",{"$f":"SUM(COUNTIF($C367:$H367,$CB$11:$CG$11))","v":0}," ",{"$f":"SUM(COUNTIF($C367:$H367,$CI$11:$CN$11))","v":0}," ",{"$f":"SUM(COUNTIF($C367:$H367,$CP$11:$CU$11))","v":0}," ",{"$f":"SUM(COUNTIF($C367:$H367,$CW$11:$DB$11))","v":0}," ",{"$f":"SUM(COUNTIF($C367:$H367,$DD$11:$DI$11))","v":0}," ",{"$f":"SUM(COUNTIF($C367:$H367,$DK$11:$DP$11))","v":0}]
[{"$f":"'aktuelle Zahlen'!A364","v":0},{"$f":"'aktuelle Zahlen'!B364","v":"00:00:00"},{"$f":"'aktuelle Zahlen'!C364","v":0},{"$f":"'aktuelle Zahlen'!D364","v":0},{"$f":"'aktuelle Zahlen'!E364","v":0},{"$f":"'aktuelle Zahlen'!F364","v":0},{"$f":"'aktuelle Zahlen'!G364","v":0},{"$f":"'aktuelle Zahlen'!H364","v":0},{"$f":"'aktuelle Zahlen'!J364","v":0},null," ",{"$f":"SUM(COUNTIF($C368:$H368,$AL$11:$AQ$11))","v":0}," ",{"$f":"SUM(COUNTIF($C368:$H368,$AS$11:$AX$11))","v":0}," ",{"$f":"SUM(COUNTIF($C368:$H368,$AZ$11:$BE$11))","v":0}," ",{"$f":"SUM(COUNTIF($C368:$H368,$BG$11:$BL$11))","v":0}," ",{"$f":"SUM(COUNTIF($C368:$H368,$BN$11:$BS$11))","v":0}," ",{"$f":"SUM(COUNTIF($C368:$H368,$BU$11:$BZ$11))","v":0}," ",{"$f":"SUM(COUNTIF($C368:$H368,$CB$11:$CG$11))","v":0}," ",{"$f":"SUM(COUNTIF($C368:$H368,$CI$11:$CN$11))","v":0}," ",{"$f":"SUM(COUNTIF($C368:$H368,$CP$11:$CU$11))","v":0}," ",{"$f":"SUM(COUNTIF($C368:$H368,$CW$11:$DB$11))","v":0}," ",{"$f":"SUM(COUNTIF($C368:$H368,$DD$11:$DI$11))","v":0}," ",{"$f":"SUM(COUNTIF($C368:$H368,$DK$11:$DP$11))","v":0}]
[{"$f":"'aktuelle Zahlen'!A365","v":0},{"$f":"'aktuelle Zahlen'!B365","v":"00:00:00"},{"$f":"'aktuelle Zahlen'!C365","v":0},{"$f":"'aktuelle Zahlen'!D365","v":0},{"$f":"'aktuelle Zahlen'!E365","v":0},{"$f":"'aktuelle Zahlen'!F365","v":0},{"$f":"'aktuelle Zahlen'!G365","v":0},{"$f":"'aktuelle Zahlen'!H365","v":0},{"$f":"'aktuelle Zahlen'!J365","v":0},null," ",{"$f":"SUM(COUNTIF($C369:$H369,$AL$11:$AQ$11))","v":0}," ",{"$f":"SUM(COUNTIF($C369:$H369,$AS$11:$AX$11))","v":0}," ",{"$f":"SUM(COUNTIF($C369:$H369,$AZ$11:$BE$11))","v":0}," ",{"$f":"SUM(COUNTIF($C369:$H369,$BG$11:$BL$11))","v":0}," ",{"$f":"SUM(COUNTIF($C369:$H369,$BN$11:$BS$11))","v":0}," ",{"$f":"SUM(COUNTIF($C369:$H369,$BU$11:$BZ$11))","v":0}," ",{"$f":"SUM(COUNTIF($C369:$H369,$CB$11:$CG$11))","v":0}," ",{"$f":"SUM(COUNTIF($C369:$H369,$CI$11:$CN$11))","v":0}," ",{"$f":"SUM(COUNTIF($C369:$H369,$CP$11:$CU$11))","v":0}," ",{"$f":"SUM(COUNTIF($C369:$H369,$CW$11:$DB$11))","v":0}," ",{"$f":"SUM(COUNTIF($C369:$H369,$DD$11:$DI$11))","v":0}," ",{"$f":"SUM(COUNTIF($C369:$H369,$DK$11:$DP$11))","v":0}]
[{"$f":"'aktuelle Zahlen'!A366","v":0},{"$f":"'aktuelle Zahlen'!B366","v":"00:00:00"},{"$f":"'aktuelle Zahlen'!C366","v":0},{"$f":"'aktuelle Zahlen'!D366","v":0},{"$f":"'aktuelle Zahlen'!E366","v":0},{"$f":"'aktuelle Zahlen'!F366","v":0},{"$f":"'aktuelle Zahlen'!G366","v":0},{"$f":"'aktuelle Zahlen'!H366","v":0},{"$f":"'aktuelle Zahlen'!J366","v":0},null," ",{"$f":"SUM(COUNTIF($C370:$H370,$AL$11:$AQ$11))","v":0}," ",{"$f":"SUM(COUNTIF($C370:$H370,$AS$11:$AX$11))","v":0}," ",{"$f":"SUM(COUNTIF($C370:$H370,$AZ$11:$BE$11))","v":0}," ",{"$f":"SUM(COUNTIF($C370:$H370,$BG$11:$BL$11))","v":0}," ",{"$f":"SUM(COUNTIF($C370:$H370,$BN$11:$BS$11))","v":0}," ",{"$f":"SUM(COUNTIF($C370:$H370,$BU$11:$BZ$11))","v":0}," ",{"$f":"SUM(COUNTIF($C370:$H370,$CB$11:$CG$11))","v":0}," ",{"$f":"SUM(COUNTIF($C370:$H370,$CI$11:$CN$11))","v":0}," ",{"$f":"SUM(COUNTIF($C370:$H370,$CP$11:$CU$11))","v":0}," ",{"$f":"SUM(COUNTIF($C370:$H370,$CW$11:$DB$11))","v":0}," ",{"$f":"SUM(COUNTIF($C370:$H370,$DD$11:$DI$11))","v":0}," ",{"$f":"SUM(COUNTIF($C370:$H370,$DK$11:$DP$11))","v":0}]
[{"$f":"'aktuelle Zahlen'!A367","v":0},{"$f":"'aktuelle Zahlen'!B367","v":"00:00:00"},{"$f":"'aktuelle Zahlen'!C367","v":0},{"$f":"'aktuelle Zahlen'!D367","v":0},{"$f":"'aktuelle Zahlen'!E367","v":0},{"$f":"'aktuelle Zahlen'!F367","v":0},{"$f":"'aktuelle Zahlen'!G367","v":0},{"$f":"'aktuelle Zahlen'!H367","v":0},{"$f":"'aktuelle Zahlen'!J367","v":0},null," ",{"$f":"SUM(COUNTIF($C371:$H371,$AL$11:$AQ$11))","v":0}," ",{"$f":"SUM(COUNTIF($C371:$H371,$AS$11:$AX$11))","v":0}," ",{"$f":"SUM(COUNTIF($C371:$H371,$AZ$11:$BE$11))","v":0}," ",{"$f":"SUM(COUNTIF($C371:$H371,$BG$11:$BL$11))","v":0}," ",{"$f":"SUM(COUNTIF($C371:$H371,$BN$11:$BS$11))","v":0}," ",{"$f":"SUM(COUNTIF($C371:$H371,$BU$11:$BZ$11))","v":0}," ",{"$f":"SUM(COUNTIF($C371:$H371,$CB$11:$CG$11))","v":0}," ",{"$f":"SUM(COUNTIF($C371:$H371,$CI$11:$CN$11))","v":0}," ",{"$f":"SUM(COUNTIF($C371:$H371,$CP$11:$CU$11))","v":0}," ",{"$f":"SUM(COUNTIF($C371:$H371,$CW$11:$DB$11))","v":0}," ",{"$f":"SUM(COUNTIF($C371:$H371,$DD$11:$DI$11))","v":0}," ",{"$f":"SUM(COUNTIF($C371:$H371,$DK$11:$DP$11))","v":0}]
[{"$f":"'aktuelle Zahlen'!A368","v":0},{"$f":"'aktuelle Zahlen'!B368","v":"00:00:00"},{"$f":"'aktuelle Zahlen'!C368","v":0},{"$f":"'aktuelle Zahlen'!D368","v":0},{"$f":"'aktuelle Zahlen'!E368","v":0},{"$f":"'aktuelle Zahlen'!F368","v":0},{"$f":"'aktuelle Zahlen'!G368","v":0},{"$f":"'aktuelle Zahlen'!H368","v":0},{"$f":"'aktuelle Zahlen'!J368","v":0},null," ",{"$f":"SUM(COUNTIF($C372:$H372,$AL$11:$AQ$11))","v":0}," ",{"$f":"SUM(COUNTIF($C372:$H372,$AS$11:$AX$11))","v":0}," ",{"$f":"SUM(COUNTIF($C372:$H372,$AZ$11:$BE$11))","v":0}," ",{"$f":"SUM(COUNTIF($C372:$H372,$BG$11:$BL$11))","v":0}," ",{"$f":"SUM(COUNTIF($C372:$H372,$BN$11:$BS$11))","v":0}," ",{"$f":"SUM(COUNTIF($C372:$H372,$BU$11:$BZ$11))","v":0}," ",{"$f":"SUM(COUNTIF($C372:$H372,$CB$11:$CG$11))","v":0}," ",{"$f":"SUM(COUNTIF($C372:$H372,$CI$11:$CN$11))","v":0}," ",{"$f":"SUM(COUNTIF($C372:$H372,$CP$11:$CU$11))","v":0}," ",{"$f":"SUM(COUNTIF($C372:$H372,$CW$11:$DB$11))","v":0}," ",{"$f":"SUM(COUNTIF($C372:$H372,$DD$11:$DI$11))","v":0}," ",{"$f":"SUM(COUNTIF($C372:$H372,$DK$11:$DP$11))","v":0}]
[{"$f":"'aktuelle Zahlen'!A369","v":0},{"$f":"'aktuelle Zahlen'!B369","v":"00:00:00"},{"$f":"'aktuelle Zahlen'!C369","v":0},{"$f":"'aktuelle Zahlen'!D369","v":0},{"$f":"'aktuelle Zahlen'!E369","v":0},{"$f":"'aktuelle Zahlen'!F369","v":0},{"$f":"'aktuelle Zahlen'!G369","v":0},{"$f":"'aktuelle Zahlen'!H369","v":0},{"$f":"'aktuelle Zahlen'!J369","v":0},null," ",{"$f":"SUM(COUNTIF($C373:$H373,$AL$11:$AQ$11))","v":0}," ",{"$f":"SUM(COUNTIF($C373:$H373,$AS$11:$AX$11))","v":0}," ",{"$f":"SUM(COUNTIF($C373:$H373,$AZ$11:$BE$11))","v":0}," ",{"$f":"SUM(COUNTIF($C373:$H373,$BG$11:$BL$11))","v":0}," ",{"$f":"SUM(COUNTIF($C373:$H373,$BN$11:$BS$11))","v":0}," ",{"$f":"SUM(COUNTIF($C373:$H373,$BU$11:$BZ$11))","v":0}," ",{"$f":"SUM(COUNTIF($C373:$H373,$CB$11:$CG$11))","v":0}," ",{"$f":"SUM(COUNTIF($C373:$H373,$CI$11:$CN$11))","v":0}," ",{"$f":"SUM(COUNTIF($C373:$H373,$CP$11:$CU$11))","v":0}," ",{"$f":"SUM(COUNTIF($C373:$H373,$CW$11:$DB$11))","v":0}," ",{"$f":"SUM(COUNTIF($C373:$H373,$DD$11:$DI$11))","v":0}," ",{"$f":"SUM(COUNTIF($C373:$H373,$DK$11:$DP$11))","v":0}]
[{"$f":"'aktuelle Zahlen'!A370","v":0},{"$f":"'aktuelle Zahlen'!B370","v":"00:00:00"},{"$f":"'aktuelle Zahlen'!C370","v":0},{"$f":"'aktuelle Zahlen'!D370","v":0},{"$f":"'aktuelle Zahlen'!E370","v":0},{"$f":"'aktuelle Zahlen'!F370","v":0},{"$f":"'aktuelle Zahlen'!G370","v":0},{"$f":"'aktuelle Zahlen'!H370","v":0},{"$f":"'aktuelle Zahlen'!J370","v":0},null," ",{"$f":"SUM(COUNTIF($C374:$H374,$AL$11:$AQ$11))","v":0}," ",{"$f":"SUM(COUNTIF($C374:$H374,$AS$11:$AX$11))","v":0}," ",{"$f":"SUM(COUNTIF($C374:$H374,$AZ$11:$BE$11))","v":0}," ",{"$f":"SUM(COUNTIF($C374:$H374,$BG$11:$BL$11))","v":0}," ",{"$f":"SUM(COUNTIF($C374:$H374,$BN$11:$BS$11))","v":0}," ",{"$f":"SUM(COUNTIF($C374:$H374,$BU$11:$BZ$11))","v":0}," ",{"$f":"SUM(COUNTIF($C374:$H374,$CB$11:$CG$11))","v":0}," ",{"$f":"SUM(COUNTIF($C374:$H374,$CI$11:$CN$11))","v":0}," ",{"$f":"SUM(COUNTIF($C374:$H374,$CP$11:$CU$11))","v":0}," ",{"$f":"SUM(COUNTIF($C374:$H374,$CW$11:$DB$11))","v":0}," ",{"$f":"SUM(COUNTIF($C374:$H374,$DD$11:$DI$11))","v":0}," ",{"$f":"SUM(COUNTIF($C374:$H374,$DK$11:$DP$11))","v":0}]
[{"$f":"'aktuelle Zahlen'!A371","v":0},{"$f":"'aktuelle Zahlen'!B371","v":"00:00:00"},{"$f":"'aktuelle Zahlen'!C371","v":0},{"$f":"'aktuelle Zahlen'!D371","v":0},{"$f":"'aktuelle Zahlen'!E371","v":0},{"$f":"'aktuelle Zahlen'!F371","v":0},{"$f":"'aktuelle Zahlen'!G371","v":0},{"$f":"'aktuelle Zahlen'!H371","v":0},{"$f":"'aktuelle Zahlen'!J371","v":0},null," ",{"$f":"SUM(COUNTIF($C375:$H375,$AL$11:$AQ$11))","v":0}," ",{"$f":"SUM(COUNTIF($C375:$H375,$AS$11:$AX$11))","v":0}," ",{"$f":"SUM(COUNTIF($C375:$H375,$AZ$11:$BE$11))","v":0}," ",{"$f":"SUM(COUNTIF($C375:$H375,$BG$11:$BL$11))","v":0}," ",{"$f":"SUM(COUNTIF($C375:$H375,$BN$11:$BS$11))","v":0}," ",{"$f":"SUM(COUNTIF($C375:$H375,$BU$11:$BZ$11))","v":0}," ",{"$f":"SUM(COUNTIF($C375:$H375,$CB$11:$CG$11))","v":0}," ",{"$f":"SUM(COUNTIF($C375:$H375,$CI$11:$CN$11))","v":0}," ",{"$f":"SUM(COUNTIF($C375:$H375,$CP$11:$CU$11))","v":0}," ",{"$f":"SUM(COUNTIF($C375:$H375,$CW$11:$DB$11))","v":0}," ",{"$f":"SUM(COUNTIF($C375:$H375,$DD$11:$DI$11))","v":0}," ",{"$f":"SUM(COUNTIF($C375:$H375,$DK$11:$DP$11))","v":0}]
[{"$f":"'aktuelle Zahlen'!A372","v":0},{"$f":"'aktuelle Zahlen'!B372","v":"00:00:00"},{"$f":"'aktuelle Zahlen'!C372","v":0},{"$f":"'aktuelle Zahlen'!D372","v":0},{"$f":"'aktuelle Zahlen'!E372","v":0},{"$f":"'aktuelle Zahlen'!F372","v":0},{"$f":"'aktuelle Zahlen'!G372","v":0},{"$f":"'aktuelle Zahlen'!H372","v":0},{"$f":"'aktuelle Zahlen'!J372","v":0},null," ",{"$f":"SUM(COUNTIF($C376:$H376,$AL$11:$AQ$11))","v":0}," ",{"$f":"SUM(COUNTIF($C376:$H376,$AS$11:$AX$11))","v":0}," ",{"$f":"SUM(COUNTIF($C376:$H376,$AZ$11:$BE$11))","v":0}," ",{"$f":"SUM(COUNTIF($C376:$H376,$BG$11:$BL$11))","v":0}," ",{"$f":"SUM(COUNTIF($C376:$H376,$BN$11:$BS$11))","v":0}," ",{"$f":"SUM(COUNTIF($C376:$H376,$BU$11:$BZ$11))","v":0}," ",{"$f":"SUM(COUNTIF($C376:$H376,$CB$11:$CG$11))","v":0}," ",{"$f":"SUM(COUNTIF($C376:$H376,$CI$11:$CN$11))","v":0}," ",{"$f":"SUM(COUNTIF($C376:$H376,$CP$11:$CU$11))","v":0}," ",{"$f":"SUM(COUNTIF($C376:$H376,$CW$11:$DB$11))","v":0}," ",{"$f":"SUM(COUNTIF($C376:$H376,$DD$11:$DI$11))","v":0}," ",{"$f":"SUM(COUNTIF($C376:$H376,$DK$11:$DP$11))","v":0}]
[{"$f":"'aktuelle Zahlen'!A373","v":0},{"$f":"'aktuelle Zahlen'!B373","v":"00:00:00"},{"$f":"'aktuelle Zahlen'!C373","v":0},{"$f":"'aktuelle Zahlen'!D373","v":0},{"$f":"'aktuelle Zahlen'!E373","v":0},{"$f":"'aktuelle Zahlen'!F373","v":0},{"$f":"'aktuelle Zahlen'!G373","v":0},{"$f":"'aktuelle Zahlen'!H373","v":0},{"$f":"'aktuelle Zahlen'!J373","v":0},null," ",{"$f":"SUM(COUNTIF($C377:$H377,$AL$11:$AQ$11))","v":0}," ",{"$f":"SUM(COUNTIF($C377:$H377,$AS$11:$AX$11))","v":0}," ",{"$f":"SUM(COUNTIF($C377:$H377,$AZ$11:$BE$11))","v":0}," ",{"$f":"SUM(COUNTIF($C377:$H377,$BG$11:$BL$11))","v":0}," ",{"$f":"SUM(COUNTIF($C377:$H377,$BN$11:$BS$11))","v":0}," ",{"$f":"SUM(COUNTIF($C377:$H377,$BU$11:$BZ$11))","v":0}," ",{"$f":"SUM(COUNTIF($C377:$H377,$CB$11:$CG$11))","v":0}," ",{"$f":"SUM(COUNTIF($C377:$H377,$CI$11:$CN$11))","v":0}," ",{"$f":"SUM(COUNTIF($C377:$H377,$CP$11:$CU$11))","v":0}," ",{"$f":"SUM(COUNTIF($C377:$H377,$CW$11:$DB$11))","v":0}," ",{"$f":"SUM(COUNTIF($C377:$H377,$DD$11:$DI$11))","v":0}," ",{"$f":"SUM(COUNTIF($C377:$H377,$DK$11:$DP$11))","v":0}]
[{"$f":"'aktuelle Zahlen'!A374","v":0},{"$f":"'aktuelle Zahlen'!B374","v":"00:00:00"},{"$f":"'aktuelle Zahlen'!C374","v":0},{"$f":"'aktuelle Zahlen'!D374","v":0},{"$f":"'aktuelle Zahlen'!E374","v":0},{"$f":"'aktuelle Zahlen'!F374","v":0},{"$f":"'aktuelle Zahlen'!G374","v":0},{"$f":"'aktuelle Zahlen'!H374","v":0},{"$f":"'aktuelle Zahlen'!J374","v":0},null," ",{"$f":"SUM(COUNTIF($C378:$H378,$AL$11:$AQ$11))","v":0}," ",{"$f":"SUM(COUNTIF($C378:$H378,$AS$11:$AX$11))","v":0}," ",{"$f":"SUM(COUNTIF($C378:$H378,$AZ$11:$BE$11))","v":0}," ",{"$f":"SUM(COUNTIF($C378:$H378,$BG$11:$BL$11))","v":0}," ",{"$f":"SUM(COUNTIF($C378:$H378,$BN$11:$BS$11))","v":0}," ",{"$f":"SUM(COUNTIF($C378:$H378,$BU$11:$BZ$11))","v":0}," ",{"$f":"SUM(COUNTIF($C378:$H378,$CB$11:$CG$11))","v":0}," ",{"$f":"SUM(COUNTIF($C378:$H378,$CI$11:$CN$11))","v":0}," ",{"$f":"SUM(COUNTIF($C378:$H378,$CP$11:$CU$11))","v":0}," ",{"$f":"SUM(COUNTIF($C378:$H378,$CW$11:$DB$11))","v":0}," ",{"$f":"SUM(COUNTIF($C378:$H378,$DD$11:$DI$11))","v":0}," ",{"$f":"SUM(COUNTIF($C378:$H378,$DK$11:$DP$11))","v":0}]
[{"$f":"'aktuelle Zahlen'!A375","v":0},{"$f":"'aktuelle Zahlen'!B375","v":"00:00:00"},{"$f":"'aktuelle Zahlen'!C375","v":0},{"$f":"'aktuelle Zahlen'!D375","v":0},{"$f":"'aktuelle Zahlen'!E375","v":0},{"$f":"'aktuelle Zahlen'!F375","v":0},{"$f":"'aktuelle Zahlen'!G375","v":0},{"$f":"'aktuelle Zahlen'!H375","v":0},{"$f":"'aktuelle Zahlen'!J375","v":0},null," ",{"$f":"SUM(COUNTIF($C379:$H379,$AL$11:$AQ$11))","v":0}," ",{"$f":"SUM(COUNTIF($C379:$H379,$AS$11:$AX$11))","v":0}," ",{"$f":"SUM(COUNTIF($C379:$H379,$AZ$11:$BE$11))","v":0}," ",{"$f":"SUM(COUNTIF($C379:$H379,$BG$11:$BL$11))","v":0}," ",{"$f":"SUM(COUNTIF($C379:$H379,$BN$11:$BS$11))","v":0}," ",{"$f":"SUM(COUNTIF($C379:$H379,$BU$11:$BZ$11))","v":0}," ",{"$f":"SUM(COUNTIF($C379:$H379,$CB$11:$CG$11))","v":0}," ",{"$f":"SUM(COUNTIF($C379:$H379,$CI$11:$CN$11))","v":0}," ",{"$f":"SUM(COUNTIF($C379:$H379,$CP$11:$CU$11))","v":0}," ",{"$f":"SUM(COUNTIF($C379:$H379,$CW$11:$DB$11))","v":0}," ",{"$f":"SUM(COUNTIF($C379:$H379,$DD$11:$DI$11))","v":0}," ",{"$f":"SUM(COUNTIF($C379:$H379,$DK$11:$DP$11))","v":0}]
[{"$f":"'aktuelle Zahlen'!A376","v":0},{"$f":"'aktuelle Zahlen'!B376","v":"00:00:00"},{"$f":"'aktuelle Zahlen'!C376","v":0},{"$f":"'aktuelle Zahlen'!D376","v":0},{"$f":"'aktuelle Zahlen'!E376","v":0},{"$f":"'aktuelle Zahlen'!F376","v":0},{"$f":"'aktuelle Zahlen'!G376","v":0},{"$f":"'aktuelle Zahlen'!H376","v":0},{"$f":"'aktuelle Zahlen'!J376","v":0},null," ",{"$f":"SUM(COUNTIF($C380:$H380,$AL$11:$AQ$11))","v":0}," ",{"$f":"SUM(COUNTIF($C380:$H380,$AS$11:$AX$11))","v":0}," ",{"$f":"SUM(COUNTIF($C380:$H380,$AZ$11:$BE$11))","v":0}," ",{"$f":"SUM(COUNTIF($C380:$H380,$BG$11:$BL$11))","v":0}," ",{"$f":"SUM(COUNTIF($C380:$H380,$BN$11:$BS$11))","v":0}," ",{"$f":"SUM(COUNTIF($C380:$H380,$BU$11:$BZ$11))","v":0}," ",{"$f":"SUM(COUNTIF($C380:$H380,$CB$11:$CG$11))","v":0}," ",{"$f":"SUM(COUNTIF($C380:$H380,$CI$11:$CN$11))","v":0}," ",{"$f":"SUM(COUNTIF($C380:$H380,$CP$11:$CU$11))","v":0}," ",{"$f":"SUM(COUNTIF($C380:$H380,$CW$11:$DB$11))","v":0}," ",{"$f":"SUM(COUNTIF($C380:$H380,$DD$11:$DI$11))","v":0}," ",{"$f":"SUM(COUNTIF($C380:$H380,$DK$11:$DP$11))","v":0}]
[{"$f":"'aktuelle Zahlen'!A377","v":0},{"$f":"'aktuelle Zahlen'!B377","v":"00:00:00"},{"$f":"'aktuelle Zahlen'!C377","v":0},{"$f":"'aktuelle Zahlen'!D377","v":0},{"$f":"'aktuelle Zahlen'!E377","v":0},{"$f":"'aktuelle Zahlen'!F377","v":0},{"$f":"'aktuelle Zahlen'!G377","v":0},{"$f":"'aktuelle Zahlen'!H377","v":0},{"$f":"'aktuelle Zahlen'!J377","v":0},null," ",{"$f":"SUM(COUNTIF($C381:$H381,$AL$11:$AQ$11))","v":0}," ",{"$f":"SUM(COUNTIF($C381:$H381,$AS$11:$AX$11))","v":0}," ",{"$f":"SUM(COUNTIF($C381:$H381,$AZ$11:$BE$11))","v":0}," ",{"$f":"SUM(COUNTIF($C381:$H381,$BG$11:$BL$11))","v":0}," ",{"$f":"SUM(COUNTIF($C381:$H381,$BN$11:$BS$11))","v":0}," ",{"$f":"SUM(COUNTIF($C381:$H381,$BU$11:$BZ$11))","v":0}," ",{"$f":"SUM(COUNTIF($C381:$H381,$CB$11:$CG$11))","v":0}," ",{"$f":"SUM(COUNTIF($C381:$H381,$CI$11:$CN$11))","v":0}," ",{"$f":"SUM(COUNTIF($C381:$H381,$CP$11:$CU$11))","v":0}," ",{"$f":"SUM(COUNTIF($C381:$H381,$CW$11:$DB$11))","v":0}," ",{"$f":"SUM(COUNTIF($C381:$H381,$DD$11:$DI$11))","v":0}," ",{"$f":"SUM(COUNTIF($C381:$H381,$DK$11:$DP$11))","v":0}]
[{"$f":"'aktuelle Zahlen'!A378","v":0},{"$f":"'aktuelle Zahlen'!B378","v":"00:00:00"},{"$f":"'aktuelle Zahlen'!C378","v":0},{"$f":"'aktuelle Zahlen'!D378","v":0},{"$f":"'aktuelle Zahlen'!E378","v":0},{"$f":"'aktuelle Zahlen'!F378","v":0},{"$f":"'aktuelle Zahlen'!G378","v":0},{"$f":"'aktuelle Zahlen'!H378","v":0},{"$f":"'aktuelle Zahlen'!J378","v":0},null," ",{"$f":"SUM(COUNTIF($C382:$H382,$AL$11:$AQ$11))","v":0}," ",{"$f":"SUM(COUNTIF($C382:$H382,$AS$11:$AX$11))","v":0}," ",{"$f":"SUM(COUNTIF($C382:$H382,$AZ$11:$BE$11))","v":0}," ",{"$f":"SUM(COUNTIF($C382:$H382,$BG$11:$BL$11))","v":0}," ",{"$f":"SUM(COUNTIF($C382:$H382,$BN$11:$BS$11))","v":0}," ",{"$f":"SUM(COUNTIF($C382:$H382,$BU$11:$BZ$11))","v":0}," ",{"$f":"SUM(COUNTIF($C382:$H382,$CB$11:$CG$11))","v":0}," ",{"$f":"SUM(COUNTIF($C382:$H382,$CI$11:$CN$11))","v":0}," ",{"$f":"SUM(COUNTIF($C382:$H382,$CP$11:$CU$11))","v":0}," ",{"$f":"SUM(COUNTIF($C382:$H382,$CW$11:$DB$11))","v":0}," ",{"$f":"SUM(COUNTIF($C382:$H382,$DD$11:$DI$11))","v":0}," ",{"$f":"SUM(COUNTIF($C382:$H382,$DK$11:$DP$11))","v":0}]
[{"$f":"'aktuelle Zahlen'!A379","v":0},{"$f":"'aktuelle Zahlen'!B379","v":"00:00:00"},{"$f":"'aktuelle Zahlen'!C379","v":0},{"$f":"'aktuelle Zahlen'!D379","v":0},{"$f":"'aktuelle Zahlen'!E379","v":0},{"$f":"'aktuelle Zahlen'!F379","v":0},{"$f":"'aktuelle Zahlen'!G379","v":0},{"$f":"'aktuelle Zahlen'!H379","v":0},{"$f":"'aktuelle Zahlen'!J379","v":0},null," ",{"$f":"SUM(COUNTIF($C383:$H383,$AL$11:$AQ$11))","v":0}," ",{"$f":"SUM(COUNTIF($C383:$H383,$AS$11:$AX$11))","v":0}," ",{"$f":"SUM(COUNTIF($C383:$H383,$AZ$11:$BE$11))","v":0}," ",{"$f":"SUM(COUNTIF($C383:$H383,$BG$11:$BL$11))","v":0}," ",{"$f":"SUM(COUNTIF($C383:$H383,$BN$11:$BS$11))","v":0}," ",{"$f":"SUM(COUNTIF($C383:$H383,$BU$11:$BZ$11))","v":0}," ",{"$f":"SUM(COUNTIF($C383:$H383,$CB$11:$CG$11))","v":0}," ",{"$f":"SUM(COUNTIF($C383:$H383,$CI$11:$CN$11))","v":0}," ",{"$f":"SUM(COUNTIF($C383:$H383,$CP$11:$CU$11))","v":0}," ",{"$f":"SUM(COUNTIF($C383:$H383,$CW$11:$DB$11))","v":0}," ",{"$f":"SUM(COUNTIF($C383:$H383,$DD$11:$DI$11))","v":0}," ",{"$f":"SUM(COUNTIF($C383:$H383,$DK$11:$DP$11))","v":0}]
[{"$f":"'aktuelle Zahlen'!A380","v":0},{"$f":"'aktuelle Zahlen'!B380","v":"00:00:00"},{"$f":"'aktuelle Zahlen'!C380","v":0},{"$f":"'aktuelle Zahlen'!D380","v":0},{"$f":"'aktuelle Zahlen'!E380","v":0},{"$f":"'aktuelle Zahlen'!F380","v":0},{"$f":"'aktuelle Zahlen'!G380","v":0},{"$f":"'aktuelle Zahlen'!H380","v":0},{"$f":"'aktuelle Zahlen'!J380","v":0},null," ",{"$f":"SUM(COUNTIF($C384:$H384,$AL$11:$AQ$11))","v":0}," ",{"$f":"SUM(COUNTIF($C384:$H384,$AS$11:$AX$11))","v":0}," ",{"$f":"SUM(COUNTIF($C384:$H384,$AZ$11:$BE$11))","v":0}," ",{"$f":"SUM(COUNTIF($C384:$H384,$BG$11:$BL$11))","v":0}," ",{"$f":"SUM(COUNTIF($C384:$H384,$BN$11:$BS$11))","v":0}," ",{"$f":"SUM(COUNTIF($C384:$H384,$BU$11:$BZ$11))","v":0}," ",{"$f":"SUM(COUNTIF($C384:$H384,$CB$11:$CG$11))","v":0}," ",{"$f":"SUM(COUNTIF($C384:$H384,$CI$11:$CN$11))","v":0}," ",{"$f":"SUM(COUNTIF($C384:$H384,$CP$11:$CU$11))","v":0}," ",{"$f":"SUM(COUNTIF($C384:$H384,$CW$11:$DB$11))","v":0}," ",{"$f":"SUM(COUNTIF($C384:$H384,$DD$11:$DI$11))","v":0}," ",{"$f":"SUM(COUNTIF($C384:$H384,$DK$11:$DP$11))","v":0}]
[{"$f":"'aktuelle Zahlen'!A381","v":0},{"$f":"'aktuelle Zahlen'!B381","v":"00:00:00"},{"$f":"'aktuelle Zahlen'!C381","v":0},{"$f":"'aktuelle Zahlen'!D381","v":0},{"$f":"'aktuelle Zahlen'!E381","v":0},{"$f":"'aktuelle Zahlen'!F381","v":0},{"$f":"'aktuelle Zahlen'!G381","v":0},{"$f":"'aktuelle Zahlen'!H381","v":0},{"$f":"'aktuelle Zahlen'!J381","v":0},null," ",{"$f":"SUM(COUNTIF($C385:$H385,$AL$11:$AQ$11))","v":0}," ",{"$f":"SUM(COUNTIF($C385:$H385,$AS$11:$AX$11))","v":0}," ",{"$f":"SUM(COUNTIF($C385:$H385,$AZ$11:$BE$11))","v":0}," ",{"$f":"SUM(COUNTIF($C385:$H385,$BG$11:$BL$11))","v":0}," ",{"$f":"SUM(COUNTIF($C385:$H385,$BN$11:$BS$11))","v":0}," ",{"$f":"SUM(COUNTIF($C385:$H385,$BU$11:$BZ$11))","v":0}," ",{"$f":"SUM(COUNTIF($C385:$H385,$CB$11:$CG$11))","v":0}," ",{"$f":"SUM(COUNTIF($C385:$H385,$CI$11:$CN$11))","v":0}," ",{"$f":"SUM(COUNTIF($C385:$H385,$CP$11:$CU$11))","v":0}," ",{"$f":"SUM(COUNTIF($C385:$H385,$CW$11:$DB$11))","v":0}," ",{"$f":"SUM(COUNTIF($C385:$H385,$DD$11:$DI$11))","v":0}," ",{"$f":"SUM(COUNTIF($C385:$H385,$DK$11:$DP$11))","v":0}]
[{"$f":"'aktuelle Zahlen'!A382","v":0},{"$f":"'aktuelle Zahlen'!B382","v":"00:00:00"},{"$f":"'aktuelle Zahlen'!C382","v":0},{"$f":"'aktuelle Zahlen'!D382","v":0},{"$f":"'aktuelle Zahlen'!E382","v":0},{"$f":"'aktuelle Zahlen'!F382","v":0},{"$f":"'aktuelle Zahlen'!G382","v":0},{"$f":"'aktuelle Zahlen'!H382","v":0},{"$f":"'aktuelle Zahlen'!J382","v":0},null," ",{"$f":"SUM(COUNTIF($C386:$H386,$AL$11:$AQ$11))","v":0}," ",{"$f":"SUM(COUNTIF($C386:$H386,$AS$11:$AX$11))","v":0}," ",{"$f":"SUM(COUNTIF($C386:$H386,$AZ$11:$BE$11))","v":0}," ",{"$f":"SUM(COUNTIF($C386:$H386,$BG$11:$BL$11))","v":0}," ",{"$f":"SUM(COUNTIF($C386:$H386,$BN$11:$BS$11))","v":0}," ",{"$f":"SUM(COUNTIF($C386:$H386,$BU$11:$BZ$11))","v":0}," ",{"$f":"SUM(COUNTIF($C386:$H386,$CB$11:$CG$11))","v":0}," ",{"$f":"SUM(COUNTIF($C386:$H386,$CI$11:$CN$11))","v":0}," ",{"$f":"SUM(COUNTIF($C386:$H386,$CP$11:$CU$11))","v":0}," ",{"$f":"SUM(COUNTIF($C386:$H386,$CW$11:$DB$11))","v":0}," ",{"$f":"SUM(COUNTIF($C386:$H386,$DD$11:$DI$11))","v":0}," ",{"$f":"SUM(COUNTIF($C386:$H386,$DK$11:$DP$11))","v":0}]
[{"$f":"'aktuelle Zahlen'!A383","v":0},{"$f":"'aktuelle Zahlen'!B383","v":"00:00:00"},{"$f":"'aktuelle Zahlen'!C383","v":0},{"$f":"'aktuelle Zahlen'!D383","v":0},{"$f":"'aktuelle Zahlen'!E383","v":0},{"$f":"'aktuelle Zahlen'!F383","v":0},{"$f":"'aktuelle Zahlen'!G383","v":0},{"$f":"'aktuelle Zahlen'!H383","v":0},{"$f":"'aktuelle Zahlen'!J383","v":0},null," ",{"$f":"SUM(COUNTIF($C387:$H387,$AL$11:$AQ$11))","v":0}," ",{"$f":"SUM(COUNTIF($C387:$H387,$AS$11:$AX$11))","v":0}," ",{"$f":"SUM(COUNTIF($C387:$H387,$AZ$11:$BE$11))","v":0}," ",{"$f":"SUM(COUNTIF($C387:$H387,$BG$11:$BL$11))","v":0}," ",{"$f":"SUM(COUNTIF($C387:$H387,$BN$11:$BS$11))","v":0}," ",{"$f":"SUM(COUNTIF($C387:$H387,$BU$11:$BZ$11))","v":0}," ",{"$f":"SUM(COUNTIF($C387:$H387,$CB$11:$CG$11))","v":0}," ",{"$f":"SUM(COUNTIF($C387:$H387,$CI$11:$CN$11))","v":0}," ",{"$f":"SUM(COUNTIF($C387:$H387,$CP$11:$CU$11))","v":0}," ",{"$f":"SUM(COUNTIF($C387:$H387,$CW$11:$DB$11))","v":0}," ",{"$f":"SUM(COUNTIF($C387:$H387,$DD$11:$DI$11))","v":0}," ",{"$f":"SUM(COUNTIF($C387:$H387,$DK$11:$DP$11))","v":0}]
[{"$f":"'aktuelle Zahlen'!A384","v":0},{"$f":"'aktuelle Zahlen'!B384","v":"00:00:00"},{"$f":"'aktuelle Zahlen'!C384","v":0},{"$f":"'aktuelle Zahlen'!D384","v":0},{"$f":"'aktuelle Zahlen'!E384","v":0},{"$f":"'aktuelle Zahlen'!F384","v":0},{"$f":"'aktuelle Zahlen'!G384","v":0},{"$f":"'aktuelle Zahlen'!H384","v":0},{"$f":"'aktuelle Zahlen'!J384","v":0},null," ",{"$f":"SUM(COUNTIF($C388:$H388,$AL$11:$AQ$11))","v":0}," ",{"$f":"SUM(COUNTIF($C388:$H388,$AS$11:$AX$11))","v":0}," ",{"$f":"SUM(COUNTIF($C388:$H388,$AZ$11:$BE$11))","v":0}," ",{"$f":"SUM(COUNTIF($C388:$H388,$BG$11:$BL$11))","v":0}," ",{"$f":"SUM(COUNTIF($C388:$H388,$BN$11:$BS$11))","v":0}," ",{"$f":"SUM(COUNTIF($C388:$H388,$BU$11:$BZ$11))","v":0}," ",{"$f":"SUM(COUNTIF($C388:$H388,$CB$11:$CG$11))","v":0}," ",{"$f":"SUM(COUNTIF($C388:$H388,$CI$11:$CN$11))","v":0}," ",{"$f":"SUM(COUNTIF($C388:$H388,$CP$11:$CU$11))","v":0}," ",{"$f":"SUM(COUNTIF($C388:$H388,$CW$11:$DB$11))","v":0}," ",{"$f":"SUM(COUNTIF($C388:$H388,$DD$11:$DI$11))","v":0}," ",{"$f":"SUM(COUNTIF($C388:$H388,$DK$11:$DP$11))","v":0}]
[{"$f":"'aktuelle Zahlen'!A385","v":0},{"$f":"'aktuelle Zahlen'!B385","v":"00:00:00"},{"$f":"'aktuelle Zahlen'!C385","v":0},{"$f":"'aktuelle Zahlen'!D385","v":0},{"$f":"'aktuelle Zahlen'!E385","v":0},{"$f":"'aktuelle Zahlen'!F385","v":0},{"$f":"'aktuelle Zahlen'!G385","v":0},{"$f":"'aktuelle Zahlen'!H385","v":0},{"$f":"'aktuelle Zahlen'!J385","v":0},null," ",{"$f":"SUM(COUNTIF($C389:$H389,$AL$11:$AQ$11))","v":0}," ",{"$f":"SUM(COUNTIF($C389:$H389,$AS$11:$AX$11))","v":0}," ",{"$f":"SUM(COUNTIF($C389:$H389,$AZ$11:$BE$11))","v":0}," ",{"$f":"SUM(COUNTIF($C389:$H389,$BG$11:$BL$11))","v":0}," ",{"$f":"SUM(COUNTIF($C389:$H389,$BN$11:$BS$11))","v":0}," ",{"$f":"SUM(COUNTIF($C389:$H389,$BU$11:$BZ$11))","v":0}," ",{"$f":"SUM(COUNTIF($C389:$H389,$CB$11:$CG$11))","v":0}," ",{"$f":"SUM(COUNTIF($C389:$H389,$CI$11:$CN$11))","v":0}," ",{"$f":"SUM(COUNTIF($C389:$H389,$CP$11:$CU$11))","v":0}," ",{"$f":"SUM(COUNTIF($C389:$H389,$CW$11:$DB$11))","v":0}," ",{"$f":"SUM(COUNTIF($C389:$H389,$DD$11:$DI$11))","v":0}," ",{"$f":"SUM(COUNTIF($C389:$H389,$DK$11:$DP$11))","v":0}]
[{"$f":"'aktuelle Zahlen'!A386","v":0},{"$f":"'aktuelle Zahlen'!B386","v":"00:00:00"},{"$f":"'aktuelle Zahlen'!C386","v":0},{"$f":"'aktuelle Zahlen'!D386","v":0},{"$f":"'aktuelle Zahlen'!E386","v":0},{"$f":"'aktuelle Zahlen'!F386","v":0},{"$f":"'aktuelle Zahlen'!G386","v":0},{"$f":"'aktuelle Zahlen'!H386","v":0},{"$f":"'aktuelle Zahlen'!J386","v":0},null," ",{"$f":"SUM(COUNTIF($C390:$H390,$AL$11:$AQ$11))","v":0}," ",{"$f":"SUM(COUNTIF($C390:$H390,$AS$11:$AX$11))","v":0}," ",{"$f":"SUM(COUNTIF($C390:$H390,$AZ$11:$BE$11))","v":0}," ",{"$f":"SUM(COUNTIF($C390:$H390,$BG$11:$BL$11))","v":0}," ",{"$f":"SUM(COUNTIF($C390:$H390,$BN$11:$BS$11))","v":0}," ",{"$f":"SUM(COUNTIF($C390:$H390,$BU$11:$BZ$11))","v":0}," ",{"$f":"SUM(COUNTIF($C390:$H390,$CB$11:$CG$11))","v":0}," ",{"$f":"SUM(COUNTIF($C390:$H390,$CI$11:$CN$11))","v":0}," ",{"$f":"SUM(COUNTIF($C390:$H390,$CP$11:$CU$11))","v":0}," ",{"$f":"SUM(COUNTIF($C390:$H390,$CW$11:$DB$11))","v":0}," ",{"$f":"SUM(COUNTIF($C390:$H390,$DD$11:$DI$11))","v":0}," ",{"$f":"SUM(COUNTIF($C390:$H390,$DK$11:$DP$11))","v":0}]
[{"$f":"'aktuelle Zahlen'!A387","v":0},{"$f":"'aktuelle Zahlen'!B387","v":"00:00:00"},{"$f":"'aktuelle Zahlen'!C387","v":0},{"$f":"'aktuelle Zahlen'!D387","v":0},{"$f":"'aktuelle Zahlen'!E387","v":0},{"$f":"'aktuelle Zahlen'!F387","v":0},{"$f":"'aktuelle Zahlen'!G387","v":0},{"$f":"'aktuelle Zahlen'!H387","v":0},{"$f":"'aktuelle Zahlen'!J387","v":0},null," ",{"$f":"SUM(COUNTIF($C391:$H391,$AL$11:$AQ$11))","v":0}," ",{"$f":"SUM(COUNTIF($C391:$H391,$AS$11:$AX$11))","v":0}," ",{"$f":"SUM(COUNTIF($C391:$H391,$AZ$11:$BE$11))","v":0}," ",{"$f":"SUM(COUNTIF($C391:$H391,$BG$11:$BL$11))","v":0}," ",{"$f":"SUM(COUNTIF($C391:$H391,$BN$11:$BS$11))","v":0}," ",{"$f":"SUM(COUNTIF($C391:$H391,$BU$11:$BZ$11))","v":0}," ",{"$f":"SUM(COUNTIF($C391:$H391,$CB$11:$CG$11))","v":0}," ",{"$f":"SUM(COUNTIF($C391:$H391,$CI$11:$CN$11))","v":0}," ",{"$f":"SUM(COUNTIF($C391:$H391,$CP$11:$CU$11))","v":0}," ",{"$f":"SUM(COUNTIF($C391:$H391,$CW$11:$DB$11))","v":0}," ",{"$f":"SUM(COUNTIF($C391:$H391,$DD$11:$DI$11))","v":0}," ",{"$f":"SUM(COUNTIF($C391:$H391,$DK$11:$DP$11))","v":0}]
[{"$f":"'aktuelle Zahlen'!A388","v":0},{"$f":"'aktuelle Zahlen'!B388","v":"00:00:00"},{"$f":"'aktuelle Zahlen'!C388","v":0},{"$f":"'aktuelle Zahlen'!D388","v":0},{"$f":"'aktuelle Zahlen'!E388","v":0},{"$f":"'aktuelle Zahlen'!F388","v":0},{"$f":"'aktuelle Zahlen'!G388","v":0},{"$f":"'aktuelle Zahlen'!H388","v":0},{"$f":"'aktuelle Zahlen'!J388","v":0},null," ",{"$f":"SUM(COUNTIF($C392:$H392,$AL$11:$AQ$11))","v":0}," ",{"$f":"SUM(COUNTIF($C392:$H392,$AS$11:$AX$11))","v":0}," ",{"$f":"SUM(COUNTIF($C392:$H392,$AZ$11:$BE$11))","v":0}," ",{"$f":"SUM(COUNTIF($C392:$H392,$BG$11:$BL$11))","v":0}," ",{"$f":"SUM(COUNTIF($C392:$H392,$BN$11:$BS$11))","v":0}," ",{"$f":"SUM(COUNTIF($C392:$H392,$BU$11:$BZ$11))","v":0}," ",{"$f":"SUM(COUNTIF($C392:$H392,$CB$11:$CG$11))","v":0}," ",{"$f":"SUM(COUNTIF($C392:$H392,$CI$11:$CN$11))","v":0}," ",{"$f":"SUM(COUNTIF($C392:$H392,$CP$11:$CU$11))","v":0}," ",{"$f":"SUM(COUNTIF($C392:$H392,$CW$11:$DB$11))","v":0}," ",{"$f":"SUM(COUNTIF($C392:$H392,$DD$11:$DI$11))","v":0}," ",{"$f":"SUM(COUNTIF($C392:$H392,$DK$11:$DP$11))","v":0}]
[{"$f":"'aktuelle Zahlen'!A389","v":0},{"$f":"'aktuelle Zahlen'!B389","v":"00:00:00"},{"$f":"'aktuelle Zahlen'!C389","v":0},{"$f":"'aktuelle Zahlen'!D389","v":0},{"$f":"'aktuelle Zahlen'!E389","v":0},{"$f":"'aktuelle Zahlen'!F389","v":0},{"$f":"'aktuelle Zahlen'!G389","v":0},{"$f":"'aktuelle Zahlen'!H389","v":0},{"$f":"'aktuelle Zahlen'!J389","v":0},null," ",{"$f":"SUM(COUNTIF($C393:$H393,$AL$11:$AQ$11))","v":0}," ",{"$f":"SUM(COUNTIF($C393:$H393,$AS$11:$AX$11))","v":0}," ",{"$f":"SUM(COUNTIF($C393:$H393,$AZ$11:$BE$11))","v":0}," ",{"$f":"SUM(COUNTIF($C393:$H393,$BG$11:$BL$11))","v":0}," ",{"$f":"SUM(COUNTIF($C393:$H393,$BN$11:$BS$11))","v":0}," ",{"$f":"SUM(COUNTIF($C393:$H393,$BU$11:$BZ$11))","v":0}," ",{"$f":"SUM(COUNTIF($C393:$H393,$CB$11:$CG$11))","v":0}," ",{"$f":"SUM(COUNTIF($C393:$H393,$CI$11:$CN$11))","v":0}," ",{"$f":"SUM(COUNTIF($C393:$H393,$CP$11:$CU$11))","v":0}," ",{"$f":"SUM(COUNTIF($C393:$H393,$CW$11:$DB$11))","v":0}," ",{"$f":"SUM(COUNTIF($C393:$H393,$DD$11:$DI$11))","v":0}," ",{"$f":"SUM(COUNTIF($C393:$H393,$DK$11:$DP$11))","v":0}]
[{"$f":"'aktuelle Zahlen'!A390","v":0},{"$f":"'aktuelle Zahlen'!B390","v":"00:00:00"},{"$f":"'aktuelle Zahlen'!C390","v":0},{"$f":"'aktuelle Zahlen'!D390","v":0},{"$f":"'aktuelle Zahlen'!E390","v":0},{"$f":"'aktuelle Zahlen'!F390","v":0},{"$f":"'aktuelle Zahlen'!G390","v":0},{"$f":"'aktuelle Zahlen'!H390","v":0},{"$f":"'aktuelle Zahlen'!J390","v":0},null," ",{"$f":"SUM(COUNTIF($C394:$H394,$AL$11:$AQ$11))","v":0}," ",{"$f":"SUM(COUNTIF($C394:$H394,$AS$11:$AX$11))","v":0}," ",{"$f":"SUM(COUNTIF($C394:$H394,$AZ$11:$BE$11))","v":0}," ",{"$f":"SUM(COUNTIF($C394:$H394,$BG$11:$BL$11))","v":0}," ",{"$f":"SUM(COUNTIF($C394:$H394,$BN$11:$BS$11))","v":0}," ",{"$f":"SUM(COUNTIF($C394:$H394,$BU$11:$BZ$11))","v":0}," ",{"$f":"SUM(COUNTIF($C394:$H394,$CB$11:$CG$11))","v":0}," ",{"$f":"SUM(COUNTIF($C394:$H394,$CI$11:$CN$11))","v":0}," ",{"$f":"SUM(COUNTIF($C394:$H394,$CP$11:$CU$11))","v":0}," ",{"$f":"SUM(COUNTIF($C394:$H394,$CW$11:$DB$11))","v":0}," ",{"$f":"SUM(COUNTIF($C394:$H394,$DD$11:$DI$11))","v":0}," ",{"$f":"SUM(COUNTIF($C394:$H394,$DK$11:$DP$11))","v":0}]
[{"$f":"'aktuelle Zahlen'!A391","v":0},{"$f":"'aktuelle Zahlen'!B391","v":"00:00:00"},{"$f":"'aktuelle Zahlen'!C391","v":0},{"$f":"'aktuelle Zahlen'!D391","v":0},{"$f":"'aktuelle Zahlen'!E391","v":0},{"$f":"'aktuelle Zahlen'!F391","v":0},{"$f":"'aktuelle Zahlen'!G391","v":0},{"$f":"'aktuelle Zahlen'!H391","v":0},{"$f":"'aktuelle Zahlen'!J391","v":0},null," ",{"$f":"SUM(COUNTIF($C395:$H395,$AL$11:$AQ$11))","v":0}," ",{"$f":"SUM(COUNTIF($C395:$H395,$AS$11:$AX$11))","v":0}," ",{"$f":"SUM(COUNTIF($C395:$H395,$AZ$11:$BE$11))","v":0}," ",{"$f":"SUM(COUNTIF($C395:$H395,$BG$11:$BL$11))","v":0}," ",{"$f":"SUM(COUNTIF($C395:$H395,$BN$11:$BS$11))","v":0}," ",{"$f":"SUM(COUNTIF($C395:$H395,$BU$11:$BZ$11))","v":0}," ",{"$f":"SUM(COUNTIF($C395:$H395,$CB$11:$CG$11))","v":0}," ",{"$f":"SUM(COUNTIF($C395:$H395,$CI$11:$CN$11))","v":0}," ",{"$f":"SUM(COUNTIF($C395:$H395,$CP$11:$CU$11))","v":0}," ",{"$f":"SUM(COUNTIF($C395:$H395,$CW$11:$DB$11))","v":0}," ",{"$f":"SUM(COUNTIF($C395:$H395,$DD$11:$DI$11))","v":0}," ",{"$f":"SUM(COUNTIF($C395:$H395,$DK$11:$DP$11))","v":0}]
[{"$f":"'aktuelle Zahlen'!A392","v":0},{"$f":"'aktuelle Zahlen'!B392","v":"00:00:00"},{"$f":"'aktuelle Zahlen'!C392","v":0},{"$f":"'aktuelle Zahlen'!D392","v":0},{"$f":"'aktuelle Zahlen'!E392","v":0},{"$f":"'aktuelle Zahlen'!F392","v":0},{"$f":"'aktuelle Zahlen'!G392","v":0},{"$f":"'aktuelle Zahlen'!H392","v":0},{"$f":"'aktuelle Zahlen'!J392","v":0},null," ",{"$f":"SUM(COUNTIF($C396:$H396,$AL$11:$AQ$11))","v":0}," ",{"$f":"SUM(COUNTIF($C396:$H396,$AS$11:$AX$11))","v":0}," ",{"$f":"SUM(COUNTIF($C396:$H396,$AZ$11:$BE$11))","v":0}," ",{"$f":"SUM(COUNTIF($C396:$H396,$BG$11:$BL$11))","v":0}," ",{"$f":"SUM(COUNTIF($C396:$H396,$BN$11:$BS$11))","v":0}," ",{"$f":"SUM(COUNTIF($C396:$H396,$BU$11:$BZ$11))","v":0}," ",{"$f":"SUM(COUNTIF($C396:$H396,$CB$11:$CG$11))","v":0}," ",{"$f":"SUM(COUNTIF($C396:$H396,$CI$11:$CN$11))","v":0}," ",{"$f":"SUM(COUNTIF($C396:$H396,$CP$11:$CU$11))","v":0}," ",{"$f":"SUM(COUNTIF($C396:$H396,$CW$11:$DB$11))","v":0}," ",{"$f":"SUM(COUNTIF($C396:$H396,$DD$11:$DI$11))","v":0}," ",{"$f":"SUM(COUNTIF($C396:$H396,$DK$11:$DP$11))","v":0}]
[{"$f":"'aktuelle Zahlen'!A393","v":0},{"$f":"'aktuelle Zahlen'!B393","v":"00:00:00"},{"$f":"'aktuelle Zahlen'!C393","v":0},{"$f":"'aktuelle Zahlen'!D393","v":0},{"$f":"'aktuelle Zahlen'!E393","v":0},{"$f":"'aktuelle Zahlen'!F393","v":0},{"$f":"'aktuelle Zahlen'!G393","v":0},{"$f":"'aktuelle Zahlen'!H393","v":0},{"$f":"'aktuelle Zahlen'!J393","v":0},null," ",{"$f":"SUM(COUNTIF($C397:$H397,$AL$11:$AQ$11))","v":0}," ",{"$f":"SUM(COUNTIF($C397:$H397,$AS$11:$AX$11))","v":0}," ",{"$f":"SUM(COUNTIF($C397:$H397,$AZ$11:$BE$11))","v":0}," ",{"$f":"SUM(COUNTIF($C397:$H397,$BG$11:$BL$11))","v":0}," ",{"$f":"SUM(COUNTIF($C397:$H397,$BN$11:$BS$11))","v":0}," ",{"$f":"SUM(COUNTIF($C397:$H397,$BU$11:$BZ$11))","v":0}," ",{"$f":"SUM(COUNTIF($C397:$H397,$CB$11:$CG$11))","v":0}," ",{"$f":"SUM(COUNTIF($C397:$H397,$CI$11:$CN$11))","v":0}," ",{"$f":"SUM(COUNTIF($C397:$H397,$CP$11:$CU$11))","v":0}," ",{"$f":"SUM(COUNTIF($C397:$H397,$CW$11:$DB$11))","v":0}," ",{"$f":"SUM(COUNTIF($C397:$H397,$DD$11:$DI$11))","v":0}," ",{"$f":"SUM(COUNTIF($C397:$H397,$DK$11:$DP$11))","v":0}]
[{"$f":"'aktuelle Zahlen'!A394","v":0},{"$f":"'aktuelle Zahlen'!B394","v":"00:00:00"},{"$f":"'aktuelle Zahlen'!C394","v":0},{"$f":"'aktuelle Zahlen'!D394","v":0},{"$f":"'aktuelle Zahlen'!E394","v":0},{"$f":"'aktuelle Zahlen'!F394","v":0},{"$f":"'aktuelle Zahlen'!G394","v":0},{"$f":"'aktuelle Zahlen'!H394","v":0},{"$f":"'aktuelle Zahlen'!J394","v":0},null," ",{"$f":"SUM(COUNTIF($C398:$H398,$AL$11:$AQ$11))","v":0}," ",{"$f":"SUM(COUNTIF($C398:$H398,$AS$11:$AX$11))","v":0}," ",{"$f":"SUM(COUNTIF($C398:$H398,$AZ$11:$BE$11))","v":0}," ",{"$f":"SUM(COUNTIF($C398:$H398,$BG$11:$BL$11))","v":0}," ",{"$f":"SUM(COUNTIF($C398:$H398,$BN$11:$BS$11))","v":0}," ",{"$f":"SUM(COUNTIF($C398:$H398,$BU$11:$BZ$11))","v":0}," ",{"$f":"SUM(COUNTIF($C398:$H398,$CB$11:$CG$11))","v":0}," ",{"$f":"SUM(COUNTIF($C398:$H398,$CI$11:$CN$11))","v":0}," ",{"$f":"SUM(COUNTIF($C398:$H398,$CP$11:$CU$11))","v":0}," ",{"$f":"SUM(COUNTIF($C398:$H398,$CW$11:$DB$11))","v":0}," ",{"$f":"SUM(COUNTIF($C398:$H398,$DD$11:$DI$11))","v":0}," ",{"$f":"SUM(COUNTIF($C398:$H398,$DK$11:$DP$11))","v":0}]
[{"$f":"'aktuelle Zahlen'!A395","v":0},{"$f":"'aktuelle Zahlen'!B395","v":"00:00:00"},{"$f":"'aktuelle Zahlen'!C395","v":0},{"$f":"'aktuelle Zahlen'!D395","v":0},{"$f":"'aktuelle Zahlen'!E395","v":0},{"$f":"'aktuelle Zahlen'!F395","v":0},{"$f":"'aktuelle Zahlen'!G395","v":0},{"$f":"'aktuelle Zahlen'!H395","v":0},{"$f":"'aktuelle Zahlen'!J395","v":0},null," ",{"$f":"SUM(COUNTIF($C399:$H399,$AL$11:$AQ$11))","v":0}," ",{"$f":"SUM(COUNTIF($C399:$H399,$AS$11:$AX$11))","v":0}," ",{"$f":"SUM(COUNTIF($C399:$H399,$AZ$11:$BE$11))","v":0}," ",{"$f":"SUM(COUNTIF($C399:$H399,$BG$11:$BL$11))","v":0}," ",{"$f":"SUM(COUNTIF($C399:$H399,$BN$11:$BS$11))","v":0}," ",{"$f":"SUM(COUNTIF($C399:$H399,$BU$11:$BZ$11))","v":0}," ",{"$f":"SUM(COUNTIF($C399:$H399,$CB$11:$CG$11))","v":0}," ",{"$f":"SUM(COUNTIF($C399:$H399,$CI$11:$CN$11))","v":0}," ",{"$f":"SUM(COUNTIF($C399:$H399,$CP$11:$CU$11))","v":0}," ",{"$f":"SUM(COUNTIF($C399:$H399,$CW$11:$DB$11))","v":0}," ",{"$f":"SUM(COUNTIF($C399:$H399,$DD$11:$DI$11))","v":0}," ",{"$f":"SUM(COUNTIF($C399:$H399,$DK$11:$DP$11))","v":0}]
[{"$f":"'aktuelle Zahlen'!A396","v":0},{"$f":"'aktuelle Zahlen'!B396","v":"00:00:00"},{"$f":"'aktuelle Zahlen'!C396","v":0},{"$f":"'aktuelle Zahlen'!D396","v":0},{"$f":"'aktuelle Zahlen'!E396","v":0},{"$f":"'aktuelle Zahlen'!F396","v":0},{"$f":"'aktuelle Zahlen'!G396","v":0},{"$f":"'aktuelle Zahlen'!H396","v":0},{"$f":"'aktuelle Zahlen'!J396","v":0},null," ",{"$f":"SUM(COUNTIF($C400:$H400,$AL$11:$AQ$11))","v":0}," ",{"$f":"SUM(COUNTIF($C400:$H400,$AS$11:$AX$11))","v":0}," ",{"$f":"SUM(COUNTIF($C400:$H400,$AZ$11:$BE$11))","v":0}," ",{"$f":"SUM(COUNTIF($C400:$H400,$BG$11:$BL$11))","v":0}," ",{"$f":"SUM(COUNTIF($C400:$H400,$BN$11:$BS$11))","v":0}," ",{"$f":"SUM(COUNTIF($C400:$H400,$BU$11:$BZ$11))","v":0}," ",{"$f":"SUM(COUNTIF($C400:$H400,$CB$11:$CG$11))","v":0}," ",{"$f":"SUM(COUNTIF($C400:$H400,$CI$11:$CN$11))","v":0}," ",{"$f":"SUM(COUNTIF($C400:$H400,$CP$11:$CU$11))","v":0}," ",{"$f":"SUM(COUNTIF($C400:$H400,$CW$11:$DB$11))","v":0}," ",{"$f":"SUM(COUNTIF($C400:$H400,$DD$11:$DI$11))","v":0}," ",{"$f":"SUM(COUNTIF($C400:$H400,$DK$11:$DP$11))","v":0}]
[{"$f":"'aktuelle Zahlen'!A397","v":0},{"$f":"'aktuelle Zahlen'!B397","v":"00:00:00"},{"$f":"'aktuelle Zahlen'!C397","v":0},{"$f":"'aktuelle Zahlen'!D397","v":0},{"$f":"'aktuelle Zahlen'!E397","v":0},{"$f":"'aktuelle Zahlen'!F397","v":0},{"$f":"'aktuelle Zahlen'!G397","v":0},{"$f":"'aktuelle Zahlen'!H397","v":0},{"$f":"'aktuelle Zahlen'!J397","v":0},null,{"$f":"IF(L401>1,(IF($I401=$AJ$11,L401 & \"Z\",L401)),\" \")","v":" "},{"$f":"SUM(COUNTIF($C401:$H401,$AL$11:$AQ$11))","v":0},{"$f":"IF(N401>1,(IF($I401=$AJ$11,N401 & \"Z\",N401)),\" \")","v":" "},{"$f":"SUM(COUNTIF($C401:$H401,$AS$11:$AX$11))","v":0},{"$f":"IF(P401>1,(IF($I401=$AJ$11,P401 & \"Z\",P401)),\" \")","v":" "},{"$f":"SUM(COUNTIF($C401:$H401,$AZ$11:$BE$11))","v":0},{"$f":"IF(R401>1,(IF($I401=$AJ$11,R401 & \"Z\",R401)),\" \")","v":" "},{"$f":"SUM(COUNTIF($C401:$H401,$BG$11:$BL$11))","v":0},{"$f":"IF(T401>1,(IF($I401=$AJ$11,T401 & \"Z\",T401)),\" \")","v":" "},{"$f":"SUM(COUNTIF($C401:$H401,$BN$11:$BS$11))","v":0},{"$f":"IF(V401>1,(IF($I401=$AJ$11,V401 & \"Z\",V401)),\" \")","v":" "},{"$f":"SUM(COUNTIF($C401:$H401,$BU$11:$BZ$11))","v":0},{"$f":"IF(X401>1,(IF($I401=$AJ$11,X401 & \"Z\",X401)),\" \")","v":" "},{"$f":"SUM(COUNTIF($C401:$H401,$CB$11:$CG$11))","v":0},{"$f":"IF(Z401>1,(IF($I401=$AJ$11,Z401 & \"Z\",Z401)),\" \")","v":" "},{"$f":"SUM(COUNTIF($C401:$H401,$CI$11:$CN$11))","v":0},{"$f":"IF(AB401>1,(IF($I401=$AJ$11,AB401 & \"Z\",AB401)),\" \")","v":" "},{"$f":"SUM(COUNTIF($C401:$H401,$CP$11:$CU$11))","v":0},{"$f":"IF(AD401>1,(IF($I401=$AJ$11,AD401 & \"Z\",AD401)),\" \")","v":" "},{"$f":"SUM(COUNTIF($C401:$H401,$CW$11:$DB$11))","v":0},{"$f":"IF(AF401>1,(IF($I401=$AJ$11,AF401 & \"Z\",AF401)),\" \")","v":" "},{"$f":"SUM(COUNTIF($C401:$H401,$DD$11:$DI$11))","v":0},{"$f":"IF(AH401>1,(IF($I401=$AJ$11,AH401 & \"Z\",AH401)),\" \")","v":" "},{"$f":"SUM(COUNTIF($C401:$H401,$DK$11:$DP$11))","v":0}]
[{"$f":"'aktuelle Zahlen'!A398","v":0},{"$f":"'aktuelle Zahlen'!B398","v":"00:00:00"},{"$f":"'aktuelle Zahlen'!C398","v":0},{"$f":"'aktuelle Zahlen'!D398","v":0},{"$f":"'aktuelle Zahlen'!E398","v":0},{"$f":"'aktuelle Zahlen'!F398","v":0},{"$f":"'aktuelle Zahlen'!G398","v":0},{"$f":"'aktuelle Zahlen'!H398","v":0},{"$f":"'aktuelle Zahlen'!J398","v":0},null," ",{"$f":"SUM(COUNTIF($C402:$H402,$AL$11:$AQ$11))","v":0}," ",{"$f":"SUM(COUNTIF($C402:$H402,$AS$11:$AX$11))","v":0}," ",{"$f":"SUM(COUNTIF($C402:$H402,$AZ$11:$BE$11))","v":0}," ",{"$f":"SUM(COUNTIF($C402:$H402,$BG$11:$BL$11))","v":0}," ",{"$f":"SUM(COUNTIF($C402:$H402,$BN$11:$BS$11))","v":0}," ",{"$f":"SUM(COUNTIF($C402:$H402,$BU$11:$BZ$11))","v":0}," ",{"$f":"SUM(COUNTIF($C402:$H402,$CB$11:$CG$11))","v":0}," ",{"$f":"SUM(COUNTIF($C402:$H402,$CI$11:$CN$11))","v":0}," ",{"$f":"SUM(COUNTIF($C402:$H402,$CP$11:$CU$11))","v":0}," ",{"$f":"SUM(COUNTIF($C402:$H402,$CW$11:$DB$11))","v":0}," ",{"$f":"SUM(COUNTIF($C402:$H402,$DD$11:$DI$11))","v":0}," ",{"$f":"SUM(COUNTIF($C402:$H402,$DK$11:$DP$11))","v":0}]
[{"$f":"'aktuelle Zahlen'!A399","v":0},{"$f":"'aktuelle Zahlen'!B399","v":"00:00:00"},{"$f":"'aktuelle Zahlen'!C399","v":0},{"$f":"'aktuelle Zahlen'!D399","v":0},{"$f":"'aktuelle Zahlen'!E399","v":0},{"$f":"'aktuelle Zahlen'!F399","v":0},{"$f":"'aktuelle Zahlen'!G399","v":0},{"$f":"'aktuelle Zahlen'!H399","v":0},{"$f":"'aktuelle Zahlen'!J399","v":0},null," ",{"$f":"SUM(COUNTIF($C403:$H403,$AL$11:$AQ$11))","v":0}," ",{"$f":"SUM(COUNTIF($C403:$H403,$AS$11:$AX$11))","v":0}," ",{"$f":"SUM(COUNTIF($C403:$H403,$AZ$11:$BE$11))","v":0}," ",{"$f":"SUM(COUNTIF($C403:$H403,$BG$11:$BL$11))","v":0}," ",{"$f":"SUM(COUNTIF($C403:$H403,$BN$11:$BS$11))","v":0}," ",{"$f":"SUM(COUNTIF($C403:$H403,$BU$11:$BZ$11))","v":0}," ",{"$f":"SUM(COUNTIF($C403:$H403,$CB$11:$CG$11))","v":0}," ",{"$f":"SUM(COUNTIF($C403:$H403,$CI$11:$CN$11))","v":0}," ",{"$f":"SUM(COUNTIF($C403:$H403,$CP$11:$CU$11))","v":0}," ",{"$f":"SUM(COUNTIF($C403:$H403,$CW$11:$DB$11))","v":0}," ",{"$f":"SUM(COUNTIF($C403:$H403,$DD$11:$DI$11))","v":0}," ",{"$f":"SUM(COUNTIF($C403:$H403,$DK$11:$DP$11))","v":0}]
[{"$f":"'aktuelle Zahlen'!A400","v":0},{"$f":"'aktuelle Zahlen'!B400","v":"00:00:00"},{"$f":"'aktuelle Zahlen'!C400","v":0},{"$f":"'aktuelle Zahlen'!D400","v":0},{"$f":"'aktuelle Zahlen'!E400","v":0},{"$f":"'aktuelle Zahlen'!F400","v":0},{"$f":"'aktuelle Zahlen'!G400","v":0},{"$f":"'aktuelle Zahlen'!H400","v":0},{"$f":"'aktuelle Zahlen'!J400","v":0},null," ",{"$f":"SUM(COUNTIF($C404:$H404,$AL$11:$AQ$11))","v":0}," ",{"$f":"SUM(COUNTIF($C404:$H404,$AS$11:$AX$11))","v":0}," ",{"$f":"SUM(COUNTIF($C404:$H404,$AZ$11:$BE$11))","v":0}," ",{"$f":"SUM(COUNTIF($C404:$H404,$BG$11:$BL$11))","v":0}," ",{"$f":"SUM(COUNTIF($C404:$H404,$BN$11:$BS$11))","v":0}," ",{"$f":"SUM(COUNTIF($C404:$H404,$BU$11:$BZ$11))","v":0}," ",{"$f":"SUM(COUNTIF($C404:$H404,$CB$11:$CG$11))","v":0}," ",{"$f":"SUM(COUNTIF($C404:$H404,$CI$11:$CN$11))","v":0}," ",{"$f":"SUM(COUNTIF($C404:$H404,$CP$11:$CU$11))","v":0}," ",{"$f":"SUM(COUNTIF($C404:$H404,$CW$11:$DB$11))","v":0}," ",{"$f":"SUM(COUNTIF($C404:$H404,$DD$11:$DI$11))","v":0}," ",{"$f":"SUM(COUNTIF($C404:$H404,$DK$11:$DP$11))","v":0}]
[{"$f":"'aktuelle Zahlen'!A401","v":0},{"$f":"'aktuelle Zahlen'!B401","v":"00:00:00"},{"$f":"'aktuelle Zahlen'!C401","v":0},{"$f":"'aktuelle Zahlen'!D401","v":0},{"$f":"'aktuelle Zahlen'!E401","v":0},{"$f":"'aktuelle Zahlen'!F401","v":0},{"$f":"'aktuelle Zahlen'!G401","v":0},{"$f":"'aktuelle Zahlen'!H401","v":0},{"$f":"'aktuelle Zahlen'!J401","v":0},null," ",{"$f":"SUM(COUNTIF($C405:$H405,$AL$11:$AQ$11))","v":0}," ",{"$f":"SUM(COUNTIF($C405:$H405,$AS$11:$AX$11))","v":0}," ",{"$f":"SUM(COUNTIF($C405:$H405,$AZ$11:$BE$11))","v":0}," ",{"$f":"SUM(COUNTIF($C405:$H405,$BG$11:$BL$11))","v":0}," ",{"$f":"SUM(COUNTIF($C405:$H405,$BN$11:$BS$11))","v":0}," ",{"$f":"SUM(COUNTIF($C405:$H405,$BU$11:$BZ$11))","v":0}," ",{"$f":"SUM(COUNTIF($C405:$H405,$CB$11:$CG$11))","v":0}," ",{"$f":"SUM(COUNTIF($C405:$H405,$CI$11:$CN$11))","v":0}," ",{"$f":"SUM(COUNTIF($C405:$H405,$CP$11:$CU$11))","v":0}," ",{"$f":"SUM(COUNTIF($C405:$H405,$CW$11:$DB$11))","v":0}," ",{"$f":"SUM(COUNTIF($C405:$H405,$DD$11:$DI$11))","v":0}," ",{"$f":"SUM(COUNTIF($C405:$H405,$DK$11:$DP$11))","v":0}]
[{"$f":"'aktuelle Zahlen'!A402","v":0},{"$f":"'aktuelle Zahlen'!B402","v":"00:00:00"},{"$f":"'aktuelle Zahlen'!C402","v":0},{"$f":"'aktuelle Zahlen'!D402","v":0},{"$f":"'aktuelle Zahlen'!E402","v":0},{"$f":"'aktuelle Zahlen'!F402","v":0},{"$f":"'aktuelle Zahlen'!G402","v":0},{"$f":"'aktuelle Zahlen'!H402","v":0},{"$f":"'aktuelle Zahlen'!J402","v":0},null," ",{"$f":"SUM(COUNTIF($C406:$H406,$AL$11:$AQ$11))","v":0}," ",{"$f":"SUM(COUNTIF($C406:$H406,$AS$11:$AX$11))","v":0}," ",{"$f":"SUM(COUNTIF($C406:$H406,$AZ$11:$BE$11))","v":0}," ",{"$f":"SUM(COUNTIF($C406:$H406,$BG$11:$BL$11))","v":0}," ",{"$f":"SUM(COUNTIF($C406:$H406,$BN$11:$BS$11))","v":0}," ",{"$f":"SUM(COUNTIF($C406:$H406,$BU$11:$BZ$11))","v":0}," ",{"$f":"SUM(COUNTIF($C406:$H406,$CB$11:$CG$11))","v":0}," ",{"$f":"SUM(COUNTIF($C406:$H406,$CI$11:$CN$11))","v":0}," ",{"$f":"SUM(COUNTIF($C406:$H406,$CP$11:$CU$11))","v":0}," ",{"$f":"SUM(COUNTIF($C406:$H406,$CW$11:$DB$11))","v":0}," ",{"$f":"SUM(COUNTIF($C406:$H406,$DD$11:$DI$11))","v":0}," ",{"$f":"SUM(COUNTIF($C406:$H406,$DK$11:$DP$11))","v":0}]
[{"$f":"'aktuelle Zahlen'!A403","v":0},{"$f":"'aktuelle Zahlen'!B403","v":"00:00:00"},{"$f":"'aktuelle Zahlen'!C403","v":0},{"$f":"'aktuelle Zahlen'!D403","v":0},{"$f":"'aktuelle Zahlen'!E403","v":0},{"$f":"'aktuelle Zahlen'!F403","v":0},{"$f":"'aktuelle Zahlen'!G403","v":0},{"$f":"'aktuelle Zahlen'!H403","v":0},{"$f":"'aktuelle Zahlen'!J403","v":0},null," ",{"$f":"SUM(COUNTIF($C407:$H407,$AL$11:$AQ$11))","v":0}," ",{"$f":"SUM(COUNTIF($C407:$H407,$AS$11:$AX$11))","v":0}," ",{"$f":"SUM(COUNTIF($C407:$H407,$AZ$11:$BE$11))","v":0}," ",{"$f":"SUM(COUNTIF($C407:$H407,$BG$11:$BL$11))","v":0}," ",{"$f":"SUM(COUNTIF($C407:$H407,$BN$11:$BS$11))","v":0}," ",{"$f":"SUM(COUNTIF($C407:$H407,$BU$11:$BZ$11))","v":0}," ",{"$f":"SUM(COUNTIF($C407:$H407,$CB$11:$CG$11))","v":0}," ",{"$f":"SUM(COUNTIF($C407:$H407,$CI$11:$CN$11))","v":0}," ",{"$f":"SUM(COUNTIF($C407:$H407,$CP$11:$CU$11))","v":0}," ",{"$f":"SUM(COUNTIF($C407:$H407,$CW$11:$DB$11))","v":0}," ",{"$f":"SUM(COUNTIF($C407:$H407,$DD$11:$DI$11))","v":0}," ",{"$f":"SUM(COUNTIF($C407:$H407,$DK$11:$DP$11))","v":0}]
[{"$f":"'aktuelle Zahlen'!A404","v":0},{"$f":"'aktuelle Zahlen'!B404","v":"00:00:00"},{"$f":"'aktuelle Zahlen'!C404","v":0},{"$f":"'aktuelle Zahlen'!D404","v":0},{"$f":"'aktuelle Zahlen'!E404","v":0},{"$f":"'aktuelle Zahlen'!F404","v":0},{"$f":"'aktuelle Zahlen'!G404","v":0},{"$f":"'aktuelle Zahlen'!H404","v":0},{"$f":"'aktuelle Zahlen'!J404","v":0},null," ",{"$f":"SUM(COUNTIF($C408:$H408,$AL$11:$AQ$11))","v":0}," ",{"$f":"SUM(COUNTIF($C408:$H408,$AS$11:$AX$11))","v":0}," ",{"$f":"SUM(COUNTIF($C408:$H408,$AZ$11:$BE$11))","v":0}," ",{"$f":"SUM(COUNTIF($C408:$H408,$BG$11:$BL$11))","v":0}," ",{"$f":"SUM(COUNTIF($C408:$H408,$BN$11:$BS$11))","v":0}," ",{"$f":"SUM(COUNTIF($C408:$H408,$BU$11:$BZ$11))","v":0}," ",{"$f":"SUM(COUNTIF($C408:$H408,$CB$11:$CG$11))","v":0}," ",{"$f":"SUM(COUNTIF($C408:$H408,$CI$11:$CN$11))","v":0}," ",{"$f":"SUM(COUNTIF($C408:$H408,$CP$11:$CU$11))","v":0}," ",{"$f":"SUM(COUNTIF($C408:$H408,$CW$11:$DB$11))","v":0}," ",{"$f":"SUM(COUNTIF($C408:$H408,$DD$11:$DI$11))","v":0}," ",{"$f":"SUM(COUNTIF($C408:$H408,$DK$11:$DP$11))","v":0}]
[{"$f":"'aktuelle Zahlen'!A405","v":0},{"$f":"'aktuelle Zahlen'!B405","v":"00:00:00"},{"$f":"'aktuelle Zahlen'!C405","v":0},{"$f":"'aktuelle Zahlen'!D405","v":0},{"$f":"'aktuelle Zahlen'!E405","v":0},{"$f":"'aktuelle Zahlen'!F405","v":0},{"$f":"'aktuelle Zahlen'!G405","v":0},{"$f":"'aktuelle Zahlen'!H405","v":0},{"$f":"'aktuelle Zahlen'!J405","v":0},null," ",{"$f":"SUM(COUNTIF($C409:$H409,$AL$11:$AQ$11))","v":0}," ",{"$f":"SUM(COUNTIF($C409:$H409,$AS$11:$AX$11))","v":0}," ",{"$f":"SUM(COUNTIF($C409:$H409,$AZ$11:$BE$11))","v":0}," ",{"$f":"SUM(COUNTIF($C409:$H409,$BG$11:$BL$11))","v":0}," ",{"$f":"SUM(COUNTIF($C409:$H409,$BN$11:$BS$11))","v":0}," ",{"$f":"SUM(COUNTIF($C409:$H409,$BU$11:$BZ$11))","v":0}," ",{"$f":"SUM(COUNTIF($C409:$H409,$CB$11:$CG$11))","v":0}," ",{"$f":"SUM(COUNTIF($C409:$H409,$CI$11:$CN$11))","v":0}," ",{"$f":"SUM(COUNTIF($C409:$H409,$CP$11:$CU$11))","v":0}," ",{"$f":"SUM(COUNTIF($C409:$H409,$CW$11:$DB$11))","v":0}," ",{"$f":"SUM(COUNTIF($C409:$H409,$DD$11:$DI$11))","v":0}," ",{"$f":"SUM(COUNTIF($C409:$H409,$DK$11:$DP$11))","v":0}]
[{"$f":"'aktuelle Zahlen'!A406","v":0},{"$f":"'aktuelle Zahlen'!B406","v":"00:00:00"},{"$f":"'aktuelle Zahlen'!C406","v":0},{"$f":"'aktuelle Zahlen'!D406","v":0},{"$f":"'aktuelle Zahlen'!E406","v":0},{"$f":"'aktuelle Zahlen'!F406","v":0},{"$f":"'aktuelle Zahlen'!G406","v":0},{"$f":"'aktuelle Zahlen'!H406","v":0},{"$f":"'aktuelle Zahlen'!J406","v":0},null," ",{"$f":"SUM(COUNTIF($C410:$H410,$AL$11:$AQ$11))","v":0}," ",{"$f":"SUM(COUNTIF($C410:$H410,$AS$11:$AX$11))","v":0}," ",{"$f":"SUM(COUNTIF($C410:$H410,$AZ$11:$BE$11))","v":0}," ",{"$f":"SUM(COUNTIF($C410:$H410,$BG$11:$BL$11))","v":0}," ",{"$f":"SUM(COUNTIF($C410:$H410,$BN$11:$BS$11))","v":0}," ",{"$f":"SUM(COUNTIF($C410:$H410,$BU$11:$BZ$11))","v":0}," ",{"$f":"SUM(COUNTIF($C410:$H410,$CB$11:$CG$11))","v":0}," ",{"$f":"SUM(COUNTIF($C410:$H410,$CI$11:$CN$11))","v":0}," ",{"$f":"SUM(COUNTIF($C410:$H410,$CP$11:$CU$11))","v":0}," ",{"$f":"SUM(COUNTIF($C410:$H410,$CW$11:$DB$11))","v":0}," ",{"$f":"SUM(COUNTIF($C410:$H410,$DD$11:$DI$11))","v":0}," ",{"$f":"SUM(COUNTIF($C410:$H410,$DK$11:$DP$11))","v":0}]
[{"$f":"'aktuelle Zahlen'!A407","v":0},{"$f":"'aktuelle Zahlen'!B407","v":"00:00:00"},{"$f":"'aktuelle Zahlen'!C407","v":0},{"$f":"'aktuelle Zahlen'!D407","v":0},{"$f":"'aktuelle Zahlen'!E407","v":0},{"$f":"'aktuelle Zahlen'!F407","v":0},{"$f":"'aktuelle Zahlen'!G407","v":0},{"$f":"'aktuelle Zahlen'!H407","v":0},{"$f":"'aktuelle Zahlen'!J407","v":0},null," ",{"$f":"SUM(COUNTIF($C411:$H411,$AL$11:$AQ$11))","v":0}," ",{"$f":"SUM(COUNTIF($C411:$H411,$AS$11:$AX$11))","v":0}," ",{"$f":"SUM(COUNTIF($C411:$H411,$AZ$11:$BE$11))","v":0}," ",{"$f":"SUM(COUNTIF($C411:$H411,$BG$11:$BL$11))","v":0}," ",{"$f":"SUM(COUNTIF($C411:$H411,$BN$11:$BS$11))","v":0}," ",{"$f":"SUM(COUNTIF($C411:$H411,$BU$11:$BZ$11))","v":0}," ",{"$f":"SUM(COUNTIF($C411:$H411,$CB$11:$CG$11))","v":0}," ",{"$f":"SUM(COUNTIF($C411:$H411,$CI$11:$CN$11))","v":0}," ",{"$f":"SUM(COUNTIF($C411:$H411,$CP$11:$CU$11))","v":0}," ",{"$f":"SUM(COUNTIF($C411:$H411,$CW$11:$DB$11))","v":0}," ",{"$f":"SUM(COUNTIF($C411:$H411,$DD$11:$DI$11))","v":0}," ",{"$f":"SUM(COUNTIF($C411:$H411,$DK$11:$DP$11))","v":0}]
[{"$f":"'aktuelle Zahlen'!A408","v":0},{"$f":"'aktuelle Zahlen'!B408","v":"00:00:00"},{"$f":"'aktuelle Zahlen'!C408","v":0},{"$f":"'aktuelle Zahlen'!D408","v":0},{"$f":"'aktuelle Zahlen'!E408","v":0},{"$f":"'aktuelle Zahlen'!F408","v":0},{"$f":"'aktuelle Zahlen'!G408","v":0},{"$f":"'aktuelle Zahlen'!H408","v":0},{"$f":"'aktuelle Zahlen'!J408","v":0},null," ",{"$f":"SUM(COUNTIF($C412:$H412,$AL$11:$AQ$11))","v":0}," ",{"$f":"SUM(COUNTIF($C412:$H412,$AS$11:$AX$11))","v":0}," ",{"$f":"SUM(COUNTIF($C412:$H412,$AZ$11:$BE$11))","v":0}," ",{"$f":"SUM(COUNTIF($C412:$H412,$BG$11:$BL$11))","v":0}," ",{"$f":"SUM(COUNTIF($C412:$H412,$BN$11:$BS$11))","v":0}," ",{"$f":"SUM(COUNTIF($C412:$H412,$BU$11:$BZ$11))","v":0}," ",{"$f":"SUM(COUNTIF($C412:$H412,$CB$11:$CG$11))","v":0}," ",{"$f":"SUM(COUNTIF($C412:$H412,$CI$11:$CN$11))","v":0}," ",{"$f":"SUM(COUNTIF($C412:$H412,$CP$11:$CU$11))","v":0}," ",{"$f":"SUM(COUNTIF($C412:$H412,$CW$11:$DB$11))","v":0}," ",{"$f":"SUM(COUNTIF($C412:$H412,$DD$11:$DI$11))","v":0}," ",{"$f":"SUM(COUNTIF($C412:$H412,$DK$11:$DP$11))","v":0}]
[{"$f":"'aktuelle Zahlen'!A409","v":0},{"$f":"'aktuelle Zahlen'!B409","v":"00:00:00"},{"$f":"'aktuelle Zahlen'!C409","v":0},{"$f":"'aktuelle Zahlen'!D409","v":0},{"$f":"'aktuelle Zahlen'!E409","v":0},{"$f":"'aktuelle Zahlen'!F409","v":0},{"$f":"'aktuelle Zahlen'!G409","v":0},{"$f":"'aktuelle Zahlen'!H409","v":0},{"$f":"'aktuelle Zahlen'!J409","v":0},null," ",{"$f":"SUM(COUNTIF($C413:$H413,$AL$11:$AQ$11))","v":0}," ",{"$f":"SUM(COUNTIF($C413:$H413,$AS$11:$AX$11))","v":0}," ",{"$f":"SUM(COUNTIF($C413:$H413,$AZ$11:$BE$11))","v":0}," ",{"$f":"SUM(COUNTIF($C413:$H413,$BG$11:$BL$11))","v":0}," ",{"$f":"SUM(COUNTIF($C413:$H413,$BN$11:$BS$11))","v":0}," ",{"$f":"SUM(COUNTIF($C413:$H413,$BU$11:$BZ$11))","v":0}," ",{"$f":"SUM(COUNTIF($C413:$H413,$CB$11:$CG$11))","v":0}," ",{"$f":"SUM(COUNTIF($C413:$H413,$CI$11:$CN$11))","v":0}," ",{"$f":"SUM(COUNTIF($C413:$H413,$CP$11:$CU$11))","v":0}," ",{"$f":"SUM(COUNTIF($C413:$H413,$CW$11:$DB$11))","v":0}," ",{"$f":"SUM(COUNTIF($C413:$H413,$DD$11:$DI$11))","v":0}," ",{"$f":"SUM(COUNTIF($C413:$H413,$DK$11:$DP$11))","v":0}]
[{"$f":"'aktuelle Zahlen'!A410","v":0},{"$f":"'aktuelle Zahlen'!B410","v":"00:00:00"},{"$f":"'aktuelle Zahlen'!C410","v":0},{"$f":"'aktuelle Zahlen'!D410","v":0},{"$f":"'aktuelle Zahlen'!E410","v":0},{"$f":"'aktuelle Zahlen'!F410","v":0},{"$f":"'aktuelle Zahlen'!G410","v":0},{"$f":"'aktuelle Zahlen'!H410","v":0},{"$f":"'aktuelle Zahlen'!J410","v":0},null," ",{"$f":"SUM(COUNTIF($C414:$H414,$AL$11:$AQ$11))","v":0}," ",{"$f":"SUM(COUNTIF($C414:$H414,$AS$11:$AX$11))","v":0}," ",{"$f":"SUM(COUNTIF($C414:$H414,$AZ$11:$BE$11))","v":0}," ",{"$f":"SUM(COUNTIF($C414:$H414,$BG$11:$BL$11))","v":0}," ",{"$f":"SUM(COUNTIF($C414:$H414,$BN$11:$BS$11))","v":0}," ",{"$f":"SUM(COUNTIF($C414:$H414,$BU$11:$BZ$11))","v":0}," ",{"$f":"SUM(COUNTIF($C414:$H414,$CB$11:$CG$11))","v":0}," ",{"$f":"SUM(COUNTIF($C414:$H414,$CI$11:$CN$11))","v":0}," ",{"$f":"SUM(COUNTIF($C414:$H414,$CP$11:$CU$11))","v":0}," ",{"$f":"SUM(COUNTIF($C414:$H414,$CW$11:$DB$11))","v":0}," ",{"$f":"SUM(COUNTIF($C414:$H414,$DD$11:$DI$11))","v":0}," ",{"$f":"SUM(COUNTIF($C414:$H414,$DK$11:$DP$11))","v":0}]
[{"$f":"'aktuelle Zahlen'!A411","v":0},{"$f":"'aktuelle Zahlen'!B411","v":"00:00:00"},{"$f":"'aktuelle Zahlen'!C411","v":0},{"$f":"'aktuelle Zahlen'!D411","v":0},{"$f":"'aktuelle Zahlen'!E411","v":0},{"$f":"'aktuelle Zahlen'!F411","v":0},{"$f":"'aktuelle Zahlen'!G411","v":0},{"$f":"'aktuelle Zahlen'!H411","v":0},{"$f":"'aktuelle Zahlen'!J411","v":0},null," ",{"$f":"SUM(COUNTIF($C415:$H415,$AL$11:$AQ$11))","v":0}," ",{"$f":"SUM(COUNTIF($C415:$H415,$AS$11:$AX$11))","v":0}," ",{"$f":"SUM(COUNTIF($C415:$H415,$AZ$11:$BE$11))","v":0}," ",{"$f":"SUM(COUNTIF($C415:$H415,$BG$11:$BL$11))","v":0}," ",{"$f":"SUM(COUNTIF($C415:$H415,$BN$11:$BS$11))","v":0}," ",{"$f":"SUM(COUNTIF($C415:$H415,$BU$11:$BZ$11))","v":0}," ",{"$f":"SUM(COUNTIF($C415:$H415,$CB$11:$CG$11))","v":0}," ",{"$f":"SUM(COUNTIF($C415:$H415,$CI$11:$CN$11))","v":0}," ",{"$f":"SUM(COUNTIF($C415:$H415,$CP$11:$CU$11))","v":0}," ",{"$f":"SUM(COUNTIF($C415:$H415,$CW$11:$DB$11))","v":0}," ",{"$f":"SUM(COUNTIF($C415:$H415,$DD$11:$DI$11))","v":0}," ",{"$f":"SUM(COUNTIF($C415:$H415,$DK$11:$DP$11))","v":0}]
[{"$f":"'aktuelle Zahlen'!A412","v":0},{"$f":"'aktuelle Zahlen'!B412","v":"00:00:00"},{"$f":"'aktuelle Zahlen'!C412","v":0},{"$f":"'aktuelle Zahlen'!D412","v":0},{"$f":"'aktuelle Zahlen'!E412","v":0},{"$f":"'aktuelle Zahlen'!F412","v":0},{"$f":"'aktuelle Zahlen'!G412","v":0},{"$f":"'aktuelle Zahlen'!H412","v":0},{"$f":"'aktuelle Zahlen'!J412","v":0},null," ",{"$f":"SUM(COUNTIF($C416:$H416,$AL$11:$AQ$11))","v":0}," ",{"$f":"SUM(COUNTIF($C416:$H416,$AS$11:$AX$11))","v":0}," ",{"$f":"SUM(COUNTIF($C416:$H416,$AZ$11:$BE$11))","v":0}," ",{"$f":"SUM(COUNTIF($C416:$H416,$BG$11:$BL$11))","v":0}," ",{"$f":"SUM(COUNTIF($C416:$H416,$BN$11:$BS$11))","v":0}," ",{"$f":"SUM(COUNTIF($C416:$H416,$BU$11:$BZ$11))","v":0}," ",{"$f":"SUM(COUNTIF($C416:$H416,$CB$11:$CG$11))","v":0}," ",{"$f":"SUM(COUNTIF($C416:$H416,$CI$11:$CN$11))","v":0}," ",{"$f":"SUM(COUNTIF($C416:$H416,$CP$11:$CU$11))","v":0}," ",{"$f":"SUM(COUNTIF($C416:$H416,$CW$11:$DB$11))","v":0}," ",{"$f":"SUM(COUNTIF($C416:$H416,$DD$11:$DI$11))","v":0}," ",{"$f":"SUM(COUNTIF($C416:$H416,$DK$11:$DP$11))","v":0}]
[{"$f":"'aktuelle Zahlen'!A413","v":0},{"$f":"'aktuelle Zahlen'!B413","v":"00:00:00"},{"$f":"'aktuelle Zahlen'!C413","v":0},{"$f":"'aktuelle Zahlen'!D413","v":0},{"$f":"'aktuelle Zahlen'!E413","v":0},{"$f":"'aktuelle Zahlen'!F413","v":0},{"$f":"'aktuelle Zahlen'!G413","v":0},{"$f":"'aktuelle Zahlen'!H413","v":0},{"$f":"'aktuelle Zahlen'!J413","v":0},null," ",{"$f":"SUM(COUNTIF($C417:$H417,$AL$11:$AQ$11))","v":0}," ",{"$f":"SUM(COUNTIF($C417:$H417,$AS$11:$AX$11))","v":0}," ",{"$f":"SUM(COUNTIF($C417:$H417,$AZ$11:$BE$11))","v":0}," ",{"$f":"SUM(COUNTIF($C417:$H417,$BG$11:$BL$11))","v":0}," ",{"$f":"SUM(COUNTIF($C417:$H417,$BN$11:$BS$11))","v":0}," ",{"$f":"SUM(COUNTIF($C417:$H417,$BU$11:$BZ$11))","v":0}," ",{"$f":"SUM(COUNTIF($C417:$H417,$CB$11:$CG$11))","v":0}," ",{"$f":"SUM(COUNTIF($C417:$H417,$CI$11:$CN$11))","v":0}," ",{"$f":"SUM(COUNTIF($C417:$H417,$CP$11:$CU$11))","v":0}," ",{"$f":"SUM(COUNTIF($C417:$H417,$CW$11:$DB$11))","v":0}," ",{"$f":"SUM(COUNTIF($C417:$H417,$DD$11:$DI$11))","v":0}," ",{"$f":"SUM(COUNTIF($C417:$H417,$DK$11:$DP$11))","v":0}]
[{"$f":"'aktuelle Zahlen'!A414","v":0},{"$f":"'aktuelle Zahlen'!B414","v":"00:00:00"},{"$f":"'aktuelle Zahlen'!C414","v":0},{"$f":"'aktuelle Zahlen'!D414","v":0},{"$f":"'aktuelle Zahlen'!E414","v":0},{"$f":"'aktuelle Zahlen'!F414","v":0},{"$f":"'aktuelle Zahlen'!G414","v":0},{"$f":"'aktuelle Zahlen'!H414","v":0},{"$f":"'aktuelle Zahlen'!J414","v":0},null," ",{"$f":"SUM(COUNTIF($C418:$H418,$AL$11:$AQ$11))","v":0}," ",{"$f":"SUM(COUNTIF($C418:$H418,$AS$11:$AX$11))","v":0}," ",{"$f":"SUM(COUNTIF($C418:$H418,$AZ$11:$BE$11))","v":0}," ",{"$f":"SUM(COUNTIF($C418:$H418,$BG$11:$BL$11))","v":0}," ",{"$f":"SUM(COUNTIF($C418:$H418,$BN$11:$BS$11))","v":0}," ",{"$f":"SUM(COUNTIF($C418:$H418,$BU$11:$BZ$11))","v":0}," ",{"$f":"SUM(COUNTIF($C418:$H418,$CB$11:$CG$11))","v":0}," ",{"$f":"SUM(COUNTIF($C418:$H418,$CI$11:$CN$11))","v":0}," ",{"$f":"SUM(COUNTIF($C418:$H418,$CP$11:$CU$11))","v":0}," ",{"$f":"SUM(COUNTIF($C418:$H418,$CW$11:$DB$11))","v":0}," ",{"$f":"SUM(COUNTIF($C418:$H418,$DD$11:$DI$11))","v":0}," ",{"$f":"SUM(COUNTIF($C418:$H418,$DK$11:$DP$11))","v":0}]
[{"$f":"'aktuelle Zahlen'!A415","v":0},{"$f":"'aktuelle Zahlen'!B415","v":"00:00:00"},{"$f":"'aktuelle Zahlen'!C415","v":0},{"$f":"'aktuelle Zahlen'!D415","v":0},{"$f":"'aktuelle Zahlen'!E415","v":0},{"$f":"'aktuelle Zahlen'!F415","v":0},{"$f":"'aktuelle Zahlen'!G415","v":0},{"$f":"'aktuelle Zahlen'!H415","v":0},{"$f":"'aktuelle Zahlen'!J415","v":0},null," ",{"$f":"SUM(COUNTIF($C419:$H419,$AL$11:$AQ$11))","v":0}," ",{"$f":"SUM(COUNTIF($C419:$H419,$AS$11:$AX$11))","v":0}," ",{"$f":"SUM(COUNTIF($C419:$H419,$AZ$11:$BE$11))","v":0}," ",{"$f":"SUM(COUNTIF($C419:$H419,$BG$11:$BL$11))","v":0}," ",{"$f":"SUM(COUNTIF($C419:$H419,$BN$11:$BS$11))","v":0}," ",{"$f":"SUM(COUNTIF($C419:$H419,$BU$11:$BZ$11))","v":0}," ",{"$f":"SUM(COUNTIF($C419:$H419,$CB$11:$CG$11))","v":0}," ",{"$f":"SUM(COUNTIF($C419:$H419,$CI$11:$CN$11))","v":0}," ",{"$f":"SUM(COUNTIF($C419:$H419,$CP$11:$CU$11))","v":0}," ",{"$f":"SUM(COUNTIF($C419:$H419,$CW$11:$DB$11))","v":0}," ",{"$f":"SUM(COUNTIF($C419:$H419,$DD$11:$DI$11))","v":0}," ",{"$f":"SUM(COUNTIF($C419:$H419,$DK$11:$DP$11))","v":0}]
[{"$f":"'aktuelle Zahlen'!A416","v":0},{"$f":"'aktuelle Zahlen'!B416","v":"00:00:00"},{"$f":"'aktuelle Zahlen'!C416","v":0},{"$f":"'aktuelle Zahlen'!D416","v":0},{"$f":"'aktuelle Zahlen'!E416","v":0},{"$f":"'aktuelle Zahlen'!F416","v":0},{"$f":"'aktuelle Zahlen'!G416","v":0},{"$f":"'aktuelle Zahlen'!H416","v":0},{"$f":"'aktuelle Zahlen'!J416","v":0},null," ",{"$f":"SUM(COUNTIF($C420:$H420,$AL$11:$AQ$11))","v":0}," ",{"$f":"SUM(COUNTIF($C420:$H420,$AS$11:$AX$11))","v":0}," ",{"$f":"SUM(COUNTIF($C420:$H420,$AZ$11:$BE$11))","v":0}," ",{"$f":"SUM(COUNTIF($C420:$H420,$BG$11:$BL$11))","v":0}," ",{"$f":"SUM(COUNTIF($C420:$H420,$BN$11:$BS$11))","v":0}," ",{"$f":"SUM(COUNTIF($C420:$H420,$BU$11:$BZ$11))","v":0}," ",{"$f":"SUM(COUNTIF($C420:$H420,$CB$11:$CG$11))","v":0}," ",{"$f":"SUM(COUNTIF($C420:$H420,$CI$11:$CN$11))","v":0}," ",{"$f":"SUM(COUNTIF($C420:$H420,$CP$11:$CU$11))","v":0}," ",{"$f":"SUM(COUNTIF($C420:$H420,$CW$11:$DB$11))","v":0}," ",{"$f":"SUM(COUNTIF($C420:$H420,$DD$11:$DI$11))","v":0}," ",{"$f":"SUM(COUNTIF($C420:$H420,$DK$11:$DP$11))","v":0}]
[{"$f":"'aktuelle Zahlen'!A417","v":0},{"$f":"'aktuelle Zahlen'!B417","v":"00:00:00"},{"$f":"'aktuelle Zahlen'!C417","v":0},{"$f":"'aktuelle Zahlen'!D417","v":0},{"$f":"'aktuelle Zahlen'!E417","v":0},{"$f":"'aktuelle Zahlen'!F417","v":0},{"$f":"'aktuelle Zahlen'!G417","v":0},{"$f":"'aktuelle Zahlen'!H417","v":0},{"$f":"'aktuelle Zahlen'!J417","v":0},null," ",{"$f":"SUM(COUNTIF($C421:$H421,$AL$11:$AQ$11))","v":0}," ",{"$f":"SUM(COUNTIF($C421:$H421,$AS$11:$AX$11))","v":0}," ",{"$f":"SUM(COUNTIF($C421:$H421,$AZ$11:$BE$11))","v":0}," ",{"$f":"SUM(COUNTIF($C421:$H421,$BG$11:$BL$11))","v":0}," ",{"$f":"SUM(COUNTIF($C421:$H421,$BN$11:$BS$11))","v":0}," ",{"$f":"SUM(COUNTIF($C421:$H421,$BU$11:$BZ$11))","v":0}," ",{"$f":"SUM(COUNTIF($C421:$H421,$CB$11:$CG$11))","v":0}," ",{"$f":"SUM(COUNTIF($C421:$H421,$CI$11:$CN$11))","v":0}," ",{"$f":"SUM(COUNTIF($C421:$H421,$CP$11:$CU$11))","v":0}," ",{"$f":"SUM(COUNTIF($C421:$H421,$CW$11:$DB$11))","v":0}," ",{"$f":"SUM(COUNTIF($C421:$H421,$DD$11:$DI$11))","v":0}," ",{"$f":"SUM(COUNTIF($C421:$H421,$DK$11:$DP$11))","v":0}]
[{"$f":"'aktuelle Zahlen'!A418","v":0},{"$f":"'aktuelle Zahlen'!B418","v":"00:00:00"},{"$f":"'aktuelle Zahlen'!C418","v":0},{"$f":"'aktuelle Zahlen'!D418","v":0},{"$f":"'aktuelle Zahlen'!E418","v":0},{"$f":"'aktuelle Zahlen'!F418","v":0},{"$f":"'aktuelle Zahlen'!G418","v":0},{"$f":"'aktuelle Zahlen'!H418","v":0},{"$f":"'aktuelle Zahlen'!J418","v":0},null," ",{"$f":"SUM(COUNTIF($C422:$H422,$AL$11:$AQ$11))","v":0}," ",{"$f":"SUM(COUNTIF($C422:$H422,$AS$11:$AX$11))","v":0}," ",{"$f":"SUM(COUNTIF($C422:$H422,$AZ$11:$BE$11))","v":0}," ",{"$f":"SUM(COUNTIF($C422:$H422,$BG$11:$BL$11))","v":0}," ",{"$f":"SUM(COUNTIF($C422:$H422,$BN$11:$BS$11))","v":0}," ",{"$f":"SUM(COUNTIF($C422:$H422,$BU$11:$BZ$11))","v":0}," ",{"$f":"SUM(COUNTIF($C422:$H422,$CB$11:$CG$11))","v":0}," ",{"$f":"SUM(COUNTIF($C422:$H422,$CI$11:$CN$11))","v":0}," ",{"$f":"SUM(COUNTIF($C422:$H422,$CP$11:$CU$11))","v":0}," ",{"$f":"SUM(COUNTIF($C422:$H422,$CW$11:$DB$11))","v":0}," ",{"$f":"SUM(COUNTIF($C422:$H422,$DD$11:$DI$11))","v":0}," ",{"$f":"SUM(COUNTIF($C422:$H422,$DK$11:$DP$11))","v":0}]
[{"$f":"'aktuelle Zahlen'!A419","v":0},{"$f":"'aktuelle Zahlen'!B419","v":"00:00:00"},{"$f":"'aktuelle Zahlen'!C419","v":0},{"$f":"'aktuelle Zahlen'!D419","v":0},{"$f":"'aktuelle Zahlen'!E419","v":0},{"$f":"'aktuelle Zahlen'!F419","v":0},{"$f":"'aktuelle Zahlen'!G419","v":0},{"$f":"'aktuelle Zahlen'!H419","v":0},{"$f":"'aktuelle Zahlen'!J419","v":0},null," ",{"$f":"SUM(COUNTIF($C423:$H423,$AL$11:$AQ$11))","v":0}," ",{"$f":"SUM(COUNTIF($C423:$H423,$AS$11:$AX$11))","v":0}," ",{"$f":"SUM(COUNTIF($C423:$H423,$AZ$11:$BE$11))","v":0}," ",{"$f":"SUM(COUNTIF($C423:$H423,$BG$11:$BL$11))","v":0}," ",{"$f":"SUM(COUNTIF($C423:$H423,$BN$11:$BS$11))","v":0}," ",{"$f":"SUM(COUNTIF($C423:$H423,$BU$11:$BZ$11))","v":0}," ",{"$f":"SUM(COUNTIF($C423:$H423,$CB$11:$CG$11))","v":0}," ",{"$f":"SUM(COUNTIF($C423:$H423,$CI$11:$CN$11))","v":0}," ",{"$f":"SUM(COUNTIF($C423:$H423,$CP$11:$CU$11))","v":0}," ",{"$f":"SUM(COUNTIF($C423:$H423,$CW$11:$DB$11))","v":0}," ",{"$f":"SUM(COUNTIF($C423:$H423,$DD$11:$DI$11))","v":0}," ",{"$f":"SUM(COUNTIF($C423:$H423,$DK$11:$DP$11))","v":0}]
[{"$f":"'aktuelle Zahlen'!A420","v":0},{"$f":"'aktuelle Zahlen'!B420","v":"00:00:00"},{"$f":"'aktuelle Zahlen'!C420","v":0},{"$f":"'aktuelle Zahlen'!D420","v":0},{"$f":"'aktuelle Zahlen'!E420","v":0},{"$f":"'aktuelle Zahlen'!F420","v":0},{"$f":"'aktuelle Zahlen'!G420","v":0},{"$f":"'aktuelle Zahlen'!H420","v":0},{"$f":"'aktuelle Zahlen'!J420","v":0},null," ",{"$f":"SUM(COUNTIF($C424:$H424,$AL$11:$AQ$11))","v":0}," ",{"$f":"SUM(COUNTIF($C424:$H424,$AS$11:$AX$11))","v":0}," ",{"$f":"SUM(COUNTIF($C424:$H424,$AZ$11:$BE$11))","v":0}," ",{"$f":"SUM(COUNTIF($C424:$H424,$BG$11:$BL$11))","v":0}," ",{"$f":"SUM(COUNTIF($C424:$H424,$BN$11:$BS$11))","v":0}," ",{"$f":"SUM(COUNTIF($C424:$H424,$BU$11:$BZ$11))","v":0}," ",{"$f":"SUM(COUNTIF($C424:$H424,$CB$11:$CG$11))","v":0}," ",{"$f":"SUM(COUNTIF($C424:$H424,$CI$11:$CN$11))","v":0}," ",{"$f":"SUM(COUNTIF($C424:$H424,$CP$11:$CU$11))","v":0}," ",{"$f":"SUM(COUNTIF($C424:$H424,$CW$11:$DB$11))","v":0}," ",{"$f":"SUM(COUNTIF($C424:$H424,$DD$11:$DI$11))","v":0}," ",{"$f":"SUM(COUNTIF($C424:$H424,$DK$11:$DP$11))","v":0}]
[{"$f":"'aktuelle Zahlen'!A421","v":0},{"$f":"'aktuelle Zahlen'!B421","v":"00:00:00"},{"$f":"'aktuelle Zahlen'!C421","v":0},{"$f":"'aktuelle Zahlen'!D421","v":0},{"$f":"'aktuelle Zahlen'!E421","v":0},{"$f":"'aktuelle Zahlen'!F421","v":0},{"$f":"'aktuelle Zahlen'!G421","v":0},{"$f":"'aktuelle Zahlen'!H421","v":0},{"$f":"'aktuelle Zahlen'!J421","v":0},null," ",{"$f":"SUM(COUNTIF($C425:$H425,$AL$11:$AQ$11))","v":0}," ",{"$f":"SUM(COUNTIF($C425:$H425,$AS$11:$AX$11))","v":0}," ",{"$f":"SUM(COUNTIF($C425:$H425,$AZ$11:$BE$11))","v":0}," ",{"$f":"SUM(COUNTIF($C425:$H425,$BG$11:$BL$11))","v":0}," ",{"$f":"SUM(COUNTIF($C425:$H425,$BN$11:$BS$11))","v":0}," ",{"$f":"SUM(COUNTIF($C425:$H425,$BU$11:$BZ$11))","v":0}," ",{"$f":"SUM(COUNTIF($C425:$H425,$CB$11:$CG$11))","v":0}," ",{"$f":"SUM(COUNTIF($C425:$H425,$CI$11:$CN$11))","v":0}," ",{"$f":"SUM(COUNTIF($C425:$H425,$CP$11:$CU$11))","v":0}," ",{"$f":"SUM(COUNTIF($C425:$H425,$CW$11:$DB$11))","v":0}," ",{"$f":"SUM(COUNTIF($C425:$H425,$DD$11:$DI$11))","v":0}," ",{"$f":"SUM(COUNTIF($C425:$H425,$DK$11:$DP$11))","v":0}]
[{"$f":"'aktuelle Zahlen'!A422","v":0},{"$f":"'aktuelle Zahlen'!B422","v":"00:00:00"},{"$f":"'aktuelle Zahlen'!C422","v":0},{"$f":"'aktuelle Zahlen'!D422","v":0},{"$f":"'aktuelle Zahlen'!E422","v":0},{"$f":"'aktuelle Zahlen'!F422","v":0},{"$f":"'aktuelle Zahlen'!G422","v":0},{"$f":"'aktuelle Zahlen'!H422","v":0},{"$f":"'aktuelle Zahlen'!J422","v":0},null," ",{"$f":"SUM(COUNTIF($C426:$H426,$AL$11:$AQ$11))","v":0}," ",{"$f":"SUM(COUNTIF($C426:$H426,$AS$11:$AX$11))","v":0}," ",{"$f":"SUM(COUNTIF($C426:$H426,$AZ$11:$BE$11))","v":0}," ",{"$f":"SUM(COUNTIF($C426:$H426,$BG$11:$BL$11))","v":0}," ",{"$f":"SUM(COUNTIF($C426:$H426,$BN$11:$BS$11))","v":0}," ",{"$f":"SUM(COUNTIF($C426:$H426,$BU$11:$BZ$11))","v":0}," ",{"$f":"SUM(COUNTIF($C426:$H426,$CB$11:$CG$11))","v":0}," ",{"$f":"SUM(COUNTIF($C426:$H426,$CI$11:$CN$11))","v":0}," ",{"$f":"SUM(COUNTIF($C426:$H426,$CP$11:$CU$11))","v":0}," ",{"$f":"SUM(COUNTIF($C426:$H426,$CW$11:$DB$11))","v":0}," ",{"$f":"SUM(COUNTIF($C426:$H426,$DD$11:$DI$11))","v":0}," ",{"$f":"SUM(COUNTIF($C426:$H426,$DK$11:$DP$11))","v":0}]
[{"$f":"'aktuelle Zahlen'!A423","v":0},{"$f":"'aktuelle Zahlen'!B423","v":"00:00:00"},{"$f":"'aktuelle Zahlen'!C423","v":0},{"$f":"'aktuelle Zahlen'!D423","v":0},{"$f":"'aktuelle Zahlen'!E423","v":0},{"$f":"'aktuelle Zahlen'!F423","v":0},{"$f":"'aktuelle Zahlen'!G423","v":0},{"$f":"'aktuelle Zahlen'!H423","v":0},{"$f":"'aktuelle Zahlen'!J423","v":0},null," ",{"$f":"SUM(COUNTIF($C427:$H427,$AL$11:$AQ$11))","v":0}," ",{"$f":"SUM(COUNTIF($C427:$H427,$AS$11:$AX$11))","v":0}," ",{"$f":"SUM(COUNTIF($C427:$H427,$AZ$11:$BE$11))","v":0}," ",{"$f":"SUM(COUNTIF($C427:$H427,$BG$11:$BL$11))","v":0}," ",{"$f":"SUM(COUNTIF($C427:$H427,$BN$11:$BS$11))","v":0}," ",{"$f":"SUM(COUNTIF($C427:$H427,$BU$11:$BZ$11))","v":0}," ",{"$f":"SUM(COUNTIF($C427:$H427,$CB$11:$CG$11))","v":0}," ",{"$f":"SUM(COUNTIF($C427:$H427,$CI$11:$CN$11))","v":0}," ",{"$f":"SUM(COUNTIF($C427:$H427,$CP$11:$CU$11))","v":0}," ",{"$f":"SUM(COUNTIF($C427:$H427,$CW$11:$DB$11))","v":0}," ",{"$f":"SUM(COUNTIF($C427:$H427,$DD$11:$DI$11))","v":0}," ",{"$f":"SUM(COUNTIF($C427:$H427,$DK$11:$DP$11))","v":0}]
[{"$f":"'aktuelle Zahlen'!A424","v":0},{"$f":"'aktuelle Zahlen'!B424","v":"00:00:00"},{"$f":"'aktuelle Zahlen'!C424","v":0},{"$f":"'aktuelle Zahlen'!D424","v":0},{"$f":"'aktuelle Zahlen'!E424","v":0},{"$f":"'aktuelle Zahlen'!F424","v":0},{"$f":"'aktuelle Zahlen'!G424","v":0},{"$f":"'aktuelle Zahlen'!H424","v":0},{"$f":"'aktuelle Zahlen'!J424","v":0},null," ",{"$f":"SUM(COUNTIF($C428:$H428,$AL$11:$AQ$11))","v":0}," ",{"$f":"SUM(COUNTIF($C428:$H428,$AS$11:$AX$11))","v":0}," ",{"$f":"SUM(COUNTIF($C428:$H428,$AZ$11:$BE$11))","v":0}," ",{"$f":"SUM(COUNTIF($C428:$H428,$BG$11:$BL$11))","v":0}," ",{"$f":"SUM(COUNTIF($C428:$H428,$BN$11:$BS$11))","v":0}," ",{"$f":"SUM(COUNTIF($C428:$H428,$BU$11:$BZ$11))","v":0}," ",{"$f":"SUM(COUNTIF($C428:$H428,$CB$11:$CG$11))","v":0}," ",{"$f":"SUM(COUNTIF($C428:$H428,$CI$11:$CN$11))","v":0}," ",{"$f":"SUM(COUNTIF($C428:$H428,$CP$11:$CU$11))","v":0}," ",{"$f":"SUM(COUNTIF($C428:$H428,$CW$11:$DB$11))","v":0}," ",{"$f":"SUM(COUNTIF($C428:$H428,$DD$11:$DI$11))","v":0}," ",{"$f":"SUM(COUNTIF($C428:$H428,$DK$11:$DP$11))","v":0}]
[{"$f":"'aktuelle Zahlen'!A425","v":0},{"$f":"'aktuelle Zahlen'!B425","v":"00:00:00"},{"$f":"'aktuelle Zahlen'!C425","v":0},{"$f":"'aktuelle Zahlen'!D425","v":0},{"$f":"'aktuelle Zahlen'!E425","v":0},{"$f":"'aktuelle Zahlen'!F425","v":0},{"$f":"'aktuelle Zahlen'!G425","v":0},{"$f":"'aktuelle Zahlen'!H425","v":0},{"$f":"'aktuelle Zahlen'!J425","v":0},null," ",{"$f":"SUM(COUNTIF($C429:$H429,$AL$11:$AQ$11))","v":0}," ",{"$f":"SUM(COUNTIF($C429:$H429,$AS$11:$AX$11))","v":0}," ",{"$f":"SUM(COUNTIF($C429:$H429,$AZ$11:$BE$11))","v":0}," ",{"$f":"SUM(COUNTIF($C429:$H429,$BG$11:$BL$11))","v":0}," ",{"$f":"SUM(COUNTIF($C429:$H429,$BN$11:$BS$11))","v":0}," ",{"$f":"SUM(COUNTIF($C429:$H429,$BU$11:$BZ$11))","v":0}," ",{"$f":"SUM(COUNTIF($C429:$H429,$CB$11:$CG$11))","v":0}," ",{"$f":"SUM(COUNTIF($C429:$H429,$CI$11:$CN$11))","v":0}," ",{"$f":"SUM(COUNTIF($C429:$H429,$CP$11:$CU$11))","v":0}," ",{"$f":"SUM(COUNTIF($C429:$H429,$CW$11:$DB$11))","v":0}," ",{"$f":"SUM(COUNTIF($C429:$H429,$DD$11:$DI$11))","v":0}," ",{"$f":"SUM(COUNTIF($C429:$H429,$DK$11:$DP$11))","v":0}]
[{"$f":"'aktuelle Zahlen'!A426","v":0},{"$f":"'aktuelle Zahlen'!B426","v":"00:00:00"},{"$f":"'aktuelle Zahlen'!C426","v":0},{"$f":"'aktuelle Zahlen'!D426","v":0},{"$f":"'aktuelle Zahlen'!E426","v":0},{"$f":"'aktuelle Zahlen'!F426","v":0},{"$f":"'aktuelle Zahlen'!G426","v":0},{"$f":"'aktuelle Zahlen'!H426","v":0},{"$f":"'aktuelle Zahlen'!J426","v":0},null," ",{"$f":"SUM(COUNTIF($C430:$H430,$AL$11:$AQ$11))","v":0}," ",{"$f":"SUM(COUNTIF($C430:$H430,$AS$11:$AX$11))","v":0}," ",{"$f":"SUM(COUNTIF($C430:$H430,$AZ$11:$BE$11))","v":0}," ",{"$f":"SUM(COUNTIF($C430:$H430,$BG$11:$BL$11))","v":0}," ",{"$f":"SUM(COUNTIF($C430:$H430,$BN$11:$BS$11))","v":0}," ",{"$f":"SUM(COUNTIF($C430:$H430,$BU$11:$BZ$11))","v":0}," ",{"$f":"SUM(COUNTIF($C430:$H430,$CB$11:$CG$11))","v":0}," ",{"$f":"SUM(COUNTIF($C430:$H430,$CI$11:$CN$11))","v":0}," ",{"$f":"SUM(COUNTIF($C430:$H430,$CP$11:$CU$11))","v":0}," ",{"$f":"SUM(COUNTIF($C430:$H430,$CW$11:$DB$11))","v":0}," ",{"$f":"SUM(COUNTIF($C430:$H430,$DD$11:$DI$11))","v":0}," ",{"$f":"SUM(COUNTIF($C430:$H430,$DK$11:$DP$11))","v":0}]
[{"$f":"'aktuelle Zahlen'!A427","v":0},{"$f":"'aktuelle Zahlen'!B427","v":"00:00:00"},{"$f":"'aktuelle Zahlen'!C427","v":0},{"$f":"'aktuelle Zahlen'!D427","v":0},{"$f":"'aktuelle Zahlen'!E427","v":0},{"$f":"'aktuelle Zahlen'!F427","v":0},{"$f":"'aktuelle Zahlen'!G427","v":0},{"$f":"'aktuelle Zahlen'!H427","v":0},{"$f":"'aktuelle Zahlen'!J427","v":0},null," ",{"$f":"SUM(COUNTIF($C431:$H431,$AL$11:$AQ$11))","v":0}," ",{"$f":"SUM(COUNTIF($C431:$H431,$AS$11:$AX$11))","v":0}," ",{"$f":"SUM(COUNTIF($C431:$H431,$AZ$11:$BE$11))","v":0}," ",{"$f":"SUM(COUNTIF($C431:$H431,$BG$11:$BL$11))","v":0}," ",{"$f":"SUM(COUNTIF($C431:$H431,$BN$11:$BS$11))","v":0}," ",{"$f":"SUM(COUNTIF($C431:$H431,$BU$11:$BZ$11))","v":0}," ",{"$f":"SUM(COUNTIF($C431:$H431,$CB$11:$CG$11))","v":0}," ",{"$f":"SUM(COUNTIF($C431:$H431,$CI$11:$CN$11))","v":0}," ",{"$f":"SUM(COUNTIF($C431:$H431,$CP$11:$CU$11))","v":0}," ",{"$f":"SUM(COUNTIF($C431:$H431,$CW$11:$DB$11))","v":0}," ",{"$f":"SUM(COUNTIF($C431:$H431,$DD$11:$DI$11))","v":0}," ",{"$f":"SUM(COUNTIF($C431:$H431,$DK$11:$DP$11))","v":0}]
[{"$f":"'aktuelle Zahlen'!A428","v":0},{"$f":"'aktuelle Zahlen'!B428","v":"00:00:00"},{"$f":"'aktuelle Zahlen'!C428","v":0},{"$f":"'aktuelle Zahlen'!D428","v":0},{"$f":"'aktuelle Zahlen'!E428","v":0},{"$f":"'aktuelle Zahlen'!F428","v":0},{"$f":"'aktuelle Zahlen'!G428","v":0},{"$f":"'aktuelle Zahlen'!H428","v":0},{"$f":"'aktuelle Zahlen'!J428","v":0},null," ",{"$f":"SUM(COUNTIF($C432:$H432,$AL$11:$AQ$11))","v":0}," ",{"$f":"SUM(COUNTIF($C432:$H432,$AS$11:$AX$11))","v":0}," ",{"$f":"SUM(COUNTIF($C432:$H432,$AZ$11:$BE$11))","v":0}," ",{"$f":"SUM(COUNTIF($C432:$H432,$BG$11:$BL$11))","v":0}," ",{"$f":"SUM(COUNTIF($C432:$H432,$BN$11:$BS$11))","v":0}," ",{"$f":"SUM(COUNTIF($C432:$H432,$BU$11:$BZ$11))","v":0}," ",{"$f":"SUM(COUNTIF($C432:$H432,$CB$11:$CG$11))","v":0}," ",{"$f":"SUM(COUNTIF($C432:$H432,$CI$11:$CN$11))","v":0}," ",{"$f":"SUM(COUNTIF($C432:$H432,$CP$11:$CU$11))","v":0}," ",{"$f":"SUM(COUNTIF($C432:$H432,$CW$11:$DB$11))","v":0}," ",{"$f":"SUM(COUNTIF($C432:$H432,$DD$11:$DI$11))","v":0}," ",{"$f":"SUM(COUNTIF($C432:$H432,$DK$11:$DP$11))","v":0}]
[{"$f":"'aktuelle Zahlen'!A429","v":0},{"$f":"'aktuelle Zahlen'!B429","v":"00:00:00"},{"$f":"'aktuelle Zahlen'!C429","v":0},{"$f":"'aktuelle Zahlen'!D429","v":0},{"$f":"'aktuelle Zahlen'!E429","v":0},{"$f":"'aktuelle Zahlen'!F429","v":0},{"$f":"'aktuelle Zahlen'!G429","v":0},{"$f":"'aktuelle Zahlen'!H429","v":0},{"$f":"'aktuelle Zahlen'!J429","v":0},null," ",{"$f":"SUM(COUNTIF($C433:$H433,$AL$11:$AQ$11))","v":0}," ",{"$f":"SUM(COUNTIF($C433:$H433,$AS$11:$AX$11))","v":0}," ",{"$f":"SUM(COUNTIF($C433:$H433,$AZ$11:$BE$11))","v":0}," ",{"$f":"SUM(COUNTIF($C433:$H433,$BG$11:$BL$11))","v":0}," ",{"$f":"SUM(COUNTIF($C433:$H433,$BN$11:$BS$11))","v":0}," ",{"$f":"SUM(COUNTIF($C433:$H433,$BU$11:$BZ$11))","v":0}," ",{"$f":"SUM(COUNTIF($C433:$H433,$CB$11:$CG$11))","v":0}," ",{"$f":"SUM(COUNTIF($C433:$H433,$CI$11:$CN$11))","v":0}," ",{"$f":"SUM(COUNTIF($C433:$H433,$CP$11:$CU$11))","v":0}," ",{"$f":"SUM(COUNTIF($C433:$H433,$CW$11:$DB$11))","v":0}," ",{"$f":"SUM(COUNTIF($C433:$H433,$DD$11:$DI$11))","v":0}," ",{"$f":"SUM(COUNTIF($C433:$H433,$DK$11:$DP$11))","v":0}]
[{"$f":"'aktuelle Zahlen'!A430","v":0},{"$f":"'aktuelle Zahlen'!B430","v":"00:00:00"},{"$f":"'aktuelle Zahlen'!C430","v":0},{"$f":"'aktuelle Zahlen'!D430","v":0},{"$f":"'aktuelle Zahlen'!E430","v":0},{"$f":"'aktuelle Zahlen'!F430","v":0},{"$f":"'aktuelle Zahlen'!G430","v":0},{"$f":"'aktuelle Zahlen'!H430","v":0},{"$f":"'aktuelle Zahlen'!J430","v":0},null," ",{"$f":"SUM(COUNTIF($C434:$H434,$AL$11:$AQ$11))","v":0}," ",{"$f":"SUM(COUNTIF($C434:$H434,$AS$11:$AX$11))","v":0}," ",{"$f":"SUM(COUNTIF($C434:$H434,$AZ$11:$BE$11))","v":0}," ",{"$f":"SUM(COUNTIF($C434:$H434,$BG$11:$BL$11))","v":0}," ",{"$f":"SUM(COUNTIF($C434:$H434,$BN$11:$BS$11))","v":0}," ",{"$f":"SUM(COUNTIF($C434:$H434,$BU$11:$BZ$11))","v":0}," ",{"$f":"SUM(COUNTIF($C434:$H434,$CB$11:$CG$11))","v":0}," ",{"$f":"SUM(COUNTIF($C434:$H434,$CI$11:$CN$11))","v":0}," ",{"$f":"SUM(COUNTIF($C434:$H434,$CP$11:$CU$11))","v":0}," ",{"$f":"SUM(COUNTIF($C434:$H434,$CW$11:$DB$11))","v":0}," ",{"$f":"SUM(COUNTIF($C434:$H434,$DD$11:$DI$11))","v":0}," ",{"$f":"SUM(COUNTIF($C434:$H434,$DK$11:$DP$11))","v":0}]
[{"$f":"'aktuelle Zahlen'!A431","v":0},{"$f":"'aktuelle Zahlen'!B431","v":"00:00:00"},{"$f":"'aktuelle Zahlen'!C431","v":0},{"$f":"'aktuelle Zahlen'!D431","v":0},{"$f":"'aktuelle Zahlen'!E431","v":0},{"$f":"'aktuelle Zahlen'!F431","v":0},{"$f":"'aktuelle Zahlen'!G431","v":0},{"$f":"'aktuelle Zahlen'!H431","v":0},{"$f":"'aktuelle Zahlen'!J431","v":0},null," ",{"$f":"SUM(COUNTIF($C435:$H435,$AL$11:$AQ$11))","v":0}," ",{"$f":"SUM(COUNTIF($C435:$H435,$AS$11:$AX$11))","v":0}," ",{"$f":"SUM(COUNTIF($C435:$H435,$AZ$11:$BE$11))","v":0}," ",{"$f":"SUM(COUNTIF($C435:$H435,$BG$11:$BL$11))","v":0}," ",{"$f":"SUM(COUNTIF($C435:$H435,$BN$11:$BS$11))","v":0}," ",{"$f":"SUM(COUNTIF($C435:$H435,$BU$11:$BZ$11))","v":0}," ",{"$f":"SUM(COUNTIF($C435:$H435,$CB$11:$CG$11))","v":0}," ",{"$f":"SUM(COUNTIF($C435:$H435,$CI$11:$CN$11))","v":0}," ",{"$f":"SUM(COUNTIF($C435:$H435,$CP$11:$CU$11))","v":0}," ",{"$f":"SUM(COUNTIF($C435:$H435,$CW$11:$DB$11))","v":0}," ",{"$f":"SUM(COUNTIF($C435:$H435,$DD$11:$DI$11))","v":0}," ",{"$f":"SUM(COUNTIF($C435:$H435,$DK$11:$DP$11))","v":0}]
[{"$f":"'aktuelle Zahlen'!A432","v":0},{"$f":"'aktuelle Zahlen'!B432","v":"00:00:00"},{"$f":"'aktuelle Zahlen'!C432","v":0},{"$f":"'aktuelle Zahlen'!D432","v":0},{"$f":"'aktuelle Zahlen'!E432","v":0},{"$f":"'aktuelle Zahlen'!F432","v":0},{"$f":"'aktuelle Zahlen'!G432","v":0},{"$f":"'aktuelle Zahlen'!H432","v":0},{"$f":"'aktuelle Zahlen'!J432","v":0},null," ",{"$f":"SUM(COUNTIF($C436:$H436,$AL$11:$AQ$11))","v":0}," ",{"$f":"SUM(COUNTIF($C436:$H436,$AS$11:$AX$11))","v":0}," ",{"$f":"SUM(COUNTIF($C436:$H436,$AZ$11:$BE$11))","v":0}," ",{"$f":"SUM(COUNTIF($C436:$H436,$BG$11:$BL$11))","v":0}," ",{"$f":"SUM(COUNTIF($C436:$H436,$BN$11:$BS$11))","v":0}," ",{"$f":"SUM(COUNTIF($C436:$H436,$BU$11:$BZ$11))","v":0}," ",{"$f":"SUM(COUNTIF($C436:$H436,$CB$11:$CG$11))","v":0}," ",{"$f":"SUM(COUNTIF($C436:$H436,$CI$11:$CN$11))","v":0}," ",{"$f":"SUM(COUNTIF($C436:$H436,$CP$11:$CU$11))","v":0}," ",{"$f":"SUM(COUNTIF($C436:$H436,$CW$11:$DB$11))","v":0}," ",{"$f":"SUM(COUNTIF($C436:$H436,$DD$11:$DI$11))","v":0}," ",{"$f":"SUM(COUNTIF($C436:$H436,$DK$11:$DP$11))","v":0}]
[{"$f":"'aktuelle Zahlen'!A433","v":0},{"$f":"'aktuelle Zahlen'!B433","v":"00:00:00"},{"$f":"'aktuelle Zahlen'!C433","v":0},{"$f":"'aktuelle Zahlen'!D433","v":0},{"$f":"'aktuelle Zahlen'!E433","v":0},{"$f":"'aktuelle Zahlen'!F433","v":0},{"$f":"'aktuelle Zahlen'!G433","v":0},{"$f":"'aktuelle Zahlen'!H433","v":0},{"$f":"'aktuelle Zahlen'!J433","v":0},null," ",{"$f":"SUM(COUNTIF($C437:$H437,$AL$11:$AQ$11))","v":0}," ",{"$f":"SUM(COUNTIF($C437:$H437,$AS$11:$AX$11))","v":0}," ",{"$f":"SUM(COUNTIF($C437:$H437,$AZ$11:$BE$11))","v":0}," ",{"$f":"SUM(COUNTIF($C437:$H437,$BG$11:$BL$11))","v":0}," ",{"$f":"SUM(COUNTIF($C437:$H437,$BN$11:$BS$11))","v":0}," ",{"$f":"SUM(COUNTIF($C437:$H437,$BU$11:$BZ$11))","v":0}," ",{"$f":"SUM(COUNTIF($C437:$H437,$CB$11:$CG$11))","v":0}," ",{"$f":"SUM(COUNTIF($C437:$H437,$CI$11:$CN$11))","v":0}," ",{"$f":"SUM(COUNTIF($C437:$H437,$CP$11:$CU$11))","v":0}," ",{"$f":"SUM(COUNTIF($C437:$H437,$CW$11:$DB$11))","v":0}," ",{"$f":"SUM(COUNTIF($C437:$H437,$DD$11:$DI$11))","v":0}," ",{"$f":"SUM(COUNTIF($C437:$H437,$DK$11:$DP$11))","v":0}]
[{"$f":"'aktuelle Zahlen'!A434","v":0},{"$f":"'aktuelle Zahlen'!B434","v":"00:00:00"},{"$f":"'aktuelle Zahlen'!C434","v":0},{"$f":"'aktuelle Zahlen'!D434","v":0},{"$f":"'aktuelle Zahlen'!E434","v":0},{"$f":"'aktuelle Zahlen'!F434","v":0},{"$f":"'aktuelle Zahlen'!G434","v":0},{"$f":"'aktuelle Zahlen'!H434","v":0},{"$f":"'aktuelle Zahlen'!J434","v":0},null," ",{"$f":"SUM(COUNTIF($C438:$H438,$AL$11:$AQ$11))","v":0}," ",{"$f":"SUM(COUNTIF($C438:$H438,$AS$11:$AX$11))","v":0}," ",{"$f":"SUM(COUNTIF($C438:$H438,$AZ$11:$BE$11))","v":0}," ",{"$f":"SUM(COUNTIF($C438:$H438,$BG$11:$BL$11))","v":0}," ",{"$f":"SUM(COUNTIF($C438:$H438,$BN$11:$BS$11))","v":0}," ",{"$f":"SUM(COUNTIF($C438:$H438,$BU$11:$BZ$11))","v":0}," ",{"$f":"SUM(COUNTIF($C438:$H438,$CB$11:$CG$11))","v":0}," ",{"$f":"SUM(COUNTIF($C438:$H438,$CI$11:$CN$11))","v":0}," ",{"$f":"SUM(COUNTIF($C438:$H438,$CP$11:$CU$11))","v":0}," ",{"$f":"SUM(COUNTIF($C438:$H438,$CW$11:$DB$11))","v":0}," ",{"$f":"SUM(COUNTIF($C438:$H438,$DD$11:$DI$11))","v":0}," ",{"$f":"SUM(COUNTIF($C438:$H438,$DK$11:$DP$11))","v":0}]
[{"$f":"'aktuelle Zahlen'!A435","v":0},{"$f":"'aktuelle Zahlen'!B435","v":"00:00:00"},{"$f":"'aktuelle Zahlen'!C435","v":0},{"$f":"'aktuelle Zahlen'!D435","v":0},{"$f":"'aktuelle Zahlen'!E435","v":0},{"$f":"'aktuelle Zahlen'!F435","v":0},{"$f":"'aktuelle Zahlen'!G435","v":0},{"$f":"'aktuelle Zahlen'!H435","v":0},{"$f":"'aktuelle Zahlen'!J435","v":0},null," ",{"$f":"SUM(COUNTIF($C439:$H439,$AL$11:$AQ$11))","v":0}," ",{"$f":"SUM(COUNTIF($C439:$H439,$AS$11:$AX$11))","v":0}," ",{"$f":"SUM(COUNTIF($C439:$H439,$AZ$11:$BE$11))","v":0}," ",{"$f":"SUM(COUNTIF($C439:$H439,$BG$11:$BL$11))","v":0}," ",{"$f":"SUM(COUNTIF($C439:$H439,$BN$11:$BS$11))","v":0}," ",{"$f":"SUM(COUNTIF($C439:$H439,$BU$11:$BZ$11))","v":0}," ",{"$f":"SUM(COUNTIF($C439:$H439,$CB$11:$CG$11))","v":0}," ",{"$f":"SUM(COUNTIF($C439:$H439,$CI$11:$CN$11))","v":0}," ",{"$f":"SUM(COUNTIF($C439:$H439,$CP$11:$CU$11))","v":0}," ",{"$f":"SUM(COUNTIF($C439:$H439,$CW$11:$DB$11))","v":0}," ",{"$f":"SUM(COUNTIF($C439:$H439,$DD$11:$DI$11))","v":0}," ",{"$f":"SUM(COUNTIF($C439:$H439,$DK$11:$DP$11))","v":0}]
[{"$f":"'aktuelle Zahlen'!A436","v":0},{"$f":"'aktuelle Zahlen'!B436","v":"00:00:00"},{"$f":"'aktuelle Zahlen'!C436","v":0},{"$f":"'aktuelle Zahlen'!D436","v":0},{"$f":"'aktuelle Zahlen'!E436","v":0},{"$f":"'aktuelle Zahlen'!F436","v":0},{"$f":"'aktuelle Zahlen'!G436","v":0},{"$f":"'aktuelle Zahlen'!H436","v":0},{"$f":"'aktuelle Zahlen'!J436","v":0},null," ",{"$f":"SUM(COUNTIF($C440:$H440,$AL$11:$AQ$11))","v":0}," ",{"$f":"SUM(COUNTIF($C440:$H440,$AS$11:$AX$11))","v":0}," ",{"$f":"SUM(COUNTIF($C440:$H440,$AZ$11:$BE$11))","v":0}," ",{"$f":"SUM(COUNTIF($C440:$H440,$BG$11:$BL$11))","v":0}," ",{"$f":"SUM(COUNTIF($C440:$H440,$BN$11:$BS$11))","v":0}," ",{"$f":"SUM(COUNTIF($C440:$H440,$BU$11:$BZ$11))","v":0}," ",{"$f":"SUM(COUNTIF($C440:$H440,$CB$11:$CG$11))","v":0}," ",{"$f":"SUM(COUNTIF($C440:$H440,$CI$11:$CN$11))","v":0}," ",{"$f":"SUM(COUNTIF($C440:$H440,$CP$11:$CU$11))","v":0}," ",{"$f":"SUM(COUNTIF($C440:$H440,$CW$11:$DB$11))","v":0}," ",{"$f":"SUM(COUNTIF($C440:$H440,$DD$11:$DI$11))","v":0}," ",{"$f":"SUM(COUNTIF($C440:$H440,$DK$11:$DP$11))","v":0}]
[{"$f":"'aktuelle Zahlen'!A437","v":0},{"$f":"'aktuelle Zahlen'!B437","v":"00:00:00"},{"$f":"'aktuelle Zahlen'!C437","v":0},{"$f":"'aktuelle Zahlen'!D437","v":0},{"$f":"'aktuelle Zahlen'!E437","v":0},{"$f":"'aktuelle Zahlen'!F437","v":0},{"$f":"'aktuelle Zahlen'!G437","v":0},{"$f":"'aktuelle Zahlen'!H437","v":0},{"$f":"'aktuelle Zahlen'!J437","v":0},null," ",{"$f":"SUM(COUNTIF($C441:$H441,$AL$11:$AQ$11))","v":0}," ",{"$f":"SUM(COUNTIF($C441:$H441,$AS$11:$AX$11))","v":0}," ",{"$f":"SUM(COUNTIF($C441:$H441,$AZ$11:$BE$11))","v":0}," ",{"$f":"SUM(COUNTIF($C441:$H441,$BG$11:$BL$11))","v":0}," ",{"$f":"SUM(COUNTIF($C441:$H441,$BN$11:$BS$11))","v":0}," ",{"$f":"SUM(COUNTIF($C441:$H441,$BU$11:$BZ$11))","v":0}," ",{"$f":"SUM(COUNTIF($C441:$H441,$CB$11:$CG$11))","v":0}," ",{"$f":"SUM(COUNTIF($C441:$H441,$CI$11:$CN$11))","v":0}," ",{"$f":"SUM(COUNTIF($C441:$H441,$CP$11:$CU$11))","v":0}," ",{"$f":"SUM(COUNTIF($C441:$H441,$CW$11:$DB$11))","v":0}," ",{"$f":"SUM(COUNTIF($C441:$H441,$DD$11:$DI$11))","v":0}," ",{"$f":"SUM(COUNTIF($C441:$H441,$DK$11:$DP$11))","v":0}]
[{"$f":"'aktuelle Zahlen'!A438","v":0},{"$f":"'aktuelle Zahlen'!B438","v":"00:00:00"},{"$f":"'aktuelle Zahlen'!C438","v":0},{"$f":"'aktuelle Zahlen'!D438","v":0},{"$f":"'aktuelle Zahlen'!E438","v":0},{"$f":"'aktuelle Zahlen'!F438","v":0},{"$f":"'aktuelle Zahlen'!G438","v":0},{"$f":"'aktuelle Zahlen'!H438","v":0},{"$f":"'aktuelle Zahlen'!J438","v":0},null," ",{"$f":"SUM(COUNTIF($C442:$H442,$AL$11:$AQ$11))","v":0}," ",{"$f":"SUM(COUNTIF($C442:$H442,$AS$11:$AX$11))","v":0}," ",{"$f":"SUM(COUNTIF($C442:$H442,$AZ$11:$BE$11))","v":0}," ",{"$f":"SUM(COUNTIF($C442:$H442,$BG$11:$BL$11))","v":0}," ",{"$f":"SUM(COUNTIF($C442:$H442,$BN$11:$BS$11))","v":0}," ",{"$f":"SUM(COUNTIF($C442:$H442,$BU$11:$BZ$11))","v":0}," ",{"$f":"SUM(COUNTIF($C442:$H442,$CB$11:$CG$11))","v":0}," ",{"$f":"SUM(COUNTIF($C442:$H442,$CI$11:$CN$11))","v":0}," ",{"$f":"SUM(COUNTIF($C442:$H442,$CP$11:$CU$11))","v":0}," ",{"$f":"SUM(COUNTIF($C442:$H442,$CW$11:$DB$11))","v":0}," ",{"$f":"SUM(COUNTIF($C442:$H442,$DD$11:$DI$11))","v":0}," ",{"$f":"SUM(COUNTIF($C442:$H442,$DK$11:$DP$11))","v":0}]
[{"$f":"'aktuelle Zahlen'!A439","v":0},{"$f":"'aktuelle Zahlen'!B439","v":"00:00:00"},{"$f":"'aktuelle Zahlen'!C439","v":0},{"$f":"'aktuelle Zahlen'!D439","v":0},{"$f":"'aktuelle Zahlen'!E439","v":0},{"$f":"'aktuelle Zahlen'!F439","v":0},{"$f":"'aktuelle Zahlen'!G439","v":0},{"$f":"'aktuelle Zahlen'!H439","v":0},{"$f":"'aktuelle Zahlen'!J439","v":0},null," ",{"$f":"SUM(COUNTIF($C443:$H443,$AL$11:$AQ$11))","v":0}," ",{"$f":"SUM(COUNTIF($C443:$H443,$AS$11:$AX$11))","v":0}," ",{"$f":"SUM(COUNTIF($C443:$H443,$AZ$11:$BE$11))","v":0}," ",{"$f":"SUM(COUNTIF($C443:$H443,$BG$11:$BL$11))","v":0}," ",{"$f":"SUM(COUNTIF($C443:$H443,$BN$11:$BS$11))","v":0}," ",{"$f":"SUM(COUNTIF($C443:$H443,$BU$11:$BZ$11))","v":0}," ",{"$f":"SUM(COUNTIF($C443:$H443,$CB$11:$CG$11))","v":0}," ",{"$f":"SUM(COUNTIF($C443:$H443,$CI$11:$CN$11))","v":0}," ",{"$f":"SUM(COUNTIF($C443:$H443,$CP$11:$CU$11))","v":0}," ",{"$f":"SUM(COUNTIF($C443:$H443,$CW$11:$DB$11))","v":0}," ",{"$f":"SUM(COUNTIF($C443:$H443,$DD$11:$DI$11))","v":0}," ",{"$f":"SUM(COUNTIF($C443:$H443,$DK$11:$DP$11))","v":0}]
[{"$f":"'aktuelle Zahlen'!A440","v":0},{"$f":"'aktuelle Zahlen'!B440","v":"00:00:00"},{"$f":"'aktuelle Zahlen'!C440","v":0},{"$f":"'aktuelle Zahlen'!D440","v":0},{"$f":"'aktuelle Zahlen'!E440","v":0},{"$f":"'aktuelle Zahlen'!F440","v":0},{"$f":"'aktuelle Zahlen'!G440","v":0},{"$f":"'aktuelle Zahlen'!H440","v":0},{"$f":"'aktuelle Zahlen'!J440","v":0},null," ",{"$f":"SUM(COUNTIF($C444:$H444,$AL$11:$AQ$11))","v":0}," ",{"$f":"SUM(COUNTIF($C444:$H444,$AS$11:$AX$11))","v":0}," ",{"$f":"SUM(COUNTIF($C444:$H444,$AZ$11:$BE$11))","v":0}," ",{"$f":"SUM(COUNTIF($C444:$H444,$BG$11:$BL$11))","v":0}," ",{"$f":"SUM(COUNTIF($C444:$H444,$BN$11:$BS$11))","v":0}," ",{"$f":"SUM(COUNTIF($C444:$H444,$BU$11:$BZ$11))","v":0}," ",{"$f":"SUM(COUNTIF($C444:$H444,$CB$11:$CG$11))","v":0}," ",{"$f":"SUM(COUNTIF($C444:$H444,$CI$11:$CN$11))","v":0}," ",{"$f":"SUM(COUNTIF($C444:$H444,$CP$11:$CU$11))","v":0}," ",{"$f":"SUM(COUNTIF($C444:$H444,$CW$11:$DB$11))","v":0}," ",{"$f":"SUM(COUNTIF($C444:$H444,$DD$11:$DI$11))","v":0}," ",{"$f":"SUM(COUNTIF($C444:$H444,$DK$11:$DP$11))","v":0}]
[{"$f":"'aktuelle Zahlen'!A441","v":0},{"$f":"'aktuelle Zahlen'!B441","v":"00:00:00"},{"$f":"'aktuelle Zahlen'!C441","v":0},{"$f":"'aktuelle Zahlen'!D441","v":0},{"$f":"'aktuelle Zahlen'!E441","v":0},{"$f":"'aktuelle Zahlen'!F441","v":0},{"$f":"'aktuelle Zahlen'!G441","v":0},{"$f":"'aktuelle Zahlen'!H441","v":0},{"$f":"'aktuelle Zahlen'!J441","v":0},null," ",{"$f":"SUM(COUNTIF($C445:$H445,$AL$11:$AQ$11))","v":0}," ",{"$f":"SUM(COUNTIF($C445:$H445,$AS$11:$AX$11))","v":0}," ",{"$f":"SUM(COUNTIF($C445:$H445,$AZ$11:$BE$11))","v":0}," ",{"$f":"SUM(COUNTIF($C445:$H445,$BG$11:$BL$11))","v":0}," ",{"$f":"SUM(COUNTIF($C445:$H445,$BN$11:$BS$11))","v":0}," ",{"$f":"SUM(COUNTIF($C445:$H445,$BU$11:$BZ$11))","v":0}," ",{"$f":"SUM(COUNTIF($C445:$H445,$CB$11:$CG$11))","v":0}," ",{"$f":"SUM(COUNTIF($C445:$H445,$CI$11:$CN$11))","v":0}," ",{"$f":"SUM(COUNTIF($C445:$H445,$CP$11:$CU$11))","v":0}," ",{"$f":"SUM(COUNTIF($C445:$H445,$CW$11:$DB$11))","v":0}," ",{"$f":"SUM(COUNTIF($C445:$H445,$DD$11:$DI$11))","v":0}," ",{"$f":"SUM(COUNTIF($C445:$H445,$DK$11:$DP$11))","v":0}]
[{"$f":"'aktuelle Zahlen'!A442","v":0},{"$f":"'aktuelle Zahlen'!B442","v":"00:00:00"},{"$f":"'aktuelle Zahlen'!C442","v":0},{"$f":"'aktuelle Zahlen'!D442","v":0},{"$f":"'aktuelle Zahlen'!E442","v":0},{"$f":"'aktuelle Zahlen'!F442","v":0},{"$f":"'aktuelle Zahlen'!G442","v":0},{"$f":"'aktuelle Zahlen'!H442","v":0},{"$f":"'aktuelle Zahlen'!J442","v":0},null," ",{"$f":"SUM(COUNTIF($C446:$H446,$AL$11:$AQ$11))","v":0}," ",{"$f":"SUM(COUNTIF($C446:$H446,$AS$11:$AX$11))","v":0}," ",{"$f":"SUM(COUNTIF($C446:$H446,$AZ$11:$BE$11))","v":0}," ",{"$f":"SUM(COUNTIF($C446:$H446,$BG$11:$BL$11))","v":0}," ",{"$f":"SUM(COUNTIF($C446:$H446,$BN$11:$BS$11))","v":0}," ",{"$f":"SUM(COUNTIF($C446:$H446,$BU$11:$BZ$11))","v":0}," ",{"$f":"SUM(COUNTIF($C446:$H446,$CB$11:$CG$11))","v":0}," ",{"$f":"SUM(COUNTIF($C446:$H446,$CI$11:$CN$11))","v":0}," ",{"$f":"SUM(COUNTIF($C446:$H446,$CP$11:$CU$11))","v":0}," ",{"$f":"SUM(COUNTIF($C446:$H446,$CW$11:$DB$11))","v":0}," ",{"$f":"SUM(COUNTIF($C446:$H446,$DD$11:$DI$11))","v":0}," ",{"$f":"SUM(COUNTIF($C446:$H446,$DK$11:$DP$11))","v":0}]
[{"$f":"'aktuelle Zahlen'!A443","v":0},{"$f":"'aktuelle Zahlen'!B443","v":"00:00:00"},{"$f":"'aktuelle Zahlen'!C443","v":0},{"$f":"'aktuelle Zahlen'!D443","v":0},{"$f":"'aktuelle Zahlen'!E443","v":0},{"$f":"'aktuelle Zahlen'!F443","v":0},{"$f":"'aktuelle Zahlen'!G443","v":0},{"$f":"'aktuelle Zahlen'!H443","v":0},{"$f":"'aktuelle Zahlen'!J443","v":0},null," ",{"$f":"SUM(COUNTIF($C447:$H447,$AL$11:$AQ$11))","v":0}," ",{"$f":"SUM(COUNTIF($C447:$H447,$AS$11:$AX$11))","v":0}," ",{"$f":"SUM(COUNTIF($C447:$H447,$AZ$11:$BE$11))","v":0}," ",{"$f":"SUM(COUNTIF($C447:$H447,$BG$11:$BL$11))","v":0}," ",{"$f":"SUM(COUNTIF($C447:$H447,$BN$11:$BS$11))","v":0}," ",{"$f":"SUM(COUNTIF($C447:$H447,$BU$11:$BZ$11))","v":0}," ",{"$f":"SUM(COUNTIF($C447:$H447,$CB$11:$CG$11))","v":0}," ",{"$f":"SUM(COUNTIF($C447:$H447,$CI$11:$CN$11))","v":0}," ",{"$f":"SUM(COUNTIF($C447:$H447,$CP$11:$CU$11))","v":0}," ",{"$f":"SUM(COUNTIF($C447:$H447,$CW$11:$DB$11))","v":0}," ",{"$f":"SUM(COUNTIF($C447:$H447,$DD$11:$DI$11))","v":0}," ",{"$f":"SUM(COUNTIF($C447:$H447,$DK$11:$DP$11))","v":0}]
[{"$f":"'aktuelle Zahlen'!A444","v":0},{"$f":"'aktuelle Zahlen'!B444","v":"00:00:00"},{"$f":"'aktuelle Zahlen'!C444","v":0},{"$f":"'aktuelle Zahlen'!D444","v":0},{"$f":"'aktuelle Zahlen'!E444","v":0},{"$f":"'aktuelle Zahlen'!F444","v":0},{"$f":"'aktuelle Zahlen'!G444","v":0},{"$f":"'aktuelle Zahlen'!H444","v":0},{"$f":"'aktuelle Zahlen'!J444","v":0},null," ",{"$f":"SUM(COUNTIF($C448:$H448,$AL$11:$AQ$11))","v":0}," ",{"$f":"SUM(COUNTIF($C448:$H448,$AS$11:$AX$11))","v":0}," ",{"$f":"SUM(COUNTIF($C448:$H448,$AZ$11:$BE$11))","v":0}," ",{"$f":"SUM(COUNTIF($C448:$H448,$BG$11:$BL$11))","v":0}," ",{"$f":"SUM(COUNTIF($C448:$H448,$BN$11:$BS$11))","v":0}," ",{"$f":"SUM(COUNTIF($C448:$H448,$BU$11:$BZ$11))","v":0}," ",{"$f":"SUM(COUNTIF($C448:$H448,$CB$11:$CG$11))","v":0}," ",{"$f":"SUM(COUNTIF($C448:$H448,$CI$11:$CN$11))","v":0}," ",{"$f":"SUM(COUNTIF($C448:$H448,$CP$11:$CU$11))","v":0}," ",{"$f":"SUM(COUNTIF($C448:$H448,$CW$11:$DB$11))","v":0}," ",{"$f":"SUM(COUNTIF($C448:$H448,$DD$11:$DI$11))","v":0}," ",{"$f":"SUM(COUNTIF($C448:$H448,$DK$11:$DP$11))","v":0}]
[{"$f":"'aktuelle Zahlen'!A445","v":0},{"$f":"'aktuelle Zahlen'!B445","v":"00:00:00"},{"$f":"'aktuelle Zahlen'!C445","v":0},{"$f":"'aktuelle Zahlen'!D445","v":0},{"$f":"'aktuelle Zahlen'!E445","v":0},{"$f":"'aktuelle Zahlen'!F445","v":0},{"$f":"'aktuelle Zahlen'!G445","v":0},{"$f":"'aktuelle Zahlen'!H445","v":0},{"$f":"'aktuelle Zahlen'!J445","v":0},null," ",{"$f":"SUM(COUNTIF($C449:$H449,$AL$11:$AQ$11))","v":0}," ",{"$f":"SUM(COUNTIF($C449:$H449,$AS$11:$AX$11))","v":0}," ",{"$f":"SUM(COUNTIF($C449:$H449,$AZ$11:$BE$11))","v":0}," ",{"$f":"SUM(COUNTIF($C449:$H449,$BG$11:$BL$11))","v":0}," ",{"$f":"SUM(COUNTIF($C449:$H449,$BN$11:$BS$11))","v":0}," ",{"$f":"SUM(COUNTIF($C449:$H449,$BU$11:$BZ$11))","v":0}," ",{"$f":"SUM(COUNTIF($C449:$H449,$CB$11:$CG$11))","v":0}," ",{"$f":"SUM(COUNTIF($C449:$H449,$CI$11:$CN$11))","v":0}," ",{"$f":"SUM(COUNTIF($C449:$H449,$CP$11:$CU$11))","v":0}," ",{"$f":"SUM(COUNTIF($C449:$H449,$CW$11:$DB$11))","v":0}," ",{"$f":"SUM(COUNTIF($C449:$H449,$DD$11:$DI$11))","v":0}," ",{"$f":"SUM(COUNTIF($C449:$H449,$DK$11:$DP$11))","v":0}]
[{"$f":"'aktuelle Zahlen'!A446","v":0},{"$f":"'aktuelle Zahlen'!B446","v":"00:00:00"},{"$f":"'aktuelle Zahlen'!C446","v":0},{"$f":"'aktuelle Zahlen'!D446","v":0},{"$f":"'aktuelle Zahlen'!E446","v":0},{"$f":"'aktuelle Zahlen'!F446","v":0},{"$f":"'aktuelle Zahlen'!G446","v":0},{"$f":"'aktuelle Zahlen'!H446","v":0},{"$f":"'aktuelle Zahlen'!J446","v":0},null," ",{"$f":"SUM(COUNTIF($C450:$H450,$AL$11:$AQ$11))","v":0}," ",{"$f":"SUM(COUNTIF($C450:$H450,$AS$11:$AX$11))","v":0}," ",{"$f":"SUM(COUNTIF($C450:$H450,$AZ$11:$BE$11))","v":0}," ",{"$f":"SUM(COUNTIF($C450:$H450,$BG$11:$BL$11))","v":0}," ",{"$f":"SUM(COUNTIF($C450:$H450,$BN$11:$BS$11))","v":0}," ",{"$f":"SUM(COUNTIF($C450:$H450,$BU$11:$BZ$11))","v":0}," ",{"$f":"SUM(COUNTIF($C450:$H450,$CB$11:$CG$11))","v":0}," ",{"$f":"SUM(COUNTIF($C450:$H450,$CI$11:$CN$11))","v":0}," ",{"$f":"SUM(COUNTIF($C450:$H450,$CP$11:$CU$11))","v":0}," ",{"$f":"SUM(COUNTIF($C450:$H450,$CW$11:$DB$11))","v":0}," ",{"$f":"SUM(COUNTIF($C450:$H450,$DD$11:$DI$11))","v":0}," ",{"$f":"SUM(COUNTIF($C450:$H450,$DK$11:$DP$11))","v":0}]
[{"$f":"'aktuelle Zahlen'!A447","v":0},{"$f":"'aktuelle Zahlen'!B447","v":"00:00:00"},{"$f":"'aktuelle Zahlen'!C447","v":0},{"$f":"'aktuelle Zahlen'!D447","v":0},{"$f":"'aktuelle Zahlen'!E447","v":0},{"$f":"'aktuelle Zahlen'!F447","v":0},{"$f":"'aktuelle Zahlen'!G447","v":0},{"$f":"'aktuelle Zahlen'!H447","v":0},{"$f":"'aktuelle Zahlen'!J447","v":0},null," ",{"$f":"SUM(COUNTIF($C451:$H451,$AL$11:$AQ$11))","v":0}," ",{"$f":"SUM(COUNTIF($C451:$H451,$AS$11:$AX$11))","v":0}," ",{"$f":"SUM(COUNTIF($C451:$H451,$AZ$11:$BE$11))","v":0}," ",{"$f":"SUM(COUNTIF($C451:$H451,$BG$11:$BL$11))","v":0}," ",{"$f":"SUM(COUNTIF($C451:$H451,$BN$11:$BS$11))","v":0}," ",{"$f":"SUM(COUNTIF($C451:$H451,$BU$11:$BZ$11))","v":0}," ",{"$f":"SUM(COUNTIF($C451:$H451,$CB$11:$CG$11))","v":0}," ",{"$f":"SUM(COUNTIF($C451:$H451,$CI$11:$CN$11))","v":0}," ",{"$f":"SUM(COUNTIF($C451:$H451,$CP$11:$CU$11))","v":0}," ",{"$f":"SUM(COUNTIF($C451:$H451,$CW$11:$DB$11))","v":0}," ",{"$f":"SUM(COUNTIF($C451:$H451,$DD$11:$DI$11))","v":0}," ",{"$f":"SUM(COUNTIF($C451:$H451,$DK$11:$DP$11))","v":0}]
[{"$f":"'aktuelle Zahlen'!A448","v":0},{"$f":"'aktuelle Zahlen'!B448","v":"00:00:00"},{"$f":"'aktuelle Zahlen'!C448","v":0},{"$f":"'aktuelle Zahlen'!D448","v":0},{"$f":"'aktuelle Zahlen'!E448","v":0},{"$f":"'aktuelle Zahlen'!F448","v":0},{"$f":"'aktuelle Zahlen'!G448","v":0},{"$f":"'aktuelle Zahlen'!H448","v":0},{"$f":"'aktuelle Zahlen'!J448","v":0},null," ",{"$f":"SUM(COUNTIF($C452:$H452,$AL$11:$AQ$11))","v":0}," ",{"$f":"SUM(COUNTIF($C452:$H452,$AS$11:$AX$11))","v":0}," ",{"$f":"SUM(COUNTIF($C452:$H452,$AZ$11:$BE$11))","v":0}," ",{"$f":"SUM(COUNTIF($C452:$H452,$BG$11:$BL$11))","v":0}," ",{"$f":"SUM(COUNTIF($C452:$H452,$BN$11:$BS$11))","v":0}," ",{"$f":"SUM(COUNTIF($C452:$H452,$BU$11:$BZ$11))","v":0}," ",{"$f":"SUM(COUNTIF($C452:$H452,$CB$11:$CG$11))","v":0}," ",{"$f":"SUM(COUNTIF($C452:$H452,$CI$11:$CN$11))","v":0}," ",{"$f":"SUM(COUNTIF($C452:$H452,$CP$11:$CU$11))","v":0}," ",{"$f":"SUM(COUNTIF($C452:$H452,$CW$11:$DB$11))","v":0}," ",{"$f":"SUM(COUNTIF($C452:$H452,$DD$11:$DI$11))","v":0}," ",{"$f":"SUM(COUNTIF($C452:$H452,$DK$11:$DP$11))","v":0}]
[{"$f":"'aktuelle Zahlen'!A449","v":0},{"$f":"'aktuelle Zahlen'!B449","v":"00:00:00"},{"$f":"'aktuelle Zahlen'!C449","v":0},{"$f":"'aktuelle Zahlen'!D449","v":0},{"$f":"'aktuelle Zahlen'!E449","v":0},{"$f":"'aktuelle Zahlen'!F449","v":0},{"$f":"'aktuelle Zahlen'!G449","v":0},{"$f":"'aktuelle Zahlen'!H449","v":0},{"$f":"'aktuelle Zahlen'!J449","v":0},null," ",{"$f":"SUM(COUNTIF($C453:$H453,$AL$11:$AQ$11))","v":0}," ",{"$f":"SUM(COUNTIF($C453:$H453,$AS$11:$AX$11))","v":0}," ",{"$f":"SUM(COUNTIF($C453:$H453,$AZ$11:$BE$11))","v":0}," ",{"$f":"SUM(COUNTIF($C453:$H453,$BG$11:$BL$11))","v":0}," ",{"$f":"SUM(COUNTIF($C453:$H453,$BN$11:$BS$11))","v":0}," ",{"$f":"SUM(COUNTIF($C453:$H453,$BU$11:$BZ$11))","v":0}," ",{"$f":"SUM(COUNTIF($C453:$H453,$CB$11:$CG$11))","v":0}," ",{"$f":"SUM(COUNTIF($C453:$H453,$CI$11:$CN$11))","v":0}," ",{"$f":"SUM(COUNTIF($C453:$H453,$CP$11:$CU$11))","v":0}," ",{"$f":"SUM(COUNTIF($C453:$H453,$CW$11:$DB$11))","v":0}," ",{"$f":"SUM(COUNTIF($C453:$H453,$DD$11:$DI$11))","v":0}," ",{"$f":"SUM(COUNTIF($C453:$H453,$DK$11:$DP$11))","v":0}]
[{"$f":"'aktuelle Zahlen'!A450","v":0},{"$f":"'aktuelle Zahlen'!B450","v":"00:00:00"},{"$f":"'aktuelle Zahlen'!C450","v":0},{"$f":"'aktuelle Zahlen'!D450","v":0},{"$f":"'aktuelle Zahlen'!E450","v":0},{"$f":"'aktuelle Zahlen'!F450","v":0},{"$f":"'aktuelle Zahlen'!G450","v":0},{"$f":"'aktuelle Zahlen'!H450","v":0},{"$f":"'aktuelle Zahlen'!J450","v":0},null," ",{"$f":"SUM(COUNTIF($C454:$H454,$AL$11:$AQ$11))","v":0}," ",{"$f":"SUM(COUNTIF($C454:$H454,$AS$11:$AX$11))","v":0}," ",{"$f":"SUM(COUNTIF($C454:$H454,$AZ$11:$BE$11))","v":0}," ",{"$f":"SUM(COUNTIF($C454:$H454,$BG$11:$BL$11))","v":0}," ",{"$f":"SUM(COUNTIF($C454:$H454,$BN$11:$BS$11))","v":0}," ",{"$f":"SUM(COUNTIF($C454:$H454,$BU$11:$BZ$11))","v":0}," ",{"$f":"SUM(COUNTIF($C454:$H454,$CB$11:$CG$11))","v":0}," ",{"$f":"SUM(COUNTIF($C454:$H454,$CI$11:$CN$11))","v":0}," ",{"$f":"SUM(COUNTIF($C454:$H454,$CP$11:$CU$11))","v":0}," ",{"$f":"SUM(COUNTIF($C454:$H454,$CW$11:$DB$11))","v":0}," ",{"$f":"SUM(COUNTIF($C454:$H454,$DD$11:$DI$11))","v":0}," ",{"$f":"SUM(COUNTIF($C454:$H454,$DK$11:$DP$11))","v":0}]
[{"$f":"'aktuelle Zahlen'!A451","v":0},{"$f":"'aktuelle Zahlen'!B451","v":"00:00:00"},{"$f":"'aktuelle Zahlen'!C451","v":0},{"$f":"'aktuelle Zahlen'!D451","v":0},{"$f":"'aktuelle Zahlen'!E451","v":0},{"$f":"'aktuelle Zahlen'!F451","v":0},{"$f":"'aktuelle Zahlen'!G451","v":0},{"$f":"'aktuelle Zahlen'!H451","v":0},{"$f":"'aktuelle Zahlen'!J451","v":0},null," ",{"$f":"SUM(COUNTIF($C455:$H455,$AL$11:$AQ$11))","v":0}," ",{"$f":"SUM(COUNTIF($C455:$H455,$AS$11:$AX$11))","v":0}," ",{"$f":"SUM(COUNTIF($C455:$H455,$AZ$11:$BE$11))","v":0}," ",{"$f":"SUM(COUNTIF($C455:$H455,$BG$11:$BL$11))","v":0}," ",{"$f":"SUM(COUNTIF($C455:$H455,$BN$11:$BS$11))","v":0}," ",{"$f":"SUM(COUNTIF($C455:$H455,$BU$11:$BZ$11))","v":0}," ",{"$f":"SUM(COUNTIF($C455:$H455,$CB$11:$CG$11))","v":0}," ",{"$f":"SUM(COUNTIF($C455:$H455,$CI$11:$CN$11))","v":0}," ",{"$f":"SUM(COUNTIF($C455:$H455,$CP$11:$CU$11))","v":0}," ",{"$f":"SUM(COUNTIF($C455:$H455,$CW$11:$DB$11))","v":0}," ",{"$f":"SUM(COUNTIF($C455:$H455,$DD$11:$DI$11))","v":0}," ",{"$f":"SUM(COUNTIF($C455:$H455,$DK$11:$DP$11))","v":0}]
[{"$f":"'aktuelle Zahlen'!A452","v":0},{"$f":"'aktuelle Zahlen'!B452","v":"00:00:00"},{"$f":"'aktuelle Zahlen'!C452","v":0},{"$f":"'aktuelle Zahlen'!D452","v":0},{"$f":"'aktuelle Zahlen'!E452","v":0},{"$f":"'aktuelle Zahlen'!F452","v":0},{"$f":"'aktuelle Zahlen'!G452","v":0},{"$f":"'aktuelle Zahlen'!H452","v":0},{"$f":"'aktuelle Zahlen'!J452","v":0},null," ",{"$f":"SUM(COUNTIF($C456:$H456,$AL$11:$AQ$11))","v":0}," ",{"$f":"SUM(COUNTIF($C456:$H456,$AS$11:$AX$11))","v":0}," ",{"$f":"SUM(COUNTIF($C456:$H456,$AZ$11:$BE$11))","v":0}," ",{"$f":"SUM(COUNTIF($C456:$H456,$BG$11:$BL$11))","v":0}," ",{"$f":"SUM(COUNTIF($C456:$H456,$BN$11:$BS$11))","v":0}," ",{"$f":"SUM(COUNTIF($C456:$H456,$BU$11:$BZ$11))","v":0}," ",{"$f":"SUM(COUNTIF($C456:$H456,$CB$11:$CG$11))","v":0}," ",{"$f":"SUM(COUNTIF($C456:$H456,$CI$11:$CN$11))","v":0}," ",{"$f":"SUM(COUNTIF($C456:$H456,$CP$11:$CU$11))","v":0}," ",{"$f":"SUM(COUNTIF($C456:$H456,$CW$11:$DB$11))","v":0}," ",{"$f":"SUM(COUNTIF($C456:$H456,$DD$11:$DI$11))","v":0}," ",{"$f":"SUM(COUNTIF($C456:$H456,$DK$11:$DP$11))","v":0}]
[{"$f":"'aktuelle Zahlen'!A453","v":0},{"$f":"'aktuelle Zahlen'!B453","v":"00:00:00"},{"$f":"'aktuelle Zahlen'!C453","v":0},{"$f":"'aktuelle Zahlen'!D453","v":0},{"$f":"'aktuelle Zahlen'!E453","v":0},{"$f":"'aktuelle Zahlen'!F453","v":0},{"$f":"'aktuelle Zahlen'!G453","v":0},{"$f":"'aktuelle Zahlen'!H453","v":0},{"$f":"'aktuelle Zahlen'!J453","v":0},null," ",{"$f":"SUM(COUNTIF($C457:$H457,$AL$11:$AQ$11))","v":0}," ",{"$f":"SUM(COUNTIF($C457:$H457,$AS$11:$AX$11))","v":0}," ",{"$f":"SUM(COUNTIF($C457:$H457,$AZ$11:$BE$11))","v":0}," ",{"$f":"SUM(COUNTIF($C457:$H457,$BG$11:$BL$11))","v":0}," ",{"$f":"SUM(COUNTIF($C457:$H457,$BN$11:$BS$11))","v":0}," ",{"$f":"SUM(COUNTIF($C457:$H457,$BU$11:$BZ$11))","v":0}," ",{"$f":"SUM(COUNTIF($C457:$H457,$CB$11:$CG$11))","v":0}," ",{"$f":"SUM(COUNTIF($C457:$H457,$CI$11:$CN$11))","v":0}," ",{"$f":"SUM(COUNTIF($C457:$H457,$CP$11:$CU$11))","v":0}," ",{"$f":"SUM(COUNTIF($C457:$H457,$CW$11:$DB$11))","v":0}," ",{"$f":"SUM(COUNTIF($C457:$H457,$DD$11:$DI$11))","v":0}," ",{"$f":"SUM(COUNTIF($C457:$H457,$DK$11:$DP$11))","v":0}]
[{"$f":"'aktuelle Zahlen'!A454","v":0},{"$f":"'aktuelle Zahlen'!B454","v":"00:00:00"},{"$f":"'aktuelle Zahlen'!C454","v":0},{"$f":"'aktuelle Zahlen'!D454","v":0},{"$f":"'aktuelle Zahlen'!E454","v":0},{"$f":"'aktuelle Zahlen'!F454","v":0},{"$f":"'aktuelle Zahlen'!G454","v":0},{"$f":"'aktuelle Zahlen'!H454","v":0},{"$f":"'aktuelle Zahlen'!J454","v":0},null," ",{"$f":"SUM(COUNTIF($C458:$H458,$AL$11:$AQ$11))","v":0}," ",{"$f":"SUM(COUNTIF($C458:$H458,$AS$11:$AX$11))","v":0}," ",{"$f":"SUM(COUNTIF($C458:$H458,$AZ$11:$BE$11))","v":0}," ",{"$f":"SUM(COUNTIF($C458:$H458,$BG$11:$BL$11))","v":0}," ",{"$f":"SUM(COUNTIF($C458:$H458,$BN$11:$BS$11))","v":0}," ",{"$f":"SUM(COUNTIF($C458:$H458,$BU$11:$BZ$11))","v":0}," ",{"$f":"SUM(COUNTIF($C458:$H458,$CB$11:$CG$11))","v":0}," ",{"$f":"SUM(COUNTIF($C458:$H458,$CI$11:$CN$11))","v":0}," ",{"$f":"SUM(COUNTIF($C458:$H458,$CP$11:$CU$11))","v":0}," ",{"$f":"SUM(COUNTIF($C458:$H458,$CW$11:$DB$11))","v":0}," ",{"$f":"SUM(COUNTIF($C458:$H458,$DD$11:$DI$11))","v":0}," ",{"$f":"SUM(COUNTIF($C458:$H458,$DK$11:$DP$11))","v":0}]
[{"$f":"'aktuelle Zahlen'!A455","v":0},{"$f":"'aktuelle Zahlen'!B455","v":"00:00:00"},{"$f":"'aktuelle Zahlen'!C455","v":0},{"$f":"'aktuelle Zahlen'!D455","v":0},{"$f":"'aktuelle Zahlen'!E455","v":0},{"$f":"'aktuelle Zahlen'!F455","v":0},{"$f":"'aktuelle Zahlen'!G455","v":0},{"$f":"'aktuelle Zahlen'!H455","v":0},{"$f":"'aktuelle Zahlen'!J455","v":0},null," ",{"$f":"SUM(COUNTIF($C459:$H459,$AL$11:$AQ$11))","v":0}," ",{"$f":"SUM(COUNTIF($C459:$H459,$AS$11:$AX$11))","v":0}," ",{"$f":"SUM(COUNTIF($C459:$H459,$AZ$11:$BE$11))","v":0}," ",{"$f":"SUM(COUNTIF($C459:$H459,$BG$11:$BL$11))","v":0}," ",{"$f":"SUM(COUNTIF($C459:$H459,$BN$11:$BS$11))","v":0}," ",{"$f":"SUM(COUNTIF($C459:$H459,$BU$11:$BZ$11))","v":0}," ",{"$f":"SUM(COUNTIF($C459:$H459,$CB$11:$CG$11))","v":0}," ",{"$f":"SUM(COUNTIF($C459:$H459,$CI$11:$CN$11))","v":0}," ",{"$f":"SUM(COUNTIF($C459:$H459,$CP$11:$CU$11))","v":0}," ",{"$f":"SUM(COUNTIF($C459:$H459,$CW$11:$DB$11))","v":0}," ",{"$f":"SUM(COUNTIF($C459:$H459,$DD$11:$DI$11))","v":0}," ",{"$f":"SUM(COUNTIF($C459:$H459,$DK$11:$DP$11))","v":0}]
[{"$f":"'aktuelle Zahlen'!A456","v":0},{"$f":"'aktuelle Zahlen'!B456","v":"00:00:00"},{"$f":"'aktuelle Zahlen'!C456","v":0},{"$f":"'aktuelle Zahlen'!D456","v":0},{"$f":"'aktuelle Zahlen'!E456","v":0},{"$f":"'aktuelle Zahlen'!F456","v":0},{"$f":"'aktuelle Zahlen'!G456","v":0},{"$f":"'aktuelle Zahlen'!H456","v":0},{"$f":"'aktuelle Zahlen'!J456","v":0},null," ",{"$f":"SUM(COUNTIF($C460:$H460,$AL$11:$AQ$11))","v":0}," ",{"$f":"SUM(COUNTIF($C460:$H460,$AS$11:$AX$11))","v":0}," ",{"$f":"SUM(COUNTIF($C460:$H460,$AZ$11:$BE$11))","v":0}," ",{"$f":"SUM(COUNTIF($C460:$H460,$BG$11:$BL$11))","v":0}," ",{"$f":"SUM(COUNTIF($C460:$H460,$BN$11:$BS$11))","v":0}," ",{"$f":"SUM(COUNTIF($C460:$H460,$BU$11:$BZ$11))","v":0}," ",{"$f":"SUM(COUNTIF($C460:$H460,$CB$11:$CG$11))","v":0}," ",{"$f":"SUM(COUNTIF($C460:$H460,$CI$11:$CN$11))","v":0}," ",{"$f":"SUM(COUNTIF($C460:$H460,$CP$11:$CU$11))","v":0}," ",{"$f":"SUM(COUNTIF($C460:$H460,$CW$11:$DB$11))","v":0}," ",{"$f":"SUM(COUNTIF($C460:$H460,$DD$11:$DI$11))","v":0}," ",{"$f":"SUM(COUNTIF($C460:$H460,$DK$11:$DP$11))","v":0}]
[{"$f":"'aktuelle Zahlen'!A457","v":0},{"$f":"'aktuelle Zahlen'!B457","v":"00:00:00"},{"$f":"'aktuelle Zahlen'!C457","v":0},{"$f":"'aktuelle Zahlen'!D457","v":0},{"$f":"'aktuelle Zahlen'!E457","v":0},{"$f":"'aktuelle Zahlen'!F457","v":0},{"$f":"'aktuelle Zahlen'!G457","v":0},{"$f":"'aktuelle Zahlen'!H457","v":0},{"$f":"'aktuelle Zahlen'!J457","v":0},null," ",{"$f":"SUM(COUNTIF($C461:$H461,$AL$11:$AQ$11))","v":0}," ",{"$f":"SUM(COUNTIF($C461:$H461,$AS$11:$AX$11))","v":0}," ",{"$f":"SUM(COUNTIF($C461:$H461,$AZ$11:$BE$11))","v":0}," ",{"$f":"SUM(COUNTIF($C461:$H461,$BG$11:$BL$11))","v":0}," ",{"$f":"SUM(COUNTIF($C461:$H461,$BN$11:$BS$11))","v":0}," ",{"$f":"SUM(COUNTIF($C461:$H461,$BU$11:$BZ$11))","v":0}," ",{"$f":"SUM(COUNTIF($C461:$H461,$CB$11:$CG$11))","v":0}," ",{"$f":"SUM(COUNTIF($C461:$H461,$CI$11:$CN$11))","v":0}," ",{"$f":"SUM(COUNTIF($C461:$H461,$CP$11:$CU$11))","v":0}," ",{"$f":"SUM(COUNTIF($C461:$H461,$CW$11:$DB$11))","v":0}," ",{"$f":"SUM(COUNTIF($C461:$H461,$DD$11:$DI$11))","v":0}," ",{"$f":"SUM(COUNTIF($C461:$H461,$DK$11:$DP$11))","v":0}]
[{"$f":"'aktuelle Zahlen'!A458","v":0},{"$f":"'aktuelle Zahlen'!B458","v":"00:00:00"},{"$f":"'aktuelle Zahlen'!C458","v":0},{"$f":"'aktuelle Zahlen'!D458","v":0},{"$f":"'aktuelle Zahlen'!E458","v":0},{"$f":"'aktuelle Zahlen'!F458","v":0},{"$f":"'aktuelle Zahlen'!G458","v":0},{"$f":"'aktuelle Zahlen'!H458","v":0},{"$f":"'aktuelle Zahlen'!J458","v":0},null," ",{"$f":"SUM(COUNTIF($C462:$H462,$AL$11:$AQ$11))","v":0}," ",{"$f":"SUM(COUNTIF($C462:$H462,$AS$11:$AX$11))","v":0}," ",{"$f":"SUM(COUNTIF($C462:$H462,$AZ$11:$BE$11))","v":0}," ",{"$f":"SUM(COUNTIF($C462:$H462,$BG$11:$BL$11))","v":0}," ",{"$f":"SUM(COUNTIF($C462:$H462,$BN$11:$BS$11))","v":0}," ",{"$f":"SUM(COUNTIF($C462:$H462,$BU$11:$BZ$11))","v":0}," ",{"$f":"SUM(COUNTIF($C462:$H462,$CB$11:$CG$11))","v":0}," ",{"$f":"SUM(COUNTIF($C462:$H462,$CI$11:$CN$11))","v":0}," ",{"$f":"SUM(COUNTIF($C462:$H462,$CP$11:$CU$11))","v":0}," ",{"$f":"SUM(COUNTIF($C462:$H462,$CW$11:$DB$11))","v":0}," ",{"$f":"SUM(COUNTIF($C462:$H462,$DD$11:$DI$11))","v":0}," ",{"$f":"SUM(COUNTIF($C462:$H462,$DK$11:$DP$11))","v":0}]
[{"$f":"'aktuelle Zahlen'!A459","v":0},{"$f":"'aktuelle Zahlen'!B459","v":"00:00:00"},{"$f":"'aktuelle Zahlen'!C459","v":0},{"$f":"'aktuelle Zahlen'!D459","v":0},{"$f":"'aktuelle Zahlen'!E459","v":0},{"$f":"'aktuelle Zahlen'!F459","v":0},{"$f":"'aktuelle Zahlen'!G459","v":0},{"$f":"'aktuelle Zahlen'!H459","v":0},{"$f":"'aktuelle Zahlen'!J459","v":0},null," ",{"$f":"SUM(COUNTIF($C463:$H463,$AL$11:$AQ$11))","v":0}," ",{"$f":"SUM(COUNTIF($C463:$H463,$AS$11:$AX$11))","v":0}," ",{"$f":"SUM(COUNTIF($C463:$H463,$AZ$11:$BE$11))","v":0}," ",{"$f":"SUM(COUNTIF($C463:$H463,$BG$11:$BL$11))","v":0}," ",{"$f":"SUM(COUNTIF($C463:$H463,$BN$11:$BS$11))","v":0}," ",{"$f":"SUM(COUNTIF($C463:$H463,$BU$11:$BZ$11))","v":0}," ",{"$f":"SUM(COUNTIF($C463:$H463,$CB$11:$CG$11))","v":0}," ",{"$f":"SUM(COUNTIF($C463:$H463,$CI$11:$CN$11))","v":0}," ",{"$f":"SUM(COUNTIF($C463:$H463,$CP$11:$CU$11))","v":0}," ",{"$f":"SUM(COUNTIF($C463:$H463,$CW$11:$DB$11))","v":0}," ",{"$f":"SUM(COUNTIF($C463:$H463,$DD$11:$DI$11))","v":0}," ",{"$f":"SUM(COUNTIF($C463:$H463,$DK$11:$DP$11))","v":0}]
[{"$f":"'aktuelle Zahlen'!A460","v":0},{"$f":"'aktuelle Zahlen'!B460","v":"00:00:00"},{"$f":"'aktuelle Zahlen'!C460","v":0},{"$f":"'aktuelle Zahlen'!D460","v":0},{"$f":"'aktuelle Zahlen'!E460","v":0},{"$f":"'aktuelle Zahlen'!F460","v":0},{"$f":"'aktuelle Zahlen'!G460","v":0},{"$f":"'aktuelle Zahlen'!H460","v":0},{"$f":"'aktuelle Zahlen'!J460","v":0},null," ",{"$f":"SUM(COUNTIF($C464:$H464,$AL$11:$AQ$11))","v":0}," ",{"$f":"SUM(COUNTIF($C464:$H464,$AS$11:$AX$11))","v":0}," ",{"$f":"SUM(COUNTIF($C464:$H464,$AZ$11:$BE$11))","v":0}," ",{"$f":"SUM(COUNTIF($C464:$H464,$BG$11:$BL$11))","v":0}," ",{"$f":"SUM(COUNTIF($C464:$H464,$BN$11:$BS$11))","v":0}," ",{"$f":"SUM(COUNTIF($C464:$H464,$BU$11:$BZ$11))","v":0}," ",{"$f":"SUM(COUNTIF($C464:$H464,$CB$11:$CG$11))","v":0}," ",{"$f":"SUM(COUNTIF($C464:$H464,$CI$11:$CN$11))","v":0}," ",{"$f":"SUM(COUNTIF($C464:$H464,$CP$11:$CU$11))","v":0}," ",{"$f":"SUM(COUNTIF($C464:$H464,$CW$11:$DB$11))","v":0}," ",{"$f":"SUM(COUNTIF($C464:$H464,$DD$11:$DI$11))","v":0}," ",{"$f":"SUM(COUNTIF($C464:$H464,$DK$11:$DP$11))","v":0}]
[{"$f":"'aktuelle Zahlen'!A461","v":0},{"$f":"'aktuelle Zahlen'!B461","v":"00:00:00"},{"$f":"'aktuelle Zahlen'!C461","v":0},{"$f":"'aktuelle Zahlen'!D461","v":0},{"$f":"'aktuelle Zahlen'!E461","v":0},{"$f":"'aktuelle Zahlen'!F461","v":0},{"$f":"'aktuelle Zahlen'!G461","v":0},{"$f":"'aktuelle Zahlen'!H461","v":0},{"$f":"'aktuelle Zahlen'!J461","v":0},null,{"$f":"IF(L465>1,(IF($I465=$AJ$11,L465 & \"Z\",L465)),\" \")","v":" "},{"$f":"SUM(COUNTIF($C465:$H465,$AL$11:$AQ$11))","v":0},{"$f":"IF(N465>1,(IF($I465=$AJ$11,N465 & \"Z\",N465)),\" \")","v":" "},{"$f":"SUM(COUNTIF($C465:$H465,$AS$11:$AX$11))","v":0},{"$f":"IF(P465>1,(IF($I465=$AJ$11,P465 & \"Z\",P465)),\" \")","v":" "},{"$f":"SUM(COUNTIF($C465:$H465,$AZ$11:$BE$11))","v":0},{"$f":"IF(R465>1,(IF($I465=$AJ$11,R465 & \"Z\",R465)),\" \")","v":" "},{"$f":"SUM(COUNTIF($C465:$H465,$BG$11:$BL$11))","v":0},{"$f":"IF(T465>1,(IF($I465=$AJ$11,T465 & \"Z\",T465)),\" \")","v":" "},{"$f":"SUM(COUNTIF($C465:$H465,$BN$11:$BS$11))","v":0},{"$f":"IF(V465>1,(IF($I465=$AJ$11,V465 & \"Z\",V465)),\" \")","v":" "},{"$f":"SUM(COUNTIF($C465:$H465,$BU$11:$BZ$11))","v":0},{"$f":"IF(X465>1,(IF($I465=$AJ$11,X465 & \"Z\",X465)),\" \")","v":" "},{"$f":"SUM(COUNTIF($C465:$H465,$CB$11:$CG$11))","v":0},{"$f":"IF(Z465>1,(IF($I465=$AJ$11,Z465 & \"Z\",Z465)),\" \")","v":" "},{"$f":"SUM(COUNTIF($C465:$H465,$CI$11:$CN$11))","v":0},{"$f":"IF(AB465>1,(IF($I465=$AJ$11,AB465 & \"Z\",AB465)),\" \")","v":" "},{"$f":"SUM(COUNTIF($C465:$H465,$CP$11:$CU$11))","v":0},{"$f":"IF(AD465>1,(IF($I465=$AJ$11,AD465 & \"Z\",AD465)),\" \")","v":" "},{"$f":"SUM(COUNTIF($C465:$H465,$CW$11:$DB$11))","v":0},{"$f":"IF(AF465>1,(IF($I465=$AJ$11,AF465 & \"Z\",AF465)),\" \")","v":" "},{"$f":"SUM(COUNTIF($C465:$H465,$DD$11:$DI$11))","v":0},{"$f":"IF(AH465>1,(IF($I465=$AJ$11,AH465 & \"Z\",AH465)),\" \")","v":" "},{"$f":"SUM(COUNTIF($C465:$H465,$DK$11:$DP$11))","v":0}]
[{"$f":"'aktuelle Zahlen'!A462","v":0},{"$f":"'aktuelle Zahlen'!B462","v":"00:00:00"},{"$f":"'aktuelle Zahlen'!C462","v":0},{"$f":"'aktuelle Zahlen'!D462","v":0},{"$f":"'aktuelle Zahlen'!E462","v":0},{"$f":"'aktuelle Zahlen'!F462","v":0},{"$f":"'aktuelle Zahlen'!G462","v":0},{"$f":"'aktuelle Zahlen'!H462","v":0},{"$f":"'aktuelle Zahlen'!J462","v":0},null," ",{"$f":"SUM(COUNTIF($C466:$H466,$AL$11:$AQ$11))","v":0}," ",{"$f":"SUM(COUNTIF($C466:$H466,$AS$11:$AX$11))","v":0}," ",{"$f":"SUM(COUNTIF($C466:$H466,$AZ$11:$BE$11))","v":0}," ",{"$f":"SUM(COUNTIF($C466:$H466,$BG$11:$BL$11))","v":0}," ",{"$f":"SUM(COUNTIF($C466:$H466,$BN$11:$BS$11))","v":0}," ",{"$f":"SUM(COUNTIF($C466:$H466,$BU$11:$BZ$11))","v":0}," ",{"$f":"SUM(COUNTIF($C466:$H466,$CB$11:$CG$11))","v":0}," ",{"$f":"SUM(COUNTIF($C466:$H466,$CI$11:$CN$11))","v":0}," ",{"$f":"SUM(COUNTIF($C466:$H466,$CP$11:$CU$11))","v":0}," ",{"$f":"SUM(COUNTIF($C466:$H466,$CW$11:$DB$11))","v":0}," ",{"$f":"SUM(COUNTIF($C466:$H466,$DD$11:$DI$11))","v":0}," ",{"$f":"SUM(COUNTIF($C466:$H466,$DK$11:$DP$11))","v":0}]
[{"$f":"'aktuelle Zahlen'!A463","v":0},{"$f":"'aktuelle Zahlen'!B463","v":"00:00:00"},{"$f":"'aktuelle Zahlen'!C463","v":0},{"$f":"'aktuelle Zahlen'!D463","v":0},{"$f":"'aktuelle Zahlen'!E463","v":0},{"$f":"'aktuelle Zahlen'!F463","v":0},{"$f":"'aktuelle Zahlen'!G463","v":0},{"$f":"'aktuelle Zahlen'!H463","v":0},{"$f":"'aktuelle Zahlen'!J463","v":0},null," ",{"$f":"SUM(COUNTIF($C467:$H467,$AL$11:$AQ$11))","v":0}," ",{"$f":"SUM(COUNTIF($C467:$H467,$AS$11:$AX$11))","v":0}," ",{"$f":"SUM(COUNTIF($C467:$H467,$AZ$11:$BE$11))","v":0}," ",{"$f":"SUM(COUNTIF($C467:$H467,$BG$11:$BL$11))","v":0}," ",{"$f":"SUM(COUNTIF($C467:$H467,$BN$11:$BS$11))","v":0}," ",{"$f":"SUM(COUNTIF($C467:$H467,$BU$11:$BZ$11))","v":0}," ",{"$f":"SUM(COUNTIF($C467:$H467,$CB$11:$CG$11))","v":0}," ",{"$f":"SUM(COUNTIF($C467:$H467,$CI$11:$CN$11))","v":0}," ",{"$f":"SUM(COUNTIF($C467:$H467,$CP$11:$CU$11))","v":0}," ",{"$f":"SUM(COUNTIF($C467:$H467,$CW$11:$DB$11))","v":0}," ",{"$f":"SUM(COUNTIF($C467:$H467,$DD$11:$DI$11))","v":0}," ",{"$f":"SUM(COUNTIF($C467:$H467,$DK$11:$DP$11))","v":0}]
[{"$f":"'aktuelle Zahlen'!A464","v":0},{"$f":"'aktuelle Zahlen'!B464","v":"00:00:00"},{"$f":"'aktuelle Zahlen'!C464","v":0},{"$f":"'aktuelle Zahlen'!D464","v":0},{"$f":"'aktuelle Zahlen'!E464","v":0},{"$f":"'aktuelle Zahlen'!F464","v":0},{"$f":"'aktuelle Zahlen'!G464","v":0},{"$f":"'aktuelle Zahlen'!H464","v":0},{"$f":"'aktuelle Zahlen'!J464","v":0},null," ",{"$f":"SUM(COUNTIF($C468:$H468,$AL$11:$AQ$11))","v":0}," ",{"$f":"SUM(COUNTIF($C468:$H468,$AS$11:$AX$11))","v":0}," ",{"$f":"SUM(COUNTIF($C468:$H468,$AZ$11:$BE$11))","v":0}," ",{"$f":"SUM(COUNTIF($C468:$H468,$BG$11:$BL$11))","v":0}," ",{"$f":"SUM(COUNTIF($C468:$H468,$BN$11:$BS$11))","v":0}," ",{"$f":"SUM(COUNTIF($C468:$H468,$BU$11:$BZ$11))","v":0}," ",{"$f":"SUM(COUNTIF($C468:$H468,$CB$11:$CG$11))","v":0}," ",{"$f":"SUM(COUNTIF($C468:$H468,$CI$11:$CN$11))","v":0}," ",{"$f":"SUM(COUNTIF($C468:$H468,$CP$11:$CU$11))","v":0}," ",{"$f":"SUM(COUNTIF($C468:$H468,$CW$11:$DB$11))","v":0}," ",{"$f":"SUM(COUNTIF($C468:$H468,$DD$11:$DI$11))","v":0}," ",{"$f":"SUM(COUNTIF($C468:$H468,$DK$11:$DP$11))","v":0}]
[{"$f":"'aktuelle Zahlen'!A465","v":0},{"$f":"'aktuelle Zahlen'!B465","v":"00:00:00"},{"$f":"'aktuelle Zahlen'!C465","v":0},{"$f":"'aktuelle Zahlen'!D465","v":0},{"$f":"'aktuelle Zahlen'!E465","v":0},{"$f":"'aktuelle Zahlen'!F465","v":0},{"$f":"'aktuelle Zahlen'!G465","v":0},{"$f":"'aktuelle Zahlen'!H465","v":0},{"$f":"'aktuelle Zahlen'!J465","v":0},null," ",{"$f":"SUM(COUNTIF($C469:$H469,$AL$11:$AQ$11))","v":0}," ",{"$f":"SUM(COUNTIF($C469:$H469,$AS$11:$AX$11))","v":0}," ",{"$f":"SUM(COUNTIF($C469:$H469,$AZ$11:$BE$11))","v":0}," ",{"$f":"SUM(COUNTIF($C469:$H469,$BG$11:$BL$11))","v":0}," ",{"$f":"SUM(COUNTIF($C469:$H469,$BN$11:$BS$11))","v":0}," ",{"$f":"SUM(COUNTIF($C469:$H469,$BU$11:$BZ$11))","v":0}," ",{"$f":"SUM(COUNTIF($C469:$H469,$CB$11:$CG$11))","v":0}," ",{"$f":"SUM(COUNTIF($C469:$H469,$CI$11:$CN$11))","v":0}," ",{"$f":"SUM(COUNTIF($C469:$H469,$CP$11:$CU$11))","v":0}," ",{"$f":"SUM(COUNTIF($C469:$H469,$CW$11:$DB$11))","v":0}," ",{"$f":"SUM(COUNTIF($C469:$H469,$DD$11:$DI$11))","v":0}," ",{"$f":"SUM(COUNTIF($C469:$H469,$DK$11:$DP$11))","v":0}]
[{"$f":"'aktuelle Zahlen'!A466","v":0},{"$f":"'aktuelle Zahlen'!B466","v":"00:00:00"},{"$f":"'aktuelle Zahlen'!C466","v":0},{"$f":"'aktuelle Zahlen'!D466","v":0},{"$f":"'aktuelle Zahlen'!E466","v":0},{"$f":"'aktuelle Zahlen'!F466","v":0},{"$f":"'aktuelle Zahlen'!G466","v":0},{"$f":"'aktuelle Zahlen'!H466","v":0},{"$f":"'aktuelle Zahlen'!J466","v":0},null," ",{"$f":"SUM(COUNTIF($C470:$H470,$AL$11:$AQ$11))","v":0}," ",{"$f":"SUM(COUNTIF($C470:$H470,$AS$11:$AX$11))","v":0}," ",{"$f":"SUM(COUNTIF($C470:$H470,$AZ$11:$BE$11))","v":0}," ",{"$f":"SUM(COUNTIF($C470:$H470,$BG$11:$BL$11))","v":0}," ",{"$f":"SUM(COUNTIF($C470:$H470,$BN$11:$BS$11))","v":0}," ",{"$f":"SUM(COUNTIF($C470:$H470,$BU$11:$BZ$11))","v":0}," ",{"$f":"SUM(COUNTIF($C470:$H470,$CB$11:$CG$11))","v":0}," ",{"$f":"SUM(COUNTIF($C470:$H470,$CI$11:$CN$11))","v":0}," ",{"$f":"SUM(COUNTIF($C470:$H470,$CP$11:$CU$11))","v":0}," ",{"$f":"SUM(COUNTIF($C470:$H470,$CW$11:$DB$11))","v":0}," ",{"$f":"SUM(COUNTIF($C470:$H470,$DD$11:$DI$11))","v":0}," ",{"$f":"SUM(COUNTIF($C470:$H470,$DK$11:$DP$11))","v":0}]
[{"$f":"'aktuelle Zahlen'!A467","v":0},{"$f":"'aktuelle Zahlen'!B467","v":"00:00:00"},{"$f":"'aktuelle Zahlen'!C467","v":0},{"$f":"'aktuelle Zahlen'!D467","v":0},{"$f":"'aktuelle Zahlen'!E467","v":0},{"$f":"'aktuelle Zahlen'!F467","v":0},{"$f":"'aktuelle Zahlen'!G467","v":0},{"$f":"'aktuelle Zahlen'!H467","v":0},{"$f":"'aktuelle Zahlen'!J467","v":0},null," ",{"$f":"SUM(COUNTIF($C471:$H471,$AL$11:$AQ$11))","v":0}," ",{"$f":"SUM(COUNTIF($C471:$H471,$AS$11:$AX$11))","v":0}," ",{"$f":"SUM(COUNTIF($C471:$H471,$AZ$11:$BE$11))","v":0}," ",{"$f":"SUM(COUNTIF($C471:$H471,$BG$11:$BL$11))","v":0}," ",{"$f":"SUM(COUNTIF($C471:$H471,$BN$11:$BS$11))","v":0}," ",{"$f":"SUM(COUNTIF($C471:$H471,$BU$11:$BZ$11))","v":0}," ",{"$f":"SUM(COUNTIF($C471:$H471,$CB$11:$CG$11))","v":0}," ",{"$f":"SUM(COUNTIF($C471:$H471,$CI$11:$CN$11))","v":0}," ",{"$f":"SUM(COUNTIF($C471:$H471,$CP$11:$CU$11))","v":0}," ",{"$f":"SUM(COUNTIF($C471:$H471,$CW$11:$DB$11))","v":0}," ",{"$f":"SUM(COUNTIF($C471:$H471,$DD$11:$DI$11))","v":0}," ",{"$f":"SUM(COUNTIF($C471:$H471,$DK$11:$DP$11))","v":0}]
[{"$f":"'aktuelle Zahlen'!A468","v":0},{"$f":"'aktuelle Zahlen'!B468","v":"00:00:00"},{"$f":"'aktuelle Zahlen'!C468","v":0},{"$f":"'aktuelle Zahlen'!D468","v":0},{"$f":"'aktuelle Zahlen'!E468","v":0},{"$f":"'aktuelle Zahlen'!F468","v":0},{"$f":"'aktuelle Zahlen'!G468","v":0},{"$f":"'aktuelle Zahlen'!H468","v":0},{"$f":"'aktuelle Zahlen'!J468","v":0},null," ",{"$f":"SUM(COUNTIF($C472:$H472,$AL$11:$AQ$11))","v":0}," ",{"$f":"SUM(COUNTIF($C472:$H472,$AS$11:$AX$11))","v":0}," ",{"$f":"SUM(COUNTIF($C472:$H472,$AZ$11:$BE$11))","v":0}," ",{"$f":"SUM(COUNTIF($C472:$H472,$BG$11:$BL$11))","v":0}," ",{"$f":"SUM(COUNTIF($C472:$H472,$BN$11:$BS$11))","v":0}," ",{"$f":"SUM(COUNTIF($C472:$H472,$BU$11:$BZ$11))","v":0}," ",{"$f":"SUM(COUNTIF($C472:$H472,$CB$11:$CG$11))","v":0}," ",{"$f":"SUM(COUNTIF($C472:$H472,$CI$11:$CN$11))","v":0}," ",{"$f":"SUM(COUNTIF($C472:$H472,$CP$11:$CU$11))","v":0}," ",{"$f":"SUM(COUNTIF($C472:$H472,$CW$11:$DB$11))","v":0}," ",{"$f":"SUM(COUNTIF($C472:$H472,$DD$11:$DI$11))","v":0}," ",{"$f":"SUM(COUNTIF($C472:$H472,$DK$11:$DP$11))","v":0}]
[{"$f":"'aktuelle Zahlen'!A469","v":0},{"$f":"'aktuelle Zahlen'!B469","v":"00:00:00"},{"$f":"'aktuelle Zahlen'!C469","v":0},{"$f":"'aktuelle Zahlen'!D469","v":0},{"$f":"'aktuelle Zahlen'!E469","v":0},{"$f":"'aktuelle Zahlen'!F469","v":0},{"$f":"'aktuelle Zahlen'!G469","v":0},{"$f":"'aktuelle Zahlen'!H469","v":0},{"$f":"'aktuelle Zahlen'!J469","v":0},null," ",{"$f":"SUM(COUNTIF($C473:$H473,$AL$11:$AQ$11))","v":0}," ",{"$f":"SUM(COUNTIF($C473:$H473,$AS$11:$AX$11))","v":0}," ",{"$f":"SUM(COUNTIF($C473:$H473,$AZ$11:$BE$11))","v":0}," ",{"$f":"SUM(COUNTIF($C473:$H473,$BG$11:$BL$11))","v":0}," ",{"$f":"SUM(COUNTIF($C473:$H473,$BN$11:$BS$11))","v":0}," ",{"$f":"SUM(COUNTIF($C473:$H473,$BU$11:$BZ$11))","v":0}," ",{"$f":"SUM(COUNTIF($C473:$H473,$CB$11:$CG$11))","v":0}," ",{"$f":"SUM(COUNTIF($C473:$H473,$CI$11:$CN$11))","v":0}," ",{"$f":"SUM(COUNTIF($C473:$H473,$CP$11:$CU$11))","v":0}," ",{"$f":"SUM(COUNTIF($C473:$H473,$CW$11:$DB$11))","v":0}," ",{"$f":"SUM(COUNTIF($C473:$H473,$DD$11:$DI$11))","v":0}," ",{"$f":"SUM(COUNTIF($C473:$H473,$DK$11:$DP$11))","v":0}]
[{"$f":"'aktuelle Zahlen'!A470","v":0},{"$f":"'aktuelle Zahlen'!B470","v":"00:00:00"},{"$f":"'aktuelle Zahlen'!C470","v":0},{"$f":"'aktuelle Zahlen'!D470","v":0},{"$f":"'aktuelle Zahlen'!E470","v":0},{"$f":"'aktuelle Zahlen'!F470","v":0},{"$f":"'aktuelle Zahlen'!G470","v":0},{"$f":"'aktuelle Zahlen'!H470","v":0},{"$f":"'aktuelle Zahlen'!J470","v":0},null," ",{"$f":"SUM(COUNTIF($C474:$H474,$AL$11:$AQ$11))","v":0}," ",{"$f":"SUM(COUNTIF($C474:$H474,$AS$11:$AX$11))","v":0}," ",{"$f":"SUM(COUNTIF($C474:$H474,$AZ$11:$BE$11))","v":0}," ",{"$f":"SUM(COUNTIF($C474:$H474,$BG$11:$BL$11))","v":0}," ",{"$f":"SUM(COUNTIF($C474:$H474,$BN$11:$BS$11))","v":0}," ",{"$f":"SUM(COUNTIF($C474:$H474,$BU$11:$BZ$11))","v":0}," ",{"$f":"SUM(COUNTIF($C474:$H474,$CB$11:$CG$11))","v":0}," ",{"$f":"SUM(COUNTIF($C474:$H474,$CI$11:$CN$11))","v":0}," ",{"$f":"SUM(COUNTIF($C474:$H474,$CP$11:$CU$11))","v":0}," ",{"$f":"SUM(COUNTIF($C474:$H474,$CW$11:$DB$11))","v":0}," ",{"$f":"SUM(COUNTIF($C474:$H474,$DD$11:$DI$11))","v":0}," ",{"$f":"SUM(COUNTIF($C474:$H474,$DK$11:$DP$11))","v":0}]
[{"$f":"'aktuelle Zahlen'!A471","v":0},{"$f":"'aktuelle Zahlen'!B471","v":"00:00:00"},{"$f":"'aktuelle Zahlen'!C471","v":0},{"$f":"'aktuelle Zahlen'!D471","v":0},{"$f":"'aktuelle Zahlen'!E471","v":0},{"$f":"'aktuelle Zahlen'!F471","v":0},{"$f":"'aktuelle Zahlen'!G471","v":0},{"$f":"'aktuelle Zahlen'!H471","v":0},{"$f":"'aktuelle Zahlen'!J471","v":0},null," ",{"$f":"SUM(COUNTIF($C475:$H475,$AL$11:$AQ$11))","v":0}," ",{"$f":"SUM(COUNTIF($C475:$H475,$AS$11:$AX$11))","v":0}," ",{"$f":"SUM(COUNTIF($C475:$H475,$AZ$11:$BE$11))","v":0}," ",{"$f":"SUM(COUNTIF($C475:$H475,$BG$11:$BL$11))","v":0}," ",{"$f":"SUM(COUNTIF($C475:$H475,$BN$11:$BS$11))","v":0}," ",{"$f":"SUM(COUNTIF($C475:$H475,$BU$11:$BZ$11))","v":0}," ",{"$f":"SUM(COUNTIF($C475:$H475,$CB$11:$CG$11))","v":0}," ",{"$f":"SUM(COUNTIF($C475:$H475,$CI$11:$CN$11))","v":0}," ",{"$f":"SUM(COUNTIF($C475:$H475,$CP$11:$CU$11))","v":0}," ",{"$f":"SUM(COUNTIF($C475:$H475,$CW$11:$DB$11))","v":0}," ",{"$f":"SUM(COUNTIF($C475:$H475,$DD$11:$DI$11))","v":0}," ",{"$f":"SUM(COUNTIF($C475:$H475,$DK$11:$DP$11))","v":0}]
[{"$f":"'aktuelle Zahlen'!A472","v":0},{"$f":"'aktuelle Zahlen'!B472","v":"00:00:00"},{"$f":"'aktuelle Zahlen'!C472","v":0},{"$f":"'aktuelle Zahlen'!D472","v":0},{"$f":"'aktuelle Zahlen'!E472","v":0},{"$f":"'aktuelle Zahlen'!F472","v":0},{"$f":"'aktuelle Zahlen'!G472","v":0},{"$f":"'aktuelle Zahlen'!H472","v":0},{"$f":"'aktuelle Zahlen'!J472","v":0},null," ",{"$f":"SUM(COUNTIF($C476:$H476,$AL$11:$AQ$11))","v":0}," ",{"$f":"SUM(COUNTIF($C476:$H476,$AS$11:$AX$11))","v":0}," ",{"$f":"SUM(COUNTIF($C476:$H476,$AZ$11:$BE$11))","v":0}," ",{"$f":"SUM(COUNTIF($C476:$H476,$BG$11:$BL$11))","v":0}," ",{"$f":"SUM(COUNTIF($C476:$H476,$BN$11:$BS$11))","v":0}," ",{"$f":"SUM(COUNTIF($C476:$H476,$BU$11:$BZ$11))","v":0}," ",{"$f":"SUM(COUNTIF($C476:$H476,$CB$11:$CG$11))","v":0}," ",{"$f":"SUM(COUNTIF($C476:$H476,$CI$11:$CN$11))","v":0}," ",{"$f":"SUM(COUNTIF($C476:$H476,$CP$11:$CU$11))","v":0}," ",{"$f":"SUM(COUNTIF($C476:$H476,$CW$11:$DB$11))","v":0}," ",{"$f":"SUM(COUNTIF($C476:$H476,$DD$11:$DI$11))","v":0}," ",{"$f":"SUM(COUNTIF($C476:$H476,$DK$11:$DP$11))","v":0}]
[{"$f":"'aktuelle Zahlen'!A473","v":0},{"$f":"'aktuelle Zahlen'!B473","v":"00:00:00"},{"$f":"'aktuelle Zahlen'!C473","v":0},{"$f":"'aktuelle Zahlen'!D473","v":0},{"$f":"'aktuelle Zahlen'!E473","v":0},{"$f":"'aktuelle Zahlen'!F473","v":0},{"$f":"'aktuelle Zahlen'!G473","v":0},{"$f":"'aktuelle Zahlen'!H473","v":0},{"$f":"'aktuelle Zahlen'!J473","v":0},null," ",{"$f":"SUM(COUNTIF($C477:$H477,$AL$11:$AQ$11))","v":0}," ",{"$f":"SUM(COUNTIF($C477:$H477,$AS$11:$AX$11))","v":0}," ",{"$f":"SUM(COUNTIF($C477:$H477,$AZ$11:$BE$11))","v":0}," ",{"$f":"SUM(COUNTIF($C477:$H477,$BG$11:$BL$11))","v":0}," ",{"$f":"SUM(COUNTIF($C477:$H477,$BN$11:$BS$11))","v":0}," ",{"$f":"SUM(COUNTIF($C477:$H477,$BU$11:$BZ$11))","v":0}," ",{"$f":"SUM(COUNTIF($C477:$H477,$CB$11:$CG$11))","v":0}," ",{"$f":"SUM(COUNTIF($C477:$H477,$CI$11:$CN$11))","v":0}," ",{"$f":"SUM(COUNTIF($C477:$H477,$CP$11:$CU$11))","v":0}," ",{"$f":"SUM(COUNTIF($C477:$H477,$CW$11:$DB$11))","v":0}," ",{"$f":"SUM(COUNTIF($C477:$H477,$DD$11:$DI$11))","v":0}," ",{"$f":"SUM(COUNTIF($C477:$H477,$DK$11:$DP$11))","v":0}]
[{"$f":"'aktuelle Zahlen'!A474","v":0},{"$f":"'aktuelle Zahlen'!B474","v":"00:00:00"},{"$f":"'aktuelle Zahlen'!C474","v":0},{"$f":"'aktuelle Zahlen'!D474","v":0},{"$f":"'aktuelle Zahlen'!E474","v":0},{"$f":"'aktuelle Zahlen'!F474","v":0},{"$f":"'aktuelle Zahlen'!G474","v":0},{"$f":"'aktuelle Zahlen'!H474","v":0},{"$f":"'aktuelle Zahlen'!J474","v":0},null," ",{"$f":"SUM(COUNTIF($C478:$H478,$AL$11:$AQ$11))","v":0}," ",{"$f":"SUM(COUNTIF($C478:$H478,$AS$11:$AX$11))","v":0}," ",{"$f":"SUM(COUNTIF($C478:$H478,$AZ$11:$BE$11))","v":0}," ",{"$f":"SUM(COUNTIF($C478:$H478,$BG$11:$BL$11))","v":0}," ",{"$f":"SUM(COUNTIF($C478:$H478,$BN$11:$BS$11))","v":0}," ",{"$f":"SUM(COUNTIF($C478:$H478,$BU$11:$BZ$11))","v":0}," ",{"$f":"SUM(COUNTIF($C478:$H478,$CB$11:$CG$11))","v":0}," ",{"$f":"SUM(COUNTIF($C478:$H478,$CI$11:$CN$11))","v":0}," ",{"$f":"SUM(COUNTIF($C478:$H478,$CP$11:$CU$11))","v":0}," ",{"$f":"SUM(COUNTIF($C478:$H478,$CW$11:$DB$11))","v":0}," ",{"$f":"SUM(COUNTIF($C478:$H478,$DD$11:$DI$11))","v":0}," ",{"$f":"SUM(COUNTIF($C478:$H478,$DK$11:$DP$11))","v":0}]
[{"$f":"'aktuelle Zahlen'!A475","v":0},{"$f":"'aktuelle Zahlen'!B475","v":"00:00:00"},{"$f":"'aktuelle Zahlen'!C475","v":0},{"$f":"'aktuelle Zahlen'!D475","v":0},{"$f":"'aktuelle Zahlen'!E475","v":0},{"$f":"'aktuelle Zahlen'!F475","v":0},{"$f":"'aktuelle Zahlen'!G475","v":0},{"$f":"'aktuelle Zahlen'!H475","v":0},{"$f":"'aktuelle Zahlen'!J475","v":0},null," ",{"$f":"SUM(COUNTIF($C479:$H479,$AL$11:$AQ$11))","v":0}," ",{"$f":"SUM(COUNTIF($C479:$H479,$AS$11:$AX$11))","v":0}," ",{"$f":"SUM(COUNTIF($C479:$H479,$AZ$11:$BE$11))","v":0}," ",{"$f":"SUM(COUNTIF($C479:$H479,$BG$11:$BL$11))","v":0}," ",{"$f":"SUM(COUNTIF($C479:$H479,$BN$11:$BS$11))","v":0}," ",{"$f":"SUM(COUNTIF($C479:$H479,$BU$11:$BZ$11))","v":0}," ",{"$f":"SUM(COUNTIF($C479:$H479,$CB$11:$CG$11))","v":0}," ",{"$f":"SUM(COUNTIF($C479:$H479,$CI$11:$CN$11))","v":0}," ",{"$f":"SUM(COUNTIF($C479:$H479,$CP$11:$CU$11))","v":0}," ",{"$f":"SUM(COUNTIF($C479:$H479,$CW$11:$DB$11))","v":0}," ",{"$f":"SUM(COUNTIF($C479:$H479,$DD$11:$DI$11))","v":0}," ",{"$f":"SUM(COUNTIF($C479:$H479,$DK$11:$DP$11))","v":0}]
[{"$f":"'aktuelle Zahlen'!A476","v":0},{"$f":"'aktuelle Zahlen'!B476","v":"00:00:00"},{"$f":"'aktuelle Zahlen'!C476","v":0},{"$f":"'aktuelle Zahlen'!D476","v":0},{"$f":"'aktuelle Zahlen'!E476","v":0},{"$f":"'aktuelle Zahlen'!F476","v":0},{"$f":"'aktuelle Zahlen'!G476","v":0},{"$f":"'aktuelle Zahlen'!H476","v":0},{"$f":"'aktuelle Zahlen'!J476","v":0},null," ",{"$f":"SUM(COUNTIF($C480:$H480,$AL$11:$AQ$11))","v":0}," ",{"$f":"SUM(COUNTIF($C480:$H480,$AS$11:$AX$11))","v":0}," ",{"$f":"SUM(COUNTIF($C480:$H480,$AZ$11:$BE$11))","v":0}," ",{"$f":"SUM(COUNTIF($C480:$H480,$BG$11:$BL$11))","v":0}," ",{"$f":"SUM(COUNTIF($C480:$H480,$BN$11:$BS$11))","v":0}," ",{"$f":"SUM(COUNTIF($C480:$H480,$BU$11:$BZ$11))","v":0}," ",{"$f":"SUM(COUNTIF($C480:$H480,$CB$11:$CG$11))","v":0}," ",{"$f":"SUM(COUNTIF($C480:$H480,$CI$11:$CN$11))","v":0}," ",{"$f":"SUM(COUNTIF($C480:$H480,$CP$11:$CU$11))","v":0}," ",{"$f":"SUM(COUNTIF($C480:$H480,$CW$11:$DB$11))","v":0}," ",{"$f":"SUM(COUNTIF($C480:$H480,$DD$11:$DI$11))","v":0}," ",{"$f":"SUM(COUNTIF($C480:$H480,$DK$11:$DP$11))","v":0}]
[{"$f":"'aktuelle Zahlen'!A477","v":0},{"$f":"'aktuelle Zahlen'!B477","v":"00:00:00"},{"$f":"'aktuelle Zahlen'!C477","v":0},{"$f":"'aktuelle Zahlen'!D477","v":0},{"$f":"'aktuelle Zahlen'!E477","v":0},{"$f":"'aktuelle Zahlen'!F477","v":0},{"$f":"'aktuelle Zahlen'!G477","v":0},{"$f":"'aktuelle Zahlen'!H477","v":0},{"$f":"'aktuelle Zahlen'!J477","v":0},null," ",{"$f":"SUM(COUNTIF($C481:$H481,$AL$11:$AQ$11))","v":0}," ",{"$f":"SUM(COUNTIF($C481:$H481,$AS$11:$AX$11))","v":0}," ",{"$f":"SUM(COUNTIF($C481:$H481,$AZ$11:$BE$11))","v":0}," ",{"$f":"SUM(COUNTIF($C481:$H481,$BG$11:$BL$11))","v":0}," ",{"$f":"SUM(COUNTIF($C481:$H481,$BN$11:$BS$11))","v":0}," ",{"$f":"SUM(COUNTIF($C481:$H481,$BU$11:$BZ$11))","v":0}," ",{"$f":"SUM(COUNTIF($C481:$H481,$CB$11:$CG$11))","v":0}," ",{"$f":"SUM(COUNTIF($C481:$H481,$CI$11:$CN$11))","v":0}," ",{"$f":"SUM(COUNTIF($C481:$H481,$CP$11:$CU$11))","v":0}," ",{"$f":"SUM(COUNTIF($C481:$H481,$CW$11:$DB$11))","v":0}," ",{"$f":"SUM(COUNTIF($C481:$H481,$DD$11:$DI$11))","v":0}," ",{"$f":"SUM(COUNTIF($C481:$H481,$DK$11:$DP$11))","v":0}]
[{"$f":"'aktuelle Zahlen'!A478","v":0},{"$f":"'aktuelle Zahlen'!B478","v":"00:00:00"},{"$f":"'aktuelle Zahlen'!C478","v":0},{"$f":"'aktuelle Zahlen'!D478","v":0},{"$f":"'aktuelle Zahlen'!E478","v":0},{"$f":"'aktuelle Zahlen'!F478","v":0},{"$f":"'aktuelle Zahlen'!G478","v":0},{"$f":"'aktuelle Zahlen'!H478","v":0},{"$f":"'aktuelle Zahlen'!J478","v":0},null," ",{"$f":"SUM(COUNTIF($C482:$H482,$AL$11:$AQ$11))","v":0}," ",{"$f":"SUM(COUNTIF($C482:$H482,$AS$11:$AX$11))","v":0}," ",{"$f":"SUM(COUNTIF($C482:$H482,$AZ$11:$BE$11))","v":0}," ",{"$f":"SUM(COUNTIF($C482:$H482,$BG$11:$BL$11))","v":0}," ",{"$f":"SUM(COUNTIF($C482:$H482,$BN$11:$BS$11))","v":0}," ",{"$f":"SUM(COUNTIF($C482:$H482,$BU$11:$BZ$11))","v":0}," ",{"$f":"SUM(COUNTIF($C482:$H482,$CB$11:$CG$11))","v":0}," ",{"$f":"SUM(COUNTIF($C482:$H482,$CI$11:$CN$11))","v":0}," ",{"$f":"SUM(COUNTIF($C482:$H482,$CP$11:$CU$11))","v":0}," ",{"$f":"SUM(COUNTIF($C482:$H482,$CW$11:$DB$11))","v":0}," ",{"$f":"SUM(COUNTIF($C482:$H482,$DD$11:$DI$11))","v":0}," ",{"$f":"SUM(COUNTIF($C482:$H482,$DK$11:$DP$11))","v":0}]
[{"$f":"'aktuelle Zahlen'!A479","v":0},{"$f":"'aktuelle Zahlen'!B479","v":"00:00:00"},{"$f":"'aktuelle Zahlen'!C479","v":0},{"$f":"'aktuelle Zahlen'!D479","v":0},{"$f":"'aktuelle Zahlen'!E479","v":0},{"$f":"'aktuelle Zahlen'!F479","v":0},{"$f":"'aktuelle Zahlen'!G479","v":0},{"$f":"'aktuelle Zahlen'!H479","v":0},{"$f":"'aktuelle Zahlen'!J479","v":0},null," ",{"$f":"SUM(COUNTIF($C483:$H483,$AL$11:$AQ$11))","v":0}," ",{"$f":"SUM(COUNTIF($C483:$H483,$AS$11:$AX$11))","v":0}," ",{"$f":"SUM(COUNTIF($C483:$H483,$AZ$11:$BE$11))","v":0}," ",{"$f":"SUM(COUNTIF($C483:$H483,$BG$11:$BL$11))","v":0}," ",{"$f":"SUM(COUNTIF($C483:$H483,$BN$11:$BS$11))","v":0}," ",{"$f":"SUM(COUNTIF($C483:$H483,$BU$11:$BZ$11))","v":0}," ",{"$f":"SUM(COUNTIF($C483:$H483,$CB$11:$CG$11))","v":0}," ",{"$f":"SUM(COUNTIF($C483:$H483,$CI$11:$CN$11))","v":0}," ",{"$f":"SUM(COUNTIF($C483:$H483,$CP$11:$CU$11))","v":0}," ",{"$f":"SUM(COUNTIF($C483:$H483,$CW$11:$DB$11))","v":0}," ",{"$f":"SUM(COUNTIF($C483:$H483,$DD$11:$DI$11))","v":0}," ",{"$f":"SUM(COUNTIF($C483:$H483,$DK$11:$DP$11))","v":0}]
[{"$f":"'aktuelle Zahlen'!A480","v":0},{"$f":"'aktuelle Zahlen'!B480","v":"00:00:00"},{"$f":"'aktuelle Zahlen'!C480","v":0},{"$f":"'aktuelle Zahlen'!D480","v":0},{"$f":"'aktuelle Zahlen'!E480","v":0},{"$f":"'aktuelle Zahlen'!F480","v":0},{"$f":"'aktuelle Zahlen'!G480","v":0},{"$f":"'aktuelle Zahlen'!H480","v":0},{"$f":"'aktuelle Zahlen'!J480","v":0},null," ",{"$f":"SUM(COUNTIF($C484:$H484,$AL$11:$AQ$11))","v":0}," ",{"$f":"SUM(COUNTIF($C484:$H484,$AS$11:$AX$11))","v":0}," ",{"$f":"SUM(COUNTIF($C484:$H484,$AZ$11:$BE$11))","v":0}," ",{"$f":"SUM(COUNTIF($C484:$H484,$BG$11:$BL$11))","v":0}," ",{"$f":"SUM(COUNTIF($C484:$H484,$BN$11:$BS$11))","v":0}," ",{"$f":"SUM(COUNTIF($C484:$H484,$BU$11:$BZ$11))","v":0}," ",{"$f":"SUM(COUNTIF($C484:$H484,$CB$11:$CG$11))","v":0}," ",{"$f":"SUM(COUNTIF($C484:$H484,$CI$11:$CN$11))","v":0}," ",{"$f":"SUM(COUNTIF($C484:$H484,$CP$11:$CU$11))","v":0}," ",{"$f":"SUM(COUNTIF($C484:$H484,$CW$11:$DB$11))","v":0}," ",{"$f":"SUM(COUNTIF($C484:$H484,$DD$11:$DI$11))","v":0}," ",{"$f":"SUM(COUNTIF($C484:$H484,$DK$11:$DP$11))","v":0}]
[{"$f":"'aktuelle Zahlen'!A481","v":0},{"$f":"'aktuelle Zahlen'!B481","v":"00:00:00"},{"$f":"'aktuelle Zahlen'!C481","v":0},{"$f":"'aktuelle Zahlen'!D481","v":0},{"$f":"'aktuelle Zahlen'!E481","v":0},{"$f":"'aktuelle Zahlen'!F481","v":0},{"$f":"'aktuelle Zahlen'!G481","v":0},{"$f":"'aktuelle Zahlen'!H481","v":0},{"$f":"'aktuelle Zahlen'!J481","v":0},null," ",{"$f":"SUM(COUNTIF($C485:$H485,$AL$11:$AQ$11))","v":0}," ",{"$f":"SUM(COUNTIF($C485:$H485,$AS$11:$AX$11))","v":0}," ",{"$f":"SUM(COUNTIF($C485:$H485,$AZ$11:$BE$11))","v":0}," ",{"$f":"SUM(COUNTIF($C485:$H485,$BG$11:$BL$11))","v":0}," ",{"$f":"SUM(COUNTIF($C485:$H485,$BN$11:$BS$11))","v":0}," ",{"$f":"SUM(COUNTIF($C485:$H485,$BU$11:$BZ$11))","v":0}," ",{"$f":"SUM(COUNTIF($C485:$H485,$CB$11:$CG$11))","v":0}," ",{"$f":"SUM(COUNTIF($C485:$H485,$CI$11:$CN$11))","v":0}," ",{"$f":"SUM(COUNTIF($C485:$H485,$CP$11:$CU$11))","v":0}," ",{"$f":"SUM(COUNTIF($C485:$H485,$CW$11:$DB$11))","v":0}," ",{"$f":"SUM(COUNTIF($C485:$H485,$DD$11:$DI$11))","v":0}," ",{"$f":"SUM(COUNTIF($C485:$H485,$DK$11:$DP$11))","v":0}]
[{"$f":"'aktuelle Zahlen'!A482","v":0},{"$f":"'aktuelle Zahlen'!B482","v":"00:00:00"},{"$f":"'aktuelle Zahlen'!C482","v":0},{"$f":"'aktuelle Zahlen'!D482","v":0},{"$f":"'aktuelle Zahlen'!E482","v":0},{"$f":"'aktuelle Zahlen'!F482","v":0},{"$f":"'aktuelle Zahlen'!G482","v":0},{"$f":"'aktuelle Zahlen'!H482","v":0},{"$f":"'aktuelle Zahlen'!J482","v":0},null," ",{"$f":"SUM(COUNTIF($C486:$H486,$AL$11:$AQ$11))","v":0}," ",{"$f":"SUM(COUNTIF($C486:$H486,$AS$11:$AX$11))","v":0}," ",{"$f":"SUM(COUNTIF($C486:$H486,$AZ$11:$BE$11))","v":0}," ",{"$f":"SUM(COUNTIF($C486:$H486,$BG$11:$BL$11))","v":0}," ",{"$f":"SUM(COUNTIF($C486:$H486,$BN$11:$BS$11))","v":0}," ",{"$f":"SUM(COUNTIF($C486:$H486,$BU$11:$BZ$11))","v":0}," ",{"$f":"SUM(COUNTIF($C486:$H486,$CB$11:$CG$11))","v":0}," ",{"$f":"SUM(COUNTIF($C486:$H486,$CI$11:$CN$11))","v":0}," ",{"$f":"SUM(COUNTIF($C486:$H486,$CP$11:$CU$11))","v":0}," ",{"$f":"SUM(COUNTIF($C486:$H486,$CW$11:$DB$11))","v":0}," ",{"$f":"SUM(COUNTIF($C486:$H486,$DD$11:$DI$11))","v":0}," ",{"$f":"SUM(COUNTIF($C486:$H486,$DK$11:$DP$11))","v":0}]
[{"$f":"'aktuelle Zahlen'!A483","v":0},{"$f":"'aktuelle Zahlen'!B483","v":"00:00:00"},{"$f":"'aktuelle Zahlen'!C483","v":0},{"$f":"'aktuelle Zahlen'!D483","v":0},{"$f":"'aktuelle Zahlen'!E483","v":0},{"$f":"'aktuelle Zahlen'!F483","v":0},{"$f":"'aktuelle Zahlen'!G483","v":0},{"$f":"'aktuelle Zahlen'!H483","v":0},{"$f":"'aktuelle Zahlen'!J483","v":0},null," ",{"$f":"SUM(COUNTIF($C487:$H487,$AL$11:$AQ$11))","v":0}," ",{"$f":"SUM(COUNTIF($C487:$H487,$AS$11:$AX$11))","v":0}," ",{"$f":"SUM(COUNTIF($C487:$H487,$AZ$11:$BE$11))","v":0}," ",{"$f":"SUM(COUNTIF($C487:$H487,$BG$11:$BL$11))","v":0}," ",{"$f":"SUM(COUNTIF($C487:$H487,$BN$11:$BS$11))","v":0}," ",{"$f":"SUM(COUNTIF($C487:$H487,$BU$11:$BZ$11))","v":0}," ",{"$f":"SUM(COUNTIF($C487:$H487,$CB$11:$CG$11))","v":0}," ",{"$f":"SUM(COUNTIF($C487:$H487,$CI$11:$CN$11))","v":0}," ",{"$f":"SUM(COUNTIF($C487:$H487,$CP$11:$CU$11))","v":0}," ",{"$f":"SUM(COUNTIF($C487:$H487,$CW$11:$DB$11))","v":0}," ",{"$f":"SUM(COUNTIF($C487:$H487,$DD$11:$DI$11))","v":0}," ",{"$f":"SUM(COUNTIF($C487:$H487,$DK$11:$DP$11))","v":0}]
[{"$f":"'aktuelle Zahlen'!A484","v":0},{"$f":"'aktuelle Zahlen'!B484","v":"00:00:00"},{"$f":"'aktuelle Zahlen'!C484","v":0},{"$f":"'aktuelle Zahlen'!D484","v":0},{"$f":"'aktuelle Zahlen'!E484","v":0},{"$f":"'aktuelle Zahlen'!F484","v":0},{"$f":"'aktuelle Zahlen'!G484","v":0},{"$f":"'aktuelle Zahlen'!H484","v":0},{"$f":"'aktuelle Zahlen'!J484","v":0},null," ",{"$f":"SUM(COUNTIF($C488:$H488,$AL$11:$AQ$11))","v":0}," ",{"$f":"SUM(COUNTIF($C488:$H488,$AS$11:$AX$11))","v":0}," ",{"$f":"SUM(COUNTIF($C488:$H488,$AZ$11:$BE$11))","v":0}," ",{"$f":"SUM(COUNTIF($C488:$H488,$BG$11:$BL$11))","v":0}," ",{"$f":"SUM(COUNTIF($C488:$H488,$BN$11:$BS$11))","v":0}," ",{"$f":"SUM(COUNTIF($C488:$H488,$BU$11:$BZ$11))","v":0}," ",{"$f":"SUM(COUNTIF($C488:$H488,$CB$11:$CG$11))","v":0}," ",{"$f":"SUM(COUNTIF($C488:$H488,$CI$11:$CN$11))","v":0}," ",{"$f":"SUM(COUNTIF($C488:$H488,$CP$11:$CU$11))","v":0}," ",{"$f":"SUM(COUNTIF($C488:$H488,$CW$11:$DB$11))","v":0}," ",{"$f":"SUM(COUNTIF($C488:$H488,$DD$11:$DI$11))","v":0}," ",{"$f":"SUM(COUNTIF($C488:$H488,$DK$11:$DP$11))","v":0}]
[{"$f":"'aktuelle Zahlen'!A485","v":0},{"$f":"'aktuelle Zahlen'!B485","v":"00:00:00"},{"$f":"'aktuelle Zahlen'!C485","v":0},{"$f":"'aktuelle Zahlen'!D485","v":0},{"$f":"'aktuelle Zahlen'!E485","v":0},{"$f":"'aktuelle Zahlen'!F485","v":0},{"$f":"'aktuelle Zahlen'!G485","v":0},{"$f":"'aktuelle Zahlen'!H485","v":0},{"$f":"'aktuelle Zahlen'!J485","v":0},null," ",{"$f":"SUM(COUNTIF($C489:$H489,$AL$11:$AQ$11))","v":0}," ",{"$f":"SUM(COUNTIF($C489:$H489,$AS$11:$AX$11))","v":0}," ",{"$f":"SUM(COUNTIF($C489:$H489,$AZ$11:$BE$11))","v":0}," ",{"$f":"SUM(COUNTIF($C489:$H489,$BG$11:$BL$11))","v":0}," ",{"$f":"SUM(COUNTIF($C489:$H489,$BN$11:$BS$11))","v":0}," ",{"$f":"SUM(COUNTIF($C489:$H489,$BU$11:$BZ$11))","v":0}," ",{"$f":"SUM(COUNTIF($C489:$H489,$CB$11:$CG$11))","v":0}," ",{"$f":"SUM(COUNTIF($C489:$H489,$CI$11:$CN$11))","v":0}," ",{"$f":"SUM(COUNTIF($C489:$H489,$CP$11:$CU$11))","v":0}," ",{"$f":"SUM(COUNTIF($C489:$H489,$CW$11:$DB$11))","v":0}," ",{"$f":"SUM(COUNTIF($C489:$H489,$DD$11:$DI$11))","v":0}," ",{"$f":"SUM(COUNTIF($C489:$H489,$DK$11:$DP$11))","v":0}]
[{"$f":"'aktuelle Zahlen'!A486","v":0},{"$f":"'aktuelle Zahlen'!B486","v":"00:00:00"},{"$f":"'aktuelle Zahlen'!C486","v":0},{"$f":"'aktuelle Zahlen'!D486","v":0},{"$f":"'aktuelle Zahlen'!E486","v":0},{"$f":"'aktuelle Zahlen'!F486","v":0},{"$f":"'aktuelle Zahlen'!G486","v":0},{"$f":"'aktuelle Zahlen'!H486","v":0},{"$f":"'aktuelle Zahlen'!J486","v":0},null," ",{"$f":"SUM(COUNTIF($C490:$H490,$AL$11:$AQ$11))","v":0}," ",{"$f":"SUM(COUNTIF($C490:$H490,$AS$11:$AX$11))","v":0}," ",{"$f":"SUM(COUNTIF($C490:$H490,$AZ$11:$BE$11))","v":0}," ",{"$f":"SUM(COUNTIF($C490:$H490,$BG$11:$BL$11))","v":0}," ",{"$f":"SUM(COUNTIF($C490:$H490,$BN$11:$BS$11))","v":0}," ",{"$f":"SUM(COUNTIF($C490:$H490,$BU$11:$BZ$11))","v":0}," ",{"$f":"SUM(COUNTIF($C490:$H490,$CB$11:$CG$11))","v":0}," ",{"$f":"SUM(COUNTIF($C490:$H490,$CI$11:$CN$11))","v":0}," ",{"$f":"SUM(COUNTIF($C490:$H490,$CP$11:$CU$11))","v":0}," ",{"$f":"SUM(COUNTIF($C490:$H490,$CW$11:$DB$11))","v":0}," ",{"$f":"SUM(COUNTIF($C490:$H490,$DD$11:$DI$11))","v":0}," ",{"$f":"SUM(COUNTIF($C490:$H490,$DK$11:$DP$11))","v":0}]
[{"$f":"'aktuelle Zahlen'!A487","v":0},{"$f":"'aktuelle Zahlen'!B487","v":"00:00:00"},{"$f":"'aktuelle Zahlen'!C487","v":0},{"$f":"'aktuelle Zahlen'!D487","v":0},{"$f":"'aktuelle Zahlen'!E487","v":0},{"$f":"'aktuelle Zahlen'!F487","v":0},{"$f":"'aktuelle Zahlen'!G487","v":0},{"$f":"'aktuelle Zahlen'!H487","v":0},{"$f":"'aktuelle Zahlen'!J487","v":0},null," ",{"$f":"SUM(COUNTIF($C491:$H491,$AL$11:$AQ$11))","v":0}," ",{"$f":"SUM(COUNTIF($C491:$H491,$AS$11:$AX$11))","v":0}," ",{"$f":"SUM(COUNTIF($C491:$H491,$AZ$11:$BE$11))","v":0}," ",{"$f":"SUM(COUNTIF($C491:$H491,$BG$11:$BL$11))","v":0}," ",{"$f":"SUM(COUNTIF($C491:$H491,$BN$11:$BS$11))","v":0}," ",{"$f":"SUM(COUNTIF($C491:$H491,$BU$11:$BZ$11))","v":0}," ",{"$f":"SUM(COUNTIF($C491:$H491,$CB$11:$CG$11))","v":0}," ",{"$f":"SUM(COUNTIF($C491:$H491,$CI$11:$CN$11))","v":0}," ",{"$f":"SUM(COUNTIF($C491:$H491,$CP$11:$CU$11))","v":0}," ",{"$f":"SUM(COUNTIF($C491:$H491,$CW$11:$DB$11))","v":0}," ",{"$f":"SUM(COUNTIF($C491:$H491,$DD$11:$DI$11))","v":0}," ",{"$f":"SUM(COUNTIF($C491:$H491,$DK$11:$DP$11))","v":0}]
[{"$f":"'aktuelle Zahlen'!A488","v":0},{"$f":"'aktuelle Zahlen'!B488","v":"00:00:00"},{"$f":"'aktuelle Zahlen'!C488","v":0},{"$f":"'aktuelle Zahlen'!D488","v":0},{"$f":"'aktuelle Zahlen'!E488","v":0},{"$f":"'aktuelle Zahlen'!F488","v":0},{"$f":"'aktuelle Zahlen'!G488","v":0},{"$f":"'aktuelle Zahlen'!H488","v":0},{"$f":"'aktuelle Zahlen'!J488","v":0},null," ",{"$f":"SUM(COUNTIF($C492:$H492,$AL$11:$AQ$11))","v":0}," ",{"$f":"SUM(COUNTIF($C492:$H492,$AS$11:$AX$11))","v":0}," ",{"$f":"SUM(COUNTIF($C492:$H492,$AZ$11:$BE$11))","v":0}," ",{"$f":"SUM(COUNTIF($C492:$H492,$BG$11:$BL$11))","v":0}," ",{"$f":"SUM(COUNTIF($C492:$H492,$BN$11:$BS$11))","v":0}," ",{"$f":"SUM(COUNTIF($C492:$H492,$BU$11:$BZ$11))","v":0}," ",{"$f":"SUM(COUNTIF($C492:$H492,$CB$11:$CG$11))","v":0}," ",{"$f":"SUM(COUNTIF($C492:$H492,$CI$11:$CN$11))","v":0}," ",{"$f":"SUM(COUNTIF($C492:$H492,$CP$11:$CU$11))","v":0}," ",{"$f":"SUM(COUNTIF($C492:$H492,$CW$11:$DB$11))","v":0}," ",{"$f":"SUM(COUNTIF($C492:$H492,$DD$11:$DI$11))","v":0}," ",{"$f":"SUM(COUNTIF($C492:$H492,$DK$11:$DP$11))","v":0}]
[{"$f":"'aktuelle Zahlen'!A489","v":0},{"$f":"'aktuelle Zahlen'!B489","v":"00:00:00"},{"$f":"'aktuelle Zahlen'!C489","v":0},{"$f":"'aktuelle Zahlen'!D489","v":0},{"$f":"'aktuelle Zahlen'!E489","v":0},{"$f":"'aktuelle Zahlen'!F489","v":0},{"$f":"'aktuelle Zahlen'!G489","v":0},{"$f":"'aktuelle Zahlen'!H489","v":0},{"$f":"'aktuelle Zahlen'!J489","v":0},null," ",{"$f":"SUM(COUNTIF($C493:$H493,$AL$11:$AQ$11))","v":0}," ",{"$f":"SUM(COUNTIF($C493:$H493,$AS$11:$AX$11))","v":0}," ",{"$f":"SUM(COUNTIF($C493:$H493,$AZ$11:$BE$11))","v":0}," ",{"$f":"SUM(COUNTIF($C493:$H493,$BG$11:$BL$11))","v":0}," ",{"$f":"SUM(COUNTIF($C493:$H493,$BN$11:$BS$11))","v":0}," ",{"$f":"SUM(COUNTIF($C493:$H493,$BU$11:$BZ$11))","v":0}," ",{"$f":"SUM(COUNTIF($C493:$H493,$CB$11:$CG$11))","v":0}," ",{"$f":"SUM(COUNTIF($C493:$H493,$CI$11:$CN$11))","v":0}," ",{"$f":"SUM(COUNTIF($C493:$H493,$CP$11:$CU$11))","v":0}," ",{"$f":"SUM(COUNTIF($C493:$H493,$CW$11:$DB$11))","v":0}," ",{"$f":"SUM(COUNTIF($C493:$H493,$DD$11:$DI$11))","v":0}," ",{"$f":"SUM(COUNTIF($C493:$H493,$DK$11:$DP$11))","v":0}]
[{"$f":"'aktuelle Zahlen'!A490","v":0},{"$f":"'aktuelle Zahlen'!B490","v":"00:00:00"},{"$f":"'aktuelle Zahlen'!C490","v":0},{"$f":"'aktuelle Zahlen'!D490","v":0},{"$f":"'aktuelle Zahlen'!E490","v":0},{"$f":"'aktuelle Zahlen'!F490","v":0},{"$f":"'aktuelle Zahlen'!G490","v":0},{"$f":"'aktuelle Zahlen'!H490","v":0},{"$f":"'aktuelle Zahlen'!J490","v":0},null," ",{"$f":"SUM(COUNTIF($C494:$H494,$AL$11:$AQ$11))","v":0}," ",{"$f":"SUM(COUNTIF($C494:$H494,$AS$11:$AX$11))","v":0}," ",{"$f":"SUM(COUNTIF($C494:$H494,$AZ$11:$BE$11))","v":0}," ",{"$f":"SUM(COUNTIF($C494:$H494,$BG$11:$BL$11))","v":0}," ",{"$f":"SUM(COUNTIF($C494:$H494,$BN$11:$BS$11))","v":0}," ",{"$f":"SUM(COUNTIF($C494:$H494,$BU$11:$BZ$11))","v":0}," ",{"$f":"SUM(COUNTIF($C494:$H494,$CB$11:$CG$11))","v":0}," ",{"$f":"SUM(COUNTIF($C494:$H494,$CI$11:$CN$11))","v":0}," ",{"$f":"SUM(COUNTIF($C494:$H494,$CP$11:$CU$11))","v":0}," ",{"$f":"SUM(COUNTIF($C494:$H494,$CW$11:$DB$11))","v":0}," ",{"$f":"SUM(COUNTIF($C494:$H494,$DD$11:$DI$11))","v":0}," ",{"$f":"SUM(COUNTIF($C494:$H494,$DK$11:$DP$11))","v":0}]
[{"$f":"'aktuelle Zahlen'!A491","v":0},{"$f":"'aktuelle Zahlen'!B491","v":"00:00:00"},{"$f":"'aktuelle Zahlen'!C491","v":0},{"$f":"'aktuelle Zahlen'!D491","v":0},{"$f":"'aktuelle Zahlen'!E491","v":0},{"$f":"'aktuelle Zahlen'!F491","v":0},{"$f":"'aktuelle Zahlen'!G491","v":0},{"$f":"'aktuelle Zahlen'!H491","v":0},{"$f":"'aktuelle Zahlen'!J491","v":0},null," ",{"$f":"SUM(COUNTIF($C495:$H495,$AL$11:$AQ$11))","v":0}," ",{"$f":"SUM(COUNTIF($C495:$H495,$AS$11:$AX$11))","v":0}," ",{"$f":"SUM(COUNTIF($C495:$H495,$AZ$11:$BE$11))","v":0}," ",{"$f":"SUM(COUNTIF($C495:$H495,$BG$11:$BL$11))","v":0}," ",{"$f":"SUM(COUNTIF($C495:$H495,$BN$11:$BS$11))","v":0}," ",{"$f":"SUM(COUNTIF($C495:$H495,$BU$11:$BZ$11))","v":0}," ",{"$f":"SUM(COUNTIF($C495:$H495,$CB$11:$CG$11))","v":0}," ",{"$f":"SUM(COUNTIF($C495:$H495,$CI$11:$CN$11))","v":0}," ",{"$f":"SUM(COUNTIF($C495:$H495,$CP$11:$CU$11))","v":0}," ",{"$f":"SUM(COUNTIF($C495:$H495,$CW$11:$DB$11))","v":0}," ",{"$f":"SUM(COUNTIF($C495:$H495,$DD$11:$DI$11))","v":0}," ",{"$f":"SUM(COUNTIF($C495:$H495,$DK$11:$DP$11))","v":0}]
[{"$f":"'aktuelle Zahlen'!A492","v":0},{"$f":"'aktuelle Zahlen'!B492","v":"00:00:00"},{"$f":"'aktuelle Zahlen'!C492","v":0},{"$f":"'aktuelle Zahlen'!D492","v":0},{"$f":"'aktuelle Zahlen'!E492","v":0},{"$f":"'aktuelle Zahlen'!F492","v":0},{"$f":"'aktuelle Zahlen'!G492","v":0},{"$f":"'aktuelle Zahlen'!H492","v":0},{"$f":"'aktuelle Zahlen'!J492","v":0},null," ",{"$f":"SUM(COUNTIF($C496:$H496,$AL$11:$AQ$11))","v":0}," ",{"$f":"SUM(COUNTIF($C496:$H496,$AS$11:$AX$11))","v":0}," ",{"$f":"SUM(COUNTIF($C496:$H496,$AZ$11:$BE$11))","v":0}," ",{"$f":"SUM(COUNTIF($C496:$H496,$BG$11:$BL$11))","v":0}," ",{"$f":"SUM(COUNTIF($C496:$H496,$BN$11:$BS$11))","v":0}," ",{"$f":"SUM(COUNTIF($C496:$H496,$BU$11:$BZ$11))","v":0}," ",{"$f":"SUM(COUNTIF($C496:$H496,$CB$11:$CG$11))","v":0}," ",{"$f":"SUM(COUNTIF($C496:$H496,$CI$11:$CN$11))","v":0}," ",{"$f":"SUM(COUNTIF($C496:$H496,$CP$11:$CU$11))","v":0}," ",{"$f":"SUM(COUNTIF($C496:$H496,$CW$11:$DB$11))","v":0}," ",{"$f":"SUM(COUNTIF($C496:$H496,$DD$11:$DI$11))","v":0}," ",{"$f":"SUM(COUNTIF($C496:$H496,$DK$11:$DP$11))","v":0}]
[{"$f":"'aktuelle Zahlen'!A493","v":0},{"$f":"'aktuelle Zahlen'!B493","v":"00:00:00"},{"$f":"'aktuelle Zahlen'!C493","v":0},{"$f":"'aktuelle Zahlen'!D493","v":0},{"$f":"'aktuelle Zahlen'!E493","v":0},{"$f":"'aktuelle Zahlen'!F493","v":0},{"$f":"'aktuelle Zahlen'!G493","v":0},{"$f":"'aktuelle Zahlen'!H493","v":0},{"$f":"'aktuelle Zahlen'!J493","v":0},null," ",{"$f":"SUM(COUNTIF($C497:$H497,$AL$11:$AQ$11))","v":0}," ",{"$f":"SUM(COUNTIF($C497:$H497,$AS$11:$AX$11))","v":0}," ",{"$f":"SUM(COUNTIF($C497:$H497,$AZ$11:$BE$11))","v":0}," ",{"$f":"SUM(COUNTIF($C497:$H497,$BG$11:$BL$11))","v":0}," ",{"$f":"SUM(COUNTIF($C497:$H497,$BN$11:$BS$11))","v":0}," ",{"$f":"SUM(COUNTIF($C497:$H497,$BU$11:$BZ$11))","v":0}," ",{"$f":"SUM(COUNTIF($C497:$H497,$CB$11:$CG$11))","v":0}," ",{"$f":"SUM(COUNTIF($C497:$H497,$CI$11:$CN$11))","v":0}," ",{"$f":"SUM(COUNTIF($C497:$H497,$CP$11:$CU$11))","v":0}," ",{"$f":"SUM(COUNTIF($C497:$H497,$CW$11:$DB$11))","v":0}," ",{"$f":"SUM(COUNTIF($C497:$H497,$DD$11:$DI$11))","v":0}," ",{"$f":"SUM(COUNTIF($C497:$H497,$DK$11:$DP$11))","v":0}]
[{"$f":"'aktuelle Zahlen'!A494","v":0},{"$f":"'aktuelle Zahlen'!B494","v":"00:00:00"},{"$f":"'aktuelle Zahlen'!C494","v":0},{"$f":"'aktuelle Zahlen'!D494","v":0},{"$f":"'aktuelle Zahlen'!E494","v":0},{"$f":"'aktuelle Zahlen'!F494","v":0},{"$f":"'aktuelle Zahlen'!G494","v":0},{"$f":"'aktuelle Zahlen'!H494","v":0},{"$f":"'aktuelle Zahlen'!J494","v":0},null," ",{"$f":"SUM(COUNTIF($C498:$H498,$AL$11:$AQ$11))","v":0}," ",{"$f":"SUM(COUNTIF($C498:$H498,$AS$11:$AX$11))","v":0}," ",{"$f":"SUM(COUNTIF($C498:$H498,$AZ$11:$BE$11))","v":0}," ",{"$f":"SUM(COUNTIF($C498:$H498,$BG$11:$BL$11))","v":0}," ",{"$f":"SUM(COUNTIF($C498:$H498,$BN$11:$BS$11))","v":0}," ",{"$f":"SUM(COUNTIF($C498:$H498,$BU$11:$BZ$11))","v":0}," ",{"$f":"SUM(COUNTIF($C498:$H498,$CB$11:$CG$11))","v":0}," ",{"$f":"SUM(COUNTIF($C498:$H498,$CI$11:$CN$11))","v":0}," ",{"$f":"SUM(COUNTIF($C498:$H498,$CP$11:$CU$11))","v":0}," ",{"$f":"SUM(COUNTIF($C498:$H498,$CW$11:$DB$11))","v":0}," ",{"$f":"SUM(COUNTIF($C498:$H498,$DD$11:$DI$11))","v":0}," ",{"$f":"SUM(COUNTIF($C498:$H498,$DK$11:$DP$11))","v":0}]
[{"$f":"'aktuelle Zahlen'!A495","v":0},{"$f":"'aktuelle Zahlen'!B495","v":"00:00:00"},{"$f":"'aktuelle Zahlen'!C495","v":0},{"$f":"'aktuelle Zahlen'!D495","v":0},{"$f":"'aktuelle Zahlen'!E495","v":0},{"$f":"'aktuelle Zahlen'!F495","v":0},{"$f":"'aktuelle Zahlen'!G495","v":0},{"$f":"'aktuelle Zahlen'!H495","v":0},{"$f":"'aktuelle Zahlen'!J495","v":0},null," ",{"$f":"SUM(COUNTIF($C499:$H499,$AL$11:$AQ$11))","v":0}," ",{"$f":"SUM(COUNTIF($C499:$H499,$AS$11:$AX$11))","v":0}," ",{"$f":"SUM(COUNTIF($C499:$H499,$AZ$11:$BE$11))","v":0}," ",{"$f":"SUM(COUNTIF($C499:$H499,$BG$11:$BL$11))","v":0}," ",{"$f":"SUM(COUNTIF($C499:$H499,$BN$11:$BS$11))","v":0}," ",{"$f":"SUM(COUNTIF($C499:$H499,$BU$11:$BZ$11))","v":0}," ",{"$f":"SUM(COUNTIF($C499:$H499,$CB$11:$CG$11))","v":0}," ",{"$f":"SUM(COUNTIF($C499:$H499,$CI$11:$CN$11))","v":0}," ",{"$f":"SUM(COUNTIF($C499:$H499,$CP$11:$CU$11))","v":0}," ",{"$f":"SUM(COUNTIF($C499:$H499,$CW$11:$DB$11))","v":0}," ",{"$f":"SUM(COUNTIF($C499:$H499,$DD$11:$DI$11))","v":0}," ",{"$f":"SUM(COUNTIF($C499:$H499,$DK$11:$DP$11))","v":0}]
[{"$f":"'aktuelle Zahlen'!A496","v":0},{"$f":"'aktuelle Zahlen'!B496","v":"00:00:00"},{"$f":"'aktuelle Zahlen'!C496","v":0},{"$f":"'aktuelle Zahlen'!D496","v":0},{"$f":"'aktuelle Zahlen'!E496","v":0},{"$f":"'aktuelle Zahlen'!F496","v":0},{"$f":"'aktuelle Zahlen'!G496","v":0},{"$f":"'aktuelle Zahlen'!H496","v":0},{"$f":"'aktuelle Zahlen'!J496","v":0},null," ",{"$f":"SUM(COUNTIF($C500:$H500,$AL$11:$AQ$11))","v":0}," ",{"$f":"SUM(COUNTIF($C500:$H500,$AS$11:$AX$11))","v":0}," ",{"$f":"SUM(COUNTIF($C500:$H500,$AZ$11:$BE$11))","v":0}," ",{"$f":"SUM(COUNTIF($C500:$H500,$BG$11:$BL$11))","v":0}," ",{"$f":"SUM(COUNTIF($C500:$H500,$BN$11:$BS$11))","v":0}," ",{"$f":"SUM(COUNTIF($C500:$H500,$BU$11:$BZ$11))","v":0}," ",{"$f":"SUM(COUNTIF($C500:$H500,$CB$11:$CG$11))","v":0}," ",{"$f":"SUM(COUNTIF($C500:$H500,$CI$11:$CN$11))","v":0}," ",{"$f":"SUM(COUNTIF($C500:$H500,$CP$11:$CU$11))","v":0}," ",{"$f":"SUM(COUNTIF($C500:$H500,$CW$11:$DB$11))","v":0}," ",{"$f":"SUM(COUNTIF($C500:$H500,$DD$11:$DI$11))","v":0}," ",{"$f":"SUM(COUNTIF($C500:$H500,$DK$11:$DP$11))","v":0}]
[{"$f":"'aktuelle Zahlen'!A497","v":0},{"$f":"'aktuelle Zahlen'!B497","v":"00:00:00"},{"$f":"'aktuelle Zahlen'!C497","v":0},{"$f":"'aktuelle Zahlen'!D497","v":0},{"$f":"'aktuelle Zahlen'!E497","v":0},{"$f":"'aktuelle Zahlen'!F497","v":0},{"$f":"'aktuelle Zahlen'!G497","v":0},{"$f":"'aktuelle Zahlen'!H497","v":0},{"$f":"'aktuelle Zahlen'!J497","v":0},null," ",{"$f":"SUM(COUNTIF($C501:$H501,$AL$11:$AQ$11))","v":0}," ",{"$f":"SUM(COUNTIF($C501:$H501,$AS$11:$AX$11))","v":0}," ",{"$f":"SUM(COUNTIF($C501:$H501,$AZ$11:$BE$11))","v":0}," ",{"$f":"SUM(COUNTIF($C501:$H501,$BG$11:$BL$11))","v":0}," ",{"$f":"SUM(COUNTIF($C501:$H501,$BN$11:$BS$11))","v":0}," ",{"$f":"SUM(COUNTIF($C501:$H501,$BU$11:$BZ$11))","v":0}," ",{"$f":"SUM(COUNTIF($C501:$H501,$CB$11:$CG$11))","v":0}," ",{"$f":"SUM(COUNTIF($C501:$H501,$CI$11:$CN$11))","v":0}," ",{"$f":"SUM(COUNTIF($C501:$H501,$CP$11:$CU$11))","v":0}," ",{"$f":"SUM(COUNTIF($C501:$H501,$CW$11:$DB$11))","v":0}," ",{"$f":"SUM(COUNTIF($C501:$H501,$DD$11:$DI$11))","v":0}," ",{"$f":"SUM(COUNTIF($C501:$H501,$DK$11:$DP$11))","v":0}]
[{"$f":"'aktuelle Zahlen'!A498","v":0},{"$f":"'aktuelle Zahlen'!B498","v":"00:00:00"},{"$f":"'aktuelle Zahlen'!C498","v":0},{"$f":"'aktuelle Zahlen'!D498","v":0},{"$f":"'aktuelle Zahlen'!E498","v":0},{"$f":"'aktuelle Zahlen'!F498","v":0},{"$f":"'aktuelle Zahlen'!G498","v":0},{"$f":"'aktuelle Zahlen'!H498","v":0},{"$f":"'aktuelle Zahlen'!J498","v":0},null," ",{"$f":"SUM(COUNTIF($C502:$H502,$AL$11:$AQ$11))","v":0}," ",{"$f":"SUM(COUNTIF($C502:$H502,$AS$11:$AX$11))","v":0}," ",{"$f":"SUM(COUNTIF($C502:$H502,$AZ$11:$BE$11))","v":0}," ",{"$f":"SUM(COUNTIF($C502:$H502,$BG$11:$BL$11))","v":0}," ",{"$f":"SUM(COUNTIF($C502:$H502,$BN$11:$BS$11))","v":0}," ",{"$f":"SUM(COUNTIF($C502:$H502,$BU$11:$BZ$11))","v":0}," ",{"$f":"SUM(COUNTIF($C502:$H502,$CB$11:$CG$11))","v":0}," ",{"$f":"SUM(COUNTIF($C502:$H502,$CI$11:$CN$11))","v":0}," ",{"$f":"SUM(COUNTIF($C502:$H502,$CP$11:$CU$11))","v":0}," ",{"$f":"SUM(COUNTIF($C502:$H502,$CW$11:$DB$11))","v":0}," ",{"$f":"SUM(COUNTIF($C502:$H502,$DD$11:$DI$11))","v":0}," ",{"$f":"SUM(COUNTIF($C502:$H502,$DK$11:$DP$11))","v":0}]
[{"$f":"'aktuelle Zahlen'!A499","v":0},{"$f":"'aktuelle Zahlen'!B499","v":"00:00:00"},{"$f":"'aktuelle Zahlen'!C499","v":0},{"$f":"'aktuelle Zahlen'!D499","v":0},{"$f":"'aktuelle Zahlen'!E499","v":0},{"$f":"'aktuelle Zahlen'!F499","v":0},{"$f":"'aktuelle Zahlen'!G499","v":0},{"$f":"'aktuelle Zahlen'!H499","v":0},{"$f":"'aktuelle Zahlen'!J499","v":0},null," ",{"$f":"SUM(COUNTIF($C503:$H503,$AL$11:$AQ$11))","v":0}," ",{"$f":"SUM(COUNTIF($C503:$H503,$AS$11:$AX$11))","v":0}," ",{"$f":"SUM(COUNTIF($C503:$H503,$AZ$11:$BE$11))","v":0}," ",{"$f":"SUM(COUNTIF($C503:$H503,$BG$11:$BL$11))","v":0}," ",{"$f":"SUM(COUNTIF($C503:$H503,$BN$11:$BS$11))","v":0}," ",{"$f":"SUM(COUNTIF($C503:$H503,$BU$11:$BZ$11))","v":0}," ",{"$f":"SUM(COUNTIF($C503:$H503,$CB$11:$CG$11))","v":0}," ",{"$f":"SUM(COUNTIF($C503:$H503,$CI$11:$CN$11))","v":0}," ",{"$f":"SUM(COUNTIF($C503:$H503,$CP$11:$CU$11))","v":0}," ",{"$f":"SUM(COUNTIF($C503:$H503,$CW$11:$DB$11))","v":0}," ",{"$f":"SUM(COUNTIF($C503:$H503,$DD$11:$DI$11))","v":0}," ",{"$f":"SUM(COUNTIF($C503:$H503,$DK$11:$DP$11))","v":0}]
[{"$f":"'aktuelle Zahlen'!A500","v":0},{"$f":"'aktuelle Zahlen'!B500","v":"00:00:00"},{"$f":"'aktuelle Zahlen'!C500","v":0},{"$f":"'aktuelle Zahlen'!D500","v":0},{"$f":"'aktuelle Zahlen'!E500","v":0},{"$f":"'aktuelle Zahlen'!F500","v":0},{"$f":"'aktuelle Zahlen'!G500","v":0},{"$f":"'aktuelle Zahlen'!H500","v":0},{"$f":"'aktuelle Zahlen'!J500","v":0},null," ",{"$f":"SUM(COUNTIF($C504:$H504,$AL$11:$AQ$11))","v":0}," ",{"$f":"SUM(COUNTIF($C504:$H504,$AS$11:$AX$11))","v":0}," ",{"$f":"SUM(COUNTIF($C504:$H504,$AZ$11:$BE$11))","v":0}," ",{"$f":"SUM(COUNTIF($C504:$H504,$BG$11:$BL$11))","v":0}," ",{"$f":"SUM(COUNTIF($C504:$H504,$BN$11:$BS$11))","v":0}," ",{"$f":"SUM(COUNTIF($C504:$H504,$BU$11:$BZ$11))","v":0}," ",{"$f":"SUM(COUNTIF($C504:$H504,$CB$11:$CG$11))","v":0}," ",{"$f":"SUM(COUNTIF($C504:$H504,$CI$11:$CN$11))","v":0}," ",{"$f":"SUM(COUNTIF($C504:$H504,$CP$11:$CU$11))","v":0}," ",{"$f":"SUM(COUNTIF($C504:$H504,$CW$11:$DB$11))","v":0}," ",{"$f":"SUM(COUNTIF($C504:$H504,$DD$11:$DI$11))","v":0}," ",{"$f":"SUM(COUNTIF($C504:$H504,$DK$11:$DP$11))","v":0}]
[{"$f":"'aktuelle Zahlen'!A501","v":0},{"$f":"'aktuelle Zahlen'!B501","v":"00:00:00"},{"$f":"'aktuelle Zahlen'!C501","v":0},{"$f":"'aktuelle Zahlen'!D501","v":0},{"$f":"'aktuelle Zahlen'!E501","v":0},{"$f":"'aktuelle Zahlen'!F501","v":0},{"$f":"'aktuelle Zahlen'!G501","v":0},{"$f":"'aktuelle Zahlen'!H501","v":0},{"$f":"'aktuelle Zahlen'!J501","v":0},null," ",{"$f":"SUM(COUNTIF($C505:$H505,$AL$11:$AQ$11))","v":0}," ",{"$f":"SUM(COUNTIF($C505:$H505,$AS$11:$AX$11))","v":0}," ",{"$f":"SUM(COUNTIF($C505:$H505,$AZ$11:$BE$11))","v":0}," ",{"$f":"SUM(COUNTIF($C505:$H505,$BG$11:$BL$11))","v":0}," ",{"$f":"SUM(COUNTIF($C505:$H505,$BN$11:$BS$11))","v":0}," ",{"$f":"SUM(COUNTIF($C505:$H505,$BU$11:$BZ$11))","v":0}," ",{"$f":"SUM(COUNTIF($C505:$H505,$CB$11:$CG$11))","v":0}," ",{"$f":"SUM(COUNTIF($C505:$H505,$CI$11:$CN$11))","v":0}," ",{"$f":"SUM(COUNTIF($C505:$H505,$CP$11:$CU$11))","v":0}," ",{"$f":"SUM(COUNTIF($C505:$H505,$CW$11:$DB$11))","v":0}," ",{"$f":"SUM(COUNTIF($C505:$H505,$DD$11:$DI$11))","v":0}," ",{"$f":"SUM(COUNTIF($C505:$H505,$DK$11:$DP$11))","v":0}]
[{"$f":"'aktuelle Zahlen'!A502","v":0},{"$f":"'aktuelle Zahlen'!B502","v":"00:00:00"},{"$f":"'aktuelle Zahlen'!C502","v":0},{"$f":"'aktuelle Zahlen'!D502","v":0},{"$f":"'aktuelle Zahlen'!E502","v":0},{"$f":"'aktuelle Zahlen'!F502","v":0},{"$f":"'aktuelle Zahlen'!G502","v":0},{"$f":"'aktuelle Zahlen'!H502","v":0},{"$f":"'aktuelle Zahlen'!J502","v":0},null," ",{"$f":"SUM(COUNTIF($C506:$H506,$AL$11:$AQ$11))","v":0}," ",{"$f":"SUM(COUNTIF($C506:$H506,$AS$11:$AX$11))","v":0}," ",{"$f":"SUM(COUNTIF($C506:$H506,$AZ$11:$BE$11))","v":0}," ",{"$f":"SUM(COUNTIF($C506:$H506,$BG$11:$BL$11))","v":0}," ",{"$f":"SUM(COUNTIF($C506:$H506,$BN$11:$BS$11))","v":0}," ",{"$f":"SUM(COUNTIF($C506:$H506,$BU$11:$BZ$11))","v":0}," ",{"$f":"SUM(COUNTIF($C506:$H506,$CB$11:$CG$11))","v":0}," ",{"$f":"SUM(COUNTIF($C506:$H506,$CI$11:$CN$11))","v":0}," ",{"$f":"SUM(COUNTIF($C506:$H506,$CP$11:$CU$11))","v":0}," ",{"$f":"SUM(COUNTIF($C506:$H506,$CW$11:$DB$11))","v":0}," ",{"$f":"SUM(COUNTIF($C506:$H506,$DD$11:$DI$11))","v":0}," ",{"$f":"SUM(COUNTIF($C506:$H506,$DK$11:$DP$11))","v":0}]
[{"$f":"'aktuelle Zahlen'!A503","v":0},{"$f":"'aktuelle Zahlen'!B503","v":"00:00:00"},{"$f":"'aktuelle Zahlen'!C503","v":0},{"$f":"'aktuelle Zahlen'!D503","v":0},{"$f":"'aktuelle Zahlen'!E503","v":0},{"$f":"'aktuelle Zahlen'!F503","v":0},{"$f":"'aktuelle Zahlen'!G503","v":0},{"$f":"'aktuelle Zahlen'!H503","v":0},{"$f":"'aktuelle Zahlen'!J503","v":0},null," ",{"$f":"SUM(COUNTIF($C507:$H507,$AL$11:$AQ$11))","v":0}," ",{"$f":"SUM(COUNTIF($C507:$H507,$AS$11:$AX$11))","v":0}," ",{"$f":"SUM(COUNTIF($C507:$H507,$AZ$11:$BE$11))","v":0}," ",{"$f":"SUM(COUNTIF($C507:$H507,$BG$11:$BL$11))","v":0}," ",{"$f":"SUM(COUNTIF($C507:$H507,$BN$11:$BS$11))","v":0}," ",{"$f":"SUM(COUNTIF($C507:$H507,$BU$11:$BZ$11))","v":0}," ",{"$f":"SUM(COUNTIF($C507:$H507,$CB$11:$CG$11))","v":0}," ",{"$f":"SUM(COUNTIF($C507:$H507,$CI$11:$CN$11))","v":0}," ",{"$f":"SUM(COUNTIF($C507:$H507,$CP$11:$CU$11))","v":0}," ",{"$f":"SUM(COUNTIF($C507:$H507,$CW$11:$DB$11))","v":0}," ",{"$f":"SUM(COUNTIF($C507:$H507,$DD$11:$DI$11))","v":0}," ",{"$f":"SUM(COUNTIF($C507:$H507,$DK$11:$DP$11))","v":0}]
[{"$f":"'aktuelle Zahlen'!A504","v":0},{"$f":"'aktuelle Zahlen'!B504","v":"00:00:00"},{"$f":"'aktuelle Zahlen'!C504","v":0},{"$f":"'aktuelle Zahlen'!D504","v":0},{"$f":"'aktuelle Zahlen'!E504","v":0},{"$f":"'aktuelle Zahlen'!F504","v":0},{"$f":"'aktuelle Zahlen'!G504","v":0},{"$f":"'aktuelle Zahlen'!H504","v":0},{"$f":"'aktuelle Zahlen'!J504","v":0},null," ",{"$f":"SUM(COUNTIF($C508:$H508,$AL$11:$AQ$11))","v":0}," ",{"$f":"SUM(COUNTIF($C508:$H508,$AS$11:$AX$11))","v":0}," ",{"$f":"SUM(COUNTIF($C508:$H508,$AZ$11:$BE$11))","v":0}," ",{"$f":"SUM(COUNTIF($C508:$H508,$BG$11:$BL$11))","v":0}," ",{"$f":"SUM(COUNTIF($C508:$H508,$BN$11:$BS$11))","v":0}," ",{"$f":"SUM(COUNTIF($C508:$H508,$BU$11:$BZ$11))","v":0}," ",{"$f":"SUM(COUNTIF($C508:$H508,$CB$11:$CG$11))","v":0}," ",{"$f":"SUM(COUNTIF($C508:$H508,$CI$11:$CN$11))","v":0}," ",{"$f":"SUM(COUNTIF($C508:$H508,$CP$11:$CU$11))","v":0}," ",{"$f":"SUM(COUNTIF($C508:$H508,$CW$11:$DB$11))","v":0}," ",{"$f":"SUM(COUNTIF($C508:$H508,$DD$11:$DI$11))","v":0}," ",{"$f":"SUM(COUNTIF($C508:$H508,$DK$11:$DP$11))","v":0}]
[{"$f":"'aktuelle Zahlen'!A505","v":0},{"$f":"'aktuelle Zahlen'!B505","v":"00:00:00"},{"$f":"'aktuelle Zahlen'!C505","v":0},{"$f":"'aktuelle Zahlen'!D505","v":0},{"$f":"'aktuelle Zahlen'!E505","v":0},{"$f":"'aktuelle Zahlen'!F505","v":0},{"$f":"'aktuelle Zahlen'!G505","v":0},{"$f":"'aktuelle Zahlen'!H505","v":0},{"$f":"'aktuelle Zahlen'!J505","v":0},null," ",{"$f":"SUM(COUNTIF($C509:$H509,$AL$11:$AQ$11))","v":0}," ",{"$f":"SUM(COUNTIF($C509:$H509,$AS$11:$AX$11))","v":0}," ",{"$f":"SUM(COUNTIF($C509:$H509,$AZ$11:$BE$11))","v":0}," ",{"$f":"SUM(COUNTIF($C509:$H509,$BG$11:$BL$11))","v":0}," ",{"$f":"SUM(COUNTIF($C509:$H509,$BN$11:$BS$11))","v":0}," ",{"$f":"SUM(COUNTIF($C509:$H509,$BU$11:$BZ$11))","v":0}," ",{"$f":"SUM(COUNTIF($C509:$H509,$CB$11:$CG$11))","v":0}," ",{"$f":"SUM(COUNTIF($C509:$H509,$CI$11:$CN$11))","v":0}," ",{"$f":"SUM(COUNTIF($C509:$H509,$CP$11:$CU$11))","v":0}," ",{"$f":"SUM(COUNTIF($C509:$H509,$CW$11:$DB$11))","v":0}," ",{"$f":"SUM(COUNTIF($C509:$H509,$DD$11:$DI$11))","v":0}," ",{"$f":"SUM(COUNTIF($C509:$H509,$DK$11:$DP$11))","v":0}]
[{"$f":"'aktuelle Zahlen'!A506","v":0},{"$f":"'aktuelle Zahlen'!B506","v":"00:00:00"},{"$f":"'aktuelle Zahlen'!C506","v":0},{"$f":"'aktuelle Zahlen'!D506","v":0},{"$f":"'aktuelle Zahlen'!E506","v":0},{"$f":"'aktuelle Zahlen'!F506","v":0},{"$f":"'aktuelle Zahlen'!G506","v":0},{"$f":"'aktuelle Zahlen'!H506","v":0},{"$f":"'aktuelle Zahlen'!J506","v":0},null," ",{"$f":"SUM(COUNTIF($C510:$H510,$AL$11:$AQ$11))","v":0}," ",{"$f":"SUM(COUNTIF($C510:$H510,$AS$11:$AX$11))","v":0}," ",{"$f":"SUM(COUNTIF($C510:$H510,$AZ$11:$BE$11))","v":0}," ",{"$f":"SUM(COUNTIF($C510:$H510,$BG$11:$BL$11))","v":0}," ",{"$f":"SUM(COUNTIF($C510:$H510,$BN$11:$BS$11))","v":0}," ",{"$f":"SUM(COUNTIF($C510:$H510,$BU$11:$BZ$11))","v":0}," ",{"$f":"SUM(COUNTIF($C510:$H510,$CB$11:$CG$11))","v":0}," ",{"$f":"SUM(COUNTIF($C510:$H510,$CI$11:$CN$11))","v":0}," ",{"$f":"SUM(COUNTIF($C510:$H510,$CP$11:$CU$11))","v":0}," ",{"$f":"SUM(COUNTIF($C510:$H510,$CW$11:$DB$11))","v":0}," ",{"$f":"SUM(COUNTIF($C510:$H510,$DD$11:$DI$11))","v":0}," ",{"$f":"SUM(COUNTIF($C510:$H510,$DK$11:$DP$11))","v":0}]
[{"$f":"'aktuelle Zahlen'!A507","v":0},{"$f":"'aktuelle Zahlen'!B507","v":"00:00:00"},{"$f":"'aktuelle Zahlen'!C507","v":0},{"$f":"'aktuelle Zahlen'!D507","v":0},{"$f":"'aktuelle Zahlen'!E507","v":0},{"$f":"'aktuelle Zahlen'!F507","v":0},{"$f":"'aktuelle Zahlen'!G507","v":0},{"$f":"'aktuelle Zahlen'!H507","v":0},{"$f":"'aktuelle Zahlen'!J507","v":0},null," ",{"$f":"SUM(COUNTIF($C511:$H511,$AL$11:$AQ$11))","v":0}," ",{"$f":"SUM(COUNTIF($C511:$H511,$AS$11:$AX$11))","v":0}," ",{"$f":"SUM(COUNTIF($C511:$H511,$AZ$11:$BE$11))","v":0}," ",{"$f":"SUM(COUNTIF($C511:$H511,$BG$11:$BL$11))","v":0}," ",{"$f":"SUM(COUNTIF($C511:$H511,$BN$11:$BS$11))","v":0}," ",{"$f":"SUM(COUNTIF($C511:$H511,$BU$11:$BZ$11))","v":0}," ",{"$f":"SUM(COUNTIF($C511:$H511,$CB$11:$CG$11))","v":0}," ",{"$f":"SUM(COUNTIF($C511:$H511,$CI$11:$CN$11))","v":0}," ",{"$f":"SUM(COUNTIF($C511:$H511,$CP$11:$CU$11))","v":0}," ",{"$f":"SUM(COUNTIF($C511:$H511,$CW$11:$DB$11))","v":0}," ",{"$f":"SUM(COUNTIF($C511:$H511,$DD$11:$DI$11))","v":0}," ",{"$f":"SUM(COUNTIF($C511:$H511,$DK$11:$DP$11))","v":0}]
[{"$f":"'aktuelle Zahlen'!A508","v":0},{"$f":"'aktuelle Zahlen'!B508","v":"00:00:00"},{"$f":"'aktuelle Zahlen'!C508","v":0},{"$f":"'aktuelle Zahlen'!D508","v":0},{"$f":"'aktuelle Zahlen'!E508","v":0},{"$f":"'aktuelle Zahlen'!F508","v":0},{"$f":"'aktuelle Zahlen'!G508","v":0},{"$f":"'aktuelle Zahlen'!H508","v":0},{"$f":"'aktuelle Zahlen'!J508","v":0},null," ",{"$f":"SUM(COUNTIF($C512:$H512,$AL$11:$AQ$11))","v":0}," ",{"$f":"SUM(COUNTIF($C512:$H512,$AS$11:$AX$11))","v":0}," ",{"$f":"SUM(COUNTIF($C512:$H512,$AZ$11:$BE$11))","v":0}," ",{"$f":"SUM(COUNTIF($C512:$H512,$BG$11:$BL$11))","v":0}," ",{"$f":"SUM(COUNTIF($C512:$H512,$BN$11:$BS$11))","v":0}," ",{"$f":"SUM(COUNTIF($C512:$H512,$BU$11:$BZ$11))","v":0}," ",{"$f":"SUM(COUNTIF($C512:$H512,$CB$11:$CG$11))","v":0}," ",{"$f":"SUM(COUNTIF($C512:$H512,$CI$11:$CN$11))","v":0}," ",{"$f":"SUM(COUNTIF($C512:$H512,$CP$11:$CU$11))","v":0}," ",{"$f":"SUM(COUNTIF($C512:$H512,$CW$11:$DB$11))","v":0}," ",{"$f":"SUM(COUNTIF($C512:$H512,$DD$11:$DI$11))","v":0}," ",{"$f":"SUM(COUNTIF($C512:$H512,$DK$11:$DP$11))","v":0}]
[{"$f":"'aktuelle Zahlen'!A509","v":0},{"$f":"'aktuelle Zahlen'!B509","v":"00:00:00"},{"$f":"'aktuelle Zahlen'!C509","v":0},{"$f":"'aktuelle Zahlen'!D509","v":0},{"$f":"'aktuelle Zahlen'!E509","v":0},{"$f":"'aktuelle Zahlen'!F509","v":0},{"$f":"'aktuelle Zahlen'!G509","v":0},{"$f":"'aktuelle Zahlen'!H509","v":0},{"$f":"'aktuelle Zahlen'!J509","v":0},null," ",{"$f":"SUM(COUNTIF($C513:$H513,$AL$11:$AQ$11))","v":0}," ",{"$f":"SUM(COUNTIF($C513:$H513,$AS$11:$AX$11))","v":0}," ",{"$f":"SUM(COUNTIF($C513:$H513,$AZ$11:$BE$11))","v":0}," ",{"$f":"SUM(COUNTIF($C513:$H513,$BG$11:$BL$11))","v":0}," ",{"$f":"SUM(COUNTIF($C513:$H513,$BN$11:$BS$11))","v":0}," ",{"$f":"SUM(COUNTIF($C513:$H513,$BU$11:$BZ$11))","v":0}," ",{"$f":"SUM(COUNTIF($C513:$H513,$CB$11:$CG$11))","v":0}," ",{"$f":"SUM(COUNTIF($C513:$H513,$CI$11:$CN$11))","v":0}," ",{"$f":"SUM(COUNTIF($C513:$H513,$CP$11:$CU$11))","v":0}," ",{"$f":"SUM(COUNTIF($C513:$H513,$CW$11:$DB$11))","v":0}," ",{"$f":"SUM(COUNTIF($C513:$H513,$DD$11:$DI$11))","v":0}," ",{"$f":"SUM(COUNTIF($C513:$H513,$DK$11:$DP$11))","v":0}]
[{"$f":"'aktuelle Zahlen'!A510","v":0},{"$f":"'aktuelle Zahlen'!B510","v":"00:00:00"},{"$f":"'aktuelle Zahlen'!C510","v":0},{"$f":"'aktuelle Zahlen'!D510","v":0},{"$f":"'aktuelle Zahlen'!E510","v":0},{"$f":"'aktuelle Zahlen'!F510","v":0},{"$f":"'aktuelle Zahlen'!G510","v":0},{"$f":"'aktuelle Zahlen'!H510","v":0},{"$f":"'aktuelle Zahlen'!J510","v":0},null," ",{"$f":"SUM(COUNTIF($C514:$H514,$AL$11:$AQ$11))","v":0}," ",{"$f":"SUM(COUNTIF($C514:$H514,$AS$11:$AX$11))","v":0}," ",{"$f":"SUM(COUNTIF($C514:$H514,$AZ$11:$BE$11))","v":0}," ",{"$f":"SUM(COUNTIF($C514:$H514,$BG$11:$BL$11))","v":0}," ",{"$f":"SUM(COUNTIF($C514:$H514,$BN$11:$BS$11))","v":0}," ",{"$f":"SUM(COUNTIF($C514:$H514,$BU$11:$BZ$11))","v":0}," ",{"$f":"SUM(COUNTIF($C514:$H514,$CB$11:$CG$11))","v":0}," ",{"$f":"SUM(COUNTIF($C514:$H514,$CI$11:$CN$11))","v":0}," ",{"$f":"SUM(COUNTIF($C514:$H514,$CP$11:$CU$11))","v":0}," ",{"$f":"SUM(COUNTIF($C514:$H514,$CW$11:$DB$11))","v":0}," ",{"$f":"SUM(COUNTIF($C514:$H514,$DD$11:$DI$11))","v":0}," ",{"$f":"SUM(COUNTIF($C514:$H514,$DK$11:$DP$11))","v":0}]
[{"$f":"'aktuelle Zahlen'!A511","v":0},{"$f":"'aktuelle Zahlen'!B511","v":"00:00:00"},{"$f":"'aktuelle Zahlen'!C511","v":0},{"$f":"'aktuelle Zahlen'!D511","v":0},{"$f":"'aktuelle Zahlen'!E511","v":0},{"$f":"'aktuelle Zahlen'!F511","v":0},{"$f":"'aktuelle Zahlen'!G511","v":0},{"$f":"'aktuelle Zahlen'!H511","v":0},{"$f":"'aktuelle Zahlen'!J511","v":0},null," ",{"$f":"SUM(COUNTIF($C515:$H515,$AL$11:$AQ$11))","v":0}," ",{"$f":"SUM(COUNTIF($C515:$H515,$AS$11:$AX$11))","v":0}," ",{"$f":"SUM(COUNTIF($C515:$H515,$AZ$11:$BE$11))","v":0}," ",{"$f":"SUM(COUNTIF($C515:$H515,$BG$11:$BL$11))","v":0}," ",{"$f":"SUM(COUNTIF($C515:$H515,$BN$11:$BS$11))","v":0}," ",{"$f":"SUM(COUNTIF($C515:$H515,$BU$11:$BZ$11))","v":0}," ",{"$f":"SUM(COUNTIF($C515:$H515,$CB$11:$CG$11))","v":0}," ",{"$f":"SUM(COUNTIF($C515:$H515,$CI$11:$CN$11))","v":0}," ",{"$f":"SUM(COUNTIF($C515:$H515,$CP$11:$CU$11))","v":0}," ",{"$f":"SUM(COUNTIF($C515:$H515,$CW$11:$DB$11))","v":0}," ",{"$f":"SUM(COUNTIF($C515:$H515,$DD$11:$DI$11))","v":0}," ",{"$f":"SUM(COUNTIF($C515:$H515,$DK$11:$DP$11))","v":0}]
[{"$f":"'aktuelle Zahlen'!A512","v":0},{"$f":"'aktuelle Zahlen'!B512","v":"00:00:00"},{"$f":"'aktuelle Zahlen'!C512","v":0},{"$f":"'aktuelle Zahlen'!D512","v":0},{"$f":"'aktuelle Zahlen'!E512","v":0},{"$f":"'aktuelle Zahlen'!F512","v":0},{"$f":"'aktuelle Zahlen'!G512","v":0},{"$f":"'aktuelle Zahlen'!H512","v":0},{"$f":"'aktuelle Zahlen'!J512","v":0},null," ",{"$f":"SUM(COUNTIF($C516:$H516,$AL$11:$AQ$11))","v":0}," ",{"$f":"SUM(COUNTIF($C516:$H516,$AS$11:$AX$11))","v":0}," ",{"$f":"SUM(COUNTIF($C516:$H516,$AZ$11:$BE$11))","v":0}," ",{"$f":"SUM(COUNTIF($C516:$H516,$BG$11:$BL$11))","v":0}," ",{"$f":"SUM(COUNTIF($C516:$H516,$BN$11:$BS$11))","v":0}," ",{"$f":"SUM(COUNTIF($C516:$H516,$BU$11:$BZ$11))","v":0}," ",{"$f":"SUM(COUNTIF($C516:$H516,$CB$11:$CG$11))","v":0}," ",{"$f":"SUM(COUNTIF($C516:$H516,$CI$11:$CN$11))","v":0}," ",{"$f":"SUM(COUNTIF($C516:$H516,$CP$11:$CU$11))","v":0}," ",{"$f":"SUM(COUNTIF($C516:$H516,$CW$11:$DB$11))","v":0}," ",{"$f":"SUM(COUNTIF($C516:$H516,$DD$11:$DI$11))","v":0}," ",{"$f":"SUM(COUNTIF($C516:$H516,$DK$11:$DP$11))","v":0}]
[{"$f":"'aktuelle Zahlen'!A513","v":0},{"$f":"'aktuelle Zahlen'!B513","v":"00:00:00"},{"$f":"'aktuelle Zahlen'!C513","v":0},{"$f":"'aktuelle Zahlen'!D513","v":0},{"$f":"'aktuelle Zahlen'!E513","v":0},{"$f":"'aktuelle Zahlen'!F513","v":0},{"$f":"'aktuelle Zahlen'!G513","v":0},{"$f":"'aktuelle Zahlen'!H513","v":0},{"$f":"'aktuelle Zahlen'!J513","v":0},null," ",{"$f":"SUM(COUNTIF($C517:$H517,$AL$11:$AQ$11))","v":0}," ",{"$f":"SUM(COUNTIF($C517:$H517,$AS$11:$AX$11))","v":0}," ",{"$f":"SUM(COUNTIF($C517:$H517,$AZ$11:$BE$11))","v":0}," ",{"$f":"SUM(COUNTIF($C517:$H517,$BG$11:$BL$11))","v":0}," ",{"$f":"SUM(COUNTIF($C517:$H517,$BN$11:$BS$11))","v":0}," ",{"$f":"SUM(COUNTIF($C517:$H517,$BU$11:$BZ$11))","v":0}," ",{"$f":"SUM(COUNTIF($C517:$H517,$CB$11:$CG$11))","v":0}," ",{"$f":"SUM(COUNTIF($C517:$H517,$CI$11:$CN$11))","v":0}," ",{"$f":"SUM(COUNTIF($C517:$H517,$CP$11:$CU$11))","v":0}," ",{"$f":"SUM(COUNTIF($C517:$H517,$CW$11:$DB$11))","v":0}," ",{"$f":"SUM(COUNTIF($C517:$H517,$DD$11:$DI$11))","v":0}," ",{"$f":"SUM(COUNTIF($C517:$H517,$DK$11:$DP$11))","v":0}]
[{"$f":"'aktuelle Zahlen'!A514","v":0},{"$f":"'aktuelle Zahlen'!B514","v":"00:00:00"},{"$f":"'aktuelle Zahlen'!C514","v":0},{"$f":"'aktuelle Zahlen'!D514","v":0},{"$f":"'aktuelle Zahlen'!E514","v":0},{"$f":"'aktuelle Zahlen'!F514","v":0},{"$f":"'aktuelle Zahlen'!G514","v":0},{"$f":"'aktuelle Zahlen'!H514","v":0},{"$f":"'aktuelle Zahlen'!J514","v":0},null," ",{"$f":"SUM(COUNTIF($C518:$H518,$AL$11:$AQ$11))","v":0}," ",{"$f":"SUM(COUNTIF($C518:$H518,$AS$11:$AX$11))","v":0}," ",{"$f":"SUM(COUNTIF($C518:$H518,$AZ$11:$BE$11))","v":0}," ",{"$f":"SUM(COUNTIF($C518:$H518,$BG$11:$BL$11))","v":0}," ",{"$f":"SUM(COUNTIF($C518:$H518,$BN$11:$BS$11))","v":0}," ",{"$f":"SUM(COUNTIF($C518:$H518,$BU$11:$BZ$11))","v":0}," ",{"$f":"SUM(COUNTIF($C518:$H518,$CB$11:$CG$11))","v":0}," ",{"$f":"SUM(COUNTIF($C518:$H518,$CI$11:$CN$11))","v":0}," ",{"$f":"SUM(COUNTIF($C518:$H518,$CP$11:$CU$11))","v":0}," ",{"$f":"SUM(COUNTIF($C518:$H518,$CW$11:$DB$11))","v":0}," ",{"$f":"SUM(COUNTIF($C518:$H518,$DD$11:$DI$11))","v":0}," ",{"$f":"SUM(COUNTIF($C518:$H518,$DK$11:$DP$11))","v":0}]
[{"$f":"'aktuelle Zahlen'!A515","v":0},{"$f":"'aktuelle Zahlen'!B515","v":"00:00:00"},{"$f":"'aktuelle Zahlen'!C515","v":0},{"$f":"'aktuelle Zahlen'!D515","v":0},{"$f":"'aktuelle Zahlen'!E515","v":0},{"$f":"'aktuelle Zahlen'!F515","v":0},{"$f":"'aktuelle Zahlen'!G515","v":0},{"$f":"'aktuelle Zahlen'!H515","v":0},{"$f":"'aktuelle Zahlen'!J515","v":0},null," ",{"$f":"SUM(COUNTIF($C519:$H519,$AL$11:$AQ$11))","v":0}," ",{"$f":"SUM(COUNTIF($C519:$H519,$AS$11:$AX$11))","v":0}," ",{"$f":"SUM(COUNTIF($C519:$H519,$AZ$11:$BE$11))","v":0}," ",{"$f":"SUM(COUNTIF($C519:$H519,$BG$11:$BL$11))","v":0}," ",{"$f":"SUM(COUNTIF($C519:$H519,$BN$11:$BS$11))","v":0}," ",{"$f":"SUM(COUNTIF($C519:$H519,$BU$11:$BZ$11))","v":0}," ",{"$f":"SUM(COUNTIF($C519:$H519,$CB$11:$CG$11))","v":0}," ",{"$f":"SUM(COUNTIF($C519:$H519,$CI$11:$CN$11))","v":0}," ",{"$f":"SUM(COUNTIF($C519:$H519,$CP$11:$CU$11))","v":0}," ",{"$f":"SUM(COUNTIF($C519:$H519,$CW$11:$DB$11))","v":0}," ",{"$f":"SUM(COUNTIF($C519:$H519,$DD$11:$DI$11))","v":0}," ",{"$f":"SUM(COUNTIF($C519:$H519,$DK$11:$DP$11))","v":0}]
[{"$f":"'aktuelle Zahlen'!A516","v":0},{"$f":"'aktuelle Zahlen'!B516","v":"00:00:00"},{"$f":"'aktuelle Zahlen'!C516","v":0},{"$f":"'aktuelle Zahlen'!D516","v":0},{"$f":"'aktuelle Zahlen'!E516","v":0},{"$f":"'aktuelle Zahlen'!F516","v":0},{"$f":"'aktuelle Zahlen'!G516","v":0},{"$f":"'aktuelle Zahlen'!H516","v":0},{"$f":"'aktuelle Zahlen'!J516","v":0},null," ",{"$f":"SUM(COUNTIF($C520:$H520,$AL$11:$AQ$11))","v":0}," ",{"$f":"SUM(COUNTIF($C520:$H520,$AS$11:$AX$11))","v":0}," ",{"$f":"SUM(COUNTIF($C520:$H520,$AZ$11:$BE$11))","v":0}," ",{"$f":"SUM(COUNTIF($C520:$H520,$BG$11:$BL$11))","v":0}," ",{"$f":"SUM(COUNTIF($C520:$H520,$BN$11:$BS$11))","v":0}," ",{"$f":"SUM(COUNTIF($C520:$H520,$BU$11:$BZ$11))","v":0}," ",{"$f":"SUM(COUNTIF($C520:$H520,$CB$11:$CG$11))","v":0}," ",{"$f":"SUM(COUNTIF($C520:$H520,$CI$11:$CN$11))","v":0}," ",{"$f":"SUM(COUNTIF($C520:$H520,$CP$11:$CU$11))","v":0}," ",{"$f":"SUM(COUNTIF($C520:$H520,$CW$11:$DB$11))","v":0}," ",{"$f":"SUM(COUNTIF($C520:$H520,$DD$11:$DI$11))","v":0}," ",{"$f":"SUM(COUNTIF($C520:$H520,$DK$11:$DP$11))","v":0}]
[{"$f":"'aktuelle Zahlen'!A517","v":0},{"$f":"'aktuelle Zahlen'!B517","v":"00:00:00"},{"$f":"'aktuelle Zahlen'!C517","v":0},{"$f":"'aktuelle Zahlen'!D517","v":0},{"$f":"'aktuelle Zahlen'!E517","v":0},{"$f":"'aktuelle Zahlen'!F517","v":0},{"$f":"'aktuelle Zahlen'!G517","v":0},{"$f":"'aktuelle Zahlen'!H517","v":0},{"$f":"'aktuelle Zahlen'!J517","v":0},null," ",{"$f":"SUM(COUNTIF($C521:$H521,$AL$11:$AQ$11))","v":0}," ",{"$f":"SUM(COUNTIF($C521:$H521,$AS$11:$AX$11))","v":0}," ",{"$f":"SUM(COUNTIF($C521:$H521,$AZ$11:$BE$11))","v":0}," ",{"$f":"SUM(COUNTIF($C521:$H521,$BG$11:$BL$11))","v":0}," ",{"$f":"SUM(COUNTIF($C521:$H521,$BN$11:$BS$11))","v":0}," ",{"$f":"SUM(COUNTIF($C521:$H521,$BU$11:$BZ$11))","v":0}," ",{"$f":"SUM(COUNTIF($C521:$H521,$CB$11:$CG$11))","v":0}," ",{"$f":"SUM(COUNTIF($C521:$H521,$CI$11:$CN$11))","v":0}," ",{"$f":"SUM(COUNTIF($C521:$H521,$CP$11:$CU$11))","v":0}," ",{"$f":"SUM(COUNTIF($C521:$H521,$CW$11:$DB$11))","v":0}," ",{"$f":"SUM(COUNTIF($C521:$H521,$DD$11:$DI$11))","v":0}," ",{"$f":"SUM(COUNTIF($C521:$H521,$DK$11:$DP$11))","v":0}]
[{"$f":"'aktuelle Zahlen'!A518","v":0},{"$f":"'aktuelle Zahlen'!B518","v":"00:00:00"},{"$f":"'aktuelle Zahlen'!C518","v":0},{"$f":"'aktuelle Zahlen'!D518","v":0},{"$f":"'aktuelle Zahlen'!E518","v":0},{"$f":"'aktuelle Zahlen'!F518","v":0},{"$f":"'aktuelle Zahlen'!G518","v":0},{"$f":"'aktuelle Zahlen'!H518","v":0},{"$f":"'aktuelle Zahlen'!J518","v":0},null," ",{"$f":"SUM(COUNTIF($C522:$H522,$AL$11:$AQ$11))","v":0}," ",{"$f":"SUM(COUNTIF($C522:$H522,$AS$11:$AX$11))","v":0}," ",{"$f":"SUM(COUNTIF($C522:$H522,$AZ$11:$BE$11))","v":0}," ",{"$f":"SUM(COUNTIF($C522:$H522,$BG$11:$BL$11))","v":0}," ",{"$f":"SUM(COUNTIF($C522:$H522,$BN$11:$BS$11))","v":0}," ",{"$f":"SUM(COUNTIF($C522:$H522,$BU$11:$BZ$11))","v":0}," ",{"$f":"SUM(COUNTIF($C522:$H522,$CB$11:$CG$11))","v":0}," ",{"$f":"SUM(COUNTIF($C522:$H522,$CI$11:$CN$11))","v":0}," ",{"$f":"SUM(COUNTIF($C522:$H522,$CP$11:$CU$11))","v":0}," ",{"$f":"SUM(COUNTIF($C522:$H522,$CW$11:$DB$11))","v":0}," ",{"$f":"SUM(COUNTIF($C522:$H522,$DD$11:$DI$11))","v":0}," ",{"$f":"SUM(COUNTIF($C522:$H522,$DK$11:$DP$11))","v":0}]
[{"$f":"'aktuelle Zahlen'!A519","v":0},{"$f":"'aktuelle Zahlen'!B519","v":"00:00:00"},{"$f":"'aktuelle Zahlen'!C519","v":0},{"$f":"'aktuelle Zahlen'!D519","v":0},{"$f":"'aktuelle Zahlen'!E519","v":0},{"$f":"'aktuelle Zahlen'!F519","v":0},{"$f":"'aktuelle Zahlen'!G519","v":0},{"$f":"'aktuelle Zahlen'!H519","v":0},{"$f":"'aktuelle Zahlen'!J519","v":0},null," ",{"$f":"SUM(COUNTIF($C523:$H523,$AL$11:$AQ$11))","v":0}," ",{"$f":"SUM(COUNTIF($C523:$H523,$AS$11:$AX$11))","v":0}," ",{"$f":"SUM(COUNTIF($C523:$H523,$AZ$11:$BE$11))","v":0}," ",{"$f":"SUM(COUNTIF($C523:$H523,$BG$11:$BL$11))","v":0}," ",{"$f":"SUM(COUNTIF($C523:$H523,$BN$11:$BS$11))","v":0}," ",{"$f":"SUM(COUNTIF($C523:$H523,$BU$11:$BZ$11))","v":0}," ",{"$f":"SUM(COUNTIF($C523:$H523,$CB$11:$CG$11))","v":0}," ",{"$f":"SUM(COUNTIF($C523:$H523,$CI$11:$CN$11))","v":0}," ",{"$f":"SUM(COUNTIF($C523:$H523,$CP$11:$CU$11))","v":0}," ",{"$f":"SUM(COUNTIF($C523:$H523,$CW$11:$DB$11))","v":0}," ",{"$f":"SUM(COUNTIF($C523:$H523,$DD$11:$DI$11))","v":0}," ",{"$f":"SUM(COUNTIF($C523:$H523,$DK$11:$DP$11))","v":0}]
[{"$f":"'aktuelle Zahlen'!A520","v":0},{"$f":"'aktuelle Zahlen'!B520","v":"00:00:00"},{"$f":"'aktuelle Zahlen'!C520","v":0},{"$f":"'aktuelle Zahlen'!D520","v":0},{"$f":"'aktuelle Zahlen'!E520","v":0},{"$f":"'aktuelle Zahlen'!F520","v":0},{"$f":"'aktuelle Zahlen'!G520","v":0},{"$f":"'aktuelle Zahlen'!H520","v":0},{"$f":"'aktuelle Zahlen'!J520","v":0},null," ",{"$f":"SUM(COUNTIF($C524:$H524,$AL$11:$AQ$11))","v":0}," ",{"$f":"SUM(COUNTIF($C524:$H524,$AS$11:$AX$11))","v":0}," ",{"$f":"SUM(COUNTIF($C524:$H524,$AZ$11:$BE$11))","v":0}," ",{"$f":"SUM(COUNTIF($C524:$H524,$BG$11:$BL$11))","v":0}," ",{"$f":"SUM(COUNTIF($C524:$H524,$BN$11:$BS$11))","v":0}," ",{"$f":"SUM(COUNTIF($C524:$H524,$BU$11:$BZ$11))","v":0}," ",{"$f":"SUM(COUNTIF($C524:$H524,$CB$11:$CG$11))","v":0}," ",{"$f":"SUM(COUNTIF($C524:$H524,$CI$11:$CN$11))","v":0}," ",{"$f":"SUM(COUNTIF($C524:$H524,$CP$11:$CU$11))","v":0}," ",{"$f":"SUM(COUNTIF($C524:$H524,$CW$11:$DB$11))","v":0}," ",{"$f":"SUM(COUNTIF($C524:$H524,$DD$11:$DI$11))","v":0}," ",{"$f":"SUM(COUNTIF($C524:$H524,$DK$11:$DP$11))","v":0}]
[{"$f":"'aktuelle Zahlen'!A521","v":0},{"$f":"'aktuelle Zahlen'!B521","v":"00:00:00"},{"$f":"'aktuelle Zahlen'!C521","v":0},{"$f":"'aktuelle Zahlen'!D521","v":0},{"$f":"'aktuelle Zahlen'!E521","v":0},{"$f":"'aktuelle Zahlen'!F521","v":0},{"$f":"'aktuelle Zahlen'!G521","v":0},{"$f":"'aktuelle Zahlen'!H521","v":0},{"$f":"'aktuelle Zahlen'!J521","v":0},null," ",{"$f":"SUM(COUNTIF($C525:$H525,$AL$11:$AQ$11))","v":0}," ",{"$f":"SUM(COUNTIF($C525:$H525,$AS$11:$AX$11))","v":0}," ",{"$f":"SUM(COUNTIF($C525:$H525,$AZ$11:$BE$11))","v":0}," ",{"$f":"SUM(COUNTIF($C525:$H525,$BG$11:$BL$11))","v":0}," ",{"$f":"SUM(COUNTIF($C525:$H525,$BN$11:$BS$11))","v":0}," ",{"$f":"SUM(COUNTIF($C525:$H525,$BU$11:$BZ$11))","v":0}," ",{"$f":"SUM(COUNTIF($C525:$H525,$CB$11:$CG$11))","v":0}," ",{"$f":"SUM(COUNTIF($C525:$H525,$CI$11:$CN$11))","v":0}," ",{"$f":"SUM(COUNTIF($C525:$H525,$CP$11:$CU$11))","v":0}," ",{"$f":"SUM(COUNTIF($C525:$H525,$CW$11:$DB$11))","v":0}," ",{"$f":"SUM(COUNTIF($C525:$H525,$DD$11:$DI$11))","v":0}," ",{"$f":"SUM(COUNTIF($C525:$H525,$DK$11:$DP$11))","v":0}]
[{"$f":"'aktuelle Zahlen'!A522","v":0},{"$f":"'aktuelle Zahlen'!B522","v":"00:00:00"},{"$f":"'aktuelle Zahlen'!C522","v":0},{"$f":"'aktuelle Zahlen'!D522","v":0},{"$f":"'aktuelle Zahlen'!E522","v":0},{"$f":"'aktuelle Zahlen'!F522","v":0},{"$f":"'aktuelle Zahlen'!G522","v":0},{"$f":"'aktuelle Zahlen'!H522","v":0},{"$f":"'aktuelle Zahlen'!J522","v":0},null," ",{"$f":"SUM(COUNTIF($C526:$H526,$AL$11:$AQ$11))","v":0}," ",{"$f":"SUM(COUNTIF($C526:$H526,$AS$11:$AX$11))","v":0}," ",{"$f":"SUM(COUNTIF($C526:$H526,$AZ$11:$BE$11))","v":0}," ",{"$f":"SUM(COUNTIF($C526:$H526,$BG$11:$BL$11))","v":0}," ",{"$f":"SUM(COUNTIF($C526:$H526,$BN$11:$BS$11))","v":0}," ",{"$f":"SUM(COUNTIF($C526:$H526,$BU$11:$BZ$11))","v":0}," ",{"$f":"SUM(COUNTIF($C526:$H526,$CB$11:$CG$11))","v":0}," ",{"$f":"SUM(COUNTIF($C526:$H526,$CI$11:$CN$11))","v":0}," ",{"$f":"SUM(COUNTIF($C526:$H526,$CP$11:$CU$11))","v":0}," ",{"$f":"SUM(COUNTIF($C526:$H526,$CW$11:$DB$11))","v":0}," ",{"$f":"SUM(COUNTIF($C526:$H526,$DD$11:$DI$11))","v":0}," ",{"$f":"SUM(COUNTIF($C526:$H526,$DK$11:$DP$11))","v":0}]
[{"$f":"'aktuelle Zahlen'!A523","v":0},{"$f":"'aktuelle Zahlen'!B523","v":"00:00:00"},{"$f":"'aktuelle Zahlen'!C523","v":0},{"$f":"'aktuelle Zahlen'!D523","v":0},{"$f":"'aktuelle Zahlen'!E523","v":0},{"$f":"'aktuelle Zahlen'!F523","v":0},{"$f":"'aktuelle Zahlen'!G523","v":0},{"$f":"'aktuelle Zahlen'!H523","v":0},{"$f":"'aktuelle Zahlen'!J523","v":0},null," ",{"$f":"SUM(COUNTIF($C527:$H527,$AL$11:$AQ$11))","v":0}," ",{"$f":"SUM(COUNTIF($C527:$H527,$AS$11:$AX$11))","v":0}," ",{"$f":"SUM(COUNTIF($C527:$H527,$AZ$11:$BE$11))","v":0}," ",{"$f":"SUM(COUNTIF($C527:$H527,$BG$11:$BL$11))","v":0}," ",{"$f":"SUM(COUNTIF($C527:$H527,$BN$11:$BS$11))","v":0}," ",{"$f":"SUM(COUNTIF($C527:$H527,$BU$11:$BZ$11))","v":0}," ",{"$f":"SUM(COUNTIF($C527:$H527,$CB$11:$CG$11))","v":0}," ",{"$f":"SUM(COUNTIF($C527:$H527,$CI$11:$CN$11))","v":0}," ",{"$f":"SUM(COUNTIF($C527:$H527,$CP$11:$CU$11))","v":0}," ",{"$f":"SUM(COUNTIF($C527:$H527,$CW$11:$DB$11))","v":0}," ",{"$f":"SUM(COUNTIF($C527:$H527,$DD$11:$DI$11))","v":0}," ",{"$f":"SUM(COUNTIF($C527:$H527,$DK$11:$DP$11))","v":0}]
[{"$f":"'aktuelle Zahlen'!A524","v":0},{"$f":"'aktuelle Zahlen'!B524","v":"00:00:00"},{"$f":"'aktuelle Zahlen'!C524","v":0},{"$f":"'aktuelle Zahlen'!D524","v":0},{"$f":"'aktuelle Zahlen'!E524","v":0},{"$f":"'aktuelle Zahlen'!F524","v":0},{"$f":"'aktuelle Zahlen'!G524","v":0},{"$f":"'aktuelle Zahlen'!H524","v":0},{"$f":"'aktuelle Zahlen'!J524","v":0},null," ",{"$f":"SUM(COUNTIF($C528:$H528,$AL$11:$AQ$11))","v":0}," ",{"$f":"SUM(COUNTIF($C528:$H528,$AS$11:$AX$11))","v":0}," ",{"$f":"SUM(COUNTIF($C528:$H528,$AZ$11:$BE$11))","v":0}," ",{"$f":"SUM(COUNTIF($C528:$H528,$BG$11:$BL$11))","v":0}," ",{"$f":"SUM(COUNTIF($C528:$H528,$BN$11:$BS$11))","v":0}," ",{"$f":"SUM(COUNTIF($C528:$H528,$BU$11:$BZ$11))","v":0}," ",{"$f":"SUM(COUNTIF($C528:$H528,$CB$11:$CG$11))","v":0}," ",{"$f":"SUM(COUNTIF($C528:$H528,$CI$11:$CN$11))","v":0}," ",{"$f":"SUM(COUNTIF($C528:$H528,$CP$11:$CU$11))","v":0}," ",{"$f":"SUM(COUNTIF($C528:$H528,$CW$11:$DB$11))","v":0}," ",{"$f":"SUM(COUNTIF($C528:$H528,$DD$11:$DI$11))","v":0}," ",{"$f":"SUM(COUNTIF($C528:$H528,$DK$11:$DP$11))","v":0}]
[{"$f":"'aktuelle Zahlen'!A525","v":0},{"$f":"'aktuelle Zahlen'!B525","v":"00:00:00"},{"$f":"'aktuelle Zahlen'!C525","v":0},{"$f":"'aktuelle Zahlen'!D525","v":0},{"$f":"'aktuelle Zahlen'!E525","v":0},{"$f":"'aktuelle Zahlen'!F525","v":0},{"$f":"'aktuelle Zahlen'!G525","v":0},{"$f":"'aktuelle Zahlen'!H525","v":0},{"$f":"'aktuelle Zahlen'!J525","v":0},null,{"$f":"IF(L529>1,(IF($I529=$AJ$11,L529 & \"Z\",L529)),\" \")","v":" "},{"$f":"SUM(COUNTIF($C529:$H529,$AL$11:$AQ$11))","v":0},{"$f":"IF(N529>1,(IF($I529=$AJ$11,N529 & \"Z\",N529)),\" \")","v":" "},{"$f":"SUM(COUNTIF($C529:$H529,$AS$11:$AX$11))","v":0},{"$f":"IF(P529>1,(IF($I529=$AJ$11,P529 & \"Z\",P529)),\" \")","v":" "},{"$f":"SUM(COUNTIF($C529:$H529,$AZ$11:$BE$11))","v":0},{"$f":"IF(R529>1,(IF($I529=$AJ$11,R529 & \"Z\",R529)),\" \")","v":" "},{"$f":"SUM(COUNTIF($C529:$H529,$BG$11:$BL$11))","v":0},{"$f":"IF(T529>1,(IF($I529=$AJ$11,T529 & \"Z\",T529)),\" \")","v":" "},{"$f":"SUM(COUNTIF($C529:$H529,$BN$11:$BS$11))","v":0},{"$f":"IF(V529>1,(IF($I529=$AJ$11,V529 & \"Z\",V529)),\" \")","v":" "},{"$f":"SUM(COUNTIF($C529:$H529,$BU$11:$BZ$11))","v":0},{"$f":"IF(X529>1,(IF($I529=$AJ$11,X529 & \"Z\",X529)),\" \")","v":" "},{"$f":"SUM(COUNTIF($C529:$H529,$CB$11:$CG$11))","v":0},{"$f":"IF(Z529>1,(IF($I529=$AJ$11,Z529 & \"Z\",Z529)),\" \")","v":" "},{"$f":"SUM(COUNTIF($C529:$H529,$CI$11:$CN$11))","v":0},{"$f":"IF(AB529>1,(IF($I529=$AJ$11,AB529 & \"Z\",AB529)),\" \")","v":" "},{"$f":"SUM(COUNTIF($C529:$H529,$CP$11:$CU$11))","v":0},{"$f":"IF(AD529>1,(IF($I529=$AJ$11,AD529 & \"Z\",AD529)),\" \")","v":" "},{"$f":"SUM(COUNTIF($C529:$H529,$CW$11:$DB$11))","v":0},{"$f":"IF(AF529>1,(IF($I529=$AJ$11,AF529 & \"Z\",AF529)),\" \")","v":" "},{"$f":"SUM(COUNTIF($C529:$H529,$DD$11:$DI$11))","v":0},{"$f":"IF(AH529>1,(IF($I529=$AJ$11,AH529 & \"Z\",AH529)),\" \")","v":" "},{"$f":"SUM(COUNTIF($C529:$H529,$DK$11:$DP$11))","v":0}]
[{"$f":"'aktuelle Zahlen'!A526","v":0},{"$f":"'aktuelle Zahlen'!B526","v":"00:00:00"},{"$f":"'aktuelle Zahlen'!C526","v":0},{"$f":"'aktuelle Zahlen'!D526","v":0},{"$f":"'aktuelle Zahlen'!E526","v":0},{"$f":"'aktuelle Zahlen'!F526","v":0},{"$f":"'aktuelle Zahlen'!G526","v":0},{"$f":"'aktuelle Zahlen'!H526","v":0},{"$f":"'aktuelle Zahlen'!J526","v":0},null," ",{"$f":"SUM(COUNTIF($C530:$H530,$AL$11:$AQ$11))","v":0}," ",{"$f":"SUM(COUNTIF($C530:$H530,$AS$11:$AX$11))","v":0}," ",{"$f":"SUM(COUNTIF($C530:$H530,$AZ$11:$BE$11))","v":0}," ",{"$f":"SUM(COUNTIF($C530:$H530,$BG$11:$BL$11))","v":0}," ",{"$f":"SUM(COUNTIF($C530:$H530,$BN$11:$BS$11))","v":0}," ",{"$f":"SUM(COUNTIF($C530:$H530,$BU$11:$BZ$11))","v":0}," ",{"$f":"SUM(COUNTIF($C530:$H530,$CB$11:$CG$11))","v":0}," ",{"$f":"SUM(COUNTIF($C530:$H530,$CI$11:$CN$11))","v":0}," ",{"$f":"SUM(COUNTIF($C530:$H530,$CP$11:$CU$11))","v":0}," ",{"$f":"SUM(COUNTIF($C530:$H530,$CW$11:$DB$11))","v":0}," ",{"$f":"SUM(COUNTIF($C530:$H530,$DD$11:$DI$11))","v":0}," ",{"$f":"SUM(COUNTIF($C530:$H530,$DK$11:$DP$11))","v":0}]
[{"$f":"'aktuelle Zahlen'!A527","v":0},{"$f":"'aktuelle Zahlen'!B527","v":"00:00:00"},{"$f":"'aktuelle Zahlen'!C527","v":0},{"$f":"'aktuelle Zahlen'!D527","v":0},{"$f":"'aktuelle Zahlen'!E527","v":0},{"$f":"'aktuelle Zahlen'!F527","v":0},{"$f":"'aktuelle Zahlen'!G527","v":0},{"$f":"'aktuelle Zahlen'!H527","v":0},{"$f":"'aktuelle Zahlen'!J527","v":0},null," ",{"$f":"SUM(COUNTIF($C531:$H531,$AL$11:$AQ$11))","v":0}," ",{"$f":"SUM(COUNTIF($C531:$H531,$AS$11:$AX$11))","v":0}," ",{"$f":"SUM(COUNTIF($C531:$H531,$AZ$11:$BE$11))","v":0}," ",{"$f":"SUM(COUNTIF($C531:$H531,$BG$11:$BL$11))","v":0}," ",{"$f":"SUM(COUNTIF($C531:$H531,$BN$11:$BS$11))","v":0}," ",{"$f":"SUM(COUNTIF($C531:$H531,$BU$11:$BZ$11))","v":0}," ",{"$f":"SUM(COUNTIF($C531:$H531,$CB$11:$CG$11))","v":0}," ",{"$f":"SUM(COUNTIF($C531:$H531,$CI$11:$CN$11))","v":0}," ",{"$f":"SUM(COUNTIF($C531:$H531,$CP$11:$CU$11))","v":0}," ",{"$f":"SUM(COUNTIF($C531:$H531,$CW$11:$DB$11))","v":0}," ",{"$f":"SUM(COUNTIF($C531:$H531,$DD$11:$DI$11))","v":0}," ",{"$f":"SUM(COUNTIF($C531:$H531,$DK$11:$DP$11))","v":0}]
[{"$f":"'aktuelle Zahlen'!A528","v":0},{"$f":"'aktuelle Zahlen'!B528","v":"00:00:00"},{"$f":"'aktuelle Zahlen'!C528","v":0},{"$f":"'aktuelle Zahlen'!D528","v":0},{"$f":"'aktuelle Zahlen'!E528","v":0},{"$f":"'aktuelle Zahlen'!F528","v":0},{"$f":"'aktuelle Zahlen'!G528","v":0},{"$f":"'aktuelle Zahlen'!H528","v":0},{"$f":"'aktuelle Zahlen'!J528","v":0},null," ",{"$f":"SUM(COUNTIF($C532:$H532,$AL$11:$AQ$11))","v":0}," ",{"$f":"SUM(COUNTIF($C532:$H532,$AS$11:$AX$11))","v":0}," ",{"$f":"SUM(COUNTIF($C532:$H532,$AZ$11:$BE$11))","v":0}," ",{"$f":"SUM(COUNTIF($C532:$H532,$BG$11:$BL$11))","v":0}," ",{"$f":"SUM(COUNTIF($C532:$H532,$BN$11:$BS$11))","v":0}," ",{"$f":"SUM(COUNTIF($C532:$H532,$BU$11:$BZ$11))","v":0}," ",{"$f":"SUM(COUNTIF($C532:$H532,$CB$11:$CG$11))","v":0}," ",{"$f":"SUM(COUNTIF($C532:$H532,$CI$11:$CN$11))","v":0}," ",{"$f":"SUM(COUNTIF($C532:$H532,$CP$11:$CU$11))","v":0}," ",{"$f":"SUM(COUNTIF($C532:$H532,$CW$11:$DB$11))","v":0}," ",{"$f":"SUM(COUNTIF($C532:$H532,$DD$11:$DI$11))","v":0}," ",{"$f":"SUM(COUNTIF($C532:$H532,$DK$11:$DP$11))","v":0}]
[{"$f":"'aktuelle Zahlen'!A529","v":0},{"$f":"'aktuelle Zahlen'!B529","v":"00:00:00"},{"$f":"'aktuelle Zahlen'!C529","v":0},{"$f":"'aktuelle Zahlen'!D529","v":0},{"$f":"'aktuelle Zahlen'!E529","v":0},{"$f":"'aktuelle Zahlen'!F529","v":0},{"$f":"'aktuelle Zahlen'!G529","v":0},{"$f":"'aktuelle Zahlen'!H529","v":0},{"$f":"'aktuelle Zahlen'!J529","v":0},null," ",{"$f":"SUM(COUNTIF($C533:$H533,$AL$11:$AQ$11))","v":0}," ",{"$f":"SUM(COUNTIF($C533:$H533,$AS$11:$AX$11))","v":0}," ",{"$f":"SUM(COUNTIF($C533:$H533,$AZ$11:$BE$11))","v":0}," ",{"$f":"SUM(COUNTIF($C533:$H533,$BG$11:$BL$11))","v":0}," ",{"$f":"SUM(COUNTIF($C533:$H533,$BN$11:$BS$11))","v":0}," ",{"$f":"SUM(COUNTIF($C533:$H533,$BU$11:$BZ$11))","v":0}," ",{"$f":"SUM(COUNTIF($C533:$H533,$CB$11:$CG$11))","v":0}," ",{"$f":"SUM(COUNTIF($C533:$H533,$CI$11:$CN$11))","v":0}," ",{"$f":"SUM(COUNTIF($C533:$H533,$CP$11:$CU$11))","v":0}," ",{"$f":"SUM(COUNTIF($C533:$H533,$CW$11:$DB$11))","v":0}," ",{"$f":"SUM(COUNTIF($C533:$H533,$DD$11:$DI$11))","v":0}," ",{"$f":"SUM(COUNTIF($C533:$H533,$DK$11:$DP$11))","v":0}]
[{"$f":"'aktuelle Zahlen'!A530","v":0},{"$f":"'aktuelle Zahlen'!B530","v":"00:00:00"},{"$f":"'aktuelle Zahlen'!C530","v":0},{"$f":"'aktuelle Zahlen'!D530","v":0},{"$f":"'aktuelle Zahlen'!E530","v":0},{"$f":"'aktuelle Zahlen'!F530","v":0},{"$f":"'aktuelle Zahlen'!G530","v":0},{"$f":"'aktuelle Zahlen'!H530","v":0},{"$f":"'aktuelle Zahlen'!J530","v":0},null," ",{"$f":"SUM(COUNTIF($C534:$H534,$AL$11:$AQ$11))","v":0}," ",{"$f":"SUM(COUNTIF($C534:$H534,$AS$11:$AX$11))","v":0}," ",{"$f":"SUM(COUNTIF($C534:$H534,$AZ$11:$BE$11))","v":0}," ",{"$f":"SUM(COUNTIF($C534:$H534,$BG$11:$BL$11))","v":0}," ",{"$f":"SUM(COUNTIF($C534:$H534,$BN$11:$BS$11))","v":0}," ",{"$f":"SUM(COUNTIF($C534:$H534,$BU$11:$BZ$11))","v":0}," ",{"$f":"SUM(COUNTIF($C534:$H534,$CB$11:$CG$11))","v":0}," ",{"$f":"SUM(COUNTIF($C534:$H534,$CI$11:$CN$11))","v":0}," ",{"$f":"SUM(COUNTIF($C534:$H534,$CP$11:$CU$11))","v":0}," ",{"$f":"SUM(COUNTIF($C534:$H534,$CW$11:$DB$11))","v":0}," ",{"$f":"SUM(COUNTIF($C534:$H534,$DD$11:$DI$11))","v":0}," ",{"$f":"SUM(COUNTIF($C534:$H534,$DK$11:$DP$11))","v":0}]
[{"$f":"'aktuelle Zahlen'!A531","v":0},{"$f":"'aktuelle Zahlen'!B531","v":"00:00:00"},{"$f":"'aktuelle Zahlen'!C531","v":0},{"$f":"'aktuelle Zahlen'!D531","v":0},{"$f":"'aktuelle Zahlen'!E531","v":0},{"$f":"'aktuelle Zahlen'!F531","v":0},{"$f":"'aktuelle Zahlen'!G531","v":0},{"$f":"'aktuelle Zahlen'!H531","v":0},{"$f":"'aktuelle Zahlen'!J531","v":0},null," ",{"$f":"SUM(COUNTIF($C535:$H535,$AL$11:$AQ$11))","v":0}," ",{"$f":"SUM(COUNTIF($C535:$H535,$AS$11:$AX$11))","v":0}," ",{"$f":"SUM(COUNTIF($C535:$H535,$AZ$11:$BE$11))","v":0}," ",{"$f":"SUM(COUNTIF($C535:$H535,$BG$11:$BL$11))","v":0}," ",{"$f":"SUM(COUNTIF($C535:$H535,$BN$11:$BS$11))","v":0}," ",{"$f":"SUM(COUNTIF($C535:$H535,$BU$11:$BZ$11))","v":0}," ",{"$f":"SUM(COUNTIF($C535:$H535,$CB$11:$CG$11))","v":0}," ",{"$f":"SUM(COUNTIF($C535:$H535,$CI$11:$CN$11))","v":0}," ",{"$f":"SUM(COUNTIF($C535:$H535,$CP$11:$CU$11))","v":0}," ",{"$f":"SUM(COUNTIF($C535:$H535,$CW$11:$DB$11))","v":0}," ",{"$f":"SUM(COUNTIF($C535:$H535,$DD$11:$DI$11))","v":0}," ",{"$f":"SUM(COUNTIF($C535:$H535,$DK$11:$DP$11))","v":0}]
[{"$f":"'aktuelle Zahlen'!A532","v":0},{"$f":"'aktuelle Zahlen'!B532","v":"00:00:00"},{"$f":"'aktuelle Zahlen'!C532","v":0},{"$f":"'aktuelle Zahlen'!D532","v":0},{"$f":"'aktuelle Zahlen'!E532","v":0},{"$f":"'aktuelle Zahlen'!F532","v":0},{"$f":"'aktuelle Zahlen'!G532","v":0},{"$f":"'aktuelle Zahlen'!H532","v":0},{"$f":"'aktuelle Zahlen'!J532","v":0},null," ",{"$f":"SUM(COUNTIF($C536:$H536,$AL$11:$AQ$11))","v":0}," ",{"$f":"SUM(COUNTIF($C536:$H536,$AS$11:$AX$11))","v":0}," ",{"$f":"SUM(COUNTIF($C536:$H536,$AZ$11:$BE$11))","v":0}," ",{"$f":"SUM(COUNTIF($C536:$H536,$BG$11:$BL$11))","v":0}," ",{"$f":"SUM(COUNTIF($C536:$H536,$BN$11:$BS$11))","v":0}," ",{"$f":"SUM(COUNTIF($C536:$H536,$BU$11:$BZ$11))","v":0}," ",{"$f":"SUM(COUNTIF($C536:$H536,$CB$11:$CG$11))","v":0}," ",{"$f":"SUM(COUNTIF($C536:$H536,$CI$11:$CN$11))","v":0}," ",{"$f":"SUM(COUNTIF($C536:$H536,$CP$11:$CU$11))","v":0}," ",{"$f":"SUM(COUNTIF($C536:$H536,$CW$11:$DB$11))","v":0}," ",{"$f":"SUM(COUNTIF($C536:$H536,$DD$11:$DI$11))","v":0}," ",{"$f":"SUM(COUNTIF($C536:$H536,$DK$11:$DP$11))","v":0}]
[{"$f":"'aktuelle Zahlen'!A533","v":0},{"$f":"'aktuelle Zahlen'!B533","v":"00:00:00"},{"$f":"'aktuelle Zahlen'!C533","v":0},{"$f":"'aktuelle Zahlen'!D533","v":0},{"$f":"'aktuelle Zahlen'!E533","v":0},{"$f":"'aktuelle Zahlen'!F533","v":0},{"$f":"'aktuelle Zahlen'!G533","v":0},{"$f":"'aktuelle Zahlen'!H533","v":0},{"$f":"'aktuelle Zahlen'!J533","v":0},null," ",{"$f":"SUM(COUNTIF($C537:$H537,$AL$11:$AQ$11))","v":0}," ",{"$f":"SUM(COUNTIF($C537:$H537,$AS$11:$AX$11))","v":0}," ",{"$f":"SUM(COUNTIF($C537:$H537,$AZ$11:$BE$11))","v":0}," ",{"$f":"SUM(COUNTIF($C537:$H537,$BG$11:$BL$11))","v":0}," ",{"$f":"SUM(COUNTIF($C537:$H537,$BN$11:$BS$11))","v":0}," ",{"$f":"SUM(COUNTIF($C537:$H537,$BU$11:$BZ$11))","v":0}," ",{"$f":"SUM(COUNTIF($C537:$H537,$CB$11:$CG$11))","v":0}," ",{"$f":"SUM(COUNTIF($C537:$H537,$CI$11:$CN$11))","v":0}," ",{"$f":"SUM(COUNTIF($C537:$H537,$CP$11:$CU$11))","v":0}," ",{"$f":"SUM(COUNTIF($C537:$H537,$CW$11:$DB$11))","v":0}," ",{"$f":"SUM(COUNTIF($C537:$H537,$DD$11:$DI$11))","v":0}," ",{"$f":"SUM(COUNTIF($C537:$H537,$DK$11:$DP$11))","v":0}]
[{"$f":"'aktuelle Zahlen'!A534","v":0},{"$f":"'aktuelle Zahlen'!B534","v":"00:00:00"},{"$f":"'aktuelle Zahlen'!C534","v":0},{"$f":"'aktuelle Zahlen'!D534","v":0},{"$f":"'aktuelle Zahlen'!E534","v":0},{"$f":"'aktuelle Zahlen'!F534","v":0},{"$f":"'aktuelle Zahlen'!G534","v":0},{"$f":"'aktuelle Zahlen'!H534","v":0},{"$f":"'aktuelle Zahlen'!J534","v":0},null," ",{"$f":"SUM(COUNTIF($C538:$H538,$AL$11:$AQ$11))","v":0}," ",{"$f":"SUM(COUNTIF($C538:$H538,$AS$11:$AX$11))","v":0}," ",{"$f":"SUM(COUNTIF($C538:$H538,$AZ$11:$BE$11))","v":0}," ",{"$f":"SUM(COUNTIF($C538:$H538,$BG$11:$BL$11))","v":0}," ",{"$f":"SUM(COUNTIF($C538:$H538,$BN$11:$BS$11))","v":0}," ",{"$f":"SUM(COUNTIF($C538:$H538,$BU$11:$BZ$11))","v":0}," ",{"$f":"SUM(COUNTIF($C538:$H538,$CB$11:$CG$11))","v":0}," ",{"$f":"SUM(COUNTIF($C538:$H538,$CI$11:$CN$11))","v":0}," ",{"$f":"SUM(COUNTIF($C538:$H538,$CP$11:$CU$11))","v":0}," ",{"$f":"SUM(COUNTIF($C538:$H538,$CW$11:$DB$11))","v":0}," ",{"$f":"SUM(COUNTIF($C538:$H538,$DD$11:$DI$11))","v":0}," ",{"$f":"SUM(COUNTIF($C538:$H538,$DK$11:$DP$11))","v":0}]
[{"$f":"'aktuelle Zahlen'!A535","v":0},{"$f":"'aktuelle Zahlen'!B535","v":"00:00:00"},{"$f":"'aktuelle Zahlen'!C535","v":0},{"$f":"'aktuelle Zahlen'!D535","v":0},{"$f":"'aktuelle Zahlen'!E535","v":0},{"$f":"'aktuelle Zahlen'!F535","v":0},{"$f":"'aktuelle Zahlen'!G535","v":0},{"$f":"'aktuelle Zahlen'!H535","v":0},{"$f":"'aktuelle Zahlen'!J535","v":0},null," ",{"$f":"SUM(COUNTIF($C539:$H539,$AL$11:$AQ$11))","v":0}," ",{"$f":"SUM(COUNTIF($C539:$H539,$AS$11:$AX$11))","v":0}," ",{"$f":"SUM(COUNTIF($C539:$H539,$AZ$11:$BE$11))","v":0}," ",{"$f":"SUM(COUNTIF($C539:$H539,$BG$11:$BL$11))","v":0}," ",{"$f":"SUM(COUNTIF($C539:$H539,$BN$11:$BS$11))","v":0}," ",{"$f":"SUM(COUNTIF($C539:$H539,$BU$11:$BZ$11))","v":0}," ",{"$f":"SUM(COUNTIF($C539:$H539,$CB$11:$CG$11))","v":0}," ",{"$f":"SUM(COUNTIF($C539:$H539,$CI$11:$CN$11))","v":0}," ",{"$f":"SUM(COUNTIF($C539:$H539,$CP$11:$CU$11))","v":0}," ",{"$f":"SUM(COUNTIF($C539:$H539,$CW$11:$DB$11))","v":0}," ",{"$f":"SUM(COUNTIF($C539:$H539,$DD$11:$DI$11))","v":0}," ",{"$f":"SUM(COUNTIF($C539:$H539,$DK$11:$DP$11))","v":0}]
[{"$f":"'aktuelle Zahlen'!A536","v":0},{"$f":"'aktuelle Zahlen'!B536","v":"00:00:00"},{"$f":"'aktuelle Zahlen'!C536","v":0},{"$f":"'aktuelle Zahlen'!D536","v":0},{"$f":"'aktuelle Zahlen'!E536","v":0},{"$f":"'aktuelle Zahlen'!F536","v":0},{"$f":"'aktuelle Zahlen'!G536","v":0},{"$f":"'aktuelle Zahlen'!H536","v":0},{"$f":"'aktuelle Zahlen'!J536","v":0},null," ",{"$f":"SUM(COUNTIF($C540:$H540,$AL$11:$AQ$11))","v":0}," ",{"$f":"SUM(COUNTIF($C540:$H540,$AS$11:$AX$11))","v":0}," ",{"$f":"SUM(COUNTIF($C540:$H540,$AZ$11:$BE$11))","v":0}," ",{"$f":"SUM(COUNTIF($C540:$H540,$BG$11:$BL$11))","v":0}," ",{"$f":"SUM(COUNTIF($C540:$H540,$BN$11:$BS$11))","v":0}," ",{"$f":"SUM(COUNTIF($C540:$H540,$BU$11:$BZ$11))","v":0}," ",{"$f":"SUM(COUNTIF($C540:$H540,$CB$11:$CG$11))","v":0}," ",{"$f":"SUM(COUNTIF($C540:$H540,$CI$11:$CN$11))","v":0}," ",{"$f":"SUM(COUNTIF($C540:$H540,$CP$11:$CU$11))","v":0}," ",{"$f":"SUM(COUNTIF($C540:$H540,$CW$11:$DB$11))","v":0}," ",{"$f":"SUM(COUNTIF($C540:$H540,$DD$11:$DI$11))","v":0}," ",{"$f":"SUM(COUNTIF($C540:$H540,$DK$11:$DP$11))","v":0}]
[{"$f":"'aktuelle Zahlen'!A537","v":0},{"$f":"'aktuelle Zahlen'!B537","v":"00:00:00"},{"$f":"'aktuelle Zahlen'!C537","v":0},{"$f":"'aktuelle Zahlen'!D537","v":0},{"$f":"'aktuelle Zahlen'!E537","v":0},{"$f":"'aktuelle Zahlen'!F537","v":0},{"$f":"'aktuelle Zahlen'!G537","v":0},{"$f":"'aktuelle Zahlen'!H537","v":0},{"$f":"'aktuelle Zahlen'!J537","v":0},null," ",{"$f":"SUM(COUNTIF($C541:$H541,$AL$11:$AQ$11))","v":0}," ",{"$f":"SUM(COUNTIF($C541:$H541,$AS$11:$AX$11))","v":0}," ",{"$f":"SUM(COUNTIF($C541:$H541,$AZ$11:$BE$11))","v":0}," ",{"$f":"SUM(COUNTIF($C541:$H541,$BG$11:$BL$11))","v":0}," ",{"$f":"SUM(COUNTIF($C541:$H541,$BN$11:$BS$11))","v":0}," ",{"$f":"SUM(COUNTIF($C541:$H541,$BU$11:$BZ$11))","v":0}," ",{"$f":"SUM(COUNTIF($C541:$H541,$CB$11:$CG$11))","v":0}," ",{"$f":"SUM(COUNTIF($C541:$H541,$CI$11:$CN$11))","v":0}," ",{"$f":"SUM(COUNTIF($C541:$H541,$CP$11:$CU$11))","v":0}," ",{"$f":"SUM(COUNTIF($C541:$H541,$CW$11:$DB$11))","v":0}," ",{"$f":"SUM(COUNTIF($C541:$H541,$DD$11:$DI$11))","v":0}," ",{"$f":"SUM(COUNTIF($C541:$H541,$DK$11:$DP$11))","v":0}]
[{"$f":"'aktuelle Zahlen'!A538","v":0},{"$f":"'aktuelle Zahlen'!B538","v":"00:00:00"},{"$f":"'aktuelle Zahlen'!C538","v":0},{"$f":"'aktuelle Zahlen'!D538","v":0},{"$f":"'aktuelle Zahlen'!E538","v":0},{"$f":"'aktuelle Zahlen'!F538","v":0},{"$f":"'aktuelle Zahlen'!G538","v":0},{"$f":"'aktuelle Zahlen'!H538","v":0},{"$f":"'aktuelle Zahlen'!J538","v":0},null," ",{"$f":"SUM(COUNTIF($C542:$H542,$AL$11:$AQ$11))","v":0}," ",{"$f":"SUM(COUNTIF($C542:$H542,$AS$11:$AX$11))","v":0}," ",{"$f":"SUM(COUNTIF($C542:$H542,$AZ$11:$BE$11))","v":0}," ",{"$f":"SUM(COUNTIF($C542:$H542,$BG$11:$BL$11))","v":0}," ",{"$f":"SUM(COUNTIF($C542:$H542,$BN$11:$BS$11))","v":0}," ",{"$f":"SUM(COUNTIF($C542:$H542,$BU$11:$BZ$11))","v":0}," ",{"$f":"SUM(COUNTIF($C542:$H542,$CB$11:$CG$11))","v":0}," ",{"$f":"SUM(COUNTIF($C542:$H542,$CI$11:$CN$11))","v":0}," ",{"$f":"SUM(COUNTIF($C542:$H542,$CP$11:$CU$11))","v":0}," ",{"$f":"SUM(COUNTIF($C542:$H542,$CW$11:$DB$11))","v":0}," ",{"$f":"SUM(COUNTIF($C542:$H542,$DD$11:$DI$11))","v":0}," ",{"$f":"SUM(COUNTIF($C542:$H542,$DK$11:$DP$11))","v":0}]
[{"$f":"'aktuelle Zahlen'!A539","v":0},{"$f":"'aktuelle Zahlen'!B539","v":"00:00:00"},{"$f":"'aktuelle Zahlen'!C539","v":0},{"$f":"'aktuelle Zahlen'!D539","v":0},{"$f":"'aktuelle Zahlen'!E539","v":0},{"$f":"'aktuelle Zahlen'!F539","v":0},{"$f":"'aktuelle Zahlen'!G539","v":0},{"$f":"'aktuelle Zahlen'!H539","v":0},{"$f":"'aktuelle Zahlen'!J539","v":0},null," ",{"$f":"SUM(COUNTIF($C543:$H543,$AL$11:$AQ$11))","v":0}," ",{"$f":"SUM(COUNTIF($C543:$H543,$AS$11:$AX$11))","v":0}," ",{"$f":"SUM(COUNTIF($C543:$H543,$AZ$11:$BE$11))","v":0}," ",{"$f":"SUM(COUNTIF($C543:$H543,$BG$11:$BL$11))","v":0}," ",{"$f":"SUM(COUNTIF($C543:$H543,$BN$11:$BS$11))","v":0}," ",{"$f":"SUM(COUNTIF($C543:$H543,$BU$11:$BZ$11))","v":0}," ",{"$f":"SUM(COUNTIF($C543:$H543,$CB$11:$CG$11))","v":0}," ",{"$f":"SUM(COUNTIF($C543:$H543,$CI$11:$CN$11))","v":0}," ",{"$f":"SUM(COUNTIF($C543:$H543,$CP$11:$CU$11))","v":0}," ",{"$f":"SUM(COUNTIF($C543:$H543,$CW$11:$DB$11))","v":0}," ",{"$f":"SUM(COUNTIF($C543:$H543,$DD$11:$DI$11))","v":0}," ",{"$f":"SUM(COUNTIF($C543:$H543,$DK$11:$DP$11))","v":0}]
[{"$f":"'aktuelle Zahlen'!A540","v":0},{"$f":"'aktuelle Zahlen'!B540","v":"00:00:00"},{"$f":"'aktuelle Zahlen'!C540","v":0},{"$f":"'aktuelle Zahlen'!D540","v":0},{"$f":"'aktuelle Zahlen'!E540","v":0},{"$f":"'aktuelle Zahlen'!F540","v":0},{"$f":"'aktuelle Zahlen'!G540","v":0},{"$f":"'aktuelle Zahlen'!H540","v":0},{"$f":"'aktuelle Zahlen'!J540","v":0},null," ",{"$f":"SUM(COUNTIF($C544:$H544,$AL$11:$AQ$11))","v":0}," ",{"$f":"SUM(COUNTIF($C544:$H544,$AS$11:$AX$11))","v":0}," ",{"$f":"SUM(COUNTIF($C544:$H544,$AZ$11:$BE$11))","v":0}," ",{"$f":"SUM(COUNTIF($C544:$H544,$BG$11:$BL$11))","v":0}," ",{"$f":"SUM(COUNTIF($C544:$H544,$BN$11:$BS$11))","v":0}," ",{"$f":"SUM(COUNTIF($C544:$H544,$BU$11:$BZ$11))","v":0}," ",{"$f":"SUM(COUNTIF($C544:$H544,$CB$11:$CG$11))","v":0}," ",{"$f":"SUM(COUNTIF($C544:$H544,$CI$11:$CN$11))","v":0}," ",{"$f":"SUM(COUNTIF($C544:$H544,$CP$11:$CU$11))","v":0}," ",{"$f":"SUM(COUNTIF($C544:$H544,$CW$11:$DB$11))","v":0}," ",{"$f":"SUM(COUNTIF($C544:$H544,$DD$11:$DI$11))","v":0}," ",{"$f":"SUM(COUNTIF($C544:$H544,$DK$11:$DP$11))","v":0}]
[{"$f":"'aktuelle Zahlen'!A541","v":0},{"$f":"'aktuelle Zahlen'!B541","v":"00:00:00"},{"$f":"'aktuelle Zahlen'!C541","v":0},{"$f":"'aktuelle Zahlen'!D541","v":0},{"$f":"'aktuelle Zahlen'!E541","v":0},{"$f":"'aktuelle Zahlen'!F541","v":0},{"$f":"'aktuelle Zahlen'!G541","v":0},{"$f":"'aktuelle Zahlen'!H541","v":0},{"$f":"'aktuelle Zahlen'!J541","v":0},null," ",{"$f":"SUM(COUNTIF($C545:$H545,$AL$11:$AQ$11))","v":0}," ",{"$f":"SUM(COUNTIF($C545:$H545,$AS$11:$AX$11))","v":0}," ",{"$f":"SUM(COUNTIF($C545:$H545,$AZ$11:$BE$11))","v":0}," ",{"$f":"SUM(COUNTIF($C545:$H545,$BG$11:$BL$11))","v":0}," ",{"$f":"SUM(COUNTIF($C545:$H545,$BN$11:$BS$11))","v":0}," ",{"$f":"SUM(COUNTIF($C545:$H545,$BU$11:$BZ$11))","v":0}," ",{"$f":"SUM(COUNTIF($C545:$H545,$CB$11:$CG$11))","v":0}," ",{"$f":"SUM(COUNTIF($C545:$H545,$CI$11:$CN$11))","v":0}," ",{"$f":"SUM(COUNTIF($C545:$H545,$CP$11:$CU$11))","v":0}," ",{"$f":"SUM(COUNTIF($C545:$H545,$CW$11:$DB$11))","v":0}," ",{"$f":"SUM(COUNTIF($C545:$H545,$DD$11:$DI$11))","v":0}," ",{"$f":"SUM(COUNTIF($C545:$H545,$DK$11:$DP$11))","v":0}]
[{"$f":"'aktuelle Zahlen'!A542","v":0},{"$f":"'aktuelle Zahlen'!B542","v":"00:00:00"},{"$f":"'aktuelle Zahlen'!C542","v":0},{"$f":"'aktuelle Zahlen'!D542","v":0},{"$f":"'aktuelle Zahlen'!E542","v":0},{"$f":"'aktuelle Zahlen'!F542","v":0},{"$f":"'aktuelle Zahlen'!G542","v":0},{"$f":"'aktuelle Zahlen'!H542","v":0},{"$f":"'aktuelle Zahlen'!J542","v":0},null," ",{"$f":"SUM(COUNTIF($C546:$H546,$AL$11:$AQ$11))","v":0}," ",{"$f":"SUM(COUNTIF($C546:$H546,$AS$11:$AX$11))","v":0}," ",{"$f":"SUM(COUNTIF($C546:$H546,$AZ$11:$BE$11))","v":0}," ",{"$f":"SUM(COUNTIF($C546:$H546,$BG$11:$BL$11))","v":0}," ",{"$f":"SUM(COUNTIF($C546:$H546,$BN$11:$BS$11))","v":0}," ",{"$f":"SUM(COUNTIF($C546:$H546,$BU$11:$BZ$11))","v":0}," ",{"$f":"SUM(COUNTIF($C546:$H546,$CB$11:$CG$11))","v":0}," ",{"$f":"SUM(COUNTIF($C546:$H546,$CI$11:$CN$11))","v":0}," ",{"$f":"SUM(COUNTIF($C546:$H546,$CP$11:$CU$11))","v":0}," ",{"$f":"SUM(COUNTIF($C546:$H546,$CW$11:$DB$11))","v":0}," ",{"$f":"SUM(COUNTIF($C546:$H546,$DD$11:$DI$11))","v":0}," ",{"$f":"SUM(COUNTIF($C546:$H546,$DK$11:$DP$11))","v":0}]
[{"$f":"'aktuelle Zahlen'!A543","v":0},{"$f":"'aktuelle Zahlen'!B543","v":"00:00:00"},{"$f":"'aktuelle Zahlen'!C543","v":0},{"$f":"'aktuelle Zahlen'!D543","v":0},{"$f":"'aktuelle Zahlen'!E543","v":0},{"$f":"'aktuelle Zahlen'!F543","v":0},{"$f":"'aktuelle Zahlen'!G543","v":0},{"$f":"'aktuelle Zahlen'!H543","v":0},{"$f":"'aktuelle Zahlen'!J543","v":0},null," ",{"$f":"SUM(COUNTIF($C547:$H547,$AL$11:$AQ$11))","v":0}," ",{"$f":"SUM(COUNTIF($C547:$H547,$AS$11:$AX$11))","v":0}," ",{"$f":"SUM(COUNTIF($C547:$H547,$AZ$11:$BE$11))","v":0}," ",{"$f":"SUM(COUNTIF($C547:$H547,$BG$11:$BL$11))","v":0}," ",{"$f":"SUM(COUNTIF($C547:$H547,$BN$11:$BS$11))","v":0}," ",{"$f":"SUM(COUNTIF($C547:$H547,$BU$11:$BZ$11))","v":0}," ",{"$f":"SUM(COUNTIF($C547:$H547,$CB$11:$CG$11))","v":0}," ",{"$f":"SUM(COUNTIF($C547:$H547,$CI$11:$CN$11))","v":0}," ",{"$f":"SUM(COUNTIF($C547:$H547,$CP$11:$CU$11))","v":0}," ",{"$f":"SUM(COUNTIF($C547:$H547,$CW$11:$DB$11))","v":0}," ",{"$f":"SUM(COUNTIF($C547:$H547,$DD$11:$DI$11))","v":0}," ",{"$f":"SUM(COUNTIF($C547:$H547,$DK$11:$DP$11))","v":0}]
[{"$f":"'aktuelle Zahlen'!A544","v":0},{"$f":"'aktuelle Zahlen'!B544","v":"00:00:00"},{"$f":"'aktuelle Zahlen'!C544","v":0},{"$f":"'aktuelle Zahlen'!D544","v":0},{"$f":"'aktuelle Zahlen'!E544","v":0},{"$f":"'aktuelle Zahlen'!F544","v":0},{"$f":"'aktuelle Zahlen'!G544","v":0},{"$f":"'aktuelle Zahlen'!H544","v":0},{"$f":"'aktuelle Zahlen'!J544","v":0},null," ",{"$f":"SUM(COUNTIF($C548:$H548,$AL$11:$AQ$11))","v":0}," ",{"$f":"SUM(COUNTIF($C548:$H548,$AS$11:$AX$11))","v":0}," ",{"$f":"SUM(COUNTIF($C548:$H548,$AZ$11:$BE$11))","v":0}," ",{"$f":"SUM(COUNTIF($C548:$H548,$BG$11:$BL$11))","v":0}," ",{"$f":"SUM(COUNTIF($C548:$H548,$BN$11:$BS$11))","v":0}," ",{"$f":"SUM(COUNTIF($C548:$H548,$BU$11:$BZ$11))","v":0}," ",{"$f":"SUM(COUNTIF($C548:$H548,$CB$11:$CG$11))","v":0}," ",{"$f":"SUM(COUNTIF($C548:$H548,$CI$11:$CN$11))","v":0}," ",{"$f":"SUM(COUNTIF($C548:$H548,$CP$11:$CU$11))","v":0}," ",{"$f":"SUM(COUNTIF($C548:$H548,$CW$11:$DB$11))","v":0}," ",{"$f":"SUM(COUNTIF($C548:$H548,$DD$11:$DI$11))","v":0}," ",{"$f":"SUM(COUNTIF($C548:$H548,$DK$11:$DP$11))","v":0}]
[{"$f":"'aktuelle Zahlen'!A545","v":0},{"$f":"'aktuelle Zahlen'!B545","v":"00:00:00"},{"$f":"'aktuelle Zahlen'!C545","v":0},{"$f":"'aktuelle Zahlen'!D545","v":0},{"$f":"'aktuelle Zahlen'!E545","v":0},{"$f":"'aktuelle Zahlen'!F545","v":0},{"$f":"'aktuelle Zahlen'!G545","v":0},{"$f":"'aktuelle Zahlen'!H545","v":0},{"$f":"'aktuelle Zahlen'!J545","v":0},null," ",{"$f":"SUM(COUNTIF($C549:$H549,$AL$11:$AQ$11))","v":0}," ",{"$f":"SUM(COUNTIF($C549:$H549,$AS$11:$AX$11))","v":0}," ",{"$f":"SUM(COUNTIF($C549:$H549,$AZ$11:$BE$11))","v":0}," ",{"$f":"SUM(COUNTIF($C549:$H549,$BG$11:$BL$11))","v":0}," ",{"$f":"SUM(COUNTIF($C549:$H549,$BN$11:$BS$11))","v":0}," ",{"$f":"SUM(COUNTIF($C549:$H549,$BU$11:$BZ$11))","v":0}," ",{"$f":"SUM(COUNTIF($C549:$H549,$CB$11:$CG$11))","v":0}," ",{"$f":"SUM(COUNTIF($C549:$H549,$CI$11:$CN$11))","v":0}," ",{"$f":"SUM(COUNTIF($C549:$H549,$CP$11:$CU$11))","v":0}," ",{"$f":"SUM(COUNTIF($C549:$H549,$CW$11:$DB$11))","v":0}," ",{"$f":"SUM(COUNTIF($C549:$H549,$DD$11:$DI$11))","v":0}," ",{"$f":"SUM(COUNTIF($C549:$H549,$DK$11:$DP$11))","v":0}]
[{"$f":"'aktuelle Zahlen'!A546","v":0},{"$f":"'aktuelle Zahlen'!B546","v":"00:00:00"},{"$f":"'aktuelle Zahlen'!C546","v":0},{"$f":"'aktuelle Zahlen'!D546","v":0},{"$f":"'aktuelle Zahlen'!E546","v":0},{"$f":"'aktuelle Zahlen'!F546","v":0},{"$f":"'aktuelle Zahlen'!G546","v":0},{"$f":"'aktuelle Zahlen'!H546","v":0},{"$f":"'aktuelle Zahlen'!J546","v":0},null," ",{"$f":"SUM(COUNTIF($C550:$H550,$AL$11:$AQ$11))","v":0}," ",{"$f":"SUM(COUNTIF($C550:$H550,$AS$11:$AX$11))","v":0}," ",{"$f":"SUM(COUNTIF($C550:$H550,$AZ$11:$BE$11))","v":0}," ",{"$f":"SUM(COUNTIF($C550:$H550,$BG$11:$BL$11))","v":0}," ",{"$f":"SUM(COUNTIF($C550:$H550,$BN$11:$BS$11))","v":0}," ",{"$f":"SUM(COUNTIF($C550:$H550,$BU$11:$BZ$11))","v":0}," ",{"$f":"SUM(COUNTIF($C550:$H550,$CB$11:$CG$11))","v":0}," ",{"$f":"SUM(COUNTIF($C550:$H550,$CI$11:$CN$11))","v":0}," ",{"$f":"SUM(COUNTIF($C550:$H550,$CP$11:$CU$11))","v":0}," ",{"$f":"SUM(COUNTIF($C550:$H550,$CW$11:$DB$11))","v":0}," ",{"$f":"SUM(COUNTIF($C550:$H550,$DD$11:$DI$11))","v":0}," ",{"$f":"SUM(COUNTIF($C550:$H550,$DK$11:$DP$11))","v":0}]
[{"$f":"'aktuelle Zahlen'!A547","v":0},{"$f":"'aktuelle Zahlen'!B547","v":"00:00:00"},{"$f":"'aktuelle Zahlen'!C547","v":0},{"$f":"'aktuelle Zahlen'!D547","v":0},{"$f":"'aktuelle Zahlen'!E547","v":0},{"$f":"'aktuelle Zahlen'!F547","v":0},{"$f":"'aktuelle Zahlen'!G547","v":0},{"$f":"'aktuelle Zahlen'!H547","v":0},{"$f":"'aktuelle Zahlen'!J547","v":0},null," ",{"$f":"SUM(COUNTIF($C551:$H551,$AL$11:$AQ$11))","v":0}," ",{"$f":"SUM(COUNTIF($C551:$H551,$AS$11:$AX$11))","v":0}," ",{"$f":"SUM(COUNTIF($C551:$H551,$AZ$11:$BE$11))","v":0}," ",{"$f":"SUM(COUNTIF($C551:$H551,$BG$11:$BL$11))","v":0}," ",{"$f":"SUM(COUNTIF($C551:$H551,$BN$11:$BS$11))","v":0}," ",{"$f":"SUM(COUNTIF($C551:$H551,$BU$11:$BZ$11))","v":0}," ",{"$f":"SUM(COUNTIF($C551:$H551,$CB$11:$CG$11))","v":0}," ",{"$f":"SUM(COUNTIF($C551:$H551,$CI$11:$CN$11))","v":0}," ",{"$f":"SUM(COUNTIF($C551:$H551,$CP$11:$CU$11))","v":0}," ",{"$f":"SUM(COUNTIF($C551:$H551,$CW$11:$DB$11))","v":0}," ",{"$f":"SUM(COUNTIF($C551:$H551,$DD$11:$DI$11))","v":0}," ",{"$f":"SUM(COUNTIF($C551:$H551,$DK$11:$DP$11))","v":0}]
[{"$f":"'aktuelle Zahlen'!A548","v":0},{"$f":"'aktuelle Zahlen'!B548","v":"00:00:00"},{"$f":"'aktuelle Zahlen'!C548","v":0},{"$f":"'aktuelle Zahlen'!D548","v":0},{"$f":"'aktuelle Zahlen'!E548","v":0},{"$f":"'aktuelle Zahlen'!F548","v":0},{"$f":"'aktuelle Zahlen'!G548","v":0},{"$f":"'aktuelle Zahlen'!H548","v":0},{"$f":"'aktuelle Zahlen'!J548","v":0},null," ",{"$f":"SUM(COUNTIF($C552:$H552,$AL$11:$AQ$11))","v":0}," ",{"$f":"SUM(COUNTIF($C552:$H552,$AS$11:$AX$11))","v":0}," ",{"$f":"SUM(COUNTIF($C552:$H552,$AZ$11:$BE$11))","v":0}," ",{"$f":"SUM(COUNTIF($C552:$H552,$BG$11:$BL$11))","v":0}," ",{"$f":"SUM(COUNTIF($C552:$H552,$BN$11:$BS$11))","v":0}," ",{"$f":"SUM(COUNTIF($C552:$H552,$BU$11:$BZ$11))","v":0}," ",{"$f":"SUM(COUNTIF($C552:$H552,$CB$11:$CG$11))","v":0}," ",{"$f":"SUM(COUNTIF($C552:$H552,$CI$11:$CN$11))","v":0}," ",{"$f":"SUM(COUNTIF($C552:$H552,$CP$11:$CU$11))","v":0}," ",{"$f":"SUM(COUNTIF($C552:$H552,$CW$11:$DB$11))","v":0}," ",{"$f":"SUM(COUNTIF($C552:$H552,$DD$11:$DI$11))","v":0}," ",{"$f":"SUM(COUNTIF($C552:$H552,$DK$11:$DP$11))","v":0}]
[{"$f":"'aktuelle Zahlen'!A549","v":0},{"$f":"'aktuelle Zahlen'!B549","v":"00:00:00"},{"$f":"'aktuelle Zahlen'!C549","v":0},{"$f":"'aktuelle Zahlen'!D549","v":0},{"$f":"'aktuelle Zahlen'!E549","v":0},{"$f":"'aktuelle Zahlen'!F549","v":0},{"$f":"'aktuelle Zahlen'!G549","v":0},{"$f":"'aktuelle Zahlen'!H549","v":0},{"$f":"'aktuelle Zahlen'!J549","v":0},null," ",{"$f":"SUM(COUNTIF($C553:$H553,$AL$11:$AQ$11))","v":0}," ",{"$f":"SUM(COUNTIF($C553:$H553,$AS$11:$AX$11))","v":0}," ",{"$f":"SUM(COUNTIF($C553:$H553,$AZ$11:$BE$11))","v":0}," ",{"$f":"SUM(COUNTIF($C553:$H553,$BG$11:$BL$11))","v":0}," ",{"$f":"SUM(COUNTIF($C553:$H553,$BN$11:$BS$11))","v":0}," ",{"$f":"SUM(COUNTIF($C553:$H553,$BU$11:$BZ$11))","v":0}," ",{"$f":"SUM(COUNTIF($C553:$H553,$CB$11:$CG$11))","v":0}," ",{"$f":"SUM(COUNTIF($C553:$H553,$CI$11:$CN$11))","v":0}," ",{"$f":"SUM(COUNTIF($C553:$H553,$CP$11:$CU$11))","v":0}," ",{"$f":"SUM(COUNTIF($C553:$H553,$CW$11:$DB$11))","v":0}," ",{"$f":"SUM(COUNTIF($C553:$H553,$DD$11:$DI$11))","v":0}," ",{"$f":"SUM(COUNTIF($C553:$H553,$DK$11:$DP$11))","v":0}]
[{"$f":"'aktuelle Zahlen'!A550","v":0},{"$f":"'aktuelle Zahlen'!B550","v":"00:00:00"},{"$f":"'aktuelle Zahlen'!C550","v":0},{"$f":"'aktuelle Zahlen'!D550","v":0},{"$f":"'aktuelle Zahlen'!E550","v":0},{"$f":"'aktuelle Zahlen'!F550","v":0},{"$f":"'aktuelle Zahlen'!G550","v":0},{"$f":"'aktuelle Zahlen'!H550","v":0},{"$f":"'aktuelle Zahlen'!J550","v":0},null," ",{"$f":"SUM(COUNTIF($C554:$H554,$AL$11:$AQ$11))","v":0}," ",{"$f":"SUM(COUNTIF($C554:$H554,$AS$11:$AX$11))","v":0}," ",{"$f":"SUM(COUNTIF($C554:$H554,$AZ$11:$BE$11))","v":0}," ",{"$f":"SUM(COUNTIF($C554:$H554,$BG$11:$BL$11))","v":0}," ",{"$f":"SUM(COUNTIF($C554:$H554,$BN$11:$BS$11))","v":0}," ",{"$f":"SUM(COUNTIF($C554:$H554,$BU$11:$BZ$11))","v":0}," ",{"$f":"SUM(COUNTIF($C554:$H554,$CB$11:$CG$11))","v":0}," ",{"$f":"SUM(COUNTIF($C554:$H554,$CI$11:$CN$11))","v":0}," ",{"$f":"SUM(COUNTIF($C554:$H554,$CP$11:$CU$11))","v":0}," ",{"$f":"SUM(COUNTIF($C554:$H554,$CW$11:$DB$11))","v":0}," ",{"$f":"SUM(COUNTIF($C554:$H554,$DD$11:$DI$11))","v":0}," ",{"$f":"SUM(COUNTIF($C554:$H554,$DK$11:$DP$11))","v":0}]
[{"$f":"'aktuelle Zahlen'!A551","v":0},{"$f":"'aktuelle Zahlen'!B551","v":"00:00:00"},{"$f":"'aktuelle Zahlen'!C551","v":0},{"$f":"'aktuelle Zahlen'!D551","v":0},{"$f":"'aktuelle Zahlen'!E551","v":0},{"$f":"'aktuelle Zahlen'!F551","v":0},{"$f":"'aktuelle Zahlen'!G551","v":0},{"$f":"'aktuelle Zahlen'!H551","v":0},{"$f":"'aktuelle Zahlen'!J551","v":0},null," ",{"$f":"SUM(COUNTIF($C555:$H555,$AL$11:$AQ$11))","v":0}," ",{"$f":"SUM(COUNTIF($C555:$H555,$AS$11:$AX$11))","v":0}," ",{"$f":"SUM(COUNTIF($C555:$H555,$AZ$11:$BE$11))","v":0}," ",{"$f":"SUM(COUNTIF($C555:$H555,$BG$11:$BL$11))","v":0}," ",{"$f":"SUM(COUNTIF($C555:$H555,$BN$11:$BS$11))","v":0}," ",{"$f":"SUM(COUNTIF($C555:$H555,$BU$11:$BZ$11))","v":0}," ",{"$f":"SUM(COUNTIF($C555:$H555,$CB$11:$CG$11))","v":0}," ",{"$f":"SUM(COUNTIF($C555:$H555,$CI$11:$CN$11))","v":0}," ",{"$f":"SUM(COUNTIF($C555:$H555,$CP$11:$CU$11))","v":0}," ",{"$f":"SUM(COUNTIF($C555:$H555,$CW$11:$DB$11))","v":0}," ",{"$f":"SUM(COUNTIF($C555:$H555,$DD$11:$DI$11))","v":0}," ",{"$f":"SUM(COUNTIF($C555:$H555,$DK$11:$DP$11))","v":0}]
[{"$f":"'aktuelle Zahlen'!A552","v":0},{"$f":"'aktuelle Zahlen'!B552","v":"00:00:00"},{"$f":"'aktuelle Zahlen'!C552","v":0},{"$f":"'aktuelle Zahlen'!D552","v":0},{"$f":"'aktuelle Zahlen'!E552","v":0},{"$f":"'aktuelle Zahlen'!F552","v":0},{"$f":"'aktuelle Zahlen'!G552","v":0},{"$f":"'aktuelle Zahlen'!H552","v":0},{"$f":"'aktuelle Zahlen'!J552","v":0},null," ",{"$f":"SUM(COUNTIF($C556:$H556,$AL$11:$AQ$11))","v":0}," ",{"$f":"SUM(COUNTIF($C556:$H556,$AS$11:$AX$11))","v":0}," ",{"$f":"SUM(COUNTIF($C556:$H556,$AZ$11:$BE$11))","v":0}," ",{"$f":"SUM(COUNTIF($C556:$H556,$BG$11:$BL$11))","v":0}," ",{"$f":"SUM(COUNTIF($C556:$H556,$BN$11:$BS$11))","v":0}," ",{"$f":"SUM(COUNTIF($C556:$H556,$BU$11:$BZ$11))","v":0}," ",{"$f":"SUM(COUNTIF($C556:$H556,$CB$11:$CG$11))","v":0}," ",{"$f":"SUM(COUNTIF($C556:$H556,$CI$11:$CN$11))","v":0}," ",{"$f":"SUM(COUNTIF($C556:$H556,$CP$11:$CU$11))","v":0}," ",{"$f":"SUM(COUNTIF($C556:$H556,$CW$11:$DB$11))","v":0}," ",{"$f":"SUM(COUNTIF($C556:$H556,$DD$11:$DI$11))","v":0}," ",{"$f":"SUM(COUNTIF($C556:$H556,$DK$11:$DP$11))","v":0}]
[{"$f":"'aktuelle Zahlen'!A553","v":0},{"$f":"'aktuelle Zahlen'!B553","v":"00:00:00"},{"$f":"'aktuelle Zahlen'!C553","v":0},{"$f":"'aktuelle Zahlen'!D553","v":0},{"$f":"'aktuelle Zahlen'!E553","v":0},{"$f":"'aktuelle Zahlen'!F553","v":0},{"$f":"'aktuelle Zahlen'!G553","v":0},{"$f":"'aktuelle Zahlen'!H553","v":0},{"$f":"'aktuelle Zahlen'!J553","v":0},null," ",{"$f":"SUM(COUNTIF($C557:$H557,$AL$11:$AQ$11))","v":0}," ",{"$f":"SUM(COUNTIF($C557:$H557,$AS$11:$AX$11))","v":0}," ",{"$f":"SUM(COUNTIF($C557:$H557,$AZ$11:$BE$11))","v":0}," ",{"$f":"SUM(COUNTIF($C557:$H557,$BG$11:$BL$11))","v":0}," ",{"$f":"SUM(COUNTIF($C557:$H557,$BN$11:$BS$11))","v":0}," ",{"$f":"SUM(COUNTIF($C557:$H557,$BU$11:$BZ$11))","v":0}," ",{"$f":"SUM(COUNTIF($C557:$H557,$CB$11:$CG$11))","v":0}," ",{"$f":"SUM(COUNTIF($C557:$H557,$CI$11:$CN$11))","v":0}," ",{"$f":"SUM(COUNTIF($C557:$H557,$CP$11:$CU$11))","v":0}," ",{"$f":"SUM(COUNTIF($C557:$H557,$CW$11:$DB$11))","v":0}," ",{"$f":"SUM(COUNTIF($C557:$H557,$DD$11:$DI$11))","v":0}," ",{"$f":"SUM(COUNTIF($C557:$H557,$DK$11:$DP$11))","v":0}]
[{"$f":"'aktuelle Zahlen'!A554","v":0},{"$f":"'aktuelle Zahlen'!B554","v":"00:00:00"},{"$f":"'aktuelle Zahlen'!C554","v":0},{"$f":"'aktuelle Zahlen'!D554","v":0},{"$f":"'aktuelle Zahlen'!E554","v":0},{"$f":"'aktuelle Zahlen'!F554","v":0},{"$f":"'aktuelle Zahlen'!G554","v":0},{"$f":"'aktuelle Zahlen'!H554","v":0},{"$f":"'aktuelle Zahlen'!J554","v":0},null," ",{"$f":"SUM(COUNTIF($C558:$H558,$AL$11:$AQ$11))","v":0}," ",{"$f":"SUM(COUNTIF($C558:$H558,$AS$11:$AX$11))","v":0}," ",{"$f":"SUM(COUNTIF($C558:$H558,$AZ$11:$BE$11))","v":0}," ",{"$f":"SUM(COUNTIF($C558:$H558,$BG$11:$BL$11))","v":0}," ",{"$f":"SUM(COUNTIF($C558:$H558,$BN$11:$BS$11))","v":0}," ",{"$f":"SUM(COUNTIF($C558:$H558,$BU$11:$BZ$11))","v":0}," ",{"$f":"SUM(COUNTIF($C558:$H558,$CB$11:$CG$11))","v":0}," ",{"$f":"SUM(COUNTIF($C558:$H558,$CI$11:$CN$11))","v":0}," ",{"$f":"SUM(COUNTIF($C558:$H558,$CP$11:$CU$11))","v":0}," ",{"$f":"SUM(COUNTIF($C558:$H558,$CW$11:$DB$11))","v":0}," ",{"$f":"SUM(COUNTIF($C558:$H558,$DD$11:$DI$11))","v":0}," ",{"$f":"SUM(COUNTIF($C558:$H558,$DK$11:$DP$11))","v":0}]
[{"$f":"'aktuelle Zahlen'!A555","v":0},{"$f":"'aktuelle Zahlen'!B555","v":"00:00:00"},{"$f":"'aktuelle Zahlen'!C555","v":0},{"$f":"'aktuelle Zahlen'!D555","v":0},{"$f":"'aktuelle Zahlen'!E555","v":0},{"$f":"'aktuelle Zahlen'!F555","v":0},{"$f":"'aktuelle Zahlen'!G555","v":0},{"$f":"'aktuelle Zahlen'!H555","v":0},{"$f":"'aktuelle Zahlen'!J555","v":0},null," ",{"$f":"SUM(COUNTIF($C559:$H559,$AL$11:$AQ$11))","v":0}," ",{"$f":"SUM(COUNTIF($C559:$H559,$AS$11:$AX$11))","v":0}," ",{"$f":"SUM(COUNTIF($C559:$H559,$AZ$11:$BE$11))","v":0}," ",{"$f":"SUM(COUNTIF($C559:$H559,$BG$11:$BL$11))","v":0}," ",{"$f":"SUM(COUNTIF($C559:$H559,$BN$11:$BS$11))","v":0}," ",{"$f":"SUM(COUNTIF($C559:$H559,$BU$11:$BZ$11))","v":0}," ",{"$f":"SUM(COUNTIF($C559:$H559,$CB$11:$CG$11))","v":0}," ",{"$f":"SUM(COUNTIF($C559:$H559,$CI$11:$CN$11))","v":0}," ",{"$f":"SUM(COUNTIF($C559:$H559,$CP$11:$CU$11))","v":0}," ",{"$f":"SUM(COUNTIF($C559:$H559,$CW$11:$DB$11))","v":0}," ",{"$f":"SUM(COUNTIF($C559:$H559,$DD$11:$DI$11))","v":0}," ",{"$f":"SUM(COUNTIF($C559:$H559,$DK$11:$DP$11))","v":0}]
[{"$f":"'aktuelle Zahlen'!A556","v":0},{"$f":"'aktuelle Zahlen'!B556","v":"00:00:00"},{"$f":"'aktuelle Zahlen'!C556","v":0},{"$f":"'aktuelle Zahlen'!D556","v":0},{"$f":"'aktuelle Zahlen'!E556","v":0},{"$f":"'aktuelle Zahlen'!F556","v":0},{"$f":"'aktuelle Zahlen'!G556","v":0},{"$f":"'aktuelle Zahlen'!H556","v":0},{"$f":"'aktuelle Zahlen'!J556","v":0},null," ",{"$f":"SUM(COUNTIF($C560:$H560,$AL$11:$AQ$11))","v":0}," ",{"$f":"SUM(COUNTIF($C560:$H560,$AS$11:$AX$11))","v":0}," ",{"$f":"SUM(COUNTIF($C560:$H560,$AZ$11:$BE$11))","v":0}," ",{"$f":"SUM(COUNTIF($C560:$H560,$BG$11:$BL$11))","v":0}," ",{"$f":"SUM(COUNTIF($C560:$H560,$BN$11:$BS$11))","v":0}," ",{"$f":"SUM(COUNTIF($C560:$H560,$BU$11:$BZ$11))","v":0}," ",{"$f":"SUM(COUNTIF($C560:$H560,$CB$11:$CG$11))","v":0}," ",{"$f":"SUM(COUNTIF($C560:$H560,$CI$11:$CN$11))","v":0}," ",{"$f":"SUM(COUNTIF($C560:$H560,$CP$11:$CU$11))","v":0}," ",{"$f":"SUM(COUNTIF($C560:$H560,$CW$11:$DB$11))","v":0}," ",{"$f":"SUM(COUNTIF($C560:$H560,$DD$11:$DI$11))","v":0}," ",{"$f":"SUM(COUNTIF($C560:$H560,$DK$11:$DP$11))","v":0}]
[{"$f":"'aktuelle Zahlen'!A557","v":0},{"$f":"'aktuelle Zahlen'!B557","v":"00:00:00"},{"$f":"'aktuelle Zahlen'!C557","v":0},{"$f":"'aktuelle Zahlen'!D557","v":0},{"$f":"'aktuelle Zahlen'!E557","v":0},{"$f":"'aktuelle Zahlen'!F557","v":0},{"$f":"'aktuelle Zahlen'!G557","v":0},{"$f":"'aktuelle Zahlen'!H557","v":0},{"$f":"'aktuelle Zahlen'!J557","v":0},null," ",{"$f":"SUM(COUNTIF($C561:$H561,$AL$11:$AQ$11))","v":0}," ",{"$f":"SUM(COUNTIF($C561:$H561,$AS$11:$AX$11))","v":0}," ",{"$f":"SUM(COUNTIF($C561:$H561,$AZ$11:$BE$11))","v":0}," ",{"$f":"SUM(COUNTIF($C561:$H561,$BG$11:$BL$11))","v":0}," ",{"$f":"SUM(COUNTIF($C561:$H561,$BN$11:$BS$11))","v":0}," ",{"$f":"SUM(COUNTIF($C561:$H561,$BU$11:$BZ$11))","v":0}," ",{"$f":"SUM(COUNTIF($C561:$H561,$CB$11:$CG$11))","v":0}," ",{"$f":"SUM(COUNTIF($C561:$H561,$CI$11:$CN$11))","v":0}," ",{"$f":"SUM(COUNTIF($C561:$H561,$CP$11:$CU$11))","v":0}," ",{"$f":"SUM(COUNTIF($C561:$H561,$CW$11:$DB$11))","v":0}," ",{"$f":"SUM(COUNTIF($C561:$H561,$DD$11:$DI$11))","v":0}," ",{"$f":"SUM(COUNTIF($C561:$H561,$DK$11:$DP$11))","v":0}]
[{"$f":"'aktuelle Zahlen'!A558","v":0},{"$f":"'aktuelle Zahlen'!B558","v":"00:00:00"},{"$f":"'aktuelle Zahlen'!C558","v":0},{"$f":"'aktuelle Zahlen'!D558","v":0},{"$f":"'aktuelle Zahlen'!E558","v":0},{"$f":"'aktuelle Zahlen'!F558","v":0},{"$f":"'aktuelle Zahlen'!G558","v":0},{"$f":"'aktuelle Zahlen'!H558","v":0},{"$f":"'aktuelle Zahlen'!J558","v":0},null," ",{"$f":"SUM(COUNTIF($C562:$H562,$AL$11:$AQ$11))","v":0}," ",{"$f":"SUM(COUNTIF($C562:$H562,$AS$11:$AX$11))","v":0}," ",{"$f":"SUM(COUNTIF($C562:$H562,$AZ$11:$BE$11))","v":0}," ",{"$f":"SUM(COUNTIF($C562:$H562,$BG$11:$BL$11))","v":0}," ",{"$f":"SUM(COUNTIF($C562:$H562,$BN$11:$BS$11))","v":0}," ",{"$f":"SUM(COUNTIF($C562:$H562,$BU$11:$BZ$11))","v":0}," ",{"$f":"SUM(COUNTIF($C562:$H562,$CB$11:$CG$11))","v":0}," ",{"$f":"SUM(COUNTIF($C562:$H562,$CI$11:$CN$11))","v":0}," ",{"$f":"SUM(COUNTIF($C562:$H562,$CP$11:$CU$11))","v":0}," ",{"$f":"SUM(COUNTIF($C562:$H562,$CW$11:$DB$11))","v":0}," ",{"$f":"SUM(COUNTIF($C562:$H562,$DD$11:$DI$11))","v":0}," ",{"$f":"SUM(COUNTIF($C562:$H562,$DK$11:$DP$11))","v":0}]
[{"$f":"'aktuelle Zahlen'!A559","v":0},{"$f":"'aktuelle Zahlen'!B559","v":"00:00:00"},{"$f":"'aktuelle Zahlen'!C559","v":0},{"$f":"'aktuelle Zahlen'!D559","v":0},{"$f":"'aktuelle Zahlen'!E559","v":0},{"$f":"'aktuelle Zahlen'!F559","v":0},{"$f":"'aktuelle Zahlen'!G559","v":0},{"$f":"'aktuelle Zahlen'!H559","v":0},{"$f":"'aktuelle Zahlen'!J559","v":0},null," ",{"$f":"SUM(COUNTIF($C563:$H563,$AL$11:$AQ$11))","v":0}," ",{"$f":"SUM(COUNTIF($C563:$H563,$AS$11:$AX$11))","v":0}," ",{"$f":"SUM(COUNTIF($C563:$H563,$AZ$11:$BE$11))","v":0}," ",{"$f":"SUM(COUNTIF($C563:$H563,$BG$11:$BL$11))","v":0}," ",{"$f":"SUM(COUNTIF($C563:$H563,$BN$11:$BS$11))","v":0}," ",{"$f":"SUM(COUNTIF($C563:$H563,$BU$11:$BZ$11))","v":0}," ",{"$f":"SUM(COUNTIF($C563:$H563,$CB$11:$CG$11))","v":0}," ",{"$f":"SUM(COUNTIF($C563:$H563,$CI$11:$CN$11))","v":0}," ",{"$f":"SUM(COUNTIF($C563:$H563,$CP$11:$CU$11))","v":0}," ",{"$f":"SUM(COUNTIF($C563:$H563,$CW$11:$DB$11))","v":0}," ",{"$f":"SUM(COUNTIF($C563:$H563,$DD$11:$DI$11))","v":0}," ",{"$f":"SUM(COUNTIF($C563:$H563,$DK$11:$DP$11))","v":0}]
[{"$f":"'aktuelle Zahlen'!A560","v":0},{"$f":"'aktuelle Zahlen'!B560","v":"00:00:00"},{"$f":"'aktuelle Zahlen'!C560","v":0},{"$f":"'aktuelle Zahlen'!D560","v":0},{"$f":"'aktuelle Zahlen'!E560","v":0},{"$f":"'aktuelle Zahlen'!F560","v":0},{"$f":"'aktuelle Zahlen'!G560","v":0},{"$f":"'aktuelle Zahlen'!H560","v":0},{"$f":"'aktuelle Zahlen'!J560","v":0},null," ",{"$f":"SUM(COUNTIF($C564:$H564,$AL$11:$AQ$11))","v":0}," ",{"$f":"SUM(COUNTIF($C564:$H564,$AS$11:$AX$11))","v":0}," ",{"$f":"SUM(COUNTIF($C564:$H564,$AZ$11:$BE$11))","v":0}," ",{"$f":"SUM(COUNTIF($C564:$H564,$BG$11:$BL$11))","v":0}," ",{"$f":"SUM(COUNTIF($C564:$H564,$BN$11:$BS$11))","v":0}," ",{"$f":"SUM(COUNTIF($C564:$H564,$BU$11:$BZ$11))","v":0}," ",{"$f":"SUM(COUNTIF($C564:$H564,$CB$11:$CG$11))","v":0}," ",{"$f":"SUM(COUNTIF($C564:$H564,$CI$11:$CN$11))","v":0}," ",{"$f":"SUM(COUNTIF($C564:$H564,$CP$11:$CU$11))","v":0}," ",{"$f":"SUM(COUNTIF($C564:$H564,$CW$11:$DB$11))","v":0}," ",{"$f":"SUM(COUNTIF($C564:$H564,$DD$11:$DI$11))","v":0}," ",{"$f":"SUM(COUNTIF($C564:$H564,$DK$11:$DP$11))","v":0}]
[{"$f":"'aktuelle Zahlen'!A561","v":0},{"$f":"'aktuelle Zahlen'!B561","v":"00:00:00"},{"$f":"'aktuelle Zahlen'!C561","v":0},{"$f":"'aktuelle Zahlen'!D561","v":0},{"$f":"'aktuelle Zahlen'!E561","v":0},{"$f":"'aktuelle Zahlen'!F561","v":0},{"$f":"'aktuelle Zahlen'!G561","v":0},{"$f":"'aktuelle Zahlen'!H561","v":0},{"$f":"'aktuelle Zahlen'!J561","v":0},null," ",{"$f":"SUM(COUNTIF($C565:$H565,$AL$11:$AQ$11))","v":0}," ",{"$f":"SUM(COUNTIF($C565:$H565,$AS$11:$AX$11))","v":0}," ",{"$f":"SUM(COUNTIF($C565:$H565,$AZ$11:$BE$11))","v":0}," ",{"$f":"SUM(COUNTIF($C565:$H565,$BG$11:$BL$11))","v":0}," ",{"$f":"SUM(COUNTIF($C565:$H565,$BN$11:$BS$11))","v":0}," ",{"$f":"SUM(COUNTIF($C565:$H565,$BU$11:$BZ$11))","v":0}," ",{"$f":"SUM(COUNTIF($C565:$H565,$CB$11:$CG$11))","v":0}," ",{"$f":"SUM(COUNTIF($C565:$H565,$CI$11:$CN$11))","v":0}," ",{"$f":"SUM(COUNTIF($C565:$H565,$CP$11:$CU$11))","v":0}," ",{"$f":"SUM(COUNTIF($C565:$H565,$CW$11:$DB$11))","v":0}," ",{"$f":"SUM(COUNTIF($C565:$H565,$DD$11:$DI$11))","v":0}," ",{"$f":"SUM(COUNTIF($C565:$H565,$DK$11:$DP$11))","v":0}]
[{"$f":"'aktuelle Zahlen'!A562","v":0},{"$f":"'aktuelle Zahlen'!B562","v":"00:00:00"},{"$f":"'aktuelle Zahlen'!C562","v":0},{"$f":"'aktuelle Zahlen'!D562","v":0},{"$f":"'aktuelle Zahlen'!E562","v":0},{"$f":"'aktuelle Zahlen'!F562","v":0},{"$f":"'aktuelle Zahlen'!G562","v":0},{"$f":"'aktuelle Zahlen'!H562","v":0},{"$f":"'aktuelle Zahlen'!J562","v":0},null," ",{"$f":"SUM(COUNTIF($C566:$H566,$AL$11:$AQ$11))","v":0}," ",{"$f":"SUM(COUNTIF($C566:$H566,$AS$11:$AX$11))","v":0}," ",{"$f":"SUM(COUNTIF($C566:$H566,$AZ$11:$BE$11))","v":0}," ",{"$f":"SUM(COUNTIF($C566:$H566,$BG$11:$BL$11))","v":0}," ",{"$f":"SUM(COUNTIF($C566:$H566,$BN$11:$BS$11))","v":0}," ",{"$f":"SUM(COUNTIF($C566:$H566,$BU$11:$BZ$11))","v":0}," ",{"$f":"SUM(COUNTIF($C566:$H566,$CB$11:$CG$11))","v":0}," ",{"$f":"SUM(COUNTIF($C566:$H566,$CI$11:$CN$11))","v":0}," ",{"$f":"SUM(COUNTIF($C566:$H566,$CP$11:$CU$11))","v":0}," ",{"$f":"SUM(COUNTIF($C566:$H566,$CW$11:$DB$11))","v":0}," ",{"$f":"SUM(COUNTIF($C566:$H566,$DD$11:$DI$11))","v":0}," ",{"$f":"SUM(COUNTIF($C566:$H566,$DK$11:$DP$11))","v":0}]
[{"$f":"'aktuelle Zahlen'!A563","v":0},{"$f":"'aktuelle Zahlen'!B563","v":"00:00:00"},{"$f":"'aktuelle Zahlen'!C563","v":0},{"$f":"'aktuelle Zahlen'!D563","v":0},{"$f":"'aktuelle Zahlen'!E563","v":0},{"$f":"'aktuelle Zahlen'!F563","v":0},{"$f":"'aktuelle Zahlen'!G563","v":0},{"$f":"'aktuelle Zahlen'!H563","v":0},{"$f":"'aktuelle Zahlen'!J563","v":0},null," ",{"$f":"SUM(COUNTIF($C567:$H567,$AL$11:$AQ$11))","v":0}," ",{"$f":"SUM(COUNTIF($C567:$H567,$AS$11:$AX$11))","v":0}," ",{"$f":"SUM(COUNTIF($C567:$H567,$AZ$11:$BE$11))","v":0}," ",{"$f":"SUM(COUNTIF($C567:$H567,$BG$11:$BL$11))","v":0}," ",{"$f":"SUM(COUNTIF($C567:$H567,$BN$11:$BS$11))","v":0}," ",{"$f":"SUM(COUNTIF($C567:$H567,$BU$11:$BZ$11))","v":0}," ",{"$f":"SUM(COUNTIF($C567:$H567,$CB$11:$CG$11))","v":0}," ",{"$f":"SUM(COUNTIF($C567:$H567,$CI$11:$CN$11))","v":0}," ",{"$f":"SUM(COUNTIF($C567:$H567,$CP$11:$CU$11))","v":0}," ",{"$f":"SUM(COUNTIF($C567:$H567,$CW$11:$DB$11))","v":0}," ",{"$f":"SUM(COUNTIF($C567:$H567,$DD$11:$DI$11))","v":0}," ",{"$f":"SUM(COUNTIF($C567:$H567,$DK$11:$DP$11))","v":0}]
[{"$f":"'aktuelle Zahlen'!A564","v":0},{"$f":"'aktuelle Zahlen'!B564","v":"00:00:00"},{"$f":"'aktuelle Zahlen'!C564","v":0},{"$f":"'aktuelle Zahlen'!D564","v":0},{"$f":"'aktuelle Zahlen'!E564","v":0},{"$f":"'aktuelle Zahlen'!F564","v":0},{"$f":"'aktuelle Zahlen'!G564","v":0},{"$f":"'aktuelle Zahlen'!H564","v":0},{"$f":"'aktuelle Zahlen'!J564","v":0},null," ",{"$f":"SUM(COUNTIF($C568:$H568,$AL$11:$AQ$11))","v":0}," ",{"$f":"SUM(COUNTIF($C568:$H568,$AS$11:$AX$11))","v":0}," ",{"$f":"SUM(COUNTIF($C568:$H568,$AZ$11:$BE$11))","v":0}," ",{"$f":"SUM(COUNTIF($C568:$H568,$BG$11:$BL$11))","v":0}," ",{"$f":"SUM(COUNTIF($C568:$H568,$BN$11:$BS$11))","v":0}," ",{"$f":"SUM(COUNTIF($C568:$H568,$BU$11:$BZ$11))","v":0}," ",{"$f":"SUM(COUNTIF($C568:$H568,$CB$11:$CG$11))","v":0}," ",{"$f":"SUM(COUNTIF($C568:$H568,$CI$11:$CN$11))","v":0}," ",{"$f":"SUM(COUNTIF($C568:$H568,$CP$11:$CU$11))","v":0}," ",{"$f":"SUM(COUNTIF($C568:$H568,$CW$11:$DB$11))","v":0}," ",{"$f":"SUM(COUNTIF($C568:$H568,$DD$11:$DI$11))","v":0}," ",{"$f":"SUM(COUNTIF($C568:$H568,$DK$11:$DP$11))","v":0}]
[{"$f":"'aktuelle Zahlen'!A565","v":0},{"$f":"'aktuelle Zahlen'!B565","v":"00:00:00"},{"$f":"'aktuelle Zahlen'!C565","v":0},{"$f":"'aktuelle Zahlen'!D565","v":0},{"$f":"'aktuelle Zahlen'!E565","v":0},{"$f":"'aktuelle Zahlen'!F565","v":0},{"$f":"'aktuelle Zahlen'!G565","v":0},{"$f":"'aktuelle Zahlen'!H565","v":0},{"$f":"'aktuelle Zahlen'!J565","v":0},null," ",{"$f":"SUM(COUNTIF($C569:$H569,$AL$11:$AQ$11))","v":0}," ",{"$f":"SUM(COUNTIF($C569:$H569,$AS$11:$AX$11))","v":0}," ",{"$f":"SUM(COUNTIF($C569:$H569,$AZ$11:$BE$11))","v":0}," ",{"$f":"SUM(COUNTIF($C569:$H569,$BG$11:$BL$11))","v":0}," ",{"$f":"SUM(COUNTIF($C569:$H569,$BN$11:$BS$11))","v":0}," ",{"$f":"SUM(COUNTIF($C569:$H569,$BU$11:$BZ$11))","v":0}," ",{"$f":"SUM(COUNTIF($C569:$H569,$CB$11:$CG$11))","v":0}," ",{"$f":"SUM(COUNTIF($C569:$H569,$CI$11:$CN$11))","v":0}," ",{"$f":"SUM(COUNTIF($C569:$H569,$CP$11:$CU$11))","v":0}," ",{"$f":"SUM(COUNTIF($C569:$H569,$CW$11:$DB$11))","v":0}," ",{"$f":"SUM(COUNTIF($C569:$H569,$DD$11:$DI$11))","v":0}," ",{"$f":"SUM(COUNTIF($C569:$H569,$DK$11:$DP$11))","v":0}]
[{"$f":"'aktuelle Zahlen'!A566","v":0},{"$f":"'aktuelle Zahlen'!B566","v":"00:00:00"},{"$f":"'aktuelle Zahlen'!C566","v":0},{"$f":"'aktuelle Zahlen'!D566","v":0},{"$f":"'aktuelle Zahlen'!E566","v":0},{"$f":"'aktuelle Zahlen'!F566","v":0},{"$f":"'aktuelle Zahlen'!G566","v":0},{"$f":"'aktuelle Zahlen'!H566","v":0},{"$f":"'aktuelle Zahlen'!J566","v":0},null," ",{"$f":"SUM(COUNTIF($C570:$H570,$AL$11:$AQ$11))","v":0}," ",{"$f":"SUM(COUNTIF($C570:$H570,$AS$11:$AX$11))","v":0}," ",{"$f":"SUM(COUNTIF($C570:$H570,$AZ$11:$BE$11))","v":0}," ",{"$f":"SUM(COUNTIF($C570:$H570,$BG$11:$BL$11))","v":0}," ",{"$f":"SUM(COUNTIF($C570:$H570,$BN$11:$BS$11))","v":0}," ",{"$f":"SUM(COUNTIF($C570:$H570,$BU$11:$BZ$11))","v":0}," ",{"$f":"SUM(COUNTIF($C570:$H570,$CB$11:$CG$11))","v":0}," ",{"$f":"SUM(COUNTIF($C570:$H570,$CI$11:$CN$11))","v":0}," ",{"$f":"SUM(COUNTIF($C570:$H570,$CP$11:$CU$11))","v":0}," ",{"$f":"SUM(COUNTIF($C570:$H570,$CW$11:$DB$11))","v":0}," ",{"$f":"SUM(COUNTIF($C570:$H570,$DD$11:$DI$11))","v":0}," ",{"$f":"SUM(COUNTIF($C570:$H570,$DK$11:$DP$11))","v":0}]
[{"$f":"'aktuelle Zahlen'!A567","v":0},{"$f":"'aktuelle Zahlen'!B567","v":"00:00:00"},{"$f":"'aktuelle Zahlen'!C567","v":0},{"$f":"'aktuelle Zahlen'!D567","v":0},{"$f":"'aktuelle Zahlen'!E567","v":0},{"$f":"'aktuelle Zahlen'!F567","v":0},{"$f":"'aktuelle Zahlen'!G567","v":0},{"$f":"'aktuelle Zahlen'!H567","v":0},{"$f":"'aktuelle Zahlen'!J567","v":0},null," ",{"$f":"SUM(COUNTIF($C571:$H571,$AL$11:$AQ$11))","v":0}," ",{"$f":"SUM(COUNTIF($C571:$H571,$AS$11:$AX$11))","v":0}," ",{"$f":"SUM(COUNTIF($C571:$H571,$AZ$11:$BE$11))","v":0}," ",{"$f":"SUM(COUNTIF($C571:$H571,$BG$11:$BL$11))","v":0}," ",{"$f":"SUM(COUNTIF($C571:$H571,$BN$11:$BS$11))","v":0}," ",{"$f":"SUM(COUNTIF($C571:$H571,$BU$11:$BZ$11))","v":0}," ",{"$f":"SUM(COUNTIF($C571:$H571,$CB$11:$CG$11))","v":0}," ",{"$f":"SUM(COUNTIF($C571:$H571,$CI$11:$CN$11))","v":0}," ",{"$f":"SUM(COUNTIF($C571:$H571,$CP$11:$CU$11))","v":0}," ",{"$f":"SUM(COUNTIF($C571:$H571,$CW$11:$DB$11))","v":0}," ",{"$f":"SUM(COUNTIF($C571:$H571,$DD$11:$DI$11))","v":0}," ",{"$f":"SUM(COUNTIF($C571:$H571,$DK$11:$DP$11))","v":0}]
[{"$f":"'aktuelle Zahlen'!A568","v":0},{"$f":"'aktuelle Zahlen'!B568","v":"00:00:00"},{"$f":"'aktuelle Zahlen'!C568","v":0},{"$f":"'aktuelle Zahlen'!D568","v":0},{"$f":"'aktuelle Zahlen'!E568","v":0},{"$f":"'aktuelle Zahlen'!F568","v":0},{"$f":"'aktuelle Zahlen'!G568","v":0},{"$f":"'aktuelle Zahlen'!H568","v":0},{"$f":"'aktuelle Zahlen'!J568","v":0},null," ",{"$f":"SUM(COUNTIF($C572:$H572,$AL$11:$AQ$11))","v":0}," ",{"$f":"SUM(COUNTIF($C572:$H572,$AS$11:$AX$11))","v":0}," ",{"$f":"SUM(COUNTIF($C572:$H572,$AZ$11:$BE$11))","v":0}," ",{"$f":"SUM(COUNTIF($C572:$H572,$BG$11:$BL$11))","v":0}," ",{"$f":"SUM(COUNTIF($C572:$H572,$BN$11:$BS$11))","v":0}," ",{"$f":"SUM(COUNTIF($C572:$H572,$BU$11:$BZ$11))","v":0}," ",{"$f":"SUM(COUNTIF($C572:$H572,$CB$11:$CG$11))","v":0}," ",{"$f":"SUM(COUNTIF($C572:$H572,$CI$11:$CN$11))","v":0}," ",{"$f":"SUM(COUNTIF($C572:$H572,$CP$11:$CU$11))","v":0}," ",{"$f":"SUM(COUNTIF($C572:$H572,$CW$11:$DB$11))","v":0}," ",{"$f":"SUM(COUNTIF($C572:$H572,$DD$11:$DI$11))","v":0}," ",{"$f":"SUM(COUNTIF($C572:$H572,$DK$11:$DP$11))","v":0}]
[{"$f":"'aktuelle Zahlen'!A569","v":0},{"$f":"'aktuelle Zahlen'!B569","v":"00:00:00"},{"$f":"'aktuelle Zahlen'!C569","v":0},{"$f":"'aktuelle Zahlen'!D569","v":0},{"$f":"'aktuelle Zahlen'!E569","v":0},{"$f":"'aktuelle Zahlen'!F569","v":0},{"$f":"'aktuelle Zahlen'!G569","v":0},{"$f":"'aktuelle Zahlen'!H569","v":0},{"$f":"'aktuelle Zahlen'!J569","v":0},null," ",{"$f":"SUM(COUNTIF($C573:$H573,$AL$11:$AQ$11))","v":0}," ",{"$f":"SUM(COUNTIF($C573:$H573,$AS$11:$AX$11))","v":0}," ",{"$f":"SUM(COUNTIF($C573:$H573,$AZ$11:$BE$11))","v":0}," ",{"$f":"SUM(COUNTIF($C573:$H573,$BG$11:$BL$11))","v":0}," ",{"$f":"SUM(COUNTIF($C573:$H573,$BN$11:$BS$11))","v":0}," ",{"$f":"SUM(COUNTIF($C573:$H573,$BU$11:$BZ$11))","v":0}," ",{"$f":"SUM(COUNTIF($C573:$H573,$CB$11:$CG$11))","v":0}," ",{"$f":"SUM(COUNTIF($C573:$H573,$CI$11:$CN$11))","v":0}," ",{"$f":"SUM(COUNTIF($C573:$H573,$CP$11:$CU$11))","v":0}," ",{"$f":"SUM(COUNTIF($C573:$H573,$CW$11:$DB$11))","v":0}," ",{"$f":"SUM(COUNTIF($C573:$H573,$DD$11:$DI$11))","v":0}," ",{"$f":"SUM(COUNTIF($C573:$H573,$DK$11:$DP$11))","v":0}]
[{"$f":"'aktuelle Zahlen'!A570","v":0},{"$f":"'aktuelle Zahlen'!B570","v":"00:00:00"},{"$f":"'aktuelle Zahlen'!C570","v":0},{"$f":"'aktuelle Zahlen'!D570","v":0},{"$f":"'aktuelle Zahlen'!E570","v":0},{"$f":"'aktuelle Zahlen'!F570","v":0},{"$f":"'aktuelle Zahlen'!G570","v":0},{"$f":"'aktuelle Zahlen'!H570","v":0},{"$f":"'aktuelle Zahlen'!J570","v":0},null," ",{"$f":"SUM(COUNTIF($C574:$H574,$AL$11:$AQ$11))","v":0}," ",{"$f":"SUM(COUNTIF($C574:$H574,$AS$11:$AX$11))","v":0}," ",{"$f":"SUM(COUNTIF($C574:$H574,$AZ$11:$BE$11))","v":0}," ",{"$f":"SUM(COUNTIF($C574:$H574,$BG$11:$BL$11))","v":0}," ",{"$f":"SUM(COUNTIF($C574:$H574,$BN$11:$BS$11))","v":0}," ",{"$f":"SUM(COUNTIF($C574:$H574,$BU$11:$BZ$11))","v":0}," ",{"$f":"SUM(COUNTIF($C574:$H574,$CB$11:$CG$11))","v":0}," ",{"$f":"SUM(COUNTIF($C574:$H574,$CI$11:$CN$11))","v":0}," ",{"$f":"SUM(COUNTIF($C574:$H574,$CP$11:$CU$11))","v":0}," ",{"$f":"SUM(COUNTIF($C574:$H574,$CW$11:$DB$11))","v":0}," ",{"$f":"SUM(COUNTIF($C574:$H574,$DD$11:$DI$11))","v":0}," ",{"$f":"SUM(COUNTIF($C574:$H574,$DK$11:$DP$11))","v":0}]
[{"$f":"'aktuelle Zahlen'!A571","v":0},{"$f":"'aktuelle Zahlen'!B571","v":"00:00:00"},{"$f":"'aktuelle Zahlen'!C571","v":0},{"$f":"'aktuelle Zahlen'!D571","v":0},{"$f":"'aktuelle Zahlen'!E571","v":0},{"$f":"'aktuelle Zahlen'!F571","v":0},{"$f":"'aktuelle Zahlen'!G571","v":0},{"$f":"'aktuelle Zahlen'!H571","v":0},{"$f":"'aktuelle Zahlen'!J571","v":0},null," ",{"$f":"SUM(COUNTIF($C575:$H575,$AL$11:$AQ$11))","v":0}," ",{"$f":"SUM(COUNTIF($C575:$H575,$AS$11:$AX$11))","v":0}," ",{"$f":"SUM(COUNTIF($C575:$H575,$AZ$11:$BE$11))","v":0}," ",{"$f":"SUM(COUNTIF($C575:$H575,$BG$11:$BL$11))","v":0}," ",{"$f":"SUM(COUNTIF($C575:$H575,$BN$11:$BS$11))","v":0}," ",{"$f":"SUM(COUNTIF($C575:$H575,$BU$11:$BZ$11))","v":0}," ",{"$f":"SUM(COUNTIF($C575:$H575,$CB$11:$CG$11))","v":0}," ",{"$f":"SUM(COUNTIF($C575:$H575,$CI$11:$CN$11))","v":0}," ",{"$f":"SUM(COUNTIF($C575:$H575,$CP$11:$CU$11))","v":0}," ",{"$f":"SUM(COUNTIF($C575:$H575,$CW$11:$DB$11))","v":0}," ",{"$f":"SUM(COUNTIF($C575:$H575,$DD$11:$DI$11))","v":0}," ",{"$f":"SUM(COUNTIF($C575:$H575,$DK$11:$DP$11))","v":0}]
[{"$f":"'aktuelle Zahlen'!A572","v":0},{"$f":"'aktuelle Zahlen'!B572","v":"00:00:00"},{"$f":"'aktuelle Zahlen'!C572","v":0},{"$f":"'aktuelle Zahlen'!D572","v":0},{"$f":"'aktuelle Zahlen'!E572","v":0},{"$f":"'aktuelle Zahlen'!F572","v":0},{"$f":"'aktuelle Zahlen'!G572","v":0},{"$f":"'aktuelle Zahlen'!H572","v":0},{"$f":"'aktuelle Zahlen'!J572","v":0},null," ",{"$f":"SUM(COUNTIF($C576:$H576,$AL$11:$AQ$11))","v":0}," ",{"$f":"SUM(COUNTIF($C576:$H576,$AS$11:$AX$11))","v":0}," ",{"$f":"SUM(COUNTIF($C576:$H576,$AZ$11:$BE$11))","v":0}," ",{"$f":"SUM(COUNTIF($C576:$H576,$BG$11:$BL$11))","v":0}," ",{"$f":"SUM(COUNTIF($C576:$H576,$BN$11:$BS$11))","v":0}," ",{"$f":"SUM(COUNTIF($C576:$H576,$BU$11:$BZ$11))","v":0}," ",{"$f":"SUM(COUNTIF($C576:$H576,$CB$11:$CG$11))","v":0}," ",{"$f":"SUM(COUNTIF($C576:$H576,$CI$11:$CN$11))","v":0}," ",{"$f":"SUM(COUNTIF($C576:$H576,$CP$11:$CU$11))","v":0}," ",{"$f":"SUM(COUNTIF($C576:$H576,$CW$11:$DB$11))","v":0}," ",{"$f":"SUM(COUNTIF($C576:$H576,$DD$11:$DI$11))","v":0}," ",{"$f":"SUM(COUNTIF($C576:$H576,$DK$11:$DP$11))","v":0}]
[{"$f":"'aktuelle Zahlen'!A573","v":0},{"$f":"'aktuelle Zahlen'!B573","v":"00:00:00"},{"$f":"'aktuelle Zahlen'!C573","v":0},{"$f":"'aktuelle Zahlen'!D573","v":0},{"$f":"'aktuelle Zahlen'!E573","v":0},{"$f":"'aktuelle Zahlen'!F573","v":0},{"$f":"'aktuelle Zahlen'!G573","v":0},{"$f":"'aktuelle Zahlen'!H573","v":0},{"$f":"'aktuelle Zahlen'!J573","v":0},null," ",{"$f":"SUM(COUNTIF($C577:$H577,$AL$11:$AQ$11))","v":0}," ",{"$f":"SUM(COUNTIF($C577:$H577,$AS$11:$AX$11))","v":0}," ",{"$f":"SUM(COUNTIF($C577:$H577,$AZ$11:$BE$11))","v":0}," ",{"$f":"SUM(COUNTIF($C577:$H577,$BG$11:$BL$11))","v":0}," ",{"$f":"SUM(COUNTIF($C577:$H577,$BN$11:$BS$11))","v":0}," ",{"$f":"SUM(COUNTIF($C577:$H577,$BU$11:$BZ$11))","v":0}," ",{"$f":"SUM(COUNTIF($C577:$H577,$CB$11:$CG$11))","v":0}," ",{"$f":"SUM(COUNTIF($C577:$H577,$CI$11:$CN$11))","v":0}," ",{"$f":"SUM(COUNTIF($C577:$H577,$CP$11:$CU$11))","v":0}," ",{"$f":"SUM(COUNTIF($C577:$H577,$CW$11:$DB$11))","v":0}," ",{"$f":"SUM(COUNTIF($C577:$H577,$DD$11:$DI$11))","v":0}," ",{"$f":"SUM(COUNTIF($C577:$H577,$DK$11:$DP$11))","v":0}]
[{"$f":"'aktuelle Zahlen'!A574","v":0},{"$f":"'aktuelle Zahlen'!B574","v":"00:00:00"},{"$f":"'aktuelle Zahlen'!C574","v":0},{"$f":"'aktuelle Zahlen'!D574","v":0},{"$f":"'aktuelle Zahlen'!E574","v":0},{"$f":"'aktuelle Zahlen'!F574","v":0},{"$f":"'aktuelle Zahlen'!G574","v":0},{"$f":"'aktuelle Zahlen'!H574","v":0},{"$f":"'aktuelle Zahlen'!J574","v":0},null," ",{"$f":"SUM(COUNTIF($C578:$H578,$AL$11:$AQ$11))","v":0}," ",{"$f":"SUM(COUNTIF($C578:$H578,$AS$11:$AX$11))","v":0}," ",{"$f":"SUM(COUNTIF($C578:$H578,$AZ$11:$BE$11))","v":0}," ",{"$f":"SUM(COUNTIF($C578:$H578,$BG$11:$BL$11))","v":0}," ",{"$f":"SUM(COUNTIF($C578:$H578,$BN$11:$BS$11))","v":0}," ",{"$f":"SUM(COUNTIF($C578:$H578,$BU$11:$BZ$11))","v":0}," ",{"$f":"SUM(COUNTIF($C578:$H578,$CB$11:$CG$11))","v":0}," ",{"$f":"SUM(COUNTIF($C578:$H578,$CI$11:$CN$11))","v":0}," ",{"$f":"SUM(COUNTIF($C578:$H578,$CP$11:$CU$11))","v":0}," ",{"$f":"SUM(COUNTIF($C578:$H578,$CW$11:$DB$11))","v":0}," ",{"$f":"SUM(COUNTIF($C578:$H578,$DD$11:$DI$11))","v":0}," ",{"$f":"SUM(COUNTIF($C578:$H578,$DK$11:$DP$11))","v":0}]
[{"$f":"'aktuelle Zahlen'!A575","v":0},{"$f":"'aktuelle Zahlen'!B575","v":"00:00:00"},{"$f":"'aktuelle Zahlen'!C575","v":0},{"$f":"'aktuelle Zahlen'!D575","v":0},{"$f":"'aktuelle Zahlen'!E575","v":0},{"$f":"'aktuelle Zahlen'!F575","v":0},{"$f":"'aktuelle Zahlen'!G575","v":0},{"$f":"'aktuelle Zahlen'!H575","v":0},{"$f":"'aktuelle Zahlen'!J575","v":0},null," ",{"$f":"SUM(COUNTIF($C579:$H579,$AL$11:$AQ$11))","v":0}," ",{"$f":"SUM(COUNTIF($C579:$H579,$AS$11:$AX$11))","v":0}," ",{"$f":"SUM(COUNTIF($C579:$H579,$AZ$11:$BE$11))","v":0}," ",{"$f":"SUM(COUNTIF($C579:$H579,$BG$11:$BL$11))","v":0}," ",{"$f":"SUM(COUNTIF($C579:$H579,$BN$11:$BS$11))","v":0}," ",{"$f":"SUM(COUNTIF($C579:$H579,$BU$11:$BZ$11))","v":0}," ",{"$f":"SUM(COUNTIF($C579:$H579,$CB$11:$CG$11))","v":0}," ",{"$f":"SUM(COUNTIF($C579:$H579,$CI$11:$CN$11))","v":0}," ",{"$f":"SUM(COUNTIF($C579:$H579,$CP$11:$CU$11))","v":0}," ",{"$f":"SUM(COUNTIF($C579:$H579,$CW$11:$DB$11))","v":0}," ",{"$f":"SUM(COUNTIF($C579:$H579,$DD$11:$DI$11))","v":0}," ",{"$f":"SUM(COUNTIF($C579:$H579,$DK$11:$DP$11))","v":0}]
[{"$f":"'aktuelle Zahlen'!A576","v":0},{"$f":"'aktuelle Zahlen'!B576","v":"00:00:00"},{"$f":"'aktuelle Zahlen'!C576","v":0},{"$f":"'aktuelle Zahlen'!D576","v":0},{"$f":"'aktuelle Zahlen'!E576","v":0},{"$f":"'aktuelle Zahlen'!F576","v":0},{"$f":"'aktuelle Zahlen'!G576","v":0},{"$f":"'aktuelle Zahlen'!H576","v":0},{"$f":"'aktuelle Zahlen'!J576","v":0},null," ",{"$f":"SUM(COUNTIF($C580:$H580,$AL$11:$AQ$11))","v":0}," ",{"$f":"SUM(COUNTIF($C580:$H580,$AS$11:$AX$11))","v":0}," ",{"$f":"SUM(COUNTIF($C580:$H580,$AZ$11:$BE$11))","v":0}," ",{"$f":"SUM(COUNTIF($C580:$H580,$BG$11:$BL$11))","v":0}," ",{"$f":"SUM(COUNTIF($C580:$H580,$BN$11:$BS$11))","v":0}," ",{"$f":"SUM(COUNTIF($C580:$H580,$BU$11:$BZ$11))","v":0}," ",{"$f":"SUM(COUNTIF($C580:$H580,$CB$11:$CG$11))","v":0}," ",{"$f":"SUM(COUNTIF($C580:$H580,$CI$11:$CN$11))","v":0}," ",{"$f":"SUM(COUNTIF($C580:$H580,$CP$11:$CU$11))","v":0}," ",{"$f":"SUM(COUNTIF($C580:$H580,$CW$11:$DB$11))","v":0}," ",{"$f":"SUM(COUNTIF($C580:$H580,$DD$11:$DI$11))","v":0}," ",{"$f":"SUM(COUNTIF($C580:$H580,$DK$11:$DP$11))","v":0}]
[{"$f":"'aktuelle Zahlen'!A577","v":0},{"$f":"'aktuelle Zahlen'!B577","v":"00:00:00"},{"$f":"'aktuelle Zahlen'!C577","v":0},{"$f":"'aktuelle Zahlen'!D577","v":0},{"$f":"'aktuelle Zahlen'!E577","v":0},{"$f":"'aktuelle Zahlen'!F577","v":0},{"$f":"'aktuelle Zahlen'!G577","v":0},{"$f":"'aktuelle Zahlen'!H577","v":0},{"$f":"'aktuelle Zahlen'!J577","v":0},null," ",{"$f":"SUM(COUNTIF($C581:$H581,$AL$11:$AQ$11))","v":0}," ",{"$f":"SUM(COUNTIF($C581:$H581,$AS$11:$AX$11))","v":0}," ",{"$f":"SUM(COUNTIF($C581:$H581,$AZ$11:$BE$11))","v":0}," ",{"$f":"SUM(COUNTIF($C581:$H581,$BG$11:$BL$11))","v":0}," ",{"$f":"SUM(COUNTIF($C581:$H581,$BN$11:$BS$11))","v":0}," ",{"$f":"SUM(COUNTIF($C581:$H581,$BU$11:$BZ$11))","v":0}," ",{"$f":"SUM(COUNTIF($C581:$H581,$CB$11:$CG$11))","v":0}," ",{"$f":"SUM(COUNTIF($C581:$H581,$CI$11:$CN$11))","v":0}," ",{"$f":"SUM(COUNTIF($C581:$H581,$CP$11:$CU$11))","v":0}," ",{"$f":"SUM(COUNTIF($C581:$H581,$CW$11:$DB$11))","v":0}," ",{"$f":"SUM(COUNTIF($C581:$H581,$DD$11:$DI$11))","v":0}," ",{"$f":"SUM(COUNTIF($C581:$H581,$DK$11:$DP$11))","v":0}]
[{"$f":"'aktuelle Zahlen'!A578","v":0},{"$f":"'aktuelle Zahlen'!B578","v":"00:00:00"},{"$f":"'aktuelle Zahlen'!C578","v":0},{"$f":"'aktuelle Zahlen'!D578","v":0},{"$f":"'aktuelle Zahlen'!E578","v":0},{"$f":"'aktuelle Zahlen'!F578","v":0},{"$f":"'aktuelle Zahlen'!G578","v":0},{"$f":"'aktuelle Zahlen'!H578","v":0},{"$f":"'aktuelle Zahlen'!J578","v":0},null," ",{"$f":"SUM(COUNTIF($C582:$H582,$AL$11:$AQ$11))","v":0}," ",{"$f":"SUM(COUNTIF($C582:$H582,$AS$11:$AX$11))","v":0}," ",{"$f":"SUM(COUNTIF($C582:$H582,$AZ$11:$BE$11))","v":0}," ",{"$f":"SUM(COUNTIF($C582:$H582,$BG$11:$BL$11))","v":0}," ",{"$f":"SUM(COUNTIF($C582:$H582,$BN$11:$BS$11))","v":0}," ",{"$f":"SUM(COUNTIF($C582:$H582,$BU$11:$BZ$11))","v":0}," ",{"$f":"SUM(COUNTIF($C582:$H582,$CB$11:$CG$11))","v":0}," ",{"$f":"SUM(COUNTIF($C582:$H582,$CI$11:$CN$11))","v":0}," ",{"$f":"SUM(COUNTIF($C582:$H582,$CP$11:$CU$11))","v":0}," ",{"$f":"SUM(COUNTIF($C582:$H582,$CW$11:$DB$11))","v":0}," ",{"$f":"SUM(COUNTIF($C582:$H582,$DD$11:$DI$11))","v":0}," ",{"$f":"SUM(COUNTIF($C582:$H582,$DK$11:$DP$11))","v":0}]
[{"$f":"'aktuelle Zahlen'!A579","v":0},{"$f":"'aktuelle Zahlen'!B579","v":"00:00:00"},{"$f":"'aktuelle Zahlen'!C579","v":0},{"$f":"'aktuelle Zahlen'!D579","v":0},{"$f":"'aktuelle Zahlen'!E579","v":0},{"$f":"'aktuelle Zahlen'!F579","v":0},{"$f":"'aktuelle Zahlen'!G579","v":0},{"$f":"'aktuelle Zahlen'!H579","v":0},{"$f":"'aktuelle Zahlen'!J579","v":0},null," ",{"$f":"SUM(COUNTIF($C583:$H583,$AL$11:$AQ$11))","v":0}," ",{"$f":"SUM(COUNTIF($C583:$H583,$AS$11:$AX$11))","v":0}," ",{"$f":"SUM(COUNTIF($C583:$H583,$AZ$11:$BE$11))","v":0}," ",{"$f":"SUM(COUNTIF($C583:$H583,$BG$11:$BL$11))","v":0}," ",{"$f":"SUM(COUNTIF($C583:$H583,$BN$11:$BS$11))","v":0}," ",{"$f":"SUM(COUNTIF($C583:$H583,$BU$11:$BZ$11))","v":0}," ",{"$f":"SUM(COUNTIF($C583:$H583,$CB$11:$CG$11))","v":0}," ",{"$f":"SUM(COUNTIF($C583:$H583,$CI$11:$CN$11))","v":0}," ",{"$f":"SUM(COUNTIF($C583:$H583,$CP$11:$CU$11))","v":0}," ",{"$f":"SUM(COUNTIF($C583:$H583,$CW$11:$DB$11))","v":0}," ",{"$f":"SUM(COUNTIF($C583:$H583,$DD$11:$DI$11))","v":0}," ",{"$f":"SUM(COUNTIF($C583:$H583,$DK$11:$DP$11))","v":0}]
[{"$f":"'aktuelle Zahlen'!A580","v":0},{"$f":"'aktuelle Zahlen'!B580","v":"00:00:00"},{"$f":"'aktuelle Zahlen'!C580","v":0},{"$f":"'aktuelle Zahlen'!D580","v":0},{"$f":"'aktuelle Zahlen'!E580","v":0},{"$f":"'aktuelle Zahlen'!F580","v":0},{"$f":"'aktuelle Zahlen'!G580","v":0},{"$f":"'aktuelle Zahlen'!H580","v":0},{"$f":"'aktuelle Zahlen'!J580","v":0},null," ",{"$f":"SUM(COUNTIF($C584:$H584,$AL$11:$AQ$11))","v":0}," ",{"$f":"SUM(COUNTIF($C584:$H584,$AS$11:$AX$11))","v":0}," ",{"$f":"SUM(COUNTIF($C584:$H584,$AZ$11:$BE$11))","v":0}," ",{"$f":"SUM(COUNTIF($C584:$H584,$BG$11:$BL$11))","v":0}," ",{"$f":"SUM(COUNTIF($C584:$H584,$BN$11:$BS$11))","v":0}," ",{"$f":"SUM(COUNTIF($C584:$H584,$BU$11:$BZ$11))","v":0}," ",{"$f":"SUM(COUNTIF($C584:$H584,$CB$11:$CG$11))","v":0}," ",{"$f":"SUM(COUNTIF($C584:$H584,$CI$11:$CN$11))","v":0}," ",{"$f":"SUM(COUNTIF($C584:$H584,$CP$11:$CU$11))","v":0}," ",{"$f":"SUM(COUNTIF($C584:$H584,$CW$11:$DB$11))","v":0}," ",{"$f":"SUM(COUNTIF($C584:$H584,$DD$11:$DI$11))","v":0}," ",{"$f":"SUM(COUNTIF($C584:$H584,$DK$11:$DP$11))","v":0}]
[{"$f":"'aktuelle Zahlen'!A581","v":0},{"$f":"'aktuelle Zahlen'!B581","v":"00:00:00"},{"$f":"'aktuelle Zahlen'!C581","v":0},{"$f":"'aktuelle Zahlen'!D581","v":0},{"$f":"'aktuelle Zahlen'!E581","v":0},{"$f":"'aktuelle Zahlen'!F581","v":0},{"$f":"'aktuelle Zahlen'!G581","v":0},{"$f":"'aktuelle Zahlen'!H581","v":0},{"$f":"'aktuelle Zahlen'!J581","v":0},null," ",{"$f":"SUM(COUNTIF($C585:$H585,$AL$11:$AQ$11))","v":0}," ",{"$f":"SUM(COUNTIF($C585:$H585,$AS$11:$AX$11))","v":0}," ",{"$f":"SUM(COUNTIF($C585:$H585,$AZ$11:$BE$11))","v":0}," ",{"$f":"SUM(COUNTIF($C585:$H585,$BG$11:$BL$11))","v":0}," ",{"$f":"SUM(COUNTIF($C585:$H585,$BN$11:$BS$11))","v":0}," ",{"$f":"SUM(COUNTIF($C585:$H585,$BU$11:$BZ$11))","v":0}," ",{"$f":"SUM(COUNTIF($C585:$H585,$CB$11:$CG$11))","v":0}," ",{"$f":"SUM(COUNTIF($C585:$H585,$CI$11:$CN$11))","v":0}," ",{"$f":"SUM(COUNTIF($C585:$H585,$CP$11:$CU$11))","v":0}," ",{"$f":"SUM(COUNTIF($C585:$H585,$CW$11:$DB$11))","v":0}," ",{"$f":"SUM(COUNTIF($C585:$H585,$DD$11:$DI$11))","v":0}," ",{"$f":"SUM(COUNTIF($C585:$H585,$DK$11:$DP$11))","v":0}]
[{"$f":"'aktuelle Zahlen'!A582","v":0},{"$f":"'aktuelle Zahlen'!B582","v":"00:00:00"},{"$f":"'aktuelle Zahlen'!C582","v":0},{"$f":"'aktuelle Zahlen'!D582","v":0},{"$f":"'aktuelle Zahlen'!E582","v":0},{"$f":"'aktuelle Zahlen'!F582","v":0},{"$f":"'aktuelle Zahlen'!G582","v":0},{"$f":"'aktuelle Zahlen'!H582","v":0},{"$f":"'aktuelle Zahlen'!J582","v":0},null," ",{"$f":"SUM(COUNTIF($C586:$H586,$AL$11:$AQ$11))","v":0}," ",{"$f":"SUM(COUNTIF($C586:$H586,$AS$11:$AX$11))","v":0}," ",{"$f":"SUM(COUNTIF($C586:$H586,$AZ$11:$BE$11))","v":0}," ",{"$f":"SUM(COUNTIF($C586:$H586,$BG$11:$BL$11))","v":0}," ",{"$f":"SUM(COUNTIF($C586:$H586,$BN$11:$BS$11))","v":0}," ",{"$f":"SUM(COUNTIF($C586:$H586,$BU$11:$BZ$11))","v":0}," ",{"$f":"SUM(COUNTIF($C586:$H586,$CB$11:$CG$11))","v":0}," ",{"$f":"SUM(COUNTIF($C586:$H586,$CI$11:$CN$11))","v":0}," ",{"$f":"SUM(COUNTIF($C586:$H586,$CP$11:$CU$11))","v":0}," ",{"$f":"SUM(COUNTIF($C586:$H586,$CW$11:$DB$11))","v":0}," ",{"$f":"SUM(COUNTIF($C586:$H586,$DD$11:$DI$11))","v":0}," ",{"$f":"SUM(COUNTIF($C586:$H586,$DK$11:$DP$11))","v":0}]
[{"$f":"'aktuelle Zahlen'!A583","v":0},{"$f":"'aktuelle Zahlen'!B583","v":"00:00:00"},{"$f":"'aktuelle Zahlen'!C583","v":0},{"$f":"'aktuelle Zahlen'!D583","v":0},{"$f":"'aktuelle Zahlen'!E583","v":0},{"$f":"'aktuelle Zahlen'!F583","v":0},{"$f":"'aktuelle Zahlen'!G583","v":0},{"$f":"'aktuelle Zahlen'!H583","v":0},{"$f":"'aktuelle Zahlen'!J583","v":0},null," ",{"$f":"SUM(COUNTIF($C587:$H587,$AL$11:$AQ$11))","v":0}," ",{"$f":"SUM(COUNTIF($C587:$H587,$AS$11:$AX$11))","v":0}," ",{"$f":"SUM(COUNTIF($C587:$H587,$AZ$11:$BE$11))","v":0}," ",{"$f":"SUM(COUNTIF($C587:$H587,$BG$11:$BL$11))","v":0}," ",{"$f":"SUM(COUNTIF($C587:$H587,$BN$11:$BS$11))","v":0}," ",{"$f":"SUM(COUNTIF($C587:$H587,$BU$11:$BZ$11))","v":0}," ",{"$f":"SUM(COUNTIF($C587:$H587,$CB$11:$CG$11))","v":0}," ",{"$f":"SUM(COUNTIF($C587:$H587,$CI$11:$CN$11))","v":0}," ",{"$f":"SUM(COUNTIF($C587:$H587,$CP$11:$CU$11))","v":0}," ",{"$f":"SUM(COUNTIF($C587:$H587,$CW$11:$DB$11))","v":0}," ",{"$f":"SUM(COUNTIF($C587:$H587,$DD$11:$DI$11))","v":0}," ",{"$f":"SUM(COUNTIF($C587:$H587,$DK$11:$DP$11))","v":0}]
[{"$f":"'aktuelle Zahlen'!A584","v":0},{"$f":"'aktuelle Zahlen'!B584","v":"00:00:00"},{"$f":"'aktuelle Zahlen'!C584","v":0},{"$f":"'aktuelle Zahlen'!D584","v":0},{"$f":"'aktuelle Zahlen'!E584","v":0},{"$f":"'aktuelle Zahlen'!F584","v":0},{"$f":"'aktuelle Zahlen'!G584","v":0},{"$f":"'aktuelle Zahlen'!H584","v":0},{"$f":"'aktuelle Zahlen'!J584","v":0},null," ",{"$f":"SUM(COUNTIF($C588:$H588,$AL$11:$AQ$11))","v":0}," ",{"$f":"SUM(COUNTIF($C588:$H588,$AS$11:$AX$11))","v":0}," ",{"$f":"SUM(COUNTIF($C588:$H588,$AZ$11:$BE$11))","v":0}," ",{"$f":"SUM(COUNTIF($C588:$H588,$BG$11:$BL$11))","v":0}," ",{"$f":"SUM(COUNTIF($C588:$H588,$BN$11:$BS$11))","v":0}," ",{"$f":"SUM(COUNTIF($C588:$H588,$BU$11:$BZ$11))","v":0}," ",{"$f":"SUM(COUNTIF($C588:$H588,$CB$11:$CG$11))","v":0}," ",{"$f":"SUM(COUNTIF($C588:$H588,$CI$11:$CN$11))","v":0}," ",{"$f":"SUM(COUNTIF($C588:$H588,$CP$11:$CU$11))","v":0}," ",{"$f":"SUM(COUNTIF($C588:$H588,$CW$11:$DB$11))","v":0}," ",{"$f":"SUM(COUNTIF($C588:$H588,$DD$11:$DI$11))","v":0}," ",{"$f":"SUM(COUNTIF($C588:$H588,$DK$11:$DP$11))","v":0}]
[{"$f":"'aktuelle Zahlen'!A585","v":0},{"$f":"'aktuelle Zahlen'!B585","v":"00:00:00"},{"$f":"'aktuelle Zahlen'!C585","v":0},{"$f":"'aktuelle Zahlen'!D585","v":0},{"$f":"'aktuelle Zahlen'!E585","v":0},{"$f":"'aktuelle Zahlen'!F585","v":0},{"$f":"'aktuelle Zahlen'!G585","v":0},{"$f":"'aktuelle Zahlen'!H585","v":0},{"$f":"'aktuelle Zahlen'!J585","v":0},null," ",{"$f":"SUM(COUNTIF($C589:$H589,$AL$11:$AQ$11))","v":0}," ",{"$f":"SUM(COUNTIF($C589:$H589,$AS$11:$AX$11))","v":0}," ",{"$f":"SUM(COUNTIF($C589:$H589,$AZ$11:$BE$11))","v":0}," ",{"$f":"SUM(COUNTIF($C589:$H589,$BG$11:$BL$11))","v":0}," ",{"$f":"SUM(COUNTIF($C589:$H589,$BN$11:$BS$11))","v":0}," ",{"$f":"SUM(COUNTIF($C589:$H589,$BU$11:$BZ$11))","v":0}," ",{"$f":"SUM(COUNTIF($C589:$H589,$CB$11:$CG$11))","v":0}," ",{"$f":"SUM(COUNTIF($C589:$H589,$CI$11:$CN$11))","v":0}," ",{"$f":"SUM(COUNTIF($C589:$H589,$CP$11:$CU$11))","v":0}," ",{"$f":"SUM(COUNTIF($C589:$H589,$CW$11:$DB$11))","v":0}," ",{"$f":"SUM(COUNTIF($C589:$H589,$DD$11:$DI$11))","v":0}," ",{"$f":"SUM(COUNTIF($C589:$H589,$DK$11:$DP$11))","v":0}]
[{"$f":"'aktuelle Zahlen'!A586","v":0},{"$f":"'aktuelle Zahlen'!B586","v":"00:00:00"},{"$f":"'aktuelle Zahlen'!C586","v":0},{"$f":"'aktuelle Zahlen'!D586","v":0},{"$f":"'aktuelle Zahlen'!E586","v":0},{"$f":"'aktuelle Zahlen'!F586","v":0},{"$f":"'aktuelle Zahlen'!G586","v":0},{"$f":"'aktuelle Zahlen'!H586","v":0},{"$f":"'aktuelle Zahlen'!J586","v":0},null," ",{"$f":"SUM(COUNTIF($C590:$H590,$AL$11:$AQ$11))","v":0}," ",{"$f":"SUM(COUNTIF($C590:$H590,$AS$11:$AX$11))","v":0}," ",{"$f":"SUM(COUNTIF($C590:$H590,$AZ$11:$BE$11))","v":0}," ",{"$f":"SUM(COUNTIF($C590:$H590,$BG$11:$BL$11))","v":0}," ",{"$f":"SUM(COUNTIF($C590:$H590,$BN$11:$BS$11))","v":0}," ",{"$f":"SUM(COUNTIF($C590:$H590,$BU$11:$BZ$11))","v":0}," ",{"$f":"SUM(COUNTIF($C590:$H590,$CB$11:$CG$11))","v":0}," ",{"$f":"SUM(COUNTIF($C590:$H590,$CI$11:$CN$11))","v":0}," ",{"$f":"SUM(COUNTIF($C590:$H590,$CP$11:$CU$11))","v":0}," ",{"$f":"SUM(COUNTIF($C590:$H590,$CW$11:$DB$11))","v":0}," ",{"$f":"SUM(COUNTIF($C590:$H590,$DD$11:$DI$11))","v":0}," ",{"$f":"SUM(COUNTIF($C590:$H590,$DK$11:$DP$11))","v":0}]
[{"$f":"'aktuelle Zahlen'!A587","v":0},{"$f":"'aktuelle Zahlen'!B587","v":"00:00:00"},{"$f":"'aktuelle Zahlen'!C587","v":0},{"$f":"'aktuelle Zahlen'!D587","v":0},{"$f":"'aktuelle Zahlen'!E587","v":0},{"$f":"'aktuelle Zahlen'!F587","v":0},{"$f":"'aktuelle Zahlen'!G587","v":0},{"$f":"'aktuelle Zahlen'!H587","v":0},{"$f":"'aktuelle Zahlen'!J587","v":0},null," ",{"$f":"SUM(COUNTIF($C591:$H591,$AL$11:$AQ$11))","v":0}," ",{"$f":"SUM(COUNTIF($C591:$H591,$AS$11:$AX$11))","v":0}," ",{"$f":"SUM(COUNTIF($C591:$H591,$AZ$11:$BE$11))","v":0}," ",{"$f":"SUM(COUNTIF($C591:$H591,$BG$11:$BL$11))","v":0}," ",{"$f":"SUM(COUNTIF($C591:$H591,$BN$11:$BS$11))","v":0}," ",{"$f":"SUM(COUNTIF($C591:$H591,$BU$11:$BZ$11))","v":0}," ",{"$f":"SUM(COUNTIF($C591:$H591,$CB$11:$CG$11))","v":0}," ",{"$f":"SUM(COUNTIF($C591:$H591,$CI$11:$CN$11))","v":0}," ",{"$f":"SUM(COUNTIF($C591:$H591,$CP$11:$CU$11))","v":0}," ",{"$f":"SUM(COUNTIF($C591:$H591,$CW$11:$DB$11))","v":0}," ",{"$f":"SUM(COUNTIF($C591:$H591,$DD$11:$DI$11))","v":0}," ",{"$f":"SUM(COUNTIF($C591:$H591,$DK$11:$DP$11))","v":0}]
[{"$f":"'aktuelle Zahlen'!A588","v":0},{"$f":"'aktuelle Zahlen'!B588","v":"00:00:00"},{"$f":"'aktuelle Zahlen'!C588","v":0},{"$f":"'aktuelle Zahlen'!D588","v":0},{"$f":"'aktuelle Zahlen'!E588","v":0},{"$f":"'aktuelle Zahlen'!F588","v":0},{"$f":"'aktuelle Zahlen'!G588","v":0},{"$f":"'aktuelle Zahlen'!H588","v":0},{"$f":"'aktuelle Zahlen'!J588","v":0},null," ",{"$f":"SUM(COUNTIF($C592:$H592,$AL$11:$AQ$11))","v":0}," ",{"$f":"SUM(COUNTIF($C592:$H592,$AS$11:$AX$11))","v":0}," ",{"$f":"SUM(COUNTIF($C592:$H592,$AZ$11:$BE$11))","v":0}," ",{"$f":"SUM(COUNTIF($C592:$H592,$BG$11:$BL$11))","v":0}," ",{"$f":"SUM(COUNTIF($C592:$H592,$BN$11:$BS$11))","v":0}," ",{"$f":"SUM(COUNTIF($C592:$H592,$BU$11:$BZ$11))","v":0}," ",{"$f":"SUM(COUNTIF($C592:$H592,$CB$11:$CG$11))","v":0}," ",{"$f":"SUM(COUNTIF($C592:$H592,$CI$11:$CN$11))","v":0}," ",{"$f":"SUM(COUNTIF($C592:$H592,$CP$11:$CU$11))","v":0}," ",{"$f":"SUM(COUNTIF($C592:$H592,$CW$11:$DB$11))","v":0}," ",{"$f":"SUM(COUNTIF($C592:$H592,$DD$11:$DI$11))","v":0}," ",{"$f":"SUM(COUNTIF($C592:$H592,$DK$11:$DP$11))","v":0}]
[{"$f":"'aktuelle Zahlen'!A589","v":0},{"$f":"'aktuelle Zahlen'!B589","v":"00:00:00"},{"$f":"'aktuelle Zahlen'!C589","v":0},{"$f":"'aktuelle Zahlen'!D589","v":0},{"$f":"'aktuelle Zahlen'!E589","v":0},{"$f":"'aktuelle Zahlen'!F589","v":0},{"$f":"'aktuelle Zahlen'!G589","v":0},{"$f":"'aktuelle Zahlen'!H589","v":0},{"$f":"'aktuelle Zahlen'!J589","v":0},null,{"$f":"IF(L593>1,(IF($I593=$AJ$11,L593 & \"Z\",L593)),\" \")","v":" "},{"$f":"SUM(COUNTIF($C593:$H593,$AL$11:$AQ$11))","v":0},{"$f":"IF(N593>1,(IF($I593=$AJ$11,N593 & \"Z\",N593)),\" \")","v":" "},{"$f":"SUM(COUNTIF($C593:$H593,$AS$11:$AX$11))","v":0},{"$f":"IF(P593>1,(IF($I593=$AJ$11,P593 & \"Z\",P593)),\" \")","v":" "},{"$f":"SUM(COUNTIF($C593:$H593,$AZ$11:$BE$11))","v":0},{"$f":"IF(R593>1,(IF($I593=$AJ$11,R593 & \"Z\",R593)),\" \")","v":" "},{"$f":"SUM(COUNTIF($C593:$H593,$BG$11:$BL$11))","v":0},{"$f":"IF(T593>1,(IF($I593=$AJ$11,T593 & \"Z\",T593)),\" \")","v":" "},{"$f":"SUM(COUNTIF($C593:$H593,$BN$11:$BS$11))","v":0},{"$f":"IF(V593>1,(IF($I593=$AJ$11,V593 & \"Z\",V593)),\" \")","v":" "},{"$f":"SUM(COUNTIF($C593:$H593,$BU$11:$BZ$11))","v":0},{"$f":"IF(X593>1,(IF($I593=$AJ$11,X593 & \"Z\",X593)),\" \")","v":" "},{"$f":"SUM(COUNTIF($C593:$H593,$CB$11:$CG$11))","v":0},{"$f":"IF(Z593>1,(IF($I593=$AJ$11,Z593 & \"Z\",Z593)),\" \")","v":" "},{"$f":"SUM(COUNTIF($C593:$H593,$CI$11:$CN$11))","v":0},{"$f":"IF(AB593>1,(IF($I593=$AJ$11,AB593 & \"Z\",AB593)),\" \")","v":" "},{"$f":"SUM(COUNTIF($C593:$H593,$CP$11:$CU$11))","v":0},{"$f":"IF(AD593>1,(IF($I593=$AJ$11,AD593 & \"Z\",AD593)),\" \")","v":" "},{"$f":"SUM(COUNTIF($C593:$H593,$CW$11:$DB$11))","v":0},{"$f":"IF(AF593>1,(IF($I593=$AJ$11,AF593 & \"Z\",AF593)),\" \")","v":" "},{"$f":"SUM(COUNTIF($C593:$H593,$DD$11:$DI$11))","v":0},{"$f":"IF(AH593>1,(IF($I593=$AJ$11,AH593 & \"Z\",AH593)),\" \")","v":" "},{"$f":"SUM(COUNTIF($C593:$H593,$DK$11:$DP$11))","v":0}]
[{"$f":"'aktuelle Zahlen'!A590","v":0},{"$f":"'aktuelle Zahlen'!B590","v":"00:00:00"},{"$f":"'aktuelle Zahlen'!C590","v":0},{"$f":"'aktuelle Zahlen'!D590","v":0},{"$f":"'aktuelle Zahlen'!E590","v":0},{"$f":"'aktuelle Zahlen'!F590","v":0},{"$f":"'aktuelle Zahlen'!G590","v":0},{"$f":"'aktuelle Zahlen'!H590","v":0},{"$f":"'aktuelle Zahlen'!J590","v":0},null," ",{"$f":"SUM(COUNTIF($C594:$H594,$AL$11:$AQ$11))","v":0}," ",{"$f":"SUM(COUNTIF($C594:$H594,$AS$11:$AX$11))","v":0}," ",{"$f":"SUM(COUNTIF($C594:$H594,$AZ$11:$BE$11))","v":0}," ",{"$f":"SUM(COUNTIF($C594:$H594,$BG$11:$BL$11))","v":0}," ",{"$f":"SUM(COUNTIF($C594:$H594,$BN$11:$BS$11))","v":0}," ",{"$f":"SUM(COUNTIF($C594:$H594,$BU$11:$BZ$11))","v":0}," ",{"$f":"SUM(COUNTIF($C594:$H594,$CB$11:$CG$11))","v":0}," ",{"$f":"SUM(COUNTIF($C594:$H594,$CI$11:$CN$11))","v":0}," ",{"$f":"SUM(COUNTIF($C594:$H594,$CP$11:$CU$11))","v":0}," ",{"$f":"SUM(COUNTIF($C594:$H594,$CW$11:$DB$11))","v":0}," ",{"$f":"SUM(COUNTIF($C594:$H594,$DD$11:$DI$11))","v":0}," ",{"$f":"SUM(COUNTIF($C594:$H594,$DK$11:$DP$11))","v":0}]
[{"$f":"'aktuelle Zahlen'!A591","v":0},{"$f":"'aktuelle Zahlen'!B591","v":"00:00:00"},{"$f":"'aktuelle Zahlen'!C591","v":0},{"$f":"'aktuelle Zahlen'!D591","v":0},{"$f":"'aktuelle Zahlen'!E591","v":0},{"$f":"'aktuelle Zahlen'!F591","v":0},{"$f":"'aktuelle Zahlen'!G591","v":0},{"$f":"'aktuelle Zahlen'!H591","v":0},{"$f":"'aktuelle Zahlen'!J591","v":0},null," ",{"$f":"SUM(COUNTIF($C595:$H595,$AL$11:$AQ$11))","v":0}," ",{"$f":"SUM(COUNTIF($C595:$H595,$AS$11:$AX$11))","v":0}," ",{"$f":"SUM(COUNTIF($C595:$H595,$AZ$11:$BE$11))","v":0}," ",{"$f":"SUM(COUNTIF($C595:$H595,$BG$11:$BL$11))","v":0}," ",{"$f":"SUM(COUNTIF($C595:$H595,$BN$11:$BS$11))","v":0}," ",{"$f":"SUM(COUNTIF($C595:$H595,$BU$11:$BZ$11))","v":0}," ",{"$f":"SUM(COUNTIF($C595:$H595,$CB$11:$CG$11))","v":0}," ",{"$f":"SUM(COUNTIF($C595:$H595,$CI$11:$CN$11))","v":0}," ",{"$f":"SUM(COUNTIF($C595:$H595,$CP$11:$CU$11))","v":0}," ",{"$f":"SUM(COUNTIF($C595:$H595,$CW$11:$DB$11))","v":0}," ",{"$f":"SUM(COUNTIF($C595:$H595,$DD$11:$DI$11))","v":0}," ",{"$f":"SUM(COUNTIF($C595:$H595,$DK$11:$DP$11))","v":0}]
[{"$f":"'aktuelle Zahlen'!A592","v":0},{"$f":"'aktuelle Zahlen'!B592","v":"00:00:00"},{"$f":"'aktuelle Zahlen'!C592","v":0},{"$f":"'aktuelle Zahlen'!D592","v":0},{"$f":"'aktuelle Zahlen'!E592","v":0},{"$f":"'aktuelle Zahlen'!F592","v":0},{"$f":"'aktuelle Zahlen'!G592","v":0},{"$f":"'aktuelle Zahlen'!H592","v":0},{"$f":"'aktuelle Zahlen'!J592","v":0},null," ",{"$f":"SUM(COUNTIF($C596:$H596,$AL$11:$AQ$11))","v":0}," ",{"$f":"SUM(COUNTIF($C596:$H596,$AS$11:$AX$11))","v":0}," ",{"$f":"SUM(COUNTIF($C596:$H596,$AZ$11:$BE$11))","v":0}," ",{"$f":"SUM(COUNTIF($C596:$H596,$BG$11:$BL$11))","v":0}," ",{"$f":"SUM(COUNTIF($C596:$H596,$BN$11:$BS$11))","v":0}," ",{"$f":"SUM(COUNTIF($C596:$H596,$BU$11:$BZ$11))","v":0}," ",{"$f":"SUM(COUNTIF($C596:$H596,$CB$11:$CG$11))","v":0}," ",{"$f":"SUM(COUNTIF($C596:$H596,$CI$11:$CN$11))","v":0}," ",{"$f":"SUM(COUNTIF($C596:$H596,$CP$11:$CU$11))","v":0}," ",{"$f":"SUM(COUNTIF($C596:$H596,$CW$11:$DB$11))","v":0}," ",{"$f":"SUM(COUNTIF($C596:$H596,$DD$11:$DI$11))","v":0}," ",{"$f":"SUM(COUNTIF($C596:$H596,$DK$11:$DP$11))","v":0}]
[{"$f":"'aktuelle Zahlen'!A593","v":0},{"$f":"'aktuelle Zahlen'!B593","v":"00:00:00"},{"$f":"'aktuelle Zahlen'!C593","v":0},{"$f":"'aktuelle Zahlen'!D593","v":0},{"$f":"'aktuelle Zahlen'!E593","v":0},{"$f":"'aktuelle Zahlen'!F593","v":0},{"$f":"'aktuelle Zahlen'!G593","v":0},{"$f":"'aktuelle Zahlen'!H593","v":0},{"$f":"'aktuelle Zahlen'!J593","v":0},null," ",{"$f":"SUM(COUNTIF($C597:$H597,$AL$11:$AQ$11))","v":0}," ",{"$f":"SUM(COUNTIF($C597:$H597,$AS$11:$AX$11))","v":0}," ",{"$f":"SUM(COUNTIF($C597:$H597,$AZ$11:$BE$11))","v":0}," ",{"$f":"SUM(COUNTIF($C597:$H597,$BG$11:$BL$11))","v":0}," ",{"$f":"SUM(COUNTIF($C597:$H597,$BN$11:$BS$11))","v":0}," ",{"$f":"SUM(COUNTIF($C597:$H597,$BU$11:$BZ$11))","v":0}," ",{"$f":"SUM(COUNTIF($C597:$H597,$CB$11:$CG$11))","v":0}," ",{"$f":"SUM(COUNTIF($C597:$H597,$CI$11:$CN$11))","v":0}," ",{"$f":"SUM(COUNTIF($C597:$H597,$CP$11:$CU$11))","v":0}," ",{"$f":"SUM(COUNTIF($C597:$H597,$CW$11:$DB$11))","v":0}," ",{"$f":"SUM(COUNTIF($C597:$H597,$DD$11:$DI$11))","v":0}," ",{"$f":"SUM(COUNTIF($C597:$H597,$DK$11:$DP$11))","v":0}]
[{"$f":"'aktuelle Zahlen'!A594","v":0},{"$f":"'aktuelle Zahlen'!B594","v":"00:00:00"},{"$f":"'aktuelle Zahlen'!C594","v":0},{"$f":"'aktuelle Zahlen'!D594","v":0},{"$f":"'aktuelle Zahlen'!E594","v":0},{"$f":"'aktuelle Zahlen'!F594","v":0},{"$f":"'aktuelle Zahlen'!G594","v":0},{"$f":"'aktuelle Zahlen'!H594","v":0},{"$f":"'aktuelle Zahlen'!J594","v":0},null," ",{"$f":"SUM(COUNTIF($C598:$H598,$AL$11:$AQ$11))","v":0}," ",{"$f":"SUM(COUNTIF($C598:$H598,$AS$11:$AX$11))","v":0}," ",{"$f":"SUM(COUNTIF($C598:$H598,$AZ$11:$BE$11))","v":0}," ",{"$f":"SUM(COUNTIF($C598:$H598,$BG$11:$BL$11))","v":0}," ",{"$f":"SUM(COUNTIF($C598:$H598,$BN$11:$BS$11))","v":0}," ",{"$f":"SUM(COUNTIF($C598:$H598,$BU$11:$BZ$11))","v":0}," ",{"$f":"SUM(COUNTIF($C598:$H598,$CB$11:$CG$11))","v":0}," ",{"$f":"SUM(COUNTIF($C598:$H598,$CI$11:$CN$11))","v":0}," ",{"$f":"SUM(COUNTIF($C598:$H598,$CP$11:$CU$11))","v":0}," ",{"$f":"SUM(COUNTIF($C598:$H598,$CW$11:$DB$11))","v":0}," ",{"$f":"SUM(COUNTIF($C598:$H598,$DD$11:$DI$11))","v":0}," ",{"$f":"SUM(COUNTIF($C598:$H598,$DK$11:$DP$11))","v":0}]
[{"$f":"'aktuelle Zahlen'!A595","v":0},{"$f":"'aktuelle Zahlen'!B595","v":"00:00:00"},{"$f":"'aktuelle Zahlen'!C595","v":0},{"$f":"'aktuelle Zahlen'!D595","v":0},{"$f":"'aktuelle Zahlen'!E595","v":0},{"$f":"'aktuelle Zahlen'!F595","v":0},{"$f":"'aktuelle Zahlen'!G595","v":0},{"$f":"'aktuelle Zahlen'!H595","v":0},{"$f":"'aktuelle Zahlen'!J595","v":0},null," ",{"$f":"SUM(COUNTIF($C599:$H599,$AL$11:$AQ$11))","v":0}," ",{"$f":"SUM(COUNTIF($C599:$H599,$AS$11:$AX$11))","v":0}," ",{"$f":"SUM(COUNTIF($C599:$H599,$AZ$11:$BE$11))","v":0}," ",{"$f":"SUM(COUNTIF($C599:$H599,$BG$11:$BL$11))","v":0}," ",{"$f":"SUM(COUNTIF($C599:$H599,$BN$11:$BS$11))","v":0}," ",{"$f":"SUM(COUNTIF($C599:$H599,$BU$11:$BZ$11))","v":0}," ",{"$f":"SUM(COUNTIF($C599:$H599,$CB$11:$CG$11))","v":0}," ",{"$f":"SUM(COUNTIF($C599:$H599,$CI$11:$CN$11))","v":0}," ",{"$f":"SUM(COUNTIF($C599:$H599,$CP$11:$CU$11))","v":0}," ",{"$f":"SUM(COUNTIF($C599:$H599,$CW$11:$DB$11))","v":0}," ",{"$f":"SUM(COUNTIF($C599:$H599,$DD$11:$DI$11))","v":0}," ",{"$f":"SUM(COUNTIF($C599:$H599,$DK$11:$DP$11))","v":0}]
[{"$f":"'aktuelle Zahlen'!A596","v":0},{"$f":"'aktuelle Zahlen'!B596","v":"00:00:00"},{"$f":"'aktuelle Zahlen'!C596","v":0},{"$f":"'aktuelle Zahlen'!D596","v":0},{"$f":"'aktuelle Zahlen'!E596","v":0},{"$f":"'aktuelle Zahlen'!F596","v":0},{"$f":"'aktuelle Zahlen'!G596","v":0},{"$f":"'aktuelle Zahlen'!H596","v":0},{"$f":"'aktuelle Zahlen'!J596","v":0},null," ",{"$f":"SUM(COUNTIF($C600:$H600,$AL$11:$AQ$11))","v":0}," ",{"$f":"SUM(COUNTIF($C600:$H600,$AS$11:$AX$11))","v":0}," ",{"$f":"SUM(COUNTIF($C600:$H600,$AZ$11:$BE$11))","v":0}," ",{"$f":"SUM(COUNTIF($C600:$H600,$BG$11:$BL$11))","v":0}," ",{"$f":"SUM(COUNTIF($C600:$H600,$BN$11:$BS$11))","v":0}," ",{"$f":"SUM(COUNTIF($C600:$H600,$BU$11:$BZ$11))","v":0}," ",{"$f":"SUM(COUNTIF($C600:$H600,$CB$11:$CG$11))","v":0}," ",{"$f":"SUM(COUNTIF($C600:$H600,$CI$11:$CN$11))","v":0}," ",{"$f":"SUM(COUNTIF($C600:$H600,$CP$11:$CU$11))","v":0}," ",{"$f":"SUM(COUNTIF($C600:$H600,$CW$11:$DB$11))","v":0}," ",{"$f":"SUM(COUNTIF($C600:$H600,$DD$11:$DI$11))","v":0}," ",{"$f":"SUM(COUNTIF($C600:$H600,$DK$11:$DP$11))","v":0}]
[{"$f":"'aktuelle Zahlen'!A597","v":0},{"$f":"'aktuelle Zahlen'!B597","v":"00:00:00"},{"$f":"'aktuelle Zahlen'!C597","v":0},{"$f":"'aktuelle Zahlen'!D597","v":0},{"$f":"'aktuelle Zahlen'!E597","v":0},{"$f":"'aktuelle Zahlen'!F597","v":0},{"$f":"'aktuelle Zahlen'!G597","v":0},{"$f":"'aktuelle Zahlen'!H597","v":0},{"$f":"'aktuelle Zahlen'!J597","v":0},null," ",{"$f":"SUM(COUNTIF($C601:$H601,$AL$11:$AQ$11))","v":0}," ",{"$f":"SUM(COUNTIF($C601:$H601,$AS$11:$AX$11))","v":0}," ",{"$f":"SUM(COUNTIF($C601:$H601,$AZ$11:$BE$11))","v":0}," ",{"$f":"SUM(COUNTIF($C601:$H601,$BG$11:$BL$11))","v":0}," ",{"$f":"SUM(COUNTIF($C601:$H601,$BN$11:$BS$11))","v":0}," ",{"$f":"SUM(COUNTIF($C601:$H601,$BU$11:$BZ$11))","v":0}," ",{"$f":"SUM(COUNTIF($C601:$H601,$CB$11:$CG$11))","v":0}," ",{"$f":"SUM(COUNTIF($C601:$H601,$CI$11:$CN$11))","v":0}," ",{"$f":"SUM(COUNTIF($C601:$H601,$CP$11:$CU$11))","v":0}," ",{"$f":"SUM(COUNTIF($C601:$H601,$CW$11:$DB$11))","v":0}," ",{"$f":"SUM(COUNTIF($C601:$H601,$DD$11:$DI$11))","v":0}," ",{"$f":"SUM(COUNTIF($C601:$H601,$DK$11:$DP$11))","v":0}]
[{"$f":"'aktuelle Zahlen'!A598","v":0},{"$f":"'aktuelle Zahlen'!B598","v":"00:00:00"},{"$f":"'aktuelle Zahlen'!C598","v":0},{"$f":"'aktuelle Zahlen'!D598","v":0},{"$f":"'aktuelle Zahlen'!E598","v":0},{"$f":"'aktuelle Zahlen'!F598","v":0},{"$f":"'aktuelle Zahlen'!G598","v":0},{"$f":"'aktuelle Zahlen'!H598","v":0},{"$f":"'aktuelle Zahlen'!J598","v":0},null," ",{"$f":"SUM(COUNTIF($C602:$H602,$AL$11:$AQ$11))","v":0}," ",{"$f":"SUM(COUNTIF($C602:$H602,$AS$11:$AX$11))","v":0}," ",{"$f":"SUM(COUNTIF($C602:$H602,$AZ$11:$BE$11))","v":0}," ",{"$f":"SUM(COUNTIF($C602:$H602,$BG$11:$BL$11))","v":0}," ",{"$f":"SUM(COUNTIF($C602:$H602,$BN$11:$BS$11))","v":0}," ",{"$f":"SUM(COUNTIF($C602:$H602,$BU$11:$BZ$11))","v":0}," ",{"$f":"SUM(COUNTIF($C602:$H602,$CB$11:$CG$11))","v":0}," ",{"$f":"SUM(COUNTIF($C602:$H602,$CI$11:$CN$11))","v":0}," ",{"$f":"SUM(COUNTIF($C602:$H602,$CP$11:$CU$11))","v":0}," ",{"$f":"SUM(COUNTIF($C602:$H602,$CW$11:$DB$11))","v":0}," ",{"$f":"SUM(COUNTIF($C602:$H602,$DD$11:$DI$11))","v":0}," ",{"$f":"SUM(COUNTIF($C602:$H602,$DK$11:$DP$11))","v":0}]
[{"$f":"'aktuelle Zahlen'!A599","v":0},{"$f":"'aktuelle Zahlen'!B599","v":"00:00:00"},{"$f":"'aktuelle Zahlen'!C599","v":0},{"$f":"'aktuelle Zahlen'!D599","v":0},{"$f":"'aktuelle Zahlen'!E599","v":0},{"$f":"'aktuelle Zahlen'!F599","v":0},{"$f":"'aktuelle Zahlen'!G599","v":0},{"$f":"'aktuelle Zahlen'!H599","v":0},{"$f":"'aktuelle Zahlen'!J599","v":0},null," ",{"$f":"SUM(COUNTIF($C603:$H603,$AL$11:$AQ$11))","v":0}," ",{"$f":"SUM(COUNTIF($C603:$H603,$AS$11:$AX$11))","v":0}," ",{"$f":"SUM(COUNTIF($C603:$H603,$AZ$11:$BE$11))","v":0}," ",{"$f":"SUM(COUNTIF($C603:$H603,$BG$11:$BL$11))","v":0}," ",{"$f":"SUM(COUNTIF($C603:$H603,$BN$11:$BS$11))","v":0}," ",{"$f":"SUM(COUNTIF($C603:$H603,$BU$11:$BZ$11))","v":0}," ",{"$f":"SUM(COUNTIF($C603:$H603,$CB$11:$CG$11))","v":0}," ",{"$f":"SUM(COUNTIF($C603:$H603,$CI$11:$CN$11))","v":0}," ",{"$f":"SUM(COUNTIF($C603:$H603,$CP$11:$CU$11))","v":0}," ",{"$f":"SUM(COUNTIF($C603:$H603,$CW$11:$DB$11))","v":0}," ",{"$f":"SUM(COUNTIF($C603:$H603,$DD$11:$DI$11))","v":0}," ",{"$f":"SUM(COUNTIF($C603:$H603,$DK$11:$DP$11))","v":0}]
[{"$f":"'aktuelle Zahlen'!A600","v":0},{"$f":"'aktuelle Zahlen'!B600","v":"00:00:00"},{"$f":"'aktuelle Zahlen'!C600","v":0},{"$f":"'aktuelle Zahlen'!D600","v":0},{"$f":"'aktuelle Zahlen'!E600","v":0},{"$f":"'aktuelle Zahlen'!F600","v":0},{"$f":"'aktuelle Zahlen'!G600","v":0},{"$f":"'aktuelle Zahlen'!H600","v":0},{"$f":"'aktuelle Zahlen'!J600","v":0},null," ",{"$f":"SUM(COUNTIF($C604:$H604,$AL$11:$AQ$11))","v":0}," ",{"$f":"SUM(COUNTIF($C604:$H604,$AS$11:$AX$11))","v":0}," ",{"$f":"SUM(COUNTIF($C604:$H604,$AZ$11:$BE$11))","v":0}," ",{"$f":"SUM(COUNTIF($C604:$H604,$BG$11:$BL$11))","v":0}," ",{"$f":"SUM(COUNTIF($C604:$H604,$BN$11:$BS$11))","v":0}," ",{"$f":"SUM(COUNTIF($C604:$H604,$BU$11:$BZ$11))","v":0}," ",{"$f":"SUM(COUNTIF($C604:$H604,$CB$11:$CG$11))","v":0}," ",{"$f":"SUM(COUNTIF($C604:$H604,$CI$11:$CN$11))","v":0}," ",{"$f":"SUM(COUNTIF($C604:$H604,$CP$11:$CU$11))","v":0}," ",{"$f":"SUM(COUNTIF($C604:$H604,$CW$11:$DB$11))","v":0}," ",{"$f":"SUM(COUNTIF($C604:$H604,$DD$11:$DI$11))","v":0}," ",{"$f":"SUM(COUNTIF($C604:$H604,$DK$11:$DP$11))","v":0}]
[{"$f":"'aktuelle Zahlen'!A601","v":0},{"$f":"'aktuelle Zahlen'!B601","v":"00:00:00"},{"$f":"'aktuelle Zahlen'!C601","v":0},{"$f":"'aktuelle Zahlen'!D601","v":0},{"$f":"'aktuelle Zahlen'!E601","v":0},{"$f":"'aktuelle Zahlen'!F601","v":0},{"$f":"'aktuelle Zahlen'!G601","v":0},{"$f":"'aktuelle Zahlen'!H601","v":0},{"$f":"'aktuelle Zahlen'!J601","v":0},null," ",{"$f":"SUM(COUNTIF($C605:$H605,$AL$11:$AQ$11))","v":0}," ",{"$f":"SUM(COUNTIF($C605:$H605,$AS$11:$AX$11))","v":0}," ",{"$f":"SUM(COUNTIF($C605:$H605,$AZ$11:$BE$11))","v":0}," ",{"$f":"SUM(COUNTIF($C605:$H605,$BG$11:$BL$11))","v":0}," ",{"$f":"SUM(COUNTIF($C605:$H605,$BN$11:$BS$11))","v":0}," ",{"$f":"SUM(COUNTIF($C605:$H605,$BU$11:$BZ$11))","v":0}," ",{"$f":"SUM(COUNTIF($C605:$H605,$CB$11:$CG$11))","v":0}," ",{"$f":"SUM(COUNTIF($C605:$H605,$CI$11:$CN$11))","v":0}," ",{"$f":"SUM(COUNTIF($C605:$H605,$CP$11:$CU$11))","v":0}," ",{"$f":"SUM(COUNTIF($C605:$H605,$CW$11:$DB$11))","v":0}," ",{"$f":"SUM(COUNTIF($C605:$H605,$DD$11:$DI$11))","v":0}," ",{"$f":"SUM(COUNTIF($C605:$H605,$DK$11:$DP$11))","v":0}]
[{"$f":"'aktuelle Zahlen'!A602","v":0},{"$f":"'aktuelle Zahlen'!B602","v":"00:00:00"},{"$f":"'aktuelle Zahlen'!C602","v":0},{"$f":"'aktuelle Zahlen'!D602","v":0},{"$f":"'aktuelle Zahlen'!E602","v":0},{"$f":"'aktuelle Zahlen'!F602","v":0},{"$f":"'aktuelle Zahlen'!G602","v":0},{"$f":"'aktuelle Zahlen'!H602","v":0},{"$f":"'aktuelle Zahlen'!J602","v":0},null," ",{"$f":"SUM(COUNTIF($C606:$H606,$AL$11:$AQ$11))","v":0}," ",{"$f":"SUM(COUNTIF($C606:$H606,$AS$11:$AX$11))","v":0}," ",{"$f":"SUM(COUNTIF($C606:$H606,$AZ$11:$BE$11))","v":0}," ",{"$f":"SUM(COUNTIF($C606:$H606,$BG$11:$BL$11))","v":0}," ",{"$f":"SUM(COUNTIF($C606:$H606,$BN$11:$BS$11))","v":0}," ",{"$f":"SUM(COUNTIF($C606:$H606,$BU$11:$BZ$11))","v":0}," ",{"$f":"SUM(COUNTIF($C606:$H606,$CB$11:$CG$11))","v":0}," ",{"$f":"SUM(COUNTIF($C606:$H606,$CI$11:$CN$11))","v":0}," ",{"$f":"SUM(COUNTIF($C606:$H606,$CP$11:$CU$11))","v":0}," ",{"$f":"SUM(COUNTIF($C606:$H606,$CW$11:$DB$11))","v":0}," ",{"$f":"SUM(COUNTIF($C606:$H606,$DD$11:$DI$11))","v":0}," ",{"$f":"SUM(COUNTIF($C606:$H606,$DK$11:$DP$11))","v":0}]
[{"$f":"'aktuelle Zahlen'!A603","v":0},{"$f":"'aktuelle Zahlen'!B603","v":"00:00:00"},{"$f":"'aktuelle Zahlen'!C603","v":0},{"$f":"'aktuelle Zahlen'!D603","v":0},{"$f":"'aktuelle Zahlen'!E603","v":0},{"$f":"'aktuelle Zahlen'!F603","v":0},{"$f":"'aktuelle Zahlen'!G603","v":0},{"$f":"'aktuelle Zahlen'!H603","v":0},{"$f":"'aktuelle Zahlen'!J603","v":0},null," ",{"$f":"SUM(COUNTIF($C607:$H607,$AL$11:$AQ$11))","v":0}," ",{"$f":"SUM(COUNTIF($C607:$H607,$AS$11:$AX$11))","v":0}," ",{"$f":"SUM(COUNTIF($C607:$H607,$AZ$11:$BE$11))","v":0}," ",{"$f":"SUM(COUNTIF($C607:$H607,$BG$11:$BL$11))","v":0}," ",{"$f":"SUM(COUNTIF($C607:$H607,$BN$11:$BS$11))","v":0}," ",{"$f":"SUM(COUNTIF($C607:$H607,$BU$11:$BZ$11))","v":0}," ",{"$f":"SUM(COUNTIF($C607:$H607,$CB$11:$CG$11))","v":0}," ",{"$f":"SUM(COUNTIF($C607:$H607,$CI$11:$CN$11))","v":0}," ",{"$f":"SUM(COUNTIF($C607:$H607,$CP$11:$CU$11))","v":0}," ",{"$f":"SUM(COUNTIF($C607:$H607,$CW$11:$DB$11))","v":0}," ",{"$f":"SUM(COUNTIF($C607:$H607,$DD$11:$DI$11))","v":0}," ",{"$f":"SUM(COUNTIF($C607:$H607,$DK$11:$DP$11))","v":0}]
[{"$f":"'aktuelle Zahlen'!A604","v":0},{"$f":"'aktuelle Zahlen'!B604","v":"00:00:00"},{"$f":"'aktuelle Zahlen'!C604","v":0},{"$f":"'aktuelle Zahlen'!D604","v":0},{"$f":"'aktuelle Zahlen'!E604","v":0},{"$f":"'aktuelle Zahlen'!F604","v":0},{"$f":"'aktuelle Zahlen'!G604","v":0},{"$f":"'aktuelle Zahlen'!H604","v":0},{"$f":"'aktuelle Zahlen'!J604","v":0},null," ",{"$f":"SUM(COUNTIF($C608:$H608,$AL$11:$AQ$11))","v":0}," ",{"$f":"SUM(COUNTIF($C608:$H608,$AS$11:$AX$11))","v":0}," ",{"$f":"SUM(COUNTIF($C608:$H608,$AZ$11:$BE$11))","v":0}," ",{"$f":"SUM(COUNTIF($C608:$H608,$BG$11:$BL$11))","v":0}," ",{"$f":"SUM(COUNTIF($C608:$H608,$BN$11:$BS$11))","v":0}," ",{"$f":"SUM(COUNTIF($C608:$H608,$BU$11:$BZ$11))","v":0}," ",{"$f":"SUM(COUNTIF($C608:$H608,$CB$11:$CG$11))","v":0}," ",{"$f":"SUM(COUNTIF($C608:$H608,$CI$11:$CN$11))","v":0}," ",{"$f":"SUM(COUNTIF($C608:$H608,$CP$11:$CU$11))","v":0}," ",{"$f":"SUM(COUNTIF($C608:$H608,$CW$11:$DB$11))","v":0}," ",{"$f":"SUM(COUNTIF($C608:$H608,$DD$11:$DI$11))","v":0}," ",{"$f":"SUM(COUNTIF($C608:$H608,$DK$11:$DP$11))","v":0}]
[{"$f":"'aktuelle Zahlen'!A605","v":0},{"$f":"'aktuelle Zahlen'!B605","v":"00:00:00"},{"$f":"'aktuelle Zahlen'!C605","v":0},{"$f":"'aktuelle Zahlen'!D605","v":0},{"$f":"'aktuelle Zahlen'!E605","v":0},{"$f":"'aktuelle Zahlen'!F605","v":0},{"$f":"'aktuelle Zahlen'!G605","v":0},{"$f":"'aktuelle Zahlen'!H605","v":0},{"$f":"'aktuelle Zahlen'!J605","v":0},null," ",{"$f":"SUM(COUNTIF($C609:$H609,$AL$11:$AQ$11))","v":0}," ",{"$f":"SUM(COUNTIF($C609:$H609,$AS$11:$AX$11))","v":0}," ",{"$f":"SUM(COUNTIF($C609:$H609,$AZ$11:$BE$11))","v":0}," ",{"$f":"SUM(COUNTIF($C609:$H609,$BG$11:$BL$11))","v":0}," ",{"$f":"SUM(COUNTIF($C609:$H609,$BN$11:$BS$11))","v":0}," ",{"$f":"SUM(COUNTIF($C609:$H609,$BU$11:$BZ$11))","v":0}," ",{"$f":"SUM(COUNTIF($C609:$H609,$CB$11:$CG$11))","v":0}," ",{"$f":"SUM(COUNTIF($C609:$H609,$CI$11:$CN$11))","v":0}," ",{"$f":"SUM(COUNTIF($C609:$H609,$CP$11:$CU$11))","v":0}," ",{"$f":"SUM(COUNTIF($C609:$H609,$CW$11:$DB$11))","v":0}," ",{"$f":"SUM(COUNTIF($C609:$H609,$DD$11:$DI$11))","v":0}," ",{"$f":"SUM(COUNTIF($C609:$H609,$DK$11:$DP$11))","v":0}]
[{"$f":"'aktuelle Zahlen'!A606","v":0},{"$f":"'aktuelle Zahlen'!B606","v":"00:00:00"},{"$f":"'aktuelle Zahlen'!C606","v":0},{"$f":"'aktuelle Zahlen'!D606","v":0},{"$f":"'aktuelle Zahlen'!E606","v":0},{"$f":"'aktuelle Zahlen'!F606","v":0},{"$f":"'aktuelle Zahlen'!G606","v":0},{"$f":"'aktuelle Zahlen'!H606","v":0},{"$f":"'aktuelle Zahlen'!J606","v":0},null," ",{"$f":"SUM(COUNTIF($C610:$H610,$AL$11:$AQ$11))","v":0}," ",{"$f":"SUM(COUNTIF($C610:$H610,$AS$11:$AX$11))","v":0}," ",{"$f":"SUM(COUNTIF($C610:$H610,$AZ$11:$BE$11))","v":0}," ",{"$f":"SUM(COUNTIF($C610:$H610,$BG$11:$BL$11))","v":0}," ",{"$f":"SUM(COUNTIF($C610:$H610,$BN$11:$BS$11))","v":0}," ",{"$f":"SUM(COUNTIF($C610:$H610,$BU$11:$BZ$11))","v":0}," ",{"$f":"SUM(COUNTIF($C610:$H610,$CB$11:$CG$11))","v":0}," ",{"$f":"SUM(COUNTIF($C610:$H610,$CI$11:$CN$11))","v":0}," ",{"$f":"SUM(COUNTIF($C610:$H610,$CP$11:$CU$11))","v":0}," ",{"$f":"SUM(COUNTIF($C610:$H610,$CW$11:$DB$11))","v":0}," ",{"$f":"SUM(COUNTIF($C610:$H610,$DD$11:$DI$11))","v":0}," ",{"$f":"SUM(COUNTIF($C610:$H610,$DK$11:$DP$11))","v":0}]
[{"$f":"'aktuelle Zahlen'!A607","v":0},{"$f":"'aktuelle Zahlen'!B607","v":"00:00:00"},{"$f":"'aktuelle Zahlen'!C607","v":0},{"$f":"'aktuelle Zahlen'!D607","v":0},{"$f":"'aktuelle Zahlen'!E607","v":0},{"$f":"'aktuelle Zahlen'!F607","v":0},{"$f":"'aktuelle Zahlen'!G607","v":0},{"$f":"'aktuelle Zahlen'!H607","v":0},{"$f":"'aktuelle Zahlen'!J607","v":0},null," ",{"$f":"SUM(COUNTIF($C611:$H611,$AL$11:$AQ$11))","v":0}," ",{"$f":"SUM(COUNTIF($C611:$H611,$AS$11:$AX$11))","v":0}," ",{"$f":"SUM(COUNTIF($C611:$H611,$AZ$11:$BE$11))","v":0}," ",{"$f":"SUM(COUNTIF($C611:$H611,$BG$11:$BL$11))","v":0}," ",{"$f":"SUM(COUNTIF($C611:$H611,$BN$11:$BS$11))","v":0}," ",{"$f":"SUM(COUNTIF($C611:$H611,$BU$11:$BZ$11))","v":0}," ",{"$f":"SUM(COUNTIF($C611:$H611,$CB$11:$CG$11))","v":0}," ",{"$f":"SUM(COUNTIF($C611:$H611,$CI$11:$CN$11))","v":0}," ",{"$f":"SUM(COUNTIF($C611:$H611,$CP$11:$CU$11))","v":0}," ",{"$f":"SUM(COUNTIF($C611:$H611,$CW$11:$DB$11))","v":0}," ",{"$f":"SUM(COUNTIF($C611:$H611,$DD$11:$DI$11))","v":0}," ",{"$f":"SUM(COUNTIF($C611:$H611,$DK$11:$DP$11))","v":0}]
[{"$f":"'aktuelle Zahlen'!A608","v":0},{"$f":"'aktuelle Zahlen'!B608","v":"00:00:00"},{"$f":"'aktuelle Zahlen'!C608","v":0},{"$f":"'aktuelle Zahlen'!D608","v":0},{"$f":"'aktuelle Zahlen'!E608","v":0},{"$f":"'aktuelle Zahlen'!F608","v":0},{"$f":"'aktuelle Zahlen'!G608","v":0},{"$f":"'aktuelle Zahlen'!H608","v":0},{"$f":"'aktuelle Zahlen'!J608","v":0},null," ",{"$f":"SUM(COUNTIF($C612:$H612,$AL$11:$AQ$11))","v":0}," ",{"$f":"SUM(COUNTIF($C612:$H612,$AS$11:$AX$11))","v":0}," ",{"$f":"SUM(COUNTIF($C612:$H612,$AZ$11:$BE$11))","v":0}," ",{"$f":"SUM(COUNTIF($C612:$H612,$BG$11:$BL$11))","v":0}," ",{"$f":"SUM(COUNTIF($C612:$H612,$BN$11:$BS$11))","v":0}," ",{"$f":"SUM(COUNTIF($C612:$H612,$BU$11:$BZ$11))","v":0}," ",{"$f":"SUM(COUNTIF($C612:$H612,$CB$11:$CG$11))","v":0}," ",{"$f":"SUM(COUNTIF($C612:$H612,$CI$11:$CN$11))","v":0}," ",{"$f":"SUM(COUNTIF($C612:$H612,$CP$11:$CU$11))","v":0}," ",{"$f":"SUM(COUNTIF($C612:$H612,$CW$11:$DB$11))","v":0}," ",{"$f":"SUM(COUNTIF($C612:$H612,$DD$11:$DI$11))","v":0}," ",{"$f":"SUM(COUNTIF($C612:$H612,$DK$11:$DP$11))","v":0}]
[{"$f":"'aktuelle Zahlen'!A609","v":0},{"$f":"'aktuelle Zahlen'!B609","v":"00:00:00"},{"$f":"'aktuelle Zahlen'!C609","v":0},{"$f":"'aktuelle Zahlen'!D609","v":0},{"$f":"'aktuelle Zahlen'!E609","v":0},{"$f":"'aktuelle Zahlen'!F609","v":0},{"$f":"'aktuelle Zahlen'!G609","v":0},{"$f":"'aktuelle Zahlen'!H609","v":0},{"$f":"'aktuelle Zahlen'!J609","v":0},null," ",{"$f":"SUM(COUNTIF($C613:$H613,$AL$11:$AQ$11))","v":0}," ",{"$f":"SUM(COUNTIF($C613:$H613,$AS$11:$AX$11))","v":0}," ",{"$f":"SUM(COUNTIF($C613:$H613,$AZ$11:$BE$11))","v":0}," ",{"$f":"SUM(COUNTIF($C613:$H613,$BG$11:$BL$11))","v":0}," ",{"$f":"SUM(COUNTIF($C613:$H613,$BN$11:$BS$11))","v":0}," ",{"$f":"SUM(COUNTIF($C613:$H613,$BU$11:$BZ$11))","v":0}," ",{"$f":"SUM(COUNTIF($C613:$H613,$CB$11:$CG$11))","v":0}," ",{"$f":"SUM(COUNTIF($C613:$H613,$CI$11:$CN$11))","v":0}," ",{"$f":"SUM(COUNTIF($C613:$H613,$CP$11:$CU$11))","v":0}," ",{"$f":"SUM(COUNTIF($C613:$H613,$CW$11:$DB$11))","v":0}," ",{"$f":"SUM(COUNTIF($C613:$H613,$DD$11:$DI$11))","v":0}," ",{"$f":"SUM(COUNTIF($C613:$H613,$DK$11:$DP$11))","v":0}]
[{"$f":"'aktuelle Zahlen'!A610","v":0},{"$f":"'aktuelle Zahlen'!B610","v":"00:00:00"},{"$f":"'aktuelle Zahlen'!C610","v":0},{"$f":"'aktuelle Zahlen'!D610","v":0},{"$f":"'aktuelle Zahlen'!E610","v":0},{"$f":"'aktuelle Zahlen'!F610","v":0},{"$f":"'aktuelle Zahlen'!G610","v":0},{"$f":"'aktuelle Zahlen'!H610","v":0},{"$f":"'aktuelle Zahlen'!J610","v":0},null," ",{"$f":"SUM(COUNTIF($C614:$H614,$AL$11:$AQ$11))","v":0}," ",{"$f":"SUM(COUNTIF($C614:$H614,$AS$11:$AX$11))","v":0}," ",{"$f":"SUM(COUNTIF($C614:$H614,$AZ$11:$BE$11))","v":0}," ",{"$f":"SUM(COUNTIF($C614:$H614,$BG$11:$BL$11))","v":0}," ",{"$f":"SUM(COUNTIF($C614:$H614,$BN$11:$BS$11))","v":0}," ",{"$f":"SUM(COUNTIF($C614:$H614,$BU$11:$BZ$11))","v":0}," ",{"$f":"SUM(COUNTIF($C614:$H614,$CB$11:$CG$11))","v":0}," ",{"$f":"SUM(COUNTIF($C614:$H614,$CI$11:$CN$11))","v":0}," ",{"$f":"SUM(COUNTIF($C614:$H614,$CP$11:$CU$11))","v":0}," ",{"$f":"SUM(COUNTIF($C614:$H614,$CW$11:$DB$11))","v":0}," ",{"$f":"SUM(COUNTIF($C614:$H614,$DD$11:$DI$11))","v":0}," ",{"$f":"SUM(COUNTIF($C614:$H614,$DK$11:$DP$11))","v":0}]
[{"$f":"'aktuelle Zahlen'!A611","v":0},{"$f":"'aktuelle Zahlen'!B611","v":"00:00:00"},{"$f":"'aktuelle Zahlen'!C611","v":0},{"$f":"'aktuelle Zahlen'!D611","v":0},{"$f":"'aktuelle Zahlen'!E611","v":0},{"$f":"'aktuelle Zahlen'!F611","v":0},{"$f":"'aktuelle Zahlen'!G611","v":0},{"$f":"'aktuelle Zahlen'!H611","v":0},{"$f":"'aktuelle Zahlen'!J611","v":0},null," ",{"$f":"SUM(COUNTIF($C615:$H615,$AL$11:$AQ$11))","v":0}," ",{"$f":"SUM(COUNTIF($C615:$H615,$AS$11:$AX$11))","v":0}," ",{"$f":"SUM(COUNTIF($C615:$H615,$AZ$11:$BE$11))","v":0}," ",{"$f":"SUM(COUNTIF($C615:$H615,$BG$11:$BL$11))","v":0}," ",{"$f":"SUM(COUNTIF($C615:$H615,$BN$11:$BS$11))","v":0}," ",{"$f":"SUM(COUNTIF($C615:$H615,$BU$11:$BZ$11))","v":0}," ",{"$f":"SUM(COUNTIF($C615:$H615,$CB$11:$CG$11))","v":0}," ",{"$f":"SUM(COUNTIF($C615:$H615,$CI$11:$CN$11))","v":0}," ",{"$f":"SUM(COUNTIF($C615:$H615,$CP$11:$CU$11))","v":0}," ",{"$f":"SUM(COUNTIF($C615:$H615,$CW$11:$DB$11))","v":0}," ",{"$f":"SUM(COUNTIF($C615:$H615,$DD$11:$DI$11))","v":0}," ",{"$f":"SUM(COUNTIF($C615:$H615,$DK$11:$DP$11))","v":0}]
[{"$f":"'aktuelle Zahlen'!A612","v":0},{"$f":"'aktuelle Zahlen'!B612","v":"00:00:00"},{"$f":"'aktuelle Zahlen'!C612","v":0},{"$f":"'aktuelle Zahlen'!D612","v":0},{"$f":"'aktuelle Zahlen'!E612","v":0},{"$f":"'aktuelle Zahlen'!F612","v":0},{"$f":"'aktuelle Zahlen'!G612","v":0},{"$f":"'aktuelle Zahlen'!H612","v":0},{"$f":"'aktuelle Zahlen'!J612","v":0},null," ",{"$f":"SUM(COUNTIF($C616:$H616,$AL$11:$AQ$11))","v":0}," ",{"$f":"SUM(COUNTIF($C616:$H616,$AS$11:$AX$11))","v":0}," ",{"$f":"SUM(COUNTIF($C616:$H616,$AZ$11:$BE$11))","v":0}," ",{"$f":"SUM(COUNTIF($C616:$H616,$BG$11:$BL$11))","v":0}," ",{"$f":"SUM(COUNTIF($C616:$H616,$BN$11:$BS$11))","v":0}," ",{"$f":"SUM(COUNTIF($C616:$H616,$BU$11:$BZ$11))","v":0}," ",{"$f":"SUM(COUNTIF($C616:$H616,$CB$11:$CG$11))","v":0}," ",{"$f":"SUM(COUNTIF($C616:$H616,$CI$11:$CN$11))","v":0}," ",{"$f":"SUM(COUNTIF($C616:$H616,$CP$11:$CU$11))","v":0}," ",{"$f":"SUM(COUNTIF($C616:$H616,$CW$11:$DB$11))","v":0}," ",{"$f":"SUM(COUNTIF($C616:$H616,$DD$11:$DI$11))","v":0}," ",{"$f":"SUM(COUNTIF($C616:$H616,$DK$11:$DP$11))","v":0}]
[{"$f":"'aktuelle Zahlen'!A613","v":0},{"$f":"'aktuelle Zahlen'!B613","v":"00:00:00"},{"$f":"'aktuelle Zahlen'!C613","v":0},{"$f":"'aktuelle Zahlen'!D613","v":0},{"$f":"'aktuelle Zahlen'!E613","v":0},{"$f":"'aktuelle Zahlen'!F613","v":0},{"$f":"'aktuelle Zahlen'!G613","v":0},{"$f":"'aktuelle Zahlen'!H613","v":0},{"$f":"'aktuelle Zahlen'!J613","v":0},null," ",{"$f":"SUM(COUNTIF($C617:$H617,$AL$11:$AQ$11))","v":0}," ",{"$f":"SUM(COUNTIF($C617:$H617,$AS$11:$AX$11))","v":0}," ",{"$f":"SUM(COUNTIF($C617:$H617,$AZ$11:$BE$11))","v":0}," ",{"$f":"SUM(COUNTIF($C617:$H617,$BG$11:$BL$11))","v":0}," ",{"$f":"SUM(COUNTIF($C617:$H617,$BN$11:$BS$11))","v":0}," ",{"$f":"SUM(COUNTIF($C617:$H617,$BU$11:$BZ$11))","v":0}," ",{"$f":"SUM(COUNTIF($C617:$H617,$CB$11:$CG$11))","v":0}," ",{"$f":"SUM(COUNTIF($C617:$H617,$CI$11:$CN$11))","v":0}," ",{"$f":"SUM(COUNTIF($C617:$H617,$CP$11:$CU$11))","v":0}," ",{"$f":"SUM(COUNTIF($C617:$H617,$CW$11:$DB$11))","v":0}," ",{"$f":"SUM(COUNTIF($C617:$H617,$DD$11:$DI$11))","v":0}," ",{"$f":"SUM(COUNTIF($C617:$H617,$DK$11:$DP$11))","v":0}]
[{"$f":"'aktuelle Zahlen'!A614","v":0},{"$f":"'aktuelle Zahlen'!B614","v":"00:00:00"},{"$f":"'aktuelle Zahlen'!C614","v":0},{"$f":"'aktuelle Zahlen'!D614","v":0},{"$f":"'aktuelle Zahlen'!E614","v":0},{"$f":"'aktuelle Zahlen'!F614","v":0},{"$f":"'aktuelle Zahlen'!G614","v":0},{"$f":"'aktuelle Zahlen'!H614","v":0},{"$f":"'aktuelle Zahlen'!J614","v":0},null," ",{"$f":"SUM(COUNTIF($C618:$H618,$AL$11:$AQ$11))","v":0}," ",{"$f":"SUM(COUNTIF($C618:$H618,$AS$11:$AX$11))","v":0}," ",{"$f":"SUM(COUNTIF($C618:$H618,$AZ$11:$BE$11))","v":0}," ",{"$f":"SUM(COUNTIF($C618:$H618,$BG$11:$BL$11))","v":0}," ",{"$f":"SUM(COUNTIF($C618:$H618,$BN$11:$BS$11))","v":0}," ",{"$f":"SUM(COUNTIF($C618:$H618,$BU$11:$BZ$11))","v":0}," ",{"$f":"SUM(COUNTIF($C618:$H618,$CB$11:$CG$11))","v":0}," ",{"$f":"SUM(COUNTIF($C618:$H618,$CI$11:$CN$11))","v":0}," ",{"$f":"SUM(COUNTIF($C618:$H618,$CP$11:$CU$11))","v":0}," ",{"$f":"SUM(COUNTIF($C618:$H618,$CW$11:$DB$11))","v":0}," ",{"$f":"SUM(COUNTIF($C618:$H618,$DD$11:$DI$11))","v":0}," ",{"$f":"SUM(COUNTIF($C618:$H618,$DK$11:$DP$11))","v":0}]
[{"$f":"'aktuelle Zahlen'!A615","v":0},{"$f":"'aktuelle Zahlen'!B615","v":"00:00:00"},{"$f":"'aktuelle Zahlen'!C615","v":0},{"$f":"'aktuelle Zahlen'!D615","v":0},{"$f":"'aktuelle Zahlen'!E615","v":0},{"$f":"'aktuelle Zahlen'!F615","v":0},{"$f":"'aktuelle Zahlen'!G615","v":0},{"$f":"'aktuelle Zahlen'!H615","v":0},{"$f":"'aktuelle Zahlen'!J615","v":0},null," ",{"$f":"SUM(COUNTIF($C619:$H619,$AL$11:$AQ$11))","v":0}," ",{"$f":"SUM(COUNTIF($C619:$H619,$AS$11:$AX$11))","v":0}," ",{"$f":"SUM(COUNTIF($C619:$H619,$AZ$11:$BE$11))","v":0}," ",{"$f":"SUM(COUNTIF($C619:$H619,$BG$11:$BL$11))","v":0}," ",{"$f":"SUM(COUNTIF($C619:$H619,$BN$11:$BS$11))","v":0}," ",{"$f":"SUM(COUNTIF($C619:$H619,$BU$11:$BZ$11))","v":0}," ",{"$f":"SUM(COUNTIF($C619:$H619,$CB$11:$CG$11))","v":0}," ",{"$f":"SUM(COUNTIF($C619:$H619,$CI$11:$CN$11))","v":0}," ",{"$f":"SUM(COUNTIF($C619:$H619,$CP$11:$CU$11))","v":0}," ",{"$f":"SUM(COUNTIF($C619:$H619,$CW$11:$DB$11))","v":0}," ",{"$f":"SUM(COUNTIF($C619:$H619,$DD$11:$DI$11))","v":0}," ",{"$f":"SUM(COUNTIF($C619:$H619,$DK$11:$DP$11))","v":0}]
[{"$f":"'aktuelle Zahlen'!A616","v":0},{"$f":"'aktuelle Zahlen'!B616","v":"00:00:00"},{"$f":"'aktuelle Zahlen'!C616","v":0},{"$f":"'aktuelle Zahlen'!D616","v":0},{"$f":"'aktuelle Zahlen'!E616","v":0},{"$f":"'aktuelle Zahlen'!F616","v":0},{"$f":"'aktuelle Zahlen'!G616","v":0},{"$f":"'aktuelle Zahlen'!H616","v":0},{"$f":"'aktuelle Zahlen'!J616","v":0},null," ",{"$f":"SUM(COUNTIF($C620:$H620,$AL$11:$AQ$11))","v":0}," ",{"$f":"SUM(COUNTIF($C620:$H620,$AS$11:$AX$11))","v":0}," ",{"$f":"SUM(COUNTIF($C620:$H620,$AZ$11:$BE$11))","v":0}," ",{"$f":"SUM(COUNTIF($C620:$H620,$BG$11:$BL$11))","v":0}," ",{"$f":"SUM(COUNTIF($C620:$H620,$BN$11:$BS$11))","v":0}," ",{"$f":"SUM(COUNTIF($C620:$H620,$BU$11:$BZ$11))","v":0}," ",{"$f":"SUM(COUNTIF($C620:$H620,$CB$11:$CG$11))","v":0}," ",{"$f":"SUM(COUNTIF($C620:$H620,$CI$11:$CN$11))","v":0}," ",{"$f":"SUM(COUNTIF($C620:$H620,$CP$11:$CU$11))","v":0}," ",{"$f":"SUM(COUNTIF($C620:$H620,$CW$11:$DB$11))","v":0}," ",{"$f":"SUM(COUNTIF($C620:$H620,$DD$11:$DI$11))","v":0}," ",{"$f":"SUM(COUNTIF($C620:$H620,$DK$11:$DP$11))","v":0}]
[{"$f":"'aktuelle Zahlen'!A617","v":0},{"$f":"'aktuelle Zahlen'!B617","v":"00:00:00"},{"$f":"'aktuelle Zahlen'!C617","v":0},{"$f":"'aktuelle Zahlen'!D617","v":0},{"$f":"'aktuelle Zahlen'!E617","v":0},{"$f":"'aktuelle Zahlen'!F617","v":0},{"$f":"'aktuelle Zahlen'!G617","v":0},{"$f":"'aktuelle Zahlen'!H617","v":0},{"$f":"'aktuelle Zahlen'!J617","v":0},null," ",{"$f":"SUM(COUNTIF($C621:$H621,$AL$11:$AQ$11))","v":0}," ",{"$f":"SUM(COUNTIF($C621:$H621,$AS$11:$AX$11))","v":0}," ",{"$f":"SUM(COUNTIF($C621:$H621,$AZ$11:$BE$11))","v":0}," ",{"$f":"SUM(COUNTIF($C621:$H621,$BG$11:$BL$11))","v":0}," ",{"$f":"SUM(COUNTIF($C621:$H621,$BN$11:$BS$11))","v":0}," ",{"$f":"SUM(COUNTIF($C621:$H621,$BU$11:$BZ$11))","v":0}," ",{"$f":"SUM(COUNTIF($C621:$H621,$CB$11:$CG$11))","v":0}," ",{"$f":"SUM(COUNTIF($C621:$H621,$CI$11:$CN$11))","v":0}," ",{"$f":"SUM(COUNTIF($C621:$H621,$CP$11:$CU$11))","v":0}," ",{"$f":"SUM(COUNTIF($C621:$H621,$CW$11:$DB$11))","v":0}," ",{"$f":"SUM(COUNTIF($C621:$H621,$DD$11:$DI$11))","v":0}," ",{"$f":"SUM(COUNTIF($C621:$H621,$DK$11:$DP$11))","v":0}]
[{"$f":"'aktuelle Zahlen'!A618","v":0},{"$f":"'aktuelle Zahlen'!B618","v":"00:00:00"},{"$f":"'aktuelle Zahlen'!C618","v":0},{"$f":"'aktuelle Zahlen'!D618","v":0},{"$f":"'aktuelle Zahlen'!E618","v":0},{"$f":"'aktuelle Zahlen'!F618","v":0},{"$f":"'aktuelle Zahlen'!G618","v":0},{"$f":"'aktuelle Zahlen'!H618","v":0},{"$f":"'aktuelle Zahlen'!J618","v":0},null," ",{"$f":"SUM(COUNTIF($C622:$H622,$AL$11:$AQ$11))","v":0}," ",{"$f":"SUM(COUNTIF($C622:$H622,$AS$11:$AX$11))","v":0}," ",{"$f":"SUM(COUNTIF($C622:$H622,$AZ$11:$BE$11))","v":0}," ",{"$f":"SUM(COUNTIF($C622:$H622,$BG$11:$BL$11))","v":0}," ",{"$f":"SUM(COUNTIF($C622:$H622,$BN$11:$BS$11))","v":0}," ",{"$f":"SUM(COUNTIF($C622:$H622,$BU$11:$BZ$11))","v":0}," ",{"$f":"SUM(COUNTIF($C622:$H622,$CB$11:$CG$11))","v":0}," ",{"$f":"SUM(COUNTIF($C622:$H622,$CI$11:$CN$11))","v":0}," ",{"$f":"SUM(COUNTIF($C622:$H622,$CP$11:$CU$11))","v":0}," ",{"$f":"SUM(COUNTIF($C622:$H622,$CW$11:$DB$11))","v":0}," ",{"$f":"SUM(COUNTIF($C622:$H622,$DD$11:$DI$11))","v":0}," ",{"$f":"SUM(COUNTIF($C622:$H622,$DK$11:$DP$11))","v":0}]
[{"$f":"'aktuelle Zahlen'!A619","v":0},{"$f":"'aktuelle Zahlen'!B619","v":"00:00:00"},{"$f":"'aktuelle Zahlen'!C619","v":0},{"$f":"'aktuelle Zahlen'!D619","v":0},{"$f":"'aktuelle Zahlen'!E619","v":0},{"$f":"'aktuelle Zahlen'!F619","v":0},{"$f":"'aktuelle Zahlen'!G619","v":0},{"$f":"'aktuelle Zahlen'!H619","v":0},{"$f":"'aktuelle Zahlen'!J619","v":0},null," ",{"$f":"SUM(COUNTIF($C623:$H623,$AL$11:$AQ$11))","v":0}," ",{"$f":"SUM(COUNTIF($C623:$H623,$AS$11:$AX$11))","v":0}," ",{"$f":"SUM(COUNTIF($C623:$H623,$AZ$11:$BE$11))","v":0}," ",{"$f":"SUM(COUNTIF($C623:$H623,$BG$11:$BL$11))","v":0}," ",{"$f":"SUM(COUNTIF($C623:$H623,$BN$11:$BS$11))","v":0}," ",{"$f":"SUM(COUNTIF($C623:$H623,$BU$11:$BZ$11))","v":0}," ",{"$f":"SUM(COUNTIF($C623:$H623,$CB$11:$CG$11))","v":0}," ",{"$f":"SUM(COUNTIF($C623:$H623,$CI$11:$CN$11))","v":0}," ",{"$f":"SUM(COUNTIF($C623:$H623,$CP$11:$CU$11))","v":0}," ",{"$f":"SUM(COUNTIF($C623:$H623,$CW$11:$DB$11))","v":0}," ",{"$f":"SUM(COUNTIF($C623:$H623,$DD$11:$DI$11))","v":0}," ",{"$f":"SUM(COUNTIF($C623:$H623,$DK$11:$DP$11))","v":0}]
[{"$f":"'aktuelle Zahlen'!A620","v":0},{"$f":"'aktuelle Zahlen'!B620","v":"00:00:00"},{"$f":"'aktuelle Zahlen'!C620","v":0},{"$f":"'aktuelle Zahlen'!D620","v":0},{"$f":"'aktuelle Zahlen'!E620","v":0},{"$f":"'aktuelle Zahlen'!F620","v":0},{"$f":"'aktuelle Zahlen'!G620","v":0},{"$f":"'aktuelle Zahlen'!H620","v":0},{"$f":"'aktuelle Zahlen'!J620","v":0},null," ",{"$f":"SUM(COUNTIF($C624:$H624,$AL$11:$AQ$11))","v":0}," ",{"$f":"SUM(COUNTIF($C624:$H624,$AS$11:$AX$11))","v":0}," ",{"$f":"SUM(COUNTIF($C624:$H624,$AZ$11:$BE$11))","v":0}," ",{"$f":"SUM(COUNTIF($C624:$H624,$BG$11:$BL$11))","v":0}," ",{"$f":"SUM(COUNTIF($C624:$H624,$BN$11:$BS$11))","v":0}," ",{"$f":"SUM(COUNTIF($C624:$H624,$BU$11:$BZ$11))","v":0}," ",{"$f":"SUM(COUNTIF($C624:$H624,$CB$11:$CG$11))","v":0}," ",{"$f":"SUM(COUNTIF($C624:$H624,$CI$11:$CN$11))","v":0}," ",{"$f":"SUM(COUNTIF($C624:$H624,$CP$11:$CU$11))","v":0}," ",{"$f":"SUM(COUNTIF($C624:$H624,$CW$11:$DB$11))","v":0}," ",{"$f":"SUM(COUNTIF($C624:$H624,$DD$11:$DI$11))","v":0}," ",{"$f":"SUM(COUNTIF($C624:$H624,$DK$11:$DP$11))","v":0}]
[{"$f":"'aktuelle Zahlen'!A621","v":0},{"$f":"'aktuelle Zahlen'!B621","v":"00:00:00"},{"$f":"'aktuelle Zahlen'!C621","v":0},{"$f":"'aktuelle Zahlen'!D621","v":0},{"$f":"'aktuelle Zahlen'!E621","v":0},{"$f":"'aktuelle Zahlen'!F621","v":0},{"$f":"'aktuelle Zahlen'!G621","v":0},{"$f":"'aktuelle Zahlen'!H621","v":0},{"$f":"'aktuelle Zahlen'!J621","v":0},null," ",{"$f":"SUM(COUNTIF($C625:$H625,$AL$11:$AQ$11))","v":0}," ",{"$f":"SUM(COUNTIF($C625:$H625,$AS$11:$AX$11))","v":0}," ",{"$f":"SUM(COUNTIF($C625:$H625,$AZ$11:$BE$11))","v":0}," ",{"$f":"SUM(COUNTIF($C625:$H625,$BG$11:$BL$11))","v":0}," ",{"$f":"SUM(COUNTIF($C625:$H625,$BN$11:$BS$11))","v":0}," ",{"$f":"SUM(COUNTIF($C625:$H625,$BU$11:$BZ$11))","v":0}," ",{"$f":"SUM(COUNTIF($C625:$H625,$CB$11:$CG$11))","v":0}," ",{"$f":"SUM(COUNTIF($C625:$H625,$CI$11:$CN$11))","v":0}," ",{"$f":"SUM(COUNTIF($C625:$H625,$CP$11:$CU$11))","v":0}," ",{"$f":"SUM(COUNTIF($C625:$H625,$CW$11:$DB$11))","v":0}," ",{"$f":"SUM(COUNTIF($C625:$H625,$DD$11:$DI$11))","v":0}," ",{"$f":"SUM(COUNTIF($C625:$H625,$DK$11:$DP$11))","v":0}]
[{"$f":"'aktuelle Zahlen'!A622","v":0},{"$f":"'aktuelle Zahlen'!B622","v":"00:00:00"},{"$f":"'aktuelle Zahlen'!C622","v":0},{"$f":"'aktuelle Zahlen'!D622","v":0},{"$f":"'aktuelle Zahlen'!E622","v":0},{"$f":"'aktuelle Zahlen'!F622","v":0},{"$f":"'aktuelle Zahlen'!G622","v":0},{"$f":"'aktuelle Zahlen'!H622","v":0},{"$f":"'aktuelle Zahlen'!J622","v":0},null," ",{"$f":"SUM(COUNTIF($C626:$H626,$AL$11:$AQ$11))","v":0}," ",{"$f":"SUM(COUNTIF($C626:$H626,$AS$11:$AX$11))","v":0}," ",{"$f":"SUM(COUNTIF($C626:$H626,$AZ$11:$BE$11))","v":0}," ",{"$f":"SUM(COUNTIF($C626:$H626,$BG$11:$BL$11))","v":0}," ",{"$f":"SUM(COUNTIF($C626:$H626,$BN$11:$BS$11))","v":0}," ",{"$f":"SUM(COUNTIF($C626:$H626,$BU$11:$BZ$11))","v":0}," ",{"$f":"SUM(COUNTIF($C626:$H626,$CB$11:$CG$11))","v":0}," ",{"$f":"SUM(COUNTIF($C626:$H626,$CI$11:$CN$11))","v":0}," ",{"$f":"SUM(COUNTIF($C626:$H626,$CP$11:$CU$11))","v":0}," ",{"$f":"SUM(COUNTIF($C626:$H626,$CW$11:$DB$11))","v":0}," ",{"$f":"SUM(COUNTIF($C626:$H626,$DD$11:$DI$11))","v":0}," ",{"$f":"SUM(COUNTIF($C626:$H626,$DK$11:$DP$11))","v":0}]
[{"$f":"'aktuelle Zahlen'!A623","v":0},{"$f":"'aktuelle Zahlen'!B623","v":"00:00:00"},{"$f":"'aktuelle Zahlen'!C623","v":0},{"$f":"'aktuelle Zahlen'!D623","v":0},{"$f":"'aktuelle Zahlen'!E623","v":0},{"$f":"'aktuelle Zahlen'!F623","v":0},{"$f":"'aktuelle Zahlen'!G623","v":0},{"$f":"'aktuelle Zahlen'!H623","v":0},{"$f":"'aktuelle Zahlen'!J623","v":0},null," ",{"$f":"SUM(COUNTIF($C627:$H627,$AL$11:$AQ$11))","v":0}," ",{"$f":"SUM(COUNTIF($C627:$H627,$AS$11:$AX$11))","v":0}," ",{"$f":"SUM(COUNTIF($C627:$H627,$AZ$11:$BE$11))","v":0}," ",{"$f":"SUM(COUNTIF($C627:$H627,$BG$11:$BL$11))","v":0}," ",{"$f":"SUM(COUNTIF($C627:$H627,$BN$11:$BS$11))","v":0}," ",{"$f":"SUM(COUNTIF($C627:$H627,$BU$11:$BZ$11))","v":0}," ",{"$f":"SUM(COUNTIF($C627:$H627,$CB$11:$CG$11))","v":0}," ",{"$f":"SUM(COUNTIF($C627:$H627,$CI$11:$CN$11))","v":0}," ",{"$f":"SUM(COUNTIF($C627:$H627,$CP$11:$CU$11))","v":0}," ",{"$f":"SUM(COUNTIF($C627:$H627,$CW$11:$DB$11))","v":0}," ",{"$f":"SUM(COUNTIF($C627:$H627,$DD$11:$DI$11))","v":0}," ",{"$f":"SUM(COUNTIF($C627:$H627,$DK$11:$DP$11))","v":0}]
[{"$f":"'aktuelle Zahlen'!A624","v":0},{"$f":"'aktuelle Zahlen'!B624","v":"00:00:00"},{"$f":"'aktuelle Zahlen'!C624","v":0},{"$f":"'aktuelle Zahlen'!D624","v":0},{"$f":"'aktuelle Zahlen'!E624","v":0},{"$f":"'aktuelle Zahlen'!F624","v":0},{"$f":"'aktuelle Zahlen'!G624","v":0},{"$f":"'aktuelle Zahlen'!H624","v":0},{"$f":"'aktuelle Zahlen'!J624","v":0},null," ",{"$f":"SUM(COUNTIF($C628:$H628,$AL$11:$AQ$11))","v":0}," ",{"$f":"SUM(COUNTIF($C628:$H628,$AS$11:$AX$11))","v":0}," ",{"$f":"SUM(COUNTIF($C628:$H628,$AZ$11:$BE$11))","v":0}," ",{"$f":"SUM(COUNTIF($C628:$H628,$BG$11:$BL$11))","v":0}," ",{"$f":"SUM(COUNTIF($C628:$H628,$BN$11:$BS$11))","v":0}," ",{"$f":"SUM(COUNTIF($C628:$H628,$BU$11:$BZ$11))","v":0}," ",{"$f":"SUM(COUNTIF($C628:$H628,$CB$11:$CG$11))","v":0}," ",{"$f":"SUM(COUNTIF($C628:$H628,$CI$11:$CN$11))","v":0}," ",{"$f":"SUM(COUNTIF($C628:$H628,$CP$11:$CU$11))","v":0}," ",{"$f":"SUM(COUNTIF($C628:$H628,$CW$11:$DB$11))","v":0}," ",{"$f":"SUM(COUNTIF($C628:$H628,$DD$11:$DI$11))","v":0}," ",{"$f":"SUM(COUNTIF($C628:$H628,$DK$11:$DP$11))","v":0}]
[{"$f":"'aktuelle Zahlen'!A625","v":0},{"$f":"'aktuelle Zahlen'!B625","v":"00:00:00"},{"$f":"'aktuelle Zahlen'!C625","v":0},{"$f":"'aktuelle Zahlen'!D625","v":0},{"$f":"'aktuelle Zahlen'!E625","v":0},{"$f":"'aktuelle Zahlen'!F625","v":0},{"$f":"'aktuelle Zahlen'!G625","v":0},{"$f":"'aktuelle Zahlen'!H625","v":0},{"$f":"'aktuelle Zahlen'!J625","v":0},null," ",{"$f":"SUM(COUNTIF($C629:$H629,$AL$11:$AQ$11))","v":0}," ",{"$f":"SUM(COUNTIF($C629:$H629,$AS$11:$AX$11))","v":0}," ",{"$f":"SUM(COUNTIF($C629:$H629,$AZ$11:$BE$11))","v":0}," ",{"$f":"SUM(COUNTIF($C629:$H629,$BG$11:$BL$11))","v":0}," ",{"$f":"SUM(COUNTIF($C629:$H629,$BN$11:$BS$11))","v":0}," ",{"$f":"SUM(COUNTIF($C629:$H629,$BU$11:$BZ$11))","v":0}," ",{"$f":"SUM(COUNTIF($C629:$H629,$CB$11:$CG$11))","v":0}," ",{"$f":"SUM(COUNTIF($C629:$H629,$CI$11:$CN$11))","v":0}," ",{"$f":"SUM(COUNTIF($C629:$H629,$CP$11:$CU$11))","v":0}," ",{"$f":"SUM(COUNTIF($C629:$H629,$CW$11:$DB$11))","v":0}," ",{"$f":"SUM(COUNTIF($C629:$H629,$DD$11:$DI$11))","v":0}," ",{"$f":"SUM(COUNTIF($C629:$H629,$DK$11:$DP$11))","v":0}]
[{"$f":"'aktuelle Zahlen'!A626","v":0},{"$f":"'aktuelle Zahlen'!B626","v":"00:00:00"},{"$f":"'aktuelle Zahlen'!C626","v":0},{"$f":"'aktuelle Zahlen'!D626","v":0},{"$f":"'aktuelle Zahlen'!E626","v":0},{"$f":"'aktuelle Zahlen'!F626","v":0},{"$f":"'aktuelle Zahlen'!G626","v":0},{"$f":"'aktuelle Zahlen'!H626","v":0},{"$f":"'aktuelle Zahlen'!J626","v":0},null," ",{"$f":"SUM(COUNTIF($C630:$H630,$AL$11:$AQ$11))","v":0}," ",{"$f":"SUM(COUNTIF($C630:$H630,$AS$11:$AX$11))","v":0}," ",{"$f":"SUM(COUNTIF($C630:$H630,$AZ$11:$BE$11))","v":0}," ",{"$f":"SUM(COUNTIF($C630:$H630,$BG$11:$BL$11))","v":0}," ",{"$f":"SUM(COUNTIF($C630:$H630,$BN$11:$BS$11))","v":0}," ",{"$f":"SUM(COUNTIF($C630:$H630,$BU$11:$BZ$11))","v":0}," ",{"$f":"SUM(COUNTIF($C630:$H630,$CB$11:$CG$11))","v":0}," ",{"$f":"SUM(COUNTIF($C630:$H630,$CI$11:$CN$11))","v":0}," ",{"$f":"SUM(COUNTIF($C630:$H630,$CP$11:$CU$11))","v":0}," ",{"$f":"SUM(COUNTIF($C630:$H630,$CW$11:$DB$11))","v":0}," ",{"$f":"SUM(COUNTIF($C630:$H630,$DD$11:$DI$11))","v":0}," ",{"$f":"SUM(COUNTIF($C630:$H630,$DK$11:$DP$11))","v":0}]
[{"$f":"'aktuelle Zahlen'!A627","v":0},{"$f":"'aktuelle Zahlen'!B627","v":"00:00:00"},{"$f":"'aktuelle Zahlen'!C627","v":0},{"$f":"'aktuelle Zahlen'!D627","v":0},{"$f":"'aktuelle Zahlen'!E627","v":0},{"$f":"'aktuelle Zahlen'!F627","v":0},{"$f":"'aktuelle Zahlen'!G627","v":0},{"$f":"'aktuelle Zahlen'!H627","v":0},{"$f":"'aktuelle Zahlen'!J627","v":0},null," ",{"$f":"SUM(COUNTIF($C631:$H631,$AL$11:$AQ$11))","v":0}," ",{"$f":"SUM(COUNTIF($C631:$H631,$AS$11:$AX$11))","v":0}," ",{"$f":"SUM(COUNTIF($C631:$H631,$AZ$11:$BE$11))","v":0}," ",{"$f":"SUM(COUNTIF($C631:$H631,$BG$11:$BL$11))","v":0}," ",{"$f":"SUM(COUNTIF($C631:$H631,$BN$11:$BS$11))","v":0}," ",{"$f":"SUM(COUNTIF($C631:$H631,$BU$11:$BZ$11))","v":0}," ",{"$f":"SUM(COUNTIF($C631:$H631,$CB$11:$CG$11))","v":0}," ",{"$f":"SUM(COUNTIF($C631:$H631,$CI$11:$CN$11))","v":0}," ",{"$f":"SUM(COUNTIF($C631:$H631,$CP$11:$CU$11))","v":0}," ",{"$f":"SUM(COUNTIF($C631:$H631,$CW$11:$DB$11))","v":0}," ",{"$f":"SUM(COUNTIF($C631:$H631,$DD$11:$DI$11))","v":0}," ",{"$f":"SUM(COUNTIF($C631:$H631,$DK$11:$DP$11))","v":0}]
[{"$f":"'aktuelle Zahlen'!A628","v":0},{"$f":"'aktuelle Zahlen'!B628","v":"00:00:00"},{"$f":"'aktuelle Zahlen'!C628","v":0},{"$f":"'aktuelle Zahlen'!D628","v":0},{"$f":"'aktuelle Zahlen'!E628","v":0},{"$f":"'aktuelle Zahlen'!F628","v":0},{"$f":"'aktuelle Zahlen'!G628","v":0},{"$f":"'aktuelle Zahlen'!H628","v":0},{"$f":"'aktuelle Zahlen'!J628","v":0},null," ",{"$f":"SUM(COUNTIF($C632:$H632,$AL$11:$AQ$11))","v":0}," ",{"$f":"SUM(COUNTIF($C632:$H632,$AS$11:$AX$11))","v":0}," ",{"$f":"SUM(COUNTIF($C632:$H632,$AZ$11:$BE$11))","v":0}," ",{"$f":"SUM(COUNTIF($C632:$H632,$BG$11:$BL$11))","v":0}," ",{"$f":"SUM(COUNTIF($C632:$H632,$BN$11:$BS$11))","v":0}," ",{"$f":"SUM(COUNTIF($C632:$H632,$BU$11:$BZ$11))","v":0}," ",{"$f":"SUM(COUNTIF($C632:$H632,$CB$11:$CG$11))","v":0}," ",{"$f":"SUM(COUNTIF($C632:$H632,$CI$11:$CN$11))","v":0}," ",{"$f":"SUM(COUNTIF($C632:$H632,$CP$11:$CU$11))","v":0}," ",{"$f":"SUM(COUNTIF($C632:$H632,$CW$11:$DB$11))","v":0}," ",{"$f":"SUM(COUNTIF($C632:$H632,$DD$11:$DI$11))","v":0}," ",{"$f":"SUM(COUNTIF($C632:$H632,$DK$11:$DP$11))","v":0}]
[{"$f":"'aktuelle Zahlen'!A629","v":0},{"$f":"'aktuelle Zahlen'!B629","v":"00:00:00"},{"$f":"'aktuelle Zahlen'!C629","v":0},{"$f":"'aktuelle Zahlen'!D629","v":0},{"$f":"'aktuelle Zahlen'!E629","v":0},{"$f":"'aktuelle Zahlen'!F629","v":0},{"$f":"'aktuelle Zahlen'!G629","v":0},{"$f":"'aktuelle Zahlen'!H629","v":0},{"$f":"'aktuelle Zahlen'!J629","v":0},null," ",{"$f":"SUM(COUNTIF($C633:$H633,$AL$11:$AQ$11))","v":0}," ",{"$f":"SUM(COUNTIF($C633:$H633,$AS$11:$AX$11))","v":0}," ",{"$f":"SUM(COUNTIF($C633:$H633,$AZ$11:$BE$11))","v":0}," ",{"$f":"SUM(COUNTIF($C633:$H633,$BG$11:$BL$11))","v":0}," ",{"$f":"SUM(COUNTIF($C633:$H633,$BN$11:$BS$11))","v":0}," ",{"$f":"SUM(COUNTIF($C633:$H633,$BU$11:$BZ$11))","v":0}," ",{"$f":"SUM(COUNTIF($C633:$H633,$CB$11:$CG$11))","v":0}," ",{"$f":"SUM(COUNTIF($C633:$H633,$CI$11:$CN$11))","v":0}," ",{"$f":"SUM(COUNTIF($C633:$H633,$CP$11:$CU$11))","v":0}," ",{"$f":"SUM(COUNTIF($C633:$H633,$CW$11:$DB$11))","v":0}," ",{"$f":"SUM(COUNTIF($C633:$H633,$DD$11:$DI$11))","v":0}," ",{"$f":"SUM(COUNTIF($C633:$H633,$DK$11:$DP$11))","v":0}]
[{"$f":"'aktuelle Zahlen'!A630","v":0},{"$f":"'aktuelle Zahlen'!B630","v":"00:00:00"},{"$f":"'aktuelle Zahlen'!C630","v":0},{"$f":"'aktuelle Zahlen'!D630","v":0},{"$f":"'aktuelle Zahlen'!E630","v":0},{"$f":"'aktuelle Zahlen'!F630","v":0},{"$f":"'aktuelle Zahlen'!G630","v":0},{"$f":"'aktuelle Zahlen'!H630","v":0},{"$f":"'aktuelle Zahlen'!J630","v":0},null," ",{"$f":"SUM(COUNTIF($C634:$H634,$AL$11:$AQ$11))","v":0}," ",{"$f":"SUM(COUNTIF($C634:$H634,$AS$11:$AX$11))","v":0}," ",{"$f":"SUM(COUNTIF($C634:$H634,$AZ$11:$BE$11))","v":0}," ",{"$f":"SUM(COUNTIF($C634:$H634,$BG$11:$BL$11))","v":0}," ",{"$f":"SUM(COUNTIF($C634:$H634,$BN$11:$BS$11))","v":0}," ",{"$f":"SUM(COUNTIF($C634:$H634,$BU$11:$BZ$11))","v":0}," ",{"$f":"SUM(COUNTIF($C634:$H634,$CB$11:$CG$11))","v":0}," ",{"$f":"SUM(COUNTIF($C634:$H634,$CI$11:$CN$11))","v":0}," ",{"$f":"SUM(COUNTIF($C634:$H634,$CP$11:$CU$11))","v":0}," ",{"$f":"SUM(COUNTIF($C634:$H634,$CW$11:$DB$11))","v":0}," ",{"$f":"SUM(COUNTIF($C634:$H634,$DD$11:$DI$11))","v":0}," ",{"$f":"SUM(COUNTIF($C634:$H634,$DK$11:$DP$11))","v":0}]
[{"$f":"'aktuelle Zahlen'!A631","v":0},{"$f":"'aktuelle Zahlen'!B631","v":"00:00:00"},{"$f":"'aktuelle Zahlen'!C631","v":0},{"$f":"'aktuelle Zahlen'!D631","v":0},{"$f":"'aktuelle Zahlen'!E631","v":0},{"$f":"'aktuelle Zahlen'!F631","v":0},{"$f":"'aktuelle Zahlen'!G631","v":0},{"$f":"'aktuelle Zahlen'!H631","v":0},{"$f":"'aktuelle Zahlen'!J631","v":0},null," ",{"$f":"SUM(COUNTIF($C635:$H635,$AL$11:$AQ$11))","v":0}," ",{"$f":"SUM(COUNTIF($C635:$H635,$AS$11:$AX$11))","v":0}," ",{"$f":"SUM(COUNTIF($C635:$H635,$AZ$11:$BE$11))","v":0}," ",{"$f":"SUM(COUNTIF($C635:$H635,$BG$11:$BL$11))","v":0}," ",{"$f":"SUM(COUNTIF($C635:$H635,$BN$11:$BS$11))","v":0}," ",{"$f":"SUM(COUNTIF($C635:$H635,$BU$11:$BZ$11))","v":0}," ",{"$f":"SUM(COUNTIF($C635:$H635,$CB$11:$CG$11))","v":0}," ",{"$f":"SUM(COUNTIF($C635:$H635,$CI$11:$CN$11))","v":0}," ",{"$f":"SUM(COUNTIF($C635:$H635,$CP$11:$CU$11))","v":0}," ",{"$f":"SUM(COUNTIF($C635:$H635,$CW$11:$DB$11))","v":0}," ",{"$f":"SUM(COUNTIF($C635:$H635,$DD$11:$DI$11))","v":0}," ",{"$f":"SUM(COUNTIF($C635:$H635,$DK$11:$DP$11))","v":0}]
[{"$f":"'aktuelle Zahlen'!A632","v":0},{"$f":"'aktuelle Zahlen'!B632","v":"00:00:00"},{"$f":"'aktuelle Zahlen'!C632","v":0},{"$f":"'aktuelle Zahlen'!D632","v":0},{"$f":"'aktuelle Zahlen'!E632","v":0},{"$f":"'aktuelle Zahlen'!F632","v":0},{"$f":"'aktuelle Zahlen'!G632","v":0},{"$f":"'aktuelle Zahlen'!H632","v":0},{"$f":"'aktuelle Zahlen'!J632","v":0},null," ",{"$f":"SUM(COUNTIF($C636:$H636,$AL$11:$AQ$11))","v":0}," ",{"$f":"SUM(COUNTIF($C636:$H636,$AS$11:$AX$11))","v":0}," ",{"$f":"SUM(COUNTIF($C636:$H636,$AZ$11:$BE$11))","v":0}," ",{"$f":"SUM(COUNTIF($C636:$H636,$BG$11:$BL$11))","v":0}," ",{"$f":"SUM(COUNTIF($C636:$H636,$BN$11:$BS$11))","v":0}," ",{"$f":"SUM(COUNTIF($C636:$H636,$BU$11:$BZ$11))","v":0}," ",{"$f":"SUM(COUNTIF($C636:$H636,$CB$11:$CG$11))","v":0}," ",{"$f":"SUM(COUNTIF($C636:$H636,$CI$11:$CN$11))","v":0}," ",{"$f":"SUM(COUNTIF($C636:$H636,$CP$11:$CU$11))","v":0}," ",{"$f":"SUM(COUNTIF($C636:$H636,$CW$11:$DB$11))","v":0}," ",{"$f":"SUM(COUNTIF($C636:$H636,$DD$11:$DI$11))","v":0}," ",{"$f":"SUM(COUNTIF($C636:$H636,$DK$11:$DP$11))","v":0}]
[{"$f":"'aktuelle Zahlen'!A633","v":0},{"$f":"'aktuelle Zahlen'!B633","v":"00:00:00"},{"$f":"'aktuelle Zahlen'!C633","v":0},{"$f":"'aktuelle Zahlen'!D633","v":0},{"$f":"'aktuelle Zahlen'!E633","v":0},{"$f":"'aktuelle Zahlen'!F633","v":0},{"$f":"'aktuelle Zahlen'!G633","v":0},{"$f":"'aktuelle Zahlen'!H633","v":0},{"$f":"'aktuelle Zahlen'!J633","v":0},null," ",{"$f":"SUM(COUNTIF($C637:$H637,$AL$11:$AQ$11))","v":0}," ",{"$f":"SUM(COUNTIF($C637:$H637,$AS$11:$AX$11))","v":0}," ",{"$f":"SUM(COUNTIF($C637:$H637,$AZ$11:$BE$11))","v":0}," ",{"$f":"SUM(COUNTIF($C637:$H637,$BG$11:$BL$11))","v":0}," ",{"$f":"SUM(COUNTIF($C637:$H637,$BN$11:$BS$11))","v":0}," ",{"$f":"SUM(COUNTIF($C637:$H637,$BU$11:$BZ$11))","v":0}," ",{"$f":"SUM(COUNTIF($C637:$H637,$CB$11:$CG$11))","v":0}," ",{"$f":"SUM(COUNTIF($C637:$H637,$CI$11:$CN$11))","v":0}," ",{"$f":"SUM(COUNTIF($C637:$H637,$CP$11:$CU$11))","v":0}," ",{"$f":"SUM(COUNTIF($C637:$H637,$CW$11:$DB$11))","v":0}," ",{"$f":"SUM(COUNTIF($C637:$H637,$DD$11:$DI$11))","v":0}," ",{"$f":"SUM(COUNTIF($C637:$H637,$DK$11:$DP$11))","v":0}]
[{"$f":"'aktuelle Zahlen'!A634","v":0},{"$f":"'aktuelle Zahlen'!B634","v":"00:00:00"},{"$f":"'aktuelle Zahlen'!C634","v":0},{"$f":"'aktuelle Zahlen'!D634","v":0},{"$f":"'aktuelle Zahlen'!E634","v":0},{"$f":"'aktuelle Zahlen'!F634","v":0},{"$f":"'aktuelle Zahlen'!G634","v":0},{"$f":"'aktuelle Zahlen'!H634","v":0},{"$f":"'aktuelle Zahlen'!J634","v":0},null," ",{"$f":"SUM(COUNTIF($C638:$H638,$AL$11:$AQ$11))","v":0}," ",{"$f":"SUM(COUNTIF($C638:$H638,$AS$11:$AX$11))","v":0}," ",{"$f":"SUM(COUNTIF($C638:$H638,$AZ$11:$BE$11))","v":0}," ",{"$f":"SUM(COUNTIF($C638:$H638,$BG$11:$BL$11))","v":0}," ",{"$f":"SUM(COUNTIF($C638:$H638,$BN$11:$BS$11))","v":0}," ",{"$f":"SUM(COUNTIF($C638:$H638,$BU$11:$BZ$11))","v":0}," ",{"$f":"SUM(COUNTIF($C638:$H638,$CB$11:$CG$11))","v":0}," ",{"$f":"SUM(COUNTIF($C638:$H638,$CI$11:$CN$11))","v":0}," ",{"$f":"SUM(COUNTIF($C638:$H638,$CP$11:$CU$11))","v":0}," ",{"$f":"SUM(COUNTIF($C638:$H638,$CW$11:$DB$11))","v":0}," ",{"$f":"SUM(COUNTIF($C638:$H638,$DD$11:$DI$11))","v":0}," ",{"$f":"SUM(COUNTIF($C638:$H638,$DK$11:$DP$11))","v":0}]
[{"$f":"'aktuelle Zahlen'!A635","v":0},{"$f":"'aktuelle Zahlen'!B635","v":"00:00:00"},{"$f":"'aktuelle Zahlen'!C635","v":0},{"$f":"'aktuelle Zahlen'!D635","v":0},{"$f":"'aktuelle Zahlen'!E635","v":0},{"$f":"'aktuelle Zahlen'!F635","v":0},{"$f":"'aktuelle Zahlen'!G635","v":0},{"$f":"'aktuelle Zahlen'!H635","v":0},{"$f":"'aktuelle Zahlen'!J635","v":0},null," ",{"$f":"SUM(COUNTIF($C639:$H639,$AL$11:$AQ$11))","v":0}," ",{"$f":"SUM(COUNTIF($C639:$H639,$AS$11:$AX$11))","v":0}," ",{"$f":"SUM(COUNTIF($C639:$H639,$AZ$11:$BE$11))","v":0}," ",{"$f":"SUM(COUNTIF($C639:$H639,$BG$11:$BL$11))","v":0}," ",{"$f":"SUM(COUNTIF($C639:$H639,$BN$11:$BS$11))","v":0}," ",{"$f":"SUM(COUNTIF($C639:$H639,$BU$11:$BZ$11))","v":0}," ",{"$f":"SUM(COUNTIF($C639:$H639,$CB$11:$CG$11))","v":0}," ",{"$f":"SUM(COUNTIF($C639:$H639,$CI$11:$CN$11))","v":0}," ",{"$f":"SUM(COUNTIF($C639:$H639,$CP$11:$CU$11))","v":0}," ",{"$f":"SUM(COUNTIF($C639:$H639,$CW$11:$DB$11))","v":0}," ",{"$f":"SUM(COUNTIF($C639:$H639,$DD$11:$DI$11))","v":0}," ",{"$f":"SUM(COUNTIF($C639:$H639,$DK$11:$DP$11))","v":0}]
[{"$f":"'aktuelle Zahlen'!A636","v":0},{"$f":"'aktuelle Zahlen'!B636","v":"00:00:00"},{"$f":"'aktuelle Zahlen'!C636","v":0},{"$f":"'aktuelle Zahlen'!D636","v":0},{"$f":"'aktuelle Zahlen'!E636","v":0},{"$f":"'aktuelle Zahlen'!F636","v":0},{"$f":"'aktuelle Zahlen'!G636","v":0},{"$f":"'aktuelle Zahlen'!H636","v":0},{"$f":"'aktuelle Zahlen'!J636","v":0},null," ",{"$f":"SUM(COUNTIF($C640:$H640,$AL$11:$AQ$11))","v":0}," ",{"$f":"SUM(COUNTIF($C640:$H640,$AS$11:$AX$11))","v":0}," ",{"$f":"SUM(COUNTIF($C640:$H640,$AZ$11:$BE$11))","v":0}," ",{"$f":"SUM(COUNTIF($C640:$H640,$BG$11:$BL$11))","v":0}," ",{"$f":"SUM(COUNTIF($C640:$H640,$BN$11:$BS$11))","v":0}," ",{"$f":"SUM(COUNTIF($C640:$H640,$BU$11:$BZ$11))","v":0}," ",{"$f":"SUM(COUNTIF($C640:$H640,$CB$11:$CG$11))","v":0}," ",{"$f":"SUM(COUNTIF($C640:$H640,$CI$11:$CN$11))","v":0}," ",{"$f":"SUM(COUNTIF($C640:$H640,$CP$11:$CU$11))","v":0}," ",{"$f":"SUM(COUNTIF($C640:$H640,$CW$11:$DB$11))","v":0}," ",{"$f":"SUM(COUNTIF($C640:$H640,$DD$11:$DI$11))","v":0}," ",{"$f":"SUM(COUNTIF($C640:$H640,$DK$11:$DP$11))","v":0}]
[{"$f":"'aktuelle Zahlen'!A637","v":0},{"$f":"'aktuelle Zahlen'!B637","v":"00:00:00"},{"$f":"'aktuelle Zahlen'!C637","v":0},{"$f":"'aktuelle Zahlen'!D637","v":0},{"$f":"'aktuelle Zahlen'!E637","v":0},{"$f":"'aktuelle Zahlen'!F637","v":0},{"$f":"'aktuelle Zahlen'!G637","v":0},{"$f":"'aktuelle Zahlen'!H637","v":0},{"$f":"'aktuelle Zahlen'!J637","v":0},null," ",{"$f":"SUM(COUNTIF($C641:$H641,$AL$11:$AQ$11))","v":0}," ",{"$f":"SUM(COUNTIF($C641:$H641,$AS$11:$AX$11))","v":0}," ",{"$f":"SUM(COUNTIF($C641:$H641,$AZ$11:$BE$11))","v":0}," ",{"$f":"SUM(COUNTIF($C641:$H641,$BG$11:$BL$11))","v":0}," ",{"$f":"SUM(COUNTIF($C641:$H641,$BN$11:$BS$11))","v":0}," ",{"$f":"SUM(COUNTIF($C641:$H641,$BU$11:$BZ$11))","v":0}," ",{"$f":"SUM(COUNTIF($C641:$H641,$CB$11:$CG$11))","v":0}," ",{"$f":"SUM(COUNTIF($C641:$H641,$CI$11:$CN$11))","v":0}," ",{"$f":"SUM(COUNTIF($C641:$H641,$CP$11:$CU$11))","v":0}," ",{"$f":"SUM(COUNTIF($C641:$H641,$CW$11:$DB$11))","v":0}," ",{"$f":"SUM(COUNTIF($C641:$H641,$DD$11:$DI$11))","v":0}," ",{"$f":"SUM(COUNTIF($C641:$H641,$DK$11:$DP$11))","v":0}]
[{"$f":"'aktuelle Zahlen'!A638","v":0},{"$f":"'aktuelle Zahlen'!B638","v":"00:00:00"},{"$f":"'aktuelle Zahlen'!C638","v":0},{"$f":"'aktuelle Zahlen'!D638","v":0},{"$f":"'aktuelle Zahlen'!E638","v":0},{"$f":"'aktuelle Zahlen'!F638","v":0},{"$f":"'aktuelle Zahlen'!G638","v":0},{"$f":"'aktuelle Zahlen'!H638","v":0},{"$f":"'aktuelle Zahlen'!J638","v":0},null," ",{"$f":"SUM(COUNTIF($C642:$H642,$AL$11:$AQ$11))","v":0}," ",{"$f":"SUM(COUNTIF($C642:$H642,$AS$11:$AX$11))","v":0}," ",{"$f":"SUM(COUNTIF($C642:$H642,$AZ$11:$BE$11))","v":0}," ",{"$f":"SUM(COUNTIF($C642:$H642,$BG$11:$BL$11))","v":0}," ",{"$f":"SUM(COUNTIF($C642:$H642,$BN$11:$BS$11))","v":0}," ",{"$f":"SUM(COUNTIF($C642:$H642,$BU$11:$BZ$11))","v":0}," ",{"$f":"SUM(COUNTIF($C642:$H642,$CB$11:$CG$11))","v":0}," ",{"$f":"SUM(COUNTIF($C642:$H642,$CI$11:$CN$11))","v":0}," ",{"$f":"SUM(COUNTIF($C642:$H642,$CP$11:$CU$11))","v":0}," ",{"$f":"SUM(COUNTIF($C642:$H642,$CW$11:$DB$11))","v":0}," ",{"$f":"SUM(COUNTIF($C642:$H642,$DD$11:$DI$11))","v":0}," ",{"$f":"SUM(COUNTIF($C642:$H642,$DK$11:$DP$11))","v":0}]
[{"$f":"'aktuelle Zahlen'!A639","v":0},{"$f":"'aktuelle Zahlen'!B639","v":"00:00:00"},{"$f":"'aktuelle Zahlen'!C639","v":0},{"$f":"'aktuelle Zahlen'!D639","v":0},{"$f":"'aktuelle Zahlen'!E639","v":0},{"$f":"'aktuelle Zahlen'!F639","v":0},{"$f":"'aktuelle Zahlen'!G639","v":0},{"$f":"'aktuelle Zahlen'!H639","v":0},{"$f":"'aktuelle Zahlen'!J639","v":0},null," ",{"$f":"SUM(COUNTIF($C643:$H643,$AL$11:$AQ$11))","v":0}," ",{"$f":"SUM(COUNTIF($C643:$H643,$AS$11:$AX$11))","v":0}," ",{"$f":"SUM(COUNTIF($C643:$H643,$AZ$11:$BE$11))","v":0}," ",{"$f":"SUM(COUNTIF($C643:$H643,$BG$11:$BL$11))","v":0}," ",{"$f":"SUM(COUNTIF($C643:$H643,$BN$11:$BS$11))","v":0}," ",{"$f":"SUM(COUNTIF($C643:$H643,$BU$11:$BZ$11))","v":0}," ",{"$f":"SUM(COUNTIF($C643:$H643,$CB$11:$CG$11))","v":0}," ",{"$f":"SUM(COUNTIF($C643:$H643,$CI$11:$CN$11))","v":0}," ",{"$f":"SUM(COUNTIF($C643:$H643,$CP$11:$CU$11))","v":0}," ",{"$f":"SUM(COUNTIF($C643:$H643,$CW$11:$DB$11))","v":0}," ",{"$f":"SUM(COUNTIF($C643:$H643,$DD$11:$DI$11))","v":0}," ",{"$f":"SUM(COUNTIF($C643:$H643,$DK$11:$DP$11))","v":0}]
[{"$f":"'aktuelle Zahlen'!A640","v":0},{"$f":"'aktuelle Zahlen'!B640","v":"00:00:00"},{"$f":"'aktuelle Zahlen'!C640","v":0},{"$f":"'aktuelle Zahlen'!D640","v":0},{"$f":"'aktuelle Zahlen'!E640","v":0},{"$f":"'aktuelle Zahlen'!F640","v":0},{"$f":"'aktuelle Zahlen'!G640","v":0},{"$f":"'aktuelle Zahlen'!H640","v":0},{"$f":"'aktuelle Zahlen'!J640","v":0},null," ",{"$f":"SUM(COUNTIF($C644:$H644,$AL$11:$AQ$11))","v":0}," ",{"$f":"SUM(COUNTIF($C644:$H644,$AS$11:$AX$11))","v":0}," ",{"$f":"SUM(COUNTIF($C644:$H644,$AZ$11:$BE$11))","v":0}," ",{"$f":"SUM(COUNTIF($C644:$H644,$BG$11:$BL$11))","v":0}," ",{"$f":"SUM(COUNTIF($C644:$H644,$BN$11:$BS$11))","v":0}," ",{"$f":"SUM(COUNTIF($C644:$H644,$BU$11:$BZ$11))","v":0}," ",{"$f":"SUM(COUNTIF($C644:$H644,$CB$11:$CG$11))","v":0}," ",{"$f":"SUM(COUNTIF($C644:$H644,$CI$11:$CN$11))","v":0}," ",{"$f":"SUM(COUNTIF($C644:$H644,$CP$11:$CU$11))","v":0}," ",{"$f":"SUM(COUNTIF($C644:$H644,$CW$11:$DB$11))","v":0}," ",{"$f":"SUM(COUNTIF($C644:$H644,$DD$11:$DI$11))","v":0}," ",{"$f":"SUM(COUNTIF($C644:$H644,$DK$11:$DP$11))","v":0}]
[{"$f":"'aktuelle Zahlen'!A641","v":0},{"$f":"'aktuelle Zahlen'!B641","v":"00:00:00"},{"$f":"'aktuelle Zahlen'!C641","v":0},{"$f":"'aktuelle Zahlen'!D641","v":0},{"$f":"'aktuelle Zahlen'!E641","v":0},{"$f":"'aktuelle Zahlen'!F641","v":0},{"$f":"'aktuelle Zahlen'!G641","v":0},{"$f":"'aktuelle Zahlen'!H641","v":0},{"$f":"'aktuelle Zahlen'!J641","v":0},null," ",{"$f":"SUM(COUNTIF($C645:$H645,$AL$11:$AQ$11))","v":0}," ",{"$f":"SUM(COUNTIF($C645:$H645,$AS$11:$AX$11))","v":0}," ",{"$f":"SUM(COUNTIF($C645:$H645,$AZ$11:$BE$11))","v":0}," ",{"$f":"SUM(COUNTIF($C645:$H645,$BG$11:$BL$11))","v":0}," ",{"$f":"SUM(COUNTIF($C645:$H645,$BN$11:$BS$11))","v":0}," ",{"$f":"SUM(COUNTIF($C645:$H645,$BU$11:$BZ$11))","v":0}," ",{"$f":"SUM(COUNTIF($C645:$H645,$CB$11:$CG$11))","v":0}," ",{"$f":"SUM(COUNTIF($C645:$H645,$CI$11:$CN$11))","v":0}," ",{"$f":"SUM(COUNTIF($C645:$H645,$CP$11:$CU$11))","v":0}," ",{"$f":"SUM(COUNTIF($C645:$H645,$CW$11:$DB$11))","v":0}," ",{"$f":"SUM(COUNTIF($C645:$H645,$DD$11:$DI$11))","v":0}," ",{"$f":"SUM(COUNTIF($C645:$H645,$DK$11:$DP$11))","v":0}]
[{"$f":"'aktuelle Zahlen'!A642","v":0},{"$f":"'aktuelle Zahlen'!B642","v":"00:00:00"},{"$f":"'aktuelle Zahlen'!C642","v":0},{"$f":"'aktuelle Zahlen'!D642","v":0},{"$f":"'aktuelle Zahlen'!E642","v":0},{"$f":"'aktuelle Zahlen'!F642","v":0},{"$f":"'aktuelle Zahlen'!G642","v":0},{"$f":"'aktuelle Zahlen'!H642","v":0},{"$f":"'aktuelle Zahlen'!J642","v":0},null," ",{"$f":"SUM(COUNTIF($C646:$H646,$AL$11:$AQ$11))","v":0}," ",{"$f":"SUM(COUNTIF($C646:$H646,$AS$11:$AX$11))","v":0}," ",{"$f":"SUM(COUNTIF($C646:$H646,$AZ$11:$BE$11))","v":0}," ",{"$f":"SUM(COUNTIF($C646:$H646,$BG$11:$BL$11))","v":0}," ",{"$f":"SUM(COUNTIF($C646:$H646,$BN$11:$BS$11))","v":0}," ",{"$f":"SUM(COUNTIF($C646:$H646,$BU$11:$BZ$11))","v":0}," ",{"$f":"SUM(COUNTIF($C646:$H646,$CB$11:$CG$11))","v":0}," ",{"$f":"SUM(COUNTIF($C646:$H646,$CI$11:$CN$11))","v":0}," ",{"$f":"SUM(COUNTIF($C646:$H646,$CP$11:$CU$11))","v":0}," ",{"$f":"SUM(COUNTIF($C646:$H646,$CW$11:$DB$11))","v":0}," ",{"$f":"SUM(COUNTIF($C646:$H646,$DD$11:$DI$11))","v":0}," ",{"$f":"SUM(COUNTIF($C646:$H646,$DK$11:$DP$11))","v":0}]
[{"$f":"'aktuelle Zahlen'!A643","v":0},{"$f":"'aktuelle Zahlen'!B643","v":"00:00:00"},{"$f":"'aktuelle Zahlen'!C643","v":0},{"$f":"'aktuelle Zahlen'!D643","v":0},{"$f":"'aktuelle Zahlen'!E643","v":0},{"$f":"'aktuelle Zahlen'!F643","v":0},{"$f":"'aktuelle Zahlen'!G643","v":0},{"$f":"'aktuelle Zahlen'!H643","v":0},{"$f":"'aktuelle Zahlen'!J643","v":0},null," ",{"$f":"SUM(COUNTIF($C647:$H647,$AL$11:$AQ$11))","v":0}," ",{"$f":"SUM(COUNTIF($C647:$H647,$AS$11:$AX$11))","v":0}," ",{"$f":"SUM(COUNTIF($C647:$H647,$AZ$11:$BE$11))","v":0}," ",{"$f":"SUM(COUNTIF($C647:$H647,$BG$11:$BL$11))","v":0}," ",{"$f":"SUM(COUNTIF($C647:$H647,$BN$11:$BS$11))","v":0}," ",{"$f":"SUM(COUNTIF($C647:$H647,$BU$11:$BZ$11))","v":0}," ",{"$f":"SUM(COUNTIF($C647:$H647,$CB$11:$CG$11))","v":0}," ",{"$f":"SUM(COUNTIF($C647:$H647,$CI$11:$CN$11))","v":0}," ",{"$f":"SUM(COUNTIF($C647:$H647,$CP$11:$CU$11))","v":0}," ",{"$f":"SUM(COUNTIF($C647:$H647,$CW$11:$DB$11))","v":0}," ",{"$f":"SUM(COUNTIF($C647:$H647,$DD$11:$DI$11))","v":0}," ",{"$f":"SUM(COUNTIF($C647:$H647,$DK$11:$DP$11))","v":0}]
[{"$f":"'aktuelle Zahlen'!A644","v":0},{"$f":"'aktuelle Zahlen'!B644","v":"00:00:00"},{"$f":"'aktuelle Zahlen'!C644","v":0},{"$f":"'aktuelle Zahlen'!D644","v":0},{"$f":"'aktuelle Zahlen'!E644","v":0},{"$f":"'aktuelle Zahlen'!F644","v":0},{"$f":"'aktuelle Zahlen'!G644","v":0},{"$f":"'aktuelle Zahlen'!H644","v":0},{"$f":"'aktuelle Zahlen'!J644","v":0},null," ",{"$f":"SUM(COUNTIF($C648:$H648,$AL$11:$AQ$11))","v":0}," ",{"$f":"SUM(COUNTIF($C648:$H648,$AS$11:$AX$11))","v":0}," ",{"$f":"SUM(COUNTIF($C648:$H648,$AZ$11:$BE$11))","v":0}," ",{"$f":"SUM(COUNTIF($C648:$H648,$BG$11:$BL$11))","v":0}," ",{"$f":"SUM(COUNTIF($C648:$H648,$BN$11:$BS$11))","v":0}," ",{"$f":"SUM(COUNTIF($C648:$H648,$BU$11:$BZ$11))","v":0}," ",{"$f":"SUM(COUNTIF($C648:$H648,$CB$11:$CG$11))","v":0}," ",{"$f":"SUM(COUNTIF($C648:$H648,$CI$11:$CN$11))","v":0}," ",{"$f":"SUM(COUNTIF($C648:$H648,$CP$11:$CU$11))","v":0}," ",{"$f":"SUM(COUNTIF($C648:$H648,$CW$11:$DB$11))","v":0}," ",{"$f":"SUM(COUNTIF($C648:$H648,$DD$11:$DI$11))","v":0}," ",{"$f":"SUM(COUNTIF($C648:$H648,$DK$11:$DP$11))","v":0}]
[{"$f":"'aktuelle Zahlen'!A645","v":0},{"$f":"'aktuelle Zahlen'!B645","v":"00:00:00"},{"$f":"'aktuelle Zahlen'!C645","v":0},{"$f":"'aktuelle Zahlen'!D645","v":0},{"$f":"'aktuelle Zahlen'!E645","v":0},{"$f":"'aktuelle Zahlen'!F645","v":0},{"$f":"'aktuelle Zahlen'!G645","v":0},{"$f":"'aktuelle Zahlen'!H645","v":0},{"$f":"'aktuelle Zahlen'!J645","v":0},null," ",{"$f":"SUM(COUNTIF($C649:$H649,$AL$11:$AQ$11))","v":0}," ",{"$f":"SUM(COUNTIF($C649:$H649,$AS$11:$AX$11))","v":0}," ",{"$f":"SUM(COUNTIF($C649:$H649,$AZ$11:$BE$11))","v":0}," ",{"$f":"SUM(COUNTIF($C649:$H649,$BG$11:$BL$11))","v":0}," ",{"$f":"SUM(COUNTIF($C649:$H649,$BN$11:$BS$11))","v":0}," ",{"$f":"SUM(COUNTIF($C649:$H649,$BU$11:$BZ$11))","v":0}," ",{"$f":"SUM(COUNTIF($C649:$H649,$CB$11:$CG$11))","v":0}," ",{"$f":"SUM(COUNTIF($C649:$H649,$CI$11:$CN$11))","v":0}," ",{"$f":"SUM(COUNTIF($C649:$H649,$CP$11:$CU$11))","v":0}," ",{"$f":"SUM(COUNTIF($C649:$H649,$CW$11:$DB$11))","v":0}," ",{"$f":"SUM(COUNTIF($C649:$H649,$DD$11:$DI$11))","v":0}," ",{"$f":"SUM(COUNTIF($C649:$H649,$DK$11:$DP$11))","v":0}]
[{"$f":"'aktuelle Zahlen'!A646","v":0},{"$f":"'aktuelle Zahlen'!B646","v":"00:00:00"},{"$f":"'aktuelle Zahlen'!C646","v":0},{"$f":"'aktuelle Zahlen'!D646","v":0},{"$f":"'aktuelle Zahlen'!E646","v":0},{"$f":"'aktuelle Zahlen'!F646","v":0},{"$f":"'aktuelle Zahlen'!G646","v":0},{"$f":"'aktuelle Zahlen'!H646","v":0},{"$f":"'aktuelle Zahlen'!J646","v":0},null," ",{"$f":"SUM(COUNTIF($C650:$H650,$AL$11:$AQ$11))","v":0}," ",{"$f":"SUM(COUNTIF($C650:$H650,$AS$11:$AX$11))","v":0}," ",{"$f":"SUM(COUNTIF($C650:$H650,$AZ$11:$BE$11))","v":0}," ",{"$f":"SUM(COUNTIF($C650:$H650,$BG$11:$BL$11))","v":0}," ",{"$f":"SUM(COUNTIF($C650:$H650,$BN$11:$BS$11))","v":0}," ",{"$f":"SUM(COUNTIF($C650:$H650,$BU$11:$BZ$11))","v":0}," ",{"$f":"SUM(COUNTIF($C650:$H650,$CB$11:$CG$11))","v":0}," ",{"$f":"SUM(COUNTIF($C650:$H650,$CI$11:$CN$11))","v":0}," ",{"$f":"SUM(COUNTIF($C650:$H650,$CP$11:$CU$11))","v":0}," ",{"$f":"SUM(COUNTIF($C650:$H650,$CW$11:$DB$11))","v":0}," ",{"$f":"SUM(COUNTIF($C650:$H650,$DD$11:$DI$11))","v":0}," ",{"$f":"SUM(COUNTIF($C650:$H650,$DK$11:$DP$11))","v":0}]
[{"$f":"'aktuelle Zahlen'!A647","v":0},{"$f":"'aktuelle Zahlen'!B647","v":"00:00:00"},{"$f":"'aktuelle Zahlen'!C647","v":0},{"$f":"'aktuelle Zahlen'!D647","v":0},{"$f":"'aktuelle Zahlen'!E647","v":0},{"$f":"'aktuelle Zahlen'!F647","v":0},{"$f":"'aktuelle Zahlen'!G647","v":0},{"$f":"'aktuelle Zahlen'!H647","v":0},{"$f":"'aktuelle Zahlen'!J647","v":0},null," ",{"$f":"SUM(COUNTIF($C651:$H651,$AL$11:$AQ$11))","v":0}," ",{"$f":"SUM(COUNTIF($C651:$H651,$AS$11:$AX$11))","v":0}," ",{"$f":"SUM(COUNTIF($C651:$H651,$AZ$11:$BE$11))","v":0}," ",{"$f":"SUM(COUNTIF($C651:$H651,$BG$11:$BL$11))","v":0}," ",{"$f":"SUM(COUNTIF($C651:$H651,$BN$11:$BS$11))","v":0}," ",{"$f":"SUM(COUNTIF($C651:$H651,$BU$11:$BZ$11))","v":0}," ",{"$f":"SUM(COUNTIF($C651:$H651,$CB$11:$CG$11))","v":0}," ",{"$f":"SUM(COUNTIF($C651:$H651,$CI$11:$CN$11))","v":0}," ",{"$f":"SUM(COUNTIF($C651:$H651,$CP$11:$CU$11))","v":0}," ",{"$f":"SUM(COUNTIF($C651:$H651,$CW$11:$DB$11))","v":0}," ",{"$f":"SUM(COUNTIF($C651:$H651,$DD$11:$DI$11))","v":0}," ",{"$f":"SUM(COUNTIF($C651:$H651,$DK$11:$DP$11))","v":0}]
[{"$f":"'aktuelle Zahlen'!A648","v":0},{"$f":"'aktuelle Zahlen'!B648","v":"00:00:00"},{"$f":"'aktuelle Zahlen'!C648","v":0},{"$f":"'aktuelle Zahlen'!D648","v":0},{"$f":"'aktuelle Zahlen'!E648","v":0},{"$f":"'aktuelle Zahlen'!F648","v":0},{"$f":"'aktuelle Zahlen'!G648","v":0},{"$f":"'aktuelle Zahlen'!H648","v":0},{"$f":"'aktuelle Zahlen'!J648","v":0},null," ",{"$f":"SUM(COUNTIF($C652:$H652,$AL$11:$AQ$11))","v":0}," ",{"$f":"SUM(COUNTIF($C652:$H652,$AS$11:$AX$11))","v":0}," ",{"$f":"SUM(COUNTIF($C652:$H652,$AZ$11:$BE$11))","v":0}," ",{"$f":"SUM(COUNTIF($C652:$H652,$BG$11:$BL$11))","v":0}," ",{"$f":"SUM(COUNTIF($C652:$H652,$BN$11:$BS$11))","v":0}," ",{"$f":"SUM(COUNTIF($C652:$H652,$BU$11:$BZ$11))","v":0}," ",{"$f":"SUM(COUNTIF($C652:$H652,$CB$11:$CG$11))","v":0}," ",{"$f":"SUM(COUNTIF($C652:$H652,$CI$11:$CN$11))","v":0}," ",{"$f":"SUM(COUNTIF($C652:$H652,$CP$11:$CU$11))","v":0}," ",{"$f":"SUM(COUNTIF($C652:$H652,$CW$11:$DB$11))","v":0}," ",{"$f":"SUM(COUNTIF($C652:$H652,$DD$11:$DI$11))","v":0}," ",{"$f":"SUM(COUNTIF($C652:$H652,$DK$11:$DP$11))","v":0}]
[{"$f":"'aktuelle Zahlen'!A649","v":0},{"$f":"'aktuelle Zahlen'!B649","v":"00:00:00"},{"$f":"'aktuelle Zahlen'!C649","v":0},{"$f":"'aktuelle Zahlen'!D649","v":0},{"$f":"'aktuelle Zahlen'!E649","v":0},{"$f":"'aktuelle Zahlen'!F649","v":0},{"$f":"'aktuelle Zahlen'!G649","v":0},{"$f":"'aktuelle Zahlen'!H649","v":0},{"$f":"'aktuelle Zahlen'!J649","v":0},null," ",{"$f":"SUM(COUNTIF($C653:$H653,$AL$11:$AQ$11))","v":0}," ",{"$f":"SUM(COUNTIF($C653:$H653,$AS$11:$AX$11))","v":0}," ",{"$f":"SUM(COUNTIF($C653:$H653,$AZ$11:$BE$11))","v":0}," ",{"$f":"SUM(COUNTIF($C653:$H653,$BG$11:$BL$11))","v":0}," ",{"$f":"SUM(COUNTIF($C653:$H653,$BN$11:$BS$11))","v":0}," ",{"$f":"SUM(COUNTIF($C653:$H653,$BU$11:$BZ$11))","v":0}," ",{"$f":"SUM(COUNTIF($C653:$H653,$CB$11:$CG$11))","v":0}," ",{"$f":"SUM(COUNTIF($C653:$H653,$CI$11:$CN$11))","v":0}," ",{"$f":"SUM(COUNTIF($C653:$H653,$CP$11:$CU$11))","v":0}," ",{"$f":"SUM(COUNTIF($C653:$H653,$CW$11:$DB$11))","v":0}," ",{"$f":"SUM(COUNTIF($C653:$H653,$DD$11:$DI$11))","v":0}," ",{"$f":"SUM(COUNTIF($C653:$H653,$DK$11:$DP$11))","v":0}]
[{"$f":"'aktuelle Zahlen'!A650","v":0},{"$f":"'aktuelle Zahlen'!B650","v":"00:00:00"},{"$f":"'aktuelle Zahlen'!C650","v":0},{"$f":"'aktuelle Zahlen'!D650","v":0},{"$f":"'aktuelle Zahlen'!E650","v":0},{"$f":"'aktuelle Zahlen'!F650","v":0},{"$f":"'aktuelle Zahlen'!G650","v":0},{"$f":"'aktuelle Zahlen'!H650","v":0},{"$f":"'aktuelle Zahlen'!J650","v":0},null," ",{"$f":"SUM(COUNTIF($C654:$H654,$AL$11:$AQ$11))","v":0}," ",{"$f":"SUM(COUNTIF($C654:$H654,$AS$11:$AX$11))","v":0}," ",{"$f":"SUM(COUNTIF($C654:$H654,$AZ$11:$BE$11))","v":0}," ",{"$f":"SUM(COUNTIF($C654:$H654,$BG$11:$BL$11))","v":0}," ",{"$f":"SUM(COUNTIF($C654:$H654,$BN$11:$BS$11))","v":0}," ",{"$f":"SUM(COUNTIF($C654:$H654,$BU$11:$BZ$11))","v":0}," ",{"$f":"SUM(COUNTIF($C654:$H654,$CB$11:$CG$11))","v":0}," ",{"$f":"SUM(COUNTIF($C654:$H654,$CI$11:$CN$11))","v":0}," ",{"$f":"SUM(COUNTIF($C654:$H654,$CP$11:$CU$11))","v":0}," ",{"$f":"SUM(COUNTIF($C654:$H654,$CW$11:$DB$11))","v":0}," ",{"$f":"SUM(COUNTIF($C654:$H654,$DD$11:$DI$11))","v":0}," ",{"$f":"SUM(COUNTIF($C654:$H654,$DK$11:$DP$11))","v":0}]
[{"$f":"'aktuelle Zahlen'!A651","v":0},{"$f":"'aktuelle Zahlen'!B651","v":"00:00:00"},{"$f":"'aktuelle Zahlen'!C651","v":0},{"$f":"'aktuelle Zahlen'!D651","v":0},{"$f":"'aktuelle Zahlen'!E651","v":0},{"$f":"'aktuelle Zahlen'!F651","v":0},{"$f":"'aktuelle Zahlen'!G651","v":0},{"$f":"'aktuelle Zahlen'!H651","v":0},{"$f":"'aktuelle Zahlen'!J651","v":0},null," ",{"$f":"SUM(COUNTIF($C655:$H655,$AL$11:$AQ$11))","v":0}," ",{"$f":"SUM(COUNTIF($C655:$H655,$AS$11:$AX$11))","v":0}," ",{"$f":"SUM(COUNTIF($C655:$H655,$AZ$11:$BE$11))","v":0}," ",{"$f":"SUM(COUNTIF($C655:$H655,$BG$11:$BL$11))","v":0}," ",{"$f":"SUM(COUNTIF($C655:$H655,$BN$11:$BS$11))","v":0}," ",{"$f":"SUM(COUNTIF($C655:$H655,$BU$11:$BZ$11))","v":0}," ",{"$f":"SUM(COUNTIF($C655:$H655,$CB$11:$CG$11))","v":0}," ",{"$f":"SUM(COUNTIF($C655:$H655,$CI$11:$CN$11))","v":0}," ",{"$f":"SUM(COUNTIF($C655:$H655,$CP$11:$CU$11))","v":0}," ",{"$f":"SUM(COUNTIF($C655:$H655,$CW$11:$DB$11))","v":0}," ",{"$f":"SUM(COUNTIF($C655:$H655,$DD$11:$DI$11))","v":0}," ",{"$f":"SUM(COUNTIF($C655:$H655,$DK$11:$DP$11))","v":0}]
[{"$f":"'aktuelle Zahlen'!A652","v":0},{"$f":"'aktuelle Zahlen'!B652","v":"00:00:00"},{"$f":"'aktuelle Zahlen'!C652","v":0},{"$f":"'aktuelle Zahlen'!D652","v":0},{"$f":"'aktuelle Zahlen'!E652","v":0},{"$f":"'aktuelle Zahlen'!F652","v":0},{"$f":"'aktuelle Zahlen'!G652","v":0},{"$f":"'aktuelle Zahlen'!H652","v":0},{"$f":"'aktuelle Zahlen'!J652","v":0},null," ",{"$f":"SUM(COUNTIF($C656:$H656,$AL$11:$AQ$11))","v":0}," ",{"$f":"SUM(COUNTIF($C656:$H656,$AS$11:$AX$11))","v":0}," ",{"$f":"SUM(COUNTIF($C656:$H656,$AZ$11:$BE$11))","v":0}," ",{"$f":"SUM(COUNTIF($C656:$H656,$BG$11:$BL$11))","v":0}," ",{"$f":"SUM(COUNTIF($C656:$H656,$BN$11:$BS$11))","v":0}," ",{"$f":"SUM(COUNTIF($C656:$H656,$BU$11:$BZ$11))","v":0}," ",{"$f":"SUM(COUNTIF($C656:$H656,$CB$11:$CG$11))","v":0}," ",{"$f":"SUM(COUNTIF($C656:$H656,$CI$11:$CN$11))","v":0}," ",{"$f":"SUM(COUNTIF($C656:$H656,$CP$11:$CU$11))","v":0}," ",{"$f":"SUM(COUNTIF($C656:$H656,$CW$11:$DB$11))","v":0}," ",{"$f":"SUM(COUNTIF($C656:$H656,$DD$11:$DI$11))","v":0}," ",{"$f":"SUM(COUNTIF($C656:$H656,$DK$11:$DP$11))","v":0}]
[{"$f":"'aktuelle Zahlen'!A653","v":0},{"$f":"'aktuelle Zahlen'!B653","v":"00:00:00"},{"$f":"'aktuelle Zahlen'!C653","v":0},{"$f":"'aktuelle Zahlen'!D653","v":0},{"$f":"'aktuelle Zahlen'!E653","v":0},{"$f":"'aktuelle Zahlen'!F653","v":0},{"$f":"'aktuelle Zahlen'!G653","v":0},{"$f":"'aktuelle Zahlen'!H653","v":0},{"$f":"'aktuelle Zahlen'!J653","v":0},null,{"$f":"IF(L657>1,(IF($I657=$AJ$11,L657 & \"Z\",L657)),\" \")","v":" "},{"$f":"SUM(COUNTIF($C657:$H657,$AL$11:$AQ$11))","v":0},{"$f":"IF(N657>1,(IF($I657=$AJ$11,N657 & \"Z\",N657)),\" \")","v":" "},{"$f":"SUM(COUNTIF($C657:$H657,$AS$11:$AX$11))","v":0},{"$f":"IF(P657>1,(IF($I657=$AJ$11,P657 & \"Z\",P657)),\" \")","v":" "},{"$f":"SUM(COUNTIF($C657:$H657,$AZ$11:$BE$11))","v":0},{"$f":"IF(R657>1,(IF($I657=$AJ$11,R657 & \"Z\",R657)),\" \")","v":" "},{"$f":"SUM(COUNTIF($C657:$H657,$BG$11:$BL$11))","v":0},{"$f":"IF(T657>1,(IF($I657=$AJ$11,T657 & \"Z\",T657)),\" \")","v":" "},{"$f":"SUM(COUNTIF($C657:$H657,$BN$11:$BS$11))","v":0},{"$f":"IF(V657>1,(IF($I657=$AJ$11,V657 & \"Z\",V657)),\" \")","v":" "},{"$f":"SUM(COUNTIF($C657:$H657,$BU$11:$BZ$11))","v":0},{"$f":"IF(X657>1,(IF($I657=$AJ$11,X657 & \"Z\",X657)),\" \")","v":" "},{"$f":"SUM(COUNTIF($C657:$H657,$CB$11:$CG$11))","v":0},{"$f":"IF(Z657>1,(IF($I657=$AJ$11,Z657 & \"Z\",Z657)),\" \")","v":" "},{"$f":"SUM(COUNTIF($C657:$H657,$CI$11:$CN$11))","v":0},{"$f":"IF(AB657>1,(IF($I657=$AJ$11,AB657 & \"Z\",AB657)),\" \")","v":" "},{"$f":"SUM(COUNTIF($C657:$H657,$CP$11:$CU$11))","v":0},{"$f":"IF(AD657>1,(IF($I657=$AJ$11,AD657 & \"Z\",AD657)),\" \")","v":" "},{"$f":"SUM(COUNTIF($C657:$H657,$CW$11:$DB$11))","v":0},{"$f":"IF(AF657>1,(IF($I657=$AJ$11,AF657 & \"Z\",AF657)),\" \")","v":" "},{"$f":"SUM(COUNTIF($C657:$H657,$DD$11:$DI$11))","v":0},{"$f":"IF(AH657>1,(IF($I657=$AJ$11,AH657 & \"Z\",AH657)),\" \")","v":" "},{"$f":"SUM(COUNTIF($C657:$H657,$DK$11:$DP$11))","v":0}]
[{"$f":"'aktuelle Zahlen'!A654","v":0},{"$f":"'aktuelle Zahlen'!B654","v":"00:00:00"},{"$f":"'aktuelle Zahlen'!C654","v":0},{"$f":"'aktuelle Zahlen'!D654","v":0},{"$f":"'aktuelle Zahlen'!E654","v":0},{"$f":"'aktuelle Zahlen'!F654","v":0},{"$f":"'aktuelle Zahlen'!G654","v":0},{"$f":"'aktuelle Zahlen'!H654","v":0},{"$f":"'aktuelle Zahlen'!J654","v":0},null," ",{"$f":"SUM(COUNTIF($C658:$H658,$AL$11:$AQ$11))","v":0}," ",{"$f":"SUM(COUNTIF($C658:$H658,$AS$11:$AX$11))","v":0}," ",{"$f":"SUM(COUNTIF($C658:$H658,$AZ$11:$BE$11))","v":0}," ",{"$f":"SUM(COUNTIF($C658:$H658,$BG$11:$BL$11))","v":0}," ",{"$f":"SUM(COUNTIF($C658:$H658,$BN$11:$BS$11))","v":0}," ",{"$f":"SUM(COUNTIF($C658:$H658,$BU$11:$BZ$11))","v":0}," ",{"$f":"SUM(COUNTIF($C658:$H658,$CB$11:$CG$11))","v":0}," ",{"$f":"SUM(COUNTIF($C658:$H658,$CI$11:$CN$11))","v":0}," ",{"$f":"SUM(COUNTIF($C658:$H658,$CP$11:$CU$11))","v":0}," ",{"$f":"SUM(COUNTIF($C658:$H658,$CW$11:$DB$11))","v":0}," ",{"$f":"SUM(COUNTIF($C658:$H658,$DD$11:$DI$11))","v":0}," ",{"$f":"SUM(COUNTIF($C658:$H658,$DK$11:$DP$11))","v":0}]
[{"$f":"'aktuelle Zahlen'!A655","v":0},{"$f":"'aktuelle Zahlen'!B655","v":"00:00:00"},{"$f":"'aktuelle Zahlen'!C655","v":0},{"$f":"'aktuelle Zahlen'!D655","v":0},{"$f":"'aktuelle Zahlen'!E655","v":0},{"$f":"'aktuelle Zahlen'!F655","v":0},{"$f":"'aktuelle Zahlen'!G655","v":0},{"$f":"'aktuelle Zahlen'!H655","v":0},{"$f":"'aktuelle Zahlen'!J655","v":0},null," ",{"$f":"SUM(COUNTIF($C659:$H659,$AL$11:$AQ$11))","v":0}," ",{"$f":"SUM(COUNTIF($C659:$H659,$AS$11:$AX$11))","v":0}," ",{"$f":"SUM(COUNTIF($C659:$H659,$AZ$11:$BE$11))","v":0}," ",{"$f":"SUM(COUNTIF($C659:$H659,$BG$11:$BL$11))","v":0}," ",{"$f":"SUM(COUNTIF($C659:$H659,$BN$11:$BS$11))","v":0}," ",{"$f":"SUM(COUNTIF($C659:$H659,$BU$11:$BZ$11))","v":0}," ",{"$f":"SUM(COUNTIF($C659:$H659,$CB$11:$CG$11))","v":0}," ",{"$f":"SUM(COUNTIF($C659:$H659,$CI$11:$CN$11))","v":0}," ",{"$f":"SUM(COUNTIF($C659:$H659,$CP$11:$CU$11))","v":0}," ",{"$f":"SUM(COUNTIF($C659:$H659,$CW$11:$DB$11))","v":0}," ",{"$f":"SUM(COUNTIF($C659:$H659,$DD$11:$DI$11))","v":0}," ",{"$f":"SUM(COUNTIF($C659:$H659,$DK$11:$DP$11))","v":0}]
[{"$f":"'aktuelle Zahlen'!A656","v":0},{"$f":"'aktuelle Zahlen'!B656","v":"00:00:00"},{"$f":"'aktuelle Zahlen'!C656","v":0},{"$f":"'aktuelle Zahlen'!D656","v":0},{"$f":"'aktuelle Zahlen'!E656","v":0},{"$f":"'aktuelle Zahlen'!F656","v":0},{"$f":"'aktuelle Zahlen'!G656","v":0},{"$f":"'aktuelle Zahlen'!H656","v":0},{"$f":"'aktuelle Zahlen'!J656","v":0},null," ",{"$f":"SUM(COUNTIF($C660:$H660,$AL$11:$AQ$11))","v":0}," ",{"$f":"SUM(COUNTIF($C660:$H660,$AS$11:$AX$11))","v":0}," ",{"$f":"SUM(COUNTIF($C660:$H660,$AZ$11:$BE$11))","v":0}," ",{"$f":"SUM(COUNTIF($C660:$H660,$BG$11:$BL$11))","v":0}," ",{"$f":"SUM(COUNTIF($C660:$H660,$BN$11:$BS$11))","v":0}," ",{"$f":"SUM(COUNTIF($C660:$H660,$BU$11:$BZ$11))","v":0}," ",{"$f":"SUM(COUNTIF($C660:$H660,$CB$11:$CG$11))","v":0}," ",{"$f":"SUM(COUNTIF($C660:$H660,$CI$11:$CN$11))","v":0}," ",{"$f":"SUM(COUNTIF($C660:$H660,$CP$11:$CU$11))","v":0}," ",{"$f":"SUM(COUNTIF($C660:$H660,$CW$11:$DB$11))","v":0}," ",{"$f":"SUM(COUNTIF($C660:$H660,$DD$11:$DI$11))","v":0}," ",{"$f":"SUM(COUNTIF($C660:$H660,$DK$11:$DP$11))","v":0}]
[{"$f":"'aktuelle Zahlen'!A657","v":0},{"$f":"'aktuelle Zahlen'!B657","v":"00:00:00"},{"$f":"'aktuelle Zahlen'!C657","v":0},{"$f":"'aktuelle Zahlen'!D657","v":0},{"$f":"'aktuelle Zahlen'!E657","v":0},{"$f":"'aktuelle Zahlen'!F657","v":0},{"$f":"'aktuelle Zahlen'!G657","v":0},{"$f":"'aktuelle Zahlen'!H657","v":0},{"$f":"'aktuelle Zahlen'!J657","v":0},null," ",{"$f":"SUM(COUNTIF($C661:$H661,$AL$11:$AQ$11))","v":0}," ",{"$f":"SUM(COUNTIF($C661:$H661,$AS$11:$AX$11))","v":0}," ",{"$f":"SUM(COUNTIF($C661:$H661,$AZ$11:$BE$11))","v":0}," ",{"$f":"SUM(COUNTIF($C661:$H661,$BG$11:$BL$11))","v":0}," ",{"$f":"SUM(COUNTIF($C661:$H661,$BN$11:$BS$11))","v":0}," ",{"$f":"SUM(COUNTIF($C661:$H661,$BU$11:$BZ$11))","v":0}," ",{"$f":"SUM(COUNTIF($C661:$H661,$CB$11:$CG$11))","v":0}," ",{"$f":"SUM(COUNTIF($C661:$H661,$CI$11:$CN$11))","v":0}," ",{"$f":"SUM(COUNTIF($C661:$H661,$CP$11:$CU$11))","v":0}," ",{"$f":"SUM(COUNTIF($C661:$H661,$CW$11:$DB$11))","v":0}," ",{"$f":"SUM(COUNTIF($C661:$H661,$DD$11:$DI$11))","v":0}," ",{"$f":"SUM(COUNTIF($C661:$H661,$DK$11:$DP$11))","v":0}]
[{"$f":"'aktuelle Zahlen'!A658","v":0},{"$f":"'aktuelle Zahlen'!B658","v":"00:00:00"},{"$f":"'aktuelle Zahlen'!C658","v":0},{"$f":"'aktuelle Zahlen'!D658","v":0},{"$f":"'aktuelle Zahlen'!E658","v":0},{"$f":"'aktuelle Zahlen'!F658","v":0},{"$f":"'aktuelle Zahlen'!G658","v":0},{"$f":"'aktuelle Zahlen'!H658","v":0},{"$f":"'aktuelle Zahlen'!J658","v":0},null," ",{"$f":"SUM(COUNTIF($C662:$H662,$AL$11:$AQ$11))","v":0}," ",{"$f":"SUM(COUNTIF($C662:$H662,$AS$11:$AX$11))","v":0}," ",{"$f":"SUM(COUNTIF($C662:$H662,$AZ$11:$BE$11))","v":0}," ",{"$f":"SUM(COUNTIF($C662:$H662,$BG$11:$BL$11))","v":0}," ",{"$f":"SUM(COUNTIF($C662:$H662,$BN$11:$BS$11))","v":0}," ",{"$f":"SUM(COUNTIF($C662:$H662,$BU$11:$BZ$11))","v":0}," ",{"$f":"SUM(COUNTIF($C662:$H662,$CB$11:$CG$11))","v":0}," ",{"$f":"SUM(COUNTIF($C662:$H662,$CI$11:$CN$11))","v":0}," ",{"$f":"SUM(COUNTIF($C662:$H662,$CP$11:$CU$11))","v":0}," ",{"$f":"SUM(COUNTIF($C662:$H662,$CW$11:$DB$11))","v":0}," ",{"$f":"SUM(COUNTIF($C662:$H662,$DD$11:$DI$11))","v":0}," ",{"$f":"SUM(COUNTIF($C662:$H662,$DK$11:$DP$11))","v":0}]
[{"$f":"'aktuelle Zahlen'!A659","v":0},{"$f":"'aktuelle Zahlen'!B659","v":"00:00:00"},{"$f":"'aktuelle Zahlen'!C659","v":0},{"$f":"'aktuelle Zahlen'!D659","v":0},{"$f":"'aktuelle Zahlen'!E659","v":0},{"$f":"'aktuelle Zahlen'!F659","v":0},{"$f":"'aktuelle Zahlen'!G659","v":0},{"$f":"'aktuelle Zahlen'!H659","v":0},{"$f":"'aktuelle Zahlen'!J659","v":0},null," ",{"$f":"SUM(COUNTIF($C663:$H663,$AL$11:$AQ$11))","v":0}," ",{"$f":"SUM(COUNTIF($C663:$H663,$AS$11:$AX$11))","v":0}," ",{"$f":"SUM(COUNTIF($C663:$H663,$AZ$11:$BE$11))","v":0}," ",{"$f":"SUM(COUNTIF($C663:$H663,$BG$11:$BL$11))","v":0}," ",{"$f":"SUM(COUNTIF($C663:$H663,$BN$11:$BS$11))","v":0}," ",{"$f":"SUM(COUNTIF($C663:$H663,$BU$11:$BZ$11))","v":0}," ",{"$f":"SUM(COUNTIF($C663:$H663,$CB$11:$CG$11))","v":0}," ",{"$f":"SUM(COUNTIF($C663:$H663,$CI$11:$CN$11))","v":0}," ",{"$f":"SUM(COUNTIF($C663:$H663,$CP$11:$CU$11))","v":0}," ",{"$f":"SUM(COUNTIF($C663:$H663,$CW$11:$DB$11))","v":0}," ",{"$f":"SUM(COUNTIF($C663:$H663,$DD$11:$DI$11))","v":0}," ",{"$f":"SUM(COUNTIF($C663:$H663,$DK$11:$DP$11))","v":0}]
[{"$f":"'aktuelle Zahlen'!A660","v":0},{"$f":"'aktuelle Zahlen'!B660","v":"00:00:00"},{"$f":"'aktuelle Zahlen'!C660","v":0},{"$f":"'aktuelle Zahlen'!D660","v":0},{"$f":"'aktuelle Zahlen'!E660","v":0},{"$f":"'aktuelle Zahlen'!F660","v":0},{"$f":"'aktuelle Zahlen'!G660","v":0},{"$f":"'aktuelle Zahlen'!H660","v":0},{"$f":"'aktuelle Zahlen'!J660","v":0},null," ",{"$f":"SUM(COUNTIF($C664:$H664,$AL$11:$AQ$11))","v":0}," ",{"$f":"SUM(COUNTIF($C664:$H664,$AS$11:$AX$11))","v":0}," ",{"$f":"SUM(COUNTIF($C664:$H664,$AZ$11:$BE$11))","v":0}," ",{"$f":"SUM(COUNTIF($C664:$H664,$BG$11:$BL$11))","v":0}," ",{"$f":"SUM(COUNTIF($C664:$H664,$BN$11:$BS$11))","v":0}," ",{"$f":"SUM(COUNTIF($C664:$H664,$BU$11:$BZ$11))","v":0}," ",{"$f":"SUM(COUNTIF($C664:$H664,$CB$11:$CG$11))","v":0}," ",{"$f":"SUM(COUNTIF($C664:$H664,$CI$11:$CN$11))","v":0}," ",{"$f":"SUM(COUNTIF($C664:$H664,$CP$11:$CU$11))","v":0}," ",{"$f":"SUM(COUNTIF($C664:$H664,$CW$11:$DB$11))","v":0}," ",{"$f":"SUM(COUNTIF($C664:$H664,$DD$11:$DI$11))","v":0}," ",{"$f":"SUM(COUNTIF($C664:$H664,$DK$11:$DP$11))","v":0}]
[{"$f":"'aktuelle Zahlen'!A661","v":0},{"$f":"'aktuelle Zahlen'!B661","v":"00:00:00"},{"$f":"'aktuelle Zahlen'!C661","v":0},{"$f":"'aktuelle Zahlen'!D661","v":0},{"$f":"'aktuelle Zahlen'!E661","v":0},{"$f":"'aktuelle Zahlen'!F661","v":0},{"$f":"'aktuelle Zahlen'!G661","v":0},{"$f":"'aktuelle Zahlen'!H661","v":0},{"$f":"'aktuelle Zahlen'!J661","v":0},null," ",{"$f":"SUM(COUNTIF($C665:$H665,$AL$11:$AQ$11))","v":0}," ",{"$f":"SUM(COUNTIF($C665:$H665,$AS$11:$AX$11))","v":0}," ",{"$f":"SUM(COUNTIF($C665:$H665,$AZ$11:$BE$11))","v":0}," ",{"$f":"SUM(COUNTIF($C665:$H665,$BG$11:$BL$11))","v":0}," ",{"$f":"SUM(COUNTIF($C665:$H665,$BN$11:$BS$11))","v":0}," ",{"$f":"SUM(COUNTIF($C665:$H665,$BU$11:$BZ$11))","v":0}," ",{"$f":"SUM(COUNTIF($C665:$H665,$CB$11:$CG$11))","v":0}," ",{"$f":"SUM(COUNTIF($C665:$H665,$CI$11:$CN$11))","v":0}," ",{"$f":"SUM(COUNTIF($C665:$H665,$CP$11:$CU$11))","v":0}," ",{"$f":"SUM(COUNTIF($C665:$H665,$CW$11:$DB$11))","v":0}," ",{"$f":"SUM(COUNTIF($C665:$H665,$DD$11:$DI$11))","v":0}," ",{"$f":"SUM(COUNTIF($C665:$H665,$DK$11:$DP$11))","v":0}]
[{"$f":"'aktuelle Zahlen'!A662","v":0},{"$f":"'aktuelle Zahlen'!B662","v":"00:00:00"},{"$f":"'aktuelle Zahlen'!C662","v":0},{"$f":"'aktuelle Zahlen'!D662","v":0},{"$f":"'aktuelle Zahlen'!E662","v":0},{"$f":"'aktuelle Zahlen'!F662","v":0},{"$f":"'aktuelle Zahlen'!G662","v":0},{"$f":"'aktuelle Zahlen'!H662","v":0},{"$f":"'aktuelle Zahlen'!J662","v":0},null," ",{"$f":"SUM(COUNTIF($C666:$H666,$AL$11:$AQ$11))","v":0}," ",{"$f":"SUM(COUNTIF($C666:$H666,$AS$11:$AX$11))","v":0}," ",{"$f":"SUM(COUNTIF($C666:$H666,$AZ$11:$BE$11))","v":0}," ",{"$f":"SUM(COUNTIF($C666:$H666,$BG$11:$BL$11))","v":0}," ",{"$f":"SUM(COUNTIF($C666:$H666,$BN$11:$BS$11))","v":0}," ",{"$f":"SUM(COUNTIF($C666:$H666,$BU$11:$BZ$11))","v":0}," ",{"$f":"SUM(COUNTIF($C666:$H666,$CB$11:$CG$11))","v":0}," ",{"$f":"SUM(COUNTIF($C666:$H666,$CI$11:$CN$11))","v":0}," ",{"$f":"SUM(COUNTIF($C666:$H666,$CP$11:$CU$11))","v":0}," ",{"$f":"SUM(COUNTIF($C666:$H666,$CW$11:$DB$11))","v":0}," ",{"$f":"SUM(COUNTIF($C666:$H666,$DD$11:$DI$11))","v":0}," ",{"$f":"SUM(COUNTIF($C666:$H666,$DK$11:$DP$11))","v":0}]
[{"$f":"'aktuelle Zahlen'!A663","v":0},{"$f":"'aktuelle Zahlen'!B663","v":"00:00:00"},{"$f":"'aktuelle Zahlen'!C663","v":0},{"$f":"'aktuelle Zahlen'!D663","v":0},{"$f":"'aktuelle Zahlen'!E663","v":0},{"$f":"'aktuelle Zahlen'!F663","v":0},{"$f":"'aktuelle Zahlen'!G663","v":0},{"$f":"'aktuelle Zahlen'!H663","v":0},{"$f":"'aktuelle Zahlen'!J663","v":0},null," ",{"$f":"SUM(COUNTIF($C667:$H667,$AL$11:$AQ$11))","v":0}," ",{"$f":"SUM(COUNTIF($C667:$H667,$AS$11:$AX$11))","v":0}," ",{"$f":"SUM(COUNTIF($C667:$H667,$AZ$11:$BE$11))","v":0}," ",{"$f":"SUM(COUNTIF($C667:$H667,$BG$11:$BL$11))","v":0}," ",{"$f":"SUM(COUNTIF($C667:$H667,$BN$11:$BS$11))","v":0}," ",{"$f":"SUM(COUNTIF($C667:$H667,$BU$11:$BZ$11))","v":0}," ",{"$f":"SUM(COUNTIF($C667:$H667,$CB$11:$CG$11))","v":0}," ",{"$f":"SUM(COUNTIF($C667:$H667,$CI$11:$CN$11))","v":0}," ",{"$f":"SUM(COUNTIF($C667:$H667,$CP$11:$CU$11))","v":0}," ",{"$f":"SUM(COUNTIF($C667:$H667,$CW$11:$DB$11))","v":0}," ",{"$f":"SUM(COUNTIF($C667:$H667,$DD$11:$DI$11))","v":0}," ",{"$f":"SUM(COUNTIF($C667:$H667,$DK$11:$DP$11))","v":0}]
[{"$f":"'aktuelle Zahlen'!A664","v":0},{"$f":"'aktuelle Zahlen'!B664","v":"00:00:00"},{"$f":"'aktuelle Zahlen'!C664","v":0},{"$f":"'aktuelle Zahlen'!D664","v":0},{"$f":"'aktuelle Zahlen'!E664","v":0},{"$f":"'aktuelle Zahlen'!F664","v":0},{"$f":"'aktuelle Zahlen'!G664","v":0},{"$f":"'aktuelle Zahlen'!H664","v":0},{"$f":"'aktuelle Zahlen'!J664","v":0},null," ",{"$f":"SUM(COUNTIF($C668:$H668,$AL$11:$AQ$11))","v":0}," ",{"$f":"SUM(COUNTIF($C668:$H668,$AS$11:$AX$11))","v":0}," ",{"$f":"SUM(COUNTIF($C668:$H668,$AZ$11:$BE$11))","v":0}," ",{"$f":"SUM(COUNTIF($C668:$H668,$BG$11:$BL$11))","v":0}," ",{"$f":"SUM(COUNTIF($C668:$H668,$BN$11:$BS$11))","v":0}," ",{"$f":"SUM(COUNTIF($C668:$H668,$BU$11:$BZ$11))","v":0}," ",{"$f":"SUM(COUNTIF($C668:$H668,$CB$11:$CG$11))","v":0}," ",{"$f":"SUM(COUNTIF($C668:$H668,$CI$11:$CN$11))","v":0}," ",{"$f":"SUM(COUNTIF($C668:$H668,$CP$11:$CU$11))","v":0}," ",{"$f":"SUM(COUNTIF($C668:$H668,$CW$11:$DB$11))","v":0}," ",{"$f":"SUM(COUNTIF($C668:$H668,$DD$11:$DI$11))","v":0}," ",{"$f":"SUM(COUNTIF($C668:$H668,$DK$11:$DP$11))","v":0}]
[{"$f":"'aktuelle Zahlen'!A665","v":0},{"$f":"'aktuelle Zahlen'!B665","v":"00:00:00"},{"$f":"'aktuelle Zahlen'!C665","v":0},{"$f":"'aktuelle Zahlen'!D665","v":0},{"$f":"'aktuelle Zahlen'!E665","v":0},{"$f":"'aktuelle Zahlen'!F665","v":0},{"$f":"'aktuelle Zahlen'!G665","v":0},{"$f":"'aktuelle Zahlen'!H665","v":0},{"$f":"'aktuelle Zahlen'!J665","v":0},null," ",{"$f":"SUM(COUNTIF($C669:$H669,$AL$11:$AQ$11))","v":0}," ",{"$f":"SUM(COUNTIF($C669:$H669,$AS$11:$AX$11))","v":0}," ",{"$f":"SUM(COUNTIF($C669:$H669,$AZ$11:$BE$11))","v":0}," ",{"$f":"SUM(COUNTIF($C669:$H669,$BG$11:$BL$11))","v":0}," ",{"$f":"SUM(COUNTIF($C669:$H669,$BN$11:$BS$11))","v":0}," ",{"$f":"SUM(COUNTIF($C669:$H669,$BU$11:$BZ$11))","v":0}," ",{"$f":"SUM(COUNTIF($C669:$H669,$CB$11:$CG$11))","v":0}," ",{"$f":"SUM(COUNTIF($C669:$H669,$CI$11:$CN$11))","v":0}," ",{"$f":"SUM(COUNTIF($C669:$H669,$CP$11:$CU$11))","v":0}," ",{"$f":"SUM(COUNTIF($C669:$H669,$CW$11:$DB$11))","v":0}," ",{"$f":"SUM(COUNTIF($C669:$H669,$DD$11:$DI$11))","v":0}," ",{"$f":"SUM(COUNTIF($C669:$H669,$DK$11:$DP$11))","v":0}]
[{"$f":"'aktuelle Zahlen'!A666","v":0},{"$f":"'aktuelle Zahlen'!B666","v":"00:00:00"},{"$f":"'aktuelle Zahlen'!C666","v":0},{"$f":"'aktuelle Zahlen'!D666","v":0},{"$f":"'aktuelle Zahlen'!E666","v":0},{"$f":"'aktuelle Zahlen'!F666","v":0},{"$f":"'aktuelle Zahlen'!G666","v":0},{"$f":"'aktuelle Zahlen'!H666","v":0},{"$f":"'aktuelle Zahlen'!J666","v":0},null," ",{"$f":"SUM(COUNTIF($C670:$H670,$AL$11:$AQ$11))","v":0}," ",{"$f":"SUM(COUNTIF($C670:$H670,$AS$11:$AX$11))","v":0}," ",{"$f":"SUM(COUNTIF($C670:$H670,$AZ$11:$BE$11))","v":0}," ",{"$f":"SUM(COUNTIF($C670:$H670,$BG$11:$BL$11))","v":0}," ",{"$f":"SUM(COUNTIF($C670:$H670,$BN$11:$BS$11))","v":0}," ",{"$f":"SUM(COUNTIF($C670:$H670,$BU$11:$BZ$11))","v":0}," ",{"$f":"SUM(COUNTIF($C670:$H670,$CB$11:$CG$11))","v":0}," ",{"$f":"SUM(COUNTIF($C670:$H670,$CI$11:$CN$11))","v":0}," ",{"$f":"SUM(COUNTIF($C670:$H670,$CP$11:$CU$11))","v":0}," ",{"$f":"SUM(COUNTIF($C670:$H670,$CW$11:$DB$11))","v":0}," ",{"$f":"SUM(COUNTIF($C670:$H670,$DD$11:$DI$11))","v":0}," ",{"$f":"SUM(COUNTIF($C670:$H670,$DK$11:$DP$11))","v":0}]
[{"$f":"'aktuelle Zahlen'!A667","v":0},{"$f":"'aktuelle Zahlen'!B667","v":"00:00:00"},{"$f":"'aktuelle Zahlen'!C667","v":0},{"$f":"'aktuelle Zahlen'!D667","v":0},{"$f":"'aktuelle Zahlen'!E667","v":0},{"$f":"'aktuelle Zahlen'!F667","v":0},{"$f":"'aktuelle Zahlen'!G667","v":0},{"$f":"'aktuelle Zahlen'!H667","v":0},{"$f":"'aktuelle Zahlen'!J667","v":0},null," ",{"$f":"SUM(COUNTIF($C671:$H671,$AL$11:$AQ$11))","v":0}," ",{"$f":"SUM(COUNTIF($C671:$H671,$AS$11:$AX$11))","v":0}," ",{"$f":"SUM(COUNTIF($C671:$H671,$AZ$11:$BE$11))","v":0}," ",{"$f":"SUM(COUNTIF($C671:$H671,$BG$11:$BL$11))","v":0}," ",{"$f":"SUM(COUNTIF($C671:$H671,$BN$11:$BS$11))","v":0}," ",{"$f":"SUM(COUNTIF($C671:$H671,$BU$11:$BZ$11))","v":0}," ",{"$f":"SUM(COUNTIF($C671:$H671,$CB$11:$CG$11))","v":0}," ",{"$f":"SUM(COUNTIF($C671:$H671,$CI$11:$CN$11))","v":0}," ",{"$f":"SUM(COUNTIF($C671:$H671,$CP$11:$CU$11))","v":0}," ",{"$f":"SUM(COUNTIF($C671:$H671,$CW$11:$DB$11))","v":0}," ",{"$f":"SUM(COUNTIF($C671:$H671,$DD$11:$DI$11))","v":0}," ",{"$f":"SUM(COUNTIF($C671:$H671,$DK$11:$DP$11))","v":0}]
[{"$f":"'aktuelle Zahlen'!A668","v":0},{"$f":"'aktuelle Zahlen'!B668","v":"00:00:00"},{"$f":"'aktuelle Zahlen'!C668","v":0},{"$f":"'aktuelle Zahlen'!D668","v":0},{"$f":"'aktuelle Zahlen'!E668","v":0},{"$f":"'aktuelle Zahlen'!F668","v":0},{"$f":"'aktuelle Zahlen'!G668","v":0},{"$f":"'aktuelle Zahlen'!H668","v":0},{"$f":"'aktuelle Zahlen'!J668","v":0},null," ",{"$f":"SUM(COUNTIF($C672:$H672,$AL$11:$AQ$11))","v":0}," ",{"$f":"SUM(COUNTIF($C672:$H672,$AS$11:$AX$11))","v":0}," ",{"$f":"SUM(COUNTIF($C672:$H672,$AZ$11:$BE$11))","v":0}," ",{"$f":"SUM(COUNTIF($C672:$H672,$BG$11:$BL$11))","v":0}," ",{"$f":"SUM(COUNTIF($C672:$H672,$BN$11:$BS$11))","v":0}," ",{"$f":"SUM(COUNTIF($C672:$H672,$BU$11:$BZ$11))","v":0}," ",{"$f":"SUM(COUNTIF($C672:$H672,$CB$11:$CG$11))","v":0}," ",{"$f":"SUM(COUNTIF($C672:$H672,$CI$11:$CN$11))","v":0}," ",{"$f":"SUM(COUNTIF($C672:$H672,$CP$11:$CU$11))","v":0}," ",{"$f":"SUM(COUNTIF($C672:$H672,$CW$11:$DB$11))","v":0}," ",{"$f":"SUM(COUNTIF($C672:$H672,$DD$11:$DI$11))","v":0}," ",{"$f":"SUM(COUNTIF($C672:$H672,$DK$11:$DP$11))","v":0}]
[{"$f":"'aktuelle Zahlen'!A669","v":0},{"$f":"'aktuelle Zahlen'!B669","v":"00:00:00"},{"$f":"'aktuelle Zahlen'!C669","v":0},{"$f":"'aktuelle Zahlen'!D669","v":0},{"$f":"'aktuelle Zahlen'!E669","v":0},{"$f":"'aktuelle Zahlen'!F669","v":0},{"$f":"'aktuelle Zahlen'!G669","v":0},{"$f":"'aktuelle Zahlen'!H669","v":0},{"$f":"'aktuelle Zahlen'!J669","v":0},null," ",{"$f":"SUM(COUNTIF($C673:$H673,$AL$11:$AQ$11))","v":0}," ",{"$f":"SUM(COUNTIF($C673:$H673,$AS$11:$AX$11))","v":0}," ",{"$f":"SUM(COUNTIF($C673:$H673,$AZ$11:$BE$11))","v":0}," ",{"$f":"SUM(COUNTIF($C673:$H673,$BG$11:$BL$11))","v":0}," ",{"$f":"SUM(COUNTIF($C673:$H673,$BN$11:$BS$11))","v":0}," ",{"$f":"SUM(COUNTIF($C673:$H673,$BU$11:$BZ$11))","v":0}," ",{"$f":"SUM(COUNTIF($C673:$H673,$CB$11:$CG$11))","v":0}," ",{"$f":"SUM(COUNTIF($C673:$H673,$CI$11:$CN$11))","v":0}," ",{"$f":"SUM(COUNTIF($C673:$H673,$CP$11:$CU$11))","v":0}," ",{"$f":"SUM(COUNTIF($C673:$H673,$CW$11:$DB$11))","v":0}," ",{"$f":"SUM(COUNTIF($C673:$H673,$DD$11:$DI$11))","v":0}," ",{"$f":"SUM(COUNTIF($C673:$H673,$DK$11:$DP$11))","v":0}]
[{"$f":"'aktuelle Zahlen'!A670","v":0},{"$f":"'aktuelle Zahlen'!B670","v":"00:00:00"},{"$f":"'aktuelle Zahlen'!C670","v":0},{"$f":"'aktuelle Zahlen'!D670","v":0},{"$f":"'aktuelle Zahlen'!E670","v":0},{"$f":"'aktuelle Zahlen'!F670","v":0},{"$f":"'aktuelle Zahlen'!G670","v":0},{"$f":"'aktuelle Zahlen'!H670","v":0},{"$f":"'aktuelle Zahlen'!J670","v":0},null," ",{"$f":"SUM(COUNTIF($C674:$H674,$AL$11:$AQ$11))","v":0}," ",{"$f":"SUM(COUNTIF($C674:$H674,$AS$11:$AX$11))","v":0}," ",{"$f":"SUM(COUNTIF($C674:$H674,$AZ$11:$BE$11))","v":0}," ",{"$f":"SUM(COUNTIF($C674:$H674,$BG$11:$BL$11))","v":0}," ",{"$f":"SUM(COUNTIF($C674:$H674,$BN$11:$BS$11))","v":0}," ",{"$f":"SUM(COUNTIF($C674:$H674,$BU$11:$BZ$11))","v":0}," ",{"$f":"SUM(COUNTIF($C674:$H674,$CB$11:$CG$11))","v":0}," ",{"$f":"SUM(COUNTIF($C674:$H674,$CI$11:$CN$11))","v":0}," ",{"$f":"SUM(COUNTIF($C674:$H674,$CP$11:$CU$11))","v":0}," ",{"$f":"SUM(COUNTIF($C674:$H674,$CW$11:$DB$11))","v":0}," ",{"$f":"SUM(COUNTIF($C674:$H674,$DD$11:$DI$11))","v":0}," ",{"$f":"SUM(COUNTIF($C674:$H674,$DK$11:$DP$11))","v":0}]
[{"$f":"'aktuelle Zahlen'!A671","v":0},{"$f":"'aktuelle Zahlen'!B671","v":"00:00:00"},{"$f":"'aktuelle Zahlen'!C671","v":0},{"$f":"'aktuelle Zahlen'!D671","v":0},{"$f":"'aktuelle Zahlen'!E671","v":0},{"$f":"'aktuelle Zahlen'!F671","v":0},{"$f":"'aktuelle Zahlen'!G671","v":0},{"$f":"'aktuelle Zahlen'!H671","v":0},{"$f":"'aktuelle Zahlen'!J671","v":0},null," ",{"$f":"SUM(COUNTIF($C675:$H675,$AL$11:$AQ$11))","v":0}," ",{"$f":"SUM(COUNTIF($C675:$H675,$AS$11:$AX$11))","v":0}," ",{"$f":"SUM(COUNTIF($C675:$H675,$AZ$11:$BE$11))","v":0}," ",{"$f":"SUM(COUNTIF($C675:$H675,$BG$11:$BL$11))","v":0}," ",{"$f":"SUM(COUNTIF($C675:$H675,$BN$11:$BS$11))","v":0}," ",{"$f":"SUM(COUNTIF($C675:$H675,$BU$11:$BZ$11))","v":0}," ",{"$f":"SUM(COUNTIF($C675:$H675,$CB$11:$CG$11))","v":0}," ",{"$f":"SUM(COUNTIF($C675:$H675,$CI$11:$CN$11))","v":0}," ",{"$f":"SUM(COUNTIF($C675:$H675,$CP$11:$CU$11))","v":0}," ",{"$f":"SUM(COUNTIF($C675:$H675,$CW$11:$DB$11))","v":0}," ",{"$f":"SUM(COUNTIF($C675:$H675,$DD$11:$DI$11))","v":0}," ",{"$f":"SUM(COUNTIF($C675:$H675,$DK$11:$DP$11))","v":0}]
[{"$f":"'aktuelle Zahlen'!A672","v":0},{"$f":"'aktuelle Zahlen'!B672","v":"00:00:00"},{"$f":"'aktuelle Zahlen'!C672","v":0},{"$f":"'aktuelle Zahlen'!D672","v":0},{"$f":"'aktuelle Zahlen'!E672","v":0},{"$f":"'aktuelle Zahlen'!F672","v":0},{"$f":"'aktuelle Zahlen'!G672","v":0},{"$f":"'aktuelle Zahlen'!H672","v":0},{"$f":"'aktuelle Zahlen'!J672","v":0},null," ",{"$f":"SUM(COUNTIF($C676:$H676,$AL$11:$AQ$11))","v":0}," ",{"$f":"SUM(COUNTIF($C676:$H676,$AS$11:$AX$11))","v":0}," ",{"$f":"SUM(COUNTIF($C676:$H676,$AZ$11:$BE$11))","v":0}," ",{"$f":"SUM(COUNTIF($C676:$H676,$BG$11:$BL$11))","v":0}," ",{"$f":"SUM(COUNTIF($C676:$H676,$BN$11:$BS$11))","v":0}," ",{"$f":"SUM(COUNTIF($C676:$H676,$BU$11:$BZ$11))","v":0}," ",{"$f":"SUM(COUNTIF($C676:$H676,$CB$11:$CG$11))","v":0}," ",{"$f":"SUM(COUNTIF($C676:$H676,$CI$11:$CN$11))","v":0}," ",{"$f":"SUM(COUNTIF($C676:$H676,$CP$11:$CU$11))","v":0}," ",{"$f":"SUM(COUNTIF($C676:$H676,$CW$11:$DB$11))","v":0}," ",{"$f":"SUM(COUNTIF($C676:$H676,$DD$11:$DI$11))","v":0}," ",{"$f":"SUM(COUNTIF($C676:$H676,$DK$11:$DP$11))","v":0}]
[{"$f":"'aktuelle Zahlen'!A673","v":0},{"$f":"'aktuelle Zahlen'!B673","v":"00:00:00"},{"$f":"'aktuelle Zahlen'!C673","v":0},{"$f":"'aktuelle Zahlen'!D673","v":0},{"$f":"'aktuelle Zahlen'!E673","v":0},{"$f":"'aktuelle Zahlen'!F673","v":0},{"$f":"'aktuelle Zahlen'!G673","v":0},{"$f":"'aktuelle Zahlen'!H673","v":0},{"$f":"'aktuelle Zahlen'!J673","v":0},null," ",{"$f":"SUM(COUNTIF($C677:$H677,$AL$11:$AQ$11))","v":0}," ",{"$f":"SUM(COUNTIF($C677:$H677,$AS$11:$AX$11))","v":0}," ",{"$f":"SUM(COUNTIF($C677:$H677,$AZ$11:$BE$11))","v":0}," ",{"$f":"SUM(COUNTIF($C677:$H677,$BG$11:$BL$11))","v":0}," ",{"$f":"SUM(COUNTIF($C677:$H677,$BN$11:$BS$11))","v":0}," ",{"$f":"SUM(COUNTIF($C677:$H677,$BU$11:$BZ$11))","v":0}," ",{"$f":"SUM(COUNTIF($C677:$H677,$CB$11:$CG$11))","v":0}," ",{"$f":"SUM(COUNTIF($C677:$H677,$CI$11:$CN$11))","v":0}," ",{"$f":"SUM(COUNTIF($C677:$H677,$CP$11:$CU$11))","v":0}," ",{"$f":"SUM(COUNTIF($C677:$H677,$CW$11:$DB$11))","v":0}," ",{"$f":"SUM(COUNTIF($C677:$H677,$DD$11:$DI$11))","v":0}," ",{"$f":"SUM(COUNTIF($C677:$H677,$DK$11:$DP$11))","v":0}]
[{"$f":"'aktuelle Zahlen'!A674","v":0},{"$f":"'aktuelle Zahlen'!B674","v":"00:00:00"},{"$f":"'aktuelle Zahlen'!C674","v":0},{"$f":"'aktuelle Zahlen'!D674","v":0},{"$f":"'aktuelle Zahlen'!E674","v":0},{"$f":"'aktuelle Zahlen'!F674","v":0},{"$f":"'aktuelle Zahlen'!G674","v":0},{"$f":"'aktuelle Zahlen'!H674","v":0},{"$f":"'aktuelle Zahlen'!J674","v":0},null," ",{"$f":"SUM(COUNTIF($C678:$H678,$AL$11:$AQ$11))","v":0}," ",{"$f":"SUM(COUNTIF($C678:$H678,$AS$11:$AX$11))","v":0}," ",{"$f":"SUM(COUNTIF($C678:$H678,$AZ$11:$BE$11))","v":0}," ",{"$f":"SUM(COUNTIF($C678:$H678,$BG$11:$BL$11))","v":0}," ",{"$f":"SUM(COUNTIF($C678:$H678,$BN$11:$BS$11))","v":0}," ",{"$f":"SUM(COUNTIF($C678:$H678,$BU$11:$BZ$11))","v":0}," ",{"$f":"SUM(COUNTIF($C678:$H678,$CB$11:$CG$11))","v":0}," ",{"$f":"SUM(COUNTIF($C678:$H678,$CI$11:$CN$11))","v":0}," ",{"$f":"SUM(COUNTIF($C678:$H678,$CP$11:$CU$11))","v":0}," ",{"$f":"SUM(COUNTIF($C678:$H678,$CW$11:$DB$11))","v":0}," ",{"$f":"SUM(COUNTIF($C678:$H678,$DD$11:$DI$11))","v":0}," ",{"$f":"SUM(COUNTIF($C678:$H678,$DK$11:$DP$11))","v":0}]
[{"$f":"'aktuelle Zahlen'!A675","v":0},{"$f":"'aktuelle Zahlen'!B675","v":"00:00:00"},{"$f":"'aktuelle Zahlen'!C675","v":0},{"$f":"'aktuelle Zahlen'!D675","v":0},{"$f":"'aktuelle Zahlen'!E675","v":0},{"$f":"'aktuelle Zahlen'!F675","v":0},{"$f":"'aktuelle Zahlen'!G675","v":0},{"$f":"'aktuelle Zahlen'!H675","v":0},{"$f":"'aktuelle Zahlen'!J675","v":0},null," ",{"$f":"SUM(COUNTIF($C679:$H679,$AL$11:$AQ$11))","v":0}," ",{"$f":"SUM(COUNTIF($C679:$H679,$AS$11:$AX$11))","v":0}," ",{"$f":"SUM(COUNTIF($C679:$H679,$AZ$11:$BE$11))","v":0}," ",{"$f":"SUM(COUNTIF($C679:$H679,$BG$11:$BL$11))","v":0}," ",{"$f":"SUM(COUNTIF($C679:$H679,$BN$11:$BS$11))","v":0}," ",{"$f":"SUM(COUNTIF($C679:$H679,$BU$11:$BZ$11))","v":0}," ",{"$f":"SUM(COUNTIF($C679:$H679,$CB$11:$CG$11))","v":0}," ",{"$f":"SUM(COUNTIF($C679:$H679,$CI$11:$CN$11))","v":0}," ",{"$f":"SUM(COUNTIF($C679:$H679,$CP$11:$CU$11))","v":0}," ",{"$f":"SUM(COUNTIF($C679:$H679,$CW$11:$DB$11))","v":0}," ",{"$f":"SUM(COUNTIF($C679:$H679,$DD$11:$DI$11))","v":0}," ",{"$f":"SUM(COUNTIF($C679:$H679,$DK$11:$DP$11))","v":0}]
[{"$f":"'aktuelle Zahlen'!A676","v":0},{"$f":"'aktuelle Zahlen'!B676","v":"00:00:00"},{"$f":"'aktuelle Zahlen'!C676","v":0},{"$f":"'aktuelle Zahlen'!D676","v":0},{"$f":"'aktuelle Zahlen'!E676","v":0},{"$f":"'aktuelle Zahlen'!F676","v":0},{"$f":"'aktuelle Zahlen'!G676","v":0},{"$f":"'aktuelle Zahlen'!H676","v":0},{"$f":"'aktuelle Zahlen'!J676","v":0},null," ",{"$f":"SUM(COUNTIF($C680:$H680,$AL$11:$AQ$11))","v":0}," ",{"$f":"SUM(COUNTIF($C680:$H680,$AS$11:$AX$11))","v":0}," ",{"$f":"SUM(COUNTIF($C680:$H680,$AZ$11:$BE$11))","v":0}," ",{"$f":"SUM(COUNTIF($C680:$H680,$BG$11:$BL$11))","v":0}," ",{"$f":"SUM(COUNTIF($C680:$H680,$BN$11:$BS$11))","v":0}," ",{"$f":"SUM(COUNTIF($C680:$H680,$BU$11:$BZ$11))","v":0}," ",{"$f":"SUM(COUNTIF($C680:$H680,$CB$11:$CG$11))","v":0}," ",{"$f":"SUM(COUNTIF($C680:$H680,$CI$11:$CN$11))","v":0}," ",{"$f":"SUM(COUNTIF($C680:$H680,$CP$11:$CU$11))","v":0}," ",{"$f":"SUM(COUNTIF($C680:$H680,$CW$11:$DB$11))","v":0}," ",{"$f":"SUM(COUNTIF($C680:$H680,$DD$11:$DI$11))","v":0}," ",{"$f":"SUM(COUNTIF($C680:$H680,$DK$11:$DP$11))","v":0}]
[{"$f":"'aktuelle Zahlen'!A677","v":0},{"$f":"'aktuelle Zahlen'!B677","v":"00:00:00"},{"$f":"'aktuelle Zahlen'!C677","v":0},{"$f":"'aktuelle Zahlen'!D677","v":0},{"$f":"'aktuelle Zahlen'!E677","v":0},{"$f":"'aktuelle Zahlen'!F677","v":0},{"$f":"'aktuelle Zahlen'!G677","v":0},{"$f":"'aktuelle Zahlen'!H677","v":0},{"$f":"'aktuelle Zahlen'!J677","v":0},null," ",{"$f":"SUM(COUNTIF($C681:$H681,$AL$11:$AQ$11))","v":0}," ",{"$f":"SUM(COUNTIF($C681:$H681,$AS$11:$AX$11))","v":0}," ",{"$f":"SUM(COUNTIF($C681:$H681,$AZ$11:$BE$11))","v":0}," ",{"$f":"SUM(COUNTIF($C681:$H681,$BG$11:$BL$11))","v":0}," ",{"$f":"SUM(COUNTIF($C681:$H681,$BN$11:$BS$11))","v":0}," ",{"$f":"SUM(COUNTIF($C681:$H681,$BU$11:$BZ$11))","v":0}," ",{"$f":"SUM(COUNTIF($C681:$H681,$CB$11:$CG$11))","v":0}," ",{"$f":"SUM(COUNTIF($C681:$H681,$CI$11:$CN$11))","v":0}," ",{"$f":"SUM(COUNTIF($C681:$H681,$CP$11:$CU$11))","v":0}," ",{"$f":"SUM(COUNTIF($C681:$H681,$CW$11:$DB$11))","v":0}," ",{"$f":"SUM(COUNTIF($C681:$H681,$DD$11:$DI$11))","v":0}," ",{"$f":"SUM(COUNTIF($C681:$H681,$DK$11:$DP$11))","v":0}]
[{"$f":"'aktuelle Zahlen'!A678","v":0},{"$f":"'aktuelle Zahlen'!B678","v":"00:00:00"},{"$f":"'aktuelle Zahlen'!C678","v":0},{"$f":"'aktuelle Zahlen'!D678","v":0},{"$f":"'aktuelle Zahlen'!E678","v":0},{"$f":"'aktuelle Zahlen'!F678","v":0},{"$f":"'aktuelle Zahlen'!G678","v":0},{"$f":"'aktuelle Zahlen'!H678","v":0},{"$f":"'aktuelle Zahlen'!J678","v":0},null," ",{"$f":"SUM(COUNTIF($C682:$H682,$AL$11:$AQ$11))","v":0}," ",{"$f":"SUM(COUNTIF($C682:$H682,$AS$11:$AX$11))","v":0}," ",{"$f":"SUM(COUNTIF($C682:$H682,$AZ$11:$BE$11))","v":0}," ",{"$f":"SUM(COUNTIF($C682:$H682,$BG$11:$BL$11))","v":0}," ",{"$f":"SUM(COUNTIF($C682:$H682,$BN$11:$BS$11))","v":0}," ",{"$f":"SUM(COUNTIF($C682:$H682,$BU$11:$BZ$11))","v":0}," ",{"$f":"SUM(COUNTIF($C682:$H682,$CB$11:$CG$11))","v":0}," ",{"$f":"SUM(COUNTIF($C682:$H682,$CI$11:$CN$11))","v":0}," ",{"$f":"SUM(COUNTIF($C682:$H682,$CP$11:$CU$11))","v":0}," ",{"$f":"SUM(COUNTIF($C682:$H682,$CW$11:$DB$11))","v":0}," ",{"$f":"SUM(COUNTIF($C682:$H682,$DD$11:$DI$11))","v":0}," ",{"$f":"SUM(COUNTIF($C682:$H682,$DK$11:$DP$11))","v":0}]
[{"$f":"'aktuelle Zahlen'!A679","v":0},{"$f":"'aktuelle Zahlen'!B679","v":"00:00:00"},{"$f":"'aktuelle Zahlen'!C679","v":0},{"$f":"'aktuelle Zahlen'!D679","v":0},{"$f":"'aktuelle Zahlen'!E679","v":0},{"$f":"'aktuelle Zahlen'!F679","v":0},{"$f":"'aktuelle Zahlen'!G679","v":0},{"$f":"'aktuelle Zahlen'!H679","v":0},{"$f":"'aktuelle Zahlen'!J679","v":0},null," ",{"$f":"SUM(COUNTIF($C683:$H683,$AL$11:$AQ$11))","v":0}," ",{"$f":"SUM(COUNTIF($C683:$H683,$AS$11:$AX$11))","v":0}," ",{"$f":"SUM(COUNTIF($C683:$H683,$AZ$11:$BE$11))","v":0}," ",{"$f":"SUM(COUNTIF($C683:$H683,$BG$11:$BL$11))","v":0}," ",{"$f":"SUM(COUNTIF($C683:$H683,$BN$11:$BS$11))","v":0}," ",{"$f":"SUM(COUNTIF($C683:$H683,$BU$11:$BZ$11))","v":0}," ",{"$f":"SUM(COUNTIF($C683:$H683,$CB$11:$CG$11))","v":0}," ",{"$f":"SUM(COUNTIF($C683:$H683,$CI$11:$CN$11))","v":0}," ",{"$f":"SUM(COUNTIF($C683:$H683,$CP$11:$CU$11))","v":0}," ",{"$f":"SUM(COUNTIF($C683:$H683,$CW$11:$DB$11))","v":0}," ",{"$f":"SUM(COUNTIF($C683:$H683,$DD$11:$DI$11))","v":0}," ",{"$f":"SUM(COUNTIF($C683:$H683,$DK$11:$DP$11))","v":0}]
[{"$f":"'aktuelle Zahlen'!A680","v":0},{"$f":"'aktuelle Zahlen'!B680","v":"00:00:00"},{"$f":"'aktuelle Zahlen'!C680","v":0},{"$f":"'aktuelle Zahlen'!D680","v":0},{"$f":"'aktuelle Zahlen'!E680","v":0},{"$f":"'aktuelle Zahlen'!F680","v":0},{"$f":"'aktuelle Zahlen'!G680","v":0},{"$f":"'aktuelle Zahlen'!H680","v":0},{"$f":"'aktuelle Zahlen'!J680","v":0},null," ",{"$f":"SUM(COUNTIF($C684:$H684,$AL$11:$AQ$11))","v":0}," ",{"$f":"SUM(COUNTIF($C684:$H684,$AS$11:$AX$11))","v":0}," ",{"$f":"SUM(COUNTIF($C684:$H684,$AZ$11:$BE$11))","v":0}," ",{"$f":"SUM(COUNTIF($C684:$H684,$BG$11:$BL$11))","v":0}," ",{"$f":"SUM(COUNTIF($C684:$H684,$BN$11:$BS$11))","v":0}," ",{"$f":"SUM(COUNTIF($C684:$H684,$BU$11:$BZ$11))","v":0}," ",{"$f":"SUM(COUNTIF($C684:$H684,$CB$11:$CG$11))","v":0}," ",{"$f":"SUM(COUNTIF($C684:$H684,$CI$11:$CN$11))","v":0}," ",{"$f":"SUM(COUNTIF($C684:$H684,$CP$11:$CU$11))","v":0}," ",{"$f":"SUM(COUNTIF($C684:$H684,$CW$11:$DB$11))","v":0}," ",{"$f":"SUM(COUNTIF($C684:$H684,$DD$11:$DI$11))","v":0}," ",{"$f":"SUM(COUNTIF($C684:$H684,$DK$11:$DP$11))","v":0}]
[{"$f":"'aktuelle Zahlen'!A681","v":0},{"$f":"'aktuelle Zahlen'!B681","v":"00:00:00"},{"$f":"'aktuelle Zahlen'!C681","v":0},{"$f":"'aktuelle Zahlen'!D681","v":0},{"$f":"'aktuelle Zahlen'!E681","v":0},{"$f":"'aktuelle Zahlen'!F681","v":0},{"$f":"'aktuelle Zahlen'!G681","v":0},{"$f":"'aktuelle Zahlen'!H681","v":0},{"$f":"'aktuelle Zahlen'!J681","v":0},null," ",{"$f":"SUM(COUNTIF($C685:$H685,$AL$11:$AQ$11))","v":0}," ",{"$f":"SUM(COUNTIF($C685:$H685,$AS$11:$AX$11))","v":0}," ",{"$f":"SUM(COUNTIF($C685:$H685,$AZ$11:$BE$11))","v":0}," ",{"$f":"SUM(COUNTIF($C685:$H685,$BG$11:$BL$11))","v":0}," ",{"$f":"SUM(COUNTIF($C685:$H685,$BN$11:$BS$11))","v":0}," ",{"$f":"SUM(COUNTIF($C685:$H685,$BU$11:$BZ$11))","v":0}," ",{"$f":"SUM(COUNTIF($C685:$H685,$CB$11:$CG$11))","v":0}," ",{"$f":"SUM(COUNTIF($C685:$H685,$CI$11:$CN$11))","v":0}," ",{"$f":"SUM(COUNTIF($C685:$H685,$CP$11:$CU$11))","v":0}," ",{"$f":"SUM(COUNTIF($C685:$H685,$CW$11:$DB$11))","v":0}," ",{"$f":"SUM(COUNTIF($C685:$H685,$DD$11:$DI$11))","v":0}," ",{"$f":"SUM(COUNTIF($C685:$H685,$DK$11:$DP$11))","v":0}]
[{"$f":"'aktuelle Zahlen'!A682","v":0},{"$f":"'aktuelle Zahlen'!B682","v":"00:00:00"},{"$f":"'aktuelle Zahlen'!C682","v":0},{"$f":"'aktuelle Zahlen'!D682","v":0},{"$f":"'aktuelle Zahlen'!E682","v":0},{"$f":"'aktuelle Zahlen'!F682","v":0},{"$f":"'aktuelle Zahlen'!G682","v":0},{"$f":"'aktuelle Zahlen'!H682","v":0},{"$f":"'aktuelle Zahlen'!J682","v":0},null," ",{"$f":"SUM(COUNTIF($C686:$H686,$AL$11:$AQ$11))","v":0}," ",{"$f":"SUM(COUNTIF($C686:$H686,$AS$11:$AX$11))","v":0}," ",{"$f":"SUM(COUNTIF($C686:$H686,$AZ$11:$BE$11))","v":0}," ",{"$f":"SUM(COUNTIF($C686:$H686,$BG$11:$BL$11))","v":0}," ",{"$f":"SUM(COUNTIF($C686:$H686,$BN$11:$BS$11))","v":0}," ",{"$f":"SUM(COUNTIF($C686:$H686,$BU$11:$BZ$11))","v":0}," ",{"$f":"SUM(COUNTIF($C686:$H686,$CB$11:$CG$11))","v":0}," ",{"$f":"SUM(COUNTIF($C686:$H686,$CI$11:$CN$11))","v":0}," ",{"$f":"SUM(COUNTIF($C686:$H686,$CP$11:$CU$11))","v":0}," ",{"$f":"SUM(COUNTIF($C686:$H686,$CW$11:$DB$11))","v":0}," ",{"$f":"SUM(COUNTIF($C686:$H686,$DD$11:$DI$11))","v":0}," ",{"$f":"SUM(COUNTIF($C686:$H686,$DK$11:$DP$11))","v":0}]
[{"$f":"'aktuelle Zahlen'!A683","v":0},{"$f":"'aktuelle Zahlen'!B683","v":"00:00:00"},{"$f":"'aktuelle Zahlen'!C683","v":0},{"$f":"'aktuelle Zahlen'!D683","v":0},{"$f":"'aktuelle Zahlen'!E683","v":0},{"$f":"'aktuelle Zahlen'!F683","v":0},{"$f":"'aktuelle Zahlen'!G683","v":0},{"$f":"'aktuelle Zahlen'!H683","v":0},{"$f":"'aktuelle Zahlen'!J683","v":0},null," ",{"$f":"SUM(COUNTIF($C687:$H687,$AL$11:$AQ$11))","v":0}," ",{"$f":"SUM(COUNTIF($C687:$H687,$AS$11:$AX$11))","v":0}," ",{"$f":"SUM(COUNTIF($C687:$H687,$AZ$11:$BE$11))","v":0}," ",{"$f":"SUM(COUNTIF($C687:$H687,$BG$11:$BL$11))","v":0}," ",{"$f":"SUM(COUNTIF($C687:$H687,$BN$11:$BS$11))","v":0}," ",{"$f":"SUM(COUNTIF($C687:$H687,$BU$11:$BZ$11))","v":0}," ",{"$f":"SUM(COUNTIF($C687:$H687,$CB$11:$CG$11))","v":0}," ",{"$f":"SUM(COUNTIF($C687:$H687,$CI$11:$CN$11))","v":0}," ",{"$f":"SUM(COUNTIF($C687:$H687,$CP$11:$CU$11))","v":0}," ",{"$f":"SUM(COUNTIF($C687:$H687,$CW$11:$DB$11))","v":0}," ",{"$f":"SUM(COUNTIF($C687:$H687,$DD$11:$DI$11))","v":0}," ",{"$f":"SUM(COUNTIF($C687:$H687,$DK$11:$DP$11))","v":0}]
[{"$f":"'aktuelle Zahlen'!A684","v":0},{"$f":"'aktuelle Zahlen'!B684","v":"00:00:00"},{"$f":"'aktuelle Zahlen'!C684","v":0},{"$f":"'aktuelle Zahlen'!D684","v":0},{"$f":"'aktuelle Zahlen'!E684","v":0},{"$f":"'aktuelle Zahlen'!F684","v":0},{"$f":"'aktuelle Zahlen'!G684","v":0},{"$f":"'aktuelle Zahlen'!H684","v":0},{"$f":"'aktuelle Zahlen'!J684","v":0},null," ",{"$f":"SUM(COUNTIF($C688:$H688,$AL$11:$AQ$11))","v":0}," ",{"$f":"SUM(COUNTIF($C688:$H688,$AS$11:$AX$11))","v":0}," ",{"$f":"SUM(COUNTIF($C688:$H688,$AZ$11:$BE$11))","v":0}," ",{"$f":"SUM(COUNTIF($C688:$H688,$BG$11:$BL$11))","v":0}," ",{"$f":"SUM(COUNTIF($C688:$H688,$BN$11:$BS$11))","v":0}," ",{"$f":"SUM(COUNTIF($C688:$H688,$BU$11:$BZ$11))","v":0}," ",{"$f":"SUM(COUNTIF($C688:$H688,$CB$11:$CG$11))","v":0}," ",{"$f":"SUM(COUNTIF($C688:$H688,$CI$11:$CN$11))","v":0}," ",{"$f":"SUM(COUNTIF($C688:$H688,$CP$11:$CU$11))","v":0}," ",{"$f":"SUM(COUNTIF($C688:$H688,$CW$11:$DB$11))","v":0}," ",{"$f":"SUM(COUNTIF($C688:$H688,$DD$11:$DI$11))","v":0}," ",{"$f":"SUM(COUNTIF($C688:$H688,$DK$11:$DP$11))","v":0}]
[{"$f":"'aktuelle Zahlen'!A685","v":0},{"$f":"'aktuelle Zahlen'!B685","v":"00:00:00"},{"$f":"'aktuelle Zahlen'!C685","v":0},{"$f":"'aktuelle Zahlen'!D685","v":0},{"$f":"'aktuelle Zahlen'!E685","v":0},{"$f":"'aktuelle Zahlen'!F685","v":0},{"$f":"'aktuelle Zahlen'!G685","v":0},{"$f":"'aktuelle Zahlen'!H685","v":0},{"$f":"'aktuelle Zahlen'!J685","v":0},null," ",{"$f":"SUM(COUNTIF($C689:$H689,$AL$11:$AQ$11))","v":0}," ",{"$f":"SUM(COUNTIF($C689:$H689,$AS$11:$AX$11))","v":0}," ",{"$f":"SUM(COUNTIF($C689:$H689,$AZ$11:$BE$11))","v":0}," ",{"$f":"SUM(COUNTIF($C689:$H689,$BG$11:$BL$11))","v":0}," ",{"$f":"SUM(COUNTIF($C689:$H689,$BN$11:$BS$11))","v":0}," ",{"$f":"SUM(COUNTIF($C689:$H689,$BU$11:$BZ$11))","v":0}," ",{"$f":"SUM(COUNTIF($C689:$H689,$CB$11:$CG$11))","v":0}," ",{"$f":"SUM(COUNTIF($C689:$H689,$CI$11:$CN$11))","v":0}," ",{"$f":"SUM(COUNTIF($C689:$H689,$CP$11:$CU$11))","v":0}," ",{"$f":"SUM(COUNTIF($C689:$H689,$CW$11:$DB$11))","v":0}," ",{"$f":"SUM(COUNTIF($C689:$H689,$DD$11:$DI$11))","v":0}," ",{"$f":"SUM(COUNTIF($C689:$H689,$DK$11:$DP$11))","v":0}]
[{"$f":"'aktuelle Zahlen'!A686","v":0},{"$f":"'aktuelle Zahlen'!B686","v":"00:00:00"},{"$f":"'aktuelle Zahlen'!C686","v":0},{"$f":"'aktuelle Zahlen'!D686","v":0},{"$f":"'aktuelle Zahlen'!E686","v":0},{"$f":"'aktuelle Zahlen'!F686","v":0},{"$f":"'aktuelle Zahlen'!G686","v":0},{"$f":"'aktuelle Zahlen'!H686","v":0},{"$f":"'aktuelle Zahlen'!J686","v":0},null," ",{"$f":"SUM(COUNTIF($C690:$H690,$AL$11:$AQ$11))","v":0}," ",{"$f":"SUM(COUNTIF($C690:$H690,$AS$11:$AX$11))","v":0}," ",{"$f":"SUM(COUNTIF($C690:$H690,$AZ$11:$BE$11))","v":0}," ",{"$f":"SUM(COUNTIF($C690:$H690,$BG$11:$BL$11))","v":0}," ",{"$f":"SUM(COUNTIF($C690:$H690,$BN$11:$BS$11))","v":0}," ",{"$f":"SUM(COUNTIF($C690:$H690,$BU$11:$BZ$11))","v":0}," ",{"$f":"SUM(COUNTIF($C690:$H690,$CB$11:$CG$11))","v":0}," ",{"$f":"SUM(COUNTIF($C690:$H690,$CI$11:$CN$11))","v":0}," ",{"$f":"SUM(COUNTIF($C690:$H690,$CP$11:$CU$11))","v":0}," ",{"$f":"SUM(COUNTIF($C690:$H690,$CW$11:$DB$11))","v":0}," ",{"$f":"SUM(COUNTIF($C690:$H690,$DD$11:$DI$11))","v":0}," ",{"$f":"SUM(COUNTIF($C690:$H690,$DK$11:$DP$11))","v":0}]
[{"$f":"'aktuelle Zahlen'!A687","v":0},{"$f":"'aktuelle Zahlen'!B687","v":"00:00:00"},{"$f":"'aktuelle Zahlen'!C687","v":0},{"$f":"'aktuelle Zahlen'!D687","v":0},{"$f":"'aktuelle Zahlen'!E687","v":0},{"$f":"'aktuelle Zahlen'!F687","v":0},{"$f":"'aktuelle Zahlen'!G687","v":0},{"$f":"'aktuelle Zahlen'!H687","v":0},{"$f":"'aktuelle Zahlen'!J687","v":0},null," ",{"$f":"SUM(COUNTIF($C691:$H691,$AL$11:$AQ$11))","v":0}," ",{"$f":"SUM(COUNTIF($C691:$H691,$AS$11:$AX$11))","v":0}," ",{"$f":"SUM(COUNTIF($C691:$H691,$AZ$11:$BE$11))","v":0}," ",{"$f":"SUM(COUNTIF($C691:$H691,$BG$11:$BL$11))","v":0}," ",{"$f":"SUM(COUNTIF($C691:$H691,$BN$11:$BS$11))","v":0}," ",{"$f":"SUM(COUNTIF($C691:$H691,$BU$11:$BZ$11))","v":0}," ",{"$f":"SUM(COUNTIF($C691:$H691,$CB$11:$CG$11))","v":0}," ",{"$f":"SUM(COUNTIF($C691:$H691,$CI$11:$CN$11))","v":0}," ",{"$f":"SUM(COUNTIF($C691:$H691,$CP$11:$CU$11))","v":0}," ",{"$f":"SUM(COUNTIF($C691:$H691,$CW$11:$DB$11))","v":0}," ",{"$f":"SUM(COUNTIF($C691:$H691,$DD$11:$DI$11))","v":0}," ",{"$f":"SUM(COUNTIF($C691:$H691,$DK$11:$DP$11))","v":0}]
[{"$f":"'aktuelle Zahlen'!A688","v":0},{"$f":"'aktuelle Zahlen'!B688","v":"00:00:00"},{"$f":"'aktuelle Zahlen'!C688","v":0},{"$f":"'aktuelle Zahlen'!D688","v":0},{"$f":"'aktuelle Zahlen'!E688","v":0},{"$f":"'aktuelle Zahlen'!F688","v":0},{"$f":"'aktuelle Zahlen'!G688","v":0},{"$f":"'aktuelle Zahlen'!H688","v":0},{"$f":"'aktuelle Zahlen'!J688","v":0},null," ",{"$f":"SUM(COUNTIF($C692:$H692,$AL$11:$AQ$11))","v":0}," ",{"$f":"SUM(COUNTIF($C692:$H692,$AS$11:$AX$11))","v":0}," ",{"$f":"SUM(COUNTIF($C692:$H692,$AZ$11:$BE$11))","v":0}," ",{"$f":"SUM(COUNTIF($C692:$H692,$BG$11:$BL$11))","v":0}," ",{"$f":"SUM(COUNTIF($C692:$H692,$BN$11:$BS$11))","v":0}," ",{"$f":"SUM(COUNTIF($C692:$H692,$BU$11:$BZ$11))","v":0}," ",{"$f":"SUM(COUNTIF($C692:$H692,$CB$11:$CG$11))","v":0}," ",{"$f":"SUM(COUNTIF($C692:$H692,$CI$11:$CN$11))","v":0}," ",{"$f":"SUM(COUNTIF($C692:$H692,$CP$11:$CU$11))","v":0}," ",{"$f":"SUM(COUNTIF($C692:$H692,$CW$11:$DB$11))","v":0}," ",{"$f":"SUM(COUNTIF($C692:$H692,$DD$11:$DI$11))","v":0}," ",{"$f":"SUM(COUNTIF($C692:$H692,$DK$11:$DP$11))","v":0}]
[{"$f":"'aktuelle Zahlen'!A689","v":0},{"$f":"'aktuelle Zahlen'!B689","v":"00:00:00"},{"$f":"'aktuelle Zahlen'!C689","v":0},{"$f":"'aktuelle Zahlen'!D689","v":0},{"$f":"'aktuelle Zahlen'!E689","v":0},{"$f":"'aktuelle Zahlen'!F689","v":0},{"$f":"'aktuelle Zahlen'!G689","v":0},{"$f":"'aktuelle Zahlen'!H689","v":0},{"$f":"'aktuelle Zahlen'!J689","v":0},null," ",{"$f":"SUM(COUNTIF($C693:$H693,$AL$11:$AQ$11))","v":0}," ",{"$f":"SUM(COUNTIF($C693:$H693,$AS$11:$AX$11))","v":0}," ",{"$f":"SUM(COUNTIF($C693:$H693,$AZ$11:$BE$11))","v":0}," ",{"$f":"SUM(COUNTIF($C693:$H693,$BG$11:$BL$11))","v":0}," ",{"$f":"SUM(COUNTIF($C693:$H693,$BN$11:$BS$11))","v":0}," ",{"$f":"SUM(COUNTIF($C693:$H693,$BU$11:$BZ$11))","v":0}," ",{"$f":"SUM(COUNTIF($C693:$H693,$CB$11:$CG$11))","v":0}," ",{"$f":"SUM(COUNTIF($C693:$H693,$CI$11:$CN$11))","v":0}," ",{"$f":"SUM(COUNTIF($C693:$H693,$CP$11:$CU$11))","v":0}," ",{"$f":"SUM(COUNTIF($C693:$H693,$CW$11:$DB$11))","v":0}," ",{"$f":"SUM(COUNTIF($C693:$H693,$DD$11:$DI$11))","v":0}," ",{"$f":"SUM(COUNTIF($C693:$H693,$DK$11:$DP$11))","v":0}]
[{"$f":"'aktuelle Zahlen'!A690","v":0},{"$f":"'aktuelle Zahlen'!B690","v":"00:00:00"},{"$f":"'aktuelle Zahlen'!C690","v":0},{"$f":"'aktuelle Zahlen'!D690","v":0},{"$f":"'aktuelle Zahlen'!E690","v":0},{"$f":"'aktuelle Zahlen'!F690","v":0},{"$f":"'aktuelle Zahlen'!G690","v":0},{"$f":"'aktuelle Zahlen'!H690","v":0},{"$f":"'aktuelle Zahlen'!J690","v":0},null," ",{"$f":"SUM(COUNTIF($C694:$H694,$AL$11:$AQ$11))","v":0}," ",{"$f":"SUM(COUNTIF($C694:$H694,$AS$11:$AX$11))","v":0}," ",{"$f":"SUM(COUNTIF($C694:$H694,$AZ$11:$BE$11))","v":0}," ",{"$f":"SUM(COUNTIF($C694:$H694,$BG$11:$BL$11))","v":0}," ",{"$f":"SUM(COUNTIF($C694:$H694,$BN$11:$BS$11))","v":0}," ",{"$f":"SUM(COUNTIF($C694:$H694,$BU$11:$BZ$11))","v":0}," ",{"$f":"SUM(COUNTIF($C694:$H694,$CB$11:$CG$11))","v":0}," ",{"$f":"SUM(COUNTIF($C694:$H694,$CI$11:$CN$11))","v":0}," ",{"$f":"SUM(COUNTIF($C694:$H694,$CP$11:$CU$11))","v":0}," ",{"$f":"SUM(COUNTIF($C694:$H694,$CW$11:$DB$11))","v":0}," ",{"$f":"SUM(COUNTIF($C694:$H694,$DD$11:$DI$11))","v":0}," ",{"$f":"SUM(COUNTIF($C694:$H694,$DK$11:$DP$11))","v":0}]
[{"$f":"'aktuelle Zahlen'!A691","v":0},{"$f":"'aktuelle Zahlen'!B691","v":"00:00:00"},{"$f":"'aktuelle Zahlen'!C691","v":0},{"$f":"'aktuelle Zahlen'!D691","v":0},{"$f":"'aktuelle Zahlen'!E691","v":0},{"$f":"'aktuelle Zahlen'!F691","v":0},{"$f":"'aktuelle Zahlen'!G691","v":0},{"$f":"'aktuelle Zahlen'!H691","v":0},{"$f":"'aktuelle Zahlen'!J691","v":0},null," ",{"$f":"SUM(COUNTIF($C695:$H695,$AL$11:$AQ$11))","v":0}," ",{"$f":"SUM(COUNTIF($C695:$H695,$AS$11:$AX$11))","v":0}," ",{"$f":"SUM(COUNTIF($C695:$H695,$AZ$11:$BE$11))","v":0}," ",{"$f":"SUM(COUNTIF($C695:$H695,$BG$11:$BL$11))","v":0}," ",{"$f":"SUM(COUNTIF($C695:$H695,$BN$11:$BS$11))","v":0}," ",{"$f":"SUM(COUNTIF($C695:$H695,$BU$11:$BZ$11))","v":0}," ",{"$f":"SUM(COUNTIF($C695:$H695,$CB$11:$CG$11))","v":0}," ",{"$f":"SUM(COUNTIF($C695:$H695,$CI$11:$CN$11))","v":0}," ",{"$f":"SUM(COUNTIF($C695:$H695,$CP$11:$CU$11))","v":0}," ",{"$f":"SUM(COUNTIF($C695:$H695,$CW$11:$DB$11))","v":0}," ",{"$f":"SUM(COUNTIF($C695:$H695,$DD$11:$DI$11))","v":0}," ",{"$f":"SUM(COUNTIF($C695:$H695,$DK$11:$DP$11))","v":0}]
[{"$f":"'aktuelle Zahlen'!A692","v":0},{"$f":"'aktuelle Zahlen'!B692","v":"00:00:00"},{"$f":"'aktuelle Zahlen'!C692","v":0},{"$f":"'aktuelle Zahlen'!D692","v":0},{"$f":"'aktuelle Zahlen'!E692","v":0},{"$f":"'aktuelle Zahlen'!F692","v":0},{"$f":"'aktuelle Zahlen'!G692","v":0},{"$f":"'aktuelle Zahlen'!H692","v":0},{"$f":"'aktuelle Zahlen'!J692","v":0},null," ",{"$f":"SUM(COUNTIF($C696:$H696,$AL$11:$AQ$11))","v":0}," ",{"$f":"SUM(COUNTIF($C696:$H696,$AS$11:$AX$11))","v":0}," ",{"$f":"SUM(COUNTIF($C696:$H696,$AZ$11:$BE$11))","v":0}," ",{"$f":"SUM(COUNTIF($C696:$H696,$BG$11:$BL$11))","v":0}," ",{"$f":"SUM(COUNTIF($C696:$H696,$BN$11:$BS$11))","v":0}," ",{"$f":"SUM(COUNTIF($C696:$H696,$BU$11:$BZ$11))","v":0}," ",{"$f":"SUM(COUNTIF($C696:$H696,$CB$11:$CG$11))","v":0}," ",{"$f":"SUM(COUNTIF($C696:$H696,$CI$11:$CN$11))","v":0}," ",{"$f":"SUM(COUNTIF($C696:$H696,$CP$11:$CU$11))","v":0}," ",{"$f":"SUM(COUNTIF($C696:$H696,$CW$11:$DB$11))","v":0}," ",{"$f":"SUM(COUNTIF($C696:$H696,$DD$11:$DI$11))","v":0}," ",{"$f":"SUM(COUNTIF($C696:$H696,$DK$11:$DP$11))","v":0}]
[{"$f":"'aktuelle Zahlen'!A693","v":0},{"$f":"'aktuelle Zahlen'!B693","v":"00:00:00"},{"$f":"'aktuelle Zahlen'!C693","v":0},{"$f":"'aktuelle Zahlen'!D693","v":0},{"$f":"'aktuelle Zahlen'!E693","v":0},{"$f":"'aktuelle Zahlen'!F693","v":0},{"$f":"'aktuelle Zahlen'!G693","v":0},{"$f":"'aktuelle Zahlen'!H693","v":0},{"$f":"'aktuelle Zahlen'!J693","v":0},null," ",{"$f":"SUM(COUNTIF($C697:$H697,$AL$11:$AQ$11))","v":0}," ",{"$f":"SUM(COUNTIF($C697:$H697,$AS$11:$AX$11))","v":0}," ",{"$f":"SUM(COUNTIF($C697:$H697,$AZ$11:$BE$11))","v":0}," ",{"$f":"SUM(COUNTIF($C697:$H697,$BG$11:$BL$11))","v":0}," ",{"$f":"SUM(COUNTIF($C697:$H697,$BN$11:$BS$11))","v":0}," ",{"$f":"SUM(COUNTIF($C697:$H697,$BU$11:$BZ$11))","v":0}," ",{"$f":"SUM(COUNTIF($C697:$H697,$CB$11:$CG$11))","v":0}," ",{"$f":"SUM(COUNTIF($C697:$H697,$CI$11:$CN$11))","v":0}," ",{"$f":"SUM(COUNTIF($C697:$H697,$CP$11:$CU$11))","v":0}," ",{"$f":"SUM(COUNTIF($C697:$H697,$CW$11:$DB$11))","v":0}," ",{"$f":"SUM(COUNTIF($C697:$H697,$DD$11:$DI$11))","v":0}," ",{"$f":"SUM(COUNTIF($C697:$H697,$DK$11:$DP$11))","v":0}]
[{"$f":"'aktuelle Zahlen'!A694","v":0},{"$f":"'aktuelle Zahlen'!B694","v":"00:00:00"},{"$f":"'aktuelle Zahlen'!C694","v":0},{"$f":"'aktuelle Zahlen'!D694","v":0},{"$f":"'aktuelle Zahlen'!E694","v":0},{"$f":"'aktuelle Zahlen'!F694","v":0},{"$f":"'aktuelle Zahlen'!G694","v":0},{"$f":"'aktuelle Zahlen'!H694","v":0},{"$f":"'aktuelle Zahlen'!J694","v":0},null," ",{"$f":"SUM(COUNTIF($C698:$H698,$AL$11:$AQ$11))","v":0}," ",{"$f":"SUM(COUNTIF($C698:$H698,$AS$11:$AX$11))","v":0}," ",{"$f":"SUM(COUNTIF($C698:$H698,$AZ$11:$BE$11))","v":0}," ",{"$f":"SUM(COUNTIF($C698:$H698,$BG$11:$BL$11))","v":0}," ",{"$f":"SUM(COUNTIF($C698:$H698,$BN$11:$BS$11))","v":0}," ",{"$f":"SUM(COUNTIF($C698:$H698,$BU$11:$BZ$11))","v":0}," ",{"$f":"SUM(COUNTIF($C698:$H698,$CB$11:$CG$11))","v":0}," ",{"$f":"SUM(COUNTIF($C698:$H698,$CI$11:$CN$11))","v":0}," ",{"$f":"SUM(COUNTIF($C698:$H698,$CP$11:$CU$11))","v":0}," ",{"$f":"SUM(COUNTIF($C698:$H698,$CW$11:$DB$11))","v":0}," ",{"$f":"SUM(COUNTIF($C698:$H698,$DD$11:$DI$11))","v":0}," ",{"$f":"SUM(COUNTIF($C698:$H698,$DK$11:$DP$11))","v":0}]
[{"$f":"'aktuelle Zahlen'!A695","v":0},{"$f":"'aktuelle Zahlen'!B695","v":"00:00:00"},{"$f":"'aktuelle Zahlen'!C695","v":0},{"$f":"'aktuelle Zahlen'!D695","v":0},{"$f":"'aktuelle Zahlen'!E695","v":0},{"$f":"'aktuelle Zahlen'!F695","v":0},{"$f":"'aktuelle Zahlen'!G695","v":0},{"$f":"'aktuelle Zahlen'!H695","v":0},{"$f":"'aktuelle Zahlen'!J695","v":0},null," ",{"$f":"SUM(COUNTIF($C699:$H699,$AL$11:$AQ$11))","v":0}," ",{"$f":"SUM(COUNTIF($C699:$H699,$AS$11:$AX$11))","v":0}," ",{"$f":"SUM(COUNTIF($C699:$H699,$AZ$11:$BE$11))","v":0}," ",{"$f":"SUM(COUNTIF($C699:$H699,$BG$11:$BL$11))","v":0}," ",{"$f":"SUM(COUNTIF($C699:$H699,$BN$11:$BS$11))","v":0}," ",{"$f":"SUM(COUNTIF($C699:$H699,$BU$11:$BZ$11))","v":0}," ",{"$f":"SUM(COUNTIF($C699:$H699,$CB$11:$CG$11))","v":0}," ",{"$f":"SUM(COUNTIF($C699:$H699,$CI$11:$CN$11))","v":0}," ",{"$f":"SUM(COUNTIF($C699:$H699,$CP$11:$CU$11))","v":0}," ",{"$f":"SUM(COUNTIF($C699:$H699,$CW$11:$DB$11))","v":0}," ",{"$f":"SUM(COUNTIF($C699:$H699,$DD$11:$DI$11))","v":0}," ",{"$f":"SUM(COUNTIF($C699:$H699,$DK$11:$DP$11))","v":0}]
[{"$f":"'aktuelle Zahlen'!A696","v":0},{"$f":"'aktuelle Zahlen'!B696","v":"00:00:00"},{"$f":"'aktuelle Zahlen'!C696","v":0},{"$f":"'aktuelle Zahlen'!D696","v":0},{"$f":"'aktuelle Zahlen'!E696","v":0},{"$f":"'aktuelle Zahlen'!F696","v":0},{"$f":"'aktuelle Zahlen'!G696","v":0},{"$f":"'aktuelle Zahlen'!H696","v":0},{"$f":"'aktuelle Zahlen'!J696","v":0},null," ",{"$f":"SUM(COUNTIF($C700:$H700,$AL$11:$AQ$11))","v":0}," ",{"$f":"SUM(COUNTIF($C700:$H700,$AS$11:$AX$11))","v":0}," ",{"$f":"SUM(COUNTIF($C700:$H700,$AZ$11:$BE$11))","v":0}," ",{"$f":"SUM(COUNTIF($C700:$H700,$BG$11:$BL$11))","v":0}," ",{"$f":"SUM(COUNTIF($C700:$H700,$BN$11:$BS$11))","v":0}," ",{"$f":"SUM(COUNTIF($C700:$H700,$BU$11:$BZ$11))","v":0}," ",{"$f":"SUM(COUNTIF($C700:$H700,$CB$11:$CG$11))","v":0}," ",{"$f":"SUM(COUNTIF($C700:$H700,$CI$11:$CN$11))","v":0}," ",{"$f":"SUM(COUNTIF($C700:$H700,$CP$11:$CU$11))","v":0}," ",{"$f":"SUM(COUNTIF($C700:$H700,$CW$11:$DB$11))","v":0}," ",{"$f":"SUM(COUNTIF($C700:$H700,$DD$11:$DI$11))","v":0}," ",{"$f":"SUM(COUNTIF($C700:$H700,$DK$11:$DP$11))","v":0}]
[{"$f":"'aktuelle Zahlen'!A697","v":0},{"$f":"'aktuelle Zahlen'!B697","v":"00:00:00"},{"$f":"'aktuelle Zahlen'!C697","v":0},{"$f":"'aktuelle Zahlen'!D697","v":0},{"$f":"'aktuelle Zahlen'!E697","v":0},{"$f":"'aktuelle Zahlen'!F697","v":0},{"$f":"'aktuelle Zahlen'!G697","v":0},{"$f":"'aktuelle Zahlen'!H697","v":0},{"$f":"'aktuelle Zahlen'!J697","v":0},null," ",{"$f":"SUM(COUNTIF($C701:$H701,$AL$11:$AQ$11))","v":0}," ",{"$f":"SUM(COUNTIF($C701:$H701,$AS$11:$AX$11))","v":0}," ",{"$f":"SUM(COUNTIF($C701:$H701,$AZ$11:$BE$11))","v":0}," ",{"$f":"SUM(COUNTIF($C701:$H701,$BG$11:$BL$11))","v":0}," ",{"$f":"SUM(COUNTIF($C701:$H701,$BN$11:$BS$11))","v":0}," ",{"$f":"SUM(COUNTIF($C701:$H701,$BU$11:$BZ$11))","v":0}," ",{"$f":"SUM(COUNTIF($C701:$H701,$CB$11:$CG$11))","v":0}," ",{"$f":"SUM(COUNTIF($C701:$H701,$CI$11:$CN$11))","v":0}," ",{"$f":"SUM(COUNTIF($C701:$H701,$CP$11:$CU$11))","v":0}," ",{"$f":"SUM(COUNTIF($C701:$H701,$CW$11:$DB$11))","v":0}," ",{"$f":"SUM(COUNTIF($C701:$H701,$DD$11:$DI$11))","v":0}," ",{"$f":"SUM(COUNTIF($C701:$H701,$DK$11:$DP$11))","v":0}]
[{"$f":"'aktuelle Zahlen'!A698","v":0},{"$f":"'aktuelle Zahlen'!B698","v":"00:00:00"},{"$f":"'aktuelle Zahlen'!C698","v":0},{"$f":"'aktuelle Zahlen'!D698","v":0},{"$f":"'aktuelle Zahlen'!E698","v":0},{"$f":"'aktuelle Zahlen'!F698","v":0},{"$f":"'aktuelle Zahlen'!G698","v":0},{"$f":"'aktuelle Zahlen'!H698","v":0},{"$f":"'aktuelle Zahlen'!J698","v":0},null," ",{"$f":"SUM(COUNTIF($C702:$H702,$AL$11:$AQ$11))","v":0}," ",{"$f":"SUM(COUNTIF($C702:$H702,$AS$11:$AX$11))","v":0}," ",{"$f":"SUM(COUNTIF($C702:$H702,$AZ$11:$BE$11))","v":0}," ",{"$f":"SUM(COUNTIF($C702:$H702,$BG$11:$BL$11))","v":0}," ",{"$f":"SUM(COUNTIF($C702:$H702,$BN$11:$BS$11))","v":0}," ",{"$f":"SUM(COUNTIF($C702:$H702,$BU$11:$BZ$11))","v":0}," ",{"$f":"SUM(COUNTIF($C702:$H702,$CB$11:$CG$11))","v":0}," ",{"$f":"SUM(COUNTIF($C702:$H702,$CI$11:$CN$11))","v":0}," ",{"$f":"SUM(COUNTIF($C702:$H702,$CP$11:$CU$11))","v":0}," ",{"$f":"SUM(COUNTIF($C702:$H702,$CW$11:$DB$11))","v":0}," ",{"$f":"SUM(COUNTIF($C702:$H702,$DD$11:$DI$11))","v":0}," ",{"$f":"SUM(COUNTIF($C702:$H702,$DK$11:$DP$11))","v":0}]
[{"$f":"'aktuelle Zahlen'!A699","v":0},{"$f":"'aktuelle Zahlen'!B699","v":"00:00:00"},{"$f":"'aktuelle Zahlen'!C699","v":0},{"$f":"'aktuelle Zahlen'!D699","v":0},{"$f":"'aktuelle Zahlen'!E699","v":0},{"$f":"'aktuelle Zahlen'!F699","v":0},{"$f":"'aktuelle Zahlen'!G699","v":0},{"$f":"'aktuelle Zahlen'!H699","v":0},{"$f":"'aktuelle Zahlen'!J699","v":0},null," ",{"$f":"SUM(COUNTIF($C703:$H703,$AL$11:$AQ$11))","v":0}," ",{"$f":"SUM(COUNTIF($C703:$H703,$AS$11:$AX$11))","v":0}," ",{"$f":"SUM(COUNTIF($C703:$H703,$AZ$11:$BE$11))","v":0}," ",{"$f":"SUM(COUNTIF($C703:$H703,$BG$11:$BL$11))","v":0}," ",{"$f":"SUM(COUNTIF($C703:$H703,$BN$11:$BS$11))","v":0}," ",{"$f":"SUM(COUNTIF($C703:$H703,$BU$11:$BZ$11))","v":0}," ",{"$f":"SUM(COUNTIF($C703:$H703,$CB$11:$CG$11))","v":0}," ",{"$f":"SUM(COUNTIF($C703:$H703,$CI$11:$CN$11))","v":0}," ",{"$f":"SUM(COUNTIF($C703:$H703,$CP$11:$CU$11))","v":0}," ",{"$f":"SUM(COUNTIF($C703:$H703,$CW$11:$DB$11))","v":0}," ",{"$f":"SUM(COUNTIF($C703:$H703,$DD$11:$DI$11))","v":0}," ",{"$f":"SUM(COUNTIF($C703:$H703,$DK$11:$DP$11))","v":0}]
[{"$f":"'aktuelle Zahlen'!A700","v":0},{"$f":"'aktuelle Zahlen'!B700","v":"00:00:00"},{"$f":"'aktuelle Zahlen'!C700","v":0},{"$f":"'aktuelle Zahlen'!D700","v":0},{"$f":"'aktuelle Zahlen'!E700","v":0},{"$f":"'aktuelle Zahlen'!F700","v":0},{"$f":"'aktuelle Zahlen'!G700","v":0},{"$f":"'aktuelle Zahlen'!H700","v":0},{"$f":"'aktuelle Zahlen'!J700","v":0},null," ",{"$f":"SUM(COUNTIF($C704:$H704,$AL$11:$AQ$11))","v":0}," ",{"$f":"SUM(COUNTIF($C704:$H704,$AS$11:$AX$11))","v":0}," ",{"$f":"SUM(COUNTIF($C704:$H704,$AZ$11:$BE$11))","v":0}," ",{"$f":"SUM(COUNTIF($C704:$H704,$BG$11:$BL$11))","v":0}," ",{"$f":"SUM(COUNTIF($C704:$H704,$BN$11:$BS$11))","v":0}," ",{"$f":"SUM(COUNTIF($C704:$H704,$BU$11:$BZ$11))","v":0}," ",{"$f":"SUM(COUNTIF($C704:$H704,$CB$11:$CG$11))","v":0}," ",{"$f":"SUM(COUNTIF($C704:$H704,$CI$11:$CN$11))","v":0}," ",{"$f":"SUM(COUNTIF($C704:$H704,$CP$11:$CU$11))","v":0}," ",{"$f":"SUM(COUNTIF($C704:$H704,$CW$11:$DB$11))","v":0}," ",{"$f":"SUM(COUNTIF($C704:$H704,$DD$11:$DI$11))","v":0}," ",{"$f":"SUM(COUNTIF($C704:$H704,$DK$11:$DP$11))","v":0}]
[{"$f":"'aktuelle Zahlen'!A701","v":0},{"$f":"'aktuelle Zahlen'!B701","v":"00:00:00"},{"$f":"'aktuelle Zahlen'!C701","v":0},{"$f":"'aktuelle Zahlen'!D701","v":0},{"$f":"'aktuelle Zahlen'!E701","v":0},{"$f":"'aktuelle Zahlen'!F701","v":0},{"$f":"'aktuelle Zahlen'!G701","v":0},{"$f":"'aktuelle Zahlen'!H701","v":0},{"$f":"'aktuelle Zahlen'!J701","v":0},null," ",{"$f":"SUM(COUNTIF($C705:$H705,$AL$11:$AQ$11))","v":0}," ",{"$f":"SUM(COUNTIF($C705:$H705,$AS$11:$AX$11))","v":0}," ",{"$f":"SUM(COUNTIF($C705:$H705,$AZ$11:$BE$11))","v":0}," ",{"$f":"SUM(COUNTIF($C705:$H705,$BG$11:$BL$11))","v":0}," ",{"$f":"SUM(COUNTIF($C705:$H705,$BN$11:$BS$11))","v":0}," ",{"$f":"SUM(COUNTIF($C705:$H705,$BU$11:$BZ$11))","v":0}," ",{"$f":"SUM(COUNTIF($C705:$H705,$CB$11:$CG$11))","v":0}," ",{"$f":"SUM(COUNTIF($C705:$H705,$CI$11:$CN$11))","v":0}," ",{"$f":"SUM(COUNTIF($C705:$H705,$CP$11:$CU$11))","v":0}," ",{"$f":"SUM(COUNTIF($C705:$H705,$CW$11:$DB$11))","v":0}," ",{"$f":"SUM(COUNTIF($C705:$H705,$DD$11:$DI$11))","v":0}," ",{"$f":"SUM(COUNTIF($C705:$H705,$DK$11:$DP$11))","v":0}]
[{"$f":"'aktuelle Zahlen'!A702","v":0},{"$f":"'aktuelle Zahlen'!B702","v":"00:00:00"},{"$f":"'aktuelle Zahlen'!C702","v":0},{"$f":"'aktuelle Zahlen'!D702","v":0},{"$f":"'aktuelle Zahlen'!E702","v":0},{"$f":"'aktuelle Zahlen'!F702","v":0},{"$f":"'aktuelle Zahlen'!G702","v":0},{"$f":"'aktuelle Zahlen'!H702","v":0},{"$f":"'aktuelle Zahlen'!J702","v":0},null," ",{"$f":"SUM(COUNTIF($C706:$H706,$AL$11:$AQ$11))","v":0}," ",{"$f":"SUM(COUNTIF($C706:$H706,$AS$11:$AX$11))","v":0}," ",{"$f":"SUM(COUNTIF($C706:$H706,$AZ$11:$BE$11))","v":0}," ",{"$f":"SUM(COUNTIF($C706:$H706,$BG$11:$BL$11))","v":0}," ",{"$f":"SUM(COUNTIF($C706:$H706,$BN$11:$BS$11))","v":0}," ",{"$f":"SUM(COUNTIF($C706:$H706,$BU$11:$BZ$11))","v":0}," ",{"$f":"SUM(COUNTIF($C706:$H706,$CB$11:$CG$11))","v":0}," ",{"$f":"SUM(COUNTIF($C706:$H706,$CI$11:$CN$11))","v":0}," ",{"$f":"SUM(COUNTIF($C706:$H706,$CP$11:$CU$11))","v":0}," ",{"$f":"SUM(COUNTIF($C706:$H706,$CW$11:$DB$11))","v":0}," ",{"$f":"SUM(COUNTIF($C706:$H706,$DD$11:$DI$11))","v":0}," ",{"$f":"SUM(COUNTIF($C706:$H706,$DK$11:$DP$11))","v":0}]
[{"$f":"'aktuelle Zahlen'!A703","v":0},{"$f":"'aktuelle Zahlen'!B703","v":"00:00:00"},{"$f":"'aktuelle Zahlen'!C703","v":0},{"$f":"'aktuelle Zahlen'!D703","v":0},{"$f":"'aktuelle Zahlen'!E703","v":0},{"$f":"'aktuelle Zahlen'!F703","v":0},{"$f":"'aktuelle Zahlen'!G703","v":0},{"$f":"'aktuelle Zahlen'!H703","v":0},{"$f":"'aktuelle Zahlen'!J703","v":0},null," ",{"$f":"SUM(COUNTIF($C707:$H707,$AL$11:$AQ$11))","v":0}," ",{"$f":"SUM(COUNTIF($C707:$H707,$AS$11:$AX$11))","v":0}," ",{"$f":"SUM(COUNTIF($C707:$H707,$AZ$11:$BE$11))","v":0}," ",{"$f":"SUM(COUNTIF($C707:$H707,$BG$11:$BL$11))","v":0}," ",{"$f":"SUM(COUNTIF($C707:$H707,$BN$11:$BS$11))","v":0}," ",{"$f":"SUM(COUNTIF($C707:$H707,$BU$11:$BZ$11))","v":0}," ",{"$f":"SUM(COUNTIF($C707:$H707,$CB$11:$CG$11))","v":0}," ",{"$f":"SUM(COUNTIF($C707:$H707,$CI$11:$CN$11))","v":0}," ",{"$f":"SUM(COUNTIF($C707:$H707,$CP$11:$CU$11))","v":0}," ",{"$f":"SUM(COUNTIF($C707:$H707,$CW$11:$DB$11))","v":0}," ",{"$f":"SUM(COUNTIF($C707:$H707,$DD$11:$DI$11))","v":0}," ",{"$f":"SUM(COUNTIF($C707:$H707,$DK$11:$DP$11))","v":0}]
[{"$f":"'aktuelle Zahlen'!A704","v":0},{"$f":"'aktuelle Zahlen'!B704","v":"00:00:00"},{"$f":"'aktuelle Zahlen'!C704","v":0},{"$f":"'aktuelle Zahlen'!D704","v":0},{"$f":"'aktuelle Zahlen'!E704","v":0},{"$f":"'aktuelle Zahlen'!F704","v":0},{"$f":"'aktuelle Zahlen'!G704","v":0},{"$f":"'aktuelle Zahlen'!H704","v":0},{"$f":"'aktuelle Zahlen'!J704","v":0},null," ",{"$f":"SUM(COUNTIF($C708:$H708,$AL$11:$AQ$11))","v":0}," ",{"$f":"SUM(COUNTIF($C708:$H708,$AS$11:$AX$11))","v":0}," ",{"$f":"SUM(COUNTIF($C708:$H708,$AZ$11:$BE$11))","v":0}," ",{"$f":"SUM(COUNTIF($C708:$H708,$BG$11:$BL$11))","v":0}," ",{"$f":"SUM(COUNTIF($C708:$H708,$BN$11:$BS$11))","v":0}," ",{"$f":"SUM(COUNTIF($C708:$H708,$BU$11:$BZ$11))","v":0}," ",{"$f":"SUM(COUNTIF($C708:$H708,$CB$11:$CG$11))","v":0}," ",{"$f":"SUM(COUNTIF($C708:$H708,$CI$11:$CN$11))","v":0}," ",{"$f":"SUM(COUNTIF($C708:$H708,$CP$11:$CU$11))","v":0}," ",{"$f":"SUM(COUNTIF($C708:$H708,$CW$11:$DB$11))","v":0}," ",{"$f":"SUM(COUNTIF($C708:$H708,$DD$11:$DI$11))","v":0}," ",{"$f":"SUM(COUNTIF($C708:$H708,$DK$11:$DP$11))","v":0}]
[{"$f":"'aktuelle Zahlen'!A705","v":0},{"$f":"'aktuelle Zahlen'!B705","v":"00:00:00"},{"$f":"'aktuelle Zahlen'!C705","v":0},{"$f":"'aktuelle Zahlen'!D705","v":0},{"$f":"'aktuelle Zahlen'!E705","v":0},{"$f":"'aktuelle Zahlen'!F705","v":0},{"$f":"'aktuelle Zahlen'!G705","v":0},{"$f":"'aktuelle Zahlen'!H705","v":0},{"$f":"'aktuelle Zahlen'!J705","v":0},null," ",{"$f":"SUM(COUNTIF($C709:$H709,$AL$11:$AQ$11))","v":0}," ",{"$f":"SUM(COUNTIF($C709:$H709,$AS$11:$AX$11))","v":0}," ",{"$f":"SUM(COUNTIF($C709:$H709,$AZ$11:$BE$11))","v":0}," ",{"$f":"SUM(COUNTIF($C709:$H709,$BG$11:$BL$11))","v":0}," ",{"$f":"SUM(COUNTIF($C709:$H709,$BN$11:$BS$11))","v":0}," ",{"$f":"SUM(COUNTIF($C709:$H709,$BU$11:$BZ$11))","v":0}," ",{"$f":"SUM(COUNTIF($C709:$H709,$CB$11:$CG$11))","v":0}," ",{"$f":"SUM(COUNTIF($C709:$H709,$CI$11:$CN$11))","v":0}," ",{"$f":"SUM(COUNTIF($C709:$H709,$CP$11:$CU$11))","v":0}," ",{"$f":"SUM(COUNTIF($C709:$H709,$CW$11:$DB$11))","v":0}," ",{"$f":"SUM(COUNTIF($C709:$H709,$DD$11:$DI$11))","v":0}," ",{"$f":"SUM(COUNTIF($C709:$H709,$DK$11:$DP$11))","v":0}]
[{"$f":"'aktuelle Zahlen'!A706","v":0},{"$f":"'aktuelle Zahlen'!B706","v":"00:00:00"},{"$f":"'aktuelle Zahlen'!C706","v":0},{"$f":"'aktuelle Zahlen'!D706","v":0},{"$f":"'aktuelle Zahlen'!E706","v":0},{"$f":"'aktuelle Zahlen'!F706","v":0},{"$f":"'aktuelle Zahlen'!G706","v":0},{"$f":"'aktuelle Zahlen'!H706","v":0},{"$f":"'aktuelle Zahlen'!J706","v":0},null," ",{"$f":"SUM(COUNTIF($C710:$H710,$AL$11:$AQ$11))","v":0}," ",{"$f":"SUM(COUNTIF($C710:$H710,$AS$11:$AX$11))","v":0}," ",{"$f":"SUM(COUNTIF($C710:$H710,$AZ$11:$BE$11))","v":0}," ",{"$f":"SUM(COUNTIF($C710:$H710,$BG$11:$BL$11))","v":0}," ",{"$f":"SUM(COUNTIF($C710:$H710,$BN$11:$BS$11))","v":0}," ",{"$f":"SUM(COUNTIF($C710:$H710,$BU$11:$BZ$11))","v":0}," ",{"$f":"SUM(COUNTIF($C710:$H710,$CB$11:$CG$11))","v":0}," ",{"$f":"SUM(COUNTIF($C710:$H710,$CI$11:$CN$11))","v":0}," ",{"$f":"SUM(COUNTIF($C710:$H710,$CP$11:$CU$11))","v":0}," ",{"$f":"SUM(COUNTIF($C710:$H710,$CW$11:$DB$11))","v":0}," ",{"$f":"SUM(COUNTIF($C710:$H710,$DD$11:$DI$11))","v":0}," ",{"$f":"SUM(COUNTIF($C710:$H710,$DK$11:$DP$11))","v":0}]
[{"$f":"'aktuelle Zahlen'!A707","v":0},{"$f":"'aktuelle Zahlen'!B707","v":"00:00:00"},{"$f":"'aktuelle Zahlen'!C707","v":0},{"$f":"'aktuelle Zahlen'!D707","v":0},{"$f":"'aktuelle Zahlen'!E707","v":0},{"$f":"'aktuelle Zahlen'!F707","v":0},{"$f":"'aktuelle Zahlen'!G707","v":0},{"$f":"'aktuelle Zahlen'!H707","v":0},{"$f":"'aktuelle Zahlen'!J707","v":0},null," ",{"$f":"SUM(COUNTIF($C711:$H711,$AL$11:$AQ$11))","v":0}," ",{"$f":"SUM(COUNTIF($C711:$H711,$AS$11:$AX$11))","v":0}," ",{"$f":"SUM(COUNTIF($C711:$H711,$AZ$11:$BE$11))","v":0}," ",{"$f":"SUM(COUNTIF($C711:$H711,$BG$11:$BL$11))","v":0}," ",{"$f":"SUM(COUNTIF($C711:$H711,$BN$11:$BS$11))","v":0}," ",{"$f":"SUM(COUNTIF($C711:$H711,$BU$11:$BZ$11))","v":0}," ",{"$f":"SUM(COUNTIF($C711:$H711,$CB$11:$CG$11))","v":0}," ",{"$f":"SUM(COUNTIF($C711:$H711,$CI$11:$CN$11))","v":0}," ",{"$f":"SUM(COUNTIF($C711:$H711,$CP$11:$CU$11))","v":0}," ",{"$f":"SUM(COUNTIF($C711:$H711,$CW$11:$DB$11))","v":0}," ",{"$f":"SUM(COUNTIF($C711:$H711,$DD$11:$DI$11))","v":0}," ",{"$f":"SUM(COUNTIF($C711:$H711,$DK$11:$DP$11))","v":0}]