{"text_format":"1","workbook":"xlsx","n_sheets":3,"sheets":["Auswahl","Daten","Tabelle1"],"not_rendered":{"charts":0,"images":0,"macros":1,"external_links":0,"defined_names":0,"comments":0,"pivot_tables":0},"unopened":[],"bounds":{"document_bytes":16777216,"sheet_cells":100000,"rows_first":2000,"rows_last":500,"rows_between":2000,"halvings":0,"cell_chars":16384,"cell_head_chars":4096},"cells_cut":0,"cells_raw":0,"read":"whole","date_system":"1900"}

{"sheet":"Auswahl","index":0,"n_rows":22,"n_cols":6,"rows_kept":22,"cut":false,"hidden":false,"merged":[[0,0,1,5]]}
["Adressen-Verwaltung"]
[null,28,null,1]
[null,null,null,null,null,{"$f":"TODAY()","v":"2025-06-07"}]
[]
[null,"Auswahl        ","Anrede",null,{"$f":"IF(INDEX(Daten!$A$2:$A$300,$D$2)=\"\",\"\",(INDEX(Daten!$A$2:$A$300,$D$2)))","v":"Frau"}]
[]
[null,null,"Name",null,{"$f":"IF(INDEX(Daten!$B$2:$B$300,$D$2)=\"\",\"\",(INDEX(Daten!$B$2:$B$300,$D$2)))","v":"Abel"}]
[null,null,"Vorname",null,{"$f":"IF(INDEX(Daten!$C$2:$C$300,$D$2)=\"\",\"\",(INDEX(Daten!$C$2:$C$300,$D$2)))","v":"Mia"}]
[]
[null,null,"Strasse",null,{"$f":"IF(INDEX(Daten!$E$2:$E$300,$D$2)=\"\",\"\",(INDEX(Daten!$E$2:$E$300,$D$2)))","v":""}]
[null,null,"PLZ",null,{"$f":"IF(INDEX(Daten!$F$2:$F$300,$D$2)=\"\",\"\",(INDEX(Daten!$F$2:$F$300,$D$2)))","v":""}]
[null,null,"Ort",null,{"$f":"IF(INDEX(Daten!$G$2:$G$300,$D$2)=\"\",\"\",(INDEX(Daten!$G$2:$G$300,$D$2)))","v":""}]
[]
[null,null,"Fon (privat)",null,{"$f":"IF(INDEX(Daten!$H$2:$H$300,$D$2)=\"\",\"\",(INDEX(Daten!$H$2:$H$300,$D$2)))","v":""}]
[null,null,"Fon (beruflich)",null,{"$f":"IF(INDEX(Daten!$I$2:$I$300,$D$2)=\"\",\"\",(INDEX(Daten!$I$2:$I$300,$D$2)))","v":""}]
[null,null,"Fon (mobil)",null,{"$f":"IF(INDEX(Daten!$J$2:$J$300,$D$2)=\"\",\"\",(INDEX(Daten!$J$2:$J$300,$D$2)))","v":""}]
[]
[null,null,"E-Mail",null,{"$f":"IF(INDEX(Daten!$K$2:$K$300,$D$2)=\"\",\"\",(INDEX(Daten!$K$2:$K$300,$D$2)))","v":""}]
[null,null,"Kd.-Nr. /BN",null,{"$f":"IF(INDEX(Daten!$L$2:$L$300,$D$2)=\"\",\"\",(INDEX(Daten!$L$2:$L$300,$D$2)))","v":""}]
[null,null,"Passwort",null,{"$f":"IF(INDEX(Daten!$M$2:$M$300,$D$2)=\"\",\"\",(INDEX(Daten!$M$2:$M$300,$D$2)))","v":""}]
[]
[null,null,"Notiz",null,{"$f":"IF(INDEX(Daten!$N$2:$N$300,$D$2)=\"\",\"\",(INDEX(Daten!$N$2:$N$300,$D$2)))","v":""}]

{"sheet":"Daten","index":1,"n_rows":282,"n_cols":14,"rows_kept":282,"cut":false,"hidden":false,"merged":[]}
["Anrede","Name","Vorname","Zusammen","Strasse","PLZ","Ort","Fon: (privat)","Fon: (beruflich)","Fon: (mobil)","E-Mail (privat)","Kund.-Nr.:/BN","Passwort","Notiz"]
["Frau","Abel","Mia",{"$f":"B2&\"  \"&C2&\"\"","v":"Abel  Mia"}]
["Herr","Adam","Heinz",{"$f":"B3&\"  \"&C3&\"\"","v":"Adam  Heinz"},null,null,null,null,null,"0171-99889988"]
["Firma","Amazon",null,{"$f":"B4&\"  \"&C4&\"\"","v":"Amazon  "},null,null,null,"0800-3 63xxxxxxxxx"]
["Herr","Dambly","Helmut",{"$f":"B5&\"  \"&C5&\"\"","v":"Dambly  Helmut"},null,null,null,null,null,"0151-1xxxxxxxxxxx"]
["Frau","Göbel","Manuela",{"$f":"B6&\"  \"&C6&\"\"","v":"Göbel  Manuela"},null,null,null,"02624-xxxxxx"]
["Herr","Jacquart","Philipp",{"$f":"B7&\"  \"&C7&\"\"","v":"Jacquart  Philipp"},null,null,null,null,null,"0160-xxxxxxxx"]
["Herr","Mayer","Olaf",{"$f":"B8&\"  \"&C8&\"\"","v":"Mayer  Olaf"},null,null,null,null,null,"0151-xxxxxxxxxx"]
["Herr","Prüm","Pierre",{"$f":"B9&\"  \"&C9&\"\"","v":"Prüm  Pierre"},null,null,"Zell",null,null,"0170-492xxxxxxxx"]
["Herr","Zorn","Markus",{"$f":"B10&\"  \"&C10&\"\"","v":"Zorn  Markus"},null,null,null,"0651-5555666"]
[]
[]
[]
[]
[]
[]
[]
[]
[]
[]
[]
[]
[]
[]
[]
[]
[]
[]
[]
[]
[]
[]
[]
[]
[]
[]
[]
[]
[]
[]
[]
[]
[]
[]
[]
[]
[]
[]
[]
[]
[]
[]
[]
[]
[]
[]
[]
[]
[]
[]
[]
[]
[]
[]
[]
[]
[]
[]
[]
[]
[]
[]
[]
[]
[]
[]
[]
[]
[]
[]
[]
[]
[]
[]
[]
[]
[]
[]
[]
[]
[]
[]
[]
[]
[]
[]
[]
[]
[]
[]
[]
[]
[]
[]
[]
[]
[]
[]
[]
[]
[]
[]
[]
[]
[]
[]
[]
[]
[]
[]
[]
[]
[]
[]
[]
[]
[]
[]
[]
[]
[]
[]
[]
[]
[]
[]
[]
[]
[]
[]
[]
[]
[]
[null,null,null,{"$f":"B144&\"  \"&C144&\"\"","v":"  "}]
[null,null,null,{"$f":"B145&\"  \"&C145&\"\"","v":"  "}]
[null,null,null,{"$f":"B146&\"  \"&C146&\"\"","v":"  "}]
[null,null,null,{"$f":"B147&\"  \"&C147&\"\"","v":"  "}]
[null,null,null,{"$f":"B148&\"  \"&C148&\"\"","v":"  "}]
[null,null,null,{"$f":"B149&\"  \"&C149&\"\"","v":"  "}]
[null,null,null,{"$f":"B150&\"  \"&C150&\"\"","v":"  "}]
[null,null,null,{"$f":"B151&\"  \"&C151&\"\"","v":"  "}]
[null,null,null,{"$f":"B152&\"  \"&C152&\"\"","v":"  "}]
[null,null,null,{"$f":"B153&\"  \"&C153&\"\"","v":"  "}]
[null,null,null,{"$f":"B154&\"  \"&C154&\"\"","v":"  "}]
[null,null,null,{"$f":"B155&\"  \"&C155&\"\"","v":"  "}]
[null,null,null,{"$f":"B156&\"  \"&C156&\"\"","v":"  "}]
[null,null,null,{"$f":"B157&\"  \"&C157&\"\"","v":"  "}]
[null,null,null,{"$f":"B158&\"  \"&C158&\"\"","v":"  "}]
[null,null,null,{"$f":"B159&\"  \"&C159&\"\"","v":"  "}]
[null,null,null,{"$f":"B160&\"  \"&C160&\"\"","v":"  "}]
[null,null,null,{"$f":"B161&\"  \"&C161&\"\"","v":"  "}]
[null,null,null,{"$f":"B162&\"  \"&C162&\"\"","v":"  "}]
[null,null,null,{"$f":"B163&\"  \"&C163&\"\"","v":"  "}]
[null,null,null,{"$f":"B164&\"  \"&C164&\"\"","v":"  "}]
[null,null,null,{"$f":"B165&\"  \"&C165&\"\"","v":"  "}]
[null,null,null,{"$f":"B166&\"  \"&C166&\"\"","v":"  "}]
[null,null,null,{"$f":"B167&\"  \"&C167&\"\"","v":"  "}]
[null,null,null,{"$f":"B168&\"  \"&C168&\"\"","v":"  "}]
[null,null,null,{"$f":"B169&\"  \"&C169&\"\"","v":"  "}]
[null,null,null,{"$f":"B170&\"  \"&C170&\"\"","v":"  "}]
[null,null,null,{"$f":"B171&\"  \"&C171&\"\"","v":"  "}]
[null,null,null,{"$f":"B172&\"  \"&C172&\"\"","v":"  "}]
[null,null,null,{"$f":"B173&\"  \"&C173&\"\"","v":"  "}]
[null,null,null,{"$f":"B174&\"  \"&C174&\"\"","v":"  "}]
[null,null,null,{"$f":"B175&\"  \"&C175&\"\"","v":"  "}]
[null,null,null,{"$f":"B176&\"  \"&C176&\"\"","v":"  "}]
[null,null,null,{"$f":"B177&\"  \"&C177&\"\"","v":"  "}]
[null,null,null,{"$f":"B178&\"  \"&C178&\"\"","v":"  "}]
[null,null,null,{"$f":"B179&\"  \"&C179&\"\"","v":"  "}]
[null,null,null,{"$f":"B180&\"  \"&C180&\"\"","v":"  "}]
[null,null,null,{"$f":"B181&\"  \"&C181&\"\"","v":"  "}]
[null,null,null,{"$f":"B182&\"  \"&C182&\"\"","v":"  "}]
[null,null,null,{"$f":"B183&\"  \"&C183&\"\"","v":"  "}]
[null,null,null,{"$f":"B184&\"  \"&C184&\"\"","v":"  "}]
[null,null,null,{"$f":"B185&\"  \"&C185&\"\"","v":"  "}]
[null,null,null,{"$f":"B186&\"  \"&C186&\"\"","v":"  "}]
[null,null,null,{"$f":"B187&\"  \"&C187&\"\"","v":"  "}]
[null,null,null,{"$f":"B188&\"  \"&C188&\"\"","v":"  "}]
[null,null,null,{"$f":"B189&\"  \"&C189&\"\"","v":"  "}]
[null,null,null,{"$f":"B190&\"  \"&C190&\"\"","v":"  "}]
[null,null,null,{"$f":"B191&\"  \"&C191&\"\"","v":"  "}]
[null,null,null,{"$f":"B192&\"  \"&C192&\"\"","v":"  "}]
[null,null,null,{"$f":"B193&\"  \"&C193&\"\"","v":"  "}]
[null,null,null,{"$f":"B194&\"  \"&C194&\"\"","v":"  "}]
[null,null,null,{"$f":"B195&\"  \"&C195&\"\"","v":"  "}]
[null,null,null,{"$f":"B196&\"  \"&C196&\"\"","v":"  "}]
[null,null,null,{"$f":"B197&\"  \"&C197&\"\"","v":"  "}]
[null,null,null,{"$f":"B198&\"  \"&C198&\"\"","v":"  "}]
[null,null,null,{"$f":"B199&\"  \"&C199&\"\"","v":"  "}]
[null,null,null,{"$f":"B200&\"  \"&C200&\"\"","v":"  "}]
[null,null,null,{"$f":"B201&\"  \"&C201&\"\"","v":"  "}]
[null,null,null,{"$f":"B202&\"  \"&C202&\"\"","v":"  "}]
[null,null,null,{"$f":"B203&\"  \"&C203&\"\"","v":"  "}]
[null,null,null,{"$f":"B204&\"  \"&C204&\"\"","v":"  "}]
[null,null,null,{"$f":"B205&\"  \"&C205&\"\"","v":"  "}]
[null,null,null,{"$f":"B206&\"  \"&C206&\"\"","v":"  "}]
[null,null,null,{"$f":"B207&\"  \"&C207&\"\"","v":"  "}]
[null,null,null,{"$f":"B208&\"  \"&C208&\"\"","v":"  "}]
[null,null,null,{"$f":"B209&\"  \"&C209&\"\"","v":"  "}]
[null,null,null,{"$f":"B210&\"  \"&C210&\"\"","v":"  "}]
[null,null,null,{"$f":"B211&\"  \"&C211&\"\"","v":"  "}]
[null,null,null,{"$f":"B212&\"  \"&C212&\"\"","v":"  "}]
[null,null,null,{"$f":"B213&\"  \"&C213&\"\"","v":"  "}]
[null,null,null,{"$f":"B214&\"  \"&C214&\"\"","v":"  "}]
[null,null,null,{"$f":"B215&\"  \"&C215&\"\"","v":"  "}]
[null,null,null,{"$f":"B216&\"  \"&C216&\"\"","v":"  "}]
[null,null,null,{"$f":"B217&\"  \"&C217&\"\"","v":"  "}]
[null,null,null,{"$f":"B218&\"  \"&C218&\"\"","v":"  "}]
[null,null,null,{"$f":"B219&\"  \"&C219&\"\"","v":"  "}]
[null,null,null,{"$f":"B220&\"  \"&C220&\"\"","v":"  "}]
[null,null,null,{"$f":"B221&\"  \"&C221&\"\"","v":"  "}]
[null,null,null,{"$f":"B222&\"  \"&C222&\"\"","v":"  "}]
[null,null,null,{"$f":"B223&\"  \"&C223&\"\"","v":"  "}]
[null,null,null,{"$f":"B224&\"  \"&C224&\"\"","v":"  "}]
[null,null,null,{"$f":"B225&\"  \"&C225&\"\"","v":"  "}]
[null,null,null,{"$f":"B226&\"  \"&C226&\"\"","v":"  "}]
[null,null,null,{"$f":"B227&\"  \"&C227&\"\"","v":"  "}]
[null,null,null,{"$f":"B228&\"  \"&C228&\"\"","v":"  "}]
[null,null,null,{"$f":"B229&\"  \"&C229&\"\"","v":"  "}]
[null,null,null,{"$f":"B230&\"  \"&C230&\"\"","v":"  "}]
[null,null,null,{"$f":"B231&\"  \"&C231&\"\"","v":"  "}]
[null,null,null,{"$f":"B232&\"  \"&C232&\"\"","v":"  "}]
[null,null,null,{"$f":"B233&\"  \"&C233&\"\"","v":"  "}]
[null,null,null,{"$f":"B234&\"  \"&C234&\"\"","v":"  "}]
[null,null,null,{"$f":"B235&\"  \"&C235&\"\"","v":"  "}]
[null,null,null,{"$f":"B236&\"  \"&C236&\"\"","v":"  "}]
[null,null,null,{"$f":"B237&\"  \"&C237&\"\"","v":"  "}]
[null,null,null,{"$f":"B238&\"  \"&C238&\"\"","v":"  "}]
[null,null,null,{"$f":"B239&\"  \"&C239&\"\"","v":"  "}]
[null,null,null,{"$f":"B240&\"  \"&C240&\"\"","v":"  "}]
[null,null,null,{"$f":"B241&\"  \"&C241&\"\"","v":"  "}]
[null,null,null,{"$f":"B242&\"  \"&C242&\"\"","v":"  "}]
[null,null,null,{"$f":"B243&\"  \"&C243&\"\"","v":"  "}]
[null,null,null,{"$f":"B244&\"  \"&C244&\"\"","v":"  "}]
[null,null,null,{"$f":"B245&\"  \"&C245&\"\"","v":"  "}]
[null,null,null,{"$f":"B246&\"  \"&C246&\"\"","v":"  "}]
[null,null,null,{"$f":"B247&\"  \"&C247&\"\"","v":"  "}]
[null,null,null,{"$f":"B248&\"  \"&C248&\"\"","v":"  "}]
[null,null,null,{"$f":"B249&\"  \"&C249&\"\"","v":"  "}]
[null,null,null,{"$f":"B250&\"  \"&C250&\"\"","v":"  "}]
[null,null,null,{"$f":"B251&\"  \"&C251&\"\"","v":"  "}]
[null,null,null,{"$f":"B252&\"  \"&C252&\"\"","v":"  "}]
[null,null,null,{"$f":"B253&\"  \"&C253&\"\"","v":"  "}]
[null,null,null,{"$f":"B254&\"  \"&C254&\"\"","v":"  "}]
[null,null,null,{"$f":"B255&\"  \"&C255&\"\"","v":"  "}]
[null,null,null,{"$f":"B256&\"  \"&C256&\"\"","v":"  "}]
[null,null,null,{"$f":"B257&\"  \"&C257&\"\"","v":"  "}]
[null,null,null,{"$f":"B258&\"  \"&C258&\"\"","v":"  "}]
[null,null,null,{"$f":"B259&\"  \"&C259&\"\"","v":"  "}]
[null,null,null,{"$f":"B260&\"  \"&C260&\"\"","v":"  "}]
[null,null,null,{"$f":"B261&\"  \"&C261&\"\"","v":"  "}]
[null,null,null,{"$f":"B262&\"  \"&C262&\"\"","v":"  "}]
[null,null,null,{"$f":"B263&\"  \"&C263&\"\"","v":"  "}]
[null,null,null,{"$f":"B264&\"  \"&C264&\"\"","v":"  "}]
[null,null,null,{"$f":"B265&\"  \"&C265&\"\"","v":"  "}]
[null,null,null,{"$f":"B266&\"  \"&C266&\"\"","v":"  "}]
[null,null,null,{"$f":"B267&\"  \"&C267&\"\"","v":"  "}]
[null,null,null,{"$f":"B268&\"  \"&C268&\"\"","v":"  "}]
[null,null,null,{"$f":"B269&\"  \"&C269&\"\"","v":"  "}]
[null,null,null,{"$f":"B270&\"  \"&C270&\"\"","v":"  "}]
[null,null,null,{"$f":"B271&\"  \"&C271&\"\"","v":"  "}]
[null,null,null,{"$f":"B272&\"  \"&C272&\"\"","v":"  "}]
[null,null,null,{"$f":"B273&\"  \"&C273&\"\"","v":"  "}]
[null,null,null,{"$f":"B274&\"  \"&C274&\"\"","v":"  "}]
[null,null,null,{"$f":"B275&\"  \"&C275&\"\"","v":"  "}]
[null,null,null,{"$f":"B276&\"  \"&C276&\"\"","v":"  "}]
[null,null,null,{"$f":"B277&\"  \"&C277&\"\"","v":"  "}]
[null,null,null,{"$f":"B278&\"  \"&C278&\"\"","v":"  "}]
[null,null,null,{"$f":"B279&\"  \"&C279&\"\"","v":"  "}]
[null,null,null,{"$f":"B280&\"  \"&C280&\"\"","v":"  "}]
[null,null,null,{"$f":"B281&\"  \"&C281&\"\"","v":"  "}]
[null,null,null,{"$f":"B282&\"  \"&C282&\"\"","v":"  "}]

{"sheet":"Tabelle1","index":2,"n_rows":0,"n_cols":0,"rows_kept":0,"cut":false,"hidden":true,"merged":[]}