{"text_format":"1","workbook":"xlsx","n_sheets":2,"sheets":["Erklärung & Einstellung","Übungs Datei"],"not_rendered":{"charts":0,"images":4,"macros":1,"external_links":0,"defined_names":1,"comments":0,"pivot_tables":0},"unopened":[],"bounds":{"document_bytes":16777216,"sheet_cells":100000,"rows_first":2000,"rows_last":500,"rows_between":2000,"halvings":0,"cell_chars":16384,"cell_head_chars":4096},"cells_cut":0,"cells_raw":0,"read":"whole","date_system":"1900"}

{"sheet":"Erklärung & Einstellung","index":0,"n_rows":18,"n_cols":4,"rows_kept":18,"cut":false,"hidden":false,"merged":[[5,1,5,2],[6,1,6,2],[7,1,7,2],[8,1,8,2],[2,1,2,8],[3,4,8,8],[3,1,3,2],[4,1,4,2],[16,3,16,8],[16,1,16,2],[17,3,17,8],[17,1,17,2],[10,1,10,8],[15,3,15,8],[15,1,15,2],[9,1,9,8],[11,1,11,8],[12,1,12,8],[13,1,13,8],[14,1,14,8]]}
[]
[]
[null,"Erklärung & Einstellung"]
[null,"Extra blau",null,"Krank"]
[null,"Extra braun",null,"Eltern"]
[null,"Extra grau",null,"Ü-Std."]
[null,"Tage Arbeiten",null,"   Arbeiten"]
[null," Urlaub von…bis eintragen",null,"Urlaub"]
[null,"Wieviel Urlaubstage hast du?",null,30]
[null,"Die Namen von 3 Extras können hier oben in den weißen Feldern geändert werden.  Arbeiten & Urlaub nicht."]
[null,"Die Urlaubstage können hier voreingestellt werden. In der Tabelle können sie bei Bedarf geändert werden. (zb. Urlaub vom Vorjahr hinzuaddieren)"]
[null,"Die hellblaue Zeile (zum Teil unterbrochen) zeigt dir in welcher Reihe du bist."]
[null,"Hellrote Zellen bedeuten das der Name gelöscht wurde. Die Tabelle muss jetzt aufgeräumt werden"]
[null,"Gelbe Zellen sind Samstage und Sonntage. Die freie Tage sind nicht unbedingt das Wochenende"]
[null,"Schwarze Zellen sind die Feiertage. Feiertage sind immer freie Tage"]
[null,null,null," Eingestellt können hier 1,2 oder 3 freie Tage. Die weiße Felder in den Datums Bereich, sind die Tage wo der Mitarbeiter fei hat."]
[null,null,null,"Wenn ein neuer Name eingegeben wurde, muss der rot umrandete Button \"Arbeiten für das Jahr\" aktiviert werden um die Arbeitstage vom 01.01 bis 31.12 auszufüllen und die Tabelle wird dann auch aufgeräumt. Wenn diese Aktion noch nicht gemacht wurde, sind die Eingabe Zeilen dunkelrot."]
[null,null,null,"Korrigieren im Datumsbereich darf nur mit dem Arbeiten-Button gemacht werden."]

{"sheet":"Übungs Datei","index":1,"n_rows":53,"n_cols":381,"rows_kept":53,"cut":false,"hidden":false,"merged":[[1,1,3,2],[1,3,3,6],[1,8,3,9],[3,365,3,375],[4,1,4,2],[4,3,4,5],[4,6,4,9],[4,10,4,21],[4,22,4,40],[4,41,4,52],[4,223,4,234],[4,53,4,69],[4,70,4,81],[4,82,4,100],[4,101,4,112],[4,113,4,130],[5,7,6,7],[5,8,6,8],[4,235,4,253],[4,254,4,265],[4,266,4,283],[4,131,4,142],[4,143,4,161],[4,162,4,173],[4,174,4,191],[4,192,4,203],[5,1,6,2],[5,3,6,3],[5,4,6,4],[5,5,6,5],[5,6,6,6],[4,315,4,326],[5,9,6,9],[13,379,13,380],[14,379,15,379],[14,380,15,380],[4,204,4,222],[4,327,4,344],[4,345,4,356],[4,357,4,375],[4,284,4,295],[4,296,4,314],[18,379,19,379],[18,380,19,380],[36,37,36,45],[36,46,36,53],[30,1,30,4],[32,28,32,32],[32,37,32,44],[32,45,32,53],[33,28,33,32],[33,37,33,45],[33,46,33,53],[34,28,34,32],[34,37,34,45],[34,46,34,53],[35,37,35,45],[35,46,35,53],[37,37,37,45],[37,46,37,53],[38,37,38,45],[38,46,38,53],[39,37,39,45],[39,46,39,53],[40,37,40,45],[40,46,40,53],[41,37,41,45],[41,46,41,53],[42,37,42,45],[42,46,42,53],[43,37,43,45],[43,46,43,53],[44,37,44,45],[44,46,44,53],[45,37,45,45],[45,46,45,53],[51,37,51,53],[52,37,52,53],[54,45,54,46],[60,45,60,46],[46,37,46,45],[46,46,46,53],[47,37,47,45],[47,46,47,53],[49,37,49,53],[50,37,50,53]]}
[null,null,null,null,null,null,null,{"$f":"IF(H2=\"So.\",2,IF(H2=\"Mo.\",3,IF(H2=\"Di.\",4,IF(H2=\"Mi.\",5,IF(H2=\"Do.\",6,IF(H2=\"Fr.\",7,IF(H2=\"Sa.\",1)))))))","v":1},{"$f":"IF(H3=\"So.\",2,IF(H3=\"Mo.\",3,IF(H3=\"Di.\",4,IF(H3=\"Mi.\",5,IF(H3=\"Do.\",6,IF(H3=\"Fr.\",7,IF(H3=\"Sa.\",1)))))))","v":1},{"$f":"IF(H4=\"So.\",2,IF(H4=\"Mo.\",3,IF(H4=\"Di.\",4,IF(H4=\"Mi.\",5,IF(H4=\"Do.\",6,IF(H4=\"Fr.\",7,IF(H4=\"Sa.\",1)))))))","v":2}]
[null,{"$f":"MID(CELL(\"dateiname\",A1),FIND(\"]\",CELL(\"dateiname\",A1))+1,255)","v":"Übungs Datei"},null,"Welche  Tage arbeitest du nicht? (Feiertage sind grundsätzlich frei)",null,null,null,"Sa.",{"$f":"COUNTIF(G9:G28,0)","v":0}]
[null,null,null,null,null,null,null,"Sa."]
[null,null,null,null,null,null,null,"So.",null,null,null,null,null,null,null,null,null,null,null,null,null,null,null,null,null,null,null,null,null,null,null,null,null,null,null,null,null,null,null,null,null,null,null,null,null,null,null,null,null,null,null,null,null,null,null,null,null,null,null,null,null,null,null,null,null,null,null,null,null,null,null,null,null,null,null,null,null,null,null,null,null,null,null,null,null,null,null,null,null,null,null,null,null,null,null,null,null,null,null,null,null,null,null,null,null,null,null,null,null,null,null,null,null,null,null,null,null,null,null,null,null,null,null,null,null,null,null,null,null,null,null,null,null,null,null,null,null,null,null,null,null,null,null,null,null,null,null,null,null,null,null,null,null,null,null,null,null,null,null,null,null,null,null,null,null,null,null,null,null,null,null,null,null,null,null,null,null,null,null,null,null,null,null,null,null,null,null,null,null,null,null,null,null,null,null,null,null,null,null,null,null,null,null,null,null,null,null,null,null,null,null,null,null,null,null,null,null,null,null,null,null,null,null,null,null,null,null,null,null,null,null,null,null,null,null,null,null,null,null,null,null,null,null,null,null,null,null,null,null,null,null,null,null,null,null,null,null,null,null,null,null,null,null,null,null,null,null,null,null,null,null,null,null,null,null,null,null,null,null,null,null,null,null,null,null,null,null,null,null,null,null,null,null,null,null,null,null,null,null,null,null,null,null,null,null,null,null,null,null,null,null,null,null,null,null,null,null,null,null,null,null,null,null,null,null,null,null,null,null,null,null,null,null,null,null,null,null,null,null,null,null,null,null,null,null,null,null,null,null,null,null,null,null,null,null,null,null,null,null,null,null,null,null,null,null,"Eigentum Hollander"]
[null,2025,null,"Urlaub",null,null,"Extras",null,null,null,{"$f":"DATE(B5,1,1)","v":"2025-01-01"},{"$f":"DATE(C1,1,1)","v":"1900-01-01"},{"$f":"DATE(D1,1,1)","v":"1900-01-01"},{"$f":"DATE(E1,1,1)","v":"1900-01-01"},{"$f":"DATE(F1,1,1)","v":"1900-01-01"},{"$f":"DATE(H1,1,1)","v":"1901-01-01"},"1901-01-01","1902-01-01","1900-01-01","1900-01-01","1900-01-01","1900-01-01",null,null,null,null,null,null,null,null,null,null,null,null,null,null,null,null,null,null,null,{"$f":"DATE(YEAR(K5),MONTH(K5)+1,DAY(K5))","v":"2025-02-01"},null,null,null,null,null,null,null,null,null,null,null,null,null,null,null,null,null,null,null,null,null,null,null,null,null,null,null,null,{"$f":"DATE(YEAR($K$5),MONTH($K$5)+2,DAY($K$5))","v":"2025-03-01"},null,null,null,null,null,null,null,null,null,null,null,null,null,null,null,null,null,null,null,null,null,null,null,null,null,null,null,null,null,null,{"$f":"DATE(YEAR($K$5),MONTH($K$5)+3,DAY($K$5))","v":"2025-04-01"},null,null,null,null,null,null,null,null,null,null,null,null,null,null,null,null,null,null,null,null,null,null,null,null,null,null,null,null,null,{"$f":"DATE(YEAR($K$5),MONTH($K$5)+4,DAY($K$5))","v":"2025-05-01"},null,null,null,null,null,null,null,null,null,null,null,null,null,null,null,null,null,null,null,null,null,null,null,null,null,null,null,null,null,null,{"$f":"DATE(YEAR($K$5),MONTH($K$5)+5,DAY($K$5))","v":"2025-06-01"},null,null,null,null,null,null,null,null,null,null,null,null,null,null,null,null,null,null,null,null,null,null,null,null,null,null,null,null,null,{"$f":"DATE(YEAR($K$5),MONTH($K$5)+6,DAY($K$5))","v":"2025-07-01"},null,null,null,null,null,null,null,null,null,null,null,null,null,null,null,null,null,null,null,null,null,null,null,null,null,null,null,null,null,null,{"$f":"DATE(YEAR($K$5),MONTH($K$5)+7,DAY($K$5))","v":"2025-08-01"},null,null,null,null,null,null,null,null,null,null,null,null,null,null,null,null,null,null,null,null,null,null,null,null,null,null,null,null,null,null,{"$f":"DATE(YEAR($K$5),MONTH($K$5)+8,DAY($K$5))","v":"2025-09-01"},null,null,null,null,null,null,null,null,null,null,null,null,null,null,null,null,null,null,null,null,null,null,null,null,null,null,null,null,null,{"$f":"DATE(YEAR($K$5),MONTH($K$5)+9,DAY($K$5))","v":"2025-10-01"},null,null,null,null,null,null,null,null,null,null,null,null,null,null,null,null,null,null,null,null,null,null,null,null,null,null,null,null,null,null,{"$f":"DATE(YEAR($K$5),MONTH($K$5)+10,DAY($K$5))","v":"2025-11-01"},null,null,null,null,null,null,null,null,null,null,null,null,null,null,null,null,null,null,null,null,null,null,null,null,null,null,null,null,null,{"$f":"DATE(YEAR($K$5),MONTH($K$5)+11,DAY($K$5))","v":"2025-12-01"}]
[null,"Mitarbeiter",null,"Urlaub","Rest Urlaub"," Urlaub Eingetragen",{"$f":"'Erklärung & Einstellung'!D7","v":"   Arbeiten"},{"$f":"'Erklärung & Einstellung'!D4","v":"Krank"},{"$f":"'Erklärung & Einstellung'!D5","v":"Eltern"},{"$f":"'Erklärung & Einstellung'!D6","v":"Ü-Std."},{"$f":"K7","v":"2025-01-01"},{"$f":"L7","v":"2025-01-02"},{"$f":"M7","v":"2025-01-03"},"2025-01-04","2025-01-05","2025-01-06","2025-01-07","2025-01-08","2025-01-09","2025-01-10","2025-01-11","2025-01-12","2025-01-13","2025-01-14","2025-01-15","2025-01-16","2025-01-17","2025-01-18","2025-01-19","2025-01-20","2025-01-21","2025-01-22","2025-01-23","2025-01-24","2025-01-25","2025-01-26","2025-01-27","2025-01-28","2025-01-29","2025-01-30","2025-01-31",{"$f":"AP7","v":"2025-02-01"},{"$f":"AQ7","v":"2025-02-02"},{"$f":"AR7","v":"2025-02-03"},"2025-02-04","2025-02-05","2025-02-06","2025-02-07","2025-02-08","2025-02-09","2025-02-10","2025-02-11","2025-02-12","2025-02-13","2025-02-14","2025-02-15","2025-02-16","2025-02-17","2025-02-18","2025-02-19","2025-02-20","2025-02-21","2025-02-22","2025-02-23","2025-02-24","2025-02-25","2025-02-26","2025-02-27","2025-02-28","2025-03-01",{"$f":"BS7","v":"2025-03-01"},{"$f":"BT7","v":"2025-03-02"},"2025-03-03","2025-03-04","2025-03-05","2025-03-06","2025-03-07","2025-03-08","2025-03-09","2025-03-10","2025-03-11","2025-03-12","2025-03-13","2025-03-14","2025-03-15","2025-03-16","2025-03-17","2025-03-18","2025-03-19","2025-03-20","2025-03-21","2025-03-22","2025-03-23","2025-03-24","2025-03-25","2025-03-26","2025-03-27","2025-03-28","2025-03-29","2025-03-30","2025-03-31",{"$f":"CX7","v":"2025-04-01"},{"$f":"CY7","v":"2025-04-02"},"2025-04-03","2025-04-04","2025-04-05","2025-04-06","2025-04-07","2025-04-08","2025-04-09","2025-04-10","2025-04-11","2025-04-12","2025-04-13","2025-04-14","2025-04-15","2025-04-16","2025-04-17","2025-04-18","2025-04-19","2025-04-20","2025-04-21","2025-04-22","2025-04-23","2025-04-24","2025-04-25","2025-04-26","2025-04-27","2025-04-28","2025-04-29","2025-04-30",{"$f":"EB7","v":"2025-05-01"},{"$f":"EC7","v":"2025-05-02"},"2025-05-03","2025-05-04","2025-05-05","2025-05-06","2025-05-07","2025-05-08","2025-05-09","2025-05-10","2025-05-11","2025-05-12","2025-05-13","2025-05-14","2025-05-15","2025-05-16","2025-05-17","2025-05-18","2025-05-19","2025-05-20","2025-05-21","2025-05-22","2025-05-23","2025-05-24","2025-05-25","2025-05-26","2025-05-27","2025-05-28","2025-05-29","2025-05-30","2025-05-31",{"$f":"FG7","v":"2025-06-01"},{"$f":"FH7","v":"2025-06-02"},"2025-06-03","2025-06-04","2025-06-05","2025-06-06","2025-06-07","2025-06-08","2025-06-09","2025-06-10","2025-06-11","2025-06-12","2025-06-13","2025-06-14","2025-06-15","2025-06-16","2025-06-17","2025-06-18","2025-06-19","2025-06-20","2025-06-21","2025-06-22","2025-06-23","2025-06-24","2025-06-25","2025-06-26","2025-06-27","2025-06-28","2025-06-29","2025-06-30",{"$f":"GK7","v":"2025-07-01"},{"$f":"GL7","v":"2025-07-02"},"2025-07-03","2025-07-04","2025-07-05","2025-07-06","2025-07-07","2025-07-08","2025-07-09","2025-07-10","2025-07-11","2025-07-12","2025-07-13","2025-07-14","2025-07-15","2025-07-16","2025-07-17","2025-07-18","2025-07-19","2025-07-20","2025-07-21","2025-07-22","2025-07-23","2025-07-24","2025-07-25","2025-07-26","2025-07-27","2025-07-28","2025-07-29","2025-07-30","2025-07-31",{"$f":"HP7","v":"2025-08-01"},{"$f":"HQ7","v":"2025-08-02"},"2025-08-03","2025-08-04","2025-08-05","2025-08-06","2025-08-07","2025-08-08","2025-08-09","2025-08-10","2025-08-11","2025-08-12","2025-08-13","2025-08-14","2025-08-15","2025-08-16","2025-08-17","2025-08-18","2025-08-19","2025-08-20","2025-08-21","2025-08-22","2025-08-23","2025-08-24","2025-08-25","2025-08-26","2025-08-27","2025-08-28","2025-08-29","2025-08-30","2025-08-31",{"$f":"IU7","v":"2025-09-01"},{"$f":"IV7","v":"2025-09-02"},"2025-09-03","2025-09-04","2025-09-05","2025-09-06","2025-09-07","2025-09-08","2025-09-09","2025-09-10","2025-09-11","2025-09-12","2025-09-13","2025-09-14","2025-09-15","2025-09-16","2025-09-17","2025-09-18","2025-09-19","2025-09-20","2025-09-21","2025-09-22","2025-09-23","2025-09-24","2025-09-25","2025-09-26","2025-09-27","2025-09-28","2025-09-29","2025-09-30",{"$f":"JY7","v":"2025-10-01"},{"$f":"JZ7","v":"2025-10-02"},"2025-10-03","2025-10-04","2025-10-05","2025-10-06","2025-10-07","2025-10-08","2025-10-09","2025-10-10","2025-10-11","2025-10-12","2025-10-13","2025-10-14","2025-10-15","2025-10-16","2025-10-17","2025-10-18","2025-10-19","2025-10-20","2025-10-21","2025-10-22","2025-10-23","2025-10-24","2025-10-25","2025-10-26","2025-10-27","2025-10-28","2025-10-29","2025-10-30","2025-10-31",{"$f":"LD7","v":"2025-11-01"},{"$f":"LE7","v":"2025-11-02"},"2025-11-03","2025-11-04","2025-11-05","2025-11-06","2025-11-07","2025-11-08","2025-11-09","2025-11-10","2025-11-11","2025-11-12","2025-11-13","2025-11-14","2025-11-15","2025-11-16","2025-11-17","2025-11-18","2025-11-19","2025-11-20","2025-11-21","2025-11-22","2025-11-23","2025-11-24","2025-11-25","2025-11-26","2025-11-27","2025-11-28","2025-11-29","2025-11-30",{"$f":"MH7","v":"2025-12-01"},{"$f":"MI7","v":"2025-12-02"},"2025-12-03","2025-12-04","2025-12-05","2025-12-06","2025-12-07","2025-12-08","2025-12-09","2025-12-10","2025-12-11","2025-12-12","2025-12-13","2025-12-14","2025-12-15","2025-12-16","2025-12-17","2025-12-18","2025-12-19","2025-12-20","2025-12-21","2025-12-22","2025-12-23","2025-12-24","2025-12-25","2025-12-26","2025-12-27","2025-12-28","2025-12-29","2025-12-30","2025-12-31"]
[{"$f":"'Erklärung & Einstellung'!D9","v":30},null,null,null,null,null,null,null,null,null,{"$f":"K5","v":"2025-01-01"},{"$f":"K7+1","v":"2025-01-02"},{"$f":"L7+1","v":"2025-01-03"},"2025-01-04","2025-01-05","2025-01-06","2025-01-07","2025-01-08","2025-01-09","2025-01-10","2025-01-11","2025-01-12","2025-01-13","2025-01-14","2025-01-15","2025-01-16","2025-01-17","2025-01-18","2025-01-19",{"$f":"AC7+1","v":"2025-01-20"},"2025-01-21","2025-01-22","2025-01-23","2025-01-24","2025-01-25","2025-01-26",{"$f":"IF(AJ8=AJ7,\"\",IF(AJ7=\"\",\"\",AJ7+1))","v":"2025-01-27"},{"$f":"IF(AK8=AK7,\"\",IF(AK7=\"\",\"\",AK7+1))","v":"2025-01-28"},"2025-01-29","2025-01-30","2025-01-31",{"$f":"AP5","v":"2025-02-01"},{"$f":"AP7+1","v":"2025-02-02"},{"$f":"AQ7+1","v":"2025-02-03"},"2025-02-04","2025-02-05","2025-02-06","2025-02-07","2025-02-08","2025-02-09","2025-02-10","2025-02-11","2025-02-12","2025-02-13","2025-02-14","2025-02-15","2025-02-16","2025-02-17","2025-02-18","2025-02-19","2025-02-20","2025-02-21","2025-02-22","2025-02-23","2025-02-24","2025-02-25","2025-02-26",{"$f":"IF(BO8=BO7,\"\",IF(BO7=\"\",\"\",BO7+1))","v":"2025-02-27"},{"$f":"IF(BP8=BP7,\"\",IF(BP7=\"\",\"\",BP7+1))","v":"2025-02-28"},"2025-03-01",{"$f":"BS5","v":"2025-03-01"},{"$f":"BS7+1","v":"2025-03-02"},{"$f":"BT7+1","v":"2025-03-03"},"2025-03-04","2025-03-05","2025-03-06","2025-03-07","2025-03-08","2025-03-09","2025-03-10","2025-03-11","2025-03-12","2025-03-13","2025-03-14","2025-03-15","2025-03-16","2025-03-17","2025-03-18","2025-03-19","2025-03-20","2025-03-21","2025-03-22","2025-03-23","2025-03-24","2025-03-25","2025-03-26",{"$f":"IF(CR8=CR7,\"\",IF(CR7=\"\",\"\",CR7+1))","v":"2025-03-27"},{"$f":"IF(CS8=CS7,\"\",IF(CS7=\"\",\"\",CS7+1))","v":"2025-03-28"},"2025-03-29","2025-03-30","2025-03-31",{"$f":"CX5","v":"2025-04-01"},{"$f":"CX7+1","v":"2025-04-02"},{"$f":"CY7+1","v":"2025-04-03"},"2025-04-04","2025-04-05","2025-04-06","2025-04-07","2025-04-08","2025-04-09","2025-04-10","2025-04-11","2025-04-12","2025-04-13","2025-04-14","2025-04-15","2025-04-16","2025-04-17","2025-04-18","2025-04-19","2025-04-20","2025-04-21","2025-04-22","2025-04-23","2025-04-24","2025-04-25","2025-04-26",{"$f":"IF(DW8=DW7,\"\",IF(DW7=\"\",\"\",DW7+1))","v":"2025-04-27"},{"$f":"IF(DX8=DX7,\"\",IF(DX7=\"\",\"\",DX7+1))","v":"2025-04-28"},"2025-04-29","2025-04-30",{"$f":"EB5","v":"2025-05-01"},{"$f":"EB7+1","v":"2025-05-02"},{"$f":"EC7+1","v":"2025-05-03"},"2025-05-04","2025-05-05","2025-05-06","2025-05-07","2025-05-08","2025-05-09","2025-05-10","2025-05-11","2025-05-12","2025-05-13","2025-05-14","2025-05-15","2025-05-16","2025-05-17","2025-05-18","2025-05-19","2025-05-20","2025-05-21","2025-05-22","2025-05-23","2025-05-24","2025-05-25","2025-05-26",{"$f":"IF(FA8=FA7,\"\",IF(FA7=\"\",\"\",FA7+1))","v":"2025-05-27"},{"$f":"IF(FB8=FB7,\"\",IF(FB7=\"\",\"\",FB7+1))","v":"2025-05-28"},"2025-05-29","2025-05-30","2025-05-31",{"$f":"FG5","v":"2025-06-01"},{"$f":"FG7+1","v":"2025-06-02"},{"$f":"FH7+1","v":"2025-06-03"},"2025-06-04","2025-06-05","2025-06-06","2025-06-07","2025-06-08","2025-06-09","2025-06-10","2025-06-11","2025-06-12","2025-06-13","2025-06-14","2025-06-15","2025-06-16","2025-06-17","2025-06-18","2025-06-19","2025-06-20","2025-06-21","2025-06-22","2025-06-23","2025-06-24","2025-06-25","2025-06-26",{"$f":"IF(GF8=GF7,\"\",IF(GF7=\"\",\"\",GF7+1))","v":"2025-06-27"},{"$f":"IF(GG8=GG7,\"\",IF(GG7=\"\",\"\",GG7+1))","v":"2025-06-28"},"2025-06-29","2025-06-30",{"$f":"GK5","v":"2025-07-01"},{"$f":"GK7+1","v":"2025-07-02"},{"$f":"GL7+1","v":"2025-07-03"},"2025-07-04","2025-07-05","2025-07-06","2025-07-07","2025-07-08","2025-07-09","2025-07-10","2025-07-11","2025-07-12","2025-07-13","2025-07-14","2025-07-15","2025-07-16","2025-07-17","2025-07-18","2025-07-19","2025-07-20","2025-07-21","2025-07-22","2025-07-23","2025-07-24","2025-07-25","2025-07-26",{"$f":"IF(HJ8=HJ7,\"\",IF(HJ7=\"\",\"\",HJ7+1))","v":"2025-07-27"},{"$f":"IF(HK8=HK7,\"\",IF(HK7=\"\",\"\",HK7+1))","v":"2025-07-28"},"2025-07-29","2025-07-30","2025-07-31",{"$f":"HP5","v":"2025-08-01"},{"$f":"HP7+1","v":"2025-08-02"},{"$f":"HQ7+1","v":"2025-08-03"},"2025-08-04","2025-08-05","2025-08-06","2025-08-07","2025-08-08","2025-08-09","2025-08-10","2025-08-11","2025-08-12","2025-08-13","2025-08-14","2025-08-15","2025-08-16","2025-08-17","2025-08-18","2025-08-19","2025-08-20","2025-08-21","2025-08-22","2025-08-23","2025-08-24","2025-08-25","2025-08-26",{"$f":"IF(IO8=IO7,\"\",IF(IO7=\"\",\"\",IO7+1))","v":"2025-08-27"},{"$f":"IF(IP8=IP7,\"\",IF(IP7=\"\",\"\",IP7+1))","v":"2025-08-28"},"2025-08-29","2025-08-30","2025-08-31",{"$f":"IU5","v":"2025-09-01"},{"$f":"IU7+1","v":"2025-09-02"},{"$f":"IV7+1","v":"2025-09-03"},"2025-09-04","2025-09-05","2025-09-06","2025-09-07","2025-09-08","2025-09-09","2025-09-10","2025-09-11","2025-09-12","2025-09-13","2025-09-14","2025-09-15","2025-09-16","2025-09-17","2025-09-18","2025-09-19","2025-09-20","2025-09-21","2025-09-22","2025-09-23","2025-09-24","2025-09-25","2025-09-26",{"$f":"IF(JT8=JT7,\"\",IF(JT7=\"\",\"\",JT7+1))","v":"2025-09-27"},{"$f":"IF(JU8=JU7,\"\",IF(JU7=\"\",\"\",JU7+1))","v":"2025-09-28"},"2025-09-29","2025-09-30",{"$f":"JY5","v":"2025-10-01"},{"$f":"JY7+1","v":"2025-10-02"},{"$f":"JZ7+1","v":"2025-10-03"},"2025-10-04","2025-10-05","2025-10-06","2025-10-07","2025-10-08","2025-10-09","2025-10-10","2025-10-11","2025-10-12","2025-10-13","2025-10-14","2025-10-15","2025-10-16","2025-10-17","2025-10-18","2025-10-19","2025-10-20","2025-10-21","2025-10-22","2025-10-23","2025-10-24","2025-10-25","2025-10-26",{"$f":"IF(KX8=KX7,\"\",IF(KX7=\"\",\"\",KX7+1))","v":"2025-10-27"},{"$f":"IF(KY8=KY7,\"\",IF(KY7=\"\",\"\",KY7+1))","v":"2025-10-28"},"2025-10-29","2025-10-30","2025-10-31",{"$f":"LD5","v":"2025-11-01"},{"$f":"LD7+1","v":"2025-11-02"},{"$f":"LE7+1","v":"2025-11-03"},"2025-11-04","2025-11-05","2025-11-06","2025-11-07","2025-11-08","2025-11-09","2025-11-10","2025-11-11","2025-11-12","2025-11-13","2025-11-14","2025-11-15","2025-11-16","2025-11-17","2025-11-18","2025-11-19","2025-11-20","2025-11-21","2025-11-22","2025-11-23","2025-11-24","2025-11-25","2025-11-26",{"$f":"IF(MC8=MC7,\"\",IF(MC7=\"\",\"\",MC7+1))","v":"2025-11-27"},{"$f":"IF(MD8=MD7,\"\",IF(MD7=\"\",\"\",MD7+1))","v":"2025-11-28"},"2025-11-29","2025-11-30",{"$f":"MH5","v":"2025-12-01"},{"$f":"MH7+1","v":"2025-12-02"},{"$f":"MI7+1","v":"2025-12-03"},"2025-12-04","2025-12-05","2025-12-06","2025-12-07","2025-12-08","2025-12-09","2025-12-10","2025-12-11","2025-12-12","2025-12-13","2025-12-14","2025-12-15","2025-12-16","2025-12-17","2025-12-18","2025-12-19","2025-12-20","2025-12-21","2025-12-22","2025-12-23","2025-12-24","2025-12-25","2025-12-26",{"$f":"IF(NG8=NG7,\"\",IF(NG7=\"\",\"\",NG7+1))","v":"2025-12-27"},{"$f":"IF(NH8=NH7,\"\",IF(NH7=\"\",\"\",NH7+1))","v":"2025-12-28"},"2025-12-29","2025-12-30","2025-12-31"]
[]
[{"$f":"COUNTIF(K9:NL9,5)","v":252},1,"a",30,{"$f":"IF(C9=\"\",\"\",IF(D9=\"\",\"\",D9-F9))","v":30},{"$f":"IF(D9=\"\",\"\",COUNTIF(K9:NL9,\"1\"))","v":0},{"$f":"IF(C9=\"\",\"\",COUNTIF(K9:NL9,\"5\"))","v":252},{"$f":"IF(C9=\"\",\"\",COUNTIF(K9:NL9,\"2\"))","v":0},{"$f":"IF(C9=\"\",\"\",COUNTIF(K9:NL9,\"3\"))","v":0},{"$f":"IF(C9=\"\",\"\",COUNTIF(K9:NL9,\"4\"))","v":0},null,5,5,null,null,5,5,5,5,5,null,null,5,5,5,5,5,null,null,5,5,5,5,5,null,null,5,5,5,5,5,null,null,5,5,5,5,5,null,null,5,5,5,5,5,null,null,5,5,5,5,5,null,null,5,5,5,5,5,null,null,null,5,5,5,5,5,null,null,5,5,5,5,5,null,null,5,5,5,5,5,null,null,5,5,5,5,5,null,null,5,5,5,5,5,null,null,5,5,5,5,5,null,null,5,5,5,5,null,null,null,null,5,5,5,5,null,null,5,5,5,null,5,null,null,5,5,5,5,5,null,null,5,5,5,5,5,null,null,5,5,5,5,5,null,null,5,5,5,null,5,null,null,5,5,5,5,5,null,null,null,5,5,5,5,null,null,5,5,5,5,5,null,null,5,5,5,5,5,null,null,5,5,5,5,5,null,null,5,5,5,5,5,null,null,5,5,5,5,5,null,null,5,5,5,5,5,null,null,5,5,5,5,5,null,null,5,5,5,5,5,null,null,5,5,5,5,5,null,null,5,5,5,5,5,null,null,5,5,5,5,5,null,null,5,5,5,5,5,null,null,5,5,5,5,5,null,null,5,5,5,5,5,null,null,5,5,5,5,5,null,null,5,5,5,5,null,null,null,5,5,5,5,5,null,null,5,5,5,5,5,null,null,5,5,5,5,5,null,null,5,5,5,5,5,null,null,5,5,5,5,5,null,null,5,5,5,5,5,null,null,5,5,5,5,5,null,null,5,5,5,5,5,null,null,5,5,5,5,5,null,null,5,5,5,5,5,null,null,5,5,5,5,5,null,null,5,5,5,null,null,null,null,5,5,5,null,1]
[{"$f":"COUNTIF(K10:NL10,5)","v":366},2,"s",30,{"$f":"IF(C10=\"\",\"\",IF(D10=\"\",\"\",D10-F10))","v":30},{"$f":"IF(D10=\"\",\"\",COUNTIF(K10:NL10,\"1\"))","v":0},{"$f":"IF(C10=\"\",\"\",COUNTIF(K10:NL10,\"5\"))","v":366},{"$f":"IF(C10=\"\",\"\",COUNTIF(K10:NL10,\"2\"))","v":0},{"$f":"IF(C10=\"\",\"\",COUNTIF(K10:NL10,\"3\"))","v":0},{"$f":"IF(C10=\"\",\"\",COUNTIF(K10:NL10,\"4\"))","v":0},5,5,5,5,5,5,5,5,5,5,5,5,5,5,5,5,5,5,5,5,5,5,5,5,5,5,5,5,5,5,5,5,5,5,5,5,5,5,5,5,5,5,5,5,5,5,5,5,5,5,5,5,5,5,5,5,5,5,5,5,5,5,5,5,5,5,5,5,5,5,5,5,5,5,5,5,5,5,5,5,5,5,5,5,5,5,5,5,5,5,5,5,5,5,5,5,5,5,5,5,5,5,5,5,5,5,5,5,5,5,5,5,5,5,5,5,5,5,5,5,5,5,5,5,5,5,5,5,5,5,5,5,5,5,5,5,5,5,5,5,5,5,5,5,5,5,5,5,5,5,5,5,5,5,5,5,5,5,5,5,5,5,5,5,5,5,5,5,5,5,5,5,5,5,5,5,5,5,5,5,5,5,5,5,5,5,5,5,5,5,5,5,5,5,5,5,5,5,5,5,5,5,5,5,5,5,5,5,5,5,5,5,5,5,5,5,5,5,5,5,5,5,5,5,5,5,5,5,5,5,5,5,5,5,5,5,5,5,5,5,5,5,5,5,5,5,5,5,5,5,5,5,5,5,5,5,5,5,5,5,5,5,5,5,5,5,5,5,5,5,5,5,5,5,5,5,5,5,5,5,5,5,5,5,5,5,5,5,5,5,5,5,5,5,5,5,5,5,5,5,5,5,5,5,5,5,5,5,5,5,5,5,5,5,5,5,5,5,5,5,5,5,5,5,5,5,5,5,5,5,5,5,5,5,5,5,5,5,5,5,5,5,5,5,5,5,5,5,5,5,5,5,5,5,5,5,5,5,5,5,5,5,5,5,5,5,null,1]
[0,3,null,null,{"$f":"IF(C11=\"\",\"\",IF(D11=\"\",\"\",D11-F11))","v":""},{"$f":"IF(D11=\"\",\"\",COUNTIF(K11:NL11,\"1\"))","v":""},{"$f":"IF(C11=\"\",\"\",COUNTIF(K11:NL11,\"5\"))","v":""},{"$f":"IF(C11=\"\",\"\",COUNTIF(K11:NL11,\"2\"))","v":""},{"$f":"IF(C11=\"\",\"\",COUNTIF(K11:NL11,\"3\"))","v":""},{"$f":"IF(C11=\"\",\"\",COUNTIF(K11:NL11,\"4\"))","v":""}]
[0,4,null,null,{"$f":"IF(C12=\"\",\"\",IF(D12=\"\",\"\",D12-F12))","v":""},{"$f":"IF(D12=\"\",\"\",COUNTIF(K12:NL12,\"1\"))","v":""},{"$f":"IF(C12=\"\",\"\",COUNTIF(K12:NL12,\"5\"))","v":""},{"$f":"IF(C12=\"\",\"\",COUNTIF(K12:NL12,\"2\"))","v":""},{"$f":"IF(C12=\"\",\"\",COUNTIF(K12:NL12,\"3\"))","v":""},{"$f":"IF(C12=\"\",\"\",COUNTIF(K12:NL12,\"4\"))","v":""}]
[0,5,null,null,{"$f":"IF(C13=\"\",\"\",IF(D13=\"\",\"\",D13-F13))","v":""},{"$f":"IF(D13=\"\",\"\",COUNTIF(K13:NL13,\"1\"))","v":""},{"$f":"IF(C13=\"\",\"\",COUNTIF(K13:NL13,\"5\"))","v":""},{"$f":"IF(C13=\"\",\"\",COUNTIF(K13:NL13,\"2\"))","v":""},{"$f":"IF(C13=\"\",\"\",COUNTIF(K13:NL13,\"3\"))","v":""},{"$f":"IF(C13=\"\",\"\",COUNTIF(K13:NL13,\"4\"))","v":""}]
[0,6,null,null,{"$f":"IF(C14=\"\",\"\",IF(D14=\"\",\"\",D14-F14))","v":""},{"$f":"IF(D14=\"\",\"\",COUNTIF(K14:NL14,\"1\"))","v":""},{"$f":"IF(C14=\"\",\"\",COUNTIF(K14:NL14,\"5\"))","v":""},{"$f":"IF(C14=\"\",\"\",COUNTIF(K14:NL14,\"2\"))","v":""},{"$f":"IF(C14=\"\",\"\",COUNTIF(K14:NL14,\"3\"))","v":""},{"$f":"IF(C14=\"\",\"\",COUNTIF(K14:NL14,\"4\"))","v":""},null,null,null,null,null,null,null,null,null,null,null,null,null,null,null,null,null,null,null,null,null,null,null,null,null,null,null,null,null,null,null,null,null,null,null,null,null,null,null,null,null,null,null,null,null,null,null,null,null,null,null,null,null,null,null,null,null,null,null,null,null,null,null,null,null,null,null,null,null,null,null,null,null,null,null,null,null,null,null,null,null,null,null,null,null,null,null,null,null,null,null,null,null,null,null,null,null,null,null,null,null,null,null,null,null,null,null,null,null,null,null,null,null,null,null,null,null,null,null,null,null,null,null,null,null,null,null,null,null,null,null,null,null,null,null,null,null,null,null,null,null,null,null,null,null,null,null,null,null,null,null,null,null,null,null,null,null,null,null,null,null,null,null,null,null,null,null,null,null,null,null,null,null,null,null,null,null,null,null,null,null,null,null,null,null,null,null,null,null,null,null,null,null,null,null,null,null,null,null,null,null,null,null,null,null,null,null,null,null,null,null,null,null,null,null,null,null,null,null,null,null,null,null,null,null,null,null,null,null,null,null,null,null,null,null,null,null,null,null,null,null,null,null,null,null,null,null,null,null,null,null,null,null,null,null,null,null,null,null,null,null,null,null,null,null,null,null,null,null,null,null,null,null,null,null,null,null,null,null,null,null,null,null,null,null,null,null,null,null,null,null,null,null,null,null,null,null,null,null,null,null,null,null,null,null,null,null,null,null,null,null,null,null,null,null,null,null,null,null,null,null,null,null,null,null,null,null,null,null,null,null,null,null,null,null,null,null,null,null,null,null,null,null,null,null,null,null,null,null,null,null,null,null,null,null,null,null,null,null,null,null,null,null,null,null,null,null,null,null,"PDF von ... bis..."]
[0,7,null,null,{"$f":"IF(C15=\"\",\"\",IF(D15=\"\",\"\",D15-F15))","v":""},{"$f":"IF(D15=\"\",\"\",COUNTIF(K15:NL15,\"1\"))","v":""},{"$f":"IF(C15=\"\",\"\",COUNTIF(K15:NL15,\"5\"))","v":""},{"$f":"IF(C15=\"\",\"\",COUNTIF(K15:NL15,\"2\"))","v":""},{"$f":"IF(C15=\"\",\"\",COUNTIF(K15:NL15,\"3\"))","v":""},{"$f":"IF(C15=\"\",\"\",COUNTIF(K15:NL15,\"4\"))","v":""},null,null,null,null,null,null,null,null,null,null,null,null,null,null,null,null,null,null,null,null,null,null,null,null,null,null,null,null,null,null,null,null,null,null,null,null,null,null,null,null,null,null,null,null,null,null,null,null,null,null,null,null,null,null,null,null,null,null,null,null,null,null,null,null,null,null,null,null,null,null,null,null,null,null,null,null,null,null,null,null,null,null,null,null,null,null,null,null,null,null,null,null,null,null,null,null,null,null,null,null,null,null,null,null,null,null,null,null,null,null,null,null,null,null,null,null,null,null,null,null,null,null,null,null,null,null,null,null,null,null,null,null,null,null,null,null,null,null,null,null,null,null,null,null,null,null,null,null,null,null,null,null,null,null,null,null,null,null,null,null,null,null,null,null,null,null,null,null,null,null,null,null,null,null,null,null,null,null,null,null,null,null,null,null,null,null,null,null,null,null,null,null,null,null,null,null,null,null,null,null,null,null,null,null,null,null,null,null,null,null,null,null,null,null,null,null,null,null,null,null,null,null,null,null,null,null,null,null,null,null,null,null,null,null,null,null,null,null,null,null,null,null,null,null,null,null,null,null,null,null,null,null,null,null,null,null,null,null,null,null,null,null,null,null,null,null,null,null,null,null,null,null,null,null,null,null,null,null,null,null,null,null,null,null,null,null,null,null,null,null,null,null,null,null,null,null,null,null,null,null,null,null,null,null,null,null,null,null,null,null,null,null,null,null,null,null,null,null,null,null,null,null,null,null,null,null,null,null,null,null,null,null,null,null,null,null,null,null,null,null,null,null,null,null,null,null,null,null,null,null,null,null,null,null,null,null,null,null,null,null,null,null,null,null,null,null,null,null,null,"iu","jx"]
[0,8,null,null,{"$f":"IF(C16=\"\",\"\",IF(D16=\"\",\"\",D16-F16))","v":""},{"$f":"IF(D16=\"\",\"\",COUNTIF(K16:NL16,\"1\"))","v":""},{"$f":"IF(C16=\"\",\"\",COUNTIF(K16:NL16,\"5\"))","v":""},{"$f":"IF(C16=\"\",\"\",COUNTIF(K16:NL16,\"2\"))","v":""},{"$f":"IF(C16=\"\",\"\",COUNTIF(K16:NL16,\"3\"))","v":""},{"$f":"IF(C16=\"\",\"\",COUNTIF(K16:NL16,\"4\"))","v":""}]
[0,9,null,null,{"$f":"IF(C17=\"\",\"\",IF(D17=\"\",\"\",D17-F17))","v":""},{"$f":"IF(D17=\"\",\"\",COUNTIF(K17:NL17,\"1\"))","v":""},{"$f":"IF(C17=\"\",\"\",COUNTIF(K17:NL17,\"5\"))","v":""},{"$f":"IF(C17=\"\",\"\",COUNTIF(K17:NL17,\"2\"))","v":""},{"$f":"IF(C17=\"\",\"\",COUNTIF(K17:NL17,\"3\"))","v":""},{"$f":"IF(C17=\"\",\"\",COUNTIF(K17:NL17,\"4\"))","v":""}]
[0,10,null,null,{"$f":"IF(C18=\"\",\"\",IF(D18=\"\",\"\",D18-F18))","v":""},{"$f":"IF(D18=\"\",\"\",COUNTIF(K18:NL18,\"1\"))","v":""},{"$f":"IF(C18=\"\",\"\",COUNTIF(K18:NL18,\"5\"))","v":""},{"$f":"IF(C18=\"\",\"\",COUNTIF(K18:NL18,\"2\"))","v":""},{"$f":"IF(C18=\"\",\"\",COUNTIF(K18:NL18,\"3\"))","v":""},{"$f":"IF(C18=\"\",\"\",COUNTIF(K18:NL18,\"4\"))","v":""},null,null,null,null,null,null,null,null,null,null,null,null,null,null,null,null,null,null,null,null,null,null,null,null,null,null,null,null,null,null,null,null,null,null,null,null,null,null,null,null,null,null,null,null,null,null,null,null,null,null,null,null,null,null,null,null,null,null,null,null,null,null,null,null,null,null,null,null,null,null,null,null,null,null,null,null,null,null,null,null,null,null,null,null,null,null,null,null,null,null,null,null,null,null,null,null,null,null,null,null,null,null,null,null,null,null,null,null,null,null,null,null,null,null,null,null,null,null,null,null,null,null,null,null,null,null,null,null,null,null,null,null,null,null,null,null,null,null,null,null,null,null,null,null,null,null,null,null,null,null,null,null,null,null,null,null,null,null,null,null,null,null,null,null,null,null,null,null,null,null,null,null,null,null,null,null,null,null,null,null,null,null,null,null,null,null,null,null,null,null,null,null,null,null,null,null,null,null,null,null,null,null,null,null,null,null,null,null,null,null,null,null,null,null,null,null,null,null,null,null,null,null,null,null,null,null,null,null,null,null,null,null,null,null,null,null,null,null,null,null,null,null,null,null,null,null,null,null,null,null,null,null,null,null,null,null,null,null,null,null,null,null,null,null,null,null,null,null,null,null,null,null,null,null,null,null,null,null,null,null,null,null,null,null,null,null,null,null,null,null,null,null,null,null,null,null,null,null,null,null,null,null,null,null,null,null,null,null,null,null,null,null,null,null,null,null,null,null,null,null,null,null,null,null,null,null,null,null,null,null,null,null,null,null,null,null,null,null,null,null,null,null,null,null,null,null,null,null,null,null,null,null,null,null,null,null,null,null,null,null,null,null,null,null,null,null,null,null,null,2,28]
[0,11,null,null,{"$f":"IF(C19=\"\",\"\",IF(D19=\"\",\"\",D19-F19))","v":""},{"$f":"IF(D19=\"\",\"\",COUNTIF(K19:NL19,\"1\"))","v":""},{"$f":"IF(C19=\"\",\"\",COUNTIF(K19:NL19,\"5\"))","v":""},{"$f":"IF(C19=\"\",\"\",COUNTIF(K19:NL19,\"2\"))","v":""},{"$f":"IF(C19=\"\",\"\",COUNTIF(K19:NL19,\"3\"))","v":""},{"$f":"IF(C19=\"\",\"\",COUNTIF(K19:NL19,\"4\"))","v":""},null,null,null,null,null,null,null,null,null,null,null,null,null,null,null,null,null,null,null,null,null,null,null,null,null,null,null,null,null,null,null,null,null,null,null,null,null,null,null,null,null,null,null,null,null,null,null,null,null,null,null,null,null,null,null,null,null,null,null,null,null,null,null,null,null,null,null,null,null,null,null,null,null,null,null,null,null,null,null,null,null,null,null,null,null,null,null,null,null,null,null,null,null,null,null,null,null,null,null,null,null,null,null,null,null,null,null,null,null,null,null,null,null,null,null,null,null,null,null,null,null,null,null,null,null,null,null,null,null,null,null,null,null,null,null,null,null,null,null,null,null,null,null,null,null,null,null,null,null,null,null,null,null,null,null,null,null,null,null,null,null,null,null,null,null,null,null,null,null,null,null,null,null,null,null,null,null,null,null,null,null,null,null,null,null,null,null,null,null,null,null,null,null,null,null,null,null,null,null,null,null,null,null,null,null,null,null,null,null,null,null,null,null,null,null,null,null,null,null,null,null,null,null,null,null,null,null,null,null,null,null,null,null,null,null,null,null,null,null,null,null,null,null,null,null,null,null,null,null,null,null,null,null,null,null,null,null,null,null,null,null,null,null,null,null,null,null,null,null,null,null,null,null,null,null,null,null,null,null,null,null,null,null,null,null,null,null,null,null,null,null,null,null,null,null,null,null,null,null,null,null,null,null,null,null,null,null,null,null,null,null,null,null,null,null,null,null,null,null,null,null,null,null,null,null,null,null,null,null,null,null,null,null,null,null,null,null,null,null,null,null,null,null,null,null,null,null,null,null,null,null,null,null,null,null,null,null,null,null,null,null,null,null,null,null,null,null,null,null,{"$f":"NP15&NP18","v":"iu2"},{"$f":"NQ15&NQ18","v":"jx28"}]
[0,12,null,null,{"$f":"IF(C20=\"\",\"\",IF(D20=\"\",\"\",D20-F20))","v":""},{"$f":"IF(D20=\"\",\"\",COUNTIF(K20:NL20,\"1\"))","v":""},{"$f":"IF(C20=\"\",\"\",COUNTIF(K20:NL20,\"5\"))","v":""},{"$f":"IF(C20=\"\",\"\",COUNTIF(K20:NL20,\"2\"))","v":""},{"$f":"IF(C20=\"\",\"\",COUNTIF(K20:NL20,\"3\"))","v":""},{"$f":"IF(C20=\"\",\"\",COUNTIF(K20:NL20,\"4\"))","v":""}]
[0,13,null,null,{"$f":"IF(C21=\"\",\"\",IF(D21=\"\",\"\",D21-F21))","v":""},{"$f":"IF(D21=\"\",\"\",COUNTIF(K21:NL21,\"1\"))","v":""},{"$f":"IF(C21=\"\",\"\",COUNTIF(K21:NL21,\"5\"))","v":""},{"$f":"IF(C21=\"\",\"\",COUNTIF(K21:NL21,\"2\"))","v":""},{"$f":"IF(C21=\"\",\"\",COUNTIF(K21:NL21,\"3\"))","v":""},{"$f":"IF(C21=\"\",\"\",COUNTIF(K21:NL21,\"4\"))","v":""}]
[0,14,null,null,{"$f":"IF(C22=\"\",\"\",IF(D22=\"\",\"\",D22-F22))","v":""},{"$f":"IF(D22=\"\",\"\",COUNTIF(K22:NL22,\"1\"))","v":""},{"$f":"IF(C22=\"\",\"\",COUNTIF(K22:NL22,\"5\"))","v":""},{"$f":"IF(C22=\"\",\"\",COUNTIF(K22:NL22,\"2\"))","v":""},{"$f":"IF(C22=\"\",\"\",COUNTIF(K22:NL22,\"3\"))","v":""},{"$f":"IF(C22=\"\",\"\",COUNTIF(K22:NL22,\"4\"))","v":""}]
[0,15,null,null,{"$f":"IF(C23=\"\",\"\",IF(D23=\"\",\"\",D23-F23))","v":""},{"$f":"IF(D23=\"\",\"\",COUNTIF(K23:NL23,\"1\"))","v":""},{"$f":"IF(C23=\"\",\"\",COUNTIF(K23:NL23,\"5\"))","v":""},{"$f":"IF(C23=\"\",\"\",COUNTIF(K23:NL23,\"2\"))","v":""},{"$f":"IF(C23=\"\",\"\",COUNTIF(K23:NL23,\"3\"))","v":""},{"$f":"IF(C23=\"\",\"\",COUNTIF(K23:NL23,\"4\"))","v":""}]
[0,16,null,null,{"$f":"IF(C24=\"\",\"\",IF(D24=\"\",\"\",D24-F24))","v":""},{"$f":"IF(D24=\"\",\"\",COUNTIF(K24:NL24,\"1\"))","v":""},{"$f":"IF(C24=\"\",\"\",COUNTIF(K24:NL24,\"5\"))","v":""},{"$f":"IF(C24=\"\",\"\",COUNTIF(K24:NL24,\"2\"))","v":""},{"$f":"IF(C24=\"\",\"\",COUNTIF(K24:NL24,\"3\"))","v":""},{"$f":"IF(C24=\"\",\"\",COUNTIF(K24:NL24,\"4\"))","v":""}]
[0,17,null,null,{"$f":"IF(C25=\"\",\"\",IF(D25=\"\",\"\",D25-F25))","v":""},{"$f":"IF(D25=\"\",\"\",COUNTIF(K25:NL25,\"1\"))","v":""},{"$f":"IF(C25=\"\",\"\",COUNTIF(K25:NL25,\"5\"))","v":""},{"$f":"IF(C25=\"\",\"\",COUNTIF(K25:NL25,\"2\"))","v":""},{"$f":"IF(C25=\"\",\"\",COUNTIF(K25:NL25,\"3\"))","v":""},{"$f":"IF(C25=\"\",\"\",COUNTIF(K25:NL25,\"4\"))","v":""}]
[0,18,null,null,{"$f":"IF(C26=\"\",\"\",IF(D26=\"\",\"\",D26-F26))","v":""},{"$f":"IF(D26=\"\",\"\",COUNTIF(K26:NL26,\"1\"))","v":""},{"$f":"IF(C26=\"\",\"\",COUNTIF(K26:NL26,\"5\"))","v":""},{"$f":"IF(C26=\"\",\"\",COUNTIF(K26:NL26,\"2\"))","v":""},{"$f":"IF(C26=\"\",\"\",COUNTIF(K26:NL26,\"3\"))","v":""},{"$f":"IF(C26=\"\",\"\",COUNTIF(K26:NL26,\"4\"))","v":""}]
[0,19,null,null,{"$f":"IF(C27=\"\",\"\",IF(D27=\"\",\"\",D27-F27))","v":""},{"$f":"IF(D27=\"\",\"\",COUNTIF(K27:NL27,\"1\"))","v":""},{"$f":"IF(C27=\"\",\"\",COUNTIF(K27:NL27,\"5\"))","v":""},{"$f":"IF(C27=\"\",\"\",COUNTIF(K27:NL27,\"2\"))","v":""},{"$f":"IF(C27=\"\",\"\",COUNTIF(K27:NL27,\"3\"))","v":""},{"$f":"IF(C27=\"\",\"\",COUNTIF(K27:NL27,\"4\"))","v":""}]
[0,20,null,null,{"$f":"IF(C28=\"\",\"\",IF(D28=\"\",\"\",D28-F28))","v":""},{"$f":"IF(D28=\"\",\"\",COUNTIF(K28:NL28,\"1\"))","v":""},{"$f":"IF(C28=\"\",\"\",COUNTIF(K28:NL28,\"5\"))","v":""},{"$f":"IF(C28=\"\",\"\",COUNTIF(K28:NL28,\"2\"))","v":""},{"$f":"IF(C28=\"\",\"\",COUNTIF(K28:NL28,\"3\"))","v":""},{"$f":"IF(C28=\"\",\"\",COUNTIF(K28:NL28,\"4\"))","v":""}]
[]
[null,null,"cc"]
[null,null,null,null,null,{"$f":"IF(D31=\"\",\"\",COUNTIF(L31:NM31,\"1\"))","v":""}]
[null,null,null,null,null,""]
[null,null,null,null,null,"",null,null,null,null,null,null,null,null,null,null,null,null,null,null,null,null,null,null,null,null,null,null,null,null,null,null,null,null,null,null,null,null,null,null,null,null,null,null,null,"Januar"]
[null,null,null,null,null,"",null,null,null,null,null,null,null,null,null,null,null,null,null,null,null,null,null,null,null,null,null,null,null,null,null,null,null,null,null,null,null,"Neujahr",null,null,null,null,null,null,null,null,{"$f":"DATE($B$5,1,1)","v":"2025-01-01"}]
[null,null,null,null,null,"",null,null,null,null,null,null,null,null,null,null,null,null,null,null,null,null,null,null,null,null,null,null,null,null,null,null,null,null,null,null,null,"Tag der Arbeit",null,null,null,null,null,null,null,null,{"$f":"DATE(B5,5,1)","v":"2025-05-01"}]
[null,null,null,null,null,"",null,null,null,null,null,null,null,null,null,null,null,null,null,null,null,null,null,null,null,null,null,null,null,null,null,null,null,null,null,null,null," Himmelfahrt",null,null,null,null,null,null,null,null,{"$f":"AU41+39","v":"2025-05-29"}]
[null,null,null,null,null,"",null,null,null,null,null,null,null,null,null,null,null,null,null,null,null,null,null,null,null,null,null,null,null,null,null,null,null,null,null,null,null,"Tag der Deutschen Einheit",null,null,null,null,null,null,null,null,{"$f":"DATE(B5,10,3)","v":"2025-10-03"}]
[null,null,null,null,null,"",null,null,null,null,null,null,null,null,null,null,null,null,null,null,null,null,null,null,null,null,null,null,null,null,null,null,null,null,null,null,null,"Weihnachten",null,null,null,null,null,null,null,null,{"$f":"DATE(B5,12,25)","v":"2025-12-25"}]
[null,null,null,null,null,"",null,null,null,null,null,null,null,null,null,null,null,null,null,null,null,null,null,null,null,null,null,null,null,null,null,null,null,null,null,null,null,"2. Weihnachtstag",null,null,null,null,null,null,null,null,{"$f":"DATE(B5,12,26)","v":"2025-12-26"}]
[null,null,null,null,null,"",null,null,null,null,null,null,null,null,null,null,null,null,null,null,null,null,null,null,null,null,null,null,null,null,null,null,null,null,null,null,null,"Karfreitag",null,null,null,null,null,null,null,null,{"$f":"AU41-2","v":"2025-04-18"}]
[null,null,null,null,null,"",null,null,null,null,null,null,null,null,null,null,null,null,null,null,null,null,null,null,null,null,null,null,null,null,null,null,null,null,null,null,null,"Ostersonntag",null,null,null,null,null,null,null,null,{"$f":"7*ROUND((4&-B5)/7+MOD(19*MOD(B5,19)-7,30)*0.14,)-6","v":"2025-04-20"}]
[null,null,null,null,null,"",null,null,null,null,null,null,null,null,null,null,null,null,null,null,null,null,null,null,null,null,null,null,null,null,null,null,null,null,null,null,null,"Ostermontag",null,null,null,null,null,null,null,null,{"$f":"AU41+1","v":"2025-04-21"}]
[null,null,null,null,null,"",null,null,null,null,null,null,null,null,null,null,null,null,null,null,null,null,null,null,null,null,null,null,null,null,null,null,null,null,null,null,null,"Pfingstsonntag",null,null,null,null,null,null,null,null,{"$f":"AU41+49","v":"2025-06-08"}]
[null,null,null,null,null,"",null,null,null,null,null,null,null,null,null,null,null,null,null,null,null,null,null,null,null,null,null,null,null,null,null,null,null,null,null,null,null,"Pfingstmontag",null,null,null,null,null,null,null,null,{"$f":"AU41+50","v":"2025-06-09"}]
[null,null,null,null,null,""]
[null,null,null,null,null,""]
[null,null,null,null,null,""]
[null,null,"l",null,null,""]
[null,null,null,null,null,""]
[null,null,null,null,null,null,null,null,null,null,null,null,null,null,null,null,null,null,null,null,null,null,null,null,null,null,null,null,null,null,null,null,null,null,null,null,null,{"$f":"LEFT(CELL(\"dateiname\"),SEARCH(\"[\",CELL(\"dateiname\"))-2)","v":"/Users/onhhollander/Desktop"}]
[null,null,null,null,null,null,null,null,null,null,null,null,null,null,null,null,null,null,null,null,null,null,null,null,null,null,null,null,null,null,null,null,null,null,null,null,null,{"$f":"B2&\" \"&B5&\" \"&NP15&\"\"&AL53&\"\"&NQ15","v":"Übungs Datei 2025 iu-jx"}]
[null,null,null,null,null,null,null,null,null,null,null,null,null,null,null,null,null,null,null,null,null,null,null,null,null,null,null,null,null,null,null,null,null,null,null,null,null,"PDF"]
[null,null,null,null,null,null,null,null,null,null,null,null,null,null,null,null,null,null,null,null,null,null,null,null,null,null,null,null,null,null,null,null,null,null,null,null,null,"-"]