{"text_format":"1","workbook":"xlsx","n_sheets":3,"sheets":["RUNDE 2","RUNDE 1","TABELLE"],"not_rendered":{"charts":0,"images":0,"macros":1,"external_links":0,"defined_names":1,"comments":0,"pivot_tables":0},"unopened":[],"bounds":{"document_bytes":16777216,"sheet_cells":100000,"rows_first":2000,"rows_last":500,"rows_between":2000,"halvings":0,"cell_chars":16384,"cell_head_chars":4096},"cells_cut":0,"cells_raw":0,"read":"whole","date_system":"1900"}

{"sheet":"RUNDE 2","index":0,"n_rows":15,"n_cols":32,"rows_kept":15,"cut":false,"hidden":false,"merged":[[0,1,0,23],[4,11,4,13],[4,24,4,25],[4,27,4,29],[6,1,6,11],[12,1,12,11]]}
[null,{"$f":"\">\"&REPT(\"~\",6)&\"Bereits gezogene Ziffern/Zahlen in \"&AF5&REPT(\"~\",6)&\"<\"","v":">~~~~~~Bereits gezogene Ziffern/Zahlen in RUNDE 2~~~~~~<"}]
[null,{"$f":"IF(C2>0,\" bislang gezogen: \",\"\")","v":" bislang gezogen: "},"__",{"$f":"IF(C2>9,\",\",\"., \")","v":","},"__",{"$f":"IF(E2>9,\",\",\"., \")","v":","},"__",{"$f":"IF(G2>9,\",\",\"., \")","v":","},"__",{"$f":"IF(I2>9,\",\",\"., \")","v":","},"__",{"$f":"IF(K2>9,\",\",\"., \")","v":","},"__",{"$f":"IF(M2>9,\",\",\"., \")","v":","},"__",{"$f":"IF(O2>9,\",\",\"., \")","v":","},"__",{"$f":"IF(Q2>9,\",\",\"., \")","v":","},"__",{"$f":"IF(S2>9,\",\",\"., \")","v":","},"__",{"$f":"IF(U2>9,\",\",\"., \")","v":","},"__",{"$f":"IF(W2>9,\",\",\"., \")","v":","}]
[null,{"$f":"IF(C3>0,\"__und__ bislang gezogen: \",\"\")","v":"__und__ bislang gezogen: "},"__",",","__",",","__",{"$f":"IF(G3>9,\",\",\"., \")","v":","},"__",{"$f":"IF(I3>9,\",\",\"., \")","v":","},"__",{"$f":"IF(K3>9,\",\",\"., \")","v":","},"__",{"$f":"IF(M3>9,\",\",\"., \")","v":","},"__",{"$f":"IF(O3>9,\",\",\"., \")","v":","},"__",{"$f":"IF(Q3>9,\",\",\"., \")","v":","},"__",{"$f":"IF(S3>9,\",\",\"., \")","v":","},"__",{"$f":"IF(U3>9,\",\",\"., \")","v":","},"__",{"$f":"IF(W3>9,\",\",\"., \")","v":","}]
[null,{"$f":"IF(C4>0,\"__und__ bislang gezogen: \",\"\")","v":"__und__ bislang gezogen: "},"__",",","__",",","__",{"$f":"IF(G4>9,\",\",\"., \")","v":","},"__",{"$f":"IF(I4>9,\",\",\"., \")","v":","},"__",{"$f":"IF(K4>9,\",\",\"., \")","v":","},"__",{"$f":"IF(M4>9,\",\",\"., \")","v":","},"__",{"$f":"IF(O4>9,\",\",\"., \")","v":","},"__",{"$f":"IF(Q4>9,\",\",\"., \")","v":","},"__",{"$f":"IF(S4>9,\",\",\"., \")","v":","},"__",{"$f":"IF(U4>9,\",\",\"., \")","v":","},"__",{"$f":"IF(W4>9,\",\",\"., \")","v":","}]
[".",">~~~~~~~~~~~~~~~~~~~~~~~~~~~~~~~~~~~~~~~~~~~~~~<","_______________________",null,null,null,null,".",null,"Bitte die ",null,{"$f":"RANDBETWEEN(1,50)","v":10},null,null,"ankreuzen",null,null,null,".","_________________",null,null,null,null,"֎",null,null,{"$f":"RANDBETWEEN(1,50)","v":2},null,null,null,{"$f":"RIGHT(CELL(\"dateiname\",A1),LEN(CELL(\"dateiname\",A1))-FIND(\"]\",CELL(\"dateiname\",A1)))","v":"RUNDE 2"}]
[]
[null,{"$f":"REPT(\"~\",47)&\"+\"&REPT(\"_\",8)&TABELLE!D9&REPT(\"_\",33-LEN(TABELLE!D9))&\"Bingo 50\"&REPT(\"_\",5)","v":"~~~~~~~~~~~~~~~~~~~~~~~~~~~~~~~~~~~~~~~~~~~~~~~+________ANDREA___________________________Bingo 50_____"}]
[null,{"$f":"IF(C8<10,REPT(\"_\",13),REPT(\"_\",12))","v":"____________"},{"$f":"IF(OR($C$2=22,$E$2=22,$G$2=22,$I$2=22,$K$2=22,$M$2=22,$O$2=22,$Q$2=22,$S$2=22,$U$2=22,$W$2=22,$C$3=22,$E$3=22,$G$3=22,$I$3=22,$K$3=22,$M$3=22,$O$3=22,$Q$3=22,$S$3=22,$U$3=22,$W$3=22,$C$4=22,$E$4=22,$G$4=22,$I$4=22,$K$4=22,$M$4=22,$O$4=22,$Q$4=22,$S$4=22,$U$4=22,$W$4=22),$Y$5,22)","v":22},{"$f":"IF(E8<10,REPT(\"_\",5),REPT(\"_\",4))","v":"____"},{"$f":"IF(OR($C$2=13,$E$2=13,$G$2=13,$I$2=13,$K$2=13,$M$2=13,$O$2=13,$Q$2=13,$S$2=13,$U$2=13,$W$2=13,$C$3=13,$E$3=13,$G$3=13,$I$3=13,$K$3=13,$M$3=13,$O$3=13,$Q$3=13,$S$3=13,$U$3=13,$W$3=13,$C$4=13,$E$4=13,$G$4=13,$I$4=13,$K$4=13,$M$4=13,$O$4=13,$Q$4=13,$S$4=13,$U$4=13,$W$4=13),$Y$5,13)","v":13},{"$f":"IF(G8<10,REPT(\"_\",5),REPT(\"_\",4))","v":"_____"},{"$f":"IF(OR($C$2=3,$E$2=3,$G$2=3,$I$2=3,$K$2=3,$M$2=3,$O$2=3,$Q$2=3,$S$2=3,$U$2=3,$W$2=3,$C$3=3,$E$3=3,$G$3=3,$I$3=3,$K$3=3,$M$3=3,$O$3=3,$Q$3=3,$S$3=3,$U$3=3,$W$3=3,$C$4=3,$E$4=3,$G$4=3,$I$4=3,$K$4=3,$M$4=3,$O$4=3,$Q$4=3,$S$4=3,$U$4=3,$W$4=3),$Y$5,3)","v":3},{"$f":"IF(I8<10,REPT(\"_\",5),REPT(\"_\",4))","v":"_____"},{"$f":"IF(OR($C$2=4,$E$2=4,$G$2=4,$I$2=4,$K$2=4,$M$2=4,$O$2=4,$Q$2=4,$S$2=4,$U$2=4,$W$2=4,$C$3=4,$E$3=4,$G$3=4,$I$3=4,$K$3=4,$M$3=4,$O$3=4,$Q$3=4,$S$3=4,$U$3=4,$W$3=4,$C$4=4,$E$4=4,$G$4=4,$I$4=4,$K$4=4,$M$4=4,$O$4=4,$Q$4=4,$S$4=4,$U$4=4,$W$4=4),$Y$5,4)","v":4},{"$f":"IF(K8<10,REPT(\"_\",5),REPT(\"_\",4))","v":"_____"},{"$f":"IF(OR($C$2=1,$E$2=1,$G$2=1,$I$2=1,$K$2=1,$M$2=1,$O$2=1,$Q$2=1,$S$2=1,$U$2=1,$W$2=1,$C$3=1,$E$3=1,$G$3=1,$I$3=1,$K$3=1,$M$3=1,$O$3=1,$Q$3=1,$S$3=1,$U$3=1,$W$3=1,$C$4=1,$E$4=1,$G$4=1,$I$4=1,$K$4=1,$M$4=1,$O$4=1,$Q$4=1,$S$4=1,$U$4=1,$W$4=1),$Y$5,1)","v":1},"__________"]
[null,{"$f":"IF(C9<10,REPT(\"_\",13),REPT(\"_\",12))","v":"____________"},{"$f":"IF(OR($C$2=37,$E$2=37,$G$2=37,$I$2=37,$K$2=37,$M$2=37,$O$2=37,$Q$2=37,$S$2=37,$U$2=37,$W$2=37,$C$3=37,$E$3=37,$G$3=37,$I$3=37,$K$3=37,$M$3=37,$O$3=37,$Q$3=37,$S$3=37,$U$3=37,$W$3=37,$C$4=37,$E$4=37,$G$4=37,$I$4=37,$K$4=37,$M$4=37,$O$4=37,$Q$4=37,$S$4=37,$U$4=37,$W$4=37),$Y$5,37)","v":37},{"$f":"IF(E9<10,REPT(\"_\",5),REPT(\"_\",4))","v":"____"},{"$f":"IF(OR($C$2=20,$E$2=20,$G$2=20,$I$2=20,$K$2=20,$M$2=20,$O$2=20,$Q$2=20,$S$2=20,$U$2=20,$W$2=20,$C$3=20,$E$3=20,$G$3=20,$I$3=20,$K$3=20,$M$3=20,$O$3=20,$Q$3=20,$S$3=20,$U$3=20,$W$3=20,$C$4=20,$E$4=20,$G$4=20,$I$4=20,$K$4=20,$M$4=20,$O$4=20,$Q$4=20,$S$4=20,$U$4=20,$W$4=20),$Y$5,20)","v":20},{"$f":"IF(G9<10,REPT(\"_\",5),REPT(\"_\",4))","v":"____"},{"$f":"IF(OR($C$2=25,$E$2=25,$G$2=25,$I$2=25,$K$2=25,$M$2=25,$O$2=25,$Q$2=25,$S$2=25,$U$2=25,$W$2=25,$C$3=25,$E$3=25,$G$3=25,$I$3=25,$K$3=25,$M$3=25,$O$3=25,$Q$3=25,$S$3=25,$U$3=25,$W$3=25,$C$4=25,$E$4=25,$G$4=25,$I$4=25,$K$4=25,$M$4=25,$O$4=25,$Q$4=25,$S$4=25,$U$4=25,$W$4=25),$Y$5,25)","v":25},{"$f":"IF(I9<10,REPT(\"_\",5),REPT(\"_\",4))","v":"____"},{"$f":"IF(OR($C$2=39,$E$2=39,$G$2=39,$I$2=39,$K$2=39,$M$2=39,$O$2=39,$Q$2=39,$S$2=39,$U$2=39,$W$2=39,$C$3=39,$E$3=39,$G$3=39,$I$3=39,$K$3=39,$M$3=39,$O$3=39,$Q$3=39,$S$3=39,$U$3=39,$W$3=39,$C$4=39,$E$4=39,$G$4=39,$I$4=39,$K$4=39,$M$4=39,$O$4=39,$Q$4=39,$S$4=39,$U$4=39,$W$4=39),$Y$5,39)","v":39},{"$f":"IF(K9<10,REPT(\"_\",5),REPT(\"_\",4))","v":"____"},{"$f":"IF(OR($C$2=12,$E$2=12,$G$2=12,$I$2=12,$K$2=12,$M$2=12,$O$2=12,$Q$2=12,$S$2=12,$U$2=12,$W$2=12,$C$3=12,$E$3=12,$G$3=12,$I$3=12,$K$3=12,$M$3=12,$O$3=12,$Q$3=12,$S$3=12,$U$3=12,$W$3=12,$C$4=12,$E$4=12,$G$4=12,$I$4=12,$K$4=12,$M$4=12,$O$4=12,$Q$4=12,$S$4=12,$U$4=12,$W$4=12),$Y$5,12)","v":12},"__________"]
[null,{"$f":"IF(C10<10,REPT(\"_\",13),REPT(\"_\",12))","v":"____________"},{"$f":"IF(OR($C$2=48,$E$2=48,$G$2=48,$I$2=48,$K$2=48,$M$2=48,$O$2=48,$Q$2=48,$S$2=48,$U$2=48,$W$2=48,$C$3=48,$E$3=48,$G$3=48,$I$3=48,$K$3=48,$M$3=48,$O$3=48,$Q$3=48,$S$3=48,$U$3=48,$W$3=48,$C$4=48,$E$4=48,$G$4=48,$I$4=48,$K$4=48,$M$4=48,$O$4=48,$Q$4=48,$S$4=48,$U$4=48,$W$4=48),$Y$5,48)","v":48},{"$f":"IF(E10<10,REPT(\"_\",5),REPT(\"_\",4))","v":"____"},{"$f":"IF(OR($C$2=31,$E$2=31,$G$2=31,$I$2=31,$K$2=31,$M$2=31,$O$2=31,$Q$2=31,$S$2=31,$U$2=31,$W$2=31,$C$3=31,$E$3=31,$G$3=31,$I$3=31,$K$3=31,$M$3=31,$O$3=31,$Q$3=31,$S$3=31,$U$3=31,$W$3=31,$C$4=31,$E$4=31,$G$4=31,$I$4=31,$K$4=31,$M$4=31,$O$4=31,$Q$4=31,$S$4=31,$U$4=31,$W$4=31),$Y$5,31)","v":31},{"$f":"IF(G10<10,REPT(\"_\",5),REPT(\"_\",4))","v":"____"},{"$f":"IF(OR($C$2=19,$E$2=19,$G$2=19,$I$2=19,$K$2=19,$M$2=19,$O$2=19,$Q$2=19,$S$2=19,$U$2=19,$W$2=19,$C$3=19,$E$3=19,$G$3=19,$I$3=19,$K$3=19,$M$3=19,$O$3=19,$Q$3=19,$S$3=19,$U$3=19,$W$3=19,$C$4=19,$E$4=19,$G$4=19,$I$4=19,$K$4=19,$M$4=19,$O$4=19,$Q$4=19,$S$4=19,$U$4=19,$W$4=19),$Y$5,19)","v":19},{"$f":"IF(I10<10,REPT(\"_\",5),REPT(\"_\",4))","v":"____"},{"$f":"IF(OR($C$2=34,$E$2=34,$G$2=34,$I$2=34,$K$2=34,$M$2=34,$O$2=34,$Q$2=34,$S$2=34,$U$2=34,$W$2=34,$C$3=34,$E$3=34,$G$3=34,$I$3=34,$K$3=34,$M$3=34,$O$3=34,$Q$3=34,$S$3=34,$U$3=34,$W$3=34,$C$4=34,$E$4=34,$G$4=34,$I$4=34,$K$4=34,$M$4=34,$O$4=34,$Q$4=34,$S$4=34,$U$4=34,$W$4=34),$Y$5,34)","v":34},{"$f":"IF(K10<10,REPT(\"_\",5),REPT(\"_\",4))","v":"_____"},{"$f":"IF(OR($C$2=7,$E$2=7,$G$2=7,$I$2=7,$K$2=7,$M$2=7,$O$2=7,$Q$2=7,$S$2=7,$U$2=7,$W$2=7,$C$3=7,$E$3=7,$G$3=7,$I$3=7,$K$3=7,$M$3=7,$O$3=7,$Q$3=7,$S$3=7,$U$3=7,$W$3=7,$C$4=7,$E$4=7,$G$4=7,$I$4=7,$K$4=7,$M$4=7,$O$4=7,$Q$4=7,$S$4=7,$U$4=7,$W$4=7),$Y$5,7)","v":7},"__________"]
[null,{"$f":"IF(C11<10,REPT(\"_\",13),REPT(\"_\",12))","v":"____________"},{"$f":"IF(OR($C$2=41,$E$2=41,$G$2=41,$I$2=41,$K$2=41,$M$2=41,$O$2=41,$Q$2=41,$S$2=41,$U$2=41,$W$2=41,$C$3=41,$E$3=41,$G$3=41,$I$3=41,$K$3=41,$M$3=41,$O$3=41,$Q$3=41,$S$3=41,$U$3=41,$W$3=41,$C$4=41,$E$4=41,$G$4=41,$I$4=41,$K$4=41,$M$4=41,$O$4=41,$Q$4=41,$S$4=41,$U$4=41,$W$4=41),$Y$5,41)","v":41},{"$f":"IF(E11<10,REPT(\"_\",5),REPT(\"_\",4))","v":"_____"},{"$f":"IF(OR($C$2=5,$E$2=5,$G$2=5,$I$2=5,$K$2=5,$M$2=5,$O$2=5,$Q$2=5,$S$2=5,$U$2=5,$W$2=5,$C$3=5,$E$3=5,$G$3=5,$I$3=5,$K$3=5,$M$3=5,$O$3=5,$Q$3=5,$S$3=5,$U$3=5,$W$3=5,$C$4=5,$E$4=5,$G$4=5,$I$4=5,$K$4=5,$M$4=5,$O$4=5,$Q$4=5,$S$4=5,$U$4=5,$W$4=5),$Y$5,5)","v":5},{"$f":"IF(G11<10,REPT(\"_\",5),REPT(\"_\",4))","v":"____"},{"$f":"IF(OR($C$2=21,$E$2=21,$G$2=21,$I$2=21,$K$2=21,$M$2=21,$O$2=21,$Q$2=21,$S$2=21,$U$2=21,$W$2=21,$C$3=21,$E$3=21,$G$3=21,$I$3=21,$K$3=21,$M$3=21,$O$3=21,$Q$3=21,$S$3=21,$U$3=21,$W$3=21,$C$4=21,$E$4=21,$G$4=21,$I$4=21,$K$4=21,$M$4=21,$O$4=21,$Q$4=21,$S$4=21,$U$4=21,$W$4=21),$Y$5,21)","v":21},{"$f":"IF(I11<10,REPT(\"_\",5),REPT(\"_\",4))","v":"____"},{"$f":"IF(OR($C$2=46,$E$2=46,$G$2=46,$I$2=46,$K$2=46,$M$2=46,$O$2=46,$Q$2=46,$S$2=46,$U$2=46,$W$2=46,$C$3=46,$E$3=46,$G$3=46,$I$3=46,$K$3=46,$M$3=46,$O$3=46,$Q$3=46,$S$3=46,$U$3=46,$W$3=46,$C$4=46,$E$4=46,$G$4=46,$I$4=46,$K$4=46,$M$4=46,$O$4=46,$Q$4=46,$S$4=46,$U$4=46,$W$4=46),$Y$5,46)","v":46},{"$f":"IF(K11<10,REPT(\"_\",5),REPT(\"_\",4))","v":"____"},{"$f":"IF(OR($C$2=33,$E$2=33,$G$2=33,$I$2=33,$K$2=33,$M$2=33,$O$2=33,$Q$2=33,$S$2=33,$U$2=33,$W$2=33,$C$3=33,$E$3=33,$G$3=33,$I$3=33,$K$3=33,$M$3=33,$O$3=33,$Q$3=33,$S$3=33,$U$3=33,$W$3=33,$C$4=33,$E$4=33,$G$4=33,$I$4=33,$K$4=33,$M$4=33,$O$4=33,$Q$4=33,$S$4=33,$U$4=33,$W$4=33),$Y$5,33)","v":33},"__________"]
[null,{"$f":"IF(C12<10,REPT(\"_\",13),REPT(\"_\",12))","v":"____________"},{"$f":"IF(OR($C$2=47,$E$2=47,$G$2=47,$I$2=47,$K$2=47,$M$2=47,$O$2=47,$Q$2=47,$S$2=47,$U$2=47,$W$2=47,$C$3=47,$E$3=47,$G$3=47,$I$3=47,$K$3=47,$M$3=47,$O$3=47,$Q$3=47,$S$3=47,$U$3=47,$W$3=47,$C$4=47,$E$4=47,$G$4=47,$I$4=47,$K$4=47,$M$4=47,$O$4=47,$Q$4=47,$S$4=47,$U$4=47,$W$4=47),$Y$5,47)","v":47},{"$f":"IF(E12<10,REPT(\"_\",5),REPT(\"_\",4))","v":"____"},{"$f":"IF(OR($C$2=28,$E$2=28,$G$2=28,$I$2=28,$K$2=28,$M$2=28,$O$2=28,$Q$2=28,$S$2=28,$U$2=28,$W$2=28,$C$3=28,$E$3=28,$G$3=28,$I$3=28,$K$3=28,$M$3=28,$O$3=28,$Q$3=28,$S$3=28,$U$3=28,$W$3=28,$C$4=28,$E$4=28,$G$4=28,$I$4=28,$K$4=28,$M$4=28,$O$4=28,$Q$4=28,$S$4=28,$U$4=28,$W$4=28),$Y$5,28)","v":28},{"$f":"IF(G12<10,REPT(\"_\",5),REPT(\"_\",4))","v":"____"},{"$f":"IF(OR($C$2=44,$E$2=44,$G$2=44,$I$2=44,$K$2=44,$M$2=44,$O$2=44,$Q$2=44,$S$2=44,$U$2=44,$W$2=44,$C$3=44,$E$3=44,$G$3=44,$I$3=44,$K$3=44,$M$3=44,$O$3=44,$Q$3=44,$S$3=44,$U$3=44,$W$3=44,$C$4=44,$E$4=44,$G$4=44,$I$4=44,$K$4=44,$M$4=44,$O$4=44,$Q$4=44,$S$4=44,$U$4=44,$W$4=44),$Y$5,44)","v":44},{"$f":"IF(I12<10,REPT(\"_\",5),REPT(\"_\",4))","v":"_____"},{"$f":"IF(OR($C$2=9,$E$2=9,$G$2=9,$I$2=9,$K$2=9,$M$2=9,$O$2=9,$Q$2=9,$S$2=9,$U$2=9,$W$2=9,$C$3=9,$E$3=9,$G$3=9,$I$3=9,$K$3=9,$M$3=9,$O$3=9,$Q$3=9,$S$3=9,$U$3=9,$W$3=9,$C$4=9,$E$4=9,$G$4=9,$I$4=9,$K$4=9,$M$4=9,$O$4=9,$Q$4=9,$S$4=9,$U$4=9,$W$4=9),$Y$5,9)","v":9},{"$f":"IF(K12<10,REPT(\"_\",5),REPT(\"_\",4))","v":"____"},{"$f":"IF(OR($C$2=45,$E$2=45,$G$2=45,$I$2=45,$K$2=45,$M$2=45,$O$2=45,$Q$2=45,$S$2=45,$U$2=45,$W$2=45,$C$3=45,$E$3=45,$G$3=45,$I$3=45,$K$3=45,$M$3=45,$O$3=45,$Q$3=45,$S$3=45,$U$3=45,$W$3=45,$C$4=45,$E$4=45,$G$4=45,$I$4=45,$K$4=45,$M$4=45,$O$4=45,$Q$4=45,$S$4=45,$U$4=45,$W$4=45),$Y$5,45)","v":45},"__________"]
[null,{"$f":"REPT(\"_\",25)&TABELLE!D9&REPT(\"_\",28-LEN(TABELLE!D9))","v":"_________________________ANDREA______________________"}]
[null,{"$f":"COUNTIF(C8:K8,\"֎\")","v":0},{"$f":"COUNTIF(C9:K9,\"֎\")","v":0},{"$f":"COUNTIF(C10:K10,\"֎\")","v":0},{"$f":"COUNTIF(C11:K11,\"֎\")","v":0},{"$f":"COUNTIF(C12:K12,\"֎\")","v":0},{"$f":"COUNTIF(C8:C12,\"֎\")","v":0},{"$f":"COUNTIF(E8:E12,\"֎\")","v":0},{"$f":"COUNTIF(G8:G12,\"֎\")","v":0},{"$f":"COUNTIF(I8:I12,\"֎\")","v":0},{"$f":"COUNTIF(K8:K12,\"֎\")","v":0}]
[null,{"$f":"COUNTIFS(C8,\"֎\")+COUNTIFS(E9,\"֎\")+COUNTIFS(G10,\"֎\")+COUNTIFS(I11,\"֎\")+COUNTIFS(K12,\"֎\")","v":0},{"$f":"COUNTIFS(C12,\"֎\")+COUNTIFS(E11,\"֎\")+COUNTIFS(G10,\"֎\")+COUNTIFS(I9,\"֎\")+COUNTIFS(K8,\"֎\")","v":0},null,null,null,null,null,null,null,null,{"$f":"COUNTIF(B14:K15,5)","v":0}]

{"sheet":"RUNDE 1","index":1,"n_rows":15,"n_cols":32,"rows_kept":15,"cut":false,"hidden":false,"merged":[[0,1,0,23],[4,11,4,13],[6,1,6,11],[12,1,12,11],[4,24,4,25],[4,27,4,29]]}
[null,{"$f":"\">\"&REPT(\"~\",6)&\"Bereits gezogene Ziffern/Zahlen in \"&AF5&REPT(\"~\",6)&\"<\"","v":">~~~~~~Bereits gezogene Ziffern/Zahlen in RUNDE 1~~~~~~<"}]
[null,{"$f":"IF(C2>0,\" bislang gezogen: \",\"\")","v":" bislang gezogen: "},"__",{"$f":"IF(C2>9,\",\",\"., \")","v":","},"__",{"$f":"IF(E2>9,\",\",\"., \")","v":","},"__",{"$f":"IF(G2>9,\",\",\"., \")","v":","},"__",{"$f":"IF(I2>9,\",\",\"., \")","v":","},"__",{"$f":"IF(K2>9,\",\",\"., \")","v":","},"__",{"$f":"IF(M2>9,\",\",\"., \")","v":","},"__",{"$f":"IF(O2>9,\",\",\"., \")","v":","},"__",{"$f":"IF(Q2>9,\",\",\"., \")","v":","},"__",{"$f":"IF(S2>9,\",\",\"., \")","v":","},"__",{"$f":"IF(U2>9,\",\",\"., \")","v":","},"__",{"$f":"IF(W2>9,\",\",\"., \")","v":","}]
[null,{"$f":"IF(C3>0,\"__und__ bislang gezogen: \",\"\")","v":"__und__ bislang gezogen: "},"__",",","__",",","__",{"$f":"IF(G3>9,\",\",\"., \")","v":","},"__",{"$f":"IF(I3>9,\",\",\"., \")","v":","},"__",{"$f":"IF(K3>9,\",\",\"., \")","v":","},"__",{"$f":"IF(M3>9,\",\",\"., \")","v":","},"__",{"$f":"IF(O3>9,\",\",\"., \")","v":","},"__",{"$f":"IF(Q3>9,\",\",\"., \")","v":","},"__",{"$f":"IF(S3>9,\",\",\"., \")","v":","},"__",{"$f":"IF(U3>9,\",\",\"., \")","v":","},"__",{"$f":"IF(W3>9,\",\",\"., \")","v":","}]
[null,{"$f":"IF(C4>0,\"__und__ bislang gezogen: \",\"\")","v":"__und__ bislang gezogen: "},"__",",","__",",","__",{"$f":"IF(G4>9,\",\",\"., \")","v":","},"__",{"$f":"IF(I4>9,\",\",\"., \")","v":","},"__",{"$f":"IF(K4>9,\",\",\"., \")","v":","},"__",{"$f":"IF(M4>9,\",\",\"., \")","v":","},"__",{"$f":"IF(O4>9,\",\",\"., \")","v":","},"__",{"$f":"IF(Q4>9,\",\",\"., \")","v":","},"__",{"$f":"IF(S4>9,\",\",\"., \")","v":","},"__",{"$f":"IF(U4>9,\",\",\"., \")","v":","},"__",{"$f":"IF(W4>9,\",\",\"., \")","v":","}]
[".",">~~~~~~~~~~~~~~~~~~~~~~~~~~~~~~~~~~~~~~~~~~~~~~<","_______________________",null,null,null,null,".",null,"Bitte die ",null,{"$f":"RANDBETWEEN(1,50)","v":2},null,null,"ankreuzen",null,null,null,".","_________________",null,null,null,null,"֎",null,null,{"$f":"RANDBETWEEN(1,50)","v":27},null,null,null,{"$f":"RIGHT(CELL(\"dateiname\",A1),LEN(CELL(\"dateiname\",A1))-FIND(\"]\",CELL(\"dateiname\",A1)))","v":"RUNDE 1"}]
[]
[null,{"$f":"REPT(\"~\",47)&\"+\"&REPT(\"_\",8)&TABELLE!D9&REPT(\"_\",33-LEN(TABELLE!D9))&\"Bingo 50\"&REPT(\"_\",5)","v":"~~~~~~~~~~~~~~~~~~~~~~~~~~~~~~~~~~~~~~~~~~~~~~~+________ANDREA___________________________Bingo 50_____"}]
[null,{"$f":"IF(C8<10,REPT(\"_\",13),REPT(\"_\",12))","v":"____________"},{"$f":"IF(OR($C$2=22,$E$2=22,$G$2=22,$I$2=22,$K$2=22,$M$2=22,$O$2=22,$Q$2=22,$S$2=22,$U$2=22,$W$2=22,$C$3=22,$E$3=22,$G$3=22,$I$3=22,$K$3=22,$M$3=22,$O$3=22,$Q$3=22,$S$3=22,$U$3=22,$W$3=22,$C$4=22,$E$4=22,$G$4=22,$I$4=22,$K$4=22,$M$4=22,$O$4=22,$Q$4=22,$S$4=22,$U$4=22,$W$4=22),$Y$5,22)","v":22},{"$f":"IF(E8<10,REPT(\"_\",5),REPT(\"_\",4))","v":"____"},{"$f":"IF(OR($C$2=13,$E$2=13,$G$2=13,$I$2=13,$K$2=13,$M$2=13,$O$2=13,$Q$2=13,$S$2=13,$U$2=13,$W$2=13,$C$3=13,$E$3=13,$G$3=13,$I$3=13,$K$3=13,$M$3=13,$O$3=13,$Q$3=13,$S$3=13,$U$3=13,$W$3=13,$C$4=13,$E$4=13,$G$4=13,$I$4=13,$K$4=13,$M$4=13,$O$4=13,$Q$4=13,$S$4=13,$U$4=13,$W$4=13),$Y$5,13)","v":13},{"$f":"IF(G8<10,REPT(\"_\",5),REPT(\"_\",4))","v":"_____"},{"$f":"IF(OR($C$2=3,$E$2=3,$G$2=3,$I$2=3,$K$2=3,$M$2=3,$O$2=3,$Q$2=3,$S$2=3,$U$2=3,$W$2=3,$C$3=3,$E$3=3,$G$3=3,$I$3=3,$K$3=3,$M$3=3,$O$3=3,$Q$3=3,$S$3=3,$U$3=3,$W$3=3,$C$4=3,$E$4=3,$G$4=3,$I$4=3,$K$4=3,$M$4=3,$O$4=3,$Q$4=3,$S$4=3,$U$4=3,$W$4=3),$Y$5,3)","v":3},{"$f":"IF(I8<10,REPT(\"_\",5),REPT(\"_\",4))","v":"_____"},{"$f":"IF(OR($C$2=4,$E$2=4,$G$2=4,$I$2=4,$K$2=4,$M$2=4,$O$2=4,$Q$2=4,$S$2=4,$U$2=4,$W$2=4,$C$3=4,$E$3=4,$G$3=4,$I$3=4,$K$3=4,$M$3=4,$O$3=4,$Q$3=4,$S$3=4,$U$3=4,$W$3=4,$C$4=4,$E$4=4,$G$4=4,$I$4=4,$K$4=4,$M$4=4,$O$4=4,$Q$4=4,$S$4=4,$U$4=4,$W$4=4),$Y$5,4)","v":4},{"$f":"IF(K8<10,REPT(\"_\",5),REPT(\"_\",4))","v":"_____"},{"$f":"IF(OR($C$2=1,$E$2=1,$G$2=1,$I$2=1,$K$2=1,$M$2=1,$O$2=1,$Q$2=1,$S$2=1,$U$2=1,$W$2=1,$C$3=1,$E$3=1,$G$3=1,$I$3=1,$K$3=1,$M$3=1,$O$3=1,$Q$3=1,$S$3=1,$U$3=1,$W$3=1,$C$4=1,$E$4=1,$G$4=1,$I$4=1,$K$4=1,$M$4=1,$O$4=1,$Q$4=1,$S$4=1,$U$4=1,$W$4=1),$Y$5,1)","v":1},"__________"]
[null,{"$f":"IF(C9<10,REPT(\"_\",13),REPT(\"_\",12))","v":"____________"},{"$f":"IF(OR($C$2=37,$E$2=37,$G$2=37,$I$2=37,$K$2=37,$M$2=37,$O$2=37,$Q$2=37,$S$2=37,$U$2=37,$W$2=37,$C$3=37,$E$3=37,$G$3=37,$I$3=37,$K$3=37,$M$3=37,$O$3=37,$Q$3=37,$S$3=37,$U$3=37,$W$3=37,$C$4=37,$E$4=37,$G$4=37,$I$4=37,$K$4=37,$M$4=37,$O$4=37,$Q$4=37,$S$4=37,$U$4=37,$W$4=37),$Y$5,37)","v":37},{"$f":"IF(E9<10,REPT(\"_\",5),REPT(\"_\",4))","v":"____"},{"$f":"IF(OR($C$2=20,$E$2=20,$G$2=20,$I$2=20,$K$2=20,$M$2=20,$O$2=20,$Q$2=20,$S$2=20,$U$2=20,$W$2=20,$C$3=20,$E$3=20,$G$3=20,$I$3=20,$K$3=20,$M$3=20,$O$3=20,$Q$3=20,$S$3=20,$U$3=20,$W$3=20,$C$4=20,$E$4=20,$G$4=20,$I$4=20,$K$4=20,$M$4=20,$O$4=20,$Q$4=20,$S$4=20,$U$4=20,$W$4=20),$Y$5,20)","v":20},{"$f":"IF(G9<10,REPT(\"_\",5),REPT(\"_\",4))","v":"____"},{"$f":"IF(OR($C$2=25,$E$2=25,$G$2=25,$I$2=25,$K$2=25,$M$2=25,$O$2=25,$Q$2=25,$S$2=25,$U$2=25,$W$2=25,$C$3=25,$E$3=25,$G$3=25,$I$3=25,$K$3=25,$M$3=25,$O$3=25,$Q$3=25,$S$3=25,$U$3=25,$W$3=25,$C$4=25,$E$4=25,$G$4=25,$I$4=25,$K$4=25,$M$4=25,$O$4=25,$Q$4=25,$S$4=25,$U$4=25,$W$4=25),$Y$5,25)","v":25},{"$f":"IF(I9<10,REPT(\"_\",5),REPT(\"_\",4))","v":"____"},{"$f":"IF(OR($C$2=39,$E$2=39,$G$2=39,$I$2=39,$K$2=39,$M$2=39,$O$2=39,$Q$2=39,$S$2=39,$U$2=39,$W$2=39,$C$3=39,$E$3=39,$G$3=39,$I$3=39,$K$3=39,$M$3=39,$O$3=39,$Q$3=39,$S$3=39,$U$3=39,$W$3=39,$C$4=39,$E$4=39,$G$4=39,$I$4=39,$K$4=39,$M$4=39,$O$4=39,$Q$4=39,$S$4=39,$U$4=39,$W$4=39),$Y$5,39)","v":39},{"$f":"IF(K9<10,REPT(\"_\",5),REPT(\"_\",4))","v":"____"},{"$f":"IF(OR($C$2=12,$E$2=12,$G$2=12,$I$2=12,$K$2=12,$M$2=12,$O$2=12,$Q$2=12,$S$2=12,$U$2=12,$W$2=12,$C$3=12,$E$3=12,$G$3=12,$I$3=12,$K$3=12,$M$3=12,$O$3=12,$Q$3=12,$S$3=12,$U$3=12,$W$3=12,$C$4=12,$E$4=12,$G$4=12,$I$4=12,$K$4=12,$M$4=12,$O$4=12,$Q$4=12,$S$4=12,$U$4=12,$W$4=12),$Y$5,12)","v":12},"__________"]
[null,{"$f":"IF(C10<10,REPT(\"_\",13),REPT(\"_\",12))","v":"____________"},{"$f":"IF(OR($C$2=48,$E$2=48,$G$2=48,$I$2=48,$K$2=48,$M$2=48,$O$2=48,$Q$2=48,$S$2=48,$U$2=48,$W$2=48,$C$3=48,$E$3=48,$G$3=48,$I$3=48,$K$3=48,$M$3=48,$O$3=48,$Q$3=48,$S$3=48,$U$3=48,$W$3=48,$C$4=48,$E$4=48,$G$4=48,$I$4=48,$K$4=48,$M$4=48,$O$4=48,$Q$4=48,$S$4=48,$U$4=48,$W$4=48),$Y$5,48)","v":48},{"$f":"IF(E10<10,REPT(\"_\",5),REPT(\"_\",4))","v":"____"},{"$f":"IF(OR($C$2=31,$E$2=31,$G$2=31,$I$2=31,$K$2=31,$M$2=31,$O$2=31,$Q$2=31,$S$2=31,$U$2=31,$W$2=31,$C$3=31,$E$3=31,$G$3=31,$I$3=31,$K$3=31,$M$3=31,$O$3=31,$Q$3=31,$S$3=31,$U$3=31,$W$3=31,$C$4=31,$E$4=31,$G$4=31,$I$4=31,$K$4=31,$M$4=31,$O$4=31,$Q$4=31,$S$4=31,$U$4=31,$W$4=31),$Y$5,31)","v":31},{"$f":"IF(G10<10,REPT(\"_\",5),REPT(\"_\",4))","v":"____"},{"$f":"IF(OR($C$2=19,$E$2=19,$G$2=19,$I$2=19,$K$2=19,$M$2=19,$O$2=19,$Q$2=19,$S$2=19,$U$2=19,$W$2=19,$C$3=19,$E$3=19,$G$3=19,$I$3=19,$K$3=19,$M$3=19,$O$3=19,$Q$3=19,$S$3=19,$U$3=19,$W$3=19,$C$4=19,$E$4=19,$G$4=19,$I$4=19,$K$4=19,$M$4=19,$O$4=19,$Q$4=19,$S$4=19,$U$4=19,$W$4=19),$Y$5,19)","v":19},{"$f":"IF(I10<10,REPT(\"_\",5),REPT(\"_\",4))","v":"____"},{"$f":"IF(OR($C$2=34,$E$2=34,$G$2=34,$I$2=34,$K$2=34,$M$2=34,$O$2=34,$Q$2=34,$S$2=34,$U$2=34,$W$2=34,$C$3=34,$E$3=34,$G$3=34,$I$3=34,$K$3=34,$M$3=34,$O$3=34,$Q$3=34,$S$3=34,$U$3=34,$W$3=34,$C$4=34,$E$4=34,$G$4=34,$I$4=34,$K$4=34,$M$4=34,$O$4=34,$Q$4=34,$S$4=34,$U$4=34,$W$4=34),$Y$5,34)","v":34},{"$f":"IF(K10<10,REPT(\"_\",5),REPT(\"_\",4))","v":"_____"},{"$f":"IF(OR($C$2=7,$E$2=7,$G$2=7,$I$2=7,$K$2=7,$M$2=7,$O$2=7,$Q$2=7,$S$2=7,$U$2=7,$W$2=7,$C$3=7,$E$3=7,$G$3=7,$I$3=7,$K$3=7,$M$3=7,$O$3=7,$Q$3=7,$S$3=7,$U$3=7,$W$3=7,$C$4=7,$E$4=7,$G$4=7,$I$4=7,$K$4=7,$M$4=7,$O$4=7,$Q$4=7,$S$4=7,$U$4=7,$W$4=7),$Y$5,7)","v":7},"__________"]
[null,{"$f":"IF(C11<10,REPT(\"_\",13),REPT(\"_\",12))","v":"____________"},{"$f":"IF(OR($C$2=41,$E$2=41,$G$2=41,$I$2=41,$K$2=41,$M$2=41,$O$2=41,$Q$2=41,$S$2=41,$U$2=41,$W$2=41,$C$3=41,$E$3=41,$G$3=41,$I$3=41,$K$3=41,$M$3=41,$O$3=41,$Q$3=41,$S$3=41,$U$3=41,$W$3=41,$C$4=41,$E$4=41,$G$4=41,$I$4=41,$K$4=41,$M$4=41,$O$4=41,$Q$4=41,$S$4=41,$U$4=41,$W$4=41),$Y$5,41)","v":41},{"$f":"IF(E11<10,REPT(\"_\",5),REPT(\"_\",4))","v":"_____"},{"$f":"IF(OR($C$2=5,$E$2=5,$G$2=5,$I$2=5,$K$2=5,$M$2=5,$O$2=5,$Q$2=5,$S$2=5,$U$2=5,$W$2=5,$C$3=5,$E$3=5,$G$3=5,$I$3=5,$K$3=5,$M$3=5,$O$3=5,$Q$3=5,$S$3=5,$U$3=5,$W$3=5,$C$4=5,$E$4=5,$G$4=5,$I$4=5,$K$4=5,$M$4=5,$O$4=5,$Q$4=5,$S$4=5,$U$4=5,$W$4=5),$Y$5,5)","v":5},{"$f":"IF(G11<10,REPT(\"_\",5),REPT(\"_\",4))","v":"____"},{"$f":"IF(OR($C$2=21,$E$2=21,$G$2=21,$I$2=21,$K$2=21,$M$2=21,$O$2=21,$Q$2=21,$S$2=21,$U$2=21,$W$2=21,$C$3=21,$E$3=21,$G$3=21,$I$3=21,$K$3=21,$M$3=21,$O$3=21,$Q$3=21,$S$3=21,$U$3=21,$W$3=21,$C$4=21,$E$4=21,$G$4=21,$I$4=21,$K$4=21,$M$4=21,$O$4=21,$Q$4=21,$S$4=21,$U$4=21,$W$4=21),$Y$5,21)","v":21},{"$f":"IF(I11<10,REPT(\"_\",5),REPT(\"_\",4))","v":"____"},{"$f":"IF(OR($C$2=46,$E$2=46,$G$2=46,$I$2=46,$K$2=46,$M$2=46,$O$2=46,$Q$2=46,$S$2=46,$U$2=46,$W$2=46,$C$3=46,$E$3=46,$G$3=46,$I$3=46,$K$3=46,$M$3=46,$O$3=46,$Q$3=46,$S$3=46,$U$3=46,$W$3=46,$C$4=46,$E$4=46,$G$4=46,$I$4=46,$K$4=46,$M$4=46,$O$4=46,$Q$4=46,$S$4=46,$U$4=46,$W$4=46),$Y$5,46)","v":46},{"$f":"IF(K11<10,REPT(\"_\",5),REPT(\"_\",4))","v":"____"},{"$f":"IF(OR($C$2=33,$E$2=33,$G$2=33,$I$2=33,$K$2=33,$M$2=33,$O$2=33,$Q$2=33,$S$2=33,$U$2=33,$W$2=33,$C$3=33,$E$3=33,$G$3=33,$I$3=33,$K$3=33,$M$3=33,$O$3=33,$Q$3=33,$S$3=33,$U$3=33,$W$3=33,$C$4=33,$E$4=33,$G$4=33,$I$4=33,$K$4=33,$M$4=33,$O$4=33,$Q$4=33,$S$4=33,$U$4=33,$W$4=33),$Y$5,33)","v":33},"__________"]
[null,{"$f":"IF(C12<10,REPT(\"_\",13),REPT(\"_\",12))","v":"____________"},{"$f":"IF(OR($C$2=47,$E$2=47,$G$2=47,$I$2=47,$K$2=47,$M$2=47,$O$2=47,$Q$2=47,$S$2=47,$U$2=47,$W$2=47,$C$3=47,$E$3=47,$G$3=47,$I$3=47,$K$3=47,$M$3=47,$O$3=47,$Q$3=47,$S$3=47,$U$3=47,$W$3=47,$C$4=47,$E$4=47,$G$4=47,$I$4=47,$K$4=47,$M$4=47,$O$4=47,$Q$4=47,$S$4=47,$U$4=47,$W$4=47),$Y$5,47)","v":47},{"$f":"IF(E12<10,REPT(\"_\",5),REPT(\"_\",4))","v":"____"},{"$f":"IF(OR($C$2=28,$E$2=28,$G$2=28,$I$2=28,$K$2=28,$M$2=28,$O$2=28,$Q$2=28,$S$2=28,$U$2=28,$W$2=28,$C$3=28,$E$3=28,$G$3=28,$I$3=28,$K$3=28,$M$3=28,$O$3=28,$Q$3=28,$S$3=28,$U$3=28,$W$3=28,$C$4=28,$E$4=28,$G$4=28,$I$4=28,$K$4=28,$M$4=28,$O$4=28,$Q$4=28,$S$4=28,$U$4=28,$W$4=28),$Y$5,28)","v":28},{"$f":"IF(G12<10,REPT(\"_\",5),REPT(\"_\",4))","v":"____"},{"$f":"IF(OR($C$2=44,$E$2=44,$G$2=44,$I$2=44,$K$2=44,$M$2=44,$O$2=44,$Q$2=44,$S$2=44,$U$2=44,$W$2=44,$C$3=44,$E$3=44,$G$3=44,$I$3=44,$K$3=44,$M$3=44,$O$3=44,$Q$3=44,$S$3=44,$U$3=44,$W$3=44,$C$4=44,$E$4=44,$G$4=44,$I$4=44,$K$4=44,$M$4=44,$O$4=44,$Q$4=44,$S$4=44,$U$4=44,$W$4=44),$Y$5,44)","v":44},{"$f":"IF(I12<10,REPT(\"_\",5),REPT(\"_\",4))","v":"_____"},{"$f":"IF(OR($C$2=9,$E$2=9,$G$2=9,$I$2=9,$K$2=9,$M$2=9,$O$2=9,$Q$2=9,$S$2=9,$U$2=9,$W$2=9,$C$3=9,$E$3=9,$G$3=9,$I$3=9,$K$3=9,$M$3=9,$O$3=9,$Q$3=9,$S$3=9,$U$3=9,$W$3=9,$C$4=9,$E$4=9,$G$4=9,$I$4=9,$K$4=9,$M$4=9,$O$4=9,$Q$4=9,$S$4=9,$U$4=9,$W$4=9),$Y$5,9)","v":9},{"$f":"IF(K12<10,REPT(\"_\",5),REPT(\"_\",4))","v":"____"},{"$f":"IF(OR($C$2=45,$E$2=45,$G$2=45,$I$2=45,$K$2=45,$M$2=45,$O$2=45,$Q$2=45,$S$2=45,$U$2=45,$W$2=45,$C$3=45,$E$3=45,$G$3=45,$I$3=45,$K$3=45,$M$3=45,$O$3=45,$Q$3=45,$S$3=45,$U$3=45,$W$3=45,$C$4=45,$E$4=45,$G$4=45,$I$4=45,$K$4=45,$M$4=45,$O$4=45,$Q$4=45,$S$4=45,$U$4=45,$W$4=45),$Y$5,45)","v":45},"__________"]
[null,{"$f":"REPT(\"_\",25)&TABELLE!D9&REPT(\"_\",28-LEN(TABELLE!D9))","v":"_________________________ANDREA______________________"}]
[null,{"$f":"COUNTIF(C8:K8,\"֎\")","v":0},{"$f":"COUNTIF(C9:K9,\"֎\")","v":0},{"$f":"COUNTIF(C10:K10,\"֎\")","v":0},{"$f":"COUNTIF(C11:K11,\"֎\")","v":0},{"$f":"COUNTIF(C12:K12,\"֎\")","v":0},{"$f":"COUNTIF(C8:C12,\"֎\")","v":0},{"$f":"COUNTIF(E8:E12,\"֎\")","v":0},{"$f":"COUNTIF(G8:G12,\"֎\")","v":0},{"$f":"COUNTIF(I8:I12,\"֎\")","v":0},{"$f":"COUNTIF(K8:K12,\"֎\")","v":0}]
[null,{"$f":"COUNTIFS(C8,\"֎\")+COUNTIFS(E9,\"֎\")+COUNTIFS(G10,\"֎\")+COUNTIFS(I11,\"֎\")+COUNTIFS(K12,\"֎\")","v":0},{"$f":"COUNTIFS(C12,\"֎\")+COUNTIFS(E11,\"֎\")+COUNTIFS(G10,\"֎\")+COUNTIFS(I9,\"֎\")+COUNTIFS(K8,\"֎\")","v":0},null,null,null,null,null,null,null,null,{"$f":"COUNTIF(B14:K15,5)","v":0}]

{"sheet":"TABELLE","index":2,"n_rows":62,"n_cols":19,"rows_kept":62,"cut":false,"hidden":false,"merged":[[5,1,5,8],[5,10,5,17],[4,5,4,6]]}
[]
[]
[]
[]
[null,null,null,null,null,{"$f":"C57","v":0}]
[null,"____________________Teilnehmer_______________________",null,null,null,null,null,null,null,null,"____________________Tagessieger_______________________",null,null,null,null,null,null,null,"F"]
[]
[null,{"$f":"REPT(\"_\",18)","v":"__________________"},1,"ALEX",{"$f":"REPT(\"_\",12-LEN(D8))","v":"________"},null,null,{"$f":"REPT(\"_\",14)","v":"______________"},".",null,{"$f":"REPT(\"_\",18)","v":"__________________"},1,"ALEX",{"$f":"REPT(\"_\",12-LEN(M8))","v":"________"},".",{"$f":"IF(G8=1,'RUNDE 1'!AJ80+#REF!+#REF!+#REF!+#REF!+#REF!+#REF!+#REF!+#REF!+#REF!+#REF!+#REF!-S8,0)","v":0},{"$f":"REPT(\"_\",14)","v":"______________"},"."]
[null,"__________________",2,"ANDREA","______",null,null,"______________",".",null,"__________________",2,"ANDREA","______",".",{"$f":"IF(G9=1,'RUNDE 1'!L15+#REF!+#REF!+#REF!+#REF!+#REF!+#REF!+#REF!+#REF!+#REF!+#REF!+#REF!-S9,0)","v":0},"______________","."]
[]
[]
[]
[]
[]
[]
[]
[]
[]
[]
[]
[]
[]
[]
[]
[]
[]
[]
[]
[]
[]
[]
[]
[]
[]
[]
[]
[]
[]
[]
[]
[]
[]
[]
[]
[]
[]
[]
[]
[]
[]
[]
[]
[]
[]
[]
[]
[null,null,{"$f":"SUM(G8:G52)","v":0}]
[]
[]
[]
[]
[null,null,null,"Ich habe BINGO umprogrammiert (für Euch nicht sichtbar). Damit die Zuordnung noch stimmt, bitte ich Euch , mir eben vorab die beiden oberen linken Zahlen zu nennen"]