{"text_format":"1","workbook":"xlsx","n_sheets":23,"sheets":["Haupteingabe Monat","Hilfen","Extrablatt","01 Trupp 1","01 Trupp 2","02 Trupp 1","02 Trupp 2","03 Trupp 1","03 Trupp 2","04 Trupp 1","04 Trupp 2","05 Trupp 1","05 Trupp 2","06 Trupp 1","06 Trupp 2","07 Trupp 1","07 Trupp 2","08 Trupp 1","08 Trupp 2","09 Trupp 1","09 Trupp 2","10 Trupp 1","10 Trupp 2"],"not_rendered":{"charts":0,"images":2,"macros":1,"external_links":0,"defined_names":24,"comments":2,"pivot_tables":0},"unopened":[],"bounds":{"document_bytes":16777216,"sheet_cells":100000,"rows_first":2000,"rows_last":500,"rows_between":2000,"halvings":0,"cell_chars":16384,"cell_head_chars":4096},"cells_cut":0,"cells_raw":0,"read":"whole","date_system":"1900"}

{"sheet":"Haupteingabe Monat","index":0,"n_rows":70,"n_cols":59,"rows_kept":70,"cut":false,"hidden":false,"merged":[[1,46,1,53],[36,19,36,21],[36,22,36,29],[36,30,36,37],[36,38,36,45],[36,46,36,53],[1,22,1,29],[1,30,1,37],[1,19,1,21],[1,38,1,45],[18,1,18,6],[19,1,19,6],[0,22,0,29],[37,16,37,17],[10,1,10,6],[11,1,11,6],[2,16,2,17],[20,1,20,6],[13,1,13,6],[14,1,14,6],[15,1,15,6],[16,1,16,6],[17,1,17,6],[3,1,3,6],[4,1,4,6],[5,1,5,6],[2,1,2,6],[12,1,12,6],[6,1,6,6],[7,1,7,6],[8,1,8,6],[9,1,9,6],[32,1,32,6],[33,1,33,6],[21,1,21,6],[22,1,22,6],[23,1,23,6],[24,1,24,6],[25,1,25,6],[27,1,27,6],[28,1,28,6],[29,1,29,6],[30,1,30,6],[31,1,31,6],[26,1,26,6],[37,1,37,6],[38,1,38,6],[39,1,39,6],[40,1,40,6],[41,1,41,6],[42,1,42,6],[43,1,43,6],[44,1,44,6],[45,1,45,6],[46,1,46,6],[47,1,47,6],[48,1,48,6],[49,1,49,6],[50,1,50,6],[51,1,51,6],[52,1,52,6],[53,1,53,6],[54,1,54,6],[55,1,55,6],[56,1,56,6],[62,1,62,6],[57,1,57,6],[58,1,58,6],[59,1,59,6],[66,1,66,6],[60,1,60,6],[61,1,61,6],[67,1,67,6],[68,1,68,6],[63,1,63,6],[64,1,64,6],[65,1,65,6]]}
[null,null,null,null,null,null,null,"2025-07-01",null,2025,null,null,null,null,null,null,null,null,null,null,null,null,"Wenn Arbeitszeit 7:00 - 13:00, Pausenzeit 00:00 - 00:00 eintragen!!!"]
[null,null,null,null,null,null,null,null,null,null,null,null,null,null,null,null,null,null,null,"Zusammen gearbeitet",null,null,"Mitarbeiter 1",null,null,null,null,null,null,null,"Mitarbeiter 2",null,null,null,null,null,null,null,"Mitarbeiter 3",null,null,null,null,null,null,null,"Mitarbeiter 4"]
["Tag","Baustelle",null,null,null,null,null,"Auftragsname","Auftragstyp","Auftragsverantwortlicher","SAP Vorgang","FAT/AAA","Auftragsnummer","Kurznummer","Beschreibung der Tagesleistung","Ausgeführte Arbeiten","Blatt Nr.",null,"Trupp","M 2","M 3","M 4","Funktion","Name","Schicht   Start","Schicht   Ende","Pause  Start","Pause Ende","Pause","Std. gesamt","Funktion","Name","Schicht   Start","Schicht   Ende","Pause  Start","Pause Ende","Pause","Std. gesamt","Funktion","Name","Schicht   Start","Schicht   Ende","Pause  Start","Pause Ende","Pause","Std. gesamt","Funktion","Name","Schicht   Start","Schicht   Ende","Pause  Start","Pause Ende","Pause","Std. gesamt","Zeit Soll","Überzeit Mitarbeiter 1","Überzeit Mitarbeiter 2","Überzeit Mitarbeiter 3","Überzeit Mitarbeiter 4"]
[{"$f":"_xlfn.SEQUENCE(EOMONTH(DATE($J$1,MONTH(H$1),1),0)-DATE($J$1,MONTH(H$1),1)+1,1,DATE($J$1,MONTH(H$1),1))","v":"2025-07-01"},null,null,null,null,null,null,null,null,null,{"$f":"IF(OR($O4=\"Arbeitsausführung aus Inspektion\",$O4=\"Arbeiten an Signalanlagen\"),_xlfn.XLOOKUP($W4,Hilfen!$B$30:$B$32,Hilfen!$C$30:$C$32,\"\"),\"\")","v":""},null,null,null,null,null,1,1,{"$f":"IFERROR(VLOOKUP($X4,Hilfen!$A$1:$D$20,4,FALSE),\"\")","v":""},null,null,null,{"$f":"IFERROR(VLOOKUP($X4,Hilfen!$A$1:$B$20,2,FALSE),\"\")","v":""},null,null,null,null,null,{"$f":"IF($Y4=\"\",\"\",$AB4-$AA4)","v":""},{"$f":"IF($O4=\"JAZ\",_xlfn.NUMBERVALUE(0),IF($O4=\"Urlaub laufendes Jahr\",_xlfn.NUMBERVALUE(7.8),IF($Y4=\"\",\"\",IF($Y4<$Z4,$Z4-$Y4-$AC4,$Z4-$Y4-$AC4+1)*24)))","v":""},{"$f":"IFERROR(VLOOKUP($AF4,Hilfen!$A$1:$B$20,2,FALSE),\"\")","v":""},null,{"$f":"IF($Y4=\"\",\"\",IF($T4=\"X\",$Y4,\"\"))","v":""},{"$f":"IF($Y4=\"\",\"\",IF($T4=\"X\",$Z4,\"\"))","v":""},{"$f":"IF($Y4=\"\",\"\",IF($T4=\"X\",$AA4,\"\"))","v":""},{"$f":"IF($Y4=\"\",\"\",IF($T4=\"X\",$AB4,\"\"))","v":""},{"$f":"IF($Y4=\"\",\"\",IF($AI4=\"\",\"\",$AJ4-$AI4))","v":""},{"$f":"IF($AG4=\"\",\"\",IF($AG4<$AH4,$AH4-$AG4-$AK4,$AH4-$AG4-$AK4+1)*24)","v":""},{"$f":"IFERROR(VLOOKUP($AN4,Hilfen!$A$1:$B$20,2,FALSE),\"\")","v":""},null,{"$f":"IF($Y4=\"\",\"\",IF($U4=\"X\",$Y4,\"\"))","v":""},{"$f":"IF($Y4=\"\",\"\",IF($U4=\"X\",$Z4,\"\"))","v":""},{"$f":"IF($Y4=\"\",\"\",IF($U4=\"X\",$AA4,\"\"))","v":""},{"$f":"IF($Y4=\"\",\"\",IF($U4=\"X\",$AB4,\"\"))","v":""},{"$f":"IF($Y4=\"\",\"\",IF($AQ4=\"\",\"\",$AR4-$AQ4))","v":""},{"$f":"IF($AO4=\"\",\"\",IF($AO4<$AP4,$AP4-$AO4-$AS4,$AP4-$AO4-$AS4+1)*24)","v":""},{"$f":"IFERROR(VLOOKUP($AV4,Hilfen!$A$1:$B$20,2,FALSE),\"\")","v":""},null,{"$f":"IF($Y4=\"\",\"\",IF($V4=\"X\",$Y4,\"\"))","v":""},{"$f":"IF($Y4=\"\",\"\",IF($V4=\"X\",$Z4,\"\"))","v":""},{"$f":"IF($Y4=\"\",\"\",IF($V4=\"X\",$AA4,\"\"))","v":""},{"$f":"IF($Y4=\"\",\"\",IF($V4=\"X\",$AB4,\"\"))","v":""},{"$f":"IF($Y4=\"\",\"\",IF($AY4=\"\",\"\",$AZ4-$AY4))","v":""},{"$f":"IF($AW4=\"\",\"\",IF($AW4<$AX4,$AX4-$AW4-$BA4,$AX4-$AW4-$BA4+1)*24)","v":""},{"$f":"IF(OR(WEEKDAY($A4,2)=6,WEEKDAY($A4,2)=7),\"\",IF(WEEKDAY($A4,2)=5,_xlfn.NUMBERVALUE(7),IF(WEEKDAY($A4,2)<5,_xlfn.NUMBERVALUE(8),\"\")))","v":8},{"$f":"IF(OR(WEEKDAY($A4,2)=6,WEEKDAY($A4,2)=7),$AD4,IF($AD4=\"\",\"\",$AD4-$BC4))","v":""},{"$f":"IF(OR(WEEKDAY($A4,2)=6,WEEKDAY($A4,2)=7),$AL4,IF($AL4=\"\",\"\",$AL4-$BC4))","v":""},{"$f":"IF(OR(WEEKDAY($A4,2)=6,WEEKDAY($A4,2)=7),$AT4,IF($AT4=\"\",\"\",$AT4-$BC4))","v":""},{"$f":"IF(OR(WEEKDAY($A4,2)=6,WEEKDAY($A4,2)=7),$BB4,IF($BB4=\"\",\"\",$BB4-$BC4))","v":""}]
["2025-07-02",null,null,null,null,null,null,null,null,null,{"$f":"IF(OR($O5=\"Arbeitsausführung aus Inspektion\",$O5=\"Arbeiten an Signalanlagen\"),_xlfn.XLOOKUP($W5,Hilfen!$B$30:$B$32,Hilfen!$C$30:$C$32,\"\"),\"\")","v":""},null,null,null,null,null,1,1,{"$f":"IFERROR(VLOOKUP($X5,Hilfen!$A$1:$D$20,4,FALSE),\"\")","v":""},null,null,null,{"$f":"IFERROR(VLOOKUP($X5,Hilfen!$A$1:$B$20,2,FALSE),\"\")","v":""},null,null,null,null,null,{"$f":"IF($Y5=\"\",\"\",$AB5-$AA5)","v":""},{"$f":"IF($O5=\"JAZ\",_xlfn.NUMBERVALUE(0),IF($O5=\"Urlaub laufendes Jahr\",_xlfn.NUMBERVALUE(7.8),IF($Y5=\"\",\"\",IF($Y5<$Z5,$Z5-$Y5-$AC5,$Z5-$Y5-$AC5+1)*24)))","v":""},{"$f":"IFERROR(VLOOKUP($AF5,Hilfen!$A$1:$B$20,2,FALSE),\"\")","v":""},null,{"$f":"IF($Y5=\"\",\"\",IF($T5=\"X\",$Y5,\"\"))","v":""},{"$f":"IF($Y5=\"\",\"\",IF($T5=\"X\",$Z5,\"\"))","v":""},{"$f":"IF($Y5=\"\",\"\",IF($T5=\"X\",$AA5,\"\"))","v":""},{"$f":"IF($Y5=\"\",\"\",IF($T5=\"X\",$AB5,\"\"))","v":""},{"$f":"IF($Y5=\"\",\"\",IF($AI5=\"\",\"\",$AJ5-$AI5))","v":""},{"$f":"IF($AG5=\"\",\"\",IF($AG5<$AH5,$AH5-$AG5-$AK5,$AH5-$AG5-$AK5+1)*24)","v":""},{"$f":"IFERROR(VLOOKUP($AN5,Hilfen!$A$1:$B$20,2,FALSE),\"\")","v":""},null,{"$f":"IF($Y5=\"\",\"\",IF($U5=\"X\",$Y5,\"\"))","v":""},{"$f":"IF($Y5=\"\",\"\",IF($U5=\"X\",$Z5,\"\"))","v":""},{"$f":"IF($Y5=\"\",\"\",IF($U5=\"X\",$AA5,\"\"))","v":""},{"$f":"IF($Y5=\"\",\"\",IF($U5=\"X\",$AB5,\"\"))","v":""},{"$f":"IF($Y5=\"\",\"\",IF($AQ5=\"\",\"\",$AR5-$AQ5))","v":""},{"$f":"IF($AO5=\"\",\"\",IF($AO5<$AP5,$AP5-$AO5-$AS5,$AP5-$AO5-$AS5+1)*24)","v":""},{"$f":"IFERROR(VLOOKUP($AV5,Hilfen!$A$1:$B$20,2,FALSE),\"\")","v":""},null,{"$f":"IF($Y5=\"\",\"\",IF($V5=\"X\",$Y5,\"\"))","v":""},{"$f":"IF($Y5=\"\",\"\",IF($V5=\"X\",$Z5,\"\"))","v":""},{"$f":"IF($Y5=\"\",\"\",IF($V5=\"X\",$AA5,\"\"))","v":""},{"$f":"IF($Y5=\"\",\"\",IF($V5=\"X\",$AB5,\"\"))","v":""},{"$f":"IF($Y5=\"\",\"\",IF($AY5=\"\",\"\",$AZ5-$AY5))","v":""},{"$f":"IF($AW5=\"\",\"\",IF($AW5<$AX5,$AX5-$AW5-$BA5,$AX5-$AW5-$BA5+1)*24)","v":""},{"$f":"IF(OR(WEEKDAY($A5,2)=6,WEEKDAY($A5,2)=7),\"\",IF(WEEKDAY($A5,2)=5,_xlfn.NUMBERVALUE(7),IF(WEEKDAY($A5,2)<5,_xlfn.NUMBERVALUE(8),\"\")))","v":8},{"$f":"IF(OR(WEEKDAY($A5,2)=6,WEEKDAY($A5,2)=7),$AD5,IF($AD5=\"\",\"\",$AD5-$BC5))","v":""},{"$f":"IF(OR(WEEKDAY($A5,2)=6,WEEKDAY($A5,2)=7),$AL5,IF($AL5=\"\",\"\",$AL5-$BC5))","v":""},{"$f":"IF(OR(WEEKDAY($A5,2)=6,WEEKDAY($A5,2)=7),$AT5,IF($AT5=\"\",\"\",$AT5-$BC5))","v":""},{"$f":"IF(OR(WEEKDAY($A5,2)=6,WEEKDAY($A5,2)=7),$BB5,IF($BB5=\"\",\"\",$BB5-$BC5))","v":""}]
["2025-07-03",null,null,null,null,null,null,null,null,null,{"$f":"IF(OR($O6=\"Arbeitsausführung aus Inspektion\",$O6=\"Arbeiten an Signalanlagen\"),_xlfn.XLOOKUP($W6,Hilfen!$B$30:$B$32,Hilfen!$C$30:$C$32,\"\"),\"\")","v":""},null,null,null,null,null,1,1,{"$f":"IFERROR(VLOOKUP($X6,Hilfen!$A$1:$D$20,4,FALSE),\"\")","v":""},null,null,null,{"$f":"IFERROR(VLOOKUP($X6,Hilfen!$A$1:$B$20,2,FALSE),\"\")","v":""},null,null,null,null,null,"","",{"$f":"IFERROR(VLOOKUP($AF6,Hilfen!$A$1:$B$20,2,FALSE),\"\")","v":""},null,"","","","","","",{"$f":"IFERROR(VLOOKUP($AN6,Hilfen!$A$1:$B$20,2,FALSE),\"\")","v":""},null,"","","","","","",{"$f":"IFERROR(VLOOKUP($AV6,Hilfen!$A$1:$B$20,2,FALSE),\"\")","v":""},null,"","","","","","",8,"","","",""]
["2025-07-04",null,null,null,null,null,null,null,null,null,{"$f":"IF(OR($O7=\"Arbeitsausführung aus Inspektion\",$O7=\"Arbeiten an Signalanlagen\"),_xlfn.XLOOKUP($W7,Hilfen!$B$30:$B$32,Hilfen!$C$30:$C$32,\"\"),\"\")","v":""},null,null,null,null,null,1,1,{"$f":"IFERROR(VLOOKUP($X7,Hilfen!$A$1:$D$20,4,FALSE),\"\")","v":""},null,null,null,{"$f":"IFERROR(VLOOKUP($X7,Hilfen!$A$1:$B$20,2,FALSE),\"\")","v":""},null,null,null,null,null,"","",{"$f":"IFERROR(VLOOKUP($AF7,Hilfen!$A$1:$B$20,2,FALSE),\"\")","v":""},null,"","","","","","",{"$f":"IFERROR(VLOOKUP($AN7,Hilfen!$A$1:$B$20,2,FALSE),\"\")","v":""},null,"","","","","","",{"$f":"IFERROR(VLOOKUP($AV7,Hilfen!$A$1:$B$20,2,FALSE),\"\")","v":""},null,"","","","","","",7,"","","",""]
["2025-07-05",null,null,null,null,null,null,null,null,null,{"$f":"IF(OR($O8=\"Arbeitsausführung aus Inspektion\",$O8=\"Arbeiten an Signalanlagen\"),_xlfn.XLOOKUP($W8,Hilfen!$B$30:$B$32,Hilfen!$C$30:$C$32,\"\"),\"\")","v":""},null,null,null,null,null,1,1,{"$f":"IFERROR(VLOOKUP($X8,Hilfen!$A$1:$D$20,4,FALSE),\"\")","v":""},null,null,null,{"$f":"IFERROR(VLOOKUP($X8,Hilfen!$A$1:$B$20,2,FALSE),\"\")","v":""},null,null,null,null,null,"","",{"$f":"IFERROR(VLOOKUP($AF8,Hilfen!$A$1:$B$20,2,FALSE),\"\")","v":""},null,"","","","","","",{"$f":"IFERROR(VLOOKUP($AN8,Hilfen!$A$1:$B$20,2,FALSE),\"\")","v":""},null,"","","","","","",{"$f":"IFERROR(VLOOKUP($AV8,Hilfen!$A$1:$B$20,2,FALSE),\"\")","v":""},null,"","","","","","","","","","",""]
["2025-07-06",null,null,null,null,null,null,null,null,null,{"$f":"IF(OR($O9=\"Arbeitsausführung aus Inspektion\",$O9=\"Arbeiten an Signalanlagen\"),_xlfn.XLOOKUP($W9,Hilfen!$B$30:$B$32,Hilfen!$C$30:$C$32,\"\"),\"\")","v":""},null,null,null,null,null,1,1,{"$f":"IFERROR(VLOOKUP($X9,Hilfen!$A$1:$D$20,4,FALSE),\"\")","v":""},null,null,null,{"$f":"IFERROR(VLOOKUP($X9,Hilfen!$A$1:$B$20,2,FALSE),\"\")","v":""},null,null,null,null,null,"","",{"$f":"IFERROR(VLOOKUP($AF9,Hilfen!$A$1:$B$20,2,FALSE),\"\")","v":""},null,"","","","","","",{"$f":"IFERROR(VLOOKUP($AN9,Hilfen!$A$1:$B$20,2,FALSE),\"\")","v":""},null,"","","","","","",{"$f":"IFERROR(VLOOKUP($AV9,Hilfen!$A$1:$B$20,2,FALSE),\"\")","v":""},null,"","","","","","","","","","",""]
["2025-07-07",null,null,null,null,null,null,null,null,null,{"$f":"IF(OR($O10=\"Arbeitsausführung aus Inspektion\",$O10=\"Arbeiten an Signalanlagen\"),_xlfn.XLOOKUP($W10,Hilfen!$B$30:$B$32,Hilfen!$C$30:$C$32,\"\"),\"\")","v":""},null,null,null,null,null,1,1,{"$f":"IFERROR(VLOOKUP($X10,Hilfen!$A$1:$D$20,4,FALSE),\"\")","v":""},null,null,null,{"$f":"IFERROR(VLOOKUP($X10,Hilfen!$A$1:$B$20,2,FALSE),\"\")","v":""},null,null,null,null,null,"","",{"$f":"IFERROR(VLOOKUP($AF10,Hilfen!$A$1:$B$20,2,FALSE),\"\")","v":""},null,"","","","","","",{"$f":"IFERROR(VLOOKUP($AN10,Hilfen!$A$1:$B$20,2,FALSE),\"\")","v":""},null,"","","","","","",{"$f":"IFERROR(VLOOKUP($AV10,Hilfen!$A$1:$B$20,2,FALSE),\"\")","v":""},null,"","","","","","",8,"","","",""]
["2025-07-08",null,null,null,null,null,null,null,null,null,{"$f":"IF(OR($O11=\"Arbeitsausführung aus Inspektion\",$O11=\"Arbeiten an Signalanlagen\"),_xlfn.XLOOKUP($W11,Hilfen!$B$30:$B$32,Hilfen!$C$30:$C$32,\"\"),\"\")","v":""},null,null,null,null,null,1,1,{"$f":"IFERROR(VLOOKUP($X11,Hilfen!$A$1:$D$20,4,FALSE),\"\")","v":""},null,null,null,{"$f":"IFERROR(VLOOKUP($X11,Hilfen!$A$1:$B$20,2,FALSE),\"\")","v":""},null,null,null,null,null,"","",{"$f":"IFERROR(VLOOKUP($AF11,Hilfen!$A$1:$B$20,2,FALSE),\"\")","v":""},null,"","","","","","",{"$f":"IFERROR(VLOOKUP($AN11,Hilfen!$A$1:$B$20,2,FALSE),\"\")","v":""},null,"","","","","","",{"$f":"IFERROR(VLOOKUP($AV11,Hilfen!$A$1:$B$20,2,FALSE),\"\")","v":""},null,"","","","","","",8,"","","",""]
["2025-07-09",null,null,null,null,null,null,null,null,null,{"$f":"IF(OR($O12=\"Arbeitsausführung aus Inspektion\",$O12=\"Arbeiten an Signalanlagen\"),_xlfn.XLOOKUP($W12,Hilfen!$B$30:$B$32,Hilfen!$C$30:$C$32,\"\"),\"\")","v":""},null,null,null,null,null,1,1,{"$f":"IFERROR(VLOOKUP($X12,Hilfen!$A$1:$D$20,4,FALSE),\"\")","v":""},null,null,null,{"$f":"IFERROR(VLOOKUP($X12,Hilfen!$A$1:$B$20,2,FALSE),\"\")","v":""},null,null,null,null,null,"","",{"$f":"IFERROR(VLOOKUP($AF12,Hilfen!$A$1:$B$20,2,FALSE),\"\")","v":""},null,"","","","","","",{"$f":"IFERROR(VLOOKUP($AN12,Hilfen!$A$1:$B$20,2,FALSE),\"\")","v":""},null,"","","","","","",{"$f":"IFERROR(VLOOKUP($AV12,Hilfen!$A$1:$B$20,2,FALSE),\"\")","v":""},null,"","","","","","",8,"","","",""]
["2025-07-10",null,null,null,null,null,null,null,null,null,{"$f":"IF(OR($O13=\"Arbeitsausführung aus Inspektion\",$O13=\"Arbeiten an Signalanlagen\"),_xlfn.XLOOKUP($W13,Hilfen!$B$30:$B$32,Hilfen!$C$30:$C$32,\"\"),\"\")","v":""},null,null,null,null,null,1,1,{"$f":"IFERROR(VLOOKUP($X13,Hilfen!$A$1:$D$20,4,FALSE),\"\")","v":""},null,null,null,{"$f":"IFERROR(VLOOKUP($X13,Hilfen!$A$1:$B$20,2,FALSE),\"\")","v":""},null,null,null,null,null,"","",{"$f":"IFERROR(VLOOKUP($AF13,Hilfen!$A$1:$B$20,2,FALSE),\"\")","v":""},null,"","","","","","",{"$f":"IFERROR(VLOOKUP($AN13,Hilfen!$A$1:$B$20,2,FALSE),\"\")","v":""},null,"","","","","","",{"$f":"IFERROR(VLOOKUP($AV13,Hilfen!$A$1:$B$20,2,FALSE),\"\")","v":""},null,"","","","","","",8,"","","",""]
["2025-07-11",null,null,null,null,null,null,null,null,null,{"$f":"IF(OR($O14=\"Arbeitsausführung aus Inspektion\",$O14=\"Arbeiten an Signalanlagen\"),_xlfn.XLOOKUP($W14,Hilfen!$B$30:$B$32,Hilfen!$C$30:$C$32,\"\"),\"\")","v":""},null,null,null,null,null,1,1,{"$f":"IFERROR(VLOOKUP($X14,Hilfen!$A$1:$D$20,4,FALSE),\"\")","v":""},null,null,null,{"$f":"IFERROR(VLOOKUP($X14,Hilfen!$A$1:$B$20,2,FALSE),\"\")","v":""},null,null,null,null,null,"","",{"$f":"IFERROR(VLOOKUP($AF14,Hilfen!$A$1:$B$20,2,FALSE),\"\")","v":""},null,"","","","","","",{"$f":"IFERROR(VLOOKUP($AN14,Hilfen!$A$1:$B$20,2,FALSE),\"\")","v":""},null,"","","","","","",{"$f":"IFERROR(VLOOKUP($AV14,Hilfen!$A$1:$B$20,2,FALSE),\"\")","v":""},null,"","","","","","",7,"","","",""]
["2025-07-12",null,null,null,null,null,null,null,null,null,{"$f":"IF(OR($O15=\"Arbeitsausführung aus Inspektion\",$O15=\"Arbeiten an Signalanlagen\"),_xlfn.XLOOKUP($W15,Hilfen!$B$30:$B$32,Hilfen!$C$30:$C$32,\"\"),\"\")","v":""},null,null,null,null,null,1,1,{"$f":"IFERROR(VLOOKUP($X15,Hilfen!$A$1:$D$20,4,FALSE),\"\")","v":""},null,null,null,{"$f":"IFERROR(VLOOKUP($X15,Hilfen!$A$1:$B$20,2,FALSE),\"\")","v":""},null,null,null,null,null,"","",{"$f":"IFERROR(VLOOKUP($AF15,Hilfen!$A$1:$B$20,2,FALSE),\"\")","v":""},null,"","","","","","",{"$f":"IFERROR(VLOOKUP($AN15,Hilfen!$A$1:$B$20,2,FALSE),\"\")","v":""},null,"","","","","","",{"$f":"IFERROR(VLOOKUP($AV15,Hilfen!$A$1:$B$20,2,FALSE),\"\")","v":""},null,"","","","","","","","","","",""]
["2025-07-13",null,null,null,null,null,null,null,null,null,{"$f":"IF(OR($O16=\"Arbeitsausführung aus Inspektion\",$O16=\"Arbeiten an Signalanlagen\"),_xlfn.XLOOKUP($W16,Hilfen!$B$30:$B$32,Hilfen!$C$30:$C$32,\"\"),\"\")","v":""},null,null,null,null,null,1,1,{"$f":"IFERROR(VLOOKUP($X16,Hilfen!$A$1:$D$20,4,FALSE),\"\")","v":""},null,null,null,{"$f":"IFERROR(VLOOKUP($X16,Hilfen!$A$1:$B$20,2,FALSE),\"\")","v":""},null,null,null,null,null,"","",{"$f":"IFERROR(VLOOKUP($AF16,Hilfen!$A$1:$B$20,2,FALSE),\"\")","v":""},null,"","","","","","",{"$f":"IFERROR(VLOOKUP($AN16,Hilfen!$A$1:$B$20,2,FALSE),\"\")","v":""},null,"","","","","","",{"$f":"IFERROR(VLOOKUP($AV16,Hilfen!$A$1:$B$20,2,FALSE),\"\")","v":""},null,"","","","","","","","","","",""]
["2025-07-14",null,null,null,null,null,null,null,null,null,{"$f":"IF(OR($O17=\"Arbeitsausführung aus Inspektion\",$O17=\"Arbeiten an Signalanlagen\"),_xlfn.XLOOKUP($W17,Hilfen!$B$30:$B$32,Hilfen!$C$30:$C$32,\"\"),\"\")","v":""},null,null,null,null,null,1,1,{"$f":"IFERROR(VLOOKUP($X17,Hilfen!$A$1:$D$20,4,FALSE),\"\")","v":""},null,null,null,{"$f":"IFERROR(VLOOKUP($X17,Hilfen!$A$1:$B$20,2,FALSE),\"\")","v":""},null,null,null,null,null,"","",{"$f":"IFERROR(VLOOKUP($AF17,Hilfen!$A$1:$B$20,2,FALSE),\"\")","v":""},null,"","","","","","",{"$f":"IFERROR(VLOOKUP($AN17,Hilfen!$A$1:$B$20,2,FALSE),\"\")","v":""},null,"","","","","","",{"$f":"IFERROR(VLOOKUP($AV17,Hilfen!$A$1:$B$20,2,FALSE),\"\")","v":""},null,"","","","","","",8,"","","",""]
["2025-07-15",null,null,null,null,null,null,null,null,null,{"$f":"IF(OR($O18=\"Arbeitsausführung aus Inspektion\",$O18=\"Arbeiten an Signalanlagen\"),_xlfn.XLOOKUP($W18,Hilfen!$B$30:$B$32,Hilfen!$C$30:$C$32,\"\"),\"\")","v":""},null,null,null,null,null,1,1,{"$f":"IFERROR(VLOOKUP($X18,Hilfen!$A$1:$D$20,4,FALSE),\"\")","v":""},null,null,null,{"$f":"IFERROR(VLOOKUP($X18,Hilfen!$A$1:$B$20,2,FALSE),\"\")","v":""},null,null,null,null,null,"","",{"$f":"IFERROR(VLOOKUP($AF18,Hilfen!$A$1:$B$20,2,FALSE),\"\")","v":""},null,"","","","","","",{"$f":"IFERROR(VLOOKUP($AN18,Hilfen!$A$1:$B$20,2,FALSE),\"\")","v":""},null,"","","","","","",{"$f":"IFERROR(VLOOKUP($AV18,Hilfen!$A$1:$B$20,2,FALSE),\"\")","v":""},null,"","","","","","",8,"","","",""]
["2025-07-16",null,null,null,null,null,null,null,null,null,{"$f":"IF(OR($O19=\"Arbeitsausführung aus Inspektion\",$O19=\"Arbeiten an Signalanlagen\"),_xlfn.XLOOKUP($W19,Hilfen!$B$30:$B$32,Hilfen!$C$30:$C$32,\"\"),\"\")","v":""},null,null,null,null,null,1,1,{"$f":"IFERROR(VLOOKUP($X19,Hilfen!$A$1:$D$20,4,FALSE),\"\")","v":""},null,null,null,{"$f":"IFERROR(VLOOKUP($X19,Hilfen!$A$1:$B$20,2,FALSE),\"\")","v":""},null,null,null,null,null,"","",{"$f":"IFERROR(VLOOKUP($AF19,Hilfen!$A$1:$B$20,2,FALSE),\"\")","v":""},null,"","","","","","",{"$f":"IFERROR(VLOOKUP($AN19,Hilfen!$A$1:$B$20,2,FALSE),\"\")","v":""},null,"","","","","","",{"$f":"IFERROR(VLOOKUP($AV19,Hilfen!$A$1:$B$20,2,FALSE),\"\")","v":""},null,"","","","","","",8,"","","",""]
["2025-07-17",null,null,null,null,null,null,null,null,null,{"$f":"IF(OR($O20=\"Arbeitsausführung aus Inspektion\",$O20=\"Arbeiten an Signalanlagen\"),_xlfn.XLOOKUP($W20,Hilfen!$B$30:$B$32,Hilfen!$C$30:$C$32,\"\"),\"\")","v":""},null,null,null,null,null,1,1,{"$f":"IFERROR(VLOOKUP($X20,Hilfen!$A$1:$D$20,4,FALSE),\"\")","v":""},null,null,null,{"$f":"IFERROR(VLOOKUP($X20,Hilfen!$A$1:$B$20,2,FALSE),\"\")","v":""},null,null,null,null,null,"","",{"$f":"IFERROR(VLOOKUP($AF20,Hilfen!$A$1:$B$20,2,FALSE),\"\")","v":""},null,"","","","","","",{"$f":"IFERROR(VLOOKUP($AN20,Hilfen!$A$1:$B$20,2,FALSE),\"\")","v":""},null,"","","","","","",{"$f":"IFERROR(VLOOKUP($AV20,Hilfen!$A$1:$B$20,2,FALSE),\"\")","v":""},null,"","","","","","",8,"","","",""]
["2025-07-18",null,null,null,null,null,null,null,null,null,{"$f":"IF(OR($O21=\"Arbeitsausführung aus Inspektion\",$O21=\"Arbeiten an Signalanlagen\"),_xlfn.XLOOKUP($W21,Hilfen!$B$30:$B$32,Hilfen!$C$30:$C$32,\"\"),\"\")","v":""},null,null,null,null,null,1,1,{"$f":"IFERROR(VLOOKUP($X21,Hilfen!$A$1:$D$20,4,FALSE),\"\")","v":""},null,null,null,{"$f":"IFERROR(VLOOKUP($X21,Hilfen!$A$1:$B$20,2,FALSE),\"\")","v":""},null,null,null,null,null,"","",{"$f":"IFERROR(VLOOKUP($AF21,Hilfen!$A$1:$B$20,2,FALSE),\"\")","v":""},null,"","","","","","",{"$f":"IFERROR(VLOOKUP($AN21,Hilfen!$A$1:$B$20,2,FALSE),\"\")","v":""},null,"","","","","","",{"$f":"IFERROR(VLOOKUP($AV21,Hilfen!$A$1:$B$20,2,FALSE),\"\")","v":""},null,"","","","","","",7,"","","",""]
["2025-07-19",null,null,null,null,null,null,null,null,null,{"$f":"IF(OR($O22=\"Arbeitsausführung aus Inspektion\",$O22=\"Arbeiten an Signalanlagen\"),_xlfn.XLOOKUP($W22,Hilfen!$B$30:$B$32,Hilfen!$C$30:$C$32,\"\"),\"\")","v":""},null,null,null,null,null,1,1,{"$f":"IFERROR(VLOOKUP($X22,Hilfen!$A$1:$D$20,4,FALSE),\"\")","v":""},null,null,null,{"$f":"IFERROR(VLOOKUP($X22,Hilfen!$A$1:$B$20,2,FALSE),\"\")","v":""},null,null,null,null,null,"","",{"$f":"IFERROR(VLOOKUP($AF22,Hilfen!$A$1:$B$20,2,FALSE),\"\")","v":""},null,"","","","","","",{"$f":"IFERROR(VLOOKUP($AN22,Hilfen!$A$1:$B$20,2,FALSE),\"\")","v":""},null,"","","","","","",{"$f":"IFERROR(VLOOKUP($AV22,Hilfen!$A$1:$B$20,2,FALSE),\"\")","v":""},null,"","","","","","","","","","",""]
["2025-07-20",null,null,null,null,null,null,null,null,null,{"$f":"IF(OR($O23=\"Arbeitsausführung aus Inspektion\",$O23=\"Arbeiten an Signalanlagen\"),_xlfn.XLOOKUP($W23,Hilfen!$B$30:$B$32,Hilfen!$C$30:$C$32,\"\"),\"\")","v":""},null,null,null,null,null,1,1,{"$f":"IFERROR(VLOOKUP($X23,Hilfen!$A$1:$D$20,4,FALSE),\"\")","v":""},null,null,null,{"$f":"IFERROR(VLOOKUP($X23,Hilfen!$A$1:$B$20,2,FALSE),\"\")","v":""},null,null,null,null,null,"","",{"$f":"IFERROR(VLOOKUP($AF23,Hilfen!$A$1:$B$20,2,FALSE),\"\")","v":""},null,"","","","","","",{"$f":"IFERROR(VLOOKUP($AN23,Hilfen!$A$1:$B$20,2,FALSE),\"\")","v":""},null,"","","","","","",{"$f":"IFERROR(VLOOKUP($AV23,Hilfen!$A$1:$B$20,2,FALSE),\"\")","v":""},null,"","","","","","","","","","",""]
["2025-07-21",null,null,null,null,null,null,null,null,null,{"$f":"IF(OR($O24=\"Arbeitsausführung aus Inspektion\",$O24=\"Arbeiten an Signalanlagen\"),_xlfn.XLOOKUP($W24,Hilfen!$B$30:$B$32,Hilfen!$C$30:$C$32,\"\"),\"\")","v":""},null,null,null,null,null,1,1,{"$f":"IFERROR(VLOOKUP($X24,Hilfen!$A$1:$D$20,4,FALSE),\"\")","v":""},null,null,null,{"$f":"IFERROR(VLOOKUP($X24,Hilfen!$A$1:$B$20,2,FALSE),\"\")","v":""},null,null,null,null,null,"","",{"$f":"IFERROR(VLOOKUP($AF24,Hilfen!$A$1:$B$20,2,FALSE),\"\")","v":""},null,"","","","","","",{"$f":"IFERROR(VLOOKUP($AN24,Hilfen!$A$1:$B$20,2,FALSE),\"\")","v":""},null,"","","","","","",{"$f":"IFERROR(VLOOKUP($AV24,Hilfen!$A$1:$B$20,2,FALSE),\"\")","v":""},null,"","","","","","",8,"","","",""]
["2025-07-22",null,null,null,null,null,null,null,null,null,{"$f":"IF(OR($O25=\"Arbeitsausführung aus Inspektion\",$O25=\"Arbeiten an Signalanlagen\"),_xlfn.XLOOKUP($W25,Hilfen!$B$30:$B$32,Hilfen!$C$30:$C$32,\"\"),\"\")","v":""},null,null,null,null,null,1,1,{"$f":"IFERROR(VLOOKUP($X25,Hilfen!$A$1:$D$20,4,FALSE),\"\")","v":""},null,null,null,{"$f":"IFERROR(VLOOKUP($X25,Hilfen!$A$1:$B$20,2,FALSE),\"\")","v":""},null,null,null,null,null,"","",{"$f":"IFERROR(VLOOKUP($AF25,Hilfen!$A$1:$B$20,2,FALSE),\"\")","v":""},null,"","","","","","",{"$f":"IFERROR(VLOOKUP($AN25,Hilfen!$A$1:$B$20,2,FALSE),\"\")","v":""},null,"","","","","","",{"$f":"IFERROR(VLOOKUP($AV25,Hilfen!$A$1:$B$20,2,FALSE),\"\")","v":""},null,"","","","","","",8,"","","",""]
["2025-07-23",null,null,null,null,null,null,null,null,null,{"$f":"IF(OR($O26=\"Arbeitsausführung aus Inspektion\",$O26=\"Arbeiten an Signalanlagen\"),_xlfn.XLOOKUP($W26,Hilfen!$B$30:$B$32,Hilfen!$C$30:$C$32,\"\"),\"\")","v":""},null,null,null,null,null,1,1,{"$f":"IFERROR(VLOOKUP($X26,Hilfen!$A$1:$D$20,4,FALSE),\"\")","v":""},null,null,null,{"$f":"IFERROR(VLOOKUP($X26,Hilfen!$A$1:$B$20,2,FALSE),\"\")","v":""},null,null,null,null,null,"","",{"$f":"IFERROR(VLOOKUP($AF26,Hilfen!$A$1:$B$20,2,FALSE),\"\")","v":""},null,"","","","","","",{"$f":"IFERROR(VLOOKUP($AN26,Hilfen!$A$1:$B$20,2,FALSE),\"\")","v":""},null,"","","","","","",{"$f":"IFERROR(VLOOKUP($AV26,Hilfen!$A$1:$B$20,2,FALSE),\"\")","v":""},null,"","","","","","",8,"","","",""]
["2025-07-24",null,null,null,null,null,null,null,null,null,{"$f":"IF(OR($O27=\"Arbeitsausführung aus Inspektion\",$O27=\"Arbeiten an Signalanlagen\"),_xlfn.XLOOKUP($W27,Hilfen!$B$30:$B$32,Hilfen!$C$30:$C$32,\"\"),\"\")","v":""},null,null,null,null,null,1,1,{"$f":"IFERROR(VLOOKUP($X27,Hilfen!$A$1:$D$20,4,FALSE),\"\")","v":""},null,null,null,{"$f":"IFERROR(VLOOKUP($X27,Hilfen!$A$1:$B$20,2,FALSE),\"\")","v":""},null,null,null,null,null,"","",{"$f":"IFERROR(VLOOKUP($AF27,Hilfen!$A$1:$B$20,2,FALSE),\"\")","v":""},null,"","","","","","",{"$f":"IFERROR(VLOOKUP($AN27,Hilfen!$A$1:$B$20,2,FALSE),\"\")","v":""},null,"","","","","","",{"$f":"IFERROR(VLOOKUP($AV27,Hilfen!$A$1:$B$20,2,FALSE),\"\")","v":""},null,"","","","","","",8,"","","",""]
["2025-07-25",null,null,null,null,null,null,null,null,null,{"$f":"IF(OR($O28=\"Arbeitsausführung aus Inspektion\",$O28=\"Arbeiten an Signalanlagen\"),_xlfn.XLOOKUP($W28,Hilfen!$B$30:$B$32,Hilfen!$C$30:$C$32,\"\"),\"\")","v":""},null,null,null,null,null,1,1,{"$f":"IFERROR(VLOOKUP($X28,Hilfen!$A$1:$D$20,4,FALSE),\"\")","v":""},null,null,null,{"$f":"IFERROR(VLOOKUP($X28,Hilfen!$A$1:$B$20,2,FALSE),\"\")","v":""},null,null,null,null,null,"","",{"$f":"IFERROR(VLOOKUP($AF28,Hilfen!$A$1:$B$20,2,FALSE),\"\")","v":""},null,"","","","","","",{"$f":"IFERROR(VLOOKUP($AN28,Hilfen!$A$1:$B$20,2,FALSE),\"\")","v":""},null,"","","","","","",{"$f":"IFERROR(VLOOKUP($AV28,Hilfen!$A$1:$B$20,2,FALSE),\"\")","v":""},null,"","","","","","",7,"","","",""]
["2025-07-26",null,null,null,null,null,null,null,null,null,{"$f":"IF(OR($O29=\"Arbeitsausführung aus Inspektion\",$O29=\"Arbeiten an Signalanlagen\"),_xlfn.XLOOKUP($W29,Hilfen!$B$30:$B$32,Hilfen!$C$30:$C$32,\"\"),\"\")","v":""},null,null,null,null,null,1,1,{"$f":"IFERROR(VLOOKUP($X29,Hilfen!$A$1:$D$20,4,FALSE),\"\")","v":""},null,null,null,{"$f":"IFERROR(VLOOKUP($X29,Hilfen!$A$1:$B$20,2,FALSE),\"\")","v":""},null,null,null,null,null,"","",{"$f":"IFERROR(VLOOKUP($AF29,Hilfen!$A$1:$B$20,2,FALSE),\"\")","v":""},null,"","","","","","",{"$f":"IFERROR(VLOOKUP($AN29,Hilfen!$A$1:$B$20,2,FALSE),\"\")","v":""},null,"","","","","","",{"$f":"IFERROR(VLOOKUP($AV29,Hilfen!$A$1:$B$20,2,FALSE),\"\")","v":""},null,"","","","","","","","","","",""]
["2025-07-27",null,null,null,null,null,null,null,null,null,{"$f":"IF(OR($O30=\"Arbeitsausführung aus Inspektion\",$O30=\"Arbeiten an Signalanlagen\"),_xlfn.XLOOKUP($W30,Hilfen!$B$30:$B$32,Hilfen!$C$30:$C$32,\"\"),\"\")","v":""},null,null,null,null,null,1,1,{"$f":"IFERROR(VLOOKUP($X30,Hilfen!$A$1:$D$20,4,FALSE),\"\")","v":""},null,null,null,{"$f":"IFERROR(VLOOKUP($X30,Hilfen!$A$1:$B$20,2,FALSE),\"\")","v":""},null,null,null,null,null,"","",{"$f":"IFERROR(VLOOKUP($AF30,Hilfen!$A$1:$B$20,2,FALSE),\"\")","v":""},null,"","","","","","",{"$f":"IFERROR(VLOOKUP($AN30,Hilfen!$A$1:$B$20,2,FALSE),\"\")","v":""},null,"","","","","","",{"$f":"IFERROR(VLOOKUP($AV30,Hilfen!$A$1:$B$20,2,FALSE),\"\")","v":""},null,"","","","","","","","","","",""]
["2025-07-28",null,null,null,null,null,null,null,null,null,{"$f":"IF(OR($O31=\"Arbeitsausführung aus Inspektion\",$O31=\"Arbeiten an Signalanlagen\"),_xlfn.XLOOKUP($W31,Hilfen!$B$30:$B$32,Hilfen!$C$30:$C$32,\"\"),\"\")","v":""},null,null,null,null,null,1,1,{"$f":"IFERROR(VLOOKUP($X31,Hilfen!$A$1:$D$20,4,FALSE),\"\")","v":""},null,null,null,{"$f":"IFERROR(VLOOKUP($X31,Hilfen!$A$1:$B$20,2,FALSE),\"\")","v":""},null,null,null,null,null,"","",{"$f":"IFERROR(VLOOKUP($AF31,Hilfen!$A$1:$B$20,2,FALSE),\"\")","v":""},null,"","","","","","",{"$f":"IFERROR(VLOOKUP($AN31,Hilfen!$A$1:$B$20,2,FALSE),\"\")","v":""},null,"","","","","","",{"$f":"IFERROR(VLOOKUP($AV31,Hilfen!$A$1:$B$20,2,FALSE),\"\")","v":""},null,"","","","","","",8,"","","",""]
["2025-07-29",null,null,null,null,null,null,null,null,null,{"$f":"IF(OR($O32=\"Arbeitsausführung aus Inspektion\",$O32=\"Arbeiten an Signalanlagen\"),_xlfn.XLOOKUP($W32,Hilfen!$B$30:$B$32,Hilfen!$C$30:$C$32,\"\"),\"\")","v":""},null,null,null,null,null,1,1,{"$f":"IFERROR(VLOOKUP($X32,Hilfen!$A$1:$D$20,4,FALSE),\"\")","v":""},null,null,null,{"$f":"IFERROR(VLOOKUP($X32,Hilfen!$A$1:$B$20,2,FALSE),\"\")","v":""},null,null,null,null,null,"","",{"$f":"IFERROR(VLOOKUP($AF32,Hilfen!$A$1:$B$20,2,FALSE),\"\")","v":""},null,"","","","","","",{"$f":"IFERROR(VLOOKUP($AN32,Hilfen!$A$1:$B$20,2,FALSE),\"\")","v":""},null,"","","","","","",{"$f":"IFERROR(VLOOKUP($AV32,Hilfen!$A$1:$B$20,2,FALSE),\"\")","v":""},null,"","","","","","",8,"","","",""]
["2025-07-30",null,null,null,null,null,null,null,null,null,{"$f":"IF(OR($O33=\"Arbeitsausführung aus Inspektion\",$O33=\"Arbeiten an Signalanlagen\"),_xlfn.XLOOKUP($W33,Hilfen!$B$30:$B$32,Hilfen!$C$30:$C$32,\"\"),\"\")","v":""},null,null,null,null,null,1,1,{"$f":"IFERROR(VLOOKUP($X33,Hilfen!$A$1:$D$20,4,FALSE),\"\")","v":""},null,null,null,{"$f":"IFERROR(VLOOKUP($X33,Hilfen!$A$1:$B$20,2,FALSE),\"\")","v":""},null,null,null,null,null,"","",{"$f":"IFERROR(VLOOKUP($AF33,Hilfen!$A$1:$B$20,2,FALSE),\"\")","v":""},null,"","","","","","",{"$f":"IFERROR(VLOOKUP($AN33,Hilfen!$A$1:$B$20,2,FALSE),\"\")","v":""},null,"","","","","","",{"$f":"IFERROR(VLOOKUP($AV33,Hilfen!$A$1:$B$20,2,FALSE),\"\")","v":""},null,"","","","","","",8,"","","",""]
["2025-07-31",null,null,null,null,null,null,null,null,null,{"$f":"IF(OR($O34=\"Arbeitsausführung aus Inspektion\",$O34=\"Arbeiten an Signalanlagen\"),_xlfn.XLOOKUP($W34,Hilfen!$B$30:$B$32,Hilfen!$C$30:$C$32,\"\"),\"\")","v":""},null,null,null,null,null,1,1,{"$f":"IFERROR(VLOOKUP($X34,Hilfen!$A$1:$D$20,4,FALSE),\"\")","v":""},null,null,null,{"$f":"IFERROR(VLOOKUP($X34,Hilfen!$A$1:$B$20,2,FALSE),\"\")","v":""},null,null,null,null,null,"","",{"$f":"IFERROR(VLOOKUP($AF34,Hilfen!$A$1:$B$20,2,FALSE),\"\")","v":""},null,"","","","","","",{"$f":"IFERROR(VLOOKUP($AN34,Hilfen!$A$1:$B$20,2,FALSE),\"\")","v":""},null,"","","","","","",{"$f":"IFERROR(VLOOKUP($AV34,Hilfen!$A$1:$B$20,2,FALSE),\"\")","v":""},null,"","","","","","",8,"","","",""]
[null,null,null,null,null,null,null,null,null,null,null,null,null,null,null,null,null,null,null,null,null,null,null,null,null,null,null,null,null,{"$f":"SUM($AD4:$AD34)","v":0},null,null,null,null,null,null,null,{"$f":"SUM($AL4:$AL34)","v":0},null,null,null,null,null,null,null,{"$f":"SUM($AT4:$AT34)","v":0},null,null,null,null,null,null,null,{"$f":"SUM($BB4:$BB34)","v":0},{"$f":"SUM($BC4:$BC34)","v":180},{"$f":"SUM($BD4:$BD34)","v":0},{"$f":"SUM($BE4:$BE34)","v":0},{"$f":"SUM($BF4:$BF34)","v":0},{"$f":"SUM($BG4:$BG34)","v":0}]
[]
[null,null,null,null,null,null,null,null,null,null,null,null,null,null,null,null,null,null,null,"Zusammen gearbeitet",null,null,"Mitarbeiter 1",null,null,null,null,null,null,null,"Mitarbeiter 2",null,null,null,null,null,null,null,"Mitarbeiter 3",null,null,null,null,null,null,null,"Mitarbeiter 4"]
["Tag","Baustelle",null,null,null,null,null,"Auftragsname","Auftragstyp","Auftragsverantwortlicher","SAP Vorgang","FAT/AAA","Auftragsnummer","Kurznummer","Beschreibung der Tagesleistung","Ausgeführte Arbeiten","Blatt Nr.",null,"Trupp","M 2","M 3","M 4","Funktion","Name","Schicht   Start","Schicht   Ende","Pause  Start","Pause Ende","Pause","Std. gesamt","Funktion","Name","Schicht   Start","Schicht   Ende","Pause  Start","Pause Ende","Pause","Std. gesamt","Funktion","Name","Schicht   Start","Schicht   Ende","Pause  Start","Pause Ende","Pause","Std. gesamt","Funktion","Name","Schicht   Start","Schicht   Ende","Pause  Start","Pause Ende","Pause","Std. gesamt","Zeit Soll","Überzeit Mitarbeiter 1","Überzeit Mitarbeiter 2","Überzeit Mitarbeiter 3","Überzeit Mitarbeiter 4"]
[{"$f":"_xlfn.SEQUENCE(EOMONTH(DATE($J$1,MONTH(H$1),1),0)-DATE($J$1,MONTH(H$1),1)+1,1,DATE($J$1,MONTH(H$1),1))","v":"2025-07-01"},null,null,null,null,null,null,null,null,null,{"$f":"IF(OR($O39=\"Arbeitsausführung aus Inspektion\",$O39=\"Arbeiten an Signalanlagen\"),_xlfn.XLOOKUP($W39,Hilfen!$B$30:$B$32,Hilfen!$C$30:$C$32,\"\"),\"\")","v":""},null,null,null,null,null,1,1,{"$f":"IFERROR(VLOOKUP($X39,Hilfen!$A$1:$D$20,4,FALSE),\"\")","v":""},null,null,null,{"$f":"IFERROR(VLOOKUP($X39,Hilfen!$A$1:$C$20,2,FALSE),\"\")","v":""},null,null,null,null,null,{"$f":"IF($Y39=\"\",\"\",$AB39-$AA39)","v":""},{"$f":"IF($O39=\"JAZ\",_xlfn.NUMBERVALUE(0),IF($O39=\"Urlaub laufendes Jahr\",_xlfn.NUMBERVALUE(7.8),IF($Y39=\"\",\"\",IF($Y39<$Z39,$Z39-$Y39-$AC39,$Z39-$Y39-$AC39+1)*24)))","v":""},{"$f":"IFERROR(VLOOKUP($AF39,Hilfen!$A$1:$B$11,2,FALSE),\"\")","v":""},null,{"$f":"IF($Y39=\"\",\"\",IF($T39=\"X\",$Y39,\"\"))","v":""},{"$f":"IF($Y39=\"\",\"\",IF($T39=\"X\",$Z39,\"\"))","v":""},{"$f":"IF($Y39=\"\",\"\",IF($T39=\"X\",$AA39,\"\"))","v":""},{"$f":"IF($Y39=\"\",\"\",IF($T39=\"X\",$AB39,\"\"))","v":""},{"$f":"IF($Y39=\"\",\"\",IF($AI39=\"\",\"\",$AJ39-$AI39))","v":""},{"$f":"IF($AG39=\"\",\"\",IF($AG39<$AH39,$AH39-$AG39-$AK39,$AH39-$AG39-$AK39+1)*24)","v":""},{"$f":"IFERROR(VLOOKUP($AN39,Hilfen!$A$1:$B$11,2,FALSE),\"\")","v":""},null,{"$f":"IF($Y39=\"\",\"\",IF($U39=\"X\",$Y39,\"\"))","v":""},{"$f":"IF($Y39=\"\",\"\",IF($U39=\"X\",$Z39,\"\"))","v":""},{"$f":"IF($Y39=\"\",\"\",IF($U39=\"X\",$AA39,\"\"))","v":""},{"$f":"IF($Y39=\"\",\"\",IF($U39=\"X\",$AB39,\"\"))","v":""},{"$f":"IF($Y39=\"\",\"\",IF($AQ39=\"\",\"\",$AR39-$AQ39))","v":""},{"$f":"IF($AO39=\"\",\"\",IF($AO39<$AP39,$AP39-$AO39-$AS39,$AP39-$AO39-$AS39+1)*24)","v":""},{"$f":"IFERROR(VLOOKUP($AV39,Hilfen!$A$1:$B$11,2,FALSE),\"\")","v":""},null,{"$f":"IF($Y39=\"\",\"\",IF($V39=\"X\",$Y39,\"\"))","v":""},{"$f":"IF($Y39=\"\",\"\",IF($V39=\"X\",$Z39,\"\"))","v":""},{"$f":"IF($Y39=\"\",\"\",IF($V39=\"X\",$AA39,\"\"))","v":""},{"$f":"IF($Y39=\"\",\"\",IF($V39=\"X\",$AB39,\"\"))","v":""},{"$f":"IF($Y39=\"\",\"\",IF($AY39=\"\",\"\",$AZ39-$AY39))","v":""},{"$f":"IF($AW39=\"\",\"\",IF($AW39<$AX39,$AX39-$AW39-$BA39,$AX39-$AW39-$BA39+1)*24)","v":""},{"$f":"IF(OR(WEEKDAY($A39,2)=6,WEEKDAY($A39,2)=7),\"\",IF(WEEKDAY($A39,2)=5,_xlfn.NUMBERVALUE(7),IF(WEEKDAY($A39,2)<5,_xlfn.NUMBERVALUE(8),\"\")))","v":8},{"$f":"IF(OR(WEEKDAY($A39,2)=6,WEEKDAY($A39,2)=7),$AD39,IF($AD39=\"\",\"\",$AD39-$BC39))","v":""},{"$f":"IF(OR(WEEKDAY($A39,2)=6,WEEKDAY($A39,2)=7),$AL39,IF($AL39=\"\",\"\",$AL39-$BC39))","v":""},{"$f":"IF(OR(WEEKDAY($A39,2)=6,WEEKDAY($A39,2)=7),$AT39,IF($AT39=\"\",\"\",$AT39-$BC39))","v":""},{"$f":"IF(OR(WEEKDAY($A39,2)=6,WEEKDAY($A39,2)=7),$BB39,IF($BB39=\"\",\"\",$BB39-$BC39))","v":""}]
["2025-07-02",null,null,null,null,null,null,null,null,null,{"$f":"IF(OR($O40=\"Arbeitsausführung aus Inspektion\",$O40=\"Arbeiten an Signalanlagen\"),_xlfn.XLOOKUP($W40,Hilfen!$B$30:$B$32,Hilfen!$C$30:$C$32,\"\"),\"\")","v":""},null,null,null,null,null,1,1,{"$f":"IFERROR(VLOOKUP($X40,Hilfen!$A$1:$D$20,4,FALSE),\"\")","v":""},null,null,null,{"$f":"IFERROR(VLOOKUP($X40,Hilfen!$A$1:$C$20,2,FALSE),\"\")","v":""},null,null,null,null,null,{"$f":"IF($Y40=\"\",\"\",$AB40-$AA40)","v":""},{"$f":"IF($O40=\"JAZ\",_xlfn.NUMBERVALUE(0),IF($O40=\"Urlaub laufendes Jahr\",_xlfn.NUMBERVALUE(7.8),IF($Y40=\"\",\"\",IF($Y40<$Z40,$Z40-$Y40-$AC40,$Z40-$Y40-$AC40+1)*24)))","v":""},{"$f":"IFERROR(VLOOKUP(AF40,Hilfen!$A$1:$B$11,2,FALSE),\"\")","v":""},null,{"$f":"IF($Y40=\"\",\"\",IF($T40=\"X\",$Y40,\"\"))","v":""},{"$f":"IF($Y40=\"\",\"\",IF($T40=\"X\",$Z40,\"\"))","v":""},{"$f":"IF($Y40=\"\",\"\",IF($T40=\"X\",$AA40,\"\"))","v":""},{"$f":"IF($Y40=\"\",\"\",IF($T40=\"X\",$AB40,\"\"))","v":""},{"$f":"IF($Y40=\"\",\"\",IF($AI40=\"\",\"\",$AJ40-$AI40))","v":""},{"$f":"IF($AG40=\"\",\"\",IF($AG40<$AH40,$AH40-$AG40-$AK40,$AH40-$AG40-$AK40+1)*24)","v":""},{"$f":"IFERROR(VLOOKUP($AN40,Hilfen!$A$1:$B$11,2,FALSE),\"\")","v":""},null,{"$f":"IF($Y40=\"\",\"\",IF($U40=\"X\",$Y40,\"\"))","v":""},{"$f":"IF($Y40=\"\",\"\",IF($U40=\"X\",$Z40,\"\"))","v":""},{"$f":"IF($Y40=\"\",\"\",IF($U40=\"X\",$AA40,\"\"))","v":""},{"$f":"IF($Y40=\"\",\"\",IF($U40=\"X\",$AB40,\"\"))","v":""},{"$f":"IF($Y40=\"\",\"\",IF($AQ40=\"\",\"\",$AR40-$AQ40))","v":""},{"$f":"IF($AO40=\"\",\"\",IF($AO40<$AP40,$AP40-$AO40-$AS40,$AP40-$AO40-$AS40+1)*24)","v":""},{"$f":"IFERROR(VLOOKUP($AV40,Hilfen!$A$1:$B$11,2,FALSE),\"\")","v":""},null,{"$f":"IF($Y40=\"\",\"\",IF($V40=\"X\",$Y40,\"\"))","v":""},{"$f":"IF($Y40=\"\",\"\",IF($V40=\"X\",$Z40,\"\"))","v":""},{"$f":"IF($Y40=\"\",\"\",IF($V40=\"X\",$AA40,\"\"))","v":""},{"$f":"IF($Y40=\"\",\"\",IF($V40=\"X\",$AB40,\"\"))","v":""},{"$f":"IF($Y40=\"\",\"\",IF($AY40=\"\",\"\",$AZ40-$AY40))","v":""},{"$f":"IF($AW40=\"\",\"\",IF($AW40<$AX40,$AX40-$AW40-$BA40,$AX40-$AW40-$BA40+1)*24)","v":""},{"$f":"IF(OR(WEEKDAY($A40,2)=6,WEEKDAY($A40,2)=7),\"\",IF(WEEKDAY($A40,2)=5,_xlfn.NUMBERVALUE(7),IF(WEEKDAY($A40,2)<5,_xlfn.NUMBERVALUE(8),\"\")))","v":8},{"$f":"IF(OR(WEEKDAY($A40,2)=6,WEEKDAY($A40,2)=7),$AD40,IF($AD40=\"\",\"\",$AD40-$BC40))","v":""},{"$f":"IF(OR(WEEKDAY($A40,2)=6,WEEKDAY($A40,2)=7),$AL40,IF($AL40=\"\",\"\",$AL40-$BC40))","v":""},{"$f":"IF(OR(WEEKDAY($A40,2)=6,WEEKDAY($A40,2)=7),$AT40,IF($AT40=\"\",\"\",$AT40-$BC40))","v":""},{"$f":"IF(OR(WEEKDAY($A40,2)=6,WEEKDAY($A40,2)=7),$BB40,IF($BB40=\"\",\"\",$BB40-$BC40))","v":""}]
["2025-07-03",null,null,null,null,null,null,null,null,null,{"$f":"IF(OR($O41=\"Arbeitsausführung aus Inspektion\",$O41=\"Arbeiten an Signalanlagen\"),_xlfn.XLOOKUP($W41,Hilfen!$B$30:$B$32,Hilfen!$C$30:$C$32,\"\"),\"\")","v":""},null,null,null,null,null,1,1,{"$f":"IFERROR(VLOOKUP($X41,Hilfen!$A$1:$D$20,4,FALSE),\"\")","v":""},null,null,null,{"$f":"IFERROR(VLOOKUP($X41,Hilfen!$A$1:$C$20,2,FALSE),\"\")","v":""},null,null,null,null,null,"","",{"$f":"IFERROR(VLOOKUP(AF41,Hilfen!$A$1:$B$11,2,FALSE),\"\")","v":""},null,"","",{"$f":"IF($Y41=\"\",\"\",IF($T41=\"X\",$AA41,\"\"))","v":""},{"$f":"IF($Y41=\"\",\"\",IF($T41=\"X\",$AB41,\"\"))","v":""},"","",{"$f":"IFERROR(VLOOKUP($AN41,Hilfen!$A$1:$B$11,2,FALSE),\"\")","v":""},null,"","",{"$f":"IF($Y41=\"\",\"\",IF($U41=\"X\",$AA41,\"\"))","v":""},{"$f":"IF($Y41=\"\",\"\",IF($U41=\"X\",$AB41,\"\"))","v":""},"","",{"$f":"IFERROR(VLOOKUP($AV41,Hilfen!$A$1:$B$11,2,FALSE),\"\")","v":""},null,"","",{"$f":"IF($Y41=\"\",\"\",IF($V41=\"X\",$AA41,\"\"))","v":""},{"$f":"IF($Y41=\"\",\"\",IF($V41=\"X\",$AB41,\"\"))","v":""},"","",8,"","","",""]
["2025-07-04",null,null,null,null,null,null,null,null,null,{"$f":"IF(OR($O42=\"Arbeitsausführung aus Inspektion\",$O42=\"Arbeiten an Signalanlagen\"),_xlfn.XLOOKUP($W42,Hilfen!$B$30:$B$32,Hilfen!$C$30:$C$32,\"\"),\"\")","v":""},null,null,null,null,null,1,1,{"$f":"IFERROR(VLOOKUP($X42,Hilfen!$A$1:$D$20,4,FALSE),\"\")","v":""},null,null,null,{"$f":"IFERROR(VLOOKUP($X42,Hilfen!$A$1:$C$20,2,FALSE),\"\")","v":""},null,null,null,null,null,"","",{"$f":"IFERROR(VLOOKUP(AF42,Hilfen!$A$1:$B$11,2,FALSE),\"\")","v":""},null,"","",{"$f":"IF($Y42=\"\",\"\",IF($T42=\"X\",$AA42,\"\"))","v":""},{"$f":"IF($Y42=\"\",\"\",IF($T42=\"X\",$AB42,\"\"))","v":""},"","",{"$f":"IFERROR(VLOOKUP($AN42,Hilfen!$A$1:$B$11,2,FALSE),\"\")","v":""},null,"","",{"$f":"IF($Y42=\"\",\"\",IF($U42=\"X\",$AA42,\"\"))","v":""},{"$f":"IF($Y42=\"\",\"\",IF($U42=\"X\",$AB42,\"\"))","v":""},"","",{"$f":"IFERROR(VLOOKUP($AV42,Hilfen!$A$1:$B$11,2,FALSE),\"\")","v":""},null,"","",{"$f":"IF($Y42=\"\",\"\",IF($V42=\"X\",$AA42,\"\"))","v":""},{"$f":"IF($Y42=\"\",\"\",IF($V42=\"X\",$AB42,\"\"))","v":""},"","",7,"","","",""]
["2025-07-05",null,null,null,null,null,null,null,null,null,{"$f":"IF(OR($O43=\"Arbeitsausführung aus Inspektion\",$O43=\"Arbeiten an Signalanlagen\"),_xlfn.XLOOKUP($W43,Hilfen!$B$30:$B$32,Hilfen!$C$30:$C$32,\"\"),\"\")","v":""},null,null,null,null,null,1,1,{"$f":"IFERROR(VLOOKUP($X43,Hilfen!$A$1:$D$20,4,FALSE),\"\")","v":""},null,null,null,{"$f":"IFERROR(VLOOKUP($X43,Hilfen!$A$1:$C$20,2,FALSE),\"\")","v":""},null,null,null,null,null,"","",{"$f":"IFERROR(VLOOKUP(AF43,Hilfen!$A$1:$B$11,2,FALSE),\"\")","v":""},null,"","","","","","",{"$f":"IFERROR(VLOOKUP($AN43,Hilfen!$A$1:$B$11,2,FALSE),\"\")","v":""},null,"","","","","","",{"$f":"IFERROR(VLOOKUP($AV43,Hilfen!$A$1:$B$11,2,FALSE),\"\")","v":""},null,"","","","","","","","","","",""]
["2025-07-06",null,null,null,null,null,null,null,null,null,{"$f":"IF(OR($O44=\"Arbeitsausführung aus Inspektion\",$O44=\"Arbeiten an Signalanlagen\"),_xlfn.XLOOKUP($W44,Hilfen!$B$30:$B$32,Hilfen!$C$30:$C$32,\"\"),\"\")","v":""},null,null,null,null,null,1,1,{"$f":"IFERROR(VLOOKUP($X44,Hilfen!$A$1:$D$20,4,FALSE),\"\")","v":""},null,null,null,{"$f":"IFERROR(VLOOKUP($X44,Hilfen!$A$1:$C$20,2,FALSE),\"\")","v":""},null,null,null,null,null,"","",{"$f":"IFERROR(VLOOKUP(AF44,Hilfen!$A$1:$B$11,2,FALSE),\"\")","v":""},null,"","","","","","",{"$f":"IFERROR(VLOOKUP($AN44,Hilfen!$A$1:$B$11,2,FALSE),\"\")","v":""},null,"",{"$f":"IF($Y44=\"\",\"\",IF($U44=\"X\",$Z44,\"\"))","v":""},"","","","",{"$f":"IFERROR(VLOOKUP($AV44,Hilfen!$A$1:$B$11,2,FALSE),\"\")","v":""},null,"","","","","","","","","","",""]
["2025-07-07",null,null,null,null,null,null,null,null,null,{"$f":"IF(OR($O45=\"Arbeitsausführung aus Inspektion\",$O45=\"Arbeiten an Signalanlagen\"),_xlfn.XLOOKUP($W45,Hilfen!$B$30:$B$32,Hilfen!$C$30:$C$32,\"\"),\"\")","v":""},null,null,null,null,null,1,1,{"$f":"IFERROR(VLOOKUP($X45,Hilfen!$A$1:$D$20,4,FALSE),\"\")","v":""},null,null,null,{"$f":"IFERROR(VLOOKUP($X45,Hilfen!$A$1:$C$20,2,FALSE),\"\")","v":""},null,null,null,null,null,"","",{"$f":"IFERROR(VLOOKUP(AF45,Hilfen!$A$1:$B$11,2,FALSE),\"\")","v":""},null,"","","","","","",{"$f":"IFERROR(VLOOKUP($AN45,Hilfen!$A$1:$B$11,2,FALSE),\"\")","v":""},null,"","","","","","",{"$f":"IFERROR(VLOOKUP($AV45,Hilfen!$A$1:$B$11,2,FALSE),\"\")","v":""},null,"","","","","","",8,"","","",""]
["2025-07-08",null,null,null,null,null,null,null,null,null,{"$f":"IF(OR($O46=\"Arbeitsausführung aus Inspektion\",$O46=\"Arbeiten an Signalanlagen\"),_xlfn.XLOOKUP($W46,Hilfen!$B$30:$B$32,Hilfen!$C$30:$C$32,\"\"),\"\")","v":""},null,null,null,null,null,1,1,{"$f":"IFERROR(VLOOKUP($X46,Hilfen!$A$1:$D$20,4,FALSE),\"\")","v":""},null,null,null,{"$f":"IFERROR(VLOOKUP($X46,Hilfen!$A$1:$C$20,2,FALSE),\"\")","v":""},null,null,null,null,null,"","",{"$f":"IFERROR(VLOOKUP(AF46,Hilfen!$A$1:$B$11,2,FALSE),\"\")","v":""},null,"","","","","","",{"$f":"IFERROR(VLOOKUP($AN46,Hilfen!$A$1:$B$11,2,FALSE),\"\")","v":""},null,"","","","","","",{"$f":"IFERROR(VLOOKUP($AV46,Hilfen!$A$1:$B$11,2,FALSE),\"\")","v":""},null,"","","","","","",8,"","","",""]
["2025-07-09",null,null,null,null,null,null,null,null,null,{"$f":"IF(OR($O47=\"Arbeitsausführung aus Inspektion\",$O47=\"Arbeiten an Signalanlagen\"),_xlfn.XLOOKUP($W47,Hilfen!$B$30:$B$32,Hilfen!$C$30:$C$32,\"\"),\"\")","v":""},null,null,null,null,null,1,1,{"$f":"IFERROR(VLOOKUP($X47,Hilfen!$A$1:$D$20,4,FALSE),\"\")","v":""},null,null,null,{"$f":"IFERROR(VLOOKUP($X47,Hilfen!$A$1:$C$20,2,FALSE),\"\")","v":""},null,null,null,null,null,"","",{"$f":"IFERROR(VLOOKUP(AF47,Hilfen!$A$1:$B$11,2,FALSE),\"\")","v":""},null,"","","","","","",{"$f":"IFERROR(VLOOKUP($AN47,Hilfen!$A$1:$B$11,2,FALSE),\"\")","v":""},null,"","","","","","",{"$f":"IFERROR(VLOOKUP($AV47,Hilfen!$A$1:$B$11,2,FALSE),\"\")","v":""},null,"","","","","","",8,"","","",""]
["2025-07-10",null,null,null,null,null,null,null,null,null,{"$f":"IF(OR($O48=\"Arbeitsausführung aus Inspektion\",$O48=\"Arbeiten an Signalanlagen\"),_xlfn.XLOOKUP($W48,Hilfen!$B$30:$B$32,Hilfen!$C$30:$C$32,\"\"),\"\")","v":""},null,null,null,null,null,1,1,{"$f":"IFERROR(VLOOKUP($X48,Hilfen!$A$1:$D$20,4,FALSE),\"\")","v":""},null,null,null,{"$f":"IFERROR(VLOOKUP($X48,Hilfen!$A$1:$C$20,2,FALSE),\"\")","v":""},null,null,null,null,null,"","",{"$f":"IFERROR(VLOOKUP(AF48,Hilfen!$A$1:$B$11,2,FALSE),\"\")","v":""},null,"","","","","","",{"$f":"IFERROR(VLOOKUP($AN48,Hilfen!$A$1:$B$11,2,FALSE),\"\")","v":""},null,"","","","","","",{"$f":"IFERROR(VLOOKUP($AV48,Hilfen!$A$1:$B$11,2,FALSE),\"\")","v":""},null,"","","","","","",8,"","","",""]
["2025-07-11",null,null,null,null,null,null,null,null,null,{"$f":"IF(OR($O49=\"Arbeitsausführung aus Inspektion\",$O49=\"Arbeiten an Signalanlagen\"),_xlfn.XLOOKUP($W49,Hilfen!$B$30:$B$32,Hilfen!$C$30:$C$32,\"\"),\"\")","v":""},null,null,null,null,null,1,1,{"$f":"IFERROR(VLOOKUP($X49,Hilfen!$A$1:$D$20,4,FALSE),\"\")","v":""},null,null,null,{"$f":"IFERROR(VLOOKUP($X49,Hilfen!$A$1:$C$20,2,FALSE),\"\")","v":""},null,null,null,null,null,"","",{"$f":"IFERROR(VLOOKUP(AF49,Hilfen!$A$1:$B$11,2,FALSE),\"\")","v":""},null,"","","","","","",{"$f":"IFERROR(VLOOKUP($AN49,Hilfen!$A$1:$B$11,2,FALSE),\"\")","v":""},null,"","","","","","",{"$f":"IFERROR(VLOOKUP($AV49,Hilfen!$A$1:$B$11,2,FALSE),\"\")","v":""},null,"","","","","","",7,"","","",""]
["2025-07-12",null,null,null,null,null,null,null,null,null,{"$f":"IF(OR($O50=\"Arbeitsausführung aus Inspektion\",$O50=\"Arbeiten an Signalanlagen\"),_xlfn.XLOOKUP($W50,Hilfen!$B$30:$B$32,Hilfen!$C$30:$C$32,\"\"),\"\")","v":""},null,null,null,null,null,1,1,{"$f":"IFERROR(VLOOKUP($X50,Hilfen!$A$1:$D$20,4,FALSE),\"\")","v":""},null,null,null,{"$f":"IFERROR(VLOOKUP($X50,Hilfen!$A$1:$C$20,2,FALSE),\"\")","v":""},null,null,null,null,null,"","",{"$f":"IFERROR(VLOOKUP(AF50,Hilfen!$A$1:$B$11,2,FALSE),\"\")","v":""},null,"","","","","","",{"$f":"IFERROR(VLOOKUP($AN50,Hilfen!$A$1:$B$11,2,FALSE),\"\")","v":""},null,"","","","","","",{"$f":"IFERROR(VLOOKUP($AV50,Hilfen!$A$1:$B$11,2,FALSE),\"\")","v":""},null,"","","","","","","","","","",""]
["2025-07-13",null,null,null,null,null,null,null,null,null,{"$f":"IF(OR($O51=\"Arbeitsausführung aus Inspektion\",$O51=\"Arbeiten an Signalanlagen\"),_xlfn.XLOOKUP($W51,Hilfen!$B$30:$B$32,Hilfen!$C$30:$C$32,\"\"),\"\")","v":""},null,null,null,null,null,1,1,{"$f":"IFERROR(VLOOKUP($X51,Hilfen!$A$1:$D$20,4,FALSE),\"\")","v":""},null,null,null,{"$f":"IFERROR(VLOOKUP($X51,Hilfen!$A$1:$C$20,2,FALSE),\"\")","v":""},null,null,null,null,null,"","",{"$f":"IFERROR(VLOOKUP(AF51,Hilfen!$A$1:$B$11,2,FALSE),\"\")","v":""},null,"","","","","","",{"$f":"IFERROR(VLOOKUP($AN51,Hilfen!$A$1:$B$11,2,FALSE),\"\")","v":""},null,"","","","","","",{"$f":"IFERROR(VLOOKUP($AV51,Hilfen!$A$1:$B$11,2,FALSE),\"\")","v":""},null,"","","","","","","","","","",""]
["2025-07-14",null,null,null,null,null,null,null,null,null,{"$f":"IF(OR($O52=\"Arbeitsausführung aus Inspektion\",$O52=\"Arbeiten an Signalanlagen\"),_xlfn.XLOOKUP($W52,Hilfen!$B$30:$B$32,Hilfen!$C$30:$C$32,\"\"),\"\")","v":""},null,null,null,null,null,1,1,{"$f":"IFERROR(VLOOKUP($X52,Hilfen!$A$1:$D$20,4,FALSE),\"\")","v":""},null,null,null,{"$f":"IFERROR(VLOOKUP($X52,Hilfen!$A$1:$C$20,2,FALSE),\"\")","v":""},null,null,null,null,null,"","",{"$f":"IFERROR(VLOOKUP(AF52,Hilfen!$A$1:$B$11,2,FALSE),\"\")","v":""},null,"","","","","","",{"$f":"IFERROR(VLOOKUP($AN52,Hilfen!$A$1:$B$11,2,FALSE),\"\")","v":""},null,"","","","","","",{"$f":"IFERROR(VLOOKUP($AV52,Hilfen!$A$1:$B$11,2,FALSE),\"\")","v":""},null,"","","","","","",8,"","","",""]
["2025-07-15",null,null,null,null,null,null,null,null,null,{"$f":"IF(OR($O53=\"Arbeitsausführung aus Inspektion\",$O53=\"Arbeiten an Signalanlagen\"),_xlfn.XLOOKUP($W53,Hilfen!$B$30:$B$32,Hilfen!$C$30:$C$32,\"\"),\"\")","v":""},null,null,null,null,null,1,1,{"$f":"IFERROR(VLOOKUP($X53,Hilfen!$A$1:$D$20,4,FALSE),\"\")","v":""},null,null,null,{"$f":"IFERROR(VLOOKUP($X53,Hilfen!$A$1:$C$20,2,FALSE),\"\")","v":""},null,null,null,null,null,"","",{"$f":"IFERROR(VLOOKUP(AF53,Hilfen!$A$1:$B$11,2,FALSE),\"\")","v":""},null,"","","","","","",{"$f":"IFERROR(VLOOKUP($AN53,Hilfen!$A$1:$B$11,2,FALSE),\"\")","v":""},null,"","","","","","",{"$f":"IFERROR(VLOOKUP($AV53,Hilfen!$A$1:$B$11,2,FALSE),\"\")","v":""},null,"","","","","","",8,"","","",""]
["2025-07-16",null,null,null,null,null,null,null,null,null,{"$f":"IF(OR($O54=\"Arbeitsausführung aus Inspektion\",$O54=\"Arbeiten an Signalanlagen\"),_xlfn.XLOOKUP($W54,Hilfen!$B$30:$B$32,Hilfen!$C$30:$C$32,\"\"),\"\")","v":""},null,null,null,null,null,1,1,{"$f":"IFERROR(VLOOKUP($X54,Hilfen!$A$1:$D$20,4,FALSE),\"\")","v":""},null,null,null,{"$f":"IFERROR(VLOOKUP($X54,Hilfen!$A$1:$C$20,2,FALSE),\"\")","v":""},null,null,null,null,null,"","",{"$f":"IFERROR(VLOOKUP(AF54,Hilfen!$A$1:$B$11,2,FALSE),\"\")","v":""},null,"","","","","","",{"$f":"IFERROR(VLOOKUP($AN54,Hilfen!$A$1:$B$11,2,FALSE),\"\")","v":""},null,"","","","","","",{"$f":"IFERROR(VLOOKUP($AV54,Hilfen!$A$1:$B$11,2,FALSE),\"\")","v":""},null,"","","","","","",8,"","","",""]
["2025-07-17",null,null,null,null,null,null,null,null,null,{"$f":"IF(OR($O55=\"Arbeitsausführung aus Inspektion\",$O55=\"Arbeiten an Signalanlagen\"),_xlfn.XLOOKUP($W55,Hilfen!$B$30:$B$32,Hilfen!$C$30:$C$32,\"\"),\"\")","v":""},null,null,null,null,null,1,1,{"$f":"IFERROR(VLOOKUP($X55,Hilfen!$A$1:$D$20,4,FALSE),\"\")","v":""},null,null,null,{"$f":"IFERROR(VLOOKUP($X55,Hilfen!$A$1:$C$20,2,FALSE),\"\")","v":""},null,null,null,null,null,"","",{"$f":"IFERROR(VLOOKUP(AF55,Hilfen!$A$1:$B$11,2,FALSE),\"\")","v":""},null,"","","","","","",{"$f":"IFERROR(VLOOKUP($AN55,Hilfen!$A$1:$B$11,2,FALSE),\"\")","v":""},null,"","","","","","",{"$f":"IFERROR(VLOOKUP($AV55,Hilfen!$A$1:$B$11,2,FALSE),\"\")","v":""},null,"","","","","","",8,"","","",""]
["2025-07-18",null,null,null,null,null,null,null,null,null,{"$f":"IF(OR($O56=\"Arbeitsausführung aus Inspektion\",$O56=\"Arbeiten an Signalanlagen\"),_xlfn.XLOOKUP($W56,Hilfen!$B$30:$B$32,Hilfen!$C$30:$C$32,\"\"),\"\")","v":""},null,null,null,null,null,1,1,{"$f":"IFERROR(VLOOKUP($X56,Hilfen!$A$1:$D$20,4,FALSE),\"\")","v":""},null,null,null,{"$f":"IFERROR(VLOOKUP($X56,Hilfen!$A$1:$C$20,2,FALSE),\"\")","v":""},null,null,null,null,null,"","",{"$f":"IFERROR(VLOOKUP(AF56,Hilfen!$A$1:$B$11,2,FALSE),\"\")","v":""},null,"","","","","","",{"$f":"IFERROR(VLOOKUP($AN56,Hilfen!$A$1:$B$11,2,FALSE),\"\")","v":""},null,"","","","","","",{"$f":"IFERROR(VLOOKUP($AV56,Hilfen!$A$1:$B$11,2,FALSE),\"\")","v":""},null,"","","","","","",7,"","","",""]
["2025-07-19",null,null,null,null,null,null,null,null,null,{"$f":"IF(OR($O57=\"Arbeitsausführung aus Inspektion\",$O57=\"Arbeiten an Signalanlagen\"),_xlfn.XLOOKUP($W57,Hilfen!$B$30:$B$32,Hilfen!$C$30:$C$32,\"\"),\"\")","v":""},null,null,null,null,null,1,1,{"$f":"IFERROR(VLOOKUP($X57,Hilfen!$A$1:$D$20,4,FALSE),\"\")","v":""},null,null,null,{"$f":"IFERROR(VLOOKUP($X57,Hilfen!$A$1:$C$20,2,FALSE),\"\")","v":""},null,null,null,null,null,"","",{"$f":"IFERROR(VLOOKUP(AF57,Hilfen!$A$1:$B$11,2,FALSE),\"\")","v":""},null,"","","","","","",{"$f":"IFERROR(VLOOKUP($AN57,Hilfen!$A$1:$B$11,2,FALSE),\"\")","v":""},null,"","","","","","",{"$f":"IFERROR(VLOOKUP($AV57,Hilfen!$A$1:$B$11,2,FALSE),\"\")","v":""},null,"","","","","","","","","","",""]
["2025-07-20",null,null,null,null,null,null,null,null,null,{"$f":"IF(OR($O58=\"Arbeitsausführung aus Inspektion\",$O58=\"Arbeiten an Signalanlagen\"),_xlfn.XLOOKUP($W58,Hilfen!$B$30:$B$32,Hilfen!$C$30:$C$32,\"\"),\"\")","v":""},null,null,null,null,null,1,1,{"$f":"IFERROR(VLOOKUP($X58,Hilfen!$A$1:$D$20,4,FALSE),\"\")","v":""},null,null,null,{"$f":"IFERROR(VLOOKUP($X58,Hilfen!$A$1:$C$20,2,FALSE),\"\")","v":""},null,null,null,null,null,"","",{"$f":"IFERROR(VLOOKUP(AF58,Hilfen!$A$1:$B$11,2,FALSE),\"\")","v":""},null,"","","","","","",{"$f":"IFERROR(VLOOKUP($AN58,Hilfen!$A$1:$B$11,2,FALSE),\"\")","v":""},null,"","","","","","",{"$f":"IFERROR(VLOOKUP($AV58,Hilfen!$A$1:$B$11,2,FALSE),\"\")","v":""},null,"","","","","","","","","","",""]
["2025-07-21",null,null,null,null,null,null,null,null,null,{"$f":"IF(OR($O59=\"Arbeitsausführung aus Inspektion\",$O59=\"Arbeiten an Signalanlagen\"),_xlfn.XLOOKUP($W59,Hilfen!$B$30:$B$32,Hilfen!$C$30:$C$32,\"\"),\"\")","v":""},null,null,null,null,null,1,1,{"$f":"IFERROR(VLOOKUP($X59,Hilfen!$A$1:$D$20,4,FALSE),\"\")","v":""},null,null,null,{"$f":"IFERROR(VLOOKUP($X59,Hilfen!$A$1:$C$20,2,FALSE),\"\")","v":""},null,null,null,null,null,"","",{"$f":"IFERROR(VLOOKUP(AF59,Hilfen!$A$1:$B$11,2,FALSE),\"\")","v":""},null,"","","","","","",{"$f":"IFERROR(VLOOKUP($AN59,Hilfen!$A$1:$B$11,2,FALSE),\"\")","v":""},null,"","","","","","",{"$f":"IFERROR(VLOOKUP($AV59,Hilfen!$A$1:$B$11,2,FALSE),\"\")","v":""},null,"","","","","","",8,"","","",""]
["2025-07-22",null,null,null,null,null,null,null,null,null,{"$f":"IF(OR($O60=\"Arbeitsausführung aus Inspektion\",$O60=\"Arbeiten an Signalanlagen\"),_xlfn.XLOOKUP($W60,Hilfen!$B$30:$B$32,Hilfen!$C$30:$C$32,\"\"),\"\")","v":""},null,null,null,null,null,1,1,{"$f":"IFERROR(VLOOKUP($X60,Hilfen!$A$1:$D$20,4,FALSE),\"\")","v":""},null,null,null,{"$f":"IFERROR(VLOOKUP($X60,Hilfen!$A$1:$C$20,2,FALSE),\"\")","v":""},null,null,null,null,null,"","",{"$f":"IFERROR(VLOOKUP(AF60,Hilfen!$A$1:$B$11,2,FALSE),\"\")","v":""},null,"","","","","","",{"$f":"IFERROR(VLOOKUP($AN60,Hilfen!$A$1:$B$11,2,FALSE),\"\")","v":""},null,"","","","","","",{"$f":"IFERROR(VLOOKUP($AV60,Hilfen!$A$1:$B$11,2,FALSE),\"\")","v":""},null,"","","","","","",8,"","","",""]
["2025-07-23",null,null,null,null,null,null,null,null,null,{"$f":"IF(OR($O61=\"Arbeitsausführung aus Inspektion\",$O61=\"Arbeiten an Signalanlagen\"),_xlfn.XLOOKUP($W61,Hilfen!$B$30:$B$32,Hilfen!$C$30:$C$32,\"\"),\"\")","v":""},null,null,null,null,null,1,1,{"$f":"IFERROR(VLOOKUP($X61,Hilfen!$A$1:$D$20,4,FALSE),\"\")","v":""},null,null,null,{"$f":"IFERROR(VLOOKUP($X61,Hilfen!$A$1:$C$20,2,FALSE),\"\")","v":""},null,null,null,null,null,"","",{"$f":"IFERROR(VLOOKUP(AF61,Hilfen!$A$1:$B$11,2,FALSE),\"\")","v":""},null,"","","","","","",{"$f":"IFERROR(VLOOKUP($AN61,Hilfen!$A$1:$B$11,2,FALSE),\"\")","v":""},null,"","","","","","",{"$f":"IFERROR(VLOOKUP($AV61,Hilfen!$A$1:$B$11,2,FALSE),\"\")","v":""},null,"","","","","","",8,"","","",""]
["2025-07-24",null,null,null,null,null,null,null,null,null,{"$f":"IF(OR($O62=\"Arbeitsausführung aus Inspektion\",$O62=\"Arbeiten an Signalanlagen\"),_xlfn.XLOOKUP($W62,Hilfen!$B$30:$B$32,Hilfen!$C$30:$C$32,\"\"),\"\")","v":""},null,null,null,null,null,1,1,{"$f":"IFERROR(VLOOKUP($X62,Hilfen!$A$1:$D$20,4,FALSE),\"\")","v":""},null,null,null,{"$f":"IFERROR(VLOOKUP($X62,Hilfen!$A$1:$C$20,2,FALSE),\"\")","v":""},null,null,null,null,null,"","",{"$f":"IFERROR(VLOOKUP(AF62,Hilfen!$A$1:$B$11,2,FALSE),\"\")","v":""},null,"","","","","","",{"$f":"IFERROR(VLOOKUP($AN62,Hilfen!$A$1:$B$11,2,FALSE),\"\")","v":""},null,"","","","","","",{"$f":"IFERROR(VLOOKUP($AV62,Hilfen!$A$1:$B$11,2,FALSE),\"\")","v":""},null,"","","","","","",8,"","","",""]
["2025-07-25",null,null,null,null,null,null,null,null,null,{"$f":"IF(OR($O63=\"Arbeitsausführung aus Inspektion\",$O63=\"Arbeiten an Signalanlagen\"),_xlfn.XLOOKUP($W63,Hilfen!$B$30:$B$32,Hilfen!$C$30:$C$32,\"\"),\"\")","v":""},null,null,null,null,null,1,1,{"$f":"IFERROR(VLOOKUP($X63,Hilfen!$A$1:$D$20,4,FALSE),\"\")","v":""},null,null,null,{"$f":"IFERROR(VLOOKUP($X63,Hilfen!$A$1:$C$20,2,FALSE),\"\")","v":""},null,null,null,null,null,"","",{"$f":"IFERROR(VLOOKUP(AF63,Hilfen!$A$1:$B$11,2,FALSE),\"\")","v":""},null,"","","","","","",{"$f":"IFERROR(VLOOKUP($AN63,Hilfen!$A$1:$B$11,2,FALSE),\"\")","v":""},null,"","","","","","",{"$f":"IFERROR(VLOOKUP($AV63,Hilfen!$A$1:$B$11,2,FALSE),\"\")","v":""},null,"","","","","","",7,"","","",""]
["2025-07-26",null,null,null,null,null,null,null,null,null,{"$f":"IF(OR($O64=\"Arbeitsausführung aus Inspektion\",$O64=\"Arbeiten an Signalanlagen\"),_xlfn.XLOOKUP($W64,Hilfen!$B$30:$B$32,Hilfen!$C$30:$C$32,\"\"),\"\")","v":""},null,null,null,null,null,1,1,{"$f":"IFERROR(VLOOKUP($X64,Hilfen!$A$1:$D$20,4,FALSE),\"\")","v":""},null,null,null,{"$f":"IFERROR(VLOOKUP($X64,Hilfen!$A$1:$C$20,2,FALSE),\"\")","v":""},null,null,null,null,null,"","",{"$f":"IFERROR(VLOOKUP(AF64,Hilfen!$A$1:$B$11,2,FALSE),\"\")","v":""},null,"","","","","","",{"$f":"IFERROR(VLOOKUP($AN64,Hilfen!$A$1:$B$11,2,FALSE),\"\")","v":""},null,"","","","","","",{"$f":"IFERROR(VLOOKUP($AV64,Hilfen!$A$1:$B$11,2,FALSE),\"\")","v":""},null,"","","","","","","","","","",""]
["2025-07-27",null,null,null,null,null,null,null,null,null,{"$f":"IF(OR($O65=\"Arbeitsausführung aus Inspektion\",$O65=\"Arbeiten an Signalanlagen\"),_xlfn.XLOOKUP($W65,Hilfen!$B$30:$B$32,Hilfen!$C$30:$C$32,\"\"),\"\")","v":""},null,null,null,null,null,1,1,{"$f":"IFERROR(VLOOKUP($X65,Hilfen!$A$1:$D$20,4,FALSE),\"\")","v":""},null,null,null,{"$f":"IFERROR(VLOOKUP($X65,Hilfen!$A$1:$C$20,2,FALSE),\"\")","v":""},null,null,null,null,null,"","",{"$f":"IFERROR(VLOOKUP(AF65,Hilfen!$A$1:$B$11,2,FALSE),\"\")","v":""},null,"","","","","","",{"$f":"IFERROR(VLOOKUP($AN65,Hilfen!$A$1:$B$11,2,FALSE),\"\")","v":""},null,"","","","","","",{"$f":"IFERROR(VLOOKUP($AV65,Hilfen!$A$1:$B$11,2,FALSE),\"\")","v":""},null,"","","","","","","","","","",""]
["2025-07-28",null,null,null,null,null,null,null,null,null,{"$f":"IF(OR($O66=\"Arbeitsausführung aus Inspektion\",$O66=\"Arbeiten an Signalanlagen\"),_xlfn.XLOOKUP($W66,Hilfen!$B$30:$B$32,Hilfen!$C$30:$C$32,\"\"),\"\")","v":""},null,null,null,null,null,1,1,{"$f":"IFERROR(VLOOKUP($X66,Hilfen!$A$1:$D$20,4,FALSE),\"\")","v":""},null,null,null,{"$f":"IFERROR(VLOOKUP($X66,Hilfen!$A$1:$C$20,2,FALSE),\"\")","v":""},null,null,null,null,null,"","",{"$f":"IFERROR(VLOOKUP(AF66,Hilfen!$A$1:$B$11,2,FALSE),\"\")","v":""},null,"","","","","","",{"$f":"IFERROR(VLOOKUP($AN66,Hilfen!$A$1:$B$11,2,FALSE),\"\")","v":""},null,"","","","","","",{"$f":"IFERROR(VLOOKUP($AV66,Hilfen!$A$1:$B$11,2,FALSE),\"\")","v":""},null,"","","","","","",8,"","","",""]
["2025-07-29",null,null,null,null,null,null,null,null,null,{"$f":"IF(OR($O67=\"Arbeitsausführung aus Inspektion\",$O67=\"Arbeiten an Signalanlagen\"),_xlfn.XLOOKUP($W67,Hilfen!$B$30:$B$32,Hilfen!$C$30:$C$32,\"\"),\"\")","v":""},null,null,null,null,null,1,1,{"$f":"IFERROR(VLOOKUP($X67,Hilfen!$A$1:$D$20,4,FALSE),\"\")","v":""},null,null,null,{"$f":"IFERROR(VLOOKUP($X67,Hilfen!$A$1:$C$20,2,FALSE),\"\")","v":""},null,null,null,null,null,"","",{"$f":"IFERROR(VLOOKUP(AF67,Hilfen!$A$1:$B$11,2,FALSE),\"\")","v":""},null,"","","","","","",{"$f":"IFERROR(VLOOKUP($AN67,Hilfen!$A$1:$B$11,2,FALSE),\"\")","v":""},null,"","","","","","",{"$f":"IFERROR(VLOOKUP($AV67,Hilfen!$A$1:$B$11,2,FALSE),\"\")","v":""},null,"","","","","","",8,"","","",""]
["2025-07-30",null,null,null,null,null,null,null,null,null,{"$f":"IF(OR($O68=\"Arbeitsausführung aus Inspektion\",$O68=\"Arbeiten an Signalanlagen\"),_xlfn.XLOOKUP($W68,Hilfen!$B$30:$B$32,Hilfen!$C$30:$C$32,\"\"),\"\")","v":""},null,null,null,null,null,1,1,{"$f":"IFERROR(VLOOKUP($X68,Hilfen!$A$1:$D$20,4,FALSE),\"\")","v":""},null,null,null,{"$f":"IFERROR(VLOOKUP($X68,Hilfen!$A$1:$C$20,2,FALSE),\"\")","v":""},null,null,null,null,null,"","",{"$f":"IFERROR(VLOOKUP(AF68,Hilfen!$A$1:$B$11,2,FALSE),\"\")","v":""},null,"","","","","","",{"$f":"IFERROR(VLOOKUP($AN68,Hilfen!$A$1:$B$11,2,FALSE),\"\")","v":""},null,"","","","","","",{"$f":"IFERROR(VLOOKUP($AV68,Hilfen!$A$1:$B$11,2,FALSE),\"\")","v":""},null,"","","","","","",8,"","","",""]
["2025-07-31",null,null,null,null,null,null,null,null,null,{"$f":"IF(OR($O69=\"Arbeitsausführung aus Inspektion\",$O69=\"Arbeiten an Signalanlagen\"),_xlfn.XLOOKUP($W69,Hilfen!$B$30:$B$32,Hilfen!$C$30:$C$32,\"\"),\"\")","v":""},null,null,null,null,null,1,1,{"$f":"IFERROR(VLOOKUP($X69,Hilfen!$A$1:$D$20,4,FALSE),\"\")","v":""},null,null,null,{"$f":"IFERROR(VLOOKUP($X69,Hilfen!$A$1:$C$20,2,FALSE),\"\")","v":""},null,null,null,null,null,"","",{"$f":"IFERROR(VLOOKUP(AF69,Hilfen!$A$1:$B$11,2,FALSE),\"\")","v":""},null,"","","","","","",{"$f":"IFERROR(VLOOKUP($AN69,Hilfen!$A$1:$B$11,2,FALSE),\"\")","v":""},null,"","","","","","",{"$f":"IFERROR(VLOOKUP($AV69,Hilfen!$A$1:$B$11,2,FALSE),\"\")","v":""},null,"","","","","","",8,"","","",""]
[null,null,null,null,null,null,null,null,null,null,null,null,null,null,null,null,null,null,null,null,null,null,null,null,null,null,null,null,null,{"$f":"SUM($AD39:$AD69)","v":0},null,null,null,null,null,null,null,{"$f":"SUM($AL39:$AL69)","v":0},null,null,null,null,null,null,null,{"$f":"SUM($AT39:$AT69)","v":0},null,null,null,null,null,null,null,{"$f":"SUM($BB39:$BB69)","v":0},{"$f":"SUM($BC39:$BC69)","v":180},{"$f":"SUM($BD39:$BD69)","v":0},{"$f":"SUM($BE39:$BE69)","v":0},{"$f":"SUM($BF39:$BF69)","v":0},{"$f":"SUM($BG39:$BG69)","v":0}]

{"sheet":"Hilfen","index":1,"n_rows":97,"n_cols":21,"rows_kept":97,"cut":false,"hidden":false,"merged":[]}
["Namen","Funktion","SAP Vorgang","Trupp","NI01","S25","Broksieker","Frank","Arbeiten an Signalanlagen",null,1050,null,null,"07:00:00","13:00:00",null,null,"00:00:00",null,"2025-01-01",2013]
["Hummelbeck, Patrick","SOSMED",{"$f":"_xlfn.XLOOKUP(B2,$B$30:$B$33,$C$30:$C$33)","v":50},"B25.3","NI02","S18","Frehe","Jörg","Arbeitsausführung aus Inspektion",1120,1069,null,null,"07:15:00","13:15:00","12:00:00","12:30:00","00:30:00",null,"2025-02-01",2014]
["Förster, René","SOSMED",{"$f":"_xlfn.XLOOKUP(B3,$B$30:$B$33,$C$30:$C$33)","v":50},"B25.4","NI03","S30","Lüning","Marcel","Bahnarzt",4,1735,null,null,"07:30:00","13:30:00","13:00:00","12:45:00","00:30:00",null,"2025-03-01",2015]
["Kay, Lars","SOFD",70,"W30.1","NI04","S32","Löschenkohl","Michael","Betriebsversammlung",5,null,null,null,"07:45:00","13:45:00","14:00:00","13:00:00","00:30:00",null,"2025-04-01",2016]
["Rohr, Tizian","SOSMED",50,null,"NI05","S33","Schmutzler","Parco","Mitarbeiterbesprechung",5,null,null,null,"08:00:00","14:00:00","15:00:00","13:15:00","00:30:00",null,"2025-05-01",2017]
["Lobert, Michael","SOWMED",60,null,null,"S34","Oelstrom","Dieter","FIT",20,null,null,null,"08:15:00","14:15:00","16:00:00","13:30:00","00:30:00",null,"2025-06-01",2018]
["Milius, Andreas","SOSMED",50,null,null,"S35","Harms","Andreas","Verwendungsmäßige zusätzliche Qulifikation",25,null,null,null,"08:30:00","14:30:00","17:00:00","13:45:00","00:30:00",null,"2025-07-01",2019]
["Harms, Steffen","SOSMED",50,"D33.2",null,"S36","Hodde","Arne","JAZ",32,null,null,null,"08:45:00","14:45:00","18:00:00","14:00:00","00:30:00",null,"2025-08-01",2020]
["Niehaus, Stefan","SOSMED",50,"D33.1",null,null,null,null,"Ausfall der Arbeit am Wochenfeiertag",34,null,null,null,"09:00:00","15:00:00","19:00:00","14:15:00","00:30:00",null,"2025-09-01",2021]
["Kukemüller, Robin","SOSMED",50,"D33.3",null,null,null,null,"Sonderurlaub",56,null,null,null,"09:15:00","15:15:00","20:00:00","14:30:00","00:30:00",null,"2025-10-01",2022]
["Lange, Christian","SOSMED",50,"K33.1",null,null,null,null,"Bildungsurlaub",58,null,null,null,"09:30:00","15:18:00","21:00:00","14:45:00","00:30:00",null,"2025-11-01",2023]
["Harms, Mirko","SOFD",70,"D33.2",null,null,null,null,"Urlaub laufendes Jahr",60,null,null,null,"09:45:00","15:30:00","22:00:00","15:00:00","00:30:00",null,"2025-12-01",2024]
["Tüzün, Seyvan","SOFD",70,null,null,null,null,null,"Krank mit Bescheinigung",80,null,null,null,"10:00:00","15:45:00","23:00:00","00:00:00","00:30:00",null,null,2025]
["Blümel, Dieter","SOSMED",50,"D35.1",null,null,null,null,"Krank nach Arbeitsunfall",81,null,null,null,"10:15:00","16:00:00","00:00:00","01:30:00","00:30:00",null,null,2026]
["Knauer, Florian","SOFD",70,"B25.3",null,null,null,null,"Kur",82,null,null,null,"10:30:00","16:15:00","01:00:00","02:30:00","00:30:00",null,null,2027]
["Karamaj, Renard","SOFD",70,"B25.4",null,null,null,null,"Krank ohne Bescheingung",83,null,null,null,"10:45:00","16:30:00","02:00:00","03:30:00","00:30:00",null,null,2028]
["Kösters, René","SOSMED",50,"D32.1",null,null,null,null,"Krank ab 43. Tag",85,null,null,null,"11:00:00","16:45:00","03:00:00","01:45:00","00:45:00",null,null,2029]
["Gieswein, Dmitrij","SOSMED",50,"D32.2",null,null,null,null,"Krank nach Arbeitsunfall ab 43. Tag",86,null,null,null,"11:15:00","17:00:00",null,"02:45:00","00:45:00",null,null,2030]
["Siebrecht, Olaf","SOWMED",60,"D32.2",null,null,null,null,null,null,null,null,null,"11:30:00","17:15:00",null,"03:45:00","00:45:00",null,null,2031]
["Yildiz, Mushin","SOSMED",50,"D32.3",null,null,null,null,null,null,null,null,null,"11:45:00","17:30:00",null,null,"00:45:00",null,null,2032]
["Pesters, Nicolas","SOFD",70,"D32.3",null,null,null,null,null,null,null,null,null,"12:00:00","17:45:00",null,null,"00:45:00",null,null,2033]
["Manakov, Roman","SOSMED",50,"M32.1",null,null,null,null,null,null,null,null,null,"12:15:00","18:00:00",null,null,"00:45:00",null,null,2034]
["Moukdir, Khalid","SOFD",70,"M32.1",null,null,null,null,null,null,null,null,null,"12:30:00","18:15:00",null,null,"00:45:00",null,null,2035]
["Wemken, Marie-Sophie","SOFD",{"$f":"_xlfn.XLOOKUP(B24,$B$30:$B$33,$C$30:$C$33)","v":70},"D33.3",null,null,null,null,null,null,null,null,null,"12:45:00","18:30:00",null,null,"00:45:00",null,null,2036]
["Trefe, Abdullah","SOFD",{"$f":"_xlfn.XLOOKUP(B25,$B$30:$B$33,$C$30:$C$33)","v":70},"K33.1",null,null,null,null,null,null,null,null,null,"13:00:00","18:45:00",null,null,"00:45:00",null,null,2037]
[null,null,null,null,null,null,null,null,null,null,null,null,null,"13:15:00","19:00:00",null,null,"00:45:00",null,null,2038]
[null,null,null,null,null,null,null,null,null,null,null,null,null,"13:30:00","19:15:00",null,null,null,null,null,2039]
[null,null,null,null,null,null,null,null,null,null,null,null,null,"13:45:00","19:30:00",null,null,null,null,null,2040]
[null,null,null,null,null,null,null,null,null,null,null,null,null,"14:00:00","19:45:00",null,null,null,null,null,2041]
[null,"SOFD",70,null,null,null,null,null,null,null,null,null,null,"14:15:00","20:00:00",null,null,null,null,null,2042]
[null,"SOWMED",60,null,null,null,null,null,null,null,null,null,null,"14:30:00","20:15:00",null,null,null,null,null,2043]
[null,"SOSMED",50,null,null,null,null,null,null,null,null,null,null,"14:45:00","20:30:00",null,null,null,null,null,2044]
[null,"SOTD",null,null,null,null,null,null,null,null,null,null,null,"15:00:00","20:45:00",null,null,null,null,null,2045]
[null,null,null,null,null,null,null,null,null,null,null,null,null,"15:15:00","21:00:00",null,null,null,null,null,2046]
[null,null,null,null,null,null,null,null,null,null,null,null,null,"15:30:00","21:15:00",null,null,null,null,null,2047]
[null,null,null,null,null,null,null,null,null,null,null,null,null,"15:45:00","21:30:00",null,null,null,null,null,2048]
[null,null,null,null,null,null,null,null,null,null,null,null,null,"16:00:00","21:45:00",null,null,null,null,null,2049]
[null,null,null,null,null,null,null,null,null,null,null,null,null,"16:15:00","22:00:00",null,null,null,null,null,2050]
[null,null,null,null,null,null,null,null,null,null,null,null,null,"16:30:00","22:15:00",null,null,null,null,null,2051]
[null,null,null,null,null,null,null,null,null,null,null,null,null,"16:45:00","22:30:00",null,null,null,null,null,2052]
[null,null,null,null,null,null,null,null,null,null,null,null,null,"17:00:00","22:45:00",null,null,null,null,null,2053]
[null,null,null,null,null,null,null,null,null,null,null,null,null,"17:15:00","23:00:00",null,null,null,null,null,2054]
[null,null,null,null,null,null,null,null,null,null,null,null,null,"17:30:00","23:15:00",null,null,null,null,null,2055]
[null,null,null,null,null,null,null,null,null,null,null,null,null,"17:45:00","23:30:00",null,null,null,null,null,2056]
[null,null,null,null,null,null,null,null,null,null,null,null,null,"18:00:00","23:45:00",null,null,null,null,null,2057]
[null,null,null,null,null,null,null,null,null,null,null,null,null,"18:15:00",0.999999999999999,null,null,null,null,null,2058]
[null,null,null,null,null,null,null,null,null,null,null,null,null,"18:30:00",1.0104166666666701,null,null,null,null,null,2059]
[null,null,null,null,null,null,null,null,null,null,null,null,null,"18:45:00",1.0208333333333299,null,null,null,null,null,2060]
[null,null,null,null,null,null,null,null,null,null,null,null,null,"19:00:00",1.03125,null,null,null,null,null,2061]
[null,null,null,null,null,null,null,null,null,null,null,null,null,"19:15:00",1.0416666666666701,null,null,null,null,null,2062]
[null,null,null,null,null,null,null,null,null,null,null,null,null,"19:30:00",1.0520833333333299,null,null,null,null,null,2063]
[null,null,null,null,null,null,null,null,null,null,null,null,null,"19:45:00",1.0625,null,null,null,null,null,2064]
[null,null,null,null,null,null,null,null,null,null,null,null,null,"20:00:00",1.0729166666666701,null,null,null,null,null,2065]
[null,null,null,null,null,null,null,null,null,null,null,null,null,"20:15:00",1.0833333333333299,null,null,null,null,null,2066]
[null,null,null,null,null,null,null,null,null,null,null,null,null,"20:30:00",1.09375,null,null,null,null,null,2067]
[null,null,null,null,null,null,null,null,null,null,null,null,null,"20:45:00",1.1041666666666701,null,null,null,null,null,2068]
[null,null,null,null,null,null,null,null,null,null,null,null,null,"21:00:00",1.1145833333333299,null,null,null,null,null,2069]
[null,null,null,null,null,null,null,null,null,null,null,null,null,"21:15:00",1.125,null,null,null,null,null,2070]
[null,null,null,null,null,null,null,null,null,null,null,null,null,"21:30:00",1.1354166666666601,null,null,null,null,null,2071]
[null,null,null,null,null,null,null,null,null,null,null,null,null,"21:45:00",1.1458333333333299,null,null,null,null,null,2072]
[null,null,null,null,null,null,null,null,null,null,null,null,null,"22:00:00",1.15625,null,null,null,null,null,2073]
[null,null,null,null,null,null,null,null,null,null,null,null,null,"22:15:00",1.1666666666666601,null,null,null,null,null,2074]
[null,null,null,null,null,null,null,null,null,null,null,null,null,"22:30:00",1.1770833333333299,null,null,null,null,null,2075]
[null,null,null,null,null,null,null,null,null,null,null,null,null,"22:45:00",1.1875,null,null,null,null,null,2076]
[null,null,null,null,null,null,null,null,null,null,null,null,null,"23:00:00",1.1979166666666601,null,null,null,null,null,2077]
[null,null,null,null,null,null,null,null,null,null,null,null,null,"23:15:00",1.2083333333333299,null,null,null,null,null,2078]
[null,null,null,null,null,null,null,null,null,null,null,null,null,"23:30:00",1.21875,null,null,null,null,null,2079]
[null,null,null,null,null,null,null,null,null,null,null,null,null,"23:45:00",1.2291666666666601,null,null,null,null,null,2080]
[null,null,null,null,null,null,null,null,null,null,null,null,null,1,1.2395833333333299]
[null,null,null,null,null,null,null,null,null,null,null,null,null,1.0104166666666701,1.25]
[null,null,null,null,null,null,null,null,null,null,null,null,null,1.0208333333333299,1.2604166666666601]
[null,null,null,null,null,null,null,null,null,null,null,null,null,1.03125,1.2708333333333299]
[null,null,null,null,null,null,null,null,null,null,null,null,null,1.0416666666666701,1.28125]
[null,null,null,null,null,null,null,null,null,null,null,null,null,1.0520833333333299,1.2916666666666601]
[null,null,null,null,null,null,null,null,null,null,null,null,null,1.0625,1.3020833333333299]
[null,null,null,null,null,null,null,null,null,null,null,null,null,1.0729166666666701,1.3125]
[null,null,null,null,null,null,null,null,null,null,null,null,null,1.0833333333333299,1.3229166666666601]
[null,null,null,null,null,null,null,null,null,null,null,null,null,1.09375,1.3333333333333299]
[null,null,null,null,null,null,null,null,null,null,null,null,null,1.1041666666666701,1.34375]
[null,null,null,null,null,null,null,null,null,null,null,null,null,1.1145833333333299,1.3541666666666601]
[null,null,null,null,null,null,null,null,null,null,null,null,null,1.125,1.3645833333333299]
[null,null,null,null,null,null,null,null,null,null,null,null,null,1.1354166666666701,1.375]
[null,null,null,null,null,null,null,null,null,null,null,null,null,1.1458333333333299,1.3854166666666601]
[null,null,null,null,null,null,null,null,null,null,null,null,null,1.15625,1.3958333333333299]
[null,null,null,null,null,null,null,null,null,null,null,null,null,1.1666666666666701,1.40625]
[null,null,null,null,null,null,null,null,null,null,null,null,null,1.1770833333333299,1.4166666666666601]
[null,null,null,null,null,null,null,null,null,null,null,null,null,1.1875,1.4270833333333299]
[null,null,null,null,null,null,null,null,null,null,null,null,null,1.1979166666666701,1.4375]
[null,null,null,null,null,null,null,null,null,null,null,null,null,1.2083333333333299,1.4479166666666601]
[null,null,null,null,null,null,null,null,null,null,null,null,null,1.21875,1.4583333333333299]
[null,null,null,null,null,null,null,null,null,null,null,null,null,1.2291666666666701,1.46875]
[null,null,null,null,null,null,null,null,null,null,null,null,null,1.2395833333333299,1.4791666666666601]
[null,null,null,null,null,null,null,null,null,null,null,null,null,1.25,1.4895833333333299]
[null,null,null,null,null,null,null,null,null,null,null,null,null,1.2604166666666701,1.5]
[null,null,null,null,null,null,null,null,null,null,null,null,null,1.2708333333333299,1.5104166666666601]
[null,null,null,null,null,null,null,null,null,null,null,null,null,1.28125,1.5208333333333299]
[null,null,null,null,null,null,null,null,null,null,null,null,null,null,1.53125]

{"sheet":"Extrablatt","index":2,"n_rows":35,"n_cols":40,"rows_kept":35,"cut":false,"hidden":false,"merged":[[34,21,35,42],[30,24,30,29],[30,30,30,32],[30,33,30,42],[31,0,31,1],[31,2,31,3],[31,9,31,12],[31,21,33,23],[31,24,33,29],[31,30,33,32],[31,33,33,42],[30,0,30,1],[30,2,30,6],[30,7,30,8],[30,9,30,12],[30,15,33,20],[30,21,30,23],[32,0,33,1],[32,2,33,6],[32,7,32,8],[32,10,32,12],[32,13,33,13],[32,14,33,14],[25,0,25,1],[25,2,25,42],[26,0,28,42],[29,0,29,6],[29,7,29,12],[29,13,29,20],[29,21,29,29],[29,30,29,42],[24,19,24,22],[24,23,24,26],[24,27,24,30],[24,31,24,34],[24,35,24,38],[24,39,24,42],[23,23,23,26],[23,27,23,30],[23,31,23,34],[23,35,23,38],[23,39,23,42],[24,0,24,1],[24,2,24,5],[24,6,24,7],[24,9,24,14],[24,15,24,18],[23,0,23,1],[23,2,23,5],[23,6,23,7],[23,9,23,14],[23,15,23,18],[23,19,23,22],[22,19,22,22],[22,23,22,26],[22,27,22,30],[22,31,22,34],[22,35,22,38],[22,39,22,42],[21,23,21,26],[21,27,21,30],[21,31,21,34],[21,35,21,38],[21,39,21,42],[21,19,21,22],[22,0,22,1],[22,2,22,4],[22,6,22,7],[22,9,22,14],[22,15,22,18],[21,0,21,1],[21,2,21,4],[21,6,21,7],[21,15,21,18],[21,9,21,14],[20,23,20,26],[20,27,20,30],[20,31,20,34],[20,35,20,38],[20,39,20,42],[19,23,19,26],[19,27,19,30],[19,31,19,34],[19,35,19,38],[19,39,19,42],[20,0,20,1],[20,2,20,4],[20,6,20,7],[20,15,20,18],[19,0,19,1],[19,2,19,4],[19,6,19,7],[19,15,19,18],[19,19,19,22],[20,19,20,22],[19,9,19,14],[20,9,20,14],[18,23,18,26],[18,27,18,30],[18,31,18,34],[18,35,18,38],[18,39,18,42],[17,23,17,26],[17,27,17,30],[17,31,17,34],[17,35,17,38],[17,39,17,42],[18,0,18,1],[18,2,18,5],[18,6,18,7],[18,15,18,18],[17,0,17,1],[17,2,17,5],[17,6,17,7],[17,15,17,18],[17,19,17,22],[18,19,18,22],[17,9,17,14],[18,9,18,14],[14,27,14,30],[14,31,14,34],[14,35,14,38],[14,39,14,42],[15,15,15,18],[15,19,15,22],[15,23,15,26],[15,27,15,30],[15,31,15,34],[15,35,15,38],[13,39,13,40],[13,41,13,42],[14,0,16,1],[14,2,16,5],[14,6,16,7],[14,8,16,8],[14,9,16,14],[14,15,14,18],[14,19,14,22],[14,23,14,26],[13,27,13,28],[13,29,13,30],[13,31,13,32],[13,33,13,34],[13,35,13,36],[13,37,13,38],[15,39,15,42],[16,15,16,18],[16,19,16,22],[16,23,16,26],[16,27,16,30],[16,31,16,34],[16,35,16,38],[16,39,16,42],[13,13,13,14],[13,15,13,16],[13,17,13,18],[13,19,13,20],[13,21,13,22],[13,23,13,24],[13,25,13,26],[12,25,12,26],[12,27,12,28],[11,35,11,36],[11,37,11,38],[11,39,11,40],[11,41,11,42],[12,13,12,14],[12,15,12,16],[12,17,12,18],[12,19,12,20],[12,21,12,22],[12,23,12,24],[11,23,11,24],[11,25,11,26],[11,27,11,28],[11,29,11,30],[11,31,11,32],[11,33,11,34],[12,37,12,38],[12,39,12,40],[12,41,12,42],[12,29,12,30],[12,31,12,32],[12,33,12,34],[12,35,12,36],[11,0,11,6],[11,13,11,14],[11,15,11,16],[11,17,11,18],[11,19,11,20],[11,21,11,22],[10,23,10,24],[10,25,10,26],[10,27,10,28],[9,39,9,42],[10,13,10,14],[10,15,10,16],[10,17,10,18],[10,19,10,20],[10,21,10,22],[10,35,10,36],[10,37,10,38],[10,39,10,40],[10,41,10,42],[10,29,10,30],[10,31,10,32],[10,33,10,34],[4,4,4,7],[5,0,5,8],[6,3,6,8],[8,0,8,3],[9,15,9,18],[9,19,9,22],[3,31,8,31],[3,32,8,34],[3,35,8,35],[9,23,9,26],[9,27,9,30],[9,31,9,34],[9,35,9,38],[3,36,8,38],[3,39,8,39],[3,40,8,42],[2,39,2,42],[3,9,3,13],[3,15,8,15],[3,16,8,18],[3,19,8,19],[3,20,8,22],[3,23,8,23],[3,24,8,26],[3,27,8,27],[3,28,8,30],[1,0,2,8],[1,9,1,10],[1,15,1,22],[1,23,1,26],[1,27,1,29],[1,30,1,31],[1,32,1,33],[1,34,1,38],[1,67,1,90],[2,9,2,14],[2,15,2,18],[2,19,2,22],[2,23,2,26],[2,27,2,30],[2,31,2,34],[2,35,2,38]]}
[]
["DB InfraGO AG \nRB Nord\nRegionale Instandsetzung ",null,null,null,null,null,null,null,null,"Blatt",null,1,"/",1,null,null,null,null,null,null,null,null,null,null,null,null,null,"Datum: ",null,null,null,null,{"$f":"'Haupteingabe Monat'!$H$1","v":"2025-07-01"},null,{"$f":"'Haupteingabe Monat'!$J$1","v":2025}]
[null,null,null,null,null,null,null,null,null,"SAP Arbeitsplatz",null,null,null,null,null,{"$f":"_xlfn.XLOOKUP($Q$4,Hilfen!$A$2:$A$28,Hilfen!$B$2:$B$28,\"\")","v":0}]
[null,null,null,null,null,null,null,null,null,"Sachbearb. etime: ",null,null,null,null,"SB3","Name",null,null,null,"Name",null,null,null,"Name",null,null,null,"Name",null,null,null,"Name",null,null,null,"Name",null,null,null,"Name"]
["Baustelle:"]
[]
[]
[]
["Auftragstyp:"]
[null,null,null,null,null,null,null,null,null,null,null,null,null,null,null,"hh:min\nvon            bis",null,null,null,"hh:min\nvon            bis",null,null,null,"hh:min\nvon            bis",null,null,null,"hh:min\nvon            bis",null,null,null,"hh:min\nvon            bis",null,null,null,"hh:min\nvon            bis",null,null,null,"hh:min\nvon            bis"]
[null,null,null,null,null,null,null,null,null,null,null,null,null,"1. Arbeitszeit von ... bis …"]
["Auftragsveranwortlicher:",null,null,null,null,null,null,null,null,null,null,null,null,"   Pause von ... bis ..."]
[null,null,null,null,null,null,null,null,null,null,null,null,null,"2. Arbeitszeit von ... bis ..."]
[null,null,null,null,null,null,null,null,null,null,null,null,null,"   Pause von ... bis ..."]
["SAP Vorgang",null,"FAT/AAA",null,null,null,"SAP*\nAuftragsnummer\n",null,"AAR\nKurznummer\n","Beschreibung der Tagesleistung\n",null,null,null,null,null,"anzurechnende",null,null,null,"anzurechnende",null,null,null,"anzurechnende",null,null,null,"anzurechnende",null,null,null,"anzurechnende",null,null,null,"anzurechnende",null,null,null,"anzurechnende"]
[null,null,null,null,null,null,null,null,null,null,null,null,null,null,null,"Arbeitszeit",null,null,null,"Arbeitszeit",null,null,null,"Arbeitszeit",null,null,null,"Arbeitszeit",null,null,null,"Arbeitszeit",null,null,null,"Arbeitszeit",null,null,null,"Arbeitszeit"]
[null,null,null,null,null,null,null,null,null,null,null,null,null,null,null,"(min)",null,null,null,"(min)",null,null,null,"(min)",null,null,null,"(min)",null,null,null,"(min)",null,null,null,"(min)",null,null,null,"(min)"]
[]
[]
[]
[]
[]
[]
[]
[]
[{"$f":"_xlfn.XLOOKUP($Q$4,Hilfen!$A$2:$A$25,Hilfen!$D$2:$D$25,\"\")","v":""},null,"Beschreibung der Tagesleistung bei FAT-Katalog 2"]
[]
[]
[]
["Meine Angaben sind vollständig \nund richtig",null,null,null,null,null,null,"Für den Auftraggeber (nur bei Bedarf) \nLeistung anerkannt",null,null,null,null,null,"Sachlich richtig: ",null,null,null,null,null,null,null,"in eTime gebucht",null,null,null,null,null,null,null,null,"in SAP gebucht"]
["Name",null,{"$f":"IF($Q$4=\"\",\"\",$Q$4)","v":""},null,null,null,null,"Name",null,null,null,null,null,"Datum",null,"Unterschrift",null,null,null,null,null,"Datum",null,null,null,null,null,null,null,null,"Datum"]
["Datum",null,{"$f":"$AE$2","v":0},null,{"$f":"$AG$2","v":"2025-07-01"},null,{"$f":"$AI$2","v":2025},"Datum",null,null,null,null,null,"Name",{"$f":"IF($H$12=\"\",\"\",VLOOKUP($H$12,Hilfen!$F$1:$H$7,2,FALSE))","v":""},null,null,null,null,null,null,"Namens-zeichen",null,null,null,null,null,null,null,null,"Namens-zeichen"]
["Unterschrift",null,null,null,null,null,null,"Firma",null,null,null,null,null,"Vorname",{"$f":"IF($H$12=\"\",\"\",VLOOKUP($H$12,Hilfen!$F$1:$H$7,3,FALSE))","v":""}]
[null,null,null,null,null,null,null,"Unterschrift"]
[null,null,null,null,null,null,null,null,null,null,null,null,null,null,null,null,null,null,null,null,null,"Unvollständig oder fehlerhaft ausgefüllte Belege werden nicht gebucht; RIL 187.1001 !"]

{"sheet":"01 Trupp 1","index":3,"n_rows":35,"n_cols":40,"rows_kept":35,"cut":false,"hidden":false,"merged":[[1,0,2,8],[1,9,1,10],[1,15,1,22],[1,23,1,26],[1,27,1,29],[1,30,1,31],[1,32,1,33],[1,67,1,90],[2,9,2,14],[2,15,2,18],[2,19,2,22],[2,23,2,26],[2,27,2,30],[2,31,2,34],[2,35,2,38],[1,34,1,37],[3,39,8,39],[3,40,8,42],[2,39,2,42],[3,9,3,13],[3,15,8,15],[3,16,8,18],[3,19,8,19],[3,20,8,22],[3,23,8,23],[3,24,8,26],[3,27,8,27],[3,28,8,30],[4,4,4,7],[5,0,5,8],[6,3,6,8],[8,0,8,3],[9,15,9,18],[9,19,9,22],[3,31,8,31],[3,32,8,34],[3,35,8,35],[9,23,9,26],[9,27,9,30],[9,31,9,34],[9,35,9,38],[3,36,8,38],[9,39,9,42],[10,13,10,14],[10,15,10,16],[10,17,10,18],[10,19,10,20],[10,21,10,22],[10,35,10,36],[10,37,10,38],[10,39,10,40],[10,41,10,42],[10,29,10,30],[10,31,10,32],[10,33,10,34],[11,0,11,6],[11,13,11,14],[11,15,11,16],[11,17,11,18],[11,19,11,20],[11,21,11,22],[10,23,10,24],[10,25,10,26],[10,27,10,28],[11,35,11,36],[11,37,11,38],[11,39,11,40],[11,41,11,42],[12,13,12,14],[12,15,12,16],[12,17,12,18],[12,19,12,20],[12,21,12,22],[12,23,12,24],[11,23,11,24],[11,25,11,26],[11,27,11,28],[11,29,11,30],[11,31,11,32],[11,33,11,34],[12,37,12,38],[12,39,12,40],[12,41,12,42],[12,29,12,30],[12,31,12,32],[12,33,12,34],[12,35,12,36],[13,13,13,14],[13,15,13,16],[13,17,13,18],[13,19,13,20],[13,21,13,22],[13,23,13,24],[13,25,13,26],[12,25,12,26],[12,27,12,28],[13,39,13,40],[13,41,13,42],[14,0,16,1],[14,2,16,5],[14,6,16,7],[14,8,16,8],[14,9,16,14],[14,15,14,18],[14,19,14,22],[14,23,14,26],[13,27,13,28],[13,29,13,30],[13,31,13,32],[13,33,13,34],[13,35,13,36],[13,37,13,38],[15,39,15,42],[16,15,16,18],[16,19,16,22],[16,23,16,26],[16,27,16,30],[16,31,16,34],[16,35,16,38],[16,39,16,42],[14,27,14,30],[14,31,14,34],[14,35,14,38],[14,39,14,42],[15,15,15,18],[15,19,15,22],[15,23,15,26],[15,27,15,30],[15,31,15,34],[15,35,15,38],[18,0,18,1],[18,2,18,5],[18,6,18,7],[18,9,18,14],[18,15,18,18],[17,0,17,1],[17,2,17,5],[17,6,17,7],[17,9,17,14],[17,15,17,18],[18,19,18,22],[18,23,18,26],[18,27,18,30],[18,31,18,34],[18,35,18,38],[18,39,18,42],[17,23,17,26],[17,27,17,30],[17,31,17,34],[17,35,17,38],[17,39,17,42],[17,19,17,22],[20,0,20,1],[20,2,20,4],[20,6,20,7],[20,9,20,14],[20,15,20,18],[19,0,19,1],[19,2,19,4],[19,6,19,7],[19,9,19,14],[19,15,19,18],[20,19,20,22],[20,23,20,26],[20,27,20,30],[20,31,20,34],[20,35,20,38],[20,39,20,42],[19,23,19,26],[19,27,19,30],[19,31,19,34],[19,35,19,38],[19,39,19,42],[19,19,19,22],[22,0,22,1],[22,2,22,4],[22,6,22,7],[22,9,22,14],[22,15,22,18],[21,0,21,1],[21,2,21,4],[21,6,21,7],[21,9,21,14],[21,15,21,18],[22,19,22,22],[22,23,22,26],[22,27,22,30],[22,31,22,34],[22,35,22,38],[22,39,22,42],[21,23,21,26],[21,27,21,30],[21,31,21,34],[21,35,21,38],[21,39,21,42],[21,19,21,22],[23,23,23,26],[23,27,23,30],[23,31,23,34],[23,35,23,38],[23,39,23,42],[23,19,23,22],[24,0,24,1],[24,2,24,5],[24,6,24,7],[24,9,24,14],[24,15,24,18],[23,0,23,1],[23,2,23,5],[23,6,23,7],[23,9,23,14],[23,15,23,18],[25,0,25,1],[25,2,25,42],[29,0,29,6],[29,7,29,12],[29,13,29,20],[29,21,29,29],[29,30,29,42],[26,0,28,42],[24,19,24,22],[24,23,24,26],[24,27,24,30],[24,31,24,34],[24,35,24,38],[24,39,24,42],[32,13,33,13],[32,14,33,14],[34,21,35,42],[30,24,30,29],[30,30,30,32],[30,33,30,42],[31,0,31,1],[31,2,31,3],[31,9,31,12],[31,21,33,23],[31,24,33,29],[31,30,33,32],[31,33,33,42],[30,0,30,1],[30,2,30,6],[30,7,30,8],[30,9,30,12],[30,15,33,20],[30,21,30,23],[32,0,33,1],[32,2,33,6],[32,7,32,8],[32,10,32,12]]}
[]
["DB InfraGO AG \nRB Nord\nRegionale Instandsetzung ",null,null,null,null,null,null,null,null,"Blatt",null,{"$f":"IF('Haupteingabe Monat'!$Q4=\"\",\"\",'Haupteingabe Monat'!$Q4)","v":1},"/",{"$f":"IF('Haupteingabe Monat'!$R4=\"\",\"\",'Haupteingabe Monat'!$R4)","v":1},null,null,null,null,null,null,null,null,null,null,null,null,null,"Datum: ",null,null,"01.",null,{"$f":"'Haupteingabe Monat'!$H$1","v":"2025-07-01"},null,{"$f":"'Haupteingabe Monat'!$J$1","v":2025}]
[null,null,null,null,null,null,null,null,null,"SAP Arbeitsplatz",null,null,null,null,null,{"$f":"IF('Haupteingabe Monat'!$W4=\"\",\"\",'Haupteingabe Monat'!$W4)","v":""},null,null,null,{"$f":"IF('Haupteingabe Monat'!$AE4=\"\",\"\",'Haupteingabe Monat'!$AE4)","v":""},null,null,null,{"$f":"IF('Haupteingabe Monat'!$AM4=\"\",\"\",'Haupteingabe Monat'!$AM4)","v":""},null,null,null,{"$f":"IF('Haupteingabe Monat'!$AU4=\"\",\"\",'Haupteingabe Monat'!$AU4)","v":""}]
[null,null,null,null,null,null,null,null,null,"Sachbearb. etime: ",null,null,null,null,"SB3","Name",{"$f":"IF('Haupteingabe Monat'!$X4=\"\",\"\",'Haupteingabe Monat'!$X4)","v":""},null,null,"Name",{"$f":"IF('Haupteingabe Monat'!$AF4=\"\",\"\",'Haupteingabe Monat'!$AF4)","v":""},null,null,"Name",{"$f":"IF('Haupteingabe Monat'!$AN4=\"\",\"\",'Haupteingabe Monat'!$AN4)","v":""},null,null,"Name",{"$f":"IF('Haupteingabe Monat'!$AV4=\"\",\"\",'Haupteingabe Monat'!$AV4)","v":""},null,null,"Name",null,null,null,"Name",null,null,null,"Name"]
["Baustelle:",null,null,null,{"$f":"IF('Haupteingabe Monat'!$B4=\"\",\"\",'Haupteingabe Monat'!$B4)","v":""}]
[{"$f":"IF('Haupteingabe Monat'!$H4=\"\",\"\",'Haupteingabe Monat'!$H4)","v":""}]
[]
[]
["Auftragstyp:",null,null,null,{"$f":"IF('Haupteingabe Monat'!$I4=\"\",\"\",'Haupteingabe Monat'!$I4)","v":""}]
[null,null,null,null,null,null,null,null,null,null,null,null,null,null,null,"hh:min\nvon            bis",null,null,null,"hh:min\nvon            bis",null,null,null,"hh:min\nvon            bis",null,null,null,"hh:min\nvon            bis",null,null,null,"hh:min\nvon            bis",null,null,null,"hh:min\nvon            bis",null,null,null,"hh:min\nvon            bis"]
[null,null,null,null,null,null,null,null,null,null,null,null,null,"1. Arbeitszeit von ... bis …",null,{"$f":"IF('Haupteingabe Monat'!$Y4=\"\",\"\",'Haupteingabe Monat'!$Y4)","v":""},null,{"$f":"IF('Haupteingabe Monat'!$Z4=\"\",\"\",'Haupteingabe Monat'!$Z4)","v":""},null,{"$f":"IF('Haupteingabe Monat'!AG4=\"\",\"\",'Haupteingabe Monat'!AG4)","v":""},null,{"$f":"IF('Haupteingabe Monat'!AH4=\"\",\"\",'Haupteingabe Monat'!AH4)","v":""},null,{"$f":"IF('Haupteingabe Monat'!AO4=\"\",\"\",'Haupteingabe Monat'!AO4)","v":""},null,{"$f":"IF('Haupteingabe Monat'!AP4=\"\",\"\",'Haupteingabe Monat'!AP4)","v":""},null,{"$f":"IF('Haupteingabe Monat'!AW4=\"\",\"\",'Haupteingabe Monat'!AW4)","v":""},null,{"$f":"IF('Haupteingabe Monat'!AX4=\"\",\"\",'Haupteingabe Monat'!AX4)","v":""}]
["Auftragsveranwortlicher:",null,null,null,null,null,null,{"$f":"IF('Haupteingabe Monat'!$J4=\"\",\"\",'Haupteingabe Monat'!$J4)","v":""},null,null,null,null,null,"   Pause von ... bis ...",null,{"$f":"IF('Haupteingabe Monat'!$AA4=\"\",\"\",'Haupteingabe Monat'!$AA4)","v":""},null,{"$f":"IF('Haupteingabe Monat'!$AB4=\"\",\"\",'Haupteingabe Monat'!$AB4)","v":""},null,{"$f":"IF('Haupteingabe Monat'!AI4=\"\",\"\",'Haupteingabe Monat'!AI4)","v":""},null,{"$f":"IF('Haupteingabe Monat'!AJ4=\"\",\"\",'Haupteingabe Monat'!AJ4)","v":""},null,{"$f":"IF('Haupteingabe Monat'!AQ4=\"\",\"\",'Haupteingabe Monat'!AQ4)","v":""},null,{"$f":"IF('Haupteingabe Monat'!AR4=\"\",\"\",'Haupteingabe Monat'!AR4)","v":""},null,{"$f":"IF('Haupteingabe Monat'!AY4=\"\",\"\",'Haupteingabe Monat'!AY4)","v":""},null,{"$f":"IF('Haupteingabe Monat'!AZ4=\"\",\"\",'Haupteingabe Monat'!AZ4)","v":""}]
[null,null,null,null,null,null,null,null,null,null,null,null,null,"2. Arbeitszeit von ... bis ..."]
[null,null,null,null,null,null,null,null,null,null,null,null,null,"   Pause von ... bis ..."]
["SAP Vorgang",null,"FAT/AAA",null,null,null,"SAP*\nAuftragsnummer\n",null,"AAR\nKurznummer\n","Beschreibung der Tagesleistung\n",null,null,null,null,null,"anzurechnende",null,null,null,"anzurechnende",null,null,null,"anzurechnende",null,null,null,"anzurechnende",null,null,null,"anzurechnende",null,null,null,"anzurechnende",null,null,null,"anzurechnende"]
[null,null,null,null,null,null,null,null,null,null,null,null,null,null,null,"Arbeitszeit",null,null,null,"Arbeitszeit",null,null,null,"Arbeitszeit",null,null,null,"Arbeitszeit",null,null,null,"Arbeitszeit",null,null,null,"Arbeitszeit",null,null,null,"Arbeitszeit"]
[null,null,null,null,null,null,null,null,null,null,null,null,null,null,null,"(min)",null,null,null,"(min)",null,null,null,"(min)",null,null,null,"(min)",null,null,null,"(min)",null,null,null,"(min)",null,null,null,"(min)"]
[{"$f":"IF('Haupteingabe Monat'!$K4=\"\",\"\",'Haupteingabe Monat'!$K4)","v":""},null,{"$f":"IF('Haupteingabe Monat'!$L4=\"\",\"\",'Haupteingabe Monat'!$L4)","v":""},null,null,null,{"$f":"IF('Haupteingabe Monat'!M4=\"\",\"\",'Haupteingabe Monat'!M4)","v":""},null,{"$f":"IF('Haupteingabe Monat'!$N4=\"\",\"\",'Haupteingabe Monat'!$N4)","v":""},{"$f":"IF('Haupteingabe Monat'!$O4=\"\",\"\",'Haupteingabe Monat'!$O4)","v":""},null,null,null,null,null,{"$f":"IF($P$3=\"\",\"\",IF($J$18=\"JAZ\",\"0\",IF($J$18=\"Urlaub laufendes Jahr\",\"468\",SUM(IF($R$11>=$P$11,($R$11-$P$11)*24,(1-ABS($R$11-$P$11))*24),-IF($R$12>=$P$12,($R$12-$P$12)*24,(1-ABS($R$12-$P$12))*24))*60)))","v":""},null,null,null,{"$f":"IF($T$3=\"\",\"\",IF($T$3=$P$3,SUM(IF($V$11>=$T$11,($V$11-$T$11)*24,(1-ABS($V$11-$T$11))*24),-IF($V$12>=$T$12,($V$12-$T$12)*24,(1-ABS($V$12-$T$12))*24))*60,\"\"))","v":""},null,null,null,{"$f":"IF($X$3=\"\",\"\",IF($X$3=$P$3,SUM(IF($Z$11>=$X$11,($Z$11-$X$11)*24,(1-ABS($Z$11-$X$11))*24),-IF($Z$12>=$X$12,($Z$12-$X$12)*24,(1-ABS($Z$12-$X$12))*24))*60,\"\"))","v":""},null,null,null,{"$f":"IF($AB$3=\"\",\"\",IF($AB$3=$P$3,SUM(IF($AD$11>=$AB$11,($AD$11-$AB$11)*24,(1-ABS($AD$11-$AB$11))*24),-IF($AD$12>=$AB$12,($AD$12-$AB$12)*24,(1-ABS($AD$12-$AB$12))*24))*60,\"\"))","v":""},null,null,null,{"$f":"IF(AF11=\"\",\"\",SUM(IF(AH11>=AF11,(AH11-AF11)*24,(1-ABS(AH11-AF11))*24),-IF(AH12>=AF12,(AH12-AF12)*24,(1-ABS(AH12-AF12))*24))*60)","v":""},null,null,null,{"$f":"IF(AJ11=\"\",\"\",SUM(IF(AL11>=AJ11,(AL11-AJ11)*24,(1-ABS(AL11-AJ11))*24),-IF(AL12>=AJ12,(AL12-AJ12)*24,(1-ABS(AL12-AJ12))*24))*60)","v":""},null,null,null,{"$f":"IF(AN11=\"\",\"\",SUM(IF(AP11>=AN11,(AP11-AN11)*24,(1-ABS(AP11-AN11))*24),-IF(AP12>=AN12,(AP12-AN12)*24,(1-ABS(AP12-AN12))*24))*60)","v":""}]
[{"$f":"IF($T$3=\"\",\"\",IF(AND(ISNUMBER($T$19),ISTEXT($T$3)),_xlfn.XLOOKUP($T$3,Hilfen!$B$30:$B$32,Hilfen!$C$30:$C$32,\"\"),IF(AND(ISNUMBER($X$19),ISTEXT($X$3)),_xlfn.XLOOKUP($X$3,Hilfen!$B$30:$B$32,Hilfen!$C$30:$C$32,\"\"),IF(AND(ISNUMBER($AB$19),ISTEXT($AB$3)),_xlfn.XLOOKUP($AB$3,Hilfen!$B$30:$B$32,Hilfen!$C$30:$C$32,\"\"),\"\"))))","v":""},null,{"$f":"IF($A19=\"\",\"\",C$18)","v":""},null,null,null,{"$f":"IF($A19=\"\",\"\",$G18)","v":""},null,{"$f":"IF($A19=\"\",\"\",$I18)","v":""},{"$f":"IF($A19=\"\",\"\",$J18)","v":""},null,null,null,null,null,null,null,null,null,{"$f":"IF($T$3=\"\",\"\",IF($T$3=$P$3,\"\",IF($T$3<>$P$3,SUM(IF($V$11>=$T$11,($V$11-$T$11)*24,(1-ABS($V$11-$T$11))*24),-IF($V$12>=$T$12,($V$12-$T$12)*24,(1-ABS($V$12-$T$12))*24))*60,\"\")))","v":""},null,null,null,{"$f":"IF($X$3=\"\",\"\",IF($X$3=$P$3,\"\",IF($T$3=$P$3,SUM(IF($Z$11>=$X$11,($Z$11-$X$11)*24,(1-ABS($Z$11-$X$11))*24),-IF($Z$12>=$X$12,($Z$12-$X$12)*24,(1-ABS($Z$12-$X$12))*24))*60,IF(AND($X$3=\"SOFD\",$T$3=\"SOWMED\"),\"\",IF(AND($X$3=\"SOSMED\",$T$3=\"SOWMED\"),\"\",IF(AND($X$3=\"SOWMED\",$T$3=\"SOFD\"),\"\",IF(AND($X$3=\"SOWMED\",$T$3=\"SOSMED\"),\"\",IF(AND($X$3=\"SOFD\",$T$3=\"SOSMED\"),\"\",IF(AND($X$3=\"SOSMED\",$T$3=\"SOFD\"),\"\",SUM(IF($Z$11>=$X$11,($Z$11-$X$11)*24,(1-ABS($Z$11-$X$11))*24),-IF($Z$12>=$X$12,($Z$12-$X$12)*24,(1-ABS($Z$12-$X$12))*24))*60)))))))))","v":""},null,null,null,{"$f":"IF($AB$3=\"\",\"\",IF($AB$3=$P$3,\"\",IF($AB$3=$T$3,SUM(IF($AD$11>=$AB$11,($AD$11-$AB$11)*24,(1-ABS($AD$11-$AB$11))*24),-IF($AD$12>=$AB$12,($AD$12-$AB$12)*24,(1-ABS($AD$12-$AB$12))*24))*60,IF(AND($AB$3=$X$3,$X$19=\"\"),\"\",IF($AB$3=$X$3,SUM(IF($AD$11>=$AB$11,($AD$11-$AB$11)*24,(1-ABS($AD$11-$AB$11))*24),-IF($AD$12>=$AB$12,($AD$12-$AB$12)*24,(1-ABS($AD$12-$AB$12))*24))*60,IF(AND($T$19=\"\",$X$19=\"\"),SUM(IF($AD$11>=$AB$11,($AD$11-$AB$11)*24,(1-ABS($AD$11-$AB$11))*24),-IF($AD$12>=$AB$12,($AD$12-$AB$12)*24,(1-ABS($AD$12-$AB$12))*24))*60,\"\"))))))","v":""}]
[{"$f":"IF($X$3=\"\",\"\",IF(AND(ISNUMBER($X$20),ISTEXT($X$3)),_xlfn.XLOOKUP($X$3,Hilfen!$B$30:$B$32,Hilfen!$C$30:$C$32,\"\"),IF(AND(ISNUMBER($AB$20),ISTEXT($AB$3)),_xlfn.XLOOKUP($AB$3,Hilfen!$B$30:$B$32,Hilfen!$C$30:$C$32,\"\"),\"\")))","v":""},null,{"$f":"IF($A$20=\"\",\"\",C$18)","v":""},null,null,null,{"$f":"IF($A$20=\"\",\"\",G$18)","v":""},null,{"$f":"IF($A$20=\"\",\"\",I$18)","v":""},{"$f":"IF($A$20=\"\",\"\",J$18)","v":""},null,null,null,null,null,null,null,null,null,null,null,null,null,{"$f":"IF($X$3=\"\",\"\",IF($T$3=$P$3,\"\",IF($X$3=$P$3,\"\",IF($X$3=$T$3,\"\",SUM(IF($Z$11>=$X$11,($Z$11-$X$11)*24,(1-ABS($Z$11-$X$11))*24),-IF($Z$12>=$X$12,($Z$12-$X$12)*24,(1-ABS($Z$12-$X$12))*24))*60))))","v":""},null,null,null,{"$f":"IF($AB$3=\"\",\"\",IF($AB$3=$P$3,\"\",IF($AB$3=$T$3,\"\",IF($AB$3=$X$3,$X$20,IF(ISNUMBER($AB$19),\"\",SUM(IF($AD$11>=$AB$11,($AD$11-$AB$11)*24,(1-ABS($AD$11-$AB$11))*24),-IF($AD$12>=$AB$12,($AD$12-$AB$12)*24,(1-ABS($AD$12-$AB$12))*24))*60)))))","v":""}]
[]
[]
[]
[]
[]
[{"$f":"IF('Haupteingabe Monat'!$S4=\"\",\"\",'Haupteingabe Monat'!$S4)","v":""},null,"Beschreibung der Tagesleistung bei FAT-Katalog 2"]
[{"$f":"IF('Haupteingabe Monat'!$P4=\"\",\"\",'Haupteingabe Monat'!$P4)","v":""}]
[]
[]
["Meine Angaben sind vollständig \nund richtig",null,null,null,null,null,null,"Für den Auftraggeber (nur bei Bedarf) \nLeistung anerkannt",null,null,null,null,null,"Sachlich richtig: ",null,null,null,null,null,null,null,"in eTime gebucht",null,null,null,null,null,null,null,null,"in SAP gebucht"]
["Name",null,{"$f":"$Q$4","v":""},null,null,null,null,"Name",null,null,null,null,null,"Datum",null,"Unterschrift",null,null,null,null,null,"Datum",null,null,null,null,null,null,null,null,"Datum"]
["Datum",null,{"$f":"$AE$2","v":"01."},null,{"$f":"$AG$2","v":"2025-07-01"},null,{"$f":"$AI$2","v":2025},"Datum",null,null,null,null,null,"Name",{"$f":"IF($H$12=\"\",\"\",VLOOKUP($H$12,Hilfen!$F$1:$H$8,2,FALSE))","v":""},null,null,null,null,null,null,"Namens-zeichen",null,null,null,null,null,null,null,null,"Namens-zeichen"]
["Unterschrift",null,null,null,null,null,null,"Firma",null,null,null,null,null,"Vorname",{"$f":"IF($H$12=\"\",\"\",VLOOKUP($H$12,Hilfen!$F$1:$H$8,3,FALSE))","v":""}]
[null,null,null,null,null,null,null,"Unterschrift"]
[null,null,null,null,null,null,null,null,null,null,null,null,null,null,null,null,null,null,null,null,null,"Unvollständig oder fehlerhaft ausgefüllte Belege werden nicht gebucht; RIL 187.1001 !"]

{"sheet":"01 Trupp 2","index":4,"n_rows":35,"n_cols":40,"rows_kept":35,"cut":false,"hidden":false,"merged":[[32,13,33,13],[32,14,33,14],[34,21,35,42],[30,24,30,29],[30,30,30,32],[30,33,30,42],[31,0,31,1],[31,2,31,3],[31,9,31,12],[31,21,33,23],[31,24,33,29],[31,30,33,32],[31,33,33,42],[30,0,30,1],[30,2,30,6],[30,7,30,8],[30,9,30,12],[30,15,33,20],[30,21,30,23],[32,0,33,1],[32,2,33,6],[32,7,32,8],[32,10,32,12],[25,0,25,1],[25,2,25,42],[26,0,28,42],[29,0,29,6],[29,7,29,12],[29,13,29,20],[29,21,29,29],[29,30,29,42],[24,19,24,22],[24,23,24,26],[24,27,24,30],[24,31,24,34],[24,35,24,38],[24,39,24,42],[23,23,23,26],[23,27,23,30],[23,31,23,34],[23,35,23,38],[23,39,23,42],[24,0,24,1],[24,2,24,5],[24,6,24,7],[24,9,24,14],[24,15,24,18],[23,0,23,1],[23,2,23,5],[23,6,23,7],[23,9,23,14],[23,15,23,18],[23,19,23,22],[22,19,22,22],[22,23,22,26],[22,27,22,30],[22,31,22,34],[22,35,22,38],[22,39,22,42],[21,23,21,26],[21,27,21,30],[21,31,21,34],[21,35,21,38],[21,39,21,42],[21,19,21,22],[22,0,22,1],[22,2,22,4],[22,6,22,7],[22,9,22,14],[22,15,22,18],[21,0,21,1],[21,2,21,4],[21,6,21,7],[21,9,21,14],[21,15,21,18],[20,19,20,22],[20,23,20,26],[20,27,20,30],[20,31,20,34],[20,35,20,38],[20,39,20,42],[19,23,19,26],[19,27,19,30],[19,31,19,34],[19,35,19,38],[19,39,19,42],[19,19,19,22],[20,0,20,1],[20,2,20,4],[20,6,20,7],[20,9,20,14],[20,15,20,18],[19,0,19,1],[19,2,19,4],[19,6,19,7],[19,9,19,14],[19,15,19,18],[18,19,18,22],[18,23,18,26],[18,27,18,30],[18,31,18,34],[18,35,18,38],[18,39,18,42],[17,23,17,26],[17,27,17,30],[17,31,17,34],[17,35,17,38],[17,39,17,42],[17,19,17,22],[18,0,18,1],[18,2,18,5],[18,6,18,7],[18,9,18,14],[18,15,18,18],[17,0,17,1],[17,2,17,5],[17,6,17,7],[17,9,17,14],[17,15,17,18],[14,27,14,30],[14,31,14,34],[14,35,14,38],[14,39,14,42],[15,15,15,18],[15,19,15,22],[15,23,15,26],[15,27,15,30],[15,31,15,34],[15,35,15,38],[13,39,13,40],[13,41,13,42],[14,0,16,1],[14,2,16,5],[14,6,16,7],[14,8,16,8],[14,9,16,14],[14,15,14,18],[14,19,14,22],[14,23,14,26],[13,27,13,28],[13,29,13,30],[13,31,13,32],[13,33,13,34],[13,35,13,36],[13,37,13,38],[15,39,15,42],[16,15,16,18],[16,19,16,22],[16,23,16,26],[16,27,16,30],[16,31,16,34],[16,35,16,38],[16,39,16,42],[13,13,13,14],[13,15,13,16],[13,17,13,18],[13,19,13,20],[13,21,13,22],[13,23,13,24],[13,25,13,26],[12,25,12,26],[12,27,12,28],[11,35,11,36],[11,37,11,38],[11,39,11,40],[11,41,11,42],[12,13,12,14],[12,15,12,16],[12,17,12,18],[12,19,12,20],[12,21,12,22],[12,23,12,24],[11,23,11,24],[11,25,11,26],[11,27,11,28],[11,29,11,30],[11,31,11,32],[11,33,11,34],[12,37,12,38],[12,39,12,40],[12,41,12,42],[12,29,12,30],[12,31,12,32],[12,33,12,34],[12,35,12,36],[11,0,11,6],[11,13,11,14],[11,15,11,16],[11,17,11,18],[11,19,11,20],[11,21,11,22],[10,23,10,24],[10,25,10,26],[10,27,10,28],[9,39,9,42],[10,13,10,14],[10,15,10,16],[10,17,10,18],[10,19,10,20],[10,21,10,22],[10,35,10,36],[10,37,10,38],[10,39,10,40],[10,41,10,42],[10,29,10,30],[10,31,10,32],[10,33,10,34],[4,4,4,7],[5,0,5,8],[6,3,6,8],[8,0,8,3],[9,15,9,18],[9,19,9,22],[3,31,8,31],[3,32,8,34],[3,35,8,35],[9,23,9,26],[9,27,9,30],[9,31,9,34],[9,35,9,38],[3,36,8,38],[3,39,8,39],[3,40,8,42],[2,39,2,42],[3,9,3,13],[3,15,8,15],[3,16,8,18],[3,19,8,19],[3,20,8,22],[3,23,8,23],[3,24,8,26],[3,27,8,27],[3,28,8,30],[1,0,2,8],[1,9,1,10],[1,15,1,22],[1,23,1,26],[1,27,1,29],[1,30,1,31],[1,32,1,33],[1,67,1,90],[2,9,2,14],[2,15,2,18],[2,19,2,22],[2,23,2,26],[2,27,2,30],[2,31,2,34],[2,35,2,38],[1,34,1,37]]}
[]
["DB InfraGO AG \nRB Nord\nRegionale Instandsetzung ",null,null,null,null,null,null,null,null,"Blatt",null,{"$f":"IF('Haupteingabe Monat'!$Q39=\"\",\"\",'Haupteingabe Monat'!$Q39)","v":1},"/",{"$f":"IF('Haupteingabe Monat'!$R39=\"\",\"\",'Haupteingabe Monat'!$R39)","v":1},null,null,null,null,null,null,null,null,null,null,null,null,null,"Datum: ",null,null,"01.",null,{"$f":"'Haupteingabe Monat'!$H$1","v":"2025-07-01"},null,{"$f":"'Haupteingabe Monat'!$J$1","v":2025}]
[null,null,null,null,null,null,null,null,null,"SAP Arbeitsplatz",null,null,null,null,null,{"$f":"IF('Haupteingabe Monat'!$W39=\"\",\"\",'Haupteingabe Monat'!$W39)","v":""},null,null,null,{"$f":"IF('Haupteingabe Monat'!$AE39=\"\",\"\",'Haupteingabe Monat'!$AE39)","v":""},null,null,null,{"$f":"IF('Haupteingabe Monat'!$AM39=\"\",\"\",'Haupteingabe Monat'!$AM39)","v":""},null,null,null,{"$f":"IF('Haupteingabe Monat'!$AU39=\"\",\"\",'Haupteingabe Monat'!$AU39)","v":""}]
[null,null,null,null,null,null,null,null,null,"Sachbearb. etime: ",null,null,null,null,"SB3","Name",{"$f":"IF('Haupteingabe Monat'!$X39=\"\",\"\",'Haupteingabe Monat'!$X39)","v":""},null,null,"Name",{"$f":"IF('Haupteingabe Monat'!$AF39=\"\",\"\",'Haupteingabe Monat'!$AF39)","v":""},null,null,"Name",{"$f":"IF('Haupteingabe Monat'!$AN39=\"\",\"\",'Haupteingabe Monat'!$AN39)","v":""},null,null,"Name",{"$f":"IF('Haupteingabe Monat'!$AV39=\"\",\"\",'Haupteingabe Monat'!$AV39)","v":""},null,null,"Name",null,null,null,"Name",null,null,null,"Name"]
["Baustelle:",null,null,null,{"$f":"IF('Haupteingabe Monat'!$B39=\"\",\"\",'Haupteingabe Monat'!$B39)","v":""}]
[{"$f":"IF('Haupteingabe Monat'!$H39=\"\",\"\",'Haupteingabe Monat'!$H39)","v":""}]
[]
[]
["Auftragstyp:",null,null,null,{"$f":"IF('Haupteingabe Monat'!$I39=\"\",\"\",'Haupteingabe Monat'!$I39)","v":""}]
[null,null,null,null,null,null,null,null,null,null,null,null,null,null,null,"hh:min\nvon            bis",null,null,null,"hh:min\nvon            bis",null,null,null,"hh:min\nvon            bis",null,null,null,"hh:min\nvon            bis",null,null,null,"hh:min\nvon            bis",null,null,null,"hh:min\nvon            bis",null,null,null,"hh:min\nvon            bis"]
[null,null,null,null,null,null,null,null,null,null,null,null,null,"1. Arbeitszeit von ... bis …",null,{"$f":"IF('Haupteingabe Monat'!$Y39=\"\",\"\",'Haupteingabe Monat'!$Y39)","v":""},null,{"$f":"IF('Haupteingabe Monat'!$Z39=\"\",\"\",'Haupteingabe Monat'!$Z39)","v":""},null,{"$f":"IF('Haupteingabe Monat'!AG39=\"\",\"\",'Haupteingabe Monat'!AG39)","v":""},null,{"$f":"IF('Haupteingabe Monat'!AH39=\"\",\"\",'Haupteingabe Monat'!AH39)","v":""},null,{"$f":"IF('Haupteingabe Monat'!AO39=\"\",\"\",'Haupteingabe Monat'!AO39)","v":""},null,{"$f":"IF('Haupteingabe Monat'!AP39=\"\",\"\",'Haupteingabe Monat'!AP39)","v":""},null,{"$f":"IF('Haupteingabe Monat'!AW39=\"\",\"\",'Haupteingabe Monat'!AW39)","v":""},null,{"$f":"IF('Haupteingabe Monat'!AX39=\"\",\"\",'Haupteingabe Monat'!AX39)","v":""}]
["Auftragsveranwortlicher:",null,null,null,null,null,null,{"$f":"IF('Haupteingabe Monat'!$J39=\"\",\"\",'Haupteingabe Monat'!$J39)","v":""},null,null,null,null,null,"   Pause von ... bis ...",null,{"$f":"IF('Haupteingabe Monat'!$AA39=\"\",\"\",'Haupteingabe Monat'!$AA39)","v":""},null,{"$f":"IF('Haupteingabe Monat'!$AB39=\"\",\"\",'Haupteingabe Monat'!$AB39)","v":""},null,{"$f":"IF('Haupteingabe Monat'!AI39=\"\",\"\",'Haupteingabe Monat'!AI39)","v":""},null,{"$f":"IF('Haupteingabe Monat'!AJ39=\"\",\"\",'Haupteingabe Monat'!AJ39)","v":""},null,{"$f":"IF('Haupteingabe Monat'!AQ39=\"\",\"\",'Haupteingabe Monat'!AQ39)","v":""},null,{"$f":"IF('Haupteingabe Monat'!AR39=\"\",\"\",'Haupteingabe Monat'!AR39)","v":""},null,{"$f":"IF('Haupteingabe Monat'!AY39=\"\",\"\",'Haupteingabe Monat'!AY39)","v":""},null,{"$f":"IF('Haupteingabe Monat'!AZ39=\"\",\"\",'Haupteingabe Monat'!AZ39)","v":""}]
[null,null,null,null,null,null,null,null,null,null,null,null,null,"2. Arbeitszeit von ... bis ..."]
[null,null,null,null,null,null,null,null,null,null,null,null,null,"   Pause von ... bis ..."]
["SAP Vorgang",null,"FAT/AAA",null,null,null,"SAP*\nAuftragsnummer\n",null,"AAR\nKurznummer\n","Beschreibung der Tagesleistung\n",null,null,null,null,null,"anzurechnende",null,null,null,"anzurechnende",null,null,null,"anzurechnende",null,null,null,"anzurechnende",null,null,null,"anzurechnende",null,null,null,"anzurechnende",null,null,null,"anzurechnende"]
[null,null,null,null,null,null,null,null,null,null,null,null,null,null,null,"Arbeitszeit",null,null,null,"Arbeitszeit",null,null,null,"Arbeitszeit",null,null,null,"Arbeitszeit",null,null,null,"Arbeitszeit",null,null,null,"Arbeitszeit",null,null,null,"Arbeitszeit"]
[null,null,null,null,null,null,null,null,null,null,null,null,null,null,null,"(min)",null,null,null,"(min)",null,null,null,"(min)",null,null,null,"(min)",null,null,null,"(min)",null,null,null,"(min)",null,null,null,"(min)"]
[{"$f":"IF('Haupteingabe Monat'!$K39=\"\",\"\",'Haupteingabe Monat'!$K39)","v":""},null,{"$f":"IF('Haupteingabe Monat'!$L39=\"\",\"\",'Haupteingabe Monat'!$L39)","v":""},null,null,null,{"$f":"IF('Haupteingabe Monat'!$M39=\"\",\"\",'Haupteingabe Monat'!$M39)","v":""},null,{"$f":"IF('Haupteingabe Monat'!$N39=\"\",\"\",'Haupteingabe Monat'!$N39)","v":""},{"$f":"IF('Haupteingabe Monat'!$O39=\"\",\"\",'Haupteingabe Monat'!$O39)","v":""},null,null,null,null,null,{"$f":"IF($P$3=\"\",\"\",IF($J$18=\"JAZ\",\"0\",IF($J$18=\"Urlaub laufendes Jahr\",\"468\",SUM(IF($R$11>=$P$11,($R$11-$P$11)*24,(1-ABS($R$11-$P$11))*24),-IF($R$12>=$P$12,($R$12-$P$12)*24,(1-ABS($R$12-$P$12))*24))*60)))","v":""},null,null,null,{"$f":"IF($T$3=\"\",\"\",IF($T$3=$P$3,SUM(IF($V$11>=$T$11,($V$11-$T$11)*24,(1-ABS($V$11-$T$11))*24),-IF($V$12>=$T$12,($V$12-$T$12)*24,(1-ABS($V$12-$T$12))*24))*60,\"\"))","v":""},null,null,null,{"$f":"IF($X$3=\"\",\"\",IF($X$3=$P$3,SUM(IF($Z$11>=$X$11,($Z$11-$X$11)*24,(1-ABS($Z$11-$X$11))*24),-IF($Z$12>=$X$12,($Z$12-$X$12)*24,(1-ABS($Z$12-$X$12))*24))*60,\"\"))","v":""},null,null,null,{"$f":"IF($AB$3=\"\",\"\",IF($AB$3=$P$3,SUM(IF($AD$11>=$AB$11,($AD$11-$AB$11)*24,(1-ABS($AD$11-$AB$11))*24),-IF($AD$12>=$AB$12,($AD$12-$AB$12)*24,(1-ABS($AD$12-$AB$12))*24))*60,\"\"))","v":""},null,null,null,{"$f":"IF(AF11=\"\",\"\",SUM(IF(AH11>=AF11,(AH11-AF11)*24,(1-ABS(AH11-AF11))*24),-IF(AH12>=AF12,(AH12-AF12)*24,(1-ABS(AH12-AF12))*24))*60)","v":""},null,null,null,{"$f":"IF(AJ11=\"\",\"\",SUM(IF(AL11>=AJ11,(AL11-AJ11)*24,(1-ABS(AL11-AJ11))*24),-IF(AL12>=AJ12,(AL12-AJ12)*24,(1-ABS(AL12-AJ12))*24))*60)","v":""},null,null,null,{"$f":"IF(AN11=\"\",\"\",SUM(IF(AP11>=AN11,(AP11-AN11)*24,(1-ABS(AP11-AN11))*24),-IF(AP12>=AN12,(AP12-AN12)*24,(1-ABS(AP12-AN12))*24))*60)","v":""}]
[{"$f":"IF($T$3=\"\",\"\",IF(AND(ISNUMBER($T$19),ISTEXT($T$3)),_xlfn.XLOOKUP($T$3,Hilfen!$B$30:$B$32,Hilfen!$C$30:$C$32,\"\"),IF(AND(ISNUMBER($X$19),ISTEXT($X$3)),_xlfn.XLOOKUP($X$3,Hilfen!$B$30:$B$32,Hilfen!$C$30:$C$32,\"\"),IF(AND(ISNUMBER($AB$19),ISTEXT($AB$3)),_xlfn.XLOOKUP($AB$3,Hilfen!$B$30:$B$32,Hilfen!$C$30:$C$32,\"\"),\"\"))))","v":""},null,{"$f":"IF($A19=\"\",\"\",C$18)","v":""},null,null,null,{"$f":"IF($A19=\"\",\"\",$G18)","v":""},null,{"$f":"IF($A19=\"\",\"\",$I18)","v":""},{"$f":"IF($A19=\"\",\"\",$J18)","v":""},null,null,null,null,null,null,null,null,null,{"$f":"IF($T$3=\"\",\"\",IF($T$3=$P$3,\"\",IF($T$3<>$P$3,SUM(IF($V$11>=$T$11,($V$11-$T$11)*24,(1-ABS($V$11-$T$11))*24),-IF($V$12>=$T$12,($V$12-$T$12)*24,(1-ABS($V$12-$T$12))*24))*60,\"\")))","v":""},null,null,null,{"$f":"IF($X$3=\"\",\"\",IF($X$3=$P$3,\"\",IF($T$3=$P$3,SUM(IF($Z$11>=$X$11,($Z$11-$X$11)*24,(1-ABS($Z$11-$X$11))*24),-IF($Z$12>=$X$12,($Z$12-$X$12)*24,(1-ABS($Z$12-$X$12))*24))*60,IF(AND($X$3=\"SOFD\",$T$3=\"SOWMED\"),\"\",IF(AND($X$3=\"SOSMED\",$T$3=\"SOWMED\"),\"\",IF(AND($X$3=\"SOWMED\",$T$3=\"SOFD\"),\"\",IF(AND($X$3=\"SOWMED\",$T$3=\"SOSMED\"),\"\",IF(AND($X$3=\"SOFD\",$T$3=\"SOSMED\"),\"\",IF(AND($X$3=\"SOSMED\",$T$3=\"SOFD\"),\"\",SUM(IF($Z$11>=$X$11,($Z$11-$X$11)*24,(1-ABS($Z$11-$X$11))*24),-IF($Z$12>=$X$12,($Z$12-$X$12)*24,(1-ABS($Z$12-$X$12))*24))*60)))))))))","v":""},null,null,null,{"$f":"IF($AB$3=\"\",\"\",IF($AB$3=$P$3,\"\",IF($AB$3=$T$3,SUM(IF($AD$11>=$AB$11,($AD$11-$AB$11)*24,(1-ABS($AD$11-$AB$11))*24),-IF($AD$12>=$AB$12,($AD$12-$AB$12)*24,(1-ABS($AD$12-$AB$12))*24))*60,IF(AND($AB$3=$X$3,$X$19=\"\"),\"\",IF($AB$3=$X$3,SUM(IF($AD$11>=$AB$11,($AD$11-$AB$11)*24,(1-ABS($AD$11-$AB$11))*24),-IF($AD$12>=$AB$12,($AD$12-$AB$12)*24,(1-ABS($AD$12-$AB$12))*24))*60,IF(AND($T$19=\"\",$X$19=\"\"),SUM(IF($AD$11>=$AB$11,($AD$11-$AB$11)*24,(1-ABS($AD$11-$AB$11))*24),-IF($AD$12>=$AB$12,($AD$12-$AB$12)*24,(1-ABS($AD$12-$AB$12))*24))*60,\"\"))))))","v":""}]
[{"$f":"IF($X$3=\"\",\"\",IF(AND(ISNUMBER($X$20),ISTEXT($X$3)),_xlfn.XLOOKUP($X$3,Hilfen!$B$30:$B$32,Hilfen!$C$30:$C$32,\"\"),IF(AND(ISNUMBER($AB$20),ISTEXT($AB$3)),_xlfn.XLOOKUP($AB$3,Hilfen!$B$30:$B$32,Hilfen!$C$30:$C$32,\"\"),\"\")))","v":""},null,{"$f":"IF($A$20=\"\",\"\",C$18)","v":""},null,null,null,{"$f":"IF($A$20=\"\",\"\",G$18)","v":""},null,{"$f":"IF($A$20=\"\",\"\",I$18)","v":""},{"$f":"IF($A$20=\"\",\"\",J$18)","v":""},null,null,null,null,null,null,null,null,null,null,null,null,null,{"$f":"IF($X$3=\"\",\"\",IF($T$3=$P$3,\"\",IF($X$3=$P$3,\"\",IF($X$3=$T$3,\"\",SUM(IF($Z$11>=$X$11,($Z$11-$X$11)*24,(1-ABS($Z$11-$X$11))*24),-IF($Z$12>=$X$12,($Z$12-$X$12)*24,(1-ABS($Z$12-$X$12))*24))*60))))","v":""},null,null,null,{"$f":"IF($AB$3=\"\",\"\",IF($AB$3=$P$3,\"\",IF($AB$3=$T$3,\"\",IF($AB$3=$X$3,$X$20,IF(ISNUMBER($AB$19),\"\",SUM(IF($AD$11>=$AB$11,($AD$11-$AB$11)*24,(1-ABS($AD$11-$AB$11))*24),-IF($AD$12>=$AB$12,($AD$12-$AB$12)*24,(1-ABS($AD$12-$AB$12))*24))*60)))))","v":""}]
[]
[]
[]
[]
[]
[{"$f":"IF('Haupteingabe Monat'!$S39=\"\",\"\",'Haupteingabe Monat'!$S39)","v":""},null,"Beschreibung der Tagesleistung bei FAT-Katalog 2"]
[{"$f":"IF('Haupteingabe Monat'!$P39=\"\",\"\",'Haupteingabe Monat'!$P39)","v":""}]
[]
[]
["Meine Angaben sind vollständig \nund richtig",null,null,null,null,null,null,"Für den Auftraggeber (nur bei Bedarf) \nLeistung anerkannt",null,null,null,null,null,"Sachlich richtig: ",null,null,null,null,null,null,null,"in eTime gebucht",null,null,null,null,null,null,null,null,"in SAP gebucht"]
["Name",null,{"$f":"$Q$4","v":""},null,null,null,null,"Name",null,null,null,null,null,"Datum",null,"Unterschrift",null,null,null,null,null,"Datum",null,null,null,null,null,null,null,null,"Datum"]
["Datum",null,{"$f":"$AE$2","v":"01."},null,{"$f":"$AG$2","v":"2025-07-01"},null,{"$f":"$AI$2","v":2025},"Datum",null,null,null,null,null,"Name",{"$f":"IF($H$12=\"\",\"\",VLOOKUP($H$12,Hilfen!$F$1:$H$8,2,FALSE))","v":""},null,null,null,null,null,null,"Namens-zeichen",null,null,null,null,null,null,null,null,"Namens-zeichen"]
["Unterschrift",null,null,null,null,null,null,"Firma",null,null,null,null,null,"Vorname",{"$f":"IF($H$12=\"\",\"\",VLOOKUP($H$12,Hilfen!$F$1:$H$8,3,FALSE))","v":""}]
[null,null,null,null,null,null,null,"Unterschrift"]
[null,null,null,null,null,null,null,null,null,null,null,null,null,null,null,null,null,null,null,null,null,"Unvollständig oder fehlerhaft ausgefüllte Belege werden nicht gebucht; RIL 187.1001 !"]

{"sheet":"02 Trupp 1","index":5,"n_rows":35,"n_cols":40,"rows_kept":35,"cut":false,"hidden":false,"merged":[[32,13,33,13],[32,14,33,14],[34,21,35,42],[1,34,1,37],[30,24,30,29],[30,30,30,32],[30,33,30,42],[31,0,31,1],[31,2,31,3],[31,9,31,12],[31,21,33,23],[31,24,33,29],[31,30,33,32],[31,33,33,42],[30,0,30,1],[30,2,30,6],[30,7,30,8],[30,9,30,12],[30,15,33,20],[30,21,30,23],[32,0,33,1],[32,2,33,6],[32,7,32,8],[32,10,32,12],[25,0,25,1],[25,2,25,42],[26,0,28,42],[29,0,29,6],[29,7,29,12],[29,13,29,20],[29,21,29,29],[29,30,29,42],[24,19,24,22],[24,23,24,26],[24,27,24,30],[24,31,24,34],[24,35,24,38],[24,39,24,42],[23,23,23,26],[23,27,23,30],[23,31,23,34],[23,35,23,38],[23,39,23,42],[24,0,24,1],[24,2,24,5],[24,6,24,7],[24,9,24,14],[24,15,24,18],[23,0,23,1],[23,2,23,5],[23,6,23,7],[23,9,23,14],[23,15,23,18],[23,19,23,22],[22,19,22,22],[22,23,22,26],[22,27,22,30],[22,31,22,34],[22,35,22,38],[22,39,22,42],[21,23,21,26],[21,27,21,30],[21,31,21,34],[21,35,21,38],[21,39,21,42],[21,19,21,22],[22,0,22,1],[22,2,22,4],[22,6,22,7],[22,9,22,14],[22,15,22,18],[21,0,21,1],[21,2,21,4],[21,6,21,7],[21,9,21,14],[21,15,21,18],[20,19,20,22],[20,23,20,26],[20,27,20,30],[20,31,20,34],[20,35,20,38],[20,39,20,42],[19,23,19,26],[19,27,19,30],[19,31,19,34],[19,35,19,38],[19,39,19,42],[19,19,19,22],[20,0,20,1],[20,2,20,4],[20,6,20,7],[20,9,20,14],[20,15,20,18],[19,0,19,1],[19,2,19,4],[19,6,19,7],[19,9,19,14],[19,15,19,18],[18,19,18,22],[18,23,18,26],[18,27,18,30],[18,31,18,34],[18,35,18,38],[18,39,18,42],[17,23,17,26],[17,27,17,30],[17,31,17,34],[17,35,17,38],[17,39,17,42],[17,19,17,22],[18,0,18,1],[18,2,18,5],[18,6,18,7],[18,9,18,14],[18,15,18,18],[17,0,17,1],[17,2,17,5],[17,6,17,7],[17,9,17,14],[17,15,17,18],[14,27,14,30],[14,31,14,34],[14,35,14,38],[14,39,14,42],[15,15,15,18],[15,19,15,22],[15,23,15,26],[15,27,15,30],[15,31,15,34],[15,35,15,38],[13,39,13,40],[13,41,13,42],[14,0,16,1],[14,2,16,5],[14,6,16,7],[14,8,16,8],[14,9,16,14],[14,15,14,18],[14,19,14,22],[14,23,14,26],[13,27,13,28],[13,29,13,30],[13,31,13,32],[13,33,13,34],[13,35,13,36],[13,37,13,38],[15,39,15,42],[16,15,16,18],[16,19,16,22],[16,23,16,26],[16,27,16,30],[16,31,16,34],[16,35,16,38],[16,39,16,42],[13,13,13,14],[13,15,13,16],[13,17,13,18],[13,19,13,20],[13,21,13,22],[13,23,13,24],[13,25,13,26],[12,25,12,26],[12,27,12,28],[11,35,11,36],[11,37,11,38],[11,39,11,40],[11,41,11,42],[12,13,12,14],[12,15,12,16],[12,17,12,18],[12,19,12,20],[12,21,12,22],[12,23,12,24],[11,23,11,24],[11,25,11,26],[11,27,11,28],[11,29,11,30],[11,31,11,32],[11,33,11,34],[12,37,12,38],[12,39,12,40],[12,41,12,42],[12,29,12,30],[12,31,12,32],[12,33,12,34],[12,35,12,36],[11,0,11,6],[11,13,11,14],[11,15,11,16],[11,17,11,18],[11,19,11,20],[11,21,11,22],[10,23,10,24],[10,25,10,26],[10,27,10,28],[9,39,9,42],[10,13,10,14],[10,15,10,16],[10,17,10,18],[10,19,10,20],[10,21,10,22],[10,35,10,36],[10,37,10,38],[10,39,10,40],[10,41,10,42],[10,29,10,30],[10,31,10,32],[10,33,10,34],[4,4,4,7],[5,0,5,8],[6,3,6,8],[8,0,8,3],[9,15,9,18],[9,19,9,22],[3,31,8,31],[3,32,8,34],[3,35,8,35],[9,23,9,26],[9,27,9,30],[9,31,9,34],[9,35,9,38],[3,36,8,38],[3,39,8,39],[3,40,8,42],[2,39,2,42],[3,9,3,13],[3,15,8,15],[3,16,8,18],[3,19,8,19],[3,20,8,22],[3,23,8,23],[3,24,8,26],[3,27,8,27],[3,28,8,30],[1,0,2,8],[1,9,1,10],[1,15,1,22],[1,23,1,26],[1,27,1,29],[1,30,1,31],[1,32,1,33],[1,67,1,90],[2,9,2,14],[2,15,2,18],[2,19,2,22],[2,23,2,26],[2,27,2,30],[2,31,2,34],[2,35,2,38]]}
[]
["DB InfraGO AG \nRB Nord\nRegionale Instandsetzung ",null,null,null,null,null,null,null,null,"Blatt",null,{"$f":"IF('Haupteingabe Monat'!$Q5=\"\",\"\",'Haupteingabe Monat'!$Q5)","v":1},"/",{"$f":"IF('Haupteingabe Monat'!$R5=\"\",\"\",'Haupteingabe Monat'!$R5)","v":1},null,null,null,null,null,null,null,null,null,null,null,null,null,"Datum: ",null,null,"02.",null,{"$f":"'Haupteingabe Monat'!$H$1","v":"2025-07-01"},null,{"$f":"'Haupteingabe Monat'!$J$1","v":2025}]
[null,null,null,null,null,null,null,null,null,"SAP Arbeitsplatz",null,null,null,null,null,{"$f":"IF('Haupteingabe Monat'!$W5=\"\",\"\",'Haupteingabe Monat'!$W5)","v":""},null,null,null,{"$f":"IF('Haupteingabe Monat'!$AE5=\"\",\"\",'Haupteingabe Monat'!$AE5)","v":""},null,null,null,{"$f":"IF('Haupteingabe Monat'!$AM5=\"\",\"\",'Haupteingabe Monat'!$AM5)","v":""},null,null,null,{"$f":"IF('Haupteingabe Monat'!$AU5=\"\",\"\",'Haupteingabe Monat'!$AU5)","v":""}]
[null,null,null,null,null,null,null,null,null,"Sachbearb. etime: ",null,null,null,null,"SB3","Name",{"$f":"IF('Haupteingabe Monat'!$X5=\"\",\"\",'Haupteingabe Monat'!$X5)","v":""},null,null,"Name",{"$f":"IF('Haupteingabe Monat'!$AF5=\"\",\"\",'Haupteingabe Monat'!$AF5)","v":""},null,null,"Name",{"$f":"IF('Haupteingabe Monat'!$AN5=\"\",\"\",'Haupteingabe Monat'!$AN5)","v":""},null,null,"Name",{"$f":"IF('Haupteingabe Monat'!$AV5=\"\",\"\",'Haupteingabe Monat'!$AV5)","v":""},null,null,"Name",null,null,null,"Name",null,null,null,"Name"]
["Baustelle:",null,null,null,{"$f":"IF('Haupteingabe Monat'!$B5=\"\",\"\",'Haupteingabe Monat'!$B5)","v":""}]
[{"$f":"IF('Haupteingabe Monat'!$H5=\"\",\"\",'Haupteingabe Monat'!$H5)","v":""}]
[]
[]
["Auftragstyp:",null,null,null,{"$f":"IF('Haupteingabe Monat'!$I5=\"\",\"\",'Haupteingabe Monat'!$I5)","v":""}]
[null,null,null,null,null,null,null,null,null,null,null,null,null,null,null,"hh:min\nvon            bis",null,null,null,"hh:min\nvon            bis",null,null,null,"hh:min\nvon            bis",null,null,null,"hh:min\nvon            bis",null,null,null,"hh:min\nvon            bis",null,null,null,"hh:min\nvon            bis",null,null,null,"hh:min\nvon            bis"]
[null,null,null,null,null,null,null,null,null,null,null,null,null,"1. Arbeitszeit von ... bis …",null,{"$f":"IF('Haupteingabe Monat'!$Y5=\"\",\"\",'Haupteingabe Monat'!$Y5)","v":""},null,{"$f":"IF('Haupteingabe Monat'!$Z5=\"\",\"\",'Haupteingabe Monat'!$Z5)","v":""},null,{"$f":"IF('Haupteingabe Monat'!AG5=\"\",\"\",'Haupteingabe Monat'!AG5)","v":""},null,{"$f":"IF('Haupteingabe Monat'!AH5=\"\",\"\",'Haupteingabe Monat'!AH5)","v":""},null,{"$f":"IF('Haupteingabe Monat'!AO5=\"\",\"\",'Haupteingabe Monat'!AO5)","v":""},null,{"$f":"IF('Haupteingabe Monat'!AP5=\"\",\"\",'Haupteingabe Monat'!AP5)","v":""},null,{"$f":"IF('Haupteingabe Monat'!AW5=\"\",\"\",'Haupteingabe Monat'!AW5)","v":""},null,{"$f":"IF('Haupteingabe Monat'!AX5=\"\",\"\",'Haupteingabe Monat'!AX5)","v":""}]
["Auftragsveranwortlicher:",null,null,null,null,null,null,{"$f":"IF('Haupteingabe Monat'!$J5=\"\",\"\",'Haupteingabe Monat'!$J5)","v":""},null,null,null,null,null,"   Pause von ... bis ...",null,{"$f":"IF('Haupteingabe Monat'!$AA5=\"\",\"\",'Haupteingabe Monat'!$AA5)","v":""},null,{"$f":"IF('Haupteingabe Monat'!$AB5=\"\",\"\",'Haupteingabe Monat'!$AB5)","v":""},null,{"$f":"IF('Haupteingabe Monat'!AI5=\"\",\"\",'Haupteingabe Monat'!AI5)","v":""},null,{"$f":"IF('Haupteingabe Monat'!AJ5=\"\",\"\",'Haupteingabe Monat'!AJ5)","v":""},null,{"$f":"IF('Haupteingabe Monat'!AQ5=\"\",\"\",'Haupteingabe Monat'!AQ5)","v":""},null,{"$f":"IF('Haupteingabe Monat'!AR5=\"\",\"\",'Haupteingabe Monat'!AR5)","v":""},null,{"$f":"IF('Haupteingabe Monat'!AY5=\"\",\"\",'Haupteingabe Monat'!AY5)","v":""},null,{"$f":"IF('Haupteingabe Monat'!AZ5=\"\",\"\",'Haupteingabe Monat'!AZ5)","v":""}]
[null,null,null,null,null,null,null,null,null,null,null,null,null,"2. Arbeitszeit von ... bis ..."]
[null,null,null,null,null,null,null,null,null,null,null,null,null,"   Pause von ... bis ..."]
["SAP Vorgang",null,"FAT/AAA",null,null,null,"SAP*\nAuftragsnummer\n",null,"AAR\nKurznummer\n","Beschreibung der Tagesleistung\n",null,null,null,null,null,"anzurechnende",null,null,null,"anzurechnende",null,null,null,"anzurechnende",null,null,null,"anzurechnende",null,null,null,"anzurechnende",null,null,null,"anzurechnende",null,null,null,"anzurechnende"]
[null,null,null,null,null,null,null,null,null,null,null,null,null,null,null,"Arbeitszeit",null,null,null,"Arbeitszeit",null,null,null,"Arbeitszeit",null,null,null,"Arbeitszeit",null,null,null,"Arbeitszeit",null,null,null,"Arbeitszeit",null,null,null,"Arbeitszeit"]
[null,null,null,null,null,null,null,null,null,null,null,null,null,null,null,"(min)",null,null,null,"(min)",null,null,null,"(min)",null,null,null,"(min)",null,null,null,"(min)",null,null,null,"(min)",null,null,null,"(min)"]
[{"$f":"IF('Haupteingabe Monat'!$K5=\"\",\"\",'Haupteingabe Monat'!$K5)","v":""},null,{"$f":"IF('Haupteingabe Monat'!$L5=\"\",\"\",'Haupteingabe Monat'!$L5)","v":""},null,null,null,{"$f":"IF('Haupteingabe Monat'!$M5=\"\",\"\",'Haupteingabe Monat'!$M5)","v":""},null,{"$f":"IF('Haupteingabe Monat'!$N5=\"\",\"\",'Haupteingabe Monat'!$N5)","v":""},{"$f":"IF('Haupteingabe Monat'!$O5=\"\",\"\",'Haupteingabe Monat'!$O5)","v":""},null,null,null,null,null,{"$f":"IF($P$3=\"\",\"\",IF($J$18=\"JAZ\",\"0\",IF($J$18=\"Urlaub laufendes Jahr\",\"468\",SUM(IF($R$11>=$P$11,($R$11-$P$11)*24,(1-ABS($R$11-$P$11))*24),-IF($R$12>=$P$12,($R$12-$P$12)*24,(1-ABS($R$12-$P$12))*24))*60)))","v":""},null,null,null,{"$f":"IF($T$3=\"\",\"\",IF($T$3=$P$3,SUM(IF($V$11>=$T$11,($V$11-$T$11)*24,(1-ABS($V$11-$T$11))*24),-IF($V$12>=$T$12,($V$12-$T$12)*24,(1-ABS($V$12-$T$12))*24))*60,\"\"))","v":""},null,null,null,{"$f":"IF($X$3=\"\",\"\",IF($X$3=$P$3,SUM(IF($Z$11>=$X$11,($Z$11-$X$11)*24,(1-ABS($Z$11-$X$11))*24),-IF($Z$12>=$X$12,($Z$12-$X$12)*24,(1-ABS($Z$12-$X$12))*24))*60,\"\"))","v":""},null,null,null,{"$f":"IF($AB$3=\"\",\"\",IF($AB$3=$P$3,SUM(IF($AD$11>=$AB$11,($AD$11-$AB$11)*24,(1-ABS($AD$11-$AB$11))*24),-IF($AD$12>=$AB$12,($AD$12-$AB$12)*24,(1-ABS($AD$12-$AB$12))*24))*60,\"\"))","v":""},null,null,null,{"$f":"IF(AF11=\"\",\"\",SUM(IF(AH11>=AF11,(AH11-AF11)*24,(1-ABS(AH11-AF11))*24),-IF(AH12>=AF12,(AH12-AF12)*24,(1-ABS(AH12-AF12))*24))*60)","v":""},null,null,null,{"$f":"IF(AJ11=\"\",\"\",SUM(IF(AL11>=AJ11,(AL11-AJ11)*24,(1-ABS(AL11-AJ11))*24),-IF(AL12>=AJ12,(AL12-AJ12)*24,(1-ABS(AL12-AJ12))*24))*60)","v":""},null,null,null,{"$f":"IF(AN11=\"\",\"\",SUM(IF(AP11>=AN11,(AP11-AN11)*24,(1-ABS(AP11-AN11))*24),-IF(AP12>=AN12,(AP12-AN12)*24,(1-ABS(AP12-AN12))*24))*60)","v":""}]
[{"$f":"IF($T$3=\"\",\"\",IF(AND(ISNUMBER($T$19),ISTEXT($T$3)),_xlfn.XLOOKUP($T$3,Hilfen!$B$30:$B$32,Hilfen!$C$30:$C$32,\"\"),IF(AND(ISNUMBER($X$19),ISTEXT($X$3)),_xlfn.XLOOKUP($X$3,Hilfen!$B$30:$B$32,Hilfen!$C$30:$C$32,\"\"),IF(AND(ISNUMBER($AB$19),ISTEXT($AB$3)),_xlfn.XLOOKUP($AB$3,Hilfen!$B$30:$B$32,Hilfen!$C$30:$C$32,\"\"),\"\"))))","v":""},null,{"$f":"IF($A19=\"\",\"\",C$18)","v":""},null,null,null,{"$f":"IF($A19=\"\",\"\",$G18)","v":""},null,{"$f":"IF($A19=\"\",\"\",$I18)","v":""},{"$f":"IF($A19=\"\",\"\",$J18)","v":""},null,null,null,null,null,null,null,null,null,{"$f":"IF($T$3=\"\",\"\",IF($T$3=$P$3,\"\",IF($T$3<>$P$3,SUM(IF($V$11>=$T$11,($V$11-$T$11)*24,(1-ABS($V$11-$T$11))*24),-IF($V$12>=$T$12,($V$12-$T$12)*24,(1-ABS($V$12-$T$12))*24))*60,\"\")))","v":""},null,null,null,{"$f":"IF($X$3=\"\",\"\",IF($X$3=$P$3,\"\",IF($T$3=$P$3,SUM(IF($Z$11>=$X$11,($Z$11-$X$11)*24,(1-ABS($Z$11-$X$11))*24),-IF($Z$12>=$X$12,($Z$12-$X$12)*24,(1-ABS($Z$12-$X$12))*24))*60,IF(AND($X$3=\"SOFD\",$T$3=\"SOWMED\"),\"\",IF(AND($X$3=\"SOSMED\",$T$3=\"SOWMED\"),\"\",IF(AND($X$3=\"SOWMED\",$T$3=\"SOFD\"),\"\",IF(AND($X$3=\"SOWMED\",$T$3=\"SOSMED\"),\"\",IF(AND($X$3=\"SOFD\",$T$3=\"SOSMED\"),\"\",IF(AND($X$3=\"SOSMED\",$T$3=\"SOFD\"),\"\",SUM(IF($Z$11>=$X$11,($Z$11-$X$11)*24,(1-ABS($Z$11-$X$11))*24),-IF($Z$12>=$X$12,($Z$12-$X$12)*24,(1-ABS($Z$12-$X$12))*24))*60)))))))))","v":""},null,null,null,{"$f":"IF($AB$3=\"\",\"\",IF($AB$3=$P$3,\"\",IF($AB$3=$T$3,SUM(IF($AD$11>=$AB$11,($AD$11-$AB$11)*24,(1-ABS($AD$11-$AB$11))*24),-IF($AD$12>=$AB$12,($AD$12-$AB$12)*24,(1-ABS($AD$12-$AB$12))*24))*60,IF(AND($AB$3=$X$3,$X$19=\"\"),\"\",IF($AB$3=$X$3,SUM(IF($AD$11>=$AB$11,($AD$11-$AB$11)*24,(1-ABS($AD$11-$AB$11))*24),-IF($AD$12>=$AB$12,($AD$12-$AB$12)*24,(1-ABS($AD$12-$AB$12))*24))*60,IF(AND($T$19=\"\",$X$19=\"\"),SUM(IF($AD$11>=$AB$11,($AD$11-$AB$11)*24,(1-ABS($AD$11-$AB$11))*24),-IF($AD$12>=$AB$12,($AD$12-$AB$12)*24,(1-ABS($AD$12-$AB$12))*24))*60,\"\"))))))","v":""}]
[{"$f":"IF($X$3=\"\",\"\",IF(AND(ISNUMBER($X$20),ISTEXT($X$3)),_xlfn.XLOOKUP($X$3,Hilfen!$B$30:$B$32,Hilfen!$C$30:$C$32,\"\"),IF(AND(ISNUMBER($AB$20),ISTEXT($AB$3)),_xlfn.XLOOKUP($AB$3,Hilfen!$B$30:$B$32,Hilfen!$C$30:$C$32,\"\"),\"\")))","v":""},null,{"$f":"IF($A$20=\"\",\"\",C$18)","v":""},null,null,null,{"$f":"IF($A$20=\"\",\"\",G$18)","v":""},null,{"$f":"IF($A$20=\"\",\"\",I$18)","v":""},{"$f":"IF($A$20=\"\",\"\",J$18)","v":""},null,null,null,null,null,null,null,null,null,null,null,null,null,{"$f":"IF($X$3=\"\",\"\",IF($T$3=$P$3,\"\",IF($X$3=$P$3,\"\",IF($X$3=$T$3,\"\",SUM(IF($Z$11>=$X$11,($Z$11-$X$11)*24,(1-ABS($Z$11-$X$11))*24),-IF($Z$12>=$X$12,($Z$12-$X$12)*24,(1-ABS($Z$12-$X$12))*24))*60))))","v":""},null,null,null,{"$f":"IF($AB$3=\"\",\"\",IF($AB$3=$P$3,\"\",IF($AB$3=$T$3,\"\",IF($AB$3=$X$3,$X$20,IF(ISNUMBER($AB$19),\"\",SUM(IF($AD$11>=$AB$11,($AD$11-$AB$11)*24,(1-ABS($AD$11-$AB$11))*24),-IF($AD$12>=$AB$12,($AD$12-$AB$12)*24,(1-ABS($AD$12-$AB$12))*24))*60)))))","v":""}]
[]
[]
[]
[]
[]
[{"$f":"IF('Haupteingabe Monat'!$S5=\"\",\"\",'Haupteingabe Monat'!$S5)","v":""},null,"Beschreibung der Tagesleistung bei FAT-Katalog 2"]
[{"$f":"IF('Haupteingabe Monat'!$P5=\"\",\"\",'Haupteingabe Monat'!$P5)","v":""}]
[]
[]
["Meine Angaben sind vollständig \nund richtig",null,null,null,null,null,null,"Für den Auftraggeber (nur bei Bedarf) \nLeistung anerkannt",null,null,null,null,null,"Sachlich richtig: ",null,null,null,null,null,null,null,"in eTime gebucht",null,null,null,null,null,null,null,null,"in SAP gebucht"]
["Name",null,{"$f":"$Q$4","v":""},null,null,null,null,"Name",null,null,null,null,null,"Datum",null,"Unterschrift",null,null,null,null,null,"Datum",null,null,null,null,null,null,null,null,"Datum"]
["Datum",null,{"$f":"$AE$2","v":"02."},null,{"$f":"$AG$2","v":"2025-07-01"},null,{"$f":"$AI$2","v":2025},"Datum",null,null,null,null,null,"Name",{"$f":"IF($H$12=\"\",\"\",VLOOKUP($H$12,Hilfen!$F$1:$H$8,2,FALSE))","v":""},null,null,null,null,null,null,"Namens-zeichen",null,null,null,null,null,null,null,null,"Namens-zeichen"]
["Unterschrift",null,null,null,null,null,null,"Firma",null,null,null,null,null,"Vorname",{"$f":"IF($H$12=\"\",\"\",VLOOKUP($H$12,Hilfen!$F$1:$H$8,3,FALSE))","v":""}]
[null,null,null,null,null,null,null,"Unterschrift"]
[null,null,null,null,null,null,null,null,null,null,null,null,null,null,null,null,null,null,null,null,null,"Unvollständig oder fehlerhaft ausgefüllte Belege werden nicht gebucht; RIL 187.1001 !"]

{"sheet":"02 Trupp 2","index":6,"n_rows":35,"n_cols":40,"rows_kept":35,"cut":false,"hidden":false,"merged":[[32,13,33,13],[32,14,33,14],[34,21,35,42],[1,34,1,37],[30,24,30,29],[30,30,30,32],[30,33,30,42],[31,0,31,1],[31,2,31,3],[31,9,31,12],[31,21,33,23],[31,24,33,29],[31,30,33,32],[31,33,33,42],[30,0,30,1],[30,2,30,6],[30,7,30,8],[30,9,30,12],[30,15,33,20],[30,21,30,23],[32,0,33,1],[32,2,33,6],[32,7,32,8],[32,10,32,12],[25,0,25,1],[25,2,25,42],[26,0,28,42],[29,0,29,6],[29,7,29,12],[29,13,29,20],[29,21,29,29],[29,30,29,42],[24,19,24,22],[24,23,24,26],[24,27,24,30],[24,31,24,34],[24,35,24,38],[24,39,24,42],[23,23,23,26],[23,27,23,30],[23,31,23,34],[23,35,23,38],[23,39,23,42],[24,0,24,1],[24,2,24,5],[24,6,24,7],[24,9,24,14],[24,15,24,18],[23,0,23,1],[23,2,23,5],[23,6,23,7],[23,9,23,14],[23,15,23,18],[23,19,23,22],[22,19,22,22],[22,23,22,26],[22,27,22,30],[22,31,22,34],[22,35,22,38],[22,39,22,42],[21,23,21,26],[21,27,21,30],[21,31,21,34],[21,35,21,38],[21,39,21,42],[21,19,21,22],[22,0,22,1],[22,2,22,4],[22,6,22,7],[22,9,22,14],[22,15,22,18],[21,0,21,1],[21,2,21,4],[21,6,21,7],[21,9,21,14],[21,15,21,18],[20,19,20,22],[20,23,20,26],[20,27,20,30],[20,31,20,34],[20,35,20,38],[20,39,20,42],[19,23,19,26],[19,27,19,30],[19,31,19,34],[19,35,19,38],[19,39,19,42],[19,19,19,22],[20,0,20,1],[20,2,20,4],[20,6,20,7],[20,9,20,14],[20,15,20,18],[19,0,19,1],[19,2,19,4],[19,6,19,7],[19,9,19,14],[19,15,19,18],[18,19,18,22],[18,23,18,26],[18,27,18,30],[18,31,18,34],[18,35,18,38],[18,39,18,42],[17,23,17,26],[17,27,17,30],[17,31,17,34],[17,35,17,38],[17,39,17,42],[17,19,17,22],[18,0,18,1],[18,2,18,5],[18,6,18,7],[18,9,18,14],[18,15,18,18],[17,0,17,1],[17,2,17,5],[17,6,17,7],[17,9,17,14],[17,15,17,18],[14,27,14,30],[14,31,14,34],[14,35,14,38],[14,39,14,42],[15,15,15,18],[15,19,15,22],[15,23,15,26],[15,27,15,30],[15,31,15,34],[15,35,15,38],[13,39,13,40],[13,41,13,42],[14,0,16,1],[14,2,16,5],[14,6,16,7],[14,8,16,8],[14,9,16,14],[14,15,14,18],[14,19,14,22],[14,23,14,26],[13,27,13,28],[13,29,13,30],[13,31,13,32],[13,33,13,34],[13,35,13,36],[13,37,13,38],[15,39,15,42],[16,15,16,18],[16,19,16,22],[16,23,16,26],[16,27,16,30],[16,31,16,34],[16,35,16,38],[16,39,16,42],[13,13,13,14],[13,15,13,16],[13,17,13,18],[13,19,13,20],[13,21,13,22],[13,23,13,24],[13,25,13,26],[12,25,12,26],[12,27,12,28],[11,35,11,36],[11,37,11,38],[11,39,11,40],[11,41,11,42],[12,13,12,14],[12,15,12,16],[12,17,12,18],[12,19,12,20],[12,21,12,22],[12,23,12,24],[11,23,11,24],[11,25,11,26],[11,27,11,28],[11,29,11,30],[11,31,11,32],[11,33,11,34],[12,37,12,38],[12,39,12,40],[12,41,12,42],[12,29,12,30],[12,31,12,32],[12,33,12,34],[12,35,12,36],[11,0,11,6],[11,13,11,14],[11,15,11,16],[11,17,11,18],[11,19,11,20],[11,21,11,22],[10,23,10,24],[10,25,10,26],[10,27,10,28],[9,39,9,42],[10,13,10,14],[10,15,10,16],[10,17,10,18],[10,19,10,20],[10,21,10,22],[10,35,10,36],[10,37,10,38],[10,39,10,40],[10,41,10,42],[10,29,10,30],[10,31,10,32],[10,33,10,34],[4,4,4,7],[5,0,5,8],[6,3,6,8],[8,0,8,3],[9,15,9,18],[9,19,9,22],[3,31,8,31],[3,32,8,34],[3,35,8,35],[9,23,9,26],[9,27,9,30],[9,31,9,34],[9,35,9,38],[3,36,8,38],[3,39,8,39],[3,40,8,42],[2,39,2,42],[3,9,3,13],[3,15,8,15],[3,16,8,18],[3,19,8,19],[3,20,8,22],[3,23,8,23],[3,24,8,26],[3,27,8,27],[3,28,8,30],[1,0,2,8],[1,9,1,10],[1,15,1,22],[1,23,1,26],[1,27,1,29],[1,30,1,31],[1,32,1,33],[1,67,1,90],[2,9,2,14],[2,15,2,18],[2,19,2,22],[2,23,2,26],[2,27,2,30],[2,31,2,34],[2,35,2,38]]}
[]
["DB InfraGO AG \nRB Nord\nRegionale Instandsetzung ",null,null,null,null,null,null,null,null,"Blatt",null,{"$f":"IF('Haupteingabe Monat'!$Q40=\"\",\"\",'Haupteingabe Monat'!$Q40)","v":1},"/",{"$f":"IF('Haupteingabe Monat'!$R40=\"\",\"\",'Haupteingabe Monat'!$R40)","v":1},null,null,null,null,null,null,null,null,null,null,null,null,null,"Datum: ",null,null,"02.",null,{"$f":"'Haupteingabe Monat'!$H$1","v":"2025-07-01"},null,{"$f":"'Haupteingabe Monat'!$J$1","v":2025}]
[null,null,null,null,null,null,null,null,null,"SAP Arbeitsplatz",null,null,null,null,null,{"$f":"IF('Haupteingabe Monat'!$W40=\"\",\"\",'Haupteingabe Monat'!$W40)","v":""},null,null,null,{"$f":"IF('Haupteingabe Monat'!$AE40=\"\",\"\",'Haupteingabe Monat'!$AE40)","v":""},null,null,null,{"$f":"IF('Haupteingabe Monat'!$AM40=\"\",\"\",'Haupteingabe Monat'!$AM40)","v":""},null,null,null,{"$f":"IF('Haupteingabe Monat'!$AU40=\"\",\"\",'Haupteingabe Monat'!$AU40)","v":""}]
[null,null,null,null,null,null,null,null,null,"Sachbearb. etime: ",null,null,null,null,"SB3","Name",{"$f":"IF('Haupteingabe Monat'!$X40=\"\",\"\",'Haupteingabe Monat'!$X40)","v":""},null,null,"Name",{"$f":"IF('Haupteingabe Monat'!$AF40=\"\",\"\",'Haupteingabe Monat'!$AF40)","v":""},null,null,"Name",{"$f":"IF('Haupteingabe Monat'!$AN40=\"\",\"\",'Haupteingabe Monat'!$AN40)","v":""},null,null,"Name",{"$f":"IF('Haupteingabe Monat'!$AV40=\"\",\"\",'Haupteingabe Monat'!$AV40)","v":""},null,null,"Name",null,null,null,"Name",null,null,null,"Name"]
["Baustelle:",null,null,null,{"$f":"IF('Haupteingabe Monat'!$B40=\"\",\"\",'Haupteingabe Monat'!$B40)","v":""}]
[{"$f":"IF('Haupteingabe Monat'!$H40=\"\",\"\",'Haupteingabe Monat'!$H40)","v":""}]
[]
[]
["Auftragstyp:",null,null,null,{"$f":"IF('Haupteingabe Monat'!$I40=\"\",\"\",'Haupteingabe Monat'!$I40)","v":""}]
[null,null,null,null,null,null,null,null,null,null,null,null,null,null,null,"hh:min\nvon            bis",null,null,null,"hh:min\nvon            bis",null,null,null,"hh:min\nvon            bis",null,null,null,"hh:min\nvon            bis",null,null,null,"hh:min\nvon            bis",null,null,null,"hh:min\nvon            bis",null,null,null,"hh:min\nvon            bis"]
[null,null,null,null,null,null,null,null,null,null,null,null,null,"1. Arbeitszeit von ... bis …",null,{"$f":"IF('Haupteingabe Monat'!$Y40=\"\",\"\",'Haupteingabe Monat'!$Y40)","v":""},null,{"$f":"IF('Haupteingabe Monat'!$Z40=\"\",\"\",'Haupteingabe Monat'!$Z40)","v":""},null,{"$f":"IF('Haupteingabe Monat'!AG40=\"\",\"\",'Haupteingabe Monat'!AG40)","v":""},null,{"$f":"IF('Haupteingabe Monat'!AH40=\"\",\"\",'Haupteingabe Monat'!AH40)","v":""},null,{"$f":"IF('Haupteingabe Monat'!AO40=\"\",\"\",'Haupteingabe Monat'!AO40)","v":""},null,{"$f":"IF('Haupteingabe Monat'!AP40=\"\",\"\",'Haupteingabe Monat'!AP40)","v":""},null,{"$f":"IF('Haupteingabe Monat'!AW40=\"\",\"\",'Haupteingabe Monat'!AW40)","v":""},null,{"$f":"IF('Haupteingabe Monat'!AX40=\"\",\"\",'Haupteingabe Monat'!AX40)","v":""}]
["Auftragsveranwortlicher:",null,null,null,null,null,null,{"$f":"IF('Haupteingabe Monat'!$J40=\"\",\"\",'Haupteingabe Monat'!$J40)","v":""},null,null,null,null,null,"   Pause von ... bis ...",null,{"$f":"IF('Haupteingabe Monat'!$AA40=\"\",\"\",'Haupteingabe Monat'!$AA40)","v":""},null,{"$f":"IF('Haupteingabe Monat'!$AB40=\"\",\"\",'Haupteingabe Monat'!$AB40)","v":""},null,{"$f":"IF('Haupteingabe Monat'!AI40=\"\",\"\",'Haupteingabe Monat'!AI40)","v":""},null,{"$f":"IF('Haupteingabe Monat'!AJ40=\"\",\"\",'Haupteingabe Monat'!AJ40)","v":""},null,{"$f":"IF('Haupteingabe Monat'!AQ40=\"\",\"\",'Haupteingabe Monat'!AQ40)","v":""},null,{"$f":"IF('Haupteingabe Monat'!AR40=\"\",\"\",'Haupteingabe Monat'!AR40)","v":""},null,{"$f":"IF('Haupteingabe Monat'!AY40=\"\",\"\",'Haupteingabe Monat'!AY40)","v":""},null,{"$f":"IF('Haupteingabe Monat'!AZ40=\"\",\"\",'Haupteingabe Monat'!AZ40)","v":""}]
[null,null,null,null,null,null,null,null,null,null,null,null,null,"2. Arbeitszeit von ... bis ..."]
[null,null,null,null,null,null,null,null,null,null,null,null,null,"   Pause von ... bis ..."]
["SAP Vorgang",null,"FAT/AAA",null,null,null,"SAP*\nAuftragsnummer\n",null,"AAR\nKurznummer\n","Beschreibung der Tagesleistung\n",null,null,null,null,null,"anzurechnende",null,null,null,"anzurechnende",null,null,null,"anzurechnende",null,null,null,"anzurechnende",null,null,null,"anzurechnende",null,null,null,"anzurechnende",null,null,null,"anzurechnende"]
[null,null,null,null,null,null,null,null,null,null,null,null,null,null,null,"Arbeitszeit",null,null,null,"Arbeitszeit",null,null,null,"Arbeitszeit",null,null,null,"Arbeitszeit",null,null,null,"Arbeitszeit",null,null,null,"Arbeitszeit",null,null,null,"Arbeitszeit"]
[null,null,null,null,null,null,null,null,null,null,null,null,null,null,null,"(min)",null,null,null,"(min)",null,null,null,"(min)",null,null,null,"(min)",null,null,null,"(min)",null,null,null,"(min)",null,null,null,"(min)"]
[{"$f":"IF('Haupteingabe Monat'!$K40=\"\",\"\",'Haupteingabe Monat'!$K40)","v":""},null,{"$f":"IF('Haupteingabe Monat'!$L40=\"\",\"\",'Haupteingabe Monat'!$L40)","v":""},null,null,null,{"$f":"IF('Haupteingabe Monat'!$M40=\"\",\"\",'Haupteingabe Monat'!$M40)","v":""},null,{"$f":"IF('Haupteingabe Monat'!$N40=\"\",\"\",'Haupteingabe Monat'!$N40)","v":""},{"$f":"IF('Haupteingabe Monat'!$O40=\"\",\"\",'Haupteingabe Monat'!$O40)","v":""},null,null,null,null,null,{"$f":"IF($P$3=\"\",\"\",IF($J$18=\"JAZ\",\"0\",IF($J$18=\"Urlaub laufendes Jahr\",\"468\",SUM(IF($R$11>=$P$11,($R$11-$P$11)*24,(1-ABS($R$11-$P$11))*24),-IF($R$12>=$P$12,($R$12-$P$12)*24,(1-ABS($R$12-$P$12))*24))*60)))","v":""},null,null,null,{"$f":"IF($T$3=\"\",\"\",IF($T$3=$P$3,SUM(IF($V$11>=$T$11,($V$11-$T$11)*24,(1-ABS($V$11-$T$11))*24),-IF($V$12>=$T$12,($V$12-$T$12)*24,(1-ABS($V$12-$T$12))*24))*60,\"\"))","v":""},null,null,null,{"$f":"IF($X$3=\"\",\"\",IF($X$3=$P$3,SUM(IF($Z$11>=$X$11,($Z$11-$X$11)*24,(1-ABS($Z$11-$X$11))*24),-IF($Z$12>=$X$12,($Z$12-$X$12)*24,(1-ABS($Z$12-$X$12))*24))*60,\"\"))","v":""},null,null,null,{"$f":"IF($AB$3=\"\",\"\",IF($AB$3=$P$3,SUM(IF($AD$11>=$AB$11,($AD$11-$AB$11)*24,(1-ABS($AD$11-$AB$11))*24),-IF($AD$12>=$AB$12,($AD$12-$AB$12)*24,(1-ABS($AD$12-$AB$12))*24))*60,\"\"))","v":""},null,null,null,{"$f":"IF(AF11=\"\",\"\",SUM(IF(AH11>=AF11,(AH11-AF11)*24,(1-ABS(AH11-AF11))*24),-IF(AH12>=AF12,(AH12-AF12)*24,(1-ABS(AH12-AF12))*24))*60)","v":""},null,null,null,{"$f":"IF(AJ11=\"\",\"\",SUM(IF(AL11>=AJ11,(AL11-AJ11)*24,(1-ABS(AL11-AJ11))*24),-IF(AL12>=AJ12,(AL12-AJ12)*24,(1-ABS(AL12-AJ12))*24))*60)","v":""},null,null,null,{"$f":"IF(AN11=\"\",\"\",SUM(IF(AP11>=AN11,(AP11-AN11)*24,(1-ABS(AP11-AN11))*24),-IF(AP12>=AN12,(AP12-AN12)*24,(1-ABS(AP12-AN12))*24))*60)","v":""}]
[{"$f":"IF($T$3=\"\",\"\",IF(AND(ISNUMBER($T$19),ISTEXT($T$3)),_xlfn.XLOOKUP($T$3,Hilfen!$B$30:$B$32,Hilfen!$C$30:$C$32,\"\"),IF(AND(ISNUMBER($X$19),ISTEXT($X$3)),_xlfn.XLOOKUP($X$3,Hilfen!$B$30:$B$32,Hilfen!$C$30:$C$32,\"\"),IF(AND(ISNUMBER($AB$19),ISTEXT($AB$3)),_xlfn.XLOOKUP($AB$3,Hilfen!$B$30:$B$32,Hilfen!$C$30:$C$32,\"\"),\"\"))))","v":""},null,{"$f":"IF($A19=\"\",\"\",C$18)","v":""},null,null,null,{"$f":"IF($A19=\"\",\"\",$G18)","v":""},null,{"$f":"IF($A19=\"\",\"\",$I18)","v":""},{"$f":"IF($A19=\"\",\"\",$J18)","v":""},null,null,null,null,null,null,null,null,null,{"$f":"IF($T$3=\"\",\"\",IF($T$3=$P$3,\"\",IF($T$3<>$P$3,SUM(IF($V$11>=$T$11,($V$11-$T$11)*24,(1-ABS($V$11-$T$11))*24),-IF($V$12>=$T$12,($V$12-$T$12)*24,(1-ABS($V$12-$T$12))*24))*60,\"\")))","v":""},null,null,null,{"$f":"IF($X$3=\"\",\"\",IF($X$3=$P$3,\"\",IF($T$3=$P$3,SUM(IF($Z$11>=$X$11,($Z$11-$X$11)*24,(1-ABS($Z$11-$X$11))*24),-IF($Z$12>=$X$12,($Z$12-$X$12)*24,(1-ABS($Z$12-$X$12))*24))*60,IF(AND($X$3=\"SOFD\",$T$3=\"SOWMED\"),\"\",IF(AND($X$3=\"SOSMED\",$T$3=\"SOWMED\"),\"\",IF(AND($X$3=\"SOWMED\",$T$3=\"SOFD\"),\"\",IF(AND($X$3=\"SOWMED\",$T$3=\"SOSMED\"),\"\",IF(AND($X$3=\"SOFD\",$T$3=\"SOSMED\"),\"\",IF(AND($X$3=\"SOSMED\",$T$3=\"SOFD\"),\"\",SUM(IF($Z$11>=$X$11,($Z$11-$X$11)*24,(1-ABS($Z$11-$X$11))*24),-IF($Z$12>=$X$12,($Z$12-$X$12)*24,(1-ABS($Z$12-$X$12))*24))*60)))))))))","v":""},null,null,null,{"$f":"IF($AB$3=\"\",\"\",IF($AB$3=$P$3,\"\",IF($AB$3=$T$3,SUM(IF($AD$11>=$AB$11,($AD$11-$AB$11)*24,(1-ABS($AD$11-$AB$11))*24),-IF($AD$12>=$AB$12,($AD$12-$AB$12)*24,(1-ABS($AD$12-$AB$12))*24))*60,IF(AND($AB$3=$X$3,$X$19=\"\"),\"\",IF($AB$3=$X$3,SUM(IF($AD$11>=$AB$11,($AD$11-$AB$11)*24,(1-ABS($AD$11-$AB$11))*24),-IF($AD$12>=$AB$12,($AD$12-$AB$12)*24,(1-ABS($AD$12-$AB$12))*24))*60,IF(AND($T$19=\"\",$X$19=\"\"),SUM(IF($AD$11>=$AB$11,($AD$11-$AB$11)*24,(1-ABS($AD$11-$AB$11))*24),-IF($AD$12>=$AB$12,($AD$12-$AB$12)*24,(1-ABS($AD$12-$AB$12))*24))*60,\"\"))))))","v":""}]
[{"$f":"IF($X$3=\"\",\"\",IF(AND(ISNUMBER($X$20),ISTEXT($X$3)),_xlfn.XLOOKUP($X$3,Hilfen!$B$30:$B$32,Hilfen!$C$30:$C$32,\"\"),IF(AND(ISNUMBER($AB$20),ISTEXT($AB$3)),_xlfn.XLOOKUP($AB$3,Hilfen!$B$30:$B$32,Hilfen!$C$30:$C$32,\"\"),\"\")))","v":""},null,{"$f":"IF($A$20=\"\",\"\",C$18)","v":""},null,null,null,{"$f":"IF($A$20=\"\",\"\",G$18)","v":""},null,{"$f":"IF($A$20=\"\",\"\",I$18)","v":""},{"$f":"IF($A$20=\"\",\"\",J$18)","v":""},null,null,null,null,null,null,null,null,null,null,null,null,null,{"$f":"IF($X$3=\"\",\"\",IF($T$3=$P$3,\"\",IF($X$3=$P$3,\"\",IF($X$3=$T$3,\"\",SUM(IF($Z$11>=$X$11,($Z$11-$X$11)*24,(1-ABS($Z$11-$X$11))*24),-IF($Z$12>=$X$12,($Z$12-$X$12)*24,(1-ABS($Z$12-$X$12))*24))*60))))","v":""},null,null,null,{"$f":"IF($AB$3=\"\",\"\",IF($AB$3=$P$3,\"\",IF($AB$3=$T$3,\"\",IF($AB$3=$X$3,$X$20,IF(ISNUMBER($AB$19),\"\",SUM(IF($AD$11>=$AB$11,($AD$11-$AB$11)*24,(1-ABS($AD$11-$AB$11))*24),-IF($AD$12>=$AB$12,($AD$12-$AB$12)*24,(1-ABS($AD$12-$AB$12))*24))*60)))))","v":""}]
[]
[]
[]
[]
[]
[{"$f":"IF('Haupteingabe Monat'!$S40=\"\",\"\",'Haupteingabe Monat'!$S40)","v":""},null,"Beschreibung der Tagesleistung bei FAT-Katalog 2"]
[{"$f":"IF('Haupteingabe Monat'!$P40=\"\",\"\",'Haupteingabe Monat'!$P40)","v":""}]
[]
[]
["Meine Angaben sind vollständig \nund richtig",null,null,null,null,null,null,"Für den Auftraggeber (nur bei Bedarf) \nLeistung anerkannt",null,null,null,null,null,"Sachlich richtig: ",null,null,null,null,null,null,null,"in eTime gebucht",null,null,null,null,null,null,null,null,"in SAP gebucht"]
["Name",null,{"$f":"$Q$4","v":""},null,null,null,null,"Name",null,null,null,null,null,"Datum",null,"Unterschrift",null,null,null,null,null,"Datum",null,null,null,null,null,null,null,null,"Datum"]
["Datum",null,{"$f":"$AE$2","v":"02."},null,{"$f":"$AG$2","v":"2025-07-01"},null,{"$f":"$AI$2","v":2025},"Datum",null,null,null,null,null,"Name",{"$f":"IF($H$12=\"\",\"\",VLOOKUP($H$12,Hilfen!$F$1:$H$8,2,FALSE))","v":""},null,null,null,null,null,null,"Namens-zeichen",null,null,null,null,null,null,null,null,"Namens-zeichen"]
["Unterschrift",null,null,null,null,null,null,"Firma",null,null,null,null,null,"Vorname",{"$f":"IF($H$12=\"\",\"\",VLOOKUP($H$12,Hilfen!$F$1:$H$8,3,FALSE))","v":""}]
[null,null,null,null,null,null,null,"Unterschrift"]
[null,null,null,null,null,null,null,null,null,null,null,null,null,null,null,null,null,null,null,null,null,"Unvollständig oder fehlerhaft ausgefüllte Belege werden nicht gebucht; RIL 187.1001 !"]

{"sheet":"03 Trupp 1","index":7,"n_rows":35,"n_cols":40,"rows_kept":35,"cut":false,"hidden":false,"merged":[[32,13,33,13],[32,14,33,14],[34,21,35,42],[1,34,1,37],[30,24,30,29],[30,30,30,32],[30,33,30,42],[31,0,31,1],[31,2,31,3],[31,9,31,12],[31,21,33,23],[31,24,33,29],[31,30,33,32],[31,33,33,42],[30,0,30,1],[30,2,30,6],[30,7,30,8],[30,9,30,12],[30,15,33,20],[30,21,30,23],[32,0,33,1],[32,2,33,6],[32,7,32,8],[32,10,32,12],[25,0,25,1],[25,2,25,42],[26,0,28,42],[29,0,29,6],[29,7,29,12],[29,13,29,20],[29,21,29,29],[29,30,29,42],[24,19,24,22],[24,23,24,26],[24,27,24,30],[24,31,24,34],[24,35,24,38],[24,39,24,42],[23,23,23,26],[23,27,23,30],[23,31,23,34],[23,35,23,38],[23,39,23,42],[24,0,24,1],[24,2,24,5],[24,6,24,7],[24,9,24,14],[24,15,24,18],[23,0,23,1],[23,2,23,5],[23,6,23,7],[23,9,23,14],[23,15,23,18],[23,19,23,22],[22,19,22,22],[22,23,22,26],[22,27,22,30],[22,31,22,34],[22,35,22,38],[22,39,22,42],[21,23,21,26],[21,27,21,30],[21,31,21,34],[21,35,21,38],[21,39,21,42],[21,19,21,22],[22,0,22,1],[22,2,22,4],[22,6,22,7],[22,9,22,14],[22,15,22,18],[21,0,21,1],[21,2,21,4],[21,6,21,7],[21,9,21,14],[21,15,21,18],[20,19,20,22],[20,23,20,26],[20,27,20,30],[20,31,20,34],[20,35,20,38],[20,39,20,42],[19,23,19,26],[19,27,19,30],[19,31,19,34],[19,35,19,38],[19,39,19,42],[19,19,19,22],[20,0,20,1],[20,2,20,4],[20,6,20,7],[20,9,20,14],[20,15,20,18],[19,0,19,1],[19,2,19,4],[19,6,19,7],[19,9,19,14],[19,15,19,18],[18,19,18,22],[18,23,18,26],[18,27,18,30],[18,31,18,34],[18,35,18,38],[18,39,18,42],[17,23,17,26],[17,27,17,30],[17,31,17,34],[17,35,17,38],[17,39,17,42],[17,19,17,22],[18,0,18,1],[18,2,18,5],[18,6,18,7],[18,9,18,14],[18,15,18,18],[17,0,17,1],[17,2,17,5],[17,6,17,7],[17,9,17,14],[17,15,17,18],[14,27,14,30],[14,31,14,34],[14,35,14,38],[14,39,14,42],[15,15,15,18],[15,19,15,22],[15,23,15,26],[15,27,15,30],[15,31,15,34],[15,35,15,38],[13,39,13,40],[13,41,13,42],[14,0,16,1],[14,2,16,5],[14,6,16,7],[14,8,16,8],[14,9,16,14],[14,15,14,18],[14,19,14,22],[14,23,14,26],[13,27,13,28],[13,29,13,30],[13,31,13,32],[13,33,13,34],[13,35,13,36],[13,37,13,38],[15,39,15,42],[16,15,16,18],[16,19,16,22],[16,23,16,26],[16,27,16,30],[16,31,16,34],[16,35,16,38],[16,39,16,42],[13,13,13,14],[13,15,13,16],[13,17,13,18],[13,19,13,20],[13,21,13,22],[13,23,13,24],[13,25,13,26],[12,25,12,26],[12,27,12,28],[11,35,11,36],[11,37,11,38],[11,39,11,40],[11,41,11,42],[12,13,12,14],[12,15,12,16],[12,17,12,18],[12,19,12,20],[12,21,12,22],[12,23,12,24],[11,23,11,24],[11,25,11,26],[11,27,11,28],[11,29,11,30],[11,31,11,32],[11,33,11,34],[12,37,12,38],[12,39,12,40],[12,41,12,42],[12,29,12,30],[12,31,12,32],[12,33,12,34],[12,35,12,36],[11,0,11,6],[11,13,11,14],[11,15,11,16],[11,17,11,18],[11,19,11,20],[11,21,11,22],[10,23,10,24],[10,25,10,26],[10,27,10,28],[9,39,9,42],[10,13,10,14],[10,15,10,16],[10,17,10,18],[10,19,10,20],[10,21,10,22],[10,35,10,36],[10,37,10,38],[10,39,10,40],[10,41,10,42],[10,29,10,30],[10,31,10,32],[10,33,10,34],[4,4,4,7],[5,0,5,8],[6,3,6,8],[8,0,8,3],[9,15,9,18],[9,19,9,22],[3,31,8,31],[3,32,8,34],[3,35,8,35],[9,23,9,26],[9,27,9,30],[9,31,9,34],[9,35,9,38],[3,36,8,38],[3,39,8,39],[3,40,8,42],[2,39,2,42],[3,9,3,13],[3,15,8,15],[3,16,8,18],[3,19,8,19],[3,20,8,22],[3,23,8,23],[3,24,8,26],[3,27,8,27],[3,28,8,30],[1,0,2,8],[1,9,1,10],[1,15,1,22],[1,23,1,26],[1,27,1,29],[1,30,1,31],[1,32,1,33],[1,67,1,90],[2,9,2,14],[2,15,2,18],[2,19,2,22],[2,23,2,26],[2,27,2,30],[2,31,2,34],[2,35,2,38]]}
[]
["DB InfraGO AG \nRB Nord\nRegionale Instandsetzung ",null,null,null,null,null,null,null,null,"Blatt",null,{"$f":"IF('Haupteingabe Monat'!$Q6=\"\",\"\",'Haupteingabe Monat'!$Q6)","v":1},"/",{"$f":"IF('Haupteingabe Monat'!$R6=\"\",\"\",'Haupteingabe Monat'!$R6)","v":1},null,null,null,null,null,null,null,null,null,null,null,null,null,"Datum: ",null,null,"03.",null,{"$f":"'Haupteingabe Monat'!$H$1","v":"2025-07-01"},null,{"$f":"'Haupteingabe Monat'!$J$1","v":2025}]
[null,null,null,null,null,null,null,null,null,"SAP Arbeitsplatz",null,null,null,null,null,{"$f":"IF('Haupteingabe Monat'!$W6=\"\",\"\",'Haupteingabe Monat'!$W6)","v":""},null,null,null,{"$f":"IF('Haupteingabe Monat'!$AE6=\"\",\"\",'Haupteingabe Monat'!$AE6)","v":""},null,null,null,{"$f":"IF('Haupteingabe Monat'!$AM6=\"\",\"\",'Haupteingabe Monat'!$AM6)","v":""},null,null,null,{"$f":"IF('Haupteingabe Monat'!$AU6=\"\",\"\",'Haupteingabe Monat'!$AU6)","v":""}]
[null,null,null,null,null,null,null,null,null,"Sachbearb. etime: ",null,null,null,null,"SB3","Name",{"$f":"IF('Haupteingabe Monat'!$X6=\"\",\"\",'Haupteingabe Monat'!$X6)","v":""},null,null,"Name",{"$f":"IF('Haupteingabe Monat'!$AF6=\"\",\"\",'Haupteingabe Monat'!$AF6)","v":""},null,null,"Name",{"$f":"IF('Haupteingabe Monat'!$AN6=\"\",\"\",'Haupteingabe Monat'!$AN6)","v":""},null,null,"Name",{"$f":"IF('Haupteingabe Monat'!$AV6=\"\",\"\",'Haupteingabe Monat'!$AV6)","v":""},null,null,"Name",null,null,null,"Name",null,null,null,"Name"]
["Baustelle:",null,null,null,{"$f":"IF('Haupteingabe Monat'!$B6=\"\",\"\",'Haupteingabe Monat'!$B6)","v":""}]
[{"$f":"IF('Haupteingabe Monat'!$H6=\"\",\"\",'Haupteingabe Monat'!$H6)","v":""}]
[]
[]
["Auftragstyp:",null,null,null,{"$f":"IF('Haupteingabe Monat'!$I6=\"\",\"\",'Haupteingabe Monat'!$I6)","v":""}]
[null,null,null,null,null,null,null,null,null,null,null,null,null,null,null,"hh:min\nvon            bis",null,null,null,"hh:min\nvon            bis",null,null,null,"hh:min\nvon            bis",null,null,null,"hh:min\nvon            bis",null,null,null,"hh:min\nvon            bis",null,null,null,"hh:min\nvon            bis",null,null,null,"hh:min\nvon            bis"]
[null,null,null,null,null,null,null,null,null,null,null,null,null,"1. Arbeitszeit von ... bis …",null,{"$f":"IF('Haupteingabe Monat'!$Y6=\"\",\"\",'Haupteingabe Monat'!$Y6)","v":""},null,{"$f":"IF('Haupteingabe Monat'!$Z6=\"\",\"\",'Haupteingabe Monat'!$Z6)","v":""},null,{"$f":"IF('Haupteingabe Monat'!AG6=\"\",\"\",'Haupteingabe Monat'!AG6)","v":""},null,{"$f":"IF('Haupteingabe Monat'!AH6=\"\",\"\",'Haupteingabe Monat'!AH6)","v":""},null,{"$f":"IF('Haupteingabe Monat'!AO6=\"\",\"\",'Haupteingabe Monat'!AO6)","v":""},null,{"$f":"IF('Haupteingabe Monat'!AP6=\"\",\"\",'Haupteingabe Monat'!AP6)","v":""},null,{"$f":"IF('Haupteingabe Monat'!AW6=\"\",\"\",'Haupteingabe Monat'!AW6)","v":""},null,{"$f":"IF('Haupteingabe Monat'!AX6=\"\",\"\",'Haupteingabe Monat'!AX6)","v":""}]
["Auftragsveranwortlicher:",null,null,null,null,null,null,{"$f":"IF('Haupteingabe Monat'!$J6=\"\",\"\",'Haupteingabe Monat'!$J6)","v":""},null,null,null,null,null,"   Pause von ... bis ...",null,{"$f":"IF('Haupteingabe Monat'!$AA6=\"\",\"\",'Haupteingabe Monat'!$AA6)","v":""},null,{"$f":"IF('Haupteingabe Monat'!$AB6=\"\",\"\",'Haupteingabe Monat'!$AB6)","v":""},null,{"$f":"IF('Haupteingabe Monat'!AI6=\"\",\"\",'Haupteingabe Monat'!AI6)","v":""},null,{"$f":"IF('Haupteingabe Monat'!AJ6=\"\",\"\",'Haupteingabe Monat'!AJ6)","v":""},null,{"$f":"IF('Haupteingabe Monat'!AQ6=\"\",\"\",'Haupteingabe Monat'!AQ6)","v":""},null,{"$f":"IF('Haupteingabe Monat'!AR6=\"\",\"\",'Haupteingabe Monat'!AR6)","v":""},null,{"$f":"IF('Haupteingabe Monat'!AY6=\"\",\"\",'Haupteingabe Monat'!AY6)","v":""},null,{"$f":"IF('Haupteingabe Monat'!AZ6=\"\",\"\",'Haupteingabe Monat'!AZ6)","v":""}]
[null,null,null,null,null,null,null,null,null,null,null,null,null,"2. Arbeitszeit von ... bis ..."]
[null,null,null,null,null,null,null,null,null,null,null,null,null,"   Pause von ... bis ..."]
["SAP Vorgang",null,"FAT/AAA",null,null,null,"SAP*\nAuftragsnummer\n",null,"AAR\nKurznummer\n","Beschreibung der Tagesleistung\n",null,null,null,null,null,"anzurechnende",null,null,null,"anzurechnende",null,null,null,"anzurechnende",null,null,null,"anzurechnende",null,null,null,"anzurechnende",null,null,null,"anzurechnende",null,null,null,"anzurechnende"]
[null,null,null,null,null,null,null,null,null,null,null,null,null,null,null,"Arbeitszeit",null,null,null,"Arbeitszeit",null,null,null,"Arbeitszeit",null,null,null,"Arbeitszeit",null,null,null,"Arbeitszeit",null,null,null,"Arbeitszeit",null,null,null,"Arbeitszeit"]
[null,null,null,null,null,null,null,null,null,null,null,null,null,null,null,"(min)",null,null,null,"(min)",null,null,null,"(min)",null,null,null,"(min)",null,null,null,"(min)",null,null,null,"(min)",null,null,null,"(min)"]
[{"$f":"IF('Haupteingabe Monat'!$K6=\"\",\"\",'Haupteingabe Monat'!$K6)","v":""},null,{"$f":"IF('Haupteingabe Monat'!$L6=\"\",\"\",'Haupteingabe Monat'!$L6)","v":""},null,null,null,{"$f":"IF('Haupteingabe Monat'!$M6=\"\",\"\",'Haupteingabe Monat'!$M6)","v":""},null,{"$f":"IF('Haupteingabe Monat'!$N6=\"\",\"\",'Haupteingabe Monat'!$N6)","v":""},{"$f":"IF('Haupteingabe Monat'!$O6=\"\",\"\",'Haupteingabe Monat'!$O6)","v":""},null,null,null,null,null,{"$f":"IF($P$3=\"\",\"\",IF($J$18=\"JAZ\",\"0\",IF($J$18=\"Urlaub laufendes Jahr\",\"468\",SUM(IF($R$11>=$P$11,($R$11-$P$11)*24,(1-ABS($R$11-$P$11))*24),-IF($R$12>=$P$12,($R$12-$P$12)*24,(1-ABS($R$12-$P$12))*24))*60)))","v":""},null,null,null,{"$f":"IF($T$3=\"\",\"\",IF($T$3=$P$3,SUM(IF($V$11>=$T$11,($V$11-$T$11)*24,(1-ABS($V$11-$T$11))*24),-IF($V$12>=$T$12,($V$12-$T$12)*24,(1-ABS($V$12-$T$12))*24))*60,\"\"))","v":""},null,null,null,{"$f":"IF($X$3=\"\",\"\",IF($X$3=$P$3,SUM(IF($Z$11>=$X$11,($Z$11-$X$11)*24,(1-ABS($Z$11-$X$11))*24),-IF($Z$12>=$X$12,($Z$12-$X$12)*24,(1-ABS($Z$12-$X$12))*24))*60,\"\"))","v":""},null,null,null,{"$f":"IF($AB$3=\"\",\"\",IF($AB$3=$P$3,SUM(IF($AD$11>=$AB$11,($AD$11-$AB$11)*24,(1-ABS($AD$11-$AB$11))*24),-IF($AD$12>=$AB$12,($AD$12-$AB$12)*24,(1-ABS($AD$12-$AB$12))*24))*60,\"\"))","v":""},null,null,null,{"$f":"IF(AF11=\"\",\"\",SUM(IF(AH11>=AF11,(AH11-AF11)*24,(1-ABS(AH11-AF11))*24),-IF(AH12>=AF12,(AH12-AF12)*24,(1-ABS(AH12-AF12))*24))*60)","v":""},null,null,null,{"$f":"IF(AJ11=\"\",\"\",SUM(IF(AL11>=AJ11,(AL11-AJ11)*24,(1-ABS(AL11-AJ11))*24),-IF(AL12>=AJ12,(AL12-AJ12)*24,(1-ABS(AL12-AJ12))*24))*60)","v":""},null,null,null,{"$f":"IF(AN11=\"\",\"\",SUM(IF(AP11>=AN11,(AP11-AN11)*24,(1-ABS(AP11-AN11))*24),-IF(AP12>=AN12,(AP12-AN12)*24,(1-ABS(AP12-AN12))*24))*60)","v":""}]
[{"$f":"IF($T$3=\"\",\"\",IF(AND(ISNUMBER($T$19),ISTEXT($T$3)),_xlfn.XLOOKUP($T$3,Hilfen!$B$30:$B$32,Hilfen!$C$30:$C$32,\"\"),IF(AND(ISNUMBER($X$19),ISTEXT($X$3)),_xlfn.XLOOKUP($X$3,Hilfen!$B$30:$B$32,Hilfen!$C$30:$C$32,\"\"),IF(AND(ISNUMBER($AB$19),ISTEXT($AB$3)),_xlfn.XLOOKUP($AB$3,Hilfen!$B$30:$B$32,Hilfen!$C$30:$C$32,\"\"),\"\"))))","v":""},null,{"$f":"IF($A19=\"\",\"\",C$18)","v":""},null,null,null,{"$f":"IF($A19=\"\",\"\",$G18)","v":""},null,{"$f":"IF($A19=\"\",\"\",$I18)","v":""},{"$f":"IF($A19=\"\",\"\",$J18)","v":""},null,null,null,null,null,null,null,null,null,{"$f":"IF($T$3=\"\",\"\",IF($T$3=$P$3,\"\",IF($T$3<>$P$3,SUM(IF($V$11>=$T$11,($V$11-$T$11)*24,(1-ABS($V$11-$T$11))*24),-IF($V$12>=$T$12,($V$12-$T$12)*24,(1-ABS($V$12-$T$12))*24))*60,\"\")))","v":""},null,null,null,{"$f":"IF($X$3=\"\",\"\",IF($X$3=$P$3,\"\",IF($T$3=$P$3,SUM(IF($Z$11>=$X$11,($Z$11-$X$11)*24,(1-ABS($Z$11-$X$11))*24),-IF($Z$12>=$X$12,($Z$12-$X$12)*24,(1-ABS($Z$12-$X$12))*24))*60,IF(AND($X$3=\"SOFD\",$T$3=\"SOWMED\"),\"\",IF(AND($X$3=\"SOSMED\",$T$3=\"SOWMED\"),\"\",IF(AND($X$3=\"SOWMED\",$T$3=\"SOFD\"),\"\",IF(AND($X$3=\"SOWMED\",$T$3=\"SOSMED\"),\"\",IF(AND($X$3=\"SOFD\",$T$3=\"SOSMED\"),\"\",IF(AND($X$3=\"SOSMED\",$T$3=\"SOFD\"),\"\",SUM(IF($Z$11>=$X$11,($Z$11-$X$11)*24,(1-ABS($Z$11-$X$11))*24),-IF($Z$12>=$X$12,($Z$12-$X$12)*24,(1-ABS($Z$12-$X$12))*24))*60)))))))))","v":""},null,null,null,{"$f":"IF($AB$3=\"\",\"\",IF($AB$3=$P$3,\"\",IF($AB$3=$T$3,SUM(IF($AD$11>=$AB$11,($AD$11-$AB$11)*24,(1-ABS($AD$11-$AB$11))*24),-IF($AD$12>=$AB$12,($AD$12-$AB$12)*24,(1-ABS($AD$12-$AB$12))*24))*60,IF(AND($AB$3=$X$3,$X$19=\"\"),\"\",IF($AB$3=$X$3,SUM(IF($AD$11>=$AB$11,($AD$11-$AB$11)*24,(1-ABS($AD$11-$AB$11))*24),-IF($AD$12>=$AB$12,($AD$12-$AB$12)*24,(1-ABS($AD$12-$AB$12))*24))*60,IF(AND($T$19=\"\",$X$19=\"\"),SUM(IF($AD$11>=$AB$11,($AD$11-$AB$11)*24,(1-ABS($AD$11-$AB$11))*24),-IF($AD$12>=$AB$12,($AD$12-$AB$12)*24,(1-ABS($AD$12-$AB$12))*24))*60,\"\"))))))","v":""}]
[{"$f":"IF($X$3=\"\",\"\",IF(AND(ISNUMBER($X$20),ISTEXT($X$3)),_xlfn.XLOOKUP($X$3,Hilfen!$B$30:$B$32,Hilfen!$C$30:$C$32,\"\"),IF(AND(ISNUMBER($AB$20),ISTEXT($AB$3)),_xlfn.XLOOKUP($AB$3,Hilfen!$B$30:$B$32,Hilfen!$C$30:$C$32,\"\"),\"\")))","v":""},null,{"$f":"IF($A$20=\"\",\"\",C$18)","v":""},null,null,null,{"$f":"IF($A$20=\"\",\"\",G$18)","v":""},null,{"$f":"IF($A$20=\"\",\"\",I$18)","v":""},{"$f":"IF($A$20=\"\",\"\",J$18)","v":""},null,null,null,null,null,null,null,null,null,null,null,null,null,{"$f":"IF($X$3=\"\",\"\",IF($T$3=$P$3,\"\",IF($X$3=$P$3,\"\",IF($X$3=$T$3,\"\",SUM(IF($Z$11>=$X$11,($Z$11-$X$11)*24,(1-ABS($Z$11-$X$11))*24),-IF($Z$12>=$X$12,($Z$12-$X$12)*24,(1-ABS($Z$12-$X$12))*24))*60))))","v":""},null,null,null,{"$f":"IF($AB$3=\"\",\"\",IF($AB$3=$P$3,\"\",IF($AB$3=$T$3,\"\",IF($AB$3=$X$3,$X$20,IF(ISNUMBER($AB$19),\"\",SUM(IF($AD$11>=$AB$11,($AD$11-$AB$11)*24,(1-ABS($AD$11-$AB$11))*24),-IF($AD$12>=$AB$12,($AD$12-$AB$12)*24,(1-ABS($AD$12-$AB$12))*24))*60)))))","v":""}]
[]
[]
[]
[]
[]
[{"$f":"IF('Haupteingabe Monat'!$S6=\"\",\"\",'Haupteingabe Monat'!$S6)","v":""},null,"Beschreibung der Tagesleistung bei FAT-Katalog 2"]
[{"$f":"IF('Haupteingabe Monat'!$P6=\"\",\"\",'Haupteingabe Monat'!$P6)","v":""}]
[]
[]
["Meine Angaben sind vollständig \nund richtig",null,null,null,null,null,null,"Für den Auftraggeber (nur bei Bedarf) \nLeistung anerkannt",null,null,null,null,null,"Sachlich richtig: ",null,null,null,null,null,null,null,"in eTime gebucht",null,null,null,null,null,null,null,null,"in SAP gebucht"]
["Name",null,{"$f":"$Q$4","v":""},null,null,null,null,"Name",null,null,null,null,null,"Datum",null,"Unterschrift",null,null,null,null,null,"Datum",null,null,null,null,null,null,null,null,"Datum"]
["Datum",null,{"$f":"$AE$2","v":"03."},null,{"$f":"$AG$2","v":"2025-07-01"},null,{"$f":"$AI$2","v":2025},"Datum",null,null,null,null,null,"Name",{"$f":"IF($H$12=\"\",\"\",VLOOKUP($H$12,Hilfen!$F$1:$H$8,2,FALSE))","v":""},null,null,null,null,null,null,"Namens-zeichen",null,null,null,null,null,null,null,null,"Namens-zeichen"]
["Unterschrift",null,null,null,null,null,null,"Firma",null,null,null,null,null,"Vorname",{"$f":"IF($H$12=\"\",\"\",VLOOKUP($H$12,Hilfen!$F$1:$H$8,3,FALSE))","v":""}]
[null,null,null,null,null,null,null,"Unterschrift"]
[null,null,null,null,null,null,null,null,null,null,null,null,null,null,null,null,null,null,null,null,null,"Unvollständig oder fehlerhaft ausgefüllte Belege werden nicht gebucht; RIL 187.1001 !"]

{"sheet":"03 Trupp 2","index":8,"n_rows":35,"n_cols":40,"rows_kept":35,"cut":false,"hidden":false,"merged":[[32,13,33,13],[32,14,33,14],[34,21,35,42],[1,34,1,37],[30,24,30,29],[30,30,30,32],[30,33,30,42],[31,0,31,1],[31,2,31,3],[31,9,31,12],[31,21,33,23],[31,24,33,29],[31,30,33,32],[31,33,33,42],[30,0,30,1],[30,2,30,6],[30,7,30,8],[30,9,30,12],[30,15,33,20],[30,21,30,23],[32,0,33,1],[32,2,33,6],[32,7,32,8],[32,10,32,12],[25,0,25,1],[25,2,25,42],[26,0,28,42],[29,0,29,6],[29,7,29,12],[29,13,29,20],[29,21,29,29],[29,30,29,42],[24,19,24,22],[24,23,24,26],[24,27,24,30],[24,31,24,34],[24,35,24,38],[24,39,24,42],[23,23,23,26],[23,27,23,30],[23,31,23,34],[23,35,23,38],[23,39,23,42],[24,0,24,1],[24,2,24,5],[24,6,24,7],[24,9,24,14],[24,15,24,18],[23,0,23,1],[23,2,23,5],[23,6,23,7],[23,9,23,14],[23,15,23,18],[23,19,23,22],[22,19,22,22],[22,23,22,26],[22,27,22,30],[22,31,22,34],[22,35,22,38],[22,39,22,42],[21,23,21,26],[21,27,21,30],[21,31,21,34],[21,35,21,38],[21,39,21,42],[21,19,21,22],[22,0,22,1],[22,2,22,4],[22,6,22,7],[22,9,22,14],[22,15,22,18],[21,0,21,1],[21,2,21,4],[21,6,21,7],[21,9,21,14],[21,15,21,18],[20,19,20,22],[20,23,20,26],[20,27,20,30],[20,31,20,34],[20,35,20,38],[20,39,20,42],[19,23,19,26],[19,27,19,30],[19,31,19,34],[19,35,19,38],[19,39,19,42],[19,19,19,22],[20,0,20,1],[20,2,20,4],[20,6,20,7],[20,9,20,14],[20,15,20,18],[19,0,19,1],[19,2,19,4],[19,6,19,7],[19,9,19,14],[19,15,19,18],[18,19,18,22],[18,23,18,26],[18,27,18,30],[18,31,18,34],[18,35,18,38],[18,39,18,42],[17,23,17,26],[17,27,17,30],[17,31,17,34],[17,35,17,38],[17,39,17,42],[17,19,17,22],[18,0,18,1],[18,2,18,5],[18,6,18,7],[18,9,18,14],[18,15,18,18],[17,0,17,1],[17,2,17,5],[17,6,17,7],[17,9,17,14],[17,15,17,18],[14,27,14,30],[14,31,14,34],[14,35,14,38],[14,39,14,42],[15,15,15,18],[15,19,15,22],[15,23,15,26],[15,27,15,30],[15,31,15,34],[15,35,15,38],[13,39,13,40],[13,41,13,42],[14,0,16,1],[14,2,16,5],[14,6,16,7],[14,8,16,8],[14,9,16,14],[14,15,14,18],[14,19,14,22],[14,23,14,26],[13,27,13,28],[13,29,13,30],[13,31,13,32],[13,33,13,34],[13,35,13,36],[13,37,13,38],[15,39,15,42],[16,15,16,18],[16,19,16,22],[16,23,16,26],[16,27,16,30],[16,31,16,34],[16,35,16,38],[16,39,16,42],[13,13,13,14],[13,15,13,16],[13,17,13,18],[13,19,13,20],[13,21,13,22],[13,23,13,24],[13,25,13,26],[12,25,12,26],[12,27,12,28],[11,35,11,36],[11,37,11,38],[11,39,11,40],[11,41,11,42],[12,13,12,14],[12,15,12,16],[12,17,12,18],[12,19,12,20],[12,21,12,22],[12,23,12,24],[11,23,11,24],[11,25,11,26],[11,27,11,28],[11,29,11,30],[11,31,11,32],[11,33,11,34],[12,37,12,38],[12,39,12,40],[12,41,12,42],[12,29,12,30],[12,31,12,32],[12,33,12,34],[12,35,12,36],[11,0,11,6],[11,13,11,14],[11,15,11,16],[11,17,11,18],[11,19,11,20],[11,21,11,22],[10,23,10,24],[10,25,10,26],[10,27,10,28],[9,39,9,42],[10,13,10,14],[10,15,10,16],[10,17,10,18],[10,19,10,20],[10,21,10,22],[10,35,10,36],[10,37,10,38],[10,39,10,40],[10,41,10,42],[10,29,10,30],[10,31,10,32],[10,33,10,34],[4,4,4,7],[5,0,5,8],[6,3,6,8],[8,0,8,3],[9,15,9,18],[9,19,9,22],[3,31,8,31],[3,32,8,34],[3,35,8,35],[9,23,9,26],[9,27,9,30],[9,31,9,34],[9,35,9,38],[3,36,8,38],[3,39,8,39],[3,40,8,42],[2,39,2,42],[3,9,3,13],[3,15,8,15],[3,16,8,18],[3,19,8,19],[3,20,8,22],[3,23,8,23],[3,24,8,26],[3,27,8,27],[3,28,8,30],[1,0,2,8],[1,9,1,10],[1,15,1,22],[1,23,1,26],[1,27,1,29],[1,30,1,31],[1,32,1,33],[1,67,1,90],[2,9,2,14],[2,15,2,18],[2,19,2,22],[2,23,2,26],[2,27,2,30],[2,31,2,34],[2,35,2,38]]}
[]
["DB InfraGO AG \nRB Nord\nRegionale Instandsetzung ",null,null,null,null,null,null,null,null,"Blatt",null,{"$f":"IF('Haupteingabe Monat'!$Q41=\"\",\"\",'Haupteingabe Monat'!$Q41)","v":1},"/",{"$f":"IF('Haupteingabe Monat'!$R41=\"\",\"\",'Haupteingabe Monat'!$R41)","v":1},null,null,null,null,null,null,null,null,null,null,null,null,null,"Datum: ",null,null,"03.",null,{"$f":"'Haupteingabe Monat'!$H$1","v":"2025-07-01"},null,{"$f":"'Haupteingabe Monat'!$J$1","v":2025}]
[null,null,null,null,null,null,null,null,null,"SAP Arbeitsplatz",null,null,null,null,null,{"$f":"IF('Haupteingabe Monat'!$W41=\"\",\"\",'Haupteingabe Monat'!$W41)","v":""},null,null,null,{"$f":"IF('Haupteingabe Monat'!$AE41=\"\",\"\",'Haupteingabe Monat'!$AE41)","v":""},null,null,null,{"$f":"IF('Haupteingabe Monat'!$AM41=\"\",\"\",'Haupteingabe Monat'!$AM41)","v":""},null,null,null,{"$f":"IF('Haupteingabe Monat'!$AU41=\"\",\"\",'Haupteingabe Monat'!$AU41)","v":""}]
[null,null,null,null,null,null,null,null,null,"Sachbearb. etime: ",null,null,null,null,"SB3","Name",{"$f":"IF('Haupteingabe Monat'!$X41=\"\",\"\",'Haupteingabe Monat'!$X41)","v":""},null,null,"Name",{"$f":"IF('Haupteingabe Monat'!$AF41=\"\",\"\",'Haupteingabe Monat'!$AF41)","v":""},null,null,"Name",{"$f":"IF('Haupteingabe Monat'!$AN41=\"\",\"\",'Haupteingabe Monat'!$AN41)","v":""},null,null,"Name",{"$f":"IF('Haupteingabe Monat'!$AV41=\"\",\"\",'Haupteingabe Monat'!$AV41)","v":""},null,null,"Name",null,null,null,"Name",null,null,null,"Name"]
["Baustelle:",null,null,null,{"$f":"IF('Haupteingabe Monat'!$B41=\"\",\"\",'Haupteingabe Monat'!$B41)","v":""}]
[{"$f":"IF('Haupteingabe Monat'!$H41=\"\",\"\",'Haupteingabe Monat'!$H41)","v":""}]
[]
[]
["Auftragstyp:",null,null,null,{"$f":"IF('Haupteingabe Monat'!$I41=\"\",\"\",'Haupteingabe Monat'!$I41)","v":""}]
[null,null,null,null,null,null,null,null,null,null,null,null,null,null,null,"hh:min\nvon            bis",null,null,null,"hh:min\nvon            bis",null,null,null,"hh:min\nvon            bis",null,null,null,"hh:min\nvon            bis",null,null,null,"hh:min\nvon            bis",null,null,null,"hh:min\nvon            bis",null,null,null,"hh:min\nvon            bis"]
[null,null,null,null,null,null,null,null,null,null,null,null,null,"1. Arbeitszeit von ... bis …",null,{"$f":"IF('Haupteingabe Monat'!$Y41=\"\",\"\",'Haupteingabe Monat'!$Y41)","v":""},null,{"$f":"IF('Haupteingabe Monat'!$Z41=\"\",\"\",'Haupteingabe Monat'!$Z41)","v":""},null,{"$f":"IF('Haupteingabe Monat'!AG41=\"\",\"\",'Haupteingabe Monat'!AG41)","v":""},null,{"$f":"IF('Haupteingabe Monat'!AH41=\"\",\"\",'Haupteingabe Monat'!AH41)","v":""},null,{"$f":"IF('Haupteingabe Monat'!AO41=\"\",\"\",'Haupteingabe Monat'!AO41)","v":""},null,{"$f":"IF('Haupteingabe Monat'!AP41=\"\",\"\",'Haupteingabe Monat'!AP41)","v":""},null,{"$f":"IF('Haupteingabe Monat'!AW41=\"\",\"\",'Haupteingabe Monat'!AW41)","v":""},null,{"$f":"IF('Haupteingabe Monat'!AX41=\"\",\"\",'Haupteingabe Monat'!AX41)","v":""}]
["Auftragsveranwortlicher:",null,null,null,null,null,null,{"$f":"IF('Haupteingabe Monat'!$J41=\"\",\"\",'Haupteingabe Monat'!$J41)","v":""},null,null,null,null,null,"   Pause von ... bis ...",null,{"$f":"IF('Haupteingabe Monat'!$AA41=\"\",\"\",'Haupteingabe Monat'!$AA41)","v":""},null,{"$f":"IF('Haupteingabe Monat'!$AB41=\"\",\"\",'Haupteingabe Monat'!$AB41)","v":""},null,{"$f":"IF('Haupteingabe Monat'!AI41=\"\",\"\",'Haupteingabe Monat'!AI41)","v":""},null,{"$f":"IF('Haupteingabe Monat'!AJ41=\"\",\"\",'Haupteingabe Monat'!AJ41)","v":""},null,{"$f":"IF('Haupteingabe Monat'!AQ41=\"\",\"\",'Haupteingabe Monat'!AQ41)","v":""},null,{"$f":"IF('Haupteingabe Monat'!AR41=\"\",\"\",'Haupteingabe Monat'!AR41)","v":""},null,{"$f":"IF('Haupteingabe Monat'!AY41=\"\",\"\",'Haupteingabe Monat'!AY41)","v":""},null,{"$f":"IF('Haupteingabe Monat'!AZ41=\"\",\"\",'Haupteingabe Monat'!AZ41)","v":""}]
[null,null,null,null,null,null,null,null,null,null,null,null,null,"2. Arbeitszeit von ... bis ..."]
[null,null,null,null,null,null,null,null,null,null,null,null,null,"   Pause von ... bis ..."]
["SAP Vorgang",null,"FAT/AAA",null,null,null,"SAP*\nAuftragsnummer\n",null,"AAR\nKurznummer\n","Beschreibung der Tagesleistung\n",null,null,null,null,null,"anzurechnende",null,null,null,"anzurechnende",null,null,null,"anzurechnende",null,null,null,"anzurechnende",null,null,null,"anzurechnende",null,null,null,"anzurechnende",null,null,null,"anzurechnende"]
[null,null,null,null,null,null,null,null,null,null,null,null,null,null,null,"Arbeitszeit",null,null,null,"Arbeitszeit",null,null,null,"Arbeitszeit",null,null,null,"Arbeitszeit",null,null,null,"Arbeitszeit",null,null,null,"Arbeitszeit",null,null,null,"Arbeitszeit"]
[null,null,null,null,null,null,null,null,null,null,null,null,null,null,null,"(min)",null,null,null,"(min)",null,null,null,"(min)",null,null,null,"(min)",null,null,null,"(min)",null,null,null,"(min)",null,null,null,"(min)"]
[{"$f":"IF('Haupteingabe Monat'!$K41=\"\",\"\",'Haupteingabe Monat'!$K41)","v":""},null,{"$f":"IF('Haupteingabe Monat'!$L41=\"\",\"\",'Haupteingabe Monat'!$L41)","v":""},null,null,null,{"$f":"IF('Haupteingabe Monat'!$M41=\"\",\"\",'Haupteingabe Monat'!$M41)","v":""},null,{"$f":"IF('Haupteingabe Monat'!$N41=\"\",\"\",'Haupteingabe Monat'!$N41)","v":""},{"$f":"IF('Haupteingabe Monat'!$O41=\"\",\"\",'Haupteingabe Monat'!$O41)","v":""},null,null,null,null,null,{"$f":"IF($P$3=\"\",\"\",IF($J$18=\"JAZ\",\"0\",IF($J$18=\"Urlaub laufendes Jahr\",\"468\",SUM(IF($R$11>=$P$11,($R$11-$P$11)*24,(1-ABS($R$11-$P$11))*24),-IF($R$12>=$P$12,($R$12-$P$12)*24,(1-ABS($R$12-$P$12))*24))*60)))","v":""},null,null,null,{"$f":"IF($T$3=\"\",\"\",IF($T$3=$P$3,SUM(IF($V$11>=$T$11,($V$11-$T$11)*24,(1-ABS($V$11-$T$11))*24),-IF($V$12>=$T$12,($V$12-$T$12)*24,(1-ABS($V$12-$T$12))*24))*60,\"\"))","v":""},null,null,null,{"$f":"IF($X$3=\"\",\"\",IF($X$3=$P$3,SUM(IF($Z$11>=$X$11,($Z$11-$X$11)*24,(1-ABS($Z$11-$X$11))*24),-IF($Z$12>=$X$12,($Z$12-$X$12)*24,(1-ABS($Z$12-$X$12))*24))*60,\"\"))","v":""},null,null,null,{"$f":"IF($AB$3=\"\",\"\",IF($AB$3=$P$3,SUM(IF($AD$11>=$AB$11,($AD$11-$AB$11)*24,(1-ABS($AD$11-$AB$11))*24),-IF($AD$12>=$AB$12,($AD$12-$AB$12)*24,(1-ABS($AD$12-$AB$12))*24))*60,\"\"))","v":""},null,null,null,{"$f":"IF(AF11=\"\",\"\",SUM(IF(AH11>=AF11,(AH11-AF11)*24,(1-ABS(AH11-AF11))*24),-IF(AH12>=AF12,(AH12-AF12)*24,(1-ABS(AH12-AF12))*24))*60)","v":""},null,null,null,{"$f":"IF(AJ11=\"\",\"\",SUM(IF(AL11>=AJ11,(AL11-AJ11)*24,(1-ABS(AL11-AJ11))*24),-IF(AL12>=AJ12,(AL12-AJ12)*24,(1-ABS(AL12-AJ12))*24))*60)","v":""},null,null,null,{"$f":"IF(AN11=\"\",\"\",SUM(IF(AP11>=AN11,(AP11-AN11)*24,(1-ABS(AP11-AN11))*24),-IF(AP12>=AN12,(AP12-AN12)*24,(1-ABS(AP12-AN12))*24))*60)","v":""}]
[{"$f":"IF($T$3=\"\",\"\",IF(AND(ISNUMBER($T$19),ISTEXT($T$3)),_xlfn.XLOOKUP($T$3,Hilfen!$B$30:$B$32,Hilfen!$C$30:$C$32,\"\"),IF(AND(ISNUMBER($X$19),ISTEXT($X$3)),_xlfn.XLOOKUP($X$3,Hilfen!$B$30:$B$32,Hilfen!$C$30:$C$32,\"\"),IF(AND(ISNUMBER($AB$19),ISTEXT($AB$3)),_xlfn.XLOOKUP($AB$3,Hilfen!$B$30:$B$32,Hilfen!$C$30:$C$32,\"\"),\"\"))))","v":""},null,{"$f":"IF($A19=\"\",\"\",C$18)","v":""},null,null,null,{"$f":"IF($A19=\"\",\"\",$G18)","v":""},null,{"$f":"IF($A19=\"\",\"\",$I18)","v":""},{"$f":"IF($A19=\"\",\"\",$J18)","v":""},null,null,null,null,null,null,null,null,null,{"$f":"IF($T$3=\"\",\"\",IF($T$3=$P$3,\"\",IF($T$3<>$P$3,SUM(IF($V$11>=$T$11,($V$11-$T$11)*24,(1-ABS($V$11-$T$11))*24),-IF($V$12>=$T$12,($V$12-$T$12)*24,(1-ABS($V$12-$T$12))*24))*60,\"\")))","v":""},null,null,null,{"$f":"IF($X$3=\"\",\"\",IF($X$3=$P$3,\"\",IF($T$3=$P$3,SUM(IF($Z$11>=$X$11,($Z$11-$X$11)*24,(1-ABS($Z$11-$X$11))*24),-IF($Z$12>=$X$12,($Z$12-$X$12)*24,(1-ABS($Z$12-$X$12))*24))*60,IF(AND($X$3=\"SOFD\",$T$3=\"SOWMED\"),\"\",IF(AND($X$3=\"SOSMED\",$T$3=\"SOWMED\"),\"\",IF(AND($X$3=\"SOWMED\",$T$3=\"SOFD\"),\"\",IF(AND($X$3=\"SOWMED\",$T$3=\"SOSMED\"),\"\",IF(AND($X$3=\"SOFD\",$T$3=\"SOSMED\"),\"\",IF(AND($X$3=\"SOSMED\",$T$3=\"SOFD\"),\"\",SUM(IF($Z$11>=$X$11,($Z$11-$X$11)*24,(1-ABS($Z$11-$X$11))*24),-IF($Z$12>=$X$12,($Z$12-$X$12)*24,(1-ABS($Z$12-$X$12))*24))*60)))))))))","v":""},null,null,null,{"$f":"IF($AB$3=\"\",\"\",IF($AB$3=$P$3,\"\",IF($AB$3=$T$3,SUM(IF($AD$11>=$AB$11,($AD$11-$AB$11)*24,(1-ABS($AD$11-$AB$11))*24),-IF($AD$12>=$AB$12,($AD$12-$AB$12)*24,(1-ABS($AD$12-$AB$12))*24))*60,IF(AND($AB$3=$X$3,$X$19=\"\"),\"\",IF($AB$3=$X$3,SUM(IF($AD$11>=$AB$11,($AD$11-$AB$11)*24,(1-ABS($AD$11-$AB$11))*24),-IF($AD$12>=$AB$12,($AD$12-$AB$12)*24,(1-ABS($AD$12-$AB$12))*24))*60,IF(AND($T$19=\"\",$X$19=\"\"),SUM(IF($AD$11>=$AB$11,($AD$11-$AB$11)*24,(1-ABS($AD$11-$AB$11))*24),-IF($AD$12>=$AB$12,($AD$12-$AB$12)*24,(1-ABS($AD$12-$AB$12))*24))*60,\"\"))))))","v":""}]
[{"$f":"IF($X$3=\"\",\"\",IF(AND(ISNUMBER($X$20),ISTEXT($X$3)),_xlfn.XLOOKUP($X$3,Hilfen!$B$30:$B$32,Hilfen!$C$30:$C$32,\"\"),IF(AND(ISNUMBER($AB$20),ISTEXT($AB$3)),_xlfn.XLOOKUP($AB$3,Hilfen!$B$30:$B$32,Hilfen!$C$30:$C$32,\"\"),\"\")))","v":""},null,{"$f":"IF($A$20=\"\",\"\",C$18)","v":""},null,null,null,{"$f":"IF($A$20=\"\",\"\",G$18)","v":""},null,{"$f":"IF($A$20=\"\",\"\",I$18)","v":""},{"$f":"IF($A$20=\"\",\"\",J$18)","v":""},null,null,null,null,null,null,null,null,null,null,null,null,null,{"$f":"IF($X$3=\"\",\"\",IF($T$3=$P$3,\"\",IF($X$3=$P$3,\"\",IF($X$3=$T$3,\"\",SUM(IF($Z$11>=$X$11,($Z$11-$X$11)*24,(1-ABS($Z$11-$X$11))*24),-IF($Z$12>=$X$12,($Z$12-$X$12)*24,(1-ABS($Z$12-$X$12))*24))*60))))","v":""},null,null,null,{"$f":"IF($AB$3=\"\",\"\",IF($AB$3=$P$3,\"\",IF($AB$3=$T$3,\"\",IF($AB$3=$X$3,$X$20,IF(ISNUMBER($AB$19),\"\",SUM(IF($AD$11>=$AB$11,($AD$11-$AB$11)*24,(1-ABS($AD$11-$AB$11))*24),-IF($AD$12>=$AB$12,($AD$12-$AB$12)*24,(1-ABS($AD$12-$AB$12))*24))*60)))))","v":""}]
[]
[]
[]
[]
[]
[{"$f":"IF('Haupteingabe Monat'!$S41=\"\",\"\",'Haupteingabe Monat'!$S41)","v":""},null,"Beschreibung der Tagesleistung bei FAT-Katalog 2"]
[{"$f":"IF('Haupteingabe Monat'!$P41=\"\",\"\",'Haupteingabe Monat'!$P41)","v":""}]
[]
[]
["Meine Angaben sind vollständig \nund richtig",null,null,null,null,null,null,"Für den Auftraggeber (nur bei Bedarf) \nLeistung anerkannt",null,null,null,null,null,"Sachlich richtig: ",null,null,null,null,null,null,null,"in eTime gebucht",null,null,null,null,null,null,null,null,"in SAP gebucht"]
["Name",null,{"$f":"$Q$4","v":""},null,null,null,null,"Name",null,null,null,null,null,"Datum",null,"Unterschrift",null,null,null,null,null,"Datum",null,null,null,null,null,null,null,null,"Datum"]
["Datum",null,{"$f":"$AE$2","v":"03."},null,{"$f":"$AG$2","v":"2025-07-01"},null,{"$f":"$AI$2","v":2025},"Datum",null,null,null,null,null,"Name",{"$f":"IF($H$12=\"\",\"\",VLOOKUP($H$12,Hilfen!$F$1:$H$8,2,FALSE))","v":""},null,null,null,null,null,null,"Namens-zeichen",null,null,null,null,null,null,null,null,"Namens-zeichen"]
["Unterschrift",null,null,null,null,null,null,"Firma",null,null,null,null,null,"Vorname",{"$f":"IF($H$12=\"\",\"\",VLOOKUP($H$12,Hilfen!$F$1:$H$8,3,FALSE))","v":""}]
[null,null,null,null,null,null,null,"Unterschrift"]
[null,null,null,null,null,null,null,null,null,null,null,null,null,null,null,null,null,null,null,null,null,"Unvollständig oder fehlerhaft ausgefüllte Belege werden nicht gebucht; RIL 187.1001 !"]

{"sheet":"04 Trupp 1","index":9,"n_rows":35,"n_cols":40,"rows_kept":35,"cut":false,"hidden":false,"merged":[[32,13,33,13],[32,14,33,14],[34,21,35,42],[1,34,1,37],[30,24,30,29],[30,30,30,32],[30,33,30,42],[31,0,31,1],[31,2,31,3],[31,9,31,12],[31,21,33,23],[31,24,33,29],[31,30,33,32],[31,33,33,42],[30,0,30,1],[30,2,30,6],[30,7,30,8],[30,9,30,12],[30,15,33,20],[30,21,30,23],[32,0,33,1],[32,2,33,6],[32,7,32,8],[32,10,32,12],[25,0,25,1],[25,2,25,42],[26,0,28,42],[29,0,29,6],[29,7,29,12],[29,13,29,20],[29,21,29,29],[29,30,29,42],[24,19,24,22],[24,23,24,26],[24,27,24,30],[24,31,24,34],[24,35,24,38],[24,39,24,42],[23,23,23,26],[23,27,23,30],[23,31,23,34],[23,35,23,38],[23,39,23,42],[24,0,24,1],[24,2,24,5],[24,6,24,7],[24,9,24,14],[24,15,24,18],[23,0,23,1],[23,2,23,5],[23,6,23,7],[23,9,23,14],[23,15,23,18],[23,19,23,22],[22,19,22,22],[22,23,22,26],[22,27,22,30],[22,31,22,34],[22,35,22,38],[22,39,22,42],[21,23,21,26],[21,27,21,30],[21,31,21,34],[21,35,21,38],[21,39,21,42],[21,19,21,22],[22,0,22,1],[22,2,22,4],[22,6,22,7],[22,9,22,14],[22,15,22,18],[21,0,21,1],[21,2,21,4],[21,6,21,7],[21,9,21,14],[21,15,21,18],[20,19,20,22],[20,23,20,26],[20,27,20,30],[20,31,20,34],[20,35,20,38],[20,39,20,42],[19,23,19,26],[19,27,19,30],[19,31,19,34],[19,35,19,38],[19,39,19,42],[19,19,19,22],[20,0,20,1],[20,2,20,4],[20,6,20,7],[20,9,20,14],[20,15,20,18],[19,0,19,1],[19,2,19,4],[19,6,19,7],[19,9,19,14],[19,15,19,18],[18,19,18,22],[18,23,18,26],[18,27,18,30],[18,31,18,34],[18,35,18,38],[18,39,18,42],[17,23,17,26],[17,27,17,30],[17,31,17,34],[17,35,17,38],[17,39,17,42],[17,19,17,22],[18,0,18,1],[18,2,18,5],[18,6,18,7],[18,9,18,14],[18,15,18,18],[17,0,17,1],[17,2,17,5],[17,6,17,7],[17,9,17,14],[17,15,17,18],[14,27,14,30],[14,31,14,34],[14,35,14,38],[14,39,14,42],[15,15,15,18],[15,19,15,22],[15,23,15,26],[15,27,15,30],[15,31,15,34],[15,35,15,38],[13,39,13,40],[13,41,13,42],[14,0,16,1],[14,2,16,5],[14,6,16,7],[14,8,16,8],[14,9,16,14],[14,15,14,18],[14,19,14,22],[14,23,14,26],[13,27,13,28],[13,29,13,30],[13,31,13,32],[13,33,13,34],[13,35,13,36],[13,37,13,38],[15,39,15,42],[16,15,16,18],[16,19,16,22],[16,23,16,26],[16,27,16,30],[16,31,16,34],[16,35,16,38],[16,39,16,42],[13,13,13,14],[13,15,13,16],[13,17,13,18],[13,19,13,20],[13,21,13,22],[13,23,13,24],[13,25,13,26],[12,25,12,26],[12,27,12,28],[11,35,11,36],[11,37,11,38],[11,39,11,40],[11,41,11,42],[12,13,12,14],[12,15,12,16],[12,17,12,18],[12,19,12,20],[12,21,12,22],[12,23,12,24],[11,23,11,24],[11,25,11,26],[11,27,11,28],[11,29,11,30],[11,31,11,32],[11,33,11,34],[12,37,12,38],[12,39,12,40],[12,41,12,42],[12,29,12,30],[12,31,12,32],[12,33,12,34],[12,35,12,36],[11,0,11,6],[11,13,11,14],[11,15,11,16],[11,17,11,18],[11,19,11,20],[11,21,11,22],[10,23,10,24],[10,25,10,26],[10,27,10,28],[9,39,9,42],[10,13,10,14],[10,15,10,16],[10,17,10,18],[10,19,10,20],[10,21,10,22],[10,35,10,36],[10,37,10,38],[10,39,10,40],[10,41,10,42],[10,29,10,30],[10,31,10,32],[10,33,10,34],[4,4,4,7],[5,0,5,8],[6,3,6,8],[8,0,8,3],[9,15,9,18],[9,19,9,22],[3,31,8,31],[3,32,8,34],[3,35,8,35],[9,23,9,26],[9,27,9,30],[9,31,9,34],[9,35,9,38],[3,36,8,38],[3,39,8,39],[3,40,8,42],[2,39,2,42],[3,9,3,13],[3,15,8,15],[3,16,8,18],[3,19,8,19],[3,20,8,22],[3,23,8,23],[3,24,8,26],[3,27,8,27],[3,28,8,30],[1,0,2,8],[1,9,1,10],[1,15,1,22],[1,23,1,26],[1,27,1,29],[1,30,1,31],[1,32,1,33],[1,67,1,90],[2,9,2,14],[2,15,2,18],[2,19,2,22],[2,23,2,26],[2,27,2,30],[2,31,2,34],[2,35,2,38]]}
[]
["DB InfraGO AG \nRB Nord\nRegionale Instandsetzung ",null,null,null,null,null,null,null,null,"Blatt",null,{"$f":"IF('Haupteingabe Monat'!$Q7=\"\",\"\",'Haupteingabe Monat'!$Q7)","v":1},"/",{"$f":"IF('Haupteingabe Monat'!$R7=\"\",\"\",'Haupteingabe Monat'!$R7)","v":1},null,null,null,null,null,null,null,null,null,null,null,null,null,"Datum: ",null,null,"04.",null,{"$f":"'Haupteingabe Monat'!$H$1","v":"2025-07-01"},null,{"$f":"'Haupteingabe Monat'!$J$1","v":2025}]
[null,null,null,null,null,null,null,null,null,"SAP Arbeitsplatz",null,null,null,null,null,{"$f":"IF('Haupteingabe Monat'!$W7=\"\",\"\",'Haupteingabe Monat'!$W7)","v":""},null,null,null,{"$f":"IF('Haupteingabe Monat'!$AE7=\"\",\"\",'Haupteingabe Monat'!$AE7)","v":""},null,null,null,{"$f":"IF('Haupteingabe Monat'!$AM7=\"\",\"\",'Haupteingabe Monat'!$AM7)","v":""},null,null,null,{"$f":"IF('Haupteingabe Monat'!$AU7=\"\",\"\",'Haupteingabe Monat'!$AU7)","v":""}]
[null,null,null,null,null,null,null,null,null,"Sachbearb. etime: ",null,null,null,null,"SB3","Name",{"$f":"IF('Haupteingabe Monat'!$X7=\"\",\"\",'Haupteingabe Monat'!$X7)","v":""},null,null,"Name",{"$f":"IF('Haupteingabe Monat'!$AF7=\"\",\"\",'Haupteingabe Monat'!$AF7)","v":""},null,null,"Name",{"$f":"IF('Haupteingabe Monat'!$AN7=\"\",\"\",'Haupteingabe Monat'!$AN7)","v":""},null,null,"Name",{"$f":"IF('Haupteingabe Monat'!$AV7=\"\",\"\",'Haupteingabe Monat'!$AV7)","v":""},null,null,"Name",null,null,null,"Name",null,null,null,"Name"]
["Baustelle:",null,null,null,{"$f":"IF('Haupteingabe Monat'!$B7=\"\",\"\",'Haupteingabe Monat'!$B7)","v":""}]
[{"$f":"IF('Haupteingabe Monat'!$H7=\"\",\"\",'Haupteingabe Monat'!$H7)","v":""}]
[]
[]
["Auftragstyp:",null,null,null,{"$f":"IF('Haupteingabe Monat'!$I7=\"\",\"\",'Haupteingabe Monat'!$I7)","v":""}]
[null,null,null,null,null,null,null,null,null,null,null,null,null,null,null,"hh:min\nvon            bis",null,null,null,"hh:min\nvon            bis",null,null,null,"hh:min\nvon            bis",null,null,null,"hh:min\nvon            bis",null,null,null,"hh:min\nvon            bis",null,null,null,"hh:min\nvon            bis",null,null,null,"hh:min\nvon            bis"]
[null,null,null,null,null,null,null,null,null,null,null,null,null,"1. Arbeitszeit von ... bis …",null,{"$f":"IF('Haupteingabe Monat'!$Y7=\"\",\"\",'Haupteingabe Monat'!$Y7)","v":""},null,{"$f":"IF('Haupteingabe Monat'!$Z7=\"\",\"\",'Haupteingabe Monat'!$Z7)","v":""},null,{"$f":"IF('Haupteingabe Monat'!AG7=\"\",\"\",'Haupteingabe Monat'!AG7)","v":""},null,{"$f":"IF('Haupteingabe Monat'!AH7=\"\",\"\",'Haupteingabe Monat'!AH7)","v":""},null,{"$f":"IF('Haupteingabe Monat'!AO7=\"\",\"\",'Haupteingabe Monat'!AO7)","v":""},null,{"$f":"IF('Haupteingabe Monat'!AP7=\"\",\"\",'Haupteingabe Monat'!AP7)","v":""},null,{"$f":"IF('Haupteingabe Monat'!AW7=\"\",\"\",'Haupteingabe Monat'!AW7)","v":""},null,{"$f":"IF('Haupteingabe Monat'!AX7=\"\",\"\",'Haupteingabe Monat'!AX7)","v":""}]
["Auftragsveranwortlicher:",null,null,null,null,null,null,{"$f":"IF('Haupteingabe Monat'!$J7=\"\",\"\",'Haupteingabe Monat'!$J7)","v":""},null,null,null,null,null,"   Pause von ... bis ...",null,{"$f":"IF('Haupteingabe Monat'!$AA7=\"\",\"\",'Haupteingabe Monat'!$AA7)","v":""},null,{"$f":"IF('Haupteingabe Monat'!$AB7=\"\",\"\",'Haupteingabe Monat'!$AB7)","v":""},null,{"$f":"IF('Haupteingabe Monat'!AI7=\"\",\"\",'Haupteingabe Monat'!AI7)","v":""},null,{"$f":"IF('Haupteingabe Monat'!AJ7=\"\",\"\",'Haupteingabe Monat'!AJ7)","v":""},null,{"$f":"IF('Haupteingabe Monat'!AQ7=\"\",\"\",'Haupteingabe Monat'!AQ7)","v":""},null,{"$f":"IF('Haupteingabe Monat'!AR7=\"\",\"\",'Haupteingabe Monat'!AR7)","v":""},null,{"$f":"IF('Haupteingabe Monat'!AY7=\"\",\"\",'Haupteingabe Monat'!AY7)","v":""},null,{"$f":"IF('Haupteingabe Monat'!AZ7=\"\",\"\",'Haupteingabe Monat'!AZ7)","v":""}]
[null,null,null,null,null,null,null,null,null,null,null,null,null,"2. Arbeitszeit von ... bis ..."]
[null,null,null,null,null,null,null,null,null,null,null,null,null,"   Pause von ... bis ..."]
["SAP Vorgang",null,"FAT/AAA",null,null,null,"SAP*\nAuftragsnummer\n",null,"AAR\nKurznummer\n","Beschreibung der Tagesleistung\n",null,null,null,null,null,"anzurechnende",null,null,null,"anzurechnende",null,null,null,"anzurechnende",null,null,null,"anzurechnende",null,null,null,"anzurechnende",null,null,null,"anzurechnende",null,null,null,"anzurechnende"]
[null,null,null,null,null,null,null,null,null,null,null,null,null,null,null,"Arbeitszeit",null,null,null,"Arbeitszeit",null,null,null,"Arbeitszeit",null,null,null,"Arbeitszeit",null,null,null,"Arbeitszeit",null,null,null,"Arbeitszeit",null,null,null,"Arbeitszeit"]
[null,null,null,null,null,null,null,null,null,null,null,null,null,null,null,"(min)",null,null,null,"(min)",null,null,null,"(min)",null,null,null,"(min)",null,null,null,"(min)",null,null,null,"(min)",null,null,null,"(min)"]
[{"$f":"IF('Haupteingabe Monat'!$K7=\"\",\"\",'Haupteingabe Monat'!$K7)","v":""},null,{"$f":"IF('Haupteingabe Monat'!$L7=\"\",\"\",'Haupteingabe Monat'!$L7)","v":""},null,null,null,{"$f":"IF('Haupteingabe Monat'!$M7=\"\",\"\",'Haupteingabe Monat'!$M7)","v":""},null,{"$f":"IF('Haupteingabe Monat'!$N7=\"\",\"\",'Haupteingabe Monat'!$N7)","v":""},{"$f":"IF('Haupteingabe Monat'!$O7=\"\",\"\",'Haupteingabe Monat'!$O7)","v":""},null,null,null,null,null,{"$f":"IF($P$3=\"\",\"\",IF($J$18=\"JAZ\",\"0\",IF($J$18=\"Urlaub laufendes Jahr\",\"468\",SUM(IF($R$11>=$P$11,($R$11-$P$11)*24,(1-ABS($R$11-$P$11))*24),-IF($R$12>=$P$12,($R$12-$P$12)*24,(1-ABS($R$12-$P$12))*24))*60)))","v":""},null,null,null,{"$f":"IF($T$3=\"\",\"\",IF($T$3=$P$3,SUM(IF($V$11>=$T$11,($V$11-$T$11)*24,(1-ABS($V$11-$T$11))*24),-IF($V$12>=$T$12,($V$12-$T$12)*24,(1-ABS($V$12-$T$12))*24))*60,\"\"))","v":""},null,null,null,{"$f":"IF($X$3=\"\",\"\",IF($X$3=$P$3,SUM(IF($Z$11>=$X$11,($Z$11-$X$11)*24,(1-ABS($Z$11-$X$11))*24),-IF($Z$12>=$X$12,($Z$12-$X$12)*24,(1-ABS($Z$12-$X$12))*24))*60,\"\"))","v":""},null,null,null,{"$f":"IF($AB$3=\"\",\"\",IF($AB$3=$P$3,SUM(IF($AD$11>=$AB$11,($AD$11-$AB$11)*24,(1-ABS($AD$11-$AB$11))*24),-IF($AD$12>=$AB$12,($AD$12-$AB$12)*24,(1-ABS($AD$12-$AB$12))*24))*60,\"\"))","v":""},null,null,null,{"$f":"IF(AF11=\"\",\"\",SUM(IF(AH11>=AF11,(AH11-AF11)*24,(1-ABS(AH11-AF11))*24),-IF(AH12>=AF12,(AH12-AF12)*24,(1-ABS(AH12-AF12))*24))*60)","v":""},null,null,null,{"$f":"IF(AJ11=\"\",\"\",SUM(IF(AL11>=AJ11,(AL11-AJ11)*24,(1-ABS(AL11-AJ11))*24),-IF(AL12>=AJ12,(AL12-AJ12)*24,(1-ABS(AL12-AJ12))*24))*60)","v":""},null,null,null,{"$f":"IF(AN11=\"\",\"\",SUM(IF(AP11>=AN11,(AP11-AN11)*24,(1-ABS(AP11-AN11))*24),-IF(AP12>=AN12,(AP12-AN12)*24,(1-ABS(AP12-AN12))*24))*60)","v":""}]
[{"$f":"IF($T$3=\"\",\"\",IF(AND(ISNUMBER($T$19),ISTEXT($T$3)),_xlfn.XLOOKUP($T$3,Hilfen!$B$30:$B$32,Hilfen!$C$30:$C$32,\"\"),IF(AND(ISNUMBER($X$19),ISTEXT($X$3)),_xlfn.XLOOKUP($X$3,Hilfen!$B$30:$B$32,Hilfen!$C$30:$C$32,\"\"),IF(AND(ISNUMBER($AB$19),ISTEXT($AB$3)),_xlfn.XLOOKUP($AB$3,Hilfen!$B$30:$B$32,Hilfen!$C$30:$C$32,\"\"),\"\"))))","v":""},null,{"$f":"IF($A19=\"\",\"\",C$18)","v":""},null,null,null,{"$f":"IF($A19=\"\",\"\",$G18)","v":""},null,{"$f":"IF($A19=\"\",\"\",$I18)","v":""},{"$f":"IF($A19=\"\",\"\",$J18)","v":""},null,null,null,null,null,null,null,null,null,{"$f":"IF($T$3=\"\",\"\",IF($T$3=$P$3,\"\",IF($T$3<>$P$3,SUM(IF($V$11>=$T$11,($V$11-$T$11)*24,(1-ABS($V$11-$T$11))*24),-IF($V$12>=$T$12,($V$12-$T$12)*24,(1-ABS($V$12-$T$12))*24))*60,\"\")))","v":""},null,null,null,{"$f":"IF($X$3=\"\",\"\",IF($X$3=$P$3,\"\",IF($T$3=$P$3,SUM(IF($Z$11>=$X$11,($Z$11-$X$11)*24,(1-ABS($Z$11-$X$11))*24),-IF($Z$12>=$X$12,($Z$12-$X$12)*24,(1-ABS($Z$12-$X$12))*24))*60,IF(AND($X$3=\"SOFD\",$T$3=\"SOWMED\"),\"\",IF(AND($X$3=\"SOSMED\",$T$3=\"SOWMED\"),\"\",IF(AND($X$3=\"SOWMED\",$T$3=\"SOFD\"),\"\",IF(AND($X$3=\"SOWMED\",$T$3=\"SOSMED\"),\"\",IF(AND($X$3=\"SOFD\",$T$3=\"SOSMED\"),\"\",IF(AND($X$3=\"SOSMED\",$T$3=\"SOFD\"),\"\",SUM(IF($Z$11>=$X$11,($Z$11-$X$11)*24,(1-ABS($Z$11-$X$11))*24),-IF($Z$12>=$X$12,($Z$12-$X$12)*24,(1-ABS($Z$12-$X$12))*24))*60)))))))))","v":""},null,null,null,{"$f":"IF($AB$3=\"\",\"\",IF($AB$3=$P$3,\"\",IF($AB$3=$T$3,SUM(IF($AD$11>=$AB$11,($AD$11-$AB$11)*24,(1-ABS($AD$11-$AB$11))*24),-IF($AD$12>=$AB$12,($AD$12-$AB$12)*24,(1-ABS($AD$12-$AB$12))*24))*60,IF(AND($AB$3=$X$3,$X$19=\"\"),\"\",IF($AB$3=$X$3,SUM(IF($AD$11>=$AB$11,($AD$11-$AB$11)*24,(1-ABS($AD$11-$AB$11))*24),-IF($AD$12>=$AB$12,($AD$12-$AB$12)*24,(1-ABS($AD$12-$AB$12))*24))*60,IF(AND($T$19=\"\",$X$19=\"\"),SUM(IF($AD$11>=$AB$11,($AD$11-$AB$11)*24,(1-ABS($AD$11-$AB$11))*24),-IF($AD$12>=$AB$12,($AD$12-$AB$12)*24,(1-ABS($AD$12-$AB$12))*24))*60,\"\"))))))","v":""}]
[{"$f":"IF($X$3=\"\",\"\",IF(AND(ISNUMBER($X$20),ISTEXT($X$3)),_xlfn.XLOOKUP($X$3,Hilfen!$B$30:$B$32,Hilfen!$C$30:$C$32,\"\"),IF(AND(ISNUMBER($AB$20),ISTEXT($AB$3)),_xlfn.XLOOKUP($AB$3,Hilfen!$B$30:$B$32,Hilfen!$C$30:$C$32,\"\"),\"\")))","v":""},null,{"$f":"IF($A$20=\"\",\"\",C$18)","v":""},null,null,null,{"$f":"IF($A$20=\"\",\"\",G$18)","v":""},null,{"$f":"IF($A$20=\"\",\"\",I$18)","v":""},{"$f":"IF($A$20=\"\",\"\",J$18)","v":""},null,null,null,null,null,null,null,null,null,null,null,null,null,{"$f":"IF($X$3=\"\",\"\",IF($T$3=$P$3,\"\",IF($X$3=$P$3,\"\",IF($X$3=$T$3,\"\",SUM(IF($Z$11>=$X$11,($Z$11-$X$11)*24,(1-ABS($Z$11-$X$11))*24),-IF($Z$12>=$X$12,($Z$12-$X$12)*24,(1-ABS($Z$12-$X$12))*24))*60))))","v":""},null,null,null,{"$f":"IF($AB$3=\"\",\"\",IF($AB$3=$P$3,\"\",IF($AB$3=$T$3,\"\",IF($AB$3=$X$3,$X$20,IF(ISNUMBER($AB$19),\"\",SUM(IF($AD$11>=$AB$11,($AD$11-$AB$11)*24,(1-ABS($AD$11-$AB$11))*24),-IF($AD$12>=$AB$12,($AD$12-$AB$12)*24,(1-ABS($AD$12-$AB$12))*24))*60)))))","v":""}]
[]
[]
[]
[]
[]
[{"$f":"IF('Haupteingabe Monat'!$S7=\"\",\"\",'Haupteingabe Monat'!$S7)","v":""},null,"Beschreibung der Tagesleistung bei FAT-Katalog 2"]
[{"$f":"IF('Haupteingabe Monat'!$P7=\"\",\"\",'Haupteingabe Monat'!$P7)","v":""}]
[]
[]
["Meine Angaben sind vollständig \nund richtig",null,null,null,null,null,null,"Für den Auftraggeber (nur bei Bedarf) \nLeistung anerkannt",null,null,null,null,null,"Sachlich richtig: ",null,null,null,null,null,null,null,"in eTime gebucht",null,null,null,null,null,null,null,null,"in SAP gebucht"]
["Name",null,{"$f":"$Q$4","v":""},null,null,null,null,"Name",null,null,null,null,null,"Datum",null,"Unterschrift",null,null,null,null,null,"Datum",null,null,null,null,null,null,null,null,"Datum"]
["Datum",null,{"$f":"$AE$2","v":"04."},null,{"$f":"$AG$2","v":"2025-07-01"},null,{"$f":"$AI$2","v":2025},"Datum",null,null,null,null,null,"Name",{"$f":"IF($H$12=\"\",\"\",VLOOKUP($H$12,Hilfen!$F$1:$H$8,2,FALSE))","v":""},null,null,null,null,null,null,"Namens-zeichen",null,null,null,null,null,null,null,null,"Namens-zeichen"]
["Unterschrift",null,null,null,null,null,null,"Firma",null,null,null,null,null,"Vorname",{"$f":"IF($H$12=\"\",\"\",VLOOKUP($H$12,Hilfen!$F$1:$H$8,3,FALSE))","v":""}]
[null,null,null,null,null,null,null,"Unterschrift"]
[null,null,null,null,null,null,null,null,null,null,null,null,null,null,null,null,null,null,null,null,null,"Unvollständig oder fehlerhaft ausgefüllte Belege werden nicht gebucht; RIL 187.1001 !"]

{"sheet":"04 Trupp 2","index":10,"n_rows":35,"n_cols":40,"rows_kept":35,"cut":false,"hidden":false,"merged":[[32,13,33,13],[32,14,33,14],[34,21,35,42],[1,34,1,37],[30,24,30,29],[30,30,30,32],[30,33,30,42],[31,0,31,1],[31,2,31,3],[31,9,31,12],[31,21,33,23],[31,24,33,29],[31,30,33,32],[31,33,33,42],[30,0,30,1],[30,2,30,6],[30,7,30,8],[30,9,30,12],[30,15,33,20],[30,21,30,23],[32,0,33,1],[32,2,33,6],[32,7,32,8],[32,10,32,12],[25,0,25,1],[25,2,25,42],[26,0,28,42],[29,0,29,6],[29,7,29,12],[29,13,29,20],[29,21,29,29],[29,30,29,42],[24,19,24,22],[24,23,24,26],[24,27,24,30],[24,31,24,34],[24,35,24,38],[24,39,24,42],[23,23,23,26],[23,27,23,30],[23,31,23,34],[23,35,23,38],[23,39,23,42],[24,0,24,1],[24,2,24,5],[24,6,24,7],[24,9,24,14],[24,15,24,18],[23,0,23,1],[23,2,23,5],[23,6,23,7],[23,9,23,14],[23,15,23,18],[23,19,23,22],[22,19,22,22],[22,23,22,26],[22,27,22,30],[22,31,22,34],[22,35,22,38],[22,39,22,42],[21,23,21,26],[21,27,21,30],[21,31,21,34],[21,35,21,38],[21,39,21,42],[21,19,21,22],[22,0,22,1],[22,2,22,4],[22,6,22,7],[22,9,22,14],[22,15,22,18],[21,0,21,1],[21,2,21,4],[21,6,21,7],[21,9,21,14],[21,15,21,18],[20,19,20,22],[20,23,20,26],[20,27,20,30],[20,31,20,34],[20,35,20,38],[20,39,20,42],[19,23,19,26],[19,27,19,30],[19,31,19,34],[19,35,19,38],[19,39,19,42],[19,19,19,22],[20,0,20,1],[20,2,20,4],[20,6,20,7],[20,9,20,14],[20,15,20,18],[19,0,19,1],[19,2,19,4],[19,6,19,7],[19,9,19,14],[19,15,19,18],[18,19,18,22],[18,23,18,26],[18,27,18,30],[18,31,18,34],[18,35,18,38],[18,39,18,42],[17,23,17,26],[17,27,17,30],[17,31,17,34],[17,35,17,38],[17,39,17,42],[17,19,17,22],[18,0,18,1],[18,2,18,5],[18,6,18,7],[18,9,18,14],[18,15,18,18],[17,0,17,1],[17,2,17,5],[17,6,17,7],[17,9,17,14],[17,15,17,18],[14,27,14,30],[14,31,14,34],[14,35,14,38],[14,39,14,42],[15,15,15,18],[15,19,15,22],[15,23,15,26],[15,27,15,30],[15,31,15,34],[15,35,15,38],[13,39,13,40],[13,41,13,42],[14,0,16,1],[14,2,16,5],[14,6,16,7],[14,8,16,8],[14,9,16,14],[14,15,14,18],[14,19,14,22],[14,23,14,26],[13,27,13,28],[13,29,13,30],[13,31,13,32],[13,33,13,34],[13,35,13,36],[13,37,13,38],[15,39,15,42],[16,15,16,18],[16,19,16,22],[16,23,16,26],[16,27,16,30],[16,31,16,34],[16,35,16,38],[16,39,16,42],[13,13,13,14],[13,15,13,16],[13,17,13,18],[13,19,13,20],[13,21,13,22],[13,23,13,24],[13,25,13,26],[12,25,12,26],[12,27,12,28],[11,35,11,36],[11,37,11,38],[11,39,11,40],[11,41,11,42],[12,13,12,14],[12,15,12,16],[12,17,12,18],[12,19,12,20],[12,21,12,22],[12,23,12,24],[11,23,11,24],[11,25,11,26],[11,27,11,28],[11,29,11,30],[11,31,11,32],[11,33,11,34],[12,37,12,38],[12,39,12,40],[12,41,12,42],[12,29,12,30],[12,31,12,32],[12,33,12,34],[12,35,12,36],[11,0,11,6],[11,13,11,14],[11,15,11,16],[11,17,11,18],[11,19,11,20],[11,21,11,22],[10,23,10,24],[10,25,10,26],[10,27,10,28],[9,39,9,42],[10,13,10,14],[10,15,10,16],[10,17,10,18],[10,19,10,20],[10,21,10,22],[10,35,10,36],[10,37,10,38],[10,39,10,40],[10,41,10,42],[10,29,10,30],[10,31,10,32],[10,33,10,34],[4,4,4,7],[5,0,5,8],[6,3,6,8],[8,0,8,3],[9,15,9,18],[9,19,9,22],[3,31,8,31],[3,32,8,34],[3,35,8,35],[9,23,9,26],[9,27,9,30],[9,31,9,34],[9,35,9,38],[3,36,8,38],[3,39,8,39],[3,40,8,42],[2,39,2,42],[3,9,3,13],[3,15,8,15],[3,16,8,18],[3,19,8,19],[3,20,8,22],[3,23,8,23],[3,24,8,26],[3,27,8,27],[3,28,8,30],[1,0,2,8],[1,9,1,10],[1,15,1,22],[1,23,1,26],[1,27,1,29],[1,30,1,31],[1,32,1,33],[1,67,1,90],[2,9,2,14],[2,15,2,18],[2,19,2,22],[2,23,2,26],[2,27,2,30],[2,31,2,34],[2,35,2,38]]}
[]
["DB InfraGO AG \nRB Nord\nRegionale Instandsetzung ",null,null,null,null,null,null,null,null,"Blatt",null,{"$f":"IF('Haupteingabe Monat'!$Q42=\"\",\"\",'Haupteingabe Monat'!$Q42)","v":1},"/",{"$f":"IF('Haupteingabe Monat'!$R42=\"\",\"\",'Haupteingabe Monat'!$R42)","v":1},null,null,null,null,null,null,null,null,null,null,null,null,null,"Datum: ",null,null,"04.",null,{"$f":"'Haupteingabe Monat'!$H$1","v":"2025-07-01"},null,{"$f":"'Haupteingabe Monat'!$J$1","v":2025}]
[null,null,null,null,null,null,null,null,null,"SAP Arbeitsplatz",null,null,null,null,null,{"$f":"IF('Haupteingabe Monat'!$W42=\"\",\"\",'Haupteingabe Monat'!$W42)","v":""},null,null,null,{"$f":"IF('Haupteingabe Monat'!$AE42=\"\",\"\",'Haupteingabe Monat'!$AE42)","v":""},null,null,null,{"$f":"IF('Haupteingabe Monat'!$AM42=\"\",\"\",'Haupteingabe Monat'!$AM42)","v":""},null,null,null,{"$f":"IF('Haupteingabe Monat'!$AU42=\"\",\"\",'Haupteingabe Monat'!$AU42)","v":""}]
[null,null,null,null,null,null,null,null,null,"Sachbearb. etime: ",null,null,null,null,"SB3","Name",{"$f":"IF('Haupteingabe Monat'!$X42=\"\",\"\",'Haupteingabe Monat'!$X42)","v":""},null,null,"Name",{"$f":"IF('Haupteingabe Monat'!$AF42=\"\",\"\",'Haupteingabe Monat'!$AF42)","v":""},null,null,"Name",{"$f":"IF('Haupteingabe Monat'!$AN42=\"\",\"\",'Haupteingabe Monat'!$AN42)","v":""},null,null,"Name",{"$f":"IF('Haupteingabe Monat'!$AV42=\"\",\"\",'Haupteingabe Monat'!$AV42)","v":""},null,null,"Name",null,null,null,"Name",null,null,null,"Name"]
["Baustelle:",null,null,null,{"$f":"IF('Haupteingabe Monat'!$B42=\"\",\"\",'Haupteingabe Monat'!$B42)","v":""}]
[{"$f":"IF('Haupteingabe Monat'!$H42=\"\",\"\",'Haupteingabe Monat'!$H42)","v":""}]
[]
[]
["Auftragstyp:",null,null,null,{"$f":"IF('Haupteingabe Monat'!$I42=\"\",\"\",'Haupteingabe Monat'!$I42)","v":""}]
[null,null,null,null,null,null,null,null,null,null,null,null,null,null,null,"hh:min\nvon            bis",null,null,null,"hh:min\nvon            bis",null,null,null,"hh:min\nvon            bis",null,null,null,"hh:min\nvon            bis",null,null,null,"hh:min\nvon            bis",null,null,null,"hh:min\nvon            bis",null,null,null,"hh:min\nvon            bis"]
[null,null,null,null,null,null,null,null,null,null,null,null,null,"1. Arbeitszeit von ... bis …",null,{"$f":"IF('Haupteingabe Monat'!$Y42=\"\",\"\",'Haupteingabe Monat'!$Y42)","v":""},null,{"$f":"IF('Haupteingabe Monat'!$Z42=\"\",\"\",'Haupteingabe Monat'!$Z42)","v":""},null,{"$f":"IF('Haupteingabe Monat'!AG42=\"\",\"\",'Haupteingabe Monat'!AG42)","v":""},null,{"$f":"IF('Haupteingabe Monat'!AH42=\"\",\"\",'Haupteingabe Monat'!AH42)","v":""},null,{"$f":"IF('Haupteingabe Monat'!AO42=\"\",\"\",'Haupteingabe Monat'!AO42)","v":""},null,{"$f":"IF('Haupteingabe Monat'!AP42=\"\",\"\",'Haupteingabe Monat'!AP42)","v":""},null,{"$f":"IF('Haupteingabe Monat'!AW42=\"\",\"\",'Haupteingabe Monat'!AW42)","v":""},null,{"$f":"IF('Haupteingabe Monat'!AX42=\"\",\"\",'Haupteingabe Monat'!AX42)","v":""}]
["Auftragsveranwortlicher:",null,null,null,null,null,null,{"$f":"IF('Haupteingabe Monat'!$J42=\"\",\"\",'Haupteingabe Monat'!$J42)","v":""},null,null,null,null,null,"   Pause von ... bis ...",null,{"$f":"IF('Haupteingabe Monat'!$AA42=\"\",\"\",'Haupteingabe Monat'!$AA42)","v":""},null,{"$f":"IF('Haupteingabe Monat'!$AB42=\"\",\"\",'Haupteingabe Monat'!$AB42)","v":""},null,{"$f":"IF('Haupteingabe Monat'!AI42=\"\",\"\",'Haupteingabe Monat'!AI42)","v":""},null,{"$f":"IF('Haupteingabe Monat'!AJ42=\"\",\"\",'Haupteingabe Monat'!AJ42)","v":""},null,{"$f":"IF('Haupteingabe Monat'!AQ42=\"\",\"\",'Haupteingabe Monat'!AQ42)","v":""},null,{"$f":"IF('Haupteingabe Monat'!AR42=\"\",\"\",'Haupteingabe Monat'!AR42)","v":""},null,{"$f":"IF('Haupteingabe Monat'!AY42=\"\",\"\",'Haupteingabe Monat'!AY42)","v":""},null,{"$f":"IF('Haupteingabe Monat'!AZ42=\"\",\"\",'Haupteingabe Monat'!AZ42)","v":""}]
[null,null,null,null,null,null,null,null,null,null,null,null,null,"2. Arbeitszeit von ... bis ..."]
[null,null,null,null,null,null,null,null,null,null,null,null,null,"   Pause von ... bis ..."]
["SAP Vorgang",null,"FAT/AAA",null,null,null,"SAP*\nAuftragsnummer\n",null,"AAR\nKurznummer\n","Beschreibung der Tagesleistung\n",null,null,null,null,null,"anzurechnende",null,null,null,"anzurechnende",null,null,null,"anzurechnende",null,null,null,"anzurechnende",null,null,null,"anzurechnende",null,null,null,"anzurechnende",null,null,null,"anzurechnende"]
[null,null,null,null,null,null,null,null,null,null,null,null,null,null,null,"Arbeitszeit",null,null,null,"Arbeitszeit",null,null,null,"Arbeitszeit",null,null,null,"Arbeitszeit",null,null,null,"Arbeitszeit",null,null,null,"Arbeitszeit",null,null,null,"Arbeitszeit"]
[null,null,null,null,null,null,null,null,null,null,null,null,null,null,null,"(min)",null,null,null,"(min)",null,null,null,"(min)",null,null,null,"(min)",null,null,null,"(min)",null,null,null,"(min)",null,null,null,"(min)"]
[{"$f":"IF('Haupteingabe Monat'!$K42=\"\",\"\",'Haupteingabe Monat'!$K42)","v":""},null,{"$f":"IF('Haupteingabe Monat'!$L42=\"\",\"\",'Haupteingabe Monat'!$L42)","v":""},null,null,null,{"$f":"IF('Haupteingabe Monat'!$M42=\"\",\"\",'Haupteingabe Monat'!$M42)","v":""},null,{"$f":"IF('Haupteingabe Monat'!$N42=\"\",\"\",'Haupteingabe Monat'!$N42)","v":""},{"$f":"IF('Haupteingabe Monat'!$O42=\"\",\"\",'Haupteingabe Monat'!$O42)","v":""},null,null,null,null,null,{"$f":"IF($P$3=\"\",\"\",IF($J$18=\"JAZ\",\"0\",IF($J$18=\"Urlaub laufendes Jahr\",\"468\",SUM(IF($R$11>=$P$11,($R$11-$P$11)*24,(1-ABS($R$11-$P$11))*24),-IF($R$12>=$P$12,($R$12-$P$12)*24,(1-ABS($R$12-$P$12))*24))*60)))","v":""},null,null,null,{"$f":"IF($T$3=\"\",\"\",IF($T$3=$P$3,SUM(IF($V$11>=$T$11,($V$11-$T$11)*24,(1-ABS($V$11-$T$11))*24),-IF($V$12>=$T$12,($V$12-$T$12)*24,(1-ABS($V$12-$T$12))*24))*60,\"\"))","v":""},null,null,null,{"$f":"IF($X$3=\"\",\"\",IF($X$3=$P$3,SUM(IF($Z$11>=$X$11,($Z$11-$X$11)*24,(1-ABS($Z$11-$X$11))*24),-IF($Z$12>=$X$12,($Z$12-$X$12)*24,(1-ABS($Z$12-$X$12))*24))*60,\"\"))","v":""},null,null,null,{"$f":"IF($AB$3=\"\",\"\",IF($AB$3=$P$3,SUM(IF($AD$11>=$AB$11,($AD$11-$AB$11)*24,(1-ABS($AD$11-$AB$11))*24),-IF($AD$12>=$AB$12,($AD$12-$AB$12)*24,(1-ABS($AD$12-$AB$12))*24))*60,\"\"))","v":""},null,null,null,{"$f":"IF(AF11=\"\",\"\",SUM(IF(AH11>=AF11,(AH11-AF11)*24,(1-ABS(AH11-AF11))*24),-IF(AH12>=AF12,(AH12-AF12)*24,(1-ABS(AH12-AF12))*24))*60)","v":""},null,null,null,{"$f":"IF(AJ11=\"\",\"\",SUM(IF(AL11>=AJ11,(AL11-AJ11)*24,(1-ABS(AL11-AJ11))*24),-IF(AL12>=AJ12,(AL12-AJ12)*24,(1-ABS(AL12-AJ12))*24))*60)","v":""},null,null,null,{"$f":"IF(AN11=\"\",\"\",SUM(IF(AP11>=AN11,(AP11-AN11)*24,(1-ABS(AP11-AN11))*24),-IF(AP12>=AN12,(AP12-AN12)*24,(1-ABS(AP12-AN12))*24))*60)","v":""}]
[{"$f":"IF($T$3=\"\",\"\",IF(AND(ISNUMBER($T$19),ISTEXT($T$3)),_xlfn.XLOOKUP($T$3,Hilfen!$B$30:$B$32,Hilfen!$C$30:$C$32,\"\"),IF(AND(ISNUMBER($X$19),ISTEXT($X$3)),_xlfn.XLOOKUP($X$3,Hilfen!$B$30:$B$32,Hilfen!$C$30:$C$32,\"\"),IF(AND(ISNUMBER($AB$19),ISTEXT($AB$3)),_xlfn.XLOOKUP($AB$3,Hilfen!$B$30:$B$32,Hilfen!$C$30:$C$32,\"\"),\"\"))))","v":""},null,{"$f":"IF($A19=\"\",\"\",C$18)","v":""},null,null,null,{"$f":"IF($A19=\"\",\"\",$G18)","v":""},null,{"$f":"IF($A19=\"\",\"\",$I18)","v":""},{"$f":"IF($A19=\"\",\"\",$J18)","v":""},null,null,null,null,null,null,null,null,null,{"$f":"IF($T$3=\"\",\"\",IF($T$3=$P$3,\"\",IF($T$3<>$P$3,SUM(IF($V$11>=$T$11,($V$11-$T$11)*24,(1-ABS($V$11-$T$11))*24),-IF($V$12>=$T$12,($V$12-$T$12)*24,(1-ABS($V$12-$T$12))*24))*60,\"\")))","v":""},null,null,null,{"$f":"IF($X$3=\"\",\"\",IF($X$3=$P$3,\"\",IF($T$3=$P$3,SUM(IF($Z$11>=$X$11,($Z$11-$X$11)*24,(1-ABS($Z$11-$X$11))*24),-IF($Z$12>=$X$12,($Z$12-$X$12)*24,(1-ABS($Z$12-$X$12))*24))*60,IF(AND($X$3=\"SOFD\",$T$3=\"SOWMED\"),\"\",IF(AND($X$3=\"SOSMED\",$T$3=\"SOWMED\"),\"\",IF(AND($X$3=\"SOWMED\",$T$3=\"SOFD\"),\"\",IF(AND($X$3=\"SOWMED\",$T$3=\"SOSMED\"),\"\",IF(AND($X$3=\"SOFD\",$T$3=\"SOSMED\"),\"\",IF(AND($X$3=\"SOSMED\",$T$3=\"SOFD\"),\"\",SUM(IF($Z$11>=$X$11,($Z$11-$X$11)*24,(1-ABS($Z$11-$X$11))*24),-IF($Z$12>=$X$12,($Z$12-$X$12)*24,(1-ABS($Z$12-$X$12))*24))*60)))))))))","v":""},null,null,null,{"$f":"IF($AB$3=\"\",\"\",IF($AB$3=$P$3,\"\",IF($AB$3=$T$3,SUM(IF($AD$11>=$AB$11,($AD$11-$AB$11)*24,(1-ABS($AD$11-$AB$11))*24),-IF($AD$12>=$AB$12,($AD$12-$AB$12)*24,(1-ABS($AD$12-$AB$12))*24))*60,IF(AND($AB$3=$X$3,$X$19=\"\"),\"\",IF($AB$3=$X$3,SUM(IF($AD$11>=$AB$11,($AD$11-$AB$11)*24,(1-ABS($AD$11-$AB$11))*24),-IF($AD$12>=$AB$12,($AD$12-$AB$12)*24,(1-ABS($AD$12-$AB$12))*24))*60,IF(AND($T$19=\"\",$X$19=\"\"),SUM(IF($AD$11>=$AB$11,($AD$11-$AB$11)*24,(1-ABS($AD$11-$AB$11))*24),-IF($AD$12>=$AB$12,($AD$12-$AB$12)*24,(1-ABS($AD$12-$AB$12))*24))*60,\"\"))))))","v":""}]
[{"$f":"IF($X$3=\"\",\"\",IF(AND(ISNUMBER($X$20),ISTEXT($X$3)),_xlfn.XLOOKUP($X$3,Hilfen!$B$30:$B$32,Hilfen!$C$30:$C$32,\"\"),IF(AND(ISNUMBER($AB$20),ISTEXT($AB$3)),_xlfn.XLOOKUP($AB$3,Hilfen!$B$30:$B$32,Hilfen!$C$30:$C$32,\"\"),\"\")))","v":""},null,{"$f":"IF($A$20=\"\",\"\",C$18)","v":""},null,null,null,{"$f":"IF($A$20=\"\",\"\",G$18)","v":""},null,{"$f":"IF($A$20=\"\",\"\",I$18)","v":""},{"$f":"IF($A$20=\"\",\"\",J$18)","v":""},null,null,null,null,null,null,null,null,null,null,null,null,null,{"$f":"IF($X$3=\"\",\"\",IF($T$3=$P$3,\"\",IF($X$3=$P$3,\"\",IF($X$3=$T$3,\"\",SUM(IF($Z$11>=$X$11,($Z$11-$X$11)*24,(1-ABS($Z$11-$X$11))*24),-IF($Z$12>=$X$12,($Z$12-$X$12)*24,(1-ABS($Z$12-$X$12))*24))*60))))","v":""},null,null,null,{"$f":"IF($AB$3=\"\",\"\",IF($AB$3=$P$3,\"\",IF($AB$3=$T$3,\"\",IF($AB$3=$X$3,$X$20,IF(ISNUMBER($AB$19),\"\",SUM(IF($AD$11>=$AB$11,($AD$11-$AB$11)*24,(1-ABS($AD$11-$AB$11))*24),-IF($AD$12>=$AB$12,($AD$12-$AB$12)*24,(1-ABS($AD$12-$AB$12))*24))*60)))))","v":""}]
[]
[]
[]
[]
[]
[{"$f":"IF('Haupteingabe Monat'!$S42=\"\",\"\",'Haupteingabe Monat'!$S42)","v":""},null,"Beschreibung der Tagesleistung bei FAT-Katalog 2"]
[{"$f":"IF('Haupteingabe Monat'!$P42=\"\",\"\",'Haupteingabe Monat'!$P42)","v":""}]
[]
[]
["Meine Angaben sind vollständig \nund richtig",null,null,null,null,null,null,"Für den Auftraggeber (nur bei Bedarf) \nLeistung anerkannt",null,null,null,null,null,"Sachlich richtig: ",null,null,null,null,null,null,null,"in eTime gebucht",null,null,null,null,null,null,null,null,"in SAP gebucht"]
["Name",null,{"$f":"$Q$4","v":""},null,null,null,null,"Name",null,null,null,null,null,"Datum",null,"Unterschrift",null,null,null,null,null,"Datum",null,null,null,null,null,null,null,null,"Datum"]
["Datum",null,{"$f":"$AE$2","v":"04."},null,{"$f":"$AG$2","v":"2025-07-01"},null,{"$f":"$AI$2","v":2025},"Datum",null,null,null,null,null,"Name",{"$f":"IF($H$12=\"\",\"\",VLOOKUP($H$12,Hilfen!$F$1:$H$8,2,FALSE))","v":""},null,null,null,null,null,null,"Namens-zeichen",null,null,null,null,null,null,null,null,"Namens-zeichen"]
["Unterschrift",null,null,null,null,null,null,"Firma",null,null,null,null,null,"Vorname",{"$f":"IF($H$12=\"\",\"\",VLOOKUP($H$12,Hilfen!$F$1:$H$8,3,FALSE))","v":""}]
[null,null,null,null,null,null,null,"Unterschrift"]
[null,null,null,null,null,null,null,null,null,null,null,null,null,null,null,null,null,null,null,null,null,"Unvollständig oder fehlerhaft ausgefüllte Belege werden nicht gebucht; RIL 187.1001 !"]

{"sheet":"05 Trupp 1","index":11,"n_rows":35,"n_cols":40,"rows_kept":35,"cut":false,"hidden":false,"merged":[[32,13,33,13],[32,14,33,14],[34,21,35,42],[1,34,1,37],[30,24,30,29],[30,30,30,32],[30,33,30,42],[31,0,31,1],[31,2,31,3],[31,9,31,12],[31,21,33,23],[31,24,33,29],[31,30,33,32],[31,33,33,42],[30,0,30,1],[30,2,30,6],[30,7,30,8],[30,9,30,12],[30,15,33,20],[30,21,30,23],[32,0,33,1],[32,2,33,6],[32,7,32,8],[32,10,32,12],[25,0,25,1],[25,2,25,42],[26,0,28,42],[29,0,29,6],[29,7,29,12],[29,13,29,20],[29,21,29,29],[29,30,29,42],[24,19,24,22],[24,23,24,26],[24,27,24,30],[24,31,24,34],[24,35,24,38],[24,39,24,42],[23,23,23,26],[23,27,23,30],[23,31,23,34],[23,35,23,38],[23,39,23,42],[24,0,24,1],[24,2,24,5],[24,6,24,7],[24,9,24,14],[24,15,24,18],[23,0,23,1],[23,2,23,5],[23,6,23,7],[23,9,23,14],[23,15,23,18],[23,19,23,22],[22,19,22,22],[22,23,22,26],[22,27,22,30],[22,31,22,34],[22,35,22,38],[22,39,22,42],[21,23,21,26],[21,27,21,30],[21,31,21,34],[21,35,21,38],[21,39,21,42],[21,19,21,22],[22,0,22,1],[22,2,22,4],[22,6,22,7],[22,9,22,14],[22,15,22,18],[21,0,21,1],[21,2,21,4],[21,6,21,7],[21,9,21,14],[21,15,21,18],[20,19,20,22],[20,23,20,26],[20,27,20,30],[20,31,20,34],[20,35,20,38],[20,39,20,42],[19,23,19,26],[19,27,19,30],[19,31,19,34],[19,35,19,38],[19,39,19,42],[19,19,19,22],[20,0,20,1],[20,2,20,4],[20,6,20,7],[20,9,20,14],[20,15,20,18],[19,0,19,1],[19,2,19,4],[19,6,19,7],[19,9,19,14],[19,15,19,18],[18,19,18,22],[18,23,18,26],[18,27,18,30],[18,31,18,34],[18,35,18,38],[18,39,18,42],[17,23,17,26],[17,27,17,30],[17,31,17,34],[17,35,17,38],[17,39,17,42],[17,19,17,22],[18,0,18,1],[18,2,18,5],[18,6,18,7],[18,9,18,14],[18,15,18,18],[17,0,17,1],[17,2,17,5],[17,6,17,7],[17,9,17,14],[17,15,17,18],[14,27,14,30],[14,31,14,34],[14,35,14,38],[14,39,14,42],[15,15,15,18],[15,19,15,22],[15,23,15,26],[15,27,15,30],[15,31,15,34],[15,35,15,38],[13,39,13,40],[13,41,13,42],[14,0,16,1],[14,2,16,5],[14,6,16,7],[14,8,16,8],[14,9,16,14],[14,15,14,18],[14,19,14,22],[14,23,14,26],[13,27,13,28],[13,29,13,30],[13,31,13,32],[13,33,13,34],[13,35,13,36],[13,37,13,38],[15,39,15,42],[16,15,16,18],[16,19,16,22],[16,23,16,26],[16,27,16,30],[16,31,16,34],[16,35,16,38],[16,39,16,42],[13,13,13,14],[13,15,13,16],[13,17,13,18],[13,19,13,20],[13,21,13,22],[13,23,13,24],[13,25,13,26],[12,25,12,26],[12,27,12,28],[11,35,11,36],[11,37,11,38],[11,39,11,40],[11,41,11,42],[12,13,12,14],[12,15,12,16],[12,17,12,18],[12,19,12,20],[12,21,12,22],[12,23,12,24],[11,23,11,24],[11,25,11,26],[11,27,11,28],[11,29,11,30],[11,31,11,32],[11,33,11,34],[12,37,12,38],[12,39,12,40],[12,41,12,42],[12,29,12,30],[12,31,12,32],[12,33,12,34],[12,35,12,36],[11,0,11,6],[11,13,11,14],[11,15,11,16],[11,17,11,18],[11,19,11,20],[11,21,11,22],[10,23,10,24],[10,25,10,26],[10,27,10,28],[9,39,9,42],[10,13,10,14],[10,15,10,16],[10,17,10,18],[10,19,10,20],[10,21,10,22],[10,35,10,36],[10,37,10,38],[10,39,10,40],[10,41,10,42],[10,29,10,30],[10,31,10,32],[10,33,10,34],[4,4,4,7],[5,0,5,8],[6,3,6,8],[8,0,8,3],[9,15,9,18],[9,19,9,22],[3,31,8,31],[3,32,8,34],[3,35,8,35],[9,23,9,26],[9,27,9,30],[9,31,9,34],[9,35,9,38],[3,36,8,38],[3,39,8,39],[3,40,8,42],[2,39,2,42],[3,9,3,13],[3,15,8,15],[3,16,8,18],[3,19,8,19],[3,20,8,22],[3,23,8,23],[3,24,8,26],[3,27,8,27],[3,28,8,30],[1,0,2,8],[1,9,1,10],[1,15,1,22],[1,23,1,26],[1,27,1,29],[1,30,1,31],[1,32,1,33],[1,67,1,90],[2,9,2,14],[2,15,2,18],[2,19,2,22],[2,23,2,26],[2,27,2,30],[2,31,2,34],[2,35,2,38]]}
[]
["DB InfraGO AG \nRB Nord\nRegionale Instandsetzung ",null,null,null,null,null,null,null,null,"Blatt",null,{"$f":"IF('Haupteingabe Monat'!$Q8=\"\",\"\",'Haupteingabe Monat'!$Q8)","v":1},"/",{"$f":"IF('Haupteingabe Monat'!$R8=\"\",\"\",'Haupteingabe Monat'!$R8)","v":1},null,null,null,null,null,null,null,null,null,null,null,null,null,"Datum: ",null,null,"05.",null,{"$f":"'Haupteingabe Monat'!$H$1","v":"2025-07-01"},null,{"$f":"'Haupteingabe Monat'!$J$1","v":2025}]
[null,null,null,null,null,null,null,null,null,"SAP Arbeitsplatz",null,null,null,null,null,{"$f":"IF('Haupteingabe Monat'!$W8=\"\",\"\",'Haupteingabe Monat'!$W8)","v":""},null,null,null,{"$f":"IF('Haupteingabe Monat'!$AE8=\"\",\"\",'Haupteingabe Monat'!$AE8)","v":""},null,null,null,{"$f":"IF('Haupteingabe Monat'!$AM8=\"\",\"\",'Haupteingabe Monat'!$AM8)","v":""},null,null,null,{"$f":"IF('Haupteingabe Monat'!$AU8=\"\",\"\",'Haupteingabe Monat'!$AU8)","v":""}]
[null,null,null,null,null,null,null,null,null,"Sachbearb. etime: ",null,null,null,null,"SB3","Name",{"$f":"IF('Haupteingabe Monat'!$X8=\"\",\"\",'Haupteingabe Monat'!$X8)","v":""},null,null,"Name",{"$f":"IF('Haupteingabe Monat'!$AF8=\"\",\"\",'Haupteingabe Monat'!$AF8)","v":""},null,null,"Name",{"$f":"IF('Haupteingabe Monat'!$AN8=\"\",\"\",'Haupteingabe Monat'!$AN8)","v":""},null,null,"Name",{"$f":"IF('Haupteingabe Monat'!$AV8=\"\",\"\",'Haupteingabe Monat'!$AV8)","v":""},null,null,"Name",null,null,null,"Name",null,null,null,"Name"]
["Baustelle:",null,null,null,{"$f":"IF('Haupteingabe Monat'!$B8=\"\",\"\",'Haupteingabe Monat'!$B8)","v":""}]
[{"$f":"IF('Haupteingabe Monat'!$H8=\"\",\"\",'Haupteingabe Monat'!$H8)","v":""}]
[]
[]
["Auftragstyp:",null,null,null,{"$f":"IF('Haupteingabe Monat'!$I8=\"\",\"\",'Haupteingabe Monat'!$I8)","v":""}]
[null,null,null,null,null,null,null,null,null,null,null,null,null,null,null,"hh:min\nvon            bis",null,null,null,"hh:min\nvon            bis",null,null,null,"hh:min\nvon            bis",null,null,null,"hh:min\nvon            bis",null,null,null,"hh:min\nvon            bis",null,null,null,"hh:min\nvon            bis",null,null,null,"hh:min\nvon            bis"]
[null,null,null,null,null,null,null,null,null,null,null,null,null,"1. Arbeitszeit von ... bis …",null,{"$f":"IF('Haupteingabe Monat'!$Y8=\"\",\"\",'Haupteingabe Monat'!$Y8)","v":""},null,{"$f":"IF('Haupteingabe Monat'!$Z8=\"\",\"\",'Haupteingabe Monat'!$Z8)","v":""},null,{"$f":"IF('Haupteingabe Monat'!AG8=\"\",\"\",'Haupteingabe Monat'!AG8)","v":""},null,{"$f":"IF('Haupteingabe Monat'!AH8=\"\",\"\",'Haupteingabe Monat'!AH8)","v":""},null,{"$f":"IF('Haupteingabe Monat'!AO8=\"\",\"\",'Haupteingabe Monat'!AO8)","v":""},null,{"$f":"IF('Haupteingabe Monat'!AP8=\"\",\"\",'Haupteingabe Monat'!AP8)","v":""},null,{"$f":"IF('Haupteingabe Monat'!AW8=\"\",\"\",'Haupteingabe Monat'!AW8)","v":""},null,{"$f":"IF('Haupteingabe Monat'!AX8=\"\",\"\",'Haupteingabe Monat'!AX8)","v":""}]
["Auftragsveranwortlicher:",null,null,null,null,null,null,{"$f":"IF('Haupteingabe Monat'!$J8=\"\",\"\",'Haupteingabe Monat'!$J8)","v":""},null,null,null,null,null,"   Pause von ... bis ...",null,{"$f":"IF('Haupteingabe Monat'!$AA8=\"\",\"\",'Haupteingabe Monat'!$AA8)","v":""},null,{"$f":"IF('Haupteingabe Monat'!$AB8=\"\",\"\",'Haupteingabe Monat'!$AB8)","v":""},null,{"$f":"IF('Haupteingabe Monat'!AI8=\"\",\"\",'Haupteingabe Monat'!AI8)","v":""},null,{"$f":"IF('Haupteingabe Monat'!AJ8=\"\",\"\",'Haupteingabe Monat'!AJ8)","v":""},null,{"$f":"IF('Haupteingabe Monat'!AQ8=\"\",\"\",'Haupteingabe Monat'!AQ8)","v":""},null,{"$f":"IF('Haupteingabe Monat'!AR8=\"\",\"\",'Haupteingabe Monat'!AR8)","v":""},null,{"$f":"IF('Haupteingabe Monat'!AY8=\"\",\"\",'Haupteingabe Monat'!AY8)","v":""},null,{"$f":"IF('Haupteingabe Monat'!AZ8=\"\",\"\",'Haupteingabe Monat'!AZ8)","v":""}]
[null,null,null,null,null,null,null,null,null,null,null,null,null,"2. Arbeitszeit von ... bis ..."]
[null,null,null,null,null,null,null,null,null,null,null,null,null,"   Pause von ... bis ..."]
["SAP Vorgang",null,"FAT/AAA",null,null,null,"SAP*\nAuftragsnummer\n",null,"AAR\nKurznummer\n","Beschreibung der Tagesleistung\n",null,null,null,null,null,"anzurechnende",null,null,null,"anzurechnende",null,null,null,"anzurechnende",null,null,null,"anzurechnende",null,null,null,"anzurechnende",null,null,null,"anzurechnende",null,null,null,"anzurechnende"]
[null,null,null,null,null,null,null,null,null,null,null,null,null,null,null,"Arbeitszeit",null,null,null,"Arbeitszeit",null,null,null,"Arbeitszeit",null,null,null,"Arbeitszeit",null,null,null,"Arbeitszeit",null,null,null,"Arbeitszeit",null,null,null,"Arbeitszeit"]
[null,null,null,null,null,null,null,null,null,null,null,null,null,null,null,"(min)",null,null,null,"(min)",null,null,null,"(min)",null,null,null,"(min)",null,null,null,"(min)",null,null,null,"(min)",null,null,null,"(min)"]
[{"$f":"IF('Haupteingabe Monat'!$K8=\"\",\"\",'Haupteingabe Monat'!$K8)","v":""},null,{"$f":"IF('Haupteingabe Monat'!$L8=\"\",\"\",'Haupteingabe Monat'!$L8)","v":""},null,null,null,{"$f":"IF('Haupteingabe Monat'!$M8=\"\",\"\",'Haupteingabe Monat'!$M8)","v":""},null,{"$f":"IF('Haupteingabe Monat'!$N8=\"\",\"\",'Haupteingabe Monat'!$N8)","v":""},{"$f":"IF('Haupteingabe Monat'!$O8=\"\",\"\",'Haupteingabe Monat'!$O8)","v":""},null,null,null,null,null,{"$f":"IF($P$3=\"\",\"\",IF($J$18=\"JAZ\",\"0\",IF($J$18=\"Urlaub laufendes Jahr\",\"468\",SUM(IF($R$11>=$P$11,($R$11-$P$11)*24,(1-ABS($R$11-$P$11))*24),-IF($R$12>=$P$12,($R$12-$P$12)*24,(1-ABS($R$12-$P$12))*24))*60)))","v":""},null,null,null,{"$f":"IF($T$3=\"\",\"\",IF($T$3=$P$3,SUM(IF($V$11>=$T$11,($V$11-$T$11)*24,(1-ABS($V$11-$T$11))*24),-IF($V$12>=$T$12,($V$12-$T$12)*24,(1-ABS($V$12-$T$12))*24))*60,\"\"))","v":""},null,null,null,{"$f":"IF($X$3=\"\",\"\",IF($X$3=$P$3,SUM(IF($Z$11>=$X$11,($Z$11-$X$11)*24,(1-ABS($Z$11-$X$11))*24),-IF($Z$12>=$X$12,($Z$12-$X$12)*24,(1-ABS($Z$12-$X$12))*24))*60,\"\"))","v":""},null,null,null,{"$f":"IF($AB$3=\"\",\"\",IF($AB$3=$P$3,SUM(IF($AD$11>=$AB$11,($AD$11-$AB$11)*24,(1-ABS($AD$11-$AB$11))*24),-IF($AD$12>=$AB$12,($AD$12-$AB$12)*24,(1-ABS($AD$12-$AB$12))*24))*60,\"\"))","v":""},null,null,null,{"$f":"IF(AF11=\"\",\"\",SUM(IF(AH11>=AF11,(AH11-AF11)*24,(1-ABS(AH11-AF11))*24),-IF(AH12>=AF12,(AH12-AF12)*24,(1-ABS(AH12-AF12))*24))*60)","v":""},null,null,null,{"$f":"IF(AJ11=\"\",\"\",SUM(IF(AL11>=AJ11,(AL11-AJ11)*24,(1-ABS(AL11-AJ11))*24),-IF(AL12>=AJ12,(AL12-AJ12)*24,(1-ABS(AL12-AJ12))*24))*60)","v":""},null,null,null,{"$f":"IF(AN11=\"\",\"\",SUM(IF(AP11>=AN11,(AP11-AN11)*24,(1-ABS(AP11-AN11))*24),-IF(AP12>=AN12,(AP12-AN12)*24,(1-ABS(AP12-AN12))*24))*60)","v":""}]
[{"$f":"IF($T$3=\"\",\"\",IF(AND(ISNUMBER($T$19),ISTEXT($T$3)),_xlfn.XLOOKUP($T$3,Hilfen!$B$30:$B$32,Hilfen!$C$30:$C$32,\"\"),IF(AND(ISNUMBER($X$19),ISTEXT($X$3)),_xlfn.XLOOKUP($X$3,Hilfen!$B$30:$B$32,Hilfen!$C$30:$C$32,\"\"),IF(AND(ISNUMBER($AB$19),ISTEXT($AB$3)),_xlfn.XLOOKUP($AB$3,Hilfen!$B$30:$B$32,Hilfen!$C$30:$C$32,\"\"),\"\"))))","v":""},null,{"$f":"IF($A19=\"\",\"\",C$18)","v":""},null,null,null,{"$f":"IF($A19=\"\",\"\",$G18)","v":""},null,{"$f":"IF($A19=\"\",\"\",$I18)","v":""},{"$f":"IF($A19=\"\",\"\",$J18)","v":""},null,null,null,null,null,null,null,null,null,{"$f":"IF($T$3=\"\",\"\",IF($T$3=$P$3,\"\",IF($T$3<>$P$3,SUM(IF($V$11>=$T$11,($V$11-$T$11)*24,(1-ABS($V$11-$T$11))*24),-IF($V$12>=$T$12,($V$12-$T$12)*24,(1-ABS($V$12-$T$12))*24))*60,\"\")))","v":""},null,null,null,{"$f":"IF($X$3=\"\",\"\",IF($X$3=$P$3,\"\",IF($T$3=$P$3,SUM(IF($Z$11>=$X$11,($Z$11-$X$11)*24,(1-ABS($Z$11-$X$11))*24),-IF($Z$12>=$X$12,($Z$12-$X$12)*24,(1-ABS($Z$12-$X$12))*24))*60,IF(AND($X$3=\"SOFD\",$T$3=\"SOWMED\"),\"\",IF(AND($X$3=\"SOSMED\",$T$3=\"SOWMED\"),\"\",IF(AND($X$3=\"SOWMED\",$T$3=\"SOFD\"),\"\",IF(AND($X$3=\"SOWMED\",$T$3=\"SOSMED\"),\"\",IF(AND($X$3=\"SOFD\",$T$3=\"SOSMED\"),\"\",IF(AND($X$3=\"SOSMED\",$T$3=\"SOFD\"),\"\",SUM(IF($Z$11>=$X$11,($Z$11-$X$11)*24,(1-ABS($Z$11-$X$11))*24),-IF($Z$12>=$X$12,($Z$12-$X$12)*24,(1-ABS($Z$12-$X$12))*24))*60)))))))))","v":""},null,null,null,{"$f":"IF($AB$3=\"\",\"\",IF($AB$3=$P$3,\"\",IF($AB$3=$T$3,SUM(IF($AD$11>=$AB$11,($AD$11-$AB$11)*24,(1-ABS($AD$11-$AB$11))*24),-IF($AD$12>=$AB$12,($AD$12-$AB$12)*24,(1-ABS($AD$12-$AB$12))*24))*60,IF(AND($AB$3=$X$3,$X$19=\"\"),\"\",IF($AB$3=$X$3,SUM(IF($AD$11>=$AB$11,($AD$11-$AB$11)*24,(1-ABS($AD$11-$AB$11))*24),-IF($AD$12>=$AB$12,($AD$12-$AB$12)*24,(1-ABS($AD$12-$AB$12))*24))*60,IF(AND($T$19=\"\",$X$19=\"\"),SUM(IF($AD$11>=$AB$11,($AD$11-$AB$11)*24,(1-ABS($AD$11-$AB$11))*24),-IF($AD$12>=$AB$12,($AD$12-$AB$12)*24,(1-ABS($AD$12-$AB$12))*24))*60,\"\"))))))","v":""}]
[{"$f":"IF($X$3=\"\",\"\",IF(AND(ISNUMBER($X$20),ISTEXT($X$3)),_xlfn.XLOOKUP($X$3,Hilfen!$B$30:$B$32,Hilfen!$C$30:$C$32,\"\"),IF(AND(ISNUMBER($AB$20),ISTEXT($AB$3)),_xlfn.XLOOKUP($AB$3,Hilfen!$B$30:$B$32,Hilfen!$C$30:$C$32,\"\"),\"\")))","v":""},null,{"$f":"IF($A$20=\"\",\"\",C$18)","v":""},null,null,null,{"$f":"IF($A$20=\"\",\"\",G$18)","v":""},null,{"$f":"IF($A$20=\"\",\"\",I$18)","v":""},{"$f":"IF($A$20=\"\",\"\",J$18)","v":""},null,null,null,null,null,null,null,null,null,null,null,null,null,{"$f":"IF($X$3=\"\",\"\",IF($T$3=$P$3,\"\",IF($X$3=$P$3,\"\",IF($X$3=$T$3,\"\",SUM(IF($Z$11>=$X$11,($Z$11-$X$11)*24,(1-ABS($Z$11-$X$11))*24),-IF($Z$12>=$X$12,($Z$12-$X$12)*24,(1-ABS($Z$12-$X$12))*24))*60))))","v":""},null,null,null,{"$f":"IF($AB$3=\"\",\"\",IF($AB$3=$P$3,\"\",IF($AB$3=$T$3,\"\",IF($AB$3=$X$3,$X$20,IF(ISNUMBER($AB$19),\"\",SUM(IF($AD$11>=$AB$11,($AD$11-$AB$11)*24,(1-ABS($AD$11-$AB$11))*24),-IF($AD$12>=$AB$12,($AD$12-$AB$12)*24,(1-ABS($AD$12-$AB$12))*24))*60)))))","v":""}]
[]
[]
[]
[]
[]
[{"$f":"IF('Haupteingabe Monat'!$S8=\"\",\"\",'Haupteingabe Monat'!$S8)","v":""},null,"Beschreibung der Tagesleistung bei FAT-Katalog 2"]
[{"$f":"IF('Haupteingabe Monat'!$P8=\"\",\"\",'Haupteingabe Monat'!$P8)","v":""}]
[]
[]
["Meine Angaben sind vollständig \nund richtig",null,null,null,null,null,null,"Für den Auftraggeber (nur bei Bedarf) \nLeistung anerkannt",null,null,null,null,null,"Sachlich richtig: ",null,null,null,null,null,null,null,"in eTime gebucht",null,null,null,null,null,null,null,null,"in SAP gebucht"]
["Name",null,{"$f":"$Q$4","v":""},null,null,null,null,"Name",null,null,null,null,null,"Datum",null,"Unterschrift",null,null,null,null,null,"Datum",null,null,null,null,null,null,null,null,"Datum"]
["Datum",null,{"$f":"$AE$2","v":"05."},null,{"$f":"$AG$2","v":"2025-07-01"},null,{"$f":"$AI$2","v":2025},"Datum",null,null,null,null,null,"Name",{"$f":"IF($H$12=\"\",\"\",VLOOKUP($H$12,Hilfen!$F$1:$H$8,2,FALSE))","v":""},null,null,null,null,null,null,"Namens-zeichen",null,null,null,null,null,null,null,null,"Namens-zeichen"]
["Unterschrift",null,null,null,null,null,null,"Firma",null,null,null,null,null,"Vorname",{"$f":"IF($H$12=\"\",\"\",VLOOKUP($H$12,Hilfen!$F$1:$H$8,3,FALSE))","v":""}]
[null,null,null,null,null,null,null,"Unterschrift"]
[null,null,null,null,null,null,null,null,null,null,null,null,null,null,null,null,null,null,null,null,null,"Unvollständig oder fehlerhaft ausgefüllte Belege werden nicht gebucht; RIL 187.1001 !"]

{"sheet":"05 Trupp 2","index":12,"n_rows":35,"n_cols":40,"rows_kept":35,"cut":false,"hidden":false,"merged":[[32,13,33,13],[32,14,33,14],[34,21,35,42],[1,34,1,37],[30,24,30,29],[30,30,30,32],[30,33,30,42],[31,0,31,1],[31,2,31,3],[31,9,31,12],[31,21,33,23],[31,24,33,29],[31,30,33,32],[31,33,33,42],[30,0,30,1],[30,2,30,6],[30,7,30,8],[30,9,30,12],[30,15,33,20],[30,21,30,23],[32,0,33,1],[32,2,33,6],[32,7,32,8],[32,10,32,12],[25,0,25,1],[25,2,25,42],[26,0,28,42],[29,0,29,6],[29,7,29,12],[29,13,29,20],[29,21,29,29],[29,30,29,42],[24,19,24,22],[24,23,24,26],[24,27,24,30],[24,31,24,34],[24,35,24,38],[24,39,24,42],[23,23,23,26],[23,27,23,30],[23,31,23,34],[23,35,23,38],[23,39,23,42],[24,0,24,1],[24,2,24,5],[24,6,24,7],[24,9,24,14],[24,15,24,18],[23,0,23,1],[23,2,23,5],[23,6,23,7],[23,9,23,14],[23,15,23,18],[23,19,23,22],[22,19,22,22],[22,23,22,26],[22,27,22,30],[22,31,22,34],[22,35,22,38],[22,39,22,42],[21,23,21,26],[21,27,21,30],[21,31,21,34],[21,35,21,38],[21,39,21,42],[21,19,21,22],[22,0,22,1],[22,2,22,4],[22,6,22,7],[22,9,22,14],[22,15,22,18],[21,0,21,1],[21,2,21,4],[21,6,21,7],[21,9,21,14],[21,15,21,18],[20,19,20,22],[20,23,20,26],[20,27,20,30],[20,31,20,34],[20,35,20,38],[20,39,20,42],[19,23,19,26],[19,27,19,30],[19,31,19,34],[19,35,19,38],[19,39,19,42],[19,19,19,22],[20,0,20,1],[20,2,20,4],[20,6,20,7],[20,9,20,14],[20,15,20,18],[19,0,19,1],[19,2,19,4],[19,6,19,7],[19,9,19,14],[19,15,19,18],[18,19,18,22],[18,23,18,26],[18,27,18,30],[18,31,18,34],[18,35,18,38],[18,39,18,42],[17,23,17,26],[17,27,17,30],[17,31,17,34],[17,35,17,38],[17,39,17,42],[17,19,17,22],[18,0,18,1],[18,2,18,5],[18,6,18,7],[18,9,18,14],[18,15,18,18],[17,0,17,1],[17,2,17,5],[17,6,17,7],[17,9,17,14],[17,15,17,18],[14,27,14,30],[14,31,14,34],[14,35,14,38],[14,39,14,42],[15,15,15,18],[15,19,15,22],[15,23,15,26],[15,27,15,30],[15,31,15,34],[15,35,15,38],[13,39,13,40],[13,41,13,42],[14,0,16,1],[14,2,16,5],[14,6,16,7],[14,8,16,8],[14,9,16,14],[14,15,14,18],[14,19,14,22],[14,23,14,26],[13,27,13,28],[13,29,13,30],[13,31,13,32],[13,33,13,34],[13,35,13,36],[13,37,13,38],[15,39,15,42],[16,15,16,18],[16,19,16,22],[16,23,16,26],[16,27,16,30],[16,31,16,34],[16,35,16,38],[16,39,16,42],[13,13,13,14],[13,15,13,16],[13,17,13,18],[13,19,13,20],[13,21,13,22],[13,23,13,24],[13,25,13,26],[12,25,12,26],[12,27,12,28],[11,35,11,36],[11,37,11,38],[11,39,11,40],[11,41,11,42],[12,13,12,14],[12,15,12,16],[12,17,12,18],[12,19,12,20],[12,21,12,22],[12,23,12,24],[11,23,11,24],[11,25,11,26],[11,27,11,28],[11,29,11,30],[11,31,11,32],[11,33,11,34],[12,37,12,38],[12,39,12,40],[12,41,12,42],[12,29,12,30],[12,31,12,32],[12,33,12,34],[12,35,12,36],[11,0,11,6],[11,13,11,14],[11,15,11,16],[11,17,11,18],[11,19,11,20],[11,21,11,22],[10,23,10,24],[10,25,10,26],[10,27,10,28],[9,39,9,42],[10,13,10,14],[10,15,10,16],[10,17,10,18],[10,19,10,20],[10,21,10,22],[10,35,10,36],[10,37,10,38],[10,39,10,40],[10,41,10,42],[10,29,10,30],[10,31,10,32],[10,33,10,34],[4,4,4,7],[5,0,5,8],[6,3,6,8],[8,0,8,3],[9,15,9,18],[9,19,9,22],[3,31,8,31],[3,32,8,34],[3,35,8,35],[9,23,9,26],[9,27,9,30],[9,31,9,34],[9,35,9,38],[3,36,8,38],[3,39,8,39],[3,40,8,42],[2,39,2,42],[3,9,3,13],[3,15,8,15],[3,16,8,18],[3,19,8,19],[3,20,8,22],[3,23,8,23],[3,24,8,26],[3,27,8,27],[3,28,8,30],[1,0,2,8],[1,9,1,10],[1,15,1,22],[1,23,1,26],[1,27,1,29],[1,30,1,31],[1,32,1,33],[1,67,1,90],[2,9,2,14],[2,15,2,18],[2,19,2,22],[2,23,2,26],[2,27,2,30],[2,31,2,34],[2,35,2,38]]}
[]
["DB InfraGO AG \nRB Nord\nRegionale Instandsetzung ",null,null,null,null,null,null,null,null,"Blatt",null,{"$f":"IF('Haupteingabe Monat'!$Q43=\"\",\"\",'Haupteingabe Monat'!$Q43)","v":1},"/",{"$f":"IF('Haupteingabe Monat'!$R43=\"\",\"\",'Haupteingabe Monat'!$R43)","v":1},null,null,null,null,null,null,null,null,null,null,null,null,null,"Datum: ",null,null,"05.",null,{"$f":"'Haupteingabe Monat'!$H$1","v":"2025-07-01"},null,{"$f":"'Haupteingabe Monat'!$J$1","v":2025}]
[null,null,null,null,null,null,null,null,null,"SAP Arbeitsplatz",null,null,null,null,null,{"$f":"IF('Haupteingabe Monat'!$W43=\"\",\"\",'Haupteingabe Monat'!$W43)","v":""},null,null,null,{"$f":"IF('Haupteingabe Monat'!$AE43=\"\",\"\",'Haupteingabe Monat'!$AE43)","v":""},null,null,null,{"$f":"IF('Haupteingabe Monat'!$AM43=\"\",\"\",'Haupteingabe Monat'!$AM43)","v":""},null,null,null,{"$f":"IF('Haupteingabe Monat'!$AU43=\"\",\"\",'Haupteingabe Monat'!$AU43)","v":""}]
[null,null,null,null,null,null,null,null,null,"Sachbearb. etime: ",null,null,null,null,"SB3","Name",{"$f":"IF('Haupteingabe Monat'!$X43=\"\",\"\",'Haupteingabe Monat'!$X43)","v":""},null,null,"Name",{"$f":"IF('Haupteingabe Monat'!$AF43=\"\",\"\",'Haupteingabe Monat'!$AF43)","v":""},null,null,"Name",{"$f":"IF('Haupteingabe Monat'!$AN43=\"\",\"\",'Haupteingabe Monat'!$AN43)","v":""},null,null,"Name",{"$f":"IF('Haupteingabe Monat'!$AV43=\"\",\"\",'Haupteingabe Monat'!$AV43)","v":""},null,null,"Name",null,null,null,"Name",null,null,null,"Name"]
["Baustelle:",null,null,null,{"$f":"IF('Haupteingabe Monat'!$B43=\"\",\"\",'Haupteingabe Monat'!$B43)","v":""}]
[{"$f":"IF('Haupteingabe Monat'!$H43=\"\",\"\",'Haupteingabe Monat'!$H43)","v":""}]
[]
[]
["Auftragstyp:",null,null,null,{"$f":"IF('Haupteingabe Monat'!$I43=\"\",\"\",'Haupteingabe Monat'!$I43)","v":""}]
[null,null,null,null,null,null,null,null,null,null,null,null,null,null,null,"hh:min\nvon            bis",null,null,null,"hh:min\nvon            bis",null,null,null,"hh:min\nvon            bis",null,null,null,"hh:min\nvon            bis",null,null,null,"hh:min\nvon            bis",null,null,null,"hh:min\nvon            bis",null,null,null,"hh:min\nvon            bis"]
[null,null,null,null,null,null,null,null,null,null,null,null,null,"1. Arbeitszeit von ... bis …",null,{"$f":"IF('Haupteingabe Monat'!$Y43=\"\",\"\",'Haupteingabe Monat'!$Y43)","v":""},null,{"$f":"IF('Haupteingabe Monat'!$Z43=\"\",\"\",'Haupteingabe Monat'!$Z43)","v":""},null,{"$f":"IF('Haupteingabe Monat'!AG43=\"\",\"\",'Haupteingabe Monat'!AG43)","v":""},null,{"$f":"IF('Haupteingabe Monat'!AH43=\"\",\"\",'Haupteingabe Monat'!AH43)","v":""},null,{"$f":"IF('Haupteingabe Monat'!AO43=\"\",\"\",'Haupteingabe Monat'!AO43)","v":""},null,{"$f":"IF('Haupteingabe Monat'!AP43=\"\",\"\",'Haupteingabe Monat'!AP43)","v":""},null,{"$f":"IF('Haupteingabe Monat'!AW43=\"\",\"\",'Haupteingabe Monat'!AW43)","v":""},null,{"$f":"IF('Haupteingabe Monat'!AX43=\"\",\"\",'Haupteingabe Monat'!AX43)","v":""}]
["Auftragsveranwortlicher:",null,null,null,null,null,null,{"$f":"IF('Haupteingabe Monat'!$J43=\"\",\"\",'Haupteingabe Monat'!$J43)","v":""},null,null,null,null,null,"   Pause von ... bis ...",null,{"$f":"IF('Haupteingabe Monat'!$AA43=\"\",\"\",'Haupteingabe Monat'!$AA43)","v":""},null,{"$f":"IF('Haupteingabe Monat'!$AB43=\"\",\"\",'Haupteingabe Monat'!$AB43)","v":""},null,{"$f":"IF('Haupteingabe Monat'!AI43=\"\",\"\",'Haupteingabe Monat'!AI43)","v":""},null,{"$f":"IF('Haupteingabe Monat'!AJ43=\"\",\"\",'Haupteingabe Monat'!AJ43)","v":""},null,{"$f":"IF('Haupteingabe Monat'!AQ43=\"\",\"\",'Haupteingabe Monat'!AQ43)","v":""},null,{"$f":"IF('Haupteingabe Monat'!AR43=\"\",\"\",'Haupteingabe Monat'!AR43)","v":""},null,{"$f":"IF('Haupteingabe Monat'!AY43=\"\",\"\",'Haupteingabe Monat'!AY43)","v":""},null,{"$f":"IF('Haupteingabe Monat'!AZ43=\"\",\"\",'Haupteingabe Monat'!AZ43)","v":""}]
[null,null,null,null,null,null,null,null,null,null,null,null,null,"2. Arbeitszeit von ... bis ..."]
[null,null,null,null,null,null,null,null,null,null,null,null,null,"   Pause von ... bis ..."]
["SAP Vorgang",null,"FAT/AAA",null,null,null,"SAP*\nAuftragsnummer\n",null,"AAR\nKurznummer\n","Beschreibung der Tagesleistung\n",null,null,null,null,null,"anzurechnende",null,null,null,"anzurechnende",null,null,null,"anzurechnende",null,null,null,"anzurechnende",null,null,null,"anzurechnende",null,null,null,"anzurechnende",null,null,null,"anzurechnende"]
[null,null,null,null,null,null,null,null,null,null,null,null,null,null,null,"Arbeitszeit",null,null,null,"Arbeitszeit",null,null,null,"Arbeitszeit",null,null,null,"Arbeitszeit",null,null,null,"Arbeitszeit",null,null,null,"Arbeitszeit",null,null,null,"Arbeitszeit"]
[null,null,null,null,null,null,null,null,null,null,null,null,null,null,null,"(min)",null,null,null,"(min)",null,null,null,"(min)",null,null,null,"(min)",null,null,null,"(min)",null,null,null,"(min)",null,null,null,"(min)"]
[{"$f":"IF('Haupteingabe Monat'!$K43=\"\",\"\",'Haupteingabe Monat'!$K43)","v":""},null,{"$f":"IF('Haupteingabe Monat'!$L43=\"\",\"\",'Haupteingabe Monat'!$L43)","v":""},null,null,null,{"$f":"IF('Haupteingabe Monat'!$M43=\"\",\"\",'Haupteingabe Monat'!$M43)","v":""},null,{"$f":"IF('Haupteingabe Monat'!$N43=\"\",\"\",'Haupteingabe Monat'!$N43)","v":""},{"$f":"IF('Haupteingabe Monat'!$O43=\"\",\"\",'Haupteingabe Monat'!$O43)","v":""},null,null,null,null,null,{"$f":"IF($P$3=\"\",\"\",IF($J$18=\"JAZ\",\"0\",IF($J$18=\"Urlaub laufendes Jahr\",\"468\",SUM(IF($R$11>=$P$11,($R$11-$P$11)*24,(1-ABS($R$11-$P$11))*24),-IF($R$12>=$P$12,($R$12-$P$12)*24,(1-ABS($R$12-$P$12))*24))*60)))","v":""},null,null,null,{"$f":"IF($T$3=\"\",\"\",IF($T$3=$P$3,SUM(IF($V$11>=$T$11,($V$11-$T$11)*24,(1-ABS($V$11-$T$11))*24),-IF($V$12>=$T$12,($V$12-$T$12)*24,(1-ABS($V$12-$T$12))*24))*60,\"\"))","v":""},null,null,null,{"$f":"IF($X$3=\"\",\"\",IF($X$3=$P$3,SUM(IF($Z$11>=$X$11,($Z$11-$X$11)*24,(1-ABS($Z$11-$X$11))*24),-IF($Z$12>=$X$12,($Z$12-$X$12)*24,(1-ABS($Z$12-$X$12))*24))*60,\"\"))","v":""},null,null,null,{"$f":"IF($AB$3=\"\",\"\",IF($AB$3=$P$3,SUM(IF($AD$11>=$AB$11,($AD$11-$AB$11)*24,(1-ABS($AD$11-$AB$11))*24),-IF($AD$12>=$AB$12,($AD$12-$AB$12)*24,(1-ABS($AD$12-$AB$12))*24))*60,\"\"))","v":""},null,null,null,{"$f":"IF(AF11=\"\",\"\",SUM(IF(AH11>=AF11,(AH11-AF11)*24,(1-ABS(AH11-AF11))*24),-IF(AH12>=AF12,(AH12-AF12)*24,(1-ABS(AH12-AF12))*24))*60)","v":""},null,null,null,{"$f":"IF(AJ11=\"\",\"\",SUM(IF(AL11>=AJ11,(AL11-AJ11)*24,(1-ABS(AL11-AJ11))*24),-IF(AL12>=AJ12,(AL12-AJ12)*24,(1-ABS(AL12-AJ12))*24))*60)","v":""},null,null,null,{"$f":"IF(AN11=\"\",\"\",SUM(IF(AP11>=AN11,(AP11-AN11)*24,(1-ABS(AP11-AN11))*24),-IF(AP12>=AN12,(AP12-AN12)*24,(1-ABS(AP12-AN12))*24))*60)","v":""}]
[{"$f":"IF($T$3=\"\",\"\",IF(AND(ISNUMBER($T$19),ISTEXT($T$3)),_xlfn.XLOOKUP($T$3,Hilfen!$B$30:$B$32,Hilfen!$C$30:$C$32,\"\"),IF(AND(ISNUMBER($X$19),ISTEXT($X$3)),_xlfn.XLOOKUP($X$3,Hilfen!$B$30:$B$32,Hilfen!$C$30:$C$32,\"\"),IF(AND(ISNUMBER($AB$19),ISTEXT($AB$3)),_xlfn.XLOOKUP($AB$3,Hilfen!$B$30:$B$32,Hilfen!$C$30:$C$32,\"\"),\"\"))))","v":""},null,{"$f":"IF($A19=\"\",\"\",C$18)","v":""},null,null,null,{"$f":"IF($A19=\"\",\"\",$G18)","v":""},null,{"$f":"IF($A19=\"\",\"\",$I18)","v":""},{"$f":"IF($A19=\"\",\"\",$J18)","v":""},null,null,null,null,null,null,null,null,null,{"$f":"IF($T$3=\"\",\"\",IF($T$3=$P$3,\"\",IF($T$3<>$P$3,SUM(IF($V$11>=$T$11,($V$11-$T$11)*24,(1-ABS($V$11-$T$11))*24),-IF($V$12>=$T$12,($V$12-$T$12)*24,(1-ABS($V$12-$T$12))*24))*60,\"\")))","v":""},null,null,null,{"$f":"IF($X$3=\"\",\"\",IF($X$3=$P$3,\"\",IF($T$3=$P$3,SUM(IF($Z$11>=$X$11,($Z$11-$X$11)*24,(1-ABS($Z$11-$X$11))*24),-IF($Z$12>=$X$12,($Z$12-$X$12)*24,(1-ABS($Z$12-$X$12))*24))*60,IF(AND($X$3=\"SOFD\",$T$3=\"SOWMED\"),\"\",IF(AND($X$3=\"SOSMED\",$T$3=\"SOWMED\"),\"\",IF(AND($X$3=\"SOWMED\",$T$3=\"SOFD\"),\"\",IF(AND($X$3=\"SOWMED\",$T$3=\"SOSMED\"),\"\",IF(AND($X$3=\"SOFD\",$T$3=\"SOSMED\"),\"\",IF(AND($X$3=\"SOSMED\",$T$3=\"SOFD\"),\"\",SUM(IF($Z$11>=$X$11,($Z$11-$X$11)*24,(1-ABS($Z$11-$X$11))*24),-IF($Z$12>=$X$12,($Z$12-$X$12)*24,(1-ABS($Z$12-$X$12))*24))*60)))))))))","v":""},null,null,null,{"$f":"IF($AB$3=\"\",\"\",IF($AB$3=$P$3,\"\",IF($AB$3=$T$3,SUM(IF($AD$11>=$AB$11,($AD$11-$AB$11)*24,(1-ABS($AD$11-$AB$11))*24),-IF($AD$12>=$AB$12,($AD$12-$AB$12)*24,(1-ABS($AD$12-$AB$12))*24))*60,IF(AND($AB$3=$X$3,$X$19=\"\"),\"\",IF($AB$3=$X$3,SUM(IF($AD$11>=$AB$11,($AD$11-$AB$11)*24,(1-ABS($AD$11-$AB$11))*24),-IF($AD$12>=$AB$12,($AD$12-$AB$12)*24,(1-ABS($AD$12-$AB$12))*24))*60,IF(AND($T$19=\"\",$X$19=\"\"),SUM(IF($AD$11>=$AB$11,($AD$11-$AB$11)*24,(1-ABS($AD$11-$AB$11))*24),-IF($AD$12>=$AB$12,($AD$12-$AB$12)*24,(1-ABS($AD$12-$AB$12))*24))*60,\"\"))))))","v":""}]
[{"$f":"IF($X$3=\"\",\"\",IF(AND(ISNUMBER($X$20),ISTEXT($X$3)),_xlfn.XLOOKUP($X$3,Hilfen!$B$30:$B$32,Hilfen!$C$30:$C$32,\"\"),IF(AND(ISNUMBER($AB$20),ISTEXT($AB$3)),_xlfn.XLOOKUP($AB$3,Hilfen!$B$30:$B$32,Hilfen!$C$30:$C$32,\"\"),\"\")))","v":""},null,{"$f":"IF($A$20=\"\",\"\",C$18)","v":""},null,null,null,{"$f":"IF($A$20=\"\",\"\",G$18)","v":""},null,{"$f":"IF($A$20=\"\",\"\",I$18)","v":""},{"$f":"IF($A$20=\"\",\"\",J$18)","v":""},null,null,null,null,null,null,null,null,null,null,null,null,null,{"$f":"IF($X$3=\"\",\"\",IF($T$3=$P$3,\"\",IF($X$3=$P$3,\"\",IF($X$3=$T$3,\"\",SUM(IF($Z$11>=$X$11,($Z$11-$X$11)*24,(1-ABS($Z$11-$X$11))*24),-IF($Z$12>=$X$12,($Z$12-$X$12)*24,(1-ABS($Z$12-$X$12))*24))*60))))","v":""},null,null,null,{"$f":"IF($AB$3=\"\",\"\",IF($AB$3=$P$3,\"\",IF($AB$3=$T$3,\"\",IF($AB$3=$X$3,$X$20,IF(ISNUMBER($AB$19),\"\",SUM(IF($AD$11>=$AB$11,($AD$11-$AB$11)*24,(1-ABS($AD$11-$AB$11))*24),-IF($AD$12>=$AB$12,($AD$12-$AB$12)*24,(1-ABS($AD$12-$AB$12))*24))*60)))))","v":""}]
[]
[]
[]
[]
[]
[{"$f":"IF('Haupteingabe Monat'!$S43=\"\",\"\",'Haupteingabe Monat'!$S43)","v":""},null,"Beschreibung der Tagesleistung bei FAT-Katalog 2"]
[{"$f":"IF('Haupteingabe Monat'!$P43=\"\",\"\",'Haupteingabe Monat'!$P43)","v":""}]
[]
[]
["Meine Angaben sind vollständig \nund richtig",null,null,null,null,null,null,"Für den Auftraggeber (nur bei Bedarf) \nLeistung anerkannt",null,null,null,null,null,"Sachlich richtig: ",null,null,null,null,null,null,null,"in eTime gebucht",null,null,null,null,null,null,null,null,"in SAP gebucht"]
["Name",null,{"$f":"$Q$4","v":""},null,null,null,null,"Name",null,null,null,null,null,"Datum",null,"Unterschrift",null,null,null,null,null,"Datum",null,null,null,null,null,null,null,null,"Datum"]
["Datum",null,{"$f":"$AE$2","v":"05."},null,{"$f":"$AG$2","v":"2025-07-01"},null,{"$f":"$AI$2","v":2025},"Datum",null,null,null,null,null,"Name",{"$f":"IF($H$12=\"\",\"\",VLOOKUP($H$12,Hilfen!$F$1:$H$8,2,FALSE))","v":""},null,null,null,null,null,null,"Namens-zeichen",null,null,null,null,null,null,null,null,"Namens-zeichen"]
["Unterschrift",null,null,null,null,null,null,"Firma",null,null,null,null,null,"Vorname",{"$f":"IF($H$12=\"\",\"\",VLOOKUP($H$12,Hilfen!$F$1:$H$8,3,FALSE))","v":""}]
[null,null,null,null,null,null,null,"Unterschrift"]
[null,null,null,null,null,null,null,null,null,null,null,null,null,null,null,null,null,null,null,null,null,"Unvollständig oder fehlerhaft ausgefüllte Belege werden nicht gebucht; RIL 187.1001 !"]

{"sheet":"06 Trupp 1","index":13,"n_rows":35,"n_cols":40,"rows_kept":35,"cut":false,"hidden":false,"merged":[[32,13,33,13],[32,14,33,14],[34,21,35,42],[1,34,1,37],[30,24,30,29],[30,30,30,32],[30,33,30,42],[31,0,31,1],[31,2,31,3],[31,9,31,12],[31,21,33,23],[31,24,33,29],[31,30,33,32],[31,33,33,42],[30,0,30,1],[30,2,30,6],[30,7,30,8],[30,9,30,12],[30,15,33,20],[30,21,30,23],[32,0,33,1],[32,2,33,6],[32,7,32,8],[32,10,32,12],[25,0,25,1],[25,2,25,42],[26,0,28,42],[29,0,29,6],[29,7,29,12],[29,13,29,20],[29,21,29,29],[29,30,29,42],[24,19,24,22],[24,23,24,26],[24,27,24,30],[24,31,24,34],[24,35,24,38],[24,39,24,42],[23,23,23,26],[23,27,23,30],[23,31,23,34],[23,35,23,38],[23,39,23,42],[24,0,24,1],[24,2,24,5],[24,6,24,7],[24,9,24,14],[24,15,24,18],[23,0,23,1],[23,2,23,5],[23,6,23,7],[23,9,23,14],[23,15,23,18],[23,19,23,22],[22,19,22,22],[22,23,22,26],[22,27,22,30],[22,31,22,34],[22,35,22,38],[22,39,22,42],[21,23,21,26],[21,27,21,30],[21,31,21,34],[21,35,21,38],[21,39,21,42],[21,19,21,22],[22,0,22,1],[22,2,22,4],[22,6,22,7],[22,9,22,14],[22,15,22,18],[21,0,21,1],[21,2,21,4],[21,6,21,7],[21,9,21,14],[21,15,21,18],[20,19,20,22],[20,23,20,26],[20,27,20,30],[20,31,20,34],[20,35,20,38],[20,39,20,42],[19,23,19,26],[19,27,19,30],[19,31,19,34],[19,35,19,38],[19,39,19,42],[19,19,19,22],[20,0,20,1],[20,2,20,4],[20,6,20,7],[20,9,20,14],[20,15,20,18],[19,0,19,1],[19,2,19,4],[19,6,19,7],[19,9,19,14],[19,15,19,18],[18,19,18,22],[18,23,18,26],[18,27,18,30],[18,31,18,34],[18,35,18,38],[18,39,18,42],[17,23,17,26],[17,27,17,30],[17,31,17,34],[17,35,17,38],[17,39,17,42],[17,19,17,22],[18,0,18,1],[18,2,18,5],[18,6,18,7],[18,9,18,14],[18,15,18,18],[17,0,17,1],[17,2,17,5],[17,6,17,7],[17,9,17,14],[17,15,17,18],[14,27,14,30],[14,31,14,34],[14,35,14,38],[14,39,14,42],[15,15,15,18],[15,19,15,22],[15,23,15,26],[15,27,15,30],[15,31,15,34],[15,35,15,38],[13,39,13,40],[13,41,13,42],[14,0,16,1],[14,2,16,5],[14,6,16,7],[14,8,16,8],[14,9,16,14],[14,15,14,18],[14,19,14,22],[14,23,14,26],[13,27,13,28],[13,29,13,30],[13,31,13,32],[13,33,13,34],[13,35,13,36],[13,37,13,38],[15,39,15,42],[16,15,16,18],[16,19,16,22],[16,23,16,26],[16,27,16,30],[16,31,16,34],[16,35,16,38],[16,39,16,42],[13,13,13,14],[13,15,13,16],[13,17,13,18],[13,19,13,20],[13,21,13,22],[13,23,13,24],[13,25,13,26],[12,25,12,26],[12,27,12,28],[11,35,11,36],[11,37,11,38],[11,39,11,40],[11,41,11,42],[12,13,12,14],[12,15,12,16],[12,17,12,18],[12,19,12,20],[12,21,12,22],[12,23,12,24],[11,23,11,24],[11,25,11,26],[11,27,11,28],[11,29,11,30],[11,31,11,32],[11,33,11,34],[12,37,12,38],[12,39,12,40],[12,41,12,42],[12,29,12,30],[12,31,12,32],[12,33,12,34],[12,35,12,36],[11,0,11,6],[11,13,11,14],[11,15,11,16],[11,17,11,18],[11,19,11,20],[11,21,11,22],[10,23,10,24],[10,25,10,26],[10,27,10,28],[9,39,9,42],[10,13,10,14],[10,15,10,16],[10,17,10,18],[10,19,10,20],[10,21,10,22],[10,35,10,36],[10,37,10,38],[10,39,10,40],[10,41,10,42],[10,29,10,30],[10,31,10,32],[10,33,10,34],[4,4,4,7],[5,0,5,8],[6,3,6,8],[8,0,8,3],[9,15,9,18],[9,19,9,22],[3,31,8,31],[3,32,8,34],[3,35,8,35],[9,23,9,26],[9,27,9,30],[9,31,9,34],[9,35,9,38],[3,36,8,38],[3,39,8,39],[3,40,8,42],[2,39,2,42],[3,9,3,13],[3,15,8,15],[3,16,8,18],[3,19,8,19],[3,20,8,22],[3,23,8,23],[3,24,8,26],[3,27,8,27],[3,28,8,30],[1,0,2,8],[1,9,1,10],[1,15,1,22],[1,23,1,26],[1,27,1,29],[1,30,1,31],[1,32,1,33],[1,67,1,90],[2,9,2,14],[2,15,2,18],[2,19,2,22],[2,23,2,26],[2,27,2,30],[2,31,2,34],[2,35,2,38]]}
[]
["DB InfraGO AG \nRB Nord\nRegionale Instandsetzung ",null,null,null,null,null,null,null,null,"Blatt",null,{"$f":"IF('Haupteingabe Monat'!$Q9=\"\",\"\",'Haupteingabe Monat'!$Q9)","v":1},"/",{"$f":"IF('Haupteingabe Monat'!$R9=\"\",\"\",'Haupteingabe Monat'!$R9)","v":1},null,null,null,null,null,null,null,null,null,null,null,null,null,"Datum: ",null,null,"06.",null,{"$f":"'Haupteingabe Monat'!$H$1","v":"2025-07-01"},null,{"$f":"'Haupteingabe Monat'!$J$1","v":2025}]
[null,null,null,null,null,null,null,null,null,"SAP Arbeitsplatz",null,null,null,null,null,{"$f":"IF('Haupteingabe Monat'!$W9=\"\",\"\",'Haupteingabe Monat'!$W9)","v":""},null,null,null,{"$f":"IF('Haupteingabe Monat'!$AE9=\"\",\"\",'Haupteingabe Monat'!$AE9)","v":""},null,null,null,{"$f":"IF('Haupteingabe Monat'!$AM9=\"\",\"\",'Haupteingabe Monat'!$AM9)","v":""},null,null,null,{"$f":"IF('Haupteingabe Monat'!$AU9=\"\",\"\",'Haupteingabe Monat'!$AU9)","v":""}]
[null,null,null,null,null,null,null,null,null,"Sachbearb. etime: ",null,null,null,null,"SB3","Name",{"$f":"IF('Haupteingabe Monat'!$X9=\"\",\"\",'Haupteingabe Monat'!$X9)","v":""},null,null,"Name",{"$f":"IF('Haupteingabe Monat'!$AF9=\"\",\"\",'Haupteingabe Monat'!$AF9)","v":""},null,null,"Name",{"$f":"IF('Haupteingabe Monat'!$AN9=\"\",\"\",'Haupteingabe Monat'!$AN9)","v":""},null,null,"Name",{"$f":"IF('Haupteingabe Monat'!$AV9=\"\",\"\",'Haupteingabe Monat'!$AV9)","v":""},null,null,"Name",null,null,null,"Name",null,null,null,"Name"]
["Baustelle:",null,null,null,{"$f":"IF('Haupteingabe Monat'!$B9=\"\",\"\",'Haupteingabe Monat'!$B9)","v":""}]
[{"$f":"IF('Haupteingabe Monat'!$H9=\"\",\"\",'Haupteingabe Monat'!$H9)","v":""}]
[]
[]
["Auftragstyp:",null,null,null,{"$f":"IF('Haupteingabe Monat'!$I9=\"\",\"\",'Haupteingabe Monat'!$I9)","v":""}]
[null,null,null,null,null,null,null,null,null,null,null,null,null,null,null,"hh:min\nvon            bis",null,null,null,"hh:min\nvon            bis",null,null,null,"hh:min\nvon            bis",null,null,null,"hh:min\nvon            bis",null,null,null,"hh:min\nvon            bis",null,null,null,"hh:min\nvon            bis",null,null,null,"hh:min\nvon            bis"]
[null,null,null,null,null,null,null,null,null,null,null,null,null,"1. Arbeitszeit von ... bis …",null,{"$f":"IF('Haupteingabe Monat'!$Y9=\"\",\"\",'Haupteingabe Monat'!$Y9)","v":""},null,{"$f":"IF('Haupteingabe Monat'!$Z9=\"\",\"\",'Haupteingabe Monat'!$Z9)","v":""},null,{"$f":"IF('Haupteingabe Monat'!AG9=\"\",\"\",'Haupteingabe Monat'!AG9)","v":""},null,{"$f":"IF('Haupteingabe Monat'!AH9=\"\",\"\",'Haupteingabe Monat'!AH9)","v":""},null,{"$f":"IF('Haupteingabe Monat'!AO9=\"\",\"\",'Haupteingabe Monat'!AO9)","v":""},null,{"$f":"IF('Haupteingabe Monat'!AP9=\"\",\"\",'Haupteingabe Monat'!AP9)","v":""},null,{"$f":"IF('Haupteingabe Monat'!AW9=\"\",\"\",'Haupteingabe Monat'!AW9)","v":""},null,{"$f":"IF('Haupteingabe Monat'!AX9=\"\",\"\",'Haupteingabe Monat'!AX9)","v":""}]
["Auftragsveranwortlicher:",null,null,null,null,null,null,{"$f":"IF('Haupteingabe Monat'!$J9=\"\",\"\",'Haupteingabe Monat'!$J9)","v":""},null,null,null,null,null,"   Pause von ... bis ...",null,{"$f":"IF('Haupteingabe Monat'!$AA9=\"\",\"\",'Haupteingabe Monat'!$AA9)","v":""},null,{"$f":"IF('Haupteingabe Monat'!$AB9=\"\",\"\",'Haupteingabe Monat'!$AB9)","v":""},null,{"$f":"IF('Haupteingabe Monat'!AI9=\"\",\"\",'Haupteingabe Monat'!AI9)","v":""},null,{"$f":"IF('Haupteingabe Monat'!AJ9=\"\",\"\",'Haupteingabe Monat'!AJ9)","v":""},null,{"$f":"IF('Haupteingabe Monat'!AQ9=\"\",\"\",'Haupteingabe Monat'!AQ9)","v":""},null,{"$f":"IF('Haupteingabe Monat'!AR9=\"\",\"\",'Haupteingabe Monat'!AR9)","v":""},null,{"$f":"IF('Haupteingabe Monat'!AY9=\"\",\"\",'Haupteingabe Monat'!AY9)","v":""},null,{"$f":"IF('Haupteingabe Monat'!AZ9=\"\",\"\",'Haupteingabe Monat'!AZ9)","v":""}]
[null,null,null,null,null,null,null,null,null,null,null,null,null,"2. Arbeitszeit von ... bis ..."]
[null,null,null,null,null,null,null,null,null,null,null,null,null,"   Pause von ... bis ..."]
["SAP Vorgang",null,"FAT/AAA",null,null,null,"SAP*\nAuftragsnummer\n",null,"AAR\nKurznummer\n","Beschreibung der Tagesleistung\n",null,null,null,null,null,"anzurechnende",null,null,null,"anzurechnende",null,null,null,"anzurechnende",null,null,null,"anzurechnende",null,null,null,"anzurechnende",null,null,null,"anzurechnende",null,null,null,"anzurechnende"]
[null,null,null,null,null,null,null,null,null,null,null,null,null,null,null,"Arbeitszeit",null,null,null,"Arbeitszeit",null,null,null,"Arbeitszeit",null,null,null,"Arbeitszeit",null,null,null,"Arbeitszeit",null,null,null,"Arbeitszeit",null,null,null,"Arbeitszeit"]
[null,null,null,null,null,null,null,null,null,null,null,null,null,null,null,"(min)",null,null,null,"(min)",null,null,null,"(min)",null,null,null,"(min)",null,null,null,"(min)",null,null,null,"(min)",null,null,null,"(min)"]
[{"$f":"IF('Haupteingabe Monat'!$K9=\"\",\"\",'Haupteingabe Monat'!$K9)","v":""},null,{"$f":"IF('Haupteingabe Monat'!$L9=\"\",\"\",'Haupteingabe Monat'!$L9)","v":""},null,null,null,{"$f":"IF('Haupteingabe Monat'!$M9=\"\",\"\",'Haupteingabe Monat'!$M9)","v":""},null,{"$f":"IF('Haupteingabe Monat'!$N9=\"\",\"\",'Haupteingabe Monat'!$N9)","v":""},{"$f":"IF('Haupteingabe Monat'!$O9=\"\",\"\",'Haupteingabe Monat'!$O9)","v":""},null,null,null,null,null,{"$f":"IF($P$3=\"\",\"\",IF($J$18=\"JAZ\",\"0\",IF($J$18=\"Urlaub laufendes Jahr\",\"468\",SUM(IF($R$11>=$P$11,($R$11-$P$11)*24,(1-ABS($R$11-$P$11))*24),-IF($R$12>=$P$12,($R$12-$P$12)*24,(1-ABS($R$12-$P$12))*24))*60)))","v":""},null,null,null,{"$f":"IF($T$3=\"\",\"\",IF($T$3=$P$3,SUM(IF($V$11>=$T$11,($V$11-$T$11)*24,(1-ABS($V$11-$T$11))*24),-IF($V$12>=$T$12,($V$12-$T$12)*24,(1-ABS($V$12-$T$12))*24))*60,\"\"))","v":""},null,null,null,{"$f":"IF($X$3=\"\",\"\",IF($X$3=$P$3,SUM(IF($Z$11>=$X$11,($Z$11-$X$11)*24,(1-ABS($Z$11-$X$11))*24),-IF($Z$12>=$X$12,($Z$12-$X$12)*24,(1-ABS($Z$12-$X$12))*24))*60,\"\"))","v":""},null,null,null,{"$f":"IF($AB$3=\"\",\"\",IF($AB$3=$P$3,SUM(IF($AD$11>=$AB$11,($AD$11-$AB$11)*24,(1-ABS($AD$11-$AB$11))*24),-IF($AD$12>=$AB$12,($AD$12-$AB$12)*24,(1-ABS($AD$12-$AB$12))*24))*60,\"\"))","v":""},null,null,null,{"$f":"IF(AF11=\"\",\"\",SUM(IF(AH11>=AF11,(AH11-AF11)*24,(1-ABS(AH11-AF11))*24),-IF(AH12>=AF12,(AH12-AF12)*24,(1-ABS(AH12-AF12))*24))*60)","v":""},null,null,null,{"$f":"IF(AJ11=\"\",\"\",SUM(IF(AL11>=AJ11,(AL11-AJ11)*24,(1-ABS(AL11-AJ11))*24),-IF(AL12>=AJ12,(AL12-AJ12)*24,(1-ABS(AL12-AJ12))*24))*60)","v":""},null,null,null,{"$f":"IF(AN11=\"\",\"\",SUM(IF(AP11>=AN11,(AP11-AN11)*24,(1-ABS(AP11-AN11))*24),-IF(AP12>=AN12,(AP12-AN12)*24,(1-ABS(AP12-AN12))*24))*60)","v":""}]
[{"$f":"IF($T$3=\"\",\"\",IF(AND(ISNUMBER($T$19),ISTEXT($T$3)),_xlfn.XLOOKUP($T$3,Hilfen!$B$30:$B$32,Hilfen!$C$30:$C$32,\"\"),IF(AND(ISNUMBER($X$19),ISTEXT($X$3)),_xlfn.XLOOKUP($X$3,Hilfen!$B$30:$B$32,Hilfen!$C$30:$C$32,\"\"),IF(AND(ISNUMBER($AB$19),ISTEXT($AB$3)),_xlfn.XLOOKUP($AB$3,Hilfen!$B$30:$B$32,Hilfen!$C$30:$C$32,\"\"),\"\"))))","v":""},null,{"$f":"IF($A19=\"\",\"\",C$18)","v":""},null,null,null,{"$f":"IF($A19=\"\",\"\",$G18)","v":""},null,{"$f":"IF($A19=\"\",\"\",$I18)","v":""},{"$f":"IF($A19=\"\",\"\",$J18)","v":""},null,null,null,null,null,null,null,null,null,{"$f":"IF($T$3=\"\",\"\",IF($T$3=$P$3,\"\",IF($T$3<>$P$3,SUM(IF($V$11>=$T$11,($V$11-$T$11)*24,(1-ABS($V$11-$T$11))*24),-IF($V$12>=$T$12,($V$12-$T$12)*24,(1-ABS($V$12-$T$12))*24))*60,\"\")))","v":""},null,null,null,{"$f":"IF($X$3=\"\",\"\",IF($X$3=$P$3,\"\",IF($T$3=$P$3,SUM(IF($Z$11>=$X$11,($Z$11-$X$11)*24,(1-ABS($Z$11-$X$11))*24),-IF($Z$12>=$X$12,($Z$12-$X$12)*24,(1-ABS($Z$12-$X$12))*24))*60,IF(AND($X$3=\"SOFD\",$T$3=\"SOWMED\"),\"\",IF(AND($X$3=\"SOSMED\",$T$3=\"SOWMED\"),\"\",IF(AND($X$3=\"SOWMED\",$T$3=\"SOFD\"),\"\",IF(AND($X$3=\"SOWMED\",$T$3=\"SOSMED\"),\"\",IF(AND($X$3=\"SOFD\",$T$3=\"SOSMED\"),\"\",IF(AND($X$3=\"SOSMED\",$T$3=\"SOFD\"),\"\",SUM(IF($Z$11>=$X$11,($Z$11-$X$11)*24,(1-ABS($Z$11-$X$11))*24),-IF($Z$12>=$X$12,($Z$12-$X$12)*24,(1-ABS($Z$12-$X$12))*24))*60)))))))))","v":""},null,null,null,{"$f":"IF($AB$3=\"\",\"\",IF($AB$3=$P$3,\"\",IF($AB$3=$T$3,SUM(IF($AD$11>=$AB$11,($AD$11-$AB$11)*24,(1-ABS($AD$11-$AB$11))*24),-IF($AD$12>=$AB$12,($AD$12-$AB$12)*24,(1-ABS($AD$12-$AB$12))*24))*60,IF(AND($AB$3=$X$3,$X$19=\"\"),\"\",IF($AB$3=$X$3,SUM(IF($AD$11>=$AB$11,($AD$11-$AB$11)*24,(1-ABS($AD$11-$AB$11))*24),-IF($AD$12>=$AB$12,($AD$12-$AB$12)*24,(1-ABS($AD$12-$AB$12))*24))*60,IF(AND($T$19=\"\",$X$19=\"\"),SUM(IF($AD$11>=$AB$11,($AD$11-$AB$11)*24,(1-ABS($AD$11-$AB$11))*24),-IF($AD$12>=$AB$12,($AD$12-$AB$12)*24,(1-ABS($AD$12-$AB$12))*24))*60,\"\"))))))","v":""}]
[{"$f":"IF($X$3=\"\",\"\",IF(AND(ISNUMBER($X$20),ISTEXT($X$3)),_xlfn.XLOOKUP($X$3,Hilfen!$B$30:$B$32,Hilfen!$C$30:$C$32,\"\"),IF(AND(ISNUMBER($AB$20),ISTEXT($AB$3)),_xlfn.XLOOKUP($AB$3,Hilfen!$B$30:$B$32,Hilfen!$C$30:$C$32,\"\"),\"\")))","v":""},null,{"$f":"IF($A$20=\"\",\"\",C$18)","v":""},null,null,null,{"$f":"IF($A$20=\"\",\"\",G$18)","v":""},null,{"$f":"IF($A$20=\"\",\"\",I$18)","v":""},{"$f":"IF($A$20=\"\",\"\",J$18)","v":""},null,null,null,null,null,null,null,null,null,null,null,null,null,{"$f":"IF($X$3=\"\",\"\",IF($T$3=$P$3,\"\",IF($X$3=$P$3,\"\",IF($X$3=$T$3,\"\",SUM(IF($Z$11>=$X$11,($Z$11-$X$11)*24,(1-ABS($Z$11-$X$11))*24),-IF($Z$12>=$X$12,($Z$12-$X$12)*24,(1-ABS($Z$12-$X$12))*24))*60))))","v":""},null,null,null,{"$f":"IF($AB$3=\"\",\"\",IF($AB$3=$P$3,\"\",IF($AB$3=$T$3,\"\",IF($AB$3=$X$3,$X$20,IF(ISNUMBER($AB$19),\"\",SUM(IF($AD$11>=$AB$11,($AD$11-$AB$11)*24,(1-ABS($AD$11-$AB$11))*24),-IF($AD$12>=$AB$12,($AD$12-$AB$12)*24,(1-ABS($AD$12-$AB$12))*24))*60)))))","v":""}]
[]
[]
[]
[]
[]
[{"$f":"IF('Haupteingabe Monat'!$S9=\"\",\"\",'Haupteingabe Monat'!$S9)","v":""},null,"Beschreibung der Tagesleistung bei FAT-Katalog 2"]
[{"$f":"IF('Haupteingabe Monat'!$P9=\"\",\"\",'Haupteingabe Monat'!$P9)","v":""}]
[]
[]
["Meine Angaben sind vollständig \nund richtig",null,null,null,null,null,null,"Für den Auftraggeber (nur bei Bedarf) \nLeistung anerkannt",null,null,null,null,null,"Sachlich richtig: ",null,null,null,null,null,null,null,"in eTime gebucht",null,null,null,null,null,null,null,null,"in SAP gebucht"]
["Name",null,{"$f":"$Q$4","v":""},null,null,null,null,"Name",null,null,null,null,null,"Datum",null,"Unterschrift",null,null,null,null,null,"Datum",null,null,null,null,null,null,null,null,"Datum"]
["Datum",null,{"$f":"$AE$2","v":"06."},null,{"$f":"$AG$2","v":"2025-07-01"},null,{"$f":"$AI$2","v":2025},"Datum",null,null,null,null,null,"Name",{"$f":"IF($H$12=\"\",\"\",VLOOKUP($H$12,Hilfen!$F$1:$H$8,2,FALSE))","v":""},null,null,null,null,null,null,"Namens-zeichen",null,null,null,null,null,null,null,null,"Namens-zeichen"]
["Unterschrift",null,null,null,null,null,null,"Firma",null,null,null,null,null,"Vorname",{"$f":"IF($H$12=\"\",\"\",VLOOKUP($H$12,Hilfen!$F$1:$H$8,3,FALSE))","v":""}]
[null,null,null,null,null,null,null,"Unterschrift"]
[null,null,null,null,null,null,null,null,null,null,null,null,null,null,null,null,null,null,null,null,null,"Unvollständig oder fehlerhaft ausgefüllte Belege werden nicht gebucht; RIL 187.1001 !"]

{"sheet":"06 Trupp 2","index":14,"n_rows":35,"n_cols":40,"rows_kept":35,"cut":false,"hidden":false,"merged":[[32,13,33,13],[32,14,33,14],[34,21,35,42],[1,34,1,37],[30,24,30,29],[30,30,30,32],[30,33,30,42],[31,0,31,1],[31,2,31,3],[31,9,31,12],[31,21,33,23],[31,24,33,29],[31,30,33,32],[31,33,33,42],[30,0,30,1],[30,2,30,6],[30,7,30,8],[30,9,30,12],[30,15,33,20],[30,21,30,23],[32,0,33,1],[32,2,33,6],[32,7,32,8],[32,10,32,12],[25,0,25,1],[25,2,25,42],[26,0,28,42],[29,0,29,6],[29,7,29,12],[29,13,29,20],[29,21,29,29],[29,30,29,42],[24,19,24,22],[24,23,24,26],[24,27,24,30],[24,31,24,34],[24,35,24,38],[24,39,24,42],[23,23,23,26],[23,27,23,30],[23,31,23,34],[23,35,23,38],[23,39,23,42],[24,0,24,1],[24,2,24,5],[24,6,24,7],[24,9,24,14],[24,15,24,18],[23,0,23,1],[23,2,23,5],[23,6,23,7],[23,9,23,14],[23,15,23,18],[23,19,23,22],[22,19,22,22],[22,23,22,26],[22,27,22,30],[22,31,22,34],[22,35,22,38],[22,39,22,42],[21,23,21,26],[21,27,21,30],[21,31,21,34],[21,35,21,38],[21,39,21,42],[21,19,21,22],[22,0,22,1],[22,2,22,4],[22,6,22,7],[22,9,22,14],[22,15,22,18],[21,0,21,1],[21,2,21,4],[21,6,21,7],[21,9,21,14],[21,15,21,18],[20,19,20,22],[20,23,20,26],[20,27,20,30],[20,31,20,34],[20,35,20,38],[20,39,20,42],[19,23,19,26],[19,27,19,30],[19,31,19,34],[19,35,19,38],[19,39,19,42],[19,19,19,22],[20,0,20,1],[20,2,20,4],[20,6,20,7],[20,9,20,14],[20,15,20,18],[19,0,19,1],[19,2,19,4],[19,6,19,7],[19,9,19,14],[19,15,19,18],[18,19,18,22],[18,23,18,26],[18,27,18,30],[18,31,18,34],[18,35,18,38],[18,39,18,42],[17,23,17,26],[17,27,17,30],[17,31,17,34],[17,35,17,38],[17,39,17,42],[17,19,17,22],[18,0,18,1],[18,2,18,5],[18,6,18,7],[18,9,18,14],[18,15,18,18],[17,0,17,1],[17,2,17,5],[17,6,17,7],[17,9,17,14],[17,15,17,18],[14,27,14,30],[14,31,14,34],[14,35,14,38],[14,39,14,42],[15,15,15,18],[15,19,15,22],[15,23,15,26],[15,27,15,30],[15,31,15,34],[15,35,15,38],[13,39,13,40],[13,41,13,42],[14,0,16,1],[14,2,16,5],[14,6,16,7],[14,8,16,8],[14,9,16,14],[14,15,14,18],[14,19,14,22],[14,23,14,26],[13,27,13,28],[13,29,13,30],[13,31,13,32],[13,33,13,34],[13,35,13,36],[13,37,13,38],[15,39,15,42],[16,15,16,18],[16,19,16,22],[16,23,16,26],[16,27,16,30],[16,31,16,34],[16,35,16,38],[16,39,16,42],[13,13,13,14],[13,15,13,16],[13,17,13,18],[13,19,13,20],[13,21,13,22],[13,23,13,24],[13,25,13,26],[12,25,12,26],[12,27,12,28],[11,35,11,36],[11,37,11,38],[11,39,11,40],[11,41,11,42],[12,13,12,14],[12,15,12,16],[12,17,12,18],[12,19,12,20],[12,21,12,22],[12,23,12,24],[11,23,11,24],[11,25,11,26],[11,27,11,28],[11,29,11,30],[11,31,11,32],[11,33,11,34],[12,37,12,38],[12,39,12,40],[12,41,12,42],[12,29,12,30],[12,31,12,32],[12,33,12,34],[12,35,12,36],[11,0,11,6],[11,13,11,14],[11,15,11,16],[11,17,11,18],[11,19,11,20],[11,21,11,22],[10,23,10,24],[10,25,10,26],[10,27,10,28],[9,39,9,42],[10,13,10,14],[10,15,10,16],[10,17,10,18],[10,19,10,20],[10,21,10,22],[10,35,10,36],[10,37,10,38],[10,39,10,40],[10,41,10,42],[10,29,10,30],[10,31,10,32],[10,33,10,34],[4,4,4,7],[5,0,5,8],[6,3,6,8],[8,0,8,3],[9,15,9,18],[9,19,9,22],[3,31,8,31],[3,32,8,34],[3,35,8,35],[9,23,9,26],[9,27,9,30],[9,31,9,34],[9,35,9,38],[3,36,8,38],[3,39,8,39],[3,40,8,42],[2,39,2,42],[3,9,3,13],[3,15,8,15],[3,16,8,18],[3,19,8,19],[3,20,8,22],[3,23,8,23],[3,24,8,26],[3,27,8,27],[3,28,8,30],[1,0,2,8],[1,9,1,10],[1,15,1,22],[1,23,1,26],[1,27,1,29],[1,30,1,31],[1,32,1,33],[1,67,1,90],[2,9,2,14],[2,15,2,18],[2,19,2,22],[2,23,2,26],[2,27,2,30],[2,31,2,34],[2,35,2,38]]}
[]
["DB InfraGO AG \nRB Nord\nRegionale Instandsetzung ",null,null,null,null,null,null,null,null,"Blatt",null,{"$f":"IF('Haupteingabe Monat'!$Q44=\"\",\"\",'Haupteingabe Monat'!$Q44)","v":1},"/",{"$f":"IF('Haupteingabe Monat'!$R44=\"\",\"\",'Haupteingabe Monat'!$R44)","v":1},null,null,null,null,null,null,null,null,null,null,null,null,null,"Datum: ",null,null,"06.",null,{"$f":"'Haupteingabe Monat'!$H$1","v":"2025-07-01"},null,{"$f":"'Haupteingabe Monat'!$J$1","v":2025}]
[null,null,null,null,null,null,null,null,null,"SAP Arbeitsplatz",null,null,null,null,null,{"$f":"IF('Haupteingabe Monat'!$W44=\"\",\"\",'Haupteingabe Monat'!$W44)","v":""},null,null,null,{"$f":"IF('Haupteingabe Monat'!$AE44=\"\",\"\",'Haupteingabe Monat'!$AE44)","v":""},null,null,null,{"$f":"IF('Haupteingabe Monat'!$AM44=\"\",\"\",'Haupteingabe Monat'!$AM44)","v":""},null,null,null,{"$f":"IF('Haupteingabe Monat'!$AU44=\"\",\"\",'Haupteingabe Monat'!$AU44)","v":""}]
[null,null,null,null,null,null,null,null,null,"Sachbearb. etime: ",null,null,null,null,"SB3","Name",{"$f":"IF('Haupteingabe Monat'!$X44=\"\",\"\",'Haupteingabe Monat'!$X44)","v":""},null,null,"Name",{"$f":"IF('Haupteingabe Monat'!$AF44=\"\",\"\",'Haupteingabe Monat'!$AF44)","v":""},null,null,"Name",{"$f":"IF('Haupteingabe Monat'!$AN44=\"\",\"\",'Haupteingabe Monat'!$AN44)","v":""},null,null,"Name",{"$f":"IF('Haupteingabe Monat'!$AV44=\"\",\"\",'Haupteingabe Monat'!$AV44)","v":""},null,null,"Name",null,null,null,"Name",null,null,null,"Name"]
["Baustelle:",null,null,null,{"$f":"IF('Haupteingabe Monat'!$B44=\"\",\"\",'Haupteingabe Monat'!$B44)","v":""}]
[{"$f":"IF('Haupteingabe Monat'!$H44=\"\",\"\",'Haupteingabe Monat'!$H44)","v":""}]
[]
[]
["Auftragstyp:",null,null,null,{"$f":"IF('Haupteingabe Monat'!$I44=\"\",\"\",'Haupteingabe Monat'!$I44)","v":""}]
[null,null,null,null,null,null,null,null,null,null,null,null,null,null,null,"hh:min\nvon            bis",null,null,null,"hh:min\nvon            bis",null,null,null,"hh:min\nvon            bis",null,null,null,"hh:min\nvon            bis",null,null,null,"hh:min\nvon            bis",null,null,null,"hh:min\nvon            bis",null,null,null,"hh:min\nvon            bis"]
[null,null,null,null,null,null,null,null,null,null,null,null,null,"1. Arbeitszeit von ... bis …",null,{"$f":"IF('Haupteingabe Monat'!$Y44=\"\",\"\",'Haupteingabe Monat'!$Y44)","v":""},null,{"$f":"IF('Haupteingabe Monat'!$Z44=\"\",\"\",'Haupteingabe Monat'!$Z44)","v":""},null,{"$f":"IF('Haupteingabe Monat'!AG44=\"\",\"\",'Haupteingabe Monat'!AG44)","v":""},null,{"$f":"IF('Haupteingabe Monat'!AH44=\"\",\"\",'Haupteingabe Monat'!AH44)","v":""},null,{"$f":"IF('Haupteingabe Monat'!AO44=\"\",\"\",'Haupteingabe Monat'!AO44)","v":""},null,{"$f":"IF('Haupteingabe Monat'!AP44=\"\",\"\",'Haupteingabe Monat'!AP44)","v":""},null,{"$f":"IF('Haupteingabe Monat'!AW44=\"\",\"\",'Haupteingabe Monat'!AW44)","v":""},null,{"$f":"IF('Haupteingabe Monat'!AX44=\"\",\"\",'Haupteingabe Monat'!AX44)","v":""}]
["Auftragsveranwortlicher:",null,null,null,null,null,null,{"$f":"IF('Haupteingabe Monat'!$J44=\"\",\"\",'Haupteingabe Monat'!$J44)","v":""},null,null,null,null,null,"   Pause von ... bis ...",null,{"$f":"IF('Haupteingabe Monat'!$AA44=\"\",\"\",'Haupteingabe Monat'!$AA44)","v":""},null,{"$f":"IF('Haupteingabe Monat'!$AB44=\"\",\"\",'Haupteingabe Monat'!$AB44)","v":""},null,{"$f":"IF('Haupteingabe Monat'!AI44=\"\",\"\",'Haupteingabe Monat'!AI44)","v":""},null,{"$f":"IF('Haupteingabe Monat'!AJ44=\"\",\"\",'Haupteingabe Monat'!AJ44)","v":""},null,{"$f":"IF('Haupteingabe Monat'!AQ44=\"\",\"\",'Haupteingabe Monat'!AQ44)","v":""},null,{"$f":"IF('Haupteingabe Monat'!AR44=\"\",\"\",'Haupteingabe Monat'!AR44)","v":""},null,{"$f":"IF('Haupteingabe Monat'!AY44=\"\",\"\",'Haupteingabe Monat'!AY44)","v":""},null,{"$f":"IF('Haupteingabe Monat'!AZ44=\"\",\"\",'Haupteingabe Monat'!AZ44)","v":""}]
[null,null,null,null,null,null,null,null,null,null,null,null,null,"2. Arbeitszeit von ... bis ..."]
[null,null,null,null,null,null,null,null,null,null,null,null,null,"   Pause von ... bis ..."]
["SAP Vorgang",null,"FAT/AAA",null,null,null,"SAP*\nAuftragsnummer\n",null,"AAR\nKurznummer\n","Beschreibung der Tagesleistung\n",null,null,null,null,null,"anzurechnende",null,null,null,"anzurechnende",null,null,null,"anzurechnende",null,null,null,"anzurechnende",null,null,null,"anzurechnende",null,null,null,"anzurechnende",null,null,null,"anzurechnende"]
[null,null,null,null,null,null,null,null,null,null,null,null,null,null,null,"Arbeitszeit",null,null,null,"Arbeitszeit",null,null,null,"Arbeitszeit",null,null,null,"Arbeitszeit",null,null,null,"Arbeitszeit",null,null,null,"Arbeitszeit",null,null,null,"Arbeitszeit"]
[null,null,null,null,null,null,null,null,null,null,null,null,null,null,null,"(min)",null,null,null,"(min)",null,null,null,"(min)",null,null,null,"(min)",null,null,null,"(min)",null,null,null,"(min)",null,null,null,"(min)"]
[{"$f":"IF('Haupteingabe Monat'!$K44=\"\",\"\",'Haupteingabe Monat'!$K44)","v":""},null,{"$f":"IF('Haupteingabe Monat'!$L44=\"\",\"\",'Haupteingabe Monat'!$L44)","v":""},null,null,null,{"$f":"IF('Haupteingabe Monat'!$M44=\"\",\"\",'Haupteingabe Monat'!$M44)","v":""},null,{"$f":"IF('Haupteingabe Monat'!$N44=\"\",\"\",'Haupteingabe Monat'!$N44)","v":""},{"$f":"IF('Haupteingabe Monat'!$O44=\"\",\"\",'Haupteingabe Monat'!$O44)","v":""},null,null,null,null,null,{"$f":"IF($P$3=\"\",\"\",IF($J$18=\"JAZ\",\"0\",IF($J$18=\"Urlaub laufendes Jahr\",\"468\",SUM(IF($R$11>=$P$11,($R$11-$P$11)*24,(1-ABS($R$11-$P$11))*24),-IF($R$12>=$P$12,($R$12-$P$12)*24,(1-ABS($R$12-$P$12))*24))*60)))","v":""},null,null,null,{"$f":"IF($T$3=\"\",\"\",IF($T$3=$P$3,SUM(IF($V$11>=$T$11,($V$11-$T$11)*24,(1-ABS($V$11-$T$11))*24),-IF($V$12>=$T$12,($V$12-$T$12)*24,(1-ABS($V$12-$T$12))*24))*60,\"\"))","v":""},null,null,null,{"$f":"IF($X$3=\"\",\"\",IF($X$3=$P$3,SUM(IF($Z$11>=$X$11,($Z$11-$X$11)*24,(1-ABS($Z$11-$X$11))*24),-IF($Z$12>=$X$12,($Z$12-$X$12)*24,(1-ABS($Z$12-$X$12))*24))*60,\"\"))","v":""},null,null,null,{"$f":"IF($AB$3=\"\",\"\",IF($AB$3=$P$3,SUM(IF($AD$11>=$AB$11,($AD$11-$AB$11)*24,(1-ABS($AD$11-$AB$11))*24),-IF($AD$12>=$AB$12,($AD$12-$AB$12)*24,(1-ABS($AD$12-$AB$12))*24))*60,\"\"))","v":""},null,null,null,{"$f":"IF(AF11=\"\",\"\",SUM(IF(AH11>=AF11,(AH11-AF11)*24,(1-ABS(AH11-AF11))*24),-IF(AH12>=AF12,(AH12-AF12)*24,(1-ABS(AH12-AF12))*24))*60)","v":""},null,null,null,{"$f":"IF(AJ11=\"\",\"\",SUM(IF(AL11>=AJ11,(AL11-AJ11)*24,(1-ABS(AL11-AJ11))*24),-IF(AL12>=AJ12,(AL12-AJ12)*24,(1-ABS(AL12-AJ12))*24))*60)","v":""},null,null,null,{"$f":"IF(AN11=\"\",\"\",SUM(IF(AP11>=AN11,(AP11-AN11)*24,(1-ABS(AP11-AN11))*24),-IF(AP12>=AN12,(AP12-AN12)*24,(1-ABS(AP12-AN12))*24))*60)","v":""}]
[{"$f":"IF($T$3=\"\",\"\",IF(AND(ISNUMBER($T$19),ISTEXT($T$3)),_xlfn.XLOOKUP($T$3,Hilfen!$B$30:$B$32,Hilfen!$C$30:$C$32,\"\"),IF(AND(ISNUMBER($X$19),ISTEXT($X$3)),_xlfn.XLOOKUP($X$3,Hilfen!$B$30:$B$32,Hilfen!$C$30:$C$32,\"\"),IF(AND(ISNUMBER($AB$19),ISTEXT($AB$3)),_xlfn.XLOOKUP($AB$3,Hilfen!$B$30:$B$32,Hilfen!$C$30:$C$32,\"\"),\"\"))))","v":""},null,{"$f":"IF($A19=\"\",\"\",C$18)","v":""},null,null,null,{"$f":"IF($A19=\"\",\"\",$G18)","v":""},null,{"$f":"IF($A19=\"\",\"\",$I18)","v":""},{"$f":"IF($A19=\"\",\"\",$J18)","v":""},null,null,null,null,null,null,null,null,null,{"$f":"IF($T$3=\"\",\"\",IF($T$3=$P$3,\"\",IF($T$3<>$P$3,SUM(IF($V$11>=$T$11,($V$11-$T$11)*24,(1-ABS($V$11-$T$11))*24),-IF($V$12>=$T$12,($V$12-$T$12)*24,(1-ABS($V$12-$T$12))*24))*60,\"\")))","v":""},null,null,null,{"$f":"IF($X$3=\"\",\"\",IF($X$3=$P$3,\"\",IF($T$3=$P$3,SUM(IF($Z$11>=$X$11,($Z$11-$X$11)*24,(1-ABS($Z$11-$X$11))*24),-IF($Z$12>=$X$12,($Z$12-$X$12)*24,(1-ABS($Z$12-$X$12))*24))*60,IF(AND($X$3=\"SOFD\",$T$3=\"SOWMED\"),\"\",IF(AND($X$3=\"SOSMED\",$T$3=\"SOWMED\"),\"\",IF(AND($X$3=\"SOWMED\",$T$3=\"SOFD\"),\"\",IF(AND($X$3=\"SOWMED\",$T$3=\"SOSMED\"),\"\",IF(AND($X$3=\"SOFD\",$T$3=\"SOSMED\"),\"\",IF(AND($X$3=\"SOSMED\",$T$3=\"SOFD\"),\"\",SUM(IF($Z$11>=$X$11,($Z$11-$X$11)*24,(1-ABS($Z$11-$X$11))*24),-IF($Z$12>=$X$12,($Z$12-$X$12)*24,(1-ABS($Z$12-$X$12))*24))*60)))))))))","v":""},null,null,null,{"$f":"IF($AB$3=\"\",\"\",IF($AB$3=$P$3,\"\",IF($AB$3=$T$3,SUM(IF($AD$11>=$AB$11,($AD$11-$AB$11)*24,(1-ABS($AD$11-$AB$11))*24),-IF($AD$12>=$AB$12,($AD$12-$AB$12)*24,(1-ABS($AD$12-$AB$12))*24))*60,IF(AND($AB$3=$X$3,$X$19=\"\"),\"\",IF($AB$3=$X$3,SUM(IF($AD$11>=$AB$11,($AD$11-$AB$11)*24,(1-ABS($AD$11-$AB$11))*24),-IF($AD$12>=$AB$12,($AD$12-$AB$12)*24,(1-ABS($AD$12-$AB$12))*24))*60,IF(AND($T$19=\"\",$X$19=\"\"),SUM(IF($AD$11>=$AB$11,($AD$11-$AB$11)*24,(1-ABS($AD$11-$AB$11))*24),-IF($AD$12>=$AB$12,($AD$12-$AB$12)*24,(1-ABS($AD$12-$AB$12))*24))*60,\"\"))))))","v":""}]
[{"$f":"IF($X$3=\"\",\"\",IF(AND(ISNUMBER($X$20),ISTEXT($X$3)),_xlfn.XLOOKUP($X$3,Hilfen!$B$30:$B$32,Hilfen!$C$30:$C$32,\"\"),IF(AND(ISNUMBER($AB$20),ISTEXT($AB$3)),_xlfn.XLOOKUP($AB$3,Hilfen!$B$30:$B$32,Hilfen!$C$30:$C$32,\"\"),\"\")))","v":""},null,{"$f":"IF($A$20=\"\",\"\",C$18)","v":""},null,null,null,{"$f":"IF($A$20=\"\",\"\",G$18)","v":""},null,{"$f":"IF($A$20=\"\",\"\",I$18)","v":""},{"$f":"IF($A$20=\"\",\"\",J$18)","v":""},null,null,null,null,null,null,null,null,null,null,null,null,null,{"$f":"IF($X$3=\"\",\"\",IF($T$3=$P$3,\"\",IF($X$3=$P$3,\"\",IF($X$3=$T$3,\"\",SUM(IF($Z$11>=$X$11,($Z$11-$X$11)*24,(1-ABS($Z$11-$X$11))*24),-IF($Z$12>=$X$12,($Z$12-$X$12)*24,(1-ABS($Z$12-$X$12))*24))*60))))","v":""},null,null,null,{"$f":"IF($AB$3=\"\",\"\",IF($AB$3=$P$3,\"\",IF($AB$3=$T$3,\"\",IF($AB$3=$X$3,$X$20,IF(ISNUMBER($AB$19),\"\",SUM(IF($AD$11>=$AB$11,($AD$11-$AB$11)*24,(1-ABS($AD$11-$AB$11))*24),-IF($AD$12>=$AB$12,($AD$12-$AB$12)*24,(1-ABS($AD$12-$AB$12))*24))*60)))))","v":""}]
[]
[]
[]
[]
[]
[{"$f":"IF('Haupteingabe Monat'!$S44=\"\",\"\",'Haupteingabe Monat'!$S44)","v":""},null,"Beschreibung der Tagesleistung bei FAT-Katalog 2"]
[{"$f":"IF('Haupteingabe Monat'!$P44=\"\",\"\",'Haupteingabe Monat'!$P44)","v":""}]
[]
[]
["Meine Angaben sind vollständig \nund richtig",null,null,null,null,null,null,"Für den Auftraggeber (nur bei Bedarf) \nLeistung anerkannt",null,null,null,null,null,"Sachlich richtig: ",null,null,null,null,null,null,null,"in eTime gebucht",null,null,null,null,null,null,null,null,"in SAP gebucht"]
["Name",null,{"$f":"$Q$4","v":""},null,null,null,null,"Name",null,null,null,null,null,"Datum",null,"Unterschrift",null,null,null,null,null,"Datum",null,null,null,null,null,null,null,null,"Datum"]
["Datum",null,{"$f":"$AE$2","v":"06."},null,{"$f":"$AG$2","v":"2025-07-01"},null,{"$f":"$AI$2","v":2025},"Datum",null,null,null,null,null,"Name",{"$f":"IF($H$12=\"\",\"\",VLOOKUP($H$12,Hilfen!$F$1:$H$8,2,FALSE))","v":""},null,null,null,null,null,null,"Namens-zeichen",null,null,null,null,null,null,null,null,"Namens-zeichen"]
["Unterschrift",null,null,null,null,null,null,"Firma",null,null,null,null,null,"Vorname",{"$f":"IF($H$12=\"\",\"\",VLOOKUP($H$12,Hilfen!$F$1:$H$8,3,FALSE))","v":""}]
[null,null,null,null,null,null,null,"Unterschrift"]
[null,null,null,null,null,null,null,null,null,null,null,null,null,null,null,null,null,null,null,null,null,"Unvollständig oder fehlerhaft ausgefüllte Belege werden nicht gebucht; RIL 187.1001 !"]

{"sheet":"07 Trupp 1","index":15,"n_rows":35,"n_cols":40,"rows_kept":35,"cut":false,"hidden":false,"merged":[[32,13,33,13],[32,14,33,14],[34,21,35,42],[1,34,1,37],[30,24,30,29],[30,30,30,32],[30,33,30,42],[31,0,31,1],[31,2,31,3],[31,9,31,12],[31,21,33,23],[31,24,33,29],[31,30,33,32],[31,33,33,42],[30,0,30,1],[30,2,30,6],[30,7,30,8],[30,9,30,12],[30,15,33,20],[30,21,30,23],[32,0,33,1],[32,2,33,6],[32,7,32,8],[32,10,32,12],[25,0,25,1],[25,2,25,42],[26,0,28,42],[29,0,29,6],[29,7,29,12],[29,13,29,20],[29,21,29,29],[29,30,29,42],[24,19,24,22],[24,23,24,26],[24,27,24,30],[24,31,24,34],[24,35,24,38],[24,39,24,42],[23,23,23,26],[23,27,23,30],[23,31,23,34],[23,35,23,38],[23,39,23,42],[24,0,24,1],[24,2,24,5],[24,6,24,7],[24,9,24,14],[24,15,24,18],[23,0,23,1],[23,2,23,5],[23,6,23,7],[23,9,23,14],[23,15,23,18],[23,19,23,22],[22,19,22,22],[22,23,22,26],[22,27,22,30],[22,31,22,34],[22,35,22,38],[22,39,22,42],[21,23,21,26],[21,27,21,30],[21,31,21,34],[21,35,21,38],[21,39,21,42],[21,19,21,22],[22,0,22,1],[22,2,22,4],[22,6,22,7],[22,9,22,14],[22,15,22,18],[21,0,21,1],[21,2,21,4],[21,6,21,7],[21,9,21,14],[21,15,21,18],[20,19,20,22],[20,23,20,26],[20,27,20,30],[20,31,20,34],[20,35,20,38],[20,39,20,42],[19,23,19,26],[19,27,19,30],[19,31,19,34],[19,35,19,38],[19,39,19,42],[19,19,19,22],[20,0,20,1],[20,2,20,4],[20,6,20,7],[20,9,20,14],[20,15,20,18],[19,0,19,1],[19,2,19,4],[19,6,19,7],[19,9,19,14],[19,15,19,18],[18,19,18,22],[18,23,18,26],[18,27,18,30],[18,31,18,34],[18,35,18,38],[18,39,18,42],[17,23,17,26],[17,27,17,30],[17,31,17,34],[17,35,17,38],[17,39,17,42],[17,19,17,22],[18,0,18,1],[18,2,18,5],[18,6,18,7],[18,9,18,14],[18,15,18,18],[17,0,17,1],[17,2,17,5],[17,6,17,7],[17,9,17,14],[17,15,17,18],[14,27,14,30],[14,31,14,34],[14,35,14,38],[14,39,14,42],[15,15,15,18],[15,19,15,22],[15,23,15,26],[15,27,15,30],[15,31,15,34],[15,35,15,38],[13,39,13,40],[13,41,13,42],[14,0,16,1],[14,2,16,5],[14,6,16,7],[14,8,16,8],[14,9,16,14],[14,15,14,18],[14,19,14,22],[14,23,14,26],[13,27,13,28],[13,29,13,30],[13,31,13,32],[13,33,13,34],[13,35,13,36],[13,37,13,38],[15,39,15,42],[16,15,16,18],[16,19,16,22],[16,23,16,26],[16,27,16,30],[16,31,16,34],[16,35,16,38],[16,39,16,42],[13,13,13,14],[13,15,13,16],[13,17,13,18],[13,19,13,20],[13,21,13,22],[13,23,13,24],[13,25,13,26],[12,25,12,26],[12,27,12,28],[11,35,11,36],[11,37,11,38],[11,39,11,40],[11,41,11,42],[12,13,12,14],[12,15,12,16],[12,17,12,18],[12,19,12,20],[12,21,12,22],[12,23,12,24],[11,23,11,24],[11,25,11,26],[11,27,11,28],[11,29,11,30],[11,31,11,32],[11,33,11,34],[12,37,12,38],[12,39,12,40],[12,41,12,42],[12,29,12,30],[12,31,12,32],[12,33,12,34],[12,35,12,36],[11,0,11,6],[11,13,11,14],[11,15,11,16],[11,17,11,18],[11,19,11,20],[11,21,11,22],[10,23,10,24],[10,25,10,26],[10,27,10,28],[9,39,9,42],[10,13,10,14],[10,15,10,16],[10,17,10,18],[10,19,10,20],[10,21,10,22],[10,35,10,36],[10,37,10,38],[10,39,10,40],[10,41,10,42],[10,29,10,30],[10,31,10,32],[10,33,10,34],[4,4,4,7],[5,0,5,8],[6,3,6,8],[8,0,8,3],[9,15,9,18],[9,19,9,22],[3,31,8,31],[3,32,8,34],[3,35,8,35],[9,23,9,26],[9,27,9,30],[9,31,9,34],[9,35,9,38],[3,36,8,38],[3,39,8,39],[3,40,8,42],[2,39,2,42],[3,9,3,13],[3,15,8,15],[3,16,8,18],[3,19,8,19],[3,20,8,22],[3,23,8,23],[3,24,8,26],[3,27,8,27],[3,28,8,30],[1,0,2,8],[1,9,1,10],[1,15,1,22],[1,23,1,26],[1,27,1,29],[1,30,1,31],[1,32,1,33],[1,67,1,90],[2,9,2,14],[2,15,2,18],[2,19,2,22],[2,23,2,26],[2,27,2,30],[2,31,2,34],[2,35,2,38]]}
[]
["DB InfraGO AG \nRB Nord\nRegionale Instandsetzung ",null,null,null,null,null,null,null,null,"Blatt",null,{"$f":"IF('Haupteingabe Monat'!$Q10=\"\",\"\",'Haupteingabe Monat'!$Q10)","v":1},"/",{"$f":"IF('Haupteingabe Monat'!$R10=\"\",\"\",'Haupteingabe Monat'!$R10)","v":1},null,null,null,null,null,null,null,null,null,null,null,null,null,"Datum: ",null,null,"07.",null,{"$f":"'Haupteingabe Monat'!$H$1","v":"2025-07-01"},null,{"$f":"'Haupteingabe Monat'!$J$1","v":2025}]
[null,null,null,null,null,null,null,null,null,"SAP Arbeitsplatz",null,null,null,null,null,{"$f":"IF('Haupteingabe Monat'!$W10=\"\",\"\",'Haupteingabe Monat'!$W10)","v":""},null,null,null,{"$f":"IF('Haupteingabe Monat'!$AE10=\"\",\"\",'Haupteingabe Monat'!$AE10)","v":""},null,null,null,{"$f":"IF('Haupteingabe Monat'!$AM10=\"\",\"\",'Haupteingabe Monat'!$AM10)","v":""},null,null,null,{"$f":"IF('Haupteingabe Monat'!$AU10=\"\",\"\",'Haupteingabe Monat'!$AU10)","v":""}]
[null,null,null,null,null,null,null,null,null,"Sachbearb. etime: ",null,null,null,null,"SB3","Name",{"$f":"IF('Haupteingabe Monat'!$X10=\"\",\"\",'Haupteingabe Monat'!$X10)","v":""},null,null,"Name",{"$f":"IF('Haupteingabe Monat'!$AF10=\"\",\"\",'Haupteingabe Monat'!$AF10)","v":""},null,null,"Name",{"$f":"IF('Haupteingabe Monat'!$AN10=\"\",\"\",'Haupteingabe Monat'!$AN10)","v":""},null,null,"Name",{"$f":"IF('Haupteingabe Monat'!$AV10=\"\",\"\",'Haupteingabe Monat'!$AV10)","v":""},null,null,"Name",null,null,null,"Name",null,null,null,"Name"]
["Baustelle:",null,null,null,{"$f":"IF('Haupteingabe Monat'!$B10=\"\",\"\",'Haupteingabe Monat'!$B10)","v":""}]
[{"$f":"IF('Haupteingabe Monat'!$H10=\"\",\"\",'Haupteingabe Monat'!$H10)","v":""}]
[]
[]
["Auftragstyp:",null,null,null,{"$f":"IF('Haupteingabe Monat'!$I10=\"\",\"\",'Haupteingabe Monat'!$I10)","v":""}]
[null,null,null,null,null,null,null,null,null,null,null,null,null,null,null,"hh:min\nvon            bis",null,null,null,"hh:min\nvon            bis",null,null,null,"hh:min\nvon            bis",null,null,null,"hh:min\nvon            bis",null,null,null,"hh:min\nvon            bis",null,null,null,"hh:min\nvon            bis",null,null,null,"hh:min\nvon            bis"]
[null,null,null,null,null,null,null,null,null,null,null,null,null,"1. Arbeitszeit von ... bis …",null,{"$f":"IF('Haupteingabe Monat'!$Y10=\"\",\"\",'Haupteingabe Monat'!$Y10)","v":""},null,{"$f":"IF('Haupteingabe Monat'!$Z10=\"\",\"\",'Haupteingabe Monat'!$Z10)","v":""},null,{"$f":"IF('Haupteingabe Monat'!AG10=\"\",\"\",'Haupteingabe Monat'!AG10)","v":""},null,{"$f":"IF('Haupteingabe Monat'!AH10=\"\",\"\",'Haupteingabe Monat'!AH10)","v":""},null,{"$f":"IF('Haupteingabe Monat'!AO10=\"\",\"\",'Haupteingabe Monat'!AO10)","v":""},null,{"$f":"IF('Haupteingabe Monat'!AP10=\"\",\"\",'Haupteingabe Monat'!AP10)","v":""},null,{"$f":"IF('Haupteingabe Monat'!AW10=\"\",\"\",'Haupteingabe Monat'!AW10)","v":""},null,{"$f":"IF('Haupteingabe Monat'!AX10=\"\",\"\",'Haupteingabe Monat'!AX10)","v":""}]
["Auftragsveranwortlicher:",null,null,null,null,null,null,{"$f":"IF('Haupteingabe Monat'!$J10=\"\",\"\",'Haupteingabe Monat'!$J10)","v":""},null,null,null,null,null,"   Pause von ... bis ...",null,{"$f":"IF('Haupteingabe Monat'!$AA10=\"\",\"\",'Haupteingabe Monat'!$AA10)","v":""},null,{"$f":"IF('Haupteingabe Monat'!$AB10=\"\",\"\",'Haupteingabe Monat'!$AB10)","v":""},null,{"$f":"IF('Haupteingabe Monat'!AI10=\"\",\"\",'Haupteingabe Monat'!AI10)","v":""},null,{"$f":"IF('Haupteingabe Monat'!AJ10=\"\",\"\",'Haupteingabe Monat'!AJ10)","v":""},null,{"$f":"IF('Haupteingabe Monat'!AQ10=\"\",\"\",'Haupteingabe Monat'!AQ10)","v":""},null,{"$f":"IF('Haupteingabe Monat'!AR10=\"\",\"\",'Haupteingabe Monat'!AR10)","v":""},null,{"$f":"IF('Haupteingabe Monat'!AY10=\"\",\"\",'Haupteingabe Monat'!AY10)","v":""},null,{"$f":"IF('Haupteingabe Monat'!AZ10=\"\",\"\",'Haupteingabe Monat'!AZ10)","v":""}]
[null,null,null,null,null,null,null,null,null,null,null,null,null,"2. Arbeitszeit von ... bis ..."]
[null,null,null,null,null,null,null,null,null,null,null,null,null,"   Pause von ... bis ..."]
["SAP Vorgang",null,"FAT/AAA",null,null,null,"SAP*\nAuftragsnummer\n",null,"AAR\nKurznummer\n","Beschreibung der Tagesleistung\n",null,null,null,null,null,"anzurechnende",null,null,null,"anzurechnende",null,null,null,"anzurechnende",null,null,null,"anzurechnende",null,null,null,"anzurechnende",null,null,null,"anzurechnende",null,null,null,"anzurechnende"]
[null,null,null,null,null,null,null,null,null,null,null,null,null,null,null,"Arbeitszeit",null,null,null,"Arbeitszeit",null,null,null,"Arbeitszeit",null,null,null,"Arbeitszeit",null,null,null,"Arbeitszeit",null,null,null,"Arbeitszeit",null,null,null,"Arbeitszeit"]
[null,null,null,null,null,null,null,null,null,null,null,null,null,null,null,"(min)",null,null,null,"(min)",null,null,null,"(min)",null,null,null,"(min)",null,null,null,"(min)",null,null,null,"(min)",null,null,null,"(min)"]
[{"$f":"IF('Haupteingabe Monat'!$K10=\"\",\"\",'Haupteingabe Monat'!$K10)","v":""},null,{"$f":"IF('Haupteingabe Monat'!$L10=\"\",\"\",'Haupteingabe Monat'!$L10)","v":""},null,null,null,{"$f":"IF('Haupteingabe Monat'!$M10=\"\",\"\",'Haupteingabe Monat'!$M10)","v":""},null,{"$f":"IF('Haupteingabe Monat'!$N10=\"\",\"\",'Haupteingabe Monat'!$N10)","v":""},{"$f":"IF('Haupteingabe Monat'!$O10=\"\",\"\",'Haupteingabe Monat'!$O10)","v":""},null,null,null,null,null,{"$f":"IF($P$3=\"\",\"\",IF($J$18=\"JAZ\",\"0\",IF($J$18=\"Urlaub laufendes Jahr\",\"468\",SUM(IF($R$11>=$P$11,($R$11-$P$11)*24,(1-ABS($R$11-$P$11))*24),-IF($R$12>=$P$12,($R$12-$P$12)*24,(1-ABS($R$12-$P$12))*24))*60)))","v":""},null,null,null,{"$f":"IF($T$3=\"\",\"\",IF($T$3=$P$3,SUM(IF($V$11>=$T$11,($V$11-$T$11)*24,(1-ABS($V$11-$T$11))*24),-IF($V$12>=$T$12,($V$12-$T$12)*24,(1-ABS($V$12-$T$12))*24))*60,\"\"))","v":""},null,null,null,{"$f":"IF($X$3=\"\",\"\",IF($X$3=$P$3,SUM(IF($Z$11>=$X$11,($Z$11-$X$11)*24,(1-ABS($Z$11-$X$11))*24),-IF($Z$12>=$X$12,($Z$12-$X$12)*24,(1-ABS($Z$12-$X$12))*24))*60,\"\"))","v":""},null,null,null,{"$f":"IF($AB$3=\"\",\"\",IF($AB$3=$P$3,SUM(IF($AD$11>=$AB$11,($AD$11-$AB$11)*24,(1-ABS($AD$11-$AB$11))*24),-IF($AD$12>=$AB$12,($AD$12-$AB$12)*24,(1-ABS($AD$12-$AB$12))*24))*60,\"\"))","v":""},null,null,null,{"$f":"IF(AF11=\"\",\"\",SUM(IF(AH11>=AF11,(AH11-AF11)*24,(1-ABS(AH11-AF11))*24),-IF(AH12>=AF12,(AH12-AF12)*24,(1-ABS(AH12-AF12))*24))*60)","v":""},null,null,null,{"$f":"IF(AJ11=\"\",\"\",SUM(IF(AL11>=AJ11,(AL11-AJ11)*24,(1-ABS(AL11-AJ11))*24),-IF(AL12>=AJ12,(AL12-AJ12)*24,(1-ABS(AL12-AJ12))*24))*60)","v":""},null,null,null,{"$f":"IF(AN11=\"\",\"\",SUM(IF(AP11>=AN11,(AP11-AN11)*24,(1-ABS(AP11-AN11))*24),-IF(AP12>=AN12,(AP12-AN12)*24,(1-ABS(AP12-AN12))*24))*60)","v":""}]
[{"$f":"IF($T$3=\"\",\"\",IF(AND(ISNUMBER($T$19),ISTEXT($T$3)),_xlfn.XLOOKUP($T$3,Hilfen!$B$30:$B$32,Hilfen!$C$30:$C$32,\"\"),IF(AND(ISNUMBER($X$19),ISTEXT($X$3)),_xlfn.XLOOKUP($X$3,Hilfen!$B$30:$B$32,Hilfen!$C$30:$C$32,\"\"),IF(AND(ISNUMBER($AB$19),ISTEXT($AB$3)),_xlfn.XLOOKUP($AB$3,Hilfen!$B$30:$B$32,Hilfen!$C$30:$C$32,\"\"),\"\"))))","v":""},null,{"$f":"IF($A19=\"\",\"\",C$18)","v":""},null,null,null,{"$f":"IF($A19=\"\",\"\",$G18)","v":""},null,{"$f":"IF($A19=\"\",\"\",$I18)","v":""},{"$f":"IF($A19=\"\",\"\",$J18)","v":""},null,null,null,null,null,null,null,null,null,{"$f":"IF($T$3=\"\",\"\",IF($T$3=$P$3,\"\",IF($T$3<>$P$3,SUM(IF($V$11>=$T$11,($V$11-$T$11)*24,(1-ABS($V$11-$T$11))*24),-IF($V$12>=$T$12,($V$12-$T$12)*24,(1-ABS($V$12-$T$12))*24))*60,\"\")))","v":""},null,null,null,{"$f":"IF($X$3=\"\",\"\",IF($X$3=$P$3,\"\",IF($T$3=$P$3,SUM(IF($Z$11>=$X$11,($Z$11-$X$11)*24,(1-ABS($Z$11-$X$11))*24),-IF($Z$12>=$X$12,($Z$12-$X$12)*24,(1-ABS($Z$12-$X$12))*24))*60,IF(AND($X$3=\"SOFD\",$T$3=\"SOWMED\"),\"\",IF(AND($X$3=\"SOSMED\",$T$3=\"SOWMED\"),\"\",IF(AND($X$3=\"SOWMED\",$T$3=\"SOFD\"),\"\",IF(AND($X$3=\"SOWMED\",$T$3=\"SOSMED\"),\"\",IF(AND($X$3=\"SOFD\",$T$3=\"SOSMED\"),\"\",IF(AND($X$3=\"SOSMED\",$T$3=\"SOFD\"),\"\",SUM(IF($Z$11>=$X$11,($Z$11-$X$11)*24,(1-ABS($Z$11-$X$11))*24),-IF($Z$12>=$X$12,($Z$12-$X$12)*24,(1-ABS($Z$12-$X$12))*24))*60)))))))))","v":""},null,null,null,{"$f":"IF($AB$3=\"\",\"\",IF($AB$3=$P$3,\"\",IF($AB$3=$T$3,SUM(IF($AD$11>=$AB$11,($AD$11-$AB$11)*24,(1-ABS($AD$11-$AB$11))*24),-IF($AD$12>=$AB$12,($AD$12-$AB$12)*24,(1-ABS($AD$12-$AB$12))*24))*60,IF(AND($AB$3=$X$3,$X$19=\"\"),\"\",IF($AB$3=$X$3,SUM(IF($AD$11>=$AB$11,($AD$11-$AB$11)*24,(1-ABS($AD$11-$AB$11))*24),-IF($AD$12>=$AB$12,($AD$12-$AB$12)*24,(1-ABS($AD$12-$AB$12))*24))*60,IF(AND($T$19=\"\",$X$19=\"\"),SUM(IF($AD$11>=$AB$11,($AD$11-$AB$11)*24,(1-ABS($AD$11-$AB$11))*24),-IF($AD$12>=$AB$12,($AD$12-$AB$12)*24,(1-ABS($AD$12-$AB$12))*24))*60,\"\"))))))","v":""}]
[{"$f":"IF($X$3=\"\",\"\",IF(AND(ISNUMBER($X$20),ISTEXT($X$3)),_xlfn.XLOOKUP($X$3,Hilfen!$B$30:$B$32,Hilfen!$C$30:$C$32,\"\"),IF(AND(ISNUMBER($AB$20),ISTEXT($AB$3)),_xlfn.XLOOKUP($AB$3,Hilfen!$B$30:$B$32,Hilfen!$C$30:$C$32,\"\"),\"\")))","v":""},null,{"$f":"IF($A$20=\"\",\"\",C$18)","v":""},null,null,null,{"$f":"IF($A$20=\"\",\"\",G$18)","v":""},null,{"$f":"IF($A$20=\"\",\"\",I$18)","v":""},{"$f":"IF($A$20=\"\",\"\",J$18)","v":""},null,null,null,null,null,null,null,null,null,null,null,null,null,{"$f":"IF($X$3=\"\",\"\",IF($T$3=$P$3,\"\",IF($X$3=$P$3,\"\",IF($X$3=$T$3,\"\",SUM(IF($Z$11>=$X$11,($Z$11-$X$11)*24,(1-ABS($Z$11-$X$11))*24),-IF($Z$12>=$X$12,($Z$12-$X$12)*24,(1-ABS($Z$12-$X$12))*24))*60))))","v":""},null,null,null,{"$f":"IF($AB$3=\"\",\"\",IF($AB$3=$P$3,\"\",IF($AB$3=$T$3,\"\",IF($AB$3=$X$3,$X$20,IF(ISNUMBER($AB$19),\"\",SUM(IF($AD$11>=$AB$11,($AD$11-$AB$11)*24,(1-ABS($AD$11-$AB$11))*24),-IF($AD$12>=$AB$12,($AD$12-$AB$12)*24,(1-ABS($AD$12-$AB$12))*24))*60)))))","v":""}]
[]
[]
[]
[]
[]
[{"$f":"IF('Haupteingabe Monat'!$S10=\"\",\"\",'Haupteingabe Monat'!$S10)","v":""},null,"Beschreibung der Tagesleistung bei FAT-Katalog 2"]
[{"$f":"IF('Haupteingabe Monat'!$P10=\"\",\"\",'Haupteingabe Monat'!$P10)","v":""}]
[]
[]
["Meine Angaben sind vollständig \nund richtig",null,null,null,null,null,null,"Für den Auftraggeber (nur bei Bedarf) \nLeistung anerkannt",null,null,null,null,null,"Sachlich richtig: ",null,null,null,null,null,null,null,"in eTime gebucht",null,null,null,null,null,null,null,null,"in SAP gebucht"]
["Name",null,{"$f":"$Q$4","v":""},null,null,null,null,"Name",null,null,null,null,null,"Datum",null,"Unterschrift",null,null,null,null,null,"Datum",null,null,null,null,null,null,null,null,"Datum"]
["Datum",null,{"$f":"$AE$2","v":"07."},null,{"$f":"$AG$2","v":"2025-07-01"},null,{"$f":"$AI$2","v":2025},"Datum",null,null,null,null,null,"Name",{"$f":"IF($H$12=\"\",\"\",VLOOKUP($H$12,Hilfen!$F$1:$H$8,2,FALSE))","v":""},null,null,null,null,null,null,"Namens-zeichen",null,null,null,null,null,null,null,null,"Namens-zeichen"]
["Unterschrift",null,null,null,null,null,null,"Firma",null,null,null,null,null,"Vorname",{"$f":"IF($H$12=\"\",\"\",VLOOKUP($H$12,Hilfen!$F$1:$H$8,3,FALSE))","v":""}]
[null,null,null,null,null,null,null,"Unterschrift"]
[null,null,null,null,null,null,null,null,null,null,null,null,null,null,null,null,null,null,null,null,null,"Unvollständig oder fehlerhaft ausgefüllte Belege werden nicht gebucht; RIL 187.1001 !"]

{"sheet":"07 Trupp 2","index":16,"n_rows":35,"n_cols":40,"rows_kept":35,"cut":false,"hidden":false,"merged":[[32,13,33,13],[32,14,33,14],[34,21,35,42],[1,34,1,37],[30,24,30,29],[30,30,30,32],[30,33,30,42],[31,0,31,1],[31,2,31,3],[31,9,31,12],[31,21,33,23],[31,24,33,29],[31,30,33,32],[31,33,33,42],[30,0,30,1],[30,2,30,6],[30,7,30,8],[30,9,30,12],[30,15,33,20],[30,21,30,23],[32,0,33,1],[32,2,33,6],[32,7,32,8],[32,10,32,12],[25,0,25,1],[25,2,25,42],[26,0,28,42],[29,0,29,6],[29,7,29,12],[29,13,29,20],[29,21,29,29],[29,30,29,42],[24,19,24,22],[24,23,24,26],[24,27,24,30],[24,31,24,34],[24,35,24,38],[24,39,24,42],[23,23,23,26],[23,27,23,30],[23,31,23,34],[23,35,23,38],[23,39,23,42],[24,0,24,1],[24,2,24,5],[24,6,24,7],[24,9,24,14],[24,15,24,18],[23,0,23,1],[23,2,23,5],[23,6,23,7],[23,9,23,14],[23,15,23,18],[23,19,23,22],[22,19,22,22],[22,23,22,26],[22,27,22,30],[22,31,22,34],[22,35,22,38],[22,39,22,42],[21,23,21,26],[21,27,21,30],[21,31,21,34],[21,35,21,38],[21,39,21,42],[21,19,21,22],[22,0,22,1],[22,2,22,4],[22,6,22,7],[22,9,22,14],[22,15,22,18],[21,0,21,1],[21,2,21,4],[21,6,21,7],[21,9,21,14],[21,15,21,18],[20,19,20,22],[20,23,20,26],[20,27,20,30],[20,31,20,34],[20,35,20,38],[20,39,20,42],[19,23,19,26],[19,27,19,30],[19,31,19,34],[19,35,19,38],[19,39,19,42],[19,19,19,22],[20,0,20,1],[20,2,20,4],[20,6,20,7],[20,9,20,14],[20,15,20,18],[19,0,19,1],[19,2,19,4],[19,6,19,7],[19,9,19,14],[19,15,19,18],[18,19,18,22],[18,23,18,26],[18,27,18,30],[18,31,18,34],[18,35,18,38],[18,39,18,42],[17,23,17,26],[17,27,17,30],[17,31,17,34],[17,35,17,38],[17,39,17,42],[17,19,17,22],[18,0,18,1],[18,2,18,5],[18,6,18,7],[18,9,18,14],[18,15,18,18],[17,0,17,1],[17,2,17,5],[17,6,17,7],[17,9,17,14],[17,15,17,18],[14,27,14,30],[14,31,14,34],[14,35,14,38],[14,39,14,42],[15,15,15,18],[15,19,15,22],[15,23,15,26],[15,27,15,30],[15,31,15,34],[15,35,15,38],[13,39,13,40],[13,41,13,42],[14,0,16,1],[14,2,16,5],[14,6,16,7],[14,8,16,8],[14,9,16,14],[14,15,14,18],[14,19,14,22],[14,23,14,26],[13,27,13,28],[13,29,13,30],[13,31,13,32],[13,33,13,34],[13,35,13,36],[13,37,13,38],[15,39,15,42],[16,15,16,18],[16,19,16,22],[16,23,16,26],[16,27,16,30],[16,31,16,34],[16,35,16,38],[16,39,16,42],[13,13,13,14],[13,15,13,16],[13,17,13,18],[13,19,13,20],[13,21,13,22],[13,23,13,24],[13,25,13,26],[12,25,12,26],[12,27,12,28],[11,35,11,36],[11,37,11,38],[11,39,11,40],[11,41,11,42],[12,13,12,14],[12,15,12,16],[12,17,12,18],[12,19,12,20],[12,21,12,22],[12,23,12,24],[11,23,11,24],[11,25,11,26],[11,27,11,28],[11,29,11,30],[11,31,11,32],[11,33,11,34],[12,37,12,38],[12,39,12,40],[12,41,12,42],[12,29,12,30],[12,31,12,32],[12,33,12,34],[12,35,12,36],[11,0,11,6],[11,13,11,14],[11,15,11,16],[11,17,11,18],[11,19,11,20],[11,21,11,22],[10,23,10,24],[10,25,10,26],[10,27,10,28],[9,39,9,42],[10,13,10,14],[10,15,10,16],[10,17,10,18],[10,19,10,20],[10,21,10,22],[10,35,10,36],[10,37,10,38],[10,39,10,40],[10,41,10,42],[10,29,10,30],[10,31,10,32],[10,33,10,34],[4,4,4,7],[5,0,5,8],[6,3,6,8],[8,0,8,3],[9,15,9,18],[9,19,9,22],[3,31,8,31],[3,32,8,34],[3,35,8,35],[9,23,9,26],[9,27,9,30],[9,31,9,34],[9,35,9,38],[3,36,8,38],[3,39,8,39],[3,40,8,42],[2,39,2,42],[3,9,3,13],[3,15,8,15],[3,16,8,18],[3,19,8,19],[3,20,8,22],[3,23,8,23],[3,24,8,26],[3,27,8,27],[3,28,8,30],[1,0,2,8],[1,9,1,10],[1,15,1,22],[1,23,1,26],[1,27,1,29],[1,30,1,31],[1,32,1,33],[1,67,1,90],[2,9,2,14],[2,15,2,18],[2,19,2,22],[2,23,2,26],[2,27,2,30],[2,31,2,34],[2,35,2,38]]}
[]
["DB InfraGO AG \nRB Nord\nRegionale Instandsetzung ",null,null,null,null,null,null,null,null,"Blatt",null,{"$f":"IF('Haupteingabe Monat'!$Q45=\"\",\"\",'Haupteingabe Monat'!$Q45)","v":1},"/",{"$f":"IF('Haupteingabe Monat'!$R45=\"\",\"\",'Haupteingabe Monat'!$R45)","v":1},null,null,null,null,null,null,null,null,null,null,null,null,null,"Datum: ",null,null,"07.",null,{"$f":"'Haupteingabe Monat'!$H$1","v":"2025-07-01"},null,{"$f":"'Haupteingabe Monat'!$J$1","v":2025}]
[null,null,null,null,null,null,null,null,null,"SAP Arbeitsplatz",null,null,null,null,null,{"$f":"IF('Haupteingabe Monat'!$W45=\"\",\"\",'Haupteingabe Monat'!$W45)","v":""},null,null,null,{"$f":"IF('Haupteingabe Monat'!$AE45=\"\",\"\",'Haupteingabe Monat'!$AE45)","v":""},null,null,null,{"$f":"IF('Haupteingabe Monat'!$AM45=\"\",\"\",'Haupteingabe Monat'!$AM45)","v":""},null,null,null,{"$f":"IF('Haupteingabe Monat'!$AU45=\"\",\"\",'Haupteingabe Monat'!$AU45)","v":""}]
[null,null,null,null,null,null,null,null,null,"Sachbearb. etime: ",null,null,null,null,"SB3","Name",{"$f":"IF('Haupteingabe Monat'!$X45=\"\",\"\",'Haupteingabe Monat'!$X45)","v":""},null,null,"Name",{"$f":"IF('Haupteingabe Monat'!$AF45=\"\",\"\",'Haupteingabe Monat'!$AF45)","v":""},null,null,"Name",{"$f":"IF('Haupteingabe Monat'!$AN45=\"\",\"\",'Haupteingabe Monat'!$AN45)","v":""},null,null,"Name",{"$f":"IF('Haupteingabe Monat'!$AV45=\"\",\"\",'Haupteingabe Monat'!$AV45)","v":""},null,null,"Name",null,null,null,"Name",null,null,null,"Name"]
["Baustelle:",null,null,null,{"$f":"IF('Haupteingabe Monat'!$B45=\"\",\"\",'Haupteingabe Monat'!$B45)","v":""}]
[{"$f":"IF('Haupteingabe Monat'!$H45=\"\",\"\",'Haupteingabe Monat'!$H45)","v":""}]
[]
[]
["Auftragstyp:",null,null,null,{"$f":"IF('Haupteingabe Monat'!$I45=\"\",\"\",'Haupteingabe Monat'!$I45)","v":""}]
[null,null,null,null,null,null,null,null,null,null,null,null,null,null,null,"hh:min\nvon            bis",null,null,null,"hh:min\nvon            bis",null,null,null,"hh:min\nvon            bis",null,null,null,"hh:min\nvon            bis",null,null,null,"hh:min\nvon            bis",null,null,null,"hh:min\nvon            bis",null,null,null,"hh:min\nvon            bis"]
[null,null,null,null,null,null,null,null,null,null,null,null,null,"1. Arbeitszeit von ... bis …",null,{"$f":"IF('Haupteingabe Monat'!$Y45=\"\",\"\",'Haupteingabe Monat'!$Y45)","v":""},null,{"$f":"IF('Haupteingabe Monat'!$Z45=\"\",\"\",'Haupteingabe Monat'!$Z45)","v":""},null,{"$f":"IF('Haupteingabe Monat'!AG45=\"\",\"\",'Haupteingabe Monat'!AG45)","v":""},null,{"$f":"IF('Haupteingabe Monat'!AH45=\"\",\"\",'Haupteingabe Monat'!AH45)","v":""},null,{"$f":"IF('Haupteingabe Monat'!AO45=\"\",\"\",'Haupteingabe Monat'!AO45)","v":""},null,{"$f":"IF('Haupteingabe Monat'!AP45=\"\",\"\",'Haupteingabe Monat'!AP45)","v":""},null,{"$f":"IF('Haupteingabe Monat'!AW45=\"\",\"\",'Haupteingabe Monat'!AW45)","v":""},null,{"$f":"IF('Haupteingabe Monat'!AX45=\"\",\"\",'Haupteingabe Monat'!AX45)","v":""}]
["Auftragsveranwortlicher:",null,null,null,null,null,null,{"$f":"IF('Haupteingabe Monat'!$J45=\"\",\"\",'Haupteingabe Monat'!$J45)","v":""},null,null,null,null,null,"   Pause von ... bis ...",null,{"$f":"IF('Haupteingabe Monat'!$AA45=\"\",\"\",'Haupteingabe Monat'!$AA45)","v":""},null,{"$f":"IF('Haupteingabe Monat'!$AB45=\"\",\"\",'Haupteingabe Monat'!$AB45)","v":""},null,{"$f":"IF('Haupteingabe Monat'!AI45=\"\",\"\",'Haupteingabe Monat'!AI45)","v":""},null,{"$f":"IF('Haupteingabe Monat'!AJ45=\"\",\"\",'Haupteingabe Monat'!AJ45)","v":""},null,{"$f":"IF('Haupteingabe Monat'!AQ45=\"\",\"\",'Haupteingabe Monat'!AQ45)","v":""},null,{"$f":"IF('Haupteingabe Monat'!AR45=\"\",\"\",'Haupteingabe Monat'!AR45)","v":""},null,{"$f":"IF('Haupteingabe Monat'!AY45=\"\",\"\",'Haupteingabe Monat'!AY45)","v":""},null,{"$f":"IF('Haupteingabe Monat'!AZ45=\"\",\"\",'Haupteingabe Monat'!AZ45)","v":""}]
[null,null,null,null,null,null,null,null,null,null,null,null,null,"2. Arbeitszeit von ... bis ..."]
[null,null,null,null,null,null,null,null,null,null,null,null,null,"   Pause von ... bis ..."]
["SAP Vorgang",null,"FAT/AAA",null,null,null,"SAP*\nAuftragsnummer\n",null,"AAR\nKurznummer\n","Beschreibung der Tagesleistung\n",null,null,null,null,null,"anzurechnende",null,null,null,"anzurechnende",null,null,null,"anzurechnende",null,null,null,"anzurechnende",null,null,null,"anzurechnende",null,null,null,"anzurechnende",null,null,null,"anzurechnende"]
[null,null,null,null,null,null,null,null,null,null,null,null,null,null,null,"Arbeitszeit",null,null,null,"Arbeitszeit",null,null,null,"Arbeitszeit",null,null,null,"Arbeitszeit",null,null,null,"Arbeitszeit",null,null,null,"Arbeitszeit",null,null,null,"Arbeitszeit"]
[null,null,null,null,null,null,null,null,null,null,null,null,null,null,null,"(min)",null,null,null,"(min)",null,null,null,"(min)",null,null,null,"(min)",null,null,null,"(min)",null,null,null,"(min)",null,null,null,"(min)"]
[{"$f":"IF('Haupteingabe Monat'!$K45=\"\",\"\",'Haupteingabe Monat'!$K45)","v":""},null,{"$f":"IF('Haupteingabe Monat'!$L45=\"\",\"\",'Haupteingabe Monat'!$L45)","v":""},null,null,null,{"$f":"IF('Haupteingabe Monat'!$M45=\"\",\"\",'Haupteingabe Monat'!$M45)","v":""},null,{"$f":"IF('Haupteingabe Monat'!$N45=\"\",\"\",'Haupteingabe Monat'!$N45)","v":""},{"$f":"IF('Haupteingabe Monat'!$O45=\"\",\"\",'Haupteingabe Monat'!$O45)","v":""},null,null,null,null,null,{"$f":"IF($P$3=\"\",\"\",IF($J$18=\"JAZ\",\"0\",IF($J$18=\"Urlaub laufendes Jahr\",\"468\",SUM(IF($R$11>=$P$11,($R$11-$P$11)*24,(1-ABS($R$11-$P$11))*24),-IF($R$12>=$P$12,($R$12-$P$12)*24,(1-ABS($R$12-$P$12))*24))*60)))","v":""},null,null,null,{"$f":"IF($T$3=\"\",\"\",IF($T$3=$P$3,SUM(IF($V$11>=$T$11,($V$11-$T$11)*24,(1-ABS($V$11-$T$11))*24),-IF($V$12>=$T$12,($V$12-$T$12)*24,(1-ABS($V$12-$T$12))*24))*60,\"\"))","v":""},null,null,null,{"$f":"IF($X$3=\"\",\"\",IF($X$3=$P$3,SUM(IF($Z$11>=$X$11,($Z$11-$X$11)*24,(1-ABS($Z$11-$X$11))*24),-IF($Z$12>=$X$12,($Z$12-$X$12)*24,(1-ABS($Z$12-$X$12))*24))*60,\"\"))","v":""},null,null,null,{"$f":"IF($AB$3=\"\",\"\",IF($AB$3=$P$3,SUM(IF($AD$11>=$AB$11,($AD$11-$AB$11)*24,(1-ABS($AD$11-$AB$11))*24),-IF($AD$12>=$AB$12,($AD$12-$AB$12)*24,(1-ABS($AD$12-$AB$12))*24))*60,\"\"))","v":""},null,null,null,{"$f":"IF(AF11=\"\",\"\",SUM(IF(AH11>=AF11,(AH11-AF11)*24,(1-ABS(AH11-AF11))*24),-IF(AH12>=AF12,(AH12-AF12)*24,(1-ABS(AH12-AF12))*24))*60)","v":""},null,null,null,{"$f":"IF(AJ11=\"\",\"\",SUM(IF(AL11>=AJ11,(AL11-AJ11)*24,(1-ABS(AL11-AJ11))*24),-IF(AL12>=AJ12,(AL12-AJ12)*24,(1-ABS(AL12-AJ12))*24))*60)","v":""},null,null,null,{"$f":"IF(AN11=\"\",\"\",SUM(IF(AP11>=AN11,(AP11-AN11)*24,(1-ABS(AP11-AN11))*24),-IF(AP12>=AN12,(AP12-AN12)*24,(1-ABS(AP12-AN12))*24))*60)","v":""}]
[{"$f":"IF($T$3=\"\",\"\",IF(AND(ISNUMBER($T$19),ISTEXT($T$3)),_xlfn.XLOOKUP($T$3,Hilfen!$B$30:$B$32,Hilfen!$C$30:$C$32,\"\"),IF(AND(ISNUMBER($X$19),ISTEXT($X$3)),_xlfn.XLOOKUP($X$3,Hilfen!$B$30:$B$32,Hilfen!$C$30:$C$32,\"\"),IF(AND(ISNUMBER($AB$19),ISTEXT($AB$3)),_xlfn.XLOOKUP($AB$3,Hilfen!$B$30:$B$32,Hilfen!$C$30:$C$32,\"\"),\"\"))))","v":""},null,{"$f":"IF($A19=\"\",\"\",C$18)","v":""},null,null,null,{"$f":"IF($A19=\"\",\"\",$G18)","v":""},null,{"$f":"IF($A19=\"\",\"\",$I18)","v":""},{"$f":"IF($A19=\"\",\"\",$J18)","v":""},null,null,null,null,null,null,null,null,null,{"$f":"IF($T$3=\"\",\"\",IF($T$3=$P$3,\"\",IF($T$3<>$P$3,SUM(IF($V$11>=$T$11,($V$11-$T$11)*24,(1-ABS($V$11-$T$11))*24),-IF($V$12>=$T$12,($V$12-$T$12)*24,(1-ABS($V$12-$T$12))*24))*60,\"\")))","v":""},null,null,null,{"$f":"IF($X$3=\"\",\"\",IF($X$3=$P$3,\"\",IF($T$3=$P$3,SUM(IF($Z$11>=$X$11,($Z$11-$X$11)*24,(1-ABS($Z$11-$X$11))*24),-IF($Z$12>=$X$12,($Z$12-$X$12)*24,(1-ABS($Z$12-$X$12))*24))*60,IF(AND($X$3=\"SOFD\",$T$3=\"SOWMED\"),\"\",IF(AND($X$3=\"SOSMED\",$T$3=\"SOWMED\"),\"\",IF(AND($X$3=\"SOWMED\",$T$3=\"SOFD\"),\"\",IF(AND($X$3=\"SOWMED\",$T$3=\"SOSMED\"),\"\",IF(AND($X$3=\"SOFD\",$T$3=\"SOSMED\"),\"\",IF(AND($X$3=\"SOSMED\",$T$3=\"SOFD\"),\"\",SUM(IF($Z$11>=$X$11,($Z$11-$X$11)*24,(1-ABS($Z$11-$X$11))*24),-IF($Z$12>=$X$12,($Z$12-$X$12)*24,(1-ABS($Z$12-$X$12))*24))*60)))))))))","v":""},null,null,null,{"$f":"IF($AB$3=\"\",\"\",IF($AB$3=$P$3,\"\",IF($AB$3=$T$3,SUM(IF($AD$11>=$AB$11,($AD$11-$AB$11)*24,(1-ABS($AD$11-$AB$11))*24),-IF($AD$12>=$AB$12,($AD$12-$AB$12)*24,(1-ABS($AD$12-$AB$12))*24))*60,IF(AND($AB$3=$X$3,$X$19=\"\"),\"\",IF($AB$3=$X$3,SUM(IF($AD$11>=$AB$11,($AD$11-$AB$11)*24,(1-ABS($AD$11-$AB$11))*24),-IF($AD$12>=$AB$12,($AD$12-$AB$12)*24,(1-ABS($AD$12-$AB$12))*24))*60,IF(AND($T$19=\"\",$X$19=\"\"),SUM(IF($AD$11>=$AB$11,($AD$11-$AB$11)*24,(1-ABS($AD$11-$AB$11))*24),-IF($AD$12>=$AB$12,($AD$12-$AB$12)*24,(1-ABS($AD$12-$AB$12))*24))*60,\"\"))))))","v":""}]
[{"$f":"IF($X$3=\"\",\"\",IF(AND(ISNUMBER($X$20),ISTEXT($X$3)),_xlfn.XLOOKUP($X$3,Hilfen!$B$30:$B$32,Hilfen!$C$30:$C$32,\"\"),IF(AND(ISNUMBER($AB$20),ISTEXT($AB$3)),_xlfn.XLOOKUP($AB$3,Hilfen!$B$30:$B$32,Hilfen!$C$30:$C$32,\"\"),\"\")))","v":""},null,{"$f":"IF($A$20=\"\",\"\",C$18)","v":""},null,null,null,{"$f":"IF($A$20=\"\",\"\",G$18)","v":""},null,{"$f":"IF($A$20=\"\",\"\",I$18)","v":""},{"$f":"IF($A$20=\"\",\"\",J$18)","v":""},null,null,null,null,null,null,null,null,null,null,null,null,null,{"$f":"IF($X$3=\"\",\"\",IF($T$3=$P$3,\"\",IF($X$3=$P$3,\"\",IF($X$3=$T$3,\"\",SUM(IF($Z$11>=$X$11,($Z$11-$X$11)*24,(1-ABS($Z$11-$X$11))*24),-IF($Z$12>=$X$12,($Z$12-$X$12)*24,(1-ABS($Z$12-$X$12))*24))*60))))","v":""},null,null,null,{"$f":"IF($AB$3=\"\",\"\",IF($AB$3=$P$3,\"\",IF($AB$3=$T$3,\"\",IF($AB$3=$X$3,$X$20,IF(ISNUMBER($AB$19),\"\",SUM(IF($AD$11>=$AB$11,($AD$11-$AB$11)*24,(1-ABS($AD$11-$AB$11))*24),-IF($AD$12>=$AB$12,($AD$12-$AB$12)*24,(1-ABS($AD$12-$AB$12))*24))*60)))))","v":""}]
[]
[]
[]
[]
[]
[{"$f":"IF('Haupteingabe Monat'!$S45=\"\",\"\",'Haupteingabe Monat'!$S45)","v":""},null,"Beschreibung der Tagesleistung bei FAT-Katalog 2"]
[{"$f":"IF('Haupteingabe Monat'!$P45=\"\",\"\",'Haupteingabe Monat'!$P45)","v":""}]
[]
[]
["Meine Angaben sind vollständig \nund richtig",null,null,null,null,null,null,"Für den Auftraggeber (nur bei Bedarf) \nLeistung anerkannt",null,null,null,null,null,"Sachlich richtig: ",null,null,null,null,null,null,null,"in eTime gebucht",null,null,null,null,null,null,null,null,"in SAP gebucht"]
["Name",null,{"$f":"$Q$4","v":""},null,null,null,null,"Name",null,null,null,null,null,"Datum",null,"Unterschrift",null,null,null,null,null,"Datum",null,null,null,null,null,null,null,null,"Datum"]
["Datum",null,{"$f":"$AE$2","v":"07."},null,{"$f":"$AG$2","v":"2025-07-01"},null,{"$f":"$AI$2","v":2025},"Datum",null,null,null,null,null,"Name",{"$f":"IF($H$12=\"\",\"\",VLOOKUP($H$12,Hilfen!$F$1:$H$8,2,FALSE))","v":""},null,null,null,null,null,null,"Namens-zeichen",null,null,null,null,null,null,null,null,"Namens-zeichen"]
["Unterschrift",null,null,null,null,null,null,"Firma",null,null,null,null,null,"Vorname",{"$f":"IF($H$12=\"\",\"\",VLOOKUP($H$12,Hilfen!$F$1:$H$8,3,FALSE))","v":""}]
[null,null,null,null,null,null,null,"Unterschrift"]
[null,null,null,null,null,null,null,null,null,null,null,null,null,null,null,null,null,null,null,null,null,"Unvollständig oder fehlerhaft ausgefüllte Belege werden nicht gebucht; RIL 187.1001 !"]

{"sheet":"08 Trupp 1","index":17,"n_rows":35,"n_cols":40,"rows_kept":35,"cut":false,"hidden":false,"merged":[[32,13,33,13],[32,14,33,14],[34,21,35,42],[1,34,1,37],[30,24,30,29],[30,30,30,32],[30,33,30,42],[31,0,31,1],[31,2,31,3],[31,9,31,12],[31,21,33,23],[31,24,33,29],[31,30,33,32],[31,33,33,42],[30,0,30,1],[30,2,30,6],[30,7,30,8],[30,9,30,12],[30,15,33,20],[30,21,30,23],[32,0,33,1],[32,2,33,6],[32,7,32,8],[32,10,32,12],[25,0,25,1],[25,2,25,42],[26,0,28,42],[29,0,29,6],[29,7,29,12],[29,13,29,20],[29,21,29,29],[29,30,29,42],[24,19,24,22],[24,23,24,26],[24,27,24,30],[24,31,24,34],[24,35,24,38],[24,39,24,42],[23,23,23,26],[23,27,23,30],[23,31,23,34],[23,35,23,38],[23,39,23,42],[24,0,24,1],[24,2,24,5],[24,6,24,7],[24,9,24,14],[24,15,24,18],[23,0,23,1],[23,2,23,5],[23,6,23,7],[23,9,23,14],[23,15,23,18],[23,19,23,22],[22,19,22,22],[22,23,22,26],[22,27,22,30],[22,31,22,34],[22,35,22,38],[22,39,22,42],[21,23,21,26],[21,27,21,30],[21,31,21,34],[21,35,21,38],[21,39,21,42],[21,19,21,22],[22,0,22,1],[22,2,22,4],[22,6,22,7],[22,9,22,14],[22,15,22,18],[21,0,21,1],[21,2,21,4],[21,6,21,7],[21,9,21,14],[21,15,21,18],[20,19,20,22],[20,23,20,26],[20,27,20,30],[20,31,20,34],[20,35,20,38],[20,39,20,42],[19,23,19,26],[19,27,19,30],[19,31,19,34],[19,35,19,38],[19,39,19,42],[19,19,19,22],[20,0,20,1],[20,2,20,4],[20,6,20,7],[20,9,20,14],[20,15,20,18],[19,0,19,1],[19,2,19,4],[19,6,19,7],[19,9,19,14],[19,15,19,18],[18,19,18,22],[18,23,18,26],[18,27,18,30],[18,31,18,34],[18,35,18,38],[18,39,18,42],[17,23,17,26],[17,27,17,30],[17,31,17,34],[17,35,17,38],[17,39,17,42],[17,19,17,22],[18,0,18,1],[18,2,18,5],[18,6,18,7],[18,9,18,14],[18,15,18,18],[17,0,17,1],[17,2,17,5],[17,6,17,7],[17,9,17,14],[17,15,17,18],[14,27,14,30],[14,31,14,34],[14,35,14,38],[14,39,14,42],[15,15,15,18],[15,19,15,22],[15,23,15,26],[15,27,15,30],[15,31,15,34],[15,35,15,38],[13,39,13,40],[13,41,13,42],[14,0,16,1],[14,2,16,5],[14,6,16,7],[14,8,16,8],[14,9,16,14],[14,15,14,18],[14,19,14,22],[14,23,14,26],[13,27,13,28],[13,29,13,30],[13,31,13,32],[13,33,13,34],[13,35,13,36],[13,37,13,38],[15,39,15,42],[16,15,16,18],[16,19,16,22],[16,23,16,26],[16,27,16,30],[16,31,16,34],[16,35,16,38],[16,39,16,42],[13,13,13,14],[13,15,13,16],[13,17,13,18],[13,19,13,20],[13,21,13,22],[13,23,13,24],[13,25,13,26],[12,25,12,26],[12,27,12,28],[11,35,11,36],[11,37,11,38],[11,39,11,40],[11,41,11,42],[12,13,12,14],[12,15,12,16],[12,17,12,18],[12,19,12,20],[12,21,12,22],[12,23,12,24],[11,23,11,24],[11,25,11,26],[11,27,11,28],[11,29,11,30],[11,31,11,32],[11,33,11,34],[12,37,12,38],[12,39,12,40],[12,41,12,42],[12,29,12,30],[12,31,12,32],[12,33,12,34],[12,35,12,36],[11,0,11,6],[11,13,11,14],[11,15,11,16],[11,17,11,18],[11,19,11,20],[11,21,11,22],[10,23,10,24],[10,25,10,26],[10,27,10,28],[9,39,9,42],[10,13,10,14],[10,15,10,16],[10,17,10,18],[10,19,10,20],[10,21,10,22],[10,35,10,36],[10,37,10,38],[10,39,10,40],[10,41,10,42],[10,29,10,30],[10,31,10,32],[10,33,10,34],[4,4,4,7],[5,0,5,8],[6,3,6,8],[8,0,8,3],[9,15,9,18],[9,19,9,22],[3,31,8,31],[3,32,8,34],[3,35,8,35],[9,23,9,26],[9,27,9,30],[9,31,9,34],[9,35,9,38],[3,36,8,38],[3,39,8,39],[3,40,8,42],[2,39,2,42],[3,9,3,13],[3,15,8,15],[3,16,8,18],[3,19,8,19],[3,20,8,22],[3,23,8,23],[3,24,8,26],[3,27,8,27],[3,28,8,30],[1,0,2,8],[1,9,1,10],[1,15,1,22],[1,23,1,26],[1,27,1,29],[1,30,1,31],[1,32,1,33],[1,67,1,90],[2,9,2,14],[2,15,2,18],[2,19,2,22],[2,23,2,26],[2,27,2,30],[2,31,2,34],[2,35,2,38]]}
[]
["DB InfraGO AG \nRB Nord\nRegionale Instandsetzung ",null,null,null,null,null,null,null,null,"Blatt",null,{"$f":"IF('Haupteingabe Monat'!$Q11=\"\",\"\",'Haupteingabe Monat'!$Q11)","v":1},"/",{"$f":"IF('Haupteingabe Monat'!$R11=\"\",\"\",'Haupteingabe Monat'!$R11)","v":1},null,null,null,null,null,null,null,null,null,null,null,null,null,"Datum: ",null,null,"08.",null,{"$f":"'Haupteingabe Monat'!$H$1","v":"2025-07-01"},null,{"$f":"'Haupteingabe Monat'!$J$1","v":2025}]
[null,null,null,null,null,null,null,null,null,"SAP Arbeitsplatz",null,null,null,null,null,{"$f":"IF('Haupteingabe Monat'!$W11=\"\",\"\",'Haupteingabe Monat'!$W11)","v":""},null,null,null,{"$f":"IF('Haupteingabe Monat'!$AE11=\"\",\"\",'Haupteingabe Monat'!$AE11)","v":""},null,null,null,{"$f":"IF('Haupteingabe Monat'!$AM11=\"\",\"\",'Haupteingabe Monat'!$AM11)","v":""},null,null,null,{"$f":"IF('Haupteingabe Monat'!$AU11=\"\",\"\",'Haupteingabe Monat'!$AU11)","v":""}]
[null,null,null,null,null,null,null,null,null,"Sachbearb. etime: ",null,null,null,null,"SB3","Name",{"$f":"IF('Haupteingabe Monat'!$X11=\"\",\"\",'Haupteingabe Monat'!$X11)","v":""},null,null,"Name",{"$f":"IF('Haupteingabe Monat'!$AF11=\"\",\"\",'Haupteingabe Monat'!$AF11)","v":""},null,null,"Name",{"$f":"IF('Haupteingabe Monat'!$AN11=\"\",\"\",'Haupteingabe Monat'!$AN11)","v":""},null,null,"Name",{"$f":"IF('Haupteingabe Monat'!$AV11=\"\",\"\",'Haupteingabe Monat'!$AV11)","v":""},null,null,"Name",null,null,null,"Name",null,null,null,"Name"]
["Baustelle:",null,null,null,{"$f":"IF('Haupteingabe Monat'!$B11=\"\",\"\",'Haupteingabe Monat'!$B11)","v":""}]
[{"$f":"IF('Haupteingabe Monat'!$H11=\"\",\"\",'Haupteingabe Monat'!$H11)","v":""}]
[]
[]
["Auftragstyp:",null,null,null,{"$f":"IF('Haupteingabe Monat'!$I11=\"\",\"\",'Haupteingabe Monat'!$I11)","v":""}]
[null,null,null,null,null,null,null,null,null,null,null,null,null,null,null,"hh:min\nvon            bis",null,null,null,"hh:min\nvon            bis",null,null,null,"hh:min\nvon            bis",null,null,null,"hh:min\nvon            bis",null,null,null,"hh:min\nvon            bis",null,null,null,"hh:min\nvon            bis",null,null,null,"hh:min\nvon            bis"]
[null,null,null,null,null,null,null,null,null,null,null,null,null,"1. Arbeitszeit von ... bis …",null,{"$f":"IF('Haupteingabe Monat'!$Y11=\"\",\"\",'Haupteingabe Monat'!$Y11)","v":""},null,{"$f":"IF('Haupteingabe Monat'!$Z11=\"\",\"\",'Haupteingabe Monat'!$Z11)","v":""},null,{"$f":"IF('Haupteingabe Monat'!AG11=\"\",\"\",'Haupteingabe Monat'!AG11)","v":""},null,{"$f":"IF('Haupteingabe Monat'!AH11=\"\",\"\",'Haupteingabe Monat'!AH11)","v":""},null,{"$f":"IF('Haupteingabe Monat'!AO11=\"\",\"\",'Haupteingabe Monat'!AO11)","v":""},null,{"$f":"IF('Haupteingabe Monat'!AP11=\"\",\"\",'Haupteingabe Monat'!AP11)","v":""},null,{"$f":"IF('Haupteingabe Monat'!AW11=\"\",\"\",'Haupteingabe Monat'!AW11)","v":""},null,{"$f":"IF('Haupteingabe Monat'!AX11=\"\",\"\",'Haupteingabe Monat'!AX11)","v":""}]
["Auftragsveranwortlicher:",null,null,null,null,null,null,{"$f":"IF('Haupteingabe Monat'!$J11=\"\",\"\",'Haupteingabe Monat'!$J11)","v":""},null,null,null,null,null,"   Pause von ... bis ...",null,{"$f":"IF('Haupteingabe Monat'!$AA11=\"\",\"\",'Haupteingabe Monat'!$AA11)","v":""},null,{"$f":"IF('Haupteingabe Monat'!$AB11=\"\",\"\",'Haupteingabe Monat'!$AB11)","v":""},null,{"$f":"IF('Haupteingabe Monat'!AI11=\"\",\"\",'Haupteingabe Monat'!AI11)","v":""},null,{"$f":"IF('Haupteingabe Monat'!AJ11=\"\",\"\",'Haupteingabe Monat'!AJ11)","v":""},null,{"$f":"IF('Haupteingabe Monat'!AQ11=\"\",\"\",'Haupteingabe Monat'!AQ11)","v":""},null,{"$f":"IF('Haupteingabe Monat'!AR11=\"\",\"\",'Haupteingabe Monat'!AR11)","v":""},null,{"$f":"IF('Haupteingabe Monat'!AY11=\"\",\"\",'Haupteingabe Monat'!AY11)","v":""},null,{"$f":"IF('Haupteingabe Monat'!AZ11=\"\",\"\",'Haupteingabe Monat'!AZ11)","v":""}]
[null,null,null,null,null,null,null,null,null,null,null,null,null,"2. Arbeitszeit von ... bis ..."]
[null,null,null,null,null,null,null,null,null,null,null,null,null,"   Pause von ... bis ..."]
["SAP Vorgang",null,"FAT/AAA",null,null,null,"SAP*\nAuftragsnummer\n",null,"AAR\nKurznummer\n","Beschreibung der Tagesleistung\n",null,null,null,null,null,"anzurechnende",null,null,null,"anzurechnende",null,null,null,"anzurechnende",null,null,null,"anzurechnende",null,null,null,"anzurechnende",null,null,null,"anzurechnende",null,null,null,"anzurechnende"]
[null,null,null,null,null,null,null,null,null,null,null,null,null,null,null,"Arbeitszeit",null,null,null,"Arbeitszeit",null,null,null,"Arbeitszeit",null,null,null,"Arbeitszeit",null,null,null,"Arbeitszeit",null,null,null,"Arbeitszeit",null,null,null,"Arbeitszeit"]
[null,null,null,null,null,null,null,null,null,null,null,null,null,null,null,"(min)",null,null,null,"(min)",null,null,null,"(min)",null,null,null,"(min)",null,null,null,"(min)",null,null,null,"(min)",null,null,null,"(min)"]
[{"$f":"IF('Haupteingabe Monat'!$K11=\"\",\"\",'Haupteingabe Monat'!$K11)","v":""},null,{"$f":"IF('Haupteingabe Monat'!$L11=\"\",\"\",'Haupteingabe Monat'!$L11)","v":""},null,null,null,{"$f":"IF('Haupteingabe Monat'!$M11=\"\",\"\",'Haupteingabe Monat'!$M11)","v":""},null,{"$f":"IF('Haupteingabe Monat'!$N11=\"\",\"\",'Haupteingabe Monat'!$N11)","v":""},{"$f":"IF('Haupteingabe Monat'!$O11=\"\",\"\",'Haupteingabe Monat'!$O11)","v":""},null,null,null,null,null,{"$f":"IF($P$3=\"\",\"\",IF($J$18=\"JAZ\",\"0\",IF($J$18=\"Urlaub laufendes Jahr\",\"468\",SUM(IF($R$11>=$P$11,($R$11-$P$11)*24,(1-ABS($R$11-$P$11))*24),-IF($R$12>=$P$12,($R$12-$P$12)*24,(1-ABS($R$12-$P$12))*24))*60)))","v":""},null,null,null,{"$f":"IF($T$3=\"\",\"\",IF($T$3=$P$3,SUM(IF($V$11>=$T$11,($V$11-$T$11)*24,(1-ABS($V$11-$T$11))*24),-IF($V$12>=$T$12,($V$12-$T$12)*24,(1-ABS($V$12-$T$12))*24))*60,\"\"))","v":""},null,null,null,{"$f":"IF($X$3=\"\",\"\",IF($X$3=$P$3,SUM(IF($Z$11>=$X$11,($Z$11-$X$11)*24,(1-ABS($Z$11-$X$11))*24),-IF($Z$12>=$X$12,($Z$12-$X$12)*24,(1-ABS($Z$12-$X$12))*24))*60,\"\"))","v":""},null,null,null,{"$f":"IF($AB$3=\"\",\"\",IF($AB$3=$P$3,SUM(IF($AD$11>=$AB$11,($AD$11-$AB$11)*24,(1-ABS($AD$11-$AB$11))*24),-IF($AD$12>=$AB$12,($AD$12-$AB$12)*24,(1-ABS($AD$12-$AB$12))*24))*60,\"\"))","v":""},null,null,null,{"$f":"IF(AF11=\"\",\"\",SUM(IF(AH11>=AF11,(AH11-AF11)*24,(1-ABS(AH11-AF11))*24),-IF(AH12>=AF12,(AH12-AF12)*24,(1-ABS(AH12-AF12))*24))*60)","v":""},null,null,null,{"$f":"IF(AJ11=\"\",\"\",SUM(IF(AL11>=AJ11,(AL11-AJ11)*24,(1-ABS(AL11-AJ11))*24),-IF(AL12>=AJ12,(AL12-AJ12)*24,(1-ABS(AL12-AJ12))*24))*60)","v":""},null,null,null,{"$f":"IF(AN11=\"\",\"\",SUM(IF(AP11>=AN11,(AP11-AN11)*24,(1-ABS(AP11-AN11))*24),-IF(AP12>=AN12,(AP12-AN12)*24,(1-ABS(AP12-AN12))*24))*60)","v":""}]
[{"$f":"IF($T$3=\"\",\"\",IF(AND(ISNUMBER($T$19),ISTEXT($T$3)),_xlfn.XLOOKUP($T$3,Hilfen!$B$30:$B$32,Hilfen!$C$30:$C$32,\"\"),IF(AND(ISNUMBER($X$19),ISTEXT($X$3)),_xlfn.XLOOKUP($X$3,Hilfen!$B$30:$B$32,Hilfen!$C$30:$C$32,\"\"),IF(AND(ISNUMBER($AB$19),ISTEXT($AB$3)),_xlfn.XLOOKUP($AB$3,Hilfen!$B$30:$B$32,Hilfen!$C$30:$C$32,\"\"),\"\"))))","v":""},null,{"$f":"IF($A19=\"\",\"\",C$18)","v":""},null,null,null,{"$f":"IF($A19=\"\",\"\",$G18)","v":""},null,{"$f":"IF($A19=\"\",\"\",$I18)","v":""},{"$f":"IF($A19=\"\",\"\",$J18)","v":""},null,null,null,null,null,null,null,null,null,{"$f":"IF($T$3=\"\",\"\",IF($T$3=$P$3,\"\",IF($T$3<>$P$3,SUM(IF($V$11>=$T$11,($V$11-$T$11)*24,(1-ABS($V$11-$T$11))*24),-IF($V$12>=$T$12,($V$12-$T$12)*24,(1-ABS($V$12-$T$12))*24))*60,\"\")))","v":""},null,null,null,{"$f":"IF($X$3=\"\",\"\",IF($X$3=$P$3,\"\",IF($T$3=$P$3,SUM(IF($Z$11>=$X$11,($Z$11-$X$11)*24,(1-ABS($Z$11-$X$11))*24),-IF($Z$12>=$X$12,($Z$12-$X$12)*24,(1-ABS($Z$12-$X$12))*24))*60,IF(AND($X$3=\"SOFD\",$T$3=\"SOWMED\"),\"\",IF(AND($X$3=\"SOSMED\",$T$3=\"SOWMED\"),\"\",IF(AND($X$3=\"SOWMED\",$T$3=\"SOFD\"),\"\",IF(AND($X$3=\"SOWMED\",$T$3=\"SOSMED\"),\"\",IF(AND($X$3=\"SOFD\",$T$3=\"SOSMED\"),\"\",IF(AND($X$3=\"SOSMED\",$T$3=\"SOFD\"),\"\",SUM(IF($Z$11>=$X$11,($Z$11-$X$11)*24,(1-ABS($Z$11-$X$11))*24),-IF($Z$12>=$X$12,($Z$12-$X$12)*24,(1-ABS($Z$12-$X$12))*24))*60)))))))))","v":""},null,null,null,{"$f":"IF($AB$3=\"\",\"\",IF($AB$3=$P$3,\"\",IF($AB$3=$T$3,SUM(IF($AD$11>=$AB$11,($AD$11-$AB$11)*24,(1-ABS($AD$11-$AB$11))*24),-IF($AD$12>=$AB$12,($AD$12-$AB$12)*24,(1-ABS($AD$12-$AB$12))*24))*60,IF(AND($AB$3=$X$3,$X$19=\"\"),\"\",IF($AB$3=$X$3,SUM(IF($AD$11>=$AB$11,($AD$11-$AB$11)*24,(1-ABS($AD$11-$AB$11))*24),-IF($AD$12>=$AB$12,($AD$12-$AB$12)*24,(1-ABS($AD$12-$AB$12))*24))*60,IF(AND($T$19=\"\",$X$19=\"\"),SUM(IF($AD$11>=$AB$11,($AD$11-$AB$11)*24,(1-ABS($AD$11-$AB$11))*24),-IF($AD$12>=$AB$12,($AD$12-$AB$12)*24,(1-ABS($AD$12-$AB$12))*24))*60,\"\"))))))","v":""}]
[{"$f":"IF($X$3=\"\",\"\",IF(AND(ISNUMBER($X$20),ISTEXT($X$3)),_xlfn.XLOOKUP($X$3,Hilfen!$B$30:$B$32,Hilfen!$C$30:$C$32,\"\"),IF(AND(ISNUMBER($AB$20),ISTEXT($AB$3)),_xlfn.XLOOKUP($AB$3,Hilfen!$B$30:$B$32,Hilfen!$C$30:$C$32,\"\"),\"\")))","v":""},null,{"$f":"IF($A$20=\"\",\"\",C$18)","v":""},null,null,null,{"$f":"IF($A$20=\"\",\"\",G$18)","v":""},null,{"$f":"IF($A$20=\"\",\"\",I$18)","v":""},{"$f":"IF($A$20=\"\",\"\",J$18)","v":""},null,null,null,null,null,null,null,null,null,null,null,null,null,{"$f":"IF($X$3=\"\",\"\",IF($T$3=$P$3,\"\",IF($X$3=$P$3,\"\",IF($X$3=$T$3,\"\",SUM(IF($Z$11>=$X$11,($Z$11-$X$11)*24,(1-ABS($Z$11-$X$11))*24),-IF($Z$12>=$X$12,($Z$12-$X$12)*24,(1-ABS($Z$12-$X$12))*24))*60))))","v":""},null,null,null,{"$f":"IF($AB$3=\"\",\"\",IF($AB$3=$P$3,\"\",IF($AB$3=$T$3,\"\",IF($AB$3=$X$3,$X$20,IF(ISNUMBER($AB$19),\"\",SUM(IF($AD$11>=$AB$11,($AD$11-$AB$11)*24,(1-ABS($AD$11-$AB$11))*24),-IF($AD$12>=$AB$12,($AD$12-$AB$12)*24,(1-ABS($AD$12-$AB$12))*24))*60)))))","v":""}]
[]
[]
[]
[]
[]
[{"$f":"IF('Haupteingabe Monat'!$S11=\"\",\"\",'Haupteingabe Monat'!$S11)","v":""},null,"Beschreibung der Tagesleistung bei FAT-Katalog 2"]
[{"$f":"IF('Haupteingabe Monat'!$P11=\"\",\"\",'Haupteingabe Monat'!$P11)","v":""}]
[]
[]
["Meine Angaben sind vollständig \nund richtig",null,null,null,null,null,null,"Für den Auftraggeber (nur bei Bedarf) \nLeistung anerkannt",null,null,null,null,null,"Sachlich richtig: ",null,null,null,null,null,null,null,"in eTime gebucht",null,null,null,null,null,null,null,null,"in SAP gebucht"]
["Name",null,{"$f":"$Q$4","v":""},null,null,null,null,"Name",null,null,null,null,null,"Datum",null,"Unterschrift",null,null,null,null,null,"Datum",null,null,null,null,null,null,null,null,"Datum"]
["Datum",null,{"$f":"$AE$2","v":"08."},null,{"$f":"$AG$2","v":"2025-07-01"},null,{"$f":"$AI$2","v":2025},"Datum",null,null,null,null,null,"Name",{"$f":"IF($H$12=\"\",\"\",VLOOKUP($H$12,Hilfen!$F$1:$H$8,2,FALSE))","v":""},null,null,null,null,null,null,"Namens-zeichen",null,null,null,null,null,null,null,null,"Namens-zeichen"]
["Unterschrift",null,null,null,null,null,null,"Firma",null,null,null,null,null,"Vorname",{"$f":"IF($H$12=\"\",\"\",VLOOKUP($H$12,Hilfen!$F$1:$H$8,3,FALSE))","v":""}]
[null,null,null,null,null,null,null,"Unterschrift"]
[null,null,null,null,null,null,null,null,null,null,null,null,null,null,null,null,null,null,null,null,null,"Unvollständig oder fehlerhaft ausgefüllte Belege werden nicht gebucht; RIL 187.1001 !"]

{"sheet":"08 Trupp 2","index":18,"n_rows":35,"n_cols":40,"rows_kept":35,"cut":false,"hidden":false,"merged":[[32,13,33,13],[32,14,33,14],[34,21,35,42],[1,34,1,37],[30,24,30,29],[30,30,30,32],[30,33,30,42],[31,0,31,1],[31,2,31,3],[31,9,31,12],[31,21,33,23],[31,24,33,29],[31,30,33,32],[31,33,33,42],[30,0,30,1],[30,2,30,6],[30,7,30,8],[30,9,30,12],[30,15,33,20],[30,21,30,23],[32,0,33,1],[32,2,33,6],[32,7,32,8],[32,10,32,12],[25,0,25,1],[25,2,25,42],[26,0,28,42],[29,0,29,6],[29,7,29,12],[29,13,29,20],[29,21,29,29],[29,30,29,42],[24,19,24,22],[24,23,24,26],[24,27,24,30],[24,31,24,34],[24,35,24,38],[24,39,24,42],[23,23,23,26],[23,27,23,30],[23,31,23,34],[23,35,23,38],[23,39,23,42],[24,0,24,1],[24,2,24,5],[24,6,24,7],[24,9,24,14],[24,15,24,18],[23,0,23,1],[23,2,23,5],[23,6,23,7],[23,9,23,14],[23,15,23,18],[23,19,23,22],[22,19,22,22],[22,23,22,26],[22,27,22,30],[22,31,22,34],[22,35,22,38],[22,39,22,42],[21,23,21,26],[21,27,21,30],[21,31,21,34],[21,35,21,38],[21,39,21,42],[21,19,21,22],[22,0,22,1],[22,2,22,4],[22,6,22,7],[22,9,22,14],[22,15,22,18],[21,0,21,1],[21,2,21,4],[21,6,21,7],[21,9,21,14],[21,15,21,18],[20,19,20,22],[20,23,20,26],[20,27,20,30],[20,31,20,34],[20,35,20,38],[20,39,20,42],[19,23,19,26],[19,27,19,30],[19,31,19,34],[19,35,19,38],[19,39,19,42],[19,19,19,22],[20,0,20,1],[20,2,20,4],[20,6,20,7],[20,9,20,14],[20,15,20,18],[19,0,19,1],[19,2,19,4],[19,6,19,7],[19,9,19,14],[19,15,19,18],[18,19,18,22],[18,23,18,26],[18,27,18,30],[18,31,18,34],[18,35,18,38],[18,39,18,42],[17,23,17,26],[17,27,17,30],[17,31,17,34],[17,35,17,38],[17,39,17,42],[17,19,17,22],[18,0,18,1],[18,2,18,5],[18,6,18,7],[18,9,18,14],[18,15,18,18],[17,0,17,1],[17,2,17,5],[17,6,17,7],[17,9,17,14],[17,15,17,18],[14,27,14,30],[14,31,14,34],[14,35,14,38],[14,39,14,42],[15,15,15,18],[15,19,15,22],[15,23,15,26],[15,27,15,30],[15,31,15,34],[15,35,15,38],[13,39,13,40],[13,41,13,42],[14,0,16,1],[14,2,16,5],[14,6,16,7],[14,8,16,8],[14,9,16,14],[14,15,14,18],[14,19,14,22],[14,23,14,26],[13,27,13,28],[13,29,13,30],[13,31,13,32],[13,33,13,34],[13,35,13,36],[13,37,13,38],[15,39,15,42],[16,15,16,18],[16,19,16,22],[16,23,16,26],[16,27,16,30],[16,31,16,34],[16,35,16,38],[16,39,16,42],[13,13,13,14],[13,15,13,16],[13,17,13,18],[13,19,13,20],[13,21,13,22],[13,23,13,24],[13,25,13,26],[12,25,12,26],[12,27,12,28],[11,35,11,36],[11,37,11,38],[11,39,11,40],[11,41,11,42],[12,13,12,14],[12,15,12,16],[12,17,12,18],[12,19,12,20],[12,21,12,22],[12,23,12,24],[11,23,11,24],[11,25,11,26],[11,27,11,28],[11,29,11,30],[11,31,11,32],[11,33,11,34],[12,37,12,38],[12,39,12,40],[12,41,12,42],[12,29,12,30],[12,31,12,32],[12,33,12,34],[12,35,12,36],[11,0,11,6],[11,13,11,14],[11,15,11,16],[11,17,11,18],[11,19,11,20],[11,21,11,22],[10,23,10,24],[10,25,10,26],[10,27,10,28],[9,39,9,42],[10,13,10,14],[10,15,10,16],[10,17,10,18],[10,19,10,20],[10,21,10,22],[10,35,10,36],[10,37,10,38],[10,39,10,40],[10,41,10,42],[10,29,10,30],[10,31,10,32],[10,33,10,34],[4,4,4,7],[5,0,5,8],[6,3,6,8],[8,0,8,3],[9,15,9,18],[9,19,9,22],[3,31,8,31],[3,32,8,34],[3,35,8,35],[9,23,9,26],[9,27,9,30],[9,31,9,34],[9,35,9,38],[3,36,8,38],[3,39,8,39],[3,40,8,42],[2,39,2,42],[3,9,3,13],[3,15,8,15],[3,16,8,18],[3,19,8,19],[3,20,8,22],[3,23,8,23],[3,24,8,26],[3,27,8,27],[3,28,8,30],[1,0,2,8],[1,9,1,10],[1,15,1,22],[1,23,1,26],[1,27,1,29],[1,30,1,31],[1,32,1,33],[1,67,1,90],[2,9,2,14],[2,15,2,18],[2,19,2,22],[2,23,2,26],[2,27,2,30],[2,31,2,34],[2,35,2,38]]}
[]
["DB InfraGO AG \nRB Nord\nRegionale Instandsetzung ",null,null,null,null,null,null,null,null,"Blatt",null,{"$f":"IF('Haupteingabe Monat'!$Q46=\"\",\"\",'Haupteingabe Monat'!$Q46)","v":1},"/",{"$f":"IF('Haupteingabe Monat'!$R46=\"\",\"\",'Haupteingabe Monat'!$R46)","v":1},null,null,null,null,null,null,null,null,null,null,null,null,null,"Datum: ",null,null,"08.",null,{"$f":"'Haupteingabe Monat'!$H$1","v":"2025-07-01"},null,{"$f":"'Haupteingabe Monat'!$J$1","v":2025}]
[null,null,null,null,null,null,null,null,null,"SAP Arbeitsplatz",null,null,null,null,null,{"$f":"IF('Haupteingabe Monat'!$W46=\"\",\"\",'Haupteingabe Monat'!$W46)","v":""},null,null,null,{"$f":"IF('Haupteingabe Monat'!$AE46=\"\",\"\",'Haupteingabe Monat'!$AE46)","v":""},null,null,null,{"$f":"IF('Haupteingabe Monat'!$AM46=\"\",\"\",'Haupteingabe Monat'!$AM46)","v":""},null,null,null,{"$f":"IF('Haupteingabe Monat'!$AU46=\"\",\"\",'Haupteingabe Monat'!$AU46)","v":""}]
[null,null,null,null,null,null,null,null,null,"Sachbearb. etime: ",null,null,null,null,"SB3","Name",{"$f":"IF('Haupteingabe Monat'!$X46=\"\",\"\",'Haupteingabe Monat'!$X46)","v":""},null,null,"Name",{"$f":"IF('Haupteingabe Monat'!$AF46=\"\",\"\",'Haupteingabe Monat'!$AF46)","v":""},null,null,"Name",{"$f":"IF('Haupteingabe Monat'!$AN46=\"\",\"\",'Haupteingabe Monat'!$AN46)","v":""},null,null,"Name",{"$f":"IF('Haupteingabe Monat'!$AV46=\"\",\"\",'Haupteingabe Monat'!$AV46)","v":""},null,null,"Name",null,null,null,"Name",null,null,null,"Name"]
["Baustelle:",null,null,null,{"$f":"IF('Haupteingabe Monat'!$B46=\"\",\"\",'Haupteingabe Monat'!$B46)","v":""}]
[{"$f":"IF('Haupteingabe Monat'!$H46=\"\",\"\",'Haupteingabe Monat'!$H46)","v":""}]
[]
[]
["Auftragstyp:",null,null,null,{"$f":"IF('Haupteingabe Monat'!$I46=\"\",\"\",'Haupteingabe Monat'!$I46)","v":""}]
[null,null,null,null,null,null,null,null,null,null,null,null,null,null,null,"hh:min\nvon            bis",null,null,null,"hh:min\nvon            bis",null,null,null,"hh:min\nvon            bis",null,null,null,"hh:min\nvon            bis",null,null,null,"hh:min\nvon            bis",null,null,null,"hh:min\nvon            bis",null,null,null,"hh:min\nvon            bis"]
[null,null,null,null,null,null,null,null,null,null,null,null,null,"1. Arbeitszeit von ... bis …",null,{"$f":"IF('Haupteingabe Monat'!$Y46=\"\",\"\",'Haupteingabe Monat'!$Y46)","v":""},null,{"$f":"IF('Haupteingabe Monat'!$Z46=\"\",\"\",'Haupteingabe Monat'!$Z46)","v":""},null,{"$f":"IF('Haupteingabe Monat'!AG46=\"\",\"\",'Haupteingabe Monat'!AG46)","v":""},null,{"$f":"IF('Haupteingabe Monat'!AH46=\"\",\"\",'Haupteingabe Monat'!AH46)","v":""},null,{"$f":"IF('Haupteingabe Monat'!AO46=\"\",\"\",'Haupteingabe Monat'!AO46)","v":""},null,{"$f":"IF('Haupteingabe Monat'!AP46=\"\",\"\",'Haupteingabe Monat'!AP46)","v":""},null,{"$f":"IF('Haupteingabe Monat'!AW46=\"\",\"\",'Haupteingabe Monat'!AW46)","v":""},null,{"$f":"IF('Haupteingabe Monat'!AX46=\"\",\"\",'Haupteingabe Monat'!AX46)","v":""}]
["Auftragsveranwortlicher:",null,null,null,null,null,null,{"$f":"IF('Haupteingabe Monat'!$J46=\"\",\"\",'Haupteingabe Monat'!$J46)","v":""},null,null,null,null,null,"   Pause von ... bis ...",null,{"$f":"IF('Haupteingabe Monat'!$AA46=\"\",\"\",'Haupteingabe Monat'!$AA46)","v":""},null,{"$f":"IF('Haupteingabe Monat'!$AB46=\"\",\"\",'Haupteingabe Monat'!$AB46)","v":""},null,{"$f":"IF('Haupteingabe Monat'!AI46=\"\",\"\",'Haupteingabe Monat'!AI46)","v":""},null,{"$f":"IF('Haupteingabe Monat'!AJ46=\"\",\"\",'Haupteingabe Monat'!AJ46)","v":""},null,{"$f":"IF('Haupteingabe Monat'!AQ46=\"\",\"\",'Haupteingabe Monat'!AQ46)","v":""},null,{"$f":"IF('Haupteingabe Monat'!AR46=\"\",\"\",'Haupteingabe Monat'!AR46)","v":""},null,{"$f":"IF('Haupteingabe Monat'!AY46=\"\",\"\",'Haupteingabe Monat'!AY46)","v":""},null,{"$f":"IF('Haupteingabe Monat'!AZ46=\"\",\"\",'Haupteingabe Monat'!AZ46)","v":""}]
[null,null,null,null,null,null,null,null,null,null,null,null,null,"2. Arbeitszeit von ... bis ..."]
[null,null,null,null,null,null,null,null,null,null,null,null,null,"   Pause von ... bis ..."]
["SAP Vorgang",null,"FAT/AAA",null,null,null,"SAP*\nAuftragsnummer\n",null,"AAR\nKurznummer\n","Beschreibung der Tagesleistung\n",null,null,null,null,null,"anzurechnende",null,null,null,"anzurechnende",null,null,null,"anzurechnende",null,null,null,"anzurechnende",null,null,null,"anzurechnende",null,null,null,"anzurechnende",null,null,null,"anzurechnende"]
[null,null,null,null,null,null,null,null,null,null,null,null,null,null,null,"Arbeitszeit",null,null,null,"Arbeitszeit",null,null,null,"Arbeitszeit",null,null,null,"Arbeitszeit",null,null,null,"Arbeitszeit",null,null,null,"Arbeitszeit",null,null,null,"Arbeitszeit"]
[null,null,null,null,null,null,null,null,null,null,null,null,null,null,null,"(min)",null,null,null,"(min)",null,null,null,"(min)",null,null,null,"(min)",null,null,null,"(min)",null,null,null,"(min)",null,null,null,"(min)"]
[{"$f":"IF('Haupteingabe Monat'!$K46=\"\",\"\",'Haupteingabe Monat'!$K46)","v":""},null,{"$f":"IF('Haupteingabe Monat'!$L46=\"\",\"\",'Haupteingabe Monat'!$L46)","v":""},null,null,null,{"$f":"IF('Haupteingabe Monat'!$M46=\"\",\"\",'Haupteingabe Monat'!$M46)","v":""},null,{"$f":"IF('Haupteingabe Monat'!$N46=\"\",\"\",'Haupteingabe Monat'!$N46)","v":""},{"$f":"IF('Haupteingabe Monat'!$O46=\"\",\"\",'Haupteingabe Monat'!$O46)","v":""},null,null,null,null,null,{"$f":"IF($P$3=\"\",\"\",IF($J$18=\"JAZ\",\"0\",IF($J$18=\"Urlaub laufendes Jahr\",\"468\",SUM(IF($R$11>=$P$11,($R$11-$P$11)*24,(1-ABS($R$11-$P$11))*24),-IF($R$12>=$P$12,($R$12-$P$12)*24,(1-ABS($R$12-$P$12))*24))*60)))","v":""},null,null,null,{"$f":"IF($T$3=\"\",\"\",IF($T$3=$P$3,SUM(IF($V$11>=$T$11,($V$11-$T$11)*24,(1-ABS($V$11-$T$11))*24),-IF($V$12>=$T$12,($V$12-$T$12)*24,(1-ABS($V$12-$T$12))*24))*60,\"\"))","v":""},null,null,null,{"$f":"IF($X$3=\"\",\"\",IF($X$3=$P$3,SUM(IF($Z$11>=$X$11,($Z$11-$X$11)*24,(1-ABS($Z$11-$X$11))*24),-IF($Z$12>=$X$12,($Z$12-$X$12)*24,(1-ABS($Z$12-$X$12))*24))*60,\"\"))","v":""},null,null,null,{"$f":"IF($AB$3=\"\",\"\",IF($AB$3=$P$3,SUM(IF($AD$11>=$AB$11,($AD$11-$AB$11)*24,(1-ABS($AD$11-$AB$11))*24),-IF($AD$12>=$AB$12,($AD$12-$AB$12)*24,(1-ABS($AD$12-$AB$12))*24))*60,\"\"))","v":""},null,null,null,{"$f":"IF(AF11=\"\",\"\",SUM(IF(AH11>=AF11,(AH11-AF11)*24,(1-ABS(AH11-AF11))*24),-IF(AH12>=AF12,(AH12-AF12)*24,(1-ABS(AH12-AF12))*24))*60)","v":""},null,null,null,{"$f":"IF(AJ11=\"\",\"\",SUM(IF(AL11>=AJ11,(AL11-AJ11)*24,(1-ABS(AL11-AJ11))*24),-IF(AL12>=AJ12,(AL12-AJ12)*24,(1-ABS(AL12-AJ12))*24))*60)","v":""},null,null,null,{"$f":"IF(AN11=\"\",\"\",SUM(IF(AP11>=AN11,(AP11-AN11)*24,(1-ABS(AP11-AN11))*24),-IF(AP12>=AN12,(AP12-AN12)*24,(1-ABS(AP12-AN12))*24))*60)","v":""}]
[{"$f":"IF($T$3=\"\",\"\",IF(AND(ISNUMBER($T$19),ISTEXT($T$3)),_xlfn.XLOOKUP($T$3,Hilfen!$B$30:$B$32,Hilfen!$C$30:$C$32,\"\"),IF(AND(ISNUMBER($X$19),ISTEXT($X$3)),_xlfn.XLOOKUP($X$3,Hilfen!$B$30:$B$32,Hilfen!$C$30:$C$32,\"\"),IF(AND(ISNUMBER($AB$19),ISTEXT($AB$3)),_xlfn.XLOOKUP($AB$3,Hilfen!$B$30:$B$32,Hilfen!$C$30:$C$32,\"\"),\"\"))))","v":""},null,{"$f":"IF($A19=\"\",\"\",C$18)","v":""},null,null,null,{"$f":"IF($A19=\"\",\"\",$G18)","v":""},null,{"$f":"IF($A19=\"\",\"\",$I18)","v":""},{"$f":"IF($A19=\"\",\"\",$J18)","v":""},null,null,null,null,null,null,null,null,null,{"$f":"IF($T$3=\"\",\"\",IF($T$3=$P$3,\"\",IF($T$3<>$P$3,SUM(IF($V$11>=$T$11,($V$11-$T$11)*24,(1-ABS($V$11-$T$11))*24),-IF($V$12>=$T$12,($V$12-$T$12)*24,(1-ABS($V$12-$T$12))*24))*60,\"\")))","v":""},null,null,null,{"$f":"IF($X$3=\"\",\"\",IF($X$3=$P$3,\"\",IF($T$3=$P$3,SUM(IF($Z$11>=$X$11,($Z$11-$X$11)*24,(1-ABS($Z$11-$X$11))*24),-IF($Z$12>=$X$12,($Z$12-$X$12)*24,(1-ABS($Z$12-$X$12))*24))*60,IF(AND($X$3=\"SOFD\",$T$3=\"SOWMED\"),\"\",IF(AND($X$3=\"SOSMED\",$T$3=\"SOWMED\"),\"\",IF(AND($X$3=\"SOWMED\",$T$3=\"SOFD\"),\"\",IF(AND($X$3=\"SOWMED\",$T$3=\"SOSMED\"),\"\",IF(AND($X$3=\"SOFD\",$T$3=\"SOSMED\"),\"\",IF(AND($X$3=\"SOSMED\",$T$3=\"SOFD\"),\"\",SUM(IF($Z$11>=$X$11,($Z$11-$X$11)*24,(1-ABS($Z$11-$X$11))*24),-IF($Z$12>=$X$12,($Z$12-$X$12)*24,(1-ABS($Z$12-$X$12))*24))*60)))))))))","v":""},null,null,null,{"$f":"IF($AB$3=\"\",\"\",IF($AB$3=$P$3,\"\",IF($AB$3=$T$3,SUM(IF($AD$11>=$AB$11,($AD$11-$AB$11)*24,(1-ABS($AD$11-$AB$11))*24),-IF($AD$12>=$AB$12,($AD$12-$AB$12)*24,(1-ABS($AD$12-$AB$12))*24))*60,IF(AND($AB$3=$X$3,$X$19=\"\"),\"\",IF($AB$3=$X$3,SUM(IF($AD$11>=$AB$11,($AD$11-$AB$11)*24,(1-ABS($AD$11-$AB$11))*24),-IF($AD$12>=$AB$12,($AD$12-$AB$12)*24,(1-ABS($AD$12-$AB$12))*24))*60,IF(AND($T$19=\"\",$X$19=\"\"),SUM(IF($AD$11>=$AB$11,($AD$11-$AB$11)*24,(1-ABS($AD$11-$AB$11))*24),-IF($AD$12>=$AB$12,($AD$12-$AB$12)*24,(1-ABS($AD$12-$AB$12))*24))*60,\"\"))))))","v":""}]
[{"$f":"IF($X$3=\"\",\"\",IF(AND(ISNUMBER($X$20),ISTEXT($X$3)),_xlfn.XLOOKUP($X$3,Hilfen!$B$30:$B$32,Hilfen!$C$30:$C$32,\"\"),IF(AND(ISNUMBER($AB$20),ISTEXT($AB$3)),_xlfn.XLOOKUP($AB$3,Hilfen!$B$30:$B$32,Hilfen!$C$30:$C$32,\"\"),\"\")))","v":""},null,{"$f":"IF($A$20=\"\",\"\",C$18)","v":""},null,null,null,{"$f":"IF($A$20=\"\",\"\",G$18)","v":""},null,{"$f":"IF($A$20=\"\",\"\",I$18)","v":""},{"$f":"IF($A$20=\"\",\"\",J$18)","v":""},null,null,null,null,null,null,null,null,null,null,null,null,null,{"$f":"IF($X$3=\"\",\"\",IF($T$3=$P$3,\"\",IF($X$3=$P$3,\"\",IF($X$3=$T$3,\"\",SUM(IF($Z$11>=$X$11,($Z$11-$X$11)*24,(1-ABS($Z$11-$X$11))*24),-IF($Z$12>=$X$12,($Z$12-$X$12)*24,(1-ABS($Z$12-$X$12))*24))*60))))","v":""},null,null,null,{"$f":"IF($AB$3=\"\",\"\",IF($AB$3=$P$3,\"\",IF($AB$3=$T$3,\"\",IF($AB$3=$X$3,$X$20,IF(ISNUMBER($AB$19),\"\",SUM(IF($AD$11>=$AB$11,($AD$11-$AB$11)*24,(1-ABS($AD$11-$AB$11))*24),-IF($AD$12>=$AB$12,($AD$12-$AB$12)*24,(1-ABS($AD$12-$AB$12))*24))*60)))))","v":""}]
[]
[]
[]
[]
[]
[{"$f":"IF('Haupteingabe Monat'!$S46=\"\",\"\",'Haupteingabe Monat'!$S46)","v":""},null,"Beschreibung der Tagesleistung bei FAT-Katalog 2"]
[{"$f":"IF('Haupteingabe Monat'!$P46=\"\",\"\",'Haupteingabe Monat'!$P46)","v":""}]
[]
[]
["Meine Angaben sind vollständig \nund richtig",null,null,null,null,null,null,"Für den Auftraggeber (nur bei Bedarf) \nLeistung anerkannt",null,null,null,null,null,"Sachlich richtig: ",null,null,null,null,null,null,null,"in eTime gebucht",null,null,null,null,null,null,null,null,"in SAP gebucht"]
["Name",null,{"$f":"$Q$4","v":""},null,null,null,null,"Name",null,null,null,null,null,"Datum",null,"Unterschrift",null,null,null,null,null,"Datum",null,null,null,null,null,null,null,null,"Datum"]
["Datum",null,{"$f":"$AE$2","v":"08."},null,{"$f":"$AG$2","v":"2025-07-01"},null,{"$f":"$AI$2","v":2025},"Datum",null,null,null,null,null,"Name",{"$f":"IF($H$12=\"\",\"\",VLOOKUP($H$12,Hilfen!$F$1:$H$8,2,FALSE))","v":""},null,null,null,null,null,null,"Namens-zeichen",null,null,null,null,null,null,null,null,"Namens-zeichen"]
["Unterschrift",null,null,null,null,null,null,"Firma",null,null,null,null,null,"Vorname",{"$f":"IF($H$12=\"\",\"\",VLOOKUP($H$12,Hilfen!$F$1:$H$8,3,FALSE))","v":""}]
[null,null,null,null,null,null,null,"Unterschrift"]
[null,null,null,null,null,null,null,null,null,null,null,null,null,null,null,null,null,null,null,null,null,"Unvollständig oder fehlerhaft ausgefüllte Belege werden nicht gebucht; RIL 187.1001 !"]

{"sheet":"09 Trupp 1","index":19,"n_rows":35,"n_cols":40,"rows_kept":35,"cut":false,"hidden":false,"merged":[[32,13,33,13],[32,14,33,14],[34,21,35,42],[1,34,1,37],[30,24,30,29],[30,30,30,32],[30,33,30,42],[31,0,31,1],[31,2,31,3],[31,9,31,12],[31,21,33,23],[31,24,33,29],[31,30,33,32],[31,33,33,42],[30,0,30,1],[30,2,30,6],[30,7,30,8],[30,9,30,12],[30,15,33,20],[30,21,30,23],[32,0,33,1],[32,2,33,6],[32,7,32,8],[32,10,32,12],[25,0,25,1],[25,2,25,42],[26,0,28,42],[29,0,29,6],[29,7,29,12],[29,13,29,20],[29,21,29,29],[29,30,29,42],[24,19,24,22],[24,23,24,26],[24,27,24,30],[24,31,24,34],[24,35,24,38],[24,39,24,42],[23,23,23,26],[23,27,23,30],[23,31,23,34],[23,35,23,38],[23,39,23,42],[24,0,24,1],[24,2,24,5],[24,6,24,7],[24,9,24,14],[24,15,24,18],[23,0,23,1],[23,2,23,5],[23,6,23,7],[23,9,23,14],[23,15,23,18],[23,19,23,22],[22,19,22,22],[22,23,22,26],[22,27,22,30],[22,31,22,34],[22,35,22,38],[22,39,22,42],[21,23,21,26],[21,27,21,30],[21,31,21,34],[21,35,21,38],[21,39,21,42],[21,19,21,22],[22,0,22,1],[22,2,22,4],[22,6,22,7],[22,9,22,14],[22,15,22,18],[21,0,21,1],[21,2,21,4],[21,6,21,7],[21,9,21,14],[21,15,21,18],[20,19,20,22],[20,23,20,26],[20,27,20,30],[20,31,20,34],[20,35,20,38],[20,39,20,42],[19,23,19,26],[19,27,19,30],[19,31,19,34],[19,35,19,38],[19,39,19,42],[19,19,19,22],[20,0,20,1],[20,2,20,4],[20,6,20,7],[20,9,20,14],[20,15,20,18],[19,0,19,1],[19,2,19,4],[19,6,19,7],[19,9,19,14],[19,15,19,18],[18,19,18,22],[18,23,18,26],[18,27,18,30],[18,31,18,34],[18,35,18,38],[18,39,18,42],[17,23,17,26],[17,27,17,30],[17,31,17,34],[17,35,17,38],[17,39,17,42],[17,19,17,22],[18,0,18,1],[18,2,18,5],[18,6,18,7],[18,9,18,14],[18,15,18,18],[17,0,17,1],[17,2,17,5],[17,6,17,7],[17,9,17,14],[17,15,17,18],[14,27,14,30],[14,31,14,34],[14,35,14,38],[14,39,14,42],[15,15,15,18],[15,19,15,22],[15,23,15,26],[15,27,15,30],[15,31,15,34],[15,35,15,38],[13,39,13,40],[13,41,13,42],[14,0,16,1],[14,2,16,5],[14,6,16,7],[14,8,16,8],[14,9,16,14],[14,15,14,18],[14,19,14,22],[14,23,14,26],[13,27,13,28],[13,29,13,30],[13,31,13,32],[13,33,13,34],[13,35,13,36],[13,37,13,38],[15,39,15,42],[16,15,16,18],[16,19,16,22],[16,23,16,26],[16,27,16,30],[16,31,16,34],[16,35,16,38],[16,39,16,42],[13,13,13,14],[13,15,13,16],[13,17,13,18],[13,19,13,20],[13,21,13,22],[13,23,13,24],[13,25,13,26],[12,25,12,26],[12,27,12,28],[11,35,11,36],[11,37,11,38],[11,39,11,40],[11,41,11,42],[12,13,12,14],[12,15,12,16],[12,17,12,18],[12,19,12,20],[12,21,12,22],[12,23,12,24],[11,23,11,24],[11,25,11,26],[11,27,11,28],[11,29,11,30],[11,31,11,32],[11,33,11,34],[12,37,12,38],[12,39,12,40],[12,41,12,42],[12,29,12,30],[12,31,12,32],[12,33,12,34],[12,35,12,36],[11,0,11,6],[11,13,11,14],[11,15,11,16],[11,17,11,18],[11,19,11,20],[11,21,11,22],[10,23,10,24],[10,25,10,26],[10,27,10,28],[9,39,9,42],[10,13,10,14],[10,15,10,16],[10,17,10,18],[10,19,10,20],[10,21,10,22],[10,35,10,36],[10,37,10,38],[10,39,10,40],[10,41,10,42],[10,29,10,30],[10,31,10,32],[10,33,10,34],[4,4,4,7],[5,0,5,8],[6,3,6,8],[8,0,8,3],[9,15,9,18],[9,19,9,22],[3,31,8,31],[3,32,8,34],[3,35,8,35],[9,23,9,26],[9,27,9,30],[9,31,9,34],[9,35,9,38],[3,36,8,38],[3,39,8,39],[3,40,8,42],[2,39,2,42],[3,9,3,13],[3,15,8,15],[3,16,8,18],[3,19,8,19],[3,20,8,22],[3,23,8,23],[3,24,8,26],[3,27,8,27],[3,28,8,30],[1,0,2,8],[1,9,1,10],[1,15,1,22],[1,23,1,26],[1,27,1,29],[1,30,1,31],[1,32,1,33],[1,67,1,90],[2,9,2,14],[2,15,2,18],[2,19,2,22],[2,23,2,26],[2,27,2,30],[2,31,2,34],[2,35,2,38]]}
[]
["DB InfraGO AG \nRB Nord\nRegionale Instandsetzung ",null,null,null,null,null,null,null,null,"Blatt",null,{"$f":"IF('Haupteingabe Monat'!$Q12=\"\",\"\",'Haupteingabe Monat'!$Q12)","v":1},"/",{"$f":"IF('Haupteingabe Monat'!$R12=\"\",\"\",'Haupteingabe Monat'!$R12)","v":1},null,null,null,null,null,null,null,null,null,null,null,null,null,"Datum: ",null,null,"09.",null,{"$f":"'Haupteingabe Monat'!$H$1","v":"2025-07-01"},null,{"$f":"'Haupteingabe Monat'!$J$1","v":2025}]
[null,null,null,null,null,null,null,null,null,"SAP Arbeitsplatz",null,null,null,null,null,{"$f":"IF('Haupteingabe Monat'!$W12=\"\",\"\",'Haupteingabe Monat'!$W12)","v":""},null,null,null,{"$f":"IF('Haupteingabe Monat'!$AE12=\"\",\"\",'Haupteingabe Monat'!$AE12)","v":""},null,null,null,{"$f":"IF('Haupteingabe Monat'!$AM12=\"\",\"\",'Haupteingabe Monat'!$AM12)","v":""},null,null,null,{"$f":"IF('Haupteingabe Monat'!$AU12=\"\",\"\",'Haupteingabe Monat'!$AU12)","v":""}]
[null,null,null,null,null,null,null,null,null,"Sachbearb. etime: ",null,null,null,null,"SB3","Name",{"$f":"IF('Haupteingabe Monat'!$X12=\"\",\"\",'Haupteingabe Monat'!$X12)","v":""},null,null,"Name",{"$f":"IF('Haupteingabe Monat'!$AF12=\"\",\"\",'Haupteingabe Monat'!$AF12)","v":""},null,null,"Name",{"$f":"IF('Haupteingabe Monat'!$AN12=\"\",\"\",'Haupteingabe Monat'!$AN12)","v":""},null,null,"Name",{"$f":"IF('Haupteingabe Monat'!$AV12=\"\",\"\",'Haupteingabe Monat'!$AV12)","v":""},null,null,"Name",null,null,null,"Name",null,null,null,"Name"]
["Baustelle:",null,null,null,{"$f":"IF('Haupteingabe Monat'!$B12=\"\",\"\",'Haupteingabe Monat'!$B12)","v":""}]
[{"$f":"IF('Haupteingabe Monat'!$H12=\"\",\"\",'Haupteingabe Monat'!$H12)","v":""}]
[]
[]
["Auftragstyp:",null,null,null,{"$f":"IF('Haupteingabe Monat'!$I12=\"\",\"\",'Haupteingabe Monat'!$I12)","v":""}]
[null,null,null,null,null,null,null,null,null,null,null,null,null,null,null,"hh:min\nvon            bis",null,null,null,"hh:min\nvon            bis",null,null,null,"hh:min\nvon            bis",null,null,null,"hh:min\nvon            bis",null,null,null,"hh:min\nvon            bis",null,null,null,"hh:min\nvon            bis",null,null,null,"hh:min\nvon            bis"]
[null,null,null,null,null,null,null,null,null,null,null,null,null,"1. Arbeitszeit von ... bis …",null,{"$f":"IF('Haupteingabe Monat'!$Y12=\"\",\"\",'Haupteingabe Monat'!$Y12)","v":""},null,{"$f":"IF('Haupteingabe Monat'!$Z12=\"\",\"\",'Haupteingabe Monat'!$Z12)","v":""},null,{"$f":"IF('Haupteingabe Monat'!AG12=\"\",\"\",'Haupteingabe Monat'!AG12)","v":""},null,{"$f":"IF('Haupteingabe Monat'!AH12=\"\",\"\",'Haupteingabe Monat'!AH12)","v":""},null,{"$f":"IF('Haupteingabe Monat'!AO12=\"\",\"\",'Haupteingabe Monat'!AO12)","v":""},null,{"$f":"IF('Haupteingabe Monat'!AP12=\"\",\"\",'Haupteingabe Monat'!AP12)","v":""},null,{"$f":"IF('Haupteingabe Monat'!AW12=\"\",\"\",'Haupteingabe Monat'!AW12)","v":""},null,{"$f":"IF('Haupteingabe Monat'!AX12=\"\",\"\",'Haupteingabe Monat'!AX12)","v":""}]
["Auftragsveranwortlicher:",null,null,null,null,null,null,{"$f":"IF('Haupteingabe Monat'!$J12=\"\",\"\",'Haupteingabe Monat'!$J12)","v":""},null,null,null,null,null,"   Pause von ... bis ...",null,{"$f":"IF('Haupteingabe Monat'!$AA12=\"\",\"\",'Haupteingabe Monat'!$AA12)","v":""},null,{"$f":"IF('Haupteingabe Monat'!$AB12=\"\",\"\",'Haupteingabe Monat'!$AB12)","v":""},null,{"$f":"IF('Haupteingabe Monat'!AI12=\"\",\"\",'Haupteingabe Monat'!AI12)","v":""},null,{"$f":"IF('Haupteingabe Monat'!AJ12=\"\",\"\",'Haupteingabe Monat'!AJ12)","v":""},null,{"$f":"IF('Haupteingabe Monat'!AQ12=\"\",\"\",'Haupteingabe Monat'!AQ12)","v":""},null,{"$f":"IF('Haupteingabe Monat'!AR12=\"\",\"\",'Haupteingabe Monat'!AR12)","v":""},null,{"$f":"IF('Haupteingabe Monat'!AY12=\"\",\"\",'Haupteingabe Monat'!AY12)","v":""},null,{"$f":"IF('Haupteingabe Monat'!AZ12=\"\",\"\",'Haupteingabe Monat'!AZ12)","v":""}]
[null,null,null,null,null,null,null,null,null,null,null,null,null,"2. Arbeitszeit von ... bis ..."]
[null,null,null,null,null,null,null,null,null,null,null,null,null,"   Pause von ... bis ..."]
["SAP Vorgang",null,"FAT/AAA",null,null,null,"SAP*\nAuftragsnummer\n",null,"AAR\nKurznummer\n","Beschreibung der Tagesleistung\n",null,null,null,null,null,"anzurechnende",null,null,null,"anzurechnende",null,null,null,"anzurechnende",null,null,null,"anzurechnende",null,null,null,"anzurechnende",null,null,null,"anzurechnende",null,null,null,"anzurechnende"]
[null,null,null,null,null,null,null,null,null,null,null,null,null,null,null,"Arbeitszeit",null,null,null,"Arbeitszeit",null,null,null,"Arbeitszeit",null,null,null,"Arbeitszeit",null,null,null,"Arbeitszeit",null,null,null,"Arbeitszeit",null,null,null,"Arbeitszeit"]
[null,null,null,null,null,null,null,null,null,null,null,null,null,null,null,"(min)",null,null,null,"(min)",null,null,null,"(min)",null,null,null,"(min)",null,null,null,"(min)",null,null,null,"(min)",null,null,null,"(min)"]
[{"$f":"IF('Haupteingabe Monat'!$K12=\"\",\"\",'Haupteingabe Monat'!$K12)","v":""},null,{"$f":"IF('Haupteingabe Monat'!$L12=\"\",\"\",'Haupteingabe Monat'!$L12)","v":""},null,null,null,{"$f":"IF('Haupteingabe Monat'!$M12=\"\",\"\",'Haupteingabe Monat'!$M12)","v":""},null,{"$f":"IF('Haupteingabe Monat'!$N12=\"\",\"\",'Haupteingabe Monat'!$N12)","v":""},{"$f":"IF('Haupteingabe Monat'!$O12=\"\",\"\",'Haupteingabe Monat'!$O12)","v":""},null,null,null,null,null,{"$f":"IF($P$3=\"\",\"\",IF($J$18=\"JAZ\",\"0\",IF($J$18=\"Urlaub laufendes Jahr\",\"468\",SUM(IF($R$11>=$P$11,($R$11-$P$11)*24,(1-ABS($R$11-$P$11))*24),-IF($R$12>=$P$12,($R$12-$P$12)*24,(1-ABS($R$12-$P$12))*24))*60)))","v":""},null,null,null,{"$f":"IF($T$3=\"\",\"\",IF($T$3=$P$3,SUM(IF($V$11>=$T$11,($V$11-$T$11)*24,(1-ABS($V$11-$T$11))*24),-IF($V$12>=$T$12,($V$12-$T$12)*24,(1-ABS($V$12-$T$12))*24))*60,\"\"))","v":""},null,null,null,{"$f":"IF($X$3=\"\",\"\",IF($X$3=$P$3,SUM(IF($Z$11>=$X$11,($Z$11-$X$11)*24,(1-ABS($Z$11-$X$11))*24),-IF($Z$12>=$X$12,($Z$12-$X$12)*24,(1-ABS($Z$12-$X$12))*24))*60,\"\"))","v":""},null,null,null,{"$f":"IF($AB$3=\"\",\"\",IF($AB$3=$P$3,SUM(IF($AD$11>=$AB$11,($AD$11-$AB$11)*24,(1-ABS($AD$11-$AB$11))*24),-IF($AD$12>=$AB$12,($AD$12-$AB$12)*24,(1-ABS($AD$12-$AB$12))*24))*60,\"\"))","v":""},null,null,null,{"$f":"IF(AF11=\"\",\"\",SUM(IF(AH11>=AF11,(AH11-AF11)*24,(1-ABS(AH11-AF11))*24),-IF(AH12>=AF12,(AH12-AF12)*24,(1-ABS(AH12-AF12))*24))*60)","v":""},null,null,null,{"$f":"IF(AJ11=\"\",\"\",SUM(IF(AL11>=AJ11,(AL11-AJ11)*24,(1-ABS(AL11-AJ11))*24),-IF(AL12>=AJ12,(AL12-AJ12)*24,(1-ABS(AL12-AJ12))*24))*60)","v":""},null,null,null,{"$f":"IF(AN11=\"\",\"\",SUM(IF(AP11>=AN11,(AP11-AN11)*24,(1-ABS(AP11-AN11))*24),-IF(AP12>=AN12,(AP12-AN12)*24,(1-ABS(AP12-AN12))*24))*60)","v":""}]
[{"$f":"IF($T$3=\"\",\"\",IF(AND(ISNUMBER($T$19),ISTEXT($T$3)),_xlfn.XLOOKUP($T$3,Hilfen!$B$30:$B$32,Hilfen!$C$30:$C$32,\"\"),IF(AND(ISNUMBER($X$19),ISTEXT($X$3)),_xlfn.XLOOKUP($X$3,Hilfen!$B$30:$B$32,Hilfen!$C$30:$C$32,\"\"),IF(AND(ISNUMBER($AB$19),ISTEXT($AB$3)),_xlfn.XLOOKUP($AB$3,Hilfen!$B$30:$B$32,Hilfen!$C$30:$C$32,\"\"),\"\"))))","v":""},null,{"$f":"IF($A19=\"\",\"\",C$18)","v":""},null,null,null,{"$f":"IF($A19=\"\",\"\",$G18)","v":""},null,{"$f":"IF($A19=\"\",\"\",$I18)","v":""},{"$f":"IF($A19=\"\",\"\",$J18)","v":""},null,null,null,null,null,null,null,null,null,{"$f":"IF($T$3=\"\",\"\",IF($T$3=$P$3,\"\",IF($T$3<>$P$3,SUM(IF($V$11>=$T$11,($V$11-$T$11)*24,(1-ABS($V$11-$T$11))*24),-IF($V$12>=$T$12,($V$12-$T$12)*24,(1-ABS($V$12-$T$12))*24))*60,\"\")))","v":""},null,null,null,{"$f":"IF($X$3=\"\",\"\",IF($X$3=$P$3,\"\",IF($T$3=$P$3,SUM(IF($Z$11>=$X$11,($Z$11-$X$11)*24,(1-ABS($Z$11-$X$11))*24),-IF($Z$12>=$X$12,($Z$12-$X$12)*24,(1-ABS($Z$12-$X$12))*24))*60,IF(AND($X$3=\"SOFD\",$T$3=\"SOWMED\"),\"\",IF(AND($X$3=\"SOSMED\",$T$3=\"SOWMED\"),\"\",IF(AND($X$3=\"SOWMED\",$T$3=\"SOFD\"),\"\",IF(AND($X$3=\"SOWMED\",$T$3=\"SOSMED\"),\"\",IF(AND($X$3=\"SOFD\",$T$3=\"SOSMED\"),\"\",IF(AND($X$3=\"SOSMED\",$T$3=\"SOFD\"),\"\",SUM(IF($Z$11>=$X$11,($Z$11-$X$11)*24,(1-ABS($Z$11-$X$11))*24),-IF($Z$12>=$X$12,($Z$12-$X$12)*24,(1-ABS($Z$12-$X$12))*24))*60)))))))))","v":""},null,null,null,{"$f":"IF($AB$3=\"\",\"\",IF($AB$3=$P$3,\"\",IF($AB$3=$T$3,SUM(IF($AD$11>=$AB$11,($AD$11-$AB$11)*24,(1-ABS($AD$11-$AB$11))*24),-IF($AD$12>=$AB$12,($AD$12-$AB$12)*24,(1-ABS($AD$12-$AB$12))*24))*60,IF(AND($AB$3=$X$3,$X$19=\"\"),\"\",IF($AB$3=$X$3,SUM(IF($AD$11>=$AB$11,($AD$11-$AB$11)*24,(1-ABS($AD$11-$AB$11))*24),-IF($AD$12>=$AB$12,($AD$12-$AB$12)*24,(1-ABS($AD$12-$AB$12))*24))*60,IF(AND($T$19=\"\",$X$19=\"\"),SUM(IF($AD$11>=$AB$11,($AD$11-$AB$11)*24,(1-ABS($AD$11-$AB$11))*24),-IF($AD$12>=$AB$12,($AD$12-$AB$12)*24,(1-ABS($AD$12-$AB$12))*24))*60,\"\"))))))","v":""}]
[{"$f":"IF($X$3=\"\",\"\",IF(AND(ISNUMBER($X$20),ISTEXT($X$3)),_xlfn.XLOOKUP($X$3,Hilfen!$B$30:$B$32,Hilfen!$C$30:$C$32,\"\"),IF(AND(ISNUMBER($AB$20),ISTEXT($AB$3)),_xlfn.XLOOKUP($AB$3,Hilfen!$B$30:$B$32,Hilfen!$C$30:$C$32,\"\"),\"\")))","v":""},null,{"$f":"IF($A$20=\"\",\"\",C$18)","v":""},null,null,null,{"$f":"IF($A$20=\"\",\"\",G$18)","v":""},null,{"$f":"IF($A$20=\"\",\"\",I$18)","v":""},{"$f":"IF($A$20=\"\",\"\",J$18)","v":""},null,null,null,null,null,null,null,null,null,null,null,null,null,{"$f":"IF($X$3=\"\",\"\",IF($T$3=$P$3,\"\",IF($X$3=$P$3,\"\",IF($X$3=$T$3,\"\",SUM(IF($Z$11>=$X$11,($Z$11-$X$11)*24,(1-ABS($Z$11-$X$11))*24),-IF($Z$12>=$X$12,($Z$12-$X$12)*24,(1-ABS($Z$12-$X$12))*24))*60))))","v":""},null,null,null,{"$f":"IF($AB$3=\"\",\"\",IF($AB$3=$P$3,\"\",IF($AB$3=$T$3,\"\",IF($AB$3=$X$3,$X$20,IF(ISNUMBER($AB$19),\"\",SUM(IF($AD$11>=$AB$11,($AD$11-$AB$11)*24,(1-ABS($AD$11-$AB$11))*24),-IF($AD$12>=$AB$12,($AD$12-$AB$12)*24,(1-ABS($AD$12-$AB$12))*24))*60)))))","v":""}]
[]
[]
[]
[]
[]
[{"$f":"IF('Haupteingabe Monat'!$S12=\"\",\"\",'Haupteingabe Monat'!$S12)","v":""},null,"Beschreibung der Tagesleistung bei FAT-Katalog 2"]
[{"$f":"IF('Haupteingabe Monat'!$P12=\"\",\"\",'Haupteingabe Monat'!$P12)","v":""}]
[]
[]
["Meine Angaben sind vollständig \nund richtig",null,null,null,null,null,null,"Für den Auftraggeber (nur bei Bedarf) \nLeistung anerkannt",null,null,null,null,null,"Sachlich richtig: ",null,null,null,null,null,null,null,"in eTime gebucht",null,null,null,null,null,null,null,null,"in SAP gebucht"]
["Name",null,{"$f":"$Q$4","v":""},null,null,null,null,"Name",null,null,null,null,null,"Datum",null,"Unterschrift",null,null,null,null,null,"Datum",null,null,null,null,null,null,null,null,"Datum"]
["Datum",null,{"$f":"$AE$2","v":"09."},null,{"$f":"$AG$2","v":"2025-07-01"},null,{"$f":"$AI$2","v":2025},"Datum",null,null,null,null,null,"Name",{"$f":"IF($H$12=\"\",\"\",VLOOKUP($H$12,Hilfen!$F$1:$H$8,2,FALSE))","v":""},null,null,null,null,null,null,"Namens-zeichen",null,null,null,null,null,null,null,null,"Namens-zeichen"]
["Unterschrift",null,null,null,null,null,null,"Firma",null,null,null,null,null,"Vorname",{"$f":"IF($H$12=\"\",\"\",VLOOKUP($H$12,Hilfen!$F$1:$H$8,3,FALSE))","v":""}]
[null,null,null,null,null,null,null,"Unterschrift"]
[null,null,null,null,null,null,null,null,null,null,null,null,null,null,null,null,null,null,null,null,null,"Unvollständig oder fehlerhaft ausgefüllte Belege werden nicht gebucht; RIL 187.1001 !"]

{"sheet":"09 Trupp 2","index":20,"n_rows":35,"n_cols":40,"rows_kept":35,"cut":false,"hidden":false,"merged":[[32,13,33,13],[32,14,33,14],[34,21,35,42],[1,34,1,37],[30,24,30,29],[30,30,30,32],[30,33,30,42],[31,0,31,1],[31,2,31,3],[31,9,31,12],[31,21,33,23],[31,24,33,29],[31,30,33,32],[31,33,33,42],[30,0,30,1],[30,2,30,6],[30,7,30,8],[30,9,30,12],[30,15,33,20],[30,21,30,23],[32,0,33,1],[32,2,33,6],[32,7,32,8],[32,10,32,12],[25,0,25,1],[25,2,25,42],[26,0,28,42],[29,0,29,6],[29,7,29,12],[29,13,29,20],[29,21,29,29],[29,30,29,42],[24,19,24,22],[24,23,24,26],[24,27,24,30],[24,31,24,34],[24,35,24,38],[24,39,24,42],[23,23,23,26],[23,27,23,30],[23,31,23,34],[23,35,23,38],[23,39,23,42],[24,0,24,1],[24,2,24,5],[24,6,24,7],[24,9,24,14],[24,15,24,18],[23,0,23,1],[23,2,23,5],[23,6,23,7],[23,9,23,14],[23,15,23,18],[23,19,23,22],[22,19,22,22],[22,23,22,26],[22,27,22,30],[22,31,22,34],[22,35,22,38],[22,39,22,42],[21,23,21,26],[21,27,21,30],[21,31,21,34],[21,35,21,38],[21,39,21,42],[21,19,21,22],[22,0,22,1],[22,2,22,4],[22,6,22,7],[22,9,22,14],[22,15,22,18],[21,0,21,1],[21,2,21,4],[21,6,21,7],[21,9,21,14],[21,15,21,18],[20,19,20,22],[20,23,20,26],[20,27,20,30],[20,31,20,34],[20,35,20,38],[20,39,20,42],[19,23,19,26],[19,27,19,30],[19,31,19,34],[19,35,19,38],[19,39,19,42],[19,19,19,22],[20,0,20,1],[20,2,20,4],[20,6,20,7],[20,9,20,14],[20,15,20,18],[19,0,19,1],[19,2,19,4],[19,6,19,7],[19,9,19,14],[19,15,19,18],[18,19,18,22],[18,23,18,26],[18,27,18,30],[18,31,18,34],[18,35,18,38],[18,39,18,42],[17,23,17,26],[17,27,17,30],[17,31,17,34],[17,35,17,38],[17,39,17,42],[17,19,17,22],[18,0,18,1],[18,2,18,5],[18,6,18,7],[18,9,18,14],[18,15,18,18],[17,0,17,1],[17,2,17,5],[17,6,17,7],[17,9,17,14],[17,15,17,18],[14,27,14,30],[14,31,14,34],[14,35,14,38],[14,39,14,42],[15,15,15,18],[15,19,15,22],[15,23,15,26],[15,27,15,30],[15,31,15,34],[15,35,15,38],[13,39,13,40],[13,41,13,42],[14,0,16,1],[14,2,16,5],[14,6,16,7],[14,8,16,8],[14,9,16,14],[14,15,14,18],[14,19,14,22],[14,23,14,26],[13,27,13,28],[13,29,13,30],[13,31,13,32],[13,33,13,34],[13,35,13,36],[13,37,13,38],[15,39,15,42],[16,15,16,18],[16,19,16,22],[16,23,16,26],[16,27,16,30],[16,31,16,34],[16,35,16,38],[16,39,16,42],[13,13,13,14],[13,15,13,16],[13,17,13,18],[13,19,13,20],[13,21,13,22],[13,23,13,24],[13,25,13,26],[12,25,12,26],[12,27,12,28],[11,35,11,36],[11,37,11,38],[11,39,11,40],[11,41,11,42],[12,13,12,14],[12,15,12,16],[12,17,12,18],[12,19,12,20],[12,21,12,22],[12,23,12,24],[11,23,11,24],[11,25,11,26],[11,27,11,28],[11,29,11,30],[11,31,11,32],[11,33,11,34],[12,37,12,38],[12,39,12,40],[12,41,12,42],[12,29,12,30],[12,31,12,32],[12,33,12,34],[12,35,12,36],[11,0,11,6],[11,13,11,14],[11,15,11,16],[11,17,11,18],[11,19,11,20],[11,21,11,22],[10,23,10,24],[10,25,10,26],[10,27,10,28],[9,39,9,42],[10,13,10,14],[10,15,10,16],[10,17,10,18],[10,19,10,20],[10,21,10,22],[10,35,10,36],[10,37,10,38],[10,39,10,40],[10,41,10,42],[10,29,10,30],[10,31,10,32],[10,33,10,34],[4,4,4,7],[5,0,5,8],[6,3,6,8],[8,0,8,3],[9,15,9,18],[9,19,9,22],[3,31,8,31],[3,32,8,34],[3,35,8,35],[9,23,9,26],[9,27,9,30],[9,31,9,34],[9,35,9,38],[3,36,8,38],[3,39,8,39],[3,40,8,42],[2,39,2,42],[3,9,3,13],[3,15,8,15],[3,16,8,18],[3,19,8,19],[3,20,8,22],[3,23,8,23],[3,24,8,26],[3,27,8,27],[3,28,8,30],[1,0,2,8],[1,9,1,10],[1,15,1,22],[1,23,1,26],[1,27,1,29],[1,30,1,31],[1,32,1,33],[1,67,1,90],[2,9,2,14],[2,15,2,18],[2,19,2,22],[2,23,2,26],[2,27,2,30],[2,31,2,34],[2,35,2,38]]}
[]
["DB InfraGO AG \nRB Nord\nRegionale Instandsetzung ",null,null,null,null,null,null,null,null,"Blatt",null,{"$f":"IF('Haupteingabe Monat'!$Q47=\"\",\"\",'Haupteingabe Monat'!$Q47)","v":1},"/",{"$f":"IF('Haupteingabe Monat'!$R47=\"\",\"\",'Haupteingabe Monat'!$R47)","v":1},null,null,null,null,null,null,null,null,null,null,null,null,null,"Datum: ",null,null,"09.",null,{"$f":"'Haupteingabe Monat'!$H$1","v":"2025-07-01"},null,{"$f":"'Haupteingabe Monat'!$J$1","v":2025}]
[null,null,null,null,null,null,null,null,null,"SAP Arbeitsplatz",null,null,null,null,null,{"$f":"IF('Haupteingabe Monat'!$W47=\"\",\"\",'Haupteingabe Monat'!$W47)","v":""},null,null,null,{"$f":"IF('Haupteingabe Monat'!$AE47=\"\",\"\",'Haupteingabe Monat'!$AE47)","v":""},null,null,null,{"$f":"IF('Haupteingabe Monat'!$AM47=\"\",\"\",'Haupteingabe Monat'!$AM47)","v":""},null,null,null,{"$f":"IF('Haupteingabe Monat'!$AU47=\"\",\"\",'Haupteingabe Monat'!$AU47)","v":""}]
[null,null,null,null,null,null,null,null,null,"Sachbearb. etime: ",null,null,null,null,"SB3","Name",{"$f":"IF('Haupteingabe Monat'!$X47=\"\",\"\",'Haupteingabe Monat'!$X47)","v":""},null,null,"Name",{"$f":"IF('Haupteingabe Monat'!$AF47=\"\",\"\",'Haupteingabe Monat'!$AF47)","v":""},null,null,"Name",{"$f":"IF('Haupteingabe Monat'!$AN47=\"\",\"\",'Haupteingabe Monat'!$AN47)","v":""},null,null,"Name",{"$f":"IF('Haupteingabe Monat'!$AV47=\"\",\"\",'Haupteingabe Monat'!$AV47)","v":""},null,null,"Name",null,null,null,"Name",null,null,null,"Name"]
["Baustelle:",null,null,null,{"$f":"IF('Haupteingabe Monat'!$B47=\"\",\"\",'Haupteingabe Monat'!$B47)","v":""}]
[{"$f":"IF('Haupteingabe Monat'!$H47=\"\",\"\",'Haupteingabe Monat'!$H47)","v":""}]
[]
[]
["Auftragstyp:",null,null,null,{"$f":"IF('Haupteingabe Monat'!$I47=\"\",\"\",'Haupteingabe Monat'!$I47)","v":""}]
[null,null,null,null,null,null,null,null,null,null,null,null,null,null,null,"hh:min\nvon            bis",null,null,null,"hh:min\nvon            bis",null,null,null,"hh:min\nvon            bis",null,null,null,"hh:min\nvon            bis",null,null,null,"hh:min\nvon            bis",null,null,null,"hh:min\nvon            bis",null,null,null,"hh:min\nvon            bis"]
[null,null,null,null,null,null,null,null,null,null,null,null,null,"1. Arbeitszeit von ... bis …",null,{"$f":"IF('Haupteingabe Monat'!$Y47=\"\",\"\",'Haupteingabe Monat'!$Y47)","v":""},null,{"$f":"IF('Haupteingabe Monat'!$Z47=\"\",\"\",'Haupteingabe Monat'!$Z47)","v":""},null,{"$f":"IF('Haupteingabe Monat'!AG47=\"\",\"\",'Haupteingabe Monat'!AG47)","v":""},null,{"$f":"IF('Haupteingabe Monat'!AH47=\"\",\"\",'Haupteingabe Monat'!AH47)","v":""},null,{"$f":"IF('Haupteingabe Monat'!AO47=\"\",\"\",'Haupteingabe Monat'!AO47)","v":""},null,{"$f":"IF('Haupteingabe Monat'!AP47=\"\",\"\",'Haupteingabe Monat'!AP47)","v":""},null,{"$f":"IF('Haupteingabe Monat'!AW47=\"\",\"\",'Haupteingabe Monat'!AW47)","v":""},null,{"$f":"IF('Haupteingabe Monat'!AX47=\"\",\"\",'Haupteingabe Monat'!AX47)","v":""}]
["Auftragsveranwortlicher:",null,null,null,null,null,null,{"$f":"IF('Haupteingabe Monat'!$J47=\"\",\"\",'Haupteingabe Monat'!$J47)","v":""},null,null,null,null,null,"   Pause von ... bis ...",null,{"$f":"IF('Haupteingabe Monat'!$AA47=\"\",\"\",'Haupteingabe Monat'!$AA47)","v":""},null,{"$f":"IF('Haupteingabe Monat'!$AB47=\"\",\"\",'Haupteingabe Monat'!$AB47)","v":""},null,{"$f":"IF('Haupteingabe Monat'!AI47=\"\",\"\",'Haupteingabe Monat'!AI47)","v":""},null,{"$f":"IF('Haupteingabe Monat'!AJ47=\"\",\"\",'Haupteingabe Monat'!AJ47)","v":""},null,{"$f":"IF('Haupteingabe Monat'!AQ47=\"\",\"\",'Haupteingabe Monat'!AQ47)","v":""},null,{"$f":"IF('Haupteingabe Monat'!AR47=\"\",\"\",'Haupteingabe Monat'!AR47)","v":""},null,{"$f":"IF('Haupteingabe Monat'!AY47=\"\",\"\",'Haupteingabe Monat'!AY47)","v":""},null,{"$f":"IF('Haupteingabe Monat'!AZ47=\"\",\"\",'Haupteingabe Monat'!AZ47)","v":""}]
[null,null,null,null,null,null,null,null,null,null,null,null,null,"2. Arbeitszeit von ... bis ..."]
[null,null,null,null,null,null,null,null,null,null,null,null,null,"   Pause von ... bis ..."]
["SAP Vorgang",null,"FAT/AAA",null,null,null,"SAP*\nAuftragsnummer\n",null,"AAR\nKurznummer\n","Beschreibung der Tagesleistung\n",null,null,null,null,null,"anzurechnende",null,null,null,"anzurechnende",null,null,null,"anzurechnende",null,null,null,"anzurechnende",null,null,null,"anzurechnende",null,null,null,"anzurechnende",null,null,null,"anzurechnende"]
[null,null,null,null,null,null,null,null,null,null,null,null,null,null,null,"Arbeitszeit",null,null,null,"Arbeitszeit",null,null,null,"Arbeitszeit",null,null,null,"Arbeitszeit",null,null,null,"Arbeitszeit",null,null,null,"Arbeitszeit",null,null,null,"Arbeitszeit"]
[null,null,null,null,null,null,null,null,null,null,null,null,null,null,null,"(min)",null,null,null,"(min)",null,null,null,"(min)",null,null,null,"(min)",null,null,null,"(min)",null,null,null,"(min)",null,null,null,"(min)"]
[{"$f":"IF('Haupteingabe Monat'!$K47=\"\",\"\",'Haupteingabe Monat'!$K47)","v":""},null,{"$f":"IF('Haupteingabe Monat'!$L47=\"\",\"\",'Haupteingabe Monat'!$L47)","v":""},null,null,null,{"$f":"IF('Haupteingabe Monat'!$M47=\"\",\"\",'Haupteingabe Monat'!$M47)","v":""},null,{"$f":"IF('Haupteingabe Monat'!$N47=\"\",\"\",'Haupteingabe Monat'!$N47)","v":""},{"$f":"IF('Haupteingabe Monat'!$O47=\"\",\"\",'Haupteingabe Monat'!$O47)","v":""},null,null,null,null,null,{"$f":"IF($P$3=\"\",\"\",IF($J$18=\"JAZ\",\"0\",IF($J$18=\"Urlaub laufendes Jahr\",\"468\",SUM(IF($R$11>=$P$11,($R$11-$P$11)*24,(1-ABS($R$11-$P$11))*24),-IF($R$12>=$P$12,($R$12-$P$12)*24,(1-ABS($R$12-$P$12))*24))*60)))","v":""},null,null,null,{"$f":"IF($T$3=\"\",\"\",IF($T$3=$P$3,SUM(IF($V$11>=$T$11,($V$11-$T$11)*24,(1-ABS($V$11-$T$11))*24),-IF($V$12>=$T$12,($V$12-$T$12)*24,(1-ABS($V$12-$T$12))*24))*60,\"\"))","v":""},null,null,null,{"$f":"IF($X$3=\"\",\"\",IF($X$3=$P$3,SUM(IF($Z$11>=$X$11,($Z$11-$X$11)*24,(1-ABS($Z$11-$X$11))*24),-IF($Z$12>=$X$12,($Z$12-$X$12)*24,(1-ABS($Z$12-$X$12))*24))*60,\"\"))","v":""},null,null,null,{"$f":"IF($AB$3=\"\",\"\",IF($AB$3=$P$3,SUM(IF($AD$11>=$AB$11,($AD$11-$AB$11)*24,(1-ABS($AD$11-$AB$11))*24),-IF($AD$12>=$AB$12,($AD$12-$AB$12)*24,(1-ABS($AD$12-$AB$12))*24))*60,\"\"))","v":""},null,null,null,{"$f":"IF(AF11=\"\",\"\",SUM(IF(AH11>=AF11,(AH11-AF11)*24,(1-ABS(AH11-AF11))*24),-IF(AH12>=AF12,(AH12-AF12)*24,(1-ABS(AH12-AF12))*24))*60)","v":""},null,null,null,{"$f":"IF(AJ11=\"\",\"\",SUM(IF(AL11>=AJ11,(AL11-AJ11)*24,(1-ABS(AL11-AJ11))*24),-IF(AL12>=AJ12,(AL12-AJ12)*24,(1-ABS(AL12-AJ12))*24))*60)","v":""},null,null,null,{"$f":"IF(AN11=\"\",\"\",SUM(IF(AP11>=AN11,(AP11-AN11)*24,(1-ABS(AP11-AN11))*24),-IF(AP12>=AN12,(AP12-AN12)*24,(1-ABS(AP12-AN12))*24))*60)","v":""}]
[{"$f":"IF($T$3=\"\",\"\",IF(AND(ISNUMBER($T$19),ISTEXT($T$3)),_xlfn.XLOOKUP($T$3,Hilfen!$B$30:$B$32,Hilfen!$C$30:$C$32,\"\"),IF(AND(ISNUMBER($X$19),ISTEXT($X$3)),_xlfn.XLOOKUP($X$3,Hilfen!$B$30:$B$32,Hilfen!$C$30:$C$32,\"\"),IF(AND(ISNUMBER($AB$19),ISTEXT($AB$3)),_xlfn.XLOOKUP($AB$3,Hilfen!$B$30:$B$32,Hilfen!$C$30:$C$32,\"\"),\"\"))))","v":""},null,{"$f":"IF($A19=\"\",\"\",C$18)","v":""},null,null,null,{"$f":"IF($A19=\"\",\"\",$G18)","v":""},null,{"$f":"IF($A19=\"\",\"\",$I18)","v":""},{"$f":"IF($A19=\"\",\"\",$J18)","v":""},null,null,null,null,null,null,null,null,null,{"$f":"IF($T$3=\"\",\"\",IF($T$3=$P$3,\"\",IF($T$3<>$P$3,SUM(IF($V$11>=$T$11,($V$11-$T$11)*24,(1-ABS($V$11-$T$11))*24),-IF($V$12>=$T$12,($V$12-$T$12)*24,(1-ABS($V$12-$T$12))*24))*60,\"\")))","v":""},null,null,null,{"$f":"IF($X$3=\"\",\"\",IF($X$3=$P$3,\"\",IF($T$3=$P$3,SUM(IF($Z$11>=$X$11,($Z$11-$X$11)*24,(1-ABS($Z$11-$X$11))*24),-IF($Z$12>=$X$12,($Z$12-$X$12)*24,(1-ABS($Z$12-$X$12))*24))*60,IF(AND($X$3=\"SOFD\",$T$3=\"SOWMED\"),\"\",IF(AND($X$3=\"SOSMED\",$T$3=\"SOWMED\"),\"\",IF(AND($X$3=\"SOWMED\",$T$3=\"SOFD\"),\"\",IF(AND($X$3=\"SOWMED\",$T$3=\"SOSMED\"),\"\",IF(AND($X$3=\"SOFD\",$T$3=\"SOSMED\"),\"\",IF(AND($X$3=\"SOSMED\",$T$3=\"SOFD\"),\"\",SUM(IF($Z$11>=$X$11,($Z$11-$X$11)*24,(1-ABS($Z$11-$X$11))*24),-IF($Z$12>=$X$12,($Z$12-$X$12)*24,(1-ABS($Z$12-$X$12))*24))*60)))))))))","v":""},null,null,null,{"$f":"IF($AB$3=\"\",\"\",IF($AB$3=$P$3,\"\",IF($AB$3=$T$3,SUM(IF($AD$11>=$AB$11,($AD$11-$AB$11)*24,(1-ABS($AD$11-$AB$11))*24),-IF($AD$12>=$AB$12,($AD$12-$AB$12)*24,(1-ABS($AD$12-$AB$12))*24))*60,IF(AND($AB$3=$X$3,$X$19=\"\"),\"\",IF($AB$3=$X$3,SUM(IF($AD$11>=$AB$11,($AD$11-$AB$11)*24,(1-ABS($AD$11-$AB$11))*24),-IF($AD$12>=$AB$12,($AD$12-$AB$12)*24,(1-ABS($AD$12-$AB$12))*24))*60,IF(AND($T$19=\"\",$X$19=\"\"),SUM(IF($AD$11>=$AB$11,($AD$11-$AB$11)*24,(1-ABS($AD$11-$AB$11))*24),-IF($AD$12>=$AB$12,($AD$12-$AB$12)*24,(1-ABS($AD$12-$AB$12))*24))*60,\"\"))))))","v":""}]
[{"$f":"IF($X$3=\"\",\"\",IF(AND(ISNUMBER($X$20),ISTEXT($X$3)),_xlfn.XLOOKUP($X$3,Hilfen!$B$30:$B$32,Hilfen!$C$30:$C$32,\"\"),IF(AND(ISNUMBER($AB$20),ISTEXT($AB$3)),_xlfn.XLOOKUP($AB$3,Hilfen!$B$30:$B$32,Hilfen!$C$30:$C$32,\"\"),\"\")))","v":""},null,{"$f":"IF($A$20=\"\",\"\",C$18)","v":""},null,null,null,{"$f":"IF($A$20=\"\",\"\",G$18)","v":""},null,{"$f":"IF($A$20=\"\",\"\",I$18)","v":""},{"$f":"IF($A$20=\"\",\"\",J$18)","v":""},null,null,null,null,null,null,null,null,null,null,null,null,null,{"$f":"IF($X$3=\"\",\"\",IF($T$3=$P$3,\"\",IF($X$3=$P$3,\"\",IF($X$3=$T$3,\"\",SUM(IF($Z$11>=$X$11,($Z$11-$X$11)*24,(1-ABS($Z$11-$X$11))*24),-IF($Z$12>=$X$12,($Z$12-$X$12)*24,(1-ABS($Z$12-$X$12))*24))*60))))","v":""},null,null,null,{"$f":"IF($AB$3=\"\",\"\",IF($AB$3=$P$3,\"\",IF($AB$3=$T$3,\"\",IF($AB$3=$X$3,$X$20,IF(ISNUMBER($AB$19),\"\",SUM(IF($AD$11>=$AB$11,($AD$11-$AB$11)*24,(1-ABS($AD$11-$AB$11))*24),-IF($AD$12>=$AB$12,($AD$12-$AB$12)*24,(1-ABS($AD$12-$AB$12))*24))*60)))))","v":""}]
[]
[]
[]
[]
[]
[{"$f":"IF('Haupteingabe Monat'!$S47=\"\",\"\",'Haupteingabe Monat'!$S47)","v":""},null,"Beschreibung der Tagesleistung bei FAT-Katalog 2"]
[{"$f":"IF('Haupteingabe Monat'!$P47=\"\",\"\",'Haupteingabe Monat'!$P47)","v":""}]
[]
[]
["Meine Angaben sind vollständig \nund richtig",null,null,null,null,null,null,"Für den Auftraggeber (nur bei Bedarf) \nLeistung anerkannt",null,null,null,null,null,"Sachlich richtig: ",null,null,null,null,null,null,null,"in eTime gebucht",null,null,null,null,null,null,null,null,"in SAP gebucht"]
["Name",null,{"$f":"$Q$4","v":""},null,null,null,null,"Name",null,null,null,null,null,"Datum",null,"Unterschrift",null,null,null,null,null,"Datum",null,null,null,null,null,null,null,null,"Datum"]
["Datum",null,{"$f":"$AE$2","v":"09."},null,{"$f":"$AG$2","v":"2025-07-01"},null,{"$f":"$AI$2","v":2025},"Datum",null,null,null,null,null,"Name",{"$f":"IF($H$12=\"\",\"\",VLOOKUP($H$12,Hilfen!$F$1:$H$8,2,FALSE))","v":""},null,null,null,null,null,null,"Namens-zeichen",null,null,null,null,null,null,null,null,"Namens-zeichen"]
["Unterschrift",null,null,null,null,null,null,"Firma",null,null,null,null,null,"Vorname",{"$f":"IF($H$12=\"\",\"\",VLOOKUP($H$12,Hilfen!$F$1:$H$8,3,FALSE))","v":""}]
[null,null,null,null,null,null,null,"Unterschrift"]
[null,null,null,null,null,null,null,null,null,null,null,null,null,null,null,null,null,null,null,null,null,"Unvollständig oder fehlerhaft ausgefüllte Belege werden nicht gebucht; RIL 187.1001 !"]

{"sheet":"10 Trupp 1","index":21,"n_rows":35,"n_cols":40,"rows_kept":35,"cut":false,"hidden":false,"merged":[[32,13,33,13],[32,14,33,14],[34,21,35,42],[1,34,1,37],[30,24,30,29],[30,30,30,32],[30,33,30,42],[31,0,31,1],[31,2,31,3],[31,9,31,12],[31,21,33,23],[31,24,33,29],[31,30,33,32],[31,33,33,42],[30,0,30,1],[30,2,30,6],[30,7,30,8],[30,9,30,12],[30,15,33,20],[30,21,30,23],[32,0,33,1],[32,2,33,6],[32,7,32,8],[32,10,32,12],[25,0,25,1],[25,2,25,42],[26,0,28,42],[29,0,29,6],[29,7,29,12],[29,13,29,20],[29,21,29,29],[29,30,29,42],[24,19,24,22],[24,23,24,26],[24,27,24,30],[24,31,24,34],[24,35,24,38],[24,39,24,42],[23,23,23,26],[23,27,23,30],[23,31,23,34],[23,35,23,38],[23,39,23,42],[24,0,24,1],[24,2,24,5],[24,6,24,7],[24,9,24,14],[24,15,24,18],[23,0,23,1],[23,2,23,5],[23,6,23,7],[23,9,23,14],[23,15,23,18],[23,19,23,22],[22,19,22,22],[22,23,22,26],[22,27,22,30],[22,31,22,34],[22,35,22,38],[22,39,22,42],[21,23,21,26],[21,27,21,30],[21,31,21,34],[21,35,21,38],[21,39,21,42],[21,19,21,22],[22,0,22,1],[22,2,22,4],[22,6,22,7],[22,9,22,14],[22,15,22,18],[21,0,21,1],[21,2,21,4],[21,6,21,7],[21,9,21,14],[21,15,21,18],[20,19,20,22],[20,23,20,26],[20,27,20,30],[20,31,20,34],[20,35,20,38],[20,39,20,42],[19,23,19,26],[19,27,19,30],[19,31,19,34],[19,35,19,38],[19,39,19,42],[19,19,19,22],[20,0,20,1],[20,2,20,4],[20,6,20,7],[20,9,20,14],[20,15,20,18],[19,0,19,1],[19,2,19,4],[19,6,19,7],[19,9,19,14],[19,15,19,18],[18,19,18,22],[18,23,18,26],[18,27,18,30],[18,31,18,34],[18,35,18,38],[18,39,18,42],[17,23,17,26],[17,27,17,30],[17,31,17,34],[17,35,17,38],[17,39,17,42],[17,19,17,22],[18,0,18,1],[18,2,18,5],[18,6,18,7],[18,9,18,14],[18,15,18,18],[17,0,17,1],[17,2,17,5],[17,6,17,7],[17,9,17,14],[17,15,17,18],[14,27,14,30],[14,31,14,34],[14,35,14,38],[14,39,14,42],[15,15,15,18],[15,19,15,22],[15,23,15,26],[15,27,15,30],[15,31,15,34],[15,35,15,38],[13,39,13,40],[13,41,13,42],[14,0,16,1],[14,2,16,5],[14,6,16,7],[14,8,16,8],[14,9,16,14],[14,15,14,18],[14,19,14,22],[14,23,14,26],[13,27,13,28],[13,29,13,30],[13,31,13,32],[13,33,13,34],[13,35,13,36],[13,37,13,38],[15,39,15,42],[16,15,16,18],[16,19,16,22],[16,23,16,26],[16,27,16,30],[16,31,16,34],[16,35,16,38],[16,39,16,42],[13,13,13,14],[13,15,13,16],[13,17,13,18],[13,19,13,20],[13,21,13,22],[13,23,13,24],[13,25,13,26],[12,25,12,26],[12,27,12,28],[11,35,11,36],[11,37,11,38],[11,39,11,40],[11,41,11,42],[12,13,12,14],[12,15,12,16],[12,17,12,18],[12,19,12,20],[12,21,12,22],[12,23,12,24],[11,23,11,24],[11,25,11,26],[11,27,11,28],[11,29,11,30],[11,31,11,32],[11,33,11,34],[12,37,12,38],[12,39,12,40],[12,41,12,42],[12,29,12,30],[12,31,12,32],[12,33,12,34],[12,35,12,36],[11,0,11,6],[11,13,11,14],[11,15,11,16],[11,17,11,18],[11,19,11,20],[11,21,11,22],[10,23,10,24],[10,25,10,26],[10,27,10,28],[9,39,9,42],[10,13,10,14],[10,15,10,16],[10,17,10,18],[10,19,10,20],[10,21,10,22],[10,35,10,36],[10,37,10,38],[10,39,10,40],[10,41,10,42],[10,29,10,30],[10,31,10,32],[10,33,10,34],[4,4,4,7],[5,0,5,8],[6,3,6,8],[8,0,8,3],[9,15,9,18],[9,19,9,22],[3,31,8,31],[3,32,8,34],[3,35,8,35],[9,23,9,26],[9,27,9,30],[9,31,9,34],[9,35,9,38],[3,36,8,38],[3,39,8,39],[3,40,8,42],[2,39,2,42],[3,9,3,13],[3,15,8,15],[3,16,8,18],[3,19,8,19],[3,20,8,22],[3,23,8,23],[3,24,8,26],[3,27,8,27],[3,28,8,30],[1,0,2,8],[1,9,1,10],[1,15,1,22],[1,23,1,26],[1,27,1,29],[1,30,1,31],[1,32,1,33],[1,67,1,90],[2,9,2,14],[2,15,2,18],[2,19,2,22],[2,23,2,26],[2,27,2,30],[2,31,2,34],[2,35,2,38]]}
[]
["DB InfraGO AG \nRB Nord\nRegionale Instandsetzung ",null,null,null,null,null,null,null,null,"Blatt",null,{"$f":"IF('Haupteingabe Monat'!$Q13=\"\",\"\",'Haupteingabe Monat'!$Q13)","v":1},"/",{"$f":"IF('Haupteingabe Monat'!$R13=\"\",\"\",'Haupteingabe Monat'!$R13)","v":1},null,null,null,null,null,null,null,null,null,null,null,null,null,"Datum: ",null,null,"10.",null,{"$f":"'Haupteingabe Monat'!$H$1","v":"2025-07-01"},null,{"$f":"'Haupteingabe Monat'!$J$1","v":2025}]
[null,null,null,null,null,null,null,null,null,"SAP Arbeitsplatz",null,null,null,null,null,{"$f":"IF('Haupteingabe Monat'!$W13=\"\",\"\",'Haupteingabe Monat'!$W13)","v":""},null,null,null,{"$f":"IF('Haupteingabe Monat'!$AE13=\"\",\"\",'Haupteingabe Monat'!$AE13)","v":""},null,null,null,{"$f":"IF('Haupteingabe Monat'!$AM13=\"\",\"\",'Haupteingabe Monat'!$AM13)","v":""},null,null,null,{"$f":"IF('Haupteingabe Monat'!$AU13=\"\",\"\",'Haupteingabe Monat'!$AU13)","v":""}]
[null,null,null,null,null,null,null,null,null,"Sachbearb. etime: ",null,null,null,null,"SB3","Name",{"$f":"IF('Haupteingabe Monat'!$X13=\"\",\"\",'Haupteingabe Monat'!$X13)","v":""},null,null,"Name",{"$f":"IF('Haupteingabe Monat'!$AF13=\"\",\"\",'Haupteingabe Monat'!$AF13)","v":""},null,null,"Name",{"$f":"IF('Haupteingabe Monat'!$AN13=\"\",\"\",'Haupteingabe Monat'!$AN13)","v":""},null,null,"Name",{"$f":"IF('Haupteingabe Monat'!$AV13=\"\",\"\",'Haupteingabe Monat'!$AV13)","v":""},null,null,"Name",null,null,null,"Name",null,null,null,"Name"]
["Baustelle:",null,null,null,{"$f":"IF('Haupteingabe Monat'!$B13=\"\",\"\",'Haupteingabe Monat'!$B13)","v":""}]
[{"$f":"IF('Haupteingabe Monat'!$H13=\"\",\"\",'Haupteingabe Monat'!$H13)","v":""}]
[]
[]
["Auftragstyp:",null,null,null,{"$f":"IF('Haupteingabe Monat'!$I13=\"\",\"\",'Haupteingabe Monat'!$I13)","v":""}]
[null,null,null,null,null,null,null,null,null,null,null,null,null,null,null,"hh:min\nvon            bis",null,null,null,"hh:min\nvon            bis",null,null,null,"hh:min\nvon            bis",null,null,null,"hh:min\nvon            bis",null,null,null,"hh:min\nvon            bis",null,null,null,"hh:min\nvon            bis",null,null,null,"hh:min\nvon            bis"]
[null,null,null,null,null,null,null,null,null,null,null,null,null,"1. Arbeitszeit von ... bis …",null,{"$f":"IF('Haupteingabe Monat'!$Y13=\"\",\"\",'Haupteingabe Monat'!$Y13)","v":""},null,{"$f":"IF('Haupteingabe Monat'!$Z13=\"\",\"\",'Haupteingabe Monat'!$Z13)","v":""},null,{"$f":"IF('Haupteingabe Monat'!AG13=\"\",\"\",'Haupteingabe Monat'!AG13)","v":""},null,{"$f":"IF('Haupteingabe Monat'!AH13=\"\",\"\",'Haupteingabe Monat'!AH13)","v":""},null,{"$f":"IF('Haupteingabe Monat'!AO13=\"\",\"\",'Haupteingabe Monat'!AO13)","v":""},null,{"$f":"IF('Haupteingabe Monat'!AP13=\"\",\"\",'Haupteingabe Monat'!AP13)","v":""},null,{"$f":"IF('Haupteingabe Monat'!AW13=\"\",\"\",'Haupteingabe Monat'!AW13)","v":""},null,{"$f":"IF('Haupteingabe Monat'!AX13=\"\",\"\",'Haupteingabe Monat'!AX13)","v":""}]
["Auftragsveranwortlicher:",null,null,null,null,null,null,{"$f":"IF('Haupteingabe Monat'!$J13=\"\",\"\",'Haupteingabe Monat'!$J13)","v":""},null,null,null,null,null,"   Pause von ... bis ...",null,{"$f":"IF('Haupteingabe Monat'!$AA13=\"\",\"\",'Haupteingabe Monat'!$AA13)","v":""},null,{"$f":"IF('Haupteingabe Monat'!$AB13=\"\",\"\",'Haupteingabe Monat'!$AB13)","v":""},null,{"$f":"IF('Haupteingabe Monat'!AI13=\"\",\"\",'Haupteingabe Monat'!AI13)","v":""},null,{"$f":"IF('Haupteingabe Monat'!AJ13=\"\",\"\",'Haupteingabe Monat'!AJ13)","v":""},null,{"$f":"IF('Haupteingabe Monat'!AQ13=\"\",\"\",'Haupteingabe Monat'!AQ13)","v":""},null,{"$f":"IF('Haupteingabe Monat'!AR13=\"\",\"\",'Haupteingabe Monat'!AR13)","v":""},null,{"$f":"IF('Haupteingabe Monat'!AY13=\"\",\"\",'Haupteingabe Monat'!AY13)","v":""},null,{"$f":"IF('Haupteingabe Monat'!AZ13=\"\",\"\",'Haupteingabe Monat'!AZ13)","v":""}]
[null,null,null,null,null,null,null,null,null,null,null,null,null,"2. Arbeitszeit von ... bis ..."]
[null,null,null,null,null,null,null,null,null,null,null,null,null,"   Pause von ... bis ..."]
["SAP Vorgang",null,"FAT/AAA",null,null,null,"SAP*\nAuftragsnummer\n",null,"AAR\nKurznummer\n","Beschreibung der Tagesleistung\n",null,null,null,null,null,"anzurechnende",null,null,null,"anzurechnende",null,null,null,"anzurechnende",null,null,null,"anzurechnende",null,null,null,"anzurechnende",null,null,null,"anzurechnende",null,null,null,"anzurechnende"]
[null,null,null,null,null,null,null,null,null,null,null,null,null,null,null,"Arbeitszeit",null,null,null,"Arbeitszeit",null,null,null,"Arbeitszeit",null,null,null,"Arbeitszeit",null,null,null,"Arbeitszeit",null,null,null,"Arbeitszeit",null,null,null,"Arbeitszeit"]
[null,null,null,null,null,null,null,null,null,null,null,null,null,null,null,"(min)",null,null,null,"(min)",null,null,null,"(min)",null,null,null,"(min)",null,null,null,"(min)",null,null,null,"(min)",null,null,null,"(min)"]
[{"$f":"IF('Haupteingabe Monat'!$K13=\"\",\"\",'Haupteingabe Monat'!$K13)","v":""},null,{"$f":"IF('Haupteingabe Monat'!$L13=\"\",\"\",'Haupteingabe Monat'!$L13)","v":""},null,null,null,{"$f":"IF('Haupteingabe Monat'!$M13=\"\",\"\",'Haupteingabe Monat'!$M13)","v":""},null,{"$f":"IF('Haupteingabe Monat'!$N13=\"\",\"\",'Haupteingabe Monat'!$N13)","v":""},{"$f":"IF('Haupteingabe Monat'!$O13=\"\",\"\",'Haupteingabe Monat'!$O13)","v":""},null,null,null,null,null,{"$f":"IF($P$3=\"\",\"\",IF($J$18=\"JAZ\",\"0\",IF($J$18=\"Urlaub laufendes Jahr\",\"468\",SUM(IF($R$11>=$P$11,($R$11-$P$11)*24,(1-ABS($R$11-$P$11))*24),-IF($R$12>=$P$12,($R$12-$P$12)*24,(1-ABS($R$12-$P$12))*24))*60)))","v":""},null,null,null,{"$f":"IF($T$3=\"\",\"\",IF($T$3=$P$3,SUM(IF($V$11>=$T$11,($V$11-$T$11)*24,(1-ABS($V$11-$T$11))*24),-IF($V$12>=$T$12,($V$12-$T$12)*24,(1-ABS($V$12-$T$12))*24))*60,\"\"))","v":""},null,null,null,{"$f":"IF($X$3=\"\",\"\",IF($X$3=$P$3,SUM(IF($Z$11>=$X$11,($Z$11-$X$11)*24,(1-ABS($Z$11-$X$11))*24),-IF($Z$12>=$X$12,($Z$12-$X$12)*24,(1-ABS($Z$12-$X$12))*24))*60,\"\"))","v":""},null,null,null,{"$f":"IF($AB$3=\"\",\"\",IF($AB$3=$P$3,SUM(IF($AD$11>=$AB$11,($AD$11-$AB$11)*24,(1-ABS($AD$11-$AB$11))*24),-IF($AD$12>=$AB$12,($AD$12-$AB$12)*24,(1-ABS($AD$12-$AB$12))*24))*60,\"\"))","v":""},null,null,null,{"$f":"IF(AF11=\"\",\"\",SUM(IF(AH11>=AF11,(AH11-AF11)*24,(1-ABS(AH11-AF11))*24),-IF(AH12>=AF12,(AH12-AF12)*24,(1-ABS(AH12-AF12))*24))*60)","v":""},null,null,null,{"$f":"IF(AJ11=\"\",\"\",SUM(IF(AL11>=AJ11,(AL11-AJ11)*24,(1-ABS(AL11-AJ11))*24),-IF(AL12>=AJ12,(AL12-AJ12)*24,(1-ABS(AL12-AJ12))*24))*60)","v":""},null,null,null,{"$f":"IF(AN11=\"\",\"\",SUM(IF(AP11>=AN11,(AP11-AN11)*24,(1-ABS(AP11-AN11))*24),-IF(AP12>=AN12,(AP12-AN12)*24,(1-ABS(AP12-AN12))*24))*60)","v":""}]
[{"$f":"IF($T$3=\"\",\"\",IF(AND(ISNUMBER($T$19),ISTEXT($T$3)),_xlfn.XLOOKUP($T$3,Hilfen!$B$30:$B$32,Hilfen!$C$30:$C$32,\"\"),IF(AND(ISNUMBER($X$19),ISTEXT($X$3)),_xlfn.XLOOKUP($X$3,Hilfen!$B$30:$B$32,Hilfen!$C$30:$C$32,\"\"),IF(AND(ISNUMBER($AB$19),ISTEXT($AB$3)),_xlfn.XLOOKUP($AB$3,Hilfen!$B$30:$B$32,Hilfen!$C$30:$C$32,\"\"),\"\"))))","v":""},null,{"$f":"IF($A19=\"\",\"\",C$18)","v":""},null,null,null,{"$f":"IF($A19=\"\",\"\",$G18)","v":""},null,{"$f":"IF($A19=\"\",\"\",$I18)","v":""},{"$f":"IF($A19=\"\",\"\",$J18)","v":""},null,null,null,null,null,null,null,null,null,{"$f":"IF($T$3=\"\",\"\",IF($T$3=$P$3,\"\",IF($T$3<>$P$3,SUM(IF($V$11>=$T$11,($V$11-$T$11)*24,(1-ABS($V$11-$T$11))*24),-IF($V$12>=$T$12,($V$12-$T$12)*24,(1-ABS($V$12-$T$12))*24))*60,\"\")))","v":""},null,null,null,{"$f":"IF($X$3=\"\",\"\",IF($X$3=$P$3,\"\",IF($T$3=$P$3,SUM(IF($Z$11>=$X$11,($Z$11-$X$11)*24,(1-ABS($Z$11-$X$11))*24),-IF($Z$12>=$X$12,($Z$12-$X$12)*24,(1-ABS($Z$12-$X$12))*24))*60,IF(AND($X$3=\"SOFD\",$T$3=\"SOWMED\"),\"\",IF(AND($X$3=\"SOSMED\",$T$3=\"SOWMED\"),\"\",IF(AND($X$3=\"SOWMED\",$T$3=\"SOFD\"),\"\",IF(AND($X$3=\"SOWMED\",$T$3=\"SOSMED\"),\"\",IF(AND($X$3=\"SOFD\",$T$3=\"SOSMED\"),\"\",IF(AND($X$3=\"SOSMED\",$T$3=\"SOFD\"),\"\",SUM(IF($Z$11>=$X$11,($Z$11-$X$11)*24,(1-ABS($Z$11-$X$11))*24),-IF($Z$12>=$X$12,($Z$12-$X$12)*24,(1-ABS($Z$12-$X$12))*24))*60)))))))))","v":""},null,null,null,{"$f":"IF($AB$3=\"\",\"\",IF($AB$3=$P$3,\"\",IF($AB$3=$T$3,SUM(IF($AD$11>=$AB$11,($AD$11-$AB$11)*24,(1-ABS($AD$11-$AB$11))*24),-IF($AD$12>=$AB$12,($AD$12-$AB$12)*24,(1-ABS($AD$12-$AB$12))*24))*60,IF(AND($AB$3=$X$3,$X$19=\"\"),\"\",IF($AB$3=$X$3,SUM(IF($AD$11>=$AB$11,($AD$11-$AB$11)*24,(1-ABS($AD$11-$AB$11))*24),-IF($AD$12>=$AB$12,($AD$12-$AB$12)*24,(1-ABS($AD$12-$AB$12))*24))*60,IF(AND($T$19=\"\",$X$19=\"\"),SUM(IF($AD$11>=$AB$11,($AD$11-$AB$11)*24,(1-ABS($AD$11-$AB$11))*24),-IF($AD$12>=$AB$12,($AD$12-$AB$12)*24,(1-ABS($AD$12-$AB$12))*24))*60,\"\"))))))","v":""}]
[{"$f":"IF($X$3=\"\",\"\",IF(AND(ISNUMBER($X$20),ISTEXT($X$3)),_xlfn.XLOOKUP($X$3,Hilfen!$B$30:$B$32,Hilfen!$C$30:$C$32,\"\"),IF(AND(ISNUMBER($AB$20),ISTEXT($AB$3)),_xlfn.XLOOKUP($AB$3,Hilfen!$B$30:$B$32,Hilfen!$C$30:$C$32,\"\"),\"\")))","v":""},null,{"$f":"IF($A$20=\"\",\"\",C$18)","v":""},null,null,null,{"$f":"IF($A$20=\"\",\"\",G$18)","v":""},null,{"$f":"IF($A$20=\"\",\"\",I$18)","v":""},{"$f":"IF($A$20=\"\",\"\",J$18)","v":""},null,null,null,null,null,null,null,null,null,null,null,null,null,{"$f":"IF($X$3=\"\",\"\",IF($T$3=$P$3,\"\",IF($X$3=$P$3,\"\",IF($X$3=$T$3,\"\",SUM(IF($Z$11>=$X$11,($Z$11-$X$11)*24,(1-ABS($Z$11-$X$11))*24),-IF($Z$12>=$X$12,($Z$12-$X$12)*24,(1-ABS($Z$12-$X$12))*24))*60))))","v":""},null,null,null,{"$f":"IF($AB$3=\"\",\"\",IF($AB$3=$P$3,\"\",IF($AB$3=$T$3,\"\",IF($AB$3=$X$3,$X$20,IF(ISNUMBER($AB$19),\"\",SUM(IF($AD$11>=$AB$11,($AD$11-$AB$11)*24,(1-ABS($AD$11-$AB$11))*24),-IF($AD$12>=$AB$12,($AD$12-$AB$12)*24,(1-ABS($AD$12-$AB$12))*24))*60)))))","v":""}]
[]
[]
[]
[]
[]
[{"$f":"IF('Haupteingabe Monat'!$S13=\"\",\"\",'Haupteingabe Monat'!$S13)","v":""},null,"Beschreibung der Tagesleistung bei FAT-Katalog 2"]
[{"$f":"IF('Haupteingabe Monat'!$P13=\"\",\"\",'Haupteingabe Monat'!$P13)","v":""}]
[]
[]
["Meine Angaben sind vollständig \nund richtig",null,null,null,null,null,null,"Für den Auftraggeber (nur bei Bedarf) \nLeistung anerkannt",null,null,null,null,null,"Sachlich richtig: ",null,null,null,null,null,null,null,"in eTime gebucht",null,null,null,null,null,null,null,null,"in SAP gebucht"]
["Name",null,{"$f":"$Q$4","v":""},null,null,null,null,"Name",null,null,null,null,null,"Datum",null,"Unterschrift",null,null,null,null,null,"Datum",null,null,null,null,null,null,null,null,"Datum"]
["Datum",null,{"$f":"$AE$2","v":"10."},null,{"$f":"$AG$2","v":"2025-07-01"},null,{"$f":"$AI$2","v":2025},"Datum",null,null,null,null,null,"Name",{"$f":"IF($H$12=\"\",\"\",VLOOKUP($H$12,Hilfen!$F$1:$H$8,2,FALSE))","v":""},null,null,null,null,null,null,"Namens-zeichen",null,null,null,null,null,null,null,null,"Namens-zeichen"]
["Unterschrift",null,null,null,null,null,null,"Firma",null,null,null,null,null,"Vorname",{"$f":"IF($H$12=\"\",\"\",VLOOKUP($H$12,Hilfen!$F$1:$H$8,3,FALSE))","v":""}]
[null,null,null,null,null,null,null,"Unterschrift"]
[null,null,null,null,null,null,null,null,null,null,null,null,null,null,null,null,null,null,null,null,null,"Unvollständig oder fehlerhaft ausgefüllte Belege werden nicht gebucht; RIL 187.1001 !"]

{"sheet":"10 Trupp 2","index":22,"n_rows":35,"n_cols":40,"rows_kept":35,"cut":false,"hidden":false,"merged":[[32,13,33,13],[32,14,33,14],[34,21,35,42],[1,34,1,37],[30,24,30,29],[30,30,30,32],[30,33,30,42],[31,0,31,1],[31,2,31,3],[31,9,31,12],[31,21,33,23],[31,24,33,29],[31,30,33,32],[31,33,33,42],[30,0,30,1],[30,2,30,6],[30,7,30,8],[30,9,30,12],[30,15,33,20],[30,21,30,23],[32,0,33,1],[32,2,33,6],[32,7,32,8],[32,10,32,12],[25,0,25,1],[25,2,25,42],[26,0,28,42],[29,0,29,6],[29,7,29,12],[29,13,29,20],[29,21,29,29],[29,30,29,42],[24,19,24,22],[24,23,24,26],[24,27,24,30],[24,31,24,34],[24,35,24,38],[24,39,24,42],[23,23,23,26],[23,27,23,30],[23,31,23,34],[23,35,23,38],[23,39,23,42],[24,0,24,1],[24,2,24,5],[24,6,24,7],[24,9,24,14],[24,15,24,18],[23,0,23,1],[23,2,23,5],[23,6,23,7],[23,9,23,14],[23,15,23,18],[23,19,23,22],[22,19,22,22],[22,23,22,26],[22,27,22,30],[22,31,22,34],[22,35,22,38],[22,39,22,42],[21,23,21,26],[21,27,21,30],[21,31,21,34],[21,35,21,38],[21,39,21,42],[21,19,21,22],[22,0,22,1],[22,2,22,4],[22,6,22,7],[22,9,22,14],[22,15,22,18],[21,0,21,1],[21,2,21,4],[21,6,21,7],[21,9,21,14],[21,15,21,18],[20,19,20,22],[20,23,20,26],[20,27,20,30],[20,31,20,34],[20,35,20,38],[20,39,20,42],[19,23,19,26],[19,27,19,30],[19,31,19,34],[19,35,19,38],[19,39,19,42],[19,19,19,22],[20,0,20,1],[20,2,20,4],[20,6,20,7],[20,9,20,14],[20,15,20,18],[19,0,19,1],[19,2,19,4],[19,6,19,7],[19,9,19,14],[19,15,19,18],[18,19,18,22],[18,23,18,26],[18,27,18,30],[18,31,18,34],[18,35,18,38],[18,39,18,42],[17,23,17,26],[17,27,17,30],[17,31,17,34],[17,35,17,38],[17,39,17,42],[17,19,17,22],[18,0,18,1],[18,2,18,5],[18,6,18,7],[18,9,18,14],[18,15,18,18],[17,0,17,1],[17,2,17,5],[17,6,17,7],[17,9,17,14],[17,15,17,18],[14,27,14,30],[14,31,14,34],[14,35,14,38],[14,39,14,42],[15,15,15,18],[15,19,15,22],[15,23,15,26],[15,27,15,30],[15,31,15,34],[15,35,15,38],[13,39,13,40],[13,41,13,42],[14,0,16,1],[14,2,16,5],[14,6,16,7],[14,8,16,8],[14,9,16,14],[14,15,14,18],[14,19,14,22],[14,23,14,26],[13,27,13,28],[13,29,13,30],[13,31,13,32],[13,33,13,34],[13,35,13,36],[13,37,13,38],[15,39,15,42],[16,15,16,18],[16,19,16,22],[16,23,16,26],[16,27,16,30],[16,31,16,34],[16,35,16,38],[16,39,16,42],[13,13,13,14],[13,15,13,16],[13,17,13,18],[13,19,13,20],[13,21,13,22],[13,23,13,24],[13,25,13,26],[12,25,12,26],[12,27,12,28],[11,35,11,36],[11,37,11,38],[11,39,11,40],[11,41,11,42],[12,13,12,14],[12,15,12,16],[12,17,12,18],[12,19,12,20],[12,21,12,22],[12,23,12,24],[11,23,11,24],[11,25,11,26],[11,27,11,28],[11,29,11,30],[11,31,11,32],[11,33,11,34],[12,37,12,38],[12,39,12,40],[12,41,12,42],[12,29,12,30],[12,31,12,32],[12,33,12,34],[12,35,12,36],[11,0,11,6],[11,13,11,14],[11,15,11,16],[11,17,11,18],[11,19,11,20],[11,21,11,22],[10,23,10,24],[10,25,10,26],[10,27,10,28],[9,39,9,42],[10,13,10,14],[10,15,10,16],[10,17,10,18],[10,19,10,20],[10,21,10,22],[10,35,10,36],[10,37,10,38],[10,39,10,40],[10,41,10,42],[10,29,10,30],[10,31,10,32],[10,33,10,34],[4,4,4,7],[5,0,5,8],[6,3,6,8],[8,0,8,3],[9,15,9,18],[9,19,9,22],[3,31,8,31],[3,32,8,34],[3,35,8,35],[9,23,9,26],[9,27,9,30],[9,31,9,34],[9,35,9,38],[3,36,8,38],[3,39,8,39],[3,40,8,42],[2,39,2,42],[3,9,3,13],[3,15,8,15],[3,16,8,18],[3,19,8,19],[3,20,8,22],[3,23,8,23],[3,24,8,26],[3,27,8,27],[3,28,8,30],[1,0,2,8],[1,9,1,10],[1,15,1,22],[1,23,1,26],[1,27,1,29],[1,30,1,31],[1,32,1,33],[1,67,1,90],[2,9,2,14],[2,15,2,18],[2,19,2,22],[2,23,2,26],[2,27,2,30],[2,31,2,34],[2,35,2,38]]}
[]
["DB InfraGO AG \nRB Nord\nRegionale Instandsetzung ",null,null,null,null,null,null,null,null,"Blatt",null,{"$f":"IF('Haupteingabe Monat'!$Q48=\"\",\"\",'Haupteingabe Monat'!$Q48)","v":1},"/",{"$f":"IF('Haupteingabe Monat'!$R48=\"\",\"\",'Haupteingabe Monat'!$R48)","v":1},null,null,null,null,null,null,null,null,null,null,null,null,null,"Datum: ",null,null,"10.",null,{"$f":"'Haupteingabe Monat'!$H$1","v":"2025-07-01"},null,{"$f":"'Haupteingabe Monat'!$J$1","v":2025}]
[null,null,null,null,null,null,null,null,null,"SAP Arbeitsplatz",null,null,null,null,null,{"$f":"IF('Haupteingabe Monat'!$W48=\"\",\"\",'Haupteingabe Monat'!$W48)","v":""},null,null,null,{"$f":"IF('Haupteingabe Monat'!$AE48=\"\",\"\",'Haupteingabe Monat'!$AE48)","v":""},null,null,null,{"$f":"IF('Haupteingabe Monat'!$AM48=\"\",\"\",'Haupteingabe Monat'!$AM48)","v":""},null,null,null,{"$f":"IF('Haupteingabe Monat'!$AU48=\"\",\"\",'Haupteingabe Monat'!$AU48)","v":""}]
[null,null,null,null,null,null,null,null,null,"Sachbearb. etime: ",null,null,null,null,"SB3","Name",{"$f":"IF('Haupteingabe Monat'!$X48=\"\",\"\",'Haupteingabe Monat'!$X48)","v":""},null,null,"Name",{"$f":"IF('Haupteingabe Monat'!$AF48=\"\",\"\",'Haupteingabe Monat'!$AF48)","v":""},null,null,"Name",{"$f":"IF('Haupteingabe Monat'!$AN48=\"\",\"\",'Haupteingabe Monat'!$AN48)","v":""},null,null,"Name",{"$f":"IF('Haupteingabe Monat'!$AV48=\"\",\"\",'Haupteingabe Monat'!$AV48)","v":""},null,null,"Name",null,null,null,"Name",null,null,null,"Name"]
["Baustelle:",null,null,null,{"$f":"IF('Haupteingabe Monat'!$B48=\"\",\"\",'Haupteingabe Monat'!$B48)","v":""}]
[{"$f":"IF('Haupteingabe Monat'!$H48=\"\",\"\",'Haupteingabe Monat'!$H48)","v":""}]
[]
[]
["Auftragstyp:",null,null,null,{"$f":"IF('Haupteingabe Monat'!$I48=\"\",\"\",'Haupteingabe Monat'!$I48)","v":""}]
[null,null,null,null,null,null,null,null,null,null,null,null,null,null,null,"hh:min\nvon            bis",null,null,null,"hh:min\nvon            bis",null,null,null,"hh:min\nvon            bis",null,null,null,"hh:min\nvon            bis",null,null,null,"hh:min\nvon            bis",null,null,null,"hh:min\nvon            bis",null,null,null,"hh:min\nvon            bis"]
[null,null,null,null,null,null,null,null,null,null,null,null,null,"1. Arbeitszeit von ... bis …",null,{"$f":"IF('Haupteingabe Monat'!$Y48=\"\",\"\",'Haupteingabe Monat'!$Y48)","v":""},null,{"$f":"IF('Haupteingabe Monat'!$Z48=\"\",\"\",'Haupteingabe Monat'!$Z48)","v":""},null,{"$f":"IF('Haupteingabe Monat'!AG48=\"\",\"\",'Haupteingabe Monat'!AG48)","v":""},null,{"$f":"IF('Haupteingabe Monat'!AH48=\"\",\"\",'Haupteingabe Monat'!AH48)","v":""},null,{"$f":"IF('Haupteingabe Monat'!AO48=\"\",\"\",'Haupteingabe Monat'!AO48)","v":""},null,{"$f":"IF('Haupteingabe Monat'!AP48=\"\",\"\",'Haupteingabe Monat'!AP48)","v":""},null,{"$f":"IF('Haupteingabe Monat'!AW48=\"\",\"\",'Haupteingabe Monat'!AW48)","v":""},null,{"$f":"IF('Haupteingabe Monat'!AX48=\"\",\"\",'Haupteingabe Monat'!AX48)","v":""}]
["Auftragsveranwortlicher:",null,null,null,null,null,null,{"$f":"IF('Haupteingabe Monat'!$J48=\"\",\"\",'Haupteingabe Monat'!$J48)","v":""},null,null,null,null,null,"   Pause von ... bis ...",null,{"$f":"IF('Haupteingabe Monat'!$AA48=\"\",\"\",'Haupteingabe Monat'!$AA48)","v":""},null,{"$f":"IF('Haupteingabe Monat'!$AB48=\"\",\"\",'Haupteingabe Monat'!$AB48)","v":""},null,{"$f":"IF('Haupteingabe Monat'!AI48=\"\",\"\",'Haupteingabe Monat'!AI48)","v":""},null,{"$f":"IF('Haupteingabe Monat'!AJ48=\"\",\"\",'Haupteingabe Monat'!AJ48)","v":""},null,{"$f":"IF('Haupteingabe Monat'!AQ48=\"\",\"\",'Haupteingabe Monat'!AQ48)","v":""},null,{"$f":"IF('Haupteingabe Monat'!AR48=\"\",\"\",'Haupteingabe Monat'!AR48)","v":""},null,{"$f":"IF('Haupteingabe Monat'!AY48=\"\",\"\",'Haupteingabe Monat'!AY48)","v":""},null,{"$f":"IF('Haupteingabe Monat'!AZ48=\"\",\"\",'Haupteingabe Monat'!AZ48)","v":""}]
[null,null,null,null,null,null,null,null,null,null,null,null,null,"2. Arbeitszeit von ... bis ..."]
[null,null,null,null,null,null,null,null,null,null,null,null,null,"   Pause von ... bis ..."]
["SAP Vorgang",null,"FAT/AAA",null,null,null,"SAP*\nAuftragsnummer\n",null,"AAR\nKurznummer\n","Beschreibung der Tagesleistung\n",null,null,null,null,null,"anzurechnende",null,null,null,"anzurechnende",null,null,null,"anzurechnende",null,null,null,"anzurechnende",null,null,null,"anzurechnende",null,null,null,"anzurechnende",null,null,null,"anzurechnende"]
[null,null,null,null,null,null,null,null,null,null,null,null,null,null,null,"Arbeitszeit",null,null,null,"Arbeitszeit",null,null,null,"Arbeitszeit",null,null,null,"Arbeitszeit",null,null,null,"Arbeitszeit",null,null,null,"Arbeitszeit",null,null,null,"Arbeitszeit"]
[null,null,null,null,null,null,null,null,null,null,null,null,null,null,null,"(min)",null,null,null,"(min)",null,null,null,"(min)",null,null,null,"(min)",null,null,null,"(min)",null,null,null,"(min)",null,null,null,"(min)"]
[{"$f":"IF('Haupteingabe Monat'!$K48=\"\",\"\",'Haupteingabe Monat'!$K48)","v":""},null,{"$f":"IF('Haupteingabe Monat'!$L48=\"\",\"\",'Haupteingabe Monat'!$L48)","v":""},null,null,null,{"$f":"IF('Haupteingabe Monat'!$M48=\"\",\"\",'Haupteingabe Monat'!$M48)","v":""},null,{"$f":"IF('Haupteingabe Monat'!$N48=\"\",\"\",'Haupteingabe Monat'!$N48)","v":""},{"$f":"IF('Haupteingabe Monat'!$O48=\"\",\"\",'Haupteingabe Monat'!$O48)","v":""},null,null,null,null,null,{"$f":"IF($P$3=\"\",\"\",IF($J$18=\"JAZ\",\"0\",IF($J$18=\"Urlaub laufendes Jahr\",\"468\",SUM(IF($R$11>=$P$11,($R$11-$P$11)*24,(1-ABS($R$11-$P$11))*24),-IF($R$12>=$P$12,($R$12-$P$12)*24,(1-ABS($R$12-$P$12))*24))*60)))","v":""},null,null,null,{"$f":"IF($T$3=\"\",\"\",IF($T$3=$P$3,SUM(IF($V$11>=$T$11,($V$11-$T$11)*24,(1-ABS($V$11-$T$11))*24),-IF($V$12>=$T$12,($V$12-$T$12)*24,(1-ABS($V$12-$T$12))*24))*60,\"\"))","v":""},null,null,null,{"$f":"IF($X$3=\"\",\"\",IF($X$3=$P$3,SUM(IF($Z$11>=$X$11,($Z$11-$X$11)*24,(1-ABS($Z$11-$X$11))*24),-IF($Z$12>=$X$12,($Z$12-$X$12)*24,(1-ABS($Z$12-$X$12))*24))*60,\"\"))","v":""},null,null,null,{"$f":"IF($AB$3=\"\",\"\",IF($AB$3=$P$3,SUM(IF($AD$11>=$AB$11,($AD$11-$AB$11)*24,(1-ABS($AD$11-$AB$11))*24),-IF($AD$12>=$AB$12,($AD$12-$AB$12)*24,(1-ABS($AD$12-$AB$12))*24))*60,\"\"))","v":""},null,null,null,{"$f":"IF(AF11=\"\",\"\",SUM(IF(AH11>=AF11,(AH11-AF11)*24,(1-ABS(AH11-AF11))*24),-IF(AH12>=AF12,(AH12-AF12)*24,(1-ABS(AH12-AF12))*24))*60)","v":""},null,null,null,{"$f":"IF(AJ11=\"\",\"\",SUM(IF(AL11>=AJ11,(AL11-AJ11)*24,(1-ABS(AL11-AJ11))*24),-IF(AL12>=AJ12,(AL12-AJ12)*24,(1-ABS(AL12-AJ12))*24))*60)","v":""},null,null,null,{"$f":"IF(AN11=\"\",\"\",SUM(IF(AP11>=AN11,(AP11-AN11)*24,(1-ABS(AP11-AN11))*24),-IF(AP12>=AN12,(AP12-AN12)*24,(1-ABS(AP12-AN12))*24))*60)","v":""}]
[{"$f":"IF($T$3=\"\",\"\",IF(AND(ISNUMBER($T$19),ISTEXT($T$3)),_xlfn.XLOOKUP($T$3,Hilfen!$B$30:$B$32,Hilfen!$C$30:$C$32,\"\"),IF(AND(ISNUMBER($X$19),ISTEXT($X$3)),_xlfn.XLOOKUP($X$3,Hilfen!$B$30:$B$32,Hilfen!$C$30:$C$32,\"\"),IF(AND(ISNUMBER($AB$19),ISTEXT($AB$3)),_xlfn.XLOOKUP($AB$3,Hilfen!$B$30:$B$32,Hilfen!$C$30:$C$32,\"\"),\"\"))))","v":""},null,{"$f":"IF($A19=\"\",\"\",C$18)","v":""},null,null,null,{"$f":"IF($A19=\"\",\"\",$G18)","v":""},null,{"$f":"IF($A19=\"\",\"\",$I18)","v":""},{"$f":"IF($A19=\"\",\"\",$J18)","v":""},null,null,null,null,null,null,null,null,null,{"$f":"IF($T$3=\"\",\"\",IF($T$3=$P$3,\"\",IF($T$3<>$P$3,SUM(IF($V$11>=$T$11,($V$11-$T$11)*24,(1-ABS($V$11-$T$11))*24),-IF($V$12>=$T$12,($V$12-$T$12)*24,(1-ABS($V$12-$T$12))*24))*60,\"\")))","v":""},null,null,null,{"$f":"IF($X$3=\"\",\"\",IF($X$3=$P$3,\"\",IF($T$3=$P$3,SUM(IF($Z$11>=$X$11,($Z$11-$X$11)*24,(1-ABS($Z$11-$X$11))*24),-IF($Z$12>=$X$12,($Z$12-$X$12)*24,(1-ABS($Z$12-$X$12))*24))*60,IF(AND($X$3=\"SOFD\",$T$3=\"SOWMED\"),\"\",IF(AND($X$3=\"SOSMED\",$T$3=\"SOWMED\"),\"\",IF(AND($X$3=\"SOWMED\",$T$3=\"SOFD\"),\"\",IF(AND($X$3=\"SOWMED\",$T$3=\"SOSMED\"),\"\",IF(AND($X$3=\"SOFD\",$T$3=\"SOSMED\"),\"\",IF(AND($X$3=\"SOSMED\",$T$3=\"SOFD\"),\"\",SUM(IF($Z$11>=$X$11,($Z$11-$X$11)*24,(1-ABS($Z$11-$X$11))*24),-IF($Z$12>=$X$12,($Z$12-$X$12)*24,(1-ABS($Z$12-$X$12))*24))*60)))))))))","v":""},null,null,null,{"$f":"IF($AB$3=\"\",\"\",IF($AB$3=$P$3,\"\",IF($AB$3=$T$3,SUM(IF($AD$11>=$AB$11,($AD$11-$AB$11)*24,(1-ABS($AD$11-$AB$11))*24),-IF($AD$12>=$AB$12,($AD$12-$AB$12)*24,(1-ABS($AD$12-$AB$12))*24))*60,IF(AND($AB$3=$X$3,$X$19=\"\"),\"\",IF($AB$3=$X$3,SUM(IF($AD$11>=$AB$11,($AD$11-$AB$11)*24,(1-ABS($AD$11-$AB$11))*24),-IF($AD$12>=$AB$12,($AD$12-$AB$12)*24,(1-ABS($AD$12-$AB$12))*24))*60,IF(AND($T$19=\"\",$X$19=\"\"),SUM(IF($AD$11>=$AB$11,($AD$11-$AB$11)*24,(1-ABS($AD$11-$AB$11))*24),-IF($AD$12>=$AB$12,($AD$12-$AB$12)*24,(1-ABS($AD$12-$AB$12))*24))*60,\"\"))))))","v":""}]
[{"$f":"IF($X$3=\"\",\"\",IF(AND(ISNUMBER($X$20),ISTEXT($X$3)),_xlfn.XLOOKUP($X$3,Hilfen!$B$30:$B$32,Hilfen!$C$30:$C$32,\"\"),IF(AND(ISNUMBER($AB$20),ISTEXT($AB$3)),_xlfn.XLOOKUP($AB$3,Hilfen!$B$30:$B$32,Hilfen!$C$30:$C$32,\"\"),\"\")))","v":""},null,{"$f":"IF($A$20=\"\",\"\",C$18)","v":""},null,null,null,{"$f":"IF($A$20=\"\",\"\",G$18)","v":""},null,{"$f":"IF($A$20=\"\",\"\",I$18)","v":""},{"$f":"IF($A$20=\"\",\"\",J$18)","v":""},null,null,null,null,null,null,null,null,null,null,null,null,null,{"$f":"IF($X$3=\"\",\"\",IF($T$3=$P$3,\"\",IF($X$3=$P$3,\"\",IF($X$3=$T$3,\"\",SUM(IF($Z$11>=$X$11,($Z$11-$X$11)*24,(1-ABS($Z$11-$X$11))*24),-IF($Z$12>=$X$12,($Z$12-$X$12)*24,(1-ABS($Z$12-$X$12))*24))*60))))","v":""},null,null,null,{"$f":"IF($AB$3=\"\",\"\",IF($AB$3=$P$3,\"\",IF($AB$3=$T$3,\"\",IF($AB$3=$X$3,$X$20,IF(ISNUMBER($AB$19),\"\",SUM(IF($AD$11>=$AB$11,($AD$11-$AB$11)*24,(1-ABS($AD$11-$AB$11))*24),-IF($AD$12>=$AB$12,($AD$12-$AB$12)*24,(1-ABS($AD$12-$AB$12))*24))*60)))))","v":""}]
[]
[]
[]
[]
[]
[{"$f":"IF('Haupteingabe Monat'!$S48=\"\",\"\",'Haupteingabe Monat'!$S48)","v":""},null,"Beschreibung der Tagesleistung bei FAT-Katalog 2"]
[{"$f":"IF('Haupteingabe Monat'!$P48=\"\",\"\",'Haupteingabe Monat'!$P48)","v":""}]
[]
[]
["Meine Angaben sind vollständig \nund richtig",null,null,null,null,null,null,"Für den Auftraggeber (nur bei Bedarf) \nLeistung anerkannt",null,null,null,null,null,"Sachlich richtig: ",null,null,null,null,null,null,null,"in eTime gebucht",null,null,null,null,null,null,null,null,"in SAP gebucht"]
["Name",null,{"$f":"$Q$4","v":""},null,null,null,null,"Name",null,null,null,null,null,"Datum",null,"Unterschrift",null,null,null,null,null,"Datum",null,null,null,null,null,null,null,null,"Datum"]
["Datum",null,{"$f":"$AE$2","v":"10."},null,{"$f":"$AG$2","v":"2025-07-01"},null,{"$f":"$AI$2","v":2025},"Datum",null,null,null,null,null,"Name",{"$f":"IF($H$12=\"\",\"\",VLOOKUP($H$12,Hilfen!$F$1:$H$8,2,FALSE))","v":""},null,null,null,null,null,null,"Namens-zeichen",null,null,null,null,null,null,null,null,"Namens-zeichen"]
["Unterschrift",null,null,null,null,null,null,"Firma",null,null,null,null,null,"Vorname",{"$f":"IF($H$12=\"\",\"\",VLOOKUP($H$12,Hilfen!$F$1:$H$8,3,FALSE))","v":""}]
[null,null,null,null,null,null,null,"Unterschrift"]
[null,null,null,null,null,null,null,null,null,null,null,null,null,null,null,null,null,null,null,null,null,"Unvollständig oder fehlerhaft ausgefüllte Belege werden nicht gebucht; RIL 187.1001 !"]