{"text_format":"1","workbook":"xlsx","n_sheets":2,"sheets":["Liste","Maske"],"not_rendered":{"charts":0,"images":0,"macros":1,"external_links":0,"defined_names":2,"comments":0,"pivot_tables":0},"unopened":[],"bounds":{"document_bytes":16777216,"sheet_cells":100000,"rows_first":2000,"rows_last":500,"rows_between":2000,"halvings":0,"cell_chars":16384,"cell_head_chars":4096},"cells_cut":0,"cells_raw":0,"read":"whole","date_system":"1900"}

{"sheet":"Liste","index":0,"n_rows":226,"n_cols":107,"rows_kept":226,"cut":false,"hidden":false,"merged":[[0,3,0,4],[222,3,223,3],[107,3,108,3],[63,3,64,3],[189,3,190,3],[94,3,95,3],[123,3,124,3],[172,3,173,3],[68,3,72,3],[165,3,169,3],[142,3,145,3],[155,3,156,3],[88,3,91,3],[21,3,22,3],[58,3,59,3],[52,3,53,3],[41,3,42,3],[35,3,40,3],[26,3,29,3]]}
["Extern","Obst","Lidl","Artikel",null,"Min 2025","MAX 2025","Min 2026","MAX 2026","letzter Preis ","Einkauf","Soll","Ist",{"$f":"TODAY()+5-WEEKDAY(TODAY())+4*(WEEKDAY(TODAY())>7)","v":"2025-09-18"},{"$f":"TODAY()+5-WEEKDAY(TODAY())+4*(WEEKDAY(TODAY())>7)-7","v":"2025-09-11"},"2025-01-02","2025-01-09","2025-01-16","2025-01-23","2025-01-30","2025-02-06","2025-02-13","2025-02-20","2025-02-27","2025-03-06","2025-03-13","2025-03-20","2025-03-27","2025-04-03","2025-04-10","2025-04-17","2025-04-24","2025-05-01","2025-05-08","2025-05-15","2025-05-22","2025-05-29","2025-06-05","2025-06-12","2025-06-19","2025-06-26","2025-07-03","2025-07-10","2025-07-17","2025-07-24","2025-07-31","2025-08-07","2025-08-14","2025-08-21","2025-08-28","2025-09-04","2025-09-11","2025-09-18","2025-09-25","2025-10-02","2025-10-09","2025-10-16","2025-10-23","2025-10-30","2025-11-06","2025-11-13","2025-11-20","2025-11-27","2025-12-04","2025-12-11","2025-12-18","2025-12-25","2026-01-01","2026-01-08","2026-01-15","2026-01-22","2026-01-29","2026-02-05","2026-02-12","2026-02-19","2026-02-26","2026-03-05","2026-03-12","2026-03-19","2026-03-26","2026-04-02","2026-04-09","2026-04-16","2026-04-23","2026-04-30","2026-05-07","2026-05-14","2026-05-21","2026-05-28","2026-06-04","2026-06-11","2026-06-18","2026-06-25","2026-07-02","2026-07-09","2026-07-16","2026-07-23","2026-07-30","2026-08-06","2026-08-13","2026-08-20","2026-08-27","2026-09-03","2026-09-10","2026-09-17","2026-09-24","2026-10-01"]
[0,0,{"$f":"IF(OR(K2>0,F2=O2,F2=N2),1,0)","v":0},null,"Artikel 1",{"$f":"MIN($P2:BO2)","v":99.99},{"$f":"MAX($P2:BO2)","v":99.99},{"$f":"MIN($BP2:DC2)","v":0},{"$f":"MAX($BP2:DC2)","v":0},{"$f":"IFERROR(LOOKUP(100000,P2:DC2),0)","v":99.99},{"$f":"SUM(L2-M2)","v":0},2,2,{"$f":"INDEX(P2:ZC2,MATCH(N$1,P$1:ZC$1,0))","v":0},{"$f":"IFERROR(INDEX(Q2:ZD2,MATCH(O$1,Q$1:ZD$1,0)),0)","v":0},null,null,null,null,null,null,null,null,null,null,null,null,99.99,99.99,null,null,null,null,null,null,null,null,null,99.99]
[{"$f":"A2","v":0},{"$f":"B2","v":0},{"$f":"IF(OR(K3>0,F3=O3,F3=N3),C2+1,C2)","v":1},null,"Artikel 2",{"$f":"MIN($P3:BO3)","v":58.99},{"$f":"MAX($P3:BO3)","v":58.99},{"$f":"MIN($BP3:DC3)","v":0},{"$f":"MAX($BP3:DC3)","v":0},{"$f":"IFERROR(LOOKUP(100000,P3:DC3),0)","v":58.99},1,2,1,0,0,null,null,null,null,null,null,null,null,null,null,null,58.99,null,null,58.99,null,null,null,null,null,null,58.99,null,58.99]
[{"$f":"A3","v":0},{"$f":"B3","v":0},{"$f":"IF(OR(K4>0,F4=O4,F4=N4),C3+1,C3)","v":2},null,"Artikel 3",{"$f":"MIN($P4:BO4)","v":247.99},{"$f":"MAX($P4:BO4)","v":247.99},{"$f":"MIN($BP4:DC4)","v":0},{"$f":"MAX($BP4:DC4)","v":0},{"$f":"IFERROR(LOOKUP(100000,P4:DC4),0)","v":247.99},1,7,6,0,0,null,null,null,null,null,247.99]
[{"$f":"A4","v":0},0,2,null,"Artikel 4",{"$f":"MIN($P5:BO5)","v":239.99},{"$f":"MAX($P5:BO5)","v":239.99},{"$f":"MIN($BP5:DC5)","v":0},{"$f":"MAX($BP5:DC5)","v":0},239.99,0,1,1,0,0,null,null,null,null,null,null,null,null,null,null,null,null,null,null,null,null,null,null,null,null,null,null,null,null,239.99,null,null,null,null,null,null,239.99]
[{"$f":"IF(K6>0,A5+1,A5)","v":0},0,{"$f":"C5","v":2},null,"Artikel 5",{"$f":"MIN($P6:BO6)","v":167},{"$f":"MAX($P6:BO6)","v":167},{"$f":"MIN($BP6:DC6)","v":0},{"$f":"MAX($BP6:DC6)","v":0},167,0,12,12,0,0,167]
[{"$f":"A6","v":0},0,2,null,"Artikel 6",{"$f":"MIN($P7:BO7)","v":299.99},{"$f":"MAX($P7:BO7)","v":319.99},{"$f":"MIN($BP7:DC7)","v":0},{"$f":"MAX($BP7:DC7)","v":0},319.99,0,4,4,0,0,null,null,null,null,null,null,299.99,null,null,null,null,null,null,null,null,null,null,null,null,null,null,null,null,null,319.99]
[{"$f":"IF(K8>0,A7+1,A7)","v":0},0,{"$f":"C7","v":2},null,"Artikel 7",{"$f":"MIN($P8:BO8)","v":450},{"$f":"MAX($P8:BO8)","v":450},{"$f":"MIN($BP8:DC8)","v":0},{"$f":"MAX($BP8:DC8)","v":0},450,0,2,2,0,0,450]
[{"$f":"A8","v":0},0,2,null,"Artikel 8",{"$f":"MIN($P9:BO9)","v":139.99},{"$f":"MAX($P9:BO9)","v":179.99},{"$f":"MIN($BP9:DC9)","v":0},{"$f":"MAX($BP9:DC9)","v":0},145.99,-1,5,6,0,0,null,null,null,null,null,null,null,null,null,null,null,null,null,null,null,null,null,179.99,null,null,null,null,null,null,null,null,139.99,null,null,null,null,null,null,null,null,145.99]
[0,0,2,null,"Artikel 9",{"$f":"MIN($P10:BO10)","v":399.99},{"$f":"MAX($P10:BO10)","v":399.99},{"$f":"MIN($BP10:DC10)","v":0},{"$f":"MAX($BP10:DC10)","v":0},399.99,0,1,1,0,0,null,null,null,null,null,null,null,null,null,null,null,null,null,null,null,null,null,null,null,null,null,null,null,null,null,399.99]
[0,{"$f":"IF(OR(K11>0,F11=N11),B10+1,B10)","v":1},{"$f":"IF(OR(F11=O11,F11=N11),C10+1,C10)","v":2},null,"Artikel 10",{"$f":"MIN($P11:BO11)","v":69.989999999999995},{"$f":"MAX($P11:BO11)","v":139.99},{"$f":"MIN($BP11:DC11)","v":0},{"$f":"MAX($BP11:DC11)","v":0},79.989999999999995,3,3,null,0,79.989999999999995,94.99,null,89.99,null,null,null,69.989999999999995,null,99.99,null,null,null,119.99,null,69.989999999999995,89.99,99.99,99.99,null,99.99,null,null,null,null,null,null,null,null,null,null,null,null,null,null,139.99,null,79.989999999999995]
[0,{"$f":"IF(OR(K12>0,F12=N12),B11+1,B11)","v":2},{"$f":"IF(OR(F12=O12,F12=N12),C11+1,C11)","v":2},null,"Artikel 11",{"$f":"MIN($P12:BO12)","v":249.99},{"$f":"MAX($P12:BO12)","v":299.99},{"$f":"MIN($BP12:DC12)","v":0},{"$f":"MAX($BP12:DC12)","v":0},299.99,1,1,null,0,0,null,null,null,null,null,null,null,null,null,null,null,null,null,null,null,null,null,null,null,null,null,null,null,null,299.99,249.99,299.99]
[0,{"$f":"B12","v":2},{"$f":"IF(OR(K13>0,F13=O13,F13=N13),C12+1,C12)","v":2},null,"Artikel 12",{"$f":"MIN($P13:BO13)","v":189.99},{"$f":"MAX($P13:BO13)","v":269.99},{"$f":"MIN($BP13:DC13)","v":0},{"$f":"MAX($BP13:DC13)","v":0},269.99,0,8,8,0,0,null,null,null,null,null,null,null,null,null,null,null,null,null,null,null,null,189.99,null,null,null,null,null,null,null,null,null,null,269.99]
[0,{"$f":"B13","v":2},2,null,"Artikel 13",{"$f":"MIN($P14:BO14)","v":129.99},{"$f":"MAX($P14:BO14)","v":134.99},{"$f":"MIN($BP14:DC14)","v":0},{"$f":"MAX($BP14:DC14)","v":0},134.99,-1,5,6,0,0,null,null,null,null,null,null,null,null,null,null,null,null,null,null,null,null,null,null,null,null,null,null,null,null,null,129.99,null,null,null,null,null,null,null,null,null,134.99]
[{"$f":"A14","v":0},{"$f":"IF(OR(K15>0,F15=N15),B14+1,B14)","v":3},{"$f":"IF(OR(F15=O15,F15=N15),C14+1,C14)","v":2},null,"Artikel 14",{"$f":"MIN($P15:BO15)","v":129.99},{"$f":"MAX($P15:BO15)","v":169.99},{"$f":"MIN($BP15:DC15)","v":0},{"$f":"MAX($BP15:DC15)","v":0},169.99,2,2,null,0,0,null,null,null,null,null,null,null,null,null,129.99,null,null,139.99,null,149.49,149.99,null,null,149.49,null,null,null,139.99,null,null,null,null,null,null,null,null,null,169.99]
[{"$f":"IF(K16>4,A15+1,A15)","v":0},{"$f":"B15","v":3},{"$f":"C15","v":2},null,"Artikel 15",{"$f":"MIN($P16:BO16)","v":114.99},{"$f":"MAX($P16:BO16)","v":114.99},{"$f":"MIN($BP16:DC16)","v":0},{"$f":"MAX($BP16:DC16)","v":0},114.99,0,15,15,0,0,null,null,null,null,null,null,null,null,null,null,null,null,null,null,null,null,null,null,null,null,null,null,null,null,null,null,null,null,null,null,null,114.99]
[0,{"$f":"IF(OR(K17>0,F17=N17),B16+1,B16)","v":4},{"$f":"IF(OR(F17=O17,F17=N17),C16+1,C16)","v":2},null,"Artikel 16",{"$f":"MIN($P17:BO17)","v":119.99},{"$f":"MAX($P17:BO17)","v":209.99},{"$f":"MIN($BP17:DC17)","v":0},{"$f":"MAX($BP17:DC17)","v":0},209.99,2,2,null,0,0,null,null,null,null,null,null,null,null,null,null,null,null,null,null,null,null,null,null,null,null,null,null,null,null,null,169.99,null,null,null,149.99,null,null,null,119.99,null,209.99]
[0,{"$f":"IF(OR(K18>0,F18=N18),B17+1,B17)","v":5},{"$f":"IF(OR(F18=O18,F18=N18),C17+1,C17)","v":2},null,"Artikel 17",{"$f":"MIN($P18:BO18)","v":199.99},{"$f":"MAX($P18:BO18)","v":199.99},{"$f":"MIN($BP18:DC18)","v":0},{"$f":"MAX($BP18:DC18)","v":0},199.99,1,1,null,0,0,null,null,null,null,null,null,null,null,null,null,null,null,null,null,null,null,null,null,null,null,null,null,null,null,null,null,199.99]
[0,{"$f":"B18","v":5},{"$f":"IF(OR(K19>0,F19=O19,F19=N19),C18+1,C18)","v":2},null,"Artikel 18",{"$f":"MIN($P19:BO19)","v":49.99},{"$f":"MAX($P19:BO19)","v":64.989999999999995},{"$f":"MIN($BP19:DC19)","v":0},{"$f":"MAX($BP19:DC19)","v":0},64.989999999999995,-5,20,25,0,0,null,null,null,null,null,null,null,null,null,null,null,null,null,49.99,null,null,null,null,null,null,null,null,null,null,null,55.24,null,null,64.989999999999995]
[0,{"$f":"IF(OR(K20>0,F20=N20),B19+1,B19)","v":6},{"$f":"IF(OR(F20=O20,F20=N20),C19+1,C19)","v":2},null,"Artikel 19",{"$f":"MIN($P20:BO20)","v":119.99},{"$f":"MAX($P20:BO20)","v":139.99},{"$f":"MIN($BP20:DC20)","v":0},{"$f":"MAX($BP20:DC20)","v":0},119.99,2,2,null,0,{"$f":"INDEX(Q20:ZD20,MATCH(O$1,Q$1:ZD$1,0))","v":0},null,null,129.99,null,139.99,null,null,null,null,null,null,null,null,119.99]
[0,{"$f":"B20","v":6},3,null,"Artikel 20",{"$f":"MIN($P21:BO21)","v":119.99},{"$f":"MAX($P21:BO21)","v":124.99},{"$f":"MIN($BP21:DC21)","v":0},{"$f":"MAX($BP21:DC21)","v":0},124.99,6,10,4,0,0,null,null,null,null,null,null,null,null,null,null,null,null,124.99,null,null,null,null,null,119.99,null,null,null,null,124.99,null,null,null,124.99,null,124.99]
[0,6,{"$f":"IF(OR(((M22+M23)<2),F23=O23,F22=N22),C21+1,C21)","v":3},null,"Artikel 21",{"$f":"MIN($P22:BO22)","v":229.99},{"$f":"MAX($P22:BO22)","v":399.99},{"$f":"MIN($BP22:DC22)","v":0},{"$f":"MAX($BP22:DC22)","v":0},309.99,{"$f":"SUM((L22+L23)-(M22+M23))","v":0},1,2,0,0,null,289.99,null,null,null,null,null,329.99,null,289.99,null,null,null,null,null,null,229.99,null,null,399.99,null,269.99,null,null,null,null,null,null,null,null,389.99,309.99]
[0,6,{"$f":"IF(OR(((M22+M23)<2),F23=O23,F23=N23),C22+1,C22)","v":3},null,"Artikel 22",{"$f":"MIN($P23:BO23)","v":539.99},{"$f":"MAX($P23:BO23)","v":599.99},{"$f":"MIN($BP23:DC23)","v":0},{"$f":"MAX($BP23:DC23)","v":0},599.99,{"$f":"SUM((L22+L23)-(M22+M23))","v":0},1,null,0,0,null,null,null,null,null,null,null,null,null,null,null,null,null,null,599.99,null,null,null,null,null,null,null,null,null,null,null,539.99,null,539.99,null,null,null,599.99]
[0,6,{"$f":"IF(OR(K24>0,F24=O24,F24=N24),C23+1,C23)","v":3},null,"Artikel 23",{"$f":"MIN($P24:BO24)","v":42.49},{"$f":"MAX($P24:BO24)","v":49.99},{"$f":"MIN($BP24:DC24)","v":0},{"$f":"MAX($BP24:DC24)","v":0},42.49,{"$f":"SUM(L24-M24)","v":0},20,20,0,0,null,null,null,null,null,null,null,null,null,null,null,null,null,null,null,null,null,null,null,null,null,null,null,null,null,49.99,null,null,49.99,null,null,42.49]
[0,6,3,null,"Artikel 24",{"$f":"MIN($P25:BO25)","v":189.99},{"$f":"MAX($P25:BO25)","v":209.99},{"$f":"MIN($BP25:DC25)","v":0},{"$f":"MAX($BP25:DC25)","v":0},199.99,-2,2,4,199.99,0,null,null,null,null,null,null,null,null,null,null,null,null,null,null,null,null,null,null,null,189.99,null,null,null,null,null,null,209.99,null,null,null,null,189.99,null,null,null,null,null,199.99]
[0,6,3,null,"Artikel 25",{"$f":"MIN($P26:BO26)","v":169.99},{"$f":"MAX($P26:BO26)","v":169.99},{"$f":"MIN($BP26:DC26)","v":0},{"$f":"MAX($BP26:DC26)","v":0},169.99,0,20,20,0,0,null,null,null,null,null,null,null,null,null,null,null,null,null,null,null,null,null,null,null,null,null,null,null,null,null,null,169.99]
[0,{"$f":"IF(OR(K27>0,F27=N27),B26+1,B26)","v":7},{"$f":"C26","v":3},null,"Artikel 26",{"$f":"MIN($P27:BO27)","v":89.99},{"$f":"MAX($P27:BO27)","v":89.99},{"$f":"MIN($BP27:DC27)","v":0},{"$f":"MAX($BP27:DC27)","v":0},89.99,1,1,null,0,0,null,null,89.99]
[0,{"$f":"IF(OR(K28>0,F28=N28),B27+1,B27)","v":8},{"$f":"C27","v":3},null,"Artikel 27",{"$f":"MIN($P28:BO28)","v":179.99},{"$f":"MAX($P28:BO28)","v":179.99},{"$f":"MIN($BP28:DC28)","v":0},{"$f":"MAX($BP28:DC28)","v":0},179.99,1,1,null,0,0,null,null,null,null,null,null,null,null,null,null,null,null,null,null,null,null,null,null,null,null,null,null,null,null,null,null,null,null,179.99]
[{"$f":"A28","v":0},9,{"$f":"C28","v":3},null,"Artikel 28",{"$f":"MIN($P29:BO29)","v":169.99},{"$f":"MAX($P29:BO29)","v":169.99},{"$f":"MIN($BP29:DC29)","v":0},{"$f":"MAX($BP29:DC29)","v":0},169.99,{"$f":"SUM(L29-M29)","v":2},2,null,{"$f":"INDEX(P29:ZC29,MATCH(N$1,P$1:ZC$1,0))","v":0},{"$f":"INDEX(Q29:ZD29,MATCH(O$1,Q$1:ZD$1,0))","v":0},null,null,null,null,null,null,null,null,null,null,null,null,null,null,null,null,null,null,null,null,null,null,null,null,null,null,null,null,null,null,null,null,null,null,null,169.99]
[{"$f":"A29","v":0},10,{"$f":"C29","v":3},null,"Artikel 29",{"$f":"MIN($P30:BO30)","v":449.99},{"$f":"MAX($P30:BO30)","v":449.99},{"$f":"MIN($BP30:DC30)","v":0},{"$f":"MAX($BP30:DC30)","v":0},449.99,1,1,null,{"$f":"INDEX(P30:ZC30,MATCH(N$1,P$1:ZC$1,0))","v":0},{"$f":"INDEX(Q30:ZD30,MATCH(O$1,Q$1:ZD$1,0))","v":0},null,null,449.99]
[0,{"$f":"B30","v":10},{"$f":"IF(OR(K31>0,F31=O31,F31=N31),C30+1,C30)","v":3},null,"Artikel 30",{"$f":"MIN($P31:BO31)","v":94.99},{"$f":"MAX($P31:BO31)","v":94.99},{"$f":"MIN($BP31:DC31)","v":0},{"$f":"MAX($BP31:DC31)","v":0},94.99,0,10,10,0,0,94.99,null,null,94.99]
[0,10,3,null,"Artikel 31",{"$f":"MIN($P32:BO32)","v":299.99},{"$f":"MAX($P32:BO32)","v":349.99},{"$f":"MIN($BP32:DC32)","v":0},{"$f":"MAX($BP32:DC32)","v":0},299.99,-1,9,10,{"$f":"INDEX(P32:ZC32,MATCH(N$1,P$1:ZC$1,0))","v":0},{"$f":"INDEX(Q32:ZD32,MATCH(O$1,Q$1:ZD$1,0))","v":0},null,null,null,null,null,null,null,null,null,null,null,null,null,null,null,null,null,null,null,null,null,null,null,null,null,null,null,349.99,null,null,299.99]
[{"$f":"IF((M89+M90+M91+M92)>0,A32+1,A32)","v":0},10,{"$f":"C32","v":3},null,"Artikel 32",{"$f":"MIN($P33:BO33)","v":80},{"$f":"MAX($P33:BO33)","v":80},{"$f":"MIN($BP33:DC33)","v":0},{"$f":"MAX($BP33:DC33)","v":0},80,2,2,null,{"$f":"INDEX(P33:ZC33,MATCH(N$1,P$1:ZC$1,0))","v":0},{"$f":"INDEX(Q33:ZD33,MATCH(O$1,Q$1:ZD$1,0))","v":0},80]
[{"$f":"A33","v":0},10,{"$f":"IF(OR(K34>0,F34=O34,F34=N34),C33+1,C33)","v":3},null,"Artikel 33",{"$f":"MIN($P34:BO34)","v":89.99},{"$f":"MAX($P34:BO34)","v":239.98},{"$f":"MIN($BP34:DC34)","v":0},{"$f":"MAX($BP34:DC34)","v":0},89.99,0,20,20,0,0,null,null,null,null,null,null,159.99,null,104.99,null,99.99,null,null,null,null,239.98,null,null,null,null,null,89.99,null,null,null,null,99.99,null,99.99,89.99]
[0,10,{"$f":"C34","v":3},null,"Artikel 34",null,{"$f":"MAX($P35:BO35)","v":0},{"$f":"MIN($BP35:DC35)","v":0},{"$f":"MAX($BP35:DC35)","v":0},{"$f":"IFERROR(LOOKUP(100000,P35:DC35),0)","v":0},{"$f":"SUM(L35-M35)","v":2},2,null,{"$f":"INDEX(P35:ZC35,MATCH(N$1,P$1:ZC$1,0))","v":0},{"$f":"INDEX(Q35:ZD35,MATCH(O$1,Q$1:ZD$1,0))","v":0}]
[0,10,{"$f":"IF(OR((M36+M37+M38+M39+M40+M41)<41,F36=O25,F36=N36),C35+1,C35)","v":3},null,"Artikel 35",{"$f":"MIN($P36:BO36)","v":359.7},{"$f":"MAX($P36:BO36)","v":419.99},{"$f":"MIN($BP36:DC36)","v":0},{"$f":"MAX($BP36:DC36)","v":0},389.99,{"$f":"IF(M36<21,4,IF(M36<31,3,IF(M36<61,2,IF(M36<91,1,1))))","v":1},120,100,{"$f":"INDEX(P36:ZC36,MATCH(N$1,P$1:ZC$1,0))","v":0},389.99,null,null,null,419.99,null,null,null,419.99,null,null,null,389.7,null,null,359.7,null,null,null,null,null,null,null,null,null,389.7,null,null,null,null,389.7,null,null,null,null,null,null,389.99]
[0,10,{"$f":"IF(OR((M36+M37+M38+M39+M40+M41)<41,F37=O37,F37=N37),C36+1,C36)","v":3},null,"Artikel 36",{"$f":"MIN($P37:BO37)","v":229.99},{"$f":"MAX($P37:BO37)","v":279.99},{"$f":"MIN($BP37:DC37)","v":0},{"$f":"MAX($BP37:DC37)","v":0},229.99,{"$f":"SUM(L36-M36-M37-M38-M39-M40-M41)/18","v":1.1111111111111112},18,null,0,0,null,null,269.99,null,null,null,null,null,null,null,null,null,null,null,null,null,null,null,null,279.99,null,null,null,null,null,null,229.99]
[0,10,{"$f":"IF(OR((M36+M37+M38+M39+M40+M41)<41,F38=O38,F38=N38),C37+1,C37)","v":3},null,"Artikel 37",{"$f":"MIN($P38:BO38)","v":279.99},{"$f":"MAX($P38:BO38)","v":279.99},{"$f":"MIN($BP38:DC38)","v":0},{"$f":"MAX($BP38:DC38)","v":0},279.99,{"$f":"SUM(L36-M36-M37-M38-M39-M40-M41)/15","v":1.3333333333333333},15,null,0,0,null,null,null,null,null,null,null,null,null,null,null,null,null,null,null,null,null,null,null,null,null,null,null,null,null,null,null,null,null,null,null,279.99]
[0,10,{"$f":"IF(OR((M36+M37+M38+M39+M40+M41)<41,F39=O39,F39=N39),C38+1,C38)","v":3},null,"Artikel 38",{"$f":"MIN($P39:BO39)","v":155.99},{"$f":"MAX($P39:BO39)","v":199.99},{"$f":"MIN($BP39:DC39)","v":0},{"$f":"MAX($BP39:DC39)","v":0},155.99,{"$f":"SUM(L36-M36-M37-M38-M39-M40-M41)/12","v":1.6666666666666667},12,null,0,0,199.99,null,null,null,null,null,null,null,null,null,null,null,null,null,null,null,null,null,null,null,null,null,null,null,null,null,null,null,null,null,null,null,155.99]
[0,10,{"$f":"IF(OR((M36+M37+M38+M39+M40+M41)<41,F40=O40,F40=N40),C39+1,C39)","v":3},null,"Artikel 39",{"$f":"MIN($P40:BO40)","v":179.99},{"$f":"MAX($P40:BO40)","v":179.99},{"$f":"MIN($BP40:DC40)","v":0},{"$f":"MAX($BP40:DC40)","v":0},179.99,{"$f":"SUM(L36-M36-M37-M38-M39-M40-M41)/10","v":2},10,null,0,0,null,null,null,null,null,null,null,null,null,null,null,null,null,null,179.99]
[0,10,{"$f":"IF(OR((M36+M37+M38+M39+M40+M41)<41,F41=O41,F41=N41),C40+1,C40)","v":3},null,"Artikel 40",{"$f":"MIN($P41:BO41)","v":175.99},{"$f":"MAX($P41:BO41)","v":219.99},{"$f":"MIN($BP41:DC41)","v":0},{"$f":"MAX($BP41:DC41)","v":0},175.99,{"$f":"SUM(L36-M36-M37-M38-M39-M40-M41)/10","v":2},10,null,0,0,null,null,null,null,null,null,null,null,null,null,null,null,null,null,null,null,null,null,null,null,null,null,null,null,null,null,null,219.99,null,null,null,175.99]
[0,10,{"$f":"IF(OR(((M42+M43)<8),F42=O42,F42=N42),C41+1,C41)","v":3},null,"Artikel 41",{"$f":"MIN($P42:BO42)","v":149.99},{"$f":"MAX($P42:BO42)","v":174.99},{"$f":"MIN($BP42:DC42)","v":0},{"$f":"MAX($BP42:DC42)","v":0},164.99,{"$f":"SUM(L42-(M42+(M43*2)))","v":-7},6,9,0,0,null,null,null,null,149.99,null,null,null,null,null,null,164.99,null,null,null,null,159.99,null,null,null,null,null,null,174.99,null,null,164.99]
[0,10,{"$f":"IF(OR(((M42+M43)<8),F43=O43,F43=N43),C42+1,C42)","v":3},null,"Artikel 42",{"$f":"MIN($P43:BO43)","v":210.99},{"$f":"MAX($P43:BO43)","v":219.99},{"$f":"MIN($BP43:DC43)","v":0},{"$f":"MAX($BP43:DC43)","v":0},210.99,{"$f":"IF(M42=2,0,(L43-M43))","v":0},2,2,0,0,null,219.99,null,null,null,null,null,219.99,null,null,null,null,null,null,null,null,null,null,null,219.99,null,null,null,null,null,219.99,null,null,null,null,219.99,null,null,null,210.99]
[0,10,{"$f":"IF(OR(K44>0,F44=O44,F44=N44),C43+1,C43)","v":3},null,"Artikel 43",{"$f":"MIN($P44:BO44)","v":199.99},{"$f":"MAX($P44:BO44)","v":259.99},{"$f":"MIN($BP44:DC44)","v":0},{"$f":"MAX($BP44:DC44)","v":0},216.99,{"$f":"SUM(L44-M44)","v":0},8,8,0,0,null,null,null,null,199.99,null,null,null,null,null,null,null,null,null,null,null,null,null,null,null,null,null,null,null,null,null,null,259.99,null,null,null,null,220.99,null,null,216.99]
[0,10,3,null,"Artikel 44",{"$f":"MIN($P45:BO45)","v":94.99},{"$f":"MAX($P45:BO45)","v":94.99},{"$f":"MIN($BP45:DC45)","v":0},{"$f":"MAX($BP45:DC45)","v":0},94.99,0,4,4,0,0,null,null,null,null,null,null,null,null,null,null,null,null,null,null,null,null,null,null,null,null,null,null,null,null,null,null,94.99]
[0,10,3,null,"Artikel 45",{"$f":"MIN($P46:BO46)","v":71.489999999999995},{"$f":"MAX($P46:BO46)","v":89.99},{"$f":"MIN($BP46:DC46)","v":0},{"$f":"MAX($BP46:DC46)","v":0},71.489999999999995,0,8,8,0,0,null,null,null,null,null,null,null,null,null,null,null,null,null,null,null,null,null,null,null,null,null,null,null,null,null,null,89.99,null,null,null,null,null,null,null,null,71.489999999999995]
[0,10,3,null,"Artikel 46",{"$f":"MIN($P47:BO47)","v":299.99},{"$f":"MAX($P47:BO47)","v":449.99},{"$f":"MIN($BP47:DC47)","v":0},{"$f":"MAX($BP47:DC47)","v":0},399.99,0,6,6,{"$f":"INDEX(P47:ZC47,MATCH(N$1,P$1:ZC$1,0))","v":0},0,null,null,null,null,359.99,null,null,null,null,null,null,null,399.99,null,null,null,299.99,null,null,null,null,null,null,null,null,449.99,399.99,null,null,null,null,null,null,null,null,399.99]
[0,10,{"$f":"C47","v":3},null,"Artikel 47",{"$f":"MIN($P48:BO48)","v":0},{"$f":"MAX($P48:BO48)","v":0},{"$f":"MIN($BP48:DC48)","v":0},{"$f":"MAX($BP48:DC48)","v":0},0,{"$f":"SUM(L48-M48)","v":2},2,null,0,0]
[0,10,3,null,"Artikel 48",{"$f":"MIN($P49:BO49)","v":22.99},{"$f":"MAX($P49:BO49)","v":26.99},{"$f":"MIN($BP49:DC49)","v":0},{"$f":"MAX($BP49:DC49)","v":0},26.99,0,10,10,0,0,null,null,null,22.99,null,null,null,null,null,null,null,null,null,null,null,null,null,null,null,null,null,26.99]
[{"$f":"IF(K50>0,A49+1,A49)","v":1},{"$f":"B49","v":10},{"$f":"C49","v":3},null,"Artikel 49",{"$f":"MIN($P50:BO50)","v":330},{"$f":"MAX($P50:BO50)","v":330},{"$f":"MIN($BP50:DC50)","v":0},{"$f":"MAX($BP50:DC50)","v":0},330,8,10,2,0,0,330]
[{"$f":"A50","v":1},10,3,null,"Artikel 50",{"$f":"MIN($P51:BO51)","v":239.99},{"$f":"MAX($P51:BO51)","v":271.99},{"$f":"MIN($BP51:DC51)","v":0},{"$f":"MAX($BP51:DC51)","v":0},239.99,-1,6,7,0,0,null,null,null,null,null,null,null,249.99,null,null,null,null,null,239.99,null,null,null,null,null,null,null,null,null,null,null,null,null,null,null,271.99,239.99]
[{"$f":"A51","v":1},10,3,null,"Artikel 51",{"$f":"MIN($P52:BO52)","v":84.99},{"$f":"MAX($P52:BO52)","v":108.99},{"$f":"MIN($BP52:DC52)","v":0},{"$f":"MAX($BP52:DC52)","v":0},84.99,-2,5,7,0,0,null,null,null,null,null,null,null,null,null,null,null,null,null,null,null,null,null,null,null,null,null,null,null,null,null,108.99,null,null,null,null,null,null,null,null,null,84.99]
[1,10,{"$f":"C52","v":3},null,"Artikel 52",{"$f":"MIN($P53:BO53)","v":124.99},{"$f":"MAX($P53:BO53)","v":159.99},{"$f":"MIN($BP53:DC53)","v":0},{"$f":"MAX($BP53:DC53)","v":0},124.99,2,2,null,0,0,null,null,null,null,null,null,null,null,null,null,null,null,null,null,null,null,null,null,null,null,null,null,null,null,null,null,null,null,159.99,124.99]
[1,10,{"$f":"C53","v":3},null,"Artikel 53",{"$f":"MIN($P54:BO54)","v":239.99},{"$f":"MAX($P54:BO54)","v":299.99},{"$f":"MIN($BP54:DC54)","v":0},{"$f":"MAX($BP54:DC54)","v":0},239.99,1,1,null,0,0,null,null,null,null,null,null,null,null,null,null,null,null,null,null,null,null,null,null,null,299.99,null,null,null,null,null,null,null,null,299.99,null,null,299.99,239.99]
[1,10,{"$f":"IF(OR(K55>0,F55=O55,F55=N55),C54+1,C54)","v":3},null,"Artikel 54",{"$f":"MIN($P55:BO55)","v":179.99},{"$f":"MAX($P55:BO55)","v":399.99},{"$f":"MIN($BP55:DC55)","v":0},{"$f":"MAX($BP55:DC55)","v":0},399.99,0,1,1,0,{"$f":"INDEX(Q55:ZD55,MATCH(O$1,Q$1:ZD$1,0))","v":0},null,null,null,null,null,null,null,null,null,null,null,null,null,null,null,null,null,null,null,null,null,null,null,null,null,null,179.99,null,null,null,null,null,null,null,399.99]
[{"$f":"IF(K56>0,A55+1,A55)","v":2},10,{"$f":"C55","v":3},null,"Artikel 55",{"$f":"MIN($P56:BO56)","v":100},{"$f":"MAX($P56:BO56)","v":200},{"$f":"MIN($BP56:DC56)","v":0},{"$f":"MAX($BP56:DC56)","v":0},150,1,12,11,0,0,null,null,null,null,null,null,null,null,null,null,null,null,100,null,null,null,null,null,null,null,null,null,null,null,null,null,200,null,null,null,null,null,150]
[2,10,3,null,"Artikel 56",{"$f":"MIN($P57:BO57)","v":42.49},{"$f":"MAX($P57:BO57)","v":49.99},{"$f":"MIN($BP57:DC57)","v":0},{"$f":"MAX($BP57:DC57)","v":0},42.49,0,5,5,0,0,null,null,null,null,null,null,null,null,null,null,null,null,null,null,null,null,null,null,null,null,null,49.99,null,42.49]
[2,10,3,null,"Artikel 57",{"$f":"MIN($P58:BO58)","v":58.49},{"$f":"MAX($P58:BO58)","v":89.99},{"$f":"MIN($BP58:DC58)","v":0},{"$f":"MAX($BP58:DC58)","v":0},58.49,0,2,2,0,0,null,null,null,null,null,null,null,null,null,null,null,null,null,null,null,null,null,null,null,null,null,89.99,null,null,null,null,null,null,null,null,null,null,null,null,null,58.49]
[2,10,{"$f":"IF(OR(((M59+M60)<2),F59=O59,F59=N59),C58+1,C58)","v":3},null,"Artikel 58",{"$f":"MIN($P59:BO59)","v":189.99},{"$f":"MAX($P59:BO59)","v":189.99},{"$f":"MIN($BP59:DC59)","v":0},{"$f":"MAX($BP59:DC59)","v":0},189.99,{"$f":"SUM((L59+L60)-(M59+M60))","v":0},1,1,0,0,null,null,null,null,null,null,null,null,null,null,null,null,null,null,null,null,null,null,null,null,null,null,null,null,null,null,null,189.99]
[2,10,{"$f":"IF(OR(((M59+M60)<2),F60=O60,F60=N60),C59+1,C59)","v":3},null,"Artikel 59",{"$f":"MIN($P60:BO60)","v":179.99},{"$f":"MAX($P60:BO60)","v":219.99},{"$f":"MIN($BP60:DC60)","v":0},{"$f":"MAX($BP60:DC60)","v":0},219.99,{"$f":"SUM((L59+L60)-(M59+M60))","v":0},1,1,0,0,null,null,null,null,null,null,null,null,null,209.99,null,null,null,null,null,null,null,null,null,179.99,null,null,null,null,null,184.61,null,null,null,192.49,null,null,219.99]
[{"$f":"IF(K61>0,A60+1,A60)","v":2},10,{"$f":"C60","v":3},null,"Artikel 60",{"$f":"MIN($P61:BO61)","v":0},{"$f":"MAX($P61:BO61)","v":0},{"$f":"MIN($BP61:DC61)","v":0},{"$f":"MAX($BP61:DC61)","v":0},0,{"$f":"SUM(L61-M61)","v":0},1,1,0,0]
[{"$f":"A61","v":2},10,{"$f":"IF(OR(K62>0,F62=O62,F62=N62),C61+1,C61)","v":3},null,"Artikel 61",{"$f":"MIN($P62:BO62)","v":109.99},{"$f":"MAX($P62:BO62)","v":109.99},{"$f":"MIN($BP62:DC62)","v":0},{"$f":"MAX($BP62:DC62)","v":0},109.99,{"$f":"SUM(L62-M62)","v":-3},1,4,0,0,null,null,null,null,null,null,null,null,null,null,null,null,null,null,null,null,null,null,null,null,null,null,null,null,null,null,109.99]
[2,10,3,null,"Artikel 62",{"$f":"MIN($P63:BO63)","v":64.989999999999995},{"$f":"MAX($P63:BO63)","v":86.99},{"$f":"MIN($BP63:DC63)","v":0},{"$f":"MAX($BP63:DC63)","v":0},66.94,{"$f":"SUM(L63-M63)","v":0},8,8,0,0,null,null,null,null,null,null,null,null,null,null,null,null,null,null,null,null,null,null,null,64.989999999999995,null,null,null,null,null,null,null,86.99,86.99,null,null,null,null,null,null,66.94]
[2,10,{"$f":"IF(OR(((M64+M65)<8),F64=O64,F64=N64),C63+1,C63)","v":4},null,"Artikel 63",{"$f":"MIN($P64:BO64)","v":149.99},{"$f":"MAX($P64:BO64)","v":169.99},{"$f":"MIN($BP64:DC64)","v":0},{"$f":"MAX($BP64:DC64)","v":0},149.99,{"$f":"SUM((L64+L65)-(M64+M65))","v":3},6,4,0,0,null,null,null,169.99,null,null,null,null,164.99,null,null,null,null,null,null,null,149.99,null,null,null,null,149.99,null,149.99]
[2,10,{"$f":"IF(OR(((M64+M65)<8),F65=O65,F65=N65),C64+1,C64)","v":5},null,"Artikel 64",{"$f":"MIN($P65:BO65)","v":179.99},{"$f":"MAX($P65:BO65)","v":239.99},{"$f":"MIN($BP65:DC65)","v":0},{"$f":"MAX($BP65:DC65)","v":0},209.99,{"$f":"SUM((L64+L65)-(M64+M65))","v":3},2,1,0,0,null,null,null,209.99,null,null,null,null,null,null,null,209.99,null,null,null,null,null,null,null,179.99,null,null,null,null,null,null,null,null,null,null,null,239.99,null,null,null,209.99]
[2,{"$f":"IF(OR(K66>0,F66=N66),B65+1,B65)","v":11},{"$f":"IF(OR(F66=O66,F66=N66),C65+1,C65)","v":5},null,"Artikel 65",{"$f":"MIN($P66:BO66)","v":54.99},{"$f":"MAX($P66:BO66)","v":79.989999999999995},{"$f":"MIN($BP66:DC66)","v":0},{"$f":"MAX($BP66:DC66)","v":0},54.99,{"$f":"SUM(L66-M66)","v":1},1,null,0,0,79.989999999999995,null,null,null,null,null,null,null,null,null,null,54.99,null,79.989999999999995,null,null,59.99,null,null,59.99,null,null,null,null,null,54.99]
[2,12,{"$f":"IF(OR(F67=O67,F67=N67),C66+1,C66)","v":5},null,"Artikel 66",{"$f":"MIN($P67:BO67)","v":59.99},{"$f":"MAX($P67:BO67)","v":259.99},{"$f":"MIN($BP67:DC67)","v":0},{"$f":"MAX($BP67:DC67)","v":0},59.99,{"$f":"SUM(L67-M67)","v":3},3,null,0,0,null,null,null,null,null,null,null,null,null,null,null,null,null,null,259.99,null,null,139.99,null,null,79.989999999999995,null,null,89.99,69.989999999999995,69.989999999999995,null,59.99]
[2,{"$f":"B67","v":12},{"$f":"IF(OR(K68>0,F68=O68,F68=N68),C67+1,C67)","v":5},null,"Artikel 67",{"$f":"MIN($P68:BO68)","v":49.99},{"$f":"MAX($P68:BO68)","v":49.99},{"$f":"MIN($BP68:DC68)","v":0},{"$f":"MAX($BP68:DC68)","v":0},49.99,{"$f":"SUM(L68-M68)","v":0},20,20,0,0,null,null,null,null,null,null,null,null,null,null,null,null,null,49.99]
[2,{"$f":"B68","v":12},{"$f":"IF(OR((M69+M70+M71+M72+M73)<2,F69=O69,F69=N69),C68+1,C68)","v":5},null,"Artikel 68",{"$f":"MIN($P69:BO69)","v":189.99},{"$f":"MAX($P69:BO69)","v":309.99},{"$f":"MIN($BP69:DC69)","v":0},{"$f":"MAX($BP69:DC69)","v":0},{"$f":"IFERROR(LOOKUP(100000,P69:DC69),0)","v":309.99},{"$f":"SUM((L69+L70+L71+L72+L73)-(M69+M70+M71+M72+M73))","v":1},1,null,{"$f":"INDEX(P69:ZC69,MATCH(N$1,P$1:ZC$1,0))","v":0},0,null,null,null,null,null,null,null,null,null,null,189.99,null,null,null,null,null,null,null,null,199.99,null,null,null,null,null,249.99,null,null,null,309.99]
[2,12,{"$f":"IF(OR((M69+M70+M71+M72+M73)<2,F70=O70,F70=N70),C69+1,C69)","v":5},null,"Artikel 69",{"$f":"MIN($P70:BO70)","v":234.99},{"$f":"MAX($P70:BO70)","v":234.99},{"$f":"MIN($BP70:DC70)","v":0},{"$f":"MAX($BP70:DC70)","v":0},234.99,{"$f":"SUM((L69+L70+L71+L72+L73)-(M69+M70+M71+M72+M73))","v":1},1,null,0,0,null,null,null,null,null,null,null,null,null,234.99]
[2,12,{"$f":"IF(OR((M69+M70+M71+M72+M73)<2,F71=O71,F71=N71),C70+1,C70)","v":5},null,"Artikel 70",{"$f":"MIN($P71:BO71)","v":269.99},{"$f":"MAX($P71:BO71)","v":279.99},{"$f":"MIN($BP71:DC71)","v":0},{"$f":"MAX($BP71:DC71)","v":0},269.99,{"$f":"SUM((L69+L70+L71+L72+L73)-(M69+M70+M71+M72+M73))","v":1},1,2,0,0,null,null,null,null,null,null,null,null,null,279.99,null,null,null,null,null,279.99,null,null,null,null,null,null,null,null,null,null,null,269.99,null,null,null,269.99,null,null,null,269.99]
[2,12,{"$f":"IF(OR((M69+M70+M71+M72+M73)<2,F72=O72,F72=N72),C71+1,C71)","v":5},null,"Artikel 71",{"$f":"MIN($P72:BO72)","v":439.99},{"$f":"MAX($P72:BO72)","v":439.99},{"$f":"MIN($BP72:DC72)","v":0},{"$f":"MAX($BP72:DC72)","v":0},439.99,{"$f":"SUM((L69+L70+L71+L72+L73)-(M69+M70+M71+M72+M73))","v":1},2,3,0,0,null,null,439.99]
[2,12,{"$f":"IF(OR((M69+M70+M71+M72+M73)<2,F73=O73,F73=N73),C72+1,C72)","v":5},null,"Artikel 72",{"$f":"MIN($P73:BO73)","v":769.99},{"$f":"MAX($P73:BO73)","v":769.99},{"$f":"MIN($BP73:DC73)","v":0},{"$f":"MAX($BP73:DC73)","v":0},769.99,{"$f":"SUM((L69+L70+L71+L72+L73)-(M69+M70+M71+M72+M73))","v":1},1,null,0,0,null,null,null,null,null,null,null,null,null,null,null,null,null,null,null,null,null,null,null,null,null,null,null,null,769.99]
[{"$f":"IF(K74>0,A73+1,A73)","v":2},12,{"$f":"C73","v":5},null,"Artikel 73",{"$f":"MIN($P74:BO74)","v":0},{"$f":"MAX($P74:BO74)","v":0},{"$f":"MIN($BP74:DC74)","v":0},{"$f":"MAX($BP74:DC74)","v":0},0,{"$f":"SUM(L74-M74)","v":0},2,2,0,0]
[2,12,{"$f":"IF(OR(K75>0,F75=O75,F75=N75),C74+1,C74)","v":6},null,"Artikel 74",{"$f":"MIN($P75:BO75)","v":314.99},{"$f":"MAX($P75:BO75)","v":369.99},{"$f":"MIN($BP75:DC75)","v":0},{"$f":"MAX($BP75:DC75)","v":0},369.99,2,4,2,0,0,null,null,null,null,null,null,null,null,314.99,null,339.99,null,null,null,339.99,null,null,339.99,null,null,null,null,null,null,null,null,null,369.99]
[{"$f":"IF(K76>0,A75+1,A75)","v":2},12,{"$f":"C75","v":6},null,"Artikel 75",{"$f":"MIN($P76:BO76)","v":200},{"$f":"MAX($P76:BO76)","v":200},{"$f":"MIN($BP76:DC76)","v":0},{"$f":"MAX($BP76:DC76)","v":0},200,0,1,1,0,0,null,null,null,null,null,null,null,null,null,null,null,null,null,null,null,null,null,null,null,null,null,null,null,null,null,null,null,null,null,null,200]
[{"$f":"A76","v":2},12,{"$f":"IF(OR(K77>0,F77=O77,F77=N77),C76+1,C76)","v":6},null,"Artikel 76",{"$f":"MIN($P77:BO77)","v":469.99},{"$f":"MAX($P77:BO77)","v":499.16},{"$f":"MIN($BP77:DC77)","v":0},{"$f":"MAX($BP77:DC77)","v":0},499.16,{"$f":"IF(M77<1,12,IF(M77<4,11,IF(M77<7,10,IF(M77<10,9,IF(M77<13,8,IF(M77<16,7,IF(M77<19,6,IF(M77<22,5,IF(M77<25,4,IF(M77<28,3,IF(M77<31,2,IF(M77<34,1,0))))))))))))","v":0},33,34,0,0,null,null,null,null,null,null,469.99,null,null,null,null,null,null,null,null,null,null,null,null,499.16,null,null,null,null,null,499.16]
[2,12,{"$f":"IF(OR(K78>0,F78=O78,F78=N78),C77+1,C77)","v":6},null,"Artikel 77",{"$f":"MIN($P78:BO78)","v":119.99},{"$f":"MAX($P78:BO78)","v":159.99},{"$f":"MIN($BP78:DC78)","v":0},{"$f":"MAX($BP78:DC78)","v":0},139.99,0,9,9,0,0,null,null,null,139.99,null,119.99,null,null,139.99,null,null,null,null,null,null,null,null,null,null,null,null,null,139.99,null,159.99,null,null,119.99,null,null,null,null,null,159.99,139.99]
[{"$f":"IF(K79>0,A78+1,A78)","v":2},12,6,null,"Artikel 78",{"$f":"MIN($P79:BO79)","v":659.99},{"$f":"MAX($P79:BO79)","v":799.99},{"$f":"MIN($BP79:DC79)","v":0},{"$f":"MAX($BP79:DC79)","v":0},799.99,0,1,1,0,0,null,null,null,null,null,null,null,659.99,null,null,null,null,null,null,null,null,null,null,null,null,null,null,null,null,null,null,null,799.99]
[2,{"$f":"IF(OR(K80>0,F80=N80),B79+1,B79)","v":13},{"$f":"IF(OR(F80=O80,F80=N80),C79+1,C79)","v":6},null,"Artikel 79",{"$f":"MIN($P80:BO80)","v":79.989999999999995},{"$f":"MAX($P80:BO80)","v":199.99},{"$f":"MIN($BP80:DC80)","v":0},{"$f":"MAX($BP80:DC80)","v":0},79.989999999999995,1,1,null,0,0,null,null,null,null,null,null,null,null,null,null,null,null,null,null,null,null,null,null,null,null,null,null,null,199.99,159.99,149.99,99.99,null,null,null,null,79.989999999999995]
[2,{"$f":"B80","v":13},{"$f":"C80","v":6},null,"Artikel 80",{"$f":"MIN($P81:BO81)","v":359.99},{"$f":"MAX($P81:BO81)","v":519.99},{"$f":"MIN($BP81:DC81)","v":0},{"$f":"MAX($BP81:DC81)","v":0},519.99,{"$f":"SUM(L81-M81)","v":-5},1,6,{"$f":"INDEX(P81:ZC81,MATCH(N$1,P$1:ZC$1,0))","v":0},519.99,null,null,null,null,399.99,null,null,null,null,null,null,null,null,null,null,null,null,null,null,null,null,null,null,null,null,null,null,null,null,null,null,null,null,null,null,359.99,519.99]
[2,{"$f":"B81","v":13},{"$f":"C81","v":6},null,"Artikel 81",{"$f":"MIN($P82:BO82)","v":219.99},{"$f":"MAX($P82:BO82)","v":219.99},{"$f":"MIN($BP82:DC82)","v":0},{"$f":"MAX($BP82:DC82)","v":0},219.99,{"$f":"SUM(L82-M82)","v":0},1,1,0,219.99,null,null,null,null,null,null,null,null,null,null,null,null,null,null,null,null,null,null,null,null,null,null,null,null,null,null,null,null,null,null,null,null,null,null,null,null,219.99]
[{"$f":"A82","v":2},{"$f":"B82","v":13},{"$f":"IF(OR(M81<3,F83=O83,F83=N83),C82+1,C82)","v":6},null,"Artikel 82",{"$f":"MIN($P83:BO83)","v":178.99},{"$f":"MAX($P83:BO83)","v":219.99},{"$f":"MIN($BP83:DC83)","v":0},{"$f":"MAX($BP83:DC83)","v":0},219.99,4,4,null,219.99,0,null,null,null,199.99,null,null,null,null,199.99,null,null,null,189.99,null,null,null,178.99,null,null,null,199.99,null,null,null,189.99,null,null,null,199.99,null,null,null,null,198.99,null,219.99,null,219.99]
[{"$f":"IF(K84>0,A83+1,A83)","v":2},{"$f":"B83","v":13},{"$f":"C83","v":6},null,"Artikel 83",{"$f":"MIN($P84:BO84)","v":130},{"$f":"MAX($P84:BO84)","v":130},{"$f":"MIN($BP84:DC84)","v":0},{"$f":"MAX($BP84:DC84)","v":0},130,0,15,15,0,0,130]
[{"$f":"A84","v":2},13,{"$f":"IF(OR(K85>0,F85=O85,F85=N85),C84+1,C84)","v":7},null,"Artikel 84",{"$f":"MIN($P85:BO85)","v":149.99},{"$f":"MAX($P85:BO85)","v":165.74},{"$f":"MIN($BP85:DC85)","v":0},{"$f":"MAX($BP85:DC85)","v":0},165.74,5,12,7,0,0,null,null,null,null,null,155.99,null,null,154.99,null,null,null,null,null,149.99,null,null,null,154.99,null,null,null,null,null,null,149.99,null,149.99,null,null,null,null,null,154.99,null,165.74]
[{"$f":"IF(K86>0,A85+1,A85)","v":2},13,{"$f":"C85","v":7},null,"Artikel 85",{"$f":"MIN($P86:BO86)","v":179.99},{"$f":"MAX($P86:BO86)","v":179.99},{"$f":"MIN($BP86:DC86)","v":0},{"$f":"MAX($BP86:DC86)","v":0},179.99,0,10,10,0,0,179.99]
[{"$f":"A86","v":2},13,{"$f":"C86","v":7},null,"Artikel 86",{"$f":"MIN($P87:BO87)","v":24.99},{"$f":"MAX($P87:BO87)","v":24.99},{"$f":"MIN($BP87:DC87)","v":0},{"$f":"MAX($BP87:DC87)","v":0},24.99,1,1,null,0,0,null,null,null,null,null,null,null,null,null,null,null,null,null,null,null,null,null,null,null,null,null,null,null,null,null,null,null,null,null,null,null,24.99]
[2,13,{"$f":"C87","v":7},null,"Artikel 87",{"$f":"MIN($P88:BO88)","v":0},{"$f":"MAX($P88:BO88)","v":0},{"$f":"MIN($BP88:DC88)","v":0},{"$f":"MAX($BP88:DC88)","v":0},0,1,1,null,0,0]
[2,13,{"$f":"IF(OR((M89+M90+M91+M92)<3,F89=O89,F89=N89),C88+1,C88)","v":8},null,"Artikel 88",{"$f":"MIN($P89:BO89)","v":89.99},{"$f":"MAX($P89:BO89)","v":119.99},{"$f":"MIN($BP89:DC89)","v":0},{"$f":"MAX($BP89:DC89)","v":0},89.99,{"$f":"SUM(L89-(M89+M90+M91+M92))","v":12},12,null,{"$f":"INDEX(P89:ZC89,MATCH(N$1,P$1:ZC$1,0))","v":0},{"$f":"INDEX(Q89:ZD89,MATCH(O$1,Q$1:ZD$1,0))","v":0},94.99,null,null,null,null,119.99,null,null,null,null,89.99,null,null,null,null,null,null,null,null,null,null,89.99]
[2,13,{"$f":"IF(OR((M89+M90+M91+M92)<3,F90=O90,F90=N90),C89+1,C89)","v":9},null,"Artikel 89",{"$f":"MIN($P90:BO90)","v":119.99},{"$f":"MAX($P90:BO90)","v":179.99},{"$f":"MIN($BP90:DC90)","v":0},{"$f":"MAX($BP90:DC90)","v":0},129.99,{"$f":"SUM(L90-(M89+M90+M91+M92))","v":6},6,null,0,0,null,179.99,null,null,null,null,null,null,null,null,null,null,null,null,151.37,null,null,119.99,null,null,null,null,null,null,129.99]
[2,13,{"$f":"IF(OR((M89+M90+M91+M92)<3,F91=O91,F91=N91),C90+1,C90)","v":10},null,"Artikel 90",{"$f":"MIN($P91:BO91)","v":224.99},{"$f":"MAX($P91:BO91)","v":224.99},{"$f":"MIN($BP91:DC91)","v":0},{"$f":"MAX($BP91:DC91)","v":0},{"$f":"IFERROR(LOOKUP(100000,P91:DC91),0)","v":224.99},{"$f":"SUM(L91-(M89+M90+M91+M92))","v":6},6,null,0,224.99,null,null,null,null,null,null,null,null,null,null,null,null,null,null,null,null,null,null,null,null,null,null,null,null,null,null,null,null,null,null,null,null,null,null,null,null,224.99]
[2,13,{"$f":"IF(OR((M89+M90+M91+M92)<3,F92=O92,F92=N92),C91+1,C91)","v":11},null,"Artikel 91",{"$f":"MIN($P92:BO92)","v":186.66},{"$f":"MAX($P92:BO92)","v":186.66},{"$f":"MIN($BP92:DC92)","v":0},{"$f":"MAX($BP92:DC92)","v":0},{"$f":"IFERROR(LOOKUP(100000,P92:DC92),0)","v":186.66},{"$f":"SUM(L92-(M89+M90+M91+M92))","v":6},6,null,186.66,0,null,null,null,null,null,null,null,null,null,null,null,null,null,null,null,null,null,null,null,null,null,null,null,null,null,null,null,null,null,null,null,null,null,null,null,null,null,186.66]
[{"$f":"IF(K93>0,A92+1,A92)","v":3},13,{"$f":"C92","v":11},null,"Artikel 92",{"$f":"MIN($P93:BO93)","v":1450},{"$f":"MAX($P93:BO93)","v":1999.99},{"$f":"MIN($BP93:DC93)","v":0},{"$f":"MAX($BP93:DC93)","v":0},1450,{"$f":"SUM(L93-M93)","v":3},5,2,0,{"$f":"INDEX(Q93:ZD93,MATCH(O$1,Q$1:ZD$1,0))","v":0},null,null,null,null,null,null,null,null,1699.99,null,null,null,null,null,null,null,null,null,null,null,null,null,null,null,1899.99,1999.99,1699.99,null,1450]
[{"$f":"A93","v":3},{"$f":"IF(OR(K94>0,F94=N94),B93+1,B93)","v":13},{"$f":"IF(OR(K94>0,F94=O94,F94=N94),C93+1,C93)","v":12},null,"Artikel 93",{"$f":"MIN($P94:BO94)","v":59.99},{"$f":"MAX($P94:BO94)","v":99.99},{"$f":"MIN($BP94:DC94)","v":0},{"$f":"MAX($BP94:DC94)","v":0},59.99,{"$f":"SUM(L94-M94)","v":0},5,5,0,59.99,84.99,null,null,null,null,59.99,null,59.99,null,null,89.99,99.99,null,64.989999999999995,99.99,null,null,59.99,null,null,null,null,null,null,99.99,89.99,null,79.989999999999995,null,null,69.989999999999995,null,null,64.989999999999995,64.989999999999995,null,59.99]
[{"$f":"A94","v":3},{"$f":"B94","v":13},{"$f":"IF(OR(((M95+M96)<6),F95=O95,F95=N95),C94+1,C94)","v":13},null,"Artikel 94",{"$f":"MIN($P95:BO95)","v":369.99},{"$f":"MAX($P95:BO95)","v":475.99},{"$f":"MIN($BP95:DC95)","v":0},{"$f":"MAX($BP95:DC95)","v":0},475.99,{"$f":"SUM((L95+L96)-(M95+M96))","v":6},6,1,0,0,null,null,null,399.99,null,null,null,null,null,null,null,369.99,null,null,null,null,379.99,null,null,null,null,null,null,null,null,null,null,419.99,475.99]
[3,{"$f":"B95","v":13},{"$f":"IF(OR(((M95+M96)<6),F96=O96,F96=N96),C95+1,C95)","v":14},null,"Artikel 95",{"$f":"MIN($P96:BO96)","v":619.99},{"$f":"MAX($P96:BO96)","v":619.99},{"$f":"MIN($BP96:DC96)","v":0},{"$f":"MAX($BP96:DC96)","v":0},619.99,{"$f":"SUM((L95+L96)-(M95+M96))","v":6},1,null,0,0,null,null,null,null,null,null,null,null,null,null,null,null,null,null,null,null,null,null,null,619.99]
[{"$f":"IF(K97>0,A96+1,A96)","v":4},{"$f":"B95","v":13},{"$f":"C96","v":14},null,"Artikel 96",{"$f":"MIN($P97:BO97)","v":350},{"$f":"MAX($P97:BO97)","v":350},{"$f":"MIN($BP97:DC97)","v":0},{"$f":"MAX($BP97:DC97)","v":0},350,{"$f":"SUM(L97-M97)","v":2},2,null,0,0,350]
[{"$f":"A97","v":4},{"$f":"B97","v":13},{"$f":"IF(OR(K98>0,F98=O98,F98=N98),C97+1,C97)","v":14},null,"Artikel 97",{"$f":"MIN($P98:BO98)","v":134.99},{"$f":"MAX($P98:BO98)","v":189.99},{"$f":"MIN($BP98:DC98)","v":0},{"$f":"MAX($BP98:DC98)","v":0},134.99,0,10,10,0,0,null,null,null,null,null,null,null,null,null,null,null,null,189.99,null,null,null,null,null,null,null,null,null,null,null,null,151.99,null,null,null,null,189.99,null,null,134.99]
[4,{"$f":"B98","v":13},14,null,"Artikel 98",{"$f":"MIN($P99:BO99)","v":159.99},{"$f":"MAX($P99:BO99)","v":199.99},{"$f":"MIN($BP99:DC99)","v":0},{"$f":"MAX($BP99:DC99)","v":0},159.99,0,10,10,0,0,null,null,null,null,null,null,null,null,null,null,null,null,null,169.15,null,null,null,null,null,null,null,null,null,199.99,null,null,null,null,null,159.99]
[4,{"$f":"IF(OR(K100>0,F100=N100),B99+1,B99)","v":14},{"$f":"C99","v":14},null,"Artikel 99",{"$f":"MIN($P100:BO100)","v":0},{"$f":"MAX($P100:BO100)","v":0},{"$f":"MIN($BP100:DC100)","v":0},{"$f":"MAX($BP100:DC100)","v":0},{"$f":"IFERROR(LOOKUP(100000,P100:DC100),0)","v":0},{"$f":"SUM(L100-M100)","v":1},1,null,{"$f":"INDEX(P100:ZC100,MATCH(N$1,P$1:ZC$1,0))","v":0},{"$f":"INDEX(Q100:ZD100,MATCH(O$1,Q$1:ZD$1,0))","v":0}]
[4,{"$f":"IF(OR(K101>0,F101=N101),B100+1,B100)","v":14},{"$f":"IF(OR(K101>0,F101=O101,F101=N101),C100+1,C100)","v":14},null,"Artikel 100",{"$f":"MIN($P101:BO101)","v":109.99},{"$f":"MAX($P101:BO101)","v":159.99},{"$f":"MIN($BP101:DC101)","v":0},{"$f":"MAX($BP101:DC101)","v":0},109.99,-2,2,4,0,0,null,109.99,null,null,null,null,null,null,null,null,null,null,109.99,null,null,null,null,null,null,null,null,null,null,null,null,null,159.99,null,null,null,null,null,109.99]
[4,{"$f":"B101","v":14},14,null,"Artikel 101",{"$f":"MIN($P102:BO102)","v":39.99},{"$f":"MAX($P102:BO102)","v":46.99},{"$f":"MIN($BP102:DC102)","v":0},{"$f":"MAX($BP102:DC102)","v":0},46.99,-6,10,16,0,0,null,null,null,39.99,null,null,null,null,null,null,null,null,null,null,null,null,null,null,null,null,null,null,null,null,null,null,46.99]
[4,{"$f":"IF(OR(K103>0,F103=N103),B102+1,B102)","v":15},{"$f":"C102","v":14},null,"Artikel 102",{"$f":"MIN($P103:BO103)","v":59.99},{"$f":"MAX($P103:BO103)","v":59.99},{"$f":"MIN($BP103:DC103)","v":0},{"$f":"MAX($BP103:DC103)","v":0},59.99,3,3,null,{"$f":"INDEX(P103:ZC103,MATCH(N$1,P$1:ZC$1,0))","v":0},0,null,null,null,null,null,null,null,null,null,null,null,null,59.99]
[4,{"$f":"B103","v":15},{"$f":"C103","v":14},null,"Artikel 103",{"$f":"MIN($P104:BO104)","v":0},{"$f":"MAX($P104:BO104)","v":0},{"$f":"MIN($BP104:DC104)","v":0},{"$f":"MAX($BP104:DC104)","v":0},0,{"$f":"SUM(L104-M104)","v":2},2,null,{"$f":"INDEX(P104:ZC104,MATCH(N$1,P$1:ZC$1,0))","v":0},0]
[4,{"$f":"B104","v":15},{"$f":"IF(OR(K105>0,F105=O105,F105=N105),C104+1,C104)","v":14},null,"Artikel 104",{"$f":"MIN($P105:BO105)","v":55.99},{"$f":"MAX($P105:BO105)","v":55.99},{"$f":"MIN($BP105:DC105)","v":0},{"$f":"MAX($BP105:DC105)","v":0},55.99,-1,1,2,0,0,null,null,null,null,null,null,null,null,null,null,null,null,null,null,null,null,null,null,null,null,null,null,null,null,null,null,55.99]
[4,{"$f":"IF(OR(K106>0,F106=N106),B105+1,B105)","v":16},{"$f":"C105","v":14},null,"Artikel 105",{"$f":"MIN($P106:BO106)","v":109.99},{"$f":"MAX($P106:BO106)","v":109.99},{"$f":"MIN($BP106:DC106)","v":0},{"$f":"MAX($BP106:DC106)","v":0},109.99,{"$f":"SUM(L106-M106)","v":3},3,null,0,0,null,null,null,null,null,null,null,null,null,null,null,null,null,null,null,null,null,null,null,null,null,null,null,null,null,null,null,null,null,null,null,null,null,null,109.99]
[{"$f":"A106","v":4},{"$f":"B106","v":16},{"$f":"IF(OR(K107>0,F107=O107,F107=N107),C106+1,C106)","v":15},null,"Artikel 106",{"$f":"MIN($P107:BO107)","v":119.99},{"$f":"MAX($P107:BO107)","v":159.99},{"$f":"MIN($BP107:DC107)","v":0},{"$f":"MAX($BP107:DC107)","v":0},159.99,6,10,4,0,0,null,null,null,null,127.99,null,null,null,null,null,null,null,null,null,null,null,null,null,null,null,null,119.99,null,null,null,null,null,null,null,127.99,null,null,159.99]
[{"$f":"A107","v":4},{"$f":"B107","v":16},{"$f":"IF(OR(((M108+M109)<2),F108=O108,F108=N108),C107+1,C107)","v":15},null,"Artikel 107",{"$f":"MIN($P108:BO108)","v":239.99},{"$f":"MAX($P108:BO108)","v":319.98},{"$f":"MIN($BP108:DC108)","v":0},{"$f":"MAX($BP108:DC108)","v":0},259.99,{"$f":"SUM((L108+L109)-(M108+M109))","v":0},1,2,0,0,null,null,null,null,null,279.99,null,null,319.98,null,null,null,null,239.99,null,null,null,null,null,null,null,null,null,null,null,null,null,null,null,null,null,null,null,null,259.99]
[{"$f":"A108","v":4},16,{"$f":"IF(OR(((M108+M109)<2),F109=O109,F109=N109),C108+1,C108)","v":15},null,"Artikel 108",{"$f":"MIN($P109:BO109)","v":479.99},{"$f":"MAX($P109:BO109)","v":599.99},{"$f":"MIN($BP109:DC109)","v":0},{"$f":"MAX($BP109:DC109)","v":0},539.99,{"$f":"SUM((L108+L109)-(M108+M109))","v":0},1,null,0,0,null,null,null,null,null,null,null,null,null,591.98,null,null,null,null,599.99,479.99,null,null,null,479.99,null,null,539.99,null,null,539.99,null,539.99]
[{"$f":"A109","v":4},16,{"$f":"C109","v":15},null,"Artikel 109",{"$f":"MIN($P110:BO110)","v":109.99},{"$f":"MAX($P110:BO110)","v":109.99},{"$f":"MIN($BP110:DC110)","v":0},{"$f":"MAX($BP110:DC110)","v":0},109.99,{"$f":"SUM(L110-M110)","v":1},1,null,0,0,null,null,null,null,null,null,null,null,null,null,null,null,null,null,null,109.99]
[4,16,{"$f":"IF(OR(K111>0,F111=O111,F111=N111),C110+1,C110)","v":15},null,"Artikel 110",{"$f":"MIN($P111:BO111)","v":119.99},{"$f":"MAX($P111:BO111)","v":123.99},{"$f":"MIN($BP111:DC111)","v":0},{"$f":"MAX($BP111:DC111)","v":0},123.99,0,2,2,0,0,null,null,null,null,null,null,null,null,null,null,119.99,null,null,null,null,null,null,null,null,null,null,null,null,null,null,123.99]
[4,16,{"$f":"C111","v":15},null,"Artikel 111",{"$f":"MIN($P112:BO112)","v":0},{"$f":"MAX($P112:BO112)","v":0},{"$f":"MIN($BP112:DC112)","v":0},{"$f":"MAX($BP112:DC112)","v":0},0,{"$f":"SUM(L112-M112)","v":2},2,null,{"$f":"INDEX(P112:ZC112,MATCH(N$1,P$1:ZC$1,0))","v":0},0]
[4,16,{"$f":"C112","v":15},null,"Artikel 112",{"$f":"MIN($P113:BO113)","v":0},{"$f":"MAX($P113:BO113)","v":0},{"$f":"MIN($BP113:DC113)","v":0},{"$f":"MAX($BP113:DC113)","v":0},0,{"$f":"SUM(L113-M113)","v":2},2,null,0,0]
[4,16,{"$f":"IF(OR(K114>0,F114=O114,F114=N114),C113+1,C113)","v":15},null,"Artikel 113",{"$f":"MIN($P114:BO114)","v":21.67},{"$f":"MAX($P114:BO114)","v":39.99},{"$f":"MIN($BP114:DC114)","v":0},{"$f":"MAX($BP114:DC114)","v":0},21.67,-8,20,28,0,0,null,null,null,null,null,null,null,null,null,null,null,null,null,39.99,null,null,null,null,null,null,null,null,null,null,null,null,31.99,null,null,null,null,null,null,null,21.67]
[4,16,15,null,"Artikel 114",{"$f":"MIN($P115:BO115)","v":89.99},{"$f":"MAX($P115:BO115)","v":89.99},{"$f":"MIN($BP115:DC115)","v":0},{"$f":"MAX($BP115:DC115)","v":0},89.99,-1,2,3,0,0,null,null,null,null,null,null,null,null,null,null,null,null,null,null,null,89.99,null,null,null,null,null,null,null,null,null,null,89.99]
[{"$f":"IF(K116>0,A115+1,A115)","v":4},{"$f":"B115","v":16},{"$f":"C115","v":15},null,"Artikel 115",{"$f":"MIN($P116:BO116)","v":60},{"$f":"MAX($P116:BO116)","v":60},{"$f":"MIN($BP116:DC116)","v":0},{"$f":"MAX($BP116:DC116)","v":0},60,0,12,12,0,0,null,null,null,null,null,null,null,null,null,null,null,null,null,null,null,null,null,null,null,null,null,null,null,null,null,null,null,null,60]
[{"$f":"A116","v":4},16,{"$f":"IF(OR(K117>24,F117=O117,F117=N117),C116+1,C116)","v":15},null,"Artikel 116",{"$f":"MIN($P117:BO117)","v":67.989999999999995},{"$f":"MAX($P117:BO117)","v":67.989999999999995},{"$f":"MIN($BP117:DC117)","v":0},{"$f":"MAX($BP117:DC117)","v":0},67.989999999999995,-25,25,50,0,0,null,null,null,null,null,null,null,null,null,null,null,null,null,null,null,null,null,null,null,null,null,null,null,null,null,null,67.989999999999995,null,null,null,null,null,null,67.989999999999995]
[4,{"$f":"IF(OR(K118>0,F118=N118),B117+1,B117)","v":17},{"$f":"IF(OR(F118=O118,F118=N118),C117+1,C117)","v":15},null,"Artikel 117",{"$f":"MIN($P118:BO118)","v":139.99},{"$f":"MAX($P118:BO118)","v":139.99},{"$f":"MIN($BP118:DC118)","v":0},{"$f":"MAX($BP118:DC118)","v":0},139.99,3,3,null,0,0,null,null,null,null,139.99]
[4,{"$f":"B118","v":17},{"$f":"IF(OR(K119>0,F119=O119,F119=N119),C118+1,C118)","v":15},null,"Artikel 118",{"$f":"MIN($P119:BO119)","v":119.99},{"$f":"MAX($P119:BO119)","v":159.99},{"$f":"MIN($BP119:DC119)","v":0},{"$f":"MAX($BP119:DC119)","v":0},159.99,-1,2,3,0,159.99,null,null,null,119.99,null,null,null,null,null,null,null,null,null,149.99,null,null,null,null,null,null,null,null,null,null,null,null,149.99,119.99,null,null,null,null,null,null,null,null,159.99]
[4,17,{"$f":"C119","v":15},null,"Artikel 119",{"$f":"MIN($P120:BO120)","v":0},{"$f":"MAX($P120:BO120)","v":0},{"$f":"MIN($BP120:DC120)","v":0},{"$f":"MAX($BP120:DC120)","v":0},0,{"$f":"SUM(L120-M120)","v":5},5,null,{"$f":"INDEX(P120:ZC120,MATCH(N$1,P$1:ZC$1,0))","v":0},0]
[4,17,{"$f":"C120","v":15},null,"Artikel 120",{"$f":"MIN($P121:BO121)","v":0},{"$f":"MAX($P121:BO121)","v":0},{"$f":"MIN($BP121:DC121)","v":0},{"$f":"MAX($BP121:DC121)","v":0},0,{"$f":"SUM(L121-M121)","v":1},1,null,0,0]
[4,17,{"$f":"IF(OR(F122=O122,F122=N122),C121+1,C121)","v":15},null,"Artikel 121",{"$f":"MIN($P122:BO122)","v":44.99},{"$f":"MAX($P122:BO122)","v":44.99},{"$f":"MIN($BP122:DC122)","v":0},{"$f":"MAX($BP122:DC122)","v":0},44.99,-1,20,21,0,0,44.99,null,null,null,null,null,null,null,null,null,null,null,null,null,null,44.99,null,null,null,null,null,44.99]
[4,17,{"$f":"IF(OR(F123=O123,F123=N123),C122+1,C122)","v":15},null,"Artikel 122",{"$f":"MIN($P123:BO123)","v":49.99},{"$f":"MAX($P123:BO123)","v":49.99},{"$f":"MIN($BP123:DC123)","v":0},{"$f":"MAX($BP123:DC123)","v":0},49.99,0,20,20,0,0,null,null,null,49.99,null,null,null,49.99,null,null,null,null,null,null,null,null,null,null,null,null,null,null,null,null,null,null,null,null,null,null,null,null,null,49.99]
[4,17,{"$f":"IF(OR(((M124+M125)<4),F124=O124,F124=N124),C123+1,C123)","v":15},null,"Artikel 123",{"$f":"MIN($P124:BO124)","v":74.989999999999995},{"$f":"MAX($P124:BO124)","v":89.99},{"$f":"MIN($BP124:DC124)","v":0},{"$f":"MAX($BP124:DC124)","v":0},89.99,{"$f":"SUM((L124+L125)-(M124+M125))","v":9},10,1,0,0,null,null,null,null,null,null,null,null,null,79.989999999999995,null,null,null,77.989999999999995,null,null,79.989999999999995,null,null,null,null,null,null,null,74.989999999999995,89.99]
[4,17,{"$f":"IF(OR(((M124+M125)<4),F125=O125,F125=N125),C124+1,C124)","v":15},null,"Artikel 124",{"$f":"MIN($P125:BO125)","v":112.48},{"$f":"MAX($P125:BO125)","v":149.99},{"$f":"MIN($BP125:DC125)","v":0},{"$f":"MAX($BP125:DC125)","v":0},114.99,{"$f":"SUM((L124+L125)-(M124+M125))","v":9},8,8,0,0,null,null,149.99,124.99,null,null,null,119.99,null,null,null,127.48,null,null,null,null,null,null,null,null,null,null,114.99,null,null,null,114.99,null,null,null,null,null,null,112.48,114.99]
[4,17,{"$f":"C125","v":15},null,"Artikel 125",{"$f":"MIN($P126:BO126)","v":244.99},{"$f":"MAX($P126:BO126)","v":244.99},{"$f":"MIN($BP126:DC126)","v":0},{"$f":"MAX($BP126:DC126)","v":0},244.99,{"$f":"SUM(L126-M126)","v":1},1,null,0,0,null,null,null,null,null,null,null,null,null,null,null,null,null,null,null,null,null,null,null,null,null,null,null,null,null,null,null,null,null,null,null,244.99]
[4,17,{"$f":"IF(OR(K127>0,F127=O127,F127=N127),C126+1,C126)","v":16},null,"Artikel 126",{"$f":"MIN($P127:BO127)","v":174.95},{"$f":"MAX($P127:BO127)","v":189.9},{"$f":"MIN($BP127:DC127)","v":0},{"$f":"MAX($BP127:DC127)","v":0},174.95,0,4,4,174.95,{"$f":"INDEX(Q127:ZD127,MATCH(O$1,Q$1:ZD$1,0))","v":0},null,null,null,null,null,189.9,null,null,null,null,null,null,null,179.94,null,null,null,null,null,179.94,null,null,null,null,null,179.94,null,null,null,179.94,null,null,179.94,null,null,null,null,174.95]
[4,{"$f":"IF(OR(K128>0,F128=N128),B127+1,B127)","v":18},{"$f":"IF(OR(F128=O128,F128=N128),C127+1,C127)","v":16},null,"Artikel 127",{"$f":"MIN($P128:BO128)","v":47.99},{"$f":"MAX($P128:BO128)","v":74.989999999999995},{"$f":"MIN($BP128:DC128)","v":0},{"$f":"MAX($BP128:DC128)","v":0},69.989999999999995,5,5,null,0,0,null,49.99,null,49.99,null,null,null,null,null,47.99,null,54.99,null,49.99,null,null,null,null,null,null,null,74.989999999999995,null,null,null,59.99,null,null,null,null,null,null,69.989999999999995]
[4,19,{"$f":"IF(OR(F129=O129,F129=N129),C128+1,C128)","v":16},null,"Artikel 128",{"$f":"MIN($P129:BO129)","v":119.99},{"$f":"MAX($P129:BO129)","v":239.99},{"$f":"MIN($BP129:DC129)","v":0},{"$f":"MAX($BP129:DC129)","v":0},119.99,1,1,null,0,0,null,null,null,null,null,null,null,null,null,null,null,null,null,null,null,null,null,null,null,null,null,null,null,null,null,null,null,null,null,239.99,null,199.99,null,null,null,119.99]
[4,{"$f":"B129","v":19},{"$f":"C129","v":16},null,"Artikel 129",{"$f":"MIN($P130:BO130)","v":0},{"$f":"MAX($P130:BO130)","v":0},{"$f":"MIN($BP130:DC130)","v":0},{"$f":"MAX($BP130:DC130)","v":0},0,{"$f":"SUM(L130-M130)","v":1},1,null,{"$f":"INDEX(P130:ZC130,MATCH(N$1,P$1:ZC$1,0))","v":0},{"$f":"INDEX(Q130:ZD130,MATCH(O$1,Q$1:ZD$1,0))","v":0}]
[{"$f":"IF(K131>0,A130+1,A130)","v":4},{"$f":"B130","v":19},{"$f":"IF(OR(F131=O131,F131=N131),C130+1,C130)","v":16},null,"Artikel 130",{"$f":"MIN($P131:BO131)","v":88.33},{"$f":"MAX($P131:BO131)","v":89.99},{"$f":"MIN($BP131:DC131)","v":0},{"$f":"MAX($BP131:DC131)","v":0},88.33,0,45,45,{"$f":"INDEX(P131:ZC131,MATCH(N$1,P$1:ZC$1,0))","v":0},{"$f":"INDEX(Q131:ZD131,MATCH(O$1,Q$1:ZD$1,0))","v":0},null,null,null,null,null,null,null,null,null,89.99,null,null,null,89.99,null,null,null,null,null,null,null,89.99,null,null,null,null,null,null,null,null,null,89.99,88.33]
[{"$f":"A131","v":4},{"$f":"B131","v":19},{"$f":"IF(OR(K132>0,F132=O132,F132=N132),C131+1,C131)","v":16},null,"Artikel 131",{"$f":"MIN($P132:BO132)","v":399.99},{"$f":"MAX($P132:BO132)","v":399.99},{"$f":"MIN($BP132:DC132)","v":0},{"$f":"MAX($BP132:DC132)","v":0},399.99,0,12,12,0,0,null,null,null,null,null,null,null,null,null,null,null,null,null,null,null,null,null,null,null,null,null,null,null,null,null,null,399.99]
[4,{"$f":"IF(OR(K133>0,F133=N133),B132+1,B132)","v":20},{"$f":"IF(OR(F133=O133,F133=N133),C132+1,C132)","v":16},null,"Artikel 132",{"$f":"MIN($P133:BO133)","v":79.989999999999995},{"$f":"MAX($P133:BO133)","v":159.99},{"$f":"MIN($BP133:DC133)","v":0},{"$f":"MAX($BP133:DC133)","v":0},159.99,3,3,null,0,0,null,99.99,99.99,null,89.99,null,null,89.99,79.989999999999995,139.99,null,119.99,109.99,104.99,null,109.99,null,null,null,119.99,null,null,null,null,null,null,null,null,null,null,null,null,null,null,159.99]
[4,{"$f":"B133","v":20},{"$f":"IF(OR(K134>0,F134=O134,F134=N134),C133+1,C133)","v":16},null,"Artikel 133",{"$f":"MIN($P134:BO134)","v":19.989999999999998},{"$f":"MAX($P134:BO134)","v":22.99},{"$f":"MIN($BP134:DC134)","v":0},{"$f":"MAX($BP134:DC134)","v":0},{"$f":"IFERROR(LOOKUP(100000,P134:DC134),0)","v":19.989999999999998},0,20,20,0,0,null,null,22.99,null,null,null,null,null,null,null,null,null,null,null,null,null,null,null,null,null,null,null,null,null,null,19.989999999999998]
[4,{"$f":"B134","v":20},{"$f":"C134","v":16},null,"Artikel 134",{"$f":"MIN($P135:BO135)","v":0},{"$f":"MAX($P135:BO135)","v":0},{"$f":"MIN($BP135:DC135)","v":0},{"$f":"MAX($BP135:DC135)","v":0},0,{"$f":"SUM(L135-M135)","v":3},3,null,{"$f":"INDEX(P135:ZC135,MATCH(N$1,P$1:ZC$1,0))","v":0},{"$f":"INDEX(Q135:ZD135,MATCH(O$1,Q$1:ZD$1,0))","v":0}]
[4,{"$f":"B135","v":20},16,null,"Artikel 135",{"$f":"MIN($P136:BO136)","v":169.99},{"$f":"MAX($P136:BO136)","v":219.99},{"$f":"MIN($BP136:DC136)","v":0},{"$f":"MAX($BP136:DC136)","v":0},219.99,0,8,8,{"$f":"INDEX(P136:ZC136,MATCH(N$1,P$1:ZC$1,0))","v":0},{"$f":"INDEX(Q136:ZD136,MATCH(O$1,Q$1:ZD$1,0))","v":0},null,null,null,169.99,null,null,null,null,null,null,null,null,null,null,null,null,null,null,null,null,null,null,null,null,null,null,null,null,219.99]
[4,{"$f":"IF(OR(K137>0,F137=N137),B136+1,B136)","v":21},{"$f":"IF(OR(F137=O137,F137=N137),C136+1,C136)","v":16},null,"Artikel 136",{"$f":"MIN($P137:BO137)","v":169.99},{"$f":"MAX($P137:BO137)","v":449.99},{"$f":"MIN($BP137:DC137)","v":0},{"$f":"MAX($BP137:DC137)","v":0},169.99,2,2,null,0,0,null,null,null,null,null,null,null,null,null,null,null,null,null,449.99,null,null,null,null,329.99,null,null,229.99,null,199.99,null,169.99]
[4,22,{"$f":"IF(OR(F138=O138,F138=N138),C137+1,C137)","v":16},null,"Artikel 137",{"$f":"MIN($P138:BO138)","v":169.99},{"$f":"MAX($P138:BO138)","v":519.99},{"$f":"MIN($BP138:DC138)","v":0},{"$f":"MAX($BP138:DC138)","v":0},169.99,2,2,null,0,0,null,null,null,null,169.99,null,null,null,null,null,null,null,null,519.99,null,null,null,369.99,null,369.99,null,null,null,null,null,null,229.99,null,null,null,null,null,299.99,null,null,169.99]
[4,23,{"$f":"C138","v":16},null,"Artikel 138",{"$f":"MIN($P139:BO139)","v":189.99},{"$f":"MAX($P139:BO139)","v":249.99},{"$f":"MIN($BP139:DC139)","v":0},{"$f":"MAX($BP139:DC139)","v":0},249.99,1,1,null,0,0,null,null,null,null,null,null,null,null,null,null,null,189.99,null,null,null,null,null,null,null,null,null,null,null,null,null,null,null,null,null,null,null,249.99]
[4,{"$f":"B139","v":23},{"$f":"IF(OR(K140>0,F140=O140,F140=N140),C139+1,C139)","v":16},null,"Artikel 139",{"$f":"MIN($P140:BO140)","v":134.99},{"$f":"MAX($P140:BO140)","v":134.99},{"$f":"MIN($BP140:DC140)","v":0},{"$f":"MAX($BP140:DC140)","v":0},134.99,-2,15,17,0,0,null,null,null,null,null,null,null,null,null,null,null,null,null,null,null,134.99,null,null,null,null,null,null,null,null,null,134.99]
[4,{"$f":"B140","v":23},16,null,"Artikel 140",{"$f":"MIN($P141:BO141)","v":149.99},{"$f":"MAX($P141:BO141)","v":149.99},{"$f":"MIN($BP141:DC141)","v":0},{"$f":"MAX($BP141:DC141)","v":0},149.99,-1,1,2,0,0,null,null,null,null,null,null,null,null,null,null,null,null,null,null,null,149.99]
[4,{"$f":"IF(OR(K142>0,F142=N142),B141+1,B141)","v":24},{"$f":"IF(OR(F142=O142,F142=N142),C141+1,C141)","v":16},null,"Artikel 141",{"$f":"MIN($P142:BO142)","v":79.989999999999995},{"$f":"MAX($P142:BO142)","v":179.99},{"$f":"MIN($BP142:DC142)","v":0},{"$f":"MAX($BP142:DC142)","v":0},79.989999999999995,1,1,null,0,0,null,null,null,null,null,null,null,null,null,null,null,null,null,179.99,null,null,null,null,159.99,null,null,null,null,149.99,null,null,null,119.99,null,null,null,99.99,null,null,null,79.989999999999995]
[4,{"$f":"B142","v":24},{"$f":"IF(OR((M143+M144+M145+M146)<1,F143=O143,F143=N143),C142+1,C142)","v":17},null,"Artikel 142",{"$f":"MIN($P143:BO143)","v":69.989999999999995},{"$f":"MAX($P143:BO143)","v":69.989999999999995},{"$f":"MIN($BP143:DC143)","v":0},{"$f":"MAX($BP143:DC143)","v":0},69.989999999999995,{"$f":"SUM((L143+L144)-(M143+M144))","v":2},1,null,{"$f":"INDEX(P143:ZC143,MATCH(N$1,P$1:ZC$1,0))","v":0},0,null,null,null,null,null,null,null,null,null,null,null,null,null,null,null,null,null,null,null,null,null,null,null,null,null,null,null,null,null,null,null,69.989999999999995]
[4,{"$f":"B143","v":24},{"$f":"IF(OR((M143+M144+M145+M146)<1,F144=O144,F144=N144),C143+1,C143)","v":18},null,"Artikel 143",{"$f":"MIN($P144:BO144)","v":149.99},{"$f":"MAX($P144:BO144)","v":149.99},{"$f":"MIN($BP144:DC144)","v":0},{"$f":"MAX($BP144:DC144)","v":0},149.99,{"$f":"SUM((L143+L144)-(M143+M144))","v":2},1,null,0,0,null,null,null,null,null,null,null,null,null,null,null,null,null,null,null,null,null,null,null,null,null,null,null,null,null,null,null,null,null,null,null,149.99]
[4,{"$f":"B144","v":24},{"$f":"IF(OR((M143+M144+M145+M146)<1,F145=O145,F145=N145),C144+1,C144)","v":19},null,"Artikel 144",{"$f":"MIN($P145:BO145)","v":189.99},{"$f":"MAX($P145:BO145)","v":249.99},{"$f":"MIN($BP145:DC145)","v":0},{"$f":"MAX($BP145:DC145)","v":0},189.99,{"$f":"SUM((L145+L146)-(M145+M146))","v":1},0.5,null,0,0,null,null,249.99,null,null,null,null,null,null,null,null,null,null,null,null,null,null,null,189.99]
[4,{"$f":"B145","v":24},{"$f":"IF(OR((M143+M144+M145+M146)<1,F146=O146,F146=N146),C145+1,C145)","v":20},null,"Artikel 145",{"$f":"MIN($P146:BO146)","v":274.27},{"$f":"MAX($P146:BO146)","v":299.99},{"$f":"MIN($BP146:DC146)","v":0},{"$f":"MAX($BP146:DC146)","v":0},299.99,{"$f":"SUM((L145+L146)-(M145+M146))","v":1},0.5,null,0,0,null,283.41000000000003,null,null,null,null,null,null,null,null,null,283.41000000000003,null,null,null,null,null,null,null,null,null,null,null,null,null,null,null,null,null,null,274.27,null,null,null,299.99]
[4,{"$f":"B146","v":24},{"$f":"IF(OR(K147>0,F147=O147,F147=N147),C146+1,C146)","v":20},null,"Artikel 146",{"$f":"MIN($P147:BO147)","v":149.99},{"$f":"MAX($P147:BO147)","v":179.99},{"$f":"MIN($BP147:DC147)","v":0},{"$f":"MAX($BP147:DC147)","v":0},149.99,{"$f":"SUM(L147-M147)","v":0},1,1,0,0,null,null,null,null,null,null,null,null,null,null,null,null,null,null,null,null,null,null,null,null,null,179.99,null,null,null,null,null,null,null,null,null,null,null,null,null,149.99]
[4,{"$f":"IF(OR(K148>0,F148=N148),B147+1,B147)","v":25},{"$f":"C147","v":20},null,"Artikel 147",{"$f":"MIN($P148:BO148)","v":15.99},{"$f":"MAX($P148:BO148)","v":29.99},{"$f":"MIN($BP148:DC148)","v":0},{"$f":"MAX($BP148:DC148)","v":0},17.989999999999998,1,1,null,0,17.989999999999998,29.99,null,null,null,null,null,null,null,null,null,null,null,null,null,null,null,null,null,null,19.989999999999998,null,null,null,null,null,null,null,null,null,null,null,19.989999999999998,null,15.99,null,null,17.989999999999998]
[4,26,{"$f":"C148","v":20},null,"Artikel 148",{"$f":"MIN($P149:BO149)","v":99.99},{"$f":"MAX($P149:BO149)","v":99.99},{"$f":"MIN($BP149:DC149)","v":0},{"$f":"MAX($BP149:DC149)","v":0},99.99,1,1,null,0,0,null,null,null,99.99,null,null,null,null,null,null,null,null,null,null,null,null,null,null,null,null,null,99.99]
[4,{"$f":"B149","v":26},{"$f":"C149","v":20},null,"Artikel 149",{"$f":"MIN($P150:BO150)","v":0},{"$f":"MAX($P150:BO150)","v":0},{"$f":"MIN($BP150:DC150)","v":0},{"$f":"MAX($BP150:DC150)","v":0},0,{"$f":"SUM(L150-M150)","v":3},3,null,{"$f":"INDEX(P150:ZC150,MATCH(N$1,P$1:ZC$1,0))","v":0},0]
[4,{"$f":"B150","v":26},{"$f":"IF(OR(K151>0,F151=O151,F151=N151),C150+1,C150)","v":20},null,"Artikel 150",{"$f":"MIN($P151:BO151)","v":146.62},{"$f":"MAX($P151:BO151)","v":199.99},{"$f":"MIN($BP151:DC151)","v":0},{"$f":"MAX($BP151:DC151)","v":0},146.62,-3,5,8,0,0,null,null,null,null,null,null,null,null,null,null,null,null,null,null,null,null,null,null,null,null,null,null,null,199.99,169.99,null,null,null,null,null,null,null,null,null,146.62]
[4,{"$f":"IF(OR(K152>0,F152=N152),B151+1,B151)","v":27},{"$f":"IF(OR(F152=O152,F152=N152),C151+1,C151)","v":20},null,"Artikel 151",{"$f":"MIN($P152:BO152)","v":112.49},{"$f":"MAX($P152:BO152)","v":219.99},{"$f":"MIN($BP152:DC152)","v":0},{"$f":"MAX($BP152:DC152)","v":0},219.99,1,1,null,0,0,null,null,null,null,null,null,null,null,null,null,null,null,null,null,null,null,null,null,null,null,null,159.99,null,null,null,219.99,219.99,112.49,null,219.99]
[4,28,{"$f":"C152","v":20},null,"Artikel 152",{"$f":"MIN($P153:BO153)","v":169.99},{"$f":"MAX($P153:BO153)","v":169.99},{"$f":"MIN($BP153:DC153)","v":0},{"$f":"MAX($BP153:DC153)","v":0},169.99,1,1,null,0,0,null,null,null,null,null,null,null,null,null,null,null,null,null,null,null,null,null,null,null,null,null,null,null,null,null,null,null,null,null,null,null,null,null,169.99,169.99]
[4,{"$f":"B153","v":28},{"$f":"IF(OR(K154>0,F154=O154,F154=N154),C153+1,C153)","v":20},null,"Artikel 153",{"$f":"MIN($P154:BO154)","v":229.99},{"$f":"MAX($P154:BO154)","v":229.99},{"$f":"MIN($BP154:DC154)","v":0},{"$f":"MAX($BP154:DC154)","v":0},229.99,0,8,8,0,0,null,null,null,null,null,null,null,null,null,null,null,null,null,null,null,null,null,null,null,null,null,null,null,null,null,null,229.99]
[{"$f":"IF(K155>0,A154+1,A154)","v":4},28,{"$f":"C154","v":20},null,"Artikel 154",{"$f":"MIN($P155:BO155)","v":0},{"$f":"MAX($P155:BO155)","v":0},{"$f":"MIN($BP155:DC155)","v":0},{"$f":"MAX($BP155:DC155)","v":0},0,0,2,2,0,0]
[{"$f":"A155","v":4},28,{"$f":"IF(OR(((M156+M157)<2),F156=O156,F156=N156),C155+1,C155)","v":20},null,"Artikel 155",{"$f":"MIN($P156:BO156)","v":194.99},{"$f":"MAX($P156:BO156)","v":209.99},{"$f":"MIN($BP156:DC156)","v":0},{"$f":"MAX($BP156:DC156)","v":0},209.99,{"$f":"SUM((L156+L157)-(M156+M157))","v":0},1,1,0,0,null,null,null,null,194.99,null,null,null,null,null,null,null,null,null,199.99,null,null,null,null,199.99,null,null,null,199.99,null,null,null,null,null,209.99,null,null,null,null,209.99]
[{"$f":"A156","v":4},28,{"$f":"IF(OR(((M156+M157)<2),F157=O157,F157=N157),C156+1,C156)","v":20},null,"Artikel 156",{"$f":"MIN($P157:BO157)","v":229.99},{"$f":"MAX($P157:BO157)","v":229.99},{"$f":"MIN($BP157:DC157)","v":0},{"$f":"MAX($BP157:DC157)","v":0},{"$f":"IFERROR(LOOKUP(100000,P157:DC157),0)","v":229.99},{"$f":"SUM((L156+L157)-(M156+M157))","v":0},1,1,{"$f":"INDEX(P157:ZC157,MATCH(N$1,P$1:ZC$1,0))","v":0},{"$f":"INDEX(Q157:ZD157,MATCH(O$1,Q$1:ZD$1,0))","v":0},null,null,null,null,null,null,null,null,null,null,null,null,null,null,null,null,null,null,null,null,null,null,null,null,null,null,null,null,null,null,null,null,null,null,null,229.99]
[{"$f":"IF(K158>0,A157+1,A157)","v":4},28,{"$f":"C157","v":20},null,"Artikel 157",{"$f":"MIN($P158:BO158)","v":1275},{"$f":"MAX($P158:BO158)","v":1500},{"$f":"MIN($BP158:DC158)","v":0},{"$f":"MAX($BP158:DC158)","v":0},1275,-3,3,6,0,0,1500,null,null,null,null,null,null,null,null,null,null,null,null,null,null,null,null,null,null,null,null,null,null,null,null,null,null,null,null,null,null,null,1275]
[{"$f":"IF(K159>0,A158+1,A158)","v":4},28,{"$f":"C158","v":20},null,"Artikel 158",{"$f":"MIN($P159:BO159)","v":0},{"$f":"MAX($P159:BO159)","v":0},{"$f":"MIN($BP159:DC159)","v":0},{"$f":"MAX($BP159:DC159)","v":0},0,0,4,4,{"$f":"INDEX(P159:ZC159,MATCH(N$1,P$1:ZC$1,0))","v":0},0]
[{"$f":"A159","v":4},28,{"$f":"C156","v":20},null,"Artikel 159",{"$f":"MIN($P160:BO160)","v":869.99},{"$f":"MAX($P160:BO160)","v":869.99},{"$f":"MIN($BP160:DC160)","v":0},{"$f":"MAX($BP160:DC160)","v":0},869.99,{"$f":"SUM(L160-M160)","v":1},1,null,0,0,null,null,869.99]
[4,{"$f":"B159","v":28},{"$f":"C158","v":20},null,"Artikel 160",{"$f":"MIN($P161:BO161)","v":369.99},{"$f":"MAX($P161:BO161)","v":379.99},{"$f":"MIN($BP161:DC161)","v":0},{"$f":"MAX($BP161:DC161)","v":0},379.99,{"$f":"SUM(L161-M161)","v":1},1,null,0,379.99,null,null,369.99,null,null,null,null,null,null,null,null,null,null,null,null,null,null,null,null,null,null,null,null,null,null,null,null,null,null,null,null,null,null,null,null,null,379.99]
[4,{"$f":"IF(OR(K162>0,F162=N162),B161+1,B161)","v":29},{"$f":"IF(OR(F162=O162,F162=N162),C161+1,C161)","v":20},null,"Artikel 161",{"$f":"MIN($P162:BO162)","v":39.99},{"$f":"MAX($P162:BO162)","v":89.99},{"$f":"MIN($BP162:DC162)","v":0},{"$f":"MAX($BP162:DC162)","v":0},79.989999999999995,{"$f":"SUM(L162-M162)","v":3},3,null,0,0,null,null,null,null,null,null,null,null,null,null,null,null,39.99,null,null,89.99,null,null,null,null,null,null,null,79.989999999999995,null,null,null,null,79.989999999999995]
[4,{"$f":"B162","v":29},{"$f":"IF(OR(K163>0,F163=O163,F163=N163),C162+1,C162)","v":20},null,"Artikel 162",{"$f":"MIN($P163:BO163)","v":119.99},{"$f":"MAX($P163:BO163)","v":129.99},{"$f":"MIN($BP163:DC163)","v":0},{"$f":"MAX($BP163:DC163)","v":0},119.99,-5,20,25,0,0,null,null,null,null,null,null,null,null,null,null,null,null,119.99,null,null,129.99,null,null,null,119.99,null,null,null,null,null,119.99]
[4,29,20,null,"Artikel 163",{"$f":"MIN($P164:BO164)","v":129.99},{"$f":"MAX($P164:BO164)","v":144.99},{"$f":"MIN($BP164:DC164)","v":0},{"$f":"MAX($BP164:DC164)","v":0},139.99,-4,20,24,0,0,null,null,null,null,144.99,null,null,144.99,null,null,null,null,null,null,null,null,null,129.99,null,null,null,null,null,139.99,null,null,null,null,null,null,null,null,null,null,139.99]
[4,29,20,null,"Artikel 164",{"$f":"MIN($P165:BO165)","v":99.99},{"$f":"MAX($P165:BO165)","v":129.99},{"$f":"MIN($BP165:DC165)","v":0},{"$f":"MAX($BP165:DC165)","v":0},129.99,0,10,10,0,0,null,null,null,null,null,null,null,null,null,null,null,null,null,null,null,99.99,null,null,null,null,null,null,null,null,null,null,null,null,129.99]
[4,29,20,null,"Artikel 165",{"$f":"MIN($P166:BO166)","v":0},{"$f":"MAX($P166:BO166)","v":0},{"$f":"MIN($BP166:DC166)","v":0},{"$f":"MAX($BP166:DC166)","v":0},0,{"$f":"SUM((L166+L167+L168+L169+L170)-(M166+M167+M168+M169+M170))","v":6},1,null,{"$f":"INDEX(P166:ZC166,MATCH(N$1,P$1:ZC$1,0))","v":0},{"$f":"INDEX(Q166:ZD166,MATCH(O$1,Q$1:ZD$1,0))","v":0}]
[4,29,20,null,"Artikel 166",{"$f":"MIN($P167:BO167)","v":0},{"$f":"MAX($P167:BO167)","v":0},{"$f":"MIN($BP167:DC167)","v":0},{"$f":"MAX($BP167:DC167)","v":0},0,{"$f":"SUM((L166+L167+L168+L169+L170)-(M166+M167+M168+M169+M170))","v":6},1,null,0,0]
[4,29,20,null,"Artikel 167",{"$f":"MIN($P168:BO168)","v":0},{"$f":"MAX($P168:BO168)","v":0},{"$f":"MIN($BP168:DC168)","v":0},{"$f":"MAX($BP168:DC168)","v":0},0,{"$f":"SUM((L166+L167+L168+L169+L170)-(M166+M167+M168+M169+M170))","v":6},1,null,0,0]
[4,29,20,null,"Artikel 168",{"$f":"MIN($P169:BO169)","v":0},{"$f":"MAX($P169:BO169)","v":0},{"$f":"MIN($BP169:DC169)","v":0},{"$f":"MAX($BP169:DC169)","v":0},0,{"$f":"SUM((L166+L167+L168+L169+L170)-(M166+M167+M168+M169+M170))","v":6},2,null,0,0]
[4,29,20,null,"Artikel 169",{"$f":"MIN($P170:BO170)","v":999.99},{"$f":"MAX($P170:BO170)","v":999.99},{"$f":"MIN($BP170:DC170)","v":0},{"$f":"MAX($BP170:DC170)","v":0},999.99,{"$f":"SUM((L166+L167+L168+L169+L170)-(M166+M167+M168+M169+M170))","v":6},1,null,999.99,0,null,null,null,null,null,null,null,null,null,null,null,null,null,null,null,null,null,null,null,null,null,null,null,null,null,null,null,null,null,null,null,null,null,null,null,null,null,999.99]
[4,{"$f":"IF(OR(K171>0,F171=N171),B170+1,B170)","v":30},{"$f":"IF(OR(K171>0,F171=O171,F171=N171),C170+1,C170)","v":21},null,"Artikel 170",{"$f":"MIN($P171:BO171)","v":149.99},{"$f":"MAX($P171:BO171)","v":149.99},{"$f":"MIN($BP171:DC171)","v":0},{"$f":"MAX($BP171:DC171)","v":0},149.99,2,2,null,{"$f":"INDEX(P171:ZC171,MATCH(N$1,P$1:ZC$1,0))","v":0},149.99,null,null,null,null,null,null,null,null,null,null,null,null,null,null,null,null,null,null,null,null,null,null,null,null,null,null,null,null,null,null,null,null,null,null,null,null,149.99]
[4,{"$f":"B171","v":30},22,null,"Artikel 171",{"$f":"MIN($P172:BO172)","v":109.99},{"$f":"MAX($P172:BO172)","v":129.99},{"$f":"MIN($BP172:DC172)","v":0},{"$f":"MAX($BP172:DC172)","v":0},109.99,0,14,14,109.99,{"$f":"INDEX(Q172:ZD172,MATCH(O$1,Q$1:ZD$1,0))","v":0},null,null,null,null,129.99,null,null,129.99,null,null,null,null,null,null,null,null,null,null,null,null,null,null,null,null,null,null,null,null,null,null,null,null,null,null,null,null,null,109.99]
[4,30,{"$f":"IF(OR((M173+M174)<2,F173=O173,F173=N173),C172+1,C172)","v":22},null,"Artikel 172",{"$f":"MIN($P173:BO173)","v":149.99},{"$f":"MAX($P173:BO173)","v":174.99},{"$f":"MIN($BP173:DC173)","v":0},{"$f":"MAX($BP173:DC173)","v":0},149.99,{"$f":"SUM((L173+L174)-(M173+M174))","v":0},1,1,0,0,null,null,null,null,null,null,null,null,null,174.99,null,null,null,null,null,null,null,149.99]
[4,30,{"$f":"IF(OR((M173+M174)<2,F174=O174,F174=N174),C173+1,C173)","v":22},null,"Artikel 173",{"$f":"MIN($P174:BO174)","v":179.99},{"$f":"MAX($P174:BO174)","v":219.99},{"$f":"MIN($BP174:DC174)","v":0},{"$f":"MAX($BP174:DC174)","v":0},179.99,{"$f":"SUM((L173+L174)-(M173+M174))","v":0},1,1,0,0,null,null,null,null,null,null,null,null,null,null,null,null,219.99,null,179.99,179.99]
[4,30,{"$f":"C174","v":22},null,"Artikel 174",{"$f":"MIN($P175:BO175)","v":19.989999999999998},{"$f":"MAX($P175:BO175)","v":27.99},{"$f":"MIN($BP175:DC175)","v":0},{"$f":"MAX($BP175:DC175)","v":0},22.99,{"$f":"SUM(L175-M175)","v":2},2,null,0,0,null,null,null,null,null,null,null,null,null,null,null,null,null,null,null,null,null,null,null,19.989999999999998,null,null,null,null,null,null,null,null,27.99,null,null,22.99]
[4,30,{"$f":"C175","v":22},null,"Artikel 175",{"$f":"MIN($P176:BO176)","v":44.99},{"$f":"MAX($P176:BO176)","v":59.99},{"$f":"MIN($BP176:DC176)","v":0},{"$f":"MAX($BP176:DC176)","v":0},49.99,1,1,null,0,0,null,null,null,44.99,null,null,null,null,null,null,null,null,null,null,null,null,null,null,null,null,null,null,null,null,null,null,null,null,59.99,null,null,null,null,49.99]
[4,30,{"$f":"IF(OR(K177>0,F177=O177,F177=N177),C176+1,C176)","v":22},null,"Artikel 176",{"$f":"MIN($P177:BO177)","v":119.99},{"$f":"MAX($P177:BO177)","v":119.99},{"$f":"MIN($BP177:DC177)","v":0},{"$f":"MAX($BP177:DC177)","v":0},119.99,0,1,1,0,0,null,null,null,null,null,null,null,null,null,null,null,null,null,null,null,null,null,null,null,null,null,null,null,null,null,null,119.99]
[4,30,22,null,"Artikel 177",{"$f":"MIN($P178:BO178)","v":45.99},{"$f":"MAX($P178:BO178)","v":45.99},{"$f":"MIN($BP178:DC178)","v":0},{"$f":"MAX($BP178:DC178)","v":0},45.99,0,10,10,0,0,null,null,null,null,null,null,null,null,null,null,null,null,null,null,null,null,null,null,null,null,null,null,null,null,null,45.99]
[4,30,22,null,"Artikel 178",{"$f":"MIN($P179:BO179)","v":128.99},{"$f":"MAX($P179:BO179)","v":229.99},{"$f":"MIN($BP179:DC179)","v":0},{"$f":"MAX($BP179:DC179)","v":0},128.99,0,1,1,0,0,null,null,229.99,null,null,null,null,null,null,null,null,null,null,null,null,null,null,null,null,null,null,null,null,null,null,null,null,null,128.99]
[4,30,{"$f":"C179","v":22},null,"Artikel 179",{"$f":"MIN($P180:BO180)","v":39.99},{"$f":"MAX($P180:BO180)","v":39.99},{"$f":"MIN($BP180:DC180)","v":0},{"$f":"MAX($BP180:DC180)","v":0},39.99,0,3,3,0,0,null,null,null,null,null,null,null,null,null,null,null,null,null,null,null,null,null,null,null,null,null,null,null,null,null,null,null,null,null,null,null,null,39.99]
[4,30,22,null,"Artikel 180",{"$f":"MIN($P181:BO181)","v":0},{"$f":"MAX($P181:BO181)","v":0},{"$f":"MIN($BP181:DC181)","v":0},{"$f":"MAX($BP181:DC181)","v":0},0,{"$f":"SUM(L181-M181)","v":1},1,null,{"$f":"INDEX(P181:ZC181,MATCH(N$1,P$1:ZC$1,0))","v":0},{"$f":"INDEX(Q181:ZD181,MATCH(O$1,Q$1:ZD$1,0))","v":0}]
[4,30,22,null,"Artikel 181",{"$f":"MIN($P182:BO182)","v":59.99},{"$f":"MAX($P182:BO182)","v":59.99},{"$f":"MIN($BP182:DC182)","v":0},{"$f":"MAX($BP182:DC182)","v":0},59.99,0,5,5,{"$f":"INDEX(P182:ZC182,MATCH(N$1,P$1:ZC$1,0))","v":0},{"$f":"INDEX(Q182:ZD182,MATCH(O$1,Q$1:ZD$1,0))","v":0},null,null,null,null,null,null,null,null,null,null,null,null,null,null,null,null,null,null,null,null,null,null,null,null,null,null,null,null,null,null,null,null,59.99]
[{"$f":"IF(K183>0,A182+1,A182)","v":4},30,22,null,"Artikel 182",{"$f":"MIN($P183:BO183)","v":230},{"$f":"MAX($P183:BO183)","v":230},{"$f":"MIN($BP183:DC183)","v":0},{"$f":"MAX($BP183:DC183)","v":0},230,0,2,2,0,0,null,null,null,null,null,null,null,null,null,null,null,null,null,null,null,null,null,null,null,null,null,null,null,null,null,null,null,null,null,null,null,null,230]
[{"$f":"A183","v":4},30,22,null,"Artikel 183",{"$f":"MIN($P184:BO184)","v":0},{"$f":"MAX($P184:BO184)","v":0},{"$f":"MIN($BP184:DC184)","v":0},{"$f":"MAX($BP184:DC184)","v":0},0,{"$f":"SUM(L184-M184)","v":1},1,null,{"$f":"INDEX(P184:ZC184,MATCH(N$1,P$1:ZC$1,0))","v":0},{"$f":"INDEX(Q184:ZD184,MATCH(O$1,Q$1:ZD$1,0))","v":0}]
[{"$f":"IF(K185>0,A184+1,A184)","v":5},30,22,null,"Artikel 184",{"$f":"MIN($P185:BO185)","v":479.99},{"$f":"MAX($P185:BO185)","v":699.99},{"$f":"MIN($BP185:DC185)","v":0},{"$f":"MAX($BP185:DC185)","v":0},699.99,10,10,null,{"$f":"INDEX(P185:ZC185,MATCH(N$1,P$1:ZC$1,0))","v":0},{"$f":"INDEX(Q185:ZD185,MATCH(O$1,Q$1:ZD$1,0))","v":699.99},null,null,null,null,null,null,489.99,null,null,479.99,null,null,null,479.99,null,null,null,null,null,null,null,499.99,null,null,null,null,629.9,null,null,null,null,null,null,null,null,null,699.99]
[{"$f":"A185","v":5},30,{"$f":"IF(OR(K186>0,F186=O186,F186=N186),C185+1,C185)","v":22},null,"Artikel 185",{"$f":"MIN($P186:BO186)","v":479.99},{"$f":"MAX($P186:BO186)","v":699.99},{"$f":"MIN($BP186:DC186)","v":0},{"$f":"MAX($BP186:DC186)","v":0},699.99,-5,4,9,0,699.99,null,null,null,null,null,null,489.99,null,null,479.99,null,null,null,479.99,null,null,null,null,null,null,null,499.99,null,null,null,null,629.99,null,null,null,null,null,null,null,null,null,699.99]
[{"$f":"IF(K187>0,A186+1,A186)","v":6},30,{"$f":"C186","v":22},null,"Artikel 186",{"$f":"MIN($P187:BO187)","v":699.99},{"$f":"MAX($P187:BO187)","v":699.99},{"$f":"MIN($BP187:DC187)","v":0},{"$f":"MAX($BP187:DC187)","v":0},699.99,12,12,null,{"$f":"INDEX(P187:ZC187,MATCH(N$1,P$1:ZC$1,0))","v":0},0,null,null,699.99]
[{"$f":"A187","v":6},30,{"$f":"IF(OR(K188>0,F188=O188,F188=N188),C187+1,C187)","v":22},null,"Artikel 187",{"$f":"MIN($P188:BO188)","v":469.99},{"$f":"MAX($P188:BO188)","v":749.99},{"$f":"MIN($BP188:DC188)","v":0},{"$f":"MAX($BP188:DC188)","v":0},749.99,-1,3,4,0,0,null,null,null,null,null,null,469.99,null,null,null,null,null,null,null,null,null,null,null,null,null,null,null,null,null,null,null,null,null,null,null,null,649.99,null,null,null,749.99]
[{"$f":"A188","v":6},30,22,null,"Artikel 188",{"$f":"MIN($P189:BO189)","v":99.99},{"$f":"MAX($P189:BO189)","v":129.99},{"$f":"MIN($BP189:DC189)","v":0},{"$f":"MAX($BP189:DC189)","v":0},129.99,0,3,3,0,0,99.99,null,null,null,null,null,null,null,null,null,null,null,null,null,null,99.99,null,null,null,null,null,null,null,null,null,null,null,129.99]
[6,30,{"$f":"IF(OR(((M190+M191)<2),F190=O190,F190=N190),C189+1,C189)","v":22},null,"Artikel 189",{"$f":"MIN($P190:BO190)","v":343.68},{"$f":"MAX($P190:BO190)","v":399.99},{"$f":"MIN($BP190:DC190)","v":0},{"$f":"MAX($BP190:DC190)","v":0},399.99,{"$f":"SUM((L190+L191)-(M190+M191))","v":0},1,2,0,0,null,null,null,null,null,null,389.99,null,null,null,399.99,null,null,null,null,null,null,null,null,null,null,null,null,null,399.99,null,null,null,343.68,399.99,null,null,null,399.99]
[6,30,{"$f":"IF(OR(((M190+M191)<2),F191=O191,F191=N191),C190+1,C190)","v":22},null,"Artikel 190",{"$f":"MIN($P191:BO191)","v":1},{"$f":"MAX($P191:BO191)","v":1},{"$f":"MIN($BP191:DC191)","v":0},{"$f":"MAX($BP191:DC191)","v":0},1,{"$f":"SUM((L190+L191)-(M190+M191))","v":0},1,null,0,0,1]
[6,30,{"$f":"IF(OR(K192>0,F192=O192,F192=N192),C191+1,C191)","v":22},null,"Artikel 191",{"$f":"MIN($P192:BO192)","v":59.99},{"$f":"MAX($P192:BO192)","v":74.989999999999995},{"$f":"MIN($BP192:DC192)","v":0},{"$f":"MAX($BP192:DC192)","v":0},74.989999999999995,{"$f":"SUM(L192-M192)","v":0},10,10,0,0,null,null,null,null,null,null,null,null,null,null,null,null,null,null,null,null,null,null,null,null,null,null,null,null,null,68.989999999999995,null,null,null,null,59.99,null,null,null,74.989999999999995]
[6,30,22,null,"Artikel 192",{"$f":"MIN($P193:BO193)","v":59.99},{"$f":"MAX($P193:BO193)","v":68.989999999999995},{"$f":"MIN($BP193:DC193)","v":0},{"$f":"MAX($BP193:DC193)","v":0},59.99,0,10,10,0,0,null,null,null,null,null,null,null,null,null,null,null,null,null,null,null,null,null,null,null,null,null,null,null,null,null,68.989999999999995,null,null,null,null,59.99]
[6,30,22,null,"Artikel 193",{"$f":"MIN($P194:BO194)","v":89.99},{"$f":"MAX($P194:BO194)","v":89.99},{"$f":"MIN($BP194:DC194)","v":0},{"$f":"MAX($BP194:DC194)","v":0},89.99,0,5,5,0,0,null,null,null,null,null,null,null,null,null,null,null,null,null,null,null,null,null,null,null,null,null,null,null,null,null,null,null,89.99]
[6,30,22,null,"Artikel 194",{"$f":"MIN($P195:BO195)","v":114.99},{"$f":"MAX($P195:BO195)","v":114.99},{"$f":"MIN($BP195:DC195)","v":0},{"$f":"MAX($BP195:DC195)","v":0},114.99,0,5,5,0,0,null,null,null,null,null,null,null,null,null,null,null,null,null,null,null,null,null,null,null,null,null,null,null,null,null,null,114.99]
[6,30,{"$f":"IF(OR(K196>14,F196=O196,F196=N196),C195+1,C195)","v":22},null,"Artikel 195",{"$f":"MIN($P196:BO196)","v":154.99},{"$f":"MAX($P196:BO196)","v":199.99},{"$f":"MIN($BP196:DC196)","v":0},{"$f":"MAX($BP196:DC196)","v":0},179.99,-28,16,44,0,0,null,null,null,null,null,null,null,154.99,null,null,null,null,null,null,164.99,null,null,null,null,null,null,null,null,null,null,199.99,null,null,null,null,null,null,null,179.99]
[{"$f":"IF(K197>0,A196+1,A196)","v":6},30,{"$f":"C196","v":22},null,"Artikel 196",{"$f":"MIN($P197:BO197)","v":60},{"$f":"MAX($P197:BO197)","v":60},{"$f":"MIN($BP197:DC197)","v":0},{"$f":"MAX($BP197:DC197)","v":0},60,-10,16,26,0,0,null,60]
[6,30,{"$f":"IF(OR(K198>0,F198=O198,F198=N198),C197+1,C197)","v":22},null,"Artikel 197",{"$f":"MIN($P198:BO198)","v":389.99},{"$f":"MAX($P198:BO198)","v":389.99},{"$f":"MIN($BP198:DC198)","v":0},{"$f":"MAX($BP198:DC198)","v":0},389.99,0,16,16,0,0,null,null,null,null,null,null,null,null,null,null,389.99]
[6,30,{"$f":"IF(OR(K199>19,F199=O199,F199=N199),C198+1,C198)","v":22},null,"Artikel 198",{"$f":"MIN($P199:BO199)","v":49.99},{"$f":"MAX($P199:BO199)","v":67.989999999999995},{"$f":"MIN($BP199:DC199)","v":0},{"$f":"MAX($BP199:DC199)","v":0},{"$f":"IFERROR(LOOKUP(100000,P199:DC199),0)","v":49.99},-30,20,50,0,0,null,null,null,null,null,null,null,null,null,null,null,null,null,null,null,null,null,null,null,null,null,null,null,null,null,null,67.989999999999995,null,null,null,null,null,null,null,49.99]
[6,30,{"$f":"C199","v":22},null,"Artikel 199",null,{"$f":"MAX($P200:BO200)","v":0},{"$f":"MIN($BP200:DC200)","v":0},{"$f":"MAX($BP200:DC200)","v":0},{"$f":"IFERROR(LOOKUP(100000,P200:DC200),0)","v":0},{"$f":"SUM(L200-M200)","v":2},2,null,{"$f":"INDEX(P200:ZC200,MATCH(N$1,P$1:ZC$1,0))","v":0},{"$f":"INDEX(Q200:ZD200,MATCH(O$1,Q$1:ZD$1,0))","v":0}]
[6,30,{"$f":"IF(OR(K201>0,F201=O201,F201=N201),C200+1,C200)","v":23},null,"Artikel 200",{"$f":"MIN($P201:BO201)","v":75.989999999999995},{"$f":"MAX($P201:BO201)","v":129.99},{"$f":"MIN($BP201:DC201)","v":0},{"$f":"MAX($BP201:DC201)","v":0},75.989999999999995,0,14,14,0,75.989999999999995,null,null,null,null,null,null,null,null,null,null,null,null,null,null,null,null,null,null,99.99,null,null,null,null,null,null,null,null,null,null,null,129.99,null,null,null,null,null,75.989999999999995]
[6,30,{"$f":"IF(OR(K202>24,F202=O202,F202=N202),C201+1,C201)","v":23},null,"Artikel 201",{"$f":"MIN($P202:BO202)","v":49.99},{"$f":"MAX($P202:BO202)","v":52.99},{"$f":"MIN($BP202:DC202)","v":0},{"$f":"MAX($BP202:DC202)","v":0},49.99,-35,25,60,0,0,null,null,null,52.99,null,null,null,null,null,null,null,null,null,null,null,null,null,null,null,null,null,null,null,null,null,null,null,null,null,null,null,null,null,49.99]
[6,30,{"$f":"C202","v":23},null,"Artikel 202",{"$f":"MIN($P203:BO203)","v":0},{"$f":"MAX($P203:BO203)","v":0},{"$f":"MIN($BP203:DC203)","v":0},{"$f":"MAX($BP203:DC203)","v":0},0,{"$f":"SUM(L203-M203)","v":4},4,null,{"$f":"INDEX(P203:ZC203,MATCH(N$1,P$1:ZC$1,0))","v":0},0]
[6,{"$f":"IF(OR(K204>0,F204=N204),B203+1,B203)","v":31},{"$f":"IF(OR(F204=O204,F204=N204),C203+1,C203)","v":23},null,"Artikel 203",{"$f":"MIN($P204:BO204)","v":59.99},{"$f":"MAX($P204:BO204)","v":189.99},{"$f":"MIN($BP204:DC204)","v":0},{"$f":"MAX($BP204:DC204)","v":0},63.99,3,3,null,0,0,null,null,189.99,null,null,null,null,null,null,159.99,null,null,null,null,null,null,null,null,129.99,null,null,79.989999999999995,null,79.989999999999995,null,null,59.99,null,89.99,null,64.989999999999995,null,59.99,null,null,63.99]
[{"$f":"IF(K205>0,A204+1,A204)","v":6},{"$f":"B204","v":31},{"$f":"C204","v":23},null,"Artikel 204",{"$f":"MIN($P205:BO205)","v":0},{"$f":"MAX($P205:BO205)","v":0},{"$f":"MIN($BP205:DC205)","v":0},{"$f":"MAX($BP205:DC205)","v":0},0,-10,9,19,0,0]
[{"$f":"A205","v":6},{"$f":"IF(OR(K206>0,F206=N206),B205+1,B205)","v":32},{"$f":"IF(OR(F206=O206,F206=N206),C205+1,C205)","v":24},null,"Artikel 205",{"$f":"MIN($P206:BO206)","v":119.99},{"$f":"MAX($P206:BO206)","v":249.99},{"$f":"MIN($BP206:DC206)","v":0},{"$f":"MAX($BP206:DC206)","v":0},119.99,3,3,null,119.99,0,null,null,179.99,null,null,null,null,null,null,null,null,null,null,249.99,null,null,226.65,199.99,null,169.99,null,null,null,null,null,159.99,129.99,null,null,159.99,null,null,null,null,null,null,null,119.99]
[6,{"$f":"B206","v":32},{"$f":"IF(OR(K207>0,F207=O207,F207=N207),C206+1,C206)","v":24},null,"Artikel 206",{"$f":"MIN($P207:BO207)","v":55.24},{"$f":"MAX($P207:BO207)","v":64.989999999999995},{"$f":"MIN($BP207:DC207)","v":0},{"$f":"MAX($BP207:DC207)","v":0},64.989999999999995,0,20,20,64.989999999999995,0,null,null,null,null,59.99,59.99,null,null,null,null,null,null,59.99,null,null,null,null,null,null,null,null,null,null,null,null,null,null,null,null,null,null,55.24,null,null,59.99,null,null,64.989999999999995]
[{"$f":"IF(K208>0,A207+1,A207)","v":6},{"$f":"B207","v":32},{"$f":"C207","v":24},null,"Artikel 207",{"$f":"MIN($P208:BO208)","v":352},{"$f":"MAX($P208:BO208)","v":352},{"$f":"MIN($BP208:DC208)","v":0},{"$f":"MAX($BP208:DC208)","v":0},352,-4,5,9,0,{"$f":"INDEX(Q208:ZD208,MATCH(O$1,Q$1:ZD$1,0))","v":0},null,null,null,null,null,null,null,null,null,null,null,null,null,null,null,null,null,null,null,null,null,null,null,null,null,null,null,null,352]
[6,32,{"$f":"IF(OR(K209>0,F209=O209,F209=N209),C208+1,C208)","v":25},null,"Artikel 208",{"$f":"MIN($P209:BO209)","v":189.99},{"$f":"MAX($P209:BO209)","v":199.99},{"$f":"MIN($BP209:DC209)","v":0},{"$f":"MAX($BP209:DC209)","v":0},189.99,9,12,3,0,0,null,null,199.99,null,null,null,null,null,null,null,null,null,null,null,null,null,null,null,null,null,null,null,null,null,null,null,null,null,null,189.99]
[{"$f":"IF(K210>0,A209+1,A209)","v":7},32,{"$f":"C209","v":25},null,"Artikel 209",{"$f":"MIN($P210:BO210)","v":594.15},{"$f":"MAX($P210:BO210)","v":699},{"$f":"MIN($BP210:DC210)","v":0},{"$f":"MAX($BP210:DC210)","v":0},594.15,6,10,4,0,0,699,null,null,null,null,null,null,null,null,null,null,null,null,null,null,null,null,null,null,null,null,null,null,null,null,null,594.15]
[{"$f":"A210","v":7},32,{"$f":"C210","v":25},null,"Artikel 210",{"$f":"MIN($P211:BO211)","v":22.99},{"$f":"MAX($P211:BO211)","v":22.99},{"$f":"MIN($BP211:DC211)","v":0},{"$f":"MAX($BP211:DC211)","v":0},22.99,-2,5,7,0,0,null,null,null,null,null,null,null,null,null,null,null,null,null,null,null,null,null,null,null,null,null,null,null,null,null,null,null,null,null,null,null,null,22.99]
[{"$f":"A211","v":7},32,{"$f":"IF(OR(K212>0,F212=O212,F212=N212),C211+1,C211)","v":25},null,"Artikel 211",{"$f":"MIN($P212:BO212)","v":129.99},{"$f":"MAX($P212:BO212)","v":189.99},{"$f":"MIN($BP212:DC212)","v":0},{"$f":"MAX($BP212:DC212)","v":0},129.99,-3,1,4,0,0,null,null,null,null,null,null,null,null,null,null,null,null,null,null,null,null,null,null,null,null,null,null,null,null,null,189.99,null,null,null,null,null,189.99,189.99,189.99,189.99,129.99]
[{"$f":"IF(K213>0,A212+1,A212)","v":7},32,{"$f":"C212","v":25},null,"Artikel 212",{"$f":"MIN($P213:BO213)","v":0},{"$f":"MAX($P213:BO213)","v":0},{"$f":"MIN($BP213:DC213)","v":0},{"$f":"MAX($BP213:DC213)","v":0},0,0,2,2,0,0]
[{"$f":"A213","v":7},{"$f":"IF(OR(K214>0,F214=N214),B213+1,B213)","v":33},{"$f":"IF(OR(F214=O214,F214=N214),C213+1,C213)","v":25},null,"Artikel 213",{"$f":"MIN($P214:BO214)","v":28.99},{"$f":"MAX($P214:BO214)","v":89.99},{"$f":"MIN($BP214:DC214)","v":0},{"$f":"MAX($BP214:DC214)","v":0},54.99,1,1,null,0,0,null,null,null,null,null,null,null,null,null,null,null,null,null,null,null,null,null,null,null,null,null,null,null,79.989999999999995,null,59.99,null,33.99,59.99,null,89.99,28.99,null,54.99]
[{"$f":"A214","v":7},{"$f":"B214","v":33},{"$f":"C214","v":25},null,"Artikel 214",{"$f":"MIN($P215:BO215)","v":0},{"$f":"MAX($P215:BO215)","v":0},{"$f":"MIN($BP215:DC215)","v":0},{"$f":"MAX($BP215:DC215)","v":0},0,{"$f":"SUM(L215-M215)","v":2},2,null,{"$f":"INDEX(P215:ZC215,MATCH(N$1,P$1:ZC$1,0))","v":0},{"$f":"INDEX(Q215:ZD215,MATCH(O$1,Q$1:ZD$1,0))","v":0}]
[{"$f":"A215","v":7},{"$f":"IF(OR(K216>0,F216=N216),B215+1,B215)","v":34},{"$f":"IF(OR(F216=O216,F216=N216),C215+1,C215)","v":25},null,"Artikel 215",{"$f":"MIN($P216:BO216)","v":199.99},{"$f":"MAX($P216:BO216)","v":329.99},{"$f":"MIN($BP216:DC216)","v":0},{"$f":"MAX($BP216:DC216)","v":0},199.99,1,1,null,0,0,null,null,null,null,null,null,null,null,null,null,null,null,null,null,null,249.99,null,null,null,null,null,null,null,null,199.99,null,null,329.99,null,null,219.99,null,219.99,null,199.99]
[{"$f":"A216","v":7},35,{"$f":"IF(OR(F217=O217,F217=N217),C216+1,C216)","v":26},null,"Artikel 216",{"$f":"MIN($P217:BO217)","v":159.99},{"$f":"MAX($P217:BO217)","v":249.99},{"$f":"MIN($BP217:DC217)","v":0},{"$f":"MAX($BP217:DC217)","v":0},159.99,1,1,null,159.99,0,null,null,null,null,null,null,null,null,null,null,null,null,null,null,null,null,null,null,null,null,null,null,null,null,null,null,null,null,null,null,null,null,249.99,199.99,null,179.99,null,159.99]
[{"$f":"A217","v":7},36,26,null,"Artikel 217",{"$f":"MIN($P218:BO218)","v":59.99},{"$f":"MAX($P218:BO218)","v":89.99},{"$f":"MIN($BP218:DC218)","v":0},{"$f":"MAX($BP218:DC218)","v":0},59.99,1,1,null,0,0,null,null,null,79.989999999999995,null,null,null,null,null,null,null,null,null,null,null,null,null,null,null,null,null,null,null,null,null,null,89.99,null,null,69.989999999999995,null,null,null,59.99]
[{"$f":"A218","v":7},{"$f":"B218","v":36},{"$f":"IF(OR(K219>0,F219=O219,F219=N219),C218+1,C218)","v":26},null,"Artikel 218",{"$f":"MIN($P219:BO219)","v":109.99},{"$f":"MAX($P219:BO219)","v":109.99},{"$f":"MIN($BP219:DC219)","v":0},{"$f":"MAX($BP219:DC219)","v":0},109.99,0,30,30,0,0,null,null,null,null,null,null,null,null,null,null,null,null,null,null,null,109.99,null,null,null,null,null,null,null,null,null,null,109.99]
[{"$f":"IF(K220>0,A219+1,A219)","v":7},{"$f":"B219","v":36},{"$f":"C219","v":26},null,"Artikel 219",{"$f":"MIN($P220:BO220)","v":0},{"$f":"MAX($P220:BO220)","v":0},{"$f":"MIN($BP220:DC220)","v":0},{"$f":"MAX($BP220:DC220)","v":0},0,-1,10,11,0,0]
[{"$f":"A220","v":7},{"$f":"B220","v":36},{"$f":"IF(OR(K221>0,F221=O221,F221=N221),C220+1,C220)","v":26},null,"Artikel 220",{"$f":"MIN($P221:BO221)","v":55.99},{"$f":"MAX($P221:BO221)","v":55.99},{"$f":"MIN($BP221:DC221)","v":0},{"$f":"MAX($BP221:DC221)","v":0},55.99,-2,10,12,0,{"$f":"INDEX(Q221:ZD221,MATCH(O$1,Q$1:ZD$1,0))","v":0},null,null,null,null,null,null,null,null,null,null,null,null,null,null,null,null,null,null,null,null,null,null,null,null,null,null,55.99]
[7,{"$f":"IF(OR(K222>0,F222=N222),B221+1,B221)","v":36},26,null,"Artikel 221",{"$f":"MIN($P222:BO222)","v":99.98},{"$f":"MAX($P222:BO222)","v":309.99},{"$f":"MIN($BP222:DC222)","v":0},{"$f":"MAX($BP222:DC222)","v":0},219.99,-0.5,0.5,1,0,219.99,null,99.99,null,null,109.99,null,null,109.99,null,null,null,99.98,null,109.99,139.97999999999999,null,null,169.99,null,null,null,179.99,null,null,null,null,299.99,229.99,null,null,null,null,null,null,309.99,null,219.99]
[7,{"$f":"B222","v":36},{"$f":"IF(OR(F223=O223,F223=N223),C222+1,C222)","v":26},null,"Artikel 222",{"$f":"MIN($P223:BO223)","v":99.99},{"$f":"MAX($P223:BO223)","v":149.99},{"$f":"MIN($BP223:DC223)","v":0},{"$f":"MAX($BP223:DC223)","v":0},139.99,{"$f":"SUM((L223+L224)-(M223+M224))","v":1},0.5,null,0,0,null,139.99,null,null,null,null,null,null,129.99,null,null,99.99,null,null,null,null,129.99,null,null,null,null,null,139.99,null,null,null,null,139.99,null,null,null,149.99,null,null,139.99]
[7,{"$f":"B223","v":36},{"$f":"IF(OR(F224=O224,F224=N224),C223+1,C223)","v":27},null,"Artikel 223",{"$f":"MIN($P224:BO224)","v":199.99},{"$f":"MAX($P224:BO224)","v":219.99},{"$f":"MIN($BP224:DC224)","v":0},{"$f":"MAX($BP224:DC224)","v":0},199.99,{"$f":"SUM((L223+L224)-(M223+M224))","v":1},0.5,null,{"$f":"INDEX(P224:ZC224,MATCH(N$1,P$1:ZC$1,0))","v":199.99},0,null,null,null,219.99,null,null,null,null,null,null,null,null,null,null,null,null,null,null,null,199.99,null,null,null,null,null,219.99,null,null,null,null,null,null,null,null,null,null,null,199.99]
[7,{"$f":"B224","v":36},{"$f":"IF(OR(K225>9,F225=O225,F225=N225),C224+1,C224)","v":27},null,"Artikel 224",{"$f":"MIN($P225:BO225)","v":94.99},{"$f":"MAX($P225:BO225)","v":97.99},{"$f":"MIN($BP225:DC225)","v":0},{"$f":"MAX($BP225:DC225)","v":0},94.99,{"$f":"SUM(L225-M225)","v":-2},20,22,{"$f":"INDEX(P225:ZC225,MATCH(N$1,P$1:ZC$1,0))","v":0},0,97.99,null,null,null,null,null,null,null,null,97.99,null,null,null,null,96.99,null,null,96.99,null,null,96.99,null,null,null,null,94.99,null,null,null,null,null,null,null,null,null,94.99]
[{"$f":"A225","v":7},{"$f":"IF(OR(K226>0,F226=N226),B225+1,B225)","v":36},{"$f":"IF(OR(K226>0,F226=O226,F226=N226),C225+1,C225)","v":27},null,"Artikel 225",{"$f":"MIN($P226:BO226)","v":33.99},{"$f":"MAX($P226:BO226)","v":99.99},{"$f":"MIN($BP226:DC226)","v":0},{"$f":"MAX($BP226:DC226)","v":0},44.99,{"$f":"SUM(L226-M226)","v":0},2,2,{"$f":"INDEX(P226:ZC226,MATCH(N$1,P$1:ZC$1,0))","v":44.99},0,null,null,null,null,null,null,null,33.99,39.99,null,null,null,44.99,59.99,null,null,null,null,null,null,null,99.99,null,null,null,null,null,null,49.99,null,null,59.99,null,null,null,null,null,44.99]

{"sheet":"Maske","index":1,"n_rows":60,"n_cols":32,"rows_kept":60,"cut":false,"hidden":false,"merged":[[6,29,6,31],[6,5,7,5],[1,9,1,10],[1,16,1,17],[6,9,6,10],[6,16,6,17],[2,9,2,10],[2,16,2,17],[6,13,6,14],[6,20,6,21],[1,23,1,24],[2,23,2,24],[6,23,6,24],[6,27,6,28]]}
[{"$f":"IF(A4>A3,A2,A3)","v":"2025-09-18"},{"$f":"A1+5-WEEKDAY(A1)+4*(WEEKDAY(A1)>4)","v":"2025-09-22"},{"$f":"B1+5-WEEKDAY(B1)+4*(WEEKDAY(B1)>4)","v":"2025-09-25"},null,null,null,{"$f":"TODAY()+9-WEEKDAY(TODAY())+8*(WEEKDAY(TODAY())>8)","v":"2025-09-22"}]
[{"$f":"TODAY()+5-WEEKDAY(TODAY())+4*(WEEKDAY(TODAY())>5)","v":"2025-09-18"},null,null,null,null,null,null,null,null,"Preisspanne 2025",null,null,null,{"$f":"IFERROR(VLOOKUP(L3,Liste!$E$2:$F226,2,0),\"\")","v":99.99},{"$f":"IFERROR(VLOOKUP(L3,Liste!$E$2:$G226,3,0),\"\")","v":149.99},null,"Preisspanne 2025",null,null,null,{"$f":"IFERROR(VLOOKUP(S3,Liste!$E$2:$F226,2,0),\"\")","v":249.99},{"$f":"IFERROR(VLOOKUP(S3,Liste!$E$2:$G226,3,0),\"\")","v":299.99},null,"Preisspanne 2025",null,null,null,{"$f":"IFERROR(VLOOKUP(Z3,Liste!$E$2:$F226,2,0),\"\")","v":199.99},{"$f":"IFERROR(VLOOKUP(Z3,Liste!$E$2:$G226,3,0),\"\")","v":219.99}]
[{"$f":"TODAY()+5-WEEKDAY(TODAY())+4*(WEEKDAY(TODAY())>4)+0.4163","v":"2025-09-18T09:59:28.320"},null,null,null,null,null,null,null,null,{"$f":"\"Preisspanne \"&YEAR(A1)","v":"Preisspanne 2025"},null,{"$f":"INDEX(J:J,_xlfn.AGGREGATE(14,6,ROW(J9:J27)/(J9:J27<>\"\"),1))","v":"Artikel 222"},null,{"$f":"IFERROR(VLOOKUP(L3,Liste!$E$2:$H226,2,0),\"\")","v":99.99},{"$f":"IFERROR(VLOOKUP(L3,Liste!$E$2:$I226,3,0),\"\")","v":149.99},null,{"$f":"\"Preisspanne \"&YEAR(A1)","v":"Preisspanne 2025"},null,{"$f":"INDEX(Q:Q,_xlfn.AGGREGATE(14,6,ROW(Q9:Q27)/(Q9:Q27<>\"\"),1))","v":"Artikel 11"},null,{"$f":"IFERROR(VLOOKUP(S3,Liste!$E$2:$H226,2,0),\"\")","v":249.99},{"$f":"IFERROR(VLOOKUP(S3,Liste!$E$2:$I226,3,0),\"\")","v":299.99},null,{"$f":"\"Preisspanne \"&YEAR(A1)","v":"Preisspanne 2025"},null,{"$f":"INDEX(X:X,_xlfn.AGGREGATE(14,6,ROW(X9:X27)/(X9:X27<>\"\"),1))","v":"Artikel 223"},null,{"$f":"IFERROR(VLOOKUP(Z3,Liste!$E$2:$H226,2,0),\"\")","v":199.99},{"$f":"IFERROR(VLOOKUP(Z3,Liste!$E$2:$I226,3,0),\"\")","v":219.99}]
[{"$f":"NOW()+5-WEEKDAY(NOW())+4*(WEEKDAY(NOW())>4)","v":"2025-09-18T15:19:24.680"},null,null,null,null,null,null,null,null,"Coupon",null,null,null,null,null,null,"Coupon",null,null,null,null,null,null,"Coupon"]
[null,null,null,null,null,"Obst und Gemüse",null,null,null,null,null,null,null,null,{"$f":"SUM(O9:O27)","v":1399.86},null,null,null,null,null,null,{"$f":"SUM(V9:V27)","v":2687.62},null,null,null,null,null,null,{"$f":"SUM(AC9:AC27)","v":4555.8099999999995}]
[null,null,null,null,null,"Lidl",null,null,null,"Bonus",null,null,null,{"$f":"SUM(O9:O29)","v":1399.86},{"$f":"IF(O5>5000,SUM(O9:O29),SUM(O9:O27))","v":1399.86},null,"Bonus",null,null,null,{"$f":"SUM(V9:V29)","v":2687.62},{"$f":"IF(V5>5000,SUM(V9:V29),SUM(V9:V27))","v":2687.62},null,"Bonus",null,null,null,{"$f":"SUM(AC9:AC29)","v":4555.8099999999995},{"$f":"IF(AC5>5000,SUM(AC9:AC29),SUM(AC9:AC27))","v":4555.8099999999995}]
[null,null,null,null,null,"Lidl",null,"min","max",{"$f":"A1","v":"2025-09-18"},null,null,null,{"$f":"IF(J5=\"Bonus\",N6,O6)","v":1399.86},null,null,{"$f":"B1","v":"2025-09-22"},null,null,null,{"$f":"IF(Q5=\"Bonus\",U6,V6)","v":2687.62},null,null,{"$f":"C1","v":"2025-09-25"},null,null,null,{"$f":"IF(X5=\"Bonus\",AB6,AC6)","v":4555.8099999999995},null,"Originalverweis"]
[null,null,null,null,null,null,{"$f":"Liste!N1","v":"2025-09-18"},{"$f":"Liste!N1","v":"2025-09-18"},{"$f":"Liste!N1","v":"2025-09-18"},"Artikel","ME","Min","Max","Preis","Summe",null,"Artikel","ME","Min","Max","Preis","Summe",null,"Artikel","ME","Min","Max","Preis","Summe","Y","R","K"]
[1,{"$f":"IF(VLOOKUP(F9,Liste!E$2:F226,2,0)<VLOOKUP(F9,Liste!E2:J226,6,0),2,0)","v":0},{"$f":"IF(VLOOKUP(F9,Liste!E$2:G226,3,0)=VLOOKUP(F9,Liste!E2:N226,10,0),2,0)","v":0},{"$f":"IF(VLOOKUP(F9,Liste!E$2:F226,2,0)=0,3,0)","v":0},"●",{"$f":"IF($F$7=\"Obst und Gemüse\",VLOOKUP(A9,Liste!B$2:E226,4,0),IF($F$7=\"Lidl\",VLOOKUP(A9,Liste!C$2:E226,3,0)))","v":"Artikel 2"},{"$f":"IF(VLOOKUP(F9,Liste!E$2:F226,2,0)=VLOOKUP(F9,Liste!E2:N226,10,0),1,0)","v":0},{"$f":"IF(AND(TODAY()<$H$8,VLOOKUP(F9,Liste!E$2:F226,2,0)=VLOOKUP(F9,Liste!E2:O226,11,0)),1,0)","v":0},{"$f":"IF(AND(TODAY()<$I$8,VLOOKUP(F9,Liste!E$2:G226,3,0)=VLOOKUP(F9,Liste!E2:O226,11,0)),1,0)","v":0},"Artikel 88",{"$f":"IFERROR(VLOOKUP(J9,Liste!$E$2:BF226,7,0),0)","v":12},{"$f":"IFERROR(VLOOKUP(J9,Liste!$E$2:$H226,2,0),0)","v":89.99},{"$f":"IFERROR(VLOOKUP(J9,Liste!$E$2:$I226,3,0),0)","v":119.99},{"$f":"IFERROR(VLOOKUP(J9,Liste!$E$2:$J226,6,0),0)","v":89.99},{"$f":"IF(K9>0,(K9*N9),0)","v":1079.8799999999999},null,"Artikel 2",{"$f":"IFERROR(VLOOKUP(Q9,Liste!$E$2:BF226,7,0),0)","v":1},{"$f":"IFERROR(VLOOKUP(Q9,Liste!$E$2:$H226,2,0),0)","v":58.99},{"$f":"IFERROR(VLOOKUP(Q9,Liste!$E$2:$I226,3,0),0)","v":58.99},{"$f":"IFERROR(VLOOKUP(Q9,Liste!$E$2:$J226,6,0),0)","v":58.99},{"$f":"IF(R9>0,(R9*U9),0)","v":58.99},null,"Artikel 94",{"$f":"IFERROR(VLOOKUP(X9,Liste!$E$2:BF226,7,0),0)","v":6},{"$f":"IFERROR(VLOOKUP(X9,Liste!$E$2:$H226,2,0),0)","v":369.99},{"$f":"IFERROR(VLOOKUP(X9,Liste!$E$2:$I226,3,0),0)","v":475.99},{"$f":"IFERROR(VLOOKUP(X9,Liste!$E$2:$J226,6,0),0)","v":475.99},{"$f":"IF(Y9>0,(Y9*AB9),0)","v":2855.94},{"$f":"IFERROR(VLOOKUP(X9,Liste!$E$2:BF226,7,0),0)","v":6},{"$f":"IFERROR(VLOOKUP(Q9,Liste!$E$2:BF226,7,0),0)","v":1},{"$f":"IFERROR(VLOOKUP(J9,Liste!$E$2:BF226,7,0),0)","v":12}]
[2,{"$f":"IF(VLOOKUP(F10,Liste!E$2:F227,2,0)<VLOOKUP(F10,Liste!E3:J227,6,0),2,0)","v":0},{"$f":"IF(VLOOKUP(F10,Liste!E$2:G227,3,0)=VLOOKUP(F10,Liste!E3:N227,10,0),2,0)","v":0},{"$f":"IF(VLOOKUP(F10,Liste!E$2:F227,2,0)=0,3,0)","v":0},"●",{"$f":"IF($F$7=\"Obst und Gemüse\",VLOOKUP(A10,Liste!B$2:E227,4,0),IF($F$7=\"Lidl\",VLOOKUP(A10,Liste!C$2:E227,3,0)))","v":"Artikel 3"},{"$f":"IF(VLOOKUP(F10,Liste!E$2:F227,2,0)=VLOOKUP(F10,Liste!E3:N227,10,0),1,0)","v":0},{"$f":"IF(AND(TODAY()<$H$8,VLOOKUP(F10,Liste!E$2:F227,2,0)=VLOOKUP(F10,Liste!E3:O227,11,0)),1,0)","v":0},{"$f":"IF(AND(TODAY()<$I$8,VLOOKUP(F10,Liste!E$2:G227,3,0)=VLOOKUP(F10,Liste!E3:O227,11,0)),1,0)","v":0},"Artikel 27",{"$f":"IFERROR(VLOOKUP(J10,Liste!$E$2:BF227,7,0),0)","v":1},{"$f":"IFERROR(VLOOKUP(J10,Liste!$E$2:$H227,2,0),0)","v":179.99},{"$f":"IFERROR(VLOOKUP(J10,Liste!$E$2:$I227,3,0),0)","v":179.99},{"$f":"IFERROR(VLOOKUP(J10,Liste!$E$2:$J227,6,0),0)","v":179.99},{"$f":"IF(K10>0,(K10*N10),0)","v":179.99},null,"Artikel 84",{"$f":"IFERROR(VLOOKUP(Q10,Liste!$E$2:BF227,7,0),0)","v":5},{"$f":"IFERROR(VLOOKUP(Q10,Liste!$E$2:$H227,2,0),0)","v":149.99},{"$f":"IFERROR(VLOOKUP(Q10,Liste!$E$2:$I227,3,0),0)","v":165.74},{"$f":"IFERROR(VLOOKUP(Q10,Liste!$E$2:$J227,6,0),0)","v":165.74},{"$f":"IF(R10>0,(R10*U10),0)","v":828.7},null,"Artikel 143",{"$f":"IFERROR(VLOOKUP(X10,Liste!$E$2:BF227,7,0),0)","v":2},{"$f":"IFERROR(VLOOKUP(X10,Liste!$E$2:$H227,2,0),0)","v":149.99},{"$f":"IFERROR(VLOOKUP(X10,Liste!$E$2:$I227,3,0),0)","v":149.99},{"$f":"IFERROR(VLOOKUP(X10,Liste!$E$2:$J227,6,0),0)","v":149.99},{"$f":"IF(Y10>0,(Y10*AB10),0)","v":299.98},{"$f":"IFERROR(VLOOKUP(X10,Liste!$E$2:BF227,7,0),0)","v":2},{"$f":"IFERROR(VLOOKUP(Q10,Liste!$E$2:BF227,7,0),0)","v":5},{"$f":"IFERROR(VLOOKUP(J10,Liste!$E$2:BF227,7,0),0)","v":1}]
[3,{"$f":"IF(VLOOKUP(F11,Liste!E$2:F228,2,0)<VLOOKUP(F11,Liste!E4:J228,6,0),2,0)","v":2},{"$f":"IF(VLOOKUP(F11,Liste!E$2:G228,3,0)=VLOOKUP(F11,Liste!E4:N228,10,0),2,0)","v":0},{"$f":"IF(VLOOKUP(F11,Liste!E$2:F228,2,0)=0,3,0)","v":0},"●",{"$f":"IF($F$7=\"Obst und Gemüse\",VLOOKUP(A11,Liste!B$2:E228,4,0),IF($F$7=\"Lidl\",VLOOKUP(A11,Liste!C$2:E228,3,0)))","v":"Artikel 20"},{"$f":"IF(VLOOKUP(F11,Liste!E$2:F228,2,0)=VLOOKUP(F11,Liste!E4:N228,10,0),1,0)","v":0},{"$f":"IF(AND(TODAY()<$H$8,VLOOKUP(F11,Liste!E$2:F228,2,0)=VLOOKUP(F11,Liste!E4:O228,11,0)),1,0)","v":0},{"$f":"IF(AND(TODAY()<$I$8,VLOOKUP(F11,Liste!E$2:G228,3,0)=VLOOKUP(F11,Liste!E4:O228,11,0)),1,0)","v":0},"Artikel 222",{"$f":"IFERROR(VLOOKUP(J11,Liste!$E$2:BF228,7,0),0)","v":1},{"$f":"IFERROR(VLOOKUP(J11,Liste!$E$2:$H228,2,0),0)","v":99.99},{"$f":"IFERROR(VLOOKUP(J11,Liste!$E$2:$I228,3,0),0)","v":149.99},{"$f":"IFERROR(VLOOKUP(J11,Liste!$E$2:$J228,6,0),0)","v":139.99},{"$f":"IF(K11>0,(K11*N11),0)","v":139.99},null,"Artikel 170",{"$f":"IFERROR(VLOOKUP(Q11,Liste!$E$2:BF228,7,0),0)","v":2},{"$f":"IFERROR(VLOOKUP(Q11,Liste!$E$2:$H228,2,0),0)","v":149.99},{"$f":"IFERROR(VLOOKUP(Q11,Liste!$E$2:$I228,3,0),0)","v":149.99},{"$f":"IFERROR(VLOOKUP(Q11,Liste!$E$2:$J228,6,0),0)","v":149.99},{"$f":"IF(R11>0,(R11*U11),0)","v":299.98},null,"Artikel 205",10,{"$f":"IFERROR(VLOOKUP(X11,Liste!$E$2:$H228,2,0),0)","v":119.99},{"$f":"IFERROR(VLOOKUP(X11,Liste!$E$2:$I228,3,0),0)","v":249.99},{"$f":"IFERROR(VLOOKUP(X11,Liste!$E$2:$J228,6,0),0)","v":119.99},{"$f":"IF(Y11>0,(Y11*AB11),0)","v":1199.8999999999999},{"$f":"IFERROR(VLOOKUP(X11,Liste!$E$2:BF228,7,0),0)","v":3},{"$f":"IFERROR(VLOOKUP(Q11,Liste!$E$2:BF228,7,0),0)","v":2},{"$f":"IFERROR(VLOOKUP(J11,Liste!$E$2:BF228,7,0),0)","v":1}]
[4,{"$f":"IF(VLOOKUP(F12,Liste!E$2:F229,2,0)<VLOOKUP(F12,Liste!E5:J229,6,0),2,0)","v":0},{"$f":"IF(VLOOKUP(F12,Liste!E$2:G229,3,0)=VLOOKUP(F12,Liste!E5:N229,10,0),2,0)","v":0},{"$f":"IF(VLOOKUP(F12,Liste!E$2:F229,2,0)=0,3,0)","v":0},"●",{"$f":"IF($F$7=\"Obst und Gemüse\",VLOOKUP(A12,Liste!B$2:E229,4,0),IF($F$7=\"Lidl\",VLOOKUP(A12,Liste!C$2:E229,3,0)))","v":"Artikel 63"},{"$f":"IF(VLOOKUP(F12,Liste!E$2:F229,2,0)=VLOOKUP(F12,Liste!E5:N229,10,0),1,0)","v":0},{"$f":"IF(AND(TODAY()<$H$8,VLOOKUP(F12,Liste!E$2:F229,2,0)=VLOOKUP(F12,Liste!E5:O229,11,0)),1,0)","v":0},{"$f":"IF(AND(TODAY()<$I$8,VLOOKUP(F12,Liste!E$2:G229,3,0)=VLOOKUP(F12,Liste!E5:O229,11,0)),1,0)","v":0},null,{"$f":"IFERROR(VLOOKUP(J12,Liste!$E$2:BF229,7,0),0)","v":0},{"$f":"IFERROR(VLOOKUP(J12,Liste!$E$2:$H229,2,0),0)","v":0},{"$f":"IFERROR(VLOOKUP(J12,Liste!$E$2:$I229,3,0),0)","v":0},{"$f":"IFERROR(VLOOKUP(J12,Liste!$E$2:$J229,6,0),0)","v":0},0,null,"Artikel 11",5,{"$f":"IFERROR(VLOOKUP(Q12,Liste!$E$2:$H229,2,0),0)","v":249.99},{"$f":"IFERROR(VLOOKUP(Q12,Liste!$E$2:$I229,3,0),0)","v":299.99},{"$f":"IFERROR(VLOOKUP(Q12,Liste!$E$2:$J229,6,0),0)","v":299.99},1499.95,null,"Artikel 223",{"$f":"IFERROR(VLOOKUP(X12,Liste!$E$2:BF229,7,0),0)","v":1},{"$f":"IFERROR(VLOOKUP(X12,Liste!$E$2:$H229,2,0),0)","v":199.99},{"$f":"IFERROR(VLOOKUP(X12,Liste!$E$2:$I229,3,0),0)","v":219.99},{"$f":"IFERROR(VLOOKUP(X12,Liste!$E$2:$J229,6,0),0)","v":199.99},199.99,{"$f":"IFERROR(VLOOKUP(X12,Liste!$E$2:BF229,7,0),0)","v":1},{"$f":"IFERROR(VLOOKUP(Q12,Liste!$E$2:BF229,7,0),0)","v":1},{"$f":"IFERROR(VLOOKUP(J12,Liste!$E$2:BF229,7,0),0)","v":0}]
[5,{"$f":"IF(VLOOKUP(F13,Liste!E$2:F230,2,0)<VLOOKUP(F13,Liste!E6:J230,6,0),2,0)","v":2},{"$f":"IF(VLOOKUP(F13,Liste!E$2:G230,3,0)=VLOOKUP(F13,Liste!E6:N230,10,0),2,0)","v":0},{"$f":"IF(VLOOKUP(F13,Liste!E$2:F230,2,0)=0,3,0)","v":0},"●",{"$f":"IF($F$7=\"Obst und Gemüse\",VLOOKUP(A13,Liste!B$2:E230,4,0),IF($F$7=\"Lidl\",VLOOKUP(A13,Liste!C$2:E230,3,0)))","v":"Artikel 64"},{"$f":"IF(VLOOKUP(F13,Liste!E$2:F230,2,0)=VLOOKUP(F13,Liste!E6:N230,10,0),1,0)","v":0},{"$f":"IF(AND(TODAY()<$H$8,VLOOKUP(F13,Liste!E$2:F230,2,0)=VLOOKUP(F13,Liste!E6:O230,11,0)),1,0)","v":0},{"$f":"IF(AND(TODAY()<$I$8,VLOOKUP(F13,Liste!E$2:G230,3,0)=VLOOKUP(F13,Liste!E6:O230,11,0)),1,0)","v":0},null,{"$f":"IFERROR(VLOOKUP(J13,Liste!$E$2:BF230,7,0),0)","v":0},{"$f":"IFERROR(VLOOKUP(J13,Liste!$E$2:$H230,2,0),0)","v":0},{"$f":"IFERROR(VLOOKUP(J13,Liste!$E$2:$I230,3,0),0)","v":0},{"$f":"IFERROR(VLOOKUP(J13,Liste!$E$2:$J230,6,0),0)","v":0},0,null,null,{"$f":"IFERROR(VLOOKUP(Q13,Liste!$E$2:BF230,7,0),0)","v":0},{"$f":"IFERROR(VLOOKUP(Q13,Liste!$E$2:$H230,2,0),0)","v":0},{"$f":"IFERROR(VLOOKUP(Q13,Liste!$E$2:$I230,3,0),0)","v":0},{"$f":"IFERROR(VLOOKUP(Q13,Liste!$E$2:$J230,6,0),0)","v":0},0,null,null,{"$f":"IFERROR(VLOOKUP(X13,Liste!$E$2:BF230,7,0),0)","v":0},{"$f":"IFERROR(VLOOKUP(X13,Liste!$E$2:$H230,2,0),0)","v":0},{"$f":"IFERROR(VLOOKUP(X13,Liste!$E$2:$I230,3,0),0)","v":0},{"$f":"IFERROR(VLOOKUP(X13,Liste!$E$2:$J230,6,0),0)","v":0},0,{"$f":"IFERROR(VLOOKUP(X13,Liste!$E$2:BF230,7,0),0)","v":0},{"$f":"IFERROR(VLOOKUP(Q13,Liste!$E$2:BF230,7,0),0)","v":0},{"$f":"IFERROR(VLOOKUP(J13,Liste!$E$2:BF230,7,0),0)","v":0}]
[6,{"$f":"IF(VLOOKUP(F14,Liste!E$2:F231,2,0)<VLOOKUP(F14,Liste!E7:J231,6,0),2,0)","v":2},{"$f":"IF(VLOOKUP(F14,Liste!E$2:G231,3,0)=VLOOKUP(F14,Liste!E7:N231,10,0),2,0)","v":0},{"$f":"IF(VLOOKUP(F14,Liste!E$2:F231,2,0)=0,3,0)","v":0},"●",{"$f":"IF($F$7=\"Obst und Gemüse\",VLOOKUP(A14,Liste!B$2:E231,4,0),IF($F$7=\"Lidl\",VLOOKUP(A14,Liste!C$2:E231,3,0)))","v":"Artikel 74"},{"$f":"IF(VLOOKUP(F14,Liste!E$2:F231,2,0)=VLOOKUP(F14,Liste!E7:N231,10,0),1,0)","v":0},{"$f":"IF(AND(TODAY()<$H$8,VLOOKUP(F14,Liste!E$2:F231,2,0)=VLOOKUP(F14,Liste!E7:O231,11,0)),1,0)","v":0},{"$f":"IF(AND(TODAY()<$I$8,VLOOKUP(F14,Liste!E$2:G231,3,0)=VLOOKUP(F14,Liste!E7:O231,11,0)),1,0)","v":0},null,{"$f":"IFERROR(VLOOKUP(J14,Liste!$E$2:BF231,7,0),0)","v":0},{"$f":"IFERROR(VLOOKUP(J14,Liste!$E$2:$H231,2,0),0)","v":0},{"$f":"IFERROR(VLOOKUP(J14,Liste!$E$2:$I231,3,0),0)","v":0},{"$f":"IFERROR(VLOOKUP(J14,Liste!$E$2:$J231,6,0),0)","v":0},0,null,null,{"$f":"IFERROR(VLOOKUP(Q14,Liste!$E$2:BF231,7,0),0)","v":0},{"$f":"IFERROR(VLOOKUP(Q14,Liste!$E$2:$H231,2,0),0)","v":0},{"$f":"IFERROR(VLOOKUP(Q14,Liste!$E$2:$I231,3,0),0)","v":0},{"$f":"IFERROR(VLOOKUP(Q14,Liste!$E$2:$J231,6,0),0)","v":0},0,null,null,{"$f":"IFERROR(VLOOKUP(X14,Liste!$E$2:BF231,7,0),0)","v":0},{"$f":"IFERROR(VLOOKUP(X14,Liste!$E$2:$H231,2,0),0)","v":0},{"$f":"IFERROR(VLOOKUP(X14,Liste!$E$2:$I231,3,0),0)","v":0},{"$f":"IFERROR(VLOOKUP(X14,Liste!$E$2:$J231,6,0),0)","v":0},0,{"$f":"IFERROR(VLOOKUP(X14,Liste!$E$2:BF231,7,0),0)","v":0},{"$f":"IFERROR(VLOOKUP(Q14,Liste!$E$2:BF231,7,0),0)","v":0},{"$f":"IFERROR(VLOOKUP(J14,Liste!$E$2:BF231,7,0),0)","v":0}]
[7,{"$f":"IF(VLOOKUP(F15,Liste!E$2:F232,2,0)<VLOOKUP(F15,Liste!E8:J232,6,0),2,0)","v":2},{"$f":"IF(VLOOKUP(F15,Liste!E$2:G232,3,0)=VLOOKUP(F15,Liste!E8:N232,10,0),2,0)","v":0},{"$f":"IF(VLOOKUP(F15,Liste!E$2:F232,2,0)=0,3,0)","v":0},"●",{"$f":"IF($F$7=\"Obst und Gemüse\",VLOOKUP(A15,Liste!B$2:E232,4,0),IF($F$7=\"Lidl\",VLOOKUP(A15,Liste!C$2:E232,3,0)))","v":"Artikel 84"},{"$f":"IF(VLOOKUP(F15,Liste!E$2:F232,2,0)=VLOOKUP(F15,Liste!E8:N232,10,0),1,0)","v":0},{"$f":"IF(AND(TODAY()<$H$8,VLOOKUP(F15,Liste!E$2:F232,2,0)=VLOOKUP(F15,Liste!E8:O232,11,0)),1,0)","v":0},{"$f":"IF(AND(TODAY()<$I$8,VLOOKUP(F15,Liste!E$2:G232,3,0)=VLOOKUP(F15,Liste!E8:O232,11,0)),1,0)","v":0},null,{"$f":"IFERROR(VLOOKUP(J15,Liste!$E$2:BF232,7,0),0)","v":0},{"$f":"IFERROR(VLOOKUP(J15,Liste!$E$2:$H232,2,0),0)","v":0},{"$f":"IFERROR(VLOOKUP(J15,Liste!$E$2:$I232,3,0),0)","v":0},{"$f":"IFERROR(VLOOKUP(J15,Liste!$E$2:$J232,6,0),0)","v":0},0,null,null,{"$f":"IFERROR(VLOOKUP(Q15,Liste!$E$2:BF232,7,0),0)","v":0},{"$f":"IFERROR(VLOOKUP(Q15,Liste!$E$2:$H232,2,0),0)","v":0},{"$f":"IFERROR(VLOOKUP(Q15,Liste!$E$2:$I232,3,0),0)","v":0},{"$f":"IFERROR(VLOOKUP(Q15,Liste!$E$2:$J232,6,0),0)","v":0},0,null,null,{"$f":"IFERROR(VLOOKUP(X15,Liste!$E$2:BF232,7,0),0)","v":0},{"$f":"IFERROR(VLOOKUP(X15,Liste!$E$2:$H232,2,0),0)","v":0},{"$f":"IFERROR(VLOOKUP(X15,Liste!$E$2:$I232,3,0),0)","v":0},{"$f":"IFERROR(VLOOKUP(X15,Liste!$E$2:$J232,6,0),0)","v":0},0,{"$f":"IFERROR(VLOOKUP(X15,Liste!$E$2:BF232,7,0),0)","v":0},{"$f":"IFERROR(VLOOKUP(Q15,Liste!$E$2:BF232,7,0),0)","v":0},{"$f":"IFERROR(VLOOKUP(J15,Liste!$E$2:BF232,7,0),0)","v":0}]
[8,{"$f":"IF(VLOOKUP(F16,Liste!E$2:F233,2,0)<VLOOKUP(F16,Liste!E9:J233,6,0),2,0)","v":0},{"$f":"IF(VLOOKUP(F16,Liste!E$2:G233,3,0)=VLOOKUP(F16,Liste!E9:N233,10,0),2,0)","v":0},{"$f":"IF(VLOOKUP(F16,Liste!E$2:F233,2,0)=0,3,0)","v":0},"●",{"$f":"IF($F$7=\"Obst und Gemüse\",VLOOKUP(A16,Liste!B$2:E233,4,0),IF($F$7=\"Lidl\",VLOOKUP(A16,Liste!C$2:E233,3,0)))","v":"Artikel 88"},{"$f":"IF(VLOOKUP(F16,Liste!E$2:F233,2,0)=VLOOKUP(F16,Liste!E9:N233,10,0),1,0)","v":0},{"$f":"IF(AND(TODAY()<$H$8,VLOOKUP(F16,Liste!E$2:F233,2,0)=VLOOKUP(F16,Liste!E9:O233,11,0)),1,0)","v":0},{"$f":"IF(AND(TODAY()<$I$8,VLOOKUP(F16,Liste!E$2:G233,3,0)=VLOOKUP(F16,Liste!E9:O233,11,0)),1,0)","v":0},null,{"$f":"IFERROR(VLOOKUP(J16,Liste!$E$2:BF233,7,0),0)","v":0},{"$f":"IFERROR(VLOOKUP(J16,Liste!$E$2:$H233,2,0),0)","v":0},{"$f":"IFERROR(VLOOKUP(J16,Liste!$E$2:$I233,3,0),0)","v":0},{"$f":"IFERROR(VLOOKUP(J16,Liste!$E$2:$J233,6,0),0)","v":0},0,null,null,{"$f":"IFERROR(VLOOKUP(Q16,Liste!$E$2:BF233,7,0),0)","v":0},{"$f":"IFERROR(VLOOKUP(Q16,Liste!$E$2:$H233,2,0),0)","v":0},{"$f":"IFERROR(VLOOKUP(Q16,Liste!$E$2:$I233,3,0),0)","v":0},{"$f":"IFERROR(VLOOKUP(Q16,Liste!$E$2:$J233,6,0),0)","v":0},0,null,null,{"$f":"IFERROR(VLOOKUP(X16,Liste!$E$2:BF233,7,0),0)","v":0},{"$f":"IFERROR(VLOOKUP(X16,Liste!$E$2:$H233,2,0),0)","v":0},{"$f":"IFERROR(VLOOKUP(X16,Liste!$E$2:$I233,3,0),0)","v":0},{"$f":"IFERROR(VLOOKUP(X16,Liste!$E$2:$J233,6,0),0)","v":0},0,{"$f":"IFERROR(VLOOKUP(X16,Liste!$E$2:BF233,7,0),0)","v":0},{"$f":"IFERROR(VLOOKUP(Q16,Liste!$E$2:BF233,7,0),0)","v":0},{"$f":"IFERROR(VLOOKUP(J16,Liste!$E$2:BF233,7,0),0)","v":0}]
[9,{"$f":"IF(VLOOKUP(F17,Liste!E$2:F234,2,0)<VLOOKUP(F17,Liste!E10:J234,6,0),2,0)","v":2},{"$f":"IF(VLOOKUP(F17,Liste!E$2:G234,3,0)=VLOOKUP(F17,Liste!E10:N234,10,0),2,0)","v":0},{"$f":"IF(VLOOKUP(F17,Liste!E$2:F234,2,0)=0,3,0)","v":0},"●",{"$f":"IF($F$7=\"Obst und Gemüse\",VLOOKUP(A17,Liste!B$2:E234,4,0),IF($F$7=\"Lidl\",VLOOKUP(A17,Liste!C$2:E234,3,0)))","v":"Artikel 89"},{"$f":"IF(VLOOKUP(F17,Liste!E$2:F234,2,0)=VLOOKUP(F17,Liste!E10:N234,10,0),1,0)","v":0},{"$f":"IF(AND(TODAY()<$H$8,VLOOKUP(F17,Liste!E$2:F234,2,0)=VLOOKUP(F17,Liste!E10:O234,11,0)),1,0)","v":0},{"$f":"IF(AND(TODAY()<$I$8,VLOOKUP(F17,Liste!E$2:G234,3,0)=VLOOKUP(F17,Liste!E10:O234,11,0)),1,0)","v":0},null,{"$f":"IFERROR(VLOOKUP(J17,Liste!$E$2:BF234,7,0),0)","v":0},{"$f":"IFERROR(VLOOKUP(J17,Liste!$E$2:$H234,2,0),0)","v":0},{"$f":"IFERROR(VLOOKUP(J17,Liste!$E$2:$I234,3,0),0)","v":0},{"$f":"IFERROR(VLOOKUP(J17,Liste!$E$2:$J234,6,0),0)","v":0},0,null,null,{"$f":"IFERROR(VLOOKUP(Q17,Liste!$E$2:BF234,7,0),0)","v":0},{"$f":"IFERROR(VLOOKUP(Q17,Liste!$E$2:$H234,2,0),0)","v":0},{"$f":"IFERROR(VLOOKUP(Q17,Liste!$E$2:$I234,3,0),0)","v":0},{"$f":"IFERROR(VLOOKUP(Q17,Liste!$E$2:$J234,6,0),0)","v":0},0,null,null,{"$f":"IFERROR(VLOOKUP(X17,Liste!$E$2:BF234,7,0),0)","v":0},{"$f":"IFERROR(VLOOKUP(X17,Liste!$E$2:$H234,2,0),0)","v":0},{"$f":"IFERROR(VLOOKUP(X17,Liste!$E$2:$I234,3,0),0)","v":0},{"$f":"IFERROR(VLOOKUP(X17,Liste!$E$2:$J234,6,0),0)","v":0},0,{"$f":"IFERROR(VLOOKUP(X17,Liste!$E$2:BF234,7,0),0)","v":0},{"$f":"IFERROR(VLOOKUP(Q17,Liste!$E$2:BF234,7,0),0)","v":0},{"$f":"IFERROR(VLOOKUP(J17,Liste!$E$2:BF234,7,0),0)","v":0}]
[10,{"$f":"IF(VLOOKUP(F18,Liste!E$2:F235,2,0)<VLOOKUP(F18,Liste!E11:J235,6,0),2,0)","v":0},{"$f":"IF(VLOOKUP(F18,Liste!E$2:G235,3,0)=VLOOKUP(F18,Liste!E11:N235,10,0),2,0)","v":0},{"$f":"IF(VLOOKUP(F18,Liste!E$2:F235,2,0)=0,3,0)","v":0},"●",{"$f":"IF($F$7=\"Obst und Gemüse\",VLOOKUP(A18,Liste!B$2:E235,4,0),IF($F$7=\"Lidl\",VLOOKUP(A18,Liste!C$2:E235,3,0)))","v":"Artikel 90"},{"$f":"IF(VLOOKUP(F18,Liste!E$2:F235,2,0)=VLOOKUP(F18,Liste!E11:N235,10,0),1,0)","v":0},{"$f":"IF(AND(TODAY()<$H$8,VLOOKUP(F18,Liste!E$2:F235,2,0)=VLOOKUP(F18,Liste!E11:O235,11,0)),1,0)","v":1},{"$f":"IF(AND(TODAY()<$I$8,VLOOKUP(F18,Liste!E$2:G235,3,0)=VLOOKUP(F18,Liste!E11:O235,11,0)),1,0)","v":1},null,{"$f":"IFERROR(VLOOKUP(J18,Liste!$E$2:BF235,7,0),0)","v":0},{"$f":"IFERROR(VLOOKUP(J18,Liste!$E$2:$H235,2,0),0)","v":0},{"$f":"IFERROR(VLOOKUP(J18,Liste!$E$2:$I235,3,0),0)","v":0},{"$f":"IFERROR(VLOOKUP(J18,Liste!$E$2:$J235,6,0),0)","v":0},0,null,null,{"$f":"IFERROR(VLOOKUP(Q18,Liste!$E$2:BF235,7,0),0)","v":0},{"$f":"IFERROR(VLOOKUP(Q18,Liste!$E$2:$H235,2,0),0)","v":0},{"$f":"IFERROR(VLOOKUP(Q18,Liste!$E$2:$I235,3,0),0)","v":0},{"$f":"IFERROR(VLOOKUP(Q18,Liste!$E$2:$J235,6,0),0)","v":0},0,null,null,{"$f":"IFERROR(VLOOKUP(X18,Liste!$E$2:BF235,7,0),0)","v":0},{"$f":"IFERROR(VLOOKUP(X18,Liste!$E$2:$H235,2,0),0)","v":0},{"$f":"IFERROR(VLOOKUP(X18,Liste!$E$2:$I235,3,0),0)","v":0},{"$f":"IFERROR(VLOOKUP(X18,Liste!$E$2:$J235,6,0),0)","v":0},0,{"$f":"IFERROR(VLOOKUP(X18,Liste!$E$2:BF235,7,0),0)","v":0},{"$f":"IFERROR(VLOOKUP(Q18,Liste!$E$2:BF235,7,0),0)","v":0},{"$f":"IFERROR(VLOOKUP(J18,Liste!$E$2:BF235,7,0),0)","v":0}]
[11,{"$f":"IF(VLOOKUP(F19,Liste!E$2:F236,2,0)<VLOOKUP(F19,Liste!E12:J236,6,0),2,0)","v":0},{"$f":"IF(VLOOKUP(F19,Liste!E$2:G236,3,0)=VLOOKUP(F19,Liste!E12:N236,10,0),2,0)","v":2},{"$f":"IF(VLOOKUP(F19,Liste!E$2:F236,2,0)=0,3,0)","v":0},"●",{"$f":"IF($F$7=\"Obst und Gemüse\",VLOOKUP(A19,Liste!B$2:E236,4,0),IF($F$7=\"Lidl\",VLOOKUP(A19,Liste!C$2:E236,3,0)))","v":"Artikel 91"},{"$f":"IF(VLOOKUP(F19,Liste!E$2:F236,2,0)=VLOOKUP(F19,Liste!E12:N236,10,0),1,0)","v":1},{"$f":"IF(AND(TODAY()<$H$8,VLOOKUP(F19,Liste!E$2:F236,2,0)=VLOOKUP(F19,Liste!E12:O236,11,0)),1,0)","v":0},{"$f":"IF(AND(TODAY()<$I$8,VLOOKUP(F19,Liste!E$2:G236,3,0)=VLOOKUP(F19,Liste!E12:O236,11,0)),1,0)","v":0},null,{"$f":"IFERROR(VLOOKUP(J19,Liste!$E$2:BF236,7,0),0)","v":0},{"$f":"IFERROR(VLOOKUP(J19,Liste!$E$2:$H236,2,0),0)","v":0},{"$f":"IFERROR(VLOOKUP(J19,Liste!$E$2:$I236,3,0),0)","v":0},{"$f":"IFERROR(VLOOKUP(J19,Liste!$E$2:$J236,6,0),0)","v":0},0,null,null,{"$f":"IFERROR(VLOOKUP(Q19,Liste!$E$2:BF236,7,0),0)","v":0},{"$f":"IFERROR(VLOOKUP(Q19,Liste!$E$2:$H236,2,0),0)","v":0},{"$f":"IFERROR(VLOOKUP(Q19,Liste!$E$2:$I236,3,0),0)","v":0},{"$f":"IFERROR(VLOOKUP(Q19,Liste!$E$2:$J236,6,0),0)","v":0},0,null,null,{"$f":"IFERROR(VLOOKUP(X19,Liste!$E$2:BF236,7,0),0)","v":0},{"$f":"IFERROR(VLOOKUP(X19,Liste!$E$2:$H236,2,0),0)","v":0},{"$f":"IFERROR(VLOOKUP(X19,Liste!$E$2:$I236,3,0),0)","v":0},{"$f":"IFERROR(VLOOKUP(X19,Liste!$E$2:$J236,6,0),0)","v":0},0,{"$f":"IFERROR(VLOOKUP(X19,Liste!$E$2:BF236,7,0),0)","v":0},{"$f":"IFERROR(VLOOKUP(Q19,Liste!$E$2:BF236,7,0),0)","v":0},{"$f":"IFERROR(VLOOKUP(J19,Liste!$E$2:BF236,7,0),0)","v":0}]
[12,{"$f":"IF(VLOOKUP(F20,Liste!E$2:F237,2,0)<VLOOKUP(F20,Liste!E13:J237,6,0),2,0)","v":0},{"$f":"IF(VLOOKUP(F20,Liste!E$2:G237,3,0)=VLOOKUP(F20,Liste!E13:N237,10,0),2,0)","v":0},{"$f":"IF(VLOOKUP(F20,Liste!E$2:F237,2,0)=0,3,0)","v":0},"●",{"$f":"IF($F$7=\"Obst und Gemüse\",VLOOKUP(A20,Liste!B$2:E237,4,0),IF($F$7=\"Lidl\",VLOOKUP(A20,Liste!C$2:E237,3,0)))","v":"Artikel 93"},{"$f":"IF(VLOOKUP(F20,Liste!E$2:F237,2,0)=VLOOKUP(F20,Liste!E13:N237,10,0),1,0)","v":0},{"$f":"IF(AND(TODAY()<$H$8,VLOOKUP(F20,Liste!E$2:F237,2,0)=VLOOKUP(F20,Liste!E13:O237,11,0)),1,0)","v":1},{"$f":"IF(AND(TODAY()<$I$8,VLOOKUP(F20,Liste!E$2:G237,3,0)=VLOOKUP(F20,Liste!E13:O237,11,0)),1,0)","v":0},null,{"$f":"IFERROR(VLOOKUP(J20,Liste!$E$2:BF237,7,0),0)","v":0},{"$f":"IFERROR(VLOOKUP(J20,Liste!$E$2:$H237,2,0),0)","v":0},{"$f":"IFERROR(VLOOKUP(J20,Liste!$E$2:$I237,3,0),0)","v":0},{"$f":"IFERROR(VLOOKUP(J20,Liste!$E$2:$J237,6,0),0)","v":0},0,null,null,{"$f":"IFERROR(VLOOKUP(Q20,Liste!$E$2:BF237,7,0),0)","v":0},{"$f":"IFERROR(VLOOKUP(Q20,Liste!$E$2:$H237,2,0),0)","v":0},{"$f":"IFERROR(VLOOKUP(Q20,Liste!$E$2:$I237,3,0),0)","v":0},{"$f":"IFERROR(VLOOKUP(Q20,Liste!$E$2:$J237,6,0),0)","v":0},0,null,null,{"$f":"IFERROR(VLOOKUP(X20,Liste!$E$2:BF237,7,0),0)","v":0},{"$f":"IFERROR(VLOOKUP(X20,Liste!$E$2:$H237,2,0),0)","v":0},{"$f":"IFERROR(VLOOKUP(X20,Liste!$E$2:$I237,3,0),0)","v":0},{"$f":"IFERROR(VLOOKUP(X20,Liste!$E$2:$J237,6,0),0)","v":0},0,{"$f":"IFERROR(VLOOKUP(X20,Liste!$E$2:BF237,7,0),0)","v":0},{"$f":"IFERROR(VLOOKUP(Q20,Liste!$E$2:BF237,7,0),0)","v":0},{"$f":"IFERROR(VLOOKUP(J20,Liste!$E$2:BF237,7,0),0)","v":0}]
[13,{"$f":"IF(VLOOKUP(F21,Liste!E$2:F238,2,0)<VLOOKUP(F21,Liste!E14:J238,6,0),2,0)","v":2},{"$f":"IF(VLOOKUP(F21,Liste!E$2:G238,3,0)=VLOOKUP(F21,Liste!E14:N238,10,0),2,0)","v":0},{"$f":"IF(VLOOKUP(F21,Liste!E$2:F238,2,0)=0,3,0)","v":0},"●",{"$f":"IF($F$7=\"Obst und Gemüse\",VLOOKUP(A21,Liste!B$2:E238,4,0),IF($F$7=\"Lidl\",VLOOKUP(A21,Liste!C$2:E238,3,0)))","v":"Artikel 94"},{"$f":"IF(VLOOKUP(F21,Liste!E$2:F238,2,0)=VLOOKUP(F21,Liste!E14:N238,10,0),1,0)","v":0},{"$f":"IF(AND(TODAY()<$H$8,VLOOKUP(F21,Liste!E$2:F238,2,0)=VLOOKUP(F21,Liste!E14:O238,11,0)),1,0)","v":0},{"$f":"IF(AND(TODAY()<$I$8,VLOOKUP(F21,Liste!E$2:G238,3,0)=VLOOKUP(F21,Liste!E14:O238,11,0)),1,0)","v":0},null,{"$f":"IFERROR(VLOOKUP(J21,Liste!$E$2:BF238,7,0),0)","v":0},{"$f":"IFERROR(VLOOKUP(J21,Liste!$E$2:$H238,2,0),0)","v":0},{"$f":"IFERROR(VLOOKUP(J21,Liste!$E$2:$I238,3,0),0)","v":0},{"$f":"IFERROR(VLOOKUP(J21,Liste!$E$2:$J238,6,0),0)","v":0},{"$f":"IF(K21>0,(K21*N21),0)","v":0},null,null,{"$f":"IFERROR(VLOOKUP(Q21,Liste!$E$2:BF238,7,0),0)","v":0},{"$f":"IFERROR(VLOOKUP(Q21,Liste!$E$2:$H238,2,0),0)","v":0},{"$f":"IFERROR(VLOOKUP(Q21,Liste!$E$2:$I238,3,0),0)","v":0},{"$f":"IFERROR(VLOOKUP(Q21,Liste!$E$2:$J238,6,0),0)","v":0},0,null,null,{"$f":"IFERROR(VLOOKUP(X21,Liste!$E$2:BF238,7,0),0)","v":0},{"$f":"IFERROR(VLOOKUP(X21,Liste!$E$2:$H238,2,0),0)","v":0},{"$f":"IFERROR(VLOOKUP(X21,Liste!$E$2:$I238,3,0),0)","v":0},{"$f":"IFERROR(VLOOKUP(X21,Liste!$E$2:$J238,6,0),0)","v":0},0,{"$f":"IFERROR(VLOOKUP(X21,Liste!$E$2:BF238,7,0),0)","v":0},{"$f":"IFERROR(VLOOKUP(Q21,Liste!$E$2:BF238,7,0),0)","v":0},{"$f":"IFERROR(VLOOKUP(J21,Liste!$E$2:BF238,7,0),0)","v":0}]
[14,{"$f":"IF(VLOOKUP(F22,Liste!E$2:F239,2,0)<VLOOKUP(F22,Liste!E15:J239,6,0),2,0)","v":0},{"$f":"IF(VLOOKUP(F22,Liste!E$2:G239,3,0)=VLOOKUP(F22,Liste!E15:N239,10,0),2,0)","v":0},{"$f":"IF(VLOOKUP(F22,Liste!E$2:F239,2,0)=0,3,0)","v":0},"●",{"$f":"IF($F$7=\"Obst und Gemüse\",VLOOKUP(A22,Liste!B$2:E239,4,0),IF($F$7=\"Lidl\",VLOOKUP(A22,Liste!C$2:E239,3,0)))","v":"Artikel 95"},{"$f":"IF(VLOOKUP(F22,Liste!E$2:F239,2,0)=VLOOKUP(F22,Liste!E15:N239,10,0),1,0)","v":0},{"$f":"IF(AND(TODAY()<$H$8,VLOOKUP(F22,Liste!E$2:F239,2,0)=VLOOKUP(F22,Liste!E15:O239,11,0)),1,0)","v":0},{"$f":"IF(AND(TODAY()<$I$8,VLOOKUP(F22,Liste!E$2:G239,3,0)=VLOOKUP(F22,Liste!E15:O239,11,0)),1,0)","v":0},null,{"$f":"IFERROR(VLOOKUP(J22,Liste!$E$2:BF239,7,0),0)","v":0},{"$f":"IFERROR(VLOOKUP(J22,Liste!$E$2:$H239,2,0),0)","v":0},{"$f":"IFERROR(VLOOKUP(J22,Liste!$E$2:$I239,3,0),0)","v":0},{"$f":"IFERROR(VLOOKUP(J22,Liste!$E$2:$J239,6,0),0)","v":0},0,null,null,{"$f":"IFERROR(VLOOKUP(Q22,Liste!$E$2:BF239,7,0),0)","v":0},{"$f":"IFERROR(VLOOKUP(Q22,Liste!$E$2:$H239,2,0),0)","v":0},{"$f":"IFERROR(VLOOKUP(Q22,Liste!$E$2:$I239,3,0),0)","v":0},{"$f":"IFERROR(VLOOKUP(Q22,Liste!$E$2:$J239,6,0),0)","v":0},0,null,null,{"$f":"IFERROR(VLOOKUP(X22,Liste!$E$2:BF239,7,0),0)","v":0},{"$f":"IFERROR(VLOOKUP(X22,Liste!$E$2:$H239,2,0),0)","v":0},{"$f":"IFERROR(VLOOKUP(X22,Liste!$E$2:$I239,3,0),0)","v":0},{"$f":"IFERROR(VLOOKUP(X22,Liste!$E$2:$J239,6,0),0)","v":0},0,{"$f":"IFERROR(VLOOKUP(X22,Liste!$E$2:BF239,7,0),0)","v":0},{"$f":"IFERROR(VLOOKUP(Q22,Liste!$E$2:BF239,7,0),0)","v":0},{"$f":"IFERROR(VLOOKUP(J22,Liste!$E$2:BF239,7,0),0)","v":0}]
[15,{"$f":"IF(VLOOKUP(F23,Liste!E$2:F240,2,0)<VLOOKUP(F23,Liste!E16:J240,6,0),2,0)","v":2},{"$f":"IF(VLOOKUP(F23,Liste!E$2:G240,3,0)=VLOOKUP(F23,Liste!E16:N240,10,0),2,0)","v":0},{"$f":"IF(VLOOKUP(F23,Liste!E$2:F240,2,0)=0,3,0)","v":0},"●",{"$f":"IF($F$7=\"Obst und Gemüse\",VLOOKUP(A23,Liste!B$2:E240,4,0),IF($F$7=\"Lidl\",VLOOKUP(A23,Liste!C$2:E240,3,0)))","v":"Artikel 106"},{"$f":"IF(VLOOKUP(F23,Liste!E$2:F240,2,0)=VLOOKUP(F23,Liste!E16:N240,10,0),1,0)","v":0},{"$f":"IF(AND(TODAY()<$H$8,VLOOKUP(F23,Liste!E$2:F240,2,0)=VLOOKUP(F23,Liste!E16:O240,11,0)),1,0)","v":0},{"$f":"IF(AND(TODAY()<$I$8,VLOOKUP(F23,Liste!E$2:G240,3,0)=VLOOKUP(F23,Liste!E16:O240,11,0)),1,0)","v":0},null,{"$f":"IFERROR(VLOOKUP(J23,Liste!$E$2:BF240,7,0),0)","v":0},{"$f":"IFERROR(VLOOKUP(J23,Liste!$E$2:$H240,2,0),0)","v":0},{"$f":"IFERROR(VLOOKUP(J23,Liste!$E$2:$I240,3,0),0)","v":0},{"$f":"IFERROR(VLOOKUP(J23,Liste!$E$2:$J240,6,0),0)","v":0},0,null,null,{"$f":"IFERROR(VLOOKUP(Q23,Liste!$E$2:BF240,7,0),0)","v":0},{"$f":"IFERROR(VLOOKUP(Q23,Liste!$E$2:$H240,2,0),0)","v":0},{"$f":"IFERROR(VLOOKUP(Q23,Liste!$E$2:$I240,3,0),0)","v":0},{"$f":"IFERROR(VLOOKUP(Q23,Liste!$E$2:$J240,6,0),0)","v":0},0,null,null,{"$f":"IFERROR(VLOOKUP(X23,Liste!$E$2:BF240,7,0),0)","v":0},{"$f":"IFERROR(VLOOKUP(X23,Liste!$E$2:$H240,2,0),0)","v":0},{"$f":"IFERROR(VLOOKUP(X23,Liste!$E$2:$I240,3,0),0)","v":0},{"$f":"IFERROR(VLOOKUP(X23,Liste!$E$2:$J240,6,0),0)","v":0},0,{"$f":"IFERROR(VLOOKUP(X23,Liste!$E$2:BF240,7,0),0)","v":0},{"$f":"IFERROR(VLOOKUP(Q23,Liste!$E$2:BF240,7,0),0)","v":0},{"$f":"IFERROR(VLOOKUP(J23,Liste!$E$2:BF240,7,0),0)","v":0}]
[16,{"$f":"IF(VLOOKUP(F24,Liste!E$2:F241,2,0)<VLOOKUP(F24,Liste!E17:J241,6,0),2,0)","v":0},{"$f":"IF(VLOOKUP(F24,Liste!E$2:G241,3,0)=VLOOKUP(F24,Liste!E17:N241,10,0),2,0)","v":0},{"$f":"IF(VLOOKUP(F24,Liste!E$2:F241,2,0)=0,3,0)","v":0},"●",{"$f":"IF($F$7=\"Obst und Gemüse\",VLOOKUP(A24,Liste!B$2:E241,4,0),IF($F$7=\"Lidl\",VLOOKUP(A24,Liste!C$2:E241,3,0)))","v":"Artikel 126"},{"$f":"IF(VLOOKUP(F24,Liste!E$2:F241,2,0)=VLOOKUP(F24,Liste!E17:N241,10,0),1,0)","v":1},{"$f":"IF(AND(TODAY()<$H$8,VLOOKUP(F24,Liste!E$2:F241,2,0)=VLOOKUP(F24,Liste!E17:O241,11,0)),1,0)","v":0},{"$f":"IF(AND(TODAY()<$I$8,VLOOKUP(F24,Liste!E$2:G241,3,0)=VLOOKUP(F24,Liste!E17:O241,11,0)),1,0)","v":0},null,{"$f":"IFERROR(VLOOKUP(J24,Liste!$E$2:BF241,7,0),0)","v":0},{"$f":"IFERROR(VLOOKUP(J24,Liste!$E$2:$H241,2,0),0)","v":0},{"$f":"IFERROR(VLOOKUP(J24,Liste!$E$2:$I241,3,0),0)","v":0},{"$f":"IFERROR(VLOOKUP(J24,Liste!$E$2:$J241,6,0),0)","v":0},0,null,null,{"$f":"IFERROR(VLOOKUP(Q24,Liste!$E$2:BF241,7,0),0)","v":0},{"$f":"IFERROR(VLOOKUP(Q24,Liste!$E$2:$H241,2,0),0)","v":0},{"$f":"IFERROR(VLOOKUP(Q24,Liste!$E$2:$I241,3,0),0)","v":0},{"$f":"IFERROR(VLOOKUP(Q24,Liste!$E$2:$J241,6,0),0)","v":0},0,null,null,{"$f":"IFERROR(VLOOKUP(X24,Liste!$E$2:BF241,7,0),0)","v":0},{"$f":"IFERROR(VLOOKUP(X24,Liste!$E$2:$H241,2,0),0)","v":0},{"$f":"IFERROR(VLOOKUP(X24,Liste!$E$2:$I241,3,0),0)","v":0},{"$f":"IFERROR(VLOOKUP(X24,Liste!$E$2:$J241,6,0),0)","v":0},0,{"$f":"IFERROR(VLOOKUP(X24,Liste!$E$2:BF241,7,0),0)","v":0},{"$f":"IFERROR(VLOOKUP(Q24,Liste!$E$2:BF241,7,0),0)","v":0},{"$f":"IFERROR(VLOOKUP(J24,Liste!$E$2:BF241,7,0),0)","v":0}]
[17,{"$f":"IF(VLOOKUP(F25,Liste!E$2:F242,2,0)<VLOOKUP(F25,Liste!E18:J242,6,0),2,0)","v":0},{"$f":"IF(VLOOKUP(F25,Liste!E$2:G242,3,0)=VLOOKUP(F25,Liste!E18:N242,10,0),2,0)","v":0},{"$f":"IF(VLOOKUP(F25,Liste!E$2:F242,2,0)=0,3,0)","v":0},"●",{"$f":"IF($F$7=\"Obst und Gemüse\",VLOOKUP(A25,Liste!B$2:E242,4,0),IF($F$7=\"Lidl\",VLOOKUP(A25,Liste!C$2:E242,3,0)))","v":"Artikel 142"},{"$f":"IF(VLOOKUP(F25,Liste!E$2:F242,2,0)=VLOOKUP(F25,Liste!E18:N242,10,0),1,0)","v":0},{"$f":"IF(AND(TODAY()<$H$8,VLOOKUP(F25,Liste!E$2:F242,2,0)=VLOOKUP(F25,Liste!E18:O242,11,0)),1,0)","v":0},{"$f":"IF(AND(TODAY()<$I$8,VLOOKUP(F25,Liste!E$2:G242,3,0)=VLOOKUP(F25,Liste!E18:O242,11,0)),1,0)","v":0},null,{"$f":"IFERROR(VLOOKUP(J25,Liste!$E$2:BF242,7,0),0)","v":0},{"$f":"IFERROR(VLOOKUP(J25,Liste!$E$2:$H242,2,0),0)","v":0},{"$f":"IFERROR(VLOOKUP(J25,Liste!$E$2:$I242,3,0),0)","v":0},{"$f":"IFERROR(VLOOKUP(J25,Liste!$E$2:$J242,6,0),0)","v":0},0,null,null,{"$f":"IFERROR(VLOOKUP(Q25,Liste!$E$2:BF242,7,0),0)","v":0},{"$f":"IFERROR(VLOOKUP(Q25,Liste!$E$2:$H242,2,0),0)","v":0},{"$f":"IFERROR(VLOOKUP(Q25,Liste!$E$2:$I242,3,0),0)","v":0},{"$f":"IFERROR(VLOOKUP(Q25,Liste!$E$2:$J242,6,0),0)","v":0},0,null,null,{"$f":"IFERROR(VLOOKUP(X25,Liste!$E$2:BF242,7,0),0)","v":0},{"$f":"IFERROR(VLOOKUP(X25,Liste!$E$2:$H242,2,0),0)","v":0},{"$f":"IFERROR(VLOOKUP(X25,Liste!$E$2:$I242,3,0),0)","v":0},{"$f":"IFERROR(VLOOKUP(X25,Liste!$E$2:$J242,6,0),0)","v":0},0,{"$f":"IFERROR(VLOOKUP(X25,Liste!$E$2:BF242,7,0),0)","v":0},{"$f":"IFERROR(VLOOKUP(Q25,Liste!$E$2:BF242,7,0),0)","v":0},{"$f":"IFERROR(VLOOKUP(J25,Liste!$E$2:BF242,7,0),0)","v":0}]
[18,{"$f":"IF(VLOOKUP(F26,Liste!E$2:F243,2,0)<VLOOKUP(F26,Liste!E19:J243,6,0),2,0)","v":0},{"$f":"IF(VLOOKUP(F26,Liste!E$2:G243,3,0)=VLOOKUP(F26,Liste!E19:N243,10,0),2,0)","v":0},{"$f":"IF(VLOOKUP(F26,Liste!E$2:F243,2,0)=0,3,0)","v":0},"●",{"$f":"IF($F$7=\"Obst und Gemüse\",VLOOKUP(A26,Liste!B$2:E243,4,0),IF($F$7=\"Lidl\",VLOOKUP(A26,Liste!C$2:E243,3,0)))","v":"Artikel 143"},{"$f":"IF(VLOOKUP(F26,Liste!E$2:F243,2,0)=VLOOKUP(F26,Liste!E19:N243,10,0),1,0)","v":0},{"$f":"IF(AND(TODAY()<$H$8,VLOOKUP(F26,Liste!E$2:F243,2,0)=VLOOKUP(F26,Liste!E19:O243,11,0)),1,0)","v":0},{"$f":"IF(AND(TODAY()<$I$8,VLOOKUP(F26,Liste!E$2:G243,3,0)=VLOOKUP(F26,Liste!E19:O243,11,0)),1,0)","v":0},null,{"$f":"IFERROR(VLOOKUP(J26,Liste!$E$2:BF243,7,0),0)","v":0},{"$f":"IFERROR(VLOOKUP(J26,Liste!$E$2:$H243,2,0),0)","v":0},{"$f":"IFERROR(VLOOKUP(J26,Liste!$E$2:$I243,3,0),0)","v":0},{"$f":"IFERROR(VLOOKUP(J26,Liste!$E$2:$J243,6,0),0)","v":0},0,null,null,{"$f":"IFERROR(VLOOKUP(Q26,Liste!$E$2:BF243,7,0),0)","v":0},{"$f":"IFERROR(VLOOKUP(Q26,Liste!$E$2:$H243,2,0),0)","v":0},{"$f":"IFERROR(VLOOKUP(Q26,Liste!$E$2:$I243,3,0),0)","v":0},{"$f":"IFERROR(VLOOKUP(Q26,Liste!$E$2:$J243,6,0),0)","v":0},0,null,null,{"$f":"IFERROR(VLOOKUP(X26,Liste!$E$2:BF243,7,0),0)","v":0},{"$f":"IFERROR(VLOOKUP(X26,Liste!$E$2:$H243,2,0),0)","v":0},{"$f":"IFERROR(VLOOKUP(X26,Liste!$E$2:$I243,3,0),0)","v":0},{"$f":"IFERROR(VLOOKUP(X26,Liste!$E$2:$J243,6,0),0)","v":0},0,{"$f":"IFERROR(VLOOKUP(X26,Liste!$E$2:BF243,7,0),0)","v":0},{"$f":"IFERROR(VLOOKUP(Q26,Liste!$E$2:BF243,7,0),0)","v":0},{"$f":"IFERROR(VLOOKUP(J26,Liste!$E$2:BF243,7,0),0)","v":0}]
[19,{"$f":"IF(VLOOKUP(F27,Liste!E$2:F244,2,0)<VLOOKUP(F27,Liste!E20:J244,6,0),2,0)","v":0},{"$f":"IF(VLOOKUP(F27,Liste!E$2:G244,3,0)=VLOOKUP(F27,Liste!E20:N244,10,0),2,0)","v":0},{"$f":"IF(VLOOKUP(F27,Liste!E$2:F244,2,0)=0,3,0)","v":0},"●",{"$f":"IF($F$7=\"Obst und Gemüse\",VLOOKUP(A27,Liste!B$2:E244,4,0),IF($F$7=\"Lidl\",VLOOKUP(A27,Liste!C$2:E244,3,0)))","v":"Artikel 144"},{"$f":"IF(VLOOKUP(F27,Liste!E$2:F244,2,0)=VLOOKUP(F27,Liste!E20:N244,10,0),1,0)","v":0},{"$f":"IF(AND(TODAY()<$H$8,VLOOKUP(F27,Liste!E$2:F244,2,0)=VLOOKUP(F27,Liste!E20:O244,11,0)),1,0)","v":0},{"$f":"IF(AND(TODAY()<$I$8,VLOOKUP(F27,Liste!E$2:G244,3,0)=VLOOKUP(F27,Liste!E20:O244,11,0)),1,0)","v":0},null,{"$f":"IFERROR(VLOOKUP(J27,Liste!$E$2:BF244,7,0),0)","v":0},{"$f":"IFERROR(VLOOKUP(J27,Liste!$E$2:$H244,2,0),0)","v":0},{"$f":"IFERROR(VLOOKUP(J27,Liste!$E$2:$I244,3,0),0)","v":0},{"$f":"IFERROR(VLOOKUP(J27,Liste!$E$2:$J244,6,0),0)","v":0},0,null,null,{"$f":"IFERROR(VLOOKUP(Q27,Liste!$E$2:BF244,7,0),0)","v":0},{"$f":"IFERROR(VLOOKUP(Q27,Liste!$E$2:$H244,2,0),0)","v":0},{"$f":"IFERROR(VLOOKUP(Q27,Liste!$E$2:$I244,3,0),0)","v":0},{"$f":"IFERROR(VLOOKUP(Q27,Liste!$E$2:$J244,6,0),0)","v":0},0,null,null,{"$f":"IFERROR(VLOOKUP(X27,Liste!$E$2:BF244,7,0),0)","v":0},{"$f":"IFERROR(VLOOKUP(X27,Liste!$E$2:$H244,2,0),0)","v":0},{"$f":"IFERROR(VLOOKUP(X27,Liste!$E$2:$I244,3,0),0)","v":0},{"$f":"IFERROR(VLOOKUP(X27,Liste!$E$2:$J244,6,0),0)","v":0},0,{"$f":"IFERROR(VLOOKUP(X27,Liste!$E$2:BF244,7,0),0)","v":0},{"$f":"IFERROR(VLOOKUP(Q27,Liste!$E$2:BF244,7,0),0)","v":0},{"$f":"IFERROR(VLOOKUP(J27,Liste!$E$2:BF244,7,0),0)","v":0}]
[20,{"$f":"IF(VLOOKUP(F28,Liste!E$2:F245,2,0)<VLOOKUP(F28,Liste!E21:J245,6,0),2,0)","v":2},{"$f":"IF(VLOOKUP(F28,Liste!E$2:G245,3,0)=VLOOKUP(F28,Liste!E21:N245,10,0),2,0)","v":0},{"$f":"IF(VLOOKUP(F28,Liste!E$2:F245,2,0)=0,3,0)","v":0},"●",{"$f":"IF($F$7=\"Obst und Gemüse\",VLOOKUP(A28,Liste!B$2:E245,4,0),IF($F$7=\"Lidl\",VLOOKUP(A28,Liste!C$2:E245,3,0)))","v":"Artikel 145"},{"$f":"IF(VLOOKUP(F28,Liste!E$2:F245,2,0)=VLOOKUP(F28,Liste!E21:N245,10,0),1,0)","v":0},{"$f":"IF(AND(TODAY()<$H$8,VLOOKUP(F28,Liste!E$2:F245,2,0)=VLOOKUP(F28,Liste!E21:O245,11,0)),1,0)","v":0},{"$f":"IF(AND(TODAY()<$I$8,VLOOKUP(F28,Liste!E$2:G245,3,0)=VLOOKUP(F28,Liste!E21:O245,11,0)),1,0)","v":0},null,{"$f":"IFERROR(VLOOKUP(J28,Liste!$E$2:BF245,7,0),0)","v":0},{"$f":"IFERROR(VLOOKUP(J28,Liste!$E$2:$H245,2,0),0)","v":0},{"$f":"IFERROR(VLOOKUP(J28,Liste!$E$2:$I245,3,0),0)","v":0},{"$f":"IFERROR(VLOOKUP(J28,Liste!$E$2:$J245,6,0),0)","v":0},{"$f":"IF(K28>0,(K28*N28),0)","v":0},null,null,{"$f":"IFERROR(VLOOKUP(Q28,Liste!$E$2:BF245,7,0),0)","v":0},{"$f":"IFERROR(VLOOKUP(Q28,Liste!$E$2:$H245,2,0),0)","v":0},{"$f":"IFERROR(VLOOKUP(Q28,Liste!$E$2:$I245,3,0),0)","v":0},{"$f":"IFERROR(VLOOKUP(Q28,Liste!$E$2:$J245,6,0),0)","v":0},{"$f":"IF(R28>0,(R28*U28),0)","v":0},null,null,{"$f":"IFERROR(VLOOKUP(X28,Liste!$E$2:BF245,7,0),0)","v":0},{"$f":"IFERROR(VLOOKUP(X28,Liste!$E$2:$H245,2,0),0)","v":0},{"$f":"IFERROR(VLOOKUP(X28,Liste!$E$2:$I245,3,0),0)","v":0},{"$f":"IFERROR(VLOOKUP(X28,Liste!$E$2:$J245,6,0),0)","v":0},0,{"$f":"IFERROR(VLOOKUP(X28,Liste!$E$2:BF245,7,0),0)","v":0},{"$f":"IFERROR(VLOOKUP(Q28,Liste!$E$2:BF245,7,0),0)","v":0},{"$f":"IFERROR(VLOOKUP(J28,Liste!$E$2:BF245,7,0),0)","v":0}]
[21,{"$f":"IF(VLOOKUP(F29,Liste!E$2:F246,2,0)<VLOOKUP(F29,Liste!E22:J246,6,0),2,0)","v":0},{"$f":"IF(VLOOKUP(F29,Liste!E$2:G246,3,0)=VLOOKUP(F29,Liste!E22:N246,10,0),2,0)","v":0},{"$f":"IF(VLOOKUP(F29,Liste!E$2:F246,2,0)=0,3,0)","v":0},"●",{"$f":"IF($F$7=\"Obst und Gemüse\",VLOOKUP(A29,Liste!B$2:E246,4,0),IF($F$7=\"Lidl\",VLOOKUP(A29,Liste!C$2:E246,3,0)))","v":"Artikel 170"},{"$f":"IF(VLOOKUP(F29,Liste!E$2:F246,2,0)=VLOOKUP(F29,Liste!E22:N246,10,0),1,0)","v":0},{"$f":"IF(AND(TODAY()<$H$8,VLOOKUP(F29,Liste!E$2:F246,2,0)=VLOOKUP(F29,Liste!E22:O246,11,0)),1,0)","v":1},{"$f":"IF(AND(TODAY()<$I$8,VLOOKUP(F29,Liste!E$2:G246,3,0)=VLOOKUP(F29,Liste!E22:O246,11,0)),1,0)","v":1},{"$f":"J5","v":0},null,null,null,null,{"$f":"IF(OR(J29=\"Bonus\",J29=\"COUPON\"),-500,0)","v":0},null,{"$f":"Q5","v":0},null,null,null,null,{"$f":"IF(OR(Q29=\"Bonus\",Q29=\"COUPON\"),-500,0)","v":0},"●",{"$f":"X5","v":0},null,null,null,null,{"$f":"IF(OR(X29=\"Bonus\",X29=\"COUPON\"),-500,0)","v":0}]
[22,{"$f":"IF(VLOOKUP(F30,Liste!E$2:F247,2,0)<VLOOKUP(F30,Liste!E23:J247,6,0),2,0)","v":0},{"$f":"IF(VLOOKUP(F30,Liste!E$2:G247,3,0)=VLOOKUP(F30,Liste!E23:N247,10,0),2,0)","v":0},{"$f":"IF(VLOOKUP(F30,Liste!E$2:F247,2,0)=0,3,0)","v":0},"●",{"$f":"IF($F$7=\"Obst und Gemüse\",VLOOKUP(A30,Liste!B$2:E247,4,0),IF($F$7=\"Lidl\",VLOOKUP(A30,Liste!C$2:E247,3,0)))","v":"Artikel 171"},{"$f":"IF(VLOOKUP(F30,Liste!E$2:F247,2,0)=VLOOKUP(F30,Liste!E23:N247,10,0),1,0)","v":1},{"$f":"IF(AND(TODAY()<$H$8,VLOOKUP(F30,Liste!E$2:F247,2,0)=VLOOKUP(F30,Liste!E23:O247,11,0)),1,0)","v":0},{"$f":"IF(AND(TODAY()<$I$8,VLOOKUP(F30,Liste!E$2:G247,3,0)=VLOOKUP(F30,Liste!E23:O247,11,0)),1,0)","v":0}]
[23,{"$f":"IF(VLOOKUP(F31,Liste!E$2:F248,2,0)<VLOOKUP(F31,Liste!E24:J248,6,0),2,0)","v":0},{"$f":"IF(VLOOKUP(F31,Liste!E$2:G248,3,0)=VLOOKUP(F31,Liste!E24:N248,10,0),2,0)","v":0},{"$f":"IF(VLOOKUP(F31,Liste!E$2:F248,2,0)=0,3,0)","v":0},"●",{"$f":"IF($F$7=\"Obst und Gemüse\",VLOOKUP(A31,Liste!B$2:E248,4,0),IF($F$7=\"Lidl\",VLOOKUP(A31,Liste!C$2:E248,3,0)))","v":"Artikel 200"},{"$f":"IF(VLOOKUP(F31,Liste!E$2:F248,2,0)=VLOOKUP(F31,Liste!E24:N248,10,0),1,0)","v":0},{"$f":"IF(AND(TODAY()<$H$8,VLOOKUP(F31,Liste!E$2:F248,2,0)=VLOOKUP(F31,Liste!E24:O248,11,0)),1,0)","v":1},{"$f":"IF(AND(TODAY()<$I$8,VLOOKUP(F31,Liste!E$2:G248,3,0)=VLOOKUP(F31,Liste!E24:O248,11,0)),1,0)","v":0}]
[24,{"$f":"IF(VLOOKUP(F32,Liste!E$2:F249,2,0)<VLOOKUP(F32,Liste!E25:J249,6,0),2,0)","v":0},{"$f":"IF(VLOOKUP(F32,Liste!E$2:G249,3,0)=VLOOKUP(F32,Liste!E25:N249,10,0),2,0)","v":0},{"$f":"IF(VLOOKUP(F32,Liste!E$2:F249,2,0)=0,3,0)","v":0},"●",{"$f":"IF($F$7=\"Obst und Gemüse\",VLOOKUP(A32,Liste!B$2:E249,4,0),IF($F$7=\"Lidl\",VLOOKUP(A32,Liste!C$2:E249,3,0)))","v":"Artikel 205"},{"$f":"IF(VLOOKUP(F32,Liste!E$2:F249,2,0)=VLOOKUP(F32,Liste!E25:N249,10,0),1,0)","v":1},{"$f":"IF(AND(TODAY()<$H$8,VLOOKUP(F32,Liste!E$2:F249,2,0)=VLOOKUP(F32,Liste!E25:O249,11,0)),1,0)","v":0},{"$f":"IF(AND(TODAY()<$I$8,VLOOKUP(F32,Liste!E$2:G249,3,0)=VLOOKUP(F32,Liste!E25:O249,11,0)),1,0)","v":0}]
[25,{"$f":"IF(VLOOKUP(F33,Liste!E$2:F250,2,0)<VLOOKUP(F33,Liste!E26:J250,6,0),2,0)","v":0},{"$f":"IF(VLOOKUP(F33,Liste!E$2:G250,3,0)=VLOOKUP(F33,Liste!E26:N250,10,0),2,0)","v":0},{"$f":"IF(VLOOKUP(F33,Liste!E$2:F250,2,0)=0,3,0)","v":0},"●",{"$f":"IF($F$7=\"Obst und Gemüse\",VLOOKUP(A33,Liste!B$2:E250,4,0),IF($F$7=\"Lidl\",VLOOKUP(A33,Liste!C$2:E250,3,0)))","v":"Artikel 208"},{"$f":"IF(VLOOKUP(F33,Liste!E$2:F250,2,0)=VLOOKUP(F33,Liste!E26:N250,10,0),1,0)","v":0},{"$f":"IF(AND(TODAY()<$H$8,VLOOKUP(F33,Liste!E$2:F250,2,0)=VLOOKUP(F33,Liste!E26:O250,11,0)),1,0)","v":0},{"$f":"IF(AND(TODAY()<$I$8,VLOOKUP(F33,Liste!E$2:G250,3,0)=VLOOKUP(F33,Liste!E26:O250,11,0)),1,0)","v":0}]
[26,{"$f":"IF(VLOOKUP(F34,Liste!E$2:F251,2,0)<VLOOKUP(F34,Liste!E27:J251,6,0),2,0)","v":0},{"$f":"IF(VLOOKUP(F34,Liste!E$2:G251,3,0)=VLOOKUP(F34,Liste!E27:N251,10,0),2,0)","v":0},{"$f":"IF(VLOOKUP(F34,Liste!E$2:F251,2,0)=0,3,0)","v":0},"●",{"$f":"IF($F$7=\"Obst und Gemüse\",VLOOKUP(A34,Liste!B$2:E251,4,0),IF($F$7=\"Lidl\",VLOOKUP(A34,Liste!C$2:E251,3,0)))","v":"Artikel 216"},{"$f":"IF(VLOOKUP(F34,Liste!E$2:F251,2,0)=VLOOKUP(F34,Liste!E27:N251,10,0),1,0)","v":1},{"$f":"IF(AND(TODAY()<$H$8,VLOOKUP(F34,Liste!E$2:F251,2,0)=VLOOKUP(F34,Liste!E27:O251,11,0)),1,0)","v":0},{"$f":"IF(AND(TODAY()<$I$8,VLOOKUP(F34,Liste!E$2:G251,3,0)=VLOOKUP(F34,Liste!E27:O251,11,0)),1,0)","v":0}]
[27,{"$f":"IF(VLOOKUP(F35,Liste!E$2:F252,2,0)<VLOOKUP(F35,Liste!E28:J252,6,0),2,0)","v":0},{"$f":"IF(VLOOKUP(F35,Liste!E$2:G252,3,0)=VLOOKUP(F35,Liste!E28:N252,10,0),2,0)","v":0},{"$f":"IF(VLOOKUP(F35,Liste!E$2:F252,2,0)=0,3,0)","v":0},"●",{"$f":"IF($F$7=\"Obst und Gemüse\",VLOOKUP(A35,Liste!B$2:E252,4,0),IF($F$7=\"Lidl\",VLOOKUP(A35,Liste!C$2:E252,3,0)))","v":"Artikel 223"},{"$f":"IF(VLOOKUP(F35,Liste!E$2:F252,2,0)=VLOOKUP(F35,Liste!E28:N252,10,0),1,0)","v":1},{"$f":"IF(AND(TODAY()<$H$8,VLOOKUP(F35,Liste!E$2:F252,2,0)=VLOOKUP(F35,Liste!E28:O252,11,0)),1,0)","v":0},{"$f":"IF(AND(TODAY()<$I$8,VLOOKUP(F35,Liste!E$2:G252,3,0)=VLOOKUP(F35,Liste!E28:O252,11,0)),1,0)","v":0}]
[28,{"$f":"IF(VLOOKUP(F36,Liste!E$2:F253,2,0)<VLOOKUP(F36,Liste!E30:J253,6,0),2,0)","v":{"$error":"#N/A"}},{"$f":"IF(VLOOKUP(F36,Liste!E$2:G253,3,0)=VLOOKUP(F36,Liste!E30:N253,10,0),2,0)","v":{"$error":"#N/A"}},{"$f":"IF(VLOOKUP(F36,Liste!E$2:F253,2,0)=0,3,0)","v":{"$error":"#N/A"}},"●",{"$f":"IF($F$7=\"Obst und Gemüse\",VLOOKUP(A36,Liste!B$2:E253,4,0),IF($F$7=\"Lidl\",VLOOKUP(A36,Liste!C$2:E253,3,0)))","v":{"$error":"#N/A"}},{"$f":"IF(VLOOKUP(F36,Liste!E$2:F253,2,0)=VLOOKUP(F36,Liste!E29:N253,10,0),1,0)","v":{"$error":"#N/A"}},{"$f":"IF(AND(TODAY()<$H$8,VLOOKUP(F36,Liste!E$2:F253,2,0)=VLOOKUP(F36,Liste!E30:O253,11,0)),1,0)","v":{"$error":"#N/A"}},{"$f":"IF(AND(TODAY()<$I$8,VLOOKUP(F36,Liste!E$2:G253,3,0)=VLOOKUP(F36,Liste!E30:O253,11,0)),1,0)","v":{"$error":"#N/A"}}]
[29,{"$f":"IF(VLOOKUP(F37,Liste!E$2:F254,2,0)<VLOOKUP(F37,Liste!E31:J254,6,0),2,0)","v":{"$error":"#N/A"}},{"$f":"IF(VLOOKUP(F37,Liste!E$2:G254,3,0)=VLOOKUP(F37,Liste!E31:N254,10,0),2,0)","v":{"$error":"#N/A"}},{"$f":"IF(VLOOKUP(F37,Liste!E$2:F254,2,0)=0,3,0)","v":{"$error":"#N/A"}},"●",{"$f":"IF($F$7=\"Obst und Gemüse\",VLOOKUP(A37,Liste!B$2:E254,4,0),IF($F$7=\"Lidl\",VLOOKUP(A37,Liste!C$2:E254,3,0)))","v":{"$error":"#N/A"}},{"$f":"IF(VLOOKUP(F37,Liste!E$2:F254,2,0)=VLOOKUP(F37,Liste!E30:N254,10,0),1,0)","v":{"$error":"#N/A"}},{"$f":"IF(AND(TODAY()<$H$8,VLOOKUP(F37,Liste!E$2:F254,2,0)=VLOOKUP(F37,Liste!E31:O254,11,0)),1,0)","v":{"$error":"#N/A"}},{"$f":"IF(AND(TODAY()<$I$8,VLOOKUP(F37,Liste!E$2:G254,3,0)=VLOOKUP(F37,Liste!E31:O254,11,0)),1,0)","v":{"$error":"#N/A"}}]
[30,{"$f":"IF(VLOOKUP(F38,Liste!E$2:F255,2,0)<VLOOKUP(F38,Liste!E32:J255,6,0),2,0)","v":{"$error":"#N/A"}},{"$f":"IF(VLOOKUP(F38,Liste!E$2:G255,3,0)=VLOOKUP(F38,Liste!E32:N255,10,0),2,0)","v":{"$error":"#N/A"}},{"$f":"IF(VLOOKUP(F38,Liste!E$2:F255,2,0)=0,3,0)","v":{"$error":"#N/A"}},"●",{"$f":"IF($F$7=\"Obst und Gemüse\",VLOOKUP(A38,Liste!B$2:E255,4,0),IF($F$7=\"Lidl\",VLOOKUP(A38,Liste!C$2:E255,3,0)))","v":{"$error":"#N/A"}},{"$f":"IF(VLOOKUP(F38,Liste!E$2:F255,2,0)=VLOOKUP(F38,Liste!E31:N255,10,0),1,0)","v":{"$error":"#N/A"}},{"$f":"IF(AND(TODAY()<$H$8,VLOOKUP(F38,Liste!E$2:F255,2,0)=VLOOKUP(F38,Liste!E32:O255,11,0)),1,0)","v":{"$error":"#N/A"}},{"$f":"IF(AND(TODAY()<$I$8,VLOOKUP(F38,Liste!E$2:G255,3,0)=VLOOKUP(F38,Liste!E32:O255,11,0)),1,0)","v":{"$error":"#N/A"}}]
[31,{"$f":"IF(VLOOKUP(F39,Liste!E$2:F256,2,0)<VLOOKUP(F39,Liste!E33:J256,6,0),2,0)","v":{"$error":"#N/A"}},{"$f":"IF(VLOOKUP(F39,Liste!E$2:G256,3,0)=VLOOKUP(F39,Liste!E33:N256,10,0),2,0)","v":{"$error":"#N/A"}},{"$f":"IF(VLOOKUP(F39,Liste!E$2:F256,2,0)=0,3,0)","v":{"$error":"#N/A"}},"●",{"$f":"IF($F$7=\"Obst und Gemüse\",VLOOKUP(A39,Liste!B$2:E256,4,0),IF($F$7=\"Lidl\",VLOOKUP(A39,Liste!C$2:E256,3,0)))","v":{"$error":"#N/A"}},{"$f":"IF(VLOOKUP(F39,Liste!E$2:F256,2,0)=VLOOKUP(F39,Liste!E32:N256,10,0),1,0)","v":{"$error":"#N/A"}},{"$f":"IF(AND(TODAY()<$H$8,VLOOKUP(F39,Liste!E$2:F256,2,0)=VLOOKUP(F39,Liste!E33:O256,11,0)),1,0)","v":{"$error":"#N/A"}},{"$f":"IF(AND(TODAY()<$I$8,VLOOKUP(F39,Liste!E$2:G256,3,0)=VLOOKUP(F39,Liste!E33:O256,11,0)),1,0)","v":{"$error":"#N/A"}}]
[32,{"$f":"IF(VLOOKUP(F40,Liste!E$2:F257,2,0)<VLOOKUP(F40,Liste!E34:J257,6,0),2,0)","v":{"$error":"#N/A"}},{"$f":"IF(VLOOKUP(F40,Liste!E$2:G257,3,0)=VLOOKUP(F40,Liste!E34:N257,10,0),2,0)","v":{"$error":"#N/A"}},{"$f":"IF(VLOOKUP(F40,Liste!E$2:F257,2,0)=0,3,0)","v":{"$error":"#N/A"}},"●",{"$f":"IF($F$7=\"Obst und Gemüse\",VLOOKUP(A40,Liste!B$2:E257,4,0),IF($F$7=\"Lidl\",VLOOKUP(A40,Liste!C$2:E257,3,0)))","v":{"$error":"#N/A"}},{"$f":"IF(VLOOKUP(F40,Liste!E$2:F257,2,0)=VLOOKUP(F40,Liste!E33:N257,10,0),1,0)","v":{"$error":"#N/A"}},{"$f":"IF(AND(TODAY()<$H$8,VLOOKUP(F40,Liste!E$2:F257,2,0)=VLOOKUP(F40,Liste!E34:O257,11,0)),1,0)","v":{"$error":"#N/A"}},{"$f":"IF(AND(TODAY()<$I$8,VLOOKUP(F40,Liste!E$2:G257,3,0)=VLOOKUP(F40,Liste!E34:O257,11,0)),1,0)","v":{"$error":"#N/A"}}]
[33,{"$f":"IF(VLOOKUP(F41,Liste!E$2:F258,2,0)<VLOOKUP(F41,Liste!E36:J258,6,0),2,0)","v":{"$error":"#N/A"}},{"$f":"IF(VLOOKUP(F41,Liste!E$2:G258,3,0)=VLOOKUP(F41,Liste!E36:N258,10,0),2,0)","v":{"$error":"#N/A"}},{"$f":"IF(VLOOKUP(F41,Liste!E$2:F258,2,0)=0,3,0)","v":{"$error":"#N/A"}},"●",{"$f":"IF($F$7=\"Obst und Gemüse\",VLOOKUP(A41,Liste!B$2:E258,4,0),IF($F$7=\"Lidl\",VLOOKUP(A41,Liste!C$2:E258,3,0)))","v":{"$error":"#N/A"}},{"$f":"IF(VLOOKUP(F41,Liste!E$2:F258,2,0)=VLOOKUP(F41,Liste!E34:N258,10,0),1,0)","v":{"$error":"#N/A"}},{"$f":"IF(AND(TODAY()<$H$8,VLOOKUP(F41,Liste!E$2:F258,2,0)=VLOOKUP(F41,Liste!E36:O258,11,0)),1,0)","v":{"$error":"#N/A"}},{"$f":"IF(AND(TODAY()<$I$8,VLOOKUP(F41,Liste!E$2:G258,3,0)=VLOOKUP(F41,Liste!E36:O258,11,0)),1,0)","v":{"$error":"#N/A"}}]
[34,{"$f":"IF(VLOOKUP(F42,Liste!E$2:F259,2,0)<VLOOKUP(F42,Liste!E37:J259,6,0),2,0)","v":{"$error":"#N/A"}},{"$f":"IF(VLOOKUP(F42,Liste!E$2:G259,3,0)=VLOOKUP(F42,Liste!E37:N259,10,0),2,0)","v":{"$error":"#N/A"}},{"$f":"IF(VLOOKUP(F42,Liste!E$2:F259,2,0)=0,3,0)","v":{"$error":"#N/A"}},"●",{"$f":"IF($F$7=\"Obst und Gemüse\",VLOOKUP(A42,Liste!B$2:E259,4,0),IF($F$7=\"Lidl\",VLOOKUP(A42,Liste!C$2:E259,3,0)))","v":{"$error":"#N/A"}},{"$f":"IF(VLOOKUP(F42,Liste!E$2:F259,2,0)=VLOOKUP(F42,Liste!E36:N259,10,0),1,0)","v":{"$error":"#N/A"}},{"$f":"IF(AND(TODAY()<$H$8,VLOOKUP(F42,Liste!E$2:F259,2,0)=VLOOKUP(F42,Liste!E37:O259,11,0)),1,0)","v":{"$error":"#N/A"}},{"$f":"IF(AND(TODAY()<$I$8,VLOOKUP(F42,Liste!E$2:G259,3,0)=VLOOKUP(F42,Liste!E37:O259,11,0)),1,0)","v":{"$error":"#N/A"}}]
[35,{"$f":"IF(VLOOKUP(F43,Liste!E$2:F260,2,0)<VLOOKUP(F43,Liste!E38:J260,6,0),2,0)","v":{"$error":"#N/A"}},{"$f":"IF(VLOOKUP(F43,Liste!E$2:G260,3,0)=VLOOKUP(F43,Liste!E38:N260,10,0),2,0)","v":{"$error":"#N/A"}},{"$f":"IF(VLOOKUP(F43,Liste!E$2:F260,2,0)=0,3,0)","v":{"$error":"#N/A"}},"●",{"$f":"IF($F$7=\"Obst und Gemüse\",VLOOKUP(A43,Liste!B$2:E260,4,0),IF($F$7=\"Lidl\",VLOOKUP(A43,Liste!C$2:E260,3,0)))","v":{"$error":"#N/A"}},{"$f":"IF(VLOOKUP(F43,Liste!E$2:F260,2,0)=VLOOKUP(F43,Liste!E37:N260,10,0),1,0)","v":{"$error":"#N/A"}},{"$f":"IF(AND(TODAY()<$H$8,VLOOKUP(F43,Liste!E$2:F260,2,0)=VLOOKUP(F43,Liste!E38:O260,11,0)),1,0)","v":{"$error":"#N/A"}},{"$f":"IF(AND(TODAY()<$I$8,VLOOKUP(F43,Liste!E$2:G260,3,0)=VLOOKUP(F43,Liste!E38:O260,11,0)),1,0)","v":{"$error":"#N/A"}}]
[36,{"$f":"IF(VLOOKUP(F44,Liste!E$2:F261,2,0)<VLOOKUP(F44,Liste!E39:J261,6,0),2,0)","v":{"$error":"#N/A"}},{"$f":"IF(VLOOKUP(F44,Liste!E$2:G261,3,0)=VLOOKUP(F44,Liste!E39:N261,10,0),2,0)","v":{"$error":"#N/A"}},{"$f":"IF(VLOOKUP(F44,Liste!E$2:F261,2,0)=0,3,0)","v":{"$error":"#N/A"}},"●",{"$f":"IF($F$7=\"Obst und Gemüse\",VLOOKUP(A44,Liste!B$2:E261,4,0),IF($F$7=\"Lidl\",VLOOKUP(A44,Liste!C$2:E261,3,0)))","v":{"$error":"#N/A"}},{"$f":"IF(VLOOKUP(F44,Liste!E$2:F261,2,0)=VLOOKUP(F44,Liste!E38:N261,10,0),1,0)","v":{"$error":"#N/A"}},{"$f":"IF(AND(TODAY()<$H$8,VLOOKUP(F44,Liste!E$2:F261,2,0)=VLOOKUP(F44,Liste!E39:O261,11,0)),1,0)","v":{"$error":"#N/A"}},{"$f":"IF(AND(TODAY()<$I$8,VLOOKUP(F44,Liste!E$2:G261,3,0)=VLOOKUP(F44,Liste!E39:O261,11,0)),1,0)","v":{"$error":"#N/A"}}]
[37,{"$f":"IF(VLOOKUP(F45,Liste!E$2:F262,2,0)<VLOOKUP(F45,Liste!E40:J262,6,0),2,0)","v":{"$error":"#N/A"}},{"$f":"IF(VLOOKUP(F45,Liste!E$2:G262,3,0)=VLOOKUP(F45,Liste!E40:N262,10,0),2,0)","v":{"$error":"#N/A"}},{"$f":"IF(VLOOKUP(F45,Liste!E$2:F262,2,0)=0,3,0)","v":{"$error":"#N/A"}},"●",{"$f":"IF($F$7=\"Obst und Gemüse\",VLOOKUP(A45,Liste!B$2:E262,4,0),IF($F$7=\"Lidl\",VLOOKUP(A45,Liste!C$2:E262,3,0)))","v":{"$error":"#N/A"}},{"$f":"IF(VLOOKUP(F45,Liste!E$2:F262,2,0)=VLOOKUP(F45,Liste!E39:N262,10,0),1,0)","v":{"$error":"#N/A"}},{"$f":"IF(AND(TODAY()<$H$8,VLOOKUP(F45,Liste!E$2:F262,2,0)=VLOOKUP(F45,Liste!E40:O262,11,0)),1,0)","v":{"$error":"#N/A"}},{"$f":"IF(AND(TODAY()<$I$8,VLOOKUP(F45,Liste!E$2:G262,3,0)=VLOOKUP(F45,Liste!E40:O262,11,0)),1,0)","v":{"$error":"#N/A"}}]
[38,{"$f":"IF(VLOOKUP(F46,Liste!E$2:F263,2,0)<VLOOKUP(F46,Liste!E41:J263,6,0),2,0)","v":{"$error":"#N/A"}},{"$f":"IF(VLOOKUP(F46,Liste!E$2:G263,3,0)=VLOOKUP(F46,Liste!E41:N263,10,0),2,0)","v":{"$error":"#N/A"}},{"$f":"IF(VLOOKUP(F46,Liste!E$2:F263,2,0)=0,3,0)","v":{"$error":"#N/A"}},"●",{"$f":"IF($F$7=\"Obst und Gemüse\",VLOOKUP(A46,Liste!B$2:E263,4,0),IF($F$7=\"Lidl\",VLOOKUP(A46,Liste!C$2:E263,3,0)))","v":{"$error":"#N/A"}},{"$f":"IF(VLOOKUP(F46,Liste!E$2:F263,2,0)=VLOOKUP(F46,Liste!E40:N263,10,0),1,0)","v":{"$error":"#N/A"}},{"$f":"IF(AND(TODAY()<$H$8,VLOOKUP(F46,Liste!E$2:F263,2,0)=VLOOKUP(F46,Liste!E41:O263,11,0)),1,0)","v":{"$error":"#N/A"}},{"$f":"IF(AND(TODAY()<$I$8,VLOOKUP(F46,Liste!E$2:G263,3,0)=VLOOKUP(F46,Liste!E41:O263,11,0)),1,0)","v":{"$error":"#N/A"}}]
[39,{"$f":"IF(VLOOKUP(F47,Liste!E$2:F264,2,0)<VLOOKUP(F47,Liste!E42:J264,6,0),2,0)","v":{"$error":"#N/A"}},{"$f":"IF(VLOOKUP(F47,Liste!E$2:G264,3,0)=VLOOKUP(F47,Liste!E42:N264,10,0),2,0)","v":{"$error":"#N/A"}},{"$f":"IF(VLOOKUP(F47,Liste!E$2:F264,2,0)=0,3,0)","v":{"$error":"#N/A"}},"●",{"$f":"IF($F$7=\"Obst und Gemüse\",VLOOKUP(A47,Liste!B$2:E264,4,0),IF($F$7=\"Lidl\",VLOOKUP(A47,Liste!C$2:E264,3,0)))","v":{"$error":"#N/A"}},{"$f":"IF(VLOOKUP(F47,Liste!E$2:F264,2,0)=VLOOKUP(F47,Liste!E41:N264,10,0),1,0)","v":{"$error":"#N/A"}},{"$f":"IF(AND(TODAY()<$H$8,VLOOKUP(F47,Liste!E$2:F264,2,0)=VLOOKUP(F47,Liste!E42:O264,11,0)),1,0)","v":{"$error":"#N/A"}},{"$f":"IF(AND(TODAY()<$I$8,VLOOKUP(F47,Liste!E$2:G264,3,0)=VLOOKUP(F47,Liste!E42:O264,11,0)),1,0)","v":{"$error":"#N/A"}}]
[40,{"$f":"IF(VLOOKUP(F48,Liste!E$2:F265,2,0)<VLOOKUP(F48,Liste!E43:J265,6,0),2,0)","v":{"$error":"#N/A"}},{"$f":"IF(VLOOKUP(F48,Liste!E$2:G265,3,0)=VLOOKUP(F48,Liste!E43:N265,10,0),2,0)","v":{"$error":"#N/A"}},{"$f":"IF(VLOOKUP(F48,Liste!E$2:F265,2,0)=0,3,0)","v":{"$error":"#N/A"}},"●",{"$f":"IF($F$7=\"Obst und Gemüse\",VLOOKUP(A48,Liste!B$2:E265,4,0),IF($F$7=\"Lidl\",VLOOKUP(A48,Liste!C$2:E265,3,0)))","v":{"$error":"#N/A"}},{"$f":"IF(VLOOKUP(F48,Liste!E$2:F265,2,0)=VLOOKUP(F48,Liste!E42:N265,10,0),1,0)","v":{"$error":"#N/A"}},{"$f":"IF(AND(TODAY()<$H$8,VLOOKUP(F48,Liste!E$2:F265,2,0)=VLOOKUP(F48,Liste!E43:O265,11,0)),1,0)","v":{"$error":"#N/A"}},{"$f":"IF(AND(TODAY()<$I$8,VLOOKUP(F48,Liste!E$2:G265,3,0)=VLOOKUP(F48,Liste!E43:O265,11,0)),1,0)","v":{"$error":"#N/A"}}]
[41,{"$f":"IF(VLOOKUP(F49,Liste!E$2:F266,2,0)<VLOOKUP(F49,Liste!E44:J266,6,0),2,0)","v":{"$error":"#N/A"}},{"$f":"IF(VLOOKUP(F49,Liste!E$2:G266,3,0)=VLOOKUP(F49,Liste!E44:N266,10,0),2,0)","v":{"$error":"#N/A"}},{"$f":"IF(VLOOKUP(F49,Liste!E$2:F266,2,0)=0,3,0)","v":{"$error":"#N/A"}},"●",{"$f":"IF($F$7=\"Obst und Gemüse\",VLOOKUP(A49,Liste!B$2:E266,4,0),IF($F$7=\"Lidl\",VLOOKUP(A49,Liste!C$2:E266,3,0)))","v":{"$error":"#N/A"}},{"$f":"IF(VLOOKUP(F49,Liste!E$2:F266,2,0)=VLOOKUP(F49,Liste!E43:N266,10,0),1,0)","v":{"$error":"#N/A"}},{"$f":"IF(AND(TODAY()<$H$8,VLOOKUP(F49,Liste!E$2:F266,2,0)=VLOOKUP(F49,Liste!E44:O266,11,0)),1,0)","v":{"$error":"#N/A"}},{"$f":"IF(AND(TODAY()<$I$8,VLOOKUP(F49,Liste!E$2:G266,3,0)=VLOOKUP(F49,Liste!E44:O266,11,0)),1,0)","v":{"$error":"#N/A"}}]
[42,{"$f":"IF(VLOOKUP(F50,Liste!E$2:F267,2,0)<VLOOKUP(F50,Liste!E45:J267,6,0),2,0)","v":{"$error":"#N/A"}},{"$f":"IF(VLOOKUP(F50,Liste!E$2:G267,3,0)=VLOOKUP(F50,Liste!E45:N267,10,0),2,0)","v":{"$error":"#N/A"}},{"$f":"IF(VLOOKUP(F50,Liste!E$2:F267,2,0)=0,3,0)","v":{"$error":"#N/A"}},"●",{"$f":"IF($F$7=\"Obst und Gemüse\",VLOOKUP(A50,Liste!B$2:E267,4,0),IF($F$7=\"Lidl\",VLOOKUP(A50,Liste!C$2:E267,3,0)))","v":{"$error":"#N/A"}},{"$f":"IF(VLOOKUP(F50,Liste!E$2:F267,2,0)=VLOOKUP(F50,Liste!E44:N267,10,0),1,0)","v":{"$error":"#N/A"}},{"$f":"IF(AND(TODAY()<$H$8,VLOOKUP(F50,Liste!E$2:F267,2,0)=VLOOKUP(F50,Liste!E45:O267,11,0)),1,0)","v":{"$error":"#N/A"}},{"$f":"IF(AND(TODAY()<$I$8,VLOOKUP(F50,Liste!E$2:G267,3,0)=VLOOKUP(F50,Liste!E45:O267,11,0)),1,0)","v":{"$error":"#N/A"}}]
[43,{"$f":"IF(VLOOKUP(F51,Liste!E$2:F268,2,0)<VLOOKUP(F51,Liste!E46:J268,6,0),2,0)","v":{"$error":"#N/A"}},{"$f":"IF(VLOOKUP(F51,Liste!E$2:G268,3,0)=VLOOKUP(F51,Liste!E46:N268,10,0),2,0)","v":{"$error":"#N/A"}},{"$f":"IF(VLOOKUP(F51,Liste!E$2:F268,2,0)=0,3,0)","v":{"$error":"#N/A"}},"●",{"$f":"IF($F$7=\"Obst und Gemüse\",VLOOKUP(A51,Liste!B$2:E268,4,0),IF($F$7=\"Lidl\",VLOOKUP(A51,Liste!C$2:E268,3,0)))","v":{"$error":"#N/A"}},{"$f":"IF(VLOOKUP(F51,Liste!E$2:F268,2,0)=VLOOKUP(F51,Liste!E45:N268,10,0),1,0)","v":{"$error":"#N/A"}},{"$f":"IF(AND(TODAY()<$H$8,VLOOKUP(F51,Liste!E$2:F268,2,0)=VLOOKUP(F51,Liste!E46:O268,11,0)),1,0)","v":{"$error":"#N/A"}},{"$f":"IF(AND(TODAY()<$I$8,VLOOKUP(F51,Liste!E$2:G268,3,0)=VLOOKUP(F51,Liste!E46:O268,11,0)),1,0)","v":{"$error":"#N/A"}}]
[44,{"$f":"IF(VLOOKUP(F52,Liste!E$2:F269,2,0)<VLOOKUP(F52,Liste!E47:J269,6,0),2,0)","v":{"$error":"#N/A"}},{"$f":"IF(VLOOKUP(F52,Liste!E$2:G269,3,0)=VLOOKUP(F52,Liste!E47:N269,10,0),2,0)","v":{"$error":"#N/A"}},{"$f":"IF(VLOOKUP(F52,Liste!E$2:F269,2,0)=0,3,0)","v":{"$error":"#N/A"}},"●",{"$f":"IF($F$7=\"Obst und Gemüse\",VLOOKUP(A52,Liste!B$2:E269,4,0),IF($F$7=\"Lidl\",VLOOKUP(A52,Liste!C$2:E269,3,0)))","v":{"$error":"#N/A"}},{"$f":"IF(VLOOKUP(F52,Liste!E$2:F269,2,0)=VLOOKUP(F52,Liste!E46:N269,10,0),1,0)","v":{"$error":"#N/A"}},{"$f":"IF(AND(TODAY()<$H$8,VLOOKUP(F52,Liste!E$2:F269,2,0)=VLOOKUP(F52,Liste!E47:O269,11,0)),1,0)","v":{"$error":"#N/A"}},{"$f":"IF(AND(TODAY()<$I$8,VLOOKUP(F52,Liste!E$2:G269,3,0)=VLOOKUP(F52,Liste!E47:O269,11,0)),1,0)","v":{"$error":"#N/A"}}]
[45,{"$f":"IF(VLOOKUP(F53,Liste!E$2:F270,2,0)<VLOOKUP(F53,Liste!E49:J270,6,0),2,0)","v":{"$error":"#N/A"}},{"$f":"IF(VLOOKUP(F53,Liste!E$2:G270,3,0)=VLOOKUP(F53,Liste!E49:N270,10,0),2,0)","v":{"$error":"#N/A"}},{"$f":"IF(VLOOKUP(F53,Liste!E$2:F270,2,0)=0,3,0)","v":{"$error":"#N/A"}},"●",{"$f":"IF($F$7=\"Obst und Gemüse\",VLOOKUP(A53,Liste!B$2:E270,4,0),IF($F$7=\"Lidl\",VLOOKUP(A53,Liste!C$2:E270,3,0)))","v":{"$error":"#N/A"}},{"$f":"IF(VLOOKUP(F53,Liste!E$2:F270,2,0)=VLOOKUP(F53,Liste!E47:N270,10,0),1,0)","v":{"$error":"#N/A"}},{"$f":"IF(AND(TODAY()<$H$8,VLOOKUP(F53,Liste!E$2:F270,2,0)=VLOOKUP(F53,Liste!E49:O270,11,0)),1,0)","v":{"$error":"#N/A"}},{"$f":"IF(AND(TODAY()<$I$8,VLOOKUP(F53,Liste!E$2:G270,3,0)=VLOOKUP(F53,Liste!E49:O270,11,0)),1,0)","v":{"$error":"#N/A"}}]
[46,{"$f":"IF(VLOOKUP(F54,Liste!E$2:F271,2,0)<VLOOKUP(F54,Liste!E50:J271,6,0),2,0)","v":{"$error":"#N/A"}},{"$f":"IF(VLOOKUP(F54,Liste!E$2:G271,3,0)=VLOOKUP(F54,Liste!E50:N271,10,0),2,0)","v":{"$error":"#N/A"}},{"$f":"IF(VLOOKUP(F54,Liste!E$2:F271,2,0)=0,3,0)","v":{"$error":"#N/A"}},"●",{"$f":"IF($F$7=\"Obst und Gemüse\",VLOOKUP(A54,Liste!B$2:E271,4,0),IF($F$7=\"Lidl\",VLOOKUP(A54,Liste!C$2:E271,3,0)))","v":{"$error":"#N/A"}},{"$f":"IF(VLOOKUP(F54,Liste!E$2:F271,2,0)=VLOOKUP(F54,Liste!E48:N271,10,0),1,0)","v":{"$error":"#N/A"}},{"$f":"IF(AND(TODAY()<$H$8,VLOOKUP(F54,Liste!E$2:F271,2,0)=VLOOKUP(F54,Liste!E50:O271,11,0)),1,0)","v":{"$error":"#N/A"}},{"$f":"IF(AND(TODAY()<$I$8,VLOOKUP(F54,Liste!E$2:G271,3,0)=VLOOKUP(F54,Liste!E50:O271,11,0)),1,0)","v":{"$error":"#N/A"}}]
[47,{"$f":"IF(VLOOKUP(F55,Liste!E$2:F272,2,0)<VLOOKUP(F55,Liste!E51:J272,6,0),2,0)","v":{"$error":"#N/A"}},{"$f":"IF(VLOOKUP(F55,Liste!E$2:G272,3,0)=VLOOKUP(F55,Liste!E51:N272,10,0),2,0)","v":{"$error":"#N/A"}},{"$f":"IF(VLOOKUP(F55,Liste!E$2:F272,2,0)=0,3,0)","v":{"$error":"#N/A"}},"●",{"$f":"IF($F$7=\"Obst und Gemüse\",VLOOKUP(A55,Liste!B$2:E272,4,0),IF($F$7=\"Lidl\",VLOOKUP(A55,Liste!C$2:E272,3,0)))","v":{"$error":"#N/A"}},{"$f":"IF(VLOOKUP(F55,Liste!E$2:F272,2,0)=VLOOKUP(F55,Liste!E49:N272,10,0),1,0)","v":{"$error":"#N/A"}},{"$f":"IF(AND(TODAY()<$H$8,VLOOKUP(F55,Liste!E$2:F272,2,0)=VLOOKUP(F55,Liste!E51:O272,11,0)),1,0)","v":{"$error":"#N/A"}},{"$f":"IF(AND(TODAY()<$I$8,VLOOKUP(F55,Liste!E$2:G272,3,0)=VLOOKUP(F55,Liste!E51:O272,11,0)),1,0)","v":{"$error":"#N/A"}}]
[48,{"$f":"IF(VLOOKUP(F56,Liste!E$2:F273,2,0)<VLOOKUP(F56,Liste!E52:J273,6,0),2,0)","v":{"$error":"#N/A"}},{"$f":"IF(VLOOKUP(F56,Liste!E$2:G273,3,0)=VLOOKUP(F56,Liste!E52:N273,10,0),2,0)","v":{"$error":"#N/A"}},{"$f":"IF(VLOOKUP(F56,Liste!E$2:F273,2,0)=0,3,0)","v":{"$error":"#N/A"}},"●",{"$f":"IF($F$7=\"Obst und Gemüse\",VLOOKUP(A56,Liste!B$2:E273,4,0),IF($F$7=\"Lidl\",VLOOKUP(A56,Liste!C$2:E273,3,0)))","v":{"$error":"#N/A"}},{"$f":"IF(VLOOKUP(F56,Liste!E$2:F273,2,0)=VLOOKUP(F56,Liste!E50:N273,10,0),1,0)","v":{"$error":"#N/A"}},{"$f":"IF(AND(TODAY()<$H$8,VLOOKUP(F56,Liste!E$2:F273,2,0)=VLOOKUP(F56,Liste!E52:O273,11,0)),1,0)","v":{"$error":"#N/A"}},{"$f":"IF(AND(TODAY()<$I$8,VLOOKUP(F56,Liste!E$2:G273,3,0)=VLOOKUP(F56,Liste!E52:O273,11,0)),1,0)","v":{"$error":"#N/A"}}]
[49,{"$f":"IF(VLOOKUP(F57,Liste!E$2:F274,2,0)<VLOOKUP(F57,Liste!E53:J274,6,0),2,0)","v":{"$error":"#N/A"}},{"$f":"IF(VLOOKUP(F57,Liste!E$2:G274,3,0)=VLOOKUP(F57,Liste!E53:N274,10,0),2,0)","v":{"$error":"#N/A"}},{"$f":"IF(VLOOKUP(F57,Liste!E$2:F274,2,0)=0,3,0)","v":{"$error":"#N/A"}},"●",{"$f":"IF($F$7=\"Obst und Gemüse\",VLOOKUP(A57,Liste!B$2:E274,4,0),IF($F$7=\"Lidl\",VLOOKUP(A57,Liste!C$2:E274,3,0)))","v":{"$error":"#N/A"}},{"$f":"IF(VLOOKUP(F57,Liste!E$2:F274,2,0)=VLOOKUP(F57,Liste!E51:N274,10,0),1,0)","v":{"$error":"#N/A"}},{"$f":"IF(AND(TODAY()<$H$8,VLOOKUP(F57,Liste!E$2:F274,2,0)=VLOOKUP(F57,Liste!E53:O274,11,0)),1,0)","v":{"$error":"#N/A"}},{"$f":"IF(AND(TODAY()<$I$8,VLOOKUP(F57,Liste!E$2:G274,3,0)=VLOOKUP(F57,Liste!E53:O274,11,0)),1,0)","v":{"$error":"#N/A"}}]
[50,{"$f":"IF(VLOOKUP(F58,Liste!E$2:F275,2,0)<VLOOKUP(F58,Liste!E54:J275,6,0),2,0)","v":{"$error":"#N/A"}},{"$f":"IF(VLOOKUP(F58,Liste!E$2:G275,3,0)=VLOOKUP(F58,Liste!E54:N275,10,0),2,0)","v":{"$error":"#N/A"}},{"$f":"IF(VLOOKUP(F58,Liste!E$2:F275,2,0)=0,3,0)","v":{"$error":"#N/A"}},"●",{"$f":"IF($F$7=\"Obst und Gemüse\",VLOOKUP(A58,Liste!B$2:E275,4,0),IF($F$7=\"Lidl\",VLOOKUP(A58,Liste!C$2:E275,3,0)))","v":{"$error":"#N/A"}},{"$f":"IF(VLOOKUP(F58,Liste!E$2:F275,2,0)=VLOOKUP(F58,Liste!E52:N275,10,0),1,0)","v":{"$error":"#N/A"}},{"$f":"IF(AND(TODAY()<$H$8,VLOOKUP(F58,Liste!E$2:F275,2,0)=VLOOKUP(F58,Liste!E54:O275,11,0)),1,0)","v":{"$error":"#N/A"}},{"$f":"IF(AND(TODAY()<$I$8,VLOOKUP(F58,Liste!E$2:G275,3,0)=VLOOKUP(F58,Liste!E54:O275,11,0)),1,0)","v":{"$error":"#N/A"}}]
[51,{"$f":"IF(VLOOKUP(F59,Liste!E$2:F276,2,0)<VLOOKUP(F59,Liste!E55:J276,6,0),2,0)","v":{"$error":"#N/A"}},{"$f":"IF(VLOOKUP(F59,Liste!E$2:G276,3,0)=VLOOKUP(F59,Liste!E55:N276,10,0),2,0)","v":{"$error":"#N/A"}},{"$f":"IF(VLOOKUP(F59,Liste!E$2:F276,2,0)=0,3,0)","v":{"$error":"#N/A"}},"●",{"$f":"IF($F$7=\"Obst und Gemüse\",VLOOKUP(A59,Liste!B$2:E276,4,0),IF($F$7=\"Lidl\",VLOOKUP(A59,Liste!C$2:E276,3,0)))","v":{"$error":"#N/A"}},{"$f":"IF(VLOOKUP(F59,Liste!E$2:F276,2,0)=VLOOKUP(F59,Liste!E53:N276,10,0),1,0)","v":{"$error":"#N/A"}},{"$f":"IF(AND(TODAY()<$H$8,VLOOKUP(F59,Liste!E$2:F276,2,0)=VLOOKUP(F59,Liste!E55:O276,11,0)),1,0)","v":{"$error":"#N/A"}},{"$f":"IF(AND(TODAY()<$I$8,VLOOKUP(F59,Liste!E$2:G276,3,0)=VLOOKUP(F59,Liste!E55:O276,11,0)),1,0)","v":{"$error":"#N/A"}}]
[52,{"$f":"IF(VLOOKUP(F60,Liste!E$2:F277,2,0)<VLOOKUP(F60,Liste!E56:J277,6,0),2,0)","v":{"$error":"#N/A"}},{"$f":"IF(VLOOKUP(F60,Liste!E$2:G277,3,0)=VLOOKUP(F60,Liste!E56:N277,10,0),2,0)","v":{"$error":"#N/A"}},{"$f":"IF(VLOOKUP(F60,Liste!E$2:F277,2,0)=0,3,0)","v":{"$error":"#N/A"}},"●",{"$f":"IF($F$7=\"Obst und Gemüse\",VLOOKUP(A60,Liste!B$2:E277,4,0),IF($F$7=\"Lidl\",VLOOKUP(A60,Liste!C$2:E277,3,0)))","v":{"$error":"#N/A"}},{"$f":"IF(VLOOKUP(F60,Liste!E$2:F277,2,0)=VLOOKUP(F60,Liste!E54:N277,10,0),1,0)","v":{"$error":"#N/A"}},{"$f":"IF(AND(TODAY()<$H$8,VLOOKUP(F60,Liste!E$2:F277,2,0)=VLOOKUP(F60,Liste!E56:O277,11,0)),1,0)","v":{"$error":"#N/A"}},{"$f":"IF(AND(TODAY()<$I$8,VLOOKUP(F60,Liste!E$2:G277,3,0)=VLOOKUP(F60,Liste!E56:O277,11,0)),1,0)","v":{"$error":"#N/A"}}]