{"text_format":"1","workbook":"xlsx","n_sheets":2,"sheets":["Daten ","Januar 2025 "],"not_rendered":{"charts":0,"images":1,"macros":1,"external_links":1,"defined_names":2,"comments":0,"pivot_tables":0},"unopened":[],"bounds":{"document_bytes":16777216,"sheet_cells":100000,"rows_first":2000,"rows_last":500,"rows_between":2000,"halvings":0,"cell_chars":16384,"cell_head_chars":4096},"cells_cut":0,"cells_raw":0,"read":"whole","date_system":"1900"}

{"sheet":"Daten ","index":0,"n_rows":102,"n_cols":20,"rows_kept":102,"cut":false,"hidden":false,"merged":[]}
[]
[]
[]
[]
[null,null," "]
[]
["Nr.",null,"Name des Kindes","w/m ","Status","Zuordnung ",null,"Offene Einheiten ","Januar","Februar","März ","April","Mai","Juni","Juli","August","September","Oktober","November","Dezember"]
[1,null,"Klient 1","m",null,null,null,null,{"$f":"'[1]Januar 2025 '!AN15","v":5},{"$f":"'[1]Februar 2025'!AN56","v":0},{"$f":"'[1]März 2025'!AN15","v":0},{"$f":"'[1]April 2025'!AN15","v":0},{"$f":"'[1]Mai 2025'!AN15","v":0},{"$f":"'[1]Juni 2025'!AN15","v":0},{"$f":"'[1]Juli 2025'!AN15","v":0},{"$f":"'[1]August 2025'!AN15","v":0},{"$f":"'[1]September 2025'!AN15","v":0},{"$f":"'[1]Oktober 2025'!AN15","v":0},{"$f":"'[1]November 2025'!AN15","v":0},{"$f":"'[1]Dezember 2025'!AN15","v":0}]
[2,null,"Klient 2","m",null,null,null,null,{"$f":"'[1]Januar 2025 '!AN16","v":0},{"$f":"'[1]Februar 2025'!AN57","v":0},{"$f":"'[1]März 2025'!AN16","v":0},{"$f":"'[1]April 2025'!AN16","v":0},{"$f":"'[1]Mai 2025'!AN16","v":0},{"$f":"'[1]Juni 2025'!AN16","v":0},{"$f":"'[1]Juli 2025'!AN16","v":0},{"$f":"'[1]August 2025'!AN16","v":0},{"$f":"'[1]September 2025'!AN16","v":0},{"$f":"'[1]Oktober 2025'!AN16","v":0},{"$f":"'[1]November 2025'!AN16","v":0},{"$f":"'[1]Dezember 2025'!AN16","v":0}]
[3,null,"Klient 3","m",null,null,null,null,{"$f":"'[1]Januar 2025 '!AN17","v":0},{"$f":"'[1]Februar 2025'!AN58","v":0},{"$f":"'[1]März 2025'!AN17","v":0},{"$f":"'[1]April 2025'!AN17","v":0},{"$f":"'[1]Mai 2025'!AN17","v":0},{"$f":"'[1]Juni 2025'!AN17","v":0},{"$f":"'[1]Juli 2025'!AN17","v":0},{"$f":"'[1]August 2025'!AN17","v":0},{"$f":"'[1]September 2025'!AN17","v":0},{"$f":"'[1]Oktober 2025'!AN17","v":0},{"$f":"'[1]November 2025'!AN17","v":0},{"$f":"'[1]Dezember 2025'!AN17","v":0}]
[4,null,"Klient 4","w",null,null,null,null,{"$f":"'[1]Januar 2025 '!AN18","v":0},{"$f":"'[1]Februar 2025'!AN59","v":0},{"$f":"'[1]März 2025'!AN18","v":0},{"$f":"'[1]April 2025'!AN18","v":0},{"$f":"'[1]Mai 2025'!AN18","v":0},{"$f":"'[1]Juni 2025'!AN18","v":0},{"$f":"'[1]Juli 2025'!AN18","v":0},{"$f":"'[1]August 2025'!AN18","v":0},{"$f":"'[1]September 2025'!AN18","v":0},{"$f":"'[1]Oktober 2025'!AN18","v":0},{"$f":"'[1]November 2025'!AN18","v":0},{"$f":"'[1]Dezember 2025'!AN18","v":0}]
[5,null,"Klient 5","w",null,null,null,null,{"$f":"'[1]Januar 2025 '!AN19","v":0},{"$f":"'[1]Februar 2025'!AN60","v":0},{"$f":"'[1]März 2025'!AN19","v":0},{"$f":"'[1]April 2025'!AN19","v":0},{"$f":"'[1]Mai 2025'!AN19","v":0},{"$f":"'[1]Juni 2025'!AN19","v":0},{"$f":"'[1]Juli 2025'!AN19","v":0},{"$f":"'[1]August 2025'!AN19","v":0},{"$f":"'[1]September 2025'!AN19","v":0},{"$f":"'[1]Oktober 2025'!AN19","v":0},{"$f":"'[1]November 2025'!AN19","v":0},{"$f":"'[1]Dezember 2025'!AN19","v":0}]
[6,null,"Klient 6","w",null,null,null,null,{"$f":"'[1]Januar 2025 '!AN20","v":4},{"$f":"'[1]Februar 2025'!AN61","v":0},{"$f":"'[1]März 2025'!AN20","v":0},{"$f":"'[1]April 2025'!AN20","v":0},{"$f":"'[1]Mai 2025'!AN20","v":0},{"$f":"'[1]Juni 2025'!AN20","v":0},{"$f":"'[1]Juli 2025'!AN20","v":0},{"$f":"'[1]August 2025'!AN20","v":0},{"$f":"'[1]September 2025'!AN20","v":0},{"$f":"'[1]Oktober 2025'!AN20","v":0},{"$f":"'[1]November 2025'!AN20","v":0},{"$f":"'[1]Dezember 2025'!AN20","v":0}]
[7,null,"Klient 7","w",null,null,null,null,{"$f":"'[1]Januar 2025 '!AN21","v":0},{"$f":"'[1]Februar 2025'!AN62","v":0},{"$f":"'[1]März 2025'!AN21","v":0},{"$f":"'[1]April 2025'!AN21","v":0},{"$f":"'[1]Mai 2025'!AN21","v":0},{"$f":"'[1]Juni 2025'!AN21","v":0},{"$f":"'[1]Juli 2025'!AN21","v":0},{"$f":"'[1]August 2025'!AN21","v":0},{"$f":"'[1]September 2025'!AN21","v":0},{"$f":"'[1]Oktober 2025'!AN21","v":0},{"$f":"'[1]November 2025'!AN21","v":0},{"$f":"'[1]Dezember 2025'!AN21","v":0}]
[8,null,"Klient 8","m",null,null,null,null,{"$f":"'[1]Januar 2025 '!AN22","v":0},{"$f":"'[1]Februar 2025'!AN63","v":0},{"$f":"'[1]März 2025'!AN22","v":0},{"$f":"'[1]April 2025'!AN22","v":0},{"$f":"'[1]Mai 2025'!AN22","v":0},{"$f":"'[1]Juni 2025'!AN22","v":0},{"$f":"'[1]Juli 2025'!AN22","v":0},{"$f":"'[1]August 2025'!AN22","v":0},{"$f":"'[1]September 2025'!AN22","v":0},{"$f":"'[1]Oktober 2025'!AN22","v":0},{"$f":"'[1]November 2025'!AN22","v":0},{"$f":"'[1]Dezember 2025'!AN22","v":0}]
[9,null,"Klient 9","m",null,null,null,null,{"$f":"'[1]Januar 2025 '!AN23","v":0},{"$f":"'[1]Februar 2025'!AN64","v":0},{"$f":"'[1]März 2025'!AN23","v":0},{"$f":"'[1]April 2025'!AN23","v":0},{"$f":"'[1]Mai 2025'!AN23","v":0},{"$f":"'[1]Juni 2025'!AN23","v":0},{"$f":"'[1]Juli 2025'!AN23","v":0},{"$f":"'[1]August 2025'!AN23","v":0},{"$f":"'[1]September 2025'!AN23","v":0},{"$f":"'[1]Oktober 2025'!AN23","v":0},{"$f":"'[1]November 2025'!AN23","v":0},{"$f":"'[1]Dezember 2025'!AN23","v":0}]
[10,null,"Klient 10","w",null,null,null,null,{"$f":"'[1]Januar 2025 '!AN24","v":0},{"$f":"'[1]Februar 2025'!AN65","v":0},{"$f":"'[1]März 2025'!AN24","v":0},{"$f":"'[1]April 2025'!AN24","v":0},{"$f":"'[1]Mai 2025'!AN24","v":0},{"$f":"'[1]Juni 2025'!AN24","v":0},{"$f":"'[1]Juli 2025'!AN24","v":0},{"$f":"'[1]August 2025'!AN24","v":0},{"$f":"'[1]September 2025'!AN24","v":0},{"$f":"'[1]Oktober 2025'!AN24","v":0},{"$f":"'[1]November 2025'!AN24","v":0},{"$f":"'[1]Dezember 2025'!AN24","v":0}]
[11,null,"Klient 11","w",null,null,null,null,{"$f":"'[1]Januar 2025 '!AN25","v":0},{"$f":"'[1]Februar 2025'!AN66","v":0},{"$f":"'[1]März 2025'!AN25","v":0},{"$f":"'[1]April 2025'!AN25","v":0},{"$f":"'[1]Mai 2025'!AN25","v":0},{"$f":"'[1]Juni 2025'!AN25","v":0},{"$f":"'[1]Juli 2025'!AN25","v":0},{"$f":"'[1]August 2025'!AN25","v":0},{"$f":"'[1]September 2025'!AN25","v":0},{"$f":"'[1]Oktober 2025'!AN25","v":0},{"$f":"'[1]November 2025'!AN25","v":0},{"$f":"'[1]Dezember 2025'!AN25","v":0}]
[12,null,null,null,null,null,null,null,{"$f":"'[1]Januar 2025 '!AN26","v":0},{"$f":"'[1]Februar 2025'!AN67","v":0},{"$f":"'[1]März 2025'!AN26","v":0},{"$f":"'[1]April 2025'!AN26","v":0},{"$f":"'[1]Mai 2025'!AN26","v":0},{"$f":"'[1]Juni 2025'!AN26","v":0},{"$f":"'[1]Juli 2025'!AN26","v":0},{"$f":"'[1]August 2025'!AN26","v":0},{"$f":"'[1]September 2025'!AN26","v":0},{"$f":"'[1]Oktober 2025'!AN26","v":0},{"$f":"'[1]November 2025'!AN26","v":0},{"$f":"'[1]Dezember 2025'!AN26","v":0}]
[13,null,null,null,null,null,null,null,{"$f":"'[1]Januar 2025 '!AN27","v":0},{"$f":"'[1]Februar 2025'!AN68","v":0},{"$f":"'[1]März 2025'!AN27","v":0},{"$f":"'[1]April 2025'!AN27","v":0},{"$f":"'[1]Mai 2025'!AN27","v":0},{"$f":"'[1]Juni 2025'!AN27","v":0},{"$f":"'[1]Juli 2025'!AN27","v":0},{"$f":"'[1]August 2025'!AN27","v":0},{"$f":"'[1]September 2025'!AN27","v":0},{"$f":"'[1]Oktober 2025'!AN27","v":0},{"$f":"'[1]November 2025'!AN27","v":0},{"$f":"'[1]Dezember 2025'!AN27","v":0}]
[14,null,null,null,null,null,null,null,{"$f":"'[1]Januar 2025 '!AN28","v":0},{"$f":"'[1]Februar 2025'!AN69","v":0},{"$f":"'[1]März 2025'!AN28","v":0},{"$f":"'[1]April 2025'!AN28","v":0},{"$f":"'[1]Mai 2025'!AN28","v":0},{"$f":"'[1]Juni 2025'!AN28","v":0},{"$f":"'[1]Juli 2025'!AN28","v":0},{"$f":"'[1]August 2025'!AN28","v":0},{"$f":"'[1]September 2025'!AN28","v":0},{"$f":"'[1]Oktober 2025'!AN28","v":0},{"$f":"'[1]November 2025'!AN28","v":0},{"$f":"'[1]Dezember 2025'!AN28","v":0}]
[15,null,null,null,null,null,null,null,{"$f":"'[1]Januar 2025 '!AN29","v":0},{"$f":"'[1]Februar 2025'!AN70","v":0},{"$f":"'[1]März 2025'!AN29","v":0},{"$f":"'[1]April 2025'!AN29","v":0},{"$f":"'[1]Mai 2025'!AN29","v":0},{"$f":"'[1]Juni 2025'!AN29","v":0},{"$f":"'[1]Juli 2025'!AN29","v":0},{"$f":"'[1]August 2025'!AN29","v":0},{"$f":"'[1]September 2025'!AN29","v":0},{"$f":"'[1]Oktober 2025'!AN29","v":0},{"$f":"'[1]November 2025'!AN29","v":0},{"$f":"'[1]Dezember 2025'!AN29","v":0}]
[16,null,null,null,null,null,null,null,{"$f":"'[1]Januar 2025 '!AN30","v":0},{"$f":"'[1]Februar 2025'!AN71","v":0},{"$f":"'[1]März 2025'!AN30","v":0},{"$f":"'[1]April 2025'!AN30","v":0},{"$f":"'[1]Mai 2025'!AN30","v":0},{"$f":"'[1]Juni 2025'!AN30","v":0},{"$f":"'[1]Juli 2025'!AN30","v":0},{"$f":"'[1]August 2025'!AN30","v":0},{"$f":"'[1]September 2025'!AN30","v":0},{"$f":"'[1]Oktober 2025'!AN30","v":0},{"$f":"'[1]November 2025'!AN30","v":0},{"$f":"'[1]Dezember 2025'!AN30","v":0}]
[17,null,null,null,null,null,null,null,{"$f":"'[1]Januar 2025 '!AN31","v":0},{"$f":"'[1]Februar 2025'!AN72","v":0},{"$f":"'[1]März 2025'!AN31","v":0},{"$f":"'[1]April 2025'!AN31","v":0},{"$f":"'[1]Mai 2025'!AN31","v":0},{"$f":"'[1]Juni 2025'!AN31","v":0},{"$f":"'[1]Juli 2025'!AN31","v":0},{"$f":"'[1]August 2025'!AN31","v":0},{"$f":"'[1]September 2025'!AN31","v":0},{"$f":"'[1]Oktober 2025'!AN31","v":0},{"$f":"'[1]November 2025'!AN31","v":0},{"$f":"'[1]Dezember 2025'!AN31","v":0}]
[18,null,null,null,null,null,null,null,{"$f":"'[1]Januar 2025 '!AN32","v":0},{"$f":"'[1]Februar 2025'!AN73","v":0},{"$f":"'[1]März 2025'!AN32","v":0},{"$f":"'[1]April 2025'!AN32","v":0},{"$f":"'[1]Mai 2025'!AN32","v":0},{"$f":"'[1]Juni 2025'!AN32","v":0},{"$f":"'[1]Juli 2025'!AN32","v":0},{"$f":"'[1]August 2025'!AN32","v":0},{"$f":"'[1]September 2025'!AN32","v":0},{"$f":"'[1]Oktober 2025'!AN32","v":0},{"$f":"'[1]November 2025'!AN32","v":0},{"$f":"'[1]Dezember 2025'!AN32","v":0}]
[19,null,null,null,null,null,null,null,{"$f":"'[1]Januar 2025 '!AN33","v":0},{"$f":"'[1]Februar 2025'!AN74","v":0},{"$f":"'[1]März 2025'!AN33","v":0},{"$f":"'[1]April 2025'!AN33","v":0},{"$f":"'[1]Mai 2025'!AN33","v":0},{"$f":"'[1]Juni 2025'!AN33","v":0},{"$f":"'[1]Juli 2025'!AN33","v":0},{"$f":"'[1]August 2025'!AN33","v":0},{"$f":"'[1]September 2025'!AN33","v":0},{"$f":"'[1]Oktober 2025'!AN33","v":0},{"$f":"'[1]November 2025'!AN33","v":0},{"$f":"'[1]Dezember 2025'!AN33","v":0}]
[20,null,null,null,null,null,null,null,{"$f":"'[1]Januar 2025 '!AN34","v":0},{"$f":"'[1]Februar 2025'!AN75","v":0},{"$f":"'[1]März 2025'!AN34","v":0},{"$f":"'[1]April 2025'!AN34","v":0},{"$f":"'[1]Mai 2025'!AN34","v":0},{"$f":"'[1]Juni 2025'!AN34","v":0},{"$f":"'[1]Juli 2025'!AN34","v":0},{"$f":"'[1]August 2025'!AN34","v":0},{"$f":"'[1]September 2025'!AN34","v":0},{"$f":"'[1]Oktober 2025'!AN34","v":0},{"$f":"'[1]November 2025'!AN34","v":0},{"$f":"'[1]Dezember 2025'!AN34","v":0}]
[21,null,null,null,null,null,null,null,{"$f":"'[1]Januar 2025 '!AN35","v":0},{"$f":"'[1]Februar 2025'!AN76","v":0},{"$f":"'[1]März 2025'!AN35","v":0},{"$f":"'[1]April 2025'!AN35","v":0},{"$f":"'[1]Mai 2025'!AN35","v":0},{"$f":"'[1]Juni 2025'!AN35","v":0},{"$f":"'[1]Juli 2025'!AN35","v":0},{"$f":"'[1]August 2025'!AN35","v":0},{"$f":"'[1]September 2025'!AN35","v":0},{"$f":"'[1]Oktober 2025'!AN35","v":0},{"$f":"'[1]November 2025'!AN35","v":0},{"$f":"'[1]Dezember 2025'!AN35","v":0}]
[22,null,null,null,null,null,null,null,{"$f":"'[1]Januar 2025 '!AN36","v":0},{"$f":"'[1]Februar 2025'!AN77","v":0},{"$f":"'[1]März 2025'!AN36","v":0},{"$f":"'[1]April 2025'!AN36","v":0},{"$f":"'[1]Mai 2025'!AN36","v":0},{"$f":"'[1]Juni 2025'!AN36","v":0},{"$f":"'[1]Juli 2025'!AN36","v":0},{"$f":"'[1]August 2025'!AN36","v":0},{"$f":"'[1]September 2025'!AN36","v":0},{"$f":"'[1]Oktober 2025'!AN36","v":0},{"$f":"'[1]November 2025'!AN36","v":0},{"$f":"'[1]Dezember 2025'!AN36","v":0}]
[23,null,null,null,null,null,null,null,{"$f":"'[1]Januar 2025 '!AN37","v":0},{"$f":"'[1]Februar 2025'!AN78","v":0},{"$f":"'[1]März 2025'!AN37","v":0},{"$f":"'[1]April 2025'!AN37","v":0},{"$f":"'[1]Mai 2025'!AN37","v":0},{"$f":"'[1]Juni 2025'!AN37","v":0},{"$f":"'[1]Juli 2025'!AN37","v":0},{"$f":"'[1]August 2025'!AN37","v":0},{"$f":"'[1]September 2025'!AN37","v":0},{"$f":"'[1]Oktober 2025'!AN37","v":0},{"$f":"'[1]November 2025'!AN37","v":0},{"$f":"'[1]Dezember 2025'!AN37","v":0}]
[24,null,null,null,null,null,null,null,{"$f":"'[1]Januar 2025 '!AN38","v":0},{"$f":"'[1]Februar 2025'!AN79","v":0},{"$f":"'[1]März 2025'!AN38","v":0},{"$f":"'[1]April 2025'!AN38","v":0},{"$f":"'[1]Mai 2025'!AN38","v":0},{"$f":"'[1]Juni 2025'!AN38","v":0},{"$f":"'[1]Juli 2025'!AN38","v":0},{"$f":"'[1]August 2025'!AN38","v":0},{"$f":"'[1]September 2025'!AN38","v":0},{"$f":"'[1]Oktober 2025'!AN38","v":0},{"$f":"'[1]November 2025'!AN38","v":0},{"$f":"'[1]Dezember 2025'!AN38","v":0}]
[25,null,null,null,null,null,null,null,{"$f":"'[1]Januar 2025 '!AN39","v":0},{"$f":"'[1]Februar 2025'!AN80","v":0},{"$f":"'[1]März 2025'!AN39","v":0},{"$f":"'[1]April 2025'!AN39","v":0},{"$f":"'[1]Mai 2025'!AN39","v":0},{"$f":"'[1]Juni 2025'!AN39","v":0},{"$f":"'[1]Juli 2025'!AN39","v":0},{"$f":"'[1]August 2025'!AN39","v":0},{"$f":"'[1]September 2025'!AN39","v":0},{"$f":"'[1]Oktober 2025'!AN39","v":0},{"$f":"'[1]November 2025'!AN39","v":0},{"$f":"'[1]Dezember 2025'!AN39","v":0}]
[26,null,null,null,null,null,null,null,{"$f":"'[1]Januar 2025 '!AN40","v":0},{"$f":"'[1]Februar 2025'!AN81","v":0},{"$f":"'[1]März 2025'!AN40","v":0},{"$f":"'[1]April 2025'!AN40","v":0},{"$f":"'[1]Mai 2025'!AN40","v":0},{"$f":"'[1]Juni 2025'!AN40","v":0},{"$f":"'[1]Juli 2025'!AN40","v":0},{"$f":"'[1]August 2025'!AN40","v":0},{"$f":"'[1]September 2025'!AN40","v":0},{"$f":"'[1]Oktober 2025'!AN40","v":0},{"$f":"'[1]November 2025'!AN40","v":0},{"$f":"'[1]Dezember 2025'!AN40","v":0}]
[27,null,null,null,null,null,null,null,{"$f":"'[1]Januar 2025 '!AN41","v":0},{"$f":"'[1]Februar 2025'!AN82","v":0},{"$f":"'[1]März 2025'!AN41","v":0},{"$f":"'[1]April 2025'!AN41","v":0},{"$f":"'[1]Mai 2025'!AN41","v":0},{"$f":"'[1]Juni 2025'!AN41","v":0},{"$f":"'[1]Juli 2025'!AN41","v":0},{"$f":"'[1]August 2025'!AN41","v":0},{"$f":"'[1]September 2025'!AN41","v":0},{"$f":"'[1]Oktober 2025'!AN41","v":0},{"$f":"'[1]November 2025'!AN41","v":0},{"$f":"'[1]Dezember 2025'!AN41","v":0}]
[28,null,null,null,null,null,null,null,{"$f":"'[1]Januar 2025 '!AN42","v":0},{"$f":"'[1]Februar 2025'!AN83","v":0},{"$f":"'[1]März 2025'!AN42","v":0},{"$f":"'[1]April 2025'!AN42","v":0},{"$f":"'[1]Mai 2025'!AN42","v":0},{"$f":"'[1]Juni 2025'!AN42","v":0},{"$f":"'[1]Juli 2025'!AN42","v":0},{"$f":"'[1]August 2025'!AN42","v":0},{"$f":"'[1]September 2025'!AN42","v":0},{"$f":"'[1]Oktober 2025'!AN42","v":0},{"$f":"'[1]November 2025'!AN42","v":0},{"$f":"'[1]Dezember 2025'!AN42","v":0}]
[29,null,null,null,null,null,null,null,{"$f":"'[1]Januar 2025 '!AN43","v":0},{"$f":"'[1]Februar 2025'!AN84","v":0},{"$f":"'[1]März 2025'!AN43","v":0},{"$f":"'[1]April 2025'!AN43","v":0},{"$f":"'[1]Mai 2025'!AN43","v":0},{"$f":"'[1]Juni 2025'!AN43","v":0},{"$f":"'[1]Juli 2025'!AN43","v":0},{"$f":"'[1]August 2025'!AN43","v":0},{"$f":"'[1]September 2025'!AN43","v":0},{"$f":"'[1]Oktober 2025'!AN43","v":0},{"$f":"'[1]November 2025'!AN43","v":0},{"$f":"'[1]Dezember 2025'!AN43","v":0}]
[30,null,null,null,null,null,null,null,{"$f":"'[1]Januar 2025 '!AN44","v":0},{"$f":"'[1]Februar 2025'!AN85","v":0},{"$f":"'[1]März 2025'!AN44","v":0},{"$f":"'[1]April 2025'!AN44","v":0},{"$f":"'[1]Mai 2025'!AN44","v":0},{"$f":"'[1]Juni 2025'!AN44","v":0},{"$f":"'[1]Juli 2025'!AN44","v":0},{"$f":"'[1]August 2025'!AN44","v":0},{"$f":"'[1]September 2025'!AN44","v":0},{"$f":"'[1]Oktober 2025'!AN44","v":0},{"$f":"'[1]November 2025'!AN44","v":0},{"$f":"'[1]Dezember 2025'!AN44","v":0}]
[31,null,null,null,null,null,null,null,{"$f":"'[1]Januar 2025 '!AN45","v":0},{"$f":"'[1]Februar 2025'!AN86","v":0},{"$f":"'[1]März 2025'!AN45","v":0},{"$f":"'[1]April 2025'!AN45","v":0},{"$f":"'[1]Mai 2025'!AN45","v":0},{"$f":"'[1]Juni 2025'!AN45","v":0},{"$f":"'[1]Juli 2025'!AN45","v":0},{"$f":"'[1]August 2025'!AN45","v":0},{"$f":"'[1]September 2025'!AN45","v":0},{"$f":"'[1]Oktober 2025'!AN45","v":0},{"$f":"'[1]November 2025'!AN45","v":0},{"$f":"'[1]Dezember 2025'!AN45","v":0}]
[32,null,null,null,null,null,null,null,{"$f":"'[1]Januar 2025 '!AN46","v":0},{"$f":"'[1]Februar 2025'!AN87","v":0},{"$f":"'[1]März 2025'!AN46","v":0},{"$f":"'[1]April 2025'!AN46","v":0},{"$f":"'[1]Mai 2025'!AN46","v":0},{"$f":"'[1]Juni 2025'!AN46","v":0},{"$f":"'[1]Juli 2025'!AN46","v":0},{"$f":"'[1]August 2025'!AN46","v":0},{"$f":"'[1]September 2025'!AN46","v":0},{"$f":"'[1]Oktober 2025'!AN46","v":0},{"$f":"'[1]November 2025'!AN46","v":0},{"$f":"'[1]Dezember 2025'!AN46","v":0}]
[33,null,null,null,null,null,null,null,{"$f":"'[1]Januar 2025 '!AN47","v":0},{"$f":"'[1]Februar 2025'!AN88","v":0},{"$f":"'[1]März 2025'!AN47","v":0},{"$f":"'[1]April 2025'!AN47","v":0},{"$f":"'[1]Mai 2025'!AN47","v":0},{"$f":"'[1]Juni 2025'!AN47","v":0},{"$f":"'[1]Juli 2025'!AN47","v":0},{"$f":"'[1]August 2025'!AN47","v":0},{"$f":"'[1]September 2025'!AN47","v":0},{"$f":"'[1]Oktober 2025'!AN47","v":0},{"$f":"'[1]November 2025'!AN47","v":0},{"$f":"'[1]Dezember 2025'!AN47","v":0}]
[34,null,null,null,null,null,null,null,{"$f":"'[1]Januar 2025 '!AN48","v":0},{"$f":"'[1]Februar 2025'!AN89","v":0},{"$f":"'[1]März 2025'!AN48","v":0},{"$f":"'[1]April 2025'!AN48","v":0},{"$f":"'[1]Mai 2025'!AN48","v":0},{"$f":"'[1]Juni 2025'!AN48","v":0},{"$f":"'[1]Juli 2025'!AN48","v":0},{"$f":"'[1]August 2025'!AN48","v":0},{"$f":"'[1]September 2025'!AN48","v":0},{"$f":"'[1]Oktober 2025'!AN48","v":0},{"$f":"'[1]November 2025'!AN48","v":0},{"$f":"'[1]Dezember 2025'!AN48","v":0}]
[35,null,null,null,null,null,null,null,{"$f":"'[1]Januar 2025 '!AN49","v":0},{"$f":"'[1]Februar 2025'!AN90","v":0},{"$f":"'[1]März 2025'!AN49","v":0},{"$f":"'[1]April 2025'!AN49","v":0},{"$f":"'[1]Mai 2025'!AN49","v":0},{"$f":"'[1]Juni 2025'!AN49","v":0},{"$f":"'[1]Juli 2025'!AN49","v":0},{"$f":"'[1]August 2025'!AN49","v":0},{"$f":"'[1]September 2025'!AN49","v":0},{"$f":"'[1]Oktober 2025'!AN49","v":0},{"$f":"'[1]November 2025'!AN49","v":0},{"$f":"'[1]Dezember 2025'!AN49","v":0}]
[36,null,null,null,null,null,null,null,{"$f":"'[1]Januar 2025 '!AN50","v":0},{"$f":"'[1]Februar 2025'!AN91","v":0},{"$f":"'[1]März 2025'!AN50","v":0},{"$f":"'[1]April 2025'!AN50","v":0},{"$f":"'[1]Mai 2025'!AN50","v":0},{"$f":"'[1]Juni 2025'!AN50","v":0},{"$f":"'[1]Juli 2025'!AN50","v":0},{"$f":"'[1]August 2025'!AN50","v":0},{"$f":"'[1]September 2025'!AN50","v":0},{"$f":"'[1]Oktober 2025'!AN50","v":0},{"$f":"'[1]November 2025'!AN50","v":0},{"$f":"'[1]Dezember 2025'!AN50","v":0}]
[37,null,null,null,null,null,null,null,{"$f":"'[1]Januar 2025 '!AN51","v":0},{"$f":"'[1]Februar 2025'!AN92","v":0},{"$f":"'[1]März 2025'!AN51","v":0},{"$f":"'[1]April 2025'!AN51","v":0},{"$f":"'[1]Mai 2025'!AN51","v":0},{"$f":"'[1]Juni 2025'!AN51","v":0},{"$f":"'[1]Juli 2025'!AN51","v":0},{"$f":"'[1]August 2025'!AN51","v":0},{"$f":"'[1]September 2025'!AN51","v":0},{"$f":"'[1]Oktober 2025'!AN51","v":0},{"$f":"'[1]November 2025'!AN51","v":0},{"$f":"'[1]Dezember 2025'!AN51","v":0}]
[38,null,null,null,null,null,null,null,{"$f":"'[1]Januar 2025 '!AN52","v":0},{"$f":"'[1]Februar 2025'!AN93","v":0},{"$f":"'[1]März 2025'!AN52","v":0},{"$f":"'[1]April 2025'!AN52","v":0},{"$f":"'[1]Mai 2025'!AN52","v":0},{"$f":"'[1]Juni 2025'!AN52","v":0},{"$f":"'[1]Juli 2025'!AN52","v":0},{"$f":"'[1]August 2025'!AN52","v":0},{"$f":"'[1]September 2025'!AN52","v":0},{"$f":"'[1]Oktober 2025'!AN52","v":0},{"$f":"'[1]November 2025'!AN52","v":0},{"$f":"'[1]Dezember 2025'!AN52","v":0}]
[39,null,null,null,null,null,null,null,{"$f":"'[1]Januar 2025 '!AN53","v":0},{"$f":"'[1]Februar 2025'!AN94","v":0},{"$f":"'[1]März 2025'!AN53","v":0},{"$f":"'[1]April 2025'!AN53","v":0},{"$f":"'[1]Mai 2025'!AN53","v":0},{"$f":"'[1]Juni 2025'!AN53","v":0},{"$f":"'[1]Juli 2025'!AN53","v":0},{"$f":"'[1]August 2025'!AN53","v":0},{"$f":"'[1]September 2025'!AN53","v":0},{"$f":"'[1]Oktober 2025'!AN53","v":0},{"$f":"'[1]November 2025'!AN53","v":0},{"$f":"'[1]Dezember 2025'!AN53","v":0}]
[40,null,null,null,null,null,null,null,{"$f":"'[1]Januar 2025 '!AN54","v":0},{"$f":"'[1]Februar 2025'!AN95","v":0},{"$f":"'[1]März 2025'!AN54","v":0},{"$f":"'[1]April 2025'!AN54","v":0},{"$f":"'[1]Mai 2025'!AN54","v":0},{"$f":"'[1]Juni 2025'!AN54","v":0},{"$f":"'[1]Juli 2025'!AN54","v":0},{"$f":"'[1]August 2025'!AN54","v":0},{"$f":"'[1]September 2025'!AN54","v":0},{"$f":"'[1]Oktober 2025'!AN54","v":0},{"$f":"'[1]November 2025'!AN54","v":0},{"$f":"'[1]Dezember 2025'!AN54","v":0}]
[41,null,null,null,null,null,null,null,{"$f":"'[1]Januar 2025 '!AN55","v":0},{"$f":"'[1]Februar 2025'!AN96","v":0},{"$f":"'[1]März 2025'!AN55","v":0},{"$f":"'[1]April 2025'!AN55","v":0},{"$f":"'[1]Mai 2025'!AN55","v":0},{"$f":"'[1]Juni 2025'!AN55","v":0},{"$f":"'[1]Juli 2025'!AN55","v":0},{"$f":"'[1]August 2025'!AN55","v":0},{"$f":"'[1]September 2025'!AN55","v":0},{"$f":"'[1]Oktober 2025'!AN55","v":0},{"$f":"'[1]November 2025'!AN55","v":0},{"$f":"'[1]Dezember 2025'!AN55","v":0}]
[42,null,null,null,null,null,null,null,{"$f":"'[1]Januar 2025 '!AN56","v":0},{"$f":"'[1]Februar 2025'!AN97","v":0},{"$f":"'[1]März 2025'!AN56","v":0},{"$f":"'[1]April 2025'!AN56","v":0},{"$f":"'[1]Mai 2025'!AN56","v":0},{"$f":"'[1]Juni 2025'!AN56","v":0},{"$f":"'[1]Juli 2025'!AN56","v":0},{"$f":"'[1]August 2025'!AN56","v":0},{"$f":"'[1]September 2025'!AN56","v":0},{"$f":"'[1]Oktober 2025'!AN56","v":0},{"$f":"'[1]November 2025'!AN56","v":0},{"$f":"'[1]Dezember 2025'!AN56","v":0}]
[43,null,null,null,null,null,null,null,{"$f":"'[1]Januar 2025 '!AN57","v":0},{"$f":"'[1]Februar 2025'!AN98","v":0},{"$f":"'[1]März 2025'!AN57","v":0},{"$f":"'[1]April 2025'!AN57","v":0},{"$f":"'[1]Mai 2025'!AN57","v":0},{"$f":"'[1]Juni 2025'!AN57","v":0},{"$f":"'[1]Juli 2025'!AN57","v":0},{"$f":"'[1]August 2025'!AN57","v":0},{"$f":"'[1]September 2025'!AN57","v":0},{"$f":"'[1]Oktober 2025'!AN57","v":0},{"$f":"'[1]November 2025'!AN57","v":0},{"$f":"'[1]Dezember 2025'!AN57","v":0}]
[44,null,null,null,null,null,null,null,{"$f":"'[1]Januar 2025 '!AN58","v":0},{"$f":"'[1]Februar 2025'!AN99","v":0},{"$f":"'[1]März 2025'!AN58","v":0},{"$f":"'[1]April 2025'!AN58","v":0},{"$f":"'[1]Mai 2025'!AN58","v":0},{"$f":"'[1]Juni 2025'!AN58","v":0},{"$f":"'[1]Juli 2025'!AN58","v":0},{"$f":"'[1]August 2025'!AN58","v":0},{"$f":"'[1]September 2025'!AN58","v":0},{"$f":"'[1]Oktober 2025'!AN58","v":0},{"$f":"'[1]November 2025'!AN58","v":0},{"$f":"'[1]Dezember 2025'!AN58","v":0}]
[45,null,null,null,null,null,null,null,{"$f":"'[1]Januar 2025 '!AN59","v":0},{"$f":"'[1]Februar 2025'!AN100","v":0},{"$f":"'[1]März 2025'!AN59","v":0},{"$f":"'[1]April 2025'!AN59","v":0},{"$f":"'[1]Mai 2025'!AN59","v":0},{"$f":"'[1]Juni 2025'!AN59","v":0},{"$f":"'[1]Juli 2025'!AN59","v":0},{"$f":"'[1]August 2025'!AN59","v":0},{"$f":"'[1]September 2025'!AN59","v":0},{"$f":"'[1]Oktober 2025'!AN59","v":0},{"$f":"'[1]November 2025'!AN59","v":0},{"$f":"'[1]Dezember 2025'!AN59","v":0}]
[46,null,null,null,null,null,null,null,{"$f":"'[1]Januar 2025 '!AN60","v":0},{"$f":"'[1]Februar 2025'!AN101","v":0},{"$f":"'[1]März 2025'!AN60","v":0},{"$f":"'[1]April 2025'!AN60","v":0},{"$f":"'[1]Mai 2025'!AN60","v":0},{"$f":"'[1]Juni 2025'!AN60","v":0},{"$f":"'[1]Juli 2025'!AN60","v":0},{"$f":"'[1]August 2025'!AN60","v":0},{"$f":"'[1]September 2025'!AN60","v":0},{"$f":"'[1]Oktober 2025'!AN60","v":0},{"$f":"'[1]November 2025'!AN60","v":0},{"$f":"'[1]Dezember 2025'!AN60","v":0}]
[47,null,null,null,null,null,null,null,{"$f":"'[1]Januar 2025 '!AN61","v":0},{"$f":"'[1]Februar 2025'!AN102","v":0},{"$f":"'[1]März 2025'!AN61","v":0},{"$f":"'[1]April 2025'!AN61","v":0},{"$f":"'[1]Mai 2025'!AN61","v":0},{"$f":"'[1]Juni 2025'!AN61","v":0},{"$f":"'[1]Juli 2025'!AN61","v":0},{"$f":"'[1]August 2025'!AN61","v":0},{"$f":"'[1]September 2025'!AN61","v":0},{"$f":"'[1]Oktober 2025'!AN61","v":0},{"$f":"'[1]November 2025'!AN61","v":0},{"$f":"'[1]Dezember 2025'!AN61","v":0}]
[48,null,null,null,null,null,null,null,{"$f":"'[1]Januar 2025 '!AN62","v":0},{"$f":"'[1]Februar 2025'!AN103","v":0},{"$f":"'[1]März 2025'!AN62","v":0},{"$f":"'[1]April 2025'!AN62","v":0},{"$f":"'[1]Mai 2025'!AN62","v":0},{"$f":"'[1]Juni 2025'!AN62","v":0},{"$f":"'[1]Juli 2025'!AN62","v":0},{"$f":"'[1]August 2025'!AN62","v":0},{"$f":"'[1]September 2025'!AN62","v":0},{"$f":"'[1]Oktober 2025'!AN62","v":0},{"$f":"'[1]November 2025'!AN62","v":0},{"$f":"'[1]Dezember 2025'!AN62","v":0}]
[49,null,null,null,null,null,null,null,{"$f":"'[1]Januar 2025 '!AN63","v":0},{"$f":"'[1]Februar 2025'!AN104","v":0},{"$f":"'[1]März 2025'!AN63","v":0},{"$f":"'[1]April 2025'!AN63","v":0},{"$f":"'[1]Mai 2025'!AN63","v":0},{"$f":"'[1]Juni 2025'!AN63","v":0},{"$f":"'[1]Juli 2025'!AN63","v":0},{"$f":"'[1]August 2025'!AN63","v":0},{"$f":"'[1]September 2025'!AN63","v":0},{"$f":"'[1]Oktober 2025'!AN63","v":0},{"$f":"'[1]November 2025'!AN63","v":0},{"$f":"'[1]Dezember 2025'!AN63","v":0}]
[50,null,null,null,null,null,null,null,{"$f":"'[1]Januar 2025 '!AN64","v":0},{"$f":"'[1]Februar 2025'!AN105","v":0},{"$f":"'[1]März 2025'!AN64","v":0},{"$f":"'[1]April 2025'!AN64","v":0},{"$f":"'[1]Mai 2025'!AN64","v":0},{"$f":"'[1]Juni 2025'!AN64","v":0},{"$f":"'[1]Juli 2025'!AN64","v":0},{"$f":"'[1]August 2025'!AN64","v":0},{"$f":"'[1]September 2025'!AN64","v":0},{"$f":"'[1]Oktober 2025'!AN64","v":0},{"$f":"'[1]November 2025'!AN64","v":0},{"$f":"'[1]Dezember 2025'!AN64","v":0}]
[51,null,null,null,null,null,null,null,{"$f":"'[1]Januar 2025 '!AN65","v":0},{"$f":"'[1]Februar 2025'!AN106","v":0},{"$f":"'[1]März 2025'!AN65","v":0},{"$f":"'[1]April 2025'!AN65","v":0},{"$f":"'[1]Mai 2025'!AN65","v":0},{"$f":"'[1]Juni 2025'!AN65","v":0},{"$f":"'[1]Juli 2025'!AN65","v":0},{"$f":"'[1]August 2025'!AN65","v":0},{"$f":"'[1]September 2025'!AN65","v":0},{"$f":"'[1]Oktober 2025'!AN65","v":0},{"$f":"'[1]November 2025'!AN65","v":0},{"$f":"'[1]Dezember 2025'!AN65","v":0}]
[52,null,null,null,null,null,null,null,{"$f":"'[1]Januar 2025 '!AN66","v":0},{"$f":"'[1]Februar 2025'!AN107","v":0},{"$f":"'[1]März 2025'!AN66","v":0},{"$f":"'[1]April 2025'!AN66","v":0},{"$f":"'[1]Mai 2025'!AN66","v":0},{"$f":"'[1]Juni 2025'!AN66","v":0},{"$f":"'[1]Juli 2025'!AN66","v":0},{"$f":"'[1]August 2025'!AN66","v":0},{"$f":"'[1]September 2025'!AN66","v":0},{"$f":"'[1]Oktober 2025'!AN66","v":0},{"$f":"'[1]November 2025'!AN66","v":0},{"$f":"'[1]Dezember 2025'!AN66","v":0}]
[53,null,null,null,null,null,null,null,{"$f":"'[1]Januar 2025 '!AN67","v":0},{"$f":"'[1]Februar 2025'!AN108","v":0},{"$f":"'[1]März 2025'!AN67","v":0},{"$f":"'[1]April 2025'!AN67","v":0},{"$f":"'[1]Mai 2025'!AN67","v":0},{"$f":"'[1]Juni 2025'!AN67","v":0},{"$f":"'[1]Juli 2025'!AN67","v":0},{"$f":"'[1]August 2025'!AN67","v":0},{"$f":"'[1]September 2025'!AN67","v":0},{"$f":"'[1]Oktober 2025'!AN67","v":0},{"$f":"'[1]November 2025'!AN67","v":0},{"$f":"'[1]Dezember 2025'!AN67","v":0}]
[54,null,null,null,null,null,null,null,{"$f":"'[1]Januar 2025 '!AN68","v":0},{"$f":"'[1]Februar 2025'!AN109","v":0},{"$f":"'[1]März 2025'!AN68","v":0},{"$f":"'[1]April 2025'!AN68","v":0},{"$f":"'[1]Mai 2025'!AN68","v":0},{"$f":"'[1]Juni 2025'!AN68","v":0},{"$f":"'[1]Juli 2025'!AN68","v":0},{"$f":"'[1]August 2025'!AN68","v":0},{"$f":"'[1]September 2025'!AN68","v":0},{"$f":"'[1]Oktober 2025'!AN68","v":0},{"$f":"'[1]November 2025'!AN68","v":0},{"$f":"'[1]Dezember 2025'!AN68","v":0}]
[55,null,null,null,null,null,null,null,{"$f":"'[1]Januar 2025 '!AN69","v":0},{"$f":"'[1]Februar 2025'!AN110","v":0},{"$f":"'[1]März 2025'!AN69","v":0},{"$f":"'[1]April 2025'!AN69","v":0},{"$f":"'[1]Mai 2025'!AN69","v":0},{"$f":"'[1]Juni 2025'!AN69","v":0},{"$f":"'[1]Juli 2025'!AN69","v":0},{"$f":"'[1]August 2025'!AN69","v":0},{"$f":"'[1]September 2025'!AN69","v":0},{"$f":"'[1]Oktober 2025'!AN69","v":0},{"$f":"'[1]November 2025'!AN69","v":0},{"$f":"'[1]Dezember 2025'!AN69","v":0}]
[56,null,null,null,null,null,null,null,{"$f":"'[1]Januar 2025 '!AN70","v":0},{"$f":"'[1]Februar 2025'!AN111","v":0},{"$f":"'[1]März 2025'!AN70","v":0},{"$f":"'[1]April 2025'!AN70","v":0},{"$f":"'[1]Mai 2025'!AN70","v":0},{"$f":"'[1]Juni 2025'!AN70","v":0},{"$f":"'[1]Juli 2025'!AN70","v":0},{"$f":"'[1]August 2025'!AN70","v":0},{"$f":"'[1]September 2025'!AN70","v":0},{"$f":"'[1]Oktober 2025'!AN70","v":0},{"$f":"'[1]November 2025'!AN70","v":0},{"$f":"'[1]Dezember 2025'!AN70","v":0}]
[57,null,null,null,null,null,null,null,{"$f":"'[1]Januar 2025 '!AN71","v":0},{"$f":"'[1]Februar 2025'!AN112","v":0},{"$f":"'[1]März 2025'!AN71","v":0},{"$f":"'[1]April 2025'!AN71","v":0},{"$f":"'[1]Mai 2025'!AN71","v":0},{"$f":"'[1]Juni 2025'!AN71","v":0},{"$f":"'[1]Juli 2025'!AN71","v":0},{"$f":"'[1]August 2025'!AN71","v":0},{"$f":"'[1]September 2025'!AN71","v":0},{"$f":"'[1]Oktober 2025'!AN71","v":0},{"$f":"'[1]November 2025'!AN71","v":0},{"$f":"'[1]Dezember 2025'!AN71","v":0}]
[58,null,null,null,null,null,null,null,{"$f":"'[1]Januar 2025 '!AN72","v":0},{"$f":"'[1]Februar 2025'!AN113","v":0},{"$f":"'[1]März 2025'!AN72","v":0},{"$f":"'[1]April 2025'!AN72","v":0},{"$f":"'[1]Mai 2025'!AN72","v":0},{"$f":"'[1]Juni 2025'!AN72","v":0},{"$f":"'[1]Juli 2025'!AN72","v":0},{"$f":"'[1]August 2025'!AN72","v":0},{"$f":"'[1]September 2025'!AN72","v":0},{"$f":"'[1]Oktober 2025'!AN72","v":0},{"$f":"'[1]November 2025'!AN72","v":0},{"$f":"'[1]Dezember 2025'!AN72","v":0}]
[59,null,null,null,null,null,null,null,{"$f":"'[1]Januar 2025 '!AN73","v":0},{"$f":"'[1]Februar 2025'!AN114","v":0},{"$f":"'[1]März 2025'!AN73","v":0},{"$f":"'[1]April 2025'!AN73","v":0},{"$f":"'[1]Mai 2025'!AN73","v":0},{"$f":"'[1]Juni 2025'!AN73","v":0},{"$f":"'[1]Juli 2025'!AN73","v":0},{"$f":"'[1]August 2025'!AN73","v":0},{"$f":"'[1]September 2025'!AN73","v":0},{"$f":"'[1]Oktober 2025'!AN73","v":0},{"$f":"'[1]November 2025'!AN73","v":0},{"$f":"'[1]Dezember 2025'!AN73","v":0}]
[60,null,null,null,null,null,null,null,{"$f":"'[1]Januar 2025 '!AN74","v":0},{"$f":"'[1]Februar 2025'!AN115","v":0},{"$f":"'[1]März 2025'!AN74","v":0},{"$f":"'[1]April 2025'!AN74","v":0},{"$f":"'[1]Mai 2025'!AN74","v":0},{"$f":"'[1]Juni 2025'!AN74","v":0},{"$f":"'[1]Juli 2025'!AN74","v":0},{"$f":"'[1]August 2025'!AN74","v":0},{"$f":"'[1]September 2025'!AN74","v":0},{"$f":"'[1]Oktober 2025'!AN74","v":0},{"$f":"'[1]November 2025'!AN74","v":0},{"$f":"'[1]Dezember 2025'!AN74","v":0}]
[61,null,null,null,null,null,null,null,{"$f":"'[1]Januar 2025 '!AN75","v":0},{"$f":"'[1]Februar 2025'!AN116","v":0},{"$f":"'[1]März 2025'!AN75","v":0},{"$f":"'[1]April 2025'!AN75","v":0},{"$f":"'[1]Mai 2025'!AN75","v":0},{"$f":"'[1]Juni 2025'!AN75","v":0},{"$f":"'[1]Juli 2025'!AN75","v":0},{"$f":"'[1]August 2025'!AN75","v":0},{"$f":"'[1]September 2025'!AN75","v":0},{"$f":"'[1]Oktober 2025'!AN75","v":0},{"$f":"'[1]November 2025'!AN75","v":0},{"$f":"'[1]Dezember 2025'!AN75","v":0}]
[62,null,null,null,null,null,null,null,{"$f":"'[1]Januar 2025 '!AN76","v":0},{"$f":"'[1]Februar 2025'!AN117","v":0},{"$f":"'[1]März 2025'!AN76","v":0},{"$f":"'[1]April 2025'!AN76","v":0},{"$f":"'[1]Mai 2025'!AN76","v":0},{"$f":"'[1]Juni 2025'!AN76","v":0},{"$f":"'[1]Juli 2025'!AN76","v":0},{"$f":"'[1]August 2025'!AN76","v":0},{"$f":"'[1]September 2025'!AN76","v":0},{"$f":"'[1]Oktober 2025'!AN76","v":0},{"$f":"'[1]November 2025'!AN76","v":0},{"$f":"'[1]Dezember 2025'!AN76","v":0}]
[63,null,null,null,null,null,null,null,{"$f":"'[1]Januar 2025 '!AN77","v":0},{"$f":"'[1]Februar 2025'!AN118","v":0},{"$f":"'[1]März 2025'!AN77","v":0},{"$f":"'[1]April 2025'!AN77","v":0},{"$f":"'[1]Mai 2025'!AN77","v":0},{"$f":"'[1]Juni 2025'!AN77","v":0},{"$f":"'[1]Juli 2025'!AN77","v":0},{"$f":"'[1]August 2025'!AN77","v":0},{"$f":"'[1]September 2025'!AN77","v":0},{"$f":"'[1]Oktober 2025'!AN77","v":0},{"$f":"'[1]November 2025'!AN77","v":0},{"$f":"'[1]Dezember 2025'!AN77","v":0}]
[64,null,null,null,null,null,null,null,{"$f":"'[1]Januar 2025 '!AN78","v":0},{"$f":"'[1]Februar 2025'!AN119","v":0},{"$f":"'[1]März 2025'!AN78","v":0},{"$f":"'[1]April 2025'!AN78","v":0},{"$f":"'[1]Mai 2025'!AN78","v":0},{"$f":"'[1]Juni 2025'!AN78","v":0},{"$f":"'[1]Juli 2025'!AN78","v":0},{"$f":"'[1]August 2025'!AN78","v":0},{"$f":"'[1]September 2025'!AN78","v":0},{"$f":"'[1]Oktober 2025'!AN78","v":0},{"$f":"'[1]November 2025'!AN78","v":0},{"$f":"'[1]Dezember 2025'!AN78","v":0}]
[65,null,null,null,null,null,null,null,{"$f":"'[1]Januar 2025 '!AN79","v":0},{"$f":"'[1]Februar 2025'!AN120","v":0},{"$f":"'[1]März 2025'!AN79","v":0},{"$f":"'[1]April 2025'!AN79","v":0},{"$f":"'[1]Mai 2025'!AN79","v":0},{"$f":"'[1]Juni 2025'!AN79","v":0},{"$f":"'[1]Juli 2025'!AN79","v":0},{"$f":"'[1]August 2025'!AN79","v":0},{"$f":"'[1]September 2025'!AN79","v":0},{"$f":"'[1]Oktober 2025'!AN79","v":0},{"$f":"'[1]November 2025'!AN79","v":0},{"$f":"'[1]Dezember 2025'!AN79","v":0}]
[66,null,null,null,null,null,null,null,{"$f":"'[1]Januar 2025 '!AN80","v":0},{"$f":"'[1]Februar 2025'!AN121","v":0},{"$f":"'[1]März 2025'!AN80","v":0},{"$f":"'[1]April 2025'!AN80","v":0},{"$f":"'[1]Mai 2025'!AN80","v":0},{"$f":"'[1]Juni 2025'!AN80","v":0},{"$f":"'[1]Juli 2025'!AN80","v":0},{"$f":"'[1]August 2025'!AN80","v":0},{"$f":"'[1]September 2025'!AN80","v":0},{"$f":"'[1]Oktober 2025'!AN80","v":0},{"$f":"'[1]November 2025'!AN80","v":0},{"$f":"'[1]Dezember 2025'!AN80","v":0}]
[67,null,null,null,null,null,null,null,{"$f":"'[1]Januar 2025 '!AN81","v":0},{"$f":"'[1]Februar 2025'!AN122","v":0},{"$f":"'[1]März 2025'!AN81","v":0},{"$f":"'[1]April 2025'!AN81","v":0},{"$f":"'[1]Mai 2025'!AN81","v":0},{"$f":"'[1]Juni 2025'!AN81","v":0},{"$f":"'[1]Juli 2025'!AN81","v":0},{"$f":"'[1]August 2025'!AN81","v":0},{"$f":"'[1]September 2025'!AN81","v":0},{"$f":"'[1]Oktober 2025'!AN81","v":0},{"$f":"'[1]November 2025'!AN81","v":0},{"$f":"'[1]Dezember 2025'!AN81","v":0}]
[68,null,null,null,null,null,null,null,{"$f":"'[1]Januar 2025 '!AN82","v":0},{"$f":"'[1]Februar 2025'!AN123","v":0},{"$f":"'[1]März 2025'!AN82","v":0},{"$f":"'[1]April 2025'!AN82","v":0},{"$f":"'[1]Mai 2025'!AN82","v":0},{"$f":"'[1]Juni 2025'!AN82","v":0},{"$f":"'[1]Juli 2025'!AN82","v":0},{"$f":"'[1]August 2025'!AN82","v":0},{"$f":"'[1]September 2025'!AN82","v":0},{"$f":"'[1]Oktober 2025'!AN82","v":0},{"$f":"'[1]November 2025'!AN82","v":0},{"$f":"'[1]Dezember 2025'!AN82","v":0}]
[69,null,null,null,null,null,null,null,{"$f":"'[1]Januar 2025 '!AN83","v":0},{"$f":"'[1]Februar 2025'!AN124","v":0},{"$f":"'[1]März 2025'!AN83","v":0},{"$f":"'[1]April 2025'!AN83","v":0},{"$f":"'[1]Mai 2025'!AN83","v":0},{"$f":"'[1]Juni 2025'!AN83","v":0},{"$f":"'[1]Juli 2025'!AN83","v":0},{"$f":"'[1]August 2025'!AN83","v":0},{"$f":"'[1]September 2025'!AN83","v":0},{"$f":"'[1]Oktober 2025'!AN83","v":0},{"$f":"'[1]November 2025'!AN83","v":0},{"$f":"'[1]Dezember 2025'!AN83","v":0}]
[70,null,null,null,null,null,null,null,{"$f":"'[1]Januar 2025 '!AN84","v":0},{"$f":"'[1]Februar 2025'!AN125","v":0},{"$f":"'[1]März 2025'!AN84","v":0},{"$f":"'[1]April 2025'!AN84","v":0},{"$f":"'[1]Mai 2025'!AN84","v":0},{"$f":"'[1]Juni 2025'!AN84","v":0},{"$f":"'[1]Juli 2025'!AN84","v":0},{"$f":"'[1]August 2025'!AN84","v":0},{"$f":"'[1]September 2025'!AN84","v":0},{"$f":"'[1]Oktober 2025'!AN84","v":0},{"$f":"'[1]November 2025'!AN84","v":0},{"$f":"'[1]Dezember 2025'!AN84","v":0}]
[71,null,null,null,null,null,null,null,{"$f":"'[1]Januar 2025 '!AN85","v":0},{"$f":"'[1]Februar 2025'!AN126","v":0},{"$f":"'[1]März 2025'!AN85","v":0},{"$f":"'[1]April 2025'!AN85","v":0},{"$f":"'[1]Mai 2025'!AN85","v":0},{"$f":"'[1]Juni 2025'!AN85","v":0},{"$f":"'[1]Juli 2025'!AN85","v":0},{"$f":"'[1]August 2025'!AN85","v":0},{"$f":"'[1]September 2025'!AN85","v":0},{"$f":"'[1]Oktober 2025'!AN85","v":0},{"$f":"'[1]November 2025'!AN85","v":0},{"$f":"'[1]Dezember 2025'!AN85","v":0}]
[72,null,null,null,null,null,null,null,{"$f":"'[1]Januar 2025 '!AN86","v":0},{"$f":"'[1]Februar 2025'!AN127","v":0},{"$f":"'[1]März 2025'!AN86","v":0},{"$f":"'[1]April 2025'!AN86","v":0},{"$f":"'[1]Mai 2025'!AN86","v":0},{"$f":"'[1]Juni 2025'!AN86","v":0},{"$f":"'[1]Juli 2025'!AN86","v":0},{"$f":"'[1]August 2025'!AN86","v":0},{"$f":"'[1]September 2025'!AN86","v":0},{"$f":"'[1]Oktober 2025'!AN86","v":0},{"$f":"'[1]November 2025'!AN86","v":0},{"$f":"'[1]Dezember 2025'!AN86","v":0}]
[73,null,null,null,null,null,null,null,{"$f":"'[1]Januar 2025 '!AN87","v":0},{"$f":"'[1]Februar 2025'!AN128","v":0},{"$f":"'[1]März 2025'!AN87","v":0},{"$f":"'[1]April 2025'!AN87","v":0},{"$f":"'[1]Mai 2025'!AN87","v":0},{"$f":"'[1]Juni 2025'!AN87","v":0},{"$f":"'[1]Juli 2025'!AN87","v":0},{"$f":"'[1]August 2025'!AN87","v":0},{"$f":"'[1]September 2025'!AN87","v":0},{"$f":"'[1]Oktober 2025'!AN87","v":0},{"$f":"'[1]November 2025'!AN87","v":0},{"$f":"'[1]Dezember 2025'!AN87","v":0}]
[74,null,null,null,null,null,null,null,{"$f":"'[1]Januar 2025 '!AN88","v":0},{"$f":"'[1]Februar 2025'!AN129","v":0},{"$f":"'[1]März 2025'!AN88","v":0},{"$f":"'[1]April 2025'!AN88","v":0},{"$f":"'[1]Mai 2025'!AN88","v":0},{"$f":"'[1]Juni 2025'!AN88","v":0},{"$f":"'[1]Juli 2025'!AN88","v":0},{"$f":"'[1]August 2025'!AN88","v":0},{"$f":"'[1]September 2025'!AN88","v":0},{"$f":"'[1]Oktober 2025'!AN88","v":0},{"$f":"'[1]November 2025'!AN88","v":0},{"$f":"'[1]Dezember 2025'!AN88","v":0}]
[75,null,null,null,null,null,null,null,{"$f":"'[1]Januar 2025 '!AN89","v":0},{"$f":"'[1]Februar 2025'!AN130","v":0},{"$f":"'[1]März 2025'!AN89","v":0},{"$f":"'[1]April 2025'!AN89","v":0},{"$f":"'[1]Mai 2025'!AN89","v":0},{"$f":"'[1]Juni 2025'!AN89","v":0},{"$f":"'[1]Juli 2025'!AN89","v":0},{"$f":"'[1]August 2025'!AN89","v":0},{"$f":"'[1]September 2025'!AN89","v":0},{"$f":"'[1]Oktober 2025'!AN89","v":0},{"$f":"'[1]November 2025'!AN89","v":0},{"$f":"'[1]Dezember 2025'!AN89","v":0}]
[76,null,null,null,null,null,null,null,{"$f":"'[1]Januar 2025 '!AN90","v":0},{"$f":"'[1]Februar 2025'!AN131","v":0},{"$f":"'[1]März 2025'!AN90","v":0},{"$f":"'[1]April 2025'!AN90","v":0},{"$f":"'[1]Mai 2025'!AN90","v":0},{"$f":"'[1]Juni 2025'!AN90","v":0},{"$f":"'[1]Juli 2025'!AN90","v":0},{"$f":"'[1]August 2025'!AN90","v":0},{"$f":"'[1]September 2025'!AN90","v":0},{"$f":"'[1]Oktober 2025'!AN90","v":0},{"$f":"'[1]November 2025'!AN90","v":0},{"$f":"'[1]Dezember 2025'!AN90","v":0}]
[77,null,null,null,null,null,null,null,{"$f":"'[1]Januar 2025 '!AN91","v":0},{"$f":"'[1]Februar 2025'!AN132","v":0},{"$f":"'[1]März 2025'!AN91","v":0},{"$f":"'[1]April 2025'!AN91","v":0},{"$f":"'[1]Mai 2025'!AN91","v":0},{"$f":"'[1]Juni 2025'!AN91","v":0},{"$f":"'[1]Juli 2025'!AN91","v":0},{"$f":"'[1]August 2025'!AN91","v":0},{"$f":"'[1]September 2025'!AN91","v":0},{"$f":"'[1]Oktober 2025'!AN91","v":0},{"$f":"'[1]November 2025'!AN91","v":0},{"$f":"'[1]Dezember 2025'!AN91","v":0}]
[78,null,null,null,null,null,null,null,{"$f":"'[1]Januar 2025 '!AN92","v":0},{"$f":"'[1]Februar 2025'!AN133","v":0},{"$f":"'[1]März 2025'!AN92","v":0},{"$f":"'[1]April 2025'!AN92","v":0},{"$f":"'[1]Mai 2025'!AN92","v":0},{"$f":"'[1]Juni 2025'!AN92","v":0},{"$f":"'[1]Juli 2025'!AN92","v":0},{"$f":"'[1]August 2025'!AN92","v":0},{"$f":"'[1]September 2025'!AN92","v":0},{"$f":"'[1]Oktober 2025'!AN92","v":0},{"$f":"'[1]November 2025'!AN92","v":0},{"$f":"'[1]Dezember 2025'!AN92","v":0}]
[79,null,null,null,null,null,null,null,{"$f":"'[1]Januar 2025 '!AN93","v":0},{"$f":"'[1]Februar 2025'!AN134","v":0},{"$f":"'[1]März 2025'!AN93","v":0},{"$f":"'[1]April 2025'!AN93","v":0},{"$f":"'[1]Mai 2025'!AN93","v":0},{"$f":"'[1]Juni 2025'!AN93","v":0},{"$f":"'[1]Juli 2025'!AN93","v":0},{"$f":"'[1]August 2025'!AN93","v":0},{"$f":"'[1]September 2025'!AN93","v":0},{"$f":"'[1]Oktober 2025'!AN93","v":0},{"$f":"'[1]November 2025'!AN93","v":0},{"$f":"'[1]Dezember 2025'!AN93","v":0}]
[80,null,null,null,null,null,null,null,{"$f":"'[1]Januar 2025 '!AN94","v":0},{"$f":"'[1]Februar 2025'!AN135","v":0},{"$f":"'[1]März 2025'!AN94","v":0},{"$f":"'[1]April 2025'!AN94","v":0},{"$f":"'[1]Mai 2025'!AN94","v":0},{"$f":"'[1]Juni 2025'!AN94","v":0},{"$f":"'[1]Juli 2025'!AN94","v":0},{"$f":"'[1]August 2025'!AN94","v":0},{"$f":"'[1]September 2025'!AN94","v":0},{"$f":"'[1]Oktober 2025'!AN94","v":0},{"$f":"'[1]November 2025'!AN94","v":0},{"$f":"'[1]Dezember 2025'!AN94","v":0}]
[81,null,null,null,null,null,null,null,{"$f":"'[1]Januar 2025 '!AN95","v":0},{"$f":"'[1]Februar 2025'!AN136","v":0},{"$f":"'[1]März 2025'!AN95","v":0},{"$f":"'[1]April 2025'!AN95","v":0},{"$f":"'[1]Mai 2025'!AN95","v":0},{"$f":"'[1]Juni 2025'!AN95","v":0},{"$f":"'[1]Juli 2025'!AN95","v":0},{"$f":"'[1]August 2025'!AN95","v":0},{"$f":"'[1]September 2025'!AN95","v":0},{"$f":"'[1]Oktober 2025'!AN95","v":0},{"$f":"'[1]November 2025'!AN95","v":0},{"$f":"'[1]Dezember 2025'!AN95","v":0}]
[82,null,null,null,null,null,null,null,{"$f":"'[1]Januar 2025 '!AN96","v":0},{"$f":"'[1]Februar 2025'!AN137","v":0},{"$f":"'[1]März 2025'!AN96","v":0},{"$f":"'[1]April 2025'!AN96","v":0},{"$f":"'[1]Mai 2025'!AN96","v":0},{"$f":"'[1]Juni 2025'!AN96","v":0},{"$f":"'[1]Juli 2025'!AN96","v":0},{"$f":"'[1]August 2025'!AN96","v":0},{"$f":"'[1]September 2025'!AN96","v":0},{"$f":"'[1]Oktober 2025'!AN96","v":0},{"$f":"'[1]November 2025'!AN96","v":0},{"$f":"'[1]Dezember 2025'!AN96","v":0}]
[83,null,null,null,null,null,null,null,{"$f":"'[1]Januar 2025 '!AN97","v":0},{"$f":"'[1]Februar 2025'!AN138","v":0},{"$f":"'[1]März 2025'!AN97","v":0},{"$f":"'[1]April 2025'!AN97","v":0},{"$f":"'[1]Mai 2025'!AN97","v":0},{"$f":"'[1]Juni 2025'!AN97","v":0},{"$f":"'[1]Juli 2025'!AN97","v":0},{"$f":"'[1]August 2025'!AN97","v":0},{"$f":"'[1]September 2025'!AN97","v":0},{"$f":"'[1]Oktober 2025'!AN97","v":0},{"$f":"'[1]November 2025'!AN97","v":0},{"$f":"'[1]Dezember 2025'!AN97","v":0}]
[84,null,null,null,null,null,null,null,{"$f":"'[1]Januar 2025 '!AN98","v":0},{"$f":"'[1]Februar 2025'!AN139","v":0},{"$f":"'[1]März 2025'!AN98","v":0},{"$f":"'[1]April 2025'!AN98","v":0},{"$f":"'[1]Mai 2025'!AN98","v":0},{"$f":"'[1]Juni 2025'!AN98","v":0},{"$f":"'[1]Juli 2025'!AN98","v":0},{"$f":"'[1]August 2025'!AN98","v":0},{"$f":"'[1]September 2025'!AN98","v":0},{"$f":"'[1]Oktober 2025'!AN98","v":0},{"$f":"'[1]November 2025'!AN98","v":0},{"$f":"'[1]Dezember 2025'!AN98","v":0}]
[85,null,null,null,null,null,null,null,{"$f":"'[1]Januar 2025 '!AN99","v":0},{"$f":"'[1]Februar 2025'!AN140","v":0},{"$f":"'[1]März 2025'!AN99","v":0},{"$f":"'[1]April 2025'!AN99","v":0},{"$f":"'[1]Mai 2025'!AN99","v":0},{"$f":"'[1]Juni 2025'!AN99","v":0},{"$f":"'[1]Juli 2025'!AN99","v":0},{"$f":"'[1]August 2025'!AN99","v":0},{"$f":"'[1]September 2025'!AN99","v":0},{"$f":"'[1]Oktober 2025'!AN99","v":0},{"$f":"'[1]November 2025'!AN99","v":0},{"$f":"'[1]Dezember 2025'!AN99","v":0}]
[86,null,null,null,null,null,null,null,{"$f":"'[1]Januar 2025 '!AN100","v":0},{"$f":"'[1]Februar 2025'!AN141","v":0},{"$f":"'[1]März 2025'!AN100","v":0},{"$f":"'[1]April 2025'!AN100","v":0},{"$f":"'[1]Mai 2025'!AN100","v":0},{"$f":"'[1]Juni 2025'!AN100","v":0},{"$f":"'[1]Juli 2025'!AN100","v":0},{"$f":"'[1]August 2025'!AN100","v":0},{"$f":"'[1]September 2025'!AN100","v":0},{"$f":"'[1]Oktober 2025'!AN100","v":0},{"$f":"'[1]November 2025'!AN100","v":0},{"$f":"'[1]Dezember 2025'!AN100","v":0}]
[87,null,null,null,null,null,null,null,{"$f":"'[1]Januar 2025 '!AN101","v":0},{"$f":"'[1]Februar 2025'!AN142","v":0},{"$f":"'[1]März 2025'!AN101","v":0},{"$f":"'[1]April 2025'!AN101","v":0},{"$f":"'[1]Mai 2025'!AN101","v":0},{"$f":"'[1]Juni 2025'!AN101","v":0},{"$f":"'[1]Juli 2025'!AN101","v":0},{"$f":"'[1]August 2025'!AN101","v":0},{"$f":"'[1]September 2025'!AN101","v":0},{"$f":"'[1]Oktober 2025'!AN101","v":0},{"$f":"'[1]November 2025'!AN101","v":0},{"$f":"'[1]Dezember 2025'!AN101","v":0}]
[88,null,null,null,null,null,null,null,{"$f":"'[1]Januar 2025 '!AN102","v":0},{"$f":"'[1]Februar 2025'!AN143","v":0},{"$f":"'[1]März 2025'!AN102","v":0},{"$f":"'[1]April 2025'!AN102","v":0},{"$f":"'[1]Mai 2025'!AN102","v":0},{"$f":"'[1]Juni 2025'!AN102","v":0},{"$f":"'[1]Juli 2025'!AN102","v":0},{"$f":"'[1]August 2025'!AN102","v":0},{"$f":"'[1]September 2025'!AN102","v":0},{"$f":"'[1]Oktober 2025'!AN102","v":0},{"$f":"'[1]November 2025'!AN102","v":0},{"$f":"'[1]Dezember 2025'!AN102","v":0}]
[89,null,null,null,null,null,null,null,{"$f":"'[1]Januar 2025 '!AN103","v":0},{"$f":"'[1]Februar 2025'!AN144","v":0},{"$f":"'[1]März 2025'!AN103","v":0},{"$f":"'[1]April 2025'!AN103","v":0},{"$f":"'[1]Mai 2025'!AN103","v":0},{"$f":"'[1]Juni 2025'!AN103","v":0},{"$f":"'[1]Juli 2025'!AN103","v":0},{"$f":"'[1]August 2025'!AN103","v":0},{"$f":"'[1]September 2025'!AN103","v":0},{"$f":"'[1]Oktober 2025'!AN103","v":0},{"$f":"'[1]November 2025'!AN103","v":0},{"$f":"'[1]Dezember 2025'!AN103","v":0}]
[90,null,null,null,null,null,null,null,{"$f":"'[1]Januar 2025 '!AN104","v":0},{"$f":"'[1]Februar 2025'!AN145","v":0},{"$f":"'[1]März 2025'!AN104","v":0},{"$f":"'[1]April 2025'!AN104","v":0},{"$f":"'[1]Mai 2025'!AN104","v":0},{"$f":"'[1]Juni 2025'!AN104","v":0},{"$f":"'[1]Juli 2025'!AN104","v":0},{"$f":"'[1]August 2025'!AN104","v":0},{"$f":"'[1]September 2025'!AN104","v":0},{"$f":"'[1]Oktober 2025'!AN104","v":0},{"$f":"'[1]November 2025'!AN104","v":0},{"$f":"'[1]Dezember 2025'!AN104","v":0}]
[91,null,null,null,null,null,null,null,{"$f":"'[1]Januar 2025 '!AN105","v":0},{"$f":"'[1]Februar 2025'!AN146","v":0},{"$f":"'[1]März 2025'!AN105","v":0},{"$f":"'[1]April 2025'!AN105","v":0},{"$f":"'[1]Mai 2025'!AN105","v":0},{"$f":"'[1]Juni 2025'!AN105","v":0},{"$f":"'[1]Juli 2025'!AN105","v":0},{"$f":"'[1]August 2025'!AN105","v":0},{"$f":"'[1]September 2025'!AN105","v":0},{"$f":"'[1]Oktober 2025'!AN105","v":0},{"$f":"'[1]November 2025'!AN105","v":0},{"$f":"'[1]Dezember 2025'!AN105","v":0}]
[92,null,null,null,null,null,null,null,{"$f":"'[1]Januar 2025 '!AN106","v":0},{"$f":"'[1]Februar 2025'!AN147","v":0},{"$f":"'[1]März 2025'!AN106","v":0},{"$f":"'[1]April 2025'!AN106","v":0},{"$f":"'[1]Mai 2025'!AN106","v":0},{"$f":"'[1]Juni 2025'!AN106","v":0},{"$f":"'[1]Juli 2025'!AN106","v":0},{"$f":"'[1]August 2025'!AN106","v":0},{"$f":"'[1]September 2025'!AN106","v":0},{"$f":"'[1]Oktober 2025'!AN106","v":0},{"$f":"'[1]November 2025'!AN106","v":0},{"$f":"'[1]Dezember 2025'!AN106","v":0}]
[93,null,null,null,null,null,null,null,{"$f":"'[1]Januar 2025 '!AN107","v":0},{"$f":"'[1]Februar 2025'!AN148","v":0},{"$f":"'[1]März 2025'!AN107","v":0},{"$f":"'[1]April 2025'!AN107","v":0},{"$f":"'[1]Mai 2025'!AN107","v":0},{"$f":"'[1]Juni 2025'!AN107","v":0},{"$f":"'[1]Juli 2025'!AN107","v":0},{"$f":"'[1]August 2025'!AN107","v":0},{"$f":"'[1]September 2025'!AN107","v":0},{"$f":"'[1]Oktober 2025'!AN107","v":0},{"$f":"'[1]November 2025'!AN107","v":0},{"$f":"'[1]Dezember 2025'!AN107","v":0}]
[94,null,null,null,null,null,null,null,{"$f":"'[1]Januar 2025 '!AN108","v":0},{"$f":"'[1]Februar 2025'!AN149","v":0},{"$f":"'[1]März 2025'!AN108","v":0},{"$f":"'[1]April 2025'!AN108","v":0},{"$f":"'[1]Mai 2025'!AN108","v":0},{"$f":"'[1]Juni 2025'!AN108","v":0},{"$f":"'[1]Juli 2025'!AN108","v":0},{"$f":"'[1]August 2025'!AN108","v":0},{"$f":"'[1]September 2025'!AN108","v":0},{"$f":"'[1]Oktober 2025'!AN108","v":0},{"$f":"'[1]November 2025'!AN108","v":0},{"$f":"'[1]Dezember 2025'!AN108","v":0}]
[95,null,null,null,null,null,null,null,{"$f":"'[1]Januar 2025 '!AN109","v":0},{"$f":"'[1]Februar 2025'!AN150","v":0},{"$f":"'[1]März 2025'!AN109","v":0},{"$f":"'[1]April 2025'!AN109","v":0},{"$f":"'[1]Mai 2025'!AN109","v":0},{"$f":"'[1]Juni 2025'!AN109","v":0},{"$f":"'[1]Juli 2025'!AN109","v":0},{"$f":"'[1]August 2025'!AN109","v":0},{"$f":"'[1]September 2025'!AN109","v":0},{"$f":"'[1]Oktober 2025'!AN109","v":0},{"$f":"'[1]November 2025'!AN109","v":0},{"$f":"'[1]Dezember 2025'!AN109","v":0}]

{"sheet":"Januar 2025 ","index":1,"n_rows":109,"n_cols":53,"rows_kept":109,"cut":false,"hidden":false,"merged":[[10,43,10,45],[11,36,11,37],[8,13,8,21],[8,24,8,26],[9,13,9,21],[9,24,9,26],[9,29,9,33],[5,1,9,10],[5,13,5,21],[5,23,7,26],[5,33,8,33],[6,13,6,21],[7,13,7,21],[1,11,1,22],[1,23,1,26],[2,7,3,14],[3,4,3,6],[3,18,3,23],[3,24,3,27]]}
[]
[null,null,null,null,null,null,null,null,null,null,null,null,null,null,null,null,null,null,null,null,null,null,null,null,null,null,null,null,null,null,null,null,null,null,null,null,null,null,null,null,null,null,null,null,null,null,null,null,null,null,null,null,{"$f":"AW8","v":0}]
[null,null,null,null,null,null,null,"Vorname Name",null,null,null,null,null,null,null,null,null,null,null,null,null,null,null,null,null,null,null,null,null,null,null,null,null,null,null,null,null,null,{"$f":"IF(AND(AW8<57),\"\",\"PRIMA\")","v":""}]
[null,"Name: ",null,null,null,null,null,null,null,null,null,null,null,null,null,null,null,null,"Januar",null,null,null,null,null,2025]
[]
[null,null,null,null,null,null,null,null,null,null,null,null,null,"Komplexleistungskinder:",null,null,null,null,null,null,null,null,null,null,null,null,null,null,null,null,null,"Komplex-FE:"]
[null,null,null,null,null,null,null,null,null,null,null,null,null,"Komplex Physio Kinder:",null,null,null,null,null,null,null,null,null,null,null,null,null,null,null,null,null,"Komplex-Physio BE:"]
[null,null,null,null,null,null,null,null,null,null,null,null,null,"Komplex Ergo Kinder:",null,null,null,null,null,null,null,null,null,null,null,null,null,null,null,null,null,"Komplex-Ergo BE:"]
[null,null,null,null,null,null,null,null,null,null,null,null,null,"Behandlungs- oder Fördereinheiten: ",null,null,null,null,null,null,null,null,{"$f":"SUM(AB9,AG9)","v":0},null,"ambulant: ",null,null,{"$f":"SUM(AK15:AK109)","v":0},null,null,"mobil: ",null,{"$f":"SUM(AL15:AL109)","v":0}]
[null,null,null,null,null,null,null,null,null,null,null,null,null,"männlich: ",null,null,null,null,null,null,null,null,{"$f":"COUNTIF(AU15:AU109,\"m\")","v":5},null,"weiblich: ",null,null,{"$f":"COUNTIF(AU15:AU109,\"w\")","v":6}]
[null,null,null,null,null,null,null,null,null,null,null,null,null,null,null,null,null,null,null,null,null,null,null,null,null,null,null,null,null,null,null,null,null,null,null,null,null,null,null," ",null,null,null,"DIAGNOSTIKEN "]
["Nr.","Name des Kindes",null,null,1,2,3,4,5,6,7,8,9,10,11,12,13,14,15,16,17,18,19,20,21,22,23,24,25,26,27,28,29,30,31,null,"a / m ",null,null,"Einheiten","UE","KA","E","ED","VD","AD"]
[]
["Spalte1","Spalte2","STATUS","Diagnostik","Spalte4","Spalte5","Spalte6","Spalte7","Spalte8","Spalte9","Spalte10","Spalte11","Spalte12","Spalte13","Spalte14","Spalte15","Spalte16","Spalte17","Spalte18","Spalte19","Spalte20","Spalte21","Spalte22","Spalte23","Spalte24","Spalte25","Spalte26","Spalte27","Spalte28","Spalte29","Spalte30","Spalte31","Spalte32","Spalte33","Spalte34",null,null,null,null,null,null,null,null,null,null,null,null,null,null,null,null,"Zuordnung"]
[1,{"$f":"'Daten '!C8","v":"Klient 1"},{"$f":"'[1]Daten '!E8","v":0},{"$f":"IF(AV15>0,\"Diagnostik\",\"0\")","v":"0"},null,null,null,null,null,null,null,null,null,null,null,null,null,null,null,null,null,null,null,null,null,null,null,null,null,null,null,null,null,null,null,null,{"$f":"SUM(LEN($C15:$AI15))-SUM(LEN(SUBSTITUTE($C15:$AI15,\"a\",\"\")))","v":0},{"$f":"SUM(LEN($C15:$AI15))-SUM(LEN(SUBSTITUTE($C15:$AI15,\"m\",\"\")))","v":0},null,{"$f":"SUM(AK15:AL15)","v":0},{"$f":"COUNTIF($E$15:$AI$15,\"UE\")","v":0},{"$f":"COUNTIF($E$15:$AI$15,\"ka\")","v":0},{"$f":"COUNTIF($E$15:$AI$15,\"E\")","v":0},{"$f":"COUNTIF($E$15:$AI$15,\"ED\")","v":0},{"$f":"COUNTIF($E$15:$AI$15,\"VD\")","v":0},{"$f":"COUNTIF($E$15:$AI$15,\"AD\")","v":0},{"$f":"VLOOKUP(Tabelle323567[[#This Row],[Spalte2]],'Daten '!C8:D102,2,)","v":"m"},{"$f":"SUM(AR15:AT15)","v":0}]
[2,{"$f":"'Daten '!C9","v":"Klient 2"},{"$f":"'[1]Daten '!E9","v":0},"0",null,null,null,null,null,null,null,null,null,null,null,null,null,null,null,null,null,null,null,null,null,null,null,null,null,null,null,null,null,null,null,null,{"$f":"SUM(LEN($C16:$AI16))-SUM(LEN(SUBSTITUTE($C16:$AI16,\"a\",\"\")))","v":0},{"$f":"SUM(LEN($C16:$AI16))-SUM(LEN(SUBSTITUTE($C16:$AI16,\"m\",\"\")))","v":0},null,{"$f":"SUM(AK16:AL16)","v":0},{"$f":"COUNTIF($E$16:$AI$16,\"UE\")","v":0},{"$f":"COUNTIF($E$16:$AI$16,\"ka\")","v":0},{"$f":"COUNTIF($E$16:$AI$16,\"E\")","v":0},{"$f":"COUNTIF($E$16:$AI$16,\"ED\")","v":0},{"$f":"COUNTIF($E$16:$AI$16,\"VD\")","v":0},{"$f":"COUNTIF($E$16:$AI$16,\"AD\")","v":0},{"$f":"VLOOKUP(Tabelle323567[[#This Row],[Spalte2]],'Daten '!C9:D103,2,)","v":"m"},0]
[3,{"$f":"'Daten '!C10","v":"Klient 3"},{"$f":"'[1]Daten '!E10","v":0},"0",null,null,null,null,null,null,null,null,null,null,null,null,null,null,null,null,null,null,null,null,null,null,null,null,null,null,null,null,null,null,null,null,{"$f":"SUM(LEN($C17:$AI17))-SUM(LEN(SUBSTITUTE($C17:$AI17,\"a\",\"\")))","v":0},{"$f":"SUM(LEN($C17:$AI17))-SUM(LEN(SUBSTITUTE($C17:$AI17,\"m\",\"\")))","v":0},null,0,{"$f":"COUNTIF($E$17:$AI$17,\"UE\")","v":0},{"$f":"COUNTIF($E$17:$AI$17,\"ka\")","v":0},{"$f":"COUNTIF($E$17:$AI$17,\"E\")","v":0},{"$f":"COUNTIF($E$17:$AI$17,\"ED\")","v":0},{"$f":"COUNTIF($E$17:$AI$17,\"VD\")","v":0},{"$f":"COUNTIF($E$17:$AI$17,\"AD\")","v":0},{"$f":"VLOOKUP(Tabelle323567[[#This Row],[Spalte2]],'Daten '!C10:D104,2,)","v":"m"},0]
[4,{"$f":"'Daten '!C11","v":"Klient 4"},{"$f":"'[1]Daten '!E11","v":0},"0",null,null,null,null,null,null,null,null,null,null,null,null,null,null,null,null,null,null,null,null,null,null,null,null,null,null,null,null,null,null,null,null,{"$f":"SUM(LEN($C18:$AI18))-SUM(LEN(SUBSTITUTE($C18:$AI18,\"a\",\"\")))","v":0},{"$f":"SUM(LEN($C18:$AI18))-SUM(LEN(SUBSTITUTE($C18:$AI18,\"m\",\"\")))","v":0},null,0,{"$f":"COUNTIF($E$18:$AI$18,\"UE\")","v":0},{"$f":"COUNTIF($E$18:$AI$18,\"ka\")","v":0},{"$f":"COUNTIF($E$18:$AI$18,\"E\")","v":0},{"$f":"COUNTIF($E$18:$AI$18,\"ED\")","v":0},{"$f":"COUNTIF($E$18:$AI$18,\"VD\")","v":0},{"$f":"COUNTIF($E$18:$AI$18,\"AD\")","v":0},{"$f":"VLOOKUP(Tabelle323567[[#This Row],[Spalte2]],'Daten '!C11:D105,2,)","v":"w"},0]
[5,{"$f":"'Daten '!C12","v":"Klient 5"},{"$f":"'[1]Daten '!E12","v":0},"0",null,null,null,null,null,null,null,null,null,null,null,null,null,null,null,null,null,null,null,null,null,null,null,null,null,null,null,null,null,null,null,null,{"$f":"SUM(LEN($C19:$AI19))-SUM(LEN(SUBSTITUTE($C19:$AI19,\"a\",\"\")))","v":0},{"$f":"SUM(LEN($C19:$AI19))-SUM(LEN(SUBSTITUTE($C19:$AI19,\"m\",\"\")))","v":0},null,0,{"$f":"COUNTIF($E$19:$AI$19,\"UE\")","v":0},{"$f":"COUNTIF($E$19:$AI$19,\"KA\")","v":0},{"$f":"COUNTIF($E$19:$AI$19,\"E\")","v":0},{"$f":"COUNTIF($E$19:$AI$19,\"ED\")","v":0},{"$f":"COUNTIF($E$19:$AI$19,\"VD\")","v":0},{"$f":"COUNTIF($E$19:$AI$19,\"AD\")","v":0},{"$f":"VLOOKUP(Tabelle323567[[#This Row],[Spalte2]],'Daten '!C12:D106,2,)","v":"w"},0]
[6,{"$f":"'Daten '!C13","v":"Klient 6"},{"$f":"'[1]Daten '!E13","v":0},"0",null,null,null,null,null,null,null,null,null,null,null,null,null,null,null,null,null,null,null,null,null,null,null,null,null,null,null,null,null,null,null,null,{"$f":"SUM(LEN($C20:$AI20))-SUM(LEN(SUBSTITUTE($C20:$AI20,\"a\",\"\")))","v":0},{"$f":"SUM(LEN($C20:$AI20))-SUM(LEN(SUBSTITUTE($C20:$AI20,\"m\",\"\")))","v":0},null,0,{"$f":"COUNTIF($E$20:$AI$20,\"UE\")","v":0},{"$f":"COUNTIF($E$20:$AI$20,\"KA\")","v":0},{"$f":"COUNTIF($E$20:$AI$20,\"E\")","v":0},{"$f":"COUNTIF($E$20:$AI$20,\"ED\")","v":0},{"$f":"COUNTIF($E$20:$AI$20,\"VD\")","v":0},{"$f":"COUNTIF($E$20:$AI$20,\"AD\")","v":0},{"$f":"VLOOKUP(Tabelle323567[[#This Row],[Spalte2]],'Daten '!C13:D107,2,)","v":"w"},0]
[7,{"$f":"'Daten '!C14","v":"Klient 7"},{"$f":"'[1]Daten '!E14","v":0},"0",null,null,null,null,null,null,null,null,null,null,null,null,null,null,null,null,null,null,null,null,null,null,null,null,null,null,null,null,null,null,null,null,{"$f":"SUM(LEN($C21:$AI21))-SUM(LEN(SUBSTITUTE($C21:$AI21,\"a\",\"\")))","v":0},{"$f":"SUM(LEN($C21:$AI21))-SUM(LEN(SUBSTITUTE($C21:$AI21,\"m\",\"\")))","v":0},null,0,{"$f":"COUNTIF($E$21:$AI$21,\"UE\")","v":0},{"$f":"COUNTIF($E$21:$AI$21,\"KA\")","v":0},{"$f":"COUNTIF($E$21:$AI$21,\"E\")","v":0},{"$f":"COUNTIF($E$21:$AI$21,\"ED\")","v":0},{"$f":"COUNTIF($E$21:$AI$21,\"VD\")","v":0},{"$f":"COUNTIF($E$21:$AI$21,\"AD\")","v":0},{"$f":"VLOOKUP(Tabelle323567[[#This Row],[Spalte2]],'Daten '!C14:D108,2,)","v":"w"},0]
[8,{"$f":"'Daten '!C15","v":"Klient 8"},{"$f":"'[1]Daten '!E15","v":0},"0",null,null,null,null,null,null,null,null,null,null,null,null,null,null,null,null,null,null,null,null,null,null,null,null,null,null,null,null,null,null,null,null,{"$f":"SUM(LEN($C22:$AI22))-SUM(LEN(SUBSTITUTE($C22:$AI22,\"a\",\"\")))","v":0},{"$f":"SUM(LEN($C22:$AI22))-SUM(LEN(SUBSTITUTE($C22:$AI22,\"m\",\"\")))","v":0},null,0,{"$f":"COUNTIF($E$22:$AI$22,\"UE\")","v":0},{"$f":"COUNTIF($E$22:$AI$22,\"KA\")","v":0},{"$f":"COUNTIF($E$22:$AI$22,\"E\")","v":0},{"$f":"COUNTIF($E$22:$AI$22,\"ED\")","v":0},{"$f":"COUNTIF($E$22:$AI$22,\"VD\")","v":0},{"$f":"COUNTIF($E$22:$AI$22,\"AD\")","v":0},{"$f":"VLOOKUP(Tabelle323567[[#This Row],[Spalte2]],'Daten '!C15:D109,2,)","v":"m"},0]
[9,{"$f":"'Daten '!C16","v":"Klient 9"},{"$f":"'[1]Daten '!E16","v":0},"0",null,null,null,null,null,null,null,null,null,null,null,null,null,null,null,null,null,null,null,null,null,null,null,null,null,null,null,null,null,null,null,null,{"$f":"SUM(LEN($C23:$AI23))-SUM(LEN(SUBSTITUTE($C23:$AI23,\"a\",\"\")))","v":0},{"$f":"SUM(LEN($C23:$AI23))-SUM(LEN(SUBSTITUTE($C23:$AI23,\"m\",\"\")))","v":0},null,0,{"$f":"COUNTIF($E$23:$AI$23,\"UE\")","v":0},{"$f":"COUNTIF($E$23:$AI$23,\"KA\")","v":0},{"$f":"COUNTIF($E$23:$AI$23,\"E\")","v":0},{"$f":"COUNTIF($E$23:$AI$23,\"ED\")","v":0},{"$f":"COUNTIF($E$23:$AI$23,\"VD\")","v":0},{"$f":"COUNTIF($E$23:$AI$23,\"AD\")","v":0},{"$f":"VLOOKUP(Tabelle323567[[#This Row],[Spalte2]],'Daten '!C16:D110,2,)","v":"m"},0]
[10,{"$f":"'Daten '!C17","v":"Klient 10"},{"$f":"'[1]Daten '!E17","v":0},"0",null,null,null,null,null,null,null,null,null,null,null,null,null,null,null,null,null,null,null,null,null,null,null,null,null,null,null,null,null,null,null,null,{"$f":"SUM(LEN($C24:$AI24))-SUM(LEN(SUBSTITUTE($C24:$AI24,\"a\",\"\")))","v":0},{"$f":"SUM(LEN($C24:$AI24))-SUM(LEN(SUBSTITUTE($C24:$AI24,\"m\",\"\")))","v":0},null,0,{"$f":"COUNTIF($E$24:$AI$24,\"UE\")","v":0},{"$f":"COUNTIF($E$24:$AI$24,\"KA\")","v":0},{"$f":"COUNTIF($E$24:$AI$24,\"E\")","v":0},{"$f":"COUNTIF($E$24:$AI$24,\"ED\")","v":0},{"$f":"COUNTIF($E$24:$AI$24,\"VD\")","v":0},{"$f":"COUNTIF($E$24:$AI$24,\"AD\")","v":0},{"$f":"VLOOKUP(Tabelle323567[[#This Row],[Spalte2]],'Daten '!C17:D111,2,)","v":"w"},0]
[11,{"$f":"'Daten '!C18","v":"Klient 11"},{"$f":"'[1]Daten '!E18","v":0},"0",null,null,null,null,null,null,null,null,null,null,null,null,null,null,null,null,null,null,null,null,null,null,null,null,null,null,null,null,null,null,null,null,{"$f":"SUM(LEN($C25:$AI25))-SUM(LEN(SUBSTITUTE($C25:$AI25,\"a\",\"\")))","v":0},{"$f":"SUM(LEN($C25:$AI25))-SUM(LEN(SUBSTITUTE($C25:$AI25,\"m\",\"\")))","v":0},null,0,{"$f":"COUNTIF($E$25:$AI$25,\"UE\")","v":0},{"$f":"COUNTIF($E$25:$AI$25,\"KA\")","v":0},{"$f":"COUNTIF($E$25:$AI$25,\"E\")","v":0},{"$f":"COUNTIF($E$25:$AI$25,\"ED\")","v":0},{"$f":"COUNTIF($E$25:$AI$25,\"VD\")","v":0},{"$f":"COUNTIF($E$25:$AI$25,\"AD\")","v":0},{"$f":"VLOOKUP(Tabelle323567[[#This Row],[Spalte2]],'Daten '!C18:D112,2,)","v":"w"},0]
[12,{"$f":"'[1]Daten '!C19","v":0},{"$f":"'[1]Daten '!E19","v":0},"0",null,null,null,null,null,null,null,null,null,null,null,null,null,null,null,null,null,null,null,null,null,null,null,null,null,null,null,null,null,null,null,null,{"$f":"SUM(LEN($C26:$AI26))-SUM(LEN(SUBSTITUTE($C26:$AI26,\"a\",\"\")))","v":0},{"$f":"SUM(LEN($C26:$AI26))-SUM(LEN(SUBSTITUTE($C26:$AI26,\"m\",\"\")))","v":0},null,0,{"$f":"COUNTIF($E$26:$AI$26,\"UE\")","v":0},{"$f":"COUNTIF($E$26:$AI$26,\"KA\")","v":0},{"$f":"COUNTIF($E$26:$AI$26,\"E\")","v":0},{"$f":"COUNTIF($E$26:$AI$26,\"ED\")","v":0},{"$f":"COUNTIF($E$26:$AI$26,\"VD\")","v":0},{"$f":"COUNTIF($E$26:$AI$26,\"AD\")","v":0},{"$f":"VLOOKUP(Tabelle323567[[#This Row],[Spalte2]],'Daten '!C19:D113,2,)","v":{"$error":"#N/A"}},0]
[13,{"$f":"'[1]Daten '!C20","v":0},{"$f":"'[1]Daten '!E20","v":0},"0",null,null,null,null,null,null,null,null,null,null,null,null,null,null,null,null,null,null,null,null,null,null,null,null,null,null,null,null,null,null,null,null,{"$f":"SUM(LEN($C27:$AI27))-SUM(LEN(SUBSTITUTE($C27:$AI27,\"a\",\"\")))","v":0},{"$f":"SUM(LEN($C27:$AI27))-SUM(LEN(SUBSTITUTE($C27:$AI27,\"m\",\"\")))","v":0},null,0,{"$f":"COUNTIF($E$27:$AI$27,\"UE\")","v":0},{"$f":"COUNTIF($E$27:$AI$27,\"KA\")","v":0},{"$f":"COUNTIF($E$27:$AI$27,\"E\")","v":0},{"$f":"COUNTIF($E$27:$AI$27,\"ED\")","v":0},{"$f":"COUNTIF($E$27:$AI$27,\"VD\")","v":0},{"$f":"COUNTIF($E$27:$AI$27,\"AD\")","v":0},{"$f":"VLOOKUP(Tabelle323567[[#This Row],[Spalte2]],'Daten '!C20:D114,2,)","v":{"$error":"#N/A"}},0]
[14,{"$f":"'[1]Daten '!C21","v":0},{"$f":"'[1]Daten '!E21","v":0},"0",null,null,null,null,null,null,null,null,null,null,null,null,null,null,null,null,null,null,null,null,null,null,null,null,null,null,null,null,null,null,null,null,{"$f":"SUM(LEN($C28:$AI28))-SUM(LEN(SUBSTITUTE($C28:$AI28,\"a\",\"\")))","v":0},{"$f":"SUM(LEN($C28:$AI28))-SUM(LEN(SUBSTITUTE($C28:$AI28,\"m\",\"\")))","v":0},null,0,{"$f":"COUNTIF($E$28:$AI$28,\"UE\")","v":0},{"$f":"COUNTIF($E$28:$AI$28,\"KA\")","v":0},{"$f":"COUNTIF($E$28:$AI$28,\"E\")","v":0},{"$f":"COUNTIF($E$28:$AI$28,\"ED\")","v":0},{"$f":"COUNTIF($E$28:$AI$28,\"VD\")","v":0},{"$f":"COUNTIF($E$28:$AI$28,\"AD\")","v":0},{"$f":"VLOOKUP(Tabelle323567[[#This Row],[Spalte2]],'Daten '!C21:D115,2,)","v":{"$error":"#N/A"}},0]
[15,{"$f":"'[1]Daten '!C22","v":0},{"$f":"'[1]Daten '!E22","v":0},"0",null,null,null,null,null,null,null,null,null,null,null,null,null,null,null,null,null,null,null,null,null,null,null,null,null,null,null,null,null,null,null,null,{"$f":"SUM(LEN($C29:$AI29))-SUM(LEN(SUBSTITUTE($C29:$AI29,\"a\",\"\")))","v":0},{"$f":"SUM(LEN($C29:$AI29))-SUM(LEN(SUBSTITUTE($C29:$AI29,\"m\",\"\")))","v":0},null,0,{"$f":"COUNTIF($E$29:$AI$29,\"UE\")","v":0},{"$f":"COUNTIF($E$29:$AI$29,\"KA\")","v":0},{"$f":"COUNTIF($E$29:$AI$29,\"E\")","v":0},{"$f":"COUNTIF($E$29:$AI$29,\"ED\")","v":0},{"$f":"COUNTIF($E$29:$AI$29,\"VD\")","v":0},{"$f":"COUNTIF($E$29:$AI$29,\"AD\")","v":0},{"$f":"VLOOKUP(Tabelle323567[[#This Row],[Spalte2]],'Daten '!C22:D116,2,)","v":{"$error":"#N/A"}},0]
[16,{"$f":"'[1]Daten '!C23","v":0},{"$f":"'[1]Daten '!E23","v":0},"0",null,null,null,null,null,null,null,null,null,null,null,null,null,null,null,null,null,null,null,null,null,null,null,null,null,null,null,null,null,null,null,null,{"$f":"SUM(LEN($C30:$AI30))-SUM(LEN(SUBSTITUTE($C30:$AI30,\"a\",\"\")))","v":0},{"$f":"SUM(LEN($C30:$AI30))-SUM(LEN(SUBSTITUTE($C30:$AI30,\"m\",\"\")))","v":0},null,0,{"$f":"COUNTIF($E$30:$AI$30,\"UE\")","v":0},{"$f":"COUNTIF($E$30:$AI$30,\"KA\")","v":0},{"$f":"COUNTIF($E$30:$AI$30,\"E\")","v":0},{"$f":"COUNTIF($E$30:$AI$30,\"ED\")","v":0},{"$f":"COUNTIF($E$30:$AI$30,\"VD\")","v":0},{"$f":"COUNTIF($E$30:$AI$30,\"AD\")","v":0},{"$f":"VLOOKUP(Tabelle323567[[#This Row],[Spalte2]],'Daten '!C23:D117,2,)","v":{"$error":"#N/A"}},0]
[17,{"$f":"'[1]Daten '!C24","v":0},{"$f":"'[1]Daten '!E24","v":0},"0",null,null,null,null,null,null,null,null,null,null,null,null,null,null,null,null,null,null,null,null,null,null,null,null,null,null,null,null,null,null,null,null,{"$f":"SUM(LEN($C31:$AI31))-SUM(LEN(SUBSTITUTE($C31:$AI31,\"a\",\"\")))","v":0},{"$f":"SUM(LEN($C31:$AI31))-SUM(LEN(SUBSTITUTE($C31:$AI31,\"m\",\"\")))","v":0},null,0,{"$f":"COUNTIF($E$31:$AI$31,\"UE\")","v":0},{"$f":"COUNTIF($E$31:$AI$31,\"KA\")","v":0},{"$f":"COUNTIF($E$31:$AI$31,\"E\")","v":0},{"$f":"COUNTIF($E$31:$AI$31,\"ED\")","v":0},{"$f":"COUNTIF($E$31:$AI$31,\"VD\")","v":0},{"$f":"COUNTIF($E$31:$AI$31,\"AD\")","v":0},{"$f":"VLOOKUP(Tabelle323567[[#This Row],[Spalte2]],'Daten '!C24:D118,2,)","v":{"$error":"#N/A"}},0]
[18,{"$f":"'[1]Daten '!C25","v":0},{"$f":"'[1]Daten '!E25","v":0},"0",null,null,null,null,null,null,null,null,null,null,null,null,null,null,null,null,null,null,null,null,null,null,null,null,null,null,null,null,null,null,null,null,{"$f":"SUM(LEN($C32:$AI32))-SUM(LEN(SUBSTITUTE($C32:$AI32,\"a\",\"\")))","v":0},{"$f":"SUM(LEN($C32:$AI32))-SUM(LEN(SUBSTITUTE($C32:$AI32,\"m\",\"\")))","v":0},null,0,{"$f":"COUNTIF($E$32:$AI$32,\"UE\")","v":0},{"$f":"COUNTIF($E$32:$AI$32,\"KA\")","v":0},{"$f":"COUNTIF($E$32:$AI$32,\"E\")","v":0},{"$f":"COUNTIF($E$32:$AI$32,\"ED\")","v":0},{"$f":"COUNTIF($E$32:$AI$32,\"VD\")","v":0},{"$f":"COUNTIF($E$32:$AI$32,\"AD\")","v":0},{"$f":"VLOOKUP(Tabelle323567[[#This Row],[Spalte2]],'Daten '!C25:D119,2,)","v":{"$error":"#N/A"}},0]
[19,{"$f":"'[1]Daten '!C26","v":0},{"$f":"'[1]Daten '!E26","v":0},"0",null,null,null,null,null,null,null,null,null,null,null,null,null,null,null,null,null,null,null,null,null,null,null,null,null,null,null,null,null,null,null,null,{"$f":"SUM(LEN($C33:$AI33))-SUM(LEN(SUBSTITUTE($C33:$AI33,\"a\",\"\")))","v":0},{"$f":"SUM(LEN($C33:$AI33))-SUM(LEN(SUBSTITUTE($C33:$AI33,\"m\",\"\")))","v":0},null,0,{"$f":"COUNTIF($E$33:$AI$33,\"UE\")","v":0},{"$f":"COUNTIF($E$33:$AI$33,\"KA\")","v":0},{"$f":"COUNTIF($E$33:$AI$33,\"E\")","v":0},{"$f":"COUNTIF($E$33:$AI$33,\"ED\")","v":0},{"$f":"COUNTIF($E$33:$AI$33,\"VD\")","v":0},{"$f":"COUNTIF($E$33:$AI$33,\"AD\")","v":0},{"$f":"VLOOKUP(Tabelle323567[[#This Row],[Spalte2]],'Daten '!C26:D120,2,)","v":{"$error":"#N/A"}},0]
[20,{"$f":"'[1]Daten '!C27","v":0},{"$f":"'[1]Daten '!E27","v":0},"0",null,null,null,null,null,null,null,null,null,null,null,null,null,null,null,null,null,null,null,null,null,null,null,null,null,null,null,null,null,null,null,null,{"$f":"SUM(LEN($C34:$AI34))-SUM(LEN(SUBSTITUTE($C34:$AI34,\"a\",\"\")))","v":0},{"$f":"SUM(LEN($C34:$AI34))-SUM(LEN(SUBSTITUTE($C34:$AI34,\"m\",\"\")))","v":0},null,0,{"$f":"COUNTIF($E$34:$AI$34,\"UE\")","v":0},{"$f":"COUNTIF($E$34:$AI$34,\"KA\")","v":0},{"$f":"COUNTIF($E$34:$AI$34,\"E\")","v":0},{"$f":"COUNTIF($E$34:$AI$34,\"ED\")","v":0},{"$f":"COUNTIF($E$34:$AI$34,\"VD\")","v":0},{"$f":"COUNTIF($E$34:$AI$34,\"AD\")","v":0},{"$f":"VLOOKUP(Tabelle323567[[#This Row],[Spalte2]],'Daten '!C27:D121,2,)","v":{"$error":"#N/A"}},0]
[21,{"$f":"'[1]Daten '!C28","v":0},{"$f":"'[1]Daten '!E28","v":0},"0",null,null,null,null,null,null,null,null,null,null,null,null,null,null,null,null,null,null,null,null,null,null,null,null,null,null,null,null,null,null,null,null,{"$f":"SUM(LEN($C35:$AI35))-SUM(LEN(SUBSTITUTE($C35:$AI35,\"a\",\"\")))","v":0},{"$f":"SUM(LEN($C35:$AI35))-SUM(LEN(SUBSTITUTE($C35:$AI35,\"m\",\"\")))","v":0},null,{"$f":"SUM(AK35:AL35)","v":0},{"$f":"COUNTIF($E$35:$AI$35,\"UE\")","v":0},{"$f":"COUNTIF($E$35:$AI$35,\"KA\")","v":0},{"$f":"COUNTIF($E$35:$AI$35,\"E\")","v":0},{"$f":"COUNTIF($E$35:$AI$35,\"ED\")","v":0},{"$f":"COUNTIF($E$35:$AI$35,\"VD\")","v":0},{"$f":"COUNTIF($E$35:$AI$35,\"AD\")","v":0},{"$f":"VLOOKUP(Tabelle323567[[#This Row],[Spalte2]],'Daten '!C28:D122,2,)","v":{"$error":"#N/A"}},0,null,null,null,{"$f":"'[1]Daten '!F28","v":0}]
[22,{"$f":"'[1]Daten '!C29","v":0},{"$f":"'[1]Daten '!E29","v":0},"0",null,null,null,null,null,null,null,null,null,null,null,null,null,null,null,null,null,null,null,null,null,null,null,null,null,null,null,null,null,null,null,null,{"$f":"SUM(LEN($C36:$AI36))-SUM(LEN(SUBSTITUTE($C36:$AI36,\"a\",\"\")))","v":0},{"$f":"SUM(LEN($C36:$AI36))-SUM(LEN(SUBSTITUTE($C36:$AI36,\"m\",\"\")))","v":0},null,{"$f":"SUM(AK36:AL36)","v":0},{"$f":"COUNTIF($E$36:$AI$36,\"UE\")","v":0},{"$f":"COUNTIF($E$36:$AI$36,\"KA\")","v":0},{"$f":"COUNTIF($E$36:$AI$36,\"E\")","v":0},{"$f":"COUNTIF($E$36:$AI$36,\"ED\")","v":0},{"$f":"COUNTIF($E$36:$AI$36,\"VD\")","v":0},{"$f":"COUNTIF($E$36:$AI$36,\"AD\")","v":0},{"$f":"VLOOKUP(Tabelle323567[[#This Row],[Spalte2]],'Daten '!C29:D123,2,)","v":{"$error":"#N/A"}},0,null,null,null,{"$f":"'[1]Daten '!F29","v":0}]
[23,{"$f":"'[1]Daten '!C30","v":0},{"$f":"'[1]Daten '!E30","v":0},"0",null,null,null,null,null,null,null,null,null,null,null,null,null,null,null,null,null,null,null,null,null,null,null,null,null,null,null,null,null,null,null,null,{"$f":"SUM(LEN($C37:$AI37))-SUM(LEN(SUBSTITUTE($C37:$AI37,\"a\",\"\")))","v":0},{"$f":"SUM(LEN($C37:$AI37))-SUM(LEN(SUBSTITUTE($C37:$AI37,\"m\",\"\")))","v":0},null,0,{"$f":"COUNTIF($E$37:$AI$37,\"UE\")","v":0},{"$f":"COUNTIF($E$37:$AI$37,\"KA\")","v":0},{"$f":"COUNTIF($E$37:$AI$37,\"E\")","v":0},{"$f":"COUNTIF($E$37:$AI$37,\"ED\")","v":0},{"$f":"COUNTIF($E$37:$AI$37,\"VD\")","v":0},{"$f":"COUNTIF($E$37:$AI$37,\"AD\")","v":0},{"$f":"VLOOKUP(Tabelle323567[[#This Row],[Spalte2]],'Daten '!C30:D124,2,)","v":{"$error":"#N/A"}},0,null,null,null,{"$f":"'[1]Daten '!F30","v":0}]
[24,{"$f":"'[1]Daten '!C31","v":0},{"$f":"'[1]Daten '!E31","v":0},"0",null,null,null,null,null,null,null,null,null,null,null,null,null,null,null,null,null,null,null,null,null,null,null,null,null,null,null,null,null,null,null,null,{"$f":"SUM(LEN($C38:$AI38))-SUM(LEN(SUBSTITUTE($C38:$AI38,\"a\",\"\")))","v":0},{"$f":"SUM(LEN($C38:$AI38))-SUM(LEN(SUBSTITUTE($C38:$AI38,\"m\",\"\")))","v":0},null,0,{"$f":"COUNTIF($E$38:$AI$38,\"UE\")","v":0},{"$f":"COUNTIF($E$38:$AI$38,\"KA\")","v":0},{"$f":"COUNTIF($E$38:$AI$38,\"E\")","v":0},{"$f":"COUNTIF($E$38:$AI$38,\"ED\")","v":0},{"$f":"COUNTIF($E$38:$AI$38,\"VD\")","v":0},{"$f":"COUNTIF($E$38:$AI$38,\"AD\")","v":0},{"$f":"VLOOKUP(Tabelle323567[[#This Row],[Spalte2]],'Daten '!C31:D125,2,)","v":{"$error":"#N/A"}},0,null,null,null,{"$f":"'[1]Daten '!F31","v":0}]
[25,{"$f":"'[1]Daten '!C32","v":0},{"$f":"'[1]Daten '!E32","v":0},"0",null,null,null,null,null,null,null,null,null,null,null,null,null,null,null,null,null,null,null,null,null,null,null,null,null,null,null,null,null,null,null,null,{"$f":"SUM(LEN($C39:$AI39))-SUM(LEN(SUBSTITUTE($C39:$AI39,\"a\",\"\")))","v":0},{"$f":"SUM(LEN($C39:$AI39))-SUM(LEN(SUBSTITUTE($C39:$AI39,\"m\",\"\")))","v":0},null,0,{"$f":"COUNTIF($E$39:$AI$39,\"UE\")","v":0},{"$f":"COUNTIF($E$39:$AI$39,\"KA\")","v":0},{"$f":"COUNTIF($E$39:$AI$39,\"E\")","v":0},{"$f":"COUNTIF($E$39:$AI$39,\"ED\")","v":0},{"$f":"COUNTIF($E$39:$AI$39,\"VD\")","v":0},{"$f":"COUNTIF($E$39:$AI$39,\"AD\")","v":0},{"$f":"VLOOKUP(Tabelle323567[[#This Row],[Spalte2]],'Daten '!C32:D126,2,)","v":{"$error":"#N/A"}},0,null,null,null,{"$f":"'[1]Daten '!F32","v":0}]
[26,{"$f":"'[1]Daten '!C33","v":0},{"$f":"'[1]Daten '!E33","v":0},"0",null,null,null,null,null,null,null,null,null,null,null,null,null,null,null,null,null,null,null,null,null,null,null,null,null,null,null,null,null,null,null,null,{"$f":"SUM(LEN($C40:$AI40))-SUM(LEN(SUBSTITUTE($C40:$AI40,\"a\",\"\")))","v":0},{"$f":"SUM(LEN($C40:$AI40))-SUM(LEN(SUBSTITUTE($C40:$AI40,\"m\",\"\")))","v":0},null,0,{"$f":"COUNTIF($E$40:$AI$40,\"UE\")","v":0},{"$f":"COUNTIF($E$40:$AI$40,\"KA\")","v":0},{"$f":"COUNTIF($E$40:$AI$40,\"E\")","v":0},{"$f":"COUNTIF($E$40:$AI$40,\"ED\")","v":0},{"$f":"COUNTIF($E$40:$AI$40,\"VD\")","v":0},{"$f":"COUNTIF($E$40:$AI$40,\"AD\")","v":0},{"$f":"VLOOKUP(Tabelle323567[[#This Row],[Spalte2]],'Daten '!C33:D127,2,)","v":{"$error":"#N/A"}},0,null,null,null,{"$f":"'[1]Daten '!F33","v":0}]
[27,{"$f":"'[1]Daten '!C34","v":0},{"$f":"'[1]Daten '!E34","v":0},"0",null,null,null,null,null,null,null,null,null,null,null,null,null,null,null,null,null,null,null,null,null,null,null,null,null,null,null,null,null,null,null,null,{"$f":"SUM(LEN($C41:$AI41))-SUM(LEN(SUBSTITUTE($C41:$AI41,\"a\",\"\")))","v":0},{"$f":"SUM(LEN($C41:$AI41))-SUM(LEN(SUBSTITUTE($C41:$AI41,\"m\",\"\")))","v":0},null,0,{"$f":"COUNTIF($E$41:$AI$41,\"UE\")","v":0},{"$f":"COUNTIF($E$41:$AI$41,\"KA\")","v":0},{"$f":"COUNTIF($E$41:$AI$41,\"E\")","v":0},{"$f":"COUNTIF($E$41:$AI$41,\"ED\")","v":0},{"$f":"COUNTIF($E$41:$AI$41,\"VD\")","v":0},{"$f":"COUNTIF($E$41:$AI$41,\"AD\")","v":0},{"$f":"VLOOKUP(Tabelle323567[[#This Row],[Spalte2]],'Daten '!C34:D128,2,)","v":{"$error":"#N/A"}},0,null,null,null,{"$f":"'[1]Daten '!F34","v":0}]
[28,{"$f":"'[1]Daten '!C35","v":0},{"$f":"'[1]Daten '!E35","v":0},"0",null,null,null,null,null,null,null,null,null,null,null,null,null,null,null,null,null,null,null,null,null,null,null,null,null,null,null,null,null,null,null,null,{"$f":"SUM(LEN($C42:$AI42))-SUM(LEN(SUBSTITUTE($C42:$AI42,\"a\",\"\")))","v":0},{"$f":"SUM(LEN($C42:$AI42))-SUM(LEN(SUBSTITUTE($C42:$AI42,\"m\",\"\")))","v":0},null,0,{"$f":"COUNTIF($E$42:$AI$42,\"UE\")","v":0},{"$f":"COUNTIF($E$42:$AI$42,\"KA\")","v":0},{"$f":"COUNTIF($E$42:$AI$42,\"E\")","v":0},{"$f":"COUNTIF($E$42:$AI$42,\"ED\")","v":0},{"$f":"COUNTIF($E$42:$AI$42,\"VD\")","v":0},{"$f":"COUNTIF($E$42:$AI$42,\"AD\")","v":0},{"$f":"VLOOKUP(Tabelle323567[[#This Row],[Spalte2]],'Daten '!C35:D129,2,)","v":{"$error":"#N/A"}},0,null,null,null,{"$f":"'[1]Daten '!F35","v":0}]
[29,{"$f":"'[1]Daten '!C36","v":0},{"$f":"'[1]Daten '!E36","v":0},"0",null,null,null,null,null,null,null,null,null,null,null,null,null,null,null,null,null,null,null,null,null,null,null,null,null,null,null,null,null,null,null,null,{"$f":"SUM(LEN($C43:$AI43))-SUM(LEN(SUBSTITUTE($C43:$AI43,\"a\",\"\")))","v":0},{"$f":"SUM(LEN($C43:$AI43))-SUM(LEN(SUBSTITUTE($C43:$AI43,\"m\",\"\")))","v":0},null,0,{"$f":"COUNTIF($E$43:$AI$43,\"UE\")","v":0},{"$f":"COUNTIF($E$43:$AI$43,\"KA\")","v":0},{"$f":"COUNTIF($E$43:$AI$43,\"E\")","v":0},{"$f":"COUNTIF($E$43:$AI$43,\"ED\")","v":0},{"$f":"COUNTIF($E$43:$AI$43,\"VD\")","v":0},{"$f":"COUNTIF($E$43:$AI$43,\"AD\")","v":0},{"$f":"VLOOKUP(Tabelle323567[[#This Row],[Spalte2]],'Daten '!C36:D130,2,)","v":{"$error":"#N/A"}},0,null,null,null,{"$f":"'[1]Daten '!F36","v":0}]
[30,{"$f":"'[1]Daten '!C37","v":0},{"$f":"'[1]Daten '!E37","v":0},"0",null,null,null,null,null,null,null,null,null,null,null,null,null,null,null,null,null,null,null,null,null,null,null,null,null,null,null,null,null,null,null,null,{"$f":"SUM(LEN($C44:$AI44))-SUM(LEN(SUBSTITUTE($C44:$AI44,\"a\",\"\")))","v":0},{"$f":"SUM(LEN($C44:$AI44))-SUM(LEN(SUBSTITUTE($C44:$AI44,\"m\",\"\")))","v":0},null,0,{"$f":"COUNTIF($E$44:$AI$44,\"UE\")","v":0},{"$f":"COUNTIF($E$44:$AI$44,\"KA\")","v":0},{"$f":"COUNTIF($E$44:$AI$44,\"E\")","v":0},{"$f":"COUNTIF($E$44:$AI$44,\"ED\")","v":0},{"$f":"COUNTIF($E$44:$AI$44,\"VD\")","v":0},{"$f":"COUNTIF($E$44:$AI$44,\"AD\")","v":0},{"$f":"VLOOKUP(Tabelle323567[[#This Row],[Spalte2]],'Daten '!C37:D131,2,)","v":{"$error":"#N/A"}},0,null,null,null,{"$f":"'[1]Daten '!F37","v":0}]
[31,{"$f":"'[1]Daten '!C38","v":0},{"$f":"'[1]Daten '!E38","v":0},"0",null,null,null,null,null,null,null,null,null,null,null,null,null,null,null,null,null,null,null,null,null,null,null,null,null,null,null,null,null,null,null,null,{"$f":"SUM(LEN($C45:$AI45))-SUM(LEN(SUBSTITUTE($C45:$AI45,\"a\",\"\")))","v":0},{"$f":"SUM(LEN($C45:$AI45))-SUM(LEN(SUBSTITUTE($C45:$AI45,\"m\",\"\")))","v":0},null,0,{"$f":"COUNTIF($E$45:$AI$45,\"UE\")","v":0},{"$f":"COUNTIF($E$45:$AI$45,\"KA\")","v":0},{"$f":"COUNTIF($E$45:$AI$45,\"E\")","v":0},{"$f":"COUNTIF($E$45:$AI$45,\"ED\")","v":0},{"$f":"COUNTIF($E$45:$AI$45,\"VD\")","v":0},{"$f":"COUNTIF($E$45:$AI$45,\"AD\")","v":0},{"$f":"VLOOKUP(Tabelle323567[[#This Row],[Spalte2]],'Daten '!C38:D132,2,)","v":{"$error":"#N/A"}},0,null,null,null,{"$f":"'[1]Daten '!F38","v":0}]
[32,{"$f":"'[1]Daten '!C39","v":0},{"$f":"'[1]Daten '!E39","v":0},"0",null,null,null,null,null,null,null,null,null,null,null,null,null,null,null,null,null,null,null,null,null,null,null,null,null,null,null,null,null,null,null,null,{"$f":"SUM(LEN($C46:$AI46))-SUM(LEN(SUBSTITUTE($C46:$AI46,\"a\",\"\")))","v":0},{"$f":"SUM(LEN($C46:$AI46))-SUM(LEN(SUBSTITUTE($C46:$AI46,\"m\",\"\")))","v":0},null,0,{"$f":"COUNTIF($E$46:$AI$46,\"UE\")","v":0},{"$f":"COUNTIF($E$46:$AI$46,\"KA\")","v":0},{"$f":"COUNTIF($E$46:$AI$46,\"E\")","v":0},{"$f":"COUNTIF($E$46:$AI$46,\"ED\")","v":0},{"$f":"COUNTIF($E$46:$AI$46,\"VD\")","v":0},{"$f":"COUNTIF($E$46:$AI$46,\"AD\")","v":0},{"$f":"VLOOKUP(Tabelle323567[[#This Row],[Spalte2]],'Daten '!C39:D133,2,)","v":{"$error":"#N/A"}},0,null,null,null,{"$f":"'[1]Daten '!F39","v":0}]
[33,{"$f":"'[1]Daten '!C40","v":0},{"$f":"'[1]Daten '!E40","v":0},"0",null,null,null,null,null,null,null,null,null,null,null,null,null,null,null,null,null,null,null,null,null,null,null,null,null,null,null,null,null,null,null,null,{"$f":"SUM(LEN($C47:$AI47))-SUM(LEN(SUBSTITUTE($C47:$AI47,\"a\",\"\")))","v":0},{"$f":"SUM(LEN($C47:$AI47))-SUM(LEN(SUBSTITUTE($C47:$AI47,\"m\",\"\")))","v":0},null,0,{"$f":"COUNTIF($E$47:$AI$47,\"UE\")","v":0},{"$f":"COUNTIF($E$47:$AI$47,\"KA\")","v":0},{"$f":"COUNTIF($E$47:$AI$47,\"E\")","v":0},{"$f":"COUNTIF($E$47:$AI$47,\"ED\")","v":0},{"$f":"COUNTIF($E$47:$AI$47,\"VD\")","v":0},{"$f":"COUNTIF($E$47:$AI$47,\"AD\")","v":0},{"$f":"VLOOKUP(Tabelle323567[[#This Row],[Spalte2]],'Daten '!C40:D134,2,)","v":{"$error":"#N/A"}},0,null,null,null,{"$f":"'[1]Daten '!F40","v":0}]
[34,{"$f":"'[1]Daten '!C41","v":0},{"$f":"'[1]Daten '!E41","v":0},"0",null,null,null,null,null,null,null,null,null,null,null,null,null,null,null,null,null,null,null,null,null,null,null,null,null,null,null,null,null,null,null,null,{"$f":"SUM(LEN($C48:$AI48))-SUM(LEN(SUBSTITUTE($C48:$AI48,\"a\",\"\")))","v":0},{"$f":"SUM(LEN($C48:$AI48))-SUM(LEN(SUBSTITUTE($C48:$AI48,\"m\",\"\")))","v":0},null,0,{"$f":"COUNTIF($E$48:$AI$48,\"UE\")","v":0},{"$f":"COUNTIF($E$48:$AI$48,\"KA\")","v":0},{"$f":"COUNTIF($E$48:$AI$48,\"E\")","v":0},{"$f":"COUNTIF($E$48:$AI$48,\"ED\")","v":0},{"$f":"COUNTIF($E$48:$AI$48,\"VD\")","v":0},{"$f":"COUNTIF($E$48:$AI$48,\"AD\")","v":0},{"$f":"VLOOKUP(Tabelle323567[[#This Row],[Spalte2]],'Daten '!C41:D135,2,)","v":{"$error":"#N/A"}},0,null,null,null,{"$f":"'[1]Daten '!F41","v":0}]
[35,{"$f":"'[1]Daten '!C42","v":0},{"$f":"'[1]Daten '!E42","v":0},"0",null,null,null,null,null,null,null,null,null,null,null,null,null,null,null,null,null,null,null,null,null,null,null,null,null,null,null,null,null,null,null,null,{"$f":"SUM(LEN($C49:$AI49))-SUM(LEN(SUBSTITUTE($C49:$AI49,\"a\",\"\")))","v":0},{"$f":"SUM(LEN($C49:$AI49))-SUM(LEN(SUBSTITUTE($C49:$AI49,\"m\",\"\")))","v":0},null,0,{"$f":"COUNTIF($E$49:$AI$49,\"UE\")","v":0},{"$f":"COUNTIF($E$49:$AI$49,\"KA\")","v":0},{"$f":"COUNTIF($E$49:$AI$49,\"E\")","v":0},{"$f":"COUNTIF($E$49:$AI$49,\"ED\")","v":0},{"$f":"COUNTIF($E$49:$AI$49,\"VD\")","v":0},{"$f":"COUNTIF($E$49:$AI$49,\"AD\")","v":0},{"$f":"VLOOKUP(Tabelle323567[[#This Row],[Spalte2]],'Daten '!C42:D136,2,)","v":{"$error":"#N/A"}},0,null,null,null,{"$f":"'[1]Daten '!F42","v":0}]
[36,{"$f":"'[1]Daten '!C43","v":0},{"$f":"'[1]Daten '!E43","v":0},"0",null,null,null,null,null,null,null,null,null,null,null,null,null,null,null,null,null,null,null,null,null,null,null,null,null,null,null,null,null,null,null,null,{"$f":"SUM(LEN($C50:$AI50))-SUM(LEN(SUBSTITUTE($C50:$AI50,\"a\",\"\")))","v":0},{"$f":"SUM(LEN($C50:$AI50))-SUM(LEN(SUBSTITUTE($C50:$AI50,\"m\",\"\")))","v":0},null,0,{"$f":"COUNTIF($E$50:$AI$50,\"UE\")","v":0},{"$f":"COUNTIF($E$50:$AI$50,\"KA\")","v":0},{"$f":"COUNTIF($E$50:$AI$50,\"E\")","v":0},{"$f":"COUNTIF($E$50:$AI$50,\"ED\")","v":0},{"$f":"COUNTIF($E$50:$AI$50,\"VD\")","v":0},{"$f":"COUNTIF($E$50:$AI$50,\"AD\")","v":0},{"$f":"VLOOKUP(Tabelle323567[[#This Row],[Spalte2]],'Daten '!C43:D137,2,)","v":{"$error":"#N/A"}},0,null,null,null,{"$f":"'[1]Daten '!F43","v":0}]
[37,{"$f":"'[1]Daten '!C44","v":0},{"$f":"'[1]Daten '!E44","v":0},"0",null,null,null,null,null,null,null,null,null,null,null,null,null,null,null,null,null,null,null,null,null,null,null,null,null,null,null,null,null,null,null,null,{"$f":"SUM(LEN($C51:$AI51))-SUM(LEN(SUBSTITUTE($C51:$AI51,\"a\",\"\")))","v":0},{"$f":"SUM(LEN($C51:$AI51))-SUM(LEN(SUBSTITUTE($C51:$AI51,\"m\",\"\")))","v":0},null,0,{"$f":"COUNTIF($E$51:$AI$51,\"UE\")","v":0},{"$f":"COUNTIF($E$51:$AI$51,\"KA\")","v":0},{"$f":"COUNTIF($E$51:$AI$51,\"E\")","v":0},{"$f":"COUNTIF($E$51:$AI$51,\"ED\")","v":0},{"$f":"COUNTIF($E$51:$AI$51,\"VD\")","v":0},{"$f":"COUNTIF($E$51:$AI$51,\"AD\")","v":0},{"$f":"VLOOKUP(Tabelle323567[[#This Row],[Spalte2]],'Daten '!C44:D138,2,)","v":{"$error":"#N/A"}},0,null,null,null,{"$f":"'[1]Daten '!F44","v":0}]
[38,{"$f":"'[1]Daten '!C45","v":0},{"$f":"'[1]Daten '!E45","v":0},"0",null,null,null,null,null,null,null,null,null,null,null,null,null,null,null,null,null,null,null,null,null,null,null,null,null,null,null,null,null,null,null,null,{"$f":"SUM(LEN($C52:$AI52))-SUM(LEN(SUBSTITUTE($C52:$AI52,\"a\",\"\")))","v":0},{"$f":"SUM(LEN($C52:$AI52))-SUM(LEN(SUBSTITUTE($C52:$AI52,\"m\",\"\")))","v":0},null,0,{"$f":"COUNTIF($E$52:$AI$52,\"UE\")","v":0},{"$f":"COUNTIF($E$52:$AI$52,\"KA\")","v":0},{"$f":"COUNTIF($E$52:$AI$52,\"E\")","v":0},{"$f":"COUNTIF($E$52:$AI$52,\"ED\")","v":0},{"$f":"COUNTIF($E$52:$AI$52,\"VD\")","v":0},{"$f":"COUNTIF($E$52:$AI$52,\"AD\")","v":0},{"$f":"VLOOKUP(Tabelle323567[[#This Row],[Spalte2]],'Daten '!C45:D139,2,)","v":{"$error":"#N/A"}},0,null,null,null,{"$f":"'[1]Daten '!F45","v":0}]
[39,{"$f":"'[1]Daten '!C46","v":0},{"$f":"'[1]Daten '!E46","v":0},"0",null,null,null,null,null,null,null,null,null,null,null,null,null,null,null,null,null,null,null,null,null,null,null,null,null,null,null,null,null,null,null,null,{"$f":"SUM(LEN($C53:$AI53))-SUM(LEN(SUBSTITUTE($C53:$AI53,\"a\",\"\")))","v":0},{"$f":"SUM(LEN($C53:$AI53))-SUM(LEN(SUBSTITUTE($C53:$AI53,\"m\",\"\")))","v":0},null,0,{"$f":"COUNTIF($E$53:$AI$53,\"UE\")","v":0},{"$f":"COUNTIF($E$53:$AI$53,\"KA\")","v":0},{"$f":"COUNTIF($E$53:$AI$53,\"E\")","v":0},{"$f":"COUNTIF($E$53:$AI$53,\"ED\")","v":0},{"$f":"COUNTIF($E$53:$AI$53,\"VD\")","v":0},{"$f":"COUNTIF($E$53:$AI$53,\"AD\")","v":0},{"$f":"VLOOKUP(Tabelle323567[[#This Row],[Spalte2]],'Daten '!C46:D140,2,)","v":{"$error":"#N/A"}},0,null,null,null,{"$f":"'[1]Daten '!F46","v":0}]
[40,{"$f":"'[1]Daten '!C47","v":0},{"$f":"'[1]Daten '!E47","v":0},"0",null,null,null,null,null,null,null,null,null,null,null,null,null,null,null,null,null,null,null,null,null,null,null,null,null,null,null,null,null,null,null,null,{"$f":"SUM(LEN($C54:$AI54))-SUM(LEN(SUBSTITUTE($C54:$AI54,\"a\",\"\")))","v":0},{"$f":"SUM(LEN($C54:$AI54))-SUM(LEN(SUBSTITUTE($C54:$AI54,\"m\",\"\")))","v":0},null,0,{"$f":"COUNTIF($E$54:$AI$54,\"UE\")","v":0},{"$f":"COUNTIF($E$54:$AI$54,\"KA\")","v":0},{"$f":"COUNTIF($E$54:$AI$54,\"E\")","v":0},{"$f":"COUNTIF($E$54:$AI$54,\"ED\")","v":0},{"$f":"COUNTIF($E$54:$AI$54,\"VD\")","v":0},{"$f":"COUNTIF($E$54:$AI$54,\"AD\")","v":0},{"$f":"VLOOKUP(Tabelle323567[[#This Row],[Spalte2]],'Daten '!C47:D141,2,)","v":{"$error":"#N/A"}},0,null,null,null,{"$f":"'[1]Daten '!F47","v":0}]
[41,{"$f":"'[1]Daten '!C48","v":0},{"$f":"'[1]Daten '!E48","v":0},"0",null,null,null,null,null,null,null,null,null,null,null,null,null,null,null,null,null,null,null,null,null,null,null,null,null,null,null,null,null,null,null,null,{"$f":"SUM(LEN($C55:$AI55))-SUM(LEN(SUBSTITUTE($C55:$AI55,\"a\",\"\")))","v":0},{"$f":"SUM(LEN($C55:$AI55))-SUM(LEN(SUBSTITUTE($C55:$AI55,\"m\",\"\")))","v":0},null,0,{"$f":"COUNTIF($E$55:$AI$55,\"UE\")","v":0},{"$f":"COUNTIF($E$55:$AI$55,\"KA\")","v":0},{"$f":"COUNTIF($E$55:$AI$55,\"E\")","v":0},{"$f":"COUNTIF($E$55:$AI$55,\"ED\")","v":0},{"$f":"COUNTIF($E$55:$AI$55,\"VD\")","v":0},{"$f":"COUNTIF($E$55:$AI$55,\"AD\")","v":0},{"$f":"VLOOKUP(Tabelle323567[[#This Row],[Spalte2]],'Daten '!C48:D142,2,)","v":{"$error":"#N/A"}},0,null,null,null,{"$f":"'[1]Daten '!F48","v":0}]
[42,{"$f":"'[1]Daten '!C49","v":0},{"$f":"'[1]Daten '!E49","v":0},"0",null,null,null,null,null,null,null,null,null,null,null,null,null,null,null,null,null,null,null,null,null,null,null,null,null,null,null,null,null,null,null,null,{"$f":"SUM(LEN($C56:$AI56))-SUM(LEN(SUBSTITUTE($C56:$AI56,\"a\",\"\")))","v":0},{"$f":"SUM(LEN($C56:$AI56))-SUM(LEN(SUBSTITUTE($C56:$AI56,\"m\",\"\")))","v":0},null,0,{"$f":"COUNTIF($E$56:$AI$56,\"UE\")","v":0},{"$f":"COUNTIF($E$56:$AI$56,\"KA\")","v":0},{"$f":"COUNTIF($E$56:$AI$56,\"E\")","v":0},{"$f":"COUNTIF($E$56:$AI$56,\"ED\")","v":0},{"$f":"COUNTIF($E$56:$AI$56,\"VD\")","v":0},{"$f":"COUNTIF($E$56:$AI$56,\"AD\")","v":0},{"$f":"VLOOKUP(Tabelle323567[[#This Row],[Spalte2]],'Daten '!C49:D143,2,)","v":{"$error":"#N/A"}},0,null,null,null,{"$f":"'[1]Daten '!F49","v":0}]
[43,{"$f":"'[1]Daten '!C50","v":0},{"$f":"'[1]Daten '!E50","v":0},"0",null,null,null,null,null,null,null,null,null,null,null,null,null,null,null,null,null,null,null,null,null,null,null,null,null,null,null,null,null,null,null,null,{"$f":"SUM(LEN($C57:$AI57))-SUM(LEN(SUBSTITUTE($C57:$AI57,\"a\",\"\")))","v":0},{"$f":"SUM(LEN($C57:$AI57))-SUM(LEN(SUBSTITUTE($C57:$AI57,\"m\",\"\")))","v":0},null,0,{"$f":"COUNTIF($E$57:$AI$57,\"UE\")","v":0},{"$f":"COUNTIF($E$57:$AI$57,\"KA\")","v":0},{"$f":"COUNTIF($E$57:$AI$57,\"E\")","v":0},{"$f":"COUNTIF($E$57:$AI$57,\"ED\")","v":0},{"$f":"COUNTIF($E$57:$AI$57,\"VD\")","v":0},{"$f":"COUNTIF($E$57:$AI$57,\"AD\")","v":0},{"$f":"VLOOKUP(Tabelle323567[[#This Row],[Spalte2]],'Daten '!C50:D144,2,)","v":{"$error":"#N/A"}},0,null,null,null,{"$f":"'[1]Daten '!F50","v":0}]
[44,{"$f":"'[1]Daten '!C51","v":0},{"$f":"'[1]Daten '!E51","v":0},"0",null,null,null,null,null,null,null,null,null,null,null,null,null,null,null,null,null,null,null,null,null,null,null,null,null,null,null,null,null,null,null,null,{"$f":"SUM(LEN($C58:$AI58))-SUM(LEN(SUBSTITUTE($C58:$AI58,\"a\",\"\")))","v":0},{"$f":"SUM(LEN($C58:$AI58))-SUM(LEN(SUBSTITUTE($C58:$AI58,\"m\",\"\")))","v":0},null,0,{"$f":"COUNTIF($E$58:$AI$58,\"UE\")","v":0},{"$f":"COUNTIF($E$58:$AI$58,\"KA\")","v":0},{"$f":"COUNTIF($E$58:$AI$58,\"E\")","v":0},{"$f":"COUNTIF($E$58:$AI$58,\"ED\")","v":0},{"$f":"COUNTIF($E$58:$AI$58,\"VD\")","v":0},{"$f":"COUNTIF($E$58:$AI$58,\"AD\")","v":0},{"$f":"VLOOKUP(Tabelle323567[[#This Row],[Spalte2]],'Daten '!C51:D145,2,)","v":{"$error":"#N/A"}},0,null,null,null,{"$f":"'[1]Daten '!F51","v":0}]
[45,{"$f":"'[1]Daten '!C52","v":0},{"$f":"'[1]Daten '!E52","v":0},"0",null,null,null,null,null,null,null,null,null,null,null,null,null,null,null,null,null,null,null,null,null,null,null,null,null,null,null,null,null,null,null,null,{"$f":"SUM(LEN($C59:$AI59))-SUM(LEN(SUBSTITUTE($C59:$AI59,\"a\",\"\")))","v":0},{"$f":"SUM(LEN($C59:$AI59))-SUM(LEN(SUBSTITUTE($C59:$AI59,\"m\",\"\")))","v":0},null,0,{"$f":"COUNTIF($E$59:$AI$59,\"UE\")","v":0},{"$f":"COUNTIF($E$59:$AI$59,\"KA\")","v":0},{"$f":"COUNTIF($E$59:$AI$59,\"E\")","v":0},{"$f":"COUNTIF($E$59:$AI$59,\"ED\")","v":0},{"$f":"COUNTIF($E$59:$AI$59,\"VD\")","v":0},{"$f":"COUNTIF($E$59:$AI$59,\"AD\")","v":0},{"$f":"VLOOKUP(Tabelle323567[[#This Row],[Spalte2]],'Daten '!C52:D146,2,)","v":{"$error":"#N/A"}},0,null,null,null,{"$f":"'[1]Daten '!F52","v":0}]
[46,{"$f":"'[1]Daten '!C53","v":0},{"$f":"'[1]Daten '!E53","v":0},"0",null,null,null,null,null,null,null,null,null,null,null,null,null,null,null,null,null,null,null,null,null,null,null,null,null,null,null,null,null,null,null,null,{"$f":"SUM(LEN($C60:$AI60))-SUM(LEN(SUBSTITUTE($C60:$AI60,\"a\",\"\")))","v":0},{"$f":"SUM(LEN($C60:$AI60))-SUM(LEN(SUBSTITUTE($C60:$AI60,\"m\",\"\")))","v":0},null,0,{"$f":"COUNTIF($E$60:$AI$60,\"UE\")","v":0},{"$f":"COUNTIF($E$60:$AI$60,\"KA\")","v":0},{"$f":"COUNTIF($E$60:$AI$60,\"E\")","v":0},{"$f":"COUNTIF($E$60:$AI$60,\"ED\")","v":0},{"$f":"COUNTIF($E$60:$AI$60,\"VD\")","v":0},{"$f":"COUNTIF($E$60:$AI$60,\"AD\")","v":0},{"$f":"VLOOKUP(Tabelle323567[[#This Row],[Spalte2]],'Daten '!C53:D147,2,)","v":{"$error":"#N/A"}},0,null,null,null,{"$f":"'[1]Daten '!F53","v":0}]
[47,{"$f":"'[1]Daten '!C54","v":0},{"$f":"'[1]Daten '!E54","v":0},"0",null,null,null,null,null,null,null,null,null,null,null,null,null,null,null,null,null,null,null,null,null,null,null,null,null,null,null,null,null,null,null,null,{"$f":"SUM(LEN($C61:$AI61))-SUM(LEN(SUBSTITUTE($C61:$AI61,\"a\",\"\")))","v":0},{"$f":"SUM(LEN($C61:$AI61))-SUM(LEN(SUBSTITUTE($C61:$AI61,\"m\",\"\")))","v":0},null,0,{"$f":"COUNTIF($E$61:$AI$61,\"UE\")","v":0},{"$f":"COUNTIF($E$61:$AI$61,\"KA\")","v":0},{"$f":"COUNTIF($E$61:$AI$61,\"E\")","v":0},{"$f":"COUNTIF($E$61:$AI$61,\"ED\")","v":0},{"$f":"COUNTIF($E$61:$AI$61,\"VD\")","v":0},{"$f":"COUNTIF($E$61:$AI$61,\"AD\")","v":0},{"$f":"VLOOKUP(Tabelle323567[[#This Row],[Spalte2]],'Daten '!C54:D148,2,)","v":{"$error":"#N/A"}},0,null,null,null,{"$f":"'[1]Daten '!F54","v":0}]
[48,{"$f":"'[1]Daten '!C55","v":0},{"$f":"'[1]Daten '!E55","v":0},"0",null,null,null,null,null,null,null,null,null,null,null,null,null,null,null,null,null,null,null,null,null,null,null,null,null,null,null,null,null,null,null,null,{"$f":"SUM(LEN($C62:$AI62))-SUM(LEN(SUBSTITUTE($C62:$AI62,\"a\",\"\")))","v":0},{"$f":"SUM(LEN($C62:$AI62))-SUM(LEN(SUBSTITUTE($C62:$AI62,\"m\",\"\")))","v":0},null,0,{"$f":"COUNTIF($E$62:$AI$62,\"UE\")","v":0},{"$f":"COUNTIF($E$62:$AI$62,\"KA\")","v":0},{"$f":"COUNTIF($E$62:$AI$62,\"E\")","v":0},{"$f":"COUNTIF($E$62:$AI$62,\"ED\")","v":0},{"$f":"COUNTIF($E$62:$AI$62,\"VD\")","v":0},{"$f":"COUNTIF($E$62:$AI$62,\"AD\")","v":0},{"$f":"VLOOKUP(Tabelle323567[[#This Row],[Spalte2]],'Daten '!C55:D149,2,)","v":{"$error":"#N/A"}},0,null,null,null,{"$f":"'[1]Daten '!F55","v":0}]
[49,{"$f":"'[1]Daten '!C56","v":0},{"$f":"'[1]Daten '!E56","v":0},"0",null,null,null,null,null,null,null,null,null,null,null,null,null,null,null,null,null,null,null,null,null,null,null,null,null,null,null,null,null,null,null,null,{"$f":"SUM(LEN($C63:$AI63))-SUM(LEN(SUBSTITUTE($C63:$AI63,\"a\",\"\")))","v":0},{"$f":"SUM(LEN($C63:$AI63))-SUM(LEN(SUBSTITUTE($C63:$AI63,\"m\",\"\")))","v":0},null,0,{"$f":"COUNTIF($E$63:$AI$63,\"UE\")","v":0},{"$f":"COUNTIF($E$63:$AI$63,\"KA\")","v":0},{"$f":"COUNTIF($E$63:$AI$63,\"E\")","v":0},{"$f":"COUNTIF($E$63:$AI$63,\"ED\")","v":0},{"$f":"COUNTIF($E$63:$AI$63,\"VD\")","v":0},{"$f":"COUNTIF($E$63:$AI$63,\"AD\")","v":0},{"$f":"VLOOKUP(Tabelle323567[[#This Row],[Spalte2]],'Daten '!C56:D150,2,)","v":{"$error":"#N/A"}},0,null,null,null,{"$f":"'[1]Daten '!F56","v":0}]
[50,{"$f":"'[1]Daten '!C57","v":0},{"$f":"'[1]Daten '!E57","v":0},"0",null,null,null,null,null,null,null,null,null,null,null,null,null,null,null,null,null,null,null,null,null,null,null,null,null,null,null,null,null,null,null,null,{"$f":"SUM(LEN($C64:$AI64))-SUM(LEN(SUBSTITUTE($C64:$AI64,\"a\",\"\")))","v":0},{"$f":"SUM(LEN($C64:$AI64))-SUM(LEN(SUBSTITUTE($C64:$AI64,\"m\",\"\")))","v":0},null,0,{"$f":"COUNTIF($E$64:$AI$64,\"UE\")","v":0},{"$f":"COUNTIF($E$64:$AI$64,\"KA\")","v":0},{"$f":"COUNTIF($E$64:$AI$64,\"E\")","v":0},{"$f":"COUNTIF($E$64:$AI$64,\"ED\")","v":0},{"$f":"COUNTIF($E$64:$AI$64,\"VD\")","v":0},{"$f":"COUNTIF($E$64:$AI$64,\"AD\")","v":0},{"$f":"VLOOKUP(Tabelle323567[[#This Row],[Spalte2]],'Daten '!C57:D151,2,)","v":{"$error":"#N/A"}},0,null,null,null,{"$f":"'[1]Daten '!F57","v":0}]
[51,{"$f":"'[1]Daten '!C58","v":0},{"$f":"'[1]Daten '!E58","v":0},"0",null,null,null,null,null,null,null,null,null,null,null,null,null,null,null,null,null,null,null,null,null,null,null,null,null,null,null,null,null,null,null,null,{"$f":"SUM(LEN($C65:$AI65))-SUM(LEN(SUBSTITUTE($C65:$AI65,\"a\",\"\")))","v":0},{"$f":"SUM(LEN($C65:$AI65))-SUM(LEN(SUBSTITUTE($C65:$AI65,\"m\",\"\")))","v":0},null,0,{"$f":"COUNTIF($E$65:$AI$65,\"UE\")","v":0},{"$f":"COUNTIF($E$65:$AI$65,\"KA\")","v":0},{"$f":"COUNTIF($E$65:$AI$65,\"E\")","v":0},{"$f":"COUNTIF($E$65:$AI$65,\"ED\")","v":0},{"$f":"COUNTIF($E$65:$AI$65,\"VD\")","v":0},{"$f":"COUNTIF($E$65:$AI$65,\"AD\")","v":0},{"$f":"VLOOKUP(Tabelle323567[[#This Row],[Spalte2]],'Daten '!C58:D152,2,)","v":{"$error":"#N/A"}},0,null,null,null,{"$f":"'[1]Daten '!F58","v":0}]
[52,{"$f":"'[1]Daten '!C59","v":0},{"$f":"'[1]Daten '!E59","v":0},"0",null,null,null,null,null,null,null,null,null,null,null,null,null,null,null,null,null,null,null,null,null,null,null,null,null,null,null,null,null,null,null,null,{"$f":"SUM(LEN($C66:$AI66))-SUM(LEN(SUBSTITUTE($C66:$AI66,\"a\",\"\")))","v":0},{"$f":"SUM(LEN($C66:$AI66))-SUM(LEN(SUBSTITUTE($C66:$AI66,\"m\",\"\")))","v":0},null,0,{"$f":"COUNTIF($E$66:$AI$66,\"UE\")","v":0},{"$f":"COUNTIF($E$66:$AI$66,\"KA\")","v":0},{"$f":"COUNTIF($E$66:$AI$66,\"E\")","v":0},{"$f":"COUNTIF($E$66:$AI$66,\"ED\")","v":0},{"$f":"COUNTIF($E$66:$AI$66,\"VD\")","v":0},{"$f":"COUNTIF($E$66:$AI$66,\"AD\")","v":0},{"$f":"VLOOKUP(Tabelle323567[[#This Row],[Spalte2]],'Daten '!C59:D153,2,)","v":{"$error":"#N/A"}},0,null,null,null,{"$f":"'[1]Daten '!F59","v":0}]
[53,{"$f":"'[1]Daten '!C60","v":0},{"$f":"'[1]Daten '!E60","v":0},"0",null,null,null,null,null,null,null,null,null,null,null,null,null,null,null,null,null,null,null,null,null,null,null,null,null,null,null,null,null,null,null,null,{"$f":"SUM(LEN($C67:$AI67))-SUM(LEN(SUBSTITUTE($C67:$AI67,\"a\",\"\")))","v":0},{"$f":"SUM(LEN($C67:$AI67))-SUM(LEN(SUBSTITUTE($C67:$AI67,\"m\",\"\")))","v":0},null,0,{"$f":"COUNTIF($E$67:$AI$67,\"UE\")","v":0},{"$f":"COUNTIF($E$67:$AI$67,\"KA\")","v":0},{"$f":"COUNTIF($E$67:$AI$67,\"E\")","v":0},{"$f":"COUNTIF($E$67:$AI$67,\"ED\")","v":0},{"$f":"COUNTIF($E$67:$AI$67,\"VD\")","v":0},{"$f":"COUNTIF($E$67:$AI$67,\"AD\")","v":0},{"$f":"VLOOKUP(Tabelle323567[[#This Row],[Spalte2]],'Daten '!C60:D154,2,)","v":{"$error":"#N/A"}},0,null,null,null,{"$f":"'[1]Daten '!F60","v":0}]
[54,{"$f":"'[1]Daten '!C61","v":0},{"$f":"'[1]Daten '!E61","v":0},"0",null,null,null,null,null,null,null,null,null,null,null,null,null,null,null,null,null,null,null,null,null,null,null,null,null,null,null,null,null,null,null,null,{"$f":"SUM(LEN($C68:$AI68))-SUM(LEN(SUBSTITUTE($C68:$AI68,\"a\",\"\")))","v":0},{"$f":"SUM(LEN($C68:$AI68))-SUM(LEN(SUBSTITUTE($C68:$AI68,\"m\",\"\")))","v":0},null,0,{"$f":"COUNTIF($E$68:$AI$68,\"UE\")","v":0},{"$f":"COUNTIF($E$68:$AI$68,\"KA\")","v":0},{"$f":"COUNTIF($E$68:$AI$68,\"E\")","v":0},{"$f":"COUNTIF($E$68:$AI$68,\"ED\")","v":0},{"$f":"COUNTIF($E$68:$AI$68,\"VD\")","v":0},{"$f":"COUNTIF($E$68:$AI$68,\"AD\")","v":0},{"$f":"VLOOKUP(Tabelle323567[[#This Row],[Spalte2]],'Daten '!C61:D155,2,)","v":{"$error":"#N/A"}},0,null,null,null,{"$f":"'[1]Daten '!F61","v":0}]
[55,{"$f":"'[1]Daten '!C62","v":0},{"$f":"'[1]Daten '!E62","v":0},"0",null,null,null,null,null,null,null,null,null,null,null,null,null,null,null,null,null,null,null,null,null,null,null,null,null,null,null,null,null,null,null,null,{"$f":"SUM(LEN($C69:$AI69))-SUM(LEN(SUBSTITUTE($C69:$AI69,\"a\",\"\")))","v":0},{"$f":"SUM(LEN($C69:$AI69))-SUM(LEN(SUBSTITUTE($C69:$AI69,\"m\",\"\")))","v":0},null,0,{"$f":"COUNTIF($E$69:$AI$69,\"UE\")","v":0},{"$f":"COUNTIF($E$69:$AI$69,\"KA\")","v":0},{"$f":"COUNTIF($E$69:$AI$69,\"E\")","v":0},{"$f":"COUNTIF($E$69:$AI$69,\"ED\")","v":0},{"$f":"COUNTIF($E$69:$AI$69,\"VD\")","v":0},{"$f":"COUNTIF($E$69:$AI$69,\"AD\")","v":0},{"$f":"VLOOKUP(Tabelle323567[[#This Row],[Spalte2]],'Daten '!C62:D156,2,)","v":{"$error":"#N/A"}},0,null,null,null,{"$f":"'[1]Daten '!F62","v":0}]
[56,{"$f":"'[1]Daten '!C63","v":0},{"$f":"'[1]Daten '!E63","v":0},"0",null,null,null,null,null,null,null,null,null,null,null,null,null,null,null,null,null,null,null,null,null,null,null,null,null,null,null,null,null,null,null,null,{"$f":"SUM(LEN($C70:$AI70))-SUM(LEN(SUBSTITUTE($C70:$AI70,\"a\",\"\")))","v":0},{"$f":"SUM(LEN($C70:$AI70))-SUM(LEN(SUBSTITUTE($C70:$AI70,\"m\",\"\")))","v":0},null,0,{"$f":"COUNTIF($E$70:$AI$70,\"UE\")","v":0},{"$f":"COUNTIF($E$70:$AI$70,\"KA\")","v":0},{"$f":"COUNTIF($E$70:$AI$70,\"E\")","v":0},{"$f":"COUNTIF($E$70:$AI$70,\"ED\")","v":0},{"$f":"COUNTIF($E$70:$AI$70,\"VD\")","v":0},{"$f":"COUNTIF($E$70:$AI$70,\"AD\")","v":0},{"$f":"VLOOKUP(Tabelle323567[[#This Row],[Spalte2]],'Daten '!C63:D157,2,)","v":{"$error":"#N/A"}},0,null,null,null,{"$f":"'[1]Daten '!F63","v":0}]
[57,{"$f":"'[1]Daten '!C64","v":0},{"$f":"'[1]Daten '!E64","v":0},"0",null,null,null,null,null,null,null,null,null,null,null,null,null,null,null,null,null,null,null,null,null,null,null,null,null,null,null,null,null,null,null,null,{"$f":"SUM(LEN($C71:$AI71))-SUM(LEN(SUBSTITUTE($C71:$AI71,\"a\",\"\")))","v":0},{"$f":"SUM(LEN($C71:$AI71))-SUM(LEN(SUBSTITUTE($C71:$AI71,\"m\",\"\")))","v":0},null,0,{"$f":"COUNTIF($E$71:$AI$71,\"UE\")","v":0},{"$f":"COUNTIF($E$71:$AI$71,\"KA\")","v":0},{"$f":"COUNTIF($E$71:$AI$71,\"E\")","v":0},{"$f":"COUNTIF($E$71:$AI$71,\"ED\")","v":0},{"$f":"COUNTIF($E$71:$AI$71,\"VD\")","v":0},{"$f":"COUNTIF($E$71:$AI$71,\"AD\")","v":0},{"$f":"VLOOKUP(Tabelle323567[[#This Row],[Spalte2]],'Daten '!C64:D158,2,)","v":{"$error":"#N/A"}},0,null,null,null,{"$f":"'[1]Daten '!F64","v":0}]
[58,{"$f":"'[1]Daten '!C65","v":0},{"$f":"'[1]Daten '!E65","v":0},"0",null,null,null,null,null,null,null,null,null,null,null,null,null,null,null,null,null,null,null,null,null,null,null,null,null,null,null,null,null,null,null,null,{"$f":"SUM(LEN($C72:$AI72))-SUM(LEN(SUBSTITUTE($C72:$AI72,\"a\",\"\")))","v":0},{"$f":"SUM(LEN($C72:$AI72))-SUM(LEN(SUBSTITUTE($C72:$AI72,\"m\",\"\")))","v":0},null,0,{"$f":"COUNTIF($E$72:$AI$72,\"UE\")","v":0},{"$f":"COUNTIF($E$72:$AI$72,\"KA\")","v":0},{"$f":"COUNTIF($E$72:$AI$72,\"E\")","v":0},{"$f":"COUNTIF($E$72:$AI$72,\"ED\")","v":0},{"$f":"COUNTIF($E$72:$AI$72,\"VD\")","v":0},{"$f":"COUNTIF($E$72:$AI$72,\"AD\")","v":0},{"$f":"VLOOKUP(Tabelle323567[[#This Row],[Spalte2]],'Daten '!C65:D159,2,)","v":{"$error":"#N/A"}},0,null,null,null,{"$f":"'[1]Daten '!F65","v":0}]
[59,{"$f":"'[1]Daten '!C66","v":0},{"$f":"'[1]Daten '!E66","v":0},"0",null,null,null,null,null,null,null,null,null,null,null,null,null,null,null,null,null,null,null,null,null,null,null,null,null,null,null,null,null,null,null,null,{"$f":"SUM(LEN($C73:$AI73))-SUM(LEN(SUBSTITUTE($C73:$AI73,\"a\",\"\")))","v":0},{"$f":"SUM(LEN($C73:$AI73))-SUM(LEN(SUBSTITUTE($C73:$AI73,\"m\",\"\")))","v":0},null,0,{"$f":"COUNTIF($E$73:$AI$73,\"UE\")","v":0},{"$f":"COUNTIF($E$73:$AI$73,\"KA\")","v":0},{"$f":"COUNTIF($E$73:$AI$73,\"E\")","v":0},{"$f":"COUNTIF($E$73:$AI$73,\"ED\")","v":0},{"$f":"COUNTIF($E$73:$AI$73,\"VD\")","v":0},{"$f":"COUNTIF($E$73:$AI$73,\"AD\")","v":0},{"$f":"VLOOKUP(Tabelle323567[[#This Row],[Spalte2]],'Daten '!C66:D160,2,)","v":{"$error":"#N/A"}},0,null,null,null,{"$f":"'[1]Daten '!F66","v":0}]
[60,{"$f":"'[1]Daten '!C67","v":0},{"$f":"'[1]Daten '!E67","v":0},"0",null,null,null,null,null,null,null,null,null,null,null,null,null,null,null,null,null,null,null,null,null,null,null,null,null,null,null,null,null,null,null,null,{"$f":"SUM(LEN($C74:$AI74))-SUM(LEN(SUBSTITUTE($C74:$AI74,\"a\",\"\")))","v":0},{"$f":"SUM(LEN($C74:$AI74))-SUM(LEN(SUBSTITUTE($C74:$AI74,\"m\",\"\")))","v":0},null,0,{"$f":"COUNTIF($E$74:$AI$74,\"UE\")","v":0},{"$f":"COUNTIF($E$74:$AI$74,\"KA\")","v":0},{"$f":"COUNTIF($E$74:$AI$74,\"E\")","v":0},{"$f":"COUNTIF($E$74:$AI$74,\"ED\")","v":0},{"$f":"COUNTIF($E$74:$AI$74,\"VD\")","v":0},{"$f":"COUNTIF($E$74:$AI$74,\"AD\")","v":0},{"$f":"VLOOKUP(Tabelle323567[[#This Row],[Spalte2]],'Daten '!C67:D161,2,)","v":{"$error":"#N/A"}},0,null,null,null,{"$f":"'[1]Daten '!F67","v":0}]
[61,{"$f":"'[1]Daten '!C68","v":0},{"$f":"'[1]Daten '!E68","v":0},"0",null,null,null,null,null,null,null,null,null,null,null,null,null,null,null,null,null,null,null,null,null,null,null,null,null,null,null,null,null,null,null,null,{"$f":"SUM(LEN($C75:$AI75))-SUM(LEN(SUBSTITUTE($C75:$AI75,\"a\",\"\")))","v":0},{"$f":"SUM(LEN($C75:$AI75))-SUM(LEN(SUBSTITUTE($C75:$AI75,\"m\",\"\")))","v":0},null,0,{"$f":"COUNTIF($E$75:$AI$75,\"UE\")","v":0},{"$f":"COUNTIF($E$75:$AI$75,\"KA\")","v":0},{"$f":"COUNTIF($E$75:$AI$75,\"E\")","v":0},{"$f":"COUNTIF($E$75:$AI$75,\"ED\")","v":0},{"$f":"COUNTIF($E$75:$AI$75,\"VD\")","v":0},{"$f":"COUNTIF($E$75:$AI$75,\"AD\")","v":0},{"$f":"VLOOKUP(Tabelle323567[[#This Row],[Spalte2]],'Daten '!C68:D162,2,)","v":{"$error":"#N/A"}},0,null,null,null,{"$f":"'[1]Daten '!F68","v":0}]
[62,{"$f":"'[1]Daten '!C69","v":0},{"$f":"'[1]Daten '!E69","v":0},"0",null,null,null,null,null,null,null,null,null,null,null,null,null,null,null,null,null,null,null,null,null,null,null,null,null,null,null,null,null,null,null,null,{"$f":"SUM(LEN($C76:$AI76))-SUM(LEN(SUBSTITUTE($C76:$AI76,\"a\",\"\")))","v":0},{"$f":"SUM(LEN($C76:$AI76))-SUM(LEN(SUBSTITUTE($C76:$AI76,\"m\",\"\")))","v":0},null,0,{"$f":"COUNTIF($E$76:$AI$76,\"UE\")","v":0},{"$f":"COUNTIF($E$76:$AI$76,\"KA\")","v":0},{"$f":"COUNTIF($E$76:$AI$76,\"E\")","v":0},{"$f":"COUNTIF($E$76:$AI$76,\"ED\")","v":0},{"$f":"COUNTIF($E$76:$AI$76,\"VD\")","v":0},{"$f":"COUNTIF($E$76:$AI$76,\"AD\")","v":0},{"$f":"VLOOKUP(Tabelle323567[[#This Row],[Spalte2]],'Daten '!C69:D163,2,)","v":{"$error":"#N/A"}},0,null,null,null,{"$f":"'[1]Daten '!F69","v":0}]
[63,{"$f":"'[1]Daten '!C70","v":0},{"$f":"'[1]Daten '!E70","v":0},"0",null,null,null,null,null,null,null,null,null,null,null,null,null,null,null,null,null,null,null,null,null,null,null,null,null,null,null,null,null,null,null,null,{"$f":"SUM(LEN($C77:$AI77))-SUM(LEN(SUBSTITUTE($C77:$AI77,\"a\",\"\")))","v":0},{"$f":"SUM(LEN($C77:$AI77))-SUM(LEN(SUBSTITUTE($C77:$AI77,\"m\",\"\")))","v":0},null,0,{"$f":"COUNTIF($E$77:$AI$77,\"UE\")","v":0},{"$f":"COUNTIF($E$77:$AI$77,\"KA\")","v":0},{"$f":"COUNTIF($E$77:$AI$77,\"E\")","v":0},{"$f":"COUNTIF($E$77:$AI$77,\"ED\")","v":0},{"$f":"COUNTIF($E$77:$AI$77,\"VD\")","v":0},{"$f":"COUNTIF($E$77:$AI$77,\"AD\")","v":0},{"$f":"VLOOKUP(Tabelle323567[[#This Row],[Spalte2]],'Daten '!C70:D164,2,)","v":{"$error":"#N/A"}},0,null,null,null,{"$f":"'[1]Daten '!F70","v":0}]
[64,{"$f":"'[1]Daten '!C71","v":0},{"$f":"'[1]Daten '!E71","v":0},"0",null,null,null,null,null,null,null,null,null,null,null,null,null,null,null,null,null,null,null,null,null,null,null,null,null,null,null,null,null,null,null,null,{"$f":"SUM(LEN($C78:$AI78))-SUM(LEN(SUBSTITUTE($C78:$AI78,\"a\",\"\")))","v":0},{"$f":"SUM(LEN($C78:$AI78))-SUM(LEN(SUBSTITUTE($C78:$AI78,\"m\",\"\")))","v":0},null,0,{"$f":"COUNTIF($E$78:$AI$78,\"UE\")","v":0},{"$f":"COUNTIF($E$78:$AI$78,\"KA\")","v":0},{"$f":"COUNTIF($E$78:$AI$78,\"E\")","v":0},{"$f":"COUNTIF($E$78:$AI$78,\"ED\")","v":0},{"$f":"COUNTIF($E$78:$AI$78,\"VD\")","v":0},{"$f":"COUNTIF($E$78:$AI$78,\"AD\")","v":0},{"$f":"VLOOKUP(Tabelle323567[[#This Row],[Spalte2]],'Daten '!C71:D165,2,)","v":{"$error":"#N/A"}},0,null,null,null,{"$f":"'[1]Daten '!F71","v":0}]
[65,{"$f":"'[1]Daten '!C72","v":0},{"$f":"'[1]Daten '!E72","v":0},{"$f":"IF(AV79>0,\"Diagnostik\",\"0\")","v":"0"},null,null,null,null,null,null,null,null,null,null,null,null,null,null,null,null,null,null,null,null,null,null,null,null,null,null,null,null,null,null,null,null,{"$f":"SUM(LEN($C79:$AI79))-SUM(LEN(SUBSTITUTE($C79:$AI79,\"a\",\"\")))","v":0},{"$f":"SUM(LEN($C79:$AI79))-SUM(LEN(SUBSTITUTE($C79:$AI79,\"m\",\"\")))","v":0},null,0,{"$f":"COUNTIF($E$79:$AI$79,\"UE\")","v":0},{"$f":"COUNTIF($E$79:$AI$79,\"KA\")","v":0},{"$f":"COUNTIF($E$79:$AI$79,\"E\")","v":0},{"$f":"COUNTIF($E$79:$AI$79,\"ED\")","v":0},{"$f":"COUNTIF($E$79:$AI$79,\"VD\")","v":0},{"$f":"COUNTIF($E$79:$AI$79,\"AD\")","v":0},{"$f":"VLOOKUP(Tabelle323567[[#This Row],[Spalte2]],'Daten '!C72:D166,2,)","v":{"$error":"#N/A"}},{"$f":"SUM(AR79:AT79)","v":0},null,null,null,{"$f":"'[1]Daten '!F72","v":0}]
[66,{"$f":"'[1]Daten '!C73","v":0},{"$f":"'[1]Daten '!E73","v":0},"0",null,null,null,null,null,null,null,null,null,null,null,null,null,null,null,null,null,null,null,null,null,null,null,null,null,null,null,null,null,null,null,null,{"$f":"SUM(LEN($C80:$AI80))-SUM(LEN(SUBSTITUTE($C80:$AI80,\"a\",\"\")))","v":0},{"$f":"SUM(LEN($C80:$AI80))-SUM(LEN(SUBSTITUTE($C80:$AI80,\"m\",\"\")))","v":0},null,0,{"$f":"COUNTIF($E$80:$AI$80,\"UE\")","v":0},{"$f":"COUNTIF($E$80:$AI$80,\"KA\")","v":0},{"$f":"COUNTIF($E$80:$AI$80,\"E\")","v":0},{"$f":"COUNTIF($E$80:$AI$80,\"ED\")","v":0},{"$f":"COUNTIF($E$80:$AI$80,\"VD\")","v":0},{"$f":"COUNTIF($E$80:$AI$80,\"AD\")","v":0},{"$f":"VLOOKUP(Tabelle323567[[#This Row],[Spalte2]],'Daten '!C73:D167,2,)","v":{"$error":"#N/A"}},0,null,null,null,{"$f":"'[1]Daten '!F73","v":0}]
[67,{"$f":"'[1]Daten '!C74","v":0},{"$f":"'[1]Daten '!E74","v":0},"0",null,null,null,null,null,null,null,null,null,null,null,null,null,null,null,null,null,null,null,null,null,null,null,null,null,null,null,null,null,null,null,null,{"$f":"SUM(LEN($C81:$AI81))-SUM(LEN(SUBSTITUTE($C81:$AI81,\"a\",\"\")))","v":0},{"$f":"SUM(LEN($C81:$AI81))-SUM(LEN(SUBSTITUTE($C81:$AI81,\"m\",\"\")))","v":0},null,{"$f":"SUM(AK81:AL81)","v":0},{"$f":"COUNTIF($E$81:$AI$81,\"UE\")","v":0},{"$f":"COUNTIF($E$81:$AI$81,\"KA\")","v":0},{"$f":"COUNTIF($E$81:$AI$81,\"E\")","v":0},{"$f":"COUNTIF($E$81:$AI$81,\"ED\")","v":0},{"$f":"COUNTIF($E$81:$AI$81,\"VD\")","v":0},{"$f":"COUNTIF($E$81:$AI$81,\"AD\")","v":0},{"$f":"VLOOKUP(Tabelle323567[[#This Row],[Spalte2]],'Daten '!C74:D168,2,)","v":{"$error":"#N/A"}},0,null,null,null,{"$f":"'[1]Daten '!F74","v":0}]
[68,{"$f":"'[1]Daten '!C75","v":0},{"$f":"'[1]Daten '!E75","v":0},"0",null,null,null,null,null,null,null,null,null,null,null,null,null,null,null,null,null,null,null,null,null,null,null,null,null,null,null,null,null,null,null,null,{"$f":"SUM(LEN($C82:$AI82))-SUM(LEN(SUBSTITUTE($C82:$AI82,\"a\",\"\")))","v":0},{"$f":"SUM(LEN($C82:$AI82))-SUM(LEN(SUBSTITUTE($C82:$AI82,\"m\",\"\")))","v":0},null,{"$f":"SUM(AK82:AL82)","v":0},{"$f":"COUNTIF($E$82:$AI$82,\"UE\")","v":0},{"$f":"COUNTIF($E$82:$AI$82,\"KA\")","v":0},{"$f":"COUNTIF($E$82:$AI$82,\"E\")","v":0},{"$f":"COUNTIF($E$82:$AI$82,\"ED\")","v":0},{"$f":"COUNTIF($E$82:$AI$82,\"VD\")","v":0},{"$f":"COUNTIF($E$82:$AI$82,\"AD\")","v":0},{"$f":"VLOOKUP(Tabelle323567[[#This Row],[Spalte2]],'Daten '!C75:D169,2,)","v":{"$error":"#N/A"}},0,null,null,null,{"$f":"'[1]Daten '!F75","v":0}]
[69,{"$f":"'[1]Daten '!C76","v":0},{"$f":"'[1]Daten '!E76","v":0},"0",null,null,null,null,null,null,null,null,null,null,null,null,null,null,null,null,null,null,null,null,null,null,null,null,null,null,null,null,null,null,null,null,{"$f":"SUM(LEN($C83:$AI83))-SUM(LEN(SUBSTITUTE($C83:$AI83,\"a\",\"\")))","v":0},{"$f":"SUM(LEN($C83:$AI83))-SUM(LEN(SUBSTITUTE($C83:$AI83,\"m\",\"\")))","v":0},null,0,{"$f":"COUNTIF($E$83:$AI$83,\"UE\")","v":0},{"$f":"COUNTIF($E$83:$AI$83,\"KA\")","v":0},{"$f":"COUNTIF($E$83:$AI$83,\"E\")","v":0},{"$f":"COUNTIF($E$83:$AI$83,\"ED\")","v":0},{"$f":"COUNTIF($E$83:$AI$83,\"VD\")","v":0},{"$f":"COUNTIF($E$83:$AI$83,\"AD\")","v":0},{"$f":"VLOOKUP(Tabelle323567[[#This Row],[Spalte2]],'Daten '!C76:D170,2,)","v":{"$error":"#N/A"}},0,null,null,null,{"$f":"'[1]Daten '!F76","v":0}]
[70,{"$f":"'[1]Daten '!C77","v":0},{"$f":"'[1]Daten '!E77","v":0},"0",null,null,null,null,null,null,null,null,null,null,null,null,null,null,null,null,null,null,null,null,null,null,null,null,null,null,null,null,null,null,null,null,{"$f":"SUM(LEN($C84:$AI84))-SUM(LEN(SUBSTITUTE($C84:$AI84,\"a\",\"\")))","v":0},{"$f":"SUM(LEN($C84:$AI84))-SUM(LEN(SUBSTITUTE($C84:$AI84,\"m\",\"\")))","v":0},null,0,{"$f":"COUNTIF($E$84:$AI$84,\"UE\")","v":0},{"$f":"COUNTIF($E$84:$AI$84,\"KA\")","v":0},{"$f":"COUNTIF($E$84:$AI$84,\"E\")","v":0},{"$f":"COUNTIF($E$84:$AI$84,\"ED\")","v":0},{"$f":"COUNTIF($E$84:$AI$84,\"VD\")","v":0},{"$f":"COUNTIF($E$84:$AI$84,\"AD\")","v":0},{"$f":"VLOOKUP(Tabelle323567[[#This Row],[Spalte2]],'Daten '!C77:D171,2,)","v":{"$error":"#N/A"}},0,null,null,null,{"$f":"'[1]Daten '!F77","v":0}]
[71,{"$f":"'[1]Daten '!C78","v":0},{"$f":"'[1]Daten '!E78","v":0},"0",null,null,null,null,null,null,null,null,null,null,null,null,null,null,null,null,null,null,null,null,null,null,null,null,null,null,null,null,null,null,null,null,{"$f":"SUM(LEN($C85:$AI85))-SUM(LEN(SUBSTITUTE($C85:$AI85,\"a\",\"\")))","v":0},{"$f":"SUM(LEN($C85:$AI85))-SUM(LEN(SUBSTITUTE($C85:$AI85,\"m\",\"\")))","v":0},null,0,{"$f":"COUNTIF($E$85:$AI$85,\"UE\")","v":0},{"$f":"COUNTIF($E$85:$AI$85,\"KA\")","v":0},{"$f":"COUNTIF($E$85:$AI$85,\"E\")","v":0},{"$f":"COUNTIF($E$85:$AI$85,\"ED\")","v":0},{"$f":"COUNTIF($E$85:$AI$85,\"VD\")","v":0},{"$f":"COUNTIF($E$85:$AI$85,\"AD\")","v":0},{"$f":"VLOOKUP(Tabelle323567[[#This Row],[Spalte2]],'Daten '!C78:D172,2,)","v":{"$error":"#N/A"}},0,null,null,null,{"$f":"'[1]Daten '!F78","v":0}]
[72,{"$f":"'[1]Daten '!C79","v":0},{"$f":"'[1]Daten '!E79","v":0},"0",null,null,null,null,null,null,null,null,null,null,null,null,null,null,null,null,null,null,null,null,null,null,null,null,null,null,null,null,null,null,null,null,{"$f":"SUM(LEN($C86:$AI86))-SUM(LEN(SUBSTITUTE($C86:$AI86,\"a\",\"\")))","v":0},{"$f":"SUM(LEN($C86:$AI86))-SUM(LEN(SUBSTITUTE($C86:$AI86,\"m\",\"\")))","v":0},null,0,{"$f":"COUNTIF($E$86:$AI$86,\"UE\")","v":0},{"$f":"COUNTIF($E$86:$AI$86,\"KA\")","v":0},{"$f":"COUNTIF($E$86:$AI$86,\"E\")","v":0},{"$f":"COUNTIF($E$86:$AI$86,\"ED\")","v":0},{"$f":"COUNTIF($E$86:$AI$86,\"VD\")","v":0},{"$f":"COUNTIF($E$86:$AI$86,\"AD\")","v":0},{"$f":"VLOOKUP(Tabelle323567[[#This Row],[Spalte2]],'Daten '!C79:D173,2,)","v":{"$error":"#N/A"}},0,null,null,null,{"$f":"'[1]Daten '!F79","v":0}]
[73,{"$f":"'[1]Daten '!C80","v":0},{"$f":"'[1]Daten '!E80","v":0},"0",null,null,null,null,null,null,null,null,null,null,null,null,null,null,null,null,null,null,null,null,null,null,null,null,null,null,null,null,null,null,null,null,{"$f":"SUM(LEN($C87:$AI87))-SUM(LEN(SUBSTITUTE($C87:$AI87,\"a\",\"\")))","v":0},{"$f":"SUM(LEN($C87:$AI87))-SUM(LEN(SUBSTITUTE($C87:$AI87,\"m\",\"\")))","v":0},null,0,{"$f":"COUNTIF($E$87:$AI$87,\"UE\")","v":0},{"$f":"COUNTIF($E$87:$AI$87,\"KA\")","v":0},{"$f":"COUNTIF($E$87:$AI$87,\"E\")","v":0},{"$f":"COUNTIF($E$87:$AI$87,\"ED\")","v":0},{"$f":"COUNTIF($E$87:$AI$87,\"VD\")","v":0},{"$f":"COUNTIF($E$87:$AI$87,\"AD\")","v":0},{"$f":"VLOOKUP(Tabelle323567[[#This Row],[Spalte2]],'Daten '!C80:D174,2,)","v":{"$error":"#N/A"}},0,null,null,null,{"$f":"'[1]Daten '!F80","v":0}]
[74,{"$f":"'[1]Daten '!C81","v":0},{"$f":"'[1]Daten '!E81","v":0},"0",null,null,null,null,null,null,null,null,null,null,null,null,null,null,null,null,null,null,null,null,null,null,null,null,null,null,null,null,null,null,null,null,{"$f":"SUM(LEN($C88:$AI88))-SUM(LEN(SUBSTITUTE($C88:$AI88,\"a\",\"\")))","v":0},{"$f":"SUM(LEN($C88:$AI88))-SUM(LEN(SUBSTITUTE($C88:$AI88,\"m\",\"\")))","v":0},null,0,{"$f":"COUNTIF($E$88:$AI$88,\"UE\")","v":0},{"$f":"COUNTIF($E$88:$AI$88,\"KA\")","v":0},{"$f":"COUNTIF($E$88:$AI$88,\"E\")","v":0},{"$f":"COUNTIF($E$88:$AI$88,\"ED\")","v":0},{"$f":"COUNTIF($E$88:$AI$88,\"VD\")","v":0},{"$f":"COUNTIF($E$88:$AI$88,\"AD\")","v":0},{"$f":"VLOOKUP(Tabelle323567[[#This Row],[Spalte2]],'Daten '!C81:D175,2,)","v":{"$error":"#N/A"}},0,null,null,null,{"$f":"'[1]Daten '!F81","v":0}]
[75,{"$f":"'[1]Daten '!C82","v":0},{"$f":"'[1]Daten '!E82","v":0},"0",null,null,null,null,null,null,null,null,null,null,null,null,null,null,null,null,null,null,null,null,null,null,null,null,null,null,null,null,null,null,null,null,{"$f":"SUM(LEN($C89:$AI89))-SUM(LEN(SUBSTITUTE($C89:$AI89,\"a\",\"\")))","v":0},{"$f":"SUM(LEN($C89:$AI89))-SUM(LEN(SUBSTITUTE($C89:$AI89,\"m\",\"\")))","v":0},null,0,{"$f":"COUNTIF($E$89:$AI$89,\"UE\")","v":0},{"$f":"COUNTIF($E$89:$AI$89,\"KA\")","v":0},{"$f":"COUNTIF($E$89:$AI$89,\"E\")","v":0},{"$f":"COUNTIF($E$89:$AI$89,\"ED\")","v":0},{"$f":"COUNTIF($E$89:$AI$89,\"VD\")","v":0},{"$f":"COUNTIF($E$89:$AI$89,\"AD\")","v":0},{"$f":"VLOOKUP(Tabelle323567[[#This Row],[Spalte2]],'Daten '!C82:D176,2,)","v":{"$error":"#N/A"}},0,null,null,null,{"$f":"'[1]Daten '!F82","v":0}]
[76,{"$f":"'[1]Daten '!C83","v":0},{"$f":"'[1]Daten '!E83","v":0},"0",null,null,null,null,null,null,null,null,null,null,null,null,null,null,null,null,null,null,null,null,null,null,null,null,null,null,null,null,null,null,null,null,{"$f":"SUM(LEN($C90:$AI90))-SUM(LEN(SUBSTITUTE($C90:$AI90,\"a\",\"\")))","v":0},{"$f":"SUM(LEN($C90:$AI90))-SUM(LEN(SUBSTITUTE($C90:$AI90,\"m\",\"\")))","v":0},null,0,{"$f":"COUNTIF($E$90:$AI$90,\"UE\")","v":0},{"$f":"COUNTIF($E$90:$AI$90,\"KA\")","v":0},{"$f":"COUNTIF($E$90:$AI$90,\"E\")","v":0},{"$f":"COUNTIF($E$90:$AI$90,\"ED\")","v":0},{"$f":"COUNTIF($E$90:$AI$90,\"VD\")","v":0},{"$f":"COUNTIF($E$90:$AI$90,\"AD\")","v":0},{"$f":"VLOOKUP(Tabelle323567[[#This Row],[Spalte2]],'Daten '!C83:D177,2,)","v":{"$error":"#N/A"}},0,null,null,null,{"$f":"'[1]Daten '!F83","v":0}]
[77,{"$f":"'[1]Daten '!C84","v":0},{"$f":"'[1]Daten '!E84","v":0},"0",null,null,null,null,null,null,null,null,null,null,null,null,null,null,null,null,null,null,null,null,null,null,null,null,null,null,null,null,null,null,null,null,{"$f":"SUM(LEN($C91:$AI91))-SUM(LEN(SUBSTITUTE($C91:$AI91,\"a\",\"\")))","v":0},{"$f":"SUM(LEN($C91:$AI91))-SUM(LEN(SUBSTITUTE($C91:$AI91,\"m\",\"\")))","v":0},null,0,{"$f":"COUNTIF($E$91:$AI$91,\"UE\")","v":0},{"$f":"COUNTIF($E$91:$AI$91,\"KA\")","v":0},{"$f":"COUNTIF($E$91:$AI$91,\"E\")","v":0},{"$f":"COUNTIF($E$91:$AI$91,\"ED\")","v":0},{"$f":"COUNTIF($E$91:$AI$91,\"VD\")","v":0},{"$f":"COUNTIF($E$91:$AI$91,\"AD\")","v":0},{"$f":"VLOOKUP(Tabelle323567[[#This Row],[Spalte2]],'Daten '!C84:D178,2,)","v":{"$error":"#N/A"}},0,null,null,null,{"$f":"'[1]Daten '!F84","v":0}]
[78,{"$f":"'[1]Daten '!C85","v":0},{"$f":"'[1]Daten '!E85","v":0},"0",null,null,null,null,null,null,null,null,null,null,null,null,null,null,null,null,null,null,null,null,null,null,null,null,null,null,null,null,null,null,null,null,{"$f":"SUM(LEN($C92:$AI92))-SUM(LEN(SUBSTITUTE($C92:$AI92,\"a\",\"\")))","v":0},{"$f":"SUM(LEN($C92:$AI92))-SUM(LEN(SUBSTITUTE($C92:$AI92,\"m\",\"\")))","v":0},null,0,{"$f":"COUNTIF($E$92:$AI$92,\"UE\")","v":0},{"$f":"COUNTIF($E$92:$AI$92,\"KA\")","v":0},{"$f":"COUNTIF($E$92:$AI$92,\"E\")","v":0},{"$f":"COUNTIF($E$92:$AI$92,\"ED\")","v":0},{"$f":"COUNTIF($E$92:$AI$92,\"VD\")","v":0},{"$f":"COUNTIF($E$92:$AI$92,\"AD\")","v":0},{"$f":"VLOOKUP(Tabelle323567[[#This Row],[Spalte2]],'Daten '!C85:D179,2,)","v":{"$error":"#N/A"}},0,null,null,null,{"$f":"'[1]Daten '!F85","v":0}]
[79,{"$f":"'[1]Daten '!C86","v":0},{"$f":"'[1]Daten '!E86","v":0},"0",null,null,null,null,null,null,null,null,null,null,null,null,null,null,null,null,null,null,null,null,null,null,null,null,null,null,null,null,null,null,null,null,{"$f":"SUM(LEN($C93:$AI93))-SUM(LEN(SUBSTITUTE($C93:$AI93,\"a\",\"\")))","v":0},{"$f":"SUM(LEN($C93:$AI93))-SUM(LEN(SUBSTITUTE($C93:$AI93,\"m\",\"\")))","v":0},null,0,{"$f":"COUNTIF($E$93:$AI$93,\"UE\")","v":0},{"$f":"COUNTIF($E$93:$AI$93,\"KA\")","v":0},{"$f":"COUNTIF($E$93:$AI$93,\"E\")","v":0},{"$f":"COUNTIF($E$93:$AI$93,\"ED\")","v":0},{"$f":"COUNTIF($E$93:$AI$93,\"VD\")","v":0},{"$f":"COUNTIF($E$93:$AI$93,\"AD\")","v":0},{"$f":"VLOOKUP(Tabelle323567[[#This Row],[Spalte2]],'Daten '!C86:D180,2,)","v":{"$error":"#N/A"}},0,null,null,null,{"$f":"'[1]Daten '!F86","v":0}]
[80,{"$f":"'[1]Daten '!C87","v":0},{"$f":"'[1]Daten '!E87","v":0},"0",null,null,null,null,null,null,null,null,null,null,null,null,null,null,null,null,null,null,null,null,null,null,null,null,null,null,null,null,null,null,null,null,{"$f":"SUM(LEN($C94:$AI94))-SUM(LEN(SUBSTITUTE($C94:$AI94,\"a\",\"\")))","v":0},{"$f":"SUM(LEN($C94:$AI94))-SUM(LEN(SUBSTITUTE($C94:$AI94,\"m\",\"\")))","v":0},null,0,{"$f":"COUNTIF($E$94:$AI$94,\"UE\")","v":0},{"$f":"COUNTIF($E$94:$AI$94,\"KA\")","v":0},{"$f":"COUNTIF($E$94:$AI$94,\"E\")","v":0},{"$f":"COUNTIF($E$94:$AI$94,\"ED\")","v":0},{"$f":"COUNTIF($E$94:$AI$94,\"VD\")","v":0},{"$f":"COUNTIF($E$94:$AI$94,\"AD\")","v":0},{"$f":"VLOOKUP(Tabelle323567[[#This Row],[Spalte2]],'Daten '!C87:D181,2,)","v":{"$error":"#N/A"}},0,null,null,null,{"$f":"'[1]Daten '!F87","v":0}]
[81,{"$f":"'[1]Daten '!C88","v":0},{"$f":"'[1]Daten '!E88","v":0},"0",null,null,null,null,null,null,null,null,null,null,null,null,null,null,null,null,null,null,null,null,null,null,null,null,null,null,null,null,null,null,null,null,{"$f":"SUM(LEN($C95:$AI95))-SUM(LEN(SUBSTITUTE($C95:$AI95,\"a\",\"\")))","v":0},{"$f":"SUM(LEN($C95:$AI95))-SUM(LEN(SUBSTITUTE($C95:$AI95,\"m\",\"\")))","v":0},null,{"$f":"SUM(AK95:AL95)","v":0},{"$f":"COUNTIF($E$95:$AI$95,\"UE\")","v":0},{"$f":"COUNTIF($E$95:$AI$95,\"KA\")","v":0},{"$f":"COUNTIF($E$95:$AI$95,\"E\")","v":0},{"$f":"COUNTIF($E$95:$AI$95,\"ED\")","v":0},{"$f":"COUNTIF($E$95:$AI$95,\"VD\")","v":0},{"$f":"COUNTIF($E$95:$AI$95,\"AD\")","v":0},{"$f":"VLOOKUP(Tabelle323567[[#This Row],[Spalte2]],'Daten '!C88:D182,2,)","v":{"$error":"#N/A"}},0,null,null,null,{"$f":"'[1]Daten '!F88","v":0}]
[82,{"$f":"'[1]Daten '!C89","v":0},{"$f":"'[1]Daten '!E89","v":0},"0",null,null,null,null,null,null,null,null,null,null,null,null,null,null,null,null,null,null,null,null,null,null,null,null,null,null,null,null,null,null,null,null,{"$f":"SUM(LEN($C96:$AI96))-SUM(LEN(SUBSTITUTE($C96:$AI96,\"a\",\"\")))","v":0},{"$f":"SUM(LEN($C96:$AI96))-SUM(LEN(SUBSTITUTE($C96:$AI96,\"m\",\"\")))","v":0},null,{"$f":"SUM(AK96:AL96)","v":0},{"$f":"COUNTIF($E$96:$AI$96,\"UE\")","v":0},{"$f":"COUNTIF($E$96:$AI$96,\"KA\")","v":0},{"$f":"COUNTIF($E$96:$AI$96,\"E\")","v":0},{"$f":"COUNTIF($E$96:$AI$96,\"ED\")","v":0},{"$f":"COUNTIF($E$96:$AI$96,\"VD\")","v":0},{"$f":"COUNTIF($E$96:$AI$96,\"AD\")","v":0},{"$f":"VLOOKUP(Tabelle323567[[#This Row],[Spalte2]],'Daten '!C89:D183,2,)","v":{"$error":"#N/A"}},0,null,null,null,{"$f":"'[1]Daten '!F89","v":0}]
[83,{"$f":"'[1]Daten '!C90","v":0},{"$f":"'[1]Daten '!E90","v":0},"0",null,null,null,null,null,null,null,null,null,null,null,null,null,null,null,null,null,null,null,null,null,null,null,null,null,null,null,null,null,null,null,null,{"$f":"SUM(LEN($C97:$AI97))-SUM(LEN(SUBSTITUTE($C97:$AI97,\"a\",\"\")))","v":0},{"$f":"SUM(LEN($C97:$AI97))-SUM(LEN(SUBSTITUTE($C97:$AI97,\"m\",\"\")))","v":0},null,0,{"$f":"COUNTIF($E$97:$AI$97,\"UE\")","v":0},{"$f":"COUNTIF($E$97:$AI$97,\"KA\")","v":0},{"$f":"COUNTIF($E$97:$AI$97,\"E\")","v":0},{"$f":"COUNTIF($E$97:$AI$97,\"ED\")","v":0},{"$f":"COUNTIF($E$97:$AI$97,\"VD\")","v":0},{"$f":"COUNTIF($E$97:$AI$97,\"AD\")","v":0},{"$f":"VLOOKUP(Tabelle323567[[#This Row],[Spalte2]],'Daten '!C90:D184,2,)","v":{"$error":"#N/A"}},0,null,null,null,{"$f":"'[1]Daten '!F90","v":0}]
[84,{"$f":"'[1]Daten '!C91","v":0},{"$f":"'[1]Daten '!E91","v":0},"0",null,null,null,null,null,null,null,null,null,null,null,null,null,null,null,null,null,null,null,null,null,null,null,null,null,null,null,null,null,null,null,null,{"$f":"SUM(LEN($C98:$AI98))-SUM(LEN(SUBSTITUTE($C98:$AI98,\"a\",\"\")))","v":0},{"$f":"SUM(LEN($C98:$AI98))-SUM(LEN(SUBSTITUTE($C98:$AI98,\"m\",\"\")))","v":0},null,0,{"$f":"COUNTIF($E$98:$AI$98,\"UE\")","v":0},{"$f":"COUNTIF($E$98:$AI$98,\"KA\")","v":0},{"$f":"COUNTIF($E$98:$AI$98,\"E\")","v":0},{"$f":"COUNTIF($E$98:$AI$98,\"ED\")","v":0},{"$f":"COUNTIF($E$98:$AI$98,\"VD\")","v":0},{"$f":"COUNTIF($E$98:$AI$98,\"AD\")","v":0},{"$f":"VLOOKUP(Tabelle323567[[#This Row],[Spalte2]],'Daten '!C91:D185,2,)","v":{"$error":"#N/A"}},0,null,null,null,{"$f":"'[1]Daten '!F91","v":0}]
[85,{"$f":"'[1]Daten '!C92","v":0},{"$f":"'[1]Daten '!E92","v":0},"0",null,null,null,null,null,null,null,null,null,null,null,null,null,null,null,null,null,null,null,null,null,null,null,null,null,null,null,null,null,null,null,null,{"$f":"SUM(LEN($C99:$AI99))-SUM(LEN(SUBSTITUTE($C99:$AI99,\"a\",\"\")))","v":0},{"$f":"SUM(LEN($C99:$AI99))-SUM(LEN(SUBSTITUTE($C99:$AI99,\"m\",\"\")))","v":0},null,0,{"$f":"COUNTIF($E$99:$AI$99,\"UE\")","v":0},{"$f":"COUNTIF($E$99:$AI$99,\"KA\")","v":0},{"$f":"COUNTIF($E$99:$AI$99,\"E\")","v":0},{"$f":"COUNTIF($E$99:$AI$99,\"ED\")","v":0},{"$f":"COUNTIF($E$99:$AI$99,\"VD\")","v":0},{"$f":"COUNTIF($E$99:$AI$99,\"AD\")","v":0},{"$f":"VLOOKUP(Tabelle323567[[#This Row],[Spalte2]],'Daten '!C92:D186,2,)","v":{"$error":"#N/A"}},0,null,null,null,{"$f":"'[1]Daten '!F92","v":0}]
[86,{"$f":"'[1]Daten '!C93","v":0},{"$f":"'[1]Daten '!E93","v":0},"0",null,null,null,null,null,null,null,null,null,null,null,null,null,null,null,null,null,null,null,null,null,null,null,null,null,null,null,null,null,null,null,null,{"$f":"SUM(LEN($C100:$AI100))-SUM(LEN(SUBSTITUTE($C100:$AI100,\"a\",\"\")))","v":0},{"$f":"SUM(LEN($C100:$AI100))-SUM(LEN(SUBSTITUTE($C100:$AI100,\"m\",\"\")))","v":0},null,0,{"$f":"COUNTIF($E$100:$AI$100,\"UE\")","v":0},{"$f":"COUNTIF($E$100:$AI$100,\"KA\")","v":0},{"$f":"COUNTIF($E$100:$AI$100,\"E\")","v":0},{"$f":"COUNTIF($E$100:$AI$100,\"ED\")","v":0},{"$f":"COUNTIF($E$100:$AI$100,\"VD\")","v":0},{"$f":"COUNTIF($E$100:$AI$100,\"AD\")","v":0},{"$f":"VLOOKUP(Tabelle323567[[#This Row],[Spalte2]],'Daten '!C93:D187,2,)","v":{"$error":"#N/A"}},0,null,null,null,{"$f":"'[1]Daten '!F93","v":0}]
[87,{"$f":"'[1]Daten '!C94","v":0},{"$f":"'[1]Daten '!E94","v":0},"0",null,null,null,null,null,null,null,null,null,null,null,null,null,null,null,null,null,null,null,null,null,null,null,null,null,null,null,null,null,null,null,null,{"$f":"SUM(LEN($C101:$AI101))-SUM(LEN(SUBSTITUTE($C101:$AI101,\"a\",\"\")))","v":0},{"$f":"SUM(LEN($C101:$AI101))-SUM(LEN(SUBSTITUTE($C101:$AI101,\"m\",\"\")))","v":0},null,0,{"$f":"COUNTIF($E$101:$AI$101,\"UE\")","v":0},{"$f":"COUNTIF($E$101:$AI$101,\"KA\")","v":0},{"$f":"COUNTIF($E$101:$AI$101,\"E\")","v":0},{"$f":"COUNTIF($E$101:$AI$101,\"ED\")","v":0},{"$f":"COUNTIF($E$101:$AI$101,\"VD\")","v":0},{"$f":"COUNTIF($E$101:$AI$101,\"AD\")","v":0},{"$f":"VLOOKUP(Tabelle323567[[#This Row],[Spalte2]],'Daten '!C94:D188,2,)","v":{"$error":"#N/A"}},0,null,null,null,{"$f":"'[1]Daten '!F94","v":0}]
[88,{"$f":"'[1]Daten '!C95","v":0},{"$f":"'[1]Daten '!E95","v":0},"0",null,null,null,null,null,null,null,null,null,null,null,null,null,null,null,null,null,null,null,null,null,null,null,null,null,null,null,null,null,null,null,null,{"$f":"SUM(LEN($C102:$AI102))-SUM(LEN(SUBSTITUTE($C102:$AI102,\"a\",\"\")))","v":0},{"$f":"SUM(LEN($C102:$AI102))-SUM(LEN(SUBSTITUTE($C102:$AI102,\"m\",\"\")))","v":0},null,0,{"$f":"COUNTIF($E$102:$AI$102,\"UE\")","v":0},{"$f":"COUNTIF($E$102:$AI$102,\"KA\")","v":0},{"$f":"COUNTIF($E$102:$AI$102,\"E\")","v":0},{"$f":"COUNTIF($E$102:$AI$102,\"ED\")","v":0},{"$f":"COUNTIF($E$102:$AI$102,\"VD\")","v":0},{"$f":"COUNTIF($E$102:$AI$102,\"AD\")","v":0},{"$f":"VLOOKUP(Tabelle323567[[#This Row],[Spalte2]],'Daten '!C95:D189,2,)","v":{"$error":"#N/A"}},0,null,null,null,{"$f":"'[1]Daten '!F95","v":0}]
[89,{"$f":"'[1]Daten '!C96","v":0},{"$f":"'[1]Daten '!E96","v":0},"0",null,null,null,null,null,null,null,null,null,null,null,null,null,null,null,null,null,null,null,null,null,null,null,null,null,null,null,null,null,null,null,null,{"$f":"SUM(LEN($C103:$AI103))-SUM(LEN(SUBSTITUTE($C103:$AI103,\"a\",\"\")))","v":0},{"$f":"SUM(LEN($C103:$AI103))-SUM(LEN(SUBSTITUTE($C103:$AI103,\"m\",\"\")))","v":0},null,0,{"$f":"COUNTIF($E$103:$AI$103,\"UE\")","v":0},{"$f":"COUNTIF($E$103:$AI$103,\"KA\")","v":0},{"$f":"COUNTIF($E$103:$AI$103,\"E\")","v":0},{"$f":"COUNTIF($E$103:$AI$103,\"ED\")","v":0},{"$f":"COUNTIF($E$103:$AI$103,\"VD\")","v":0},{"$f":"COUNTIF($E$103:$AI$103,\"AD\")","v":0},{"$f":"VLOOKUP(Tabelle323567[[#This Row],[Spalte2]],'Daten '!C96:D190,2,)","v":{"$error":"#N/A"}},0,null,null,null,{"$f":"'[1]Daten '!F96","v":0}]
[90,{"$f":"'[1]Daten '!C97","v":0},{"$f":"'[1]Daten '!E97","v":0},"0",null,null,null,null,null,null,null,null,null,null,null,null,null,null,null,null,null,null,null,null,null,null,null,null,null,null,null,null,null,null,null,null,{"$f":"SUM(LEN($C104:$AI104))-SUM(LEN(SUBSTITUTE($C104:$AI104,\"a\",\"\")))","v":0},{"$f":"SUM(LEN($C104:$AI104))-SUM(LEN(SUBSTITUTE($C104:$AI104,\"m\",\"\")))","v":0},null,0,{"$f":"COUNTIF($E$104:$AI$104,\"UE\")","v":0},{"$f":"COUNTIF($E$104:$AI$104,\"KA\")","v":0},{"$f":"COUNTIF($E$104:$AI$104,\"E\")","v":0},{"$f":"COUNTIF($E$104:$AI$104,\"ED\")","v":0},{"$f":"COUNTIF($E$104:$AI$104,\"VD\")","v":0},{"$f":"COUNTIF($E$104:$AI$104,\"AD\")","v":0},{"$f":"VLOOKUP(Tabelle323567[[#This Row],[Spalte2]],'Daten '!C97:D191,2,)","v":{"$error":"#N/A"}},0,null,null,null,{"$f":"'[1]Daten '!F97","v":0}]
[91,{"$f":"'[1]Daten '!C98","v":0},{"$f":"'[1]Daten '!E98","v":0},"0",null,null,null,null,null,null,null,null,null,null,null,null,null,null,null,null,null,null,null,null,null,null,null,null,null,null,null,null,null,null,null,null,{"$f":"SUM(LEN($C105:$AI105))-SUM(LEN(SUBSTITUTE($C105:$AI105,\"a\",\"\")))","v":0},{"$f":"SUM(LEN($C105:$AI105))-SUM(LEN(SUBSTITUTE($C105:$AI105,\"m\",\"\")))","v":0},null,0,{"$f":"COUNTIF($E$105:$AI$105,\"UE\")","v":0},{"$f":"COUNTIF($E$105:$AI$105,\"KA\")","v":0},{"$f":"COUNTIF($E$105:$AI$105,\"E\")","v":0},{"$f":"COUNTIF($E$105:$AI$105,\"ED\")","v":0},{"$f":"COUNTIF($E$105:$AI$105,\"VD\")","v":0},{"$f":"COUNTIF($E$105:$AI$105,\"AD\")","v":0},{"$f":"VLOOKUP(Tabelle323567[[#This Row],[Spalte2]],'Daten '!C98:D192,2,)","v":{"$error":"#N/A"}},0,null,null,null,{"$f":"'[1]Daten '!F98","v":0}]
[92,{"$f":"'[1]Daten '!C99","v":0},{"$f":"'[1]Daten '!E99","v":0},"0",null,null,null,null,null,null,null,null,null,null,null,null,null,null,null,null,null,null,null,null,null,null,null,null,null,null,null,null,null,null,null,null,{"$f":"SUM(LEN($C106:$AI106))-SUM(LEN(SUBSTITUTE($C106:$AI106,\"a\",\"\")))","v":0},{"$f":"SUM(LEN($C106:$AI106))-SUM(LEN(SUBSTITUTE($C106:$AI106,\"m\",\"\")))","v":0},null,{"$f":"SUM(AK106:AL106)","v":0},{"$f":"COUNTIF($E$106:$AI$106,\"UE\")","v":0},{"$f":"COUNTIF($E$106:$AI$106,\"KA\")","v":0},{"$f":"COUNTIF($E$106:$AI$106,\"E\")","v":0},{"$f":"COUNTIF($E$106:$AI$106,\"ED\")","v":0},{"$f":"COUNTIF($E$106:$AI$106,\"VD\")","v":0},{"$f":"COUNTIF($E$106:$AI$106,\"AD\")","v":0},{"$f":"VLOOKUP(Tabelle323567[[#This Row],[Spalte2]],'Daten '!C99:D193,2,)","v":{"$error":"#N/A"}},0,null,null,null,{"$f":"'[1]Daten '!F99","v":0}]
[93,{"$f":"'[1]Daten '!C100","v":0},{"$f":"'[1]Daten '!E100","v":0},"0",null,null,null,null,null,null,null,null,null,null,null,null,null,null,null,null,null,null,null,null,null,null,null,null,null,null,null,null,null,null,null,null,{"$f":"SUM(LEN($C107:$AI107))-SUM(LEN(SUBSTITUTE($C107:$AI107,\"a\",\"\")))","v":0},{"$f":"SUM(LEN($C107:$AI107))-SUM(LEN(SUBSTITUTE($C107:$AI107,\"m\",\"\")))","v":0},null,{"$f":"SUM(AK107:AL107)","v":0},{"$f":"COUNTIF($E$107:$AI$107,\"UE\")","v":0},{"$f":"COUNTIF($E$107:$AI$107,\"KA\")","v":0},{"$f":"COUNTIF($E$107:$AI$107,\"E\")","v":0},{"$f":"COUNTIF($E$107:$AI$107,\"ED\")","v":0},{"$f":"COUNTIF($E$107:$AI$107,\"VD\")","v":0},{"$f":"COUNTIF($E$107:$AI$107,\"AD\")","v":0},{"$f":"VLOOKUP(Tabelle323567[[#This Row],[Spalte2]],'Daten '!C100:D194,2,)","v":{"$error":"#N/A"}},0,null,null,null,{"$f":"'[1]Daten '!F100","v":0}]
[94,{"$f":"'[1]Daten '!C101","v":0},{"$f":"'[1]Daten '!E101","v":0},"0",null,null,null,null,null,null,null,null,null,null,null,null,null,null,null,null,null,null,null,null,null,null,null,null,null,null,null,null,null,null,null,null,{"$f":"SUM(LEN($C108:$AI108))-SUM(LEN(SUBSTITUTE($C108:$AI108,\"a\",\"\")))","v":0},{"$f":"SUM(LEN($C108:$AI108))-SUM(LEN(SUBSTITUTE($C108:$AI108,\"m\",\"\")))","v":0},null,0,{"$f":"COUNTIF($E$108:$AI$108,\"UE\")","v":0},{"$f":"COUNTIF($E$108:$AI$108,\"KA\")","v":0},{"$f":"COUNTIF($E$108:$AI$108,\"E\")","v":0},{"$f":"COUNTIF($E$108:$AI$108,\"ED\")","v":0},{"$f":"COUNTIF($E$108:$AI$108,\"VD\")","v":0},{"$f":"COUNTIF($E$108:$AI$108,\"AD\")","v":0},{"$f":"VLOOKUP(Tabelle323567[[#This Row],[Spalte2]],'Daten '!C101:D195,2,)","v":{"$error":"#N/A"}},0,null,null,null,{"$f":"'[1]Daten '!F101","v":0}]
[95,{"$f":"'[1]Daten '!C102","v":0},{"$f":"'[1]Daten '!E102","v":0},"0",null,null,null,null,null,null,null,null,null,null,null,null,null,null,null,null,null,null,null,null,null,null,null,null,null,null,null,null,null,null,null,null,{"$f":"SUM(LEN($C109:$AI109))-SUM(LEN(SUBSTITUTE($C109:$AI109,\"a\",\"\")))","v":0},{"$f":"SUM(LEN($C109:$AI109))-SUM(LEN(SUBSTITUTE($C109:$AI109,\"m\",\"\")))","v":0},null,0,{"$f":"COUNTIF($E$109:$AI$109,\"UE\")","v":0},{"$f":"COUNTIF($E$109:$AI$109,\"KA\")","v":0},{"$f":"COUNTIF($E$109:$AI$109,\"E\")","v":0},{"$f":"COUNTIF($E$109:$AI$109,\"ED\")","v":0},{"$f":"COUNTIF($E$109:$AI$109,\"VD\")","v":0},{"$f":"COUNTIF($E$109:$AI$109,\"AD\")","v":0},{"$f":"VLOOKUP(Tabelle323567[[#This Row],[Spalte2]],'Daten '!C102:D196,2,)","v":{"$error":"#N/A"}},0,null,null,null,{"$f":"'[1]Daten '!F102","v":0}]