{"text_format":"1","workbook":"xlsx","n_sheets":2,"sheets":["Liste","Maske"],"not_rendered":{"charts":0,"images":0,"macros":1,"external_links":0,"defined_names":2,"comments":0,"pivot_tables":0},"unopened":[],"bounds":{"document_bytes":16777216,"sheet_cells":100000,"rows_first":2000,"rows_last":500,"rows_between":2000,"halvings":0,"cell_chars":16384,"cell_head_chars":4096},"cells_cut":0,"cells_raw":0,"read":"whole","date_system":"1900"}

{"sheet":"Liste","index":0,"n_rows":223,"n_cols":123,"rows_kept":223,"cut":false,"hidden":false,"merged":[[0,5,0,6],[38,5,39,5],[55,5,56,5],[49,5,50,5],[32,5,37,5],[60,5,61,5],[118,5,119,5],[161,5,162,5],[86,5,89,5],[138,5,140,5],[66,5,71,5]]}
["auff","üllen","Extern","Obst","Lidl","Artikel",null,"Min 2025","MAX 2025","Min 2026","MAX 2026","letzter Preis ","Einkauf","Soll","Ist",{"$f":"TODAY()+5-WEEKDAY(TODAY())+4*(WEEKDAY(TODAY())>7)","v":"2025-12-18"},{"$f":"IF(TODAY()>P1-1,\"\",P1-7)","v":""},"2025-01-02","2025-01-09","2025-01-16","2025-01-23","2025-01-30","2025-02-06","2025-02-13","2025-02-20","2025-02-27","2025-03-06","2025-03-13","2025-03-20","2025-03-27","2025-04-03","2025-04-10","2025-04-17","2025-04-24","2025-05-01","2025-05-08","2025-05-15","2025-05-22","2025-05-29","2025-06-05","2025-06-12","2025-06-19","2025-06-26","2025-07-03","2025-07-10","2025-07-17","2025-07-24","2025-07-31","2025-08-07","2025-08-14","2025-08-21","2025-08-28","2025-09-04","2025-09-11","2025-09-18","2025-09-25","2025-10-02","2025-10-09","2025-10-16","2025-10-23","2025-10-30","2025-11-06","2025-11-13","2025-11-20","2025-11-27","2025-12-04","2025-12-11","2025-12-18","2025-12-25","2026-01-01","2026-01-08","2026-01-15","2026-01-22","2026-01-29","2026-02-05","2026-02-12","2026-02-19","2026-02-26","2026-03-05","2026-03-12","2026-03-19","2026-03-26","2026-04-02","2026-04-09","2026-04-16","2026-04-23","2026-04-30","2026-05-07","2026-05-14","2026-05-21","2026-05-28","2026-06-04","2026-06-11","2026-06-18","2026-06-25","2026-07-02","2026-07-09","2026-07-16","2026-07-23","2026-07-30","2026-08-06","2026-08-13","2026-08-20","2026-08-27","2026-09-03","2026-09-10","2026-09-17","2026-09-24","2026-10-01","2026-10-08","2026-10-15","2026-10-22","2026-10-29","2026-11-05","2026-11-12","2026-11-19","2026-11-26","2026-12-03","2026-12-10","2026-12-17","2026-12-24","2026-12-31","2027-01-07"]
[0,{"$f":"IF(O2<N2,1,0)","v":0},0,0,{"$f":"IF(OR(O2<(N2*0.51),H2=Q2,H2=P2),1,0)","v":0},null,"Artikel 1",{"$f":"MIN($R2:BQ2)","v":99.99},{"$f":"MAX($R2:BQ2)","v":99.99},{"$f":"MIN($BR2:DR2)","v":0},{"$f":"MAX($BR2:DR2)","v":0},{"$f":"IFERROR(LOOKUP(100000,R2:DS2),0)","v":99.99},{"$f":"SUM(N2-O2)","v":0},2,2,{"$f":"INDEX(R2:DS2,MATCH(P$1,R$1:DS$1,0))","v":0},{"$f":"IFERROR(INDEX(R2:DS2,MATCH(Q$1,R$1:DS$1,0)),0)","v":0},null,null,null,null,null,null,null,null,null,null,null,null,99.99,99.99,null,null,null,null,null,null,null,null,null,99.99]
[{"$f":"A2","v":0},{"$f":"IF(O3<N3,B2+1,B2)","v":1},{"$f":"C2","v":0},{"$f":"D2","v":0},{"$f":"IF(OR(O3<(N3*0.51),H3=Q3,H3=P3),E2+1,E2)","v":1},null,"Artikel 2",{"$f":"MIN($R3:BQ3)","v":58.99},{"$f":"MAX($R3:BQ3)","v":58.99},{"$f":"MIN($BR3:DR3)","v":111},{"$f":"MAX($BR3:DR3)","v":222},{"$f":"IFERROR(LOOKUP(100000,R3:DS3),0)","v":111},2,2,null,0,0,null,null,null,null,null,null,null,null,null,null,null,58.99,null,null,58.99,null,null,null,null,null,null,58.99,null,58.99,null,null,null,null,null,null,null,null,null,null,null,null,null,null,null,null,null,null,null,null,null,null,null,null,null,null,null,null,222,111]
[{"$f":"A3","v":0},1,{"$f":"C3","v":0},{"$f":"D3","v":0},{"$f":"IF(OR(O4<(N4*0.51),H4=Q4,H4=P4),E3+1,E3)","v":1},null,"Artikel 3",{"$f":"MIN($R4:BQ4)","v":247.99},{"$f":"MAX($R4:BQ4)","v":307.99},{"$f":"MIN($BR4:DR4)","v":0},{"$f":"MAX($BR4:DR4)","v":0},{"$f":"IFERROR(LOOKUP(100000,R4:DS4),0)","v":307.99},0,7,7,0,0,null,null,null,null,null,247.99,null,null,null,null,null,null,null,null,null,null,null,null,null,null,null,null,null,null,null,null,null,null,null,null,null,null,null,null,null,null,null,307.99]
[0,1,{"$f":"C4","v":0},{"$f":"D4","v":0},1,null,"Artikel 4",{"$f":"MIN($R5:BQ5)","v":239.99},{"$f":"MAX($R5:BQ5)","v":239.99},{"$f":"MIN($BR5:DR5)","v":0},{"$f":"MAX($BR5:DR5)","v":0},239.99,0,1,1,0,0,null,null,null,null,null,null,null,null,null,null,null,null,null,null,null,null,null,null,null,null,null,null,null,null,239.99,null,null,null,null,null,null,239.99]
[{"$f":"IF(O6<N6,A5+1,A5)","v":0},{"$f":"B5","v":1},{"$f":"IF(O6<(N6*0.51),C5+1,C5)","v":0},{"$f":"D5","v":0},{"$f":"E5","v":1},null,"Artikel 5",{"$f":"MIN($R6:BQ6)","v":167},{"$f":"MAX($R6:BQ6)","v":167},{"$f":"MIN($BR6:DR6)","v":0},{"$f":"MAX($BR6:DR6)","v":0},167,0,8,8,0,0,167]
[{"$f":"A6","v":0},1,{"$f":"C6","v":0},0,1,null,"Artikel 6",{"$f":"MIN($R7:BQ7)","v":221.45},{"$f":"MAX($R7:BQ7)","v":319.99},{"$f":"MIN($BR7:DR7)","v":0},{"$f":"MAX($BR7:DR7)","v":0},221.45,-5,4,9,0,0,null,null,null,null,null,null,299.99,null,null,null,null,null,null,null,null,null,null,null,null,null,null,null,null,null,319.99,null,null,null,null,null,null,null,null,null,null,null,null,null,null,null,221.45]
[0,{"$f":"B7","v":1},{"$f":"IF(O8<(N8*0.51),C7+1,C7)","v":0},0,{"$f":"E7","v":1},null,"Artikel 7",{"$f":"MIN($R8:BQ8)","v":410},{"$f":"MAX($R8:BQ8)","v":450},{"$f":"MIN($BR8:DR8)","v":0},{"$f":"MAX($BR8:DR8)","v":0},410,0,2,2,0,0,450,null,null,null,null,null,null,null,null,null,null,null,null,null,null,null,null,null,null,null,null,null,null,null,null,null,null,null,null,null,null,null,null,null,null,null,null,null,410]
[{"$f":"A8","v":0},1,{"$f":"C8","v":0},0,1,null,"Artikel 8",{"$f":"MIN($R9:BQ9)","v":139.99},{"$f":"MAX($R9:BQ9)","v":179.99},{"$f":"MIN($BR9:DR9)","v":0},{"$f":"MAX($BR9:DR9)","v":0},145.99,-1,5,6,0,0,null,null,null,null,null,null,null,null,null,null,null,null,null,null,null,null,null,179.99,null,null,null,null,null,null,null,null,139.99,null,null,null,null,null,null,null,null,145.99]
[0,1,0,0,1,null,"Artikel 9",{"$f":"MIN($R10:BQ10)","v":399.99},{"$f":"MAX($R10:BQ10)","v":399.99},{"$f":"MIN($BR10:DR10)","v":0},{"$f":"MAX($BR10:DR10)","v":0},399.99,0,1,1,0,0,null,null,null,null,null,null,null,null,null,null,null,null,null,null,null,null,null,null,null,null,null,null,null,null,null,399.99]
[0,{"$f":"B10","v":1},0,{"$f":"IF(OR(M11>0,H11=P11),D10+1,D10)","v":1},{"$f":"IF(OR(H11=Q11,H11=P11),E10+1,E10)","v":1},null,"Artikel 10",{"$f":"MIN($R11:BQ11)","v":69.989999999999995},{"$f":"MAX($R11:BQ11)","v":139.99},{"$f":"MIN($BR11:DR11)","v":0},{"$f":"MAX($BR11:DR11)","v":0},69.989999999999995,3,3,null,0,0,94.99,null,89.99,null,null,null,69.989999999999995,null,99.99,null,null,null,119.99,null,69.989999999999995,89.99,99.99,99.99,null,99.99,null,null,null,null,null,null,null,null,null,null,null,null,null,null,139.99,null,79.989999999999995,null,119.99,null,79.989999999999995,null,126.99,109.99,null,null,69.989999999999995,null,null,69.989999999999995]
[0,{"$f":"B11","v":1},0,{"$f":"IF(OR(M12>0,H12=P12),D11+1,D11)","v":2},{"$f":"IF(OR(H12=Q12,H12=P12),E11+1,E11)","v":1},null,"Artikel 11",{"$f":"MIN($R12:BQ12)","v":249.99},{"$f":"MAX($R12:BQ12)","v":299.99},{"$f":"MIN($BR12:DR12)","v":0},{"$f":"MAX($BR12:DR12)","v":0},299.99,2,2,null,0,0,null,null,null,null,null,null,null,null,null,null,null,null,null,null,null,null,null,null,null,null,null,null,null,null,299.99,249.99,299.99]
[0,2,0,{"$f":"D12","v":2},{"$f":"IF(OR(O13<(N13*0.51),H13=Q13,H13=P13),E12+1,E12)","v":1},null,"Artikel 12",{"$f":"MIN($R13:BQ13)","v":189.99},{"$f":"MAX($R13:BQ13)","v":269.99},{"$f":"MIN($BR13:DR13)","v":0},{"$f":"MAX($BR13:DR13)","v":0},269.99,1,8,7,0,0,null,null,null,null,null,null,null,null,null,null,null,null,null,null,null,null,189.99,null,null,null,null,null,null,null,null,null,null,269.99]
[0,2,0,{"$f":"D13","v":2},1,null,"Artikel 13",{"$f":"MIN($R14:BQ14)","v":129.99},{"$f":"MAX($R14:BQ14)","v":142.99},{"$f":"MIN($BR14:DR14)","v":0},{"$f":"MAX($BR14:DR14)","v":0},142.99,0,5,5,0,0,null,null,null,null,null,null,null,null,null,null,null,null,null,null,null,null,null,null,null,null,null,null,null,null,null,129.99,null,null,null,null,null,null,null,null,null,134.99,null,null,null,null,null,null,142.99]
[0,{"$f":"B14","v":2},{"$f":"C14","v":0},{"$f":"IF(OR(M15>0,H15=P15),D14+1,D14)","v":3},{"$f":"IF(OR(H15=Q15,H15=P15),E14+1,E14)","v":1},null,"Artikel 14",{"$f":"MIN($R15:BQ15)","v":129.99},{"$f":"MAX($R15:BQ15)","v":169.99},{"$f":"MIN($BR15:DR15)","v":0},{"$f":"MAX($BR15:DR15)","v":0},134.99,2,2,null,0,0,null,null,null,null,null,null,null,null,null,129.99,null,null,139.99,null,149.49,149.99,null,null,149.49,null,null,null,139.99,null,null,null,null,null,null,null,null,null,169.99,null,null,null,null,null,null,159.99,null,null,null,159.99,null,null,null,null,134.99]
[0,{"$f":"B15","v":2},{"$f":"IF(O16<(N16*0.51),C15+1,C15)","v":0},{"$f":"D15","v":3},{"$f":"E15","v":1},null,"Artikel 15",{"$f":"MIN($R16:BQ16)","v":114.99},{"$f":"MAX($R16:BQ16)","v":114.99},{"$f":"MIN($BR16:DR16)","v":0},{"$f":"MAX($BR16:DR16)","v":0},114.99,0,15,15,0,0,null,null,null,null,null,null,null,null,null,null,null,null,null,null,null,null,null,null,null,null,null,null,null,null,null,null,null,null,null,null,null,114.99]
[0,{"$f":"B16","v":2},0,{"$f":"IF(OR(M17>0,H17=P17),D16+1,D16)","v":4},{"$f":"IF(OR(H17=Q17,H17=P17),E16+1,E16)","v":1},null,"Artikel 16",{"$f":"MIN($R17:BQ17)","v":119.99},{"$f":"MAX($R17:BQ17)","v":209.99},{"$f":"MIN($BR17:DR17)","v":0},{"$f":"MAX($BR17:DR17)","v":0},179.99,2,2,null,0,0,null,null,null,null,null,null,null,null,null,null,null,null,null,null,null,null,null,null,null,null,null,null,null,null,null,169.99,null,null,null,149.99,null,null,null,119.99,null,209.99,null,null,null,null,null,null,164.99,null,null,179.99]
[0,{"$f":"B17","v":2},0,{"$f":"IF(OR(M18>0,H18=P18),D17+1,D17)","v":5},{"$f":"IF(OR(H18=Q18,H18=P18),E17+1,E17)","v":1},null,"Artikel 17",{"$f":"MIN($R18:BQ18)","v":99.99},{"$f":"MAX($R18:BQ18)","v":199.99},{"$f":"MIN($BR18:DR18)","v":0},{"$f":"MAX($BR18:DR18)","v":0},99.99,1,1,null,0,0,null,null,null,null,null,null,null,null,null,null,null,null,null,null,null,null,null,null,null,null,null,null,null,null,null,null,199.99,null,null,null,null,null,null,null,null,null,null,null,null,null,null,109.99,null,null,99.99]
[{"$f":"A18","v":0},2,0,{"$f":"D18","v":5},{"$f":"IF(OR(O19<(N19*0.51),H19=Q19,H19=P19),E18+1,E18)","v":1},null,"Artikel 18",{"$f":"MIN($R19:BQ19)","v":49.99},{"$f":"MAX($R19:BQ19)","v":64.989999999999995},{"$f":"MIN($BR19:DR19)","v":0},{"$f":"MAX($BR19:DR19)","v":0},64.989999999999995,0,20,20,0,0,null,null,null,null,null,null,null,null,null,null,null,null,null,49.99,null,null,null,null,null,null,null,null,null,null,null,55.24,null,null,64.989999999999995]
[0,{"$f":"B19","v":2},0,{"$f":"IF(OR(M20>0,H20=P20),D19+1,D19)","v":6},{"$f":"IF(OR(H20=Q20,H20=P20),E19+1,E19)","v":1},null,"Artikel 19",{"$f":"MIN($R20:BQ20)","v":119.99},{"$f":"MAX($R20:BQ20)","v":199.99},{"$f":"MIN($BR20:DR20)","v":0},{"$f":"MAX($BR20:DR20)","v":0},134.99,2,2,null,0,0,null,null,129.99,null,139.99,null,null,null,null,null,null,null,null,119.99,null,null,null,null,null,null,null,null,null,null,null,null,null,null,null,null,null,null,null,null,null,null,null,null,null,199.99,null,null,null,null,null,null,134.99]
[0,3,{"$f":"C20","v":0},{"$f":"D20","v":6},{"$f":"IF(OR(O21<(N21*0.51),H21=Q21,H21=P21),E20+1,E20)","v":1},null,"Artikel 20",{"$f":"MIN($R21:BQ21)","v":119.99},{"$f":"MAX($R21:BQ21)","v":135.99},{"$f":"MIN($BR21:DR21)","v":0},{"$f":"MAX($BR21:DR21)","v":0},124.99,3,10,7,0,0,null,null,null,null,null,null,null,null,null,null,null,null,124.99,null,null,null,null,null,119.99,null,null,null,null,124.99,null,null,null,124.99,null,124.99,null,null,null,null,null,null,null,null,null,null,135.99,null,124.99]
[0,4,0,6,2,null,"Artikel 21",{"$f":"MIN($R22:BQ22)","v":229.99},{"$f":"MAX($R22:BQ22)","v":399.99},{"$f":"MIN($BR22:DR22)","v":0},{"$f":"MAX($BR22:DR22)","v":0},299.99,1,2,1,0,0,null,289.99,null,null,null,null,null,329.99,null,289.99,null,null,null,null,null,null,229.99,null,null,399.99,null,269.99,null,null,null,null,null,null,null,null,389.99,309.99,null,null,null,null,null,null,299.99]
[{"$f":"A22","v":0},{"$f":"B22","v":4},0,6,2,null,"Artikel 22",{"$f":"MIN($R23:BQ23)","v":0},{"$f":"MAX($R23:BQ23)","v":0},{"$f":"MIN($BR23:DR23)","v":0},{"$f":"MAX($BR23:DR23)","v":0},{"$f":"IFERROR(LOOKUP(100000,R23:DS23),0)","v":0},{"$f":"SUM(N23-O23)","v":0},3,3,{"$f":"INDEX(R23:DS23,MATCH(P$1,R$1:DS$1,0))","v":0},{"$f":"IFERROR(INDEX(R23:DS23,MATCH(Q$1,R$1:DS$1,0)),0)","v":0}]
[{"$f":"A23","v":0},4,0,6,{"$f":"IF(OR(O24<(N24*0.51),H24=Q24,H24=P24),E23+1,E23)","v":2},null,"Artikel 23",{"$f":"MIN($R24:BQ24)","v":42.49},{"$f":"MAX($R24:BQ24)","v":49.99},{"$f":"MIN($BR24:DR24)","v":0},{"$f":"MAX($BR24:DR24)","v":0},42.49,{"$f":"SUM(N24-O24)","v":0},20,20,0,0,null,null,null,null,null,null,null,null,null,null,null,null,null,null,null,null,null,null,null,null,null,null,null,null,null,49.99,null,null,49.99,null,null,42.49]
[0,4,0,6,2,null,"Artikel 24",{"$f":"MIN($R25:BQ25)","v":179.99},{"$f":"MAX($R25:BQ25)","v":209.99},{"$f":"MIN($BR25:DR25)","v":0},{"$f":"MAX($BR25:DR25)","v":0},179.99,-1,2,3,0,0,null,null,null,null,null,null,null,null,null,null,null,null,null,null,null,null,null,null,null,189.99,null,null,null,null,null,null,209.99,null,null,null,null,189.99,null,null,null,null,null,199.99,null,null,null,null,null,null,179.99]
[0,5,0,6,2,null,"Artikel 25",{"$f":"MIN($R26:BQ26)","v":146.99},{"$f":"MAX($R26:BQ26)","v":169.99},{"$f":"MIN($BR26:DR26)","v":0},{"$f":"MAX($BR26:DR26)","v":0},146.99,1,30,29,0,0,null,null,null,null,null,null,null,null,null,null,null,null,null,null,null,null,null,null,null,null,null,null,null,null,null,null,169.99,null,null,null,null,null,null,null,null,null,null,null,null,149.99,null,null,null,null,null,146.99]
[0,6,0,6,2,null,"Artikel 26",{"$f":"MIN($R27:BQ27)","v":94.99},{"$f":"MAX($R27:BQ27)","v":99.99},{"$f":"MIN($BR27:DR27)","v":0},{"$f":"MAX($BR27:DR27)","v":0},99.99,1,10,9,0,0,94.99,null,null,94.99,null,null,null,null,null,null,null,null,null,null,null,null,null,null,null,null,null,null,null,null,null,null,null,null,null,null,null,null,null,null,null,null,null,null,null,null,null,99.99]
[0,6,{"$f":"C27","v":0},6,2,null,"Artikel 27",{"$f":"MIN($R28:BQ28)","v":165.99},{"$f":"MAX($R28:BQ28)","v":174.99},{"$f":"MIN($BR28:DR28)","v":0},{"$f":"MAX($BR28:DR28)","v":0},{"$f":"IFERROR(LOOKUP(100000,R28:DS28),0)","v":165.99},{"$f":"SUM(N28-O28)","v":0},4,4,0,0,null,null,null,null,null,null,null,null,null,null,null,null,null,null,null,null,null,null,null,null,null,null,null,null,null,null,null,null,null,null,null,null,null,null,null,null,null,null,null,174.99,null,null,165.99]
[0,6,{"$f":"C28","v":0},6,2,null,"Artikel 28",{"$f":"MIN($R29:BQ29)","v":299.99},{"$f":"MAX($R29:BQ29)","v":349.99},{"$f":"MIN($BR29:DR29)","v":0},{"$f":"MAX($BR29:DR29)","v":0},299.99,0,10,10,0,0,null,null,null,null,null,null,null,null,null,null,null,null,null,null,null,null,null,null,null,null,null,null,null,null,null,null,null,349.99,null,null,299.99]
[0,{"$f":"B29","v":6},{"$f":"IF(AND(O205=0,(O87+O88+O89+O90)>2),C29+1,C29)","v":0},{"$f":"D29","v":6},2,null,"Artikel 29",{"$f":"MIN($R30:BQ30)","v":50},{"$f":"MAX($R30:BQ30)","v":80},{"$f":"MIN($BR30:DR30)","v":0},{"$f":"MAX($BR30:DR30)","v":0},{"$f":"IFERROR(LOOKUP(100000,R30:DS30),0)","v":80},{"$f":"SUM(N30-O30)","v":3},3,null,0,0,null,null,null,null,null,null,null,null,null,null,null,null,null,null,null,80,null,null,null,null,null,null,null,null,null,null,null,null,null,null,null,null,null,null,null,null,null,null,50,null,null,null,null,null,80]
[0,7,{"$f":"C30","v":0},6,2,null,"Artikel 30",{"$f":"MIN($R31:BQ31)","v":89.99},{"$f":"MAX($R31:BQ31)","v":159.99},{"$f":"MIN($BR31:DR31)","v":0},{"$f":"MAX($BR31:DR31)","v":0},89.99,1,16,15,0,0,null,null,null,null,null,null,159.99,null,104.99,null,99.99,null,null,null,null,null,null,null,null,null,null,89.99,null,null,null,null,99.99,null,99.99,89.99,null,null,null,null,null,null,null,null,null,null,null,null,null,null,null,89.99]
[{"$f":"A31","v":0},{"$f":"B31","v":7},{"$f":"C31","v":0},6,2,null,"Artikel 31",{"$f":"MIN($R32:BQ32)","v":379.99},{"$f":"MAX($R32:BQ32)","v":379.99},{"$f":"MIN($BR32:DR32)","v":0},{"$f":"MAX($BR32:DR32)","v":0},{"$f":"IFERROR(LOOKUP(100000,R32:DS32),0)","v":379.99},{"$f":"SUM(N32-O32)","v":1},1,null,0,0,null,null,null,null,null,null,null,null,null,null,null,null,null,null,null,null,null,null,null,null,null,null,null,null,null,null,null,null,null,null,null,null,null,null,null,null,null,null,null,null,null,null,null,null,null,null,null,379.99]
[{"$f":"A32","v":0},{"$f":"IF((O33+O34+O35+O36+O37+O38)<90,B32+1,B32)","v":8},{"$f":"C32","v":0},6,{"$f":"IF(OR((O33+O34+O35+O36+O37+O38)<31,H33=Q25,H33=P33),E32+1,E32)","v":3},null,"Artikel 32",{"$f":"MIN($R33:BQ33)","v":359.7},{"$f":"MAX($R33:BQ33)","v":499.99},{"$f":"MIN($BR33:DR33)","v":0},{"$f":"MAX($BR33:DR33)","v":0},479.7,{"$f":"IF(O33<21,3,IF(O33<41,2,IF(O33<61,1,0)))","v":3},90,null,0,0,null,null,null,419.99,null,null,null,419.99,null,null,null,389.7,null,null,359.7,null,null,null,null,null,null,null,null,null,389.7,null,null,null,null,389.7,null,null,null,null,null,null,389.49,null,null,389.49,499.99,null,null,null,null,null,479.7]
[{"$f":"A33","v":0},{"$f":"IF((O33+O34+O35+O36+O37+O38)<90,B33+1,B33)","v":9},{"$f":"C33","v":0},6,{"$f":"IF(OR((O33+O34+O35+O36+O37+O38)<31,H34=Q34,H34=P34),E33+1,E33)","v":4},null,"Artikel 33",{"$f":"MIN($R34:BQ34)","v":229.99},{"$f":"MAX($R34:BQ34)","v":279.99},{"$f":"MIN($BR34:DR34)","v":0},{"$f":"MAX($BR34:DR34)","v":0},229.99,{"$f":"SUM(N33-O33-O34-O35-O36-O37-O38)/18","v":5},18,null,0,0,null,null,269.99,null,null,null,null,null,null,null,null,null,null,null,null,null,null,null,null,279.99,null,null,null,null,null,null,229.99]
[0,{"$f":"IF((O33+O34+O35+O36+O37+O38)<90,B34+1,B34)","v":10},{"$f":"C34","v":0},6,{"$f":"IF(OR((O33+O34+O35+O36+O37+O38)<31,H35=Q35,H35=P35),E34+1,E34)","v":5},null,"Artikel 34",{"$f":"MIN($R35:BQ35)","v":279.99},{"$f":"MAX($R35:BQ35)","v":279.99},{"$f":"MIN($BR35:DR35)","v":0},{"$f":"MAX($BR35:DR35)","v":0},279.99,{"$f":"SUM(N33-O33-O34-O35-O36-O37-O38)/15","v":6},15,null,0,0,null,null,null,null,null,null,null,null,null,null,null,null,null,null,null,null,null,null,null,null,null,null,null,null,null,null,null,null,null,null,null,279.99]
[0,{"$f":"IF((O33+O34+O35+O36+O37+O38)<90,B35+1,B35)","v":11},0,6,{"$f":"IF(OR((O33+O34+O35+O36+O37+O38)<31,H36=Q36,H36=P36),E35+1,E35)","v":6},null,"Artikel 35",{"$f":"MIN($R36:BQ36)","v":155.99},{"$f":"MAX($R36:BQ36)","v":199.99},{"$f":"MIN($BR36:DR36)","v":0},{"$f":"MAX($BR36:DR36)","v":0},155.99,{"$f":"SUM(N33-O33-O34-O35-O36-O37-O38)/12","v":7.5},12,null,0,0,199.99,null,null,null,null,null,null,null,null,null,null,null,null,null,null,null,null,null,null,null,null,null,null,null,null,null,null,null,null,null,null,null,155.99]
[0,{"$f":"IF((O33+O34+O35+O36+O37+O38)<90,B36+1,B36)","v":12},0,6,{"$f":"IF(OR((O33+O34+O35+O36+O37+O38)<31,H37=Q37,H37=P37),E36+1,E36)","v":7},null,"Artikel 36",{"$f":"MIN($R37:BQ37)","v":179.99},{"$f":"MAX($R37:BQ37)","v":199.99},{"$f":"MIN($BR37:DR37)","v":0},{"$f":"MAX($BR37:DR37)","v":0},199.99,{"$f":"SUM(N33-O33-O34-O35-O36-O37-O38)/10","v":9},10,null,0,0,null,null,null,null,null,null,null,null,null,null,null,null,null,null,179.99,null,null,null,null,null,null,null,null,null,null,null,null,null,null,null,null,null,null,null,null,null,null,null,null,null,null,null,null,null,null,null,null,199.99]
[0,{"$f":"IF((O33+O34+O35+O36+O37+O38)<90,B37+1,B37)","v":13},0,6,{"$f":"IF(OR((O33+O34+O35+O36+O37+O38)<31,H38=Q38,H38=P38),E37+1,E37)","v":8},null,"Artikel 37",{"$f":"MIN($R38:BQ38)","v":175.99},{"$f":"MAX($R38:BQ38)","v":219.99},{"$f":"MIN($BR38:DR38)","v":0},{"$f":"MAX($BR38:DR38)","v":0},189.99,{"$f":"SUM(N33-O33-O34-O35-O36-O37-O38)/10","v":9},10,null,0,0,null,null,null,null,null,null,null,null,null,null,null,null,null,null,null,null,null,null,null,null,null,null,null,null,null,null,null,219.99,null,null,null,175.99,null,null,null,null,null,null,null,null,189.99]
[0,{"$f":"IF((O39+O40)<(N39+N40),B38+1,B38)","v":13},0,6,{"$f":"IF(OR(((O39+O40)<((N39+N40)*0.51)),H39=Q39,H39=P39),E38+1,E38)","v":8},null,"Artikel 38",{"$f":"MIN($R39:BQ39)","v":149.99},{"$f":"MAX($R39:BQ39)","v":174.99},{"$f":"MIN($BR39:DR39)","v":0},{"$f":"MAX($BR39:DR39)","v":0},164.99,{"$f":"SUM((N39+N40)-(O39+O40))","v":0},6,6,0,0,null,null,null,null,149.99,null,null,null,null,null,null,164.99,null,null,null,null,159.99,null,null,null,null,null,null,174.99,null,null,164.99]
[0,{"$f":"IF((O39+O40)<(N39+N40),B39+1,B39)","v":13},0,6,{"$f":"IF(OR(((O39+O40)<((N39+N40)*0.51)),H40=Q40,H40=P40),E39+1,E39)","v":9},null,"Artikel 39",{"$f":"MIN($R40:BQ40)","v":184.49},{"$f":"MAX($R40:BQ40)","v":219.99},{"$f":"MIN($BR40:DR40)","v":0},{"$f":"MAX($BR40:DR40)","v":0},184.49,{"$f":"SUM((N39+N40)-(O39+O40))","v":0},2,2,184.49,0,null,219.99,null,null,null,null,null,219.99,null,null,null,null,null,null,null,null,null,null,null,219.99,null,null,null,null,null,219.99,null,null,null,null,219.99,null,null,null,210.99,null,null,null,184.49,null,null,184.49,null,null,184.49,null,184.49,null,null,null,184.49]
[0,14,0,{"$f":"D40","v":6},{"$f":"IF(OR(O41<(N41*0.51),H41=Q41,H41=P41),E40+1,E40)","v":9},null,"Artikel 40",{"$f":"MIN($R41:BQ41)","v":199.99},{"$f":"MAX($R41:BQ41)","v":259.99},{"$f":"MIN($BR41:DR41)","v":0},{"$f":"MAX($BR41:DR41)","v":0},216.99,{"$f":"SUM(N41-O41)","v":1},8,7,0,0,null,null,null,null,199.99,null,null,null,null,null,null,null,null,null,null,null,null,null,null,null,null,null,null,null,null,null,null,259.99,null,null,null,null,220.99,null,null,216.99]
[0,14,0,{"$f":"D41","v":6},{"$f":"IF(OR(O42<(N42*0.51),H42=Q42,H42=P42),E41+1,E41)","v":9},null,"Artikel 41",{"$f":"MIN($R42:BQ42)","v":89.99},{"$f":"MAX($R42:BQ42)","v":94.99},{"$f":"MIN($BR42:DR42)","v":0},{"$f":"MAX($BR42:DR42)","v":0},89.99,0,4,4,0,0,null,null,null,null,null,null,null,null,null,null,null,null,null,null,null,null,null,null,null,null,null,null,null,null,null,null,94.99,null,null,null,null,null,null,null,null,null,89.99]
[0,14,0,{"$f":"D42","v":6},9,null,"Artikel 42",{"$f":"MIN($R43:BQ43)","v":71.489999999999995},{"$f":"MAX($R43:BQ43)","v":89.99},{"$f":"MIN($BR43:DR43)","v":0},{"$f":"MAX($BR43:DR43)","v":0},71.489999999999995,-4,4,8,0,0,null,null,null,null,null,null,null,null,null,null,null,null,null,null,null,null,null,null,null,null,null,null,null,null,null,null,89.99,null,null,null,null,null,null,null,null,71.489999999999995]
[0,14,{"$f":"C43","v":0},6,9,null,"Artikel 43",{"$f":"MIN($R44:BQ44)","v":299.99},{"$f":"MAX($R44:BQ44)","v":449.99},{"$f":"MIN($BR44:DR44)","v":0},{"$f":"MAX($BR44:DR44)","v":0},399.99,0,6,6,0,0,null,null,null,null,359.99,null,null,null,null,null,null,null,399.99,null,null,null,299.99,null,null,null,null,null,null,null,null,449.99,399.99,null,null,null,null,null,null,null,null,399.99]
[{"$f":"A44","v":0},14,0,6,9,null,"Artikel 44",{"$f":"MIN($R45:BQ45)","v":0},{"$f":"MAX($R45:BQ45)","v":0},{"$f":"MIN($BR45:DR45)","v":0},{"$f":"MAX($BR45:DR45)","v":0},{"$f":"IFERROR(LOOKUP(100000,R45:DS45),0)","v":0},{"$f":"SUM(N45-O45)","v":2},2,null,0,0]
[{"$f":"A45","v":0},{"$f":"IF(O46<N46,B45+1,B45)","v":15},{"$f":"C45","v":0},6,{"$f":"IF(OR(O46<(N46*0.51),H46=Q46,H46=P46),E45+1,E45)","v":9},null,"Artikel 45",{"$f":"MIN($R46:BQ46)","v":24.99},{"$f":"MAX($R46:BQ46)","v":26.99},{"$f":"MIN($BR46:DR46)","v":0},{"$f":"MAX($BR46:DR46)","v":0},{"$f":"IFERROR(LOOKUP(100000,R46:DS46),0)","v":26.99},{"$f":"SUM(N46-O46)","v":1},10,9,0,0,null,null,null,null,null,null,null,null,null,null,null,null,null,null,null,24.99,null,null,null,null,null,null,null,null,null,null,null,null,null,null,null,null,null,null,null,null,null,null,null,null,26.99]
[1,{"$f":"B46","v":15},{"$f":"IF(O47<(N47*0.51),C46+1,C46)","v":0},{"$f":"D46","v":6},{"$f":"E46","v":9},null,"Artikel 46",{"$f":"MIN($R47:BQ47)","v":330},{"$f":"MAX($R47:BQ47)","v":350},{"$f":"MIN($BR47:DR47)","v":0},{"$f":"MAX($BR47:DR47)","v":0},350,3,10,7,0,0,330,null,null,null,null,null,null,null,null,null,null,null,null,null,null,null,null,null,null,null,null,null,null,null,null,null,null,null,null,null,null,null,null,null,null,null,null,null,null,null,null,350]
[1,15,{"$f":"C47","v":0},{"$f":"D47","v":6},9,null,"Artikel 47",{"$f":"MIN($R48:BQ48)","v":239.99},{"$f":"MAX($R48:BQ48)","v":271.99},{"$f":"MIN($BR48:DR48)","v":0},{"$f":"MAX($BR48:DR48)","v":0},239.99,0,10,10,0,0,null,null,null,null,null,null,null,249.99,null,null,null,null,null,239.99,null,null,null,null,null,null,null,null,null,null,null,null,null,null,null,271.99,239.99,null,null,null,null,null,null,null,null,null,null,null,239.99]
[1,15,{"$f":"C48","v":0},6,9,null,"Artikel 48",{"$f":"MIN($R49:BQ49)","v":84.99},{"$f":"MAX($R49:BQ49)","v":108.99},{"$f":"MIN($BR49:DR49)","v":0},{"$f":"MAX($BR49:DR49)","v":0},84.99,-2,5,7,0,0,null,null,null,null,null,null,null,null,null,null,null,null,null,null,null,null,null,null,null,null,null,null,null,null,null,108.99,null,null,null,null,null,null,null,null,null,84.99,null,null,null,null,null,null,null,null,null,null,84.99,null,84.99]
[1,15,0,6,{"$f":"IF(OR(H50=Q50,H50=P50),E49+1,E49)","v":9},null,"Artikel 49",{"$f":"MIN($R50:BQ50)","v":119.99},{"$f":"MAX($R50:BQ50)","v":159.99},{"$f":"MIN($BR50:DR50)","v":0},{"$f":"MAX($BR50:DR50)","v":0},119.99,2,2,null,0,0,null,null,null,null,null,null,null,null,null,null,null,null,null,null,null,null,null,null,null,null,null,null,null,null,null,null,null,null,159.99,124.99,null,null,null,null,null,null,null,null,null,null,null,null,119.99]
[1,15,0,6,{"$f":"IF(OR(H51=Q51,H51=P51),E50+1,E50)","v":10},null,"Artikel 50",{"$f":"MIN($R51:BQ51)","v":239.99},{"$f":"MAX($R51:BQ51)","v":299.99},{"$f":"MIN($BR51:DR51)","v":0},{"$f":"MAX($BR51:DR51)","v":0},239.99,1,1,null,239.99,0,null,null,null,null,null,null,null,null,null,null,null,null,null,null,null,null,null,null,null,299.99,null,null,null,null,null,null,null,null,299.99,null,null,299.99,239.99,null,null,null,null,null,null,null,null,null,null,null,null,null,299.99,null,null,null,239.99]
[1,15,0,6,{"$f":"IF(OR(O52<(N52*0.51),H52=Q52,H52=P52),E51+1,E51)","v":10},null,"Artikel 51",{"$f":"MIN($R52:BQ52)","v":149.99},{"$f":"MAX($R52:BQ52)","v":421.99},{"$f":"MIN($BR52:DR52)","v":0},{"$f":"MAX($BR52:DR52)","v":0},421.99,0,1,1,0,0,null,null,null,null,null,null,null,null,null,null,null,null,null,null,null,null,null,null,null,null,null,null,null,null,null,null,179.99,null,null,null,null,null,null,null,399.99,null,149.99,null,null,null,null,null,null,null,null,null,null,null,null,421.99]
[1,{"$f":"B52","v":15},{"$f":"IF(O53<(N53*0.51),C52+1,C52)","v":0},6,{"$f":"E52","v":10},null,"Artikel 52",{"$f":"MIN($R53:BQ53)","v":100},{"$f":"MAX($R53:BQ53)","v":200},{"$f":"MIN($BR53:DR53)","v":0},{"$f":"MAX($BR53:DR53)","v":0},150,-4,8,12,0,0,null,null,null,null,null,null,null,null,null,null,null,null,100,null,null,null,null,null,null,null,null,null,null,null,null,null,200,null,null,null,null,null,150]
[1,15,0,6,{"$f":"IF(OR(O54<(N54*0.51),H54=Q54,H54=P54),E53+1,E53)","v":10},null,"Artikel 53",{"$f":"MIN($R54:BQ54)","v":27.99},{"$f":"MAX($R54:BQ54)","v":49.99},{"$f":"MIN($BR54:DR54)","v":0},{"$f":"MAX($BR54:DR54)","v":0},27.99,0,5,5,0,0,null,null,null,null,null,null,null,null,null,null,null,null,null,null,null,null,null,null,null,null,null,49.99,null,42.49,null,null,null,null,null,null,null,null,null,null,null,null,null,null,null,null,null,null,null,null,null,null,27.99]
[1,15,0,6,10,null,"Artikel 54",{"$f":"MIN($R55:BQ55)","v":58.49},{"$f":"MAX($R55:BQ55)","v":89.99},{"$f":"MIN($BR55:DR55)","v":0},{"$f":"MAX($BR55:DR55)","v":0},58.49,0,2,2,0,0,null,null,null,null,null,null,null,null,null,null,null,null,null,null,null,null,null,null,null,null,null,89.99,null,null,null,null,null,null,null,null,null,null,null,null,null,58.49]
[1,{"$f":"IF((O56+O57)<(N56+N57),B55+1,B55)","v":15},0,6,{"$f":"IF(OR(((O56+O57)<((N56+N57)*0.51)),H56=Q56,H56=P56),E55+1,E55)","v":10},null,"Artikel 55",{"$f":"MIN($R56:BQ56)","v":139.99},{"$f":"MAX($R56:BQ56)","v":189.99},{"$f":"MIN($BR56:DR56)","v":0},{"$f":"MAX($BR56:DR56)","v":0},139.99,{"$f":"SUM((N56+N57)-(O56+O57))","v":0},1,1,0,0,null,null,null,null,null,null,null,null,null,null,null,null,null,null,null,null,null,null,null,null,null,null,null,null,null,null,null,189.99,null,null,null,null,null,null,null,null,null,null,null,null,159.99,null,null,null,null,166.49,null,null,139.99]
[1,{"$f":"IF((O56+O57)<(N56+N57),B56+1,B56)","v":15},0,6,{"$f":"IF(OR(((O56+O57)<((N56+N57)*0.51)),H57=Q57,H57=P57),E56+1,E56)","v":10},null,"Artikel 56",{"$f":"MIN($R57:BQ57)","v":179.99},{"$f":"MAX($R57:BQ57)","v":219.99},{"$f":"MIN($BR57:DR57)","v":0},{"$f":"MAX($BR57:DR57)","v":0},192.49,{"$f":"SUM((N56+N57)-(O56+O57))","v":0},1,1,0,0,null,null,null,null,null,null,null,null,null,209.99,null,null,null,null,null,null,null,null,null,179.99,null,null,null,null,null,184.61,null,null,null,192.49,null,null,219.99,null,null,null,null,null,192.49,null,null,null,null,192.42,null,192.49,null,192.49]
[1,{"$f":"B57","v":15},{"$f":"IF(O58<(N58*0.51),C57+1,C57)","v":0},{"$f":"D57","v":6},{"$f":"E57","v":10},null,"Artikel 57",{"$f":"MIN($R58:BQ58)","v":210},{"$f":"MAX($R58:BQ58)","v":210},{"$f":"MIN($BR58:DR58)","v":0},{"$f":"MAX($BR58:DR58)","v":0},210,{"$f":"SUM(N58-O58)","v":-1},1,2,0,0,null,null,null,null,null,null,null,null,null,null,null,null,null,null,null,null,null,null,null,null,null,null,null,null,null,null,null,null,null,null,null,null,null,null,null,null,null,null,null,null,null,null,null,210]
[1,15,{"$f":"C58","v":0},{"$f":"D58","v":6},{"$f":"IF(OR(O59<(N59*0.51),H59=Q59,H59=P59),E58+1,E58)","v":10},null,"Artikel 58",{"$f":"MIN($R59:BQ59)","v":109.99},{"$f":"MAX($R59:BQ59)","v":134.99},{"$f":"MIN($BR59:DR59)","v":0},{"$f":"MAX($BR59:DR59)","v":0},134.99,{"$f":"SUM(N59-O59)","v":-3},1,4,0,0,null,null,null,null,null,null,null,null,null,null,null,null,null,null,null,null,null,null,null,null,null,null,null,null,null,null,109.99,null,null,null,null,null,null,null,null,null,null,null,null,null,null,null,null,null,null,134.99]
[1,15,0,6,10,null,"Artikel 59",{"$f":"MIN($R60:BQ60)","v":64.989999999999995},{"$f":"MAX($R60:BQ60)","v":86.99},{"$f":"MIN($BR60:DR60)","v":0},{"$f":"MAX($BR60:DR60)","v":0},66.94,{"$f":"SUM(N60-O60)","v":0},8,8,0,0,null,null,null,null,null,null,null,null,null,null,null,null,null,null,null,null,null,null,null,64.989999999999995,null,null,null,null,null,null,null,86.99,86.99,null,null,null,null,null,null,66.94]
[1,{"$f":"IF((O61+O62)<(N61+N62),B60+1,B60)","v":15},0,6,{"$f":"IF(OR(((O61+O62)<((N61+N62)*0.51)),H61=Q61,H61=P61),E60+1,E60)","v":10},null,"Artikel 60",{"$f":"MIN($R61:BQ61)","v":149.99},{"$f":"MAX($R61:BQ61)","v":169.99},{"$f":"MIN($BR61:DR61)","v":0},{"$f":"MAX($BR61:DR61)","v":0},158.99,{"$f":"SUM((N61+N62)-(O61+O62))","v":0},6,4,0,0,null,null,null,169.99,null,null,null,null,164.99,null,null,null,null,null,null,null,149.99,null,null,null,null,149.99,null,149.99,null,null,null,null,null,null,null,null,null,null,null,null,null,158.99]
[1,{"$f":"IF((O61+O62)<(N61+N62),B61+1,B61)","v":15},0,6,{"$f":"IF(OR(((O61+O62)<((N61+N62)*0.51)),H62=Q62,H62=P62),E61+1,E61)","v":10},null,"Artikel 61",{"$f":"MIN($R62:BQ62)","v":178.87},{"$f":"MAX($R62:BQ62)","v":239.99},{"$f":"MIN($BR62:DR62)","v":0},{"$f":"MAX($BR62:DR62)","v":0},192.49,{"$f":"SUM((N61+N62)-(O61+O62))","v":0},2,4,0,0,null,null,null,209.99,null,null,null,null,null,null,null,209.99,null,null,null,null,null,null,null,179.99,null,null,null,null,null,null,null,null,null,null,null,239.99,null,null,null,209.99,null,null,178.87,null,null,null,null,null,178.87,null,null,192.49]
[1,{"$f":"B62","v":15},0,{"$f":"IF(OR(M63>0,H63=P63),D62+1,D62)","v":7},{"$f":"IF(OR(H63=Q63,H63=P63),E62+1,E62)","v":10},null,"Artikel 62",{"$f":"MIN($R63:BQ63)","v":54.99},{"$f":"MAX($R63:BQ63)","v":94.99},{"$f":"MIN($BR63:DR63)","v":0},{"$f":"MAX($BR63:DR63)","v":0},94.99,{"$f":"SUM(N63-O63)","v":1},1,null,0,0,79.989999999999995,null,null,null,null,null,null,null,null,null,null,54.99,null,79.989999999999995,null,null,59.99,null,null,59.99,null,null,null,null,null,54.99,null,null,null,null,null,null,null,null,null,null,null,null,null,null,null,null,null,null,84.99,null,null,null,null,94.99]
[1,{"$f":"B63","v":15},0,{"$f":"IF(OR(M64>0,H64=P64),D63+1,D63)","v":8},{"$f":"IF(OR(H64=Q64,H64=P64),E63+1,E63)","v":10},null,"Artikel 63",{"$f":"MIN($R64:BQ64)","v":59.99},{"$f":"MAX($R64:BQ64)","v":259.99},{"$f":"MIN($BR64:DR64)","v":0},{"$f":"MAX($BR64:DR64)","v":0},140.99,{"$f":"SUM(N64-O64)","v":2},2,null,0,0,null,null,null,null,null,null,null,null,null,null,null,null,null,null,259.99,null,null,139.99,null,null,79.989999999999995,null,null,89.99,69.989999999999995,69.989999999999995,null,59.99,null,null,null,null,null,null,null,null,null,null,null,null,null,null,null,null,null,140.99]
[1,{"$f":"B64","v":15},0,8,10,null,"Artikel 64",{"$f":"MIN($R65:BQ65)","v":0},{"$f":"MAX($R65:BQ65)","v":0},{"$f":"MIN($BR65:DR65)","v":0},{"$f":"MAX($BR65:DR65)","v":0},{"$f":"IFERROR(LOOKUP(100000,R65:DS65),0)","v":0},{"$f":"SUM(N65-O65)","v":2},3,1,0,0]
[1,{"$f":"IF(O66<N66,B65+1,B65)","v":15},{"$f":"C65","v":0},{"$f":"D65","v":8},{"$f":"IF(OR(O66<(N66*0.51),H66=Q66,H66=P66),E65+1,E65)","v":10},null,"Artikel 65",{"$f":"MIN($R66:BQ66)","v":49.99},{"$f":"MAX($R66:BQ66)","v":49.99},{"$f":"MIN($BR66:DR66)","v":0},{"$f":"MAX($BR66:DR66)","v":0},49.99,{"$f":"SUM(N66-O66)","v":0},25,25,{"$f":"INDEX(R66:DS66,MATCH(P$1,R$1:DS$1,0))","v":0},{"$f":"IFERROR(INDEX(R66:DS66,MATCH(Q$1,R$1:DS$1,0)),0)","v":0},null,null,null,null,null,null,null,null,null,null,null,null,null,49.99]
[1,{"$f":"IF((O67+O68+O69+O70+O71+O72)<4,B66+1,B66)","v":15},{"$f":"C66","v":0},{"$f":"D66","v":8},{"$f":"IF(OR((O67+O68+O69+O70+O71+O72)<4,H67=Q67,H67=P67),E66+1,E66)","v":10},null,"Artikel 66",{"$f":"MIN($R67:BQ67)","v":189.99},{"$f":"MAX($R67:BQ67)","v":309.99},{"$f":"MIN($BR67:DR67)","v":0},{"$f":"MAX($BR67:DR67)","v":0},{"$f":"IFERROR(LOOKUP(100000,R67:DS67),0)","v":309.99},{"$f":"SUM((N67+N68+N69+N70+N71+N72)-(O67+O68+O69+O70+O71+O72))","v":10.25},5,null,0,0,null,null,null,null,null,null,null,null,null,null,189.99,null,null,null,null,null,null,null,null,199.99,null,null,null,null,null,249.99,null,null,null,309.99]
[1,{"$f":"IF((O67+O68+O69+O70+O71+O72)<4,B67+1,B67)","v":15},{"$f":"C67","v":0},8,{"$f":"IF(OR((O67+O68+O69+O70+O71+O72)<4,H68=Q68,H68=P68),E67+1,E67)","v":10},null,"Artikel 67",{"$f":"MIN($R68:BQ68)","v":234.99},{"$f":"MAX($R68:BQ68)","v":234.99},{"$f":"MIN($BR68:DR68)","v":0},{"$f":"MAX($BR68:DR68)","v":0},234.99,{"$f":"SUM((N67+N68+N69+N70+N71+N72)-(O67+O68+O69+O70+O71+O72))","v":10.25},5,null,0,0,null,null,null,null,null,null,null,null,null,234.99]
[1,{"$f":"IF((O67+O68+O69+O70+O71+O72)<4,B68+1,B68)","v":15},{"$f":"C68","v":0},{"$f":"D68","v":8},{"$f":"IF(OR((O67+O68+O69+O70+O71+O72)<4,H69=Q69,H69=P69),E68+1,E68)","v":10},null,"Artikel 68",{"$f":"MIN($R69:BQ69)","v":269.99},{"$f":"MAX($R69:BQ69)","v":279.99},{"$f":"MIN($BR69:DR69)","v":0},{"$f":"MAX($BR69:DR69)","v":0},269.99,{"$f":"SUM((N67+N68+N69+N70+N71+N72)-(O67+O68+O69+O70+O71+O72))-3","v":7.25},2,null,0,0,null,null,null,null,null,null,null,null,null,279.99,null,null,null,null,null,279.99,null,null,null,null,null,null,null,null,null,null,null,269.99,null,null,null,269.99,null,null,null,269.99]
[1,{"$f":"IF((O67+O68+O69+O70+O71+O72)<4,B69+1,B69)","v":15},{"$f":"C69","v":0},8,{"$f":"IF(OR((O67+O68+O69+O70+O71+O72)<4,H70=Q70,H70=P70),E69+1,E69)","v":10},null,"Artikel 69",{"$f":"MIN($R70:BQ70)","v":439.99},{"$f":"MAX($R70:BQ70)","v":439.99},{"$f":"MIN($BR70:DR70)","v":0},{"$f":"MAX($BR70:DR70)","v":0},439.99,{"$f":"SUM((N67+N68+N69+N70+N71+N72)-(O67+O68+O69+O70+O71+O72))-6","v":4.25},2,9,0,0,null,null,439.99]
[1,{"$f":"IF((O67+O68+O69+O70+O71+O72)<4,B70+1,B70)","v":15},{"$f":"C70","v":0},8,{"$f":"IF(OR((O67+O68+O69+O70+O71+O72)<4,H71=Q71,H71=P71),E70+1,E70)","v":10},null,"Artikel 70",{"$f":"MIN($R71:BQ71)","v":769.99},{"$f":"MAX($R71:BQ71)","v":769.99},{"$f":"MIN($BR71:DR71)","v":0},{"$f":"MAX($BR71:DR71)","v":0},769.99,{"$f":"SUM((N67+N68+N69+N70+N71+N72)-(O67+O68+O69+O70+O71+O72))-9","v":1.25},3,{"$f":"O23/4","v":0.75},0,0,null,null,null,null,null,null,null,null,null,null,null,null,null,null,null,null,null,null,null,null,null,null,null,null,769.99]
[1,{"$f":"IF((O67+O68+O69+O70+O71+O72)<4,B71+1,B71)","v":15},0,8,{"$f":"IF(OR((O67+O68+O69+O70+O71+O72)<4,H72=Q72,H72=P72),E71+1,E71)","v":10},null,"Artikel 71",{"$f":"MIN($R72:BQ72)","v":589.99},{"$f":"MAX($R72:BQ72)","v":629.99},{"$f":"MIN($BR72:DR72)","v":0},{"$f":"MAX($BR72:DR72)","v":0},{"$f":"IFERROR(LOOKUP(100000,R72:DS72),0)","v":629.99},{"$f":"SUM((N67+N68+N69+N70+N71+N72)-(O67+O68+O69+O70+O71+O72))-9","v":1.25},3,null,0,0,null,null,null,null,null,null,null,null,null,null,null,null,null,null,null,null,null,null,null,null,null,null,null,null,null,null,null,null,null,null,589.99,null,null,null,null,null,null,null,null,589.99,null,null,null,589.99,null,null,null,629.99]
[1,{"$f":"B72","v":15},{"$f":"IF(O73<(N73*0.51),C72+1,C72)","v":0},8,{"$f":"E72","v":10},null,"Artikel 72",{"$f":"MIN($R73:BQ73)","v":0},{"$f":"MAX($R73:BQ73)","v":0},{"$f":"MIN($BR73:DR73)","v":0},{"$f":"MAX($BR73:DR73)","v":0},0,{"$f":"SUM(N73-O73)","v":0},2,2,0,0]
[1,{"$f":"IF(O74<N74,B73+1,B73)","v":15},0,8,{"$f":"IF(OR(O74<(N74*0.51),H74=Q74,H74=P74),E73+1,E73)","v":10},null,"Artikel 73",{"$f":"MIN($R74:BQ74)","v":314.99},{"$f":"MAX($R74:BQ74)","v":399.99},{"$f":"MIN($BR74:DR74)","v":0},{"$f":"MAX($BR74:DR74)","v":0},399.99,-2,4,6,0,0,null,null,null,null,null,null,null,null,314.99,null,339.99,null,null,null,339.99,null,null,339.99,null,null,null,null,null,null,null,null,null,369.99,null,null,null,null,null,null,null,null,null,null,399.99,null,null,null,null,399.99,null,null,null,null,null,399.99]
[1,{"$f":"B74","v":15},{"$f":"IF(O75<(N75*0.51),C74+1,C74)","v":0},8,{"$f":"E74","v":10},null,"Artikel 74",{"$f":"MIN($R75:BQ75)","v":200},{"$f":"MAX($R75:BQ75)","v":200},{"$f":"MIN($BR75:DR75)","v":0},{"$f":"MAX($BR75:DR75)","v":0},200,0,1,1,0,0,null,null,null,null,null,null,null,null,null,null,null,null,null,null,null,null,null,null,null,null,null,null,null,null,null,null,null,null,null,null,200]
[{"$f":"A75","v":1},15,{"$f":"C75","v":0},8,{"$f":"IF(OR(O76<(N76*0.51),H76=Q76,H76=P76),E75+1,E75)","v":10},null,"Artikel 75",{"$f":"MIN($R76:BQ76)","v":469.99},{"$f":"MAX($R76:BQ76)","v":499.16},{"$f":"MIN($BR76:DR76)","v":0},{"$f":"MAX($BR76:DR76)","v":0},498.99,{"$f":"IF(O76<1,12,IF(O76<4,11,IF(O76<7,10,IF(O76<10,9,IF(O76<13,8,IF(O76<16,7,IF(O76<19,6,IF(O76<22,5,IF(O76<25,4,IF(O76<28,3,IF(O76<31,2,IF(O76<34,1,0))))))))))))","v":0},33,34,0,0,null,null,null,null,null,null,469.99,null,null,null,null,null,null,null,null,null,null,null,null,499.16,null,null,null,null,null,499.16,null,null,null,null,null,null,null,null,null,null,null,null,null,null,null,null,null,498.99,null,null,null,null,498.99]
[1,15,{"$f":"C76","v":0},8,10,null,"Artikel 76",{"$f":"MIN($R77:BQ77)","v":119.99},{"$f":"MAX($R77:BQ77)","v":159.99},{"$f":"MIN($BR77:DR77)","v":0},{"$f":"MAX($BR77:DR77)","v":0},139.99,0,9,9,139.99,0,null,null,null,139.99,null,119.99,null,null,139.99,null,null,null,null,null,null,null,null,null,null,null,null,null,139.99,null,159.99,null,null,119.99,null,null,null,null,null,159.99,139.99,null,null,null,null,null,null,null,null,159.99,134.99,null,null,null,null,129.99,139.99]
[1,{"$f":"B77","v":15},0,{"$f":"IF(OR(M78>0,H78=P78),D77+1,D77)","v":9},{"$f":"IF(OR(H78=Q78,H78=P78),E77+1,E77)","v":10},null,"Artikel 77",{"$f":"MIN($R78:BQ78)","v":79.989999999999995},{"$f":"MAX($R78:BQ78)","v":199.99},{"$f":"MIN($BR78:DR78)","v":0},{"$f":"MAX($BR78:DR78)","v":0},79.989999999999995,1,1,null,0,0,null,null,null,null,null,null,null,null,null,null,null,null,null,null,null,null,null,null,null,null,null,null,null,199.99,159.99,149.99,99.99,null,null,null,null,79.989999999999995]
[1,{"$f":"B78","v":15},0,{"$f":"D78","v":9},{"$f":"IF(OR((O80+O81)<((N80+N81)*0.51),H79=Q79,H79=P79),E78+1,E78)","v":10},null,"Artikel 78",{"$f":"MIN($R79:BQ79)","v":178.99},{"$f":"MAX($R79:BQ79)","v":219.99},{"$f":"MIN($BR79:DR79)","v":0},{"$f":"MAX($BR79:DR79)","v":0},199.99,{"$f":"SUM((N80+N81)-(O80+O81))/2.5","v":0.8},4,null,0,0,null,null,null,199.99,null,null,null,null,199.99,null,null,null,189.99,null,null,null,178.99,null,null,null,199.99,null,null,null,189.99,null,null,null,199.99,null,null,null,null,198.99,null,219.99,null,219.99,null,219.99,null,null,209.99,null,null,null,null,199.99]
[1,{"$f":"B79","v":15},0,9,{"$f":"E79","v":10},null,"Artikel 79",{"$f":"MIN($R80:BQ80)","v":0},{"$f":"MAX($R80:BQ80)","v":0},{"$f":"MIN($BR80:DR80)","v":0},{"$f":"MAX($BR80:DR80)","v":0},{"$f":"IFERROR(LOOKUP(100000,R80:DS80),0)","v":0},{"$f":"SUM(N80-O80)","v":2},8,6,0,0]
[1,{"$f":"B80","v":15},0,9,{"$f":"E80","v":10},null,"Artikel 80",{"$f":"MIN($R81:BQ81)","v":0},{"$f":"MAX($R81:BQ81)","v":0},{"$f":"MIN($BR81:DR81)","v":0},{"$f":"MAX($BR81:DR81)","v":0},0,0,4,4,0,0]
[{"$f":"IF(O82<N82,A81+1,A81)","v":1},15,{"$f":"IF(O82<(N82*0.51),C81+1,C81)","v":0},9,10,null,"Artikel 81",{"$f":"MIN($R82:BQ82)","v":130},{"$f":"MAX($R82:BQ82)","v":130},{"$f":"MIN($BR82:DR82)","v":0},{"$f":"MAX($BR82:DR82)","v":0},130,0,15,15,0,0,130]
[1,{"$f":"IF(O83<N83,B82+1,B82)","v":16},{"$f":"C82","v":0},9,{"$f":"IF(OR(O83<(N83*0.51),H83=Q83,H83=P83),E82+1,E82)","v":10},null,"Artikel 82",{"$f":"MIN($R83:BQ83)","v":149.99},{"$f":"MAX($R83:BQ83)","v":165.74},{"$f":"MIN($BR83:DR83)","v":0},{"$f":"MAX($BR83:DR83)","v":0},165.74,1,12,11,0,0,null,null,null,null,null,155.99,null,null,154.99,null,null,null,null,null,149.99,null,null,null,154.99,null,null,null,null,null,null,149.99,null,149.99,null,null,null,null,null,154.99,null,165.74,null,null,null,null,null,null,154.99,null,null,null,154.99,155.99,165.74]
[{"$f":"IF(O84<N84,A83+1,A83)","v":1},{"$f":"B83","v":16},{"$f":"IF(O84<(N84*0.51),C83+1,C83)","v":0},{"$f":"D83","v":9},{"$f":"E83","v":10},null,"Artikel 83",{"$f":"MIN($R84:BQ84)","v":179.99},{"$f":"MAX($R84:BQ84)","v":179.99},{"$f":"MIN($BR84:DR84)","v":0},{"$f":"MAX($BR84:DR84)","v":0},179.99,0,10,10,0,0,179.99]
[1,{"$f":"B84","v":16},{"$f":"C84","v":0},9,10,null,"Artikel 84",{"$f":"MIN($R85:BQ85)","v":24.99},{"$f":"MAX($R85:BQ85)","v":24.99},{"$f":"MIN($BR85:DR85)","v":0},{"$f":"MAX($BR85:DR85)","v":0},24.99,1,1,null,0,0,null,null,null,null,null,null,null,null,null,null,null,null,null,null,null,null,null,null,null,null,null,null,null,null,null,null,null,null,null,null,null,24.99]
[1,{"$f":"B85","v":16},0,9,{"$f":"IF(OR(H86=Q86,H86=P86),E85+1,E85)","v":10},null,"Artikel 85",{"$f":"MIN($R86:BQ86)","v":89.49},{"$f":"MAX($R86:BQ86)","v":149.99},{"$f":"MIN($BR86:DR86)","v":0},{"$f":"MAX($BR86:DR86)","v":0},89.49,1,1,null,0,0,null,null,null,null,null,null,null,null,null,null,null,null,null,null,null,null,null,null,null,null,null,null,null,null,null,null,null,null,null,null,null,null,null,null,null,null,null,null,null,null,null,null,149.99,null,89.49]
[1,{"$f":"IF((O87+O88+O89+O90)<6,B86+1,B86)","v":17},0,9,{"$f":"IF(OR((O87+O88+O89+O90)<2),E86+1,E86)","v":11},null,"Artikel 86",{"$f":"MIN($R87:BQ87)","v":89.99},{"$f":"MAX($R87:BQ87)","v":119.99},{"$f":"MIN($BR87:DR87)","v":0},{"$f":"MAX($BR87:DR87)","v":0},94.99,{"$f":"SUM(N87-(O87+O88+O89+O90))","v":12},12,null,0,0,94.99,null,null,null,null,119.99,null,null,null,null,89.99,null,null,null,null,null,null,null,null,null,null,89.99,null,null,null,null,null,null,null,null,null,null,null,null,null,null,null,null,null,null,null,94.99]
[1,{"$f":"IF((O87+O88+O89+O90)<6,B87+1,B87)","v":18},0,9,{"$f":"IF(OR((O87+O88+O89+O90)<2),E87+1,E87)","v":12},null,"Artikel 87",{"$f":"MIN($R88:BQ88)","v":117.99},{"$f":"MAX($R88:BQ88)","v":179.99},{"$f":"MIN($BR88:DR88)","v":0},{"$f":"MAX($BR88:DR88)","v":0},139.99,{"$f":"SUM(N88-(O87+O88+O89+O90))","v":8},8,null,0,0,null,179.99,null,null,null,null,null,null,null,null,null,null,null,null,151.37,null,null,119.99,null,null,null,null,null,null,129.99,null,null,null,null,null,null,null,null,null,null,null,null,null,117.99,null,null,null,139.99,null,null,139.99]
[1,{"$f":"IF((O87+O88+O89+O90)<6,B88+1,B88)","v":19},0,9,{"$f":"IF(OR((O87+O88+O89+O90)<2),E88+1,E88)","v":13},null,"Artikel 88",{"$f":"MIN($R89:BQ89)","v":229.99},{"$f":"MAX($R89:BQ89)","v":229.99},{"$f":"MIN($BR89:DR89)","v":0},{"$f":"MAX($BR89:DR89)","v":0},{"$f":"IFERROR(LOOKUP(100000,R89:DS89),0)","v":229.99},{"$f":"SUM(N89-(O87+O88+O89+O90))","v":7},7,null,0,0,null,null,null,null,null,null,null,null,null,null,null,null,null,null,null,null,null,null,null,null,null,null,null,null,null,null,null,null,null,null,null,null,null,null,null,null,229.99]
[1,{"$f":"IF((O87+O88+O89+O90)<6,B89+1,B89)","v":20},0,9,{"$f":"IF(OR((O87+O88+O89+O90)<2),E89+1,E89)","v":14},null,"Artikel 89",{"$f":"MIN($R90:BQ90)","v":186.65},{"$f":"MAX($R90:BQ90)","v":186.66},{"$f":"MIN($BR90:DR90)","v":0},{"$f":"MAX($BR90:DR90)","v":0},{"$f":"IFERROR(LOOKUP(100000,R90:DS90),0)","v":186.66},{"$f":"SUM(N90-(O87+O88+O89+O90))","v":6},6,null,0,0,null,null,null,null,null,null,null,null,null,null,null,null,null,null,null,null,null,null,null,null,null,null,null,null,null,null,null,null,null,null,null,null,null,null,null,null,null,186.65,null,null,186.66,null,null,186.66,null,null,null,null,null,186.66]
[{"$f":"IF(O91<N91,A90+1,A90)","v":1},{"$f":"B90","v":20},{"$f":"IF(O91<(N91*0.51),C90+1,C90)","v":0},9,{"$f":"E90","v":14},null,"Artikel 90",{"$f":"MIN($R91:BQ91)","v":1450},{"$f":"MAX($R91:BQ91)","v":1999.99},{"$f":"MIN($BR91:DR91)","v":0},{"$f":"MAX($BR91:DR91)","v":0},1450,{"$f":"SUM(N91-O91)","v":0},3,3,0,0,null,null,null,null,null,null,null,null,1699.99,null,null,null,null,null,null,null,null,null,null,null,null,null,null,null,1899.99,1999.99,1699.99,null,1450]
[1,{"$f":"IF(O92<N92,B91+1,B91)","v":20},{"$f":"C91","v":0},{"$f":"IF(OR(M92>0,H92=P92),D91+1,D91)","v":9},{"$f":"IF(OR(O92<(N92*0.51),H92=Q92,H92=P92),E91+1,E91)","v":14},null,"Artikel 91",{"$f":"MIN($R92:BQ92)","v":44.99},{"$f":"MAX($R92:BQ92)","v":99.99},{"$f":"MIN($BR92:DR92)","v":0},{"$f":"MAX($BR92:DR92)","v":0},69.989999999999995,{"$f":"SUM(N92-O92)","v":0},5,5,0,0,84.99,null,null,null,null,59.99,null,59.99,null,null,89.99,99.99,null,64.989999999999995,99.99,null,null,59.99,null,null,null,null,null,null,99.99,89.99,null,79.989999999999995,null,null,69.989999999999995,null,null,64.989999999999995,64.989999999999995,null,59.99,null,79.989999999999995,null,49.99,null,44.99,null,44.99,null,69.989999999999995]
[1,20,{"$f":"C92","v":0},9,14,null,"Artikel 92",{"$f":"MIN($R93:BQ93)","v":369.99},{"$f":"MAX($R93:BQ93)","v":475.99},{"$f":"MIN($BR93:DR93)","v":0},{"$f":"MAX($BR93:DR93)","v":0},419.99,{"$f":"SUM(N93-O93)","v":0},6,6,0,0,null,null,null,399.99,null,null,null,null,null,null,null,369.99,null,null,null,null,379.99,null,null,null,null,null,null,null,null,null,null,419.99,475.99,null,null,null,null,null,null,null,null,null,null,419.99]
[{"$f":"IF(O94<N94,A93+1,A93)","v":1},{"$f":"B93","v":20},{"$f":"IF(O94<(N94*0.51),C93+1,C93)","v":0},{"$f":"D93","v":9},{"$f":"E93","v":14},null,"Artikel 93",{"$f":"MIN($R94:BQ94)","v":350},{"$f":"MAX($R94:BQ94)","v":350},{"$f":"MIN($BR94:DR94)","v":0},{"$f":"MAX($BR94:DR94)","v":0},350,{"$f":"SUM(N94-O94)","v":0},2,2,0,0,350]
[1,{"$f":"IF(O95<N95,B94+1,B94)","v":20},{"$f":"C94","v":0},{"$f":"D94","v":9},{"$f":"IF(OR(O95<(N95*0.51),H95=Q95,H95=P95),E94+1,E94)","v":14},null,"Artikel 94",{"$f":"MIN($R95:BQ95)","v":134.99},{"$f":"MAX($R95:BQ95)","v":189.99},{"$f":"MIN($BR95:DR95)","v":0},{"$f":"MAX($BR95:DR95)","v":0},149.99,{"$f":"SUM(N95-O95)","v":0},10,10,0,0,null,null,null,null,null,null,null,null,null,null,null,null,189.99,null,null,null,null,null,null,null,null,null,null,null,null,151.99,null,null,null,null,189.99,null,null,134.99,null,null,null,null,null,null,null,null,189.99,149.99]
[1,20,0,9,14,null,"Artikel 95",{"$f":"MIN($R96:BQ96)","v":159.99},{"$f":"MAX($R96:BQ96)","v":199.99},{"$f":"MIN($BR96:DR96)","v":0},{"$f":"MAX($BR96:DR96)","v":0},177.99,0,10,10,0,0,null,null,null,null,null,null,null,null,null,null,null,null,null,169.15,null,null,null,null,null,null,null,null,null,199.99,null,null,null,null,null,159.99,null,null,null,null,null,null,null,null,null,null,177.99]
[1,{"$f":"B96","v":20},0,{"$f":"IF(OR(M97>0,H97=P97),D96+1,D96)","v":10},{"$f":"E96","v":14},null,"Artikel 96",{"$f":"MIN($R97:BQ97)","v":199.99},{"$f":"MAX($R97:BQ97)","v":199.99},{"$f":"MIN($BR97:DR97)","v":0},{"$f":"MAX($BR97:DR97)","v":0},{"$f":"IFERROR(LOOKUP(100000,R97:DS97),0)","v":199.99},{"$f":"SUM(N97-O97)","v":1},1,null,0,0,null,null,null,null,null,null,null,null,null,null,null,null,null,null,null,null,null,null,null,null,null,null,null,null,null,null,null,null,null,null,null,null,null,null,null,null,null,null,null,null,null,null,null,null,null,null,199.99]
[1,{"$f":"IF(O98<N98,B97+1,B97)","v":20},0,{"$f":"IF(OR(M98>0,H98=P98),D97+1,D97)","v":10},{"$f":"IF(OR(O98<(N98*0.51),H98=Q98,H98=P98),E97+1,E97)","v":14},null,"Artikel 97",{"$f":"MIN($R98:BQ98)","v":109.99},{"$f":"MAX($R98:BQ98)","v":159.99},{"$f":"MIN($BR98:DR98)","v":0},{"$f":"MAX($BR98:DR98)","v":0},131.99,0,2,2,0,0,null,109.99,null,null,null,null,null,null,null,null,null,null,109.99,null,null,null,null,null,null,null,null,null,null,null,null,null,159.99,null,null,null,null,null,109.99,null,null,null,null,null,null,null,null,null,null,131.99]
[1,20,0,10,14,null,"Artikel 98",{"$f":"MIN($R99:BQ99)","v":39.99},{"$f":"MAX($R99:BQ99)","v":46.99},{"$f":"MIN($BR99:DR99)","v":0},{"$f":"MAX($BR99:DR99)","v":0},46.99,0,10,10,0,0,null,null,null,39.99,null,null,null,null,null,null,null,null,null,null,null,null,null,null,null,null,null,null,null,null,null,null,46.99]
[1,{"$f":"B99","v":20},0,{"$f":"IF(OR(M100>0,H100=P100),D99+1,D99)","v":11},{"$f":"IF(OR(H100=Q100,H100=P100),E99+1,E99)","v":14},null,"Artikel 99",{"$f":"MIN($R100:BQ100)","v":46.99},{"$f":"MAX($R100:BQ100)","v":59.99},{"$f":"MIN($BR100:DR100)","v":0},{"$f":"MAX($BR100:DR100)","v":0},47.99,3,3,null,0,0,null,null,null,null,null,null,null,null,null,null,null,null,59.99,null,null,null,null,null,null,null,null,null,null,null,null,null,null,null,null,null,null,null,null,null,null,null,null,null,null,null,null,null,null,null,46.99,null,null,47.99]
[1,{"$f":"IF(O101<N101,B100+1,B100)","v":20},0,11,{"$f":"IF(OR(O101<(N101*0.51),H101=Q101,H101=P101),E100+1,E100)","v":14},null,"Artikel 100",{"$f":"MIN($R101:BQ101)","v":55.99},{"$f":"MAX($R101:BQ101)","v":55.99},{"$f":"MIN($BR101:DR101)","v":0},{"$f":"MAX($BR101:DR101)","v":0},55.99,0,2,2,0,0,null,null,null,null,null,null,null,null,null,null,null,null,null,null,null,null,null,null,null,null,null,null,null,null,null,null,55.99]
[1,{"$f":"B101","v":20},0,{"$f":"IF(OR(M102>0,H102=P102),D101+1,D101)","v":12},{"$f":"IF(OR(H102=Q102,H102=P102),E101+1,E101)","v":14},null,"Artikel 101",{"$f":"MIN($R102:BQ102)","v":59.99},{"$f":"MAX($R102:BQ102)","v":129.99},{"$f":"MIN($BR102:DR102)","v":0},{"$f":"MAX($BR102:DR102)","v":0},59.99,{"$f":"SUM(N102-O102)","v":2},2,null,0,0,null,null,null,null,null,null,null,null,null,null,null,null,null,null,null,null,null,null,null,null,null,null,null,null,null,null,null,null,null,null,null,null,null,null,109.99,null,null,null,129.99,null,null,null,59.99]
[1,{"$f":"IF(O103<N103,B102+1,B102)","v":21},{"$f":"C102","v":0},{"$f":"D102","v":12},{"$f":"IF(OR(O103<(N103*0.51),H103=Q103,H103=P103),E102+1,E102)","v":14},null,"Artikel 102",{"$f":"MIN($R103:BQ103)","v":119.99},{"$f":"MAX($R103:BQ103)","v":159.99},{"$f":"MIN($BR103:DR103)","v":0},{"$f":"MAX($BR103:DR103)","v":0},124.99,3,10,7,0,0,null,null,null,null,127.99,null,null,null,null,null,null,null,null,null,null,null,null,null,null,null,null,119.99,null,null,null,null,null,null,null,127.99,null,null,159.99,null,null,null,null,null,null,null,null,124.99]
[1,21,{"$f":"C103","v":0},12,14,null,"Artikel 103",{"$f":"MIN($R104:BQ104)","v":239.99},{"$f":"MAX($R104:BQ104)","v":319.98},{"$f":"MIN($BR104:DR104)","v":0},{"$f":"MAX($BR104:DR104)","v":0},259.99,0,2,2,0,0,null,null,null,null,null,279.99,null,null,319.98,null,null,null,null,239.99,null,null,null,null,null,null,null,null,null,null,null,null,null,null,null,null,null,null,null,null,259.99]
[1,{"$f":"B104","v":21},{"$f":"C104","v":0},12,{"$f":"E104","v":14},null,"Artikel 104",{"$f":"MIN($R105:BQ105)","v":109.99},{"$f":"MAX($R105:BQ105)","v":109.99},{"$f":"MIN($BR105:DR105)","v":0},{"$f":"MAX($BR105:DR105)","v":0},109.99,{"$f":"SUM(N105-O105)","v":1},1,null,0,0,null,null,null,null,null,null,null,null,null,null,null,null,null,null,null,109.99]
[1,{"$f":"B105","v":21},0,12,{"$f":"IF(OR(O106<(N106*0.51),H106=Q106,H106=P106),E105+1,E105)","v":14},null,"Artikel 105",{"$f":"MIN($R106:BQ106)","v":119.99},{"$f":"MAX($R106:BQ106)","v":123.99},{"$f":"MIN($BR106:DR106)","v":0},{"$f":"MAX($BR106:DR106)","v":0},123.99,-1,2,3,0,0,null,null,null,null,null,null,null,null,null,null,119.99,null,null,null,null,null,null,null,null,null,null,null,null,null,null,123.99]
[1,{"$f":"B106","v":21},0,12,{"$f":"E106","v":14},null,"Artikel 106",{"$f":"MIN($R107:BQ107)","v":449.99},{"$f":"MAX($R107:BQ107)","v":449.99},{"$f":"MIN($BR107:DR107)","v":0},{"$f":"MAX($BR107:DR107)","v":0},{"$f":"IFERROR(LOOKUP(100000,R107:DS107),0)","v":449.99},{"$f":"SUM(N107-O107)","v":1},1,null,0,0,null,null,null,null,null,null,null,null,null,null,null,null,null,null,null,null,null,null,null,null,null,null,null,null,null,null,null,null,null,null,null,null,null,null,null,null,null,null,null,null,null,null,null,null,449.99]
[1,{"$f":"IF(O108<N108,B107+1,B107)","v":21},0,12,{"$f":"IF(OR(O108<(N108*0.51),H108=Q108,H108=P108),E107+1,E107)","v":14},null,"Artikel 107",{"$f":"MIN($R108:BQ108)","v":21.67},{"$f":"MAX($R108:BQ108)","v":39.99},{"$f":"MIN($BR108:DR108)","v":0},{"$f":"MAX($BR108:DR108)","v":0},21.67,-5,20,25,0,0,null,null,null,null,null,null,null,null,null,null,null,null,null,39.99,null,null,null,null,null,null,null,null,null,null,null,null,31.99,null,null,null,null,null,null,null,21.67]
[1,{"$f":"IF(O109<N109,B108+1,B108)","v":21},{"$f":"C108","v":0},12,14,null,"Artikel 108",{"$f":"MIN($R109:BQ109)","v":89.99},{"$f":"MAX($R109:BQ109)","v":116.99},{"$f":"MIN($BR109:DR109)","v":0},{"$f":"MAX($BR109:DR109)","v":0},89.99,-1,5,6,0,0,null,null,null,null,null,null,null,null,null,null,null,null,null,null,null,89.99,null,null,null,null,null,null,null,null,null,null,89.99,null,null,null,null,null,null,null,null,null,null,null,null,null,null,null,null,null,116.99,null,null,null,89.99]
[{"$f":"IF(O110<N110,A109+1,A109)","v":1},{"$f":"B109","v":21},{"$f":"IF(O110<(N110*0.51),C109+1,C109)","v":0},12,{"$f":"E109","v":14},null,"Artikel 109",{"$f":"MIN($R110:BQ110)","v":60},{"$f":"MAX($R110:BQ110)","v":60},{"$f":"MIN($BR110:DR110)","v":0},{"$f":"MAX($BR110:DR110)","v":0},60,0,12,12,0,0,null,null,null,null,null,null,null,null,null,null,null,null,null,null,null,null,null,null,null,null,null,null,null,null,null,null,null,null,60]
[1,21,{"$f":"C110","v":0},12,14,null,"Artikel 110",{"$f":"MIN($R111:BQ111)","v":67.989999999999995},{"$f":"MAX($R111:BQ111)","v":67.989999999999995},{"$f":"MIN($BR111:DR111)","v":0},{"$f":"MAX($BR111:DR111)","v":0},67.989999999999995,0,50,50,0,0,null,null,null,null,null,null,null,null,null,null,null,null,null,null,null,null,null,null,null,null,null,null,null,null,null,null,67.989999999999995,null,null,null,null,null,null,67.989999999999995]
[{"$f":"A111","v":1},{"$f":"B111","v":21},0,{"$f":"IF(OR(M112>0,H112=P112),D111+1,D111)","v":13},{"$f":"IF(OR(H112=Q112,H112=P112),E111+1,E111)","v":15},null,"Artikel 111",{"$f":"MIN($R112:BQ112)","v":105.99},{"$f":"MAX($R112:BQ112)","v":184.99},{"$f":"MIN($BR112:DR112)","v":0},{"$f":"MAX($BR112:DR112)","v":0},105.99,3,3,null,105.99,0,null,null,null,null,139.99,null,null,null,null,null,null,null,null,null,null,null,null,null,null,null,null,null,null,null,null,null,null,null,null,null,null,null,null,null,null,null,null,null,null,159.99,null,null,124.99,184.99,null,null,null,null,null,null,105.99]
[{"$f":"A112","v":1},{"$f":"IF(O113<N113,B112+1,B112)","v":21},0,13,{"$f":"IF(OR(O113<(N113*0.51),H113=Q113,H113=P113),E112+1,E112)","v":15},null,"Artikel 112",{"$f":"MIN($R113:BQ113)","v":119.99},{"$f":"MAX($R113:BQ113)","v":159.99},{"$f":"MIN($BR113:DR113)","v":0},{"$f":"MAX($BR113:DR113)","v":0},145.49,0,2,2,0,0,null,null,null,119.99,null,null,null,null,null,null,null,null,null,149.99,null,null,null,null,null,null,null,null,null,null,null,null,149.99,119.99,null,null,null,null,null,null,null,null,159.99,null,null,null,null,null,null,null,null,null,null,null,145.49]
[1,{"$f":"B113","v":21},0,13,{"$f":"E113","v":15},null,"Artikel 113",{"$f":"MIN($R114:BQ114)","v":199.99},{"$f":"MAX($R114:BQ114)","v":199.99},{"$f":"MIN($BR114:DR114)","v":0},{"$f":"MAX($BR114:DR114)","v":0},{"$f":"IFERROR(LOOKUP(100000,R114:DS114),0)","v":199.99},{"$f":"SUM(N114-O114)","v":2},2,null,0,0,null,null,null,null,null,null,null,null,null,null,null,null,null,null,null,null,null,null,null,null,null,null,null,null,null,null,null,null,null,null,null,null,null,null,null,null,null,null,null,null,null,null,199.99]
[1,21,0,13,15,null,"Artikel 114",{"$f":"MIN($R115:BQ115)","v":199.99},{"$f":"MAX($R115:BQ115)","v":199.99},{"$f":"MIN($BR115:DR115)","v":0},{"$f":"MAX($BR115:DR115)","v":0},{"$f":"IFERROR(LOOKUP(100000,R115:DS115),0)","v":199.99},{"$f":"SUM(N115-O115)","v":2},2,null,0,0,null,null,null,null,null,null,null,null,null,null,null,null,null,null,null,null,null,null,null,null,null,null,null,null,null,null,null,null,null,null,null,null,null,null,null,null,null,null,null,null,null,null,199.99]
[1,21,0,13,15,null,"Artikel 115",{"$f":"MIN($R116:BQ116)","v":199.99},{"$f":"MAX($R116:BQ116)","v":199.99},{"$f":"MIN($BR116:DR116)","v":0},{"$f":"MAX($BR116:DR116)","v":0},199.99,2,2,null,0,0,null,null,null,null,null,null,null,null,null,null,null,null,null,null,null,null,null,null,null,null,null,null,null,null,null,null,null,null,null,null,null,null,null,null,null,null,null,null,null,null,null,null,199.99]
[1,{"$f":"IF(O117<N117,B116+1,B116)","v":21},0,13,{"$f":"IF(OR(O117<(N117*0.51),H117=Q117,H117=P117),E116+1,E116)","v":15},null,"Artikel 116",{"$f":"MIN($R117:BQ117)","v":44.99},{"$f":"MAX($R117:BQ117)","v":44.99},{"$f":"MIN($BR117:DR117)","v":0},{"$f":"MAX($BR117:DR117)","v":0},44.99,0,20,20,0,0,44.99,null,null,null,null,null,null,null,null,null,null,null,null,null,null,44.99,null,null,null,null,null,44.99]
[1,22,0,13,15,null,"Artikel 117",{"$f":"MIN($R118:BQ118)","v":49.99},{"$f":"MAX($R118:BQ118)","v":49.99},{"$f":"MIN($BR118:DR118)","v":0},{"$f":"MAX($BR118:DR118)","v":0},49.99,2,20,18,0,0,null,null,null,49.99,null,null,null,49.99,null,null,null,null,null,null,null,null,null,null,null,null,null,null,null,null,null,null,null,null,null,null,null,null,null,49.99]
[1,{"$f":"IF((O119+O120)<(N119+N120),B118+1,B118)","v":23},0,13,{"$f":"IF(OR(((O119+O120)<((N119+N120)*0.51)),H119=Q119,H119=P119),E118+1,E118)","v":16},null,"Artikel 118",{"$f":"MIN($R119:BQ119)","v":74.989999999999995},{"$f":"MAX($R119:BQ119)","v":89.99},{"$f":"MIN($BR119:DR119)","v":0},{"$f":"MAX($BR119:DR119)","v":0},89.99,{"$f":"IF((O119+O120)<3,20,(N119-O119))","v":20},12,null,0,0,null,null,null,null,null,null,null,null,null,79.989999999999995,null,null,null,77.989999999999995,null,null,79.989999999999995,null,null,null,null,null,null,null,74.989999999999995,89.99]
[1,{"$f":"IF((O119+O120)<(N119+N120),B119+1,B119)","v":24},0,13,{"$f":"IF(OR(((O119+O120)<((N119+N120)*0.51)),H120=Q120,H120=P120),E119+1,E119)","v":17},null,"Artikel 119",{"$f":"MIN($R120:BQ120)","v":112.48},{"$f":"MAX($R120:BQ120)","v":149.99},{"$f":"MIN($BR120:DR120)","v":0},{"$f":"MAX($BR120:DR120)","v":0},139.99,{"$f":"IF((O119+O120)<3,16,(N120-O120))","v":16},8,null,0,0,null,null,149.99,124.99,null,null,null,119.99,null,null,null,127.48,null,null,null,null,null,null,null,null,null,null,114.99,null,null,null,114.99,null,null,null,null,null,null,112.48,114.99,null,null,null,null,null,null,null,null,null,null,null,null,null,139.99]
[1,{"$f":"IF(O121<N121,B120+1,B120)","v":24},0,13,{"$f":"IF(OR(O121<(N121*0.51),H121=Q121,H121=P121),E120+1,E120)","v":17},null,"Artikel 120",{"$f":"MIN($R121:BQ121)","v":189.49},{"$f":"MAX($R121:BQ121)","v":244.99},{"$f":"MIN($BR121:DR121)","v":0},{"$f":"MAX($BR121:DR121)","v":0},189.49,{"$f":"SUM(N121-O121)","v":0},1,1,0,0,null,null,null,null,null,null,null,null,null,null,null,null,null,null,null,null,null,null,null,null,null,null,null,null,null,null,null,null,null,null,null,244.99,null,null,null,null,null,null,null,null,null,null,null,189.49]
[1,24,0,13,{"$f":"IF(OR(O122<(N122*0.51),H122=Q122,H122=P122),E121+1,E121)","v":17},null,"Artikel 121",{"$f":"MIN($R122:BQ122)","v":172.44},{"$f":"MAX($R122:BQ122)","v":189.9},{"$f":"MIN($BR122:DR122)","v":0},{"$f":"MAX($BR122:DR122)","v":0},172.44,0,6,6,0,0,null,null,null,null,null,189.9,null,null,null,null,null,null,null,179.94,null,null,null,null,null,179.94,null,null,null,null,null,179.94,null,null,null,179.94,null,null,179.94,null,null,null,null,174.95,null,null,null,null,172.44,null,null,null,172.44,null,172.44]
[1,24,0,13,17,null,"Artikel 122",{"$f":"MIN($R123:BQ123)","v":82.02},{"$f":"MAX($R123:BQ123)","v":96.99},{"$f":"MIN($BR123:DR123)","v":0},{"$f":"MAX($BR123:DR123)","v":0},{"$f":"IFERROR(LOOKUP(100000,R123:DS123),0)","v":82.02},{"$f":"SUM(N123-O123)","v":0},8,8,0,0,null,null,null,null,null,null,null,null,null,null,null,null,null,null,null,null,null,null,null,null,null,null,null,null,null,null,null,null,null,null,null,null,null,null,null,null,96.99,null,null,null,null,null,null,82.02]
[{"$f":"IF(O124<N124,A123+1,A123)","v":1},{"$f":"B123","v":24},{"$f":"IF(O124<(N124*0.51),C123+1,C123)","v":0},13,17,null,"Artikel 123",{"$f":"MIN($R124:BQ124)","v":28.49},{"$f":"MAX($R124:BQ124)","v":28.49},{"$f":"MIN($BR124:DR124)","v":0},{"$f":"MAX($BR124:DR124)","v":0},{"$f":"IFERROR(LOOKUP(100000,R124:DS124),0)","v":28.49},{"$f":"SUM(N124-O124)","v":0},10,10,0,0,null,null,null,null,null,null,null,null,null,null,null,null,null,null,null,null,null,null,null,null,null,null,null,null,null,null,null,null,null,null,null,null,null,null,null,null,null,null,null,28.49]
[1,{"$f":"B124","v":24},0,{"$f":"IF(OR(M125>0,H125=P125),D124+1,D124)","v":14},{"$f":"IF(OR(H125=Q125,H125=P125),E124+1,E124)","v":17},null,"Artikel 124",{"$f":"MIN($R125:BQ125)","v":45.99},{"$f":"MAX($R125:BQ125)","v":74.989999999999995},{"$f":"MIN($BR125:DR125)","v":0},{"$f":"MAX($BR125:DR125)","v":0},45.99,3,3,null,0,0,null,49.99,null,49.99,null,null,null,null,null,47.99,null,54.99,null,49.99,null,null,null,null,null,null,null,74.989999999999995,null,null,null,59.99,null,null,null,null,null,null,69.989999999999995,null,null,null,null,null,null,null,49.99,null,null,null,47.99,null,null,null,45.99]
[1,{"$f":"B125","v":24},0,{"$f":"IF(OR(M126>0,H126=P126),D125+1,D125)","v":15},{"$f":"IF(OR(H126=Q126,H126=P126),E125+1,E125)","v":17},null,"Artikel 125",{"$f":"MIN($R126:BQ126)","v":119.99},{"$f":"MAX($R126:BQ126)","v":239.99},{"$f":"MIN($BR126:DR126)","v":0},{"$f":"MAX($BR126:DR126)","v":0},119.99,2,2,null,0,0,null,null,null,null,null,null,null,null,null,null,null,null,null,null,null,null,null,null,null,null,null,null,null,null,null,null,null,null,null,239.99,null,199.99,null,null,null,119.99]
[{"$f":"IF(O127<N127,A126+1,A126)","v":1},{"$f":"IF(O127<N127,B126+1,B126)","v":24},{"$f":"IF(O127<(N127*0.51),C126+1,C126)","v":0},{"$f":"D126","v":15},{"$f":"IF(OR(O127<(N127*0.51),H127=Q127,H127=P127),E126+1,E126)","v":17},null,"Artikel 126",{"$f":"MIN($R127:BQ127)","v":79.900000000000006},{"$f":"MAX($R127:BQ127)","v":94.99},{"$f":"MIN($BR127:DR127)","v":0},{"$f":"MAX($BR127:DR127)","v":0},94.99,0,40,40,0,0,null,null,null,null,null,null,null,null,null,89.99,null,null,null,89.99,null,null,null,null,null,null,null,89.99,null,null,null,null,null,null,null,null,null,88.99,null,null,null,null,null,null,null,79.900000000000006,null,null,89.99,null,null,null,null,null,94.99]
[1,24,{"$f":"C127","v":0},15,17,null,"Artikel 127",{"$f":"MIN($R128:BQ128)","v":329.99},{"$f":"MAX($R128:BQ128)","v":399.99},{"$f":"MIN($BR128:DR128)","v":0},{"$f":"MAX($BR128:DR128)","v":0},329.99,0,12,12,0,0,null,null,null,null,null,null,null,null,null,null,null,null,null,null,null,null,null,null,null,null,null,null,null,null,null,null,399.99,null,null,null,null,null,null,null,null,null,null,null,null,null,null,null,null,null,null,null,329.99]
[1,{"$f":"B128","v":24},0,{"$f":"IF(OR(M129>0,H129=P129),D128+1,D128)","v":16},{"$f":"IF(OR(H129=Q129,H129=P129),E128+1,E128)","v":17},null,"Artikel 128",{"$f":"MIN($R129:BQ129)","v":79.989999999999995},{"$f":"MAX($R129:BQ129)","v":159.99},{"$f":"MIN($BR129:DR129)","v":0},{"$f":"MAX($BR129:DR129)","v":0},109.99,3,3,null,109.99,0,null,99.99,99.99,null,89.99,null,null,89.99,79.989999999999995,139.99,null,119.99,109.99,104.99,null,109.99,null,null,null,119.99,null,null,null,null,null,null,null,null,null,null,null,null,null,null,159.99,null,null,null,159.99,null,null,null,null,149.99,null,134.99,null,null,116.67,null,109.99]
[1,24,0,16,{"$f":"IF(OR(O130<(N130*0.51),H130=Q130,H130=P130),E129+1,E129)","v":17},null,"Artikel 129",{"$f":"MIN($R130:BQ130)","v":19.989999999999998},{"$f":"MAX($R130:BQ130)","v":22.99},{"$f":"MIN($BR130:DR130)","v":0},{"$f":"MAX($BR130:DR130)","v":0},{"$f":"IFERROR(LOOKUP(100000,R130:DS130),0)","v":19.989999999999998},0,20,20,{"$f":"INDEX(R130:DS130,MATCH(P$1,R$1:DS$1,0))","v":0},{"$f":"IFERROR(INDEX(R130:DS130,MATCH(Q$1,R$1:DS$1,0)),0)","v":0},null,null,22.99,null,null,null,null,null,null,null,null,null,null,null,null,null,null,null,null,null,null,null,null,null,null,19.989999999999998]
[1,{"$f":"B130","v":24},0,16,{"$f":"E130","v":17},null,"Artikel 130",{"$f":"MIN($R131:BQ131)","v":799.99},{"$f":"MAX($R131:BQ131)","v":799.99},{"$f":"MIN($BR131:DR131)","v":0},{"$f":"MAX($BR131:DR131)","v":0},799.99,{"$f":"SUM(N131-O131)","v":2},2,null,0,0,null,null,null,null,null,null,null,null,null,null,null,null,null,null,null,null,null,null,null,null,null,null,null,null,null,null,null,null,null,null,null,null,null,null,null,null,null,null,null,null,null,null,799.99]
[1,24,0,{"$f":"D131","v":16},{"$f":"IF(OR(O132<(N132*0.51),H132=Q132,H132=P132),E131+1,E131)","v":17},null,"Artikel 131",{"$f":"MIN($R132:BQ132)","v":169.99},{"$f":"MAX($R132:BQ132)","v":219.99},{"$f":"MIN($BR132:DR132)","v":0},{"$f":"MAX($BR132:DR132)","v":0},209.49,0,8,8,0,0,null,null,null,169.99,null,null,null,null,null,null,null,null,null,null,null,null,null,null,null,null,null,null,null,null,null,null,null,null,219.99,null,null,null,null,null,null,null,null,null,null,null,null,209.49]
[1,{"$f":"B132","v":24},0,{"$f":"IF(OR(M133>0,H133=P133),D132+1,D132)","v":17},{"$f":"IF(OR(O168=0,H133=Q133,H133=P133),E132+1,E132)","v":17},null,"Artikel 132",{"$f":"MIN($R133:BQ133)","v":169.99},{"$f":"MAX($R133:BQ133)","v":449.99},{"$f":"MIN($BR133:DR133)","v":0},{"$f":"MAX($BR133:DR133)","v":0},169.99,2,2,null,0,0,null,null,null,null,null,null,null,null,null,null,null,null,null,449.99,null,null,null,null,329.99,null,null,229.99,null,199.99,null,169.99]
[1,{"$f":"B133","v":24},0,{"$f":"IF(OR(M134>0,H134=P134),D133+1,D133)","v":18},{"$f":"IF(OR(O168=0,H134=Q134,H134=P134),E133+1,E133)","v":17},null,"Artikel 133",{"$f":"MIN($R134:BQ134)","v":169.99},{"$f":"MAX($R134:BQ134)","v":519.99},{"$f":"MIN($BR134:DR134)","v":0},{"$f":"MAX($BR134:DR134)","v":0},169.99,2,2,null,0,0,null,null,null,null,169.99,null,null,null,null,null,null,null,null,519.99,null,null,null,369.99,null,369.99,null,null,null,null,null,null,229.99,null,null,null,null,null,299.99,null,null,169.99]
[1,{"$f":"IF(O135<N135,B134+1,B134)","v":24},0,18,{"$f":"IF(OR(O135<(N135*0.51),H135=Q135,H135=P135),E134+1,E134)","v":17},null,"Artikel 134",{"$f":"MIN($R135:BQ135)","v":119.99},{"$f":"MAX($R135:BQ135)","v":134.99},{"$f":"MIN($BR135:DR135)","v":0},{"$f":"MAX($BR135:DR135)","v":0},119.99,-4,10,14,0,0,null,null,null,null,null,null,null,null,null,null,null,null,null,null,null,134.99,null,null,null,null,null,null,null,null,null,134.99,null,null,null,null,null,null,null,null,null,null,null,null,null,null,null,null,119.99]
[1,24,0,{"$f":"D135","v":18},17,null,"Artikel 135",{"$f":"MIN($R136:BQ136)","v":119.99},{"$f":"MAX($R136:BQ136)","v":149.99},{"$f":"MIN($BR136:DR136)","v":0},{"$f":"MAX($BR136:DR136)","v":0},139.99,0,2,2,0,0,null,null,null,null,null,null,null,null,null,null,null,null,null,null,null,149.99,null,null,null,null,null,null,null,null,null,null,null,null,null,null,null,null,null,null,null,null,null,null,null,null,null,null,139.99,null,null,null,119.99,139.99]
[1,{"$f":"B136","v":24},0,{"$f":"IF(OR(M137>0,H137=P137),D136+1,D136)","v":19},{"$f":"IF(OR(H137=Q137,H137=P137),E136+1,E136)","v":17},null,"Artikel 136",{"$f":"MIN($R137:BQ137)","v":79.989999999999995},{"$f":"MAX($R137:BQ137)","v":179.99},{"$f":"MIN($BR137:DR137)","v":0},{"$f":"MAX($BR137:DR137)","v":0},79.989999999999995,2,2,null,0,0,null,null,null,null,null,null,null,null,null,null,null,null,null,179.99,null,null,null,null,159.99,null,null,null,null,149.99,null,null,null,119.99,null,null,null,99.99,null,null,null,79.989999999999995]
[1,{"$f":"B137","v":24},0,{"$f":"D137","v":19},{"$f":"E137","v":17},null,"Artikel 137",{"$f":"MIN($R138:BQ138)","v":69.989999999999995},{"$f":"MAX($R138:BQ138)","v":69.989999999999995},{"$f":"MIN($BR138:DR138)","v":0},{"$f":"MAX($BR138:DR138)","v":0},69.989999999999995,1,1,null,0,0,null,null,null,null,null,null,null,null,null,null,null,null,null,null,null,null,null,null,null,null,null,null,null,null,null,null,null,null,null,null,null,69.989999999999995]
[1,{"$f":"IF((O139+O140+O141)<(N139+N140+N141)/3,B138+1,B138)","v":24},0,19,{"$f":"IF(OR((O139+O140+O141)<1,H139=Q139,H139=P139),E138+1,E138)","v":17},null,"Artikel 138",{"$f":"MIN($R139:BQ139)","v":139.99},{"$f":"MAX($R139:BQ139)","v":149.99},{"$f":"MIN($BR139:DR139)","v":0},{"$f":"MAX($BR139:DR139)","v":0},141.99,{"$f":"SUM((N139+N140+N141)-(O139+O140+O141))/3","v":0.66666666666666663},1,1,0,0,null,null,null,null,null,null,null,null,null,null,null,null,null,null,null,null,null,null,null,null,null,null,null,null,null,null,null,null,null,null,null,149.99,null,null,null,null,null,null,null,null,139.99,null,141.99,null,null,null,null,141.99]
[1,{"$f":"IF((O139+O140+O141)<(N139+N140+N141)/3,B139+1,B139)","v":24},0,19,{"$f":"IF(OR((O139+O140+O141)<1,H140=Q140,H140=P140),E139+1,E139)","v":17},null,"Artikel 139",{"$f":"MIN($R140:BQ140)","v":189.99},{"$f":"MAX($R140:BQ140)","v":249.99},{"$f":"MIN($BR140:DR140)","v":0},{"$f":"MAX($BR140:DR140)","v":0},239.99,{"$f":"SUM((N139+N140+N141)-(O139+O140+O141))/3","v":0.66666666666666663},1,null,0,0,null,null,249.99,null,null,null,null,null,null,null,null,null,null,null,null,null,null,null,189.99,null,null,null,null,null,null,null,null,null,null,null,null,null,null,null,null,null,null,null,null,null,null,null,null,null,null,239.99]
[{"$f":"A140","v":1},{"$f":"IF((O139+O140+O141)<(N139+N140+N141)/3,B140+1,B140)","v":24},0,19,{"$f":"IF(OR((O139+O140+O141)<1,H141=Q141,H141=P141),E140+1,E140)","v":17},null,"Artikel 140",{"$f":"MIN($R141:BQ141)","v":274.27},{"$f":"MAX($R141:BQ141)","v":299.99},{"$f":"MIN($BR141:DR141)","v":0},{"$f":"MAX($BR141:DR141)","v":0},299.99,{"$f":"SUM((N139+N140+N141)-(O139+O140+O141))/3","v":0.66666666666666663},1,null,0,0,null,283.41000000000003,null,null,null,null,null,null,null,null,null,283.41000000000003,null,null,null,null,null,null,null,null,null,null,null,null,null,null,null,null,null,null,274.27,null,null,null,299.99,null,null,null,null,null,null,299.99]
[1,{"$f":"IF(O142<N142,B141+1,B141)","v":24},0,19,{"$f":"IF(OR(O142<(N142*0.51),H142=Q142,H142=P142),E141+1,E141)","v":17},null,"Artikel 141",{"$f":"MIN($R142:BQ142)","v":139.99},{"$f":"MAX($R142:BQ142)","v":179.99},{"$f":"MIN($BR142:DR142)","v":0},{"$f":"MAX($BR142:DR142)","v":0},139.99,{"$f":"SUM(N142-O142)","v":0},1,1,0,0,null,null,null,null,null,null,null,null,null,null,null,null,null,null,null,null,null,null,null,null,null,179.99,null,null,null,null,null,null,null,null,null,null,null,null,null,149.99,null,null,null,null,null,null,139.99,null,null,null,null,139.99]
[{"$f":"A142","v":1},{"$f":"B142","v":24},{"$f":"C142","v":0},{"$f":"IF(OR(M143>0,H143=P143),D142+1,D142)","v":20},{"$f":"IF(OR(O168=0,H143=Q143,H143=P143),E142+1,E142)","v":17},null,"Artikel 142",{"$f":"MIN($R143:BQ143)","v":15.99},{"$f":"MAX($R143:BQ143)","v":29.99},{"$f":"MIN($BR143:DR143)","v":0},{"$f":"MAX($BR143:DR143)","v":0},21.99,1,1,null,0,0,29.99,null,null,null,null,null,null,null,null,null,null,null,null,null,null,null,null,null,null,19.989999999999998,null,null,null,null,null,null,null,null,null,null,null,19.989999999999998,null,15.99,null,null,17.989999999999998,null,null,null,21.99]
[{"$f":"IF(O144<N144,A143+1,A143)","v":1},{"$f":"B143","v":24},{"$f":"IF(O144<(N144*0.51),C143+1,C143)","v":0},20,{"$f":"E143","v":17},null,"Artikel 143",{"$f":"MIN($R144:BQ144)","v":0},{"$f":"MAX($R144:BQ144)","v":0},{"$f":"MIN($BR144:DR144)","v":0},{"$f":"MAX($BR144:DR144)","v":0},{"$f":"IFERROR(LOOKUP(100000,R144:DS144),0)","v":0},{"$f":"SUM(N144-O144)","v":0},3,3,0,0]
[1,{"$f":"IF(O145<N145,B144+1,B144)","v":24},{"$f":"C144","v":0},20,{"$f":"IF(OR(O145<(N145*0.51),H145=Q145,H145=P145),E144+1,E144)","v":17},null,"Artikel 144",{"$f":"MIN($R145:BQ145)","v":146.62},{"$f":"MAX($R145:BQ145)","v":199.99},{"$f":"MIN($BR145:DR145)","v":0},{"$f":"MAX($BR145:DR145)","v":0},146.62,-3,5,8,0,0,null,null,null,null,null,null,null,null,null,null,null,null,null,null,null,null,null,null,null,null,null,null,null,199.99,169.99,null,null,null,null,null,null,null,null,null,146.62]
[1,{"$f":"B145","v":24},0,20,{"$f":"E145","v":17},null,"Artikel 145",{"$f":"MIN($R146:BQ146)","v":0},{"$f":"MAX($R146:BQ146)","v":0},{"$f":"MIN($BR146:DR146)","v":0},{"$f":"MAX($BR146:DR146)","v":0},{"$f":"IFERROR(LOOKUP(100000,R146:DS146),0)","v":0},{"$f":"SUM(N146-O146)","v":0},1,1,0,0]
[1,{"$f":"B146","v":24},{"$f":"C146","v":0},{"$f":"IF(OR(M147>0,H147=P147),D146+1,D146)","v":21},{"$f":"IF(OR(H147=Q147,H147=P147),E146+1,E146)","v":17},null,"Artikel 146",{"$f":"MIN($R147:BQ147)","v":112.49},{"$f":"MAX($R147:BQ147)","v":219.99},{"$f":"MIN($BR147:DR147)","v":0},{"$f":"MAX($BR147:DR147)","v":0},219.99,2,2,null,0,0,null,null,null,null,null,null,null,null,null,null,null,null,null,null,null,null,null,null,null,null,null,159.99,null,null,null,219.99,219.99,112.49,null,219.99]
[1,24,{"$f":"C147","v":0},{"$f":"IF(OR(M148>0,H148=P148),D147+1,D147)","v":22},{"$f":"IF(OR(H148=Q148,H148=P148),E147+1,E147)","v":17},null,"Artikel 147",{"$f":"MIN($R148:BQ148)","v":169.99},{"$f":"MAX($R148:BQ148)","v":169.99},{"$f":"MIN($BR148:DR148)","v":0},{"$f":"MAX($BR148:DR148)","v":0},169.99,2,2,null,0,0,null,null,null,null,null,null,null,null,null,null,null,null,null,null,null,null,null,null,null,null,null,null,null,null,null,null,null,null,null,null,null,null,null,169.99,169.99]
[1,{"$f":"IF(O149<N149,B148+1,B148)","v":25},0,{"$f":"D148","v":22},{"$f":"IF(OR(O149<(N149*0.51),H149=Q149,H149=P149),E148+1,E148)","v":17},null,"Artikel 148",{"$f":"MIN($R149:BQ149)","v":229.99},{"$f":"MAX($R149:BQ149)","v":229.99},{"$f":"MIN($BR149:DR149)","v":0},{"$f":"MAX($BR149:DR149)","v":0},229.99,1,8,7,0,0,null,null,null,null,null,null,null,null,null,null,null,null,null,null,null,null,null,null,null,null,null,null,null,null,null,null,229.99]
[{"$f":"IF(O150<N150,A149+1,A149)","v":1},{"$f":"B149","v":25},{"$f":"IF(O150<(N150*0.51),C149+1,C149)","v":0},22,{"$f":"E149","v":17},null,"Artikel 149",{"$f":"MIN($R150:BQ150)","v":0},{"$f":"MAX($R150:BQ150)","v":0},{"$f":"MIN($BR150:DR150)","v":0},{"$f":"MAX($BR150:DR150)","v":0},0,0,2,2,0,0]
[1,{"$f":"IF(O151<N151,B150+1,B150)","v":26},{"$f":"C150","v":0},22,18,null,"Artikel 150",{"$f":"MIN($R151:BQ151)","v":194.99},{"$f":"MAX($R151:BQ151)","v":219.99},{"$f":"MIN($BR151:DR151)","v":0},{"$f":"MAX($BR151:DR151)","v":0},219.99,1,2,1,0,0,null,null,null,null,194.99,null,null,null,null,null,null,null,null,null,199.99,null,null,null,null,199.99,null,null,null,199.99,null,null,null,null,null,209.99,null,null,null,null,209.99,null,null,null,null,219.99]
[{"$f":"IF(O152<N152,A151+1,A151)","v":1},{"$f":"B151","v":26},{"$f":"IF(O152<(N152*0.51),C151+1,C151)","v":0},22,{"$f":"E151","v":18},null,"Artikel 151",{"$f":"MIN($R152:BQ152)","v":1275},{"$f":"MAX($R152:BQ152)","v":1500},{"$f":"MIN($BR152:DR152)","v":0},{"$f":"MAX($BR152:DR152)","v":0},1275,-2,3,5,0,0,1500,null,null,null,null,null,null,null,null,null,null,null,null,null,null,null,null,null,null,null,null,null,null,null,null,null,null,null,null,null,null,null,1275]
[1,{"$f":"B152","v":26},{"$f":"IF(O153<(N153*0.51),C152+1,C152)","v":0},22,{"$f":"E152","v":18},null,"Artikel 152",{"$f":"MIN($R153:BQ153)","v":0},{"$f":"MAX($R153:BQ153)","v":0},{"$f":"MIN($BR153:DR153)","v":0},{"$f":"MAX($BR153:DR153)","v":0},0,0,6,6,0,0]
[1,{"$f":"B153","v":26},{"$f":"C153","v":0},22,18,null,"Artikel 153",{"$f":"MIN($R154:BQ154)","v":0},{"$f":"MAX($R154:BQ154)","v":0},{"$f":"MIN($BR154:DR154)","v":0},{"$f":"MAX($BR154:DR154)","v":0},{"$f":"IFERROR(LOOKUP(100000,R154:DS154),0)","v":0},{"$f":"SUM(N154-O154)","v":0},{"$f":"O154","v":0},null,0,0]
[{"$f":"A154","v":1},26,{"$f":"C154","v":0},22,18,null,"Artikel 154",{"$f":"MIN($R155:BQ155)","v":0},{"$f":"MAX($R155:BQ155)","v":0},{"$f":"MIN($BR155:DR155)","v":0},{"$f":"MAX($BR155:DR155)","v":0},0,0,{"$f":"O155","v":0},null,0,0]
[{"$f":"A155","v":1},26,0,{"$f":"IF(OR(M156>0,H156=P156),D155+1,D155)","v":23},{"$f":"IF(OR(H156=Q156,H156=P156),E155+1,E155)","v":18},null,"Artikel 155",{"$f":"MIN($R156:BQ156)","v":39.99},{"$f":"MAX($R156:BQ156)","v":89.99},{"$f":"MIN($BR156:DR156)","v":0},{"$f":"MAX($BR156:DR156)","v":0},79.989999999999995,{"$f":"SUM(N156-O156)","v":2},2,null,0,0,null,null,null,null,null,null,null,null,null,null,null,null,39.99,null,null,89.99,null,null,null,null,null,null,null,79.989999999999995,null,null,null,null,79.989999999999995]
[{"$f":"A156","v":1},{"$f":"IF(O157<N157,B156+1,B156)","v":26},0,{"$f":"D156","v":23},{"$f":"IF(OR(O157<(N157*0.51),H157=Q157,H157=P157),E156+1,E156)","v":18},null,"Artikel 156",{"$f":"MIN($R157:BQ157)","v":119.99},{"$f":"MAX($R157:BQ157)","v":129.99},{"$f":"MIN($BR157:DR157)","v":0},{"$f":"MAX($BR157:DR157)","v":0},119.99,-1,20,21,0,0,null,null,null,null,null,null,null,null,null,null,null,null,119.99,null,null,129.99,null,null,null,119.99,null,null,null,null,null,119.99]
[{"$f":"A157","v":1},26,{"$f":"C157","v":0},23,18,null,"Artikel 157",{"$f":"MIN($R158:BQ158)","v":129.99},{"$f":"MAX($R158:BQ158)","v":144.99},{"$f":"MIN($BR158:DR158)","v":0},{"$f":"MAX($BR158:DR158)","v":0},139.99,-1,20,21,0,0,null,null,null,null,144.99,null,null,144.99,null,null,null,null,null,null,null,null,null,129.99,null,null,null,null,null,139.99,null,null,null,null,null,null,null,null,null,null,139.99]
[1,26,{"$f":"C158","v":0},{"$f":"D158","v":23},18,null,"Artikel 158",{"$f":"MIN($R159:BQ159)","v":99.99},{"$f":"MAX($R159:BQ159)","v":129.99},{"$f":"MIN($BR159:DR159)","v":0},{"$f":"MAX($BR159:DR159)","v":0},122.49,0,10,10,0,0,null,null,null,null,null,null,null,null,null,null,null,null,null,null,null,99.99,null,null,null,null,null,null,null,null,null,null,null,null,129.99,null,null,null,null,null,null,null,null,null,null,null,null,null,null,null,122.49]
[1,{"$f":"B159","v":26},0,{"$f":"IF(OR(M160>0,H160=P160),D159+1,D159)","v":24},{"$f":"IF(OR(H160=Q160,H160=P160),E159+1,E159)","v":18},null,"Artikel 159",{"$f":"MIN($R160:BQ160)","v":149.99},{"$f":"MAX($R160:BQ160)","v":149.99},{"$f":"MIN($BR160:DR160)","v":0},{"$f":"MAX($BR160:DR160)","v":0},149.99,2,2,null,0,0,null,null,null,null,null,null,null,null,null,null,null,null,null,null,null,null,null,null,null,null,null,null,null,null,null,null,null,null,null,null,null,null,null,null,null,null,149.99]
[1,{"$f":"IF(O161<N161,B160+1,B160)","v":26},{"$f":"C160","v":0},{"$f":"D160","v":24},{"$f":"IF(OR(O161<(N161*0.51),H161=Q161,H161=P161),E160+1,E160)","v":18},null,"Artikel 160",{"$f":"MIN($R161:BQ161)","v":109.99},{"$f":"MAX($R161:BQ161)","v":129.99},{"$f":"MIN($BR161:DR161)","v":0},{"$f":"MAX($BR161:DR161)","v":0},109.99,-2,12,14,0,0,null,null,null,null,129.99,null,null,129.99,null,null,null,null,null,null,null,null,null,null,null,null,null,null,null,null,null,null,null,null,null,null,null,null,null,null,null,null,109.99]
[1,{"$f":"IF((O162+O163)<(N162+N163),B161+1,B161)","v":26},0,24,{"$f":"IF(OR(((O162+O163)<((N162+N163)*0.51)),H162=Q162,H162=P162),E161+1,E161)","v":18},null,"Artikel 161",{"$f":"MIN($R162:BQ162)","v":149.99},{"$f":"MAX($R162:BQ162)","v":174.99},{"$f":"MIN($BR162:DR162)","v":0},{"$f":"MAX($BR162:DR162)","v":0},149.99,{"$f":"SUM((N162+N163)-(O162+O163))","v":0},1,1,0,0,null,null,null,null,null,null,null,null,null,174.99,null,null,null,null,null,null,null,149.99,null,null,null,null,null,null,null,null,null,null,null,null,null,null,null,null,null,null,null,null,null,null,149.99]
[1,{"$f":"IF((O162+O163)<(N162+N163),B162+1,B162)","v":26},0,24,{"$f":"IF(OR(((O162+O163)<((N162+N163)*0.51)),H163=Q163,H163=P163),E162+1,E162)","v":18},null,"Artikel 162",{"$f":"MIN($R163:BQ163)","v":169.99},{"$f":"MAX($R163:BQ163)","v":219.99},{"$f":"MIN($BR163:DR163)","v":0},{"$f":"MAX($BR163:DR163)","v":0},169.99,{"$f":"SUM((N162+N163)-(O162+O163))","v":0},1,1,0,0,null,null,null,null,null,null,null,null,null,null,null,null,219.99,null,179.99,179.99,null,null,null,null,null,null,null,null,null,null,null,null,null,null,null,null,null,null,null,null,null,null,192.49,null,null,null,179.99,null,null,169.99,null,null,169.99]
[1,{"$f":"B163","v":26},0,24,{"$f":"E163","v":18},null,"Artikel 163",{"$f":"MIN($R164:BQ164)","v":19.989999999999998},{"$f":"MAX($R164:BQ164)","v":27.99},{"$f":"MIN($BR164:DR164)","v":0},{"$f":"MAX($BR164:DR164)","v":0},22.99,{"$f":"SUM(N164-O164)","v":1},1,null,0,0,null,null,null,null,null,null,null,null,null,null,null,null,null,null,null,null,null,null,null,19.989999999999998,null,null,null,null,null,null,null,null,27.99,null,null,22.99]
[1,{"$f":"B164","v":26},0,24,{"$f":"E164","v":18},null,"Artikel 164",{"$f":"MIN($R165:BQ165)","v":44.99},{"$f":"MAX($R165:BQ165)","v":59.99},{"$f":"MIN($BR165:DR165)","v":0},{"$f":"MAX($BR165:DR165)","v":0},49.99,1,1,null,0,0,null,null,null,44.99,null,null,null,null,null,null,null,null,null,null,null,null,null,null,null,null,null,null,null,null,null,null,null,null,59.99,null,null,null,null,49.99,null,null,null,null,null,null,null,null,null,null,null,null,null,49.99]
[1,{"$f":"IF(O166<N166,B165+1,B165)","v":26},0,24,{"$f":"IF(OR(O166<(N166*0.51),H166=Q166,H166=P166),E165+1,E165)","v":18},null,"Artikel 165",{"$f":"MIN($R166:BQ166)","v":109.99},{"$f":"MAX($R166:BQ166)","v":119.99},{"$f":"MIN($BR166:DR166)","v":0},{"$f":"MAX($BR166:DR166)","v":0},109.99,0,1,1,0,0,null,null,null,null,null,null,null,null,null,null,null,null,null,null,null,null,null,null,null,null,null,null,null,null,null,null,119.99,null,null,null,null,null,null,null,null,null,null,null,null,null,null,null,null,null,null,null,null,109.99]
[1,26,0,24,18,null,"Artikel 166",{"$f":"MIN($R167:BQ167)","v":45.99},{"$f":"MAX($R167:BQ167)","v":45.99},{"$f":"MIN($BR167:DR167)","v":0},{"$f":"MAX($BR167:DR167)","v":0},45.99,0,10,10,0,0,null,null,null,null,null,null,null,null,null,null,null,null,null,null,null,null,null,null,null,null,null,null,null,null,null,45.99]
[1,{"$f":"B167","v":26},0,24,{"$f":"E167","v":18},null,"Artikel 167",{"$f":"MIN($R168:BQ168)","v":0},{"$f":"MAX($R168:BQ168)","v":0},{"$f":"MIN($BR168:DR168)","v":0},{"$f":"MAX($BR168:DR168)","v":0},{"$f":"IFERROR(LOOKUP(100000,R168:DS168),0)","v":0},{"$f":"SUM(N168-O168)","v":2},6,4,0,0]
[1,26,0,24,{"$f":"IF(OR(O169<(N169*0.51),H169=Q169,H169=P169),E168+1,E168)","v":18},null,"Artikel 168",{"$f":"MIN($R169:BQ169)","v":128.99},{"$f":"MAX($R169:BQ169)","v":229.99},{"$f":"MIN($BR169:DR169)","v":0},{"$f":"MAX($BR169:DR169)","v":0},128.99,0,1,1,0,0,null,null,229.99,null,null,null,null,null,null,null,null,null,null,null,null,null,null,null,null,null,null,null,null,null,null,null,null,null,128.99]
[1,{"$f":"B169","v":26},0,24,18,null,"Artikel 169",{"$f":"MIN($R170:BQ170)","v":0},{"$f":"MAX($R170:BQ170)","v":0},{"$f":"MIN($BR170:DR170)","v":0},{"$f":"MAX($BR170:DR170)","v":0},{"$f":"IFERROR(LOOKUP(100000,R170:DS170),0)","v":0},{"$f":"SUM(N170-O170)","v":18},24,6,0,0]
[1,{"$f":"IF(O171<N171,B170+1,B170)","v":26},{"$f":"C170","v":0},24,{"$f":"IF(OR(O171<(N171*0.51),H171=Q171,H171=P171),E170+1,E170)","v":18},null,"Artikel 170",{"$f":"MIN($R171:BQ171)","v":39.99},{"$f":"MAX($R171:BQ171)","v":39.99},{"$f":"MIN($BR171:DR171)","v":0},{"$f":"MAX($BR171:DR171)","v":0},39.99,0,3,3,0,0,null,null,null,null,null,null,null,null,null,null,null,null,null,null,null,null,null,null,null,null,null,null,null,null,null,null,null,null,null,null,null,null,39.99]
[{"$f":"A171","v":1},26,{"$f":"C171","v":0},24,18,null,"Artikel 171",{"$f":"MIN($R172:BQ172)","v":0},{"$f":"MAX($R172:BQ172)","v":0},{"$f":"MIN($BR172:DR172)","v":0},{"$f":"MAX($BR172:DR172)","v":0},{"$f":"IFERROR(LOOKUP(100000,R172:DS172),0)","v":0},{"$f":"SUM(N172-O172)","v":1},1,null,0,0]
[1,26,{"$f":"C172","v":0},24,18,null,"Artikel 172",{"$f":"MIN($R173:BQ173)","v":0},{"$f":"MAX($R173:BQ173)","v":0},{"$f":"MIN($BR173:DR173)","v":0},{"$f":"MAX($BR173:DR173)","v":0},{"$f":"IFERROR(LOOKUP(100000,R173:DS173),0)","v":0},{"$f":"SUM(N173-O173)","v":1},1,null,0,0]
[1,26,0,24,18,null,"Artikel 173",{"$f":"MIN($R174:BQ174)","v":0},{"$f":"MAX($R174:BQ174)","v":0},{"$f":"MIN($BR174:DR174)","v":0},{"$f":"MAX($BR174:DR174)","v":0},{"$f":"IFERROR(LOOKUP(100000,R174:DS174),0)","v":0},{"$f":"SUM(N174-O174)","v":2},2,null,0,0]
[1,{"$f":"IF(O175<N175,B174+1,B174)","v":26},0,24,{"$f":"IF(OR(O175<(N175*0.51),H175=Q175,H175=P175),E174+1,E174)","v":18},null,"Artikel 174",{"$f":"MIN($R175:BQ175)","v":34.99},{"$f":"MAX($R175:BQ175)","v":59.99},{"$f":"MIN($BR175:DR175)","v":0},{"$f":"MAX($BR175:DR175)","v":0},34.99,0,5,5,0,0,null,null,null,null,null,null,null,null,null,null,null,null,null,null,null,null,null,null,null,null,null,null,null,null,null,null,null,null,null,null,null,null,59.99,null,null,null,null,null,null,null,null,null,null,null,null,34.99]
[{"$f":"A175","v":1},{"$f":"B175","v":26},{"$f":"C175","v":0},{"$f":"D175","v":24},{"$f":"IF(OR(H176=Q176,H176=P176),E175+1,E175)","v":18},null,"Artikel 175",{"$f":"MIN($R176:BQ176)","v":479.99},{"$f":"MAX($R176:BQ176)","v":699.99},{"$f":"MIN($BR176:DR176)","v":0},{"$f":"MAX($BR176:DR176)","v":0},{"$f":"IFERROR(LOOKUP(100000,R176:DS176),0)","v":599.99},{"$f":"SUM(N176-O176)","v":2},2,null,0,0,null,null,null,null,null,null,489.99,null,null,479.99,null,null,null,479.99,null,null,null,null,null,null,null,499.99,null,null,null,null,629.9,null,null,null,null,null,null,null,null,null,699.99,null,649,null,599.99,699.99,null,null,null,null,null,null,599.99]
[{"$f":"IF(O177<N177,A176+1,A176)","v":1},{"$f":"B176","v":26},{"$f":"IF(O177<(N177*0.51),C176+1,C176)","v":0},{"$f":"D176","v":24},{"$f":"E176","v":18},null,"Artikel 176",{"$f":"MIN($R177:BQ177)","v":230},{"$f":"MAX($R177:BQ177)","v":230},{"$f":"MIN($BR177:DR177)","v":0},{"$f":"MAX($BR177:DR177)","v":0},230,0,2,2,0,0,null,null,null,null,null,null,null,null,null,null,null,null,null,null,null,null,null,null,null,null,null,null,null,null,null,null,null,null,null,null,null,null,230]
[1,26,{"$f":"C177","v":0},24,{"$f":"E177","v":18},null,"Artikel 177",{"$f":"MIN($R178:BQ178)","v":0},{"$f":"MAX($R178:BQ178)","v":0},{"$f":"MIN($BR178:DR178)","v":0},{"$f":"MAX($BR178:DR178)","v":0},{"$f":"IFERROR(LOOKUP(100000,R178:DS178),0)","v":0},{"$f":"SUM(N178-O178)","v":1},1,null,0,0]
[{"$f":"A178","v":1},{"$f":"B178","v":26},{"$f":"C178","v":0},{"$f":"D178","v":24},18,null,"Artikel 178",{"$f":"MIN($R179:BQ179)","v":549},{"$f":"MAX($R179:BQ179)","v":549},{"$f":"MIN($BR179:DR179)","v":0},{"$f":"MAX($BR179:DR179)","v":0},{"$f":"IFERROR(LOOKUP(100000,R179:DS179),0)","v":549},{"$f":"SUM(N179-O179)","v":1},3,2,549,0,null,null,null,null,null,null,null,null,null,null,null,null,null,null,null,null,null,null,null,null,null,null,null,null,null,null,null,null,null,null,null,null,null,null,null,null,null,null,null,null,null,null,null,null,null,null,null,null,null,null,549]
[{"$f":"A179","v":1},26,{"$f":"IF(O170<2,C179+1,C179)","v":0},24,18,null,"Artikel 179",{"$f":"MIN($R180:BQ180)","v":479.99},{"$f":"MAX($R180:BQ180)","v":479.99},{"$f":"MIN($BR180:DR180)","v":0},{"$f":"MAX($BR180:DR180)","v":0},{"$f":"IFERROR(LOOKUP(100000,R180:DS180),0)","v":479.99},{"$f":"IF((O180+O181)<3,12,IF((O180+O181)<5,9,IF((O180+O181)<10,6,0)))*1.25","v":7.5},12,{"$f":"O170/3.1","v":1.9354838709677418},479.99,0,null,null,null,null,null,null,null,null,null,null,null,null,null,null,null,null,null,null,null,null,null,null,null,null,null,null,null,null,null,null,null,null,null,null,null,null,null,null,null,null,null,null,null,null,null,479.99,null,null,null,null,479.99]
[{"$f":"IF(O181<N181,A180+1,A180)","v":2},{"$f":"B180","v":26},{"$f":"IF(OR(O168<2,O179<1),C180+1,C180)","v":0},{"$f":"D180","v":24},{"$f":"E180","v":18},null,"Artikel 180",{"$f":"MIN($R181:BQ181)","v":479.99},{"$f":"MAX($R181:BQ181)","v":699.99},{"$f":"MIN($BR181:DR181)","v":0},{"$f":"MAX($BR181:DR181)","v":0},549,{"$f":"SUM(N181-O181)","v":0.79999999999999982},5,{"$f":"SUM((O65/5)+(O168/2)+O179)","v":4.2},549,0,null,null,null,null,null,null,489.99,null,null,479.99,null,null,null,479.99,null,null,null,null,null,null,null,499.99,null,null,null,null,629.99,null,null,null,null,null,null,null,null,null,699.99,null,649,null,599.99,null,null,null,579.99,null,null,null,null,null,549]
[2,26,{"$f":"IF(O182<(N182*0.25),C181+1,C181)","v":0},24,{"$f":"E181","v":18},null,"Artikel 181",{"$f":"MIN($R182:BQ182)","v":479.99},{"$f":"MAX($R182:BQ182)","v":699.99},{"$f":"MIN($BR182:DR182)","v":0},{"$f":"MAX($BR182:DR182)","v":0},479.99,{"$f":"SUM(N182-O182)*1.25","v":2.5},12,{"$f":"O193","v":10},0,0,null,null,699.99,null,null,null,null,null,null,null,null,null,null,null,null,null,null,null,null,null,null,null,null,null,null,null,null,null,null,null,null,null,null,null,null,null,null,null,689.99,null,null,null,479.99]
[{"$f":"A182","v":2},{"$f":"B182","v":26},{"$f":"IF(O183<(N183*0.51),C182+1,C182)","v":0},{"$f":"D182","v":24},18,null,"Artikel 182",{"$f":"MIN($R183:BQ183)","v":95.58},{"$f":"MAX($R183:BQ183)","v":95.58},{"$f":"MIN($BR183:DR183)","v":0},{"$f":"MAX($BR183:DR183)","v":0},{"$f":"IFERROR(LOOKUP(100000,R183:DS183),0)","v":95.58},-4,20,24,95.58,0,null,null,null,null,null,null,null,null,null,null,null,null,null,null,null,null,null,null,null,null,null,null,null,null,null,null,null,null,null,null,null,null,null,null,null,null,null,null,null,null,null,null,null,null,null,null,null,null,null,null,95.58]
[2,{"$f":"IF(O184<N184,B183+1,B183)","v":26},{"$f":"C183","v":0},24,{"$f":"IF(OR(O184<(N184*0.51),H184=Q184,H184=P184),E183+1,E183)","v":18},null,"Artikel 183",{"$f":"MIN($R184:BQ184)","v":99.99},{"$f":"MAX($R184:BQ184)","v":129.99},{"$f":"MIN($BR184:DR184)","v":0},{"$f":"MAX($BR184:DR184)","v":0},129.99,0,3,3,0,0,99.99,null,null,null,null,null,null,null,null,null,null,null,null,null,null,99.99,null,null,null,null,null,null,null,null,null,null,null,129.99]
[2,{"$f":"IF(O185<N185,B184+1,B184)","v":26},{"$f":"C184","v":0},{"$f":"D184","v":24},{"$f":"IF(OR(O185<(N185*0.51),H185=Q185,H185=P185),E184+1,E184)","v":18},null,"Artikel 184",{"$f":"MIN($R185:BQ185)","v":59.99},{"$f":"MAX($R185:BQ185)","v":74.989999999999995},{"$f":"MIN($BR185:DR185)","v":0},{"$f":"MAX($BR185:DR185)","v":0},74.989999999999995,{"$f":"SUM(N185-O185)","v":-5},5,10,0,0,null,null,null,null,null,null,null,null,null,null,null,null,null,null,null,null,null,null,null,null,null,null,null,null,null,68.989999999999995,null,null,null,null,59.99,null,null,null,74.989999999999995]
[2,26,0,24,18,null,"Artikel 185",{"$f":"MIN($R186:BQ186)","v":59.99},{"$f":"MAX($R186:BQ186)","v":68.989999999999995},{"$f":"MIN($BR186:DR186)","v":0},{"$f":"MAX($BR186:DR186)","v":0},59.99,-5,5,10,0,0,null,null,null,null,null,null,null,null,null,null,null,null,null,null,null,null,null,null,null,null,null,null,null,null,null,68.989999999999995,null,null,null,null,59.99]
[2,26,{"$f":"C186","v":0},24,18,null,"Artikel 186",{"$f":"MIN($R187:BQ187)","v":89.99},{"$f":"MAX($R187:BQ187)","v":89.99},{"$f":"MIN($BR187:DR187)","v":0},{"$f":"MAX($BR187:DR187)","v":0},89.99,0,5,5,0,0,null,null,null,null,null,null,null,null,null,null,null,null,null,null,null,null,null,null,null,null,null,null,null,null,null,null,null,89.99]
[2,26,0,24,18,null,"Artikel 187",{"$f":"MIN($R188:BQ188)","v":124.99},{"$f":"MAX($R188:BQ188)","v":124.99},{"$f":"MIN($BR188:DR188)","v":0},{"$f":"MAX($BR188:DR188)","v":0},{"$f":"IFERROR(LOOKUP(100000,R188:DS188),0)","v":124.99},{"$f":"SUM(N188-O188)","v":0},5,5,0,0,null,null,null,null,null,null,null,null,null,null,null,null,null,null,null,null,null,null,null,null,null,null,null,null,null,null,null,null,null,null,null,null,null,null,null,null,null,null,null,null,null,null,124.99]
[{"$f":"IF(O189<N189,A188+1,A187)","v":2},{"$f":"B188","v":26},{"$f":"IF(O189<(N189*0.51),C188+1,C188)","v":0},{"$f":"D188","v":24},{"$f":"IF(OR(O189<(N189*0.51),H189=Q189,H189=P189),E188+1,E188)","v":18},null,"Artikel 188",{"$f":"MIN($R189:BQ189)","v":154.99},{"$f":"MAX($R189:BQ189)","v":199.99},{"$f":"MIN($BR189:DR189)","v":0},{"$f":"MAX($BR189:DR189)","v":0},179.99,-22,15,37,0,0,null,null,null,null,null,null,null,154.99,null,null,null,null,null,null,164.99,null,null,null,null,null,null,null,null,null,null,199.99,null,null,null,null,null,null,null,179.99]
[{"$f":"IF(O190<N190,A189+1,A189)","v":2},{"$f":"B189","v":26},{"$f":"IF(O190<(N190*0.51),C189+1,C189)","v":0},{"$f":"D189","v":24},{"$f":"E189","v":18},null,"Artikel 189",{"$f":"MIN($R190:BQ190)","v":60},{"$f":"MAX($R190:BQ190)","v":60},{"$f":"MIN($BR190:DR190)","v":0},{"$f":"MAX($BR190:DR190)","v":0},60,-10,16,26,0,0,null,60]
[2,{"$f":"IF(O191<N191,B190+1,B190)","v":26},0,24,18,null,"Artikel 190",{"$f":"MIN($R191:BQ191)","v":389.99},{"$f":"MAX($R191:BQ191)","v":389.99},{"$f":"MIN($BR191:DR191)","v":0},{"$f":"MAX($BR191:DR191)","v":0},389.99,0,16,16,0,0,null,null,null,null,null,null,null,null,null,null,389.99]
[2,26,0,24,18,null,"Artikel 191",{"$f":"MIN($R192:BQ192)","v":49.99},{"$f":"MAX($R192:BQ192)","v":67.989999999999995},{"$f":"MIN($BR192:DR192)","v":0},{"$f":"MAX($BR192:DR192)","v":0},{"$f":"IFERROR(LOOKUP(100000,R192:DS192),0)","v":49.99},-10,40,50,0,0,null,null,null,null,null,null,null,null,null,null,null,null,null,null,null,null,null,null,null,null,null,null,null,null,null,null,67.989999999999995,null,null,null,null,null,null,null,49.99]
[2,{"$f":"B192","v":26},0,24,18,null,"Artikel 192",{"$f":"MIN($R193:BQ193)","v":0},{"$f":"MAX($R193:BQ193)","v":0},{"$f":"MIN($BR193:DR193)","v":0},{"$f":"MAX($BR193:DR193)","v":0},{"$f":"IFERROR(LOOKUP(100000,R193:DS193),0)","v":0},{"$f":"SUM((N193*1.25)-O193)","v":5},12,10,0,0]
[2,{"$f":"IF(O194<N194,B193+1,B193)","v":26},0,24,18,null,"Artikel 193",{"$f":"MIN($R194:BQ194)","v":75.989999999999995},{"$f":"MAX($R194:BQ194)","v":129.99},{"$f":"MIN($BR194:DR194)","v":0},{"$f":"MAX($BR194:DR194)","v":0},75.989999999999995,0,16,16,{"$f":"INDEX(R194:DS194,MATCH(P$1,R$1:DS$1,0))","v":0},{"$f":"IFERROR(INDEX(R194:DS194,MATCH(Q$1,R$1:DS$1,0)),0)","v":0},null,null,null,null,null,null,null,null,null,null,null,null,null,null,null,null,null,null,99.99,null,null,null,null,null,null,null,null,null,null,null,129.99,null,null,null,null,null,75.989999999999995,null,null,null,null,null,75.989999999999995,null,null,75.989999999999995]
[2,26,0,24,18,null,"Artikel 194",{"$f":"MIN($R195:BQ195)","v":49.99},{"$f":"MAX($R195:BQ195)","v":59.99},{"$f":"MIN($BR195:DR195)","v":0},{"$f":"MAX($BR195:DR195)","v":0},59.99,-5,50,55,0,0,null,null,null,52.99,null,null,null,null,null,null,null,null,null,null,null,null,null,null,null,null,null,null,null,null,null,null,null,null,null,null,null,null,null,49.99,null,null,null,null,null,null,59.99]
[{"$f":"A195","v":2},{"$f":"B195","v":26},{"$f":"C195","v":0},24,18,null,"Artikel 195",{"$f":"MIN($R196:BQ196)","v":699.99},{"$f":"MAX($R196:BQ196)","v":699.99},{"$f":"MIN($BR196:DR196)","v":0},{"$f":"MAX($BR196:DR196)","v":0},699.99,2,2,null,0,0,null,null,null,null,null,null,null,null,null,null,null,null,null,null,null,null,null,null,null,null,null,null,null,null,null,null,null,null,null,null,null,null,null,null,null,null,null,null,null,null,null,null,699.99]
[{"$f":"A196","v":2},{"$f":"B196","v":26},{"$f":"C196","v":0},24,{"$f":"E196","v":18},null,"Artikel 196",{"$f":"MIN($R197:BQ197)","v":0},{"$f":"MAX($R197:BQ197)","v":0},{"$f":"MIN($BR197:DR197)","v":0},{"$f":"MAX($BR197:DR197)","v":0},{"$f":"IFERROR(LOOKUP(100000,R197:DS197),0)","v":0},{"$f":"SUM(N197-O197)","v":1},1,null,0,0]
[{"$f":"A197","v":2},{"$f":"B196","v":26},{"$f":"C197","v":0},24,18,null,"Artikel 197",{"$f":"MIN($R198:BQ198)","v":0},{"$f":"MAX($R198:BQ198)","v":0},{"$f":"MIN($BR198:DR198)","v":0},{"$f":"MAX($BR198:DR198)","v":0},{"$f":"IFERROR(LOOKUP(100000,R198:DS198),0)","v":0},{"$f":"SUM(N198-O198)","v":1},1,null,0,0]
[{"$f":"A198","v":2},26,0,{"$f":"IF(OR(M199>0,H199=P199),D198+1,D198)","v":25},{"$f":"IF(OR(H199=Q199,H199=P199),E198+1,E198)","v":18},null,"Artikel 198",{"$f":"MIN($R199:BQ199)","v":59.99},{"$f":"MAX($R199:BQ199)","v":189.99},{"$f":"MIN($BR199:DR199)","v":0},{"$f":"MAX($BR199:DR199)","v":0},63.99,3,3,null,0,0,null,null,189.99,null,null,null,null,null,null,159.99,null,null,null,null,null,null,null,null,129.99,null,null,79.989999999999995,null,79.989999999999995,null,null,59.99,null,89.99,null,64.989999999999995,null,59.99,null,null,63.99]
[{"$f":"IF(O200<N200,A199+1,A199)","v":2},{"$f":"B199","v":26},{"$f":"IF(O200<(N200*0.51),C199+1,C199)","v":0},{"$f":"D199","v":25},{"$f":"E199","v":18},null,"Artikel 199",{"$f":"MIN($R200:BQ200)","v":0},{"$f":"MAX($R200:BQ200)","v":0},{"$f":"MIN($BR200:DR200)","v":0},{"$f":"MAX($BR200:DR200)","v":0},0,-10,6,16,0,0]
[2,{"$f":"B200","v":26},{"$f":"C200","v":0},{"$f":"IF(OR(M201>0,H201=P201),D200+1,D200)","v":26},{"$f":"IF(OR(H201=Q201,H201=P201),E200+1,E200)","v":18},null,"Artikel 200",{"$f":"MIN($R201:BQ201)","v":119.99},{"$f":"MAX($R201:BQ201)","v":249.99},{"$f":"MIN($BR201:DR201)","v":0},{"$f":"MAX($BR201:DR201)","v":0},119.99,3,3,null,0,0,null,null,179.99,null,null,null,null,null,null,null,null,null,null,249.99,null,null,226.65,199.99,null,169.99,null,null,null,null,null,159.99,129.99,null,null,159.99,null,null,null,null,null,null,null,119.99]
[2,{"$f":"IF(O202<N202,B201+1,B201)","v":27},0,{"$f":"D201","v":26},{"$f":"IF(OR(O202<(N202*0.51),H202=Q202,H202=P202),E201+1,E201)","v":18},null,"Artikel 201",{"$f":"MIN($R202:BQ202)","v":49.99},{"$f":"MAX($R202:BQ202)","v":64.989999999999995},{"$f":"MIN($BR202:DR202)","v":0},{"$f":"MAX($BR202:DR202)","v":0},64.989999999999995,3,20,17,64.989999999999995,0,null,null,null,null,59.99,59.99,null,null,null,null,null,null,59.99,null,null,null,null,null,null,null,null,null,null,null,null,null,null,null,null,null,null,55.24,null,null,59.99,null,null,64.989999999999995,null,59.99,null,64.989999999999995,49.99,null,null,64.989999999999995,null,59.99,null,null,64.989999999999995]
[{"$f":"IF(O203<N203,A202+1,A202)","v":2},{"$f":"B202","v":27},{"$f":"IF(O203<(N203*0.51),C202+1,C202)","v":0},{"$f":"D202","v":26},{"$f":"E202","v":18},null,"Artikel 202",{"$f":"MIN($R203:BQ203)","v":352},{"$f":"MAX($R203:BQ203)","v":352},{"$f":"MIN($BR203:DR203)","v":0},{"$f":"MAX($BR203:DR203)","v":0},352,-3,5,8,0,0,null,null,null,null,null,null,null,null,null,null,null,null,null,null,null,null,null,null,null,null,null,null,null,null,null,null,null,null,352]
[2,{"$f":"IF(O204<N204,B203+1,B203)","v":27},0,26,{"$f":"IF(OR(O204<(N204*0.51),H204=Q204,H204=P204),E203+1,E203)","v":18},null,"Artikel 203",{"$f":"MIN($R204:BQ204)","v":149.99},{"$f":"MAX($R204:BQ204)","v":199.99},{"$f":"MIN($BR204:DR204)","v":0},{"$f":"MAX($BR204:DR204)","v":0},149.99,-10,10,20,0,0,null,null,199.99,null,null,null,null,null,null,null,null,null,null,null,null,null,null,null,null,null,null,null,null,null,null,null,null,null,null,189.99,null,null,null,null,null,null,null,null,null,null,null,null,null,null,null,null,null,null,149.99]
[2,{"$f":"B204","v":27},0,26,{"$f":"E204","v":18},null,"Artikel 204",{"$f":"MIN($R205:BQ205)","v":0},{"$f":"MAX($R205:BQ205)","v":0},{"$f":"MIN($BR205:DR205)","v":0},{"$f":"MAX($BR205:DR205)","v":0},{"$f":"IFERROR(LOOKUP(100000,R205:DS205),0)","v":0},{"$f":"SUM(N205-O205)","v":2},2,null,0,0]
[{"$f":"IF(O206<N206,A205+1,A205)","v":3},{"$f":"B205","v":27},{"$f":"IF(O206<(N206*0.51),C205+1,C205)","v":1},26,{"$f":"E205","v":18},null,"Artikel 205",{"$f":"MIN($R206:BQ206)","v":594.15},{"$f":"MAX($R206:BQ206)","v":699},{"$f":"MIN($BR206:DR206)","v":0},{"$f":"MAX($BR206:DR206)","v":0},594.15,3,6,3,0,0,699,null,null,null,null,null,null,null,null,null,null,null,null,null,null,null,null,null,null,null,null,null,null,null,null,null,594.15]
[3,27,{"$f":"C206","v":1},26,{"$f":"IF(OR(O207<(N207*0.51),H207=Q207,H207=P207),E206+1,E206)","v":18},null,"Artikel 206",{"$f":"MIN($R207:BQ207)","v":22.99},{"$f":"MAX($R207:BQ207)","v":59.97},{"$f":"MIN($BR207:DR207)","v":0},{"$f":"MAX($BR207:DR207)","v":0},59.97,-2,5,7,0,0,null,null,null,null,null,null,null,null,null,null,null,null,null,null,null,null,null,null,null,null,null,null,null,null,null,null,null,null,null,null,null,null,22.99,null,null,null,null,null,null,null,null,null,null,null,null,34.99,null,59.97]
[3,27,{"$f":"C207","v":1},26,18,null,"Artikel 207",{"$f":"MIN($R208:BQ208)","v":119.99},{"$f":"MAX($R208:BQ208)","v":189.99},{"$f":"MIN($BR208:DR208)","v":0},{"$f":"MAX($BR208:DR208)","v":0},119.99,-3,1,4,0,0,null,null,null,null,null,null,null,null,null,null,null,null,null,null,null,null,null,null,null,null,null,null,null,null,null,189.99,null,null,null,null,null,189.99,189.99,189.99,189.99,129.99,null,null,null,null,null,null,null,164.99,null,null,null,null,119.99]
[{"$f":"IF(O209<N209,A208+1,A208)","v":3},{"$f":"B208","v":27},{"$f":"IF(O209<(N209*0.51),C208+1,C208)","v":1},26,{"$f":"E208","v":18},null,"Artikel 208",{"$f":"MIN($R209:BQ209)","v":0},{"$f":"MAX($R209:BQ209)","v":0},{"$f":"MIN($BR209:DR209)","v":0},{"$f":"MAX($BR209:DR209)","v":0},0,0,2,2,0,0]
[3,{"$f":"B209","v":27},{"$f":"C209","v":1},{"$f":"IF(OR(M210>0,H210=P210),D209+1,D209)","v":27},{"$f":"IF(OR(H210=Q210,H210=P210),E209+1,E209)","v":18},null,"Artikel 209",{"$f":"MIN($R210:BQ210)","v":28.99},{"$f":"MAX($R210:BQ210)","v":89.99},{"$f":"MIN($BR210:DR210)","v":0},{"$f":"MAX($BR210:DR210)","v":0},54.99,10,10,null,0,0,null,null,null,null,null,null,null,null,null,null,null,null,null,null,null,null,null,null,null,null,null,null,null,79.989999999999995,null,59.99,null,33.99,59.99,null,89.99,28.99,null,54.99]
[3,{"$f":"B210","v":27},{"$f":"C210","v":1},{"$f":"IF(OR(M211>0,H211=P211),D210+1,D210)","v":28},{"$f":"IF(OR(H211=Q211,H211=P211),E210+1,E210)","v":18},null,"Artikel 210",{"$f":"MIN($R211:BQ211)","v":199.99},{"$f":"MAX($R211:BQ211)","v":329.99},{"$f":"MIN($BR211:DR211)","v":0},{"$f":"MAX($BR211:DR211)","v":0},199.99,2,2,null,0,0,null,null,null,null,null,null,null,null,null,null,null,null,null,null,null,249.99,null,null,null,null,null,null,null,null,199.99,null,null,329.99,null,null,219.99,null,219.99,null,199.99]
[3,{"$f":"B211","v":27},{"$f":"C211","v":1},29,18,null,"Artikel 211",{"$f":"MIN($R212:BQ212)","v":149.99},{"$f":"MAX($R212:BQ212)","v":249.99},{"$f":"MIN($BR212:DR212)","v":0},{"$f":"MAX($BR212:DR212)","v":0},209.99,2,2,null,0,0,null,null,null,null,null,null,null,null,null,null,null,null,null,null,null,null,null,null,null,null,null,null,null,null,null,null,null,null,null,null,null,null,249.99,199.99,null,179.99,null,159.99,null,null,null,149.99,null,null,null,null,null,209.99]
[3,{"$f":"B212","v":27},{"$f":"C212","v":1},30,18,null,"Artikel 212",{"$f":"MIN($R213:BQ213)","v":27.99},{"$f":"MAX($R213:BQ213)","v":89.99},{"$f":"MIN($BR213:DR213)","v":0},{"$f":"MAX($BR213:DR213)","v":0},29.99,3,3,null,29.99,0,null,null,null,79.989999999999995,null,null,null,null,null,null,null,null,null,null,null,null,null,null,null,null,null,null,null,null,null,null,89.99,null,null,69.989999999999995,null,null,null,59.99,null,null,null,null,39.99,null,null,null,null,30.99,null,27.99,null,null,34.99,null,29.99]
[3,{"$f":"IF(O214<N214,B213+1,B213)","v":27},{"$f":"C213","v":1},{"$f":"D213","v":30},{"$f":"IF(OR(O214<(N214*0.51),H214=Q214,H214=P214),E213+1,E213)","v":18},null,"Artikel 213",{"$f":"MIN($R214:BQ214)","v":109.99},{"$f":"MAX($R214:BQ214)","v":109.99},{"$f":"MIN($BR214:DR214)","v":0},{"$f":"MAX($BR214:DR214)","v":0},109.99,0,30,30,0,0,null,null,null,null,null,null,null,null,null,null,null,null,null,null,null,109.99,null,null,null,null,null,null,null,null,null,null,109.99]
[{"$f":"IF(O215<N215,A214+1,A214)","v":3},{"$f":"B214","v":27},{"$f":"IF(O215<(N215*0.51),C214+1,C214)","v":1},{"$f":"D214","v":30},{"$f":"E214","v":18},null,"Artikel 214",{"$f":"MIN($R215:BQ215)","v":235.9},{"$f":"MAX($R215:BQ215)","v":235.9},{"$f":"MIN($BR215:DR215)","v":0},{"$f":"MAX($BR215:DR215)","v":0},235.9,0,10,10,0,0,null,null,null,null,null,null,null,null,null,null,null,null,null,null,null,null,null,null,null,null,null,null,null,null,null,null,null,null,null,null,null,null,null,null,null,null,null,null,null,null,null,235.9]
[{"$f":"A215","v":3},{"$f":"B215","v":27},{"$f":"C215","v":1},{"$f":"D215","v":30},18,null,"Artikel 215",{"$f":"MIN($R216:BQ216)","v":129.99},{"$f":"MAX($R216:BQ216)","v":129.99},{"$f":"MIN($BR216:DR216)","v":0},{"$f":"MAX($BR216:DR216)","v":0},{"$f":"IFERROR(LOOKUP(100000,R216:DS216),0)","v":129.99},{"$f":"SUM(N216-O216)","v":2},2,null,0,0,null,null,null,null,null,null,null,null,null,null,null,null,null,null,null,null,null,null,null,null,null,null,null,null,null,null,null,null,null,null,null,null,null,null,null,null,null,null,null,null,null,null,129.99]
[{"$f":"IF(O217<N217,A216+1,A216)","v":3},{"$f":"B216","v":27},{"$f":"IF(O217<3,C216+1,C216)","v":1},30,{"$f":"E216","v":18},null,"Artikel 216",{"$f":"MIN($R217:BQ217)","v":159.99},{"$f":"MAX($R217:BQ217)","v":159.99},{"$f":"MIN($BR217:DR217)","v":0},{"$f":"MAX($BR217:DR217)","v":0},{"$f":"IFERROR(LOOKUP(100000,R217:DS217),0)","v":159.99},{"$f":"SUM(N217-O217)","v":0},4,4,0,0,null,null,null,null,null,null,null,null,null,null,null,null,null,null,null,null,null,null,null,null,null,null,null,null,null,null,null,null,null,null,null,null,null,null,null,null,null,null,null,null,null,null,null,null,159.99]
[{"$f":"A217","v":3},{"$f":"IF(O218<N218,B217+1,B217)","v":27},{"$f":"C217","v":1},{"$f":"D217","v":30},{"$f":"IF(OR(O218<(N218*0.51),H218=Q218,H218=P218),E217+1,E217)","v":18},null,"Artikel 217",{"$f":"MIN($R218:BQ218)","v":55.99},{"$f":"MAX($R218:BQ218)","v":55.99},{"$f":"MIN($BR218:DR218)","v":0},{"$f":"MAX($BR218:DR218)","v":0},55.99,-2,10,12,0,0,null,null,null,null,null,null,null,null,null,null,null,null,null,null,null,null,null,null,null,null,null,null,null,null,null,null,55.99]
[{"$f":"A218","v":3},{"$f":"IF(O219<N219,B218+1,B218)","v":27},1,{"$f":"IF(OR(M219>0,H219=P219),D218+1,D218)","v":30},{"$f":"IF(OR(H219=Q219,H219=P219),E218+1,E218)","v":18},null,"Artikel 218",{"$f":"MIN($R219:BQ219)","v":99.98},{"$f":"MAX($R219:BQ219)","v":309.99},{"$f":"MIN($BR219:DR219)","v":0},{"$f":"MAX($BR219:DR219)","v":0},169.99,0,2,2,0,0,null,99.99,null,null,109.99,null,null,109.99,null,null,null,99.98,null,109.99,139.97999999999999,null,null,169.99,null,null,null,179.99,null,null,null,null,299.99,229.99,null,null,null,null,null,null,309.99,null,219.99,null,null,null,null,184.99,null,194.99,199.99,null,219.98,199.99,null,169.99]
[3,{"$f":"B219","v":27},1,{"$f":"D219","v":30},{"$f":"IF(OR(H220=Q220,H220=P220),E219+1,E219)","v":18},null,"Artikel 219",{"$f":"MIN($R220:BQ220)","v":99.99},{"$f":"MAX($R220:BQ220)","v":168.99},{"$f":"MIN($BR220:DR220)","v":0},{"$f":"MAX($BR220:DR220)","v":0},139.99,{"$f":"SUM((N220+N221-1)-(O220+O221))","v":1},1,null,0,0,null,139.99,null,null,null,null,null,null,129.99,null,null,99.99,null,null,null,null,129.99,null,null,null,null,null,139.99,null,null,null,null,139.99,null,null,null,149.99,null,null,139.99,null,null,null,null,144.99,168.99,null,null,null,null,null,null,134.99,null,139.99]
[3,{"$f":"B220","v":27},1,{"$f":"D220","v":30},{"$f":"IF(OR(H221=Q221,H221=P221),E220+1,E220)","v":18},null,"Artikel 220",{"$f":"MIN($R221:BQ221)","v":199.99},{"$f":"MAX($R221:BQ221)","v":219.99},{"$f":"MIN($BR221:DR221)","v":0},{"$f":"MAX($BR221:DR221)","v":0},199.99,{"$f":"SUM((N220+N221-1)-(O220+O221))","v":1},1,null,0,0,null,null,null,219.99,null,null,null,null,null,null,null,null,null,null,null,null,null,null,null,199.99,null,null,null,null,null,219.99,null,null,null,null,null,null,null,null,null,null,null,199.99,null,null,199.99,null,null,199.99,null,199.99]
[3,{"$f":"IF(O222<N222,B221+1,B221)","v":27},1,{"$f":"D221","v":30},{"$f":"IF(OR(O222<(N222*0.51),H222=Q222,H222=P222),E221+1,E221)","v":18},null,"Artikel 221",{"$f":"MIN($R222:BQ222)","v":92.49},{"$f":"MAX($R222:BQ222)","v":97.99},{"$f":"MIN($BR222:DR222)","v":0},{"$f":"MAX($BR222:DR222)","v":0},92.49,{"$f":"SUM(N222-O222)","v":0},20,20,0,0,97.99,null,null,null,null,null,null,null,null,97.99,null,null,null,null,96.99,null,null,96.99,null,null,96.99,null,null,null,null,94.99,null,null,null,null,null,null,null,null,null,94.99,null,null,94.99,null,94.99,null,94.99,null,null,92.99,null,null,92.49]
[3,27,1,{"$f":"IF(OR(M223>0,H223=P223),D222+1,D222)","v":30},18,null,"Artikel 222",{"$f":"MIN($R223:BQ223)","v":29.99},{"$f":"MAX($R223:BQ223)","v":99.99},{"$f":"MIN($BR223:DR223)","v":0},{"$f":"MAX($BR223:DR223)","v":0},30.99,{"$f":"SUM(N223-O223)","v":-7},3,10,0,0,null,null,null,null,null,null,null,33.99,39.99,null,null,null,44.99,59.99,null,null,null,null,null,null,null,99.99,null,null,null,null,null,null,49.99,null,null,59.99,null,null,null,null,null,null,44.99,null,null,null,39.99,null,null,30.99,null,29.99,null,30.99]

{"sheet":"Maske","index":1,"n_rows":270,"n_cols":38,"rows_kept":270,"cut":false,"hidden":false,"merged":[[6,36,6,37],[6,20,6,21],[1,23,1,24],[2,23,2,24],[6,23,6,24],[6,27,6,28],[7,32,7,33],[6,5,7,6],[1,9,1,10],[1,16,1,17],[6,9,6,10],[6,16,6,17],[2,9,2,10],[2,16,2,17],[6,13,6,14],[1,32,1,34],[2,32,2,34],[6,32,6,34]]}
[{"$f":"TODAY()+CHOOSE(WEEKDAY(TODAY(),2),0+(MOD(NOW(),1)>=11/24)*3,2,1,0+(MOD(NOW(),1)>=11/24)*4,3,2,1)","v":"2025-12-22"},{"$f":"A1+5-WEEKDAY(A1)+4*(WEEKDAY(A1)>4)","v":"2025-12-25"},{"$f":"A1+7","v":"2025-12-29"}]
[null,null,null,null,null,null,null,null,null," Preisspanne 2025",null,null,null,{"$f":"IFERROR(VLOOKUP(L3,Liste!$G$2:$H223,2,0),\"\")","v":58.99},{"$f":"IFERROR(VLOOKUP(L3,Liste!$G$2:$I223,3,0),\"\")","v":58.99},null," Preisspanne 2025",null,null,null,{"$f":"IFERROR(VLOOKUP(S3,Liste!$G$2:$H223,2,0),\"\")","v":""},{"$f":"IFERROR(VLOOKUP(S3,Liste!$G$2:$I223,3,0),\"\")","v":""},null," Preisspanne 2025",null,null,null,{"$f":"IFERROR(VLOOKUP(Z3,Liste!$G$2:$H223,2,0),\"\")","v":""},{"$f":"IFERROR(VLOOKUP(Z3,Liste!$G$2:$I223,3,0),\"\")","v":""},null,null,null,"Preisspanne 2025",null,null,null,{"$f":"IFERROR(VLOOKUP(AJ3,Liste!$G$2:$H223,2,0),\"\")","v":594.15},{"$f":"IFERROR(VLOOKUP(AJ3,Liste!$G$2:$I223,3,0),\"\")","v":699}]
[null,null,null,null,null,null,null,null,null," Preisspanne 2026",null,{"$f":"INDEX(J:J,_xlfn.AGGREGATE(14,6,ROW(J9:J27)/(J9:J27<>\"\"),1))","v":"Artikel 2"},null,{"$f":"IFERROR(VLOOKUP(L3,Liste!$G$2:$J223,4,0),\"\")","v":111},{"$f":"IFERROR(VLOOKUP(L3,Liste!$G$2:$K223,5,0),\"\")","v":222},null," Preisspanne 2026",null,{"$f":"INDEX(Q:Q,_xlfn.AGGREGATE(14,6,ROW(Q9:Q27)/(Q9:Q27<>\"\"),1))","v":"Weisbrot"},null,{"$f":"IFERROR(VLOOKUP(S3,Liste!$G$2:$J223,4,0),\"\")","v":""},{"$f":"IFERROR(VLOOKUP(S3,Liste!$G$2:$K223,5,0),\"\")","v":""},null," Preisspanne 2026",null,{"$f":"INDEX(X:X,_xlfn.AGGREGATE(14,6,ROW(X9:X27)/(X9:X27<>\"\"),1))","v":{"$error":"#NUM!"}},null,{"$f":"IFERROR(VLOOKUP(Z3,Liste!$G$2:$J223,4,0),\"\")","v":""},{"$f":"IFERROR(VLOOKUP(Z3,Liste!$G$2:$K223,5,0),\"\")","v":""},null,null,null,"Preisspanne 2026",null,null,{"$f":"INDEX(AG:AG,_xlfn.AGGREGATE(14,6,ROW(AG9:AG27)/(AG9:AG27<>\"\"),1))","v":"Artikel 205"},{"$f":"IFERROR(VLOOKUP(AJ3,Liste!$G$2:$J223,4,0),\"\")","v":0},{"$f":"IFERROR(VLOOKUP(AJ3,Liste!$G$2:$K223,5,0),\"\")","v":0}]
[null,null,null,null,null,"auffüllen",null,null,null,"Coupon",null,null,null,null,null,null,"Coupon",null,null,null,null,null,null,"Coupon"]
[null,null,null,null,null,"Obst und Gemüse",null,null,null,null,null,null,null,null,{"$f":"SUM(O9:O27)","v":222},null,null,null,null,null,null,{"$f":"SUM(V9:V27)","v":0},null,null,null,null,null,null,{"$f":"SUM(AC9:AC27)","v":0},null,null,null,null,null,null,null,null,{"$f":"SUM(AL9:AL27)","v":3271.6499999999996}]
[null,null,null,null,null,"Lidl",null,null,null,"Bonus",null,null,null,{"$f":"SUM(O9:O29)","v":222},{"$f":"IF(O5>5000,SUM(O9:O29),SUM(O9:O28))","v":222},null,"Bonus",null,null,null,{"$f":"SUM(V9:V29)","v":0},{"$f":"IF(V5>5000,SUM(V9:V29),SUM(V9:V28))","v":0},null,"Bonus",null,null,null,{"$f":"SUM(AC9:AC29)","v":0},{"$f":"IF(AC5>5000,SUM(AC9:AC29),SUM(AC9:AC28))","v":0},null,null,null,null,null,null,null,{"$f":"SUM(AL9:AL29)","v":3271.6499999999996},{"$f":"IF(AL5>5000,SUM(AL9:AL29),SUM(AL9:AL27))","v":3271.6499999999996}]
[null,null,null,null,null,"auffüllen",null,null,null,{"$f":"A1","v":"2025-12-22"},null,null,null,{"$f":"IF(J5=\"Bonus\",N6,O6)","v":222},null,null,{"$f":"B1","v":"2025-12-25"},null,null,null,{"$f":"IF(Q5=\"Bonus\",U6,V6)","v":0},null,{"$f":"B1","v":"2025-12-25"},{"$f":"C1","v":"2025-12-29"},null,null,null,{"$f":"IF(X5=\"Bonus\",AB6,AC6)","v":0},null,{"$f":"C1","v":"2025-12-29"},null,null,"Extern",null,null,null,{"$f":"IF(AG5=\"Bonus\",AK6,AL6)","v":3271.6499999999996}]
[null,"N1 imin","N1 max","www",null,null,null,"O1 min","O1 max","Artikel","ME","Min","Max","Preis","Summe",null,"Artikel","ME","Min","Max","Preis","Summe",null,"Artikel","ME","Min","Max","Preis","Summe","Y","AB",null,"Artikel",null,"ME","Min","Preis","Summe"]
[1,{"$f":"IF(VLOOKUP(F9,Liste!G$2:H223,2,0)=VLOOKUP(F9,Liste!G$2:P223,10,0),1,0)","v":0},{"$f":"IF(VLOOKUP(F9,Liste!G$2:I223,3,0)=VLOOKUP(F9,Liste!G$2:P223,10,0),1,0)","v":0},null,{"$f":"IF(VLOOKUP(F9,Liste!$G$2:O223,9,0)<1,1,0)","v":1},{"$f":"IF($F$7=\"auffüllen\",VLOOKUP(A9,Liste!B2:G223,6,0),IF($F$7=\"Obst und Gemüse\",VLOOKUP(A9,Liste!D$2:G223,4,0),IF($F$7=\"Lidl\",VLOOKUP(A9,Liste!E$2:G223,3,0))))","v":"Artikel 2"},"●",{"$f":"IF(AND(TODAY()<Liste!P$1,VLOOKUP(F9,Liste!G$2:H223,2,0)=VLOOKUP(F9,Liste!G$2:Q223,11,0)),1,0)","v":0},{"$f":"IF(AND(TODAY()<Liste!P$1,VLOOKUP(F9,Liste!G$2:I223,3,0)=VLOOKUP(F9,Liste!G$2:Q223,11,0)),1,0)","v":0},"Artikel 2",{"$f":"IFERROR(VLOOKUP(J9,Liste!$G$2:AT223,7,0),0)","v":2},">>=WENNFEHLER(MIN(SVERWEIS(J9;Liste!$G$2:$H223;2;0):SVERWEIS(J9;Liste!$G$2:$J223;4;0));0)<<",">>=WENNFEHLER(MIN(SVERWEIS(J9;Liste!$G$2:$i223;3;0):SVERWEIS(J9;Liste!$G$2:$K223;5;0));0)<<",{"$f":"IF(M9=\"Huhn\",(VLOOKUP(J9,Liste!$G$2:$L223,6,0)*1.8),VLOOKUP(J9,Liste!$G$2:$L223,6,0))","v":111},{"$f":"IF(K9>0,(K9*N9),0)","v":222},null,"Graubrot",{"$f":"IFERROR(VLOOKUP(Q9,Liste!$G$2:BA223,7,0),0)","v":0},{"$f":"IFERROR(VLOOKUP(Q9,Liste!$G$2:$H223,2,0),0)","v":0},{"$f":"IFERROR(VLOOKUP(Q9,Liste!$G$2:$I223,3,0),0)","v":0},{"$f":"IF(T9=\"Huhn\",(VLOOKUP(Q9,Liste!$G$2:$L223,6,0)*1.8),VLOOKUP(Q9,Liste!$G$2:$L223,6,0))","v":{"$error":"#N/A"}},{"$f":"IF(R9>0,(R9*U9),0)","v":0},null,null,{"$f":"IFERROR(VLOOKUP(X9,Liste!$G$2:BH223,7,0),0)","v":0},{"$f":"IFERROR(VLOOKUP(X9,Liste!$G$2:$H223,2,0),0)","v":0},{"$f":"IFERROR(VLOOKUP(X9,Liste!$G$2:$I223,3,0),0)","v":0},{"$f":"IF(AA9=\"Huhn\",(VLOOKUP(X9,Liste!$G$2:$L223,6,0)*1.8),VLOOKUP(X9,Liste!$G$2:$L223,6,0))","v":{"$error":"#N/A"}},{"$f":"IF(Y9>0,(Y9*AB9),0)","v":0},{"$f":"IFERROR(VLOOKUP(X9,Liste!$G$2:BH223,7,0),0)","v":0},{"$f":"IF(AA9=\"Huhn\",(VLOOKUP(X9,Liste!$G$2:$L223,6,0)*1.8),VLOOKUP(X9,Liste!$G$2:$L223,6,0))","v":{"$error":"#N/A"}},{"$f":"IF(VLOOKUP(AG9,Liste!$G$2:O223,9,0)<2,1,0)","v":0},{"$f":"IF($F$7=\"auffüllen\",VLOOKUP(A9,Liste!A$2:G223,7,0),IF($F$7<>\"auffüllen\",VLOOKUP(A9,Liste!C$2:G223,5,0)))","v":"Artikel 46"},"●",{"$f":"IFERROR(VLOOKUP(AG9,Liste!$G$2:BH223,7,0),0)","v":3},{"$f":"IFERROR(VLOOKUP(AG9,Liste!$G$2:$H223,2,0),0)","v":330},{"$f":"IFERROR(VLOOKUP(AG9,Liste!$G$2:$L223,6,0),0)","v":350},{"$f":"IF(AI9>0,(AI9*AK9),0)","v":1050}]
[2,{"$f":"IF(VLOOKUP(F10,Liste!G$2:H224,2,0)=VLOOKUP(F10,Liste!G$2:P224,10,0),1,0)","v":0},{"$f":"IF(VLOOKUP(F10,Liste!G$2:I224,3,0)=VLOOKUP(F10,Liste!G$2:P224,10,0),1,0)","v":0},null,{"$f":"IF(VLOOKUP(F10,Liste!$G$2:O224,9,0)<1,1,0)","v":0},{"$f":"IF($F$7=\"auffüllen\",VLOOKUP(A10,Liste!B3:G224,6,0),IF($F$7=\"Obst und Gemüse\",VLOOKUP(A10,Liste!D$2:G224,4,0),IF($F$7=\"Lidl\",VLOOKUP(A10,Liste!E$2:G224,3,0))))","v":"Artikel 12"},"●",{"$f":"IF(AND(TODAY()<Liste!P$1,VLOOKUP(F10,Liste!G$2:H224,2,0)=VLOOKUP(F10,Liste!G$2:Q224,11,0)),1,0)","v":0},{"$f":"IF(AND(TODAY()<Liste!P$1,VLOOKUP(F10,Liste!G$2:I224,3,0)=VLOOKUP(F10,Liste!G$2:Q224,11,0)),1,0)","v":0},null,{"$f":"IFERROR(VLOOKUP(J10,Liste!$G$2:AT224,7,0),0)","v":0},{"$f":"IFERROR(VLOOKUP(J10,Liste!$G$2:$H224,2,0),0)","v":0},{"$f":"IFERROR(VLOOKUP(J10,Liste!$G$2:$I224,3,0),0)","v":0},{"$f":"IF(M10=\"Huhn\",(VLOOKUP(J10,Liste!$G$2:$L224,6,0)*1.8),VLOOKUP(J10,Liste!$G$2:$L224,6,0))","v":{"$error":"#N/A"}},{"$f":"IF(K10>0,(K10*N10),0)","v":0},null,"Weisbrot",{"$f":"IFERROR(VLOOKUP(Q10,Liste!$G$2:BA224,7,0),0)","v":0},{"$f":"IFERROR(VLOOKUP(Q10,Liste!$G$2:$H224,2,0),0)","v":0},{"$f":"IFERROR(VLOOKUP(Q10,Liste!$G$2:$I224,3,0),0)","v":0},{"$f":"IF(T10=\"Huhn\",(VLOOKUP(Q10,Liste!$G$2:$L224,6,0)*1.8),VLOOKUP(Q10,Liste!$G$2:$L224,6,0))","v":{"$error":"#N/A"}},{"$f":"IF(R10>0,(R10*U10),0)","v":0},null,null,{"$f":"IFERROR(VLOOKUP(X10,Liste!$G$2:BH224,7,0),0)","v":0},{"$f":"IFERROR(VLOOKUP(X10,Liste!$G$2:$H224,2,0),0)","v":0},{"$f":"IFERROR(VLOOKUP(X10,Liste!$G$2:$I224,3,0),0)","v":0},{"$f":"IF(AA10=\"Huhn\",(VLOOKUP(X10,Liste!$G$2:$L224,6,0)*1.8),VLOOKUP(X10,Liste!$G$2:$L224,6,0))","v":{"$error":"#N/A"}},{"$f":"IF(Y10>0,(Y10*AB10),0)","v":0},{"$f":"IFERROR(VLOOKUP(X10,Liste!$G$2:BH224,7,0),0)","v":0},{"$f":"IF(AA10=\"Huhn\",(VLOOKUP(X10,Liste!$G$2:$L224,6,0)*1.8),VLOOKUP(X10,Liste!$G$2:$L224,6,0))","v":{"$error":"#N/A"}},{"$f":"IF(VLOOKUP(AG10,Liste!$G$2:O224,9,0)<2,1,0)","v":0},{"$f":"IF($F$7=\"auffüllen\",VLOOKUP(A10,Liste!A$2:G224,7,0),IF($F$7<>\"auffüllen\",VLOOKUP(A10,Liste!C$2:G224,5,0)))","v":"Artikel 180"},"●",{"$f":"IFERROR(VLOOKUP(AG10,Liste!$G$2:BH224,7,0),0)","v":0.79999999999999982},{"$f":"IFERROR(VLOOKUP(AG10,Liste!$G$2:$H224,2,0),0)","v":479.99},{"$f":"IFERROR(VLOOKUP(AG10,Liste!$G$2:$L224,6,0),0)","v":549},{"$f":"IF(AI10>0,(AI10*AK10),0)","v":439.19999999999987}]
[3,{"$f":"IF(VLOOKUP(F11,Liste!G$2:H225,2,0)=VLOOKUP(F11,Liste!G$2:P225,10,0),1,0)","v":0},{"$f":"IF(VLOOKUP(F11,Liste!G$2:I225,3,0)=VLOOKUP(F11,Liste!G$2:P225,10,0),1,0)","v":0},null,{"$f":"IF(VLOOKUP(F11,Liste!$G$2:O225,9,0)<1,1,0)","v":0},{"$f":"IF($F$7=\"auffüllen\",VLOOKUP(A11,Liste!B4:G225,6,0),IF($F$7=\"Obst und Gemüse\",VLOOKUP(A11,Liste!D$2:G225,4,0),IF($F$7=\"Lidl\",VLOOKUP(A11,Liste!E$2:G225,3,0))))","v":"Artikel 20"},"●",{"$f":"IF(AND(TODAY()<Liste!P$1,VLOOKUP(F11,Liste!G$2:H225,2,0)=VLOOKUP(F11,Liste!G$2:Q225,11,0)),1,0)","v":0},{"$f":"IF(AND(TODAY()<Liste!P$1,VLOOKUP(F11,Liste!G$2:I225,3,0)=VLOOKUP(F11,Liste!G$2:Q225,11,0)),1,0)","v":0},null,{"$f":"IFERROR(VLOOKUP(J11,Liste!$G$2:AT225,7,0),0)","v":0},{"$f":"IFERROR(VLOOKUP(J11,Liste!$G$2:$H225,2,0),0)","v":0},{"$f":"IFERROR(VLOOKUP(J11,Liste!$G$2:$I225,3,0),0)","v":0},{"$f":"IF(M11=\"Huhn\",(VLOOKUP(J11,Liste!$G$2:$L225,6,0)*1.8),VLOOKUP(J11,Liste!$G$2:$L225,6,0))","v":{"$error":"#N/A"}},{"$f":"IF(K11>0,(K11*N11),0)","v":0},null,null,{"$f":"IFERROR(VLOOKUP(Q11,Liste!$G$2:BA225,7,0),0)","v":0},{"$f":"IFERROR(VLOOKUP(Q11,Liste!$G$2:$H225,2,0),0)","v":0},{"$f":"IFERROR(VLOOKUP(Q11,Liste!$G$2:$I225,3,0),0)","v":0},{"$f":"IF(T11=\"Huhn\",(VLOOKUP(Q11,Liste!$G$2:$L225,6,0)*1.8),VLOOKUP(Q11,Liste!$G$2:$L225,6,0))","v":{"$error":"#N/A"}},{"$f":"IF(R11>0,(R11*U11),0)","v":0},null,null,{"$f":"IFERROR(VLOOKUP(X11,Liste!$G$2:BH225,7,0),0)","v":0},{"$f":"IFERROR(VLOOKUP(X11,Liste!$G$2:$H225,2,0),0)","v":0},{"$f":"IFERROR(VLOOKUP(X11,Liste!$G$2:$I225,3,0),0)","v":0},{"$f":"IF(AA11=\"Huhn\",(VLOOKUP(X11,Liste!$G$2:$L225,6,0)*1.8),VLOOKUP(X11,Liste!$G$2:$L225,6,0))","v":{"$error":"#N/A"}},{"$f":"IF(Y11>0,(Y11*AB11),0)","v":0},{"$f":"IFERROR(VLOOKUP(X11,Liste!$G$2:BH225,7,0),0)","v":0},{"$f":"IF(AA11=\"Huhn\",(VLOOKUP(X11,Liste!$G$2:$L225,6,0)*1.8),VLOOKUP(X11,Liste!$G$2:$L225,6,0))","v":{"$error":"#N/A"}},{"$f":"IF(VLOOKUP(AG11,Liste!$G$2:O225,9,0)<2,1,0)","v":0},{"$f":"IF($F$7=\"auffüllen\",VLOOKUP(A11,Liste!A$2:G225,7,0),IF($F$7<>\"auffüllen\",VLOOKUP(A11,Liste!C$2:G225,5,0)))","v":"Artikel 205"},"●",{"$f":"IFERROR(VLOOKUP(AG11,Liste!$G$2:BH225,7,0),0)","v":3},{"$f":"IFERROR(VLOOKUP(AG11,Liste!$G$2:$H225,2,0),0)","v":594.15},{"$f":"IFERROR(VLOOKUP(AG11,Liste!$G$2:$L225,6,0),0)","v":594.15},{"$f":"IF(AI11>0,(AI11*AK11),0)","v":1782.4499999999998}]
[4,{"$f":"IF(VLOOKUP(F12,Liste!G$2:H226,2,0)=VLOOKUP(F12,Liste!G$2:P226,10,0),1,0)","v":0},{"$f":"IF(VLOOKUP(F12,Liste!G$2:I226,3,0)=VLOOKUP(F12,Liste!G$2:P226,10,0),1,0)","v":0},null,{"$f":"IF(VLOOKUP(F12,Liste!$G$2:O226,9,0)<1,1,0)","v":0},{"$f":"IF($F$7=\"auffüllen\",VLOOKUP(A12,Liste!B5:G226,6,0),IF($F$7=\"Obst und Gemüse\",VLOOKUP(A12,Liste!D$2:G226,4,0),IF($F$7=\"Lidl\",VLOOKUP(A12,Liste!E$2:G226,3,0))))","v":"Artikel 21"},"●",{"$f":"IF(AND(TODAY()<Liste!P$1,VLOOKUP(F12,Liste!G$2:H226,2,0)=VLOOKUP(F12,Liste!G$2:Q226,11,0)),1,0)","v":0},{"$f":"IF(AND(TODAY()<Liste!P$1,VLOOKUP(F12,Liste!G$2:I226,3,0)=VLOOKUP(F12,Liste!G$2:Q226,11,0)),1,0)","v":0},null,{"$f":"IFERROR(VLOOKUP(J12,Liste!$G$2:AT226,7,0),0)","v":0},{"$f":"IFERROR(VLOOKUP(J12,Liste!$G$2:$H226,2,0),0)","v":0},{"$f":"IFERROR(VLOOKUP(J12,Liste!$G$2:$I226,3,0),0)","v":0},null,0,null,null,{"$f":"IFERROR(VLOOKUP(Q12,Liste!$G$2:BA226,7,0),0)","v":0},{"$f":"IFERROR(VLOOKUP(Q12,Liste!$G$2:$H226,2,0),0)","v":0},{"$f":"IFERROR(VLOOKUP(Q12,Liste!$G$2:$I226,3,0),0)","v":0},{"$f":"IF(T12=\"Huhn\",(VLOOKUP(Q12,Liste!$G$2:$L226,6,0)*1.8),VLOOKUP(Q12,Liste!$G$2:$L226,6,0))","v":{"$error":"#N/A"}},0,null,null,{"$f":"IFERROR(VLOOKUP(X12,Liste!$G$2:BH226,7,0),0)","v":0},{"$f":"IFERROR(VLOOKUP(X12,Liste!$G$2:$H226,2,0),0)","v":0},{"$f":"IFERROR(VLOOKUP(X12,Liste!$G$2:$I226,3,0),0)","v":0},{"$f":"IF(AA12=\"Huhn\",(VLOOKUP(X12,Liste!$G$2:$L226,6,0)*1.8),VLOOKUP(X12,Liste!$G$2:$L226,6,0))","v":{"$error":"#N/A"}},0,{"$f":"IFERROR(VLOOKUP(X12,Liste!$G$2:BH226,7,0),0)","v":0},{"$f":"IF(AA12=\"Huhn\",(VLOOKUP(X12,Liste!$G$2:$L226,6,0)*1.8),VLOOKUP(X12,Liste!$G$2:$L226,6,0))","v":{"$error":"#N/A"}},{"$f":"IF(VLOOKUP(AG12,Liste!$G$2:O226,9,0)<2,1,0)","v":{"$error":"#N/A"}},{"$f":"IF($F$7=\"auffüllen\",VLOOKUP(A12,Liste!A$2:G226,7,0),IF($F$7<>\"auffüllen\",VLOOKUP(A12,Liste!C$2:G226,5,0)))","v":{"$error":"#N/A"}},"●",{"$f":"IFERROR(VLOOKUP(AG12,Liste!$G$2:BH226,7,0),0)","v":0},{"$f":"IFERROR(VLOOKUP(AG12,Liste!$G$2:$H226,2,0),0)","v":0},{"$f":"IFERROR(VLOOKUP(AG12,Liste!$G$2:$L226,6,0),0)","v":0},0]
[5,{"$f":"IF(VLOOKUP(F13,Liste!G$2:H227,2,0)=VLOOKUP(F13,Liste!G$2:P227,10,0),1,0)","v":0},{"$f":"IF(VLOOKUP(F13,Liste!G$2:I227,3,0)=VLOOKUP(F13,Liste!G$2:P227,10,0),1,0)","v":0},null,{"$f":"IF(VLOOKUP(F13,Liste!$G$2:O227,9,0)<1,1,0)","v":0},{"$f":"IF($F$7=\"auffüllen\",VLOOKUP(A13,Liste!B6:G227,6,0),IF($F$7=\"Obst und Gemüse\",VLOOKUP(A13,Liste!D$2:G227,4,0),IF($F$7=\"Lidl\",VLOOKUP(A13,Liste!E$2:G227,3,0))))","v":"Artikel 25"},"●",{"$f":"IF(AND(TODAY()<Liste!P$1,VLOOKUP(F13,Liste!G$2:H227,2,0)=VLOOKUP(F13,Liste!G$2:Q227,11,0)),1,0)","v":0},{"$f":"IF(AND(TODAY()<Liste!P$1,VLOOKUP(F13,Liste!G$2:I227,3,0)=VLOOKUP(F13,Liste!G$2:Q227,11,0)),1,0)","v":0},null,{"$f":"IFERROR(VLOOKUP(J13,Liste!$G$2:AT227,7,0),0)","v":0},{"$f":"IFERROR(VLOOKUP(J13,Liste!$G$2:$H227,2,0),0)","v":0},{"$f":"IFERROR(VLOOKUP(J13,Liste!$G$2:$I227,3,0),0)","v":0},{"$f":"IF(M13=\"Huhn\",(VLOOKUP(J13,Liste!$G$2:$L227,6,0)*1.8),VLOOKUP(J13,Liste!$G$2:$L227,6,0))","v":{"$error":"#N/A"}},0,null,null,{"$f":"IFERROR(VLOOKUP(Q13,Liste!$G$2:BA227,7,0),0)","v":0},{"$f":"IFERROR(VLOOKUP(Q13,Liste!$G$2:$H227,2,0),0)","v":0},{"$f":"IFERROR(VLOOKUP(Q13,Liste!$G$2:$I227,3,0),0)","v":0},{"$f":"IF(T13=\"Huhn\",(VLOOKUP(Q13,Liste!$G$2:$L227,6,0)*1.8),VLOOKUP(Q13,Liste!$G$2:$L227,6,0))","v":{"$error":"#N/A"}},0,null,null,{"$f":"IFERROR(VLOOKUP(X13,Liste!$G$2:BH227,7,0),0)","v":0},{"$f":"IFERROR(VLOOKUP(X13,Liste!$G$2:$H227,2,0),0)","v":0},{"$f":"IFERROR(VLOOKUP(X13,Liste!$G$2:$I227,3,0),0)","v":0},{"$f":"IF(AA13=\"Huhn\",(VLOOKUP(X13,Liste!$G$2:$L227,6,0)*1.8),VLOOKUP(X13,Liste!$G$2:$L227,6,0))","v":{"$error":"#N/A"}},0,{"$f":"IFERROR(VLOOKUP(X13,Liste!$G$2:BH227,7,0),0)","v":0},{"$f":"IF(AA13=\"Huhn\",(VLOOKUP(X13,Liste!$G$2:$L227,6,0)*1.8),VLOOKUP(X13,Liste!$G$2:$L227,6,0))","v":{"$error":"#N/A"}},{"$f":"IF(VLOOKUP(AG13,Liste!$G$2:O227,9,0)<2,1,0)","v":{"$error":"#N/A"}},{"$f":"IF($F$7=\"auffüllen\",VLOOKUP(A13,Liste!A$2:G227,7,0),IF($F$7<>\"auffüllen\",VLOOKUP(A13,Liste!C$2:G227,5,0)))","v":{"$error":"#N/A"}},"●",{"$f":"IFERROR(VLOOKUP(AG13,Liste!$G$2:BH227,7,0),0)","v":0},{"$f":"IFERROR(VLOOKUP(AG13,Liste!$G$2:$H227,2,0),0)","v":0},{"$f":"IFERROR(VLOOKUP(AG13,Liste!$G$2:$L227,6,0),0)","v":0},0]
[6,{"$f":"IF(VLOOKUP(F14,Liste!G$2:H228,2,0)=VLOOKUP(F14,Liste!G$2:P228,10,0),1,0)","v":0},{"$f":"IF(VLOOKUP(F14,Liste!G$2:I228,3,0)=VLOOKUP(F14,Liste!G$2:P228,10,0),1,0)","v":0},null,{"$f":"IF(VLOOKUP(F14,Liste!$G$2:O228,9,0)<1,1,0)","v":0},{"$f":"IF($F$7=\"auffüllen\",VLOOKUP(A14,Liste!B7:G228,6,0),IF($F$7=\"Obst und Gemüse\",VLOOKUP(A14,Liste!D$2:G228,4,0),IF($F$7=\"Lidl\",VLOOKUP(A14,Liste!E$2:G228,3,0))))","v":"Artikel 26"},"●",{"$f":"IF(AND(TODAY()<Liste!P$1,VLOOKUP(F14,Liste!G$2:H228,2,0)=VLOOKUP(F14,Liste!G$2:Q228,11,0)),1,0)","v":0},{"$f":"IF(AND(TODAY()<Liste!P$1,VLOOKUP(F14,Liste!G$2:I228,3,0)=VLOOKUP(F14,Liste!G$2:Q228,11,0)),1,0)","v":0},null,{"$f":"IFERROR(VLOOKUP(J14,Liste!$G$2:AT228,7,0),0)","v":0},{"$f":"IFERROR(VLOOKUP(J14,Liste!$G$2:$H228,2,0),0)","v":0},{"$f":"IFERROR(VLOOKUP(J14,Liste!$G$2:$I228,3,0),0)","v":0},{"$f":"IF(M14=\"Huhn\",(VLOOKUP(J14,Liste!$G$2:$L228,6,0)*1.8),VLOOKUP(J14,Liste!$G$2:$L228,6,0))","v":{"$error":"#N/A"}},0,null,null,{"$f":"IFERROR(VLOOKUP(Q14,Liste!$G$2:BA228,7,0),0)","v":0},{"$f":"IFERROR(VLOOKUP(Q14,Liste!$G$2:$H228,2,0),0)","v":0},{"$f":"IFERROR(VLOOKUP(Q14,Liste!$G$2:$I228,3,0),0)","v":0},{"$f":"IF(T14=\"Huhn\",(VLOOKUP(Q14,Liste!$G$2:$L228,6,0)*1.8),VLOOKUP(Q14,Liste!$G$2:$L228,6,0))","v":{"$error":"#N/A"}},0,null,null,{"$f":"IFERROR(VLOOKUP(X14,Liste!$G$2:BH228,7,0),0)","v":0},{"$f":"IFERROR(VLOOKUP(X14,Liste!$G$2:$H228,2,0),0)","v":0},{"$f":"IFERROR(VLOOKUP(X14,Liste!$G$2:$I228,3,0),0)","v":0},{"$f":"IF(AA14=\"Huhn\",(VLOOKUP(X14,Liste!$G$2:$L228,6,0)*1.8),VLOOKUP(X14,Liste!$G$2:$L228,6,0))","v":{"$error":"#N/A"}},0,{"$f":"IFERROR(VLOOKUP(X14,Liste!$G$2:BH228,7,0),0)","v":0},{"$f":"IF(AA14=\"Huhn\",(VLOOKUP(X14,Liste!$G$2:$L228,6,0)*1.8),VLOOKUP(X14,Liste!$G$2:$L228,6,0))","v":{"$error":"#N/A"}},{"$f":"IF(VLOOKUP(AG14,Liste!$G$2:O228,9,0)<2,1,0)","v":{"$error":"#N/A"}},{"$f":"IF($F$7=\"auffüllen\",VLOOKUP(A14,Liste!A$2:G228,7,0),IF($F$7<>\"auffüllen\",VLOOKUP(A14,Liste!C$2:G228,5,0)))","v":{"$error":"#N/A"}},"●",{"$f":"IFERROR(VLOOKUP(AG14,Liste!$G$2:BH228,7,0),0)","v":0},{"$f":"IFERROR(VLOOKUP(AG14,Liste!$G$2:$H228,2,0),0)","v":0},{"$f":"IFERROR(VLOOKUP(AG14,Liste!$G$2:$L228,6,0),0)","v":0},0]
[7,{"$f":"IF(VLOOKUP(F15,Liste!G$2:H229,2,0)=VLOOKUP(F15,Liste!G$2:P229,10,0),1,0)","v":0},{"$f":"IF(VLOOKUP(F15,Liste!G$2:I229,3,0)=VLOOKUP(F15,Liste!G$2:P229,10,0),1,0)","v":0},null,{"$f":"IF(VLOOKUP(F15,Liste!$G$2:O229,9,0)<1,1,0)","v":0},{"$f":"IF($F$7=\"auffüllen\",VLOOKUP(A15,Liste!B8:G229,6,0),IF($F$7=\"Obst und Gemüse\",VLOOKUP(A15,Liste!D$2:G229,4,0),IF($F$7=\"Lidl\",VLOOKUP(A15,Liste!E$2:G229,3,0))))","v":"Artikel 30"},"●",{"$f":"IF(AND(TODAY()<Liste!P$1,VLOOKUP(F15,Liste!G$2:H229,2,0)=VLOOKUP(F15,Liste!G$2:Q229,11,0)),1,0)","v":0},{"$f":"IF(AND(TODAY()<Liste!P$1,VLOOKUP(F15,Liste!G$2:I229,3,0)=VLOOKUP(F15,Liste!G$2:Q229,11,0)),1,0)","v":0},null,{"$f":"IFERROR(VLOOKUP(J15,Liste!$G$2:AT229,7,0),0)","v":0},{"$f":"IFERROR(VLOOKUP(J15,Liste!$G$2:$H229,2,0),0)","v":0},{"$f":"IFERROR(VLOOKUP(J15,Liste!$G$2:$I229,3,0),0)","v":0},{"$f":"IF(M15=\"Huhn\",(VLOOKUP(J15,Liste!$G$2:$L229,6,0)*1.8),VLOOKUP(J15,Liste!$G$2:$L229,6,0))","v":{"$error":"#N/A"}},0,null,null,{"$f":"IFERROR(VLOOKUP(Q15,Liste!$G$2:BA229,7,0),0)","v":0},{"$f":"IFERROR(VLOOKUP(Q15,Liste!$G$2:$H229,2,0),0)","v":0},{"$f":"IFERROR(VLOOKUP(Q15,Liste!$G$2:$I229,3,0),0)","v":0},{"$f":"IF(T15=\"Huhn\",(VLOOKUP(Q15,Liste!$G$2:$L229,6,0)*1.8),VLOOKUP(Q15,Liste!$G$2:$L229,6,0))","v":{"$error":"#N/A"}},{"$f":"IF(R15>0,(R15*U15),0)","v":0},null,null,{"$f":"IFERROR(VLOOKUP(X15,Liste!$G$2:BH229,7,0),0)","v":0},{"$f":"IFERROR(VLOOKUP(X15,Liste!$G$2:$H229,2,0),0)","v":0},{"$f":"IFERROR(VLOOKUP(X15,Liste!$G$2:$I229,3,0),0)","v":0},{"$f":"IF(AA15=\"Huhn\",(VLOOKUP(X15,Liste!$G$2:$L229,6,0)*1.8),VLOOKUP(X15,Liste!$G$2:$L229,6,0))","v":{"$error":"#N/A"}},0,{"$f":"IFERROR(VLOOKUP(X15,Liste!$G$2:BH229,7,0),0)","v":0},{"$f":"IF(AA15=\"Huhn\",(VLOOKUP(X15,Liste!$G$2:$L229,6,0)*1.8),VLOOKUP(X15,Liste!$G$2:$L229,6,0))","v":{"$error":"#N/A"}},{"$f":"IF(VLOOKUP(AG15,Liste!$G$2:O229,9,0)<2,1,0)","v":{"$error":"#N/A"}},{"$f":"IF($F$7=\"auffüllen\",VLOOKUP(A15,Liste!A$2:G229,7,0),IF($F$7<>\"auffüllen\",VLOOKUP(A15,Liste!C$2:G229,5,0)))","v":{"$error":"#N/A"}},"●",{"$f":"IFERROR(VLOOKUP(AG15,Liste!$G$2:BH229,7,0),0)","v":0},{"$f":"IFERROR(VLOOKUP(AG15,Liste!$G$2:$H229,2,0),0)","v":0},{"$f":"IFERROR(VLOOKUP(AG15,Liste!$G$2:$L229,6,0),0)","v":0},0]
[8,{"$f":"IF(VLOOKUP(F16,Liste!G$2:H230,2,0)=VLOOKUP(F16,Liste!G$2:P230,10,0),1,0)","v":0},{"$f":"IF(VLOOKUP(F16,Liste!G$2:I230,3,0)=VLOOKUP(F16,Liste!G$2:P230,10,0),1,0)","v":0},null,{"$f":"IF(VLOOKUP(F16,Liste!$G$2:O230,9,0)<1,1,0)","v":1},{"$f":"IF($F$7=\"auffüllen\",VLOOKUP(A16,Liste!B9:G230,6,0),IF($F$7=\"Obst und Gemüse\",VLOOKUP(A16,Liste!D$2:G230,4,0),IF($F$7=\"Lidl\",VLOOKUP(A16,Liste!E$2:G230,3,0))))","v":"Artikel 32"},"●",{"$f":"IF(AND(TODAY()<Liste!P$1,VLOOKUP(F16,Liste!G$2:H230,2,0)=VLOOKUP(F16,Liste!G$2:Q230,11,0)),1,0)","v":0},{"$f":"IF(AND(TODAY()<Liste!P$1,VLOOKUP(F16,Liste!G$2:I230,3,0)=VLOOKUP(F16,Liste!G$2:Q230,11,0)),1,0)","v":0},null,{"$f":"IFERROR(VLOOKUP(J16,Liste!$G$2:AT230,7,0),0)","v":0},{"$f":"IFERROR(VLOOKUP(J16,Liste!$G$2:$H230,2,0),0)","v":0},{"$f":"IFERROR(VLOOKUP(J16,Liste!$G$2:$I230,3,0),0)","v":0},{"$f":"IF(M16=\"Huhn\",(VLOOKUP(J16,Liste!$G$2:$L230,6,0)*1.8),VLOOKUP(J16,Liste!$G$2:$L230,6,0))","v":{"$error":"#N/A"}},0,null,null,{"$f":"IFERROR(VLOOKUP(Q16,Liste!$G$2:BA230,7,0),0)","v":0},{"$f":"IFERROR(VLOOKUP(Q16,Liste!$G$2:$H230,2,0),0)","v":0},{"$f":"IFERROR(VLOOKUP(Q16,Liste!$G$2:$I230,3,0),0)","v":0},{"$f":"IF(T16=\"Huhn\",(VLOOKUP(Q16,Liste!$G$2:$L230,6,0)*1.8),VLOOKUP(Q16,Liste!$G$2:$L230,6,0))","v":{"$error":"#N/A"}},0,null,null,{"$f":"IFERROR(VLOOKUP(X16,Liste!$G$2:BH230,7,0),0)","v":0},{"$f":"IFERROR(VLOOKUP(X16,Liste!$G$2:$H230,2,0),0)","v":0},{"$f":"IFERROR(VLOOKUP(X16,Liste!$G$2:$I230,3,0),0)","v":0},{"$f":"IF(AA16=\"Huhn\",(VLOOKUP(X16,Liste!$G$2:$L230,6,0)*1.8),VLOOKUP(X16,Liste!$G$2:$L230,6,0))","v":{"$error":"#N/A"}},0,{"$f":"IFERROR(VLOOKUP(X16,Liste!$G$2:BH230,7,0),0)","v":0},{"$f":"IF(AA16=\"Huhn\",(VLOOKUP(X16,Liste!$G$2:$L230,6,0)*1.8),VLOOKUP(X16,Liste!$G$2:$L230,6,0))","v":{"$error":"#N/A"}},{"$f":"IF(VLOOKUP(AG16,Liste!$G$2:O230,9,0)<2,1,0)","v":{"$error":"#N/A"}},{"$f":"IF($F$7=\"auffüllen\",VLOOKUP(A16,Liste!A$2:G230,7,0),IF($F$7<>\"auffüllen\",VLOOKUP(A16,Liste!C$2:G230,5,0)))","v":{"$error":"#N/A"}},"●",{"$f":"IFERROR(VLOOKUP(AG16,Liste!$G$2:BH230,7,0),0)","v":0},{"$f":"IFERROR(VLOOKUP(AG16,Liste!$G$2:$H230,2,0),0)","v":0},{"$f":"IFERROR(VLOOKUP(AG16,Liste!$G$2:$L230,6,0),0)","v":0},0]
[9,{"$f":"IF(VLOOKUP(F17,Liste!G$2:H231,2,0)=VLOOKUP(F17,Liste!G$2:P231,10,0),1,0)","v":0},{"$f":"IF(VLOOKUP(F17,Liste!G$2:I231,3,0)=VLOOKUP(F17,Liste!G$2:P231,10,0),1,0)","v":0},null,{"$f":"IF(VLOOKUP(F17,Liste!$G$2:O231,9,0)<1,1,0)","v":1},{"$f":"IF($F$7=\"auffüllen\",VLOOKUP(A17,Liste!B10:G231,6,0),IF($F$7=\"Obst und Gemüse\",VLOOKUP(A17,Liste!D$2:G231,4,0),IF($F$7=\"Lidl\",VLOOKUP(A17,Liste!E$2:G231,3,0))))","v":"Artikel 33"},"●",{"$f":"IF(AND(TODAY()<Liste!P$1,VLOOKUP(F17,Liste!G$2:H231,2,0)=VLOOKUP(F17,Liste!G$2:Q231,11,0)),1,0)","v":0},{"$f":"IF(AND(TODAY()<Liste!P$1,VLOOKUP(F17,Liste!G$2:I231,3,0)=VLOOKUP(F17,Liste!G$2:Q231,11,0)),1,0)","v":0},null,{"$f":"IFERROR(VLOOKUP(J17,Liste!$G$2:AT231,7,0),0)","v":0},{"$f":"IFERROR(VLOOKUP(J17,Liste!$G$2:$H231,2,0),0)","v":0},{"$f":"IFERROR(VLOOKUP(J17,Liste!$G$2:$I231,3,0),0)","v":0},{"$f":"IF(M17=\"Huhn\",(VLOOKUP(J17,Liste!$G$2:$L231,6,0)*1.8),VLOOKUP(J17,Liste!$G$2:$L231,6,0))","v":{"$error":"#N/A"}},0,null,null,{"$f":"IFERROR(VLOOKUP(Q17,Liste!$G$2:BA231,7,0),0)","v":0},{"$f":"IFERROR(VLOOKUP(Q17,Liste!$G$2:$H231,2,0),0)","v":0},{"$f":"IFERROR(VLOOKUP(Q17,Liste!$G$2:$I231,3,0),0)","v":0},{"$f":"IF(T17=\"Huhn\",(VLOOKUP(Q17,Liste!$G$2:$L231,6,0)*1.8),VLOOKUP(Q17,Liste!$G$2:$L231,6,0))","v":{"$error":"#N/A"}},0,null,null,{"$f":"IFERROR(VLOOKUP(X17,Liste!$G$2:BH231,7,0),0)","v":0},{"$f":"IFERROR(VLOOKUP(X17,Liste!$G$2:$H231,2,0),0)","v":0},{"$f":"IFERROR(VLOOKUP(X17,Liste!$G$2:$I231,3,0),0)","v":0},{"$f":"IF(AA17=\"Huhn\",(VLOOKUP(X17,Liste!$G$2:$L231,6,0)*1.8),VLOOKUP(X17,Liste!$G$2:$L231,6,0))","v":{"$error":"#N/A"}},0,{"$f":"IFERROR(VLOOKUP(X17,Liste!$G$2:BH231,7,0),0)","v":0},{"$f":"IF(AA17=\"Huhn\",(VLOOKUP(X17,Liste!$G$2:$L231,6,0)*1.8),VLOOKUP(X17,Liste!$G$2:$L231,6,0))","v":{"$error":"#N/A"}},{"$f":"IF(VLOOKUP(AG17,Liste!$G$2:O231,9,0)<2,1,0)","v":{"$error":"#N/A"}},{"$f":"IF($F$7=\"auffüllen\",VLOOKUP(A17,Liste!A$2:G231,7,0),IF($F$7<>\"auffüllen\",VLOOKUP(A17,Liste!C$2:G231,5,0)))","v":{"$error":"#N/A"}},"●",{"$f":"IFERROR(VLOOKUP(AG17,Liste!$G$2:BH231,7,0),0)","v":0},{"$f":"IFERROR(VLOOKUP(AG17,Liste!$G$2:$H231,2,0),0)","v":0},{"$f":"IFERROR(VLOOKUP(AG17,Liste!$G$2:$L231,6,0),0)","v":0},0]
[10,{"$f":"IF(VLOOKUP(F18,Liste!G$2:H232,2,0)=VLOOKUP(F18,Liste!G$2:P232,10,0),1,0)","v":0},{"$f":"IF(VLOOKUP(F18,Liste!G$2:I232,3,0)=VLOOKUP(F18,Liste!G$2:P232,10,0),1,0)","v":0},null,{"$f":"IF(VLOOKUP(F18,Liste!$G$2:O232,9,0)<1,1,0)","v":1},{"$f":"IF($F$7=\"auffüllen\",VLOOKUP(A18,Liste!B11:G232,6,0),IF($F$7=\"Obst und Gemüse\",VLOOKUP(A18,Liste!D$2:G232,4,0),IF($F$7=\"Lidl\",VLOOKUP(A18,Liste!E$2:G232,3,0))))","v":"Artikel 34"},"●",{"$f":"IF(AND(TODAY()<Liste!P$1,VLOOKUP(F18,Liste!G$2:H232,2,0)=VLOOKUP(F18,Liste!G$2:Q232,11,0)),1,0)","v":0},{"$f":"IF(AND(TODAY()<Liste!P$1,VLOOKUP(F18,Liste!G$2:I232,3,0)=VLOOKUP(F18,Liste!G$2:Q232,11,0)),1,0)","v":0},null,{"$f":"IFERROR(VLOOKUP(J18,Liste!$G$2:AT232,7,0),0)","v":0},{"$f":"IFERROR(VLOOKUP(J18,Liste!$G$2:$H232,2,0),0)","v":0},{"$f":"IFERROR(VLOOKUP(J18,Liste!$G$2:$I232,3,0),0)","v":0},{"$f":"IF(M18=\"Huhn\",(VLOOKUP(J18,Liste!$G$2:$L232,6,0)*1.8),VLOOKUP(J18,Liste!$G$2:$L232,6,0))","v":{"$error":"#N/A"}},0,null,null,{"$f":"IFERROR(VLOOKUP(Q18,Liste!$G$2:BA232,7,0),0)","v":0},{"$f":"IFERROR(VLOOKUP(Q18,Liste!$G$2:$H232,2,0),0)","v":0},{"$f":"IFERROR(VLOOKUP(Q18,Liste!$G$2:$I232,3,0),0)","v":0},{"$f":"IF(T18=\"Huhn\",(VLOOKUP(Q18,Liste!$G$2:$L232,6,0)*1.8),VLOOKUP(Q18,Liste!$G$2:$L232,6,0))","v":{"$error":"#N/A"}},0,null,null,{"$f":"IFERROR(VLOOKUP(X18,Liste!$G$2:BH232,7,0),0)","v":0},{"$f":"IFERROR(VLOOKUP(X18,Liste!$G$2:$H232,2,0),0)","v":0},{"$f":"IFERROR(VLOOKUP(X18,Liste!$G$2:$I232,3,0),0)","v":0},{"$f":"IF(AA18=\"Huhn\",(VLOOKUP(X18,Liste!$G$2:$L232,6,0)*1.8),VLOOKUP(X18,Liste!$G$2:$L232,6,0))","v":{"$error":"#N/A"}},0,{"$f":"IFERROR(VLOOKUP(X18,Liste!$G$2:BH232,7,0),0)","v":0},{"$f":"IF(AA18=\"Huhn\",(VLOOKUP(X18,Liste!$G$2:$L232,6,0)*1.8),VLOOKUP(X18,Liste!$G$2:$L232,6,0))","v":{"$error":"#N/A"}},{"$f":"IF(VLOOKUP(AG18,Liste!$G$2:O232,9,0)<2,1,0)","v":{"$error":"#N/A"}},{"$f":"IF($F$7=\"auffüllen\",VLOOKUP(A18,Liste!A$2:G232,7,0),IF($F$7<>\"auffüllen\",VLOOKUP(A18,Liste!C$2:G232,5,0)))","v":{"$error":"#N/A"}},"●",{"$f":"IFERROR(VLOOKUP(AG18,Liste!$G$2:BH232,7,0),0)","v":0},{"$f":"IFERROR(VLOOKUP(AG18,Liste!$G$2:$H232,2,0),0)","v":0},{"$f":"IFERROR(VLOOKUP(AG18,Liste!$G$2:$L232,6,0),0)","v":0},0]
[11,{"$f":"IF(VLOOKUP(F19,Liste!G$2:H233,2,0)=VLOOKUP(F19,Liste!G$2:P233,10,0),1,0)","v":0},{"$f":"IF(VLOOKUP(F19,Liste!G$2:I233,3,0)=VLOOKUP(F19,Liste!G$2:P233,10,0),1,0)","v":0},null,{"$f":"IF(VLOOKUP(F19,Liste!$G$2:O233,9,0)<1,1,0)","v":1},{"$f":"IF($F$7=\"auffüllen\",VLOOKUP(A19,Liste!B12:G233,6,0),IF($F$7=\"Obst und Gemüse\",VLOOKUP(A19,Liste!D$2:G233,4,0),IF($F$7=\"Lidl\",VLOOKUP(A19,Liste!E$2:G233,3,0))))","v":"Artikel 35"},"●",{"$f":"IF(AND(TODAY()<Liste!P$1,VLOOKUP(F19,Liste!G$2:H233,2,0)=VLOOKUP(F19,Liste!G$2:Q233,11,0)),1,0)","v":0},{"$f":"IF(AND(TODAY()<Liste!P$1,VLOOKUP(F19,Liste!G$2:I233,3,0)=VLOOKUP(F19,Liste!G$2:Q233,11,0)),1,0)","v":0},null,{"$f":"IFERROR(VLOOKUP(J19,Liste!$G$2:AT233,7,0),0)","v":0},{"$f":"IFERROR(VLOOKUP(J19,Liste!$G$2:$H233,2,0),0)","v":0},{"$f":"IFERROR(VLOOKUP(J19,Liste!$G$2:$I233,3,0),0)","v":0},{"$f":"IF(M19=\"Huhn\",(VLOOKUP(J19,Liste!$G$2:$L233,6,0)*1.8),VLOOKUP(J19,Liste!$G$2:$L233,6,0))","v":{"$error":"#N/A"}},0,null,null,{"$f":"IFERROR(VLOOKUP(Q19,Liste!$G$2:BA233,7,0),0)","v":0},{"$f":"IFERROR(VLOOKUP(Q19,Liste!$G$2:$H233,2,0),0)","v":0},{"$f":"IFERROR(VLOOKUP(Q19,Liste!$G$2:$I233,3,0),0)","v":0},{"$f":"IF(T19=\"Huhn\",(VLOOKUP(Q19,Liste!$G$2:$L233,6,0)*1.8),VLOOKUP(Q19,Liste!$G$2:$L233,6,0))","v":{"$error":"#N/A"}},0,null,null,{"$f":"IFERROR(VLOOKUP(X19,Liste!$G$2:BH233,7,0),0)","v":0},{"$f":"IFERROR(VLOOKUP(X19,Liste!$G$2:$H233,2,0),0)","v":0},{"$f":"IFERROR(VLOOKUP(X19,Liste!$G$2:$I233,3,0),0)","v":0},{"$f":"IF(AA19=\"Huhn\",(VLOOKUP(X19,Liste!$G$2:$L233,6,0)*1.8),VLOOKUP(X19,Liste!$G$2:$L233,6,0))","v":{"$error":"#N/A"}},0,{"$f":"IFERROR(VLOOKUP(X19,Liste!$G$2:BH233,7,0),0)","v":0},{"$f":"IF(AA19=\"Huhn\",(VLOOKUP(X19,Liste!$G$2:$L233,6,0)*1.8),VLOOKUP(X19,Liste!$G$2:$L233,6,0))","v":{"$error":"#N/A"}},{"$f":"IF(VLOOKUP(AG19,Liste!$G$2:O233,9,0)<2,1,0)","v":{"$error":"#N/A"}},{"$f":"IF($F$7=\"auffüllen\",VLOOKUP(A19,Liste!A$2:G233,7,0),IF($F$7<>\"auffüllen\",VLOOKUP(A19,Liste!C$2:G233,5,0)))","v":{"$error":"#N/A"}},"●",{"$f":"IFERROR(VLOOKUP(AG19,Liste!$G$2:BH233,7,0),0)","v":0},{"$f":"IFERROR(VLOOKUP(AG19,Liste!$G$2:$H233,2,0),0)","v":0},{"$f":"IFERROR(VLOOKUP(AG19,Liste!$G$2:$L233,6,0),0)","v":0},0]
[12,{"$f":"IF(VLOOKUP(F20,Liste!G$2:H234,2,0)=VLOOKUP(F20,Liste!G$2:P234,10,0),1,0)","v":0},{"$f":"IF(VLOOKUP(F20,Liste!G$2:I234,3,0)=VLOOKUP(F20,Liste!G$2:P234,10,0),1,0)","v":0},null,{"$f":"IF(VLOOKUP(F20,Liste!$G$2:O234,9,0)<1,1,0)","v":1},{"$f":"IF($F$7=\"auffüllen\",VLOOKUP(A20,Liste!B13:G234,6,0),IF($F$7=\"Obst und Gemüse\",VLOOKUP(A20,Liste!D$2:G234,4,0),IF($F$7=\"Lidl\",VLOOKUP(A20,Liste!E$2:G234,3,0))))","v":"Artikel 36"},"●",{"$f":"IF(AND(TODAY()<Liste!P$1,VLOOKUP(F20,Liste!G$2:H234,2,0)=VLOOKUP(F20,Liste!G$2:Q234,11,0)),1,0)","v":0},{"$f":"IF(AND(TODAY()<Liste!P$1,VLOOKUP(F20,Liste!G$2:I234,3,0)=VLOOKUP(F20,Liste!G$2:Q234,11,0)),1,0)","v":0},null,{"$f":"IFERROR(VLOOKUP(J20,Liste!$G$2:AT234,7,0),0)","v":0},{"$f":"IFERROR(VLOOKUP(J20,Liste!$G$2:$H234,2,0),0)","v":0},{"$f":"IFERROR(VLOOKUP(J20,Liste!$G$2:$I234,3,0),0)","v":0},{"$f":"IF(M20=\"Huhn\",(VLOOKUP(J20,Liste!$G$2:$L234,6,0)*1.8),VLOOKUP(J20,Liste!$G$2:$L234,6,0))","v":{"$error":"#N/A"}},0,null,null,{"$f":"IFERROR(VLOOKUP(Q20,Liste!$G$2:BA234,7,0),0)","v":0},{"$f":"IFERROR(VLOOKUP(Q20,Liste!$G$2:$H234,2,0),0)","v":0},{"$f":"IFERROR(VLOOKUP(Q20,Liste!$G$2:$I234,3,0),0)","v":0},{"$f":"IF(T20=\"Huhn\",(VLOOKUP(Q20,Liste!$G$2:$L234,6,0)*1.8),VLOOKUP(Q20,Liste!$G$2:$L234,6,0))","v":{"$error":"#N/A"}},0,null,null,{"$f":"IFERROR(VLOOKUP(X20,Liste!$G$2:BH234,7,0),0)","v":0},{"$f":"IFERROR(VLOOKUP(X20,Liste!$G$2:$H234,2,0),0)","v":0},{"$f":"IFERROR(VLOOKUP(X20,Liste!$G$2:$I234,3,0),0)","v":0},{"$f":"IF(AA20=\"Huhn\",(VLOOKUP(X20,Liste!$G$2:$L234,6,0)*1.8),VLOOKUP(X20,Liste!$G$2:$L234,6,0))","v":{"$error":"#N/A"}},0,{"$f":"IFERROR(VLOOKUP(X20,Liste!$G$2:BH234,7,0),0)","v":0},{"$f":"IF(AA20=\"Huhn\",(VLOOKUP(X20,Liste!$G$2:$L234,6,0)*1.8),VLOOKUP(X20,Liste!$G$2:$L234,6,0))","v":{"$error":"#N/A"}},{"$f":"IF(VLOOKUP(AG20,Liste!$G$2:O234,9,0)<2,1,0)","v":{"$error":"#N/A"}},{"$f":"IF($F$7=\"auffüllen\",VLOOKUP(A20,Liste!A$2:G234,7,0),IF($F$7<>\"auffüllen\",VLOOKUP(A20,Liste!C$2:G234,5,0)))","v":{"$error":"#N/A"}},"●",{"$f":"IFERROR(VLOOKUP(AG20,Liste!$G$2:BH234,7,0),0)","v":0},{"$f":"IFERROR(VLOOKUP(AG20,Liste!$G$2:$H234,2,0),0)","v":0},{"$f":"IFERROR(VLOOKUP(AG20,Liste!$G$2:$L234,6,0),0)","v":0},0]
[13,{"$f":"IF(VLOOKUP(F21,Liste!G$2:H235,2,0)=VLOOKUP(F21,Liste!G$2:P235,10,0),1,0)","v":0},{"$f":"IF(VLOOKUP(F21,Liste!G$2:I235,3,0)=VLOOKUP(F21,Liste!G$2:P235,10,0),1,0)","v":0},null,{"$f":"IF(VLOOKUP(F21,Liste!$G$2:O235,9,0)<1,1,0)","v":1},{"$f":"IF($F$7=\"auffüllen\",VLOOKUP(A21,Liste!B14:G235,6,0),IF($F$7=\"Obst und Gemüse\",VLOOKUP(A21,Liste!D$2:G235,4,0),IF($F$7=\"Lidl\",VLOOKUP(A21,Liste!E$2:G235,3,0))))","v":"Artikel 37"},"●",{"$f":"IF(AND(TODAY()<Liste!P$1,VLOOKUP(F21,Liste!G$2:H235,2,0)=VLOOKUP(F21,Liste!G$2:Q235,11,0)),1,0)","v":0},{"$f":"IF(AND(TODAY()<Liste!P$1,VLOOKUP(F21,Liste!G$2:I235,3,0)=VLOOKUP(F21,Liste!G$2:Q235,11,0)),1,0)","v":0},null,{"$f":"IFERROR(VLOOKUP(J21,Liste!$G$2:AT235,7,0),0)","v":0},{"$f":"IFERROR(VLOOKUP(J21,Liste!$G$2:$H235,2,0),0)","v":0},{"$f":"IFERROR(VLOOKUP(J21,Liste!$G$2:$I235,3,0),0)","v":0},{"$f":"IF(M21=\"Huhn\",(VLOOKUP(J21,Liste!$G$2:$L235,6,0)*1.8),VLOOKUP(J21,Liste!$G$2:$L235,6,0))","v":{"$error":"#N/A"}},{"$f":"IF(K21>0,(K21*N21),0)","v":0},null,null,{"$f":"IFERROR(VLOOKUP(Q21,Liste!$G$2:BA235,7,0),0)","v":0},{"$f":"IFERROR(VLOOKUP(Q21,Liste!$G$2:$H235,2,0),0)","v":0},{"$f":"IFERROR(VLOOKUP(Q21,Liste!$G$2:$I235,3,0),0)","v":0},{"$f":"IF(T21=\"Huhn\",(VLOOKUP(Q21,Liste!$G$2:$L235,6,0)*1.8),VLOOKUP(Q21,Liste!$G$2:$L235,6,0))","v":{"$error":"#N/A"}},0,null,null,{"$f":"IFERROR(VLOOKUP(X21,Liste!$G$2:BH235,7,0),0)","v":0},{"$f":"IFERROR(VLOOKUP(X21,Liste!$G$2:$H235,2,0),0)","v":0},{"$f":"IFERROR(VLOOKUP(X21,Liste!$G$2:$I235,3,0),0)","v":0},{"$f":"IF(AA21=\"Huhn\",(VLOOKUP(X21,Liste!$G$2:$L235,6,0)*1.8),VLOOKUP(X21,Liste!$G$2:$L235,6,0))","v":{"$error":"#N/A"}},0,{"$f":"IFERROR(VLOOKUP(X21,Liste!$G$2:BH235,7,0),0)","v":0},{"$f":"IF(AA21=\"Huhn\",(VLOOKUP(X21,Liste!$G$2:$L235,6,0)*1.8),VLOOKUP(X21,Liste!$G$2:$L235,6,0))","v":{"$error":"#N/A"}},{"$f":"IF(VLOOKUP(AG21,Liste!$G$2:O235,9,0)<2,1,0)","v":{"$error":"#N/A"}},{"$f":"IF($F$7=\"auffüllen\",VLOOKUP(A21,Liste!A$2:G235,7,0),IF($F$7<>\"auffüllen\",VLOOKUP(A21,Liste!C$2:G235,5,0)))","v":{"$error":"#N/A"}},"●",{"$f":"IFERROR(VLOOKUP(AG21,Liste!$G$2:BH235,7,0),0)","v":0},{"$f":"IFERROR(VLOOKUP(AG21,Liste!$G$2:$H235,2,0),0)","v":0},{"$f":"IFERROR(VLOOKUP(AG21,Liste!$G$2:$L235,6,0),0)","v":0},0]
[14,{"$f":"IF(VLOOKUP(F22,Liste!G$2:H236,2,0)=VLOOKUP(F22,Liste!G$2:P236,10,0),1,0)","v":0},{"$f":"IF(VLOOKUP(F22,Liste!G$2:I236,3,0)=VLOOKUP(F22,Liste!G$2:P236,10,0),1,0)","v":0},null,{"$f":"IF(VLOOKUP(F22,Liste!$G$2:O236,9,0)<1,1,0)","v":0},{"$f":"IF($F$7=\"auffüllen\",VLOOKUP(A22,Liste!B15:G236,6,0),IF($F$7=\"Obst und Gemüse\",VLOOKUP(A22,Liste!D$2:G236,4,0),IF($F$7=\"Lidl\",VLOOKUP(A22,Liste!E$2:G236,3,0))))","v":"Artikel 40"},"●",{"$f":"IF(AND(TODAY()<Liste!P$1,VLOOKUP(F22,Liste!G$2:H236,2,0)=VLOOKUP(F22,Liste!G$2:Q236,11,0)),1,0)","v":0},{"$f":"IF(AND(TODAY()<Liste!P$1,VLOOKUP(F22,Liste!G$2:I236,3,0)=VLOOKUP(F22,Liste!G$2:Q236,11,0)),1,0)","v":0},null,{"$f":"IFERROR(VLOOKUP(J22,Liste!$G$2:AT236,7,0),0)","v":0},{"$f":"IFERROR(VLOOKUP(J22,Liste!$G$2:$H236,2,0),0)","v":0},{"$f":"IFERROR(VLOOKUP(J22,Liste!$G$2:$I236,3,0),0)","v":0},{"$f":"IF(M22=\"Huhn\",(VLOOKUP(J22,Liste!$G$2:$L236,6,0)*1.8),VLOOKUP(J22,Liste!$G$2:$L236,6,0))","v":{"$error":"#N/A"}},0,null,null,{"$f":"IFERROR(VLOOKUP(Q22,Liste!$G$2:BA236,7,0),0)","v":0},{"$f":"IFERROR(VLOOKUP(Q22,Liste!$G$2:$H236,2,0),0)","v":0},{"$f":"IFERROR(VLOOKUP(Q22,Liste!$G$2:$I236,3,0),0)","v":0},{"$f":"IF(T22=\"Huhn\",(VLOOKUP(Q22,Liste!$G$2:$L236,6,0)*1.8),VLOOKUP(Q22,Liste!$G$2:$L236,6,0))","v":{"$error":"#N/A"}},0,null,null,{"$f":"IFERROR(VLOOKUP(X22,Liste!$G$2:BH236,7,0),0)","v":0},{"$f":"IFERROR(VLOOKUP(X22,Liste!$G$2:$H236,2,0),0)","v":0},{"$f":"IFERROR(VLOOKUP(X22,Liste!$G$2:$I236,3,0),0)","v":0},{"$f":"IF(AA22=\"Huhn\",(VLOOKUP(X22,Liste!$G$2:$L236,6,0)*1.8),VLOOKUP(X22,Liste!$G$2:$L236,6,0))","v":{"$error":"#N/A"}},0,{"$f":"IFERROR(VLOOKUP(X22,Liste!$G$2:BH236,7,0),0)","v":0},{"$f":"IF(AA22=\"Huhn\",(VLOOKUP(X22,Liste!$G$2:$L236,6,0)*1.8),VLOOKUP(X22,Liste!$G$2:$L236,6,0))","v":{"$error":"#N/A"}},{"$f":"IF(VLOOKUP(AG22,Liste!$G$2:O236,9,0)<2,1,0)","v":{"$error":"#N/A"}},{"$f":"IF($F$7=\"auffüllen\",VLOOKUP(A22,Liste!A$2:G236,7,0),IF($F$7<>\"auffüllen\",VLOOKUP(A22,Liste!C$2:G236,5,0)))","v":{"$error":"#N/A"}},"●",{"$f":"IFERROR(VLOOKUP(AG22,Liste!$G$2:BH236,7,0),0)","v":0},{"$f":"IFERROR(VLOOKUP(AG22,Liste!$G$2:$H236,2,0),0)","v":0},{"$f":"IFERROR(VLOOKUP(AG22,Liste!$G$2:$L236,6,0),0)","v":0},0]
[15,{"$f":"IF(VLOOKUP(F23,Liste!G$2:H237,2,0)=VLOOKUP(F23,Liste!G$2:P237,10,0),1,0)","v":0},{"$f":"IF(VLOOKUP(F23,Liste!G$2:I237,3,0)=VLOOKUP(F23,Liste!G$2:P237,10,0),1,0)","v":0},null,{"$f":"IF(VLOOKUP(F23,Liste!$G$2:O237,9,0)<1,1,0)","v":0},{"$f":"IF($F$7=\"auffüllen\",VLOOKUP(A23,Liste!B16:G237,6,0),IF($F$7=\"Obst und Gemüse\",VLOOKUP(A23,Liste!D$2:G237,4,0),IF($F$7=\"Lidl\",VLOOKUP(A23,Liste!E$2:G237,3,0))))","v":"Artikel 45"},"●",{"$f":"IF(AND(TODAY()<Liste!P$1,VLOOKUP(F23,Liste!G$2:H237,2,0)=VLOOKUP(F23,Liste!G$2:Q237,11,0)),1,0)","v":0},{"$f":"IF(AND(TODAY()<Liste!P$1,VLOOKUP(F23,Liste!G$2:I237,3,0)=VLOOKUP(F23,Liste!G$2:Q237,11,0)),1,0)","v":0},null,{"$f":"IFERROR(VLOOKUP(J23,Liste!$G$2:AT237,7,0),0)","v":0},{"$f":"IFERROR(VLOOKUP(J23,Liste!$G$2:$H237,2,0),0)","v":0},{"$f":"IFERROR(VLOOKUP(J23,Liste!$G$2:$I237,3,0),0)","v":0},{"$f":"IF(M23=\"Huhn\",(VLOOKUP(J23,Liste!$G$2:$L237,6,0)*1.8),VLOOKUP(J23,Liste!$G$2:$L237,6,0))","v":{"$error":"#N/A"}},0,null,null,{"$f":"IFERROR(VLOOKUP(Q23,Liste!$G$2:BA237,7,0),0)","v":0},{"$f":"IFERROR(VLOOKUP(Q23,Liste!$G$2:$H237,2,0),0)","v":0},{"$f":"IFERROR(VLOOKUP(Q23,Liste!$G$2:$I237,3,0),0)","v":0},{"$f":"IF(T23=\"Huhn\",(VLOOKUP(Q23,Liste!$G$2:$L237,6,0)*1.8),VLOOKUP(Q23,Liste!$G$2:$L237,6,0))","v":{"$error":"#N/A"}},0,null,null,{"$f":"IFERROR(VLOOKUP(X23,Liste!$G$2:BH237,7,0),0)","v":0},{"$f":"IFERROR(VLOOKUP(X23,Liste!$G$2:$H237,2,0),0)","v":0},{"$f":"IFERROR(VLOOKUP(X23,Liste!$G$2:$I237,3,0),0)","v":0},{"$f":"IF(AA23=\"Huhn\",(VLOOKUP(X23,Liste!$G$2:$L237,6,0)*1.8),VLOOKUP(X23,Liste!$G$2:$L237,6,0))","v":{"$error":"#N/A"}},0,{"$f":"IFERROR(VLOOKUP(X23,Liste!$G$2:BH237,7,0),0)","v":0},{"$f":"IF(AA23=\"Huhn\",(VLOOKUP(X23,Liste!$G$2:$L237,6,0)*1.8),VLOOKUP(X23,Liste!$G$2:$L237,6,0))","v":{"$error":"#N/A"}},{"$f":"IF(VLOOKUP(AG23,Liste!$G$2:O237,9,0)<2,1,0)","v":{"$error":"#N/A"}},{"$f":"IF($F$7=\"auffüllen\",VLOOKUP(A23,Liste!A$2:G237,7,0),IF($F$7<>\"auffüllen\",VLOOKUP(A23,Liste!C$2:G237,5,0)))","v":{"$error":"#N/A"}},"●",{"$f":"IFERROR(VLOOKUP(AG23,Liste!$G$2:BH237,7,0),0)","v":0},{"$f":"IFERROR(VLOOKUP(AG23,Liste!$G$2:$H237,2,0),0)","v":0},{"$f":"IFERROR(VLOOKUP(AG23,Liste!$G$2:$L237,6,0),0)","v":0},0]
[16,{"$f":"IF(VLOOKUP(F24,Liste!G$2:H238,2,0)=VLOOKUP(F24,Liste!G$2:P238,10,0),1,0)","v":0},{"$f":"IF(VLOOKUP(F24,Liste!G$2:I238,3,0)=VLOOKUP(F24,Liste!G$2:P238,10,0),1,0)","v":0},null,{"$f":"IF(VLOOKUP(F24,Liste!$G$2:O238,9,0)<1,1,0)","v":0},{"$f":"IF($F$7=\"auffüllen\",VLOOKUP(A24,Liste!B17:G238,6,0),IF($F$7=\"Obst und Gemüse\",VLOOKUP(A24,Liste!D$2:G238,4,0),IF($F$7=\"Lidl\",VLOOKUP(A24,Liste!E$2:G238,3,0))))","v":"Artikel 82"},"●",{"$f":"IF(AND(TODAY()<Liste!P$1,VLOOKUP(F24,Liste!G$2:H238,2,0)=VLOOKUP(F24,Liste!G$2:Q238,11,0)),1,0)","v":0},{"$f":"IF(AND(TODAY()<Liste!P$1,VLOOKUP(F24,Liste!G$2:I238,3,0)=VLOOKUP(F24,Liste!G$2:Q238,11,0)),1,0)","v":0},null,{"$f":"IFERROR(VLOOKUP(J24,Liste!$G$2:AT238,7,0),0)","v":0},{"$f":"IFERROR(VLOOKUP(J24,Liste!$G$2:$H238,2,0),0)","v":0},{"$f":"IFERROR(VLOOKUP(J24,Liste!$G$2:$I238,3,0),0)","v":0},{"$f":"IF(M24=\"Huhn\",(VLOOKUP(J24,Liste!$G$2:$L238,6,0)*1.8),VLOOKUP(J24,Liste!$G$2:$L238,6,0))","v":{"$error":"#N/A"}},0,null,null,{"$f":"IFERROR(VLOOKUP(Q24,Liste!$G$2:BA238,7,0),0)","v":0},{"$f":"IFERROR(VLOOKUP(Q24,Liste!$G$2:$H238,2,0),0)","v":0},{"$f":"IFERROR(VLOOKUP(Q24,Liste!$G$2:$I238,3,0),0)","v":0},{"$f":"IF(T24=\"Huhn\",(VLOOKUP(Q24,Liste!$G$2:$L238,6,0)*1.8),VLOOKUP(Q24,Liste!$G$2:$L238,6,0))","v":{"$error":"#N/A"}},0,null,null,{"$f":"IFERROR(VLOOKUP(X24,Liste!$G$2:BH238,7,0),0)","v":0},{"$f":"IFERROR(VLOOKUP(X24,Liste!$G$2:$H238,2,0),0)","v":0},{"$f":"IFERROR(VLOOKUP(X24,Liste!$G$2:$I238,3,0),0)","v":0},{"$f":"IF(AA24=\"Huhn\",(VLOOKUP(X24,Liste!$G$2:$L238,6,0)*1.8),VLOOKUP(X24,Liste!$G$2:$L238,6,0))","v":{"$error":"#N/A"}},0,{"$f":"IFERROR(VLOOKUP(X24,Liste!$G$2:BH238,7,0),0)","v":0},{"$f":"IF(AA24=\"Huhn\",(VLOOKUP(X24,Liste!$G$2:$L238,6,0)*1.8),VLOOKUP(X24,Liste!$G$2:$L238,6,0))","v":{"$error":"#N/A"}},{"$f":"IF(VLOOKUP(AG24,Liste!$G$2:O238,9,0)<2,1,0)","v":{"$error":"#N/A"}},{"$f":"IF($F$7=\"auffüllen\",VLOOKUP(A24,Liste!A$2:G238,7,0),IF($F$7<>\"auffüllen\",VLOOKUP(A24,Liste!C$2:G238,5,0)))","v":{"$error":"#N/A"}},"●",{"$f":"IFERROR(VLOOKUP(AG24,Liste!$G$2:BH238,7,0),0)","v":0},{"$f":"IFERROR(VLOOKUP(AG24,Liste!$G$2:$H238,2,0),0)","v":0},{"$f":"IFERROR(VLOOKUP(AG24,Liste!$G$2:$L238,6,0),0)","v":0},0]
[17,{"$f":"IF(VLOOKUP(F25,Liste!G$2:H239,2,0)=VLOOKUP(F25,Liste!G$2:P239,10,0),1,0)","v":0},{"$f":"IF(VLOOKUP(F25,Liste!G$2:I239,3,0)=VLOOKUP(F25,Liste!G$2:P239,10,0),1,0)","v":0},null,{"$f":"IF(VLOOKUP(F25,Liste!$G$2:O239,9,0)<1,1,0)","v":1},{"$f":"IF($F$7=\"auffüllen\",VLOOKUP(A25,Liste!B18:G239,6,0),IF($F$7=\"Obst und Gemüse\",VLOOKUP(A25,Liste!D$2:G239,4,0),IF($F$7=\"Lidl\",VLOOKUP(A25,Liste!E$2:G239,3,0))))","v":"Artikel 86"},"●",{"$f":"IF(AND(TODAY()<Liste!P$1,VLOOKUP(F25,Liste!G$2:H239,2,0)=VLOOKUP(F25,Liste!G$2:Q239,11,0)),1,0)","v":0},{"$f":"IF(AND(TODAY()<Liste!P$1,VLOOKUP(F25,Liste!G$2:I239,3,0)=VLOOKUP(F25,Liste!G$2:Q239,11,0)),1,0)","v":0},null,{"$f":"IFERROR(VLOOKUP(J25,Liste!$G$2:AT239,7,0),0)","v":0},{"$f":"IFERROR(VLOOKUP(J25,Liste!$G$2:$H239,2,0),0)","v":0},{"$f":"IFERROR(VLOOKUP(J25,Liste!$G$2:$I239,3,0),0)","v":0},{"$f":"IF(M25=\"Huhn\",(VLOOKUP(J25,Liste!$G$2:$L239,6,0)*1.8),VLOOKUP(J25,Liste!$G$2:$L239,6,0))","v":{"$error":"#N/A"}},{"$f":"IF(K25>0,(K25*N25),0)","v":0},null,null,{"$f":"IFERROR(VLOOKUP(Q25,Liste!$G$2:BA239,7,0),0)","v":0},{"$f":"IFERROR(VLOOKUP(Q25,Liste!$G$2:$H239,2,0),0)","v":0},{"$f":"IFERROR(VLOOKUP(Q25,Liste!$G$2:$I239,3,0),0)","v":0},{"$f":"IF(T25=\"Huhn\",(VLOOKUP(Q25,Liste!$G$2:$L239,6,0)*1.8),VLOOKUP(Q25,Liste!$G$2:$L239,6,0))","v":{"$error":"#N/A"}},0,null,null,{"$f":"IFERROR(VLOOKUP(X25,Liste!$G$2:BH239,7,0),0)","v":0},{"$f":"IFERROR(VLOOKUP(X25,Liste!$G$2:$H239,2,0),0)","v":0},{"$f":"IFERROR(VLOOKUP(X25,Liste!$G$2:$I239,3,0),0)","v":0},{"$f":"IF(AA25=\"Huhn\",(VLOOKUP(X25,Liste!$G$2:$L239,6,0)*1.8),VLOOKUP(X25,Liste!$G$2:$L239,6,0))","v":{"$error":"#N/A"}},0,{"$f":"IFERROR(VLOOKUP(X25,Liste!$G$2:BH239,7,0),0)","v":0},{"$f":"IF(AA25=\"Huhn\",(VLOOKUP(X25,Liste!$G$2:$L239,6,0)*1.8),VLOOKUP(X25,Liste!$G$2:$L239,6,0))","v":{"$error":"#N/A"}},{"$f":"IF(VLOOKUP(AG25,Liste!$G$2:O239,9,0)<2,1,0)","v":{"$error":"#N/A"}},{"$f":"IF($F$7=\"auffüllen\",VLOOKUP(A25,Liste!A$2:G239,7,0),IF($F$7<>\"auffüllen\",VLOOKUP(A25,Liste!C$2:G239,5,0)))","v":{"$error":"#N/A"}},"●",{"$f":"IFERROR(VLOOKUP(AG25,Liste!$G$2:BH239,7,0),0)","v":0},{"$f":"IFERROR(VLOOKUP(AG25,Liste!$G$2:$H239,2,0),0)","v":0},{"$f":"IFERROR(VLOOKUP(AG25,Liste!$G$2:$L239,6,0),0)","v":0},0]
[18,{"$f":"IF(VLOOKUP(F26,Liste!G$2:H240,2,0)=VLOOKUP(F26,Liste!G$2:P240,10,0),1,0)","v":0},{"$f":"IF(VLOOKUP(F26,Liste!G$2:I240,3,0)=VLOOKUP(F26,Liste!G$2:P240,10,0),1,0)","v":0},null,{"$f":"IF(VLOOKUP(F26,Liste!$G$2:O240,9,0)<1,1,0)","v":1},{"$f":"IF($F$7=\"auffüllen\",VLOOKUP(A26,Liste!B19:G240,6,0),IF($F$7=\"Obst und Gemüse\",VLOOKUP(A26,Liste!D$2:G240,4,0),IF($F$7=\"Lidl\",VLOOKUP(A26,Liste!E$2:G240,3,0))))","v":"Artikel 87"},"●",{"$f":"IF(AND(TODAY()<Liste!P$1,VLOOKUP(F26,Liste!G$2:H240,2,0)=VLOOKUP(F26,Liste!G$2:Q240,11,0)),1,0)","v":0},{"$f":"IF(AND(TODAY()<Liste!P$1,VLOOKUP(F26,Liste!G$2:I240,3,0)=VLOOKUP(F26,Liste!G$2:Q240,11,0)),1,0)","v":0},null,{"$f":"IFERROR(VLOOKUP(J26,Liste!$G$2:AT240,7,0),0)","v":0},{"$f":"IFERROR(VLOOKUP(J26,Liste!$G$2:$H240,2,0),0)","v":0},{"$f":"IFERROR(VLOOKUP(J26,Liste!$G$2:$I240,3,0),0)","v":0},{"$f":"IF(M26=\"Huhn\",(VLOOKUP(J26,Liste!$G$2:$L240,6,0)*1.8),VLOOKUP(J26,Liste!$G$2:$L240,6,0))","v":{"$error":"#N/A"}},0,null,null,{"$f":"IFERROR(VLOOKUP(Q26,Liste!$G$2:BA240,7,0),0)","v":0},{"$f":"IFERROR(VLOOKUP(Q26,Liste!$G$2:$H240,2,0),0)","v":0},{"$f":"IFERROR(VLOOKUP(Q26,Liste!$G$2:$I240,3,0),0)","v":0},{"$f":"IF(T26=\"Huhn\",(VLOOKUP(Q26,Liste!$G$2:$L240,6,0)*1.8),VLOOKUP(Q26,Liste!$G$2:$L240,6,0))","v":{"$error":"#N/A"}},0,null,null,{"$f":"IFERROR(VLOOKUP(X26,Liste!$G$2:BH240,7,0),0)","v":0},{"$f":"IFERROR(VLOOKUP(X26,Liste!$G$2:$H240,2,0),0)","v":0},{"$f":"IFERROR(VLOOKUP(X26,Liste!$G$2:$I240,3,0),0)","v":0},{"$f":"IF(AA26=\"Huhn\",(VLOOKUP(X26,Liste!$G$2:$L240,6,0)*1.8),VLOOKUP(X26,Liste!$G$2:$L240,6,0))","v":{"$error":"#N/A"}},0,{"$f":"IFERROR(VLOOKUP(X26,Liste!$G$2:BH240,7,0),0)","v":0},{"$f":"IF(AA26=\"Huhn\",(VLOOKUP(X26,Liste!$G$2:$L240,6,0)*1.8),VLOOKUP(X26,Liste!$G$2:$L240,6,0))","v":{"$error":"#N/A"}},{"$f":"IF(VLOOKUP(AG26,Liste!$G$2:O240,9,0)<2,1,0)","v":{"$error":"#N/A"}},{"$f":"IF($F$7=\"auffüllen\",VLOOKUP(A26,Liste!A$2:G240,7,0),IF($F$7<>\"auffüllen\",VLOOKUP(A26,Liste!C$2:G240,5,0)))","v":{"$error":"#N/A"}},"●",{"$f":"IFERROR(VLOOKUP(AG26,Liste!$G$2:BH240,7,0),0)","v":0},{"$f":"IFERROR(VLOOKUP(AG26,Liste!$G$2:$H240,2,0),0)","v":0},{"$f":"IFERROR(VLOOKUP(AG26,Liste!$G$2:$L240,6,0),0)","v":0},0]
[19,{"$f":"IF(VLOOKUP(F27,Liste!G$2:H241,2,0)=VLOOKUP(F27,Liste!G$2:P241,10,0),1,0)","v":0},{"$f":"IF(VLOOKUP(F27,Liste!G$2:I241,3,0)=VLOOKUP(F27,Liste!G$2:P241,10,0),1,0)","v":0},null,{"$f":"IF(VLOOKUP(F27,Liste!$G$2:O241,9,0)<1,1,0)","v":1},{"$f":"IF($F$7=\"auffüllen\",VLOOKUP(A27,Liste!B20:G241,6,0),IF($F$7=\"Obst und Gemüse\",VLOOKUP(A27,Liste!D$2:G241,4,0),IF($F$7=\"Lidl\",VLOOKUP(A27,Liste!E$2:G241,3,0))))","v":"Artikel 88"},"●",{"$f":"IF(AND(TODAY()<Liste!P$1,VLOOKUP(F27,Liste!G$2:H241,2,0)=VLOOKUP(F27,Liste!G$2:Q241,11,0)),1,0)","v":0},{"$f":"IF(AND(TODAY()<Liste!P$1,VLOOKUP(F27,Liste!G$2:I241,3,0)=VLOOKUP(F27,Liste!G$2:Q241,11,0)),1,0)","v":0},null,{"$f":"IFERROR(VLOOKUP(J27,Liste!$G$2:AT241,7,0),0)","v":0},{"$f":"IFERROR(VLOOKUP(J27,Liste!$G$2:$H241,2,0),0)","v":0},{"$f":"IFERROR(VLOOKUP(J27,Liste!$G$2:$I241,3,0),0)","v":0},{"$f":"IF(M27=\"Huhn\",(VLOOKUP(J27,Liste!$G$2:$L241,6,0)*1.8),VLOOKUP(J27,Liste!$G$2:$L241,6,0))","v":{"$error":"#N/A"}},0,null,null,{"$f":"IFERROR(VLOOKUP(Q27,Liste!$G$2:BA241,7,0),0)","v":0},{"$f":"IFERROR(VLOOKUP(Q27,Liste!$G$2:$H241,2,0),0)","v":0},{"$f":"IFERROR(VLOOKUP(Q27,Liste!$G$2:$I241,3,0),0)","v":0},{"$f":"IF(T27=\"Huhn\",(VLOOKUP(Q27,Liste!$G$2:$L241,6,0)*1.8),VLOOKUP(Q27,Liste!$G$2:$L241,6,0))","v":{"$error":"#N/A"}},0,null,null,{"$f":"IFERROR(VLOOKUP(X27,Liste!$G$2:BH241,7,0),0)","v":0},{"$f":"IFERROR(VLOOKUP(X27,Liste!$G$2:$H241,2,0),0)","v":0},{"$f":"IFERROR(VLOOKUP(X27,Liste!$G$2:$I241,3,0),0)","v":0},{"$f":"IF(AA27=\"Huhn\",(VLOOKUP(X27,Liste!$G$2:$L241,6,0)*1.8),VLOOKUP(X27,Liste!$G$2:$L241,6,0))","v":{"$error":"#N/A"}},0,{"$f":"IFERROR(VLOOKUP(X27,Liste!$G$2:BH241,7,0),0)","v":0},{"$f":"IF(AA27=\"Huhn\",(VLOOKUP(X27,Liste!$G$2:$L241,6,0)*1.8),VLOOKUP(X27,Liste!$G$2:$L241,6,0))","v":{"$error":"#N/A"}},{"$f":"IF(VLOOKUP(AG27,Liste!$G$2:O241,9,0)<2,1,0)","v":{"$error":"#N/A"}},{"$f":"IF($F$7=\"auffüllen\",VLOOKUP(A27,Liste!A$2:G241,7,0),IF($F$7<>\"auffüllen\",VLOOKUP(A27,Liste!C$2:G241,5,0)))","v":{"$error":"#N/A"}},"●",{"$f":"IFERROR(VLOOKUP(AG27,Liste!$G$2:BH241,7,0),0)","v":0},{"$f":"IFERROR(VLOOKUP(AG27,Liste!$G$2:$H241,2,0),0)","v":0},{"$f":"IFERROR(VLOOKUP(AG27,Liste!$G$2:$L241,6,0),0)","v":0},0]
[20,{"$f":"IF(VLOOKUP(F28,Liste!G$2:H242,2,0)=VLOOKUP(F28,Liste!G$2:P242,10,0),1,0)","v":0},{"$f":"IF(VLOOKUP(F28,Liste!G$2:I242,3,0)=VLOOKUP(F28,Liste!G$2:P242,10,0),1,0)","v":0},null,{"$f":"IF(VLOOKUP(F28,Liste!$G$2:O242,9,0)<1,1,0)","v":1},{"$f":"IF($F$7=\"auffüllen\",VLOOKUP(A28,Liste!B21:G242,6,0),IF($F$7=\"Obst und Gemüse\",VLOOKUP(A28,Liste!D$2:G242,4,0),IF($F$7=\"Lidl\",VLOOKUP(A28,Liste!E$2:G242,3,0))))","v":"Artikel 89"},"●",{"$f":"IF(AND(TODAY()<Liste!P$1,VLOOKUP(F28,Liste!G$2:H242,2,0)=VLOOKUP(F28,Liste!G$2:Q242,11,0)),1,0)","v":0},{"$f":"IF(AND(TODAY()<Liste!P$1,VLOOKUP(F28,Liste!G$2:I242,3,0)=VLOOKUP(F28,Liste!G$2:Q242,11,0)),1,0)","v":0},null,{"$f":"IFERROR(VLOOKUP(J28,Liste!$G$2:AT242,7,0),0)","v":0},{"$f":"IFERROR(VLOOKUP(J28,Liste!$G$2:$H242,2,0),0)","v":0},{"$f":"IFERROR(VLOOKUP(J28,Liste!$G$2:$I242,3,0),0)","v":0},{"$f":"IF(M28=\"Huhn\",(VLOOKUP(J28,Liste!$G$2:$L242,6,0)*1.8),VLOOKUP(J28,Liste!$G$2:$L242,6,0))","v":{"$error":"#N/A"}},{"$f":"IF(K28>0,(K28*N28),0)","v":0},null,null,{"$f":"IFERROR(VLOOKUP(Q28,Liste!$G$2:BA242,7,0),0)","v":0},{"$f":"IFERROR(VLOOKUP(Q28,Liste!$G$2:$H242,2,0),0)","v":0},{"$f":"IFERROR(VLOOKUP(Q28,Liste!$G$2:$I242,3,0),0)","v":0},{"$f":"IF(T28=\"Huhn\",(VLOOKUP(Q28,Liste!$G$2:$L242,6,0)*1.8),VLOOKUP(Q28,Liste!$G$2:$L242,6,0))","v":{"$error":"#N/A"}},{"$f":"IF(R28>0,(R28*U28),0)","v":0},null,null,{"$f":"IFERROR(VLOOKUP(X28,Liste!$G$2:BH242,7,0),0)","v":0},{"$f":"IFERROR(VLOOKUP(X28,Liste!$G$2:$H242,2,0),0)","v":0},{"$f":"IFERROR(VLOOKUP(X28,Liste!$G$2:$I242,3,0),0)","v":0},{"$f":"IF(AA28=\"Huhn\",(VLOOKUP(X28,Liste!$G$2:$L242,6,0)*1.8),VLOOKUP(X28,Liste!$G$2:$L242,6,0))","v":{"$error":"#N/A"}},0,{"$f":"IFERROR(VLOOKUP(X28,Liste!$G$2:BH242,7,0),0)","v":0},{"$f":"IF(AA28=\"Huhn\",(VLOOKUP(X28,Liste!$G$2:$L242,6,0)*1.8),VLOOKUP(X28,Liste!$G$2:$L242,6,0))","v":{"$error":"#N/A"}},{"$f":"IF(VLOOKUP(AG28,Liste!$G$2:O242,9,0)<2,1,0)","v":{"$error":"#N/A"}},{"$f":"IF($F$7=\"auffüllen\",VLOOKUP(A28,Liste!A$2:G242,7,0),IF($F$7<>\"auffüllen\",VLOOKUP(A28,Liste!C$2:G242,5,0)))","v":{"$error":"#N/A"}},"●",{"$f":"IFERROR(VLOOKUP(AG28,Liste!$G$2:BH242,7,0),0)","v":0},{"$f":"IFERROR(VLOOKUP(AG28,Liste!$G$2:$H242,2,0),0)","v":0},{"$f":"IFERROR(VLOOKUP(AG28,Liste!$G$2:$L242,6,0),0)","v":0},0]
[21,{"$f":"IF(VLOOKUP(F29,Liste!G$2:H243,2,0)=VLOOKUP(F29,Liste!G$2:P243,10,0),1,0)","v":0},{"$f":"IF(VLOOKUP(F29,Liste!G$2:I243,3,0)=VLOOKUP(F29,Liste!G$2:P243,10,0),1,0)","v":0},null,{"$f":"IF(VLOOKUP(F29,Liste!$G$2:O243,9,0)<1,1,0)","v":0},{"$f":"IF($F$7=\"auffüllen\",VLOOKUP(A29,Liste!B22:G243,6,0),IF($F$7=\"Obst und Gemüse\",VLOOKUP(A29,Liste!D$2:G243,4,0),IF($F$7=\"Lidl\",VLOOKUP(A29,Liste!E$2:G243,3,0))))","v":"Artikel 102"},"●",{"$f":"IF(AND(TODAY()<Liste!P$1,VLOOKUP(F29,Liste!G$2:H243,2,0)=VLOOKUP(F29,Liste!G$2:Q243,11,0)),1,0)","v":0},{"$f":"IF(AND(TODAY()<Liste!P$1,VLOOKUP(F29,Liste!G$2:I243,3,0)=VLOOKUP(F29,Liste!G$2:Q243,11,0)),1,0)","v":0},{"$f":"J5","v":0},null,null,null,null,{"$f":"IF(OR(J29=\"Bonus\",J29=\"COUPON\"),-500,0)","v":0},null,{"$f":"Q5","v":0},null,null,null,null,{"$f":"IF(OR(Q29=\"Bonus\",Q29=\"COUPON\"),-500,0)","v":0},"●",{"$f":"X5","v":0},null,null,null,null,{"$f":"IF(OR(X29=\"Bonus\",X29=\"COUPON\"),-500,0)","v":0},null,null,{"$f":"IF(VLOOKUP(AG29,Liste!$G$2:O243,9,0)<2,1,0)","v":{"$error":"#N/A"}},{"$f":"IF($F$7=\"auffüllen\",VLOOKUP(A29,Liste!A$2:G243,7,0),IF($F$7<>\"auffüllen\",VLOOKUP(A29,Liste!C$2:G243,5,0)))","v":{"$error":"#N/A"}},"●",{"$f":"IFERROR(VLOOKUP(AG29,Liste!$G$2:BH243,7,0),0)","v":0},{"$f":"IFERROR(VLOOKUP(AG29,Liste!$G$2:$H243,2,0),0)","v":0},{"$f":"IFERROR(VLOOKUP(AG29,Liste!$G$2:$L243,6,0),0)","v":0},{"$f":"IF(AI29>0,(AI29*AK29),0)","v":0}]
[22,{"$f":"IF(VLOOKUP(F30,Liste!G$2:H244,2,0)=VLOOKUP(F30,Liste!G$2:P244,10,0),1,0)","v":0},{"$f":"IF(VLOOKUP(F30,Liste!G$2:I244,3,0)=VLOOKUP(F30,Liste!G$2:P244,10,0),1,0)","v":0},null,{"$f":"IF(VLOOKUP(F30,Liste!$G$2:O244,9,0)<1,1,0)","v":0},{"$f":"IF($F$7=\"auffüllen\",VLOOKUP(A30,Liste!B24:G244,6,0),IF($F$7=\"Obst und Gemüse\",VLOOKUP(A30,Liste!D$2:G244,4,0),IF($F$7=\"Lidl\",VLOOKUP(A30,Liste!E$2:G244,3,0))))","v":"Artikel 117"},"●",{"$f":"IF(AND(TODAY()<Liste!P$1,VLOOKUP(F30,Liste!G$2:H244,2,0)=VLOOKUP(F30,Liste!G$2:Q244,11,0)),1,0)","v":0},{"$f":"IF(AND(TODAY()<Liste!P$1,VLOOKUP(F30,Liste!G$2:I244,3,0)=VLOOKUP(F30,Liste!G$2:Q244,11,0)),1,0)","v":0},{"$f":"Liste!$G2","v":"Artikel 1"},null,null,null,null,null,null,{"$f":"Liste!$G2","v":"Artikel 1"},null,null,null,null,null,null,{"$f":"Liste!$G2","v":"Artikel 1"}]
[23,{"$f":"IF(VLOOKUP(F31,Liste!G$2:H245,2,0)=VLOOKUP(F31,Liste!G$2:P245,10,0),1,0)","v":0},{"$f":"IF(VLOOKUP(F31,Liste!G$2:I245,3,0)=VLOOKUP(F31,Liste!G$2:P245,10,0),1,0)","v":0},null,{"$f":"IF(VLOOKUP(F31,Liste!$G$2:O245,9,0)<1,1,0)","v":1},{"$f":"IF($F$7=\"auffüllen\",VLOOKUP(A31,Liste!B25:G245,6,0),IF($F$7=\"Obst und Gemüse\",VLOOKUP(A31,Liste!D$2:G245,4,0),IF($F$7=\"Lidl\",VLOOKUP(A31,Liste!E$2:G245,3,0))))","v":"Artikel 118"},"●",{"$f":"IF(AND(TODAY()<Liste!P$1,VLOOKUP(F31,Liste!G$2:H245,2,0)=VLOOKUP(F31,Liste!G$2:Q245,11,0)),1,0)","v":0},{"$f":"IF(AND(TODAY()<Liste!P$1,VLOOKUP(F31,Liste!G$2:I245,3,0)=VLOOKUP(F31,Liste!G$2:Q245,11,0)),1,0)","v":0},{"$f":"Liste!$G3","v":"Artikel 2"},null,null,null,null,null,null,{"$f":"Liste!$G3","v":"Artikel 2"},null,null,null,null,null,null,{"$f":"Liste!$G3","v":"Artikel 2"}]
[24,{"$f":"IF(VLOOKUP(F32,Liste!G$2:H246,2,0)=VLOOKUP(F32,Liste!G$2:P246,10,0),1,0)","v":0},{"$f":"IF(VLOOKUP(F32,Liste!G$2:I246,3,0)=VLOOKUP(F32,Liste!G$2:P246,10,0),1,0)","v":0},null,{"$f":"IF(VLOOKUP(F32,Liste!$G$2:O246,9,0)<1,1,0)","v":1},{"$f":"IF($F$7=\"auffüllen\",VLOOKUP(A32,Liste!B26:G246,6,0),IF($F$7=\"Obst und Gemüse\",VLOOKUP(A32,Liste!D$2:G246,4,0),IF($F$7=\"Lidl\",VLOOKUP(A32,Liste!E$2:G246,3,0))))","v":"Artikel 119"},"●",{"$f":"IF(AND(TODAY()<Liste!P$1,VLOOKUP(F32,Liste!G$2:H246,2,0)=VLOOKUP(F32,Liste!G$2:Q246,11,0)),1,0)","v":0},{"$f":"IF(AND(TODAY()<Liste!P$1,VLOOKUP(F32,Liste!G$2:I246,3,0)=VLOOKUP(F32,Liste!G$2:Q246,11,0)),1,0)","v":0},{"$f":"Liste!$G4","v":"Artikel 3"},null,null,null,null,null,null,{"$f":"Liste!$G4","v":"Artikel 3"},null,null,null,null,null,null,{"$f":"Liste!$G4","v":"Artikel 3"}]
[25,{"$f":"IF(VLOOKUP(F33,Liste!G$2:H247,2,0)=VLOOKUP(F33,Liste!G$2:P247,10,0),1,0)","v":0},{"$f":"IF(VLOOKUP(F33,Liste!G$2:I247,3,0)=VLOOKUP(F33,Liste!G$2:P247,10,0),1,0)","v":0},null,{"$f":"IF(VLOOKUP(F33,Liste!$G$2:O247,9,0)<1,1,0)","v":0},{"$f":"IF($F$7=\"auffüllen\",VLOOKUP(A33,Liste!B27:G247,6,0),IF($F$7=\"Obst und Gemüse\",VLOOKUP(A33,Liste!D$2:G247,4,0),IF($F$7=\"Lidl\",VLOOKUP(A33,Liste!E$2:G247,3,0))))","v":"Artikel 148"},"●",{"$f":"IF(AND(TODAY()<Liste!P$1,VLOOKUP(F33,Liste!G$2:H247,2,0)=VLOOKUP(F33,Liste!G$2:Q247,11,0)),1,0)","v":0},{"$f":"IF(AND(TODAY()<Liste!P$1,VLOOKUP(F33,Liste!G$2:I247,3,0)=VLOOKUP(F33,Liste!G$2:Q247,11,0)),1,0)","v":0},{"$f":"Liste!$G5","v":"Artikel 4"},null,null,null,null,null,null,{"$f":"Liste!$G5","v":"Artikel 4"},null,null,null,null,null,null,{"$f":"Liste!$G5","v":"Artikel 4"}]
[26,{"$f":"IF(VLOOKUP(F34,Liste!G$2:H248,2,0)=VLOOKUP(F34,Liste!G$2:P248,10,0),1,0)","v":0},{"$f":"IF(VLOOKUP(F34,Liste!G$2:I248,3,0)=VLOOKUP(F34,Liste!G$2:P248,10,0),1,0)","v":0},null,{"$f":"IF(VLOOKUP(F34,Liste!$G$2:O248,9,0)<1,1,0)","v":0},{"$f":"IF($F$7=\"auffüllen\",VLOOKUP(A34,Liste!B28:G248,6,0),IF($F$7=\"Obst und Gemüse\",VLOOKUP(A34,Liste!D$2:G248,4,0),IF($F$7=\"Lidl\",VLOOKUP(A34,Liste!E$2:G248,3,0))))","v":"Artikel 150"},"●",{"$f":"IF(AND(TODAY()<Liste!P$1,VLOOKUP(F34,Liste!G$2:H248,2,0)=VLOOKUP(F34,Liste!G$2:Q248,11,0)),1,0)","v":0},{"$f":"IF(AND(TODAY()<Liste!P$1,VLOOKUP(F34,Liste!G$2:I248,3,0)=VLOOKUP(F34,Liste!G$2:Q248,11,0)),1,0)","v":0},{"$f":"Liste!$G6","v":"Artikel 5"},null,null,null,null,null,null,{"$f":"Liste!$G6","v":"Artikel 5"},null,null,null,null,null,null,{"$f":"Liste!$G6","v":"Artikel 5"}]
[27,{"$f":"IF(VLOOKUP(F35,Liste!G$2:H249,2,0)=VLOOKUP(F35,Liste!G$2:P249,10,0),1,0)","v":0},{"$f":"IF(VLOOKUP(F35,Liste!G$2:I249,3,0)=VLOOKUP(F35,Liste!G$2:P249,10,0),1,0)","v":1},null,{"$f":"IF(VLOOKUP(F35,Liste!$G$2:O249,9,0)<1,1,0)","v":0},{"$f":"IF($F$7=\"auffüllen\",VLOOKUP(A35,Liste!B29:G249,6,0),IF($F$7=\"Obst und Gemüse\",VLOOKUP(A35,Liste!D$2:G249,4,0),IF($F$7=\"Lidl\",VLOOKUP(A35,Liste!E$2:G249,3,0))))","v":"Artikel 201"},"●",{"$f":"IF(AND(TODAY()<Liste!P$1,VLOOKUP(F35,Liste!G$2:H249,2,0)=VLOOKUP(F35,Liste!G$2:Q249,11,0)),1,0)","v":0},{"$f":"IF(AND(TODAY()<Liste!P$1,VLOOKUP(F35,Liste!G$2:I249,3,0)=VLOOKUP(F35,Liste!G$2:Q249,11,0)),1,0)","v":0},{"$f":"Liste!$G7","v":"Artikel 6"},null,null,null,null,null,null,{"$f":"Liste!$G7","v":"Artikel 6"},null,null,null,null,null,null,{"$f":"Liste!$G7","v":"Artikel 6"}]
[28,{"$f":"IF(VLOOKUP(F36,Liste!G$2:H250,2,0)=VLOOKUP(F36,Liste!G$2:P250,10,0),1,0)","v":{"$error":"#N/A"}},{"$f":"IF(VLOOKUP(F36,Liste!G$2:I250,3,0)=VLOOKUP(F36,Liste!G$2:P250,10,0),1,0)","v":{"$error":"#N/A"}},null,{"$f":"IF(VLOOKUP(F36,Liste!$G$2:O250,9,0)<1,1,0)","v":{"$error":"#N/A"}},{"$f":"IF($F$7=\"auffüllen\",VLOOKUP(A36,Liste!B30:G250,6,0),IF($F$7=\"Obst und Gemüse\",VLOOKUP(A36,Liste!D$2:G250,4,0),IF($F$7=\"Lidl\",VLOOKUP(A36,Liste!E$2:G250,3,0))))","v":{"$error":"#N/A"}},"●",{"$f":"IF(AND(TODAY()<Liste!P$1,VLOOKUP(F36,Liste!G$2:H250,2,0)=VLOOKUP(F36,Liste!G$2:Q250,11,0)),1,0)","v":{"$error":"#N/A"}},{"$f":"IF(AND(TODAY()<Liste!P$1,VLOOKUP(F36,Liste!G$2:I250,3,0)=VLOOKUP(F36,Liste!G$2:Q250,11,0)),1,0)","v":{"$error":"#N/A"}},{"$f":"Liste!$G8","v":"Artikel 7"},null,null,null,null,null,null,{"$f":"Liste!$G8","v":"Artikel 7"},null,null,null,null,null,null,{"$f":"Liste!$G8","v":"Artikel 7"}]
[29,{"$f":"IF(VLOOKUP(F37,Liste!G$2:H251,2,0)=VLOOKUP(F37,Liste!G$2:P251,10,0),1,0)","v":{"$error":"#N/A"}},{"$f":"IF(VLOOKUP(F37,Liste!G$2:I251,3,0)=VLOOKUP(F37,Liste!G$2:P251,10,0),1,0)","v":{"$error":"#N/A"}},null,{"$f":"IF(VLOOKUP(F37,Liste!$G$2:O251,9,0)<1,1,0)","v":{"$error":"#N/A"}},{"$f":"IF($F$7=\"auffüllen\",VLOOKUP(A37,Liste!B31:G251,6,0),IF($F$7=\"Obst und Gemüse\",VLOOKUP(A37,Liste!D$2:G251,4,0),IF($F$7=\"Lidl\",VLOOKUP(A37,Liste!E$2:G251,3,0))))","v":{"$error":"#N/A"}},"●",{"$f":"IF(AND(TODAY()<Liste!P$1,VLOOKUP(F37,Liste!G$2:H251,2,0)=VLOOKUP(F37,Liste!G$2:Q251,11,0)),1,0)","v":{"$error":"#N/A"}},{"$f":"IF(AND(TODAY()<Liste!P$1,VLOOKUP(F37,Liste!G$2:I251,3,0)=VLOOKUP(F37,Liste!G$2:Q251,11,0)),1,0)","v":{"$error":"#N/A"}},{"$f":"Liste!$G9","v":"Artikel 8"},null,null,null,null,null,null,{"$f":"Liste!$G9","v":"Artikel 8"},null,null,null,null,null,null,{"$f":"Liste!$G9","v":"Artikel 8"}]
[30,{"$f":"IF(VLOOKUP(F38,Liste!G$2:H252,2,0)=VLOOKUP(F38,Liste!G$2:P252,10,0),1,0)","v":{"$error":"#N/A"}},{"$f":"IF(VLOOKUP(F38,Liste!G$2:I252,3,0)=VLOOKUP(F38,Liste!G$2:P252,10,0),1,0)","v":{"$error":"#N/A"}},null,{"$f":"IF(VLOOKUP(F38,Liste!$G$2:O252,9,0)<1,1,0)","v":{"$error":"#N/A"}},{"$f":"IF($F$7=\"auffüllen\",VLOOKUP(A38,Liste!B33:G252,6,0),IF($F$7=\"Obst und Gemüse\",VLOOKUP(A38,Liste!D$2:G252,4,0),IF($F$7=\"Lidl\",VLOOKUP(A38,Liste!E$2:G252,3,0))))","v":{"$error":"#N/A"}},"●",{"$f":"IF(AND(TODAY()<Liste!P$1,VLOOKUP(F38,Liste!G$2:H252,2,0)=VLOOKUP(F38,Liste!G$2:Q252,11,0)),1,0)","v":{"$error":"#N/A"}},{"$f":"IF(AND(TODAY()<Liste!P$1,VLOOKUP(F38,Liste!G$2:I252,3,0)=VLOOKUP(F38,Liste!G$2:Q252,11,0)),1,0)","v":{"$error":"#N/A"}},{"$f":"Liste!$G10","v":"Artikel 9"},null,null,null,null,null,null,{"$f":"Liste!$G10","v":"Artikel 9"},null,null,null,null,null,null,{"$f":"Liste!$G10","v":"Artikel 9"}]
[31,{"$f":"IF(VLOOKUP(F39,Liste!G$2:H253,2,0)=VLOOKUP(F39,Liste!G$2:P253,10,0),1,0)","v":{"$error":"#N/A"}},{"$f":"IF(VLOOKUP(F39,Liste!G$2:I253,3,0)=VLOOKUP(F39,Liste!G$2:P253,10,0),1,0)","v":{"$error":"#N/A"}},null,{"$f":"IF(VLOOKUP(F39,Liste!$G$2:O253,9,0)<1,1,0)","v":{"$error":"#N/A"}},{"$f":"IF($F$7=\"auffüllen\",VLOOKUP(A39,Liste!B34:G253,6,0),IF($F$7=\"Obst und Gemüse\",VLOOKUP(A39,Liste!D$2:G253,4,0),IF($F$7=\"Lidl\",VLOOKUP(A39,Liste!E$2:G253,3,0))))","v":{"$error":"#N/A"}},"●",{"$f":"IF(AND(TODAY()<Liste!P$1,VLOOKUP(F39,Liste!G$2:H253,2,0)=VLOOKUP(F39,Liste!G$2:Q253,11,0)),1,0)","v":{"$error":"#N/A"}},{"$f":"IF(AND(TODAY()<Liste!P$1,VLOOKUP(F39,Liste!G$2:I253,3,0)=VLOOKUP(F39,Liste!G$2:Q253,11,0)),1,0)","v":{"$error":"#N/A"}},{"$f":"Liste!$G11","v":"Artikel 10"},null,null,null,null,null,null,{"$f":"Liste!$G11","v":"Artikel 10"},null,null,null,null,null,null,{"$f":"Liste!$G11","v":"Artikel 10"}]
[32,{"$f":"IF(VLOOKUP(F40,Liste!G$2:H254,2,0)=VLOOKUP(F40,Liste!G$2:P254,10,0),1,0)","v":{"$error":"#N/A"}},{"$f":"IF(VLOOKUP(F40,Liste!G$2:I254,3,0)=VLOOKUP(F40,Liste!G$2:P254,10,0),1,0)","v":{"$error":"#N/A"}},null,{"$f":"IF(VLOOKUP(F40,Liste!$G$2:O254,9,0)<1,1,0)","v":{"$error":"#N/A"}},{"$f":"IF($F$7=\"auffüllen\",VLOOKUP(A40,Liste!B35:G254,6,0),IF($F$7=\"Obst und Gemüse\",VLOOKUP(A40,Liste!D$2:G254,4,0),IF($F$7=\"Lidl\",VLOOKUP(A40,Liste!E$2:G254,3,0))))","v":{"$error":"#N/A"}},"●",{"$f":"IF(AND(TODAY()<Liste!P$1,VLOOKUP(F40,Liste!G$2:H254,2,0)=VLOOKUP(F40,Liste!G$2:Q254,11,0)),1,0)","v":{"$error":"#N/A"}},{"$f":"IF(AND(TODAY()<Liste!P$1,VLOOKUP(F40,Liste!G$2:I254,3,0)=VLOOKUP(F40,Liste!G$2:Q254,11,0)),1,0)","v":{"$error":"#N/A"}},{"$f":"Liste!$G12","v":"Artikel 11"},null,null,null,null,null,null,{"$f":"Liste!$G12","v":"Artikel 11"},null,null,null,null,null,null,{"$f":"Liste!$G12","v":"Artikel 11"}]
[33,{"$f":"IF(VLOOKUP(F41,Liste!G$2:H255,2,0)=VLOOKUP(F41,Liste!G$2:P255,10,0),1,0)","v":{"$error":"#N/A"}},{"$f":"IF(VLOOKUP(F41,Liste!G$2:I255,3,0)=VLOOKUP(F41,Liste!G$2:P255,10,0),1,0)","v":{"$error":"#N/A"}},null,{"$f":"IF(VLOOKUP(F41,Liste!$G$2:O255,9,0)<1,1,0)","v":{"$error":"#N/A"}},{"$f":"IF($F$7=\"auffüllen\",VLOOKUP(A41,Liste!B36:G255,6,0),IF($F$7=\"Obst und Gemüse\",VLOOKUP(A41,Liste!D$2:G255,4,0),IF($F$7=\"Lidl\",VLOOKUP(A41,Liste!E$2:G255,3,0))))","v":{"$error":"#N/A"}},"●",{"$f":"IF(AND(TODAY()<Liste!P$1,VLOOKUP(F41,Liste!G$2:H255,2,0)=VLOOKUP(F41,Liste!G$2:Q255,11,0)),1,0)","v":{"$error":"#N/A"}},{"$f":"IF(AND(TODAY()<Liste!P$1,VLOOKUP(F41,Liste!G$2:I255,3,0)=VLOOKUP(F41,Liste!G$2:Q255,11,0)),1,0)","v":{"$error":"#N/A"}},{"$f":"Liste!$G13","v":"Artikel 12"},null,null,null,null,null,null,{"$f":"Liste!$G13","v":"Artikel 12"},null,null,null,null,null,null,{"$f":"Liste!$G13","v":"Artikel 12"}]
[34,{"$f":"IF(VLOOKUP(F42,Liste!G$2:H256,2,0)=VLOOKUP(F42,Liste!G$2:P256,10,0),1,0)","v":{"$error":"#N/A"}},{"$f":"IF(VLOOKUP(F42,Liste!G$2:I256,3,0)=VLOOKUP(F42,Liste!G$2:P256,10,0),1,0)","v":{"$error":"#N/A"}},null,{"$f":"IF(VLOOKUP(F42,Liste!$G$2:O256,9,0)<1,1,0)","v":{"$error":"#N/A"}},{"$f":"IF($F$7=\"auffüllen\",VLOOKUP(A42,Liste!B37:G256,6,0),IF($F$7=\"Obst und Gemüse\",VLOOKUP(A42,Liste!D$2:G256,4,0),IF($F$7=\"Lidl\",VLOOKUP(A42,Liste!E$2:G256,3,0))))","v":{"$error":"#N/A"}},"●",{"$f":"IF(AND(TODAY()<Liste!P$1,VLOOKUP(F42,Liste!G$2:H256,2,0)=VLOOKUP(F42,Liste!G$2:Q256,11,0)),1,0)","v":{"$error":"#N/A"}},{"$f":"IF(AND(TODAY()<Liste!P$1,VLOOKUP(F42,Liste!G$2:I256,3,0)=VLOOKUP(F42,Liste!G$2:Q256,11,0)),1,0)","v":{"$error":"#N/A"}},{"$f":"Liste!$G14","v":"Artikel 13"},null,null,null,null,null,null,{"$f":"Liste!$G14","v":"Artikel 13"},null,null,null,null,null,null,{"$f":"Liste!$G14","v":"Artikel 13"}]
[35,{"$f":"IF(VLOOKUP(F43,Liste!G$2:H257,2,0)=VLOOKUP(F43,Liste!G$2:P257,10,0),1,0)","v":{"$error":"#N/A"}},{"$f":"IF(VLOOKUP(F43,Liste!G$2:I257,3,0)=VLOOKUP(F43,Liste!G$2:P257,10,0),1,0)","v":{"$error":"#N/A"}},null,{"$f":"IF(VLOOKUP(F43,Liste!$G$2:O257,9,0)<1,1,0)","v":{"$error":"#N/A"}},{"$f":"IF($F$7=\"auffüllen\",VLOOKUP(A43,Liste!B38:G257,6,0),IF($F$7=\"Obst und Gemüse\",VLOOKUP(A43,Liste!D$2:G257,4,0),IF($F$7=\"Lidl\",VLOOKUP(A43,Liste!E$2:G257,3,0))))","v":{"$error":"#N/A"}},"●",{"$f":"IF(AND(TODAY()<Liste!P$1,VLOOKUP(F43,Liste!G$2:H257,2,0)=VLOOKUP(F43,Liste!G$2:Q257,11,0)),1,0)","v":{"$error":"#N/A"}},{"$f":"IF(AND(TODAY()<Liste!P$1,VLOOKUP(F43,Liste!G$2:I257,3,0)=VLOOKUP(F43,Liste!G$2:Q257,11,0)),1,0)","v":{"$error":"#N/A"}},{"$f":"Liste!$G15","v":"Artikel 14"},null,null,null,null,null,null,{"$f":"Liste!$G15","v":"Artikel 14"},null,null,null,null,null,null,{"$f":"Liste!$G15","v":"Artikel 14"}]
[36,{"$f":"IF(VLOOKUP(F44,Liste!G$2:H258,2,0)=VLOOKUP(F44,Liste!G$2:P258,10,0),1,0)","v":{"$error":"#N/A"}},{"$f":"IF(VLOOKUP(F44,Liste!G$2:I258,3,0)=VLOOKUP(F44,Liste!G$2:P258,10,0),1,0)","v":{"$error":"#N/A"}},null,{"$f":"IF(VLOOKUP(F44,Liste!$G$2:O258,9,0)<1,1,0)","v":{"$error":"#N/A"}},{"$f":"IF($F$7=\"auffüllen\",VLOOKUP(A44,Liste!B39:G258,6,0),IF($F$7=\"Obst und Gemüse\",VLOOKUP(A44,Liste!D$2:G258,4,0),IF($F$7=\"Lidl\",VLOOKUP(A44,Liste!E$2:G258,3,0))))","v":{"$error":"#N/A"}},"●",{"$f":"IF(AND(TODAY()<Liste!P$1,VLOOKUP(F44,Liste!G$2:H258,2,0)=VLOOKUP(F44,Liste!G$2:Q258,11,0)),1,0)","v":{"$error":"#N/A"}},{"$f":"IF(AND(TODAY()<Liste!P$1,VLOOKUP(F44,Liste!G$2:I258,3,0)=VLOOKUP(F44,Liste!G$2:Q258,11,0)),1,0)","v":{"$error":"#N/A"}},{"$f":"Liste!$G16","v":"Artikel 15"},null,null,null,null,null,null,{"$f":"Liste!$G16","v":"Artikel 15"},null,null,null,null,null,null,{"$f":"Liste!$G16","v":"Artikel 15"}]
[37,{"$f":"IF(VLOOKUP(F45,Liste!G$2:H259,2,0)=VLOOKUP(F45,Liste!G$2:P259,10,0),1,0)","v":{"$error":"#N/A"}},{"$f":"IF(VLOOKUP(F45,Liste!G$2:I259,3,0)=VLOOKUP(F45,Liste!G$2:P259,10,0),1,0)","v":{"$error":"#N/A"}},null,{"$f":"IF(VLOOKUP(F45,Liste!$G$2:O259,9,0)<1,1,0)","v":{"$error":"#N/A"}},{"$f":"IF($F$7=\"auffüllen\",VLOOKUP(A45,Liste!B40:G259,6,0),IF($F$7=\"Obst und Gemüse\",VLOOKUP(A45,Liste!D$2:G259,4,0),IF($F$7=\"Lidl\",VLOOKUP(A45,Liste!E$2:G259,3,0))))","v":{"$error":"#N/A"}},"●",{"$f":"IF(AND(TODAY()<Liste!P$1,VLOOKUP(F45,Liste!G$2:H259,2,0)=VLOOKUP(F45,Liste!G$2:Q259,11,0)),1,0)","v":{"$error":"#N/A"}},{"$f":"IF(AND(TODAY()<Liste!P$1,VLOOKUP(F45,Liste!G$2:I259,3,0)=VLOOKUP(F45,Liste!G$2:Q259,11,0)),1,0)","v":{"$error":"#N/A"}},{"$f":"Liste!$G17","v":"Artikel 16"},null,null,null,null,null,null,{"$f":"Liste!$G17","v":"Artikel 16"},null,null,null,null,null,null,{"$f":"Liste!$G17","v":"Artikel 16"}]
[38,{"$f":"IF(VLOOKUP(F46,Liste!G$2:H260,2,0)=VLOOKUP(F46,Liste!G$2:P260,10,0),1,0)","v":{"$error":"#N/A"}},{"$f":"IF(VLOOKUP(F46,Liste!G$2:I260,3,0)=VLOOKUP(F46,Liste!G$2:P260,10,0),1,0)","v":{"$error":"#N/A"}},null,{"$f":"IF(VLOOKUP(F46,Liste!$G$2:O260,9,0)<1,1,0)","v":{"$error":"#N/A"}},{"$f":"IF($F$7=\"auffüllen\",VLOOKUP(A46,Liste!B41:G260,6,0),IF($F$7=\"Obst und Gemüse\",VLOOKUP(A46,Liste!D$2:G260,4,0),IF($F$7=\"Lidl\",VLOOKUP(A46,Liste!E$2:G260,3,0))))","v":{"$error":"#N/A"}},"●",{"$f":"IF(AND(TODAY()<Liste!P$1,VLOOKUP(F46,Liste!G$2:H260,2,0)=VLOOKUP(F46,Liste!G$2:Q260,11,0)),1,0)","v":{"$error":"#N/A"}},{"$f":"IF(AND(TODAY()<Liste!P$1,VLOOKUP(F46,Liste!G$2:I260,3,0)=VLOOKUP(F46,Liste!G$2:Q260,11,0)),1,0)","v":{"$error":"#N/A"}},{"$f":"Liste!$G18","v":"Artikel 17"},null,null,null,null,null,null,{"$f":"Liste!$G18","v":"Artikel 17"},null,null,null,null,null,null,{"$f":"Liste!$G18","v":"Artikel 17"}]
[39,{"$f":"IF(VLOOKUP(F47,Liste!G$2:H261,2,0)=VLOOKUP(F47,Liste!G$2:P261,10,0),1,0)","v":{"$error":"#N/A"}},{"$f":"IF(VLOOKUP(F47,Liste!G$2:I261,3,0)=VLOOKUP(F47,Liste!G$2:P261,10,0),1,0)","v":{"$error":"#N/A"}},null,{"$f":"IF(VLOOKUP(F47,Liste!$G$2:O261,9,0)<1,1,0)","v":{"$error":"#N/A"}},{"$f":"IF($F$7=\"auffüllen\",VLOOKUP(A47,Liste!B42:G261,6,0),IF($F$7=\"Obst und Gemüse\",VLOOKUP(A47,Liste!D$2:G261,4,0),IF($F$7=\"Lidl\",VLOOKUP(A47,Liste!E$2:G261,3,0))))","v":{"$error":"#N/A"}},"●",{"$f":"IF(AND(TODAY()<Liste!P$1,VLOOKUP(F47,Liste!G$2:H261,2,0)=VLOOKUP(F47,Liste!G$2:Q261,11,0)),1,0)","v":{"$error":"#N/A"}},{"$f":"IF(AND(TODAY()<Liste!P$1,VLOOKUP(F47,Liste!G$2:I261,3,0)=VLOOKUP(F47,Liste!G$2:Q261,11,0)),1,0)","v":{"$error":"#N/A"}},{"$f":"Liste!$G19","v":"Artikel 18"},null,null,null,null,null,null,{"$f":"Liste!$G19","v":"Artikel 18"},null,null,null,null,null,null,{"$f":"Liste!$G19","v":"Artikel 18"}]
[40,{"$f":"IF(VLOOKUP(F48,Liste!G$2:H262,2,0)=VLOOKUP(F48,Liste!G$2:P262,10,0),1,0)","v":{"$error":"#N/A"}},{"$f":"IF(VLOOKUP(F48,Liste!G$2:I262,3,0)=VLOOKUP(F48,Liste!G$2:P262,10,0),1,0)","v":{"$error":"#N/A"}},null,{"$f":"IF(VLOOKUP(F48,Liste!$G$2:O262,9,0)<1,1,0)","v":{"$error":"#N/A"}},{"$f":"IF($F$7=\"auffüllen\",VLOOKUP(A48,Liste!B43:G262,6,0),IF($F$7=\"Obst und Gemüse\",VLOOKUP(A48,Liste!D$2:G262,4,0),IF($F$7=\"Lidl\",VLOOKUP(A48,Liste!E$2:G262,3,0))))","v":{"$error":"#N/A"}},"●",{"$f":"IF(AND(TODAY()<Liste!P$1,VLOOKUP(F48,Liste!G$2:H262,2,0)=VLOOKUP(F48,Liste!G$2:Q262,11,0)),1,0)","v":{"$error":"#N/A"}},{"$f":"IF(AND(TODAY()<Liste!P$1,VLOOKUP(F48,Liste!G$2:I262,3,0)=VLOOKUP(F48,Liste!G$2:Q262,11,0)),1,0)","v":{"$error":"#N/A"}},{"$f":"Liste!#REF!","v":{"$error":"#REF!"}},null,null,null,null,null,null,{"$f":"Liste!#REF!","v":{"$error":"#REF!"}},null,null,null,null,null,null,{"$f":"Liste!#REF!","v":{"$error":"#REF!"}}]
[41,{"$f":"IF(VLOOKUP(F49,Liste!G$2:H263,2,0)=VLOOKUP(F49,Liste!G$2:P263,10,0),1,0)","v":{"$error":"#N/A"}},{"$f":"IF(VLOOKUP(F49,Liste!G$2:I263,3,0)=VLOOKUP(F49,Liste!G$2:P263,10,0),1,0)","v":{"$error":"#N/A"}},null,{"$f":"IF(VLOOKUP(F49,Liste!$G$2:O263,9,0)<1,1,0)","v":{"$error":"#N/A"}},{"$f":"IF($F$7=\"auffüllen\",VLOOKUP(A49,Liste!B44:G263,6,0),IF($F$7=\"Obst und Gemüse\",VLOOKUP(A49,Liste!D$2:G263,4,0),IF($F$7=\"Lidl\",VLOOKUP(A49,Liste!E$2:G263,3,0))))","v":{"$error":"#N/A"}},"●",{"$f":"IF(AND(TODAY()<Liste!P$1,VLOOKUP(F49,Liste!G$2:H263,2,0)=VLOOKUP(F49,Liste!G$2:Q263,11,0)),1,0)","v":{"$error":"#N/A"}},{"$f":"IF(AND(TODAY()<Liste!P$1,VLOOKUP(F49,Liste!G$2:I263,3,0)=VLOOKUP(F49,Liste!G$2:Q263,11,0)),1,0)","v":{"$error":"#N/A"}},{"$f":"Liste!$G20","v":"Artikel 19"},null,null,null,null,null,null,{"$f":"Liste!$G20","v":"Artikel 19"},null,null,null,null,null,null,{"$f":"Liste!$G20","v":"Artikel 19"}]
[42,{"$f":"IF(VLOOKUP(F50,Liste!G$2:H264,2,0)=VLOOKUP(F50,Liste!G$2:P264,10,0),1,0)","v":{"$error":"#N/A"}},{"$f":"IF(VLOOKUP(F50,Liste!G$2:I264,3,0)=VLOOKUP(F50,Liste!G$2:P264,10,0),1,0)","v":{"$error":"#N/A"}},null,{"$f":"IF(VLOOKUP(F50,Liste!$G$2:O264,9,0)<1,1,0)","v":{"$error":"#N/A"}},{"$f":"IF($F$7=\"auffüllen\",VLOOKUP(A50,Liste!B46:G264,6,0),IF($F$7=\"Obst und Gemüse\",VLOOKUP(A50,Liste!D$2:G264,4,0),IF($F$7=\"Lidl\",VLOOKUP(A50,Liste!E$2:G264,3,0))))","v":{"$error":"#N/A"}},"●",{"$f":"IF(AND(TODAY()<Liste!P$1,VLOOKUP(F50,Liste!G$2:H264,2,0)=VLOOKUP(F50,Liste!G$2:Q264,11,0)),1,0)","v":{"$error":"#N/A"}},{"$f":"IF(AND(TODAY()<Liste!P$1,VLOOKUP(F50,Liste!G$2:I264,3,0)=VLOOKUP(F50,Liste!G$2:Q264,11,0)),1,0)","v":{"$error":"#N/A"}},{"$f":"Liste!$G21","v":"Artikel 20"},null,null,null,null,null,null,{"$f":"Liste!$G21","v":"Artikel 20"},null,null,null,null,null,null,{"$f":"Liste!$G21","v":"Artikel 20"}]
[43,{"$f":"IF(VLOOKUP(F51,Liste!G$2:H265,2,0)=VLOOKUP(F51,Liste!G$2:P265,10,0),1,0)","v":{"$error":"#N/A"}},{"$f":"IF(VLOOKUP(F51,Liste!G$2:I265,3,0)=VLOOKUP(F51,Liste!G$2:P265,10,0),1,0)","v":{"$error":"#N/A"}},null,{"$f":"IF(VLOOKUP(F51,Liste!$G$2:O265,9,0)<1,1,0)","v":{"$error":"#N/A"}},{"$f":"IF($F$7=\"auffüllen\",VLOOKUP(A51,Liste!B47:G265,6,0),IF($F$7=\"Obst und Gemüse\",VLOOKUP(A51,Liste!D$2:G265,4,0),IF($F$7=\"Lidl\",VLOOKUP(A51,Liste!E$2:G265,3,0))))","v":{"$error":"#N/A"}},"●",{"$f":"IF(AND(TODAY()<Liste!P$1,VLOOKUP(F51,Liste!G$2:H265,2,0)=VLOOKUP(F51,Liste!G$2:Q265,11,0)),1,0)","v":{"$error":"#N/A"}},{"$f":"IF(AND(TODAY()<Liste!P$1,VLOOKUP(F51,Liste!G$2:I265,3,0)=VLOOKUP(F51,Liste!G$2:Q265,11,0)),1,0)","v":{"$error":"#N/A"}},{"$f":"Liste!$G22","v":"Artikel 21"},null,null,null,null,null,null,{"$f":"Liste!$G22","v":"Artikel 21"},null,null,null,null,null,null,{"$f":"Liste!$G22","v":"Artikel 21"}]
[44,{"$f":"IF(VLOOKUP(F52,Liste!G$2:H266,2,0)=VLOOKUP(F52,Liste!G$2:P266,10,0),1,0)","v":{"$error":"#N/A"}},{"$f":"IF(VLOOKUP(F52,Liste!G$2:I266,3,0)=VLOOKUP(F52,Liste!G$2:P266,10,0),1,0)","v":{"$error":"#N/A"}},null,{"$f":"IF(VLOOKUP(F52,Liste!$G$2:O266,9,0)<1,1,0)","v":{"$error":"#N/A"}},{"$f":"IF($F$7=\"auffüllen\",VLOOKUP(A52,Liste!B48:G266,6,0),IF($F$7=\"Obst und Gemüse\",VLOOKUP(A52,Liste!D$2:G266,4,0),IF($F$7=\"Lidl\",VLOOKUP(A52,Liste!E$2:G266,3,0))))","v":{"$error":"#N/A"}},"●",{"$f":"IF(AND(TODAY()<Liste!P$1,VLOOKUP(F52,Liste!G$2:H266,2,0)=VLOOKUP(F52,Liste!G$2:Q266,11,0)),1,0)","v":{"$error":"#N/A"}},{"$f":"IF(AND(TODAY()<Liste!P$1,VLOOKUP(F52,Liste!G$2:I266,3,0)=VLOOKUP(F52,Liste!G$2:Q266,11,0)),1,0)","v":{"$error":"#N/A"}},{"$f":"Liste!$G23","v":"Artikel 22"},null,null,null,null,null,null,{"$f":"Liste!$G23","v":"Artikel 22"},null,null,null,null,null,null,{"$f":"Liste!$G23","v":"Artikel 22"}]
[45,{"$f":"IF(VLOOKUP(F53,Liste!G$2:H267,2,0)=VLOOKUP(F53,Liste!G$2:P267,10,0),1,0)","v":{"$error":"#N/A"}},{"$f":"IF(VLOOKUP(F53,Liste!G$2:I267,3,0)=VLOOKUP(F53,Liste!G$2:P267,10,0),1,0)","v":{"$error":"#N/A"}},null,{"$f":"IF(VLOOKUP(F53,Liste!$G$2:O267,9,0)<1,1,0)","v":{"$error":"#N/A"}},{"$f":"IF($F$7=\"auffüllen\",VLOOKUP(A53,Liste!B49:G267,6,0),IF($F$7=\"Obst und Gemüse\",VLOOKUP(A53,Liste!D$2:G267,4,0),IF($F$7=\"Lidl\",VLOOKUP(A53,Liste!E$2:G267,3,0))))","v":{"$error":"#N/A"}},"●",{"$f":"IF(AND(TODAY()<Liste!P$1,VLOOKUP(F53,Liste!G$2:H267,2,0)=VLOOKUP(F53,Liste!G$2:Q267,11,0)),1,0)","v":{"$error":"#N/A"}},{"$f":"IF(AND(TODAY()<Liste!P$1,VLOOKUP(F53,Liste!G$2:I267,3,0)=VLOOKUP(F53,Liste!G$2:Q267,11,0)),1,0)","v":{"$error":"#N/A"}},{"$f":"Liste!$G24","v":"Artikel 23"},null,null,null,null,null,null,{"$f":"Liste!$G24","v":"Artikel 23"},null,null,null,null,null,null,{"$f":"Liste!$G24","v":"Artikel 23"}]
[46,{"$f":"IF(VLOOKUP(F54,Liste!G$2:H268,2,0)=VLOOKUP(F54,Liste!G$2:P268,10,0),1,0)","v":{"$error":"#N/A"}},{"$f":"IF(VLOOKUP(F54,Liste!G$2:I268,3,0)=VLOOKUP(F54,Liste!G$2:P268,10,0),1,0)","v":{"$error":"#N/A"}},null,{"$f":"IF(VLOOKUP(F54,Liste!$G$2:O268,9,0)<1,1,0)","v":{"$error":"#N/A"}},{"$f":"IF($F$7=\"auffüllen\",VLOOKUP(A54,Liste!B50:G268,6,0),IF($F$7=\"Obst und Gemüse\",VLOOKUP(A54,Liste!D$2:G268,4,0),IF($F$7=\"Lidl\",VLOOKUP(A54,Liste!E$2:G268,3,0))))","v":{"$error":"#N/A"}},"●",{"$f":"IF(AND(TODAY()<Liste!P$1,VLOOKUP(F54,Liste!G$2:H268,2,0)=VLOOKUP(F54,Liste!G$2:Q268,11,0)),1,0)","v":{"$error":"#N/A"}},{"$f":"IF(AND(TODAY()<Liste!P$1,VLOOKUP(F54,Liste!G$2:I268,3,0)=VLOOKUP(F54,Liste!G$2:Q268,11,0)),1,0)","v":{"$error":"#N/A"}},{"$f":"Liste!$G25","v":"Artikel 24"},null,null,null,null,null,null,{"$f":"Liste!$G25","v":"Artikel 24"},null,null,null,null,null,null,{"$f":"Liste!$G25","v":"Artikel 24"}]
[47,{"$f":"IF(VLOOKUP(F55,Liste!G$2:H269,2,0)=VLOOKUP(F55,Liste!G$2:P269,10,0),1,0)","v":{"$error":"#N/A"}},{"$f":"IF(VLOOKUP(F55,Liste!G$2:I269,3,0)=VLOOKUP(F55,Liste!G$2:P269,10,0),1,0)","v":{"$error":"#N/A"}},null,{"$f":"IF(VLOOKUP(F55,Liste!$G$2:O269,9,0)<1,1,0)","v":{"$error":"#N/A"}},{"$f":"IF($F$7=\"auffüllen\",VLOOKUP(A55,Liste!B51:G269,6,0),IF($F$7=\"Obst und Gemüse\",VLOOKUP(A55,Liste!D$2:G269,4,0),IF($F$7=\"Lidl\",VLOOKUP(A55,Liste!E$2:G269,3,0))))","v":{"$error":"#N/A"}},"●",{"$f":"IF(AND(TODAY()<Liste!P$1,VLOOKUP(F55,Liste!G$2:H269,2,0)=VLOOKUP(F55,Liste!G$2:Q269,11,0)),1,0)","v":{"$error":"#N/A"}},{"$f":"IF(AND(TODAY()<Liste!P$1,VLOOKUP(F55,Liste!G$2:I269,3,0)=VLOOKUP(F55,Liste!G$2:Q269,11,0)),1,0)","v":{"$error":"#N/A"}},{"$f":"Liste!$G26","v":"Artikel 25"},null,null,null,null,null,null,{"$f":"Liste!$G26","v":"Artikel 25"},null,null,null,null,null,null,{"$f":"Liste!$G26","v":"Artikel 25"}]
[48,{"$f":"IF(VLOOKUP(F56,Liste!G$2:H270,2,0)=VLOOKUP(F56,Liste!G$2:P270,10,0),1,0)","v":{"$error":"#N/A"}},{"$f":"IF(VLOOKUP(F56,Liste!G$2:I270,3,0)=VLOOKUP(F56,Liste!G$2:P270,10,0),1,0)","v":{"$error":"#N/A"}},null,{"$f":"IF(VLOOKUP(F56,Liste!$G$2:O270,9,0)<1,1,0)","v":{"$error":"#N/A"}},{"$f":"IF($F$7=\"auffüllen\",VLOOKUP(A56,Liste!B52:G270,6,0),IF($F$7=\"Obst und Gemüse\",VLOOKUP(A56,Liste!D$2:G270,4,0),IF($F$7=\"Lidl\",VLOOKUP(A56,Liste!E$2:G270,3,0))))","v":{"$error":"#N/A"}},"●",{"$f":"IF(AND(TODAY()<Liste!P$1,VLOOKUP(F56,Liste!G$2:H270,2,0)=VLOOKUP(F56,Liste!G$2:Q270,11,0)),1,0)","v":{"$error":"#N/A"}},{"$f":"IF(AND(TODAY()<Liste!P$1,VLOOKUP(F56,Liste!G$2:I270,3,0)=VLOOKUP(F56,Liste!G$2:Q270,11,0)),1,0)","v":{"$error":"#N/A"}},{"$f":"Liste!$G27","v":"Artikel 26"},null,null,null,null,null,null,{"$f":"Liste!$G27","v":"Artikel 26"},null,null,null,null,null,null,{"$f":"Liste!$G27","v":"Artikel 26"}]
[49,{"$f":"IF(VLOOKUP(F57,Liste!G$2:H271,2,0)=VLOOKUP(F57,Liste!G$2:P271,10,0),1,0)","v":{"$error":"#N/A"}},{"$f":"IF(VLOOKUP(F57,Liste!G$2:I271,3,0)=VLOOKUP(F57,Liste!G$2:P271,10,0),1,0)","v":{"$error":"#N/A"}},null,{"$f":"IF(VLOOKUP(F57,Liste!$G$2:O271,9,0)<1,1,0)","v":{"$error":"#N/A"}},{"$f":"IF($F$7=\"auffüllen\",VLOOKUP(A57,Liste!B53:G271,6,0),IF($F$7=\"Obst und Gemüse\",VLOOKUP(A57,Liste!D$2:G271,4,0),IF($F$7=\"Lidl\",VLOOKUP(A57,Liste!E$2:G271,3,0))))","v":{"$error":"#N/A"}},"●",{"$f":"IF(AND(TODAY()<Liste!P$1,VLOOKUP(F57,Liste!G$2:H271,2,0)=VLOOKUP(F57,Liste!G$2:Q271,11,0)),1,0)","v":{"$error":"#N/A"}},{"$f":"IF(AND(TODAY()<Liste!P$1,VLOOKUP(F57,Liste!G$2:I271,3,0)=VLOOKUP(F57,Liste!G$2:Q271,11,0)),1,0)","v":{"$error":"#N/A"}},{"$f":"Liste!$G28","v":"Artikel 27"},null,null,null,null,null,null,{"$f":"Liste!$G28","v":"Artikel 27"},null,null,null,null,null,null,{"$f":"Liste!$G28","v":"Artikel 27"}]
[50,{"$f":"IF(VLOOKUP(F58,Liste!G$2:H272,2,0)=VLOOKUP(F58,Liste!G$2:P272,10,0),1,0)","v":{"$error":"#N/A"}},{"$f":"IF(VLOOKUP(F58,Liste!G$2:I272,3,0)=VLOOKUP(F58,Liste!G$2:P272,10,0),1,0)","v":{"$error":"#N/A"}},null,{"$f":"IF(VLOOKUP(F58,Liste!$G$2:O272,9,0)<1,1,0)","v":{"$error":"#N/A"}},{"$f":"IF($F$7=\"auffüllen\",VLOOKUP(A58,Liste!B54:G272,6,0),IF($F$7=\"Obst und Gemüse\",VLOOKUP(A58,Liste!D$2:G272,4,0),IF($F$7=\"Lidl\",VLOOKUP(A58,Liste!E$2:G272,3,0))))","v":{"$error":"#N/A"}},"●",{"$f":"IF(AND(TODAY()<Liste!P$1,VLOOKUP(F58,Liste!G$2:H272,2,0)=VLOOKUP(F58,Liste!G$2:Q272,11,0)),1,0)","v":{"$error":"#N/A"}},{"$f":"IF(AND(TODAY()<Liste!P$1,VLOOKUP(F58,Liste!G$2:I272,3,0)=VLOOKUP(F58,Liste!G$2:Q272,11,0)),1,0)","v":{"$error":"#N/A"}},{"$f":"Liste!$G29","v":"Artikel 28"},null,null,null,null,null,null,{"$f":"Liste!$G29","v":"Artikel 28"},null,null,null,null,null,null,{"$f":"Liste!$G29","v":"Artikel 28"}]
[51,{"$f":"IF(VLOOKUP(F59,Liste!G$2:H273,2,0)=VLOOKUP(F59,Liste!G$2:P273,10,0),1,0)","v":{"$error":"#N/A"}},{"$f":"IF(VLOOKUP(F59,Liste!G$2:I273,3,0)=VLOOKUP(F59,Liste!G$2:P273,10,0),1,0)","v":{"$error":"#N/A"}},null,{"$f":"IF(VLOOKUP(F59,Liste!$G$2:O273,9,0)<1,1,0)","v":{"$error":"#N/A"}},null,null,{"$f":"IF(AND(TODAY()<Liste!P$1,VLOOKUP(F59,Liste!G$2:H273,2,0)=VLOOKUP(F59,Liste!G$2:Q273,11,0)),1,0)","v":{"$error":"#N/A"}},{"$f":"IF(AND(TODAY()<Liste!P$1,VLOOKUP(F59,Liste!G$2:I273,3,0)=VLOOKUP(F59,Liste!G$2:Q273,11,0)),1,0)","v":{"$error":"#N/A"}},{"$f":"Liste!$G30","v":"Artikel 29"},null,null,null,null,null,null,{"$f":"Liste!$G30","v":"Artikel 29"},null,null,null,null,null,null,{"$f":"Liste!$G30","v":"Artikel 29"}]
[null,null,null,null,null,null,null,null,null,{"$f":"Liste!$G31","v":"Artikel 30"},null,null,null,null,null,null,{"$f":"Liste!$G31","v":"Artikel 30"},null,null,null,null,null,null,{"$f":"Liste!$G31","v":"Artikel 30"}]
[null,null,null,null,null,null,null,null,null,{"$f":"Liste!$G32","v":"Artikel 31"},null,null,null,null,null,null,{"$f":"Liste!$G32","v":"Artikel 31"},null,null,null,null,null,null,{"$f":"Liste!$G32","v":"Artikel 31"}]
[null,null,null,null,null,null,null,null,null,{"$f":"Liste!$G33","v":"Artikel 32"},null,null,null,null,null,null,{"$f":"Liste!$G33","v":"Artikel 32"},null,null,null,null,null,null,{"$f":"Liste!$G33","v":"Artikel 32"}]
[null,null,null,null,null,null,null,null,null,{"$f":"Liste!$G34","v":"Artikel 33"},null,null,null,null,null,null,{"$f":"Liste!$G34","v":"Artikel 33"},null,null,null,null,null,null,{"$f":"Liste!$G34","v":"Artikel 33"}]
[null,null,null,null,null,null,null,null,null,{"$f":"Liste!$G35","v":"Artikel 34"},null,null,null,null,null,null,{"$f":"Liste!$G35","v":"Artikel 34"},null,null,null,null,null,null,{"$f":"Liste!$G35","v":"Artikel 34"}]
[null,null,null,null,null,null,null,null,null,{"$f":"Liste!$G36","v":"Artikel 35"},null,null,null,null,null,null,{"$f":"Liste!$G36","v":"Artikel 35"},null,null,null,null,null,null,{"$f":"Liste!$G36","v":"Artikel 35"}]
[null,null,null,null,null,null,null,null,null,{"$f":"Liste!$G37","v":"Artikel 36"},null,null,null,null,null,null,{"$f":"Liste!$G37","v":"Artikel 36"},null,null,null,null,null,null,{"$f":"Liste!$G37","v":"Artikel 36"}]
[null,null,null,null,null,null,null,null,null,{"$f":"Liste!$G38","v":"Artikel 37"},null,null,null,null,null,null,{"$f":"Liste!$G38","v":"Artikel 37"},null,null,null,null,null,null,{"$f":"Liste!$G38","v":"Artikel 37"}]
[null,null,null,null,null,null,null,null,null,{"$f":"Liste!$G39","v":"Artikel 38"},null,null,null,null,null,null,{"$f":"Liste!$G39","v":"Artikel 38"},null,null,null,null,null,null,{"$f":"Liste!$G39","v":"Artikel 38"}]
[null,null,null,null,null,null,null,null,null,{"$f":"Liste!$G40","v":"Artikel 39"},null,null,null,null,null,null,{"$f":"Liste!$G40","v":"Artikel 39"},null,null,null,null,null,null,{"$f":"Liste!$G40","v":"Artikel 39"}]
[null,null,null,null,null,null,null,null,null,{"$f":"Liste!$G41","v":"Artikel 40"},null,null,null,null,null,null,{"$f":"Liste!$G41","v":"Artikel 40"},null,null,null,null,null,null,{"$f":"Liste!$G41","v":"Artikel 40"}]
[null,null,null,null,null,null,null,null,null,{"$f":"Liste!$G42","v":"Artikel 41"},null,null,null,null,null,null,{"$f":"Liste!$G42","v":"Artikel 41"},null,null,null,null,null,null,{"$f":"Liste!$G42","v":"Artikel 41"}]
[null,null,null,null,null,null,null,null,null,{"$f":"Liste!$G43","v":"Artikel 42"},null,null,null,null,null,null,{"$f":"Liste!$G43","v":"Artikel 42"},null,null,null,null,null,null,{"$f":"Liste!$G43","v":"Artikel 42"}]
[null,null,null,null,null,null,null,null,null,{"$f":"Liste!$G44","v":"Artikel 43"},null,null,null,null,null,null,{"$f":"Liste!$G44","v":"Artikel 43"},null,null,null,null,null,null,{"$f":"Liste!$G44","v":"Artikel 43"}]
[null,null,null,null,null,null,null,null,null,{"$f":"Liste!$G45","v":"Artikel 44"},null,null,null,null,null,null,{"$f":"Liste!$G45","v":"Artikel 44"},null,null,null,null,null,null,{"$f":"Liste!$G45","v":"Artikel 44"}]
[null,null,null,null,null,null,null,null,null,{"$f":"Liste!$G46","v":"Artikel 45"},null,null,null,null,null,null,{"$f":"Liste!$G46","v":"Artikel 45"},null,null,null,null,null,null,{"$f":"Liste!$G46","v":"Artikel 45"}]
[null,null,null,null,null,null,null,null,null,{"$f":"Liste!$G47","v":"Artikel 46"},null,null,null,null,null,null,{"$f":"Liste!$G47","v":"Artikel 46"},null,null,null,null,null,null,{"$f":"Liste!$G47","v":"Artikel 46"}]
[null,null,null,null,null,null,null,null,null,{"$f":"Liste!$G48","v":"Artikel 47"},null,null,null,null,null,null,{"$f":"Liste!$G48","v":"Artikel 47"},null,null,null,null,null,null,{"$f":"Liste!$G48","v":"Artikel 47"}]
[null,null,null,null,null,null,null,null,null,{"$f":"Liste!$G49","v":"Artikel 48"},null,null,null,null,null,null,{"$f":"Liste!$G49","v":"Artikel 48"},null,null,null,null,null,null,{"$f":"Liste!$G49","v":"Artikel 48"}]
[null,null,null,null,null,null,null,null,null,{"$f":"Liste!$G50","v":"Artikel 49"},null,null,null,null,null,null,{"$f":"Liste!$G50","v":"Artikel 49"},null,null,null,null,null,null,{"$f":"Liste!$G50","v":"Artikel 49"}]
[null,null,null,null,null,null,null,null,null,{"$f":"Liste!$G51","v":"Artikel 50"},null,null,null,null,null,null,{"$f":"Liste!$G51","v":"Artikel 50"},null,null,null,null,null,null,{"$f":"Liste!$G51","v":"Artikel 50"}]
[null,null,null,null,null,null,null,null,null,{"$f":"Liste!$G52","v":"Artikel 51"},null,null,null,null,null,null,{"$f":"Liste!$G52","v":"Artikel 51"},null,null,null,null,null,null,{"$f":"Liste!$G52","v":"Artikel 51"}]
[null,null,null,null,null,null,null,null,null,{"$f":"Liste!$G53","v":"Artikel 52"},null,null,null,null,null,null,{"$f":"Liste!$G53","v":"Artikel 52"},null,null,null,null,null,null,{"$f":"Liste!$G53","v":"Artikel 52"}]
[null,null,null,null,null,null,null,null,null,{"$f":"Liste!$G54","v":"Artikel 53"},null,null,null,null,null,null,{"$f":"Liste!$G54","v":"Artikel 53"},null,null,null,null,null,null,{"$f":"Liste!$G54","v":"Artikel 53"}]
[null,null,null,null,null,null,null,null,null,{"$f":"Liste!$G55","v":"Artikel 54"},null,null,null,null,null,null,{"$f":"Liste!$G55","v":"Artikel 54"},null,null,null,null,null,null,{"$f":"Liste!$G55","v":"Artikel 54"}]
[null,null,null,null,null,null,null,null,null,{"$f":"Liste!$G56","v":"Artikel 55"},null,null,null,null,null,null,{"$f":"Liste!$G56","v":"Artikel 55"},null,null,null,null,null,null,{"$f":"Liste!$G56","v":"Artikel 55"}]
[null,null,null,null,null,null,null,null,null,{"$f":"Liste!$G57","v":"Artikel 56"},null,null,null,null,null,null,{"$f":"Liste!$G57","v":"Artikel 56"},null,null,null,null,null,null,{"$f":"Liste!$G57","v":"Artikel 56"}]
[null,null,null,null,null,null,null,null,null,{"$f":"Liste!$G58","v":"Artikel 57"},null,null,null,null,null,null,{"$f":"Liste!$G58","v":"Artikel 57"},null,null,null,null,null,null,{"$f":"Liste!$G58","v":"Artikel 57"}]
[null,null,null,null,null,null,null,null,null,{"$f":"Liste!$G59","v":"Artikel 58"},null,null,null,null,null,null,{"$f":"Liste!$G59","v":"Artikel 58"},null,null,null,null,null,null,{"$f":"Liste!$G59","v":"Artikel 58"}]
[null,null,null,null,null,null,null,null,null,{"$f":"Liste!$G60","v":"Artikel 59"},null,null,null,null,null,null,{"$f":"Liste!$G60","v":"Artikel 59"},null,null,null,null,null,null,{"$f":"Liste!$G60","v":"Artikel 59"}]
[null,null,null,null,null,null,null,null,null,{"$f":"Liste!$G61","v":"Artikel 60"},null,null,null,null,null,null,{"$f":"Liste!$G61","v":"Artikel 60"},null,null,null,null,null,null,{"$f":"Liste!$G61","v":"Artikel 60"}]
[null,null,null,null,null,null,null,null,null,{"$f":"Liste!$G62","v":"Artikel 61"},null,null,null,null,null,null,{"$f":"Liste!$G62","v":"Artikel 61"},null,null,null,null,null,null,{"$f":"Liste!$G62","v":"Artikel 61"}]
[null,null,null,null,null,null,null,null,null,{"$f":"Liste!$G63","v":"Artikel 62"},null,null,null,null,null,null,{"$f":"Liste!$G63","v":"Artikel 62"},null,null,null,null,null,null,{"$f":"Liste!$G63","v":"Artikel 62"}]
[null,null,null,null,null,null,null,null,null,{"$f":"Liste!$G64","v":"Artikel 63"},null,null,null,null,null,null,{"$f":"Liste!$G64","v":"Artikel 63"},null,null,null,null,null,null,{"$f":"Liste!$G64","v":"Artikel 63"}]
[null,null,null,null,null,null,null,null,null,{"$f":"Liste!$G65","v":"Artikel 64"},null,null,null,null,null,null,{"$f":"Liste!$G65","v":"Artikel 64"},null,null,null,null,null,null,{"$f":"Liste!$G65","v":"Artikel 64"}]
[null,null,null,null,null,null,null,null,null,{"$f":"Liste!$G66","v":"Artikel 65"},null,null,null,null,null,null,{"$f":"Liste!$G66","v":"Artikel 65"},null,null,null,null,null,null,{"$f":"Liste!$G66","v":"Artikel 65"}]
[null,null,null,null,null,null,null,null,null,{"$f":"Liste!$G67","v":"Artikel 66"},null,null,null,null,null,null,{"$f":"Liste!$G67","v":"Artikel 66"},null,null,null,null,null,null,{"$f":"Liste!$G67","v":"Artikel 66"}]
[null,null,null,null,null,null,null,null,null,{"$f":"Liste!$G68","v":"Artikel 67"},null,null,null,null,null,null,{"$f":"Liste!$G68","v":"Artikel 67"},null,null,null,null,null,null,{"$f":"Liste!$G68","v":"Artikel 67"}]
[null,null,null,null,null,null,null,null,null,{"$f":"Liste!$G69","v":"Artikel 68"},null,null,null,null,null,null,{"$f":"Liste!$G69","v":"Artikel 68"},null,null,null,null,null,null,{"$f":"Liste!$G69","v":"Artikel 68"}]
[null,null,null,null,null,null,null,null,null,{"$f":"Liste!$G70","v":"Artikel 69"},null,null,null,null,null,null,{"$f":"Liste!$G70","v":"Artikel 69"},null,null,null,null,null,null,{"$f":"Liste!$G70","v":"Artikel 69"}]
[null,null,null,null,null,null,null,null,null,{"$f":"Liste!$G71","v":"Artikel 70"},null,null,null,null,null,null,{"$f":"Liste!$G71","v":"Artikel 70"},null,null,null,null,null,null,{"$f":"Liste!$G71","v":"Artikel 70"}]
[null,null,null,null,null,null,null,null,null,{"$f":"Liste!$G72","v":"Artikel 71"},null,null,null,null,null,null,{"$f":"Liste!$G72","v":"Artikel 71"},null,null,null,null,null,null,{"$f":"Liste!$G72","v":"Artikel 71"}]
[null,null,null,null,null,null,null,null,null,{"$f":"Liste!$G73","v":"Artikel 72"},null,null,null,null,null,null,{"$f":"Liste!$G73","v":"Artikel 72"},null,null,null,null,null,null,{"$f":"Liste!$G73","v":"Artikel 72"}]
[null,null,null,null,null,null,null,null,null,{"$f":"Liste!$G74","v":"Artikel 73"},null,null,null,null,null,null,{"$f":"Liste!$G74","v":"Artikel 73"},null,null,null,null,null,null,{"$f":"Liste!$G74","v":"Artikel 73"}]
[null,null,null,null,null,null,null,null,null,{"$f":"Liste!$G75","v":"Artikel 74"},null,null,null,null,null,null,{"$f":"Liste!$G75","v":"Artikel 74"},null,null,null,null,null,null,{"$f":"Liste!$G75","v":"Artikel 74"}]
[null,null,null,null,null,null,null,null,null,{"$f":"Liste!$G76","v":"Artikel 75"},null,null,null,null,null,null,{"$f":"Liste!$G76","v":"Artikel 75"},null,null,null,null,null,null,{"$f":"Liste!$G76","v":"Artikel 75"}]
[null,null,null,null,null,null,null,null,null,{"$f":"Liste!$G77","v":"Artikel 76"},null,null,null,null,null,null,{"$f":"Liste!$G77","v":"Artikel 76"},null,null,null,null,null,null,{"$f":"Liste!$G77","v":"Artikel 76"}]
[null,null,null,null,null,null,null,null,null,{"$f":"Liste!$G78","v":"Artikel 77"},null,null,null,null,null,null,{"$f":"Liste!$G78","v":"Artikel 77"},null,null,null,null,null,null,{"$f":"Liste!$G78","v":"Artikel 77"}]
[null,null,null,null,null,null,null,null,null,{"$f":"Liste!$G79","v":"Artikel 78"},null,null,null,null,null,null,{"$f":"Liste!$G79","v":"Artikel 78"},null,null,null,null,null,null,{"$f":"Liste!$G79","v":"Artikel 78"}]
[null,null,null,null,null,null,null,null,null,{"$f":"Liste!$G80","v":"Artikel 79"},null,null,null,null,null,null,{"$f":"Liste!$G80","v":"Artikel 79"},null,null,null,null,null,null,{"$f":"Liste!$G80","v":"Artikel 79"}]
[null,null,null,null,null,null,null,null,null,{"$f":"Liste!$G81","v":"Artikel 80"},null,null,null,null,null,null,{"$f":"Liste!$G81","v":"Artikel 80"},null,null,null,null,null,null,{"$f":"Liste!$G81","v":"Artikel 80"}]
[null,null,null,null,null,null,null,null,null,{"$f":"Liste!$G82","v":"Artikel 81"},null,null,null,null,null,null,{"$f":"Liste!$G82","v":"Artikel 81"},null,null,null,null,null,null,{"$f":"Liste!$G82","v":"Artikel 81"}]
[null,null,null,null,null,null,null,null,null,{"$f":"Liste!$G83","v":"Artikel 82"},null,null,null,null,null,null,{"$f":"Liste!$G83","v":"Artikel 82"},null,null,null,null,null,null,{"$f":"Liste!$G83","v":"Artikel 82"}]
[null,null,null,null,null,null,null,null,null,{"$f":"Liste!$G84","v":"Artikel 83"},null,null,null,null,null,null,{"$f":"Liste!$G84","v":"Artikel 83"},null,null,null,null,null,null,{"$f":"Liste!$G84","v":"Artikel 83"}]
[null,null,null,null,null,null,null,null,null,{"$f":"Liste!$G85","v":"Artikel 84"},null,null,null,null,null,null,{"$f":"Liste!$G85","v":"Artikel 84"},null,null,null,null,null,null,{"$f":"Liste!$G85","v":"Artikel 84"}]
[null,null,null,null,null,null,null,null,null,{"$f":"Liste!$G86","v":"Artikel 85"},null,null,null,null,null,null,{"$f":"Liste!$G86","v":"Artikel 85"},null,null,null,null,null,null,{"$f":"Liste!$G86","v":"Artikel 85"}]
[null,null,null,null,null,null,null,null,null,{"$f":"Liste!$G87","v":"Artikel 86"},null,null,null,null,null,null,{"$f":"Liste!$G87","v":"Artikel 86"},null,null,null,null,null,null,{"$f":"Liste!$G87","v":"Artikel 86"}]
[null,null,null,null,null,null,null,null,null,{"$f":"Liste!$G88","v":"Artikel 87"},null,null,null,null,null,null,{"$f":"Liste!$G88","v":"Artikel 87"},null,null,null,null,null,null,{"$f":"Liste!$G88","v":"Artikel 87"}]
[null,null,null,null,null,null,null,null,null,{"$f":"Liste!$G89","v":"Artikel 88"},null,null,null,null,null,null,{"$f":"Liste!$G89","v":"Artikel 88"},null,null,null,null,null,null,{"$f":"Liste!$G89","v":"Artikel 88"}]
[null,null,null,null,null,null,null,null,null,{"$f":"Liste!$G90","v":"Artikel 89"},null,null,null,null,null,null,{"$f":"Liste!$G90","v":"Artikel 89"},null,null,null,null,null,null,{"$f":"Liste!$G90","v":"Artikel 89"}]
[null,null,null,null,null,null,null,null,null,{"$f":"Liste!$G91","v":"Artikel 90"},null,null,null,null,null,null,{"$f":"Liste!$G91","v":"Artikel 90"},null,null,null,null,null,null,{"$f":"Liste!$G91","v":"Artikel 90"}]
[null,null,null,null,null,null,null,null,null,{"$f":"Liste!$G92","v":"Artikel 91"},null,null,null,null,null,null,{"$f":"Liste!$G92","v":"Artikel 91"},null,null,null,null,null,null,{"$f":"Liste!$G92","v":"Artikel 91"}]
[null,null,null,null,null,null,null,null,null,{"$f":"Liste!$G93","v":"Artikel 92"},null,null,null,null,null,null,{"$f":"Liste!$G93","v":"Artikel 92"},null,null,null,null,null,null,{"$f":"Liste!$G93","v":"Artikel 92"}]
[null,null,null,null,null,null,null,null,null,{"$f":"Liste!$G94","v":"Artikel 93"},null,null,null,null,null,null,{"$f":"Liste!$G94","v":"Artikel 93"},null,null,null,null,null,null,{"$f":"Liste!$G94","v":"Artikel 93"}]
[null,null,null,null,null,null,null,null,null,{"$f":"Liste!$G95","v":"Artikel 94"},null,null,null,null,null,null,{"$f":"Liste!$G95","v":"Artikel 94"},null,null,null,null,null,null,{"$f":"Liste!$G95","v":"Artikel 94"}]
[null,null,null,null,null,null,null,null,null,{"$f":"Liste!$G96","v":"Artikel 95"},null,null,null,null,null,null,{"$f":"Liste!$G96","v":"Artikel 95"},null,null,null,null,null,null,{"$f":"Liste!$G96","v":"Artikel 95"}]
[null,null,null,null,null,null,null,null,null,{"$f":"Liste!$G97","v":"Artikel 96"},null,null,null,null,null,null,{"$f":"Liste!$G97","v":"Artikel 96"},null,null,null,null,null,null,{"$f":"Liste!$G97","v":"Artikel 96"}]
[null,null,null,null,null,null,null,null,null,{"$f":"Liste!$G98","v":"Artikel 97"},null,null,null,null,null,null,{"$f":"Liste!$G98","v":"Artikel 97"},null,null,null,null,null,null,{"$f":"Liste!$G98","v":"Artikel 97"}]
[null,null,null,null,null,null,null,null,null,{"$f":"Liste!$G99","v":"Artikel 98"},null,null,null,null,null,null,{"$f":"Liste!$G99","v":"Artikel 98"},null,null,null,null,null,null,{"$f":"Liste!$G99","v":"Artikel 98"}]
[null,null,null,null,null,null,null,null,null,{"$f":"Liste!$G100","v":"Artikel 99"},null,null,null,null,null,null,{"$f":"Liste!$G100","v":"Artikel 99"},null,null,null,null,null,null,{"$f":"Liste!$G100","v":"Artikel 99"}]
[null,null,null,null,null,null,null,null,null,{"$f":"Liste!$G101","v":"Artikel 100"},null,null,null,null,null,null,{"$f":"Liste!$G101","v":"Artikel 100"},null,null,null,null,null,null,{"$f":"Liste!$G101","v":"Artikel 100"}]
[null,null,null,null,null,null,null,null,null,{"$f":"Liste!$G102","v":"Artikel 101"},null,null,null,null,null,null,{"$f":"Liste!$G102","v":"Artikel 101"},null,null,null,null,null,null,{"$f":"Liste!$G102","v":"Artikel 101"}]
[null,null,null,null,null,null,null,null,null,{"$f":"Liste!$G103","v":"Artikel 102"},null,null,null,null,null,null,{"$f":"Liste!$G103","v":"Artikel 102"},null,null,null,null,null,null,{"$f":"Liste!$G103","v":"Artikel 102"}]
[null,null,null,null,null,null,null,null,null,{"$f":"Liste!$G104","v":"Artikel 103"},null,null,null,null,null,null,{"$f":"Liste!$G104","v":"Artikel 103"},null,null,null,null,null,null,{"$f":"Liste!$G104","v":"Artikel 103"}]
[null,null,null,null,null,null,null,null,null,{"$f":"Liste!$G105","v":"Artikel 104"},null,null,null,null,null,null,{"$f":"Liste!$G105","v":"Artikel 104"},null,null,null,null,null,null,{"$f":"Liste!$G105","v":"Artikel 104"}]
[null,null,null,null,null,null,null,null,null,{"$f":"Liste!$G106","v":"Artikel 105"},null,null,null,null,null,null,{"$f":"Liste!$G106","v":"Artikel 105"},null,null,null,null,null,null,{"$f":"Liste!$G106","v":"Artikel 105"}]
[null,null,null,null,null,null,null,null,null,{"$f":"Liste!$G107","v":"Artikel 106"},null,null,null,null,null,null,{"$f":"Liste!$G107","v":"Artikel 106"},null,null,null,null,null,null,{"$f":"Liste!$G107","v":"Artikel 106"}]
[null,null,null,null,null,null,null,null,null,{"$f":"Liste!$G108","v":"Artikel 107"},null,null,null,null,null,null,{"$f":"Liste!$G108","v":"Artikel 107"},null,null,null,null,null,null,{"$f":"Liste!$G108","v":"Artikel 107"}]
[null,null,null,null,null,null,null,null,null,{"$f":"Liste!$G109","v":"Artikel 108"},null,null,null,null,null,null,{"$f":"Liste!$G109","v":"Artikel 108"},null,null,null,null,null,null,{"$f":"Liste!$G109","v":"Artikel 108"}]
[null,null,null,null,null,null,null,null,null,{"$f":"Liste!$G110","v":"Artikel 109"},null,null,null,null,null,null,{"$f":"Liste!$G110","v":"Artikel 109"},null,null,null,null,null,null,{"$f":"Liste!$G110","v":"Artikel 109"}]
[null,null,null,null,null,null,null,null,null,{"$f":"Liste!$G111","v":"Artikel 110"},null,null,null,null,null,null,{"$f":"Liste!$G111","v":"Artikel 110"},null,null,null,null,null,null,{"$f":"Liste!$G111","v":"Artikel 110"}]
[null,null,null,null,null,null,null,null,null,{"$f":"Liste!$G112","v":"Artikel 111"},null,null,null,null,null,null,{"$f":"Liste!$G112","v":"Artikel 111"},null,null,null,null,null,null,{"$f":"Liste!$G112","v":"Artikel 111"}]
[null,null,null,null,null,null,null,null,null,{"$f":"Liste!$G113","v":"Artikel 112"},null,null,null,null,null,null,{"$f":"Liste!$G113","v":"Artikel 112"},null,null,null,null,null,null,{"$f":"Liste!$G113","v":"Artikel 112"}]
[null,null,null,null,null,null,null,null,null,{"$f":"Liste!$G114","v":"Artikel 113"},null,null,null,null,null,null,{"$f":"Liste!$G114","v":"Artikel 113"},null,null,null,null,null,null,{"$f":"Liste!$G114","v":"Artikel 113"}]
[null,null,null,null,null,null,null,null,null,{"$f":"Liste!$G115","v":"Artikel 114"},null,null,null,null,null,null,{"$f":"Liste!$G115","v":"Artikel 114"},null,null,null,null,null,null,{"$f":"Liste!$G115","v":"Artikel 114"}]
[null,null,null,null,null,null,null,null,null,{"$f":"Liste!$G116","v":"Artikel 115"},null,null,null,null,null,null,{"$f":"Liste!$G116","v":"Artikel 115"},null,null,null,null,null,null,{"$f":"Liste!$G116","v":"Artikel 115"}]
[null,null,null,null,null,null,null,null,null,{"$f":"Liste!$G117","v":"Artikel 116"},null,null,null,null,null,null,{"$f":"Liste!$G117","v":"Artikel 116"},null,null,null,null,null,null,{"$f":"Liste!$G117","v":"Artikel 116"}]
[null,null,null,null,null,null,null,null,null,{"$f":"Liste!$G118","v":"Artikel 117"},null,null,null,null,null,null,{"$f":"Liste!$G118","v":"Artikel 117"},null,null,null,null,null,null,{"$f":"Liste!$G118","v":"Artikel 117"}]
[null,null,null,null,null,null,null,null,null,{"$f":"Liste!$G119","v":"Artikel 118"},null,null,null,null,null,null,{"$f":"Liste!$G119","v":"Artikel 118"},null,null,null,null,null,null,{"$f":"Liste!$G119","v":"Artikel 118"}]
[null,null,null,null,null,null,null,null,null,{"$f":"Liste!$G120","v":"Artikel 119"},null,null,null,null,null,null,{"$f":"Liste!$G120","v":"Artikel 119"},null,null,null,null,null,null,{"$f":"Liste!$G120","v":"Artikel 119"}]
[null,null,null,null,null,null,null,null,null,{"$f":"Liste!$G121","v":"Artikel 120"},null,null,null,null,null,null,{"$f":"Liste!$G121","v":"Artikel 120"},null,null,null,null,null,null,{"$f":"Liste!$G121","v":"Artikel 120"}]
[null,null,null,null,null,null,null,null,null,{"$f":"Liste!$G122","v":"Artikel 121"},null,null,null,null,null,null,{"$f":"Liste!$G122","v":"Artikel 121"},null,null,null,null,null,null,{"$f":"Liste!$G122","v":"Artikel 121"}]
[null,null,null,null,null,null,null,null,null,{"$f":"Liste!$G123","v":"Artikel 122"},null,null,null,null,null,null,{"$f":"Liste!$G123","v":"Artikel 122"},null,null,null,null,null,null,{"$f":"Liste!$G123","v":"Artikel 122"}]
[null,null,null,null,null,null,null,null,null,{"$f":"Liste!$G124","v":"Artikel 123"},null,null,null,null,null,null,{"$f":"Liste!$G124","v":"Artikel 123"},null,null,null,null,null,null,{"$f":"Liste!$G124","v":"Artikel 123"}]
[null,null,null,null,null,null,null,null,null,{"$f":"Liste!$G125","v":"Artikel 124"},null,null,null,null,null,null,{"$f":"Liste!$G125","v":"Artikel 124"},null,null,null,null,null,null,{"$f":"Liste!$G125","v":"Artikel 124"}]
[null,null,null,null,null,null,null,null,null,{"$f":"Liste!$G126","v":"Artikel 125"},null,null,null,null,null,null,{"$f":"Liste!$G126","v":"Artikel 125"},null,null,null,null,null,null,{"$f":"Liste!$G126","v":"Artikel 125"}]
[null,null,null,null,null,null,null,null,null,{"$f":"Liste!$G127","v":"Artikel 126"},null,null,null,null,null,null,{"$f":"Liste!$G127","v":"Artikel 126"},null,null,null,null,null,null,{"$f":"Liste!$G127","v":"Artikel 126"}]
[null,null,null,null,null,null,null,null,null,{"$f":"Liste!$G128","v":"Artikel 127"},null,null,null,null,null,null,{"$f":"Liste!$G128","v":"Artikel 127"},null,null,null,null,null,null,{"$f":"Liste!$G128","v":"Artikel 127"}]
[null,null,null,null,null,null,null,null,null,{"$f":"Liste!$G129","v":"Artikel 128"},null,null,null,null,null,null,{"$f":"Liste!$G129","v":"Artikel 128"},null,null,null,null,null,null,{"$f":"Liste!$G129","v":"Artikel 128"}]
[null,null,null,null,null,null,null,null,null,{"$f":"Liste!$G130","v":"Artikel 129"},null,null,null,null,null,null,{"$f":"Liste!$G130","v":"Artikel 129"},null,null,null,null,null,null,{"$f":"Liste!$G130","v":"Artikel 129"}]
[null,null,null,null,null,null,null,null,null,{"$f":"Liste!$G131","v":"Artikel 130"},null,null,null,null,null,null,{"$f":"Liste!$G131","v":"Artikel 130"},null,null,null,null,null,null,{"$f":"Liste!$G131","v":"Artikel 130"}]
[null,null,null,null,null,null,null,null,null,{"$f":"Liste!$G132","v":"Artikel 131"},null,null,null,null,null,null,{"$f":"Liste!$G132","v":"Artikel 131"},null,null,null,null,null,null,{"$f":"Liste!$G132","v":"Artikel 131"}]
[null,null,null,null,null,null,null,null,null,{"$f":"Liste!$G133","v":"Artikel 132"},null,null,null,null,null,null,{"$f":"Liste!$G133","v":"Artikel 132"},null,null,null,null,null,null,{"$f":"Liste!$G133","v":"Artikel 132"}]
[null,null,null,null,null,null,null,null,null,{"$f":"Liste!$G134","v":"Artikel 133"},null,null,null,null,null,null,{"$f":"Liste!$G134","v":"Artikel 133"},null,null,null,null,null,null,{"$f":"Liste!$G134","v":"Artikel 133"}]
[null,null,null,null,null,null,null,null,null,{"$f":"Liste!$G135","v":"Artikel 134"},null,null,null,null,null,null,{"$f":"Liste!$G135","v":"Artikel 134"},null,null,null,null,null,null,{"$f":"Liste!$G135","v":"Artikel 134"}]
[null,null,null,null,null,null,null,null,null,{"$f":"Liste!$G136","v":"Artikel 135"},null,null,null,null,null,null,{"$f":"Liste!$G136","v":"Artikel 135"},null,null,null,null,null,null,{"$f":"Liste!$G136","v":"Artikel 135"}]
[null,null,null,null,null,null,null,null,null,{"$f":"Liste!$G137","v":"Artikel 136"},null,null,null,null,null,null,{"$f":"Liste!$G137","v":"Artikel 136"},null,null,null,null,null,null,{"$f":"Liste!$G137","v":"Artikel 136"}]
[null,null,null,null,null,null,null,null,null,{"$f":"Liste!$G138","v":"Artikel 137"},null,null,null,null,null,null,{"$f":"Liste!$G138","v":"Artikel 137"},null,null,null,null,null,null,{"$f":"Liste!$G138","v":"Artikel 137"}]
[null,null,null,null,null,null,null,null,null,{"$f":"Liste!$G139","v":"Artikel 138"},null,null,null,null,null,null,{"$f":"Liste!$G139","v":"Artikel 138"},null,null,null,null,null,null,{"$f":"Liste!$G139","v":"Artikel 138"}]
[null,null,null,null,null,null,null,null,null,{"$f":"Liste!$G140","v":"Artikel 139"},null,null,null,null,null,null,{"$f":"Liste!$G140","v":"Artikel 139"},null,null,null,null,null,null,{"$f":"Liste!$G140","v":"Artikel 139"}]
[null,null,null,null,null,null,null,null,null,{"$f":"Liste!$G141","v":"Artikel 140"},null,null,null,null,null,null,{"$f":"Liste!$G141","v":"Artikel 140"},null,null,null,null,null,null,{"$f":"Liste!$G141","v":"Artikel 140"}]
[null,null,null,null,null,null,null,null,null,{"$f":"Liste!$G142","v":"Artikel 141"},null,null,null,null,null,null,{"$f":"Liste!$G142","v":"Artikel 141"},null,null,null,null,null,null,{"$f":"Liste!$G142","v":"Artikel 141"}]
[null,null,null,null,null,null,null,null,null,{"$f":"Liste!$G143","v":"Artikel 142"},null,null,null,null,null,null,{"$f":"Liste!$G143","v":"Artikel 142"},null,null,null,null,null,null,{"$f":"Liste!$G143","v":"Artikel 142"}]
[null,null,null,null,null,null,null,null,null,{"$f":"Liste!$G144","v":"Artikel 143"},null,null,null,null,null,null,{"$f":"Liste!$G144","v":"Artikel 143"},null,null,null,null,null,null,{"$f":"Liste!$G144","v":"Artikel 143"}]
[null,null,null,null,null,null,null,null,null,{"$f":"Liste!$G145","v":"Artikel 144"},null,null,null,null,null,null,{"$f":"Liste!$G145","v":"Artikel 144"},null,null,null,null,null,null,{"$f":"Liste!$G145","v":"Artikel 144"}]
[null,null,null,null,null,null,null,null,null,{"$f":"Liste!$G146","v":"Artikel 145"},null,null,null,null,null,null,{"$f":"Liste!$G146","v":"Artikel 145"},null,null,null,null,null,null,{"$f":"Liste!$G146","v":"Artikel 145"}]
[null,null,null,null,null,null,null,null,null,{"$f":"Liste!$G147","v":"Artikel 146"},null,null,null,null,null,null,{"$f":"Liste!$G147","v":"Artikel 146"},null,null,null,null,null,null,{"$f":"Liste!$G147","v":"Artikel 146"}]
[null,null,null,null,null,null,null,null,null,{"$f":"Liste!$G148","v":"Artikel 147"},null,null,null,null,null,null,{"$f":"Liste!$G148","v":"Artikel 147"},null,null,null,null,null,null,{"$f":"Liste!$G148","v":"Artikel 147"}]
[null,null,null,null,null,null,null,null,null,{"$f":"Liste!$G149","v":"Artikel 148"},null,null,null,null,null,null,{"$f":"Liste!$G149","v":"Artikel 148"},null,null,null,null,null,null,{"$f":"Liste!$G149","v":"Artikel 148"}]
[null,null,null,null,null,null,null,null,null,{"$f":"Liste!$G150","v":"Artikel 149"},null,null,null,null,null,null,{"$f":"Liste!$G150","v":"Artikel 149"},null,null,null,null,null,null,{"$f":"Liste!$G150","v":"Artikel 149"}]
[null,null,null,null,null,null,null,null,null,{"$f":"Liste!$G151","v":"Artikel 150"},null,null,null,null,null,null,{"$f":"Liste!$G151","v":"Artikel 150"},null,null,null,null,null,null,{"$f":"Liste!$G151","v":"Artikel 150"}]
[null,null,null,null,null,null,null,null,null,{"$f":"Liste!$G152","v":"Artikel 151"},null,null,null,null,null,null,{"$f":"Liste!$G152","v":"Artikel 151"},null,null,null,null,null,null,{"$f":"Liste!$G152","v":"Artikel 151"}]
[null,null,null,null,null,null,null,null,null,{"$f":"Liste!$G153","v":"Artikel 152"},null,null,null,null,null,null,{"$f":"Liste!$G153","v":"Artikel 152"},null,null,null,null,null,null,{"$f":"Liste!$G153","v":"Artikel 152"}]
[null,null,null,null,null,null,null,null,null,{"$f":"Liste!$G154","v":"Artikel 153"},null,null,null,null,null,null,{"$f":"Liste!$G154","v":"Artikel 153"},null,null,null,null,null,null,{"$f":"Liste!$G154","v":"Artikel 153"}]
[null,null,null,null,null,null,null,null,null,{"$f":"Liste!$G155","v":"Artikel 154"},null,null,null,null,null,null,{"$f":"Liste!$G155","v":"Artikel 154"},null,null,null,null,null,null,{"$f":"Liste!$G155","v":"Artikel 154"}]
[null,null,null,null,null,null,null,null,null,{"$f":"Liste!$G156","v":"Artikel 155"},null,null,null,null,null,null,{"$f":"Liste!$G156","v":"Artikel 155"},null,null,null,null,null,null,{"$f":"Liste!$G156","v":"Artikel 155"}]
[null,null,null,null,null,null,null,null,null,{"$f":"Liste!$G157","v":"Artikel 156"},null,null,null,null,null,null,{"$f":"Liste!$G157","v":"Artikel 156"},null,null,null,null,null,null,{"$f":"Liste!$G157","v":"Artikel 156"}]
[null,null,null,null,null,null,null,null,null,{"$f":"Liste!$G158","v":"Artikel 157"},null,null,null,null,null,null,{"$f":"Liste!$G158","v":"Artikel 157"},null,null,null,null,null,null,{"$f":"Liste!$G158","v":"Artikel 157"}]
[null,null,null,null,null,null,null,null,null,{"$f":"Liste!$G159","v":"Artikel 158"},null,null,null,null,null,null,{"$f":"Liste!$G159","v":"Artikel 158"},null,null,null,null,null,null,{"$f":"Liste!$G159","v":"Artikel 158"}]
[null,null,null,null,null,null,null,null,null,{"$f":"Liste!$G160","v":"Artikel 159"},null,null,null,null,null,null,{"$f":"Liste!$G160","v":"Artikel 159"},null,null,null,null,null,null,{"$f":"Liste!$G160","v":"Artikel 159"}]
[null,null,null,null,null,null,null,null,null,{"$f":"Liste!$G161","v":"Artikel 160"},null,null,null,null,null,null,{"$f":"Liste!$G161","v":"Artikel 160"},null,null,null,null,null,null,{"$f":"Liste!$G161","v":"Artikel 160"}]
[null,null,null,null,null,null,null,null,null,{"$f":"Liste!$G162","v":"Artikel 161"},null,null,null,null,null,null,{"$f":"Liste!$G162","v":"Artikel 161"},null,null,null,null,null,null,{"$f":"Liste!$G162","v":"Artikel 161"}]
[null,null,null,null,null,null,null,null,null,{"$f":"Liste!$G163","v":"Artikel 162"},null,null,null,null,null,null,{"$f":"Liste!$G163","v":"Artikel 162"},null,null,null,null,null,null,{"$f":"Liste!$G163","v":"Artikel 162"}]
[null,null,null,null,null,null,null,null,null,{"$f":"Liste!$G164","v":"Artikel 163"},null,null,null,null,null,null,{"$f":"Liste!$G164","v":"Artikel 163"},null,null,null,null,null,null,{"$f":"Liste!$G164","v":"Artikel 163"}]
[null,null,null,null,null,null,null,null,null,{"$f":"Liste!$G165","v":"Artikel 164"},null,null,null,null,null,null,{"$f":"Liste!$G165","v":"Artikel 164"},null,null,null,null,null,null,{"$f":"Liste!$G165","v":"Artikel 164"}]
[null,null,null,null,null,null,null,null,null,{"$f":"Liste!$G166","v":"Artikel 165"},null,null,null,null,null,null,{"$f":"Liste!$G166","v":"Artikel 165"},null,null,null,null,null,null,{"$f":"Liste!$G166","v":"Artikel 165"}]
[null,null,null,null,null,null,null,null,null,{"$f":"Liste!$G167","v":"Artikel 166"},null,null,null,null,null,null,{"$f":"Liste!$G167","v":"Artikel 166"},null,null,null,null,null,null,{"$f":"Liste!$G167","v":"Artikel 166"}]
[null,null,null,null,null,null,null,null,null,{"$f":"Liste!$G168","v":"Artikel 167"},null,null,null,null,null,null,{"$f":"Liste!$G168","v":"Artikel 167"},null,null,null,null,null,null,{"$f":"Liste!$G168","v":"Artikel 167"}]
[null,null,null,null,null,null,null,null,null,{"$f":"Liste!$G169","v":"Artikel 168"},null,null,null,null,null,null,{"$f":"Liste!$G169","v":"Artikel 168"},null,null,null,null,null,null,{"$f":"Liste!$G169","v":"Artikel 168"}]
[null,null,null,null,null,null,null,null,null,{"$f":"Liste!$G170","v":"Artikel 169"},null,null,null,null,null,null,{"$f":"Liste!$G170","v":"Artikel 169"},null,null,null,null,null,null,{"$f":"Liste!$G170","v":"Artikel 169"}]
[null,null,null,null,null,null,null,null,null,{"$f":"Liste!$G171","v":"Artikel 170"},null,null,null,null,null,null,{"$f":"Liste!$G171","v":"Artikel 170"},null,null,null,null,null,null,{"$f":"Liste!$G171","v":"Artikel 170"}]
[null,null,null,null,null,null,null,null,null,{"$f":"Liste!$G172","v":"Artikel 171"},null,null,null,null,null,null,{"$f":"Liste!$G172","v":"Artikel 171"},null,null,null,null,null,null,{"$f":"Liste!$G172","v":"Artikel 171"}]
[null,null,null,null,null,null,null,null,null,{"$f":"Liste!$G173","v":"Artikel 172"},null,null,null,null,null,null,{"$f":"Liste!$G173","v":"Artikel 172"},null,null,null,null,null,null,{"$f":"Liste!$G173","v":"Artikel 172"}]
[null,null,null,null,null,null,null,null,null,{"$f":"Liste!$G174","v":"Artikel 173"},null,null,null,null,null,null,{"$f":"Liste!$G174","v":"Artikel 173"},null,null,null,null,null,null,{"$f":"Liste!$G174","v":"Artikel 173"}]
[null,null,null,null,null,null,null,null,null,{"$f":"Liste!$G175","v":"Artikel 174"},null,null,null,null,null,null,{"$f":"Liste!$G175","v":"Artikel 174"},null,null,null,null,null,null,{"$f":"Liste!$G175","v":"Artikel 174"}]
[null,null,null,null,null,null,null,null,null,{"$f":"Liste!$G176","v":"Artikel 175"},null,null,null,null,null,null,{"$f":"Liste!$G176","v":"Artikel 175"},null,null,null,null,null,null,{"$f":"Liste!$G176","v":"Artikel 175"}]
[null,null,null,null,null,null,null,null,null,{"$f":"Liste!$G177","v":"Artikel 176"},null,null,null,null,null,null,{"$f":"Liste!$G177","v":"Artikel 176"},null,null,null,null,null,null,{"$f":"Liste!$G177","v":"Artikel 176"}]
[null,null,null,null,null,null,null,null,null,{"$f":"Liste!$G178","v":"Artikel 177"},null,null,null,null,null,null,{"$f":"Liste!$G178","v":"Artikel 177"},null,null,null,null,null,null,{"$f":"Liste!$G178","v":"Artikel 177"}]
[null,null,null,null,null,null,null,null,null,{"$f":"Liste!$G179","v":"Artikel 178"},null,null,null,null,null,null,{"$f":"Liste!$G179","v":"Artikel 178"},null,null,null,null,null,null,{"$f":"Liste!$G179","v":"Artikel 178"}]
[null,null,null,null,null,null,null,null,null,{"$f":"Liste!$G180","v":"Artikel 179"},null,null,null,null,null,null,{"$f":"Liste!$G180","v":"Artikel 179"},null,null,null,null,null,null,{"$f":"Liste!$G180","v":"Artikel 179"}]
[null,null,null,null,null,null,null,null,null,{"$f":"Liste!$G181","v":"Artikel 180"},null,null,null,null,null,null,{"$f":"Liste!$G181","v":"Artikel 180"},null,null,null,null,null,null,{"$f":"Liste!$G181","v":"Artikel 180"}]
[null,null,null,null,null,null,null,null,null,{"$f":"Liste!$G182","v":"Artikel 181"},null,null,null,null,null,null,{"$f":"Liste!$G182","v":"Artikel 181"},null,null,null,null,null,null,{"$f":"Liste!$G182","v":"Artikel 181"}]
[null,null,null,null,null,null,null,null,null,{"$f":"Liste!$G183","v":"Artikel 182"},null,null,null,null,null,null,{"$f":"Liste!$G183","v":"Artikel 182"},null,null,null,null,null,null,{"$f":"Liste!$G183","v":"Artikel 182"}]
[null,null,null,null,null,null,null,null,null,{"$f":"Liste!$G184","v":"Artikel 183"},null,null,null,null,null,null,{"$f":"Liste!$G184","v":"Artikel 183"},null,null,null,null,null,null,{"$f":"Liste!$G184","v":"Artikel 183"}]
[null,null,null,null,null,null,null,null,null,{"$f":"Liste!$G185","v":"Artikel 184"},null,null,null,null,null,null,{"$f":"Liste!$G185","v":"Artikel 184"},null,null,null,null,null,null,{"$f":"Liste!$G185","v":"Artikel 184"}]
[null,null,null,null,null,null,null,null,null,{"$f":"Liste!$G186","v":"Artikel 185"},null,null,null,null,null,null,{"$f":"Liste!$G186","v":"Artikel 185"},null,null,null,null,null,null,{"$f":"Liste!$G186","v":"Artikel 185"}]
[null,null,null,null,null,null,null,null,null,{"$f":"Liste!$G187","v":"Artikel 186"},null,null,null,null,null,null,{"$f":"Liste!$G187","v":"Artikel 186"},null,null,null,null,null,null,{"$f":"Liste!$G187","v":"Artikel 186"}]
[null,null,null,null,null,null,null,null,null,{"$f":"Liste!$G188","v":"Artikel 187"},null,null,null,null,null,null,{"$f":"Liste!$G188","v":"Artikel 187"},null,null,null,null,null,null,{"$f":"Liste!$G188","v":"Artikel 187"}]
[null,null,null,null,null,null,null,null,null,{"$f":"Liste!$G189","v":"Artikel 188"},null,null,null,null,null,null,{"$f":"Liste!$G189","v":"Artikel 188"},null,null,null,null,null,null,{"$f":"Liste!$G189","v":"Artikel 188"}]
[null,null,null,null,null,null,null,null,null,{"$f":"Liste!$G190","v":"Artikel 189"},null,null,null,null,null,null,{"$f":"Liste!$G190","v":"Artikel 189"},null,null,null,null,null,null,{"$f":"Liste!$G190","v":"Artikel 189"}]
[null,null,null,null,null,null,null,null,null,{"$f":"Liste!$G191","v":"Artikel 190"},null,null,null,null,null,null,{"$f":"Liste!$G191","v":"Artikel 190"},null,null,null,null,null,null,{"$f":"Liste!$G191","v":"Artikel 190"}]
[null,null,null,null,null,null,null,null,null,{"$f":"Liste!$G192","v":"Artikel 191"},null,null,null,null,null,null,{"$f":"Liste!$G192","v":"Artikel 191"},null,null,null,null,null,null,{"$f":"Liste!$G192","v":"Artikel 191"}]
[null,null,null,null,null,null,null,null,null,{"$f":"Liste!$G193","v":"Artikel 192"},null,null,null,null,null,null,{"$f":"Liste!$G193","v":"Artikel 192"},null,null,null,null,null,null,{"$f":"Liste!$G193","v":"Artikel 192"}]
[null,null,null,null,null,null,null,null,null,{"$f":"Liste!$G194","v":"Artikel 193"},null,null,null,null,null,null,{"$f":"Liste!$G194","v":"Artikel 193"},null,null,null,null,null,null,{"$f":"Liste!$G194","v":"Artikel 193"}]
[null,null,null,null,null,null,null,null,null,{"$f":"Liste!$G195","v":"Artikel 194"},null,null,null,null,null,null,{"$f":"Liste!$G195","v":"Artikel 194"},null,null,null,null,null,null,{"$f":"Liste!$G195","v":"Artikel 194"}]
[null,null,null,null,null,null,null,null,null,{"$f":"Liste!$G196","v":"Artikel 195"},null,null,null,null,null,null,{"$f":"Liste!$G196","v":"Artikel 195"},null,null,null,null,null,null,{"$f":"Liste!$G196","v":"Artikel 195"}]
[null,null,null,null,null,null,null,null,null,{"$f":"Liste!$G197","v":"Artikel 196"},null,null,null,null,null,null,{"$f":"Liste!$G197","v":"Artikel 196"},null,null,null,null,null,null,{"$f":"Liste!$G197","v":"Artikel 196"}]
[null,null,null,null,null,null,null,null,null,{"$f":"Liste!$G198","v":"Artikel 197"},null,null,null,null,null,null,{"$f":"Liste!$G198","v":"Artikel 197"},null,null,null,null,null,null,{"$f":"Liste!$G198","v":"Artikel 197"}]
[null,null,null,null,null,null,null,null,null,{"$f":"Liste!$G199","v":"Artikel 198"},null,null,null,null,null,null,{"$f":"Liste!$G199","v":"Artikel 198"},null,null,null,null,null,null,{"$f":"Liste!$G199","v":"Artikel 198"}]
[null,null,null,null,null,null,null,null,null,{"$f":"Liste!$G200","v":"Artikel 199"},null,null,null,null,null,null,{"$f":"Liste!$G200","v":"Artikel 199"},null,null,null,null,null,null,{"$f":"Liste!$G200","v":"Artikel 199"}]
[null,null,null,null,null,null,null,null,null,{"$f":"Liste!$G201","v":"Artikel 200"},null,null,null,null,null,null,{"$f":"Liste!$G201","v":"Artikel 200"},null,null,null,null,null,null,{"$f":"Liste!$G201","v":"Artikel 200"}]
[null,null,null,null,null,null,null,null,null,{"$f":"Liste!$G202","v":"Artikel 201"},null,null,null,null,null,null,{"$f":"Liste!$G202","v":"Artikel 201"},null,null,null,null,null,null,{"$f":"Liste!$G202","v":"Artikel 201"}]
[null,null,null,null,null,null,null,null,null,{"$f":"Liste!$G203","v":"Artikel 202"},null,null,null,null,null,null,{"$f":"Liste!$G203","v":"Artikel 202"},null,null,null,null,null,null,{"$f":"Liste!$G203","v":"Artikel 202"}]
[null,null,null,null,null,null,null,null,null,{"$f":"Liste!$G204","v":"Artikel 203"},null,null,null,null,null,null,{"$f":"Liste!$G204","v":"Artikel 203"},null,null,null,null,null,null,{"$f":"Liste!$G204","v":"Artikel 203"}]
[null,null,null,null,null,null,null,null,null,{"$f":"Liste!$G205","v":"Artikel 204"},null,null,null,null,null,null,{"$f":"Liste!$G205","v":"Artikel 204"},null,null,null,null,null,null,{"$f":"Liste!$G205","v":"Artikel 204"}]
[null,null,null,null,null,null,null,null,null,{"$f":"Liste!$G206","v":"Artikel 205"},null,null,null,null,null,null,{"$f":"Liste!$G206","v":"Artikel 205"},null,null,null,null,null,null,{"$f":"Liste!$G206","v":"Artikel 205"}]
[null,null,null,null,null,null,null,null,null,{"$f":"Liste!$G207","v":"Artikel 206"},null,null,null,null,null,null,{"$f":"Liste!$G207","v":"Artikel 206"},null,null,null,null,null,null,{"$f":"Liste!$G207","v":"Artikel 206"}]
[null,null,null,null,null,null,null,null,null,{"$f":"Liste!$G208","v":"Artikel 207"},null,null,null,null,null,null,{"$f":"Liste!$G208","v":"Artikel 207"},null,null,null,null,null,null,{"$f":"Liste!$G208","v":"Artikel 207"}]
[null,null,null,null,null,null,null,null,null,{"$f":"Liste!$G209","v":"Artikel 208"},null,null,null,null,null,null,{"$f":"Liste!$G209","v":"Artikel 208"},null,null,null,null,null,null,{"$f":"Liste!$G209","v":"Artikel 208"}]
[null,null,null,null,null,null,null,null,null,{"$f":"Liste!$G210","v":"Artikel 209"},null,null,null,null,null,null,{"$f":"Liste!$G210","v":"Artikel 209"},null,null,null,null,null,null,{"$f":"Liste!$G210","v":"Artikel 209"}]
[null,null,null,null,null,null,null,null,null,{"$f":"Liste!$G211","v":"Artikel 210"},null,null,null,null,null,null,{"$f":"Liste!$G211","v":"Artikel 210"},null,null,null,null,null,null,{"$f":"Liste!$G211","v":"Artikel 210"}]
[null,null,null,null,null,null,null,null,null,{"$f":"Liste!$G212","v":"Artikel 211"},null,null,null,null,null,null,{"$f":"Liste!$G212","v":"Artikel 211"},null,null,null,null,null,null,{"$f":"Liste!$G212","v":"Artikel 211"}]
[null,null,null,null,null,null,null,null,null,{"$f":"Liste!$G213","v":"Artikel 212"},null,null,null,null,null,null,{"$f":"Liste!$G213","v":"Artikel 212"},null,null,null,null,null,null,{"$f":"Liste!$G213","v":"Artikel 212"}]
[null,null,null,null,null,null,null,null,null,{"$f":"Liste!$G214","v":"Artikel 213"},null,null,null,null,null,null,{"$f":"Liste!$G214","v":"Artikel 213"},null,null,null,null,null,null,{"$f":"Liste!$G214","v":"Artikel 213"}]
[null,null,null,null,null,null,null,null,null,{"$f":"Liste!$G215","v":"Artikel 214"},null,null,null,null,null,null,{"$f":"Liste!$G215","v":"Artikel 214"},null,null,null,null,null,null,{"$f":"Liste!$G215","v":"Artikel 214"}]
[null,null,null,null,null,null,null,null,null,{"$f":"Liste!$G216","v":"Artikel 215"},null,null,null,null,null,null,{"$f":"Liste!$G216","v":"Artikel 215"},null,null,null,null,null,null,{"$f":"Liste!$G216","v":"Artikel 215"}]
[null,null,null,null,null,null,null,null,null,{"$f":"Liste!$G217","v":"Artikel 216"},null,null,null,null,null,null,{"$f":"Liste!$G217","v":"Artikel 216"},null,null,null,null,null,null,{"$f":"Liste!$G217","v":"Artikel 216"}]
[null,null,null,null,null,null,null,null,null,{"$f":"Liste!$G218","v":"Artikel 217"},null,null,null,null,null,null,{"$f":"Liste!$G218","v":"Artikel 217"},null,null,null,null,null,null,{"$f":"Liste!$G218","v":"Artikel 217"}]
[null,null,null,null,null,null,null,null,null,{"$f":"Liste!$G219","v":"Artikel 218"},null,null,null,null,null,null,{"$f":"Liste!$G219","v":"Artikel 218"},null,null,null,null,null,null,{"$f":"Liste!$G219","v":"Artikel 218"}]
[null,null,null,null,null,null,null,null,null,{"$f":"Liste!$G220","v":"Artikel 219"},null,null,null,null,null,null,{"$f":"Liste!$G220","v":"Artikel 219"},null,null,null,null,null,null,{"$f":"Liste!$G220","v":"Artikel 219"}]
[null,null,null,null,null,null,null,null,null,{"$f":"Liste!$G221","v":"Artikel 220"},null,null,null,null,null,null,{"$f":"Liste!$G221","v":"Artikel 220"},null,null,null,null,null,null,{"$f":"Liste!$G221","v":"Artikel 220"}]
[null,null,null,null,null,null,null,null,null,{"$f":"Liste!$G222","v":"Artikel 221"},null,null,null,null,null,null,{"$f":"Liste!$G222","v":"Artikel 221"},null,null,null,null,null,null,{"$f":"Liste!$G222","v":"Artikel 221"}]
[null,null,null,null,null,null,null,null,null,{"$f":"Liste!$G223","v":"Artikel 222"},null,null,null,null,null,null,{"$f":"Liste!$G223","v":"Artikel 222"},null,null,null,null,null,null,{"$f":"Liste!$G223","v":"Artikel 222"}]
[null,null,null,null,null,null,null,null,null,{"$f":"Liste!$G224","v":0},null,null,null,null,null,null,{"$f":"Liste!$G224","v":0},null,null,null,null,null,null,{"$f":"Liste!$G224","v":0}]
[null,null,null,null,null,null,null,null,null,{"$f":"Liste!$G225","v":0},null,null,null,null,null,null,{"$f":"Liste!$G225","v":0},null,null,null,null,null,null,{"$f":"Liste!$G225","v":0}]
[null,null,null,null,null,null,null,null,null,{"$f":"Liste!$G226","v":0},null,null,null,null,null,null,{"$f":"Liste!$G226","v":0},null,null,null,null,null,null,{"$f":"Liste!$G226","v":0}]
[null,null,null,null,null,null,null,null,null,{"$f":"Liste!$G227","v":0},null,null,null,null,null,null,{"$f":"Liste!$G227","v":0},null,null,null,null,null,null,{"$f":"Liste!$G227","v":0}]
[null,null,null,null,null,null,null,null,null,{"$f":"Liste!$G228","v":0},null,null,null,null,null,null,{"$f":"Liste!$G228","v":0},null,null,null,null,null,null,{"$f":"Liste!$G228","v":0}]
[null,null,null,null,null,null,null,null,null,{"$f":"Liste!$G229","v":0},null,null,null,null,null,null,{"$f":"Liste!$G229","v":0},null,null,null,null,null,null,{"$f":"Liste!$G229","v":0}]
[null,null,null,null,null,null,null,null,null,{"$f":"Liste!$G230","v":0},null,null,null,null,null,null,{"$f":"Liste!$G230","v":0},null,null,null,null,null,null,{"$f":"Liste!$G230","v":0}]
[null,null,null,null,null,null,null,null,null,{"$f":"Liste!$G231","v":0},null,null,null,null,null,null,{"$f":"Liste!$G231","v":0},null,null,null,null,null,null,{"$f":"Liste!$G231","v":0}]
[null,null,null,null,null,null,null,null,null,{"$f":"Liste!$G232","v":0},null,null,null,null,null,null,{"$f":"Liste!$G232","v":0},null,null,null,null,null,null,{"$f":"Liste!$G232","v":0}]
[null,null,null,null,null,null,null,null,null,{"$f":"Liste!$G233","v":0},null,null,null,null,null,null,{"$f":"Liste!$G233","v":0},null,null,null,null,null,null,{"$f":"Liste!$G233","v":0}]
[null,null,null,null,null,null,null,null,null,{"$f":"Liste!$G234","v":0},null,null,null,null,null,null,{"$f":"Liste!$G234","v":0},null,null,null,null,null,null,{"$f":"Liste!$G234","v":0}]
[null,null,null,null,null,null,null,null,null,{"$f":"Liste!$G235","v":0},null,null,null,null,null,null,{"$f":"Liste!$G235","v":0},null,null,null,null,null,null,{"$f":"Liste!$G235","v":0}]
[null,null,null,null,null,null,null,null,null,{"$f":"Liste!$G236","v":0},null,null,null,null,null,null,{"$f":"Liste!$G236","v":0},null,null,null,null,null,null,{"$f":"Liste!$G236","v":0}]
[null,null,null,null,null,null,null,null,null,{"$f":"Liste!$G237","v":0},null,null,null,null,null,null,{"$f":"Liste!$G237","v":0},null,null,null,null,null,null,{"$f":"Liste!$G237","v":0}]
[null,null,null,null,null,null,null,null,null,{"$f":"Liste!$G238","v":0},null,null,null,null,null,null,{"$f":"Liste!$G238","v":0},null,null,null,null,null,null,{"$f":"Liste!$G238","v":0}]
[null,null,null,null,null,null,null,null,null,{"$f":"Liste!$G239","v":0},null,null,null,null,null,null,{"$f":"Liste!$G239","v":0},null,null,null,null,null,null,{"$f":"Liste!$G239","v":0}]
[null,null,null,null,null,null,null,null,null,{"$f":"Liste!$G240","v":0},null,null,null,null,null,null,{"$f":"Liste!$G240","v":0},null,null,null,null,null,null,{"$f":"Liste!$G240","v":0}]
[null,null,null,null,null,null,null,null,null,{"$f":"Liste!$G241","v":0},null,null,null,null,null,null,{"$f":"Liste!$G241","v":0},null,null,null,null,null,null,{"$f":"Liste!$G241","v":0}]