{"text_format":"1","workbook":"xlsx","n_sheets":2,"sheets":["Paket","Daten"],"not_rendered":{"charts":0,"images":1,"macros":1,"external_links":0,"defined_names":0,"comments":0,"pivot_tables":0},"unopened":[],"bounds":{"document_bytes":16777216,"sheet_cells":100000,"rows_first":2000,"rows_last":500,"rows_between":2000,"halvings":0,"cell_chars":16384,"cell_head_chars":4096},"cells_cut":0,"cells_raw":0,"read":"whole","date_system":"1900"}

{"sheet":"Paket","index":0,"n_rows":20,"n_cols":13,"rows_kept":20,"cut":false,"hidden":false,"merged":[[0,10,0,14]]}
["Paket","KZ","Artikel","Name","Paket","Farbcode",null,null,null,null,"Ursprungsformatierung VOR Sortierung (Artikel)"]
[null,{"$f":"Daten!A2","v":16},{"$f":"Daten!B2","v":4717},{"$f":"Daten!C2","v":"aa"},null,4711]
[3,{"$f":"Daten!A3","v":17},{"$f":"Daten!B3","v":4718},{"$f":"Daten!C3","v":"bb"},3,4712]
[1,{"$f":"Daten!A4","v":18},{"$f":"Daten!B4","v":4719},{"$f":"Daten!C4","v":"cc"},3,4713]
[2,{"$f":"Daten!A5","v":19},{"$f":"Daten!B5","v":4720},{"$f":"Daten!C5","v":"dd"},2,4714]
[1,{"$f":"Daten!A6","v":20},{"$f":"Daten!B6","v":4721},{"$f":"Daten!C6","v":"ee"},1,4715]
[2,{"$f":"Daten!A7","v":21},{"$f":"Daten!B7","v":4722},{"$f":"Daten!C7","v":"ff"},2,4716]
[2,{"$f":"Daten!A8","v":22},{"$f":"Daten!B8","v":4723},{"$f":"Daten!C8","v":"gg"},null,4717]
[3,{"$f":"Daten!A9","v":23},{"$f":"Daten!B9","v":4724},{"$f":"Daten!C9","v":"hh"},3,4718]
[3,{"$f":"Daten!A10","v":12},{"$f":"Daten!B10","v":4713},{"$f":"Daten!C10","v":"Lampe"},1,4719]
[2,{"$f":"Daten!A11","v":15},{"$f":"Daten!B11","v":4716},{"$f":"Daten!C11","v":"läufer"},2,4720]
[2,{"$f":"Daten!A12","v":13},{"$f":"Daten!B12","v":4714},{"$f":"Daten!C12","v":"Sofa"},1,4721]
[3,{"$f":"Daten!A13","v":11},{"$f":"Daten!B13","v":4712},{"$f":"Daten!C13","v":"Stuhl"},2,4722]
[1,{"$f":"Daten!A14","v":14},{"$f":"Daten!B14","v":4715},{"$f":"Daten!C14","v":"teppich"},2,4723]
[null,{"$f":"Daten!A15","v":10},{"$f":"Daten!B15","v":4711},{"$f":"Daten!C15","v":"Tisch"},2,4724]
[]
[]
[null,"Ist hier die letzte Zeile nicht mit Paket-Nr. gefüllt, passt die Sortierung nicht mehr."]
[null,null,null,null,null,null,null,null,null,null,null,null,"hh ist nicht rot, da keine Paket-Nr."]
[null,"Und die Markierung der Spalte F = Farbcode geht nur bis Zeile 14"]

{"sheet":"Daten","index":1,"n_rows":15,"n_cols":3,"rows_kept":15,"cut":false,"hidden":false,"merged":[]}
["KZ","Artikel","Name"]
[16,4717,"aa"]
[17,4718,"bb"]
[18,4719,"cc"]
[19,4720,"dd"]
[20,4721,"ee"]
[21,4722,"ff"]
[22,4723,"gg"]
[23,4724,"hh"]
[12,4713,"Lampe"]
[15,4716,"läufer"]
[13,4714,"Sofa"]
[11,4712,"Stuhl"]
[14,4715,"teppich"]
[10,4711,"Tisch"]