{"text_format":"1","workbook":"xlsx","n_sheets":3,"sheets":["Wochenplan","Versand","Hilfstabelle"],"not_rendered":{"charts":0,"images":0,"macros":1,"external_links":2,"defined_names":8,"comments":1,"pivot_tables":0},"unopened":[],"bounds":{"document_bytes":16777216,"sheet_cells":100000,"rows_first":2000,"rows_last":500,"rows_between":2000,"halvings":0,"cell_chars":16384,"cell_head_chars":4096},"cells_cut":0,"cells_raw":0,"read":"whole","date_system":"1900"}

{"sheet":"Wochenplan","index":0,"n_rows":136,"n_cols":16,"rows_kept":136,"cut":false,"hidden":false,"merged":[[43,2,45,4],[43,5,45,7],[43,8,45,9],[43,11,45,11],[86,2,88,4],[86,5,88,7],[86,8,88,9],[86,11,88,11],[0,0,7,0],[0,2,2,4],[0,5,2,5],[0,6,2,7],[0,8,2,9],[0,11,2,11],[5,2,5,4],[5,5,5,6],[5,8,5,10],[0,1,7,1],[170,2,170,4],[170,5,170,7],[170,8,170,9],[128,2,130,4],[128,5,130,7],[128,8,130,9],[128,11,130,11]]}
["Verladetag","Feinplanung",null,null,null,null,"KW",null,5]
[]
[]
[null,null,"Wochenarbeitszeit",null,null,null,null,null,"Auslastung",null,8.4855859538784078]
[null,null,"Anzahl Gruppen",null,null," "]
[null,null,"M1",null,null,"D1",null,"M1","D1",null,null,"F1",null,2]
[null,null,"lfd.","PT","ID-Nr","Kunden-Name","Kom.-Nr.","Benennung","Stck","Bd","Plan-","RAL","Text","x"]
[null,null,"Nr.",null,null,null,null,null,null,null,"Zeit","   "]
[2,"1_1",228,0,"3730110a","Test1",111296,"Stuhl1",1,1,5,"7016 fs",0,null,2,228]
[3,"1_2",1199,0,"370000A3","Test1",111296,"Stuhl2",1,0,0,"7016 fs",0,null,3,1199]
[1," ",1200,0,37000005,"Test1",111296,"Stuhl3",1,0,0,0,0,null,1,1200]
[2," ",1201,0,"3730110A","Test1",111296,"Stuhl4",1,1,5,"7016 fs",0,null,2,1201]
[2," ",1202,0,"370000A3","Test1",111296,"Stuhl5",1,0,0,"7016 fs",0,null,2,1202]
[9," ",1203,0,37000005,"Test1",111296,"Stuhl6",1,0,0,0,0,null,9,1203]
[5,"2_2",1204,0,"3730110A","Test1",111296,"Stuhl7",1,1,5,"7016 fs",0,null,5,1204]
[9," ",1205,0,"370000A3","Test1",111296,"Stuhl8",1,0,0,"7016 fs",0,null,9,1205]
[2," ",1206,0,37000005,"Test1",111296,"Stuhl9",1,0,0,0,0,null,2,1206]
[3," ",1207,0,"3730110A","Test1",111296,"Stuhl10",9,1,5,"7016 fs",0,null,3,1207]
[9,"3_5",1208,0,"370000A3","Test1",111296,"Stuhl11",9,0,0,"7016 fs",0,null,9,1208]
[2," ",1209,0,"3766160A","Test1",111296,"Stuhl12",3,1,11.3,"7016 fs",0,null,null,1209]
[null," ",1210,0,"3766160A","Test1",111296,"Stuhl13",8,1,16.98,"7016 fs",0,null,null,1210]
[null," ",1219,0,62100301,"Test1",111296,"Stuhl14",32,0,0,0,0,null,null,1219]
[null," ",1211,0,"3820110A","Test1",111296,"Stuhl15",1,1,16.5,"7016 fs",0,null,null,1211]
[null," ",1213,0,"3920110A","Test1",111296,"Stuhl16",1,1,17.5,"7016 fs",0,null,null,1213]
[null," ",1537,0,62100301,"Test1",111296,"Stuhl17",4,0,0,0,0,null,null,1537]
[9," ",1214,"LG",87101802,"Test1",111296,"Stuhl18",1,1,0,6005,0,null,9,1214]
[null," ",106,0,77642601,"Test2",111233,"Tisch1",125,5,92.15,0,0,null,null,106]
[null," ",107,0,77642601,"Test2",111233,"Tisch2",10,1,13.3,0,0,null,null,107]
[null," ",108,0,73000002,"Test2",111233,"Tisch3",675,0,0,0,0,null,null,108]
[null," ",1717,0,65641902,"Test3",111392,"Tisch4",50,2,72.935800000000015,6005,0,null,null,1717]
[null," ",1718,0,65641902,"Test3",111392,"Tisch5",15,1,26.340900000000005,6005,0,null,null,1718]
[null," ",2164,4,67144852,"Test4",110379,"Tisch6",29,5,180.11800000000002,6005,0,null,null,2164]
[null," ",593,0,84102007,"Test5",111472,"Tisch7",1,1,15.5,0,0,null,null,593]
[null," ",594,4,"841016a8","Test5",111472,"Tisch8",2,2,30,7016,0,null,null,594]
[3," ",595,4,"841020a8","Test5",111472,"Tisch9",2,2,30,7016,0,null,3,595]
[null," ",596,0,73000003,"Test5",111472,"Tisch10",10,0,0,0,0,null,null,596]
[null," ",599,0,62100153,"Test5",111472,"Tisch11",15,0,0,0,0,null,null,599]
[null," ",638,0,"3730112A","Test6",111294,"Tisch12",8,1,93.5,"7016 fs",0,null,null,638]
[null," ",639,0,"370000A3","Test6",111294,"Tisch13",8,0,0,"7016 fs",0,null,null,639]
[null," ",640,0,"3820112A","Test6",111294,"Tisch14",1,1,15.5,"7016 fs",0,null,null,640]
[null," ",641,0,38000005,"Test6",111294,"Tisch15",1,0,0,0,0,null,null,641]
[null," ",812,4,63000000,"Test6",111489,"ccvvvvv",2,2,32,6005,0,null,null,812]
[null,null,null,null,null,null,null,null,null,null,"Blatt:","1 von 2"]
[null,null,null,null,null,"KW",null,null,5]
[]
[]
[null,null,"Wochenarbeitszeit",null,null,0,null,null,"Auslastung",null,8.4855859538784078,null,null,null,null,"Wochenarbeitszeit"]
[null,null,"Anzahl Gruppen",null,null," ",null,null,null,null,null,null,null,null,null,"Anzahl Gruppen"]
[]
[null,null,"lfd.","PT","ID-Nr","Kunden-Name","Kom.-Nr.","Benennng","Stck","Bd","Plan-","RAL",null,null,null,"lfd."]
[null,null,"Nr.",null,null,null,null,null,null,".","Zeit",null,null,null,null,"Nr."]
[null," ",508,4,"841218a8","Test7",111440,"Tisch17",5,5,70.5,7016,0,"x",null,508]
[null," ",509,4,"8410990A","Test7",111440,"Tisch18",1,1,17.5,7016,0,null,null,509]
[1," ",510,0,93100008,"Test7",111440,"Tisch19",1,0,0,0,0,null,1,510]
[null," ",512,4,"8410990A","Test7",111440,"Tisch20",1,1,17.5,7016,0,null,null,512]
[null," ",513,0,93100008,"Test7",111440,"Tisch21",1,0,0,0,0,null,null,513]
[null," ",514,0,93100008,"Test7",111440,"Tisch22",1,0,0,0,0,null,null,514]
[null," ",517,4,"8512990A","Test7",111440,"Tisch23",1,1,27.326000000000001,7016,0,null,null,517]
[null," ",518,"LG","6664240a","Test7",111440,"Lampe1",300,12,0,7016,0,null,null,518]
[2," ",520,0,"6666240a","Test7",111440,"Lampe2",20,2,40.650800000000004,7016,0,null,2,520]
[null," ",526,0,"62100a24","Test7",111440,"Lampe3",50,0,0,7016,0,null,null,526]
[9," ",527,0,"62100a19","Test7",111440,"Lampe4",50,0,0,0,0,null,9,527]
[null," ",528,4,"6584319a","Test7",111442,"Lampe5",4,1,11.932,7016,0,null,null,528]
[5," ",786,4,50766002,"Test7",111488,"Lampe6",3,1,10.11,6005,0,null,5,786]
[null," ",789,4,"5060999a","Test7",111488,"Lampe7",5,1,10.4,7016,0,null,null,789]
[null," ",813,4,"8480990A","Test7",111492,"Lampe8",1,1,17.5,7016,0,null,null,813]
[null," ",817,0,"6684324s","Test7",111493,"Lampe9",4,1,11.932,8014,0,null,null,817]
[null," ",818,0,"6664260s","Test7",111494,"Lampe10",10,1,16.479400000000002,5010,0,null,null,818]
[null," ",819,0,"6666260s","Test7",111494,"Lampe11",3,1,12.777900000000001,5010,0,null,null,819]
[null," ",820,0,"62100s24","Test7",111494,"Lampe12",22,0,0,5010,0,null,null,820]
[null," ",2,0,62100227,"Test8",111406,"Lampe13",200,0,0,0,0,null,null,2]
[null," ",531,4,"6364999a","Test9",111445,"Lampe14",1,1,10.170400000000001,7016,0,null,null,531]
[null," ",532,4,"6364999a","Test9",111445,"Lampe15",1,1,11.2356,7016,0,null,null,532]
[null," ",541,4,"6364999a","Test9",111445,"Lampe16",1,1,11.2356,7016,0,null,null,541]
[null," ",542,4,"6364999a","Test9",111445,"Lampe17",1,1,10.3254,7016,0,null,null,542]
[null,"",null,0,"6564210a","Test10",111466,"Lampe18",4,1,13.551200000000001,7016,0]
[null,"",null,0,"6564130a","Test10",111466,"Lampe19",1,1,9.8452999999999999,7016,0]
[null,"",null,4,"8480990A","Test10",111466,"Lampe20",1,1,17.5,7016,0]
[null,"",null,0,93000010,"Test10",111466,"Lampe21",2,0,0,0,0]
[null,"",null,4,"6712240a","Test1",111510,"Lampe22",10,1,22.5,7016,0]
[null,"",null,4,"8480990A","Test1",111510,"Lampe23",1,1,17.5,7016,0]
[null,"",null,4,93000053,"Test1",111510,"Lampe24",1,0,0,7016,0]
[null,"",null,0,"1510200S","Test6",111517,"Lampe25",1,1,19,9010,0]
[null,"",null,0,15151502,"Test6",111517,"Lampe26",1,1,22.65,6005,0]
[null,"",null,4,"841214a8","Test7",111528,"Lampe27",1,1,15.5,7016,0]
[null,null,null,null,null,null,null,null,null,null,"Blatt:","2 von 2"]
[null,null,null,null,null,"KW",null,null,5]
[]
[]
[null,null,"Wochenarbeitszeit",null,null,0,null,null,"Auslastung",null,8.4855859538784078,null,null,null,null,"Wochenarbeitszeit"]
[null,null,"Anzahl Gruppen",null,null," ",null,null,null,null,null,null,null,null,null,"Anzahl Gruppen"]
[]
[null,null,"lfd.","PT","ID-Nr","Kunden-Name","Kom.-Nr.","Benennung","Stck","Bd","Plan-","RAL",null,null,null,"lfd."]
[null,null,"Nr.",null,null,null,null,null,null,".","Zeit",null,null,null,null,"Nr."]
[null,"",null,0,93000006,"Test7",111528,"Lampe28",1,0,0,0,0,""]
[null,"",null,4,"8410990A","Test7",111528,"Lampe29",1,1,17.5,7016,0]
[null,"",null,0,93000006,"Test7",111528,"Lampe30",1,0,0,0,0]
[null,"",null,0,"6664300a","Test7",111528,"Lampe31",3,1,11.325900000000001,7016,0]
[null,"",null,4,"8480990A","Test11",111529,"Lampe32",1,1,17.5,7016,0]
[null,"",null,4,93000053,"Test11",111529,"Sessel1",1,0,0,7016,0]
[null,"",null,4,"8580990A","Test11",111529,"Sessel2",1,1,17.5,7016,0]
[null,"",null,4,93000053,"Test11",111529,"Sessel3",2,0,0,7016,0]
[]
[]
[]
[]
[]
[]
[]
[]
[]
[]
[]
[]
[]
[]
[]
[]
[]
[]
[]
[]
[]
[]
[]
[]
[]
[null,null,null,null,null,null,null,null,null,null,"Blatt:",{"$error":"#REF!"}]
[null,null,null,null,null,"KW",null,null,{"$error":"#REF!"}]
[]
[]
[null,null,"Wochenarbeitszeit",null,null,{"$error":"#REF!"},null,null,"Auslastung",null,{"$error":"#REF!"},null,null,null,null,"Wochenarbeitszeit"]
[null,null,"Anzahl Gruppen",null,null,{"$error":"#REF!"},null,null,null,null,null,null,null,null,null,"Anzahl Gruppen"]
[]
[null,null,"lfd.","PT","ID-Nr","Kunden-Name","Kom.-Nr.","Benennung","Stck","Bd","Plan-","RAL",null,null,null,"lfd."]
[null,null,"Nr.",null,null,null,null,null,null,".","Zeit",null,null,null,null,"Nr."]

{"sheet":"Versand","index":1,"n_rows":40,"n_cols":10,"rows_kept":40,"cut":false,"hidden":false,"merged":[[0,9,2,9],[4,0,4,2],[4,3,4,4],[4,6,4,8],[0,1,2,2],[0,3,2,3],[0,5,2,5],[0,7,2,8]]}
[null,null,null,null,null,null,null,{"$f":"Wochenplan!I1","v":5}]
[]
[]
[]
["M1",null,null,"D1",null,"M1","F1",null,null,"S1"]
["FP","PT","Kom.-Nr.","Kunden-Name","ID-Nr","Benennung","RAL","Stck","Bd","Notiz"]
["1_1",0,111296,"Test1","3730110a","Stuhl1","7016 fs",1,1]
["1_2",0,111296,"Test1","370000A3","Stuhl2","7016 fs",1,0]
[" ",0,111296,"Test1",37000005,"Stuhl3",0,1,0]
[" ",0,111296,"Test1","3730110A","Stuhl4","7016 fs",1,1]
[" ",0,111296,"Test1","370000A3","Stuhl5","7016 fs",1,0]
[" ",0,111296,"Test1",37000005,"Stuhl6",0,1,0]
["2_2",0,111296,"Test1","3730110A","Stuhl7","7016 fs",1,1]
[" ",0,111296,"Test1","370000A3","Stuhl8","7016 fs",1,0]
[" ",0,111296,"Test1",37000005,"Stuhl9",0,1,0]
[" ",0,111296,"Test1","3730110A","Stuhl10","7016 fs",9,1]
["3_5",0,111296,"Test1","370000A3","Stuhl11","7016 fs",9,0]
[" ",0,111296,"Test1","3766160A","Stuhl12","7016 fs",3,1]
[" ",0,111296,"Test1","3766160A","Stuhl13","7016 fs",8,1]
[" ",0,111296,"Test1",62100301,"Stuhl14",0,32,0]
[" ",0,111296,"Test1","3820110A","Stuhl15","7016 fs",1,1]
[" ",0,111296,"Test1","3920110A","Stuhl16","7016 fs",1,1]
[" ",0,111296,"Test1",62100301,"Stuhl17",0,4,0]
[" ","LG",111296,"Test1",87101802,"Stuhl18",6005,1,1]
[" ",0,111233,"Test2",77642601,"Tisch1",0,125,5]
[" ",0,111233,"Test2",77642601,"Tisch2",0,10,1]
[" ",0,111233,"Test2",73000002,"Tisch3",0,675,0]
[" ",0,111392,"Test3",65641902,"Tisch4",6005,50,2]
[" ",0,111392,"Test3",65641902,"Tisch5",6005,15,1]
[" ",4,110379,"Test4",67144852,"Tisch6",6005,29,5]
[" ",0,111472,"Test5",84102007,"Tisch7",0,1,1]
[" ",4,111472,"Test5","841016a8","Tisch8",7016,2,2]
[" ",4,111472,"Test5","841020a8","Tisch9",7016,2,2]
[" ",0,111472,"Test5",73000003,"Tisch10",0,10,0]
[" ",0,111472,"Test5",62100153,"Tisch11",0,15,0]
[" ",0,111294,"Test6","3730112A","Tisch12","7016 fs",8,1]
[" ",0,111294,"Test6","370000A3","Tisch13","7016 fs",8,0]
[" ",0,111294,"Test6","3820112A","Tisch14","7016 fs",1,1]
[" ",0,111294,"Test6",38000005,"Tisch15",0,1,0]
[" ",4,111489,"Test6",63000000,"ccvvvvv",6005,2,2]

{"sheet":"Hilfstabelle","index":2,"n_rows":8581,"n_cols":4,"rows_kept":8581,"cut":false,"hidden":true,"merged":[]}
["Spalte1","Spalte2",null,"VT"]
[{"$f":"[2]Gr01!$A$11","v":0},"1_1",null,1]
[{"$f":"[2]Gr01!$A$12","v":0},"1_1",null,2]
[{"$f":"[2]Gr01!$A$13","v":0},"1_1",null,3]
[{"$f":"[2]Gr01!$A$14","v":0},"1_1",null,4]
[{"$f":"[2]Gr01!$A$15","v":0},"1_1",null,5]
[{"$f":"[2]Gr01!$A$16","v":0},"1_1",null,9]
[{"$f":"[2]Gr01!$A$17","v":0},"1_1"]
[{"$f":"[2]Gr01!$A$18","v":0},"1_1"]
[{"$f":"[2]Gr01!$A$19","v":0},"1_1"]
[{"$f":"[2]Gr01!$A$20","v":0},"1_1"]
[{"$f":"[2]Gr01!$A$21","v":0},"1_1"]
[{"$f":"[2]Gr01!$A$22","v":0},"1_1"]
[{"$f":"[2]Gr01!$A$23","v":0},"1_1"]
[{"$f":"[2]Gr01!$A$24","v":0},"1_1"]
[{"$f":"[2]Gr01!$A$25","v":0},"1_1"]
[{"$f":"[2]Gr01!$A$26","v":0},"1_1"]
[{"$f":"[2]Gr01!$A$27","v":0},"1_1"]
[{"$f":"[2]Gr01!$A$28","v":0},"1_1"]
[{"$f":"[2]Gr01!$A$29","v":0},"1_1"]
[{"$f":"[2]Gr01!$A$30","v":0},"1_1"]
[{"$f":"[2]Gr01!$A$31","v":0},"1_1"]
[{"$f":"[2]Gr01!$A$32","v":0},"1_1"]
[{"$f":"[2]Gr01!$A$33","v":0},"1_1"]
[{"$f":"[2]Gr01!$A$34","v":0},"1_1"]
[{"$f":"[2]Gr01!$A$35","v":0},"1_1"]
[{"$f":"[2]Gr01!$A$36","v":0},"1_1"]
[{"$f":"[2]Gr01!$A$37","v":0},"1_1"]
[{"$f":"[2]Gr01!$A$38","v":0},"1_1"]
[{"$f":"[2]Gr01!$A$39","v":0},"1_1"]
[{"$f":"[2]Gr01!$A$40","v":0},"1_1"]
[{"$f":"[2]Gr01!$A$41","v":0},"1_1"]
[{"$f":"[2]Gr01!$A$42","v":0},"1_1"]
[{"$f":"[2]Gr01!$A$43","v":0},"1_1"]
[{"$f":"[2]Gr01!$A$44","v":0},"1_1"]
[{"$f":"[2]Gr01!$A$45","v":0},"1_1"]
[{"$f":"[2]Gr01!$A$46","v":0},"1_1"]
[{"$f":"[2]Gr01!$A$47","v":0},"1_1"]
[{"$f":"[2]Gr01!$A$48","v":0},"1_1"]
[{"$f":"[2]Gr01!$A$49","v":0},"1_1"]
[{"$f":"[2]Gr01!$A$50","v":0},"1_1"]
[{"$f":"[2]Gr01!$A$51","v":0},"1_1"]
[{"$f":"[2]Gr01!$A$52","v":0},"1_1"]
[{"$f":"[2]Gr01!$A$53","v":0},"1_1"]
[{"$f":"[2]Gr01!$A$54","v":0},"1_1"]
[{"$f":"[2]Gr01!$A$55","v":0},"1_1"]
[{"$f":"[2]Gr01!$A$56","v":0},"1_1"]
[{"$f":"[2]Gr01!$A$57","v":0},"1_1"]
[{"$f":"[2]Gr01!$A$58","v":0},"1_1"]
[{"$f":"[2]Gr01!$A$59","v":0},"1_1"]
[{"$f":"[2]Gr01!$A$60","v":0},"1_1"]
[{"$f":"[2]Gr01!$A$61","v":0},"1_1"]
[{"$f":"[2]Gr01!$A$62","v":0},"1_1"]
[{"$f":"[2]Gr01!$A$63","v":0},"1_1"]
[{"$f":"[2]Gr01!$A$64","v":0},"1_1"]
[{"$f":"[2]Gr01!$A$65","v":0},"1_1"]
[{"$f":"[2]Gr01!$A$66","v":0},"1_1"]
[{"$f":"[2]Gr01!$A$67","v":0},"1_1"]
[{"$f":"[2]Gr01!$A$68","v":0},"1_1"]
[{"$f":"[2]Gr01!$A$69","v":0},"1_1"]
[{"$f":"[2]Gr01!$A$70","v":0},"1_1"]
[{"$f":"[2]Gr01!$A$71","v":0},"1_1"]
[{"$f":"[2]Gr01!$A$72","v":0},"1_1"]
[{"$f":"[2]Gr01!$A$73","v":0},"1_1"]
[{"$f":"[2]Gr01!$A$74","v":0},"1_1"]
[{"$f":"[2]Gr01!$A$75","v":0},"1_1"]
[{"$f":"[2]Gr01!$A$76","v":0},"1_1"]
[{"$f":"[2]Gr01!$A$77","v":0},"1_1"]
[{"$f":"[2]Gr01!$A$78","v":0},"1_1"]
[{"$f":"[2]Gr01!$A$79","v":0},"1_1"]
[{"$f":"[2]Gr01!$A$80","v":0},"1_1"]
[{"$f":"[2]Gr01!$A$81","v":0},"1_1"]
[{"$f":"[2]Gr01!$A$82","v":0},"1_1"]
[{"$f":"[2]Gr01!$A$83","v":0},"1_1"]
[{"$f":"[2]Gr01!$A$84","v":0},"1_1"]
[{"$f":"[2]Gr01!$A$85","v":0},"1_1"]
[{"$f":"[2]Gr01!$A$86","v":0},"1_1"]
[{"$f":"[2]Gr01!$A$87","v":0},"1_1"]
[{"$f":"[2]Gr01!$A$88","v":0},"1_1"]
[{"$f":"[2]Gr01!$A$89","v":0},"1_1"]
[{"$f":"[2]Gr01!$A$90","v":0},"1_1"]
[{"$f":"[2]Gr01!$A$91","v":0},"1_1"]
[{"$f":"[2]Gr01!$A$92","v":0},"1_1"]
[{"$f":"[2]Gr01!$A$93","v":0},"1_1"]
[{"$f":"[2]Gr01!$A$94","v":0},"1_1"]
[{"$f":"[2]Gr01!$A$95","v":0},"1_1"]
[{"$f":"[2]Gr01!$A$96","v":0},"1_1"]
[{"$f":"[2]Gr01!$A$97","v":0},"1_1"]
[{"$f":"[2]Gr01!$A$98","v":0},"1_1"]
[{"$f":"[2]Gr01!$A$99","v":0},"1_1"]
[{"$f":"[2]Gr01!$A$111","v":68},"1_2"]
[{"$f":"[2]Gr01!$A$112","v":470},"1_2"]
[{"$f":"[2]Gr01!$A$113","v":0},"1_2"]
[{"$f":"[2]Gr01!$A$114","v":0},"1_2"]
[{"$f":"[2]Gr01!$A$115","v":0},"1_2"]
[{"$f":"[2]Gr01!$A$116","v":0},"1_2"]
[{"$f":"[2]Gr01!$A$117","v":0},"1_2"]
[{"$f":"[2]Gr01!$A$118","v":0},"1_2"]
[{"$f":"[2]Gr01!$A$119","v":0},"1_2"]
[{"$f":"[2]Gr01!$A$120","v":0},"1_2"]
[{"$f":"[2]Gr01!$A$121","v":0},"1_2"]
[{"$f":"[2]Gr01!$A$122","v":0},"1_2"]
[{"$f":"[2]Gr01!$A$123","v":0},"1_2"]
[{"$f":"[2]Gr01!$A$124","v":0},"1_2"]
[{"$f":"[2]Gr01!$A$125","v":0},"1_2"]
[{"$f":"[2]Gr01!$A$126","v":0},"1_2"]
[{"$f":"[2]Gr01!$A$127","v":0},"1_2"]
[{"$f":"[2]Gr01!$A$128","v":0},"1_2"]
[{"$f":"[2]Gr01!$A$129","v":0},"1_2"]
[{"$f":"[2]Gr01!$A$130","v":0},"1_2"]
[{"$f":"[2]Gr01!$A$131","v":0},"1_2"]
[{"$f":"[2]Gr01!$A$132","v":0},"1_2"]
[{"$f":"[2]Gr01!$A$133","v":0},"1_2"]
[{"$f":"[2]Gr01!$A$134","v":0},"1_2"]
[{"$f":"[2]Gr01!$A$135","v":0},"1_2"]
[{"$f":"[2]Gr01!$A$136","v":0},"1_2"]
[{"$f":"[2]Gr01!$A$137","v":0},"1_2"]
[{"$f":"[2]Gr01!$A$138","v":0},"1_2"]
[{"$f":"[2]Gr01!$A$139","v":0},"1_2"]
[{"$f":"[2]Gr01!$A$140","v":0},"1_2"]
[{"$f":"[2]Gr01!$A$141","v":0},"1_2"]
[{"$f":"[2]Gr01!$A$142","v":0},"1_2"]
[{"$f":"[2]Gr01!$A$143","v":0},"1_2"]
[{"$f":"[2]Gr01!$A$144","v":0},"1_2"]
[{"$f":"[2]Gr01!$A$145","v":0},"1_2"]
[{"$f":"[2]Gr01!$A$146","v":0},"1_2"]
[{"$f":"[2]Gr01!$A$147","v":0},"1_2"]
[{"$f":"[2]Gr01!$A$148","v":0},"1_2"]
[{"$f":"[2]Gr01!$A$149","v":0},"1_2"]
[{"$f":"[2]Gr01!$A$150","v":0},"1_2"]
[{"$f":"[2]Gr01!$A$151","v":0},"1_2"]
[{"$f":"[2]Gr01!$A$152","v":0},"1_2"]
[{"$f":"[2]Gr01!$A$153","v":0},"1_2"]
[{"$f":"[2]Gr01!$A$154","v":0},"1_2"]
[{"$f":"[2]Gr01!$A$155","v":0},"1_2"]
[{"$f":"[2]Gr01!$A$156","v":0},"1_2"]
[{"$f":"[2]Gr01!$A$157","v":0},"1_2"]
[{"$f":"[2]Gr01!$A$158","v":0},"1_2"]
[{"$f":"[2]Gr01!$A$159","v":0},"1_2"]
[{"$f":"[2]Gr01!$A$160","v":0},"1_2"]
[{"$f":"[2]Gr01!$A$161","v":0},"1_2"]
[{"$f":"[2]Gr01!$A$162","v":0},"1_2"]
[{"$f":"[2]Gr01!$A$163","v":0},"1_2"]
[{"$f":"[2]Gr01!$A$164","v":0},"1_2"]
[{"$f":"[2]Gr01!$A$165","v":0},"1_2"]
[{"$f":"[2]Gr01!$A$166","v":0},"1_2"]
[{"$f":"[2]Gr01!$A$167","v":0},"1_2"]
[{"$f":"[2]Gr01!$A$168","v":0},"1_2"]
[{"$f":"[2]Gr01!$A$169","v":0},"1_2"]
[{"$f":"[2]Gr01!$A$170","v":0},"1_2"]
[{"$f":"[2]Gr01!$A$171","v":0},"1_2"]
[{"$f":"[2]Gr01!$A$172","v":0},"1_2"]
[{"$f":"[2]Gr01!$A$173","v":0},"1_2"]
[{"$f":"[2]Gr01!$A$174","v":0},"1_2"]
[{"$f":"[2]Gr01!$A$175","v":0},"1_2"]
[{"$f":"[2]Gr01!$A$176","v":0},"1_2"]
[{"$f":"[2]Gr01!$A$177","v":0},"1_2"]
[{"$f":"[2]Gr01!$A$178","v":0},"1_2"]
[{"$f":"[2]Gr01!$A$179","v":0},"1_2"]
[{"$f":"[2]Gr01!$A$180","v":0},"1_2"]
[{"$f":"[2]Gr01!$A$181","v":0},"1_2"]
[{"$f":"[2]Gr01!$A$182","v":0},"1_2"]
[{"$f":"[2]Gr01!$A$183","v":0},"1_2"]
[{"$f":"[2]Gr01!$A$184","v":0},"1_2"]
[{"$f":"[2]Gr01!$A$185","v":0},"1_2"]
[{"$f":"[2]Gr01!$A$186","v":0},"1_2"]
[{"$f":"[2]Gr01!$A$187","v":0},"1_2"]
[{"$f":"[2]Gr01!$A$188","v":0},"1_2"]
[{"$f":"[2]Gr01!$A$189","v":0},"1_2"]
[{"$f":"[2]Gr01!$A$190","v":0},"1_2"]
[{"$f":"[2]Gr01!$A$191","v":0},"1_2"]
[{"$f":"[2]Gr01!$A$192","v":0},"1_2"]
[{"$f":"[2]Gr01!$A$193","v":0},"1_2"]
[{"$f":"[2]Gr01!$A$194","v":0},"1_2"]
[{"$f":"[2]Gr01!$A$195","v":0},"1_2"]
[{"$f":"[2]Gr01!$A$196","v":0},"1_2"]
[{"$f":"[2]Gr01!$A$197","v":0},"1_2"]
[{"$f":"[2]Gr01!$A$198","v":0},"1_2"]
[{"$f":"[2]Gr01!$A$199","v":0},"1_2"]
[{"$f":"[2]Gr01!$A$211","v":913},"1_3"]
[{"$f":"[2]Gr01!$A$212","v":474},"1_3"]
[{"$f":"[2]Gr01!$A$213","v":22},"1_3"]
[{"$f":"[2]Gr01!$A$214","v":0},"1_3"]
[{"$f":"[2]Gr01!$A$215","v":0},"1_3"]
[{"$f":"[2]Gr01!$A$216","v":0},"1_3"]
[{"$f":"[2]Gr01!$A$217","v":0},"1_3"]
[{"$f":"[2]Gr01!$A$218","v":0},"1_3"]
[{"$f":"[2]Gr01!$A$219","v":0},"1_3"]
[{"$f":"[2]Gr01!$A$220","v":0},"1_3"]
[{"$f":"[2]Gr01!$A$221","v":0},"1_3"]
[{"$f":"[2]Gr01!$A$222","v":0},"1_3"]
[{"$f":"[2]Gr01!$A$223","v":0},"1_3"]
[{"$f":"[2]Gr01!$A$224","v":0},"1_3"]
[{"$f":"[2]Gr01!$A$225","v":0},"1_3"]
[{"$f":"[2]Gr01!$A$226","v":0},"1_3"]
[{"$f":"[2]Gr01!$A$227","v":0},"1_3"]
[{"$f":"[2]Gr01!$A$228","v":0},"1_3"]
[{"$f":"[2]Gr01!$A$229","v":0},"1_3"]
[{"$f":"[2]Gr01!$A$230","v":0},"1_3"]
[{"$f":"[2]Gr01!$A$231","v":0},"1_3"]
[{"$f":"[2]Gr01!$A$232","v":0},"1_3"]
[{"$f":"[2]Gr01!$A$233","v":0},"1_3"]
[{"$f":"[2]Gr01!$A$234","v":0},"1_3"]
[{"$f":"[2]Gr01!$A$235","v":0},"1_3"]
[{"$f":"[2]Gr01!$A$236","v":0},"1_3"]
[{"$f":"[2]Gr01!$A$237","v":0},"1_3"]
[{"$f":"[2]Gr01!$A$238","v":0},"1_3"]
[{"$f":"[2]Gr01!$A$239","v":0},"1_3"]
[{"$f":"[2]Gr01!$A$240","v":0},"1_3"]
[{"$f":"[2]Gr01!$A$241","v":0},"1_3"]
[{"$f":"[2]Gr01!$A$242","v":0},"1_3"]
[{"$f":"[2]Gr01!$A$243","v":0},"1_3"]
[{"$f":"[2]Gr01!$A$244","v":0},"1_3"]
[{"$f":"[2]Gr01!$A$245","v":0},"1_3"]
[{"$f":"[2]Gr01!$A$246","v":0},"1_3"]
[{"$f":"[2]Gr01!$A$247","v":0},"1_3"]
[{"$f":"[2]Gr01!$A$248","v":0},"1_3"]
[{"$f":"[2]Gr01!$A$249","v":0},"1_3"]
[{"$f":"[2]Gr01!$A$250","v":0},"1_3"]
[{"$f":"[2]Gr01!$A$251","v":0},"1_3"]
[{"$f":"[2]Gr01!$A$252","v":0},"1_3"]
[{"$f":"[2]Gr01!$A$253","v":0},"1_3"]
[{"$f":"[2]Gr01!$A$254","v":0},"1_3"]
[{"$f":"[2]Gr01!$A$255","v":0},"1_3"]
[{"$f":"[2]Gr01!$A$256","v":0},"1_3"]
[{"$f":"[2]Gr01!$A$257","v":0},"1_3"]
[{"$f":"[2]Gr01!$A$258","v":0},"1_3"]
[{"$f":"[2]Gr01!$A$259","v":0},"1_3"]
[{"$f":"[2]Gr01!$A$260","v":0},"1_3"]
[{"$f":"[2]Gr01!$A$261","v":0},"1_3"]
[{"$f":"[2]Gr01!$A$262","v":0},"1_3"]
[{"$f":"[2]Gr01!$A$263","v":0},"1_3"]
[{"$f":"[2]Gr01!$A$264","v":0},"1_3"]
[{"$f":"[2]Gr01!$A$265","v":0},"1_3"]
[{"$f":"[2]Gr01!$A$266","v":0},"1_3"]
[{"$f":"[2]Gr01!$A$267","v":0},"1_3"]
[{"$f":"[2]Gr01!$A$268","v":0},"1_3"]
[{"$f":"[2]Gr01!$A$269","v":0},"1_3"]
[{"$f":"[2]Gr01!$A$270","v":0},"1_3"]
[{"$f":"[2]Gr01!$A$271","v":0},"1_3"]
[{"$f":"[2]Gr01!$A$272","v":0},"1_3"]
[{"$f":"[2]Gr01!$A$273","v":0},"1_3"]
[{"$f":"[2]Gr01!$A$274","v":0},"1_3"]
[{"$f":"[2]Gr01!$A$275","v":0},"1_3"]
[{"$f":"[2]Gr01!$A$276","v":0},"1_3"]
[{"$f":"[2]Gr01!$A$277","v":0},"1_3"]
[{"$f":"[2]Gr01!$A$278","v":0},"1_3"]
[{"$f":"[2]Gr01!$A$279","v":0},"1_3"]
[{"$f":"[2]Gr01!$A$280","v":0},"1_3"]
[{"$f":"[2]Gr01!$A$281","v":0},"1_3"]
[{"$f":"[2]Gr01!$A$282","v":0},"1_3"]
[{"$f":"[2]Gr01!$A$283","v":0},"1_3"]
[{"$f":"[2]Gr01!$A$284","v":0},"1_3"]
[{"$f":"[2]Gr01!$A$285","v":0},"1_3"]
[{"$f":"[2]Gr01!$A$286","v":0},"1_3"]
[{"$f":"[2]Gr01!$A$287","v":0},"1_3"]
[{"$f":"[2]Gr01!$A$288","v":0},"1_3"]
[{"$f":"[2]Gr01!$A$289","v":0},"1_3"]
[{"$f":"[2]Gr01!$A$290","v":0},"1_3"]
[{"$f":"[2]Gr01!$A$291","v":0},"1_3"]
[{"$f":"[2]Gr01!$A$292","v":0},"1_3"]
[{"$f":"[2]Gr01!$A$293","v":0},"1_3"]
[{"$f":"[2]Gr01!$A$294","v":0},"1_3"]
[{"$f":"[2]Gr01!$A$295","v":0},"1_3"]
[{"$f":"[2]Gr01!$A$296","v":0},"1_3"]
[{"$f":"[2]Gr01!$A$297","v":0},"1_3"]
[{"$f":"[2]Gr01!$A$298","v":0},"1_3"]
[{"$f":"[2]Gr01!$A$299","v":0},"1_3"]
[{"$f":"[2]Gr01!$A$311","v":0},"1_4"]
[{"$f":"[2]Gr01!$A$312","v":0},"1_4"]
[{"$f":"[2]Gr01!$A$313","v":0},"1_4"]
[{"$f":"[2]Gr01!$A$314","v":0},"1_4"]
[{"$f":"[2]Gr01!$A$315","v":0},"1_4"]
[{"$f":"[2]Gr01!$A$316","v":0},"1_4"]
[{"$f":"[2]Gr01!$A$317","v":0},"1_4"]
[{"$f":"[2]Gr01!$A$318","v":0},"1_4"]
[{"$f":"[2]Gr01!$A$319","v":0},"1_4"]
[{"$f":"[2]Gr01!$A$320","v":0},"1_4"]
[{"$f":"[2]Gr01!$A$321","v":0},"1_4"]
[{"$f":"[2]Gr01!$A$322","v":0},"1_4"]
[{"$f":"[2]Gr01!$A$323","v":0},"1_4"]
[{"$f":"[2]Gr01!$A$324","v":0},"1_4"]
[{"$f":"[2]Gr01!$A$325","v":0},"1_4"]
[{"$f":"[2]Gr01!$A$326","v":0},"1_4"]
[{"$f":"[2]Gr01!$A$327","v":0},"1_4"]
[{"$f":"[2]Gr01!$A$328","v":0},"1_4"]
[{"$f":"[2]Gr01!$A$329","v":0},"1_4"]
[{"$f":"[2]Gr01!$A$330","v":0},"1_4"]
[{"$f":"[2]Gr01!$A$331","v":0},"1_4"]
[{"$f":"[2]Gr01!$A$332","v":0},"1_4"]
[{"$f":"[2]Gr01!$A$333","v":0},"1_4"]
[{"$f":"[2]Gr01!$A$334","v":0},"1_4"]
[{"$f":"[2]Gr01!$A$335","v":0},"1_4"]
[{"$f":"[2]Gr01!$A$336","v":0},"1_4"]
[{"$f":"[2]Gr01!$A$337","v":0},"1_4"]
[{"$f":"[2]Gr01!$A$338","v":0},"1_4"]
[{"$f":"[2]Gr01!$A$339","v":0},"1_4"]
[{"$f":"[2]Gr01!$A$340","v":0},"1_4"]
[{"$f":"[2]Gr01!$A$341","v":0},"1_4"]
[{"$f":"[2]Gr01!$A$342","v":0},"1_4"]
[{"$f":"[2]Gr01!$A$343","v":0},"1_4"]
[{"$f":"[2]Gr01!$A$344","v":0},"1_4"]
[{"$f":"[2]Gr01!$A$345","v":0},"1_4"]
[{"$f":"[2]Gr01!$A$346","v":0},"1_4"]
[{"$f":"[2]Gr01!$A$347","v":0},"1_4"]
[{"$f":"[2]Gr01!$A$348","v":0},"1_4"]
[{"$f":"[2]Gr01!$A$349","v":0},"1_4"]
[{"$f":"[2]Gr01!$A$350","v":0},"1_4"]
[{"$f":"[2]Gr01!$A$351","v":0},"1_4"]
[{"$f":"[2]Gr01!$A$352","v":0},"1_4"]
[{"$f":"[2]Gr01!$A$353","v":0},"1_4"]
[{"$f":"[2]Gr01!$A$354","v":0},"1_4"]
[{"$f":"[2]Gr01!$A$355","v":0},"1_4"]
[{"$f":"[2]Gr01!$A$356","v":0},"1_4"]
[{"$f":"[2]Gr01!$A$357","v":0},"1_4"]
[{"$f":"[2]Gr01!$A$358","v":0},"1_4"]
[{"$f":"[2]Gr01!$A$359","v":0},"1_4"]
[{"$f":"[2]Gr01!$A$360","v":0},"1_4"]
[{"$f":"[2]Gr01!$A$361","v":0},"1_4"]
[{"$f":"[2]Gr01!$A$362","v":0},"1_4"]
[{"$f":"[2]Gr01!$A$363","v":0},"1_4"]
[{"$f":"[2]Gr01!$A$364","v":0},"1_4"]
[{"$f":"[2]Gr01!$A$365","v":0},"1_4"]
[{"$f":"[2]Gr01!$A$366","v":0},"1_4"]
[{"$f":"[2]Gr01!$A$367","v":0},"1_4"]
[{"$f":"[2]Gr01!$A$368","v":0},"1_4"]
[{"$f":"[2]Gr01!$A$369","v":0},"1_4"]
[{"$f":"[2]Gr01!$A$370","v":0},"1_4"]
[{"$f":"[2]Gr01!$A$371","v":0},"1_4"]
[{"$f":"[2]Gr01!$A$372","v":0},"1_4"]
[{"$f":"[2]Gr01!$A$373","v":0},"1_4"]
[{"$f":"[2]Gr01!$A$374","v":0},"1_4"]
[{"$f":"[2]Gr01!$A$375","v":0},"1_4"]
[{"$f":"[2]Gr01!$A$376","v":0},"1_4"]
[{"$f":"[2]Gr01!$A$377","v":0},"1_4"]
[{"$f":"[2]Gr01!$A$378","v":0},"1_4"]
[{"$f":"[2]Gr01!$A$379","v":0},"1_4"]
[{"$f":"[2]Gr01!$A$380","v":0},"1_4"]
[{"$f":"[2]Gr01!$A$381","v":0},"1_4"]
[{"$f":"[2]Gr01!$A$382","v":0},"1_4"]
[{"$f":"[2]Gr01!$A$383","v":0},"1_4"]
[{"$f":"[2]Gr01!$A$384","v":0},"1_4"]
[{"$f":"[2]Gr01!$A$385","v":0},"1_4"]
[{"$f":"[2]Gr01!$A$386","v":0},"1_4"]
[{"$f":"[2]Gr01!$A$387","v":0},"1_4"]
[{"$f":"[2]Gr01!$A$388","v":0},"1_4"]
[{"$f":"[2]Gr01!$A$389","v":0},"1_4"]
[{"$f":"[2]Gr01!$A$390","v":0},"1_4"]
[{"$f":"[2]Gr01!$A$391","v":0},"1_4"]
[{"$f":"[2]Gr01!$A$392","v":0},"1_4"]
[{"$f":"[2]Gr01!$A$393","v":0},"1_4"]
[{"$f":"[2]Gr01!$A$394","v":0},"1_4"]
[{"$f":"[2]Gr01!$A$395","v":0},"1_4"]
[{"$f":"[2]Gr01!$A$396","v":0},"1_4"]
[{"$f":"[2]Gr01!$A$397","v":0},"1_4"]
[{"$f":"[2]Gr01!$A$398","v":0},"1_4"]
[{"$f":"[2]Gr01!$A$399","v":0},"1_4"]
[{"$f":"[2]Gr01!$A$411","v":0},"1_5"]
[{"$f":"[2]Gr01!$A$412","v":0},"1_5"]
[{"$f":"[2]Gr01!$A$413","v":0},"1_5"]
[{"$f":"[2]Gr01!$A$414","v":0},"1_5"]
[{"$f":"[2]Gr01!$A$415","v":0},"1_5"]
[{"$f":"[2]Gr01!$A$416","v":0},"1_5"]
[{"$f":"[2]Gr01!$A$417","v":0},"1_5"]
[{"$f":"[2]Gr01!$A$418","v":0},"1_5"]
[{"$f":"[2]Gr01!$A$419","v":0},"1_5"]
[{"$f":"[2]Gr01!$A$420","v":0},"1_5"]
[{"$f":"[2]Gr01!$A$421","v":0},"1_5"]
[{"$f":"[2]Gr01!$A$422","v":0},"1_5"]
[{"$f":"[2]Gr01!$A$423","v":0},"1_5"]
[{"$f":"[2]Gr01!$A$424","v":0},"1_5"]
[{"$f":"[2]Gr01!$A$425","v":0},"1_5"]
[{"$f":"[2]Gr01!$A$426","v":0},"1_5"]
[{"$f":"[2]Gr01!$A$427","v":0},"1_5"]
[{"$f":"[2]Gr01!$A$428","v":0},"1_5"]
[{"$f":"[2]Gr01!$A$429","v":0},"1_5"]
[{"$f":"[2]Gr01!$A$430","v":0},"1_5"]
[{"$f":"[2]Gr01!$A$431","v":0},"1_5"]
[{"$f":"[2]Gr01!$A$432","v":0},"1_5"]
[{"$f":"[2]Gr01!$A$433","v":0},"1_5"]
[{"$f":"[2]Gr01!$A$434","v":0},"1_5"]
[{"$f":"[2]Gr01!$A$435","v":0},"1_5"]
[{"$f":"[2]Gr01!$A$436","v":0},"1_5"]
[{"$f":"[2]Gr01!$A$437","v":0},"1_5"]
[{"$f":"[2]Gr01!$A$438","v":0},"1_5"]
[{"$f":"[2]Gr01!$A$439","v":0},"1_5"]
[{"$f":"[2]Gr01!$A$440","v":0},"1_5"]
[{"$f":"[2]Gr01!$A$441","v":0},"1_5"]
[{"$f":"[2]Gr01!$A$442","v":0},"1_5"]
[{"$f":"[2]Gr01!$A$443","v":0},"1_5"]
[{"$f":"[2]Gr01!$A$444","v":0},"1_5"]
[{"$f":"[2]Gr01!$A$445","v":0},"1_5"]
[{"$f":"[2]Gr01!$A$446","v":0},"1_5"]
[{"$f":"[2]Gr01!$A$447","v":0},"1_5"]
[{"$f":"[2]Gr01!$A$448","v":0},"1_5"]
[{"$f":"[2]Gr01!$A$449","v":0},"1_5"]
[{"$f":"[2]Gr01!$A$450","v":0},"1_5"]
[{"$f":"[2]Gr01!$A$451","v":0},"1_5"]
[{"$f":"[2]Gr01!$A$452","v":0},"1_5"]
[{"$f":"[2]Gr01!$A$453","v":0},"1_5"]
[{"$f":"[2]Gr01!$A$454","v":0},"1_5"]
[{"$f":"[2]Gr01!$A$455","v":0},"1_5"]
[{"$f":"[2]Gr01!$A$456","v":0},"1_5"]
[{"$f":"[2]Gr01!$A$457","v":0},"1_5"]
[{"$f":"[2]Gr01!$A$458","v":0},"1_5"]
[{"$f":"[2]Gr01!$A$459","v":0},"1_5"]
[{"$f":"[2]Gr01!$A$460","v":0},"1_5"]
[{"$f":"[2]Gr01!$A$461","v":0},"1_5"]
[{"$f":"[2]Gr01!$A$462","v":0},"1_5"]
[{"$f":"[2]Gr01!$A$463","v":0},"1_5"]
[{"$f":"[2]Gr01!$A$464","v":0},"1_5"]
[{"$f":"[2]Gr01!$A$465","v":0},"1_5"]
[{"$f":"[2]Gr01!$A$466","v":0},"1_5"]
[{"$f":"[2]Gr01!$A$467","v":0},"1_5"]
[{"$f":"[2]Gr01!$A$468","v":0},"1_5"]
[{"$f":"[2]Gr01!$A$469","v":0},"1_5"]
[{"$f":"[2]Gr01!$A$470","v":0},"1_5"]
[{"$f":"[2]Gr01!$A$471","v":0},"1_5"]
[{"$f":"[2]Gr01!$A$472","v":0},"1_5"]
[{"$f":"[2]Gr01!$A$473","v":0},"1_5"]
[{"$f":"[2]Gr01!$A$474","v":0},"1_5"]
[{"$f":"[2]Gr01!$A$475","v":0},"1_5"]
[{"$f":"[2]Gr01!$A$476","v":0},"1_5"]
[{"$f":"[2]Gr01!$A$477","v":0},"1_5"]
[{"$f":"[2]Gr01!$A$478","v":0},"1_5"]
[{"$f":"[2]Gr01!$A$479","v":0},"1_5"]
[{"$f":"[2]Gr01!$A$480","v":0},"1_5"]
[{"$f":"[2]Gr01!$A$481","v":0},"1_5"]
[{"$f":"[2]Gr01!$A$482","v":0},"1_5"]
[{"$f":"[2]Gr01!$A$483","v":0},"1_5"]
[{"$f":"[2]Gr01!$A$484","v":0},"1_5"]
[{"$f":"[2]Gr01!$A$485","v":0},"1_5"]
[{"$f":"[2]Gr01!$A$486","v":0},"1_5"]
[{"$f":"[2]Gr01!$A$487","v":0},"1_5"]
[{"$f":"[2]Gr01!$A$488","v":0},"1_5"]
[{"$f":"[2]Gr01!$A$489","v":0},"1_5"]
[{"$f":"[2]Gr01!$A$490","v":0},"1_5"]
[{"$f":"[2]Gr01!$A$491","v":0},"1_5"]
[{"$f":"[2]Gr01!$A$492","v":0},"1_5"]
[{"$f":"[2]Gr01!$A$493","v":0},"1_5"]
[{"$f":"[2]Gr01!$A$494","v":0},"1_5"]
[{"$f":"[2]Gr01!$A$495","v":0},"1_5"]
[{"$f":"[2]Gr01!$A$496","v":0},"1_5"]
[{"$f":"[2]Gr01!$A$497","v":0},"1_5"]
[{"$f":"[2]Gr01!$A$498","v":0},"1_5"]
[{"$f":"[2]Gr01!$A$499","v":0},"1_5"]
[{"$f":"[2]Gr01!$A$511","v":0},"1_6"]
[{"$f":"[2]Gr01!$A$512","v":0},"1_6"]
[{"$f":"[2]Gr01!$A$513","v":0},"1_6"]
[{"$f":"[2]Gr01!$A$514","v":0},"1_6"]
[{"$f":"[2]Gr01!$A$515","v":0},"1_6"]
[{"$f":"[2]Gr01!$A$516","v":0},"1_6"]
[{"$f":"[2]Gr01!$A$517","v":0},"1_6"]
[{"$f":"[2]Gr01!$A$518","v":0},"1_6"]
[{"$f":"[2]Gr01!$A$519","v":0},"1_6"]
[{"$f":"[2]Gr01!$A$520","v":0},"1_6"]
[{"$f":"[2]Gr01!$A$521","v":0},"1_6"]
[{"$f":"[2]Gr01!$A$522","v":0},"1_6"]
[{"$f":"[2]Gr01!$A$523","v":0},"1_6"]
[{"$f":"[2]Gr01!$A$524","v":0},"1_6"]
[{"$f":"[2]Gr01!$A$525","v":0},"1_6"]
[{"$f":"[2]Gr01!$A$526","v":0},"1_6"]
[{"$f":"[2]Gr01!$A$527","v":0},"1_6"]
[{"$f":"[2]Gr01!$A$528","v":0},"1_6"]
[{"$f":"[2]Gr01!$A$529","v":0},"1_6"]
[{"$f":"[2]Gr01!$A$530","v":0},"1_6"]
[{"$f":"[2]Gr01!$A$531","v":0},"1_6"]
[{"$f":"[2]Gr01!$A$532","v":0},"1_6"]
[{"$f":"[2]Gr01!$A$533","v":0},"1_6"]
[{"$f":"[2]Gr01!$A$534","v":0},"1_6"]
[{"$f":"[2]Gr01!$A$535","v":0},"1_6"]
[{"$f":"[2]Gr01!$A$536","v":0},"1_6"]
[{"$f":"[2]Gr01!$A$537","v":0},"1_6"]
[{"$f":"[2]Gr01!$A$538","v":0},"1_6"]
[{"$f":"[2]Gr01!$A$539","v":0},"1_6"]
[{"$f":"[2]Gr01!$A$540","v":0},"1_6"]
[{"$f":"[2]Gr01!$A$541","v":0},"1_6"]
[{"$f":"[2]Gr01!$A$542","v":0},"1_6"]
[{"$f":"[2]Gr01!$A$543","v":0},"1_6"]
[{"$f":"[2]Gr01!$A$544","v":0},"1_6"]
[{"$f":"[2]Gr01!$A$545","v":0},"1_6"]
[{"$f":"[2]Gr01!$A$546","v":0},"1_6"]
[{"$f":"[2]Gr01!$A$547","v":0},"1_6"]
[{"$f":"[2]Gr01!$A$548","v":0},"1_6"]
[{"$f":"[2]Gr01!$A$549","v":0},"1_6"]
[{"$f":"[2]Gr01!$A$550","v":0},"1_6"]
[{"$f":"[2]Gr01!$A$551","v":0},"1_6"]
[{"$f":"[2]Gr01!$A$552","v":0},"1_6"]
[{"$f":"[2]Gr01!$A$553","v":0},"1_6"]
[{"$f":"[2]Gr01!$A$554","v":0},"1_6"]
[{"$f":"[2]Gr01!$A$555","v":0},"1_6"]
[{"$f":"[2]Gr01!$A$556","v":0},"1_6"]
[{"$f":"[2]Gr01!$A$557","v":0},"1_6"]
[{"$f":"[2]Gr01!$A$558","v":0},"1_6"]
[{"$f":"[2]Gr01!$A$559","v":0},"1_6"]
[{"$f":"[2]Gr01!$A$560","v":0},"1_6"]
[{"$f":"[2]Gr01!$A$561","v":0},"1_6"]
[{"$f":"[2]Gr01!$A$562","v":0},"1_6"]
[{"$f":"[2]Gr01!$A$563","v":0},"1_6"]
[{"$f":"[2]Gr01!$A$564","v":0},"1_6"]
[{"$f":"[2]Gr01!$A$565","v":0},"1_6"]
[{"$f":"[2]Gr01!$A$566","v":0},"1_6"]
[{"$f":"[2]Gr01!$A$567","v":0},"1_6"]
[{"$f":"[2]Gr01!$A$568","v":0},"1_6"]
[{"$f":"[2]Gr01!$A$569","v":0},"1_6"]
[{"$f":"[2]Gr01!$A$570","v":0},"1_6"]
[{"$f":"[2]Gr01!$A$571","v":0},"1_6"]
[{"$f":"[2]Gr01!$A$572","v":0},"1_6"]
[{"$f":"[2]Gr01!$A$573","v":0},"1_6"]
[{"$f":"[2]Gr01!$A$574","v":0},"1_6"]
[{"$f":"[2]Gr01!$A$575","v":0},"1_6"]
[{"$f":"[2]Gr01!$A$576","v":0},"1_6"]
[{"$f":"[2]Gr01!$A$577","v":0},"1_6"]
[{"$f":"[2]Gr01!$A$578","v":0},"1_6"]
[{"$f":"[2]Gr01!$A$579","v":0},"1_6"]
[{"$f":"[2]Gr01!$A$580","v":0},"1_6"]
[{"$f":"[2]Gr01!$A$581","v":0},"1_6"]
[{"$f":"[2]Gr01!$A$582","v":0},"1_6"]
[{"$f":"[2]Gr01!$A$583","v":0},"1_6"]
[{"$f":"[2]Gr01!$A$584","v":0},"1_6"]
[{"$f":"[2]Gr01!$A$585","v":0},"1_6"]
[{"$f":"[2]Gr01!$A$586","v":0},"1_6"]
[{"$f":"[2]Gr01!$A$587","v":0},"1_6"]
[{"$f":"[2]Gr01!$A$588","v":0},"1_6"]
[{"$f":"[2]Gr01!$A$589","v":0},"1_6"]
[{"$f":"[2]Gr01!$A$590","v":0},"1_6"]
[{"$f":"[2]Gr01!$A$591","v":0},"1_6"]
[{"$f":"[2]Gr01!$A$592","v":0},"1_6"]
[{"$f":"[2]Gr01!$A$593","v":0},"1_6"]
[{"$f":"[2]Gr01!$A$594","v":0},"1_6"]
[{"$f":"[2]Gr01!$A$595","v":0},"1_6"]
[{"$f":"[2]Gr01!$A$596","v":0},"1_6"]
[{"$f":"[2]Gr01!$A$597","v":0},"1_6"]
[{"$f":"[2]Gr01!$A$598","v":0},"1_6"]
[{"$f":"[2]Gr01!$A$599","v":0},"1_6"]
[{"$f":"[2]Gr02!$A$11","v":0},"2_1"]
[{"$f":"[2]Gr02!$A$12","v":0},"2_1"]
[{"$f":"[2]Gr02!$A$13","v":0},"2_1"]
[{"$f":"[2]Gr02!$A$14","v":0},"2_1"]
[{"$f":"[2]Gr02!$A$15","v":0},"2_1"]
[{"$f":"[2]Gr02!$A$16","v":0},"2_1"]
[{"$f":"[2]Gr02!$A$17","v":0},"2_1"]
[{"$f":"[2]Gr02!$A$18","v":0},"2_1"]
[{"$f":"[2]Gr02!$A$19","v":0},"2_1"]
[{"$f":"[2]Gr02!$A$20","v":0},"2_1"]
[{"$f":"[2]Gr02!$A$21","v":0},"2_1"]
[{"$f":"[2]Gr02!$A$22","v":0},"2_1"]
[{"$f":"[2]Gr02!$A$23","v":0},"2_1"]
[{"$f":"[2]Gr02!$A$24","v":0},"2_1"]
[{"$f":"[2]Gr02!$A$25","v":0},"2_1"]
[{"$f":"[2]Gr02!$A$26","v":0},"2_1"]
[{"$f":"[2]Gr02!$A$27","v":0},"2_1"]
[{"$f":"[2]Gr02!$A$28","v":0},"2_1"]
[{"$f":"[2]Gr02!$A$29","v":0},"2_1"]
[{"$f":"[2]Gr02!$A$30","v":0},"2_1"]
[{"$f":"[2]Gr02!$A$31","v":0},"2_1"]
[{"$f":"[2]Gr02!$A$32","v":0},"2_1"]
[{"$f":"[2]Gr02!$A$33","v":0},"2_1"]
[{"$f":"[2]Gr02!$A$34","v":0},"2_1"]
[{"$f":"[2]Gr02!$A$35","v":0},"2_1"]
[{"$f":"[2]Gr02!$A$36","v":0},"2_1"]
[{"$f":"[2]Gr02!$A$37","v":0},"2_1"]
[{"$f":"[2]Gr02!$A$38","v":0},"2_1"]
[{"$f":"[2]Gr02!$A$39","v":0},"2_1"]
[{"$f":"[2]Gr02!$A$40","v":0},"2_1"]
[{"$f":"[2]Gr02!$A$41","v":0},"2_1"]
[{"$f":"[2]Gr02!$A$42","v":0},"2_1"]
[{"$f":"[2]Gr02!$A$43","v":0},"2_1"]
[{"$f":"[2]Gr02!$A$44","v":0},"2_1"]
[{"$f":"[2]Gr02!$A$45","v":0},"2_1"]
[{"$f":"[2]Gr02!$A$46","v":0},"2_1"]
[{"$f":"[2]Gr02!$A$47","v":0},"2_1"]
[{"$f":"[2]Gr02!$A$48","v":0},"2_1"]
[{"$f":"[2]Gr02!$A$49","v":0},"2_1"]
[{"$f":"[2]Gr02!$A$50","v":0},"2_1"]
[{"$f":"[2]Gr02!$A$51","v":0},"2_1"]
[{"$f":"[2]Gr02!$A$52","v":0},"2_1"]
[{"$f":"[2]Gr02!$A$53","v":0},"2_1"]
[{"$f":"[2]Gr02!$A$54","v":0},"2_1"]
[{"$f":"[2]Gr02!$A$55","v":0},"2_1"]
[{"$f":"[2]Gr02!$A$56","v":0},"2_1"]
[{"$f":"[2]Gr02!$A$57","v":0},"2_1"]
[{"$f":"[2]Gr02!$A$58","v":0},"2_1"]
[{"$f":"[2]Gr02!$A$59","v":0},"2_1"]
[{"$f":"[2]Gr02!$A$60","v":0},"2_1"]
[{"$f":"[2]Gr02!$A$61","v":0},"2_1"]
[{"$f":"[2]Gr02!$A$62","v":0},"2_1"]
[{"$f":"[2]Gr02!$A$63","v":0},"2_1"]
[{"$f":"[2]Gr02!$A$64","v":0},"2_1"]
[{"$f":"[2]Gr02!$A$65","v":0},"2_1"]
[{"$f":"[2]Gr02!$A$66","v":0},"2_1"]
[{"$f":"[2]Gr02!$A$67","v":0},"2_1"]
[{"$f":"[2]Gr02!$A$68","v":0},"2_1"]
[{"$f":"[2]Gr02!$A$69","v":0},"2_1"]
[{"$f":"[2]Gr02!$A$70","v":0},"2_1"]
[{"$f":"[2]Gr02!$A$71","v":0},"2_1"]
[{"$f":"[2]Gr02!$A$72","v":0},"2_1"]
[{"$f":"[2]Gr02!$A$73","v":0},"2_1"]
[{"$f":"[2]Gr02!$A$74","v":0},"2_1"]
[{"$f":"[2]Gr02!$A$75","v":0},"2_1"]
[{"$f":"[2]Gr02!$A$76","v":0},"2_1"]
[{"$f":"[2]Gr02!$A$77","v":0},"2_1"]
[{"$f":"[2]Gr02!$A$78","v":0},"2_1"]
[{"$f":"[2]Gr02!$A$79","v":0},"2_1"]
[{"$f":"[2]Gr02!$A$80","v":0},"2_1"]
[{"$f":"[2]Gr02!$A$81","v":0},"2_1"]
[{"$f":"[2]Gr02!$A$82","v":0},"2_1"]
[{"$f":"[2]Gr02!$A$83","v":0},"2_1"]
[{"$f":"[2]Gr02!$A$84","v":0},"2_1"]
[{"$f":"[2]Gr02!$A$85","v":0},"2_1"]
[{"$f":"[2]Gr02!$A$86","v":0},"2_1"]
[{"$f":"[2]Gr02!$A$87","v":0},"2_1"]
[{"$f":"[2]Gr02!$A$88","v":0},"2_1"]
[{"$f":"[2]Gr02!$A$89","v":0},"2_1"]
[{"$f":"[2]Gr02!$A$90","v":0},"2_1"]
[{"$f":"[2]Gr02!$A$91","v":0},"2_1"]
[{"$f":"[2]Gr02!$A$92","v":0},"2_1"]
[{"$f":"[2]Gr02!$A$93","v":0},"2_1"]
[{"$f":"[2]Gr02!$A$94","v":0},"2_1"]
[{"$f":"[2]Gr02!$A$95","v":0},"2_1"]
[{"$f":"[2]Gr02!$A$96","v":0},"2_1"]
[{"$f":"[2]Gr02!$A$97","v":0},"2_1"]
[{"$f":"[2]Gr02!$A$98","v":0},"2_1"]
[{"$f":"[2]Gr02!$A$99","v":0},"2_1"]
[{"$f":"[2]Gr02!$A$111","v":0},"2_2"]
[{"$f":"[2]Gr02!$A$112","v":0},"2_2"]
[{"$f":"[2]Gr02!$A$113","v":0},"2_2"]
[{"$f":"[2]Gr02!$A$114","v":0},"2_2"]
[{"$f":"[2]Gr02!$A$115","v":0},"2_2"]
[{"$f":"[2]Gr02!$A$116","v":0},"2_2"]
[{"$f":"[2]Gr02!$A$117","v":0},"2_2"]
[{"$f":"[2]Gr02!$A$118","v":0},"2_2"]
[{"$f":"[2]Gr02!$A$119","v":0},"2_2"]
[{"$f":"[2]Gr02!$A$120","v":0},"2_2"]
[{"$f":"[2]Gr02!$A$121","v":0},"2_2"]
[{"$f":"[2]Gr02!$A$122","v":0},"2_2"]
[{"$f":"[2]Gr02!$A$123","v":0},"2_2"]
[{"$f":"[2]Gr02!$A$124","v":0},"2_2"]
[{"$f":"[2]Gr02!$A$125","v":0},"2_2"]
[{"$f":"[2]Gr02!$A$126","v":0},"2_2"]
[{"$f":"[2]Gr02!$A$127","v":0},"2_2"]
[{"$f":"[2]Gr02!$A$128","v":0},"2_2"]
[{"$f":"[2]Gr02!$A$129","v":0},"2_2"]
[{"$f":"[2]Gr02!$A$130","v":0},"2_2"]
[{"$f":"[2]Gr02!$A$131","v":0},"2_2"]
[{"$f":"[2]Gr02!$A$132","v":0},"2_2"]
[{"$f":"[2]Gr02!$A$133","v":0},"2_2"]
[{"$f":"[2]Gr02!$A$134","v":0},"2_2"]
[{"$f":"[2]Gr02!$A$135","v":0},"2_2"]
[{"$f":"[2]Gr02!$A$136","v":0},"2_2"]
[{"$f":"[2]Gr02!$A$137","v":0},"2_2"]
[{"$f":"[2]Gr02!$A$138","v":0},"2_2"]
[{"$f":"[2]Gr02!$A$139","v":0},"2_2"]
[{"$f":"[2]Gr02!$A$140","v":0},"2_2"]
[{"$f":"[2]Gr02!$A$141","v":0},"2_2"]
[{"$f":"[2]Gr02!$A$142","v":0},"2_2"]
[{"$f":"[2]Gr02!$A$143","v":0},"2_2"]
[{"$f":"[2]Gr02!$A$144","v":0},"2_2"]
[{"$f":"[2]Gr02!$A$145","v":0},"2_2"]
[{"$f":"[2]Gr02!$A$146","v":0},"2_2"]
[{"$f":"[2]Gr02!$A$147","v":0},"2_2"]
[{"$f":"[2]Gr02!$A$148","v":0},"2_2"]
[{"$f":"[2]Gr02!$A$149","v":0},"2_2"]
[{"$f":"[2]Gr02!$A$150","v":0},"2_2"]
[{"$f":"[2]Gr02!$A$151","v":0},"2_2"]
[{"$f":"[2]Gr02!$A$152","v":0},"2_2"]
[{"$f":"[2]Gr02!$A$153","v":0},"2_2"]
[{"$f":"[2]Gr02!$A$154","v":0},"2_2"]
[{"$f":"[2]Gr02!$A$155","v":0},"2_2"]
[{"$f":"[2]Gr02!$A$156","v":0},"2_2"]
[{"$f":"[2]Gr02!$A$157","v":0},"2_2"]
[{"$f":"[2]Gr02!$A$158","v":0},"2_2"]
[{"$f":"[2]Gr02!$A$159","v":0},"2_2"]
[{"$f":"[2]Gr02!$A$160","v":0},"2_2"]
[{"$f":"[2]Gr02!$A$161","v":0},"2_2"]
[{"$f":"[2]Gr02!$A$162","v":0},"2_2"]
[{"$f":"[2]Gr02!$A$163","v":0},"2_2"]
[{"$f":"[2]Gr02!$A$164","v":0},"2_2"]
[{"$f":"[2]Gr02!$A$165","v":0},"2_2"]
[{"$f":"[2]Gr02!$A$166","v":0},"2_2"]
[{"$f":"[2]Gr02!$A$167","v":0},"2_2"]
[{"$f":"[2]Gr02!$A$168","v":0},"2_2"]
[{"$f":"[2]Gr02!$A$169","v":0},"2_2"]
[{"$f":"[2]Gr02!$A$170","v":0},"2_2"]
[{"$f":"[2]Gr02!$A$171","v":0},"2_2"]
[{"$f":"[2]Gr02!$A$172","v":0},"2_2"]
[{"$f":"[2]Gr02!$A$173","v":0},"2_2"]
[{"$f":"[2]Gr02!$A$174","v":0},"2_2"]
[{"$f":"[2]Gr02!$A$175","v":0},"2_2"]
[{"$f":"[2]Gr02!$A$176","v":0},"2_2"]
[{"$f":"[2]Gr02!$A$177","v":0},"2_2"]
[{"$f":"[2]Gr02!$A$178","v":0},"2_2"]
[{"$f":"[2]Gr02!$A$179","v":0},"2_2"]
[{"$f":"[2]Gr02!$A$180","v":0},"2_2"]
[{"$f":"[2]Gr02!$A$181","v":0},"2_2"]
[{"$f":"[2]Gr02!$A$182","v":0},"2_2"]
[{"$f":"[2]Gr02!$A$183","v":0},"2_2"]
[{"$f":"[2]Gr02!$A$184","v":0},"2_2"]
[{"$f":"[2]Gr02!$A$185","v":0},"2_2"]
[{"$f":"[2]Gr02!$A$186","v":0},"2_2"]
[{"$f":"[2]Gr02!$A$187","v":0},"2_2"]
[{"$f":"[2]Gr02!$A$188","v":0},"2_2"]
[{"$f":"[2]Gr02!$A$189","v":0},"2_2"]
[{"$f":"[2]Gr02!$A$190","v":0},"2_2"]
[{"$f":"[2]Gr02!$A$191","v":0},"2_2"]
[{"$f":"[2]Gr02!$A$192","v":0},"2_2"]
[{"$f":"[2]Gr02!$A$193","v":0},"2_2"]
[{"$f":"[2]Gr02!$A$194","v":0},"2_2"]
[{"$f":"[2]Gr02!$A$195","v":0},"2_2"]
[{"$f":"[2]Gr02!$A$196","v":0},"2_2"]
[{"$f":"[2]Gr02!$A$197","v":0},"2_2"]
[{"$f":"[2]Gr02!$A$198","v":0},"2_2"]
[{"$f":"[2]Gr02!$A$199","v":0},"2_2"]
[{"$f":"[2]Gr02!$A$211","v":0},"2_3"]
[{"$f":"[2]Gr02!$A$212","v":0},"2_3"]
[{"$f":"[2]Gr02!$A$213","v":0},"2_3"]
[{"$f":"[2]Gr02!$A$214","v":0},"2_3"]
[{"$f":"[2]Gr02!$A$215","v":0},"2_3"]
[{"$f":"[2]Gr02!$A$216","v":0},"2_3"]
[{"$f":"[2]Gr02!$A$217","v":0},"2_3"]
[{"$f":"[2]Gr02!$A$218","v":0},"2_3"]
[{"$f":"[2]Gr02!$A$219","v":0},"2_3"]
[{"$f":"[2]Gr02!$A$220","v":0},"2_3"]
[{"$f":"[2]Gr02!$A$221","v":0},"2_3"]
[{"$f":"[2]Gr02!$A$222","v":0},"2_3"]
[{"$f":"[2]Gr02!$A$223","v":0},"2_3"]
[{"$f":"[2]Gr02!$A$224","v":0},"2_3"]
[{"$f":"[2]Gr02!$A$225","v":0},"2_3"]
[{"$f":"[2]Gr02!$A$226","v":0},"2_3"]
[{"$f":"[2]Gr02!$A$227","v":0},"2_3"]
[{"$f":"[2]Gr02!$A$228","v":0},"2_3"]
[{"$f":"[2]Gr02!$A$229","v":0},"2_3"]
[{"$f":"[2]Gr02!$A$230","v":0},"2_3"]
[{"$f":"[2]Gr02!$A$231","v":0},"2_3"]
[{"$f":"[2]Gr02!$A$232","v":0},"2_3"]
[{"$f":"[2]Gr02!$A$233","v":0},"2_3"]
[{"$f":"[2]Gr02!$A$234","v":0},"2_3"]
[{"$f":"[2]Gr02!$A$235","v":0},"2_3"]
[{"$f":"[2]Gr02!$A$236","v":0},"2_3"]
[{"$f":"[2]Gr02!$A$237","v":0},"2_3"]
[{"$f":"[2]Gr02!$A$238","v":0},"2_3"]
[{"$f":"[2]Gr02!$A$239","v":0},"2_3"]
[{"$f":"[2]Gr02!$A$240","v":0},"2_3"]
[{"$f":"[2]Gr02!$A$241","v":0},"2_3"]
[{"$f":"[2]Gr02!$A$242","v":0},"2_3"]
[{"$f":"[2]Gr02!$A$243","v":0},"2_3"]
[{"$f":"[2]Gr02!$A$244","v":0},"2_3"]
[{"$f":"[2]Gr02!$A$245","v":0},"2_3"]
[{"$f":"[2]Gr02!$A$246","v":0},"2_3"]
[{"$f":"[2]Gr02!$A$247","v":0},"2_3"]
[{"$f":"[2]Gr02!$A$248","v":0},"2_3"]
[{"$f":"[2]Gr02!$A$249","v":0},"2_3"]
[{"$f":"[2]Gr02!$A$250","v":0},"2_3"]
[{"$f":"[2]Gr02!$A$251","v":0},"2_3"]
[{"$f":"[2]Gr02!$A$252","v":0},"2_3"]
[{"$f":"[2]Gr02!$A$253","v":0},"2_3"]
[{"$f":"[2]Gr02!$A$254","v":0},"2_3"]
[{"$f":"[2]Gr02!$A$255","v":0},"2_3"]
[{"$f":"[2]Gr02!$A$256","v":0},"2_3"]
[{"$f":"[2]Gr02!$A$257","v":0},"2_3"]
[{"$f":"[2]Gr02!$A$258","v":0},"2_3"]
[{"$f":"[2]Gr02!$A$259","v":0},"2_3"]
[{"$f":"[2]Gr02!$A$260","v":0},"2_3"]
[{"$f":"[2]Gr02!$A$261","v":0},"2_3"]
[{"$f":"[2]Gr02!$A$262","v":0},"2_3"]
[{"$f":"[2]Gr02!$A$263","v":0},"2_3"]
[{"$f":"[2]Gr02!$A$264","v":0},"2_3"]
[{"$f":"[2]Gr02!$A$265","v":0},"2_3"]
[{"$f":"[2]Gr02!$A$266","v":0},"2_3"]
[{"$f":"[2]Gr02!$A$267","v":0},"2_3"]
[{"$f":"[2]Gr02!$A$268","v":0},"2_3"]
[{"$f":"[2]Gr02!$A$269","v":0},"2_3"]
[{"$f":"[2]Gr02!$A$270","v":0},"2_3"]
[{"$f":"[2]Gr02!$A$271","v":0},"2_3"]
[{"$f":"[2]Gr02!$A$272","v":0},"2_3"]
[{"$f":"[2]Gr02!$A$273","v":0},"2_3"]
[{"$f":"[2]Gr02!$A$274","v":0},"2_3"]
[{"$f":"[2]Gr02!$A$275","v":0},"2_3"]
[{"$f":"[2]Gr02!$A$276","v":0},"2_3"]
[{"$f":"[2]Gr02!$A$277","v":0},"2_3"]
[{"$f":"[2]Gr02!$A$278","v":0},"2_3"]
[{"$f":"[2]Gr02!$A$279","v":0},"2_3"]
[{"$f":"[2]Gr02!$A$280","v":0},"2_3"]
[{"$f":"[2]Gr02!$A$281","v":0},"2_3"]
[{"$f":"[2]Gr02!$A$282","v":0},"2_3"]
[{"$f":"[2]Gr02!$A$283","v":0},"2_3"]
[{"$f":"[2]Gr02!$A$284","v":0},"2_3"]
[{"$f":"[2]Gr02!$A$285","v":0},"2_3"]
[{"$f":"[2]Gr02!$A$286","v":0},"2_3"]
[{"$f":"[2]Gr02!$A$287","v":0},"2_3"]
[{"$f":"[2]Gr02!$A$288","v":0},"2_3"]
[{"$f":"[2]Gr02!$A$289","v":0},"2_3"]
[{"$f":"[2]Gr02!$A$290","v":0},"2_3"]
[{"$f":"[2]Gr02!$A$291","v":0},"2_3"]
[{"$f":"[2]Gr02!$A$292","v":0},"2_3"]
[{"$f":"[2]Gr02!$A$293","v":0},"2_3"]
[{"$f":"[2]Gr02!$A$294","v":0},"2_3"]
[{"$f":"[2]Gr02!$A$295","v":0},"2_3"]
[{"$f":"[2]Gr02!$A$296","v":0},"2_3"]
[{"$f":"[2]Gr02!$A$297","v":0},"2_3"]
[{"$f":"[2]Gr02!$A$298","v":0},"2_3"]
[{"$f":"[2]Gr02!$A$299","v":0},"2_3"]
[{"$f":"[2]Gr02!$A$311","v":0},"2_4"]
[{"$f":"[2]Gr02!$A$312","v":0},"2_4"]
[{"$f":"[2]Gr02!$A$313","v":0},"2_4"]
[{"$f":"[2]Gr02!$A$314","v":0},"2_4"]
[{"$f":"[2]Gr02!$A$315","v":0},"2_4"]
[{"$f":"[2]Gr02!$A$316","v":0},"2_4"]
[{"$f":"[2]Gr02!$A$317","v":0},"2_4"]
[{"$f":"[2]Gr02!$A$318","v":0},"2_4"]
[{"$f":"[2]Gr02!$A$319","v":0},"2_4"]
[{"$f":"[2]Gr02!$A$320","v":0},"2_4"]
[{"$f":"[2]Gr02!$A$321","v":0},"2_4"]
[{"$f":"[2]Gr02!$A$322","v":0},"2_4"]
[{"$f":"[2]Gr02!$A$323","v":0},"2_4"]
[{"$f":"[2]Gr02!$A$324","v":0},"2_4"]
[{"$f":"[2]Gr02!$A$325","v":0},"2_4"]
[{"$f":"[2]Gr02!$A$326","v":0},"2_4"]
[{"$f":"[2]Gr02!$A$327","v":0},"2_4"]
[{"$f":"[2]Gr02!$A$328","v":0},"2_4"]
[{"$f":"[2]Gr02!$A$329","v":0},"2_4"]
[{"$f":"[2]Gr02!$A$330","v":0},"2_4"]
[{"$f":"[2]Gr02!$A$331","v":0},"2_4"]
[{"$f":"[2]Gr02!$A$332","v":0},"2_4"]
[{"$f":"[2]Gr02!$A$333","v":0},"2_4"]
[{"$f":"[2]Gr02!$A$334","v":0},"2_4"]
[{"$f":"[2]Gr02!$A$335","v":0},"2_4"]
[{"$f":"[2]Gr02!$A$336","v":0},"2_4"]
[{"$f":"[2]Gr02!$A$337","v":0},"2_4"]
[{"$f":"[2]Gr02!$A$338","v":0},"2_4"]
[{"$f":"[2]Gr02!$A$339","v":0},"2_4"]
[{"$f":"[2]Gr02!$A$340","v":0},"2_4"]
[{"$f":"[2]Gr02!$A$341","v":0},"2_4"]
[{"$f":"[2]Gr02!$A$342","v":0},"2_4"]
[{"$f":"[2]Gr02!$A$343","v":0},"2_4"]
[{"$f":"[2]Gr02!$A$344","v":0},"2_4"]
[{"$f":"[2]Gr02!$A$345","v":0},"2_4"]
[{"$f":"[2]Gr02!$A$346","v":0},"2_4"]
[{"$f":"[2]Gr02!$A$347","v":0},"2_4"]
[{"$f":"[2]Gr02!$A$348","v":0},"2_4"]
[{"$f":"[2]Gr02!$A$349","v":0},"2_4"]
[{"$f":"[2]Gr02!$A$350","v":0},"2_4"]
[{"$f":"[2]Gr02!$A$351","v":0},"2_4"]
[{"$f":"[2]Gr02!$A$352","v":0},"2_4"]
[{"$f":"[2]Gr02!$A$353","v":0},"2_4"]
[{"$f":"[2]Gr02!$A$354","v":0},"2_4"]
[{"$f":"[2]Gr02!$A$355","v":0},"2_4"]
[{"$f":"[2]Gr02!$A$356","v":0},"2_4"]
[{"$f":"[2]Gr02!$A$357","v":0},"2_4"]
[{"$f":"[2]Gr02!$A$358","v":0},"2_4"]
[{"$f":"[2]Gr02!$A$359","v":0},"2_4"]
[{"$f":"[2]Gr02!$A$360","v":0},"2_4"]
[{"$f":"[2]Gr02!$A$361","v":0},"2_4"]
[{"$f":"[2]Gr02!$A$362","v":0},"2_4"]
[{"$f":"[2]Gr02!$A$363","v":0},"2_4"]
[{"$f":"[2]Gr02!$A$364","v":0},"2_4"]
[{"$f":"[2]Gr02!$A$365","v":0},"2_4"]
[{"$f":"[2]Gr02!$A$366","v":0},"2_4"]
[{"$f":"[2]Gr02!$A$367","v":0},"2_4"]
[{"$f":"[2]Gr02!$A$368","v":0},"2_4"]
[{"$f":"[2]Gr02!$A$369","v":0},"2_4"]
[{"$f":"[2]Gr02!$A$370","v":0},"2_4"]
[{"$f":"[2]Gr02!$A$371","v":0},"2_4"]
[{"$f":"[2]Gr02!$A$372","v":0},"2_4"]
[{"$f":"[2]Gr02!$A$373","v":0},"2_4"]
[{"$f":"[2]Gr02!$A$374","v":0},"2_4"]
[{"$f":"[2]Gr02!$A$375","v":0},"2_4"]
[{"$f":"[2]Gr02!$A$376","v":0},"2_4"]
[{"$f":"[2]Gr02!$A$377","v":0},"2_4"]
[{"$f":"[2]Gr02!$A$378","v":0},"2_4"]
[{"$f":"[2]Gr02!$A$379","v":0},"2_4"]
[{"$f":"[2]Gr02!$A$380","v":0},"2_4"]
[{"$f":"[2]Gr02!$A$381","v":0},"2_4"]
[{"$f":"[2]Gr02!$A$382","v":0},"2_4"]
[{"$f":"[2]Gr02!$A$383","v":0},"2_4"]
[{"$f":"[2]Gr02!$A$384","v":0},"2_4"]
[{"$f":"[2]Gr02!$A$385","v":0},"2_4"]
[{"$f":"[2]Gr02!$A$386","v":0},"2_4"]
[{"$f":"[2]Gr02!$A$387","v":0},"2_4"]
[{"$f":"[2]Gr02!$A$388","v":0},"2_4"]
[{"$f":"[2]Gr02!$A$389","v":0},"2_4"]
[{"$f":"[2]Gr02!$A$390","v":0},"2_4"]
[{"$f":"[2]Gr02!$A$391","v":0},"2_4"]
[{"$f":"[2]Gr02!$A$392","v":0},"2_4"]
[{"$f":"[2]Gr02!$A$393","v":0},"2_4"]
[{"$f":"[2]Gr02!$A$394","v":0},"2_4"]
[{"$f":"[2]Gr02!$A$395","v":0},"2_4"]
[{"$f":"[2]Gr02!$A$396","v":0},"2_4"]
[{"$f":"[2]Gr02!$A$397","v":0},"2_4"]
[{"$f":"[2]Gr02!$A$398","v":0},"2_4"]
[{"$f":"[2]Gr02!$A$399","v":0},"2_4"]
[{"$f":"[2]Gr02!$A$411","v":0},"2_5"]
[{"$f":"[2]Gr02!$A$412","v":0},"2_5"]
[{"$f":"[2]Gr02!$A$413","v":0},"2_5"]
[{"$f":"[2]Gr02!$A$414","v":0},"2_5"]
[{"$f":"[2]Gr02!$A$415","v":0},"2_5"]
[{"$f":"[2]Gr02!$A$416","v":0},"2_5"]
[{"$f":"[2]Gr02!$A$417","v":0},"2_5"]
[{"$f":"[2]Gr02!$A$418","v":0},"2_5"]
[{"$f":"[2]Gr02!$A$419","v":0},"2_5"]
[{"$f":"[2]Gr02!$A$420","v":0},"2_5"]
[{"$f":"[2]Gr02!$A$421","v":0},"2_5"]
[{"$f":"[2]Gr02!$A$422","v":0},"2_5"]
[{"$f":"[2]Gr02!$A$423","v":0},"2_5"]
[{"$f":"[2]Gr02!$A$424","v":0},"2_5"]
[{"$f":"[2]Gr02!$A$425","v":0},"2_5"]
[{"$f":"[2]Gr02!$A$426","v":0},"2_5"]
[{"$f":"[2]Gr02!$A$427","v":0},"2_5"]
[{"$f":"[2]Gr02!$A$428","v":0},"2_5"]
[{"$f":"[2]Gr02!$A$429","v":0},"2_5"]
[{"$f":"[2]Gr02!$A$430","v":0},"2_5"]
[{"$f":"[2]Gr02!$A$431","v":0},"2_5"]
[{"$f":"[2]Gr02!$A$432","v":0},"2_5"]
[{"$f":"[2]Gr02!$A$433","v":0},"2_5"]
[{"$f":"[2]Gr02!$A$434","v":0},"2_5"]
[{"$f":"[2]Gr02!$A$435","v":0},"2_5"]
[{"$f":"[2]Gr02!$A$436","v":0},"2_5"]
[{"$f":"[2]Gr02!$A$437","v":0},"2_5"]
[{"$f":"[2]Gr02!$A$438","v":0},"2_5"]
[{"$f":"[2]Gr02!$A$439","v":0},"2_5"]
[{"$f":"[2]Gr02!$A$440","v":0},"2_5"]
[{"$f":"[2]Gr02!$A$441","v":0},"2_5"]
[{"$f":"[2]Gr02!$A$442","v":0},"2_5"]
[{"$f":"[2]Gr02!$A$443","v":0},"2_5"]
[{"$f":"[2]Gr02!$A$444","v":0},"2_5"]
[{"$f":"[2]Gr02!$A$445","v":0},"2_5"]
[{"$f":"[2]Gr02!$A$446","v":0},"2_5"]
[{"$f":"[2]Gr02!$A$447","v":0},"2_5"]
[{"$f":"[2]Gr02!$A$448","v":0},"2_5"]
[{"$f":"[2]Gr02!$A$449","v":0},"2_5"]
[{"$f":"[2]Gr02!$A$450","v":0},"2_5"]
[{"$f":"[2]Gr02!$A$451","v":0},"2_5"]
[{"$f":"[2]Gr02!$A$452","v":0},"2_5"]
[{"$f":"[2]Gr02!$A$453","v":0},"2_5"]
[{"$f":"[2]Gr02!$A$454","v":0},"2_5"]
[{"$f":"[2]Gr02!$A$455","v":0},"2_5"]
[{"$f":"[2]Gr02!$A$456","v":0},"2_5"]
[{"$f":"[2]Gr02!$A$457","v":0},"2_5"]
[{"$f":"[2]Gr02!$A$458","v":0},"2_5"]
[{"$f":"[2]Gr02!$A$459","v":0},"2_5"]
[{"$f":"[2]Gr02!$A$460","v":0},"2_5"]
[{"$f":"[2]Gr02!$A$461","v":0},"2_5"]
[{"$f":"[2]Gr02!$A$462","v":0},"2_5"]
[{"$f":"[2]Gr02!$A$463","v":0},"2_5"]
[{"$f":"[2]Gr02!$A$464","v":0},"2_5"]
[{"$f":"[2]Gr02!$A$465","v":0},"2_5"]
[{"$f":"[2]Gr02!$A$466","v":0},"2_5"]
[{"$f":"[2]Gr02!$A$467","v":0},"2_5"]
[{"$f":"[2]Gr02!$A$468","v":0},"2_5"]
[{"$f":"[2]Gr02!$A$469","v":0},"2_5"]
[{"$f":"[2]Gr02!$A$470","v":0},"2_5"]
[{"$f":"[2]Gr02!$A$471","v":0},"2_5"]
[{"$f":"[2]Gr02!$A$472","v":0},"2_5"]
[{"$f":"[2]Gr02!$A$473","v":0},"2_5"]
[{"$f":"[2]Gr02!$A$474","v":0},"2_5"]
[{"$f":"[2]Gr02!$A$475","v":0},"2_5"]
[{"$f":"[2]Gr02!$A$476","v":0},"2_5"]
[{"$f":"[2]Gr02!$A$477","v":0},"2_5"]
[{"$f":"[2]Gr02!$A$478","v":0},"2_5"]
[{"$f":"[2]Gr02!$A$479","v":0},"2_5"]
[{"$f":"[2]Gr02!$A$480","v":0},"2_5"]
[{"$f":"[2]Gr02!$A$481","v":0},"2_5"]
[{"$f":"[2]Gr02!$A$482","v":0},"2_5"]
[{"$f":"[2]Gr02!$A$483","v":0},"2_5"]
[{"$f":"[2]Gr02!$A$484","v":0},"2_5"]
[{"$f":"[2]Gr02!$A$485","v":0},"2_5"]
[{"$f":"[2]Gr02!$A$486","v":0},"2_5"]
[{"$f":"[2]Gr02!$A$487","v":0},"2_5"]
[{"$f":"[2]Gr02!$A$488","v":0},"2_5"]
[{"$f":"[2]Gr02!$A$489","v":0},"2_5"]
[{"$f":"[2]Gr02!$A$490","v":0},"2_5"]
[{"$f":"[2]Gr02!$A$491","v":0},"2_5"]
[{"$f":"[2]Gr02!$A$492","v":0},"2_5"]
[{"$f":"[2]Gr02!$A$493","v":0},"2_5"]
[{"$f":"[2]Gr02!$A$494","v":0},"2_5"]
[{"$f":"[2]Gr02!$A$495","v":0},"2_5"]
[{"$f":"[2]Gr02!$A$496","v":0},"2_5"]
[{"$f":"[2]Gr02!$A$497","v":0},"2_5"]
[{"$f":"[2]Gr02!$A$498","v":0},"2_5"]
[{"$f":"[2]Gr02!$A$499","v":0},"2_5"]
[{"$f":"[2]Gr02!$A$511","v":0},"2_6"]
[{"$f":"[2]Gr02!$A$512","v":0},"2_6"]
[{"$f":"[2]Gr02!$A$513","v":0},"2_6"]
[{"$f":"[2]Gr02!$A$514","v":0},"2_6"]
[{"$f":"[2]Gr02!$A$515","v":0},"2_6"]
[{"$f":"[2]Gr02!$A$516","v":0},"2_6"]
[{"$f":"[2]Gr02!$A$517","v":0},"2_6"]
[{"$f":"[2]Gr02!$A$518","v":0},"2_6"]
[{"$f":"[2]Gr02!$A$519","v":0},"2_6"]
[{"$f":"[2]Gr02!$A$520","v":0},"2_6"]
[{"$f":"[2]Gr02!$A$521","v":0},"2_6"]
[{"$f":"[2]Gr02!$A$522","v":0},"2_6"]
[{"$f":"[2]Gr02!$A$523","v":0},"2_6"]
[{"$f":"[2]Gr02!$A$524","v":0},"2_6"]
[{"$f":"[2]Gr02!$A$525","v":0},"2_6"]
[{"$f":"[2]Gr02!$A$526","v":0},"2_6"]
[{"$f":"[2]Gr02!$A$527","v":0},"2_6"]
[{"$f":"[2]Gr02!$A$528","v":0},"2_6"]
[{"$f":"[2]Gr02!$A$529","v":0},"2_6"]
[{"$f":"[2]Gr02!$A$530","v":0},"2_6"]
[{"$f":"[2]Gr02!$A$531","v":0},"2_6"]
[{"$f":"[2]Gr02!$A$532","v":0},"2_6"]
[{"$f":"[2]Gr02!$A$533","v":0},"2_6"]
[{"$f":"[2]Gr02!$A$534","v":0},"2_6"]
[{"$f":"[2]Gr02!$A$535","v":0},"2_6"]
[{"$f":"[2]Gr02!$A$536","v":0},"2_6"]
[{"$f":"[2]Gr02!$A$537","v":0},"2_6"]
[{"$f":"[2]Gr02!$A$538","v":0},"2_6"]
[{"$f":"[2]Gr02!$A$539","v":0},"2_6"]
[{"$f":"[2]Gr02!$A$540","v":0},"2_6"]
[{"$f":"[2]Gr02!$A$541","v":0},"2_6"]
[{"$f":"[2]Gr02!$A$542","v":0},"2_6"]
[{"$f":"[2]Gr02!$A$543","v":0},"2_6"]
[{"$f":"[2]Gr02!$A$544","v":0},"2_6"]
[{"$f":"[2]Gr02!$A$545","v":0},"2_6"]
[{"$f":"[2]Gr02!$A$546","v":0},"2_6"]
[{"$f":"[2]Gr02!$A$547","v":0},"2_6"]
[{"$f":"[2]Gr02!$A$548","v":0},"2_6"]
[{"$f":"[2]Gr02!$A$549","v":0},"2_6"]
[{"$f":"[2]Gr02!$A$550","v":0},"2_6"]
[{"$f":"[2]Gr02!$A$551","v":0},"2_6"]
[{"$f":"[2]Gr02!$A$552","v":0},"2_6"]
[{"$f":"[2]Gr02!$A$553","v":0},"2_6"]
[{"$f":"[2]Gr02!$A$554","v":0},"2_6"]
[{"$f":"[2]Gr02!$A$555","v":0},"2_6"]
[{"$f":"[2]Gr02!$A$556","v":0},"2_6"]
[{"$f":"[2]Gr02!$A$557","v":0},"2_6"]
[{"$f":"[2]Gr02!$A$558","v":0},"2_6"]
[{"$f":"[2]Gr02!$A$559","v":0},"2_6"]
[{"$f":"[2]Gr02!$A$560","v":0},"2_6"]
[{"$f":"[2]Gr02!$A$561","v":0},"2_6"]
[{"$f":"[2]Gr02!$A$562","v":0},"2_6"]
[{"$f":"[2]Gr02!$A$563","v":0},"2_6"]
[{"$f":"[2]Gr02!$A$564","v":0},"2_6"]
[{"$f":"[2]Gr02!$A$565","v":0},"2_6"]
[{"$f":"[2]Gr02!$A$566","v":0},"2_6"]
[{"$f":"[2]Gr02!$A$567","v":0},"2_6"]
[{"$f":"[2]Gr02!$A$568","v":0},"2_6"]
[{"$f":"[2]Gr02!$A$569","v":0},"2_6"]
[{"$f":"[2]Gr02!$A$570","v":0},"2_6"]
[{"$f":"[2]Gr02!$A$571","v":0},"2_6"]
[{"$f":"[2]Gr02!$A$572","v":0},"2_6"]
[{"$f":"[2]Gr02!$A$573","v":0},"2_6"]
[{"$f":"[2]Gr02!$A$574","v":0},"2_6"]
[{"$f":"[2]Gr02!$A$575","v":0},"2_6"]
[{"$f":"[2]Gr02!$A$576","v":0},"2_6"]
[{"$f":"[2]Gr02!$A$577","v":0},"2_6"]
[{"$f":"[2]Gr02!$A$578","v":0},"2_6"]
[{"$f":"[2]Gr02!$A$579","v":0},"2_6"]
[{"$f":"[2]Gr02!$A$580","v":0},"2_6"]
[{"$f":"[2]Gr02!$A$581","v":0},"2_6"]
[{"$f":"[2]Gr02!$A$582","v":0},"2_6"]
[{"$f":"[2]Gr02!$A$583","v":0},"2_6"]
[{"$f":"[2]Gr02!$A$584","v":0},"2_6"]
[{"$f":"[2]Gr02!$A$585","v":0},"2_6"]
[{"$f":"[2]Gr02!$A$586","v":0},"2_6"]
[{"$f":"[2]Gr02!$A$587","v":0},"2_6"]
[{"$f":"[2]Gr02!$A$588","v":0},"2_6"]
[{"$f":"[2]Gr02!$A$589","v":0},"2_6"]
[{"$f":"[2]Gr02!$A$590","v":0},"2_6"]
[{"$f":"[2]Gr02!$A$591","v":0},"2_6"]
[{"$f":"[2]Gr02!$A$592","v":0},"2_6"]
[{"$f":"[2]Gr02!$A$593","v":0},"2_6"]
[{"$f":"[2]Gr02!$A$594","v":0},"2_6"]
[{"$f":"[2]Gr02!$A$595","v":0},"2_6"]
[{"$f":"[2]Gr02!$A$596","v":0},"2_6"]
[{"$f":"[2]Gr02!$A$597","v":0},"2_6"]
[{"$f":"[2]Gr02!$A$598","v":0},"2_6"]
[{"$f":"[2]Gr02!$A$599","v":0},"2_6"]
[{"$f":"[2]Gr03!$A$11","v":254},"3_1"]
[{"$f":"[2]Gr03!$A$12","v":699},"3_1"]
[{"$f":"[2]Gr03!$A$13","v":0},"3_1"]
[{"$f":"[2]Gr03!$A$14","v":0},"3_1"]
[{"$f":"[2]Gr03!$A$15","v":0},"3_1"]
[{"$f":"[2]Gr03!$A$16","v":0},"3_1"]
[{"$f":"[2]Gr03!$A$17","v":0},"3_1"]
[{"$f":"[2]Gr03!$A$18","v":0},"3_1"]
[{"$f":"[2]Gr03!$A$19","v":0},"3_1"]
[{"$f":"[2]Gr03!$A$20","v":0},"3_1"]
[{"$f":"[2]Gr03!$A$21","v":0},"3_1"]
[{"$f":"[2]Gr03!$A$22","v":0},"3_1"]
[{"$f":"[2]Gr03!$A$23","v":0},"3_1"]
[{"$f":"[2]Gr03!$A$24","v":0},"3_1"]
[{"$f":"[2]Gr03!$A$25","v":0},"3_1"]
[{"$f":"[2]Gr03!$A$26","v":0},"3_1"]
[{"$f":"[2]Gr03!$A$27","v":0},"3_1"]
[{"$f":"[2]Gr03!$A$28","v":0},"3_1"]
[{"$f":"[2]Gr03!$A$29","v":0},"3_1"]
[{"$f":"[2]Gr03!$A$30","v":0},"3_1"]
[{"$f":"[2]Gr03!$A$31","v":0},"3_1"]
[{"$f":"[2]Gr03!$A$32","v":0},"3_1"]
[{"$f":"[2]Gr03!$A$33","v":0},"3_1"]
[{"$f":"[2]Gr03!$A$34","v":0},"3_1"]
[{"$f":"[2]Gr03!$A$35","v":0},"3_1"]
[{"$f":"[2]Gr03!$A$36","v":0},"3_1"]
[{"$f":"[2]Gr03!$A$37","v":0},"3_1"]
[{"$f":"[2]Gr03!$A$38","v":0},"3_1"]
[{"$f":"[2]Gr03!$A$39","v":0},"3_1"]
[{"$f":"[2]Gr03!$A$40","v":0},"3_1"]
[{"$f":"[2]Gr03!$A$41","v":0},"3_1"]
[{"$f":"[2]Gr03!$A$42","v":0},"3_1"]
[{"$f":"[2]Gr03!$A$43","v":0},"3_1"]
[{"$f":"[2]Gr03!$A$44","v":0},"3_1"]
[{"$f":"[2]Gr03!$A$45","v":0},"3_1"]
[{"$f":"[2]Gr03!$A$46","v":0},"3_1"]
[{"$f":"[2]Gr03!$A$47","v":0},"3_1"]
[{"$f":"[2]Gr03!$A$48","v":0},"3_1"]
[{"$f":"[2]Gr03!$A$49","v":0},"3_1"]
[{"$f":"[2]Gr03!$A$50","v":0},"3_1"]
[{"$f":"[2]Gr03!$A$51","v":0},"3_1"]
[{"$f":"[2]Gr03!$A$52","v":0},"3_1"]
[{"$f":"[2]Gr03!$A$53","v":0},"3_1"]
[{"$f":"[2]Gr03!$A$54","v":0},"3_1"]
[{"$f":"[2]Gr03!$A$55","v":0},"3_1"]
[{"$f":"[2]Gr03!$A$56","v":0},"3_1"]
[{"$f":"[2]Gr03!$A$57","v":0},"3_1"]
[{"$f":"[2]Gr03!$A$58","v":0},"3_1"]
[{"$f":"[2]Gr03!$A$59","v":0},"3_1"]
[{"$f":"[2]Gr03!$A$60","v":0},"3_1"]
[{"$f":"[2]Gr03!$A$61","v":0},"3_1"]
[{"$f":"[2]Gr03!$A$62","v":0},"3_1"]
[{"$f":"[2]Gr03!$A$63","v":0},"3_1"]
[{"$f":"[2]Gr03!$A$64","v":0},"3_1"]
[{"$f":"[2]Gr03!$A$65","v":0},"3_1"]
[{"$f":"[2]Gr03!$A$66","v":0},"3_1"]
[{"$f":"[2]Gr03!$A$67","v":0},"3_1"]
[{"$f":"[2]Gr03!$A$68","v":0},"3_1"]
[{"$f":"[2]Gr03!$A$69","v":0},"3_1"]
[{"$f":"[2]Gr03!$A$70","v":0},"3_1"]
[{"$f":"[2]Gr03!$A$71","v":0},"3_1"]
[{"$f":"[2]Gr03!$A$72","v":0},"3_1"]
[{"$f":"[2]Gr03!$A$73","v":0},"3_1"]
[{"$f":"[2]Gr03!$A$74","v":0},"3_1"]
[{"$f":"[2]Gr03!$A$75","v":0},"3_1"]
[{"$f":"[2]Gr03!$A$76","v":0},"3_1"]
[{"$f":"[2]Gr03!$A$77","v":0},"3_1"]
[{"$f":"[2]Gr03!$A$78","v":0},"3_1"]
[{"$f":"[2]Gr03!$A$79","v":0},"3_1"]
[{"$f":"[2]Gr03!$A$80","v":0},"3_1"]
[{"$f":"[2]Gr03!$A$81","v":0},"3_1"]
[{"$f":"[2]Gr03!$A$82","v":0},"3_1"]
[{"$f":"[2]Gr03!$A$83","v":0},"3_1"]
[{"$f":"[2]Gr03!$A$84","v":0},"3_1"]
[{"$f":"[2]Gr03!$A$85","v":0},"3_1"]
[{"$f":"[2]Gr03!$A$86","v":0},"3_1"]
[{"$f":"[2]Gr03!$A$87","v":0},"3_1"]
[{"$f":"[2]Gr03!$A$88","v":0},"3_1"]
[{"$f":"[2]Gr03!$A$89","v":0},"3_1"]
[{"$f":"[2]Gr03!$A$90","v":0},"3_1"]
[{"$f":"[2]Gr03!$A$91","v":0},"3_1"]
[{"$f":"[2]Gr03!$A$92","v":0},"3_1"]
[{"$f":"[2]Gr03!$A$93","v":0},"3_1"]
[{"$f":"[2]Gr03!$A$94","v":0},"3_1"]
[{"$f":"[2]Gr03!$A$95","v":0},"3_1"]
[{"$f":"[2]Gr03!$A$96","v":0},"3_1"]
[{"$f":"[2]Gr03!$A$97","v":0},"3_1"]
[{"$f":"[2]Gr03!$A$98","v":0},"3_1"]
[{"$f":"[2]Gr03!$A$99","v":0},"3_1"]
[{"$f":"[2]Gr03!$A$111","v":0},"3_2"]
[{"$f":"[2]Gr03!$A$112","v":0},"3_2"]
[{"$f":"[2]Gr03!$A$113","v":0},"3_2"]
[{"$f":"[2]Gr03!$A$114","v":0},"3_2"]
[{"$f":"[2]Gr03!$A$115","v":0},"3_2"]
[{"$f":"[2]Gr03!$A$116","v":0},"3_2"]
[{"$f":"[2]Gr03!$A$117","v":0},"3_2"]
[{"$f":"[2]Gr03!$A$118","v":0},"3_2"]
[{"$f":"[2]Gr03!$A$119","v":0},"3_2"]
[{"$f":"[2]Gr03!$A$120","v":0},"3_2"]
[{"$f":"[2]Gr03!$A$121","v":0},"3_2"]
[{"$f":"[2]Gr03!$A$122","v":0},"3_2"]
[{"$f":"[2]Gr03!$A$123","v":0},"3_2"]
[{"$f":"[2]Gr03!$A$124","v":0},"3_2"]
[{"$f":"[2]Gr03!$A$125","v":0},"3_2"]
[{"$f":"[2]Gr03!$A$126","v":0},"3_2"]
[{"$f":"[2]Gr03!$A$127","v":0},"3_2"]
[{"$f":"[2]Gr03!$A$128","v":0},"3_2"]
[{"$f":"[2]Gr03!$A$129","v":0},"3_2"]
[{"$f":"[2]Gr03!$A$130","v":0},"3_2"]
[{"$f":"[2]Gr03!$A$131","v":0},"3_2"]
[{"$f":"[2]Gr03!$A$132","v":0},"3_2"]
[{"$f":"[2]Gr03!$A$133","v":0},"3_2"]
[{"$f":"[2]Gr03!$A$134","v":0},"3_2"]
[{"$f":"[2]Gr03!$A$135","v":0},"3_2"]
[{"$f":"[2]Gr03!$A$136","v":0},"3_2"]
[{"$f":"[2]Gr03!$A$137","v":0},"3_2"]
[{"$f":"[2]Gr03!$A$138","v":0},"3_2"]
[{"$f":"[2]Gr03!$A$139","v":0},"3_2"]
[{"$f":"[2]Gr03!$A$140","v":0},"3_2"]
[{"$f":"[2]Gr03!$A$141","v":0},"3_2"]
[{"$f":"[2]Gr03!$A$142","v":0},"3_2"]
[{"$f":"[2]Gr03!$A$143","v":0},"3_2"]
[{"$f":"[2]Gr03!$A$144","v":0},"3_2"]
[{"$f":"[2]Gr03!$A$145","v":0},"3_2"]
[{"$f":"[2]Gr03!$A$146","v":0},"3_2"]
[{"$f":"[2]Gr03!$A$147","v":0},"3_2"]
[{"$f":"[2]Gr03!$A$148","v":0},"3_2"]
[{"$f":"[2]Gr03!$A$149","v":0},"3_2"]
[{"$f":"[2]Gr03!$A$150","v":0},"3_2"]
[{"$f":"[2]Gr03!$A$151","v":0},"3_2"]
[{"$f":"[2]Gr03!$A$152","v":0},"3_2"]
[{"$f":"[2]Gr03!$A$153","v":0},"3_2"]
[{"$f":"[2]Gr03!$A$154","v":0},"3_2"]
[{"$f":"[2]Gr03!$A$155","v":0},"3_2"]
[{"$f":"[2]Gr03!$A$156","v":0},"3_2"]
[{"$f":"[2]Gr03!$A$157","v":0},"3_2"]
[{"$f":"[2]Gr03!$A$158","v":0},"3_2"]
[{"$f":"[2]Gr03!$A$159","v":0},"3_2"]
[{"$f":"[2]Gr03!$A$160","v":0},"3_2"]
[{"$f":"[2]Gr03!$A$161","v":0},"3_2"]
[{"$f":"[2]Gr03!$A$162","v":0},"3_2"]
[{"$f":"[2]Gr03!$A$163","v":0},"3_2"]
[{"$f":"[2]Gr03!$A$164","v":0},"3_2"]
[{"$f":"[2]Gr03!$A$165","v":0},"3_2"]
[{"$f":"[2]Gr03!$A$166","v":0},"3_2"]
[{"$f":"[2]Gr03!$A$167","v":0},"3_2"]
[{"$f":"[2]Gr03!$A$168","v":0},"3_2"]
[{"$f":"[2]Gr03!$A$169","v":0},"3_2"]
[{"$f":"[2]Gr03!$A$170","v":0},"3_2"]
[{"$f":"[2]Gr03!$A$171","v":0},"3_2"]
[{"$f":"[2]Gr03!$A$172","v":0},"3_2"]
[{"$f":"[2]Gr03!$A$173","v":0},"3_2"]
[{"$f":"[2]Gr03!$A$174","v":0},"3_2"]
[{"$f":"[2]Gr03!$A$175","v":0},"3_2"]
[{"$f":"[2]Gr03!$A$176","v":0},"3_2"]
[{"$f":"[2]Gr03!$A$177","v":0},"3_2"]
[{"$f":"[2]Gr03!$A$178","v":0},"3_2"]
[{"$f":"[2]Gr03!$A$179","v":0},"3_2"]
[{"$f":"[2]Gr03!$A$180","v":0},"3_2"]
[{"$f":"[2]Gr03!$A$181","v":0},"3_2"]
[{"$f":"[2]Gr03!$A$182","v":0},"3_2"]
[{"$f":"[2]Gr03!$A$183","v":0},"3_2"]
[{"$f":"[2]Gr03!$A$184","v":0},"3_2"]
[{"$f":"[2]Gr03!$A$185","v":0},"3_2"]
[{"$f":"[2]Gr03!$A$186","v":0},"3_2"]
[{"$f":"[2]Gr03!$A$187","v":0},"3_2"]
[{"$f":"[2]Gr03!$A$188","v":0},"3_2"]
[{"$f":"[2]Gr03!$A$189","v":0},"3_2"]
[{"$f":"[2]Gr03!$A$190","v":0},"3_2"]
[{"$f":"[2]Gr03!$A$191","v":0},"3_2"]
[{"$f":"[2]Gr03!$A$192","v":0},"3_2"]
[{"$f":"[2]Gr03!$A$193","v":0},"3_2"]
[{"$f":"[2]Gr03!$A$194","v":0},"3_2"]
[{"$f":"[2]Gr03!$A$195","v":0},"3_2"]
[{"$f":"[2]Gr03!$A$196","v":0},"3_2"]
[{"$f":"[2]Gr03!$A$197","v":0},"3_2"]
[{"$f":"[2]Gr03!$A$198","v":0},"3_2"]
[{"$f":"[2]Gr03!$A$199","v":0},"3_2"]
[{"$f":"[2]Gr03!$A$211","v":0},"3_3"]
[{"$f":"[2]Gr03!$A$212","v":0},"3_3"]
[{"$f":"[2]Gr03!$A$213","v":0},"3_3"]
[{"$f":"[2]Gr03!$A$214","v":0},"3_3"]
[{"$f":"[2]Gr03!$A$215","v":0},"3_3"]
[{"$f":"[2]Gr03!$A$216","v":0},"3_3"]
[{"$f":"[2]Gr03!$A$217","v":0},"3_3"]
[{"$f":"[2]Gr03!$A$218","v":0},"3_3"]
[{"$f":"[2]Gr03!$A$219","v":0},"3_3"]
[{"$f":"[2]Gr03!$A$220","v":0},"3_3"]
[{"$f":"[2]Gr03!$A$221","v":0},"3_3"]
[{"$f":"[2]Gr03!$A$222","v":0},"3_3"]
[{"$f":"[2]Gr03!$A$223","v":0},"3_3"]
[{"$f":"[2]Gr03!$A$224","v":0},"3_3"]
[{"$f":"[2]Gr03!$A$225","v":0},"3_3"]
[{"$f":"[2]Gr03!$A$226","v":0},"3_3"]
[{"$f":"[2]Gr03!$A$227","v":0},"3_3"]
[{"$f":"[2]Gr03!$A$228","v":0},"3_3"]
[{"$f":"[2]Gr03!$A$229","v":0},"3_3"]
[{"$f":"[2]Gr03!$A$230","v":0},"3_3"]
[{"$f":"[2]Gr03!$A$231","v":0},"3_3"]
[{"$f":"[2]Gr03!$A$232","v":0},"3_3"]
[{"$f":"[2]Gr03!$A$233","v":0},"3_3"]
[{"$f":"[2]Gr03!$A$234","v":0},"3_3"]
[{"$f":"[2]Gr03!$A$235","v":0},"3_3"]
[{"$f":"[2]Gr03!$A$236","v":0},"3_3"]
[{"$f":"[2]Gr03!$A$237","v":0},"3_3"]
[{"$f":"[2]Gr03!$A$238","v":0},"3_3"]
[{"$f":"[2]Gr03!$A$239","v":0},"3_3"]
[{"$f":"[2]Gr03!$A$240","v":0},"3_3"]
[{"$f":"[2]Gr03!$A$241","v":0},"3_3"]
[{"$f":"[2]Gr03!$A$242","v":0},"3_3"]
[{"$f":"[2]Gr03!$A$243","v":0},"3_3"]
[{"$f":"[2]Gr03!$A$244","v":0},"3_3"]
[{"$f":"[2]Gr03!$A$245","v":0},"3_3"]
[{"$f":"[2]Gr03!$A$246","v":0},"3_3"]
[{"$f":"[2]Gr03!$A$247","v":0},"3_3"]
[{"$f":"[2]Gr03!$A$248","v":0},"3_3"]
[{"$f":"[2]Gr03!$A$249","v":0},"3_3"]
[{"$f":"[2]Gr03!$A$250","v":0},"3_3"]
[{"$f":"[2]Gr03!$A$251","v":0},"3_3"]
[{"$f":"[2]Gr03!$A$252","v":0},"3_3"]
[{"$f":"[2]Gr03!$A$253","v":0},"3_3"]
[{"$f":"[2]Gr03!$A$254","v":0},"3_3"]
[{"$f":"[2]Gr03!$A$255","v":0},"3_3"]
[{"$f":"[2]Gr03!$A$256","v":0},"3_3"]
[{"$f":"[2]Gr03!$A$257","v":0},"3_3"]
[{"$f":"[2]Gr03!$A$258","v":0},"3_3"]
[{"$f":"[2]Gr03!$A$259","v":0},"3_3"]
[{"$f":"[2]Gr03!$A$260","v":0},"3_3"]
[{"$f":"[2]Gr03!$A$261","v":0},"3_3"]
[{"$f":"[2]Gr03!$A$262","v":0},"3_3"]
[{"$f":"[2]Gr03!$A$263","v":0},"3_3"]
[{"$f":"[2]Gr03!$A$264","v":0},"3_3"]
[{"$f":"[2]Gr03!$A$265","v":0},"3_3"]
[{"$f":"[2]Gr03!$A$266","v":0},"3_3"]
[{"$f":"[2]Gr03!$A$267","v":0},"3_3"]
[{"$f":"[2]Gr03!$A$268","v":0},"3_3"]
[{"$f":"[2]Gr03!$A$269","v":0},"3_3"]
[{"$f":"[2]Gr03!$A$270","v":0},"3_3"]
[{"$f":"[2]Gr03!$A$271","v":0},"3_3"]
[{"$f":"[2]Gr03!$A$272","v":0},"3_3"]
[{"$f":"[2]Gr03!$A$273","v":0},"3_3"]
[{"$f":"[2]Gr03!$A$274","v":0},"3_3"]
[{"$f":"[2]Gr03!$A$275","v":0},"3_3"]
[{"$f":"[2]Gr03!$A$276","v":0},"3_3"]
[{"$f":"[2]Gr03!$A$277","v":0},"3_3"]
[{"$f":"[2]Gr03!$A$278","v":0},"3_3"]
[{"$f":"[2]Gr03!$A$279","v":0},"3_3"]
[{"$f":"[2]Gr03!$A$280","v":0},"3_3"]
[{"$f":"[2]Gr03!$A$281","v":0},"3_3"]
[{"$f":"[2]Gr03!$A$282","v":0},"3_3"]
[{"$f":"[2]Gr03!$A$283","v":0},"3_3"]
[{"$f":"[2]Gr03!$A$284","v":0},"3_3"]
[{"$f":"[2]Gr03!$A$285","v":0},"3_3"]
[{"$f":"[2]Gr03!$A$286","v":0},"3_3"]
[{"$f":"[2]Gr03!$A$287","v":0},"3_3"]
[{"$f":"[2]Gr03!$A$288","v":0},"3_3"]
[{"$f":"[2]Gr03!$A$289","v":0},"3_3"]
[{"$f":"[2]Gr03!$A$290","v":0},"3_3"]
[{"$f":"[2]Gr03!$A$291","v":0},"3_3"]
[{"$f":"[2]Gr03!$A$292","v":0},"3_3"]
[{"$f":"[2]Gr03!$A$293","v":0},"3_3"]
[{"$f":"[2]Gr03!$A$294","v":0},"3_3"]
[{"$f":"[2]Gr03!$A$295","v":0},"3_3"]
[{"$f":"[2]Gr03!$A$296","v":0},"3_3"]
[{"$f":"[2]Gr03!$A$297","v":0},"3_3"]
[{"$f":"[2]Gr03!$A$298","v":0},"3_3"]
[{"$f":"[2]Gr03!$A$299","v":0},"3_3"]
[{"$f":"[2]Gr03!$A$311","v":0},"3_4"]
[{"$f":"[2]Gr03!$A$312","v":0},"3_4"]
[{"$f":"[2]Gr03!$A$313","v":0},"3_4"]
[{"$f":"[2]Gr03!$A$314","v":0},"3_4"]
[{"$f":"[2]Gr03!$A$315","v":0},"3_4"]
[{"$f":"[2]Gr03!$A$316","v":0},"3_4"]
[{"$f":"[2]Gr03!$A$317","v":0},"3_4"]
[{"$f":"[2]Gr03!$A$318","v":0},"3_4"]
[{"$f":"[2]Gr03!$A$319","v":0},"3_4"]
[{"$f":"[2]Gr03!$A$320","v":0},"3_4"]
[{"$f":"[2]Gr03!$A$321","v":0},"3_4"]
[{"$f":"[2]Gr03!$A$322","v":0},"3_4"]
[{"$f":"[2]Gr03!$A$323","v":0},"3_4"]
[{"$f":"[2]Gr03!$A$324","v":0},"3_4"]
[{"$f":"[2]Gr03!$A$325","v":0},"3_4"]
[{"$f":"[2]Gr03!$A$326","v":0},"3_4"]
[{"$f":"[2]Gr03!$A$327","v":0},"3_4"]
[{"$f":"[2]Gr03!$A$328","v":0},"3_4"]
[{"$f":"[2]Gr03!$A$329","v":0},"3_4"]
[{"$f":"[2]Gr03!$A$330","v":0},"3_4"]
[{"$f":"[2]Gr03!$A$331","v":0},"3_4"]
[{"$f":"[2]Gr03!$A$332","v":0},"3_4"]
[{"$f":"[2]Gr03!$A$333","v":0},"3_4"]
[{"$f":"[2]Gr03!$A$334","v":0},"3_4"]
[{"$f":"[2]Gr03!$A$335","v":0},"3_4"]
[{"$f":"[2]Gr03!$A$336","v":0},"3_4"]
[{"$f":"[2]Gr03!$A$337","v":0},"3_4"]
[{"$f":"[2]Gr03!$A$338","v":0},"3_4"]
[{"$f":"[2]Gr03!$A$339","v":0},"3_4"]
[{"$f":"[2]Gr03!$A$340","v":0},"3_4"]
[{"$f":"[2]Gr03!$A$341","v":0},"3_4"]
[{"$f":"[2]Gr03!$A$342","v":0},"3_4"]
[{"$f":"[2]Gr03!$A$343","v":0},"3_4"]
[{"$f":"[2]Gr03!$A$344","v":0},"3_4"]
[{"$f":"[2]Gr03!$A$345","v":0},"3_4"]
[{"$f":"[2]Gr03!$A$346","v":0},"3_4"]
[{"$f":"[2]Gr03!$A$347","v":0},"3_4"]
[{"$f":"[2]Gr03!$A$348","v":0},"3_4"]
[{"$f":"[2]Gr03!$A$349","v":0},"3_4"]
[{"$f":"[2]Gr03!$A$350","v":0},"3_4"]
[{"$f":"[2]Gr03!$A$351","v":0},"3_4"]
[{"$f":"[2]Gr03!$A$352","v":0},"3_4"]
[{"$f":"[2]Gr03!$A$353","v":0},"3_4"]
[{"$f":"[2]Gr03!$A$354","v":0},"3_4"]
[{"$f":"[2]Gr03!$A$355","v":0},"3_4"]
[{"$f":"[2]Gr03!$A$356","v":0},"3_4"]
[{"$f":"[2]Gr03!$A$357","v":0},"3_4"]
[{"$f":"[2]Gr03!$A$358","v":0},"3_4"]
[{"$f":"[2]Gr03!$A$359","v":0},"3_4"]
[{"$f":"[2]Gr03!$A$360","v":0},"3_4"]
[{"$f":"[2]Gr03!$A$361","v":0},"3_4"]
[{"$f":"[2]Gr03!$A$362","v":0},"3_4"]
[{"$f":"[2]Gr03!$A$363","v":0},"3_4"]
[{"$f":"[2]Gr03!$A$364","v":0},"3_4"]
[{"$f":"[2]Gr03!$A$365","v":0},"3_4"]
[{"$f":"[2]Gr03!$A$366","v":0},"3_4"]
[{"$f":"[2]Gr03!$A$367","v":0},"3_4"]
[{"$f":"[2]Gr03!$A$368","v":0},"3_4"]
[{"$f":"[2]Gr03!$A$369","v":0},"3_4"]
[{"$f":"[2]Gr03!$A$370","v":0},"3_4"]
[{"$f":"[2]Gr03!$A$371","v":0},"3_4"]
[{"$f":"[2]Gr03!$A$372","v":0},"3_4"]
[{"$f":"[2]Gr03!$A$373","v":0},"3_4"]
[{"$f":"[2]Gr03!$A$374","v":0},"3_4"]
[{"$f":"[2]Gr03!$A$375","v":0},"3_4"]
[{"$f":"[2]Gr03!$A$376","v":0},"3_4"]
[{"$f":"[2]Gr03!$A$377","v":0},"3_4"]
[{"$f":"[2]Gr03!$A$378","v":0},"3_4"]
[{"$f":"[2]Gr03!$A$379","v":0},"3_4"]
[{"$f":"[2]Gr03!$A$380","v":0},"3_4"]
[{"$f":"[2]Gr03!$A$381","v":0},"3_4"]
[{"$f":"[2]Gr03!$A$382","v":0},"3_4"]
[{"$f":"[2]Gr03!$A$383","v":0},"3_4"]
[{"$f":"[2]Gr03!$A$384","v":0},"3_4"]
[{"$f":"[2]Gr03!$A$385","v":0},"3_4"]
[{"$f":"[2]Gr03!$A$386","v":0},"3_4"]
[{"$f":"[2]Gr03!$A$387","v":0},"3_4"]
[{"$f":"[2]Gr03!$A$388","v":0},"3_4"]
[{"$f":"[2]Gr03!$A$389","v":0},"3_4"]
[{"$f":"[2]Gr03!$A$390","v":0},"3_4"]
[{"$f":"[2]Gr03!$A$391","v":0},"3_4"]
[{"$f":"[2]Gr03!$A$392","v":0},"3_4"]
[{"$f":"[2]Gr03!$A$393","v":0},"3_4"]
[{"$f":"[2]Gr03!$A$394","v":0},"3_4"]
[{"$f":"[2]Gr03!$A$395","v":0},"3_4"]
[{"$f":"[2]Gr03!$A$396","v":0},"3_4"]
[{"$f":"[2]Gr03!$A$397","v":0},"3_4"]
[{"$f":"[2]Gr03!$A$398","v":0},"3_4"]
[{"$f":"[2]Gr03!$A$399","v":0},"3_4"]
[{"$f":"[2]Gr03!$A$411","v":0},"3_5"]
[{"$f":"[2]Gr03!$A$412","v":0},"3_5"]
[{"$f":"[2]Gr03!$A$413","v":0},"3_5"]
[{"$f":"[2]Gr03!$A$414","v":0},"3_5"]
[{"$f":"[2]Gr03!$A$415","v":0},"3_5"]
[{"$f":"[2]Gr03!$A$416","v":0},"3_5"]
[{"$f":"[2]Gr03!$A$417","v":0},"3_5"]
[{"$f":"[2]Gr03!$A$418","v":0},"3_5"]
[{"$f":"[2]Gr03!$A$419","v":0},"3_5"]
[{"$f":"[2]Gr03!$A$420","v":0},"3_5"]
[{"$f":"[2]Gr03!$A$421","v":0},"3_5"]
[{"$f":"[2]Gr03!$A$422","v":0},"3_5"]
[{"$f":"[2]Gr03!$A$423","v":0},"3_5"]
[{"$f":"[2]Gr03!$A$424","v":0},"3_5"]
[{"$f":"[2]Gr03!$A$425","v":0},"3_5"]
[{"$f":"[2]Gr03!$A$426","v":0},"3_5"]
[{"$f":"[2]Gr03!$A$427","v":0},"3_5"]
[{"$f":"[2]Gr03!$A$428","v":0},"3_5"]
[{"$f":"[2]Gr03!$A$429","v":0},"3_5"]
[{"$f":"[2]Gr03!$A$430","v":0},"3_5"]
[{"$f":"[2]Gr03!$A$431","v":0},"3_5"]
[{"$f":"[2]Gr03!$A$432","v":0},"3_5"]
[{"$f":"[2]Gr03!$A$433","v":0},"3_5"]
[{"$f":"[2]Gr03!$A$434","v":0},"3_5"]
[{"$f":"[2]Gr03!$A$435","v":0},"3_5"]
[{"$f":"[2]Gr03!$A$436","v":0},"3_5"]
[{"$f":"[2]Gr03!$A$437","v":0},"3_5"]
[{"$f":"[2]Gr03!$A$438","v":0},"3_5"]
[{"$f":"[2]Gr03!$A$439","v":0},"3_5"]
[{"$f":"[2]Gr03!$A$440","v":0},"3_5"]
[{"$f":"[2]Gr03!$A$441","v":0},"3_5"]
[{"$f":"[2]Gr03!$A$442","v":0},"3_5"]
[{"$f":"[2]Gr03!$A$443","v":0},"3_5"]
[{"$f":"[2]Gr03!$A$444","v":0},"3_5"]
[{"$f":"[2]Gr03!$A$445","v":0},"3_5"]
[{"$f":"[2]Gr03!$A$446","v":0},"3_5"]
[{"$f":"[2]Gr03!$A$447","v":0},"3_5"]
[{"$f":"[2]Gr03!$A$448","v":0},"3_5"]
[{"$f":"[2]Gr03!$A$449","v":0},"3_5"]
[{"$f":"[2]Gr03!$A$450","v":0},"3_5"]
[{"$f":"[2]Gr03!$A$451","v":0},"3_5"]
[{"$f":"[2]Gr03!$A$452","v":0},"3_5"]
[{"$f":"[2]Gr03!$A$453","v":0},"3_5"]
[{"$f":"[2]Gr03!$A$454","v":0},"3_5"]
[{"$f":"[2]Gr03!$A$455","v":0},"3_5"]
[{"$f":"[2]Gr03!$A$456","v":0},"3_5"]
[{"$f":"[2]Gr03!$A$457","v":0},"3_5"]
[{"$f":"[2]Gr03!$A$458","v":0},"3_5"]
[{"$f":"[2]Gr03!$A$459","v":0},"3_5"]
[{"$f":"[2]Gr03!$A$460","v":0},"3_5"]
[{"$f":"[2]Gr03!$A$461","v":0},"3_5"]
[{"$f":"[2]Gr03!$A$462","v":0},"3_5"]
[{"$f":"[2]Gr03!$A$463","v":0},"3_5"]
[{"$f":"[2]Gr03!$A$464","v":0},"3_5"]
[{"$f":"[2]Gr03!$A$465","v":0},"3_5"]
[{"$f":"[2]Gr03!$A$466","v":0},"3_5"]
[{"$f":"[2]Gr03!$A$467","v":0},"3_5"]
[{"$f":"[2]Gr03!$A$468","v":0},"3_5"]
[{"$f":"[2]Gr03!$A$469","v":0},"3_5"]
[{"$f":"[2]Gr03!$A$470","v":0},"3_5"]
[{"$f":"[2]Gr03!$A$471","v":0},"3_5"]
[{"$f":"[2]Gr03!$A$472","v":0},"3_5"]
[{"$f":"[2]Gr03!$A$473","v":0},"3_5"]
[{"$f":"[2]Gr03!$A$474","v":0},"3_5"]
[{"$f":"[2]Gr03!$A$475","v":0},"3_5"]
[{"$f":"[2]Gr03!$A$476","v":0},"3_5"]
[{"$f":"[2]Gr03!$A$477","v":0},"3_5"]
[{"$f":"[2]Gr03!$A$478","v":0},"3_5"]
[{"$f":"[2]Gr03!$A$479","v":0},"3_5"]
[{"$f":"[2]Gr03!$A$480","v":0},"3_5"]
[{"$f":"[2]Gr03!$A$481","v":0},"3_5"]
[{"$f":"[2]Gr03!$A$482","v":0},"3_5"]
[{"$f":"[2]Gr03!$A$483","v":0},"3_5"]
[{"$f":"[2]Gr03!$A$484","v":0},"3_5"]
[{"$f":"[2]Gr03!$A$485","v":0},"3_5"]
[{"$f":"[2]Gr03!$A$486","v":0},"3_5"]
[{"$f":"[2]Gr03!$A$487","v":0},"3_5"]
[{"$f":"[2]Gr03!$A$488","v":0},"3_5"]
[{"$f":"[2]Gr03!$A$489","v":0},"3_5"]
[{"$f":"[2]Gr03!$A$490","v":0},"3_5"]
[{"$f":"[2]Gr03!$A$491","v":0},"3_5"]
[{"$f":"[2]Gr03!$A$492","v":0},"3_5"]
[{"$f":"[2]Gr03!$A$493","v":0},"3_5"]
[{"$f":"[2]Gr03!$A$494","v":0},"3_5"]
[{"$f":"[2]Gr03!$A$495","v":0},"3_5"]
[{"$f":"[2]Gr03!$A$496","v":0},"3_5"]
[{"$f":"[2]Gr03!$A$497","v":0},"3_5"]
[{"$f":"[2]Gr03!$A$498","v":0},"3_5"]
[{"$f":"[2]Gr03!$A$499","v":0},"3_5"]
[{"$f":"[2]Gr03!$A$511","v":0},"3_6"]
[{"$f":"[2]Gr03!$A$512","v":0},"3_6"]
[{"$f":"[2]Gr03!$A$513","v":0},"3_6"]
[{"$f":"[2]Gr03!$A$514","v":0},"3_6"]
[{"$f":"[2]Gr03!$A$515","v":0},"3_6"]
[{"$f":"[2]Gr03!$A$516","v":0},"3_6"]
[{"$f":"[2]Gr03!$A$517","v":0},"3_6"]
[{"$f":"[2]Gr03!$A$518","v":0},"3_6"]
[{"$f":"[2]Gr03!$A$519","v":0},"3_6"]
[{"$f":"[2]Gr03!$A$520","v":0},"3_6"]
[{"$f":"[2]Gr03!$A$521","v":0},"3_6"]
[{"$f":"[2]Gr03!$A$522","v":0},"3_6"]
[{"$f":"[2]Gr03!$A$523","v":0},"3_6"]
[{"$f":"[2]Gr03!$A$524","v":0},"3_6"]
[{"$f":"[2]Gr03!$A$525","v":0},"3_6"]
[{"$f":"[2]Gr03!$A$526","v":0},"3_6"]
[{"$f":"[2]Gr03!$A$527","v":0},"3_6"]
[{"$f":"[2]Gr03!$A$528","v":0},"3_6"]
[{"$f":"[2]Gr03!$A$529","v":0},"3_6"]
[{"$f":"[2]Gr03!$A$530","v":0},"3_6"]
[{"$f":"[2]Gr03!$A$531","v":0},"3_6"]
[{"$f":"[2]Gr03!$A$532","v":0},"3_6"]
[{"$f":"[2]Gr03!$A$533","v":0},"3_6"]
[{"$f":"[2]Gr03!$A$534","v":0},"3_6"]
[{"$f":"[2]Gr03!$A$535","v":0},"3_6"]
[{"$f":"[2]Gr03!$A$536","v":0},"3_6"]
[{"$f":"[2]Gr03!$A$537","v":0},"3_6"]
[{"$f":"[2]Gr03!$A$538","v":0},"3_6"]
[{"$f":"[2]Gr03!$A$539","v":0},"3_6"]
[{"$f":"[2]Gr03!$A$540","v":0},"3_6"]
[{"$f":"[2]Gr03!$A$541","v":0},"3_6"]
[{"$f":"[2]Gr03!$A$542","v":0},"3_6"]
[{"$f":"[2]Gr03!$A$543","v":0},"3_6"]
[{"$f":"[2]Gr03!$A$544","v":0},"3_6"]
[{"$f":"[2]Gr03!$A$545","v":0},"3_6"]
[{"$f":"[2]Gr03!$A$546","v":0},"3_6"]
[{"$f":"[2]Gr03!$A$547","v":0},"3_6"]
[{"$f":"[2]Gr03!$A$548","v":0},"3_6"]
[{"$f":"[2]Gr03!$A$549","v":0},"3_6"]
[{"$f":"[2]Gr03!$A$550","v":0},"3_6"]
[{"$f":"[2]Gr03!$A$551","v":0},"3_6"]
[{"$f":"[2]Gr03!$A$552","v":0},"3_6"]
[{"$f":"[2]Gr03!$A$553","v":0},"3_6"]
[{"$f":"[2]Gr03!$A$554","v":0},"3_6"]
[{"$f":"[2]Gr03!$A$555","v":0},"3_6"]
[{"$f":"[2]Gr03!$A$556","v":0},"3_6"]
[{"$f":"[2]Gr03!$A$557","v":0},"3_6"]
[{"$f":"[2]Gr03!$A$558","v":0},"3_6"]
[{"$f":"[2]Gr03!$A$559","v":0},"3_6"]
[{"$f":"[2]Gr03!$A$560","v":0},"3_6"]
[{"$f":"[2]Gr03!$A$561","v":0},"3_6"]
[{"$f":"[2]Gr03!$A$562","v":0},"3_6"]
[{"$f":"[2]Gr03!$A$563","v":0},"3_6"]
[{"$f":"[2]Gr03!$A$564","v":0},"3_6"]
[{"$f":"[2]Gr03!$A$565","v":0},"3_6"]
[{"$f":"[2]Gr03!$A$566","v":0},"3_6"]
[{"$f":"[2]Gr03!$A$567","v":0},"3_6"]
[{"$f":"[2]Gr03!$A$568","v":0},"3_6"]
[{"$f":"[2]Gr03!$A$569","v":0},"3_6"]
[{"$f":"[2]Gr03!$A$570","v":0},"3_6"]
[{"$f":"[2]Gr03!$A$571","v":0},"3_6"]
[{"$f":"[2]Gr03!$A$572","v":0},"3_6"]
[{"$f":"[2]Gr03!$A$573","v":0},"3_6"]
[{"$f":"[2]Gr03!$A$574","v":0},"3_6"]
[{"$f":"[2]Gr03!$A$575","v":0},"3_6"]
[{"$f":"[2]Gr03!$A$576","v":0},"3_6"]
[{"$f":"[2]Gr03!$A$577","v":0},"3_6"]
[{"$f":"[2]Gr03!$A$578","v":0},"3_6"]
[{"$f":"[2]Gr03!$A$579","v":0},"3_6"]
[{"$f":"[2]Gr03!$A$580","v":0},"3_6"]
[{"$f":"[2]Gr03!$A$581","v":0},"3_6"]
[{"$f":"[2]Gr03!$A$582","v":0},"3_6"]
[{"$f":"[2]Gr03!$A$583","v":0},"3_6"]
[{"$f":"[2]Gr03!$A$584","v":0},"3_6"]
[{"$f":"[2]Gr03!$A$585","v":0},"3_6"]
[{"$f":"[2]Gr03!$A$586","v":0},"3_6"]
[{"$f":"[2]Gr03!$A$587","v":0},"3_6"]
[{"$f":"[2]Gr03!$A$588","v":0},"3_6"]
[{"$f":"[2]Gr03!$A$589","v":0},"3_6"]
[{"$f":"[2]Gr03!$A$590","v":0},"3_6"]
[{"$f":"[2]Gr03!$A$591","v":0},"3_6"]
[{"$f":"[2]Gr03!$A$592","v":0},"3_6"]
[{"$f":"[2]Gr03!$A$593","v":0},"3_6"]
[{"$f":"[2]Gr03!$A$594","v":0},"3_6"]
[{"$f":"[2]Gr03!$A$595","v":0},"3_6"]
[{"$f":"[2]Gr03!$A$596","v":0},"3_6"]
[{"$f":"[2]Gr03!$A$597","v":0},"3_6"]
[{"$f":"[2]Gr03!$A$598","v":0},"3_6"]
[{"$f":"[2]Gr03!$A$599","v":0},"3_6"]
[{"$f":"[2]Gr04!$A$11","v":254},"4_1"]
[{"$f":"[2]Gr04!$A$12","v":22},"4_1"]
[{"$f":"[2]Gr04!$A$13","v":0},"4_1"]
[{"$f":"[2]Gr04!$A$14","v":0},"4_1"]
[{"$f":"[2]Gr04!$A$15","v":0},"4_1"]
[{"$f":"[2]Gr04!$A$16","v":0},"4_1"]
[{"$f":"[2]Gr04!$A$17","v":0},"4_1"]
[{"$f":"[2]Gr04!$A$18","v":0},"4_1"]
[{"$f":"[2]Gr04!$A$19","v":0},"4_1"]
[{"$f":"[2]Gr04!$A$20","v":0},"4_1"]
[{"$f":"[2]Gr04!$A$21","v":0},"4_1"]
[{"$f":"[2]Gr04!$A$22","v":0},"4_1"]
[{"$f":"[2]Gr04!$A$23","v":0},"4_1"]
[{"$f":"[2]Gr04!$A$24","v":0},"4_1"]
[{"$f":"[2]Gr04!$A$25","v":0},"4_1"]
[{"$f":"[2]Gr04!$A$26","v":0},"4_1"]
[{"$f":"[2]Gr04!$A$27","v":0},"4_1"]
[{"$f":"[2]Gr04!$A$28","v":0},"4_1"]
[{"$f":"[2]Gr04!$A$29","v":0},"4_1"]
[{"$f":"[2]Gr04!$A$30","v":0},"4_1"]
[{"$f":"[2]Gr04!$A$31","v":0},"4_1"]
[{"$f":"[2]Gr04!$A$32","v":0},"4_1"]
[{"$f":"[2]Gr04!$A$33","v":0},"4_1"]
[{"$f":"[2]Gr04!$A$34","v":0},"4_1"]
[{"$f":"[2]Gr04!$A$35","v":0},"4_1"]
[{"$f":"[2]Gr04!$A$36","v":0},"4_1"]
[{"$f":"[2]Gr04!$A$37","v":0},"4_1"]
[{"$f":"[2]Gr04!$A$38","v":0},"4_1"]
[{"$f":"[2]Gr04!$A$39","v":0},"4_1"]
[{"$f":"[2]Gr04!$A$40","v":0},"4_1"]
[{"$f":"[2]Gr04!$A$41","v":0},"4_1"]
[{"$f":"[2]Gr04!$A$42","v":0},"4_1"]
[{"$f":"[2]Gr04!$A$43","v":0},"4_1"]
[{"$f":"[2]Gr04!$A$44","v":0},"4_1"]
[{"$f":"[2]Gr04!$A$45","v":0},"4_1"]
[{"$f":"[2]Gr04!$A$46","v":0},"4_1"]
[{"$f":"[2]Gr04!$A$47","v":0},"4_1"]
[{"$f":"[2]Gr04!$A$48","v":0},"4_1"]
[{"$f":"[2]Gr04!$A$49","v":0},"4_1"]
[{"$f":"[2]Gr04!$A$50","v":0},"4_1"]
[{"$f":"[2]Gr04!$A$51","v":0},"4_1"]
[{"$f":"[2]Gr04!$A$52","v":0},"4_1"]
[{"$f":"[2]Gr04!$A$53","v":0},"4_1"]
[{"$f":"[2]Gr04!$A$54","v":0},"4_1"]
[{"$f":"[2]Gr04!$A$55","v":0},"4_1"]
[{"$f":"[2]Gr04!$A$56","v":0},"4_1"]
[{"$f":"[2]Gr04!$A$57","v":0},"4_1"]
[{"$f":"[2]Gr04!$A$58","v":0},"4_1"]
[{"$f":"[2]Gr04!$A$59","v":0},"4_1"]
[{"$f":"[2]Gr04!$A$60","v":0},"4_1"]
[{"$f":"[2]Gr04!$A$61","v":0},"4_1"]
[{"$f":"[2]Gr04!$A$62","v":0},"4_1"]
[{"$f":"[2]Gr04!$A$63","v":0},"4_1"]
[{"$f":"[2]Gr04!$A$64","v":0},"4_1"]
[{"$f":"[2]Gr04!$A$65","v":0},"4_1"]
[{"$f":"[2]Gr04!$A$66","v":0},"4_1"]
[{"$f":"[2]Gr04!$A$67","v":0},"4_1"]
[{"$f":"[2]Gr04!$A$68","v":0},"4_1"]
[{"$f":"[2]Gr04!$A$69","v":0},"4_1"]
[{"$f":"[2]Gr04!$A$70","v":0},"4_1"]
[{"$f":"[2]Gr04!$A$71","v":0},"4_1"]
[{"$f":"[2]Gr04!$A$72","v":0},"4_1"]
[{"$f":"[2]Gr04!$A$73","v":0},"4_1"]
[{"$f":"[2]Gr04!$A$74","v":0},"4_1"]
[{"$f":"[2]Gr04!$A$75","v":0},"4_1"]
[{"$f":"[2]Gr04!$A$76","v":0},"4_1"]
[{"$f":"[2]Gr04!$A$77","v":0},"4_1"]
[{"$f":"[2]Gr04!$A$78","v":0},"4_1"]
[{"$f":"[2]Gr04!$A$79","v":0},"4_1"]
[{"$f":"[2]Gr04!$A$80","v":0},"4_1"]
[{"$f":"[2]Gr04!$A$81","v":0},"4_1"]
[{"$f":"[2]Gr04!$A$82","v":0},"4_1"]
[{"$f":"[2]Gr04!$A$83","v":0},"4_1"]
[{"$f":"[2]Gr04!$A$84","v":0},"4_1"]
[{"$f":"[2]Gr04!$A$85","v":0},"4_1"]
[{"$f":"[2]Gr04!$A$86","v":0},"4_1"]
[{"$f":"[2]Gr04!$A$87","v":0},"4_1"]
[{"$f":"[2]Gr04!$A$88","v":0},"4_1"]
[{"$f":"[2]Gr04!$A$89","v":0},"4_1"]
[{"$f":"[2]Gr04!$A$90","v":0},"4_1"]
[{"$f":"[2]Gr04!$A$91","v":0},"4_1"]
[{"$f":"[2]Gr04!$A$92","v":0},"4_1"]
[{"$f":"[2]Gr04!$A$93","v":0},"4_1"]
[{"$f":"[2]Gr04!$A$94","v":0},"4_1"]
[{"$f":"[2]Gr04!$A$95","v":0},"4_1"]
[{"$f":"[2]Gr04!$A$96","v":0},"4_1"]
[{"$f":"[2]Gr04!$A$97","v":0},"4_1"]
[{"$f":"[2]Gr04!$A$98","v":0},"4_1"]
[{"$f":"[2]Gr04!$A$99","v":0},"4_1"]
[{"$f":"[2]Gr04!$A$111","v":0},"4_2"]
[{"$f":"[2]Gr04!$A$112","v":0},"4_2"]
[{"$f":"[2]Gr04!$A$113","v":0},"4_2"]
[{"$f":"[2]Gr04!$A$114","v":0},"4_2"]
[{"$f":"[2]Gr04!$A$115","v":0},"4_2"]
[{"$f":"[2]Gr04!$A$116","v":0},"4_2"]
[{"$f":"[2]Gr04!$A$117","v":0},"4_2"]
[{"$f":"[2]Gr04!$A$118","v":0},"4_2"]
[{"$f":"[2]Gr04!$A$119","v":0},"4_2"]
[{"$f":"[2]Gr04!$A$120","v":0},"4_2"]
[{"$f":"[2]Gr04!$A$121","v":0},"4_2"]
[{"$f":"[2]Gr04!$A$122","v":0},"4_2"]
[{"$f":"[2]Gr04!$A$123","v":0},"4_2"]
[{"$f":"[2]Gr04!$A$124","v":0},"4_2"]
[{"$f":"[2]Gr04!$A$125","v":0},"4_2"]
[{"$f":"[2]Gr04!$A$126","v":0},"4_2"]
[{"$f":"[2]Gr04!$A$127","v":0},"4_2"]
[{"$f":"[2]Gr04!$A$128","v":0},"4_2"]
[{"$f":"[2]Gr04!$A$129","v":0},"4_2"]
[{"$f":"[2]Gr04!$A$130","v":0},"4_2"]
[{"$f":"[2]Gr04!$A$131","v":0},"4_2"]
[{"$f":"[2]Gr04!$A$132","v":0},"4_2"]
[{"$f":"[2]Gr04!$A$133","v":0},"4_2"]
[{"$f":"[2]Gr04!$A$134","v":0},"4_2"]
[{"$f":"[2]Gr04!$A$135","v":0},"4_2"]
[{"$f":"[2]Gr04!$A$136","v":0},"4_2"]
[{"$f":"[2]Gr04!$A$137","v":0},"4_2"]
[{"$f":"[2]Gr04!$A$138","v":0},"4_2"]
[{"$f":"[2]Gr04!$A$139","v":0},"4_2"]
[{"$f":"[2]Gr04!$A$140","v":0},"4_2"]
[{"$f":"[2]Gr04!$A$141","v":0},"4_2"]
[{"$f":"[2]Gr04!$A$142","v":0},"4_2"]
[{"$f":"[2]Gr04!$A$143","v":0},"4_2"]
[{"$f":"[2]Gr04!$A$144","v":0},"4_2"]
[{"$f":"[2]Gr04!$A$145","v":0},"4_2"]
[{"$f":"[2]Gr04!$A$146","v":0},"4_2"]
[{"$f":"[2]Gr04!$A$147","v":0},"4_2"]
[{"$f":"[2]Gr04!$A$148","v":0},"4_2"]
[{"$f":"[2]Gr04!$A$149","v":0},"4_2"]
[{"$f":"[2]Gr04!$A$150","v":0},"4_2"]
[{"$f":"[2]Gr04!$A$151","v":0},"4_2"]
[{"$f":"[2]Gr04!$A$152","v":0},"4_2"]
[{"$f":"[2]Gr04!$A$153","v":0},"4_2"]
[{"$f":"[2]Gr04!$A$154","v":0},"4_2"]
[{"$f":"[2]Gr04!$A$155","v":0},"4_2"]
[{"$f":"[2]Gr04!$A$156","v":0},"4_2"]
[{"$f":"[2]Gr04!$A$157","v":0},"4_2"]
[{"$f":"[2]Gr04!$A$158","v":0},"4_2"]
[{"$f":"[2]Gr04!$A$159","v":0},"4_2"]
[{"$f":"[2]Gr04!$A$160","v":0},"4_2"]
[{"$f":"[2]Gr04!$A$161","v":0},"4_2"]
[{"$f":"[2]Gr04!$A$162","v":0},"4_2"]
[{"$f":"[2]Gr04!$A$163","v":0},"4_2"]
[{"$f":"[2]Gr04!$A$164","v":0},"4_2"]
[{"$f":"[2]Gr04!$A$165","v":0},"4_2"]
[{"$f":"[2]Gr04!$A$166","v":0},"4_2"]
[{"$f":"[2]Gr04!$A$167","v":0},"4_2"]
[{"$f":"[2]Gr04!$A$168","v":0},"4_2"]
[{"$f":"[2]Gr04!$A$169","v":0},"4_2"]
[{"$f":"[2]Gr04!$A$170","v":0},"4_2"]
[{"$f":"[2]Gr04!$A$171","v":0},"4_2"]
[{"$f":"[2]Gr04!$A$172","v":0},"4_2"]
[{"$f":"[2]Gr04!$A$173","v":0},"4_2"]
[{"$f":"[2]Gr04!$A$174","v":0},"4_2"]
[{"$f":"[2]Gr04!$A$175","v":0},"4_2"]
[{"$f":"[2]Gr04!$A$176","v":0},"4_2"]
[{"$f":"[2]Gr04!$A$177","v":0},"4_2"]
[{"$f":"[2]Gr04!$A$178","v":0},"4_2"]
[{"$f":"[2]Gr04!$A$179","v":0},"4_2"]
[{"$f":"[2]Gr04!$A$180","v":0},"4_2"]
[{"$f":"[2]Gr04!$A$181","v":0},"4_2"]
[{"$f":"[2]Gr04!$A$182","v":0},"4_2"]
[{"$f":"[2]Gr04!$A$183","v":0},"4_2"]
[{"$f":"[2]Gr04!$A$184","v":0},"4_2"]
[{"$f":"[2]Gr04!$A$185","v":0},"4_2"]
[{"$f":"[2]Gr04!$A$186","v":0},"4_2"]
[{"$f":"[2]Gr04!$A$187","v":0},"4_2"]
[{"$f":"[2]Gr04!$A$188","v":0},"4_2"]
[{"$f":"[2]Gr04!$A$189","v":0},"4_2"]
[{"$f":"[2]Gr04!$A$190","v":0},"4_2"]
[{"$f":"[2]Gr04!$A$191","v":0},"4_2"]
[{"$f":"[2]Gr04!$A$192","v":0},"4_2"]
[{"$f":"[2]Gr04!$A$193","v":0},"4_2"]
[{"$f":"[2]Gr04!$A$194","v":0},"4_2"]
[{"$f":"[2]Gr04!$A$195","v":0},"4_2"]
[{"$f":"[2]Gr04!$A$196","v":0},"4_2"]
[{"$f":"[2]Gr04!$A$197","v":0},"4_2"]
[{"$f":"[2]Gr04!$A$198","v":0},"4_2"]
[{"$f":"[2]Gr04!$A$199","v":0},"4_2"]
[{"$f":"[2]Gr04!$A$211","v":0},"4_3"]
[{"$f":"[2]Gr04!$A$212","v":0},"4_3"]
[{"$f":"[2]Gr04!$A$213","v":0},"4_3"]
[{"$f":"[2]Gr04!$A$214","v":0},"4_3"]
[{"$f":"[2]Gr04!$A$215","v":0},"4_3"]
[{"$f":"[2]Gr04!$A$216","v":0},"4_3"]
[{"$f":"[2]Gr04!$A$217","v":0},"4_3"]
[{"$f":"[2]Gr04!$A$218","v":0},"4_3"]
[{"$f":"[2]Gr04!$A$219","v":0},"4_3"]
[{"$f":"[2]Gr04!$A$220","v":0},"4_3"]
[{"$f":"[2]Gr04!$A$221","v":0},"4_3"]
[{"$f":"[2]Gr04!$A$222","v":0},"4_3"]
[{"$f":"[2]Gr04!$A$223","v":0},"4_3"]
[{"$f":"[2]Gr04!$A$224","v":0},"4_3"]
[{"$f":"[2]Gr04!$A$225","v":0},"4_3"]
[{"$f":"[2]Gr04!$A$226","v":0},"4_3"]
[{"$f":"[2]Gr04!$A$227","v":0},"4_3"]
[{"$f":"[2]Gr04!$A$228","v":0},"4_3"]
[{"$f":"[2]Gr04!$A$229","v":0},"4_3"]
[{"$f":"[2]Gr04!$A$230","v":0},"4_3"]
[{"$f":"[2]Gr04!$A$231","v":0},"4_3"]
[{"$f":"[2]Gr04!$A$232","v":0},"4_3"]
[{"$f":"[2]Gr04!$A$233","v":0},"4_3"]
[{"$f":"[2]Gr04!$A$234","v":0},"4_3"]
[{"$f":"[2]Gr04!$A$235","v":0},"4_3"]
[{"$f":"[2]Gr04!$A$236","v":0},"4_3"]
[{"$f":"[2]Gr04!$A$237","v":0},"4_3"]
[{"$f":"[2]Gr04!$A$238","v":0},"4_3"]
[{"$f":"[2]Gr04!$A$239","v":0},"4_3"]
[{"$f":"[2]Gr04!$A$240","v":0},"4_3"]
[{"$f":"[2]Gr04!$A$241","v":0},"4_3"]
[{"$f":"[2]Gr04!$A$242","v":0},"4_3"]
[{"$f":"[2]Gr04!$A$243","v":0},"4_3"]
[{"$f":"[2]Gr04!$A$244","v":0},"4_3"]
[{"$f":"[2]Gr04!$A$245","v":0},"4_3"]
[{"$f":"[2]Gr04!$A$246","v":0},"4_3"]
[{"$f":"[2]Gr04!$A$247","v":0},"4_3"]
[{"$f":"[2]Gr04!$A$248","v":0},"4_3"]
[{"$f":"[2]Gr04!$A$249","v":0},"4_3"]
[{"$f":"[2]Gr04!$A$250","v":0},"4_3"]
[{"$f":"[2]Gr04!$A$251","v":0},"4_3"]
[{"$f":"[2]Gr04!$A$252","v":0},"4_3"]
[{"$f":"[2]Gr04!$A$253","v":0},"4_3"]
[{"$f":"[2]Gr04!$A$254","v":0},"4_3"]
[{"$f":"[2]Gr04!$A$255","v":0},"4_3"]
[{"$f":"[2]Gr04!$A$256","v":0},"4_3"]
[{"$f":"[2]Gr04!$A$257","v":0},"4_3"]
[{"$f":"[2]Gr04!$A$258","v":0},"4_3"]
[{"$f":"[2]Gr04!$A$259","v":0},"4_3"]
[{"$f":"[2]Gr04!$A$260","v":0},"4_3"]
[{"$f":"[2]Gr04!$A$261","v":0},"4_3"]
[{"$f":"[2]Gr04!$A$262","v":0},"4_3"]
[{"$f":"[2]Gr04!$A$263","v":0},"4_3"]
[{"$f":"[2]Gr04!$A$264","v":0},"4_3"]
[{"$f":"[2]Gr04!$A$265","v":0},"4_3"]
[{"$f":"[2]Gr04!$A$266","v":0},"4_3"]
[{"$f":"[2]Gr04!$A$267","v":0},"4_3"]
[{"$f":"[2]Gr04!$A$268","v":0},"4_3"]
[{"$f":"[2]Gr04!$A$269","v":0},"4_3"]
[{"$f":"[2]Gr04!$A$270","v":0},"4_3"]
[{"$f":"[2]Gr04!$A$271","v":0},"4_3"]
[{"$f":"[2]Gr04!$A$272","v":0},"4_3"]
[{"$f":"[2]Gr04!$A$273","v":0},"4_3"]
[{"$f":"[2]Gr04!$A$274","v":0},"4_3"]
[{"$f":"[2]Gr04!$A$275","v":0},"4_3"]
[{"$f":"[2]Gr04!$A$276","v":0},"4_3"]
[{"$f":"[2]Gr04!$A$277","v":0},"4_3"]
[{"$f":"[2]Gr04!$A$278","v":0},"4_3"]
[{"$f":"[2]Gr04!$A$279","v":0},"4_3"]
[{"$f":"[2]Gr04!$A$280","v":0},"4_3"]
[{"$f":"[2]Gr04!$A$281","v":0},"4_3"]
[{"$f":"[2]Gr04!$A$282","v":0},"4_3"]
[{"$f":"[2]Gr04!$A$283","v":0},"4_3"]
[{"$f":"[2]Gr04!$A$284","v":0},"4_3"]
[{"$f":"[2]Gr04!$A$285","v":0},"4_3"]
[{"$f":"[2]Gr04!$A$286","v":0},"4_3"]
[{"$f":"[2]Gr04!$A$287","v":0},"4_3"]
[{"$f":"[2]Gr04!$A$288","v":0},"4_3"]
[{"$f":"[2]Gr04!$A$289","v":0},"4_3"]
[{"$f":"[2]Gr04!$A$290","v":0},"4_3"]
[{"$f":"[2]Gr04!$A$291","v":0},"4_3"]
[{"$f":"[2]Gr04!$A$292","v":0},"4_3"]
[{"$f":"[2]Gr04!$A$293","v":0},"4_3"]
[{"$f":"[2]Gr04!$A$294","v":0},"4_3"]
[{"$f":"[2]Gr04!$A$295","v":0},"4_3"]
[{"$f":"[2]Gr04!$A$296","v":0},"4_3"]
[{"$f":"[2]Gr04!$A$297","v":0},"4_3"]
[{"$f":"[2]Gr04!$A$298","v":0},"4_3"]
[{"$f":"[2]Gr04!$A$299","v":0},"4_3"]
[{"$f":"[2]Gr04!$A$311","v":0},"4_4"]
[{"$f":"[2]Gr04!$A$312","v":0},"4_4"]
[{"$f":"[2]Gr04!$A$313","v":0},"4_4"]
[{"$f":"[2]Gr04!$A$314","v":0},"4_4"]
[{"$f":"[2]Gr04!$A$315","v":0},"4_4"]
[{"$f":"[2]Gr04!$A$316","v":0},"4_4"]
[{"$f":"[2]Gr04!$A$317","v":0},"4_4"]
[{"$f":"[2]Gr04!$A$318","v":0},"4_4"]
[{"$f":"[2]Gr04!$A$319","v":0},"4_4"]
[{"$f":"[2]Gr04!$A$320","v":0},"4_4"]
[{"$f":"[2]Gr04!$A$321","v":0},"4_4"]
[{"$f":"[2]Gr04!$A$322","v":0},"4_4"]
[{"$f":"[2]Gr04!$A$323","v":0},"4_4"]
[{"$f":"[2]Gr04!$A$324","v":0},"4_4"]
[{"$f":"[2]Gr04!$A$325","v":0},"4_4"]
[{"$f":"[2]Gr04!$A$326","v":0},"4_4"]
[{"$f":"[2]Gr04!$A$327","v":0},"4_4"]
[{"$f":"[2]Gr04!$A$328","v":0},"4_4"]
[{"$f":"[2]Gr04!$A$329","v":0},"4_4"]
[{"$f":"[2]Gr04!$A$330","v":0},"4_4"]
[{"$f":"[2]Gr04!$A$331","v":0},"4_4"]
[{"$f":"[2]Gr04!$A$332","v":0},"4_4"]
[{"$f":"[2]Gr04!$A$333","v":0},"4_4"]
[{"$f":"[2]Gr04!$A$334","v":0},"4_4"]
[{"$f":"[2]Gr04!$A$335","v":0},"4_4"]
[{"$f":"[2]Gr04!$A$336","v":0},"4_4"]
[{"$f":"[2]Gr04!$A$337","v":0},"4_4"]
[{"$f":"[2]Gr04!$A$338","v":0},"4_4"]
[{"$f":"[2]Gr04!$A$339","v":0},"4_4"]
[{"$f":"[2]Gr04!$A$340","v":0},"4_4"]
[{"$f":"[2]Gr04!$A$341","v":0},"4_4"]
[{"$f":"[2]Gr04!$A$342","v":0},"4_4"]
[{"$f":"[2]Gr04!$A$343","v":0},"4_4"]
[{"$f":"[2]Gr04!$A$344","v":0},"4_4"]
[{"$f":"[2]Gr04!$A$345","v":0},"4_4"]
[{"$f":"[2]Gr04!$A$346","v":0},"4_4"]
[{"$f":"[2]Gr04!$A$347","v":0},"4_4"]
[{"$f":"[2]Gr04!$A$348","v":0},"4_4"]
[{"$f":"[2]Gr04!$A$349","v":0},"4_4"]
[{"$f":"[2]Gr04!$A$350","v":0},"4_4"]
[{"$f":"[2]Gr04!$A$351","v":0},"4_4"]
[{"$f":"[2]Gr04!$A$352","v":0},"4_4"]
[{"$f":"[2]Gr04!$A$353","v":0},"4_4"]
[{"$f":"[2]Gr04!$A$354","v":0},"4_4"]
[{"$f":"[2]Gr04!$A$355","v":0},"4_4"]
[{"$f":"[2]Gr04!$A$356","v":0},"4_4"]
[{"$f":"[2]Gr04!$A$357","v":0},"4_4"]
[{"$f":"[2]Gr04!$A$358","v":0},"4_4"]
[{"$f":"[2]Gr04!$A$359","v":0},"4_4"]
[{"$f":"[2]Gr04!$A$360","v":0},"4_4"]
[{"$f":"[2]Gr04!$A$361","v":0},"4_4"]
[{"$f":"[2]Gr04!$A$362","v":0},"4_4"]
[{"$f":"[2]Gr04!$A$363","v":0},"4_4"]
[{"$f":"[2]Gr04!$A$364","v":0},"4_4"]
[{"$f":"[2]Gr04!$A$365","v":0},"4_4"]
[{"$f":"[2]Gr04!$A$366","v":0},"4_4"]
[{"$f":"[2]Gr04!$A$367","v":0},"4_4"]
[{"$f":"[2]Gr04!$A$368","v":0},"4_4"]
[{"$f":"[2]Gr04!$A$369","v":0},"4_4"]
[{"$f":"[2]Gr04!$A$370","v":0},"4_4"]
[{"$f":"[2]Gr04!$A$371","v":0},"4_4"]
[{"$f":"[2]Gr04!$A$372","v":0},"4_4"]
[{"$f":"[2]Gr04!$A$373","v":0},"4_4"]
[{"$f":"[2]Gr04!$A$374","v":0},"4_4"]
[{"$f":"[2]Gr04!$A$375","v":0},"4_4"]
[{"$f":"[2]Gr04!$A$376","v":0},"4_4"]
[{"$f":"[2]Gr04!$A$377","v":0},"4_4"]
[{"$f":"[2]Gr04!$A$378","v":0},"4_4"]
[{"$f":"[2]Gr04!$A$379","v":0},"4_4"]
[{"$f":"[2]Gr04!$A$380","v":0},"4_4"]
[{"$f":"[2]Gr04!$A$381","v":0},"4_4"]
[{"$f":"[2]Gr04!$A$382","v":0},"4_4"]
[{"$f":"[2]Gr04!$A$383","v":0},"4_4"]
[{"$f":"[2]Gr04!$A$384","v":0},"4_4"]
[{"$f":"[2]Gr04!$A$385","v":0},"4_4"]
[{"$f":"[2]Gr04!$A$386","v":0},"4_4"]
[{"$f":"[2]Gr04!$A$387","v":0},"4_4"]
[{"$f":"[2]Gr04!$A$388","v":0},"4_4"]
[{"$f":"[2]Gr04!$A$389","v":0},"4_4"]
[{"$f":"[2]Gr04!$A$390","v":0},"4_4"]
[{"$f":"[2]Gr04!$A$391","v":0},"4_4"]
[{"$f":"[2]Gr04!$A$392","v":0},"4_4"]
[{"$f":"[2]Gr04!$A$393","v":0},"4_4"]
[{"$f":"[2]Gr04!$A$394","v":0},"4_4"]
[{"$f":"[2]Gr04!$A$395","v":0},"4_4"]
[{"$f":"[2]Gr04!$A$396","v":0},"4_4"]
[{"$f":"[2]Gr04!$A$397","v":0},"4_4"]
[{"$f":"[2]Gr04!$A$398","v":0},"4_4"]
[{"$f":"[2]Gr04!$A$399","v":0},"4_4"]
[{"$f":"[2]Gr04!$A$411","v":0},"4_5"]
[{"$f":"[2]Gr04!$A$412","v":0},"4_5"]
[{"$f":"[2]Gr04!$A$413","v":0},"4_5"]
[{"$f":"[2]Gr04!$A$414","v":0},"4_5"]
[{"$f":"[2]Gr04!$A$415","v":0},"4_5"]
[{"$f":"[2]Gr04!$A$416","v":0},"4_5"]
[{"$f":"[2]Gr04!$A$417","v":0},"4_5"]
[{"$f":"[2]Gr04!$A$418","v":0},"4_5"]
[{"$f":"[2]Gr04!$A$419","v":0},"4_5"]
[{"$f":"[2]Gr04!$A$420","v":0},"4_5"]
[{"$f":"[2]Gr04!$A$421","v":0},"4_5"]
[{"$f":"[2]Gr04!$A$422","v":0},"4_5"]
[{"$f":"[2]Gr04!$A$423","v":0},"4_5"]
[{"$f":"[2]Gr04!$A$424","v":0},"4_5"]
[{"$f":"[2]Gr04!$A$425","v":0},"4_5"]
[{"$f":"[2]Gr04!$A$426","v":0},"4_5"]
[{"$f":"[2]Gr04!$A$427","v":0},"4_5"]
[{"$f":"[2]Gr04!$A$428","v":0},"4_5"]
[{"$f":"[2]Gr04!$A$429","v":0},"4_5"]
[{"$f":"[2]Gr04!$A$430","v":0},"4_5"]
[{"$f":"[2]Gr04!$A$431","v":0},"4_5"]
[{"$f":"[2]Gr04!$A$432","v":0},"4_5"]
[{"$f":"[2]Gr04!$A$433","v":0},"4_5"]
[{"$f":"[2]Gr04!$A$434","v":0},"4_5"]
[{"$f":"[2]Gr04!$A$435","v":0},"4_5"]
[{"$f":"[2]Gr04!$A$436","v":0},"4_5"]
[{"$f":"[2]Gr04!$A$437","v":0},"4_5"]
[{"$f":"[2]Gr04!$A$438","v":0},"4_5"]
[{"$f":"[2]Gr04!$A$439","v":0},"4_5"]
[{"$f":"[2]Gr04!$A$440","v":0},"4_5"]
[{"$f":"[2]Gr04!$A$441","v":0},"4_5"]
[{"$f":"[2]Gr04!$A$442","v":0},"4_5"]
[{"$f":"[2]Gr04!$A$443","v":0},"4_5"]
[{"$f":"[2]Gr04!$A$444","v":0},"4_5"]
[{"$f":"[2]Gr04!$A$445","v":0},"4_5"]
[{"$f":"[2]Gr04!$A$446","v":0},"4_5"]
[{"$f":"[2]Gr04!$A$447","v":0},"4_5"]
[{"$f":"[2]Gr04!$A$448","v":0},"4_5"]
[{"$f":"[2]Gr04!$A$449","v":0},"4_5"]
[{"$f":"[2]Gr04!$A$450","v":0},"4_5"]
[{"$f":"[2]Gr04!$A$451","v":0},"4_5"]
[{"$f":"[2]Gr04!$A$452","v":0},"4_5"]
[{"$f":"[2]Gr04!$A$453","v":0},"4_5"]
[{"$f":"[2]Gr04!$A$454","v":0},"4_5"]
[{"$f":"[2]Gr04!$A$455","v":0},"4_5"]
[{"$f":"[2]Gr04!$A$456","v":0},"4_5"]
[{"$f":"[2]Gr04!$A$457","v":0},"4_5"]
[{"$f":"[2]Gr04!$A$458","v":0},"4_5"]
[{"$f":"[2]Gr04!$A$459","v":0},"4_5"]
[{"$f":"[2]Gr04!$A$460","v":0},"4_5"]
[{"$f":"[2]Gr04!$A$461","v":0},"4_5"]
[{"$f":"[2]Gr04!$A$462","v":0},"4_5"]
[{"$f":"[2]Gr04!$A$463","v":0},"4_5"]
[{"$f":"[2]Gr04!$A$464","v":0},"4_5"]
[{"$f":"[2]Gr04!$A$465","v":0},"4_5"]
[{"$f":"[2]Gr04!$A$466","v":0},"4_5"]
[{"$f":"[2]Gr04!$A$467","v":0},"4_5"]
[{"$f":"[2]Gr04!$A$468","v":0},"4_5"]
[{"$f":"[2]Gr04!$A$469","v":0},"4_5"]
[{"$f":"[2]Gr04!$A$470","v":0},"4_5"]
[{"$f":"[2]Gr04!$A$471","v":0},"4_5"]
[{"$f":"[2]Gr04!$A$472","v":0},"4_5"]
[{"$f":"[2]Gr04!$A$473","v":0},"4_5"]
[{"$f":"[2]Gr04!$A$474","v":0},"4_5"]
[{"$f":"[2]Gr04!$A$475","v":0},"4_5"]
[{"$f":"[2]Gr04!$A$476","v":0},"4_5"]
[{"$f":"[2]Gr04!$A$477","v":0},"4_5"]
[{"$f":"[2]Gr04!$A$478","v":0},"4_5"]
[{"$f":"[2]Gr04!$A$479","v":0},"4_5"]
[{"$f":"[2]Gr04!$A$480","v":0},"4_5"]
[{"$f":"[2]Gr04!$A$481","v":0},"4_5"]
[{"$f":"[2]Gr04!$A$482","v":0},"4_5"]
[{"$f":"[2]Gr04!$A$483","v":0},"4_5"]
[{"$f":"[2]Gr04!$A$484","v":0},"4_5"]
[{"$f":"[2]Gr04!$A$485","v":0},"4_5"]
[{"$f":"[2]Gr04!$A$486","v":0},"4_5"]
[{"$f":"[2]Gr04!$A$487","v":0},"4_5"]
[{"$f":"[2]Gr04!$A$488","v":0},"4_5"]
[{"$f":"[2]Gr04!$A$489","v":0},"4_5"]
[{"$f":"[2]Gr04!$A$490","v":0},"4_5"]
[{"$f":"[2]Gr04!$A$491","v":0},"4_5"]
[{"$f":"[2]Gr04!$A$492","v":0},"4_5"]
[{"$f":"[2]Gr04!$A$493","v":0},"4_5"]
[{"$f":"[2]Gr04!$A$494","v":0},"4_5"]
[{"$f":"[2]Gr04!$A$495","v":0},"4_5"]
[{"$f":"[2]Gr04!$A$496","v":0},"4_5"]
[{"$f":"[2]Gr04!$A$497","v":0},"4_5"]
[{"$f":"[2]Gr04!$A$498","v":0},"4_5"]
[{"$f":"[2]Gr04!$A$499","v":0},"4_5"]
[{"$f":"[2]Gr04!$A$511","v":0},"4_6"]
[{"$f":"[2]Gr04!$A$512","v":0},"4_6"]
[{"$f":"[2]Gr04!$A$513","v":0},"4_6"]
[{"$f":"[2]Gr04!$A$514","v":0},"4_6"]
[{"$f":"[2]Gr04!$A$515","v":0},"4_6"]
[{"$f":"[2]Gr04!$A$516","v":0},"4_6"]
[{"$f":"[2]Gr04!$A$517","v":0},"4_6"]
[{"$f":"[2]Gr04!$A$518","v":0},"4_6"]
[{"$f":"[2]Gr04!$A$519","v":0},"4_6"]
[{"$f":"[2]Gr04!$A$520","v":0},"4_6"]
[{"$f":"[2]Gr04!$A$521","v":0},"4_6"]
[{"$f":"[2]Gr04!$A$522","v":0},"4_6"]
[{"$f":"[2]Gr04!$A$523","v":0},"4_6"]
[{"$f":"[2]Gr04!$A$524","v":0},"4_6"]
[{"$f":"[2]Gr04!$A$525","v":0},"4_6"]
[{"$f":"[2]Gr04!$A$526","v":0},"4_6"]
[{"$f":"[2]Gr04!$A$527","v":0},"4_6"]
[{"$f":"[2]Gr04!$A$528","v":0},"4_6"]
[{"$f":"[2]Gr04!$A$529","v":0},"4_6"]
[{"$f":"[2]Gr04!$A$530","v":0},"4_6"]
[{"$f":"[2]Gr04!$A$531","v":0},"4_6"]
[{"$f":"[2]Gr04!$A$532","v":0},"4_6"]
[{"$f":"[2]Gr04!$A$533","v":0},"4_6"]
[{"$f":"[2]Gr04!$A$534","v":0},"4_6"]
[{"$f":"[2]Gr04!$A$535","v":0},"4_6"]
[{"$f":"[2]Gr04!$A$536","v":0},"4_6"]
[{"$f":"[2]Gr04!$A$537","v":0},"4_6"]
[{"$f":"[2]Gr04!$A$538","v":0},"4_6"]
[{"$f":"[2]Gr04!$A$539","v":0},"4_6"]
[{"$f":"[2]Gr04!$A$540","v":0},"4_6"]
[{"$f":"[2]Gr04!$A$541","v":0},"4_6"]
[{"$f":"[2]Gr04!$A$542","v":0},"4_6"]
[{"$f":"[2]Gr04!$A$543","v":0},"4_6"]
[{"$f":"[2]Gr04!$A$544","v":0},"4_6"]
[{"$f":"[2]Gr04!$A$545","v":0},"4_6"]
[{"$f":"[2]Gr04!$A$546","v":0},"4_6"]
[{"$f":"[2]Gr04!$A$547","v":0},"4_6"]
[{"$f":"[2]Gr04!$A$548","v":0},"4_6"]
[{"$f":"[2]Gr04!$A$549","v":0},"4_6"]
[{"$f":"[2]Gr04!$A$550","v":0},"4_6"]
[{"$f":"[2]Gr04!$A$551","v":0},"4_6"]
[{"$f":"[2]Gr04!$A$552","v":0},"4_6"]
[{"$f":"[2]Gr04!$A$553","v":0},"4_6"]
[{"$f":"[2]Gr04!$A$554","v":0},"4_6"]
[{"$f":"[2]Gr04!$A$555","v":0},"4_6"]
[{"$f":"[2]Gr04!$A$556","v":0},"4_6"]
[{"$f":"[2]Gr04!$A$557","v":0},"4_6"]
[{"$f":"[2]Gr04!$A$558","v":0},"4_6"]
[{"$f":"[2]Gr04!$A$559","v":0},"4_6"]
[{"$f":"[2]Gr04!$A$560","v":0},"4_6"]
[{"$f":"[2]Gr04!$A$561","v":0},"4_6"]
[{"$f":"[2]Gr04!$A$562","v":0},"4_6"]
[{"$f":"[2]Gr04!$A$563","v":0},"4_6"]
[{"$f":"[2]Gr04!$A$564","v":0},"4_6"]
[{"$f":"[2]Gr04!$A$565","v":0},"4_6"]
[{"$f":"[2]Gr04!$A$566","v":0},"4_6"]
[{"$f":"[2]Gr04!$A$567","v":0},"4_6"]
[{"$f":"[2]Gr04!$A$568","v":0},"4_6"]
[{"$f":"[2]Gr04!$A$569","v":0},"4_6"]
[{"$f":"[2]Gr04!$A$570","v":0},"4_6"]
[{"$f":"[2]Gr04!$A$571","v":0},"4_6"]
[{"$f":"[2]Gr04!$A$572","v":0},"4_6"]
[{"$f":"[2]Gr04!$A$573","v":0},"4_6"]
[{"$f":"[2]Gr04!$A$574","v":0},"4_6"]
[{"$f":"[2]Gr04!$A$575","v":0},"4_6"]
[{"$f":"[2]Gr04!$A$576","v":0},"4_6"]
[{"$f":"[2]Gr04!$A$577","v":0},"4_6"]
[{"$f":"[2]Gr04!$A$578","v":0},"4_6"]
[{"$f":"[2]Gr04!$A$579","v":0},"4_6"]
[{"$f":"[2]Gr04!$A$580","v":0},"4_6"]
[{"$f":"[2]Gr04!$A$581","v":0},"4_6"]
[{"$f":"[2]Gr04!$A$582","v":0},"4_6"]
[{"$f":"[2]Gr04!$A$583","v":0},"4_6"]
[{"$f":"[2]Gr04!$A$584","v":0},"4_6"]
[{"$f":"[2]Gr04!$A$585","v":0},"4_6"]
[{"$f":"[2]Gr04!$A$586","v":0},"4_6"]
[{"$f":"[2]Gr04!$A$587","v":0},"4_6"]
[{"$f":"[2]Gr04!$A$588","v":0},"4_6"]
[{"$f":"[2]Gr04!$A$589","v":0},"4_6"]
[{"$f":"[2]Gr04!$A$590","v":0},"4_6"]
[{"$f":"[2]Gr04!$A$591","v":0},"4_6"]
[{"$f":"[2]Gr04!$A$592","v":0},"4_6"]
[{"$f":"[2]Gr04!$A$593","v":0},"4_6"]
[{"$f":"[2]Gr04!$A$594","v":0},"4_6"]
[{"$f":"[2]Gr04!$A$595","v":0},"4_6"]
[{"$f":"[2]Gr04!$A$596","v":0},"4_6"]
[{"$f":"[2]Gr04!$A$597","v":0},"4_6"]
[{"$f":"[2]Gr04!$A$598","v":0},"4_6"]
[{"$f":"[2]Gr04!$A$599","v":0},"4_6"]
[{"$f":"[2]Gr05!$A$11","v":0},"5_1"]
[{"$f":"[2]Gr05!$A$12","v":0},"5_1"]
[{"$f":"[2]Gr05!$A$13","v":0},"5_1"]
[{"$f":"[2]Gr05!$A$14","v":0},"5_1"]
[{"$f":"[2]Gr05!$A$15","v":0},"5_1"]
[{"$f":"[2]Gr05!$A$16","v":0},"5_1"]
[{"$f":"[2]Gr05!$A$17","v":0},"5_1"]
[{"$f":"[2]Gr05!$A$18","v":0},"5_1"]
[{"$f":"[2]Gr05!$A$19","v":0},"5_1"]
[{"$f":"[2]Gr05!$A$20","v":0},"5_1"]
[{"$f":"[2]Gr05!$A$21","v":0},"5_1"]
[{"$f":"[2]Gr05!$A$22","v":0},"5_1"]
[{"$f":"[2]Gr05!$A$23","v":0},"5_1"]
[{"$f":"[2]Gr05!$A$24","v":0},"5_1"]
[{"$f":"[2]Gr05!$A$25","v":0},"5_1"]
[{"$f":"[2]Gr05!$A$26","v":0},"5_1"]
[{"$f":"[2]Gr05!$A$27","v":0},"5_1"]
[{"$f":"[2]Gr05!$A$28","v":0},"5_1"]
[{"$f":"[2]Gr05!$A$29","v":0},"5_1"]
[{"$f":"[2]Gr05!$A$30","v":0},"5_1"]
[{"$f":"[2]Gr05!$A$31","v":0},"5_1"]
[{"$f":"[2]Gr05!$A$32","v":0},"5_1"]
[{"$f":"[2]Gr05!$A$33","v":0},"5_1"]
[{"$f":"[2]Gr05!$A$34","v":0},"5_1"]
[{"$f":"[2]Gr05!$A$35","v":0},"5_1"]
[{"$f":"[2]Gr05!$A$36","v":0},"5_1"]
[{"$f":"[2]Gr05!$A$37","v":0},"5_1"]
[{"$f":"[2]Gr05!$A$38","v":0},"5_1"]
[{"$f":"[2]Gr05!$A$39","v":0},"5_1"]
[{"$f":"[2]Gr05!$A$40","v":0},"5_1"]
[{"$f":"[2]Gr05!$A$41","v":0},"5_1"]
[{"$f":"[2]Gr05!$A$42","v":0},"5_1"]
[{"$f":"[2]Gr05!$A$43","v":0},"5_1"]
[{"$f":"[2]Gr05!$A$44","v":0},"5_1"]
[{"$f":"[2]Gr05!$A$45","v":0},"5_1"]
[{"$f":"[2]Gr05!$A$46","v":0},"5_1"]
[{"$f":"[2]Gr05!$A$47","v":0},"5_1"]
[{"$f":"[2]Gr05!$A$48","v":0},"5_1"]
[{"$f":"[2]Gr05!$A$49","v":0},"5_1"]
[{"$f":"[2]Gr05!$A$50","v":0},"5_1"]
[{"$f":"[2]Gr05!$A$51","v":0},"5_1"]
[{"$f":"[2]Gr05!$A$52","v":0},"5_1"]
[{"$f":"[2]Gr05!$A$53","v":0},"5_1"]
[{"$f":"[2]Gr05!$A$54","v":0},"5_1"]
[{"$f":"[2]Gr05!$A$55","v":0},"5_1"]
[{"$f":"[2]Gr05!$A$56","v":0},"5_1"]
[{"$f":"[2]Gr05!$A$57","v":0},"5_1"]
[{"$f":"[2]Gr05!$A$58","v":0},"5_1"]
[{"$f":"[2]Gr05!$A$59","v":0},"5_1"]
[{"$f":"[2]Gr05!$A$60","v":0},"5_1"]
[{"$f":"[2]Gr05!$A$61","v":0},"5_1"]
[{"$f":"[2]Gr05!$A$62","v":0},"5_1"]
[{"$f":"[2]Gr05!$A$63","v":0},"5_1"]
[{"$f":"[2]Gr05!$A$64","v":0},"5_1"]
[{"$f":"[2]Gr05!$A$65","v":0},"5_1"]
[{"$f":"[2]Gr05!$A$66","v":0},"5_1"]
[{"$f":"[2]Gr05!$A$67","v":0},"5_1"]
[{"$f":"[2]Gr05!$A$68","v":0},"5_1"]
[{"$f":"[2]Gr05!$A$69","v":0},"5_1"]
[{"$f":"[2]Gr05!$A$70","v":0},"5_1"]
[{"$f":"[2]Gr05!$A$71","v":0},"5_1"]
[{"$f":"[2]Gr05!$A$72","v":0},"5_1"]
[{"$f":"[2]Gr05!$A$73","v":0},"5_1"]
[{"$f":"[2]Gr05!$A$74","v":0},"5_1"]
[{"$f":"[2]Gr05!$A$75","v":0},"5_1"]
[{"$f":"[2]Gr05!$A$76","v":0},"5_1"]
[{"$f":"[2]Gr05!$A$77","v":0},"5_1"]
[{"$f":"[2]Gr05!$A$78","v":0},"5_1"]
[{"$f":"[2]Gr05!$A$79","v":0},"5_1"]
[{"$f":"[2]Gr05!$A$80","v":0},"5_1"]
[{"$f":"[2]Gr05!$A$81","v":0},"5_1"]
[{"$f":"[2]Gr05!$A$82","v":0},"5_1"]
[{"$f":"[2]Gr05!$A$83","v":0},"5_1"]
[{"$f":"[2]Gr05!$A$84","v":0},"5_1"]
[{"$f":"[2]Gr05!$A$85","v":0},"5_1"]
[{"$f":"[2]Gr05!$A$86","v":0},"5_1"]
[{"$f":"[2]Gr05!$A$87","v":0},"5_1"]
[{"$f":"[2]Gr05!$A$88","v":0},"5_1"]
[{"$f":"[2]Gr05!$A$89","v":0},"5_1"]
[{"$f":"[2]Gr05!$A$90","v":0},"5_1"]
[{"$f":"[2]Gr05!$A$91","v":0},"5_1"]
[{"$f":"[2]Gr05!$A$92","v":0},"5_1"]
[{"$f":"[2]Gr05!$A$93","v":0},"5_1"]
[{"$f":"[2]Gr05!$A$94","v":0},"5_1"]
[{"$f":"[2]Gr05!$A$95","v":0},"5_1"]
[{"$f":"[2]Gr05!$A$96","v":0},"5_1"]
[{"$f":"[2]Gr05!$A$97","v":0},"5_1"]
[{"$f":"[2]Gr05!$A$98","v":0},"5_1"]
[{"$f":"[2]Gr05!$A$99","v":0},"5_1"]
[{"$f":"[2]Gr05!$A$111","v":0},"5_2"]
[{"$f":"[2]Gr05!$A$112","v":0},"5_2"]
[{"$f":"[2]Gr05!$A$113","v":0},"5_2"]
[{"$f":"[2]Gr05!$A$114","v":0},"5_2"]
[{"$f":"[2]Gr05!$A$115","v":0},"5_2"]
[{"$f":"[2]Gr05!$A$116","v":0},"5_2"]
[{"$f":"[2]Gr05!$A$117","v":0},"5_2"]
[{"$f":"[2]Gr05!$A$118","v":0},"5_2"]
[{"$f":"[2]Gr05!$A$119","v":0},"5_2"]
[{"$f":"[2]Gr05!$A$120","v":0},"5_2"]
[{"$f":"[2]Gr05!$A$121","v":0},"5_2"]
[{"$f":"[2]Gr05!$A$122","v":0},"5_2"]
[{"$f":"[2]Gr05!$A$123","v":0},"5_2"]
[{"$f":"[2]Gr05!$A$124","v":0},"5_2"]
[{"$f":"[2]Gr05!$A$125","v":0},"5_2"]
[{"$f":"[2]Gr05!$A$126","v":0},"5_2"]
[{"$f":"[2]Gr05!$A$127","v":0},"5_2"]
[{"$f":"[2]Gr05!$A$128","v":0},"5_2"]
[{"$f":"[2]Gr05!$A$129","v":0},"5_2"]
[{"$f":"[2]Gr05!$A$130","v":0},"5_2"]
[{"$f":"[2]Gr05!$A$131","v":0},"5_2"]
[{"$f":"[2]Gr05!$A$132","v":0},"5_2"]
[{"$f":"[2]Gr05!$A$133","v":0},"5_2"]
[{"$f":"[2]Gr05!$A$134","v":0},"5_2"]
[{"$f":"[2]Gr05!$A$135","v":0},"5_2"]
[{"$f":"[2]Gr05!$A$136","v":0},"5_2"]
[{"$f":"[2]Gr05!$A$137","v":0},"5_2"]
[{"$f":"[2]Gr05!$A$138","v":0},"5_2"]
[{"$f":"[2]Gr05!$A$139","v":0},"5_2"]
[{"$f":"[2]Gr05!$A$140","v":0},"5_2"]
[{"$f":"[2]Gr05!$A$141","v":0},"5_2"]
[{"$f":"[2]Gr05!$A$142","v":0},"5_2"]
[{"$f":"[2]Gr05!$A$143","v":0},"5_2"]
[{"$f":"[2]Gr05!$A$144","v":0},"5_2"]
[{"$f":"[2]Gr05!$A$145","v":0},"5_2"]
[{"$f":"[2]Gr05!$A$146","v":0},"5_2"]
[{"$f":"[2]Gr05!$A$147","v":0},"5_2"]
[{"$f":"[2]Gr05!$A$148","v":0},"5_2"]
[{"$f":"[2]Gr05!$A$149","v":0},"5_2"]
[{"$f":"[2]Gr05!$A$150","v":0},"5_2"]
[{"$f":"[2]Gr05!$A$151","v":0},"5_2"]
[{"$f":"[2]Gr05!$A$152","v":0},"5_2"]
[{"$f":"[2]Gr05!$A$153","v":0},"5_2"]
[{"$f":"[2]Gr05!$A$154","v":0},"5_2"]
[{"$f":"[2]Gr05!$A$155","v":0},"5_2"]
[{"$f":"[2]Gr05!$A$156","v":0},"5_2"]
[{"$f":"[2]Gr05!$A$157","v":0},"5_2"]
[{"$f":"[2]Gr05!$A$158","v":0},"5_2"]
[{"$f":"[2]Gr05!$A$159","v":0},"5_2"]
[{"$f":"[2]Gr05!$A$160","v":0},"5_2"]
[{"$f":"[2]Gr05!$A$161","v":0},"5_2"]
[{"$f":"[2]Gr05!$A$162","v":0},"5_2"]
[{"$f":"[2]Gr05!$A$163","v":0},"5_2"]
[{"$f":"[2]Gr05!$A$164","v":0},"5_2"]
[{"$f":"[2]Gr05!$A$165","v":0},"5_2"]
[{"$f":"[2]Gr05!$A$166","v":0},"5_2"]
[{"$f":"[2]Gr05!$A$167","v":0},"5_2"]
[{"$f":"[2]Gr05!$A$168","v":0},"5_2"]
[{"$f":"[2]Gr05!$A$169","v":0},"5_2"]
[{"$f":"[2]Gr05!$A$170","v":0},"5_2"]
[{"$f":"[2]Gr05!$A$171","v":0},"5_2"]
[{"$f":"[2]Gr05!$A$172","v":0},"5_2"]
[{"$f":"[2]Gr05!$A$173","v":0},"5_2"]
[{"$f":"[2]Gr05!$A$174","v":0},"5_2"]
[{"$f":"[2]Gr05!$A$175","v":0},"5_2"]
[{"$f":"[2]Gr05!$A$176","v":0},"5_2"]
[{"$f":"[2]Gr05!$A$177","v":0},"5_2"]
[{"$f":"[2]Gr05!$A$178","v":0},"5_2"]
[{"$f":"[2]Gr05!$A$179","v":0},"5_2"]
[{"$f":"[2]Gr05!$A$180","v":0},"5_2"]
[{"$f":"[2]Gr05!$A$181","v":0},"5_2"]
[{"$f":"[2]Gr05!$A$182","v":0},"5_2"]
[{"$f":"[2]Gr05!$A$183","v":0},"5_2"]
[{"$f":"[2]Gr05!$A$184","v":0},"5_2"]
[{"$f":"[2]Gr05!$A$185","v":0},"5_2"]
[{"$f":"[2]Gr05!$A$186","v":0},"5_2"]
[{"$f":"[2]Gr05!$A$187","v":0},"5_2"]
[{"$f":"[2]Gr05!$A$188","v":0},"5_2"]
[{"$f":"[2]Gr05!$A$189","v":0},"5_2"]
[{"$f":"[2]Gr05!$A$190","v":0},"5_2"]
[{"$f":"[2]Gr05!$A$191","v":0},"5_2"]
[{"$f":"[2]Gr05!$A$192","v":0},"5_2"]
[{"$f":"[2]Gr05!$A$193","v":0},"5_2"]
[{"$f":"[2]Gr05!$A$194","v":0},"5_2"]
[{"$f":"[2]Gr05!$A$195","v":0},"5_2"]
[{"$f":"[2]Gr05!$A$196","v":0},"5_2"]
[{"$f":"[2]Gr05!$A$197","v":0},"5_2"]
[{"$f":"[2]Gr05!$A$198","v":0},"5_2"]
[{"$f":"[2]Gr05!$A$199","v":0},"5_2"]
[{"$f":"[2]Gr05!$A$211","v":0},"5_3"]
[{"$f":"[2]Gr05!$A$212","v":0},"5_3"]
[{"$f":"[2]Gr05!$A$213","v":0},"5_3"]
[{"$f":"[2]Gr05!$A$214","v":0},"5_3"]
[{"$f":"[2]Gr05!$A$215","v":0},"5_3"]
[{"$f":"[2]Gr05!$A$216","v":0},"5_3"]
[{"$f":"[2]Gr05!$A$217","v":0},"5_3"]
[{"$f":"[2]Gr05!$A$218","v":0},"5_3"]
[{"$f":"[2]Gr05!$A$219","v":0},"5_3"]
[{"$f":"[2]Gr05!$A$220","v":0},"5_3"]
[{"$f":"[2]Gr05!$A$221","v":0},"5_3"]
[{"$f":"[2]Gr05!$A$222","v":0},"5_3"]
[{"$f":"[2]Gr05!$A$223","v":0},"5_3"]
[{"$f":"[2]Gr05!$A$224","v":0},"5_3"]
[{"$f":"[2]Gr05!$A$225","v":0},"5_3"]
[{"$f":"[2]Gr05!$A$226","v":0},"5_3"]
[{"$f":"[2]Gr05!$A$227","v":0},"5_3"]
[{"$f":"[2]Gr05!$A$228","v":0},"5_3"]
[{"$f":"[2]Gr05!$A$229","v":0},"5_3"]
[{"$f":"[2]Gr05!$A$230","v":0},"5_3"]
[{"$f":"[2]Gr05!$A$231","v":0},"5_3"]
[{"$f":"[2]Gr05!$A$232","v":0},"5_3"]
[{"$f":"[2]Gr05!$A$233","v":0},"5_3"]
[{"$f":"[2]Gr05!$A$234","v":0},"5_3"]
[{"$f":"[2]Gr05!$A$235","v":0},"5_3"]
[{"$f":"[2]Gr05!$A$236","v":0},"5_3"]
[{"$f":"[2]Gr05!$A$237","v":0},"5_3"]
[{"$f":"[2]Gr05!$A$238","v":0},"5_3"]
[{"$f":"[2]Gr05!$A$239","v":0},"5_3"]
[{"$f":"[2]Gr05!$A$240","v":0},"5_3"]
[{"$f":"[2]Gr05!$A$241","v":0},"5_3"]
[{"$f":"[2]Gr05!$A$242","v":0},"5_3"]
[{"$f":"[2]Gr05!$A$243","v":0},"5_3"]
[{"$f":"[2]Gr05!$A$244","v":0},"5_3"]
[{"$f":"[2]Gr05!$A$245","v":0},"5_3"]
[{"$f":"[2]Gr05!$A$246","v":0},"5_3"]
[{"$f":"[2]Gr05!$A$247","v":0},"5_3"]
[{"$f":"[2]Gr05!$A$248","v":0},"5_3"]
[{"$f":"[2]Gr05!$A$249","v":0},"5_3"]
[{"$f":"[2]Gr05!$A$250","v":0},"5_3"]
[{"$f":"[2]Gr05!$A$251","v":0},"5_3"]
[{"$f":"[2]Gr05!$A$252","v":0},"5_3"]
[{"$f":"[2]Gr05!$A$253","v":0},"5_3"]
[{"$f":"[2]Gr05!$A$254","v":0},"5_3"]
[{"$f":"[2]Gr05!$A$255","v":0},"5_3"]
[{"$f":"[2]Gr05!$A$256","v":0},"5_3"]
[{"$f":"[2]Gr05!$A$257","v":0},"5_3"]
[{"$f":"[2]Gr05!$A$258","v":0},"5_3"]
[{"$f":"[2]Gr05!$A$259","v":0},"5_3"]
[{"$f":"[2]Gr05!$A$260","v":0},"5_3"]
[{"$f":"[2]Gr05!$A$261","v":0},"5_3"]
[{"$f":"[2]Gr05!$A$262","v":0},"5_3"]
[{"$f":"[2]Gr05!$A$263","v":0},"5_3"]
[{"$f":"[2]Gr05!$A$264","v":0},"5_3"]
[{"$f":"[2]Gr05!$A$265","v":0},"5_3"]
[{"$f":"[2]Gr05!$A$266","v":0},"5_3"]
[{"$f":"[2]Gr05!$A$267","v":0},"5_3"]
[{"$f":"[2]Gr05!$A$268","v":0},"5_3"]
[{"$f":"[2]Gr05!$A$269","v":0},"5_3"]
[{"$f":"[2]Gr05!$A$270","v":0},"5_3"]
[{"$f":"[2]Gr05!$A$271","v":0},"5_3"]
[{"$f":"[2]Gr05!$A$272","v":0},"5_3"]
[{"$f":"[2]Gr05!$A$273","v":0},"5_3"]
[{"$f":"[2]Gr05!$A$274","v":0},"5_3"]
[{"$f":"[2]Gr05!$A$275","v":0},"5_3"]
[{"$f":"[2]Gr05!$A$276","v":0},"5_3"]
[{"$f":"[2]Gr05!$A$277","v":0},"5_3"]
[{"$f":"[2]Gr05!$A$278","v":0},"5_3"]
[{"$f":"[2]Gr05!$A$279","v":0},"5_3"]
[{"$f":"[2]Gr05!$A$280","v":0},"5_3"]
[{"$f":"[2]Gr05!$A$281","v":0},"5_3"]
[{"$f":"[2]Gr05!$A$282","v":0},"5_3"]
[{"$f":"[2]Gr05!$A$283","v":0},"5_3"]
[{"$f":"[2]Gr05!$A$284","v":0},"5_3"]
[{"$f":"[2]Gr05!$A$285","v":0},"5_3"]
[{"$f":"[2]Gr05!$A$286","v":0},"5_3"]
[{"$f":"[2]Gr05!$A$287","v":0},"5_3"]
[{"$f":"[2]Gr05!$A$288","v":0},"5_3"]
[{"$f":"[2]Gr05!$A$289","v":0},"5_3"]
[{"$f":"[2]Gr05!$A$290","v":0},"5_3"]
[{"$f":"[2]Gr05!$A$291","v":0},"5_3"]
[{"$f":"[2]Gr05!$A$292","v":0},"5_3"]
[{"$f":"[2]Gr05!$A$293","v":0},"5_3"]
[{"$f":"[2]Gr05!$A$294","v":0},"5_3"]
[{"$f":"[2]Gr05!$A$295","v":0},"5_3"]
[{"$f":"[2]Gr05!$A$296","v":0},"5_3"]
[{"$f":"[2]Gr05!$A$297","v":0},"5_3"]
[{"$f":"[2]Gr05!$A$298","v":0},"5_3"]
[{"$f":"[2]Gr05!$A$299","v":0},"5_3"]
[{"$f":"[2]Gr05!$A$311","v":0},"5_4"]
[{"$f":"[2]Gr05!$A$312","v":0},"5_4"]
[{"$f":"[2]Gr05!$A$313","v":0},"5_4"]
[{"$f":"[2]Gr05!$A$314","v":0},"5_4"]
[{"$f":"[2]Gr05!$A$315","v":0},"5_4"]
[{"$f":"[2]Gr05!$A$316","v":0},"5_4"]
[{"$f":"[2]Gr05!$A$317","v":0},"5_4"]
[{"$f":"[2]Gr05!$A$318","v":0},"5_4"]
[{"$f":"[2]Gr05!$A$319","v":0},"5_4"]
[{"$f":"[2]Gr05!$A$320","v":0},"5_4"]
[{"$f":"[2]Gr05!$A$321","v":0},"5_4"]
[{"$f":"[2]Gr05!$A$322","v":0},"5_4"]
[{"$f":"[2]Gr05!$A$323","v":0},"5_4"]
[{"$f":"[2]Gr05!$A$324","v":0},"5_4"]
[{"$f":"[2]Gr05!$A$325","v":0},"5_4"]
[{"$f":"[2]Gr05!$A$326","v":0},"5_4"]
[{"$f":"[2]Gr05!$A$327","v":0},"5_4"]
[{"$f":"[2]Gr05!$A$328","v":0},"5_4"]
[{"$f":"[2]Gr05!$A$329","v":0},"5_4"]
[{"$f":"[2]Gr05!$A$330","v":0},"5_4"]
[{"$f":"[2]Gr05!$A$331","v":0},"5_4"]
[{"$f":"[2]Gr05!$A$332","v":0},"5_4"]
[{"$f":"[2]Gr05!$A$333","v":0},"5_4"]
[{"$f":"[2]Gr05!$A$334","v":0},"5_4"]
[{"$f":"[2]Gr05!$A$335","v":0},"5_4"]
[{"$f":"[2]Gr05!$A$336","v":0},"5_4"]
[{"$f":"[2]Gr05!$A$337","v":0},"5_4"]
[{"$f":"[2]Gr05!$A$338","v":0},"5_4"]
[{"$f":"[2]Gr05!$A$339","v":0},"5_4"]
[{"$f":"[2]Gr05!$A$340","v":0},"5_4"]
[{"$f":"[2]Gr05!$A$341","v":0},"5_4"]
[{"$f":"[2]Gr05!$A$342","v":0},"5_4"]
[{"$f":"[2]Gr05!$A$343","v":0},"5_4"]
[{"$f":"[2]Gr05!$A$344","v":0},"5_4"]
[{"$f":"[2]Gr05!$A$345","v":0},"5_4"]
[{"$f":"[2]Gr05!$A$346","v":0},"5_4"]
[{"$f":"[2]Gr05!$A$347","v":0},"5_4"]
[{"$f":"[2]Gr05!$A$348","v":0},"5_4"]
[{"$f":"[2]Gr05!$A$349","v":0},"5_4"]
[{"$f":"[2]Gr05!$A$350","v":0},"5_4"]
[{"$f":"[2]Gr05!$A$351","v":0},"5_4"]
[{"$f":"[2]Gr05!$A$352","v":0},"5_4"]
[{"$f":"[2]Gr05!$A$353","v":0},"5_4"]
[{"$f":"[2]Gr05!$A$354","v":0},"5_4"]
[{"$f":"[2]Gr05!$A$355","v":0},"5_4"]
[{"$f":"[2]Gr05!$A$356","v":0},"5_4"]
[{"$f":"[2]Gr05!$A$357","v":0},"5_4"]
[{"$f":"[2]Gr05!$A$358","v":0},"5_4"]
[{"$f":"[2]Gr05!$A$359","v":0},"5_4"]
[{"$f":"[2]Gr05!$A$360","v":0},"5_4"]
[{"$f":"[2]Gr05!$A$361","v":0},"5_4"]
[{"$f":"[2]Gr05!$A$362","v":0},"5_4"]
[{"$f":"[2]Gr05!$A$363","v":0},"5_4"]
[{"$f":"[2]Gr05!$A$364","v":0},"5_4"]
[{"$f":"[2]Gr05!$A$365","v":0},"5_4"]
[{"$f":"[2]Gr05!$A$366","v":0},"5_4"]
[{"$f":"[2]Gr05!$A$367","v":0},"5_4"]
[{"$f":"[2]Gr05!$A$368","v":0},"5_4"]
[{"$f":"[2]Gr05!$A$369","v":0},"5_4"]
[{"$f":"[2]Gr05!$A$370","v":0},"5_4"]
[{"$f":"[2]Gr05!$A$371","v":0},"5_4"]
[{"$f":"[2]Gr05!$A$372","v":0},"5_4"]
[{"$f":"[2]Gr05!$A$373","v":0},"5_4"]
[{"$f":"[2]Gr05!$A$374","v":0},"5_4"]
[{"$f":"[2]Gr05!$A$375","v":0},"5_4"]
[{"$f":"[2]Gr05!$A$376","v":0},"5_4"]
[{"$f":"[2]Gr05!$A$377","v":0},"5_4"]
[{"$f":"[2]Gr05!$A$378","v":0},"5_4"]
[{"$f":"[2]Gr05!$A$379","v":0},"5_4"]
[{"$f":"[2]Gr05!$A$380","v":0},"5_4"]
[{"$f":"[2]Gr05!$A$381","v":0},"5_4"]
[{"$f":"[2]Gr05!$A$382","v":0},"5_4"]
[{"$f":"[2]Gr05!$A$383","v":0},"5_4"]
[{"$f":"[2]Gr05!$A$384","v":0},"5_4"]
[{"$f":"[2]Gr05!$A$385","v":0},"5_4"]
[{"$f":"[2]Gr05!$A$386","v":0},"5_4"]
[{"$f":"[2]Gr05!$A$387","v":0},"5_4"]
[{"$f":"[2]Gr05!$A$388","v":0},"5_4"]
[{"$f":"[2]Gr05!$A$389","v":0},"5_4"]
[{"$f":"[2]Gr05!$A$390","v":0},"5_4"]
[{"$f":"[2]Gr05!$A$391","v":0},"5_4"]
[{"$f":"[2]Gr05!$A$392","v":0},"5_4"]
[{"$f":"[2]Gr05!$A$393","v":0},"5_4"]
[{"$f":"[2]Gr05!$A$394","v":0},"5_4"]
[{"$f":"[2]Gr05!$A$395","v":0},"5_4"]
[{"$f":"[2]Gr05!$A$396","v":0},"5_4"]
[{"$f":"[2]Gr05!$A$397","v":0},"5_4"]
[{"$f":"[2]Gr05!$A$398","v":0},"5_4"]
[{"$f":"[2]Gr05!$A$399","v":0},"5_4"]
[{"$f":"[2]Gr05!$A$411","v":0},"5_5"]
[{"$f":"[2]Gr05!$A$412","v":0},"5_5"]
[{"$f":"[2]Gr05!$A$413","v":0},"5_5"]
[{"$f":"[2]Gr05!$A$414","v":0},"5_5"]
[{"$f":"[2]Gr05!$A$415","v":0},"5_5"]
[{"$f":"[2]Gr05!$A$416","v":0},"5_5"]
[{"$f":"[2]Gr05!$A$417","v":0},"5_5"]
[{"$f":"[2]Gr05!$A$418","v":0},"5_5"]
[{"$f":"[2]Gr05!$A$419","v":0},"5_5"]
[{"$f":"[2]Gr05!$A$420","v":0},"5_5"]
[{"$f":"[2]Gr05!$A$421","v":0},"5_5"]
[{"$f":"[2]Gr05!$A$422","v":0},"5_5"]
[{"$f":"[2]Gr05!$A$423","v":0},"5_5"]
[{"$f":"[2]Gr05!$A$424","v":0},"5_5"]
[{"$f":"[2]Gr05!$A$425","v":0},"5_5"]
[{"$f":"[2]Gr05!$A$426","v":0},"5_5"]
[{"$f":"[2]Gr05!$A$427","v":0},"5_5"]
[{"$f":"[2]Gr05!$A$428","v":0},"5_5"]
[{"$f":"[2]Gr05!$A$429","v":0},"5_5"]
[{"$f":"[2]Gr05!$A$430","v":0},"5_5"]
[{"$f":"[2]Gr05!$A$431","v":0},"5_5"]
[{"$f":"[2]Gr05!$A$432","v":0},"5_5"]
[{"$f":"[2]Gr05!$A$433","v":0},"5_5"]
[{"$f":"[2]Gr05!$A$434","v":0},"5_5"]
[{"$f":"[2]Gr05!$A$435","v":0},"5_5"]
[{"$f":"[2]Gr05!$A$436","v":0},"5_5"]
[{"$f":"[2]Gr05!$A$437","v":0},"5_5"]
[{"$f":"[2]Gr05!$A$438","v":0},"5_5"]
[{"$f":"[2]Gr05!$A$439","v":0},"5_5"]
[{"$f":"[2]Gr05!$A$440","v":0},"5_5"]
[{"$f":"[2]Gr05!$A$441","v":0},"5_5"]
[{"$f":"[2]Gr05!$A$442","v":0},"5_5"]
[{"$f":"[2]Gr05!$A$443","v":0},"5_5"]
[{"$f":"[2]Gr05!$A$444","v":0},"5_5"]
[{"$f":"[2]Gr05!$A$445","v":0},"5_5"]
[{"$f":"[2]Gr05!$A$446","v":0},"5_5"]
[{"$f":"[2]Gr05!$A$447","v":0},"5_5"]
[{"$f":"[2]Gr05!$A$448","v":0},"5_5"]
[{"$f":"[2]Gr05!$A$449","v":0},"5_5"]
[{"$f":"[2]Gr05!$A$450","v":0},"5_5"]
[{"$f":"[2]Gr05!$A$451","v":0},"5_5"]
[{"$f":"[2]Gr05!$A$452","v":0},"5_5"]
[{"$f":"[2]Gr05!$A$453","v":0},"5_5"]
[{"$f":"[2]Gr05!$A$454","v":0},"5_5"]
[{"$f":"[2]Gr05!$A$455","v":0},"5_5"]
[{"$f":"[2]Gr05!$A$456","v":0},"5_5"]
[{"$f":"[2]Gr05!$A$457","v":0},"5_5"]
[{"$f":"[2]Gr05!$A$458","v":0},"5_5"]
[{"$f":"[2]Gr05!$A$459","v":0},"5_5"]
[{"$f":"[2]Gr05!$A$460","v":0},"5_5"]
[{"$f":"[2]Gr05!$A$461","v":0},"5_5"]
[{"$f":"[2]Gr05!$A$462","v":0},"5_5"]
[{"$f":"[2]Gr05!$A$463","v":0},"5_5"]
[{"$f":"[2]Gr05!$A$464","v":0},"5_5"]
[{"$f":"[2]Gr05!$A$465","v":0},"5_5"]
[{"$f":"[2]Gr05!$A$466","v":0},"5_5"]
[{"$f":"[2]Gr05!$A$467","v":0},"5_5"]
[{"$f":"[2]Gr05!$A$468","v":0},"5_5"]
[{"$f":"[2]Gr05!$A$469","v":0},"5_5"]
[{"$f":"[2]Gr05!$A$470","v":0},"5_5"]
[{"$f":"[2]Gr05!$A$471","v":0},"5_5"]
[{"$f":"[2]Gr05!$A$472","v":0},"5_5"]
[{"$f":"[2]Gr05!$A$473","v":0},"5_5"]
[{"$f":"[2]Gr05!$A$474","v":0},"5_5"]
[{"$f":"[2]Gr05!$A$475","v":0},"5_5"]
[{"$f":"[2]Gr05!$A$476","v":0},"5_5"]
[{"$f":"[2]Gr05!$A$477","v":0},"5_5"]
[{"$f":"[2]Gr05!$A$478","v":0},"5_5"]
[{"$f":"[2]Gr05!$A$479","v":0},"5_5"]
[{"$f":"[2]Gr05!$A$480","v":0},"5_5"]
[{"$f":"[2]Gr05!$A$481","v":0},"5_5"]
[{"$f":"[2]Gr05!$A$482","v":0},"5_5"]
[{"$f":"[2]Gr05!$A$483","v":0},"5_5"]
[{"$f":"[2]Gr05!$A$484","v":0},"5_5"]
[{"$f":"[2]Gr05!$A$485","v":0},"5_5"]
[{"$f":"[2]Gr05!$A$486","v":0},"5_5"]
[{"$f":"[2]Gr05!$A$487","v":0},"5_5"]
[{"$f":"[2]Gr05!$A$488","v":0},"5_5"]
[{"$f":"[2]Gr05!$A$489","v":0},"5_5"]
[{"$f":"[2]Gr05!$A$490","v":0},"5_5"]
[{"$f":"[2]Gr05!$A$491","v":0},"5_5"]
[{"$f":"[2]Gr05!$A$492","v":0},"5_5"]
[{"$f":"[2]Gr05!$A$493","v":0},"5_5"]
[{"$f":"[2]Gr05!$A$494","v":0},"5_5"]
[{"$f":"[2]Gr05!$A$495","v":0},"5_5"]
[{"$f":"[2]Gr05!$A$496","v":0},"5_5"]
[{"$f":"[2]Gr05!$A$497","v":0},"5_5"]
[{"$f":"[2]Gr05!$A$498","v":0},"5_5"]
[{"$f":"[2]Gr05!$A$499","v":0},"5_5"]
[{"$f":"[2]Gr05!$A$511","v":0},"5_6"]
[{"$f":"[2]Gr05!$A$512","v":0},"5_6"]
[{"$f":"[2]Gr05!$A$513","v":0},"5_6"]
[{"$f":"[2]Gr05!$A$514","v":0},"5_6"]
[{"$f":"[2]Gr05!$A$515","v":0},"5_6"]
[{"$f":"[2]Gr05!$A$516","v":0},"5_6"]
[{"$f":"[2]Gr05!$A$517","v":0},"5_6"]
[{"$f":"[2]Gr05!$A$518","v":0},"5_6"]
[{"$f":"[2]Gr05!$A$519","v":0},"5_6"]
[{"$f":"[2]Gr05!$A$520","v":0},"5_6"]
[{"$f":"[2]Gr05!$A$521","v":0},"5_6"]
[{"$f":"[2]Gr05!$A$522","v":0},"5_6"]
[{"$f":"[2]Gr05!$A$523","v":0},"5_6"]
[{"$f":"[2]Gr05!$A$524","v":0},"5_6"]
[{"$f":"[2]Gr05!$A$525","v":0},"5_6"]
[{"$f":"[2]Gr05!$A$526","v":0},"5_6"]
[{"$f":"[2]Gr05!$A$527","v":0},"5_6"]
[{"$f":"[2]Gr05!$A$528","v":0},"5_6"]
[{"$f":"[2]Gr05!$A$529","v":0},"5_6"]
[{"$f":"[2]Gr05!$A$530","v":0},"5_6"]
[{"$f":"[2]Gr05!$A$531","v":0},"5_6"]
[{"$f":"[2]Gr05!$A$532","v":0},"5_6"]
[{"$f":"[2]Gr05!$A$533","v":0},"5_6"]
[{"$f":"[2]Gr05!$A$534","v":0},"5_6"]
[{"$f":"[2]Gr05!$A$535","v":0},"5_6"]
[{"$f":"[2]Gr05!$A$536","v":0},"5_6"]
[{"$f":"[2]Gr05!$A$537","v":0},"5_6"]
[{"$f":"[2]Gr05!$A$538","v":0},"5_6"]
[{"$f":"[2]Gr05!$A$539","v":0},"5_6"]
[{"$f":"[2]Gr05!$A$540","v":0},"5_6"]
[{"$f":"[2]Gr05!$A$541","v":0},"5_6"]
[{"$f":"[2]Gr05!$A$542","v":0},"5_6"]
[{"$f":"[2]Gr05!$A$543","v":0},"5_6"]
[{"$f":"[2]Gr05!$A$544","v":0},"5_6"]
[{"$f":"[2]Gr05!$A$545","v":0},"5_6"]
[{"$f":"[2]Gr05!$A$546","v":0},"5_6"]
[{"$f":"[2]Gr05!$A$547","v":0},"5_6"]
[{"$f":"[2]Gr05!$A$548","v":0},"5_6"]
[{"$f":"[2]Gr05!$A$549","v":0},"5_6"]
[{"$f":"[2]Gr05!$A$550","v":0},"5_6"]
[{"$f":"[2]Gr05!$A$551","v":0},"5_6"]
[{"$f":"[2]Gr05!$A$552","v":0},"5_6"]
[{"$f":"[2]Gr05!$A$553","v":0},"5_6"]
[{"$f":"[2]Gr05!$A$554","v":0},"5_6"]
[{"$f":"[2]Gr05!$A$555","v":0},"5_6"]
[{"$f":"[2]Gr05!$A$556","v":0},"5_6"]
[{"$f":"[2]Gr05!$A$557","v":0},"5_6"]
[{"$f":"[2]Gr05!$A$558","v":0},"5_6"]
[{"$f":"[2]Gr05!$A$559","v":0},"5_6"]
[{"$f":"[2]Gr05!$A$560","v":0},"5_6"]
[{"$f":"[2]Gr05!$A$561","v":0},"5_6"]
[{"$f":"[2]Gr05!$A$562","v":0},"5_6"]
[{"$f":"[2]Gr05!$A$563","v":0},"5_6"]
[{"$f":"[2]Gr05!$A$564","v":0},"5_6"]
[{"$f":"[2]Gr05!$A$565","v":0},"5_6"]
[{"$f":"[2]Gr05!$A$566","v":0},"5_6"]
[{"$f":"[2]Gr05!$A$567","v":0},"5_6"]
[{"$f":"[2]Gr05!$A$568","v":0},"5_6"]
[{"$f":"[2]Gr05!$A$569","v":0},"5_6"]
[{"$f":"[2]Gr05!$A$570","v":0},"5_6"]
[{"$f":"[2]Gr05!$A$571","v":0},"5_6"]
[{"$f":"[2]Gr05!$A$572","v":0},"5_6"]
[{"$f":"[2]Gr05!$A$573","v":0},"5_6"]
[{"$f":"[2]Gr05!$A$574","v":0},"5_6"]
[{"$f":"[2]Gr05!$A$575","v":0},"5_6"]
[{"$f":"[2]Gr05!$A$576","v":0},"5_6"]
[{"$f":"[2]Gr05!$A$577","v":0},"5_6"]
[{"$f":"[2]Gr05!$A$578","v":0},"5_6"]
[{"$f":"[2]Gr05!$A$579","v":0},"5_6"]
[{"$f":"[2]Gr05!$A$580","v":0},"5_6"]
[{"$f":"[2]Gr05!$A$581","v":0},"5_6"]
[{"$f":"[2]Gr05!$A$582","v":0},"5_6"]
[{"$f":"[2]Gr05!$A$583","v":0},"5_6"]
[{"$f":"[2]Gr05!$A$584","v":0},"5_6"]
[{"$f":"[2]Gr05!$A$585","v":0},"5_6"]
[{"$f":"[2]Gr05!$A$586","v":0},"5_6"]
[{"$f":"[2]Gr05!$A$587","v":0},"5_6"]
[{"$f":"[2]Gr05!$A$588","v":0},"5_6"]
[{"$f":"[2]Gr05!$A$589","v":0},"5_6"]
[{"$f":"[2]Gr05!$A$590","v":0},"5_6"]
[{"$f":"[2]Gr05!$A$591","v":0},"5_6"]
[{"$f":"[2]Gr05!$A$592","v":0},"5_6"]
[{"$f":"[2]Gr05!$A$593","v":0},"5_6"]
[{"$f":"[2]Gr05!$A$594","v":0},"5_6"]
[{"$f":"[2]Gr05!$A$595","v":0},"5_6"]
[{"$f":"[2]Gr05!$A$596","v":0},"5_6"]
[{"$f":"[2]Gr05!$A$597","v":0},"5_6"]
[{"$f":"[2]Gr05!$A$598","v":0},"5_6"]
[{"$f":"[2]Gr05!$A$599","v":0},"5_6"]
[{"$f":"[2]Gr06!$A$11","v":254},"6_1"]
[{"$f":"[2]Gr06!$A$12","v":0},"6_1"]
[{"$f":"[2]Gr06!$A$13","v":0},"6_1"]
[{"$f":"[2]Gr06!$A$14","v":0},"6_1"]
[{"$f":"[2]Gr06!$A$15","v":0},"6_1"]
[{"$f":"[2]Gr06!$A$16","v":0},"6_1"]
[{"$f":"[2]Gr06!$A$17","v":0},"6_1"]
[{"$f":"[2]Gr06!$A$18","v":0},"6_1"]
[{"$f":"[2]Gr06!$A$19","v":0},"6_1"]
[{"$f":"[2]Gr06!$A$20","v":0},"6_1"]
[{"$f":"[2]Gr06!$A$21","v":0},"6_1"]
[{"$f":"[2]Gr06!$A$22","v":0},"6_1"]
[{"$f":"[2]Gr06!$A$23","v":0},"6_1"]
[{"$f":"[2]Gr06!$A$24","v":0},"6_1"]
[{"$f":"[2]Gr06!$A$25","v":0},"6_1"]
[{"$f":"[2]Gr06!$A$26","v":0},"6_1"]
[{"$f":"[2]Gr06!$A$27","v":0},"6_1"]
[{"$f":"[2]Gr06!$A$28","v":0},"6_1"]
[{"$f":"[2]Gr06!$A$29","v":0},"6_1"]
[{"$f":"[2]Gr06!$A$30","v":0},"6_1"]
[{"$f":"[2]Gr06!$A$31","v":0},"6_1"]
[{"$f":"[2]Gr06!$A$32","v":0},"6_1"]
[{"$f":"[2]Gr06!$A$33","v":0},"6_1"]
[{"$f":"[2]Gr06!$A$34","v":0},"6_1"]
[{"$f":"[2]Gr06!$A$35","v":0},"6_1"]
[{"$f":"[2]Gr06!$A$36","v":0},"6_1"]
[{"$f":"[2]Gr06!$A$37","v":0},"6_1"]
[{"$f":"[2]Gr06!$A$38","v":0},"6_1"]
[{"$f":"[2]Gr06!$A$39","v":0},"6_1"]
[{"$f":"[2]Gr06!$A$40","v":0},"6_1"]
[{"$f":"[2]Gr06!$A$41","v":0},"6_1"]
[{"$f":"[2]Gr06!$A$42","v":0},"6_1"]
[{"$f":"[2]Gr06!$A$43","v":0},"6_1"]
[{"$f":"[2]Gr06!$A$44","v":0},"6_1"]
[{"$f":"[2]Gr06!$A$45","v":0},"6_1"]
[{"$f":"[2]Gr06!$A$46","v":0},"6_1"]
[{"$f":"[2]Gr06!$A$47","v":0},"6_1"]
[{"$f":"[2]Gr06!$A$48","v":0},"6_1"]
[{"$f":"[2]Gr06!$A$49","v":0},"6_1"]
[{"$f":"[2]Gr06!$A$50","v":0},"6_1"]
[{"$f":"[2]Gr06!$A$51","v":0},"6_1"]
[{"$f":"[2]Gr06!$A$52","v":0},"6_1"]
[{"$f":"[2]Gr06!$A$53","v":0},"6_1"]
[{"$f":"[2]Gr06!$A$54","v":0},"6_1"]
[{"$f":"[2]Gr06!$A$55","v":0},"6_1"]
[{"$f":"[2]Gr06!$A$56","v":0},"6_1"]
[{"$f":"[2]Gr06!$A$57","v":0},"6_1"]
[{"$f":"[2]Gr06!$A$58","v":0},"6_1"]
[{"$f":"[2]Gr06!$A$59","v":0},"6_1"]
[{"$f":"[2]Gr06!$A$60","v":0},"6_1"]
[{"$f":"[2]Gr06!$A$61","v":0},"6_1"]
[{"$f":"[2]Gr06!$A$62","v":0},"6_1"]
[{"$f":"[2]Gr06!$A$63","v":0},"6_1"]
[{"$f":"[2]Gr06!$A$64","v":0},"6_1"]
[{"$f":"[2]Gr06!$A$65","v":0},"6_1"]
[{"$f":"[2]Gr06!$A$66","v":0},"6_1"]
[{"$f":"[2]Gr06!$A$67","v":0},"6_1"]
[{"$f":"[2]Gr06!$A$68","v":0},"6_1"]
[{"$f":"[2]Gr06!$A$69","v":0},"6_1"]
[{"$f":"[2]Gr06!$A$70","v":0},"6_1"]
[{"$f":"[2]Gr06!$A$71","v":0},"6_1"]
[{"$f":"[2]Gr06!$A$72","v":0},"6_1"]
[{"$f":"[2]Gr06!$A$73","v":0},"6_1"]
[{"$f":"[2]Gr06!$A$74","v":0},"6_1"]
[{"$f":"[2]Gr06!$A$75","v":0},"6_1"]
[{"$f":"[2]Gr06!$A$76","v":0},"6_1"]
[{"$f":"[2]Gr06!$A$77","v":0},"6_1"]
[{"$f":"[2]Gr06!$A$78","v":0},"6_1"]
[{"$f":"[2]Gr06!$A$79","v":0},"6_1"]
[{"$f":"[2]Gr06!$A$80","v":0},"6_1"]
[{"$f":"[2]Gr06!$A$81","v":0},"6_1"]
[{"$f":"[2]Gr06!$A$82","v":0},"6_1"]
[{"$f":"[2]Gr06!$A$83","v":0},"6_1"]
[{"$f":"[2]Gr06!$A$84","v":0},"6_1"]
[{"$f":"[2]Gr06!$A$85","v":0},"6_1"]
[{"$f":"[2]Gr06!$A$86","v":0},"6_1"]
[{"$f":"[2]Gr06!$A$87","v":0},"6_1"]
[{"$f":"[2]Gr06!$A$88","v":0},"6_1"]
[{"$f":"[2]Gr06!$A$89","v":0},"6_1"]
[{"$f":"[2]Gr06!$A$90","v":0},"6_1"]
[{"$f":"[2]Gr06!$A$91","v":0},"6_1"]
[{"$f":"[2]Gr06!$A$92","v":0},"6_1"]
[{"$f":"[2]Gr06!$A$93","v":0},"6_1"]
[{"$f":"[2]Gr06!$A$94","v":0},"6_1"]
[{"$f":"[2]Gr06!$A$95","v":0},"6_1"]
[{"$f":"[2]Gr06!$A$96","v":0},"6_1"]
[{"$f":"[2]Gr06!$A$97","v":0},"6_1"]
[{"$f":"[2]Gr06!$A$98","v":0},"6_1"]
[{"$f":"[2]Gr06!$A$99","v":0},"6_1"]
[{"$f":"[2]Gr06!$A$111","v":0},"6_2"]
[{"$f":"[2]Gr06!$A$112","v":0},"6_2"]
[{"$f":"[2]Gr06!$A$113","v":0},"6_2"]
[{"$f":"[2]Gr06!$A$114","v":0},"6_2"]
[{"$f":"[2]Gr06!$A$115","v":0},"6_2"]
[{"$f":"[2]Gr06!$A$116","v":0},"6_2"]
[{"$f":"[2]Gr06!$A$117","v":0},"6_2"]
[{"$f":"[2]Gr06!$A$118","v":0},"6_2"]
[{"$f":"[2]Gr06!$A$119","v":0},"6_2"]
[{"$f":"[2]Gr06!$A$120","v":0},"6_2"]
[{"$f":"[2]Gr06!$A$121","v":0},"6_2"]
[{"$f":"[2]Gr06!$A$122","v":0},"6_2"]
[{"$f":"[2]Gr06!$A$123","v":0},"6_2"]
[{"$f":"[2]Gr06!$A$124","v":0},"6_2"]
[{"$f":"[2]Gr06!$A$125","v":0},"6_2"]
[{"$f":"[2]Gr06!$A$126","v":0},"6_2"]
[{"$f":"[2]Gr06!$A$127","v":0},"6_2"]
[{"$f":"[2]Gr06!$A$128","v":0},"6_2"]
[{"$f":"[2]Gr06!$A$129","v":0},"6_2"]
[{"$f":"[2]Gr06!$A$130","v":0},"6_2"]
[{"$f":"[2]Gr06!$A$131","v":0},"6_2"]
[{"$f":"[2]Gr06!$A$132","v":0},"6_2"]
[{"$f":"[2]Gr06!$A$133","v":0},"6_2"]
[{"$f":"[2]Gr06!$A$134","v":0},"6_2"]
[{"$f":"[2]Gr06!$A$135","v":0},"6_2"]
[{"$f":"[2]Gr06!$A$136","v":0},"6_2"]
[{"$f":"[2]Gr06!$A$137","v":0},"6_2"]
[{"$f":"[2]Gr06!$A$138","v":0},"6_2"]
[{"$f":"[2]Gr06!$A$139","v":0},"6_2"]
[{"$f":"[2]Gr06!$A$140","v":0},"6_2"]
[{"$f":"[2]Gr06!$A$141","v":0},"6_2"]
[{"$f":"[2]Gr06!$A$142","v":0},"6_2"]
[{"$f":"[2]Gr06!$A$143","v":0},"6_2"]
[{"$f":"[2]Gr06!$A$144","v":0},"6_2"]
[{"$f":"[2]Gr06!$A$145","v":0},"6_2"]
[{"$f":"[2]Gr06!$A$146","v":0},"6_2"]
[{"$f":"[2]Gr06!$A$147","v":0},"6_2"]
[{"$f":"[2]Gr06!$A$148","v":0},"6_2"]
[{"$f":"[2]Gr06!$A$149","v":0},"6_2"]
[{"$f":"[2]Gr06!$A$150","v":0},"6_2"]
[{"$f":"[2]Gr06!$A$151","v":0},"6_2"]
[{"$f":"[2]Gr06!$A$152","v":0},"6_2"]
[{"$f":"[2]Gr06!$A$153","v":0},"6_2"]
[{"$f":"[2]Gr06!$A$154","v":0},"6_2"]
[{"$f":"[2]Gr06!$A$155","v":0},"6_2"]
[{"$f":"[2]Gr06!$A$156","v":0},"6_2"]
[{"$f":"[2]Gr06!$A$157","v":0},"6_2"]
[{"$f":"[2]Gr06!$A$158","v":0},"6_2"]
[{"$f":"[2]Gr06!$A$159","v":0},"6_2"]
[{"$f":"[2]Gr06!$A$160","v":0},"6_2"]
[{"$f":"[2]Gr06!$A$161","v":0},"6_2"]
[{"$f":"[2]Gr06!$A$162","v":0},"6_2"]
[{"$f":"[2]Gr06!$A$163","v":0},"6_2"]
[{"$f":"[2]Gr06!$A$164","v":0},"6_2"]
[{"$f":"[2]Gr06!$A$165","v":0},"6_2"]
[{"$f":"[2]Gr06!$A$166","v":0},"6_2"]
[{"$f":"[2]Gr06!$A$167","v":0},"6_2"]
[{"$f":"[2]Gr06!$A$168","v":0},"6_2"]
[{"$f":"[2]Gr06!$A$169","v":0},"6_2"]
[{"$f":"[2]Gr06!$A$170","v":0},"6_2"]
[{"$f":"[2]Gr06!$A$171","v":0},"6_2"]
[{"$f":"[2]Gr06!$A$172","v":0},"6_2"]
[{"$f":"[2]Gr06!$A$173","v":0},"6_2"]
[{"$f":"[2]Gr06!$A$174","v":0},"6_2"]
[{"$f":"[2]Gr06!$A$175","v":0},"6_2"]
[{"$f":"[2]Gr06!$A$176","v":0},"6_2"]
[{"$f":"[2]Gr06!$A$177","v":0},"6_2"]
[{"$f":"[2]Gr06!$A$178","v":0},"6_2"]
[{"$f":"[2]Gr06!$A$179","v":0},"6_2"]
[{"$f":"[2]Gr06!$A$180","v":0},"6_2"]
[{"$f":"[2]Gr06!$A$181","v":0},"6_2"]
[{"$f":"[2]Gr06!$A$182","v":0},"6_2"]
[{"$f":"[2]Gr06!$A$183","v":0},"6_2"]
[{"$f":"[2]Gr06!$A$184","v":0},"6_2"]
[{"$f":"[2]Gr06!$A$185","v":0},"6_2"]
[{"$f":"[2]Gr06!$A$186","v":0},"6_2"]
[{"$f":"[2]Gr06!$A$187","v":0},"6_2"]
[{"$f":"[2]Gr06!$A$188","v":0},"6_2"]
[{"$f":"[2]Gr06!$A$189","v":0},"6_2"]
[{"$f":"[2]Gr06!$A$190","v":0},"6_2"]
[{"$f":"[2]Gr06!$A$191","v":0},"6_2"]
[{"$f":"[2]Gr06!$A$192","v":0},"6_2"]
[{"$f":"[2]Gr06!$A$193","v":0},"6_2"]
[{"$f":"[2]Gr06!$A$194","v":0},"6_2"]
[{"$f":"[2]Gr06!$A$195","v":0},"6_2"]
[{"$f":"[2]Gr06!$A$196","v":0},"6_2"]
[{"$f":"[2]Gr06!$A$197","v":0},"6_2"]
[{"$f":"[2]Gr06!$A$198","v":0},"6_2"]
[{"$f":"[2]Gr06!$A$199","v":0},"6_2"]
[{"$f":"[2]Gr06!$A$211","v":0},"6_3"]
[{"$f":"[2]Gr06!$A$212","v":0},"6_3"]
[{"$f":"[2]Gr06!$A$213","v":0},"6_3"]
[{"$f":"[2]Gr06!$A$214","v":0},"6_3"]
[{"$f":"[2]Gr06!$A$215","v":0},"6_3"]
[{"$f":"[2]Gr06!$A$216","v":0},"6_3"]
[{"$f":"[2]Gr06!$A$217","v":0},"6_3"]
[{"$f":"[2]Gr06!$A$218","v":0},"6_3"]
[{"$f":"[2]Gr06!$A$219","v":0},"6_3"]
[{"$f":"[2]Gr06!$A$220","v":0},"6_3"]
[{"$f":"[2]Gr06!$A$221","v":0},"6_3"]
[{"$f":"[2]Gr06!$A$222","v":0},"6_3"]
[{"$f":"[2]Gr06!$A$223","v":0},"6_3"]
[{"$f":"[2]Gr06!$A$224","v":0},"6_3"]
[{"$f":"[2]Gr06!$A$225","v":0},"6_3"]
[{"$f":"[2]Gr06!$A$226","v":0},"6_3"]
[{"$f":"[2]Gr06!$A$227","v":0},"6_3"]
[{"$f":"[2]Gr06!$A$228","v":0},"6_3"]
[{"$f":"[2]Gr06!$A$229","v":0},"6_3"]
[{"$f":"[2]Gr06!$A$230","v":0},"6_3"]
[{"$f":"[2]Gr06!$A$231","v":0},"6_3"]
[{"$f":"[2]Gr06!$A$232","v":0},"6_3"]
[{"$f":"[2]Gr06!$A$233","v":0},"6_3"]
[{"$f":"[2]Gr06!$A$234","v":0},"6_3"]
[{"$f":"[2]Gr06!$A$235","v":0},"6_3"]
[{"$f":"[2]Gr06!$A$236","v":0},"6_3"]
[{"$f":"[2]Gr06!$A$237","v":0},"6_3"]
[{"$f":"[2]Gr06!$A$238","v":0},"6_3"]
[{"$f":"[2]Gr06!$A$239","v":0},"6_3"]
[{"$f":"[2]Gr06!$A$240","v":0},"6_3"]
[{"$f":"[2]Gr06!$A$241","v":0},"6_3"]
[{"$f":"[2]Gr06!$A$242","v":0},"6_3"]
[{"$f":"[2]Gr06!$A$243","v":0},"6_3"]
[{"$f":"[2]Gr06!$A$244","v":0},"6_3"]
[{"$f":"[2]Gr06!$A$245","v":0},"6_3"]
[{"$f":"[2]Gr06!$A$246","v":0},"6_3"]
[{"$f":"[2]Gr06!$A$247","v":0},"6_3"]
[{"$f":"[2]Gr06!$A$248","v":0},"6_3"]
[{"$f":"[2]Gr06!$A$249","v":0},"6_3"]
[{"$f":"[2]Gr06!$A$250","v":0},"6_3"]
[{"$f":"[2]Gr06!$A$251","v":0},"6_3"]
[{"$f":"[2]Gr06!$A$252","v":0},"6_3"]
[{"$f":"[2]Gr06!$A$253","v":0},"6_3"]
[{"$f":"[2]Gr06!$A$254","v":0},"6_3"]
[{"$f":"[2]Gr06!$A$255","v":0},"6_3"]
[{"$f":"[2]Gr06!$A$256","v":0},"6_3"]
[{"$f":"[2]Gr06!$A$257","v":0},"6_3"]
[{"$f":"[2]Gr06!$A$258","v":0},"6_3"]
[{"$f":"[2]Gr06!$A$259","v":0},"6_3"]
[{"$f":"[2]Gr06!$A$260","v":0},"6_3"]
[{"$f":"[2]Gr06!$A$261","v":0},"6_3"]
[{"$f":"[2]Gr06!$A$262","v":0},"6_3"]
[{"$f":"[2]Gr06!$A$263","v":0},"6_3"]
[{"$f":"[2]Gr06!$A$264","v":0},"6_3"]
[{"$f":"[2]Gr06!$A$265","v":0},"6_3"]
[{"$f":"[2]Gr06!$A$266","v":0},"6_3"]
[{"$f":"[2]Gr06!$A$267","v":0},"6_3"]
[{"$f":"[2]Gr06!$A$268","v":0},"6_3"]
[{"$f":"[2]Gr06!$A$269","v":0},"6_3"]
[{"$f":"[2]Gr06!$A$270","v":0},"6_3"]
[{"$f":"[2]Gr06!$A$271","v":0},"6_3"]
[{"$f":"[2]Gr06!$A$272","v":0},"6_3"]
[{"$f":"[2]Gr06!$A$273","v":0},"6_3"]
[{"$f":"[2]Gr06!$A$274","v":0},"6_3"]
[{"$f":"[2]Gr06!$A$275","v":0},"6_3"]
[{"$f":"[2]Gr06!$A$276","v":0},"6_3"]
[{"$f":"[2]Gr06!$A$277","v":0},"6_3"]
[{"$f":"[2]Gr06!$A$278","v":0},"6_3"]
[{"$f":"[2]Gr06!$A$279","v":0},"6_3"]
[{"$f":"[2]Gr06!$A$280","v":0},"6_3"]
[{"$f":"[2]Gr06!$A$281","v":0},"6_3"]
[{"$f":"[2]Gr06!$A$282","v":0},"6_3"]
[{"$f":"[2]Gr06!$A$283","v":0},"6_3"]
[{"$f":"[2]Gr06!$A$284","v":0},"6_3"]
[{"$f":"[2]Gr06!$A$285","v":0},"6_3"]
[{"$f":"[2]Gr06!$A$286","v":0},"6_3"]
[{"$f":"[2]Gr06!$A$287","v":0},"6_3"]
[{"$f":"[2]Gr06!$A$288","v":0},"6_3"]
[{"$f":"[2]Gr06!$A$289","v":0},"6_3"]
[{"$f":"[2]Gr06!$A$290","v":0},"6_3"]
[{"$f":"[2]Gr06!$A$291","v":0},"6_3"]
[{"$f":"[2]Gr06!$A$292","v":0},"6_3"]
[{"$f":"[2]Gr06!$A$293","v":0},"6_3"]
[{"$f":"[2]Gr06!$A$294","v":0},"6_3"]
[{"$f":"[2]Gr06!$A$295","v":0},"6_3"]
[{"$f":"[2]Gr06!$A$296","v":0},"6_3"]
[{"$f":"[2]Gr06!$A$297","v":0},"6_3"]
[{"$f":"[2]Gr06!$A$298","v":0},"6_3"]
[{"$f":"[2]Gr06!$A$299","v":0},"6_3"]
[{"$f":"[2]Gr06!$A$311","v":0},"6_4"]
[{"$f":"[2]Gr06!$A$312","v":0},"6_4"]
[{"$f":"[2]Gr06!$A$313","v":0},"6_4"]
[{"$f":"[2]Gr06!$A$314","v":0},"6_4"]
[{"$f":"[2]Gr06!$A$315","v":0},"6_4"]
[{"$f":"[2]Gr06!$A$316","v":0},"6_4"]
[{"$f":"[2]Gr06!$A$317","v":0},"6_4"]
[{"$f":"[2]Gr06!$A$318","v":0},"6_4"]
[{"$f":"[2]Gr06!$A$319","v":0},"6_4"]
[{"$f":"[2]Gr06!$A$320","v":0},"6_4"]
[{"$f":"[2]Gr06!$A$321","v":0},"6_4"]
[{"$f":"[2]Gr06!$A$322","v":0},"6_4"]
[{"$f":"[2]Gr06!$A$323","v":0},"6_4"]
[{"$f":"[2]Gr06!$A$324","v":0},"6_4"]
[{"$f":"[2]Gr06!$A$325","v":0},"6_4"]
[{"$f":"[2]Gr06!$A$326","v":0},"6_4"]
[{"$f":"[2]Gr06!$A$327","v":0},"6_4"]
[{"$f":"[2]Gr06!$A$328","v":0},"6_4"]
[{"$f":"[2]Gr06!$A$329","v":0},"6_4"]
[{"$f":"[2]Gr06!$A$330","v":0},"6_4"]
[{"$f":"[2]Gr06!$A$331","v":0},"6_4"]
[{"$f":"[2]Gr06!$A$332","v":0},"6_4"]
[{"$f":"[2]Gr06!$A$333","v":0},"6_4"]
[{"$f":"[2]Gr06!$A$334","v":0},"6_4"]
[{"$f":"[2]Gr06!$A$335","v":0},"6_4"]
[{"$f":"[2]Gr06!$A$336","v":0},"6_4"]
[{"$f":"[2]Gr06!$A$337","v":0},"6_4"]
[{"$f":"[2]Gr06!$A$338","v":0},"6_4"]
[{"$f":"[2]Gr06!$A$339","v":0},"6_4"]
[{"$f":"[2]Gr06!$A$340","v":0},"6_4"]
[{"$f":"[2]Gr06!$A$341","v":0},"6_4"]
[{"$f":"[2]Gr06!$A$342","v":0},"6_4"]
[{"$f":"[2]Gr06!$A$343","v":0},"6_4"]
[{"$f":"[2]Gr06!$A$344","v":0},"6_4"]
[{"$f":"[2]Gr06!$A$345","v":0},"6_4"]
[{"$f":"[2]Gr06!$A$346","v":0},"6_4"]
[{"$f":"[2]Gr06!$A$347","v":0},"6_4"]
[{"$f":"[2]Gr06!$A$348","v":0},"6_4"]
[{"$f":"[2]Gr06!$A$349","v":0},"6_4"]
[{"$f":"[2]Gr06!$A$350","v":0},"6_4"]
[{"$f":"[2]Gr06!$A$351","v":0},"6_4"]
[{"$f":"[2]Gr06!$A$352","v":0},"6_4"]
[{"$f":"[2]Gr06!$A$353","v":0},"6_4"]
[{"$f":"[2]Gr06!$A$354","v":0},"6_4"]
[{"$f":"[2]Gr06!$A$355","v":0},"6_4"]
[{"$f":"[2]Gr06!$A$356","v":0},"6_4"]
[{"$f":"[2]Gr06!$A$357","v":0},"6_4"]
[{"$f":"[2]Gr06!$A$358","v":0},"6_4"]
[{"$f":"[2]Gr06!$A$359","v":0},"6_4"]
[{"$f":"[2]Gr06!$A$360","v":0},"6_4"]
[{"$f":"[2]Gr06!$A$361","v":0},"6_4"]
[{"$f":"[2]Gr06!$A$362","v":0},"6_4"]
[{"$f":"[2]Gr06!$A$363","v":0},"6_4"]
[{"$f":"[2]Gr06!$A$364","v":0},"6_4"]
[{"$f":"[2]Gr06!$A$365","v":0},"6_4"]
[{"$f":"[2]Gr06!$A$366","v":0},"6_4"]
[{"$f":"[2]Gr06!$A$367","v":0},"6_4"]
[{"$f":"[2]Gr06!$A$368","v":0},"6_4"]
[{"$f":"[2]Gr06!$A$369","v":0},"6_4"]
[{"$f":"[2]Gr06!$A$370","v":0},"6_4"]
[{"$f":"[2]Gr06!$A$371","v":0},"6_4"]
[{"$f":"[2]Gr06!$A$372","v":0},"6_4"]
[{"$f":"[2]Gr06!$A$373","v":0},"6_4"]
[{"$f":"[2]Gr06!$A$374","v":0},"6_4"]
[{"$f":"[2]Gr06!$A$375","v":0},"6_4"]
[{"$f":"[2]Gr06!$A$376","v":0},"6_4"]
[{"$f":"[2]Gr06!$A$377","v":0},"6_4"]
[{"$f":"[2]Gr06!$A$378","v":0},"6_4"]
[{"$f":"[2]Gr06!$A$379","v":0},"6_4"]
[{"$f":"[2]Gr06!$A$380","v":0},"6_4"]
[{"$f":"[2]Gr06!$A$381","v":0},"6_4"]
[{"$f":"[2]Gr06!$A$382","v":0},"6_4"]
[{"$f":"[2]Gr06!$A$383","v":0},"6_4"]
[{"$f":"[2]Gr06!$A$384","v":0},"6_4"]
[{"$f":"[2]Gr06!$A$385","v":0},"6_4"]
[{"$f":"[2]Gr06!$A$386","v":0},"6_4"]
[{"$f":"[2]Gr06!$A$387","v":0},"6_4"]
[{"$f":"[2]Gr06!$A$388","v":0},"6_4"]
[{"$f":"[2]Gr06!$A$389","v":0},"6_4"]
[{"$f":"[2]Gr06!$A$390","v":0},"6_4"]
[{"$f":"[2]Gr06!$A$391","v":0},"6_4"]
[{"$f":"[2]Gr06!$A$392","v":0},"6_4"]
[{"$f":"[2]Gr06!$A$393","v":0},"6_4"]
[{"$f":"[2]Gr06!$A$394","v":0},"6_4"]
[{"$f":"[2]Gr06!$A$395","v":0},"6_4"]
[{"$f":"[2]Gr06!$A$396","v":0},"6_4"]
[{"$f":"[2]Gr06!$A$397","v":0},"6_4"]
[{"$f":"[2]Gr06!$A$398","v":0},"6_4"]
[{"$f":"[2]Gr06!$A$399","v":0},"6_4"]
[{"$f":"[2]Gr06!$A$411","v":0},"6_5"]
[{"$f":"[2]Gr06!$A$412","v":0},"6_5"]
[{"$f":"[2]Gr06!$A$413","v":0},"6_5"]
[{"$f":"[2]Gr06!$A$414","v":0},"6_5"]
[{"$f":"[2]Gr06!$A$415","v":0},"6_5"]
[{"$f":"[2]Gr06!$A$416","v":0},"6_5"]
[{"$f":"[2]Gr06!$A$417","v":0},"6_5"]
[{"$f":"[2]Gr06!$A$418","v":0},"6_5"]
[{"$f":"[2]Gr06!$A$419","v":0},"6_5"]
[{"$f":"[2]Gr06!$A$420","v":0},"6_5"]
[{"$f":"[2]Gr06!$A$421","v":0},"6_5"]
[{"$f":"[2]Gr06!$A$422","v":0},"6_5"]
[{"$f":"[2]Gr06!$A$423","v":0},"6_5"]
[{"$f":"[2]Gr06!$A$424","v":0},"6_5"]
[{"$f":"[2]Gr06!$A$425","v":0},"6_5"]
[{"$f":"[2]Gr06!$A$426","v":0},"6_5"]
[{"$f":"[2]Gr06!$A$427","v":0},"6_5"]
[{"$f":"[2]Gr06!$A$428","v":0},"6_5"]
[{"$f":"[2]Gr06!$A$429","v":0},"6_5"]
[{"$f":"[2]Gr06!$A$430","v":0},"6_5"]
[{"$f":"[2]Gr06!$A$431","v":0},"6_5"]
[{"$f":"[2]Gr06!$A$432","v":0},"6_5"]
[{"$f":"[2]Gr06!$A$433","v":0},"6_5"]
[{"$f":"[2]Gr06!$A$434","v":0},"6_5"]
[{"$f":"[2]Gr06!$A$435","v":0},"6_5"]
[{"$f":"[2]Gr06!$A$436","v":0},"6_5"]
[{"$f":"[2]Gr06!$A$437","v":0},"6_5"]
[{"$f":"[2]Gr06!$A$438","v":0},"6_5"]
[{"$f":"[2]Gr06!$A$439","v":0},"6_5"]
[{"$f":"[2]Gr06!$A$440","v":0},"6_5"]
[{"$f":"[2]Gr06!$A$441","v":0},"6_5"]
[{"$f":"[2]Gr06!$A$442","v":0},"6_5"]
[{"$f":"[2]Gr06!$A$443","v":0},"6_5"]
[{"$f":"[2]Gr06!$A$444","v":0},"6_5"]
[{"$f":"[2]Gr06!$A$445","v":0},"6_5"]
[{"$f":"[2]Gr06!$A$446","v":0},"6_5"]
[{"$f":"[2]Gr06!$A$447","v":0},"6_5"]
[{"$f":"[2]Gr06!$A$448","v":0},"6_5"]
[{"$f":"[2]Gr06!$A$449","v":0},"6_5"]
[{"$f":"[2]Gr06!$A$450","v":0},"6_5"]
[{"$f":"[2]Gr06!$A$451","v":0},"6_5"]
[{"$f":"[2]Gr06!$A$452","v":0},"6_5"]
[{"$f":"[2]Gr06!$A$453","v":0},"6_5"]
[{"$f":"[2]Gr06!$A$454","v":0},"6_5"]
[{"$f":"[2]Gr06!$A$455","v":0},"6_5"]
[{"$f":"[2]Gr06!$A$456","v":0},"6_5"]
[{"$f":"[2]Gr06!$A$457","v":0},"6_5"]
[{"$f":"[2]Gr06!$A$458","v":0},"6_5"]
[{"$f":"[2]Gr06!$A$459","v":0},"6_5"]
[{"$f":"[2]Gr06!$A$460","v":0},"6_5"]
[{"$f":"[2]Gr06!$A$461","v":0},"6_5"]
[{"$f":"[2]Gr06!$A$462","v":0},"6_5"]
[{"$f":"[2]Gr06!$A$463","v":0},"6_5"]
[{"$f":"[2]Gr06!$A$464","v":0},"6_5"]
[{"$f":"[2]Gr06!$A$465","v":0},"6_5"]
[{"$f":"[2]Gr06!$A$466","v":0},"6_5"]
[{"$f":"[2]Gr06!$A$467","v":0},"6_5"]
[{"$f":"[2]Gr06!$A$468","v":0},"6_5"]
[{"$f":"[2]Gr06!$A$469","v":0},"6_5"]
[{"$f":"[2]Gr06!$A$470","v":0},"6_5"]
[{"$f":"[2]Gr06!$A$471","v":0},"6_5"]
[{"$f":"[2]Gr06!$A$472","v":0},"6_5"]
[{"$f":"[2]Gr06!$A$473","v":0},"6_5"]
[{"$f":"[2]Gr06!$A$474","v":0},"6_5"]
[{"$f":"[2]Gr06!$A$475","v":0},"6_5"]
[{"$f":"[2]Gr06!$A$476","v":0},"6_5"]
[{"$f":"[2]Gr06!$A$477","v":0},"6_5"]
[{"$f":"[2]Gr06!$A$478","v":0},"6_5"]
[{"$f":"[2]Gr06!$A$479","v":0},"6_5"]
[{"$f":"[2]Gr06!$A$480","v":0},"6_5"]
[{"$f":"[2]Gr06!$A$481","v":0},"6_5"]
[{"$f":"[2]Gr06!$A$482","v":0},"6_5"]
[{"$f":"[2]Gr06!$A$483","v":0},"6_5"]
[{"$f":"[2]Gr06!$A$484","v":0},"6_5"]
[{"$f":"[2]Gr06!$A$485","v":0},"6_5"]
[{"$f":"[2]Gr06!$A$486","v":0},"6_5"]
[{"$f":"[2]Gr06!$A$487","v":0},"6_5"]
[{"$f":"[2]Gr06!$A$488","v":0},"6_5"]
[{"$f":"[2]Gr06!$A$489","v":0},"6_5"]
[{"$f":"[2]Gr06!$A$490","v":0},"6_5"]
[{"$f":"[2]Gr06!$A$491","v":0},"6_5"]
[{"$f":"[2]Gr06!$A$492","v":0},"6_5"]
[{"$f":"[2]Gr06!$A$493","v":0},"6_5"]
[{"$f":"[2]Gr06!$A$494","v":0},"6_5"]
[{"$f":"[2]Gr06!$A$495","v":0},"6_5"]
[{"$f":"[2]Gr06!$A$496","v":0},"6_5"]
[{"$f":"[2]Gr06!$A$497","v":0},"6_5"]
[{"$f":"[2]Gr06!$A$498","v":0},"6_5"]
[{"$f":"[2]Gr06!$A$499","v":0},"6_5"]
[{"$f":"[2]Gr06!$A$511","v":0},"6_6"]
[{"$f":"[2]Gr06!$A$512","v":0},"6_6"]
[{"$f":"[2]Gr06!$A$513","v":0},"6_6"]
[{"$f":"[2]Gr06!$A$514","v":0},"6_6"]
[{"$f":"[2]Gr06!$A$515","v":0},"6_6"]
[{"$f":"[2]Gr06!$A$516","v":0},"6_6"]
[{"$f":"[2]Gr06!$A$517","v":0},"6_6"]
[{"$f":"[2]Gr06!$A$518","v":0},"6_6"]
[{"$f":"[2]Gr06!$A$519","v":0},"6_6"]
[{"$f":"[2]Gr06!$A$520","v":0},"6_6"]
[{"$f":"[2]Gr06!$A$521","v":0},"6_6"]
[{"$f":"[2]Gr06!$A$522","v":0},"6_6"]
[{"$f":"[2]Gr06!$A$523","v":0},"6_6"]
[{"$f":"[2]Gr06!$A$524","v":0},"6_6"]
[{"$f":"[2]Gr06!$A$525","v":0},"6_6"]
[{"$f":"[2]Gr06!$A$526","v":0},"6_6"]
[{"$f":"[2]Gr06!$A$527","v":0},"6_6"]
[{"$f":"[2]Gr06!$A$528","v":0},"6_6"]
[{"$f":"[2]Gr06!$A$529","v":0},"6_6"]
[{"$f":"[2]Gr06!$A$530","v":0},"6_6"]
[{"$f":"[2]Gr06!$A$531","v":0},"6_6"]
[{"$f":"[2]Gr06!$A$532","v":0},"6_6"]
[{"$f":"[2]Gr06!$A$533","v":0},"6_6"]
[{"$f":"[2]Gr06!$A$534","v":0},"6_6"]
[{"$f":"[2]Gr06!$A$535","v":0},"6_6"]
[{"$f":"[2]Gr06!$A$536","v":0},"6_6"]
[{"$f":"[2]Gr06!$A$537","v":0},"6_6"]
[{"$f":"[2]Gr06!$A$538","v":0},"6_6"]
[{"$f":"[2]Gr06!$A$539","v":0},"6_6"]
[{"$f":"[2]Gr06!$A$540","v":0},"6_6"]
[{"$f":"[2]Gr06!$A$541","v":0},"6_6"]
[{"$f":"[2]Gr06!$A$542","v":0},"6_6"]
[{"$f":"[2]Gr06!$A$543","v":0},"6_6"]
[{"$f":"[2]Gr06!$A$544","v":0},"6_6"]
[{"$f":"[2]Gr06!$A$545","v":0},"6_6"]
[{"$f":"[2]Gr06!$A$546","v":0},"6_6"]
[{"$f":"[2]Gr06!$A$547","v":0},"6_6"]
[{"$f":"[2]Gr06!$A$548","v":0},"6_6"]
[{"$f":"[2]Gr06!$A$549","v":0},"6_6"]
[{"$f":"[2]Gr06!$A$550","v":0},"6_6"]
[{"$f":"[2]Gr06!$A$551","v":0},"6_6"]
[{"$f":"[2]Gr06!$A$552","v":0},"6_6"]
[{"$f":"[2]Gr06!$A$553","v":0},"6_6"]
[{"$f":"[2]Gr06!$A$554","v":0},"6_6"]
[{"$f":"[2]Gr06!$A$555","v":0},"6_6"]
[{"$f":"[2]Gr06!$A$556","v":0},"6_6"]
[{"$f":"[2]Gr06!$A$557","v":0},"6_6"]
[{"$f":"[2]Gr06!$A$558","v":0},"6_6"]
[{"$f":"[2]Gr06!$A$559","v":0},"6_6"]
[{"$f":"[2]Gr06!$A$560","v":0},"6_6"]
[{"$f":"[2]Gr06!$A$561","v":0},"6_6"]
[{"$f":"[2]Gr06!$A$562","v":0},"6_6"]
[{"$f":"[2]Gr06!$A$563","v":0},"6_6"]
[{"$f":"[2]Gr06!$A$564","v":0},"6_6"]
[{"$f":"[2]Gr06!$A$565","v":0},"6_6"]
[{"$f":"[2]Gr06!$A$566","v":0},"6_6"]
[{"$f":"[2]Gr06!$A$567","v":0},"6_6"]
[{"$f":"[2]Gr06!$A$568","v":0},"6_6"]
[{"$f":"[2]Gr06!$A$569","v":0},"6_6"]
[{"$f":"[2]Gr06!$A$570","v":0},"6_6"]
[{"$f":"[2]Gr06!$A$571","v":0},"6_6"]
[{"$f":"[2]Gr06!$A$572","v":0},"6_6"]
[{"$f":"[2]Gr06!$A$573","v":0},"6_6"]
[{"$f":"[2]Gr06!$A$574","v":0},"6_6"]
[{"$f":"[2]Gr06!$A$575","v":0},"6_6"]
[{"$f":"[2]Gr06!$A$576","v":0},"6_6"]
[{"$f":"[2]Gr06!$A$577","v":0},"6_6"]
[{"$f":"[2]Gr06!$A$578","v":0},"6_6"]
[{"$f":"[2]Gr06!$A$579","v":0},"6_6"]
[{"$f":"[2]Gr06!$A$580","v":0},"6_6"]
[{"$f":"[2]Gr06!$A$581","v":0},"6_6"]
[{"$f":"[2]Gr06!$A$582","v":0},"6_6"]
[{"$f":"[2]Gr06!$A$583","v":0},"6_6"]
[{"$f":"[2]Gr06!$A$584","v":0},"6_6"]
[{"$f":"[2]Gr06!$A$585","v":0},"6_6"]
[{"$f":"[2]Gr06!$A$586","v":0},"6_6"]
[{"$f":"[2]Gr06!$A$587","v":0},"6_6"]
[{"$f":"[2]Gr06!$A$588","v":0},"6_6"]
[{"$f":"[2]Gr06!$A$589","v":0},"6_6"]
[{"$f":"[2]Gr06!$A$590","v":0},"6_6"]
[{"$f":"[2]Gr06!$A$591","v":0},"6_6"]
[{"$f":"[2]Gr06!$A$592","v":0},"6_6"]
[{"$f":"[2]Gr06!$A$593","v":0},"6_6"]
[{"$f":"[2]Gr06!$A$594","v":0},"6_6"]
[{"$f":"[2]Gr06!$A$595","v":0},"6_6"]
[{"$f":"[2]Gr06!$A$596","v":0},"6_6"]
[{"$f":"[2]Gr06!$A$597","v":0},"6_6"]
[{"$f":"[2]Gr06!$A$598","v":0},"6_6"]
[{"$f":"[2]Gr06!$A$599","v":0},"6_6"]
[{"$f":"[2]Gr07!$A$11","v":254},"7_1"]
[{"$f":"[2]Gr07!$A$12","v":10},"7_1"]
[{"$f":"[2]Gr07!$A$13","v":0},"7_1"]
[{"$f":"[2]Gr07!$A$14","v":0},"7_1"]
[{"$f":"[2]Gr07!$A$15","v":0},"7_1"]
[{"$f":"[2]Gr07!$A$16","v":0},"7_1"]
[{"$f":"[2]Gr07!$A$17","v":0},"7_1"]
[{"$f":"[2]Gr07!$A$18","v":0},"7_1"]
[{"$f":"[2]Gr07!$A$19","v":0},"7_1"]
[{"$f":"[2]Gr07!$A$20","v":0},"7_1"]
[{"$f":"[2]Gr07!$A$21","v":0},"7_1"]
[{"$f":"[2]Gr07!$A$22","v":0},"7_1"]
[{"$f":"[2]Gr07!$A$23","v":0},"7_1"]
[{"$f":"[2]Gr07!$A$24","v":0},"7_1"]
[{"$f":"[2]Gr07!$A$25","v":0},"7_1"]
[{"$f":"[2]Gr07!$A$26","v":0},"7_1"]
[{"$f":"[2]Gr07!$A$27","v":0},"7_1"]
[{"$f":"[2]Gr07!$A$28","v":0},"7_1"]
[{"$f":"[2]Gr07!$A$29","v":0},"7_1"]
[{"$f":"[2]Gr07!$A$30","v":0},"7_1"]
[{"$f":"[2]Gr07!$A$31","v":0},"7_1"]
[{"$f":"[2]Gr07!$A$32","v":0},"7_1"]
[{"$f":"[2]Gr07!$A$33","v":0},"7_1"]
[{"$f":"[2]Gr07!$A$34","v":0},"7_1"]
[{"$f":"[2]Gr07!$A$35","v":0},"7_1"]
[{"$f":"[2]Gr07!$A$36","v":0},"7_1"]
[{"$f":"[2]Gr07!$A$37","v":0},"7_1"]
[{"$f":"[2]Gr07!$A$38","v":0},"7_1"]
[{"$f":"[2]Gr07!$A$39","v":0},"7_1"]
[{"$f":"[2]Gr07!$A$40","v":0},"7_1"]
[{"$f":"[2]Gr07!$A$41","v":0},"7_1"]
[{"$f":"[2]Gr07!$A$42","v":0},"7_1"]
[{"$f":"[2]Gr07!$A$43","v":0},"7_1"]
[{"$f":"[2]Gr07!$A$44","v":0},"7_1"]
[{"$f":"[2]Gr07!$A$45","v":0},"7_1"]
[{"$f":"[2]Gr07!$A$46","v":0},"7_1"]
[{"$f":"[2]Gr07!$A$47","v":0},"7_1"]
[{"$f":"[2]Gr07!$A$48","v":0},"7_1"]
[{"$f":"[2]Gr07!$A$49","v":0},"7_1"]
[{"$f":"[2]Gr07!$A$50","v":0},"7_1"]
[{"$f":"[2]Gr07!$A$51","v":0},"7_1"]
[{"$f":"[2]Gr07!$A$52","v":0},"7_1"]
[{"$f":"[2]Gr07!$A$53","v":0},"7_1"]
[{"$f":"[2]Gr07!$A$54","v":0},"7_1"]
[{"$f":"[2]Gr07!$A$55","v":0},"7_1"]
[{"$f":"[2]Gr07!$A$56","v":0},"7_1"]
[{"$f":"[2]Gr07!$A$57","v":0},"7_1"]
[{"$f":"[2]Gr07!$A$58","v":0},"7_1"]
[{"$f":"[2]Gr07!$A$59","v":0},"7_1"]
[{"$f":"[2]Gr07!$A$60","v":0},"7_1"]
[{"$f":"[2]Gr07!$A$61","v":0},"7_1"]
[{"$f":"[2]Gr07!$A$62","v":0},"7_1"]
[{"$f":"[2]Gr07!$A$63","v":0},"7_1"]
[{"$f":"[2]Gr07!$A$64","v":0},"7_1"]
[{"$f":"[2]Gr07!$A$65","v":0},"7_1"]
[{"$f":"[2]Gr07!$A$66","v":0},"7_1"]
[{"$f":"[2]Gr07!$A$67","v":0},"7_1"]
[{"$f":"[2]Gr07!$A$68","v":0},"7_1"]
[{"$f":"[2]Gr07!$A$69","v":0},"7_1"]
[{"$f":"[2]Gr07!$A$70","v":0},"7_1"]
[{"$f":"[2]Gr07!$A$71","v":0},"7_1"]
[{"$f":"[2]Gr07!$A$72","v":0},"7_1"]
[{"$f":"[2]Gr07!$A$73","v":0},"7_1"]
[{"$f":"[2]Gr07!$A$74","v":0},"7_1"]
[{"$f":"[2]Gr07!$A$75","v":0},"7_1"]
[{"$f":"[2]Gr07!$A$76","v":0},"7_1"]
[{"$f":"[2]Gr07!$A$77","v":0},"7_1"]
[{"$f":"[2]Gr07!$A$78","v":0},"7_1"]
[{"$f":"[2]Gr07!$A$79","v":0},"7_1"]
[{"$f":"[2]Gr07!$A$80","v":0},"7_1"]
[{"$f":"[2]Gr07!$A$81","v":0},"7_1"]
[{"$f":"[2]Gr07!$A$82","v":0},"7_1"]
[{"$f":"[2]Gr07!$A$83","v":0},"7_1"]
[{"$f":"[2]Gr07!$A$84","v":0},"7_1"]
[{"$f":"[2]Gr07!$A$85","v":0},"7_1"]
[{"$f":"[2]Gr07!$A$86","v":0},"7_1"]
[{"$f":"[2]Gr07!$A$87","v":0},"7_1"]
[{"$f":"[2]Gr07!$A$88","v":0},"7_1"]
[{"$f":"[2]Gr07!$A$89","v":0},"7_1"]
[{"$f":"[2]Gr07!$A$90","v":0},"7_1"]
[{"$f":"[2]Gr07!$A$91","v":0},"7_1"]
[{"$f":"[2]Gr07!$A$92","v":0},"7_1"]
[{"$f":"[2]Gr07!$A$93","v":0},"7_1"]
[{"$f":"[2]Gr07!$A$94","v":0},"7_1"]
[{"$f":"[2]Gr07!$A$95","v":0},"7_1"]
[{"$f":"[2]Gr07!$A$96","v":0},"7_1"]
[{"$f":"[2]Gr07!$A$97","v":0},"7_1"]
[{"$f":"[2]Gr07!$A$98","v":0},"7_1"]
[{"$f":"[2]Gr07!$A$99","v":0},"7_1"]
[{"$f":"[2]Gr07!$A$111","v":0},"7_2"]
[{"$f":"[2]Gr07!$A$112","v":0},"7_2"]
[{"$f":"[2]Gr07!$A$113","v":0},"7_2"]
[{"$f":"[2]Gr07!$A$114","v":0},"7_2"]
[{"$f":"[2]Gr07!$A$115","v":0},"7_2"]
[{"$f":"[2]Gr07!$A$116","v":0},"7_2"]
[{"$f":"[2]Gr07!$A$117","v":0},"7_2"]
[{"$f":"[2]Gr07!$A$118","v":0},"7_2"]
[{"$f":"[2]Gr07!$A$119","v":0},"7_2"]
[{"$f":"[2]Gr07!$A$120","v":0},"7_2"]
[{"$f":"[2]Gr07!$A$121","v":0},"7_2"]
[{"$f":"[2]Gr07!$A$122","v":0},"7_2"]
[{"$f":"[2]Gr07!$A$123","v":0},"7_2"]
[{"$f":"[2]Gr07!$A$124","v":0},"7_2"]
[{"$f":"[2]Gr07!$A$125","v":0},"7_2"]
[{"$f":"[2]Gr07!$A$126","v":0},"7_2"]
[{"$f":"[2]Gr07!$A$127","v":0},"7_2"]
[{"$f":"[2]Gr07!$A$128","v":0},"7_2"]
[{"$f":"[2]Gr07!$A$129","v":0},"7_2"]
[{"$f":"[2]Gr07!$A$130","v":0},"7_2"]
[{"$f":"[2]Gr07!$A$131","v":0},"7_2"]
[{"$f":"[2]Gr07!$A$132","v":0},"7_2"]
[{"$f":"[2]Gr07!$A$133","v":0},"7_2"]
[{"$f":"[2]Gr07!$A$134","v":0},"7_2"]
[{"$f":"[2]Gr07!$A$135","v":0},"7_2"]
[{"$f":"[2]Gr07!$A$136","v":0},"7_2"]
[{"$f":"[2]Gr07!$A$137","v":0},"7_2"]
[{"$f":"[2]Gr07!$A$138","v":0},"7_2"]
[{"$f":"[2]Gr07!$A$139","v":0},"7_2"]
[{"$f":"[2]Gr07!$A$140","v":0},"7_2"]
[{"$f":"[2]Gr07!$A$141","v":0},"7_2"]
[{"$f":"[2]Gr07!$A$142","v":0},"7_2"]
[{"$f":"[2]Gr07!$A$143","v":0},"7_2"]
[{"$f":"[2]Gr07!$A$144","v":0},"7_2"]
[{"$f":"[2]Gr07!$A$145","v":0},"7_2"]
[{"$f":"[2]Gr07!$A$146","v":0},"7_2"]
[{"$f":"[2]Gr07!$A$147","v":0},"7_2"]
[{"$f":"[2]Gr07!$A$148","v":0},"7_2"]
[{"$f":"[2]Gr07!$A$149","v":0},"7_2"]
[{"$f":"[2]Gr07!$A$150","v":0},"7_2"]
[{"$f":"[2]Gr07!$A$151","v":0},"7_2"]
[{"$f":"[2]Gr07!$A$152","v":0},"7_2"]
[{"$f":"[2]Gr07!$A$153","v":0},"7_2"]
[{"$f":"[2]Gr07!$A$154","v":0},"7_2"]
[{"$f":"[2]Gr07!$A$155","v":0},"7_2"]
[{"$f":"[2]Gr07!$A$156","v":0},"7_2"]
[{"$f":"[2]Gr07!$A$157","v":0},"7_2"]
[{"$f":"[2]Gr07!$A$158","v":0},"7_2"]
[{"$f":"[2]Gr07!$A$159","v":0},"7_2"]
[{"$f":"[2]Gr07!$A$160","v":0},"7_2"]
[{"$f":"[2]Gr07!$A$161","v":0},"7_2"]
[{"$f":"[2]Gr07!$A$162","v":0},"7_2"]
[{"$f":"[2]Gr07!$A$163","v":0},"7_2"]
[{"$f":"[2]Gr07!$A$164","v":0},"7_2"]
[{"$f":"[2]Gr07!$A$165","v":0},"7_2"]
[{"$f":"[2]Gr07!$A$166","v":0},"7_2"]
[{"$f":"[2]Gr07!$A$167","v":0},"7_2"]
[{"$f":"[2]Gr07!$A$168","v":0},"7_2"]
[{"$f":"[2]Gr07!$A$169","v":0},"7_2"]
[{"$f":"[2]Gr07!$A$170","v":0},"7_2"]
[{"$f":"[2]Gr07!$A$171","v":0},"7_2"]
[{"$f":"[2]Gr07!$A$172","v":0},"7_2"]
[{"$f":"[2]Gr07!$A$173","v":0},"7_2"]
[{"$f":"[2]Gr07!$A$174","v":0},"7_2"]
[{"$f":"[2]Gr07!$A$175","v":0},"7_2"]
[{"$f":"[2]Gr07!$A$176","v":0},"7_2"]
[{"$f":"[2]Gr07!$A$177","v":0},"7_2"]
[{"$f":"[2]Gr07!$A$178","v":0},"7_2"]
[{"$f":"[2]Gr07!$A$179","v":0},"7_2"]
[{"$f":"[2]Gr07!$A$180","v":0},"7_2"]
[{"$f":"[2]Gr07!$A$181","v":0},"7_2"]
[{"$f":"[2]Gr07!$A$182","v":0},"7_2"]
[{"$f":"[2]Gr07!$A$183","v":0},"7_2"]
[{"$f":"[2]Gr07!$A$184","v":0},"7_2"]
[{"$f":"[2]Gr07!$A$185","v":0},"7_2"]
[{"$f":"[2]Gr07!$A$186","v":0},"7_2"]
[{"$f":"[2]Gr07!$A$187","v":0},"7_2"]
[{"$f":"[2]Gr07!$A$188","v":0},"7_2"]
[{"$f":"[2]Gr07!$A$189","v":0},"7_2"]
[{"$f":"[2]Gr07!$A$190","v":0},"7_2"]
[{"$f":"[2]Gr07!$A$191","v":0},"7_2"]
[{"$f":"[2]Gr07!$A$192","v":0},"7_2"]
[{"$f":"[2]Gr07!$A$193","v":0},"7_2"]
[{"$f":"[2]Gr07!$A$194","v":0},"7_2"]
[{"$f":"[2]Gr07!$A$195","v":0},"7_2"]
[{"$f":"[2]Gr07!$A$196","v":0},"7_2"]
[{"$f":"[2]Gr07!$A$197","v":0},"7_2"]
[{"$f":"[2]Gr07!$A$198","v":0},"7_2"]
[{"$f":"[2]Gr07!$A$199","v":0},"7_2"]
[{"$f":"[2]Gr07!$A$211","v":0},"7_3"]
[{"$f":"[2]Gr07!$A$212","v":0},"7_3"]
[{"$f":"[2]Gr07!$A$213","v":0},"7_3"]
[{"$f":"[2]Gr07!$A$214","v":0},"7_3"]
[{"$f":"[2]Gr07!$A$215","v":0},"7_3"]
[{"$f":"[2]Gr07!$A$216","v":0},"7_3"]
[{"$f":"[2]Gr07!$A$217","v":0},"7_3"]
[{"$f":"[2]Gr07!$A$218","v":0},"7_3"]
[{"$f":"[2]Gr07!$A$219","v":0},"7_3"]
[{"$f":"[2]Gr07!$A$220","v":0},"7_3"]
[{"$f":"[2]Gr07!$A$221","v":0},"7_3"]
[{"$f":"[2]Gr07!$A$222","v":0},"7_3"]
[{"$f":"[2]Gr07!$A$223","v":0},"7_3"]
[{"$f":"[2]Gr07!$A$224","v":0},"7_3"]
[{"$f":"[2]Gr07!$A$225","v":0},"7_3"]
[{"$f":"[2]Gr07!$A$226","v":0},"7_3"]
[{"$f":"[2]Gr07!$A$227","v":0},"7_3"]
[{"$f":"[2]Gr07!$A$228","v":0},"7_3"]
[{"$f":"[2]Gr07!$A$229","v":0},"7_3"]
[{"$f":"[2]Gr07!$A$230","v":0},"7_3"]
[{"$f":"[2]Gr07!$A$231","v":0},"7_3"]
[{"$f":"[2]Gr07!$A$232","v":0},"7_3"]
[{"$f":"[2]Gr07!$A$233","v":0},"7_3"]
[{"$f":"[2]Gr07!$A$234","v":0},"7_3"]
[{"$f":"[2]Gr07!$A$235","v":0},"7_3"]
[{"$f":"[2]Gr07!$A$236","v":0},"7_3"]
[{"$f":"[2]Gr07!$A$237","v":0},"7_3"]
[{"$f":"[2]Gr07!$A$238","v":0},"7_3"]
[{"$f":"[2]Gr07!$A$239","v":0},"7_3"]
[{"$f":"[2]Gr07!$A$240","v":0},"7_3"]
[{"$f":"[2]Gr07!$A$241","v":0},"7_3"]
[{"$f":"[2]Gr07!$A$242","v":0},"7_3"]
[{"$f":"[2]Gr07!$A$243","v":0},"7_3"]
[{"$f":"[2]Gr07!$A$244","v":0},"7_3"]
[{"$f":"[2]Gr07!$A$245","v":0},"7_3"]
[{"$f":"[2]Gr07!$A$246","v":0},"7_3"]
[{"$f":"[2]Gr07!$A$247","v":0},"7_3"]
[{"$f":"[2]Gr07!$A$248","v":0},"7_3"]
[{"$f":"[2]Gr07!$A$249","v":0},"7_3"]
[{"$f":"[2]Gr07!$A$250","v":0},"7_3"]
[{"$f":"[2]Gr07!$A$251","v":0},"7_3"]
[{"$f":"[2]Gr07!$A$252","v":0},"7_3"]
[{"$f":"[2]Gr07!$A$253","v":0},"7_3"]
[{"$f":"[2]Gr07!$A$254","v":0},"7_3"]
[{"$f":"[2]Gr07!$A$255","v":0},"7_3"]
[{"$f":"[2]Gr07!$A$256","v":0},"7_3"]
[{"$f":"[2]Gr07!$A$257","v":0},"7_3"]
[{"$f":"[2]Gr07!$A$258","v":0},"7_3"]
[{"$f":"[2]Gr07!$A$259","v":0},"7_3"]
[{"$f":"[2]Gr07!$A$260","v":0},"7_3"]
[{"$f":"[2]Gr07!$A$261","v":0},"7_3"]
[{"$f":"[2]Gr07!$A$262","v":0},"7_3"]
[{"$f":"[2]Gr07!$A$263","v":0},"7_3"]
[{"$f":"[2]Gr07!$A$264","v":0},"7_3"]
[{"$f":"[2]Gr07!$A$265","v":0},"7_3"]
[{"$f":"[2]Gr07!$A$266","v":0},"7_3"]
[{"$f":"[2]Gr07!$A$267","v":0},"7_3"]
[{"$f":"[2]Gr07!$A$268","v":0},"7_3"]
[{"$f":"[2]Gr07!$A$269","v":0},"7_3"]
[{"$f":"[2]Gr07!$A$270","v":0},"7_3"]
[{"$f":"[2]Gr07!$A$271","v":0},"7_3"]
[{"$f":"[2]Gr07!$A$272","v":0},"7_3"]
[{"$f":"[2]Gr07!$A$273","v":0},"7_3"]
[{"$f":"[2]Gr07!$A$274","v":0},"7_3"]
[{"$f":"[2]Gr07!$A$275","v":0},"7_3"]
[{"$f":"[2]Gr07!$A$276","v":0},"7_3"]
[{"$f":"[2]Gr07!$A$277","v":0},"7_3"]
[{"$f":"[2]Gr07!$A$278","v":0},"7_3"]
[{"$f":"[2]Gr07!$A$279","v":0},"7_3"]
[{"$f":"[2]Gr07!$A$280","v":0},"7_3"]
[{"$f":"[2]Gr07!$A$281","v":0},"7_3"]
[{"$f":"[2]Gr07!$A$282","v":0},"7_3"]
[{"$f":"[2]Gr07!$A$283","v":0},"7_3"]
[{"$f":"[2]Gr07!$A$284","v":0},"7_3"]
[{"$f":"[2]Gr07!$A$285","v":0},"7_3"]
[{"$f":"[2]Gr07!$A$286","v":0},"7_3"]
[{"$f":"[2]Gr07!$A$287","v":0},"7_3"]
[{"$f":"[2]Gr07!$A$288","v":0},"7_3"]
[{"$f":"[2]Gr07!$A$289","v":0},"7_3"]
[{"$f":"[2]Gr07!$A$290","v":0},"7_3"]
[{"$f":"[2]Gr07!$A$291","v":0},"7_3"]
[{"$f":"[2]Gr07!$A$292","v":0},"7_3"]
[{"$f":"[2]Gr07!$A$293","v":0},"7_3"]
[{"$f":"[2]Gr07!$A$294","v":0},"7_3"]
[{"$f":"[2]Gr07!$A$295","v":0},"7_3"]
[{"$f":"[2]Gr07!$A$296","v":0},"7_3"]
[{"$f":"[2]Gr07!$A$297","v":0},"7_3"]
[{"$f":"[2]Gr07!$A$298","v":0},"7_3"]
[{"$f":"[2]Gr07!$A$299","v":0},"7_3"]
[{"$f":"[2]Gr07!$A$311","v":0},"7_4"]
[{"$f":"[2]Gr07!$A$312","v":0},"7_4"]
[{"$f":"[2]Gr07!$A$313","v":0},"7_4"]
[{"$f":"[2]Gr07!$A$314","v":0},"7_4"]
[{"$f":"[2]Gr07!$A$315","v":0},"7_4"]
[{"$f":"[2]Gr07!$A$316","v":0},"7_4"]
[{"$f":"[2]Gr07!$A$317","v":0},"7_4"]
[{"$f":"[2]Gr07!$A$318","v":0},"7_4"]
[{"$f":"[2]Gr07!$A$319","v":0},"7_4"]
[{"$f":"[2]Gr07!$A$320","v":0},"7_4"]
[{"$f":"[2]Gr07!$A$321","v":0},"7_4"]
[{"$f":"[2]Gr07!$A$322","v":0},"7_4"]
[{"$f":"[2]Gr07!$A$323","v":0},"7_4"]
[{"$f":"[2]Gr07!$A$324","v":0},"7_4"]
[{"$f":"[2]Gr07!$A$325","v":0},"7_4"]
[{"$f":"[2]Gr07!$A$326","v":0},"7_4"]
[{"$f":"[2]Gr07!$A$327","v":0},"7_4"]
[{"$f":"[2]Gr07!$A$328","v":0},"7_4"]
[{"$f":"[2]Gr07!$A$329","v":0},"7_4"]
[{"$f":"[2]Gr07!$A$330","v":0},"7_4"]
[{"$f":"[2]Gr07!$A$331","v":0},"7_4"]
[{"$f":"[2]Gr07!$A$332","v":0},"7_4"]
[{"$f":"[2]Gr07!$A$333","v":0},"7_4"]
[{"$f":"[2]Gr07!$A$334","v":0},"7_4"]
[{"$f":"[2]Gr07!$A$335","v":0},"7_4"]
[{"$f":"[2]Gr07!$A$336","v":0},"7_4"]
[{"$f":"[2]Gr07!$A$337","v":0},"7_4"]
[{"$f":"[2]Gr07!$A$338","v":0},"7_4"]
[{"$f":"[2]Gr07!$A$339","v":0},"7_4"]
[{"$f":"[2]Gr07!$A$340","v":0},"7_4"]
[{"$f":"[2]Gr07!$A$341","v":0},"7_4"]
[{"$f":"[2]Gr07!$A$342","v":0},"7_4"]
[{"$f":"[2]Gr07!$A$343","v":0},"7_4"]
[{"$f":"[2]Gr07!$A$344","v":0},"7_4"]
[{"$f":"[2]Gr07!$A$345","v":0},"7_4"]
[{"$f":"[2]Gr07!$A$346","v":0},"7_4"]
[{"$f":"[2]Gr07!$A$347","v":0},"7_4"]
[{"$f":"[2]Gr07!$A$348","v":0},"7_4"]
[{"$f":"[2]Gr07!$A$349","v":0},"7_4"]
[{"$f":"[2]Gr07!$A$350","v":0},"7_4"]
[{"$f":"[2]Gr07!$A$351","v":0},"7_4"]
[{"$f":"[2]Gr07!$A$352","v":0},"7_4"]
[{"$f":"[2]Gr07!$A$353","v":0},"7_4"]
[{"$f":"[2]Gr07!$A$354","v":0},"7_4"]
[{"$f":"[2]Gr07!$A$355","v":0},"7_4"]
[{"$f":"[2]Gr07!$A$356","v":0},"7_4"]
[{"$f":"[2]Gr07!$A$357","v":0},"7_4"]
[{"$f":"[2]Gr07!$A$358","v":0},"7_4"]
[{"$f":"[2]Gr07!$A$359","v":0},"7_4"]
[{"$f":"[2]Gr07!$A$360","v":0},"7_4"]
[{"$f":"[2]Gr07!$A$361","v":0},"7_4"]
[{"$f":"[2]Gr07!$A$362","v":0},"7_4"]
[{"$f":"[2]Gr07!$A$363","v":0},"7_4"]
[{"$f":"[2]Gr07!$A$364","v":0},"7_4"]
[{"$f":"[2]Gr07!$A$365","v":0},"7_4"]
[{"$f":"[2]Gr07!$A$366","v":0},"7_4"]
[{"$f":"[2]Gr07!$A$367","v":0},"7_4"]
[{"$f":"[2]Gr07!$A$368","v":0},"7_4"]
[{"$f":"[2]Gr07!$A$369","v":0},"7_4"]
[{"$f":"[2]Gr07!$A$370","v":0},"7_4"]
[{"$f":"[2]Gr07!$A$371","v":0},"7_4"]
[{"$f":"[2]Gr07!$A$372","v":0},"7_4"]
[{"$f":"[2]Gr07!$A$373","v":0},"7_4"]
[{"$f":"[2]Gr07!$A$374","v":0},"7_4"]
[{"$f":"[2]Gr07!$A$375","v":0},"7_4"]
[{"$f":"[2]Gr07!$A$376","v":0},"7_4"]
[{"$f":"[2]Gr07!$A$377","v":0},"7_4"]
[{"$f":"[2]Gr07!$A$378","v":0},"7_4"]
[{"$f":"[2]Gr07!$A$379","v":0},"7_4"]
[{"$f":"[2]Gr07!$A$380","v":0},"7_4"]
[{"$f":"[2]Gr07!$A$381","v":0},"7_4"]
[{"$f":"[2]Gr07!$A$382","v":0},"7_4"]
[{"$f":"[2]Gr07!$A$383","v":0},"7_4"]
[{"$f":"[2]Gr07!$A$384","v":0},"7_4"]
[{"$f":"[2]Gr07!$A$385","v":0},"7_4"]
[{"$f":"[2]Gr07!$A$386","v":0},"7_4"]
[{"$f":"[2]Gr07!$A$387","v":0},"7_4"]
[{"$f":"[2]Gr07!$A$388","v":0},"7_4"]
[{"$f":"[2]Gr07!$A$389","v":0},"7_4"]
[{"$f":"[2]Gr07!$A$390","v":0},"7_4"]
[{"$f":"[2]Gr07!$A$391","v":0},"7_4"]
[{"$f":"[2]Gr07!$A$392","v":0},"7_4"]
[{"$f":"[2]Gr07!$A$393","v":0},"7_4"]
[{"$f":"[2]Gr07!$A$394","v":0},"7_4"]
[{"$f":"[2]Gr07!$A$395","v":0},"7_4"]
[{"$f":"[2]Gr07!$A$396","v":0},"7_4"]
[{"$f":"[2]Gr07!$A$397","v":0},"7_4"]
[{"$f":"[2]Gr07!$A$398","v":0},"7_4"]
[{"$f":"[2]Gr07!$A$399","v":0},"7_4"]
[{"$f":"[2]Gr07!$A$411","v":0},"7_5"]
[{"$f":"[2]Gr07!$A$412","v":0},"7_5"]
[{"$f":"[2]Gr07!$A$413","v":0},"7_5"]
[{"$f":"[2]Gr07!$A$414","v":0},"7_5"]
[{"$f":"[2]Gr07!$A$415","v":0},"7_5"]
[{"$f":"[2]Gr07!$A$416","v":0},"7_5"]
[{"$f":"[2]Gr07!$A$417","v":0},"7_5"]
[{"$f":"[2]Gr07!$A$418","v":0},"7_5"]
[{"$f":"[2]Gr07!$A$419","v":0},"7_5"]
[{"$f":"[2]Gr07!$A$420","v":0},"7_5"]
[{"$f":"[2]Gr07!$A$421","v":0},"7_5"]
[{"$f":"[2]Gr07!$A$422","v":0},"7_5"]
[{"$f":"[2]Gr07!$A$423","v":0},"7_5"]
[{"$f":"[2]Gr07!$A$424","v":0},"7_5"]
[{"$f":"[2]Gr07!$A$425","v":0},"7_5"]
[{"$f":"[2]Gr07!$A$426","v":0},"7_5"]
[{"$f":"[2]Gr07!$A$427","v":0},"7_5"]
[{"$f":"[2]Gr07!$A$428","v":0},"7_5"]
[{"$f":"[2]Gr07!$A$429","v":0},"7_5"]
[{"$f":"[2]Gr07!$A$430","v":0},"7_5"]
[{"$f":"[2]Gr07!$A$431","v":0},"7_5"]
[{"$f":"[2]Gr07!$A$432","v":0},"7_5"]
[{"$f":"[2]Gr07!$A$433","v":0},"7_5"]
[{"$f":"[2]Gr07!$A$434","v":0},"7_5"]
[{"$f":"[2]Gr07!$A$435","v":0},"7_5"]
[{"$f":"[2]Gr07!$A$436","v":0},"7_5"]
[{"$f":"[2]Gr07!$A$437","v":0},"7_5"]
[{"$f":"[2]Gr07!$A$438","v":0},"7_5"]
[{"$f":"[2]Gr07!$A$439","v":0},"7_5"]
[{"$f":"[2]Gr07!$A$440","v":0},"7_5"]
[{"$f":"[2]Gr07!$A$441","v":0},"7_5"]
[{"$f":"[2]Gr07!$A$442","v":0},"7_5"]
[{"$f":"[2]Gr07!$A$443","v":0},"7_5"]
[{"$f":"[2]Gr07!$A$444","v":0},"7_5"]
[{"$f":"[2]Gr07!$A$445","v":0},"7_5"]
[{"$f":"[2]Gr07!$A$446","v":0},"7_5"]
[{"$f":"[2]Gr07!$A$447","v":0},"7_5"]
[{"$f":"[2]Gr07!$A$448","v":0},"7_5"]
[{"$f":"[2]Gr07!$A$449","v":0},"7_5"]
[{"$f":"[2]Gr07!$A$450","v":0},"7_5"]
[{"$f":"[2]Gr07!$A$451","v":0},"7_5"]
[{"$f":"[2]Gr07!$A$452","v":0},"7_5"]
[{"$f":"[2]Gr07!$A$453","v":0},"7_5"]
[{"$f":"[2]Gr07!$A$454","v":0},"7_5"]
[{"$f":"[2]Gr07!$A$455","v":0},"7_5"]
[{"$f":"[2]Gr07!$A$456","v":0},"7_5"]
[{"$f":"[2]Gr07!$A$457","v":0},"7_5"]
[{"$f":"[2]Gr07!$A$458","v":0},"7_5"]
[{"$f":"[2]Gr07!$A$459","v":0},"7_5"]
[{"$f":"[2]Gr07!$A$460","v":0},"7_5"]
[{"$f":"[2]Gr07!$A$461","v":0},"7_5"]
[{"$f":"[2]Gr07!$A$462","v":0},"7_5"]
[{"$f":"[2]Gr07!$A$463","v":0},"7_5"]
[{"$f":"[2]Gr07!$A$464","v":0},"7_5"]
[{"$f":"[2]Gr07!$A$465","v":0},"7_5"]
[{"$f":"[2]Gr07!$A$466","v":0},"7_5"]
[{"$f":"[2]Gr07!$A$467","v":0},"7_5"]
[{"$f":"[2]Gr07!$A$468","v":0},"7_5"]
[{"$f":"[2]Gr07!$A$469","v":0},"7_5"]
[{"$f":"[2]Gr07!$A$470","v":0},"7_5"]
[{"$f":"[2]Gr07!$A$471","v":0},"7_5"]
[{"$f":"[2]Gr07!$A$472","v":0},"7_5"]
[{"$f":"[2]Gr07!$A$473","v":0},"7_5"]
[{"$f":"[2]Gr07!$A$474","v":0},"7_5"]
[{"$f":"[2]Gr07!$A$475","v":0},"7_5"]
[{"$f":"[2]Gr07!$A$476","v":0},"7_5"]
[{"$f":"[2]Gr07!$A$477","v":0},"7_5"]
[{"$f":"[2]Gr07!$A$478","v":0},"7_5"]
[{"$f":"[2]Gr07!$A$479","v":0},"7_5"]
[{"$f":"[2]Gr07!$A$480","v":0},"7_5"]
[{"$f":"[2]Gr07!$A$481","v":0},"7_5"]
[{"$f":"[2]Gr07!$A$482","v":0},"7_5"]
[{"$f":"[2]Gr07!$A$483","v":0},"7_5"]
[{"$f":"[2]Gr07!$A$484","v":0},"7_5"]
[{"$f":"[2]Gr07!$A$485","v":0},"7_5"]
[{"$f":"[2]Gr07!$A$486","v":0},"7_5"]
[{"$f":"[2]Gr07!$A$487","v":0},"7_5"]
[{"$f":"[2]Gr07!$A$488","v":0},"7_5"]
[{"$f":"[2]Gr07!$A$489","v":0},"7_5"]
[{"$f":"[2]Gr07!$A$490","v":0},"7_5"]
[{"$f":"[2]Gr07!$A$491","v":0},"7_5"]
[{"$f":"[2]Gr07!$A$492","v":0},"7_5"]
[{"$f":"[2]Gr07!$A$493","v":0},"7_5"]
[{"$f":"[2]Gr07!$A$494","v":0},"7_5"]
[{"$f":"[2]Gr07!$A$495","v":0},"7_5"]
[{"$f":"[2]Gr07!$A$496","v":0},"7_5"]
[{"$f":"[2]Gr07!$A$497","v":0},"7_5"]
[{"$f":"[2]Gr07!$A$498","v":0},"7_5"]
[{"$f":"[2]Gr07!$A$499","v":0},"7_5"]
[{"$f":"[2]Gr07!$A$511","v":0},"7_6"]
[{"$f":"[2]Gr07!$A$512","v":0},"7_6"]
[{"$f":"[2]Gr07!$A$513","v":0},"7_6"]
[{"$f":"[2]Gr07!$A$514","v":0},"7_6"]
[{"$f":"[2]Gr07!$A$515","v":0},"7_6"]
[{"$f":"[2]Gr07!$A$516","v":0},"7_6"]
[{"$f":"[2]Gr07!$A$517","v":0},"7_6"]
[{"$f":"[2]Gr07!$A$518","v":0},"7_6"]
[{"$f":"[2]Gr07!$A$519","v":0},"7_6"]
[{"$f":"[2]Gr07!$A$520","v":0},"7_6"]
[{"$f":"[2]Gr07!$A$521","v":0},"7_6"]
[{"$f":"[2]Gr07!$A$522","v":0},"7_6"]
[{"$f":"[2]Gr07!$A$523","v":0},"7_6"]
[{"$f":"[2]Gr07!$A$524","v":0},"7_6"]
[{"$f":"[2]Gr07!$A$525","v":0},"7_6"]
[{"$f":"[2]Gr07!$A$526","v":0},"7_6"]
[{"$f":"[2]Gr07!$A$527","v":0},"7_6"]
[{"$f":"[2]Gr07!$A$528","v":0},"7_6"]
[{"$f":"[2]Gr07!$A$529","v":0},"7_6"]
[{"$f":"[2]Gr07!$A$530","v":0},"7_6"]
[{"$f":"[2]Gr07!$A$531","v":0},"7_6"]
[{"$f":"[2]Gr07!$A$532","v":0},"7_6"]
[{"$f":"[2]Gr07!$A$533","v":0},"7_6"]
[{"$f":"[2]Gr07!$A$534","v":0},"7_6"]
[{"$f":"[2]Gr07!$A$535","v":0},"7_6"]
[{"$f":"[2]Gr07!$A$536","v":0},"7_6"]
[{"$f":"[2]Gr07!$A$537","v":0},"7_6"]
[{"$f":"[2]Gr07!$A$538","v":0},"7_6"]
[{"$f":"[2]Gr07!$A$539","v":0},"7_6"]
[{"$f":"[2]Gr07!$A$540","v":0},"7_6"]
[{"$f":"[2]Gr07!$A$541","v":0},"7_6"]
[{"$f":"[2]Gr07!$A$542","v":0},"7_6"]
[{"$f":"[2]Gr07!$A$543","v":0},"7_6"]
[{"$f":"[2]Gr07!$A$544","v":0},"7_6"]
[{"$f":"[2]Gr07!$A$545","v":0},"7_6"]
[{"$f":"[2]Gr07!$A$546","v":0},"7_6"]
[{"$f":"[2]Gr07!$A$547","v":0},"7_6"]
[{"$f":"[2]Gr07!$A$548","v":0},"7_6"]
[{"$f":"[2]Gr07!$A$549","v":0},"7_6"]
[{"$f":"[2]Gr07!$A$550","v":0},"7_6"]
[{"$f":"[2]Gr07!$A$551","v":0},"7_6"]
[{"$f":"[2]Gr07!$A$552","v":0},"7_6"]
[{"$f":"[2]Gr07!$A$553","v":0},"7_6"]
[{"$f":"[2]Gr07!$A$554","v":0},"7_6"]
[{"$f":"[2]Gr07!$A$555","v":0},"7_6"]
[{"$f":"[2]Gr07!$A$556","v":0},"7_6"]
[{"$f":"[2]Gr07!$A$557","v":0},"7_6"]
[{"$f":"[2]Gr07!$A$558","v":0},"7_6"]
[{"$f":"[2]Gr07!$A$559","v":0},"7_6"]
[{"$f":"[2]Gr07!$A$560","v":0},"7_6"]
[{"$f":"[2]Gr07!$A$561","v":0},"7_6"]
[{"$f":"[2]Gr07!$A$562","v":0},"7_6"]
[{"$f":"[2]Gr07!$A$563","v":0},"7_6"]
[{"$f":"[2]Gr07!$A$564","v":0},"7_6"]
[{"$f":"[2]Gr07!$A$565","v":0},"7_6"]
[{"$f":"[2]Gr07!$A$566","v":0},"7_6"]
[{"$f":"[2]Gr07!$A$567","v":0},"7_6"]
[{"$f":"[2]Gr07!$A$568","v":0},"7_6"]
[{"$f":"[2]Gr07!$A$569","v":0},"7_6"]
[{"$f":"[2]Gr07!$A$570","v":0},"7_6"]
[{"$f":"[2]Gr07!$A$571","v":0},"7_6"]
[{"$f":"[2]Gr07!$A$572","v":0},"7_6"]
[{"$f":"[2]Gr07!$A$573","v":0},"7_6"]
[{"$f":"[2]Gr07!$A$574","v":0},"7_6"]
[{"$f":"[2]Gr07!$A$575","v":0},"7_6"]
[{"$f":"[2]Gr07!$A$576","v":0},"7_6"]
[{"$f":"[2]Gr07!$A$577","v":0},"7_6"]
[{"$f":"[2]Gr07!$A$578","v":0},"7_6"]
[{"$f":"[2]Gr07!$A$579","v":0},"7_6"]
[{"$f":"[2]Gr07!$A$580","v":0},"7_6"]
[{"$f":"[2]Gr07!$A$581","v":0},"7_6"]
[{"$f":"[2]Gr07!$A$582","v":0},"7_6"]
[{"$f":"[2]Gr07!$A$583","v":0},"7_6"]
[{"$f":"[2]Gr07!$A$584","v":0},"7_6"]
[{"$f":"[2]Gr07!$A$585","v":0},"7_6"]
[{"$f":"[2]Gr07!$A$586","v":0},"7_6"]
[{"$f":"[2]Gr07!$A$587","v":0},"7_6"]
[{"$f":"[2]Gr07!$A$588","v":0},"7_6"]
[{"$f":"[2]Gr07!$A$589","v":0},"7_6"]
[{"$f":"[2]Gr07!$A$590","v":0},"7_6"]
[{"$f":"[2]Gr07!$A$591","v":0},"7_6"]
[{"$f":"[2]Gr07!$A$592","v":0},"7_6"]
[{"$f":"[2]Gr07!$A$593","v":0},"7_6"]
[{"$f":"[2]Gr07!$A$594","v":0},"7_6"]
[{"$f":"[2]Gr07!$A$595","v":0},"7_6"]
[{"$f":"[2]Gr07!$A$596","v":0},"7_6"]
[{"$f":"[2]Gr07!$A$597","v":0},"7_6"]
[{"$f":"[2]Gr07!$A$598","v":0},"7_6"]
[{"$f":"[2]Gr07!$A$599","v":0},"7_6"]
[{"$f":"[2]Gr08!$A$11","v":254},"8_1"]
[{"$f":"[2]Gr08!$A$12","v":0},"8_1"]
[{"$f":"[2]Gr08!$A$13","v":0},"8_1"]
[{"$f":"[2]Gr08!$A$14","v":0},"8_1"]
[{"$f":"[2]Gr08!$A$15","v":0},"8_1"]
[{"$f":"[2]Gr08!$A$16","v":0},"8_1"]
[{"$f":"[2]Gr08!$A$17","v":0},"8_1"]
[{"$f":"[2]Gr08!$A$18","v":0},"8_1"]
[{"$f":"[2]Gr08!$A$19","v":0},"8_1"]
[{"$f":"[2]Gr08!$A$20","v":0},"8_1"]
[{"$f":"[2]Gr08!$A$21","v":0},"8_1"]
[{"$f":"[2]Gr08!$A$22","v":0},"8_1"]
[{"$f":"[2]Gr08!$A$23","v":0},"8_1"]
[{"$f":"[2]Gr08!$A$24","v":0},"8_1"]
[{"$f":"[2]Gr08!$A$25","v":0},"8_1"]
[{"$f":"[2]Gr08!$A$26","v":0},"8_1"]
[{"$f":"[2]Gr08!$A$27","v":0},"8_1"]
[{"$f":"[2]Gr08!$A$28","v":0},"8_1"]
[{"$f":"[2]Gr08!$A$29","v":0},"8_1"]
[{"$f":"[2]Gr08!$A$30","v":0},"8_1"]
[{"$f":"[2]Gr08!$A$31","v":0},"8_1"]
[{"$f":"[2]Gr08!$A$32","v":0},"8_1"]
[{"$f":"[2]Gr08!$A$33","v":0},"8_1"]
[{"$f":"[2]Gr08!$A$34","v":0},"8_1"]
[{"$f":"[2]Gr08!$A$35","v":0},"8_1"]
[{"$f":"[2]Gr08!$A$36","v":0},"8_1"]
[{"$f":"[2]Gr08!$A$37","v":0},"8_1"]
[{"$f":"[2]Gr08!$A$38","v":0},"8_1"]
[{"$f":"[2]Gr08!$A$39","v":0},"8_1"]
[{"$f":"[2]Gr08!$A$40","v":0},"8_1"]
[{"$f":"[2]Gr08!$A$41","v":0},"8_1"]
[{"$f":"[2]Gr08!$A$42","v":0},"8_1"]
[{"$f":"[2]Gr08!$A$43","v":0},"8_1"]
[{"$f":"[2]Gr08!$A$44","v":0},"8_1"]
[{"$f":"[2]Gr08!$A$45","v":0},"8_1"]
[{"$f":"[2]Gr08!$A$46","v":0},"8_1"]
[{"$f":"[2]Gr08!$A$47","v":0},"8_1"]
[{"$f":"[2]Gr08!$A$48","v":0},"8_1"]
[{"$f":"[2]Gr08!$A$49","v":0},"8_1"]
[{"$f":"[2]Gr08!$A$50","v":0},"8_1"]
[{"$f":"[2]Gr08!$A$51","v":0},"8_1"]
[{"$f":"[2]Gr08!$A$52","v":0},"8_1"]
[{"$f":"[2]Gr08!$A$53","v":0},"8_1"]
[{"$f":"[2]Gr08!$A$54","v":0},"8_1"]
[{"$f":"[2]Gr08!$A$55","v":0},"8_1"]
[{"$f":"[2]Gr08!$A$56","v":0},"8_1"]
[{"$f":"[2]Gr08!$A$57","v":0},"8_1"]
[{"$f":"[2]Gr08!$A$58","v":0},"8_1"]
[{"$f":"[2]Gr08!$A$59","v":0},"8_1"]
[{"$f":"[2]Gr08!$A$60","v":0},"8_1"]
[{"$f":"[2]Gr08!$A$61","v":0},"8_1"]
[{"$f":"[2]Gr08!$A$62","v":0},"8_1"]
[{"$f":"[2]Gr08!$A$63","v":0},"8_1"]
[{"$f":"[2]Gr08!$A$64","v":0},"8_1"]
[{"$f":"[2]Gr08!$A$65","v":0},"8_1"]
[{"$f":"[2]Gr08!$A$66","v":0},"8_1"]
[{"$f":"[2]Gr08!$A$67","v":0},"8_1"]
[{"$f":"[2]Gr08!$A$68","v":0},"8_1"]
[{"$f":"[2]Gr08!$A$69","v":0},"8_1"]
[{"$f":"[2]Gr08!$A$70","v":0},"8_1"]
[{"$f":"[2]Gr08!$A$71","v":0},"8_1"]
[{"$f":"[2]Gr08!$A$72","v":0},"8_1"]
[{"$f":"[2]Gr08!$A$73","v":0},"8_1"]
[{"$f":"[2]Gr08!$A$74","v":0},"8_1"]
[{"$f":"[2]Gr08!$A$75","v":0},"8_1"]
[{"$f":"[2]Gr08!$A$76","v":0},"8_1"]
[{"$f":"[2]Gr08!$A$77","v":0},"8_1"]
[{"$f":"[2]Gr08!$A$78","v":0},"8_1"]
[{"$f":"[2]Gr08!$A$79","v":0},"8_1"]
[{"$f":"[2]Gr08!$A$80","v":0},"8_1"]
[{"$f":"[2]Gr08!$A$81","v":0},"8_1"]
[{"$f":"[2]Gr08!$A$82","v":0},"8_1"]
[{"$f":"[2]Gr08!$A$83","v":0},"8_1"]
[{"$f":"[2]Gr08!$A$84","v":0},"8_1"]
[{"$f":"[2]Gr08!$A$85","v":0},"8_1"]
[{"$f":"[2]Gr08!$A$86","v":0},"8_1"]
[{"$f":"[2]Gr08!$A$87","v":0},"8_1"]
[{"$f":"[2]Gr08!$A$88","v":0},"8_1"]
[{"$f":"[2]Gr08!$A$89","v":0},"8_1"]
[{"$f":"[2]Gr08!$A$90","v":0},"8_1"]
[{"$f":"[2]Gr08!$A$91","v":0},"8_1"]
[{"$f":"[2]Gr08!$A$92","v":0},"8_1"]
[{"$f":"[2]Gr08!$A$93","v":0},"8_1"]
[{"$f":"[2]Gr08!$A$94","v":0},"8_1"]
[{"$f":"[2]Gr08!$A$95","v":0},"8_1"]
[{"$f":"[2]Gr08!$A$96","v":0},"8_1"]
[{"$f":"[2]Gr08!$A$97","v":0},"8_1"]
[{"$f":"[2]Gr08!$A$98","v":0},"8_1"]
[{"$f":"[2]Gr08!$A$99","v":0},"8_1"]
[{"$f":"[2]Gr08!$A$111","v":0},"8_2"]
[{"$f":"[2]Gr08!$A$112","v":0},"8_2"]
[{"$f":"[2]Gr08!$A$113","v":0},"8_2"]
[{"$f":"[2]Gr08!$A$114","v":0},"8_2"]
[{"$f":"[2]Gr08!$A$115","v":0},"8_2"]
[{"$f":"[2]Gr08!$A$116","v":0},"8_2"]
[{"$f":"[2]Gr08!$A$117","v":0},"8_2"]
[{"$f":"[2]Gr08!$A$118","v":0},"8_2"]
[{"$f":"[2]Gr08!$A$119","v":0},"8_2"]
[{"$f":"[2]Gr08!$A$120","v":0},"8_2"]
[{"$f":"[2]Gr08!$A$121","v":0},"8_2"]
[{"$f":"[2]Gr08!$A$122","v":0},"8_2"]
[{"$f":"[2]Gr08!$A$123","v":0},"8_2"]
[{"$f":"[2]Gr08!$A$124","v":0},"8_2"]
[{"$f":"[2]Gr08!$A$125","v":0},"8_2"]
[{"$f":"[2]Gr08!$A$126","v":0},"8_2"]
[{"$f":"[2]Gr08!$A$127","v":0},"8_2"]
[{"$f":"[2]Gr08!$A$128","v":0},"8_2"]
[{"$f":"[2]Gr08!$A$129","v":0},"8_2"]
[{"$f":"[2]Gr08!$A$130","v":0},"8_2"]
[{"$f":"[2]Gr08!$A$131","v":0},"8_2"]
[{"$f":"[2]Gr08!$A$132","v":0},"8_2"]
[{"$f":"[2]Gr08!$A$133","v":0},"8_2"]
[{"$f":"[2]Gr08!$A$134","v":0},"8_2"]
[{"$f":"[2]Gr08!$A$135","v":0},"8_2"]
[{"$f":"[2]Gr08!$A$136","v":0},"8_2"]
[{"$f":"[2]Gr08!$A$137","v":0},"8_2"]
[{"$f":"[2]Gr08!$A$138","v":0},"8_2"]
[{"$f":"[2]Gr08!$A$139","v":0},"8_2"]
[{"$f":"[2]Gr08!$A$140","v":0},"8_2"]
[{"$f":"[2]Gr08!$A$141","v":0},"8_2"]
[{"$f":"[2]Gr08!$A$142","v":0},"8_2"]
[{"$f":"[2]Gr08!$A$143","v":0},"8_2"]
[{"$f":"[2]Gr08!$A$144","v":0},"8_2"]
[{"$f":"[2]Gr08!$A$145","v":0},"8_2"]
[{"$f":"[2]Gr08!$A$146","v":0},"8_2"]
[{"$f":"[2]Gr08!$A$147","v":0},"8_2"]
[{"$f":"[2]Gr08!$A$148","v":0},"8_2"]
[{"$f":"[2]Gr08!$A$149","v":0},"8_2"]
[{"$f":"[2]Gr08!$A$150","v":0},"8_2"]
[{"$f":"[2]Gr08!$A$151","v":0},"8_2"]
[{"$f":"[2]Gr08!$A$152","v":0},"8_2"]
[{"$f":"[2]Gr08!$A$153","v":0},"8_2"]
[{"$f":"[2]Gr08!$A$154","v":0},"8_2"]
[{"$f":"[2]Gr08!$A$155","v":0},"8_2"]
[{"$f":"[2]Gr08!$A$156","v":0},"8_2"]
[{"$f":"[2]Gr08!$A$157","v":0},"8_2"]
[{"$f":"[2]Gr08!$A$158","v":0},"8_2"]
[{"$f":"[2]Gr08!$A$159","v":0},"8_2"]
[{"$f":"[2]Gr08!$A$160","v":0},"8_2"]
[{"$f":"[2]Gr08!$A$161","v":0},"8_2"]
[{"$f":"[2]Gr08!$A$162","v":0},"8_2"]
[{"$f":"[2]Gr08!$A$163","v":0},"8_2"]
[{"$f":"[2]Gr08!$A$164","v":0},"8_2"]
[{"$f":"[2]Gr08!$A$165","v":0},"8_2"]
[{"$f":"[2]Gr08!$A$166","v":0},"8_2"]
[{"$f":"[2]Gr08!$A$167","v":0},"8_2"]
[{"$f":"[2]Gr08!$A$168","v":0},"8_2"]
[{"$f":"[2]Gr08!$A$169","v":0},"8_2"]
[{"$f":"[2]Gr08!$A$170","v":0},"8_2"]
[{"$f":"[2]Gr08!$A$171","v":0},"8_2"]
[{"$f":"[2]Gr08!$A$172","v":0},"8_2"]
[{"$f":"[2]Gr08!$A$173","v":0},"8_2"]
[{"$f":"[2]Gr08!$A$174","v":0},"8_2"]
[{"$f":"[2]Gr08!$A$175","v":0},"8_2"]
[{"$f":"[2]Gr08!$A$176","v":0},"8_2"]
[{"$f":"[2]Gr08!$A$177","v":0},"8_2"]
[{"$f":"[2]Gr08!$A$178","v":0},"8_2"]
[{"$f":"[2]Gr08!$A$179","v":0},"8_2"]
[{"$f":"[2]Gr08!$A$180","v":0},"8_2"]
[{"$f":"[2]Gr08!$A$181","v":0},"8_2"]
[{"$f":"[2]Gr08!$A$182","v":0},"8_2"]
[{"$f":"[2]Gr08!$A$183","v":0},"8_2"]
[{"$f":"[2]Gr08!$A$184","v":0},"8_2"]
[{"$f":"[2]Gr08!$A$185","v":0},"8_2"]
[{"$f":"[2]Gr08!$A$186","v":0},"8_2"]
[{"$f":"[2]Gr08!$A$187","v":0},"8_2"]
[{"$f":"[2]Gr08!$A$188","v":0},"8_2"]
[{"$f":"[2]Gr08!$A$189","v":0},"8_2"]
[{"$f":"[2]Gr08!$A$190","v":0},"8_2"]
[{"$f":"[2]Gr08!$A$191","v":0},"8_2"]
[{"$f":"[2]Gr08!$A$192","v":0},"8_2"]
[{"$f":"[2]Gr08!$A$193","v":0},"8_2"]
[{"$f":"[2]Gr08!$A$194","v":0},"8_2"]
[{"$f":"[2]Gr08!$A$195","v":0},"8_2"]
[{"$f":"[2]Gr08!$A$196","v":0},"8_2"]
[{"$f":"[2]Gr08!$A$197","v":0},"8_2"]
[{"$f":"[2]Gr08!$A$198","v":0},"8_2"]
[{"$f":"[2]Gr08!$A$199","v":0},"8_2"]
[{"$f":"[2]Gr08!$A$211","v":0},"8_3"]
[{"$f":"[2]Gr08!$A$212","v":0},"8_3"]
[{"$f":"[2]Gr08!$A$213","v":0},"8_3"]
[{"$f":"[2]Gr08!$A$214","v":0},"8_3"]
[{"$f":"[2]Gr08!$A$215","v":0},"8_3"]
[{"$f":"[2]Gr08!$A$216","v":0},"8_3"]
[{"$f":"[2]Gr08!$A$217","v":0},"8_3"]
[{"$f":"[2]Gr08!$A$218","v":0},"8_3"]
[{"$f":"[2]Gr08!$A$219","v":0},"8_3"]
[{"$f":"[2]Gr08!$A$220","v":0},"8_3"]
[{"$f":"[2]Gr08!$A$221","v":0},"8_3"]
[{"$f":"[2]Gr08!$A$222","v":0},"8_3"]
[{"$f":"[2]Gr08!$A$223","v":0},"8_3"]
[{"$f":"[2]Gr08!$A$224","v":0},"8_3"]
[{"$f":"[2]Gr08!$A$225","v":0},"8_3"]
[{"$f":"[2]Gr08!$A$226","v":0},"8_3"]
[{"$f":"[2]Gr08!$A$227","v":0},"8_3"]
[{"$f":"[2]Gr08!$A$228","v":0},"8_3"]
[{"$f":"[2]Gr08!$A$229","v":0},"8_3"]
[{"$f":"[2]Gr08!$A$230","v":0},"8_3"]
[{"$f":"[2]Gr08!$A$231","v":0},"8_3"]
[{"$f":"[2]Gr08!$A$232","v":0},"8_3"]
[{"$f":"[2]Gr08!$A$233","v":0},"8_3"]
[{"$f":"[2]Gr08!$A$234","v":0},"8_3"]
[{"$f":"[2]Gr08!$A$235","v":0},"8_3"]
[{"$f":"[2]Gr08!$A$236","v":0},"8_3"]
[{"$f":"[2]Gr08!$A$237","v":0},"8_3"]
[{"$f":"[2]Gr08!$A$238","v":0},"8_3"]
[{"$f":"[2]Gr08!$A$239","v":0},"8_3"]
[{"$f":"[2]Gr08!$A$240","v":0},"8_3"]
[{"$f":"[2]Gr08!$A$241","v":0},"8_3"]
[{"$f":"[2]Gr08!$A$242","v":0},"8_3"]
[{"$f":"[2]Gr08!$A$243","v":0},"8_3"]
[{"$f":"[2]Gr08!$A$244","v":0},"8_3"]
[{"$f":"[2]Gr08!$A$245","v":0},"8_3"]
[{"$f":"[2]Gr08!$A$246","v":0},"8_3"]
[{"$f":"[2]Gr08!$A$247","v":0},"8_3"]
[{"$f":"[2]Gr08!$A$248","v":0},"8_3"]
[{"$f":"[2]Gr08!$A$249","v":0},"8_3"]
[{"$f":"[2]Gr08!$A$250","v":0},"8_3"]
[{"$f":"[2]Gr08!$A$251","v":0},"8_3"]
[{"$f":"[2]Gr08!$A$252","v":0},"8_3"]
[{"$f":"[2]Gr08!$A$253","v":0},"8_3"]
[{"$f":"[2]Gr08!$A$254","v":0},"8_3"]
[{"$f":"[2]Gr08!$A$255","v":0},"8_3"]
[{"$f":"[2]Gr08!$A$256","v":0},"8_3"]
[{"$f":"[2]Gr08!$A$257","v":0},"8_3"]
[{"$f":"[2]Gr08!$A$258","v":0},"8_3"]
[{"$f":"[2]Gr08!$A$259","v":0},"8_3"]
[{"$f":"[2]Gr08!$A$260","v":0},"8_3"]
[{"$f":"[2]Gr08!$A$261","v":0},"8_3"]
[{"$f":"[2]Gr08!$A$262","v":0},"8_3"]
[{"$f":"[2]Gr08!$A$263","v":0},"8_3"]
[{"$f":"[2]Gr08!$A$264","v":0},"8_3"]
[{"$f":"[2]Gr08!$A$265","v":0},"8_3"]
[{"$f":"[2]Gr08!$A$266","v":0},"8_3"]
[{"$f":"[2]Gr08!$A$267","v":0},"8_3"]
[{"$f":"[2]Gr08!$A$268","v":0},"8_3"]
[{"$f":"[2]Gr08!$A$269","v":0},"8_3"]
[{"$f":"[2]Gr08!$A$270","v":0},"8_3"]
[{"$f":"[2]Gr08!$A$271","v":0},"8_3"]
[{"$f":"[2]Gr08!$A$272","v":0},"8_3"]
[{"$f":"[2]Gr08!$A$273","v":0},"8_3"]
[{"$f":"[2]Gr08!$A$274","v":0},"8_3"]
[{"$f":"[2]Gr08!$A$275","v":0},"8_3"]
[{"$f":"[2]Gr08!$A$276","v":0},"8_3"]
[{"$f":"[2]Gr08!$A$277","v":0},"8_3"]
[{"$f":"[2]Gr08!$A$278","v":0},"8_3"]
[{"$f":"[2]Gr08!$A$279","v":0},"8_3"]
[{"$f":"[2]Gr08!$A$280","v":0},"8_3"]
[{"$f":"[2]Gr08!$A$281","v":0},"8_3"]
[{"$f":"[2]Gr08!$A$282","v":0},"8_3"]
[{"$f":"[2]Gr08!$A$283","v":0},"8_3"]
[{"$f":"[2]Gr08!$A$284","v":0},"8_3"]
[{"$f":"[2]Gr08!$A$285","v":0},"8_3"]
[{"$f":"[2]Gr08!$A$286","v":0},"8_3"]
[{"$f":"[2]Gr08!$A$287","v":0},"8_3"]
[{"$f":"[2]Gr08!$A$288","v":0},"8_3"]
[{"$f":"[2]Gr08!$A$289","v":0},"8_3"]
[{"$f":"[2]Gr08!$A$290","v":0},"8_3"]
[{"$f":"[2]Gr08!$A$291","v":0},"8_3"]
[{"$f":"[2]Gr08!$A$292","v":0},"8_3"]
[{"$f":"[2]Gr08!$A$293","v":0},"8_3"]
[{"$f":"[2]Gr08!$A$294","v":0},"8_3"]
[{"$f":"[2]Gr08!$A$295","v":0},"8_3"]
[{"$f":"[2]Gr08!$A$296","v":0},"8_3"]
[{"$f":"[2]Gr08!$A$297","v":0},"8_3"]
[{"$f":"[2]Gr08!$A$298","v":0},"8_3"]
[{"$f":"[2]Gr08!$A$299","v":0},"8_3"]
[{"$f":"[2]Gr08!$A$311","v":0},"8_4"]
[{"$f":"[2]Gr08!$A$312","v":0},"8_4"]
[{"$f":"[2]Gr08!$A$313","v":0},"8_4"]
[{"$f":"[2]Gr08!$A$314","v":0},"8_4"]
[{"$f":"[2]Gr08!$A$315","v":0},"8_4"]
[{"$f":"[2]Gr08!$A$316","v":0},"8_4"]
[{"$f":"[2]Gr08!$A$317","v":0},"8_4"]
[{"$f":"[2]Gr08!$A$318","v":0},"8_4"]
[{"$f":"[2]Gr08!$A$319","v":0},"8_4"]
[{"$f":"[2]Gr08!$A$320","v":0},"8_4"]
[{"$f":"[2]Gr08!$A$321","v":0},"8_4"]
[{"$f":"[2]Gr08!$A$322","v":0},"8_4"]
[{"$f":"[2]Gr08!$A$323","v":0},"8_4"]
[{"$f":"[2]Gr08!$A$324","v":0},"8_4"]
[{"$f":"[2]Gr08!$A$325","v":0},"8_4"]
[{"$f":"[2]Gr08!$A$326","v":0},"8_4"]
[{"$f":"[2]Gr08!$A$327","v":0},"8_4"]
[{"$f":"[2]Gr08!$A$328","v":0},"8_4"]
[{"$f":"[2]Gr08!$A$329","v":0},"8_4"]
[{"$f":"[2]Gr08!$A$330","v":0},"8_4"]
[{"$f":"[2]Gr08!$A$331","v":0},"8_4"]
[{"$f":"[2]Gr08!$A$332","v":0},"8_4"]
[{"$f":"[2]Gr08!$A$333","v":0},"8_4"]
[{"$f":"[2]Gr08!$A$334","v":0},"8_4"]
[{"$f":"[2]Gr08!$A$335","v":0},"8_4"]
[{"$f":"[2]Gr08!$A$336","v":0},"8_4"]
[{"$f":"[2]Gr08!$A$337","v":0},"8_4"]
[{"$f":"[2]Gr08!$A$338","v":0},"8_4"]
[{"$f":"[2]Gr08!$A$339","v":0},"8_4"]
[{"$f":"[2]Gr08!$A$340","v":0},"8_4"]
[{"$f":"[2]Gr08!$A$341","v":0},"8_4"]
[{"$f":"[2]Gr08!$A$342","v":0},"8_4"]
[{"$f":"[2]Gr08!$A$343","v":0},"8_4"]
[{"$f":"[2]Gr08!$A$344","v":0},"8_4"]
[{"$f":"[2]Gr08!$A$345","v":0},"8_4"]
[{"$f":"[2]Gr08!$A$346","v":0},"8_4"]
[{"$f":"[2]Gr08!$A$347","v":0},"8_4"]
[{"$f":"[2]Gr08!$A$348","v":0},"8_4"]
[{"$f":"[2]Gr08!$A$349","v":0},"8_4"]
[{"$f":"[2]Gr08!$A$350","v":0},"8_4"]
[{"$f":"[2]Gr08!$A$351","v":0},"8_4"]
[{"$f":"[2]Gr08!$A$352","v":0},"8_4"]
[{"$f":"[2]Gr08!$A$353","v":0},"8_4"]
[{"$f":"[2]Gr08!$A$354","v":0},"8_4"]
[{"$f":"[2]Gr08!$A$355","v":0},"8_4"]
[{"$f":"[2]Gr08!$A$356","v":0},"8_4"]
[{"$f":"[2]Gr08!$A$357","v":0},"8_4"]
[{"$f":"[2]Gr08!$A$358","v":0},"8_4"]
[{"$f":"[2]Gr08!$A$359","v":0},"8_4"]
[{"$f":"[2]Gr08!$A$360","v":0},"8_4"]
[{"$f":"[2]Gr08!$A$361","v":0},"8_4"]
[{"$f":"[2]Gr08!$A$362","v":0},"8_4"]
[{"$f":"[2]Gr08!$A$363","v":0},"8_4"]
[{"$f":"[2]Gr08!$A$364","v":0},"8_4"]
[{"$f":"[2]Gr08!$A$365","v":0},"8_4"]
[{"$f":"[2]Gr08!$A$366","v":0},"8_4"]
[{"$f":"[2]Gr08!$A$367","v":0},"8_4"]
[{"$f":"[2]Gr08!$A$368","v":0},"8_4"]
[{"$f":"[2]Gr08!$A$369","v":0},"8_4"]
[{"$f":"[2]Gr08!$A$370","v":0},"8_4"]
[{"$f":"[2]Gr08!$A$371","v":0},"8_4"]
[{"$f":"[2]Gr08!$A$372","v":0},"8_4"]
[{"$f":"[2]Gr08!$A$373","v":0},"8_4"]
[{"$f":"[2]Gr08!$A$374","v":0},"8_4"]
[{"$f":"[2]Gr08!$A$375","v":0},"8_4"]
[{"$f":"[2]Gr08!$A$376","v":0},"8_4"]
[{"$f":"[2]Gr08!$A$377","v":0},"8_4"]
[{"$f":"[2]Gr08!$A$378","v":0},"8_4"]
[{"$f":"[2]Gr08!$A$379","v":0},"8_4"]
[{"$f":"[2]Gr08!$A$380","v":0},"8_4"]
[{"$f":"[2]Gr08!$A$381","v":0},"8_4"]
[{"$f":"[2]Gr08!$A$382","v":0},"8_4"]
[{"$f":"[2]Gr08!$A$383","v":0},"8_4"]
[{"$f":"[2]Gr08!$A$384","v":0},"8_4"]
[{"$f":"[2]Gr08!$A$385","v":0},"8_4"]
[{"$f":"[2]Gr08!$A$386","v":0},"8_4"]
[{"$f":"[2]Gr08!$A$387","v":0},"8_4"]
[{"$f":"[2]Gr08!$A$388","v":0},"8_4"]
[{"$f":"[2]Gr08!$A$389","v":0},"8_4"]
[{"$f":"[2]Gr08!$A$390","v":0},"8_4"]
[{"$f":"[2]Gr08!$A$391","v":0},"8_4"]
[{"$f":"[2]Gr08!$A$392","v":0},"8_4"]
[{"$f":"[2]Gr08!$A$393","v":0},"8_4"]
[{"$f":"[2]Gr08!$A$394","v":0},"8_4"]
[{"$f":"[2]Gr08!$A$395","v":0},"8_4"]
[{"$f":"[2]Gr08!$A$396","v":0},"8_4"]
[{"$f":"[2]Gr08!$A$397","v":0},"8_4"]
[{"$f":"[2]Gr08!$A$398","v":0},"8_4"]
[{"$f":"[2]Gr08!$A$399","v":0},"8_4"]
[{"$f":"[2]Gr08!$A$411","v":0},"8_5"]
[{"$f":"[2]Gr08!$A$412","v":0},"8_5"]
[{"$f":"[2]Gr08!$A$413","v":0},"8_5"]
[{"$f":"[2]Gr08!$A$414","v":0},"8_5"]
[{"$f":"[2]Gr08!$A$415","v":0},"8_5"]
[{"$f":"[2]Gr08!$A$416","v":0},"8_5"]
[{"$f":"[2]Gr08!$A$417","v":0},"8_5"]
[{"$f":"[2]Gr08!$A$418","v":0},"8_5"]
[{"$f":"[2]Gr08!$A$419","v":0},"8_5"]
[{"$f":"[2]Gr08!$A$420","v":0},"8_5"]
[{"$f":"[2]Gr08!$A$421","v":0},"8_5"]
[{"$f":"[2]Gr08!$A$422","v":0},"8_5"]
[{"$f":"[2]Gr08!$A$423","v":0},"8_5"]
[{"$f":"[2]Gr08!$A$424","v":0},"8_5"]
[{"$f":"[2]Gr08!$A$425","v":0},"8_5"]
[{"$f":"[2]Gr08!$A$426","v":0},"8_5"]
[{"$f":"[2]Gr08!$A$427","v":0},"8_5"]
[{"$f":"[2]Gr08!$A$428","v":0},"8_5"]
[{"$f":"[2]Gr08!$A$429","v":0},"8_5"]
[{"$f":"[2]Gr08!$A$430","v":0},"8_5"]
[{"$f":"[2]Gr08!$A$431","v":0},"8_5"]
[{"$f":"[2]Gr08!$A$432","v":0},"8_5"]
[{"$f":"[2]Gr08!$A$433","v":0},"8_5"]
[{"$f":"[2]Gr08!$A$434","v":0},"8_5"]
[{"$f":"[2]Gr08!$A$435","v":0},"8_5"]
[{"$f":"[2]Gr08!$A$436","v":0},"8_5"]
[{"$f":"[2]Gr08!$A$437","v":0},"8_5"]
[{"$f":"[2]Gr08!$A$438","v":0},"8_5"]
[{"$f":"[2]Gr08!$A$439","v":0},"8_5"]
[{"$f":"[2]Gr08!$A$440","v":0},"8_5"]
[{"$f":"[2]Gr08!$A$441","v":0},"8_5"]
[{"$f":"[2]Gr08!$A$442","v":0},"8_5"]
[{"$f":"[2]Gr08!$A$443","v":0},"8_5"]
[{"$f":"[2]Gr08!$A$444","v":0},"8_5"]
[{"$f":"[2]Gr08!$A$445","v":0},"8_5"]
[{"$f":"[2]Gr08!$A$446","v":0},"8_5"]
[{"$f":"[2]Gr08!$A$447","v":0},"8_5"]
[{"$f":"[2]Gr08!$A$448","v":0},"8_5"]
[{"$f":"[2]Gr08!$A$449","v":0},"8_5"]
[{"$f":"[2]Gr08!$A$450","v":0},"8_5"]
[{"$f":"[2]Gr08!$A$451","v":0},"8_5"]
[{"$f":"[2]Gr08!$A$452","v":0},"8_5"]
[{"$f":"[2]Gr08!$A$453","v":0},"8_5"]
[{"$f":"[2]Gr08!$A$454","v":0},"8_5"]
[{"$f":"[2]Gr08!$A$455","v":0},"8_5"]
[{"$f":"[2]Gr08!$A$456","v":0},"8_5"]
[{"$f":"[2]Gr08!$A$457","v":0},"8_5"]
[{"$f":"[2]Gr08!$A$458","v":0},"8_5"]
[{"$f":"[2]Gr08!$A$459","v":0},"8_5"]
[{"$f":"[2]Gr08!$A$460","v":0},"8_5"]
[{"$f":"[2]Gr08!$A$461","v":0},"8_5"]
[{"$f":"[2]Gr08!$A$462","v":0},"8_5"]
[{"$f":"[2]Gr08!$A$463","v":0},"8_5"]
[{"$f":"[2]Gr08!$A$464","v":0},"8_5"]
[{"$f":"[2]Gr08!$A$465","v":0},"8_5"]
[{"$f":"[2]Gr08!$A$466","v":0},"8_5"]
[{"$f":"[2]Gr08!$A$467","v":0},"8_5"]
[{"$f":"[2]Gr08!$A$468","v":0},"8_5"]
[{"$f":"[2]Gr08!$A$469","v":0},"8_5"]
[{"$f":"[2]Gr08!$A$470","v":0},"8_5"]
[{"$f":"[2]Gr08!$A$471","v":0},"8_5"]
[{"$f":"[2]Gr08!$A$472","v":0},"8_5"]
[{"$f":"[2]Gr08!$A$473","v":0},"8_5"]
[{"$f":"[2]Gr08!$A$474","v":0},"8_5"]
[{"$f":"[2]Gr08!$A$475","v":0},"8_5"]
[{"$f":"[2]Gr08!$A$476","v":0},"8_5"]
[{"$f":"[2]Gr08!$A$477","v":0},"8_5"]
[{"$f":"[2]Gr08!$A$478","v":0},"8_5"]
[{"$f":"[2]Gr08!$A$479","v":0},"8_5"]
[{"$f":"[2]Gr08!$A$480","v":0},"8_5"]
[{"$f":"[2]Gr08!$A$481","v":0},"8_5"]
[{"$f":"[2]Gr08!$A$482","v":0},"8_5"]
[{"$f":"[2]Gr08!$A$483","v":0},"8_5"]
[{"$f":"[2]Gr08!$A$484","v":0},"8_5"]
[{"$f":"[2]Gr08!$A$485","v":0},"8_5"]
[{"$f":"[2]Gr08!$A$486","v":0},"8_5"]
[{"$f":"[2]Gr08!$A$487","v":0},"8_5"]
[{"$f":"[2]Gr08!$A$488","v":0},"8_5"]
[{"$f":"[2]Gr08!$A$489","v":0},"8_5"]
[{"$f":"[2]Gr08!$A$490","v":0},"8_5"]
[{"$f":"[2]Gr08!$A$491","v":0},"8_5"]
[{"$f":"[2]Gr08!$A$492","v":0},"8_5"]
[{"$f":"[2]Gr08!$A$493","v":0},"8_5"]
[{"$f":"[2]Gr08!$A$494","v":0},"8_5"]
[{"$f":"[2]Gr08!$A$495","v":0},"8_5"]
[{"$f":"[2]Gr08!$A$496","v":0},"8_5"]
[{"$f":"[2]Gr08!$A$497","v":0},"8_5"]
[{"$f":"[2]Gr08!$A$498","v":0},"8_5"]
[{"$f":"[2]Gr08!$A$499","v":0},"8_5"]
[{"$f":"[2]Gr08!$A$511","v":0},"8_6"]
[{"$f":"[2]Gr08!$A$512","v":0},"8_6"]
[{"$f":"[2]Gr08!$A$513","v":0},"8_6"]
[{"$f":"[2]Gr08!$A$514","v":0},"8_6"]
[{"$f":"[2]Gr08!$A$515","v":0},"8_6"]
[{"$f":"[2]Gr08!$A$516","v":0},"8_6"]
[{"$f":"[2]Gr08!$A$517","v":0},"8_6"]
[{"$f":"[2]Gr08!$A$518","v":0},"8_6"]
[{"$f":"[2]Gr08!$A$519","v":0},"8_6"]
[{"$f":"[2]Gr08!$A$520","v":0},"8_6"]
[{"$f":"[2]Gr08!$A$521","v":0},"8_6"]
[{"$f":"[2]Gr08!$A$522","v":0},"8_6"]
[{"$f":"[2]Gr08!$A$523","v":0},"8_6"]
[{"$f":"[2]Gr08!$A$524","v":0},"8_6"]
[{"$f":"[2]Gr08!$A$525","v":0},"8_6"]
[{"$f":"[2]Gr08!$A$526","v":0},"8_6"]
[{"$f":"[2]Gr08!$A$527","v":0},"8_6"]
[{"$f":"[2]Gr08!$A$528","v":0},"8_6"]
[{"$f":"[2]Gr08!$A$529","v":0},"8_6"]
[{"$f":"[2]Gr08!$A$530","v":0},"8_6"]
[{"$f":"[2]Gr08!$A$531","v":0},"8_6"]
[{"$f":"[2]Gr08!$A$532","v":0},"8_6"]
[{"$f":"[2]Gr08!$A$533","v":0},"8_6"]
[{"$f":"[2]Gr08!$A$534","v":0},"8_6"]
[{"$f":"[2]Gr08!$A$535","v":0},"8_6"]
[{"$f":"[2]Gr08!$A$536","v":0},"8_6"]
[{"$f":"[2]Gr08!$A$537","v":0},"8_6"]
[{"$f":"[2]Gr08!$A$538","v":0},"8_6"]
[{"$f":"[2]Gr08!$A$539","v":0},"8_6"]
[{"$f":"[2]Gr08!$A$540","v":0},"8_6"]
[{"$f":"[2]Gr08!$A$541","v":0},"8_6"]
[{"$f":"[2]Gr08!$A$542","v":0},"8_6"]
[{"$f":"[2]Gr08!$A$543","v":0},"8_6"]
[{"$f":"[2]Gr08!$A$544","v":0},"8_6"]
[{"$f":"[2]Gr08!$A$545","v":0},"8_6"]
[{"$f":"[2]Gr08!$A$546","v":0},"8_6"]
[{"$f":"[2]Gr08!$A$547","v":0},"8_6"]
[{"$f":"[2]Gr08!$A$548","v":0},"8_6"]
[{"$f":"[2]Gr08!$A$549","v":0},"8_6"]
[{"$f":"[2]Gr08!$A$550","v":0},"8_6"]
[{"$f":"[2]Gr08!$A$551","v":0},"8_6"]
[{"$f":"[2]Gr08!$A$552","v":0},"8_6"]
[{"$f":"[2]Gr08!$A$553","v":0},"8_6"]
[{"$f":"[2]Gr08!$A$554","v":0},"8_6"]
[{"$f":"[2]Gr08!$A$555","v":0},"8_6"]
[{"$f":"[2]Gr08!$A$556","v":0},"8_6"]
[{"$f":"[2]Gr08!$A$557","v":0},"8_6"]
[{"$f":"[2]Gr08!$A$558","v":0},"8_6"]
[{"$f":"[2]Gr08!$A$559","v":0},"8_6"]
[{"$f":"[2]Gr08!$A$560","v":0},"8_6"]
[{"$f":"[2]Gr08!$A$561","v":0},"8_6"]
[{"$f":"[2]Gr08!$A$562","v":0},"8_6"]
[{"$f":"[2]Gr08!$A$563","v":0},"8_6"]
[{"$f":"[2]Gr08!$A$564","v":0},"8_6"]
[{"$f":"[2]Gr08!$A$565","v":0},"8_6"]
[{"$f":"[2]Gr08!$A$566","v":0},"8_6"]
[{"$f":"[2]Gr08!$A$567","v":0},"8_6"]
[{"$f":"[2]Gr08!$A$568","v":0},"8_6"]
[{"$f":"[2]Gr08!$A$569","v":0},"8_6"]
[{"$f":"[2]Gr08!$A$570","v":0},"8_6"]
[{"$f":"[2]Gr08!$A$571","v":0},"8_6"]
[{"$f":"[2]Gr08!$A$572","v":0},"8_6"]
[{"$f":"[2]Gr08!$A$573","v":0},"8_6"]
[{"$f":"[2]Gr08!$A$574","v":0},"8_6"]
[{"$f":"[2]Gr08!$A$575","v":0},"8_6"]
[{"$f":"[2]Gr08!$A$576","v":0},"8_6"]
[{"$f":"[2]Gr08!$A$577","v":0},"8_6"]
[{"$f":"[2]Gr08!$A$578","v":0},"8_6"]
[{"$f":"[2]Gr08!$A$579","v":0},"8_6"]
[{"$f":"[2]Gr08!$A$580","v":0},"8_6"]
[{"$f":"[2]Gr08!$A$581","v":0},"8_6"]
[{"$f":"[2]Gr08!$A$582","v":0},"8_6"]
[{"$f":"[2]Gr08!$A$583","v":0},"8_6"]
[{"$f":"[2]Gr08!$A$584","v":0},"8_6"]
[{"$f":"[2]Gr08!$A$585","v":0},"8_6"]
[{"$f":"[2]Gr08!$A$586","v":0},"8_6"]
[{"$f":"[2]Gr08!$A$587","v":0},"8_6"]
[{"$f":"[2]Gr08!$A$588","v":0},"8_6"]
[{"$f":"[2]Gr08!$A$589","v":0},"8_6"]
[{"$f":"[2]Gr08!$A$590","v":0},"8_6"]
[{"$f":"[2]Gr08!$A$591","v":0},"8_6"]
[{"$f":"[2]Gr08!$A$592","v":0},"8_6"]
[{"$f":"[2]Gr08!$A$593","v":0},"8_6"]
[{"$f":"[2]Gr08!$A$594","v":0},"8_6"]
[{"$f":"[2]Gr08!$A$595","v":0},"8_6"]
[{"$f":"[2]Gr08!$A$596","v":0},"8_6"]
[{"$f":"[2]Gr08!$A$597","v":0},"8_6"]
[{"$f":"[2]Gr08!$A$598","v":0},"8_6"]
[{"$f":"[2]Gr08!$A$599","v":0},"8_6"]
[{"$f":"[2]Gr09!$A$11","v":254},"9_1"]
[{"$f":"[2]Gr09!$A$12","v":0},"9_1"]
[{"$f":"[2]Gr09!$A$13","v":0},"9_1"]
[{"$f":"[2]Gr09!$A$14","v":0},"9_1"]
[{"$f":"[2]Gr09!$A$15","v":0},"9_1"]
[{"$f":"[2]Gr09!$A$16","v":0},"9_1"]
[{"$f":"[2]Gr09!$A$17","v":0},"9_1"]
[{"$f":"[2]Gr09!$A$18","v":0},"9_1"]
[{"$f":"[2]Gr09!$A$19","v":0},"9_1"]
[{"$f":"[2]Gr09!$A$20","v":0},"9_1"]
[{"$f":"[2]Gr09!$A$21","v":0},"9_1"]
[{"$f":"[2]Gr09!$A$22","v":0},"9_1"]
[{"$f":"[2]Gr09!$A$23","v":0},"9_1"]
[{"$f":"[2]Gr09!$A$24","v":0},"9_1"]
[{"$f":"[2]Gr09!$A$25","v":0},"9_1"]
[{"$f":"[2]Gr09!$A$26","v":0},"9_1"]
[{"$f":"[2]Gr09!$A$27","v":0},"9_1"]
[{"$f":"[2]Gr09!$A$28","v":0},"9_1"]
[{"$f":"[2]Gr09!$A$29","v":0},"9_1"]
[{"$f":"[2]Gr09!$A$30","v":0},"9_1"]
[{"$f":"[2]Gr09!$A$31","v":0},"9_1"]
[{"$f":"[2]Gr09!$A$32","v":0},"9_1"]
[{"$f":"[2]Gr09!$A$33","v":0},"9_1"]
[{"$f":"[2]Gr09!$A$34","v":0},"9_1"]
[{"$f":"[2]Gr09!$A$35","v":0},"9_1"]
[{"$f":"[2]Gr09!$A$36","v":0},"9_1"]
[{"$f":"[2]Gr09!$A$37","v":0},"9_1"]
[{"$f":"[2]Gr09!$A$38","v":0},"9_1"]
[{"$f":"[2]Gr09!$A$39","v":0},"9_1"]
[{"$f":"[2]Gr09!$A$40","v":0},"9_1"]
[{"$f":"[2]Gr09!$A$41","v":0},"9_1"]
[{"$f":"[2]Gr09!$A$42","v":0},"9_1"]
[{"$f":"[2]Gr09!$A$43","v":0},"9_1"]
[{"$f":"[2]Gr09!$A$44","v":0},"9_1"]
[{"$f":"[2]Gr09!$A$45","v":0},"9_1"]
[{"$f":"[2]Gr09!$A$46","v":0},"9_1"]
[{"$f":"[2]Gr09!$A$47","v":0},"9_1"]
[{"$f":"[2]Gr09!$A$48","v":0},"9_1"]
[{"$f":"[2]Gr09!$A$49","v":0},"9_1"]
[{"$f":"[2]Gr09!$A$50","v":0},"9_1"]
[{"$f":"[2]Gr09!$A$51","v":0},"9_1"]
[{"$f":"[2]Gr09!$A$52","v":0},"9_1"]
[{"$f":"[2]Gr09!$A$53","v":0},"9_1"]
[{"$f":"[2]Gr09!$A$54","v":0},"9_1"]
[{"$f":"[2]Gr09!$A$55","v":0},"9_1"]
[{"$f":"[2]Gr09!$A$56","v":0},"9_1"]
[{"$f":"[2]Gr09!$A$57","v":0},"9_1"]
[{"$f":"[2]Gr09!$A$58","v":0},"9_1"]
[{"$f":"[2]Gr09!$A$59","v":0},"9_1"]
[{"$f":"[2]Gr09!$A$60","v":0},"9_1"]
[{"$f":"[2]Gr09!$A$61","v":0},"9_1"]
[{"$f":"[2]Gr09!$A$62","v":0},"9_1"]
[{"$f":"[2]Gr09!$A$63","v":0},"9_1"]
[{"$f":"[2]Gr09!$A$64","v":0},"9_1"]
[{"$f":"[2]Gr09!$A$65","v":0},"9_1"]
[{"$f":"[2]Gr09!$A$66","v":0},"9_1"]
[{"$f":"[2]Gr09!$A$67","v":0},"9_1"]
[{"$f":"[2]Gr09!$A$68","v":0},"9_1"]
[{"$f":"[2]Gr09!$A$69","v":0},"9_1"]
[{"$f":"[2]Gr09!$A$70","v":0},"9_1"]
[{"$f":"[2]Gr09!$A$71","v":0},"9_1"]
[{"$f":"[2]Gr09!$A$72","v":0},"9_1"]
[{"$f":"[2]Gr09!$A$73","v":0},"9_1"]
[{"$f":"[2]Gr09!$A$74","v":0},"9_1"]
[{"$f":"[2]Gr09!$A$75","v":0},"9_1"]
[{"$f":"[2]Gr09!$A$76","v":0},"9_1"]
[{"$f":"[2]Gr09!$A$77","v":0},"9_1"]
[{"$f":"[2]Gr09!$A$78","v":0},"9_1"]
[{"$f":"[2]Gr09!$A$79","v":0},"9_1"]
[{"$f":"[2]Gr09!$A$80","v":0},"9_1"]
[{"$f":"[2]Gr09!$A$81","v":0},"9_1"]
[{"$f":"[2]Gr09!$A$82","v":0},"9_1"]
[{"$f":"[2]Gr09!$A$83","v":0},"9_1"]
[{"$f":"[2]Gr09!$A$84","v":0},"9_1"]
[{"$f":"[2]Gr09!$A$85","v":0},"9_1"]
[{"$f":"[2]Gr09!$A$86","v":0},"9_1"]
[{"$f":"[2]Gr09!$A$87","v":0},"9_1"]
[{"$f":"[2]Gr09!$A$88","v":0},"9_1"]
[{"$f":"[2]Gr09!$A$89","v":0},"9_1"]
[{"$f":"[2]Gr09!$A$90","v":0},"9_1"]
[{"$f":"[2]Gr09!$A$91","v":0},"9_1"]
[{"$f":"[2]Gr09!$A$92","v":0},"9_1"]
[{"$f":"[2]Gr09!$A$93","v":0},"9_1"]
[{"$f":"[2]Gr09!$A$94","v":0},"9_1"]
[{"$f":"[2]Gr09!$A$95","v":0},"9_1"]
[{"$f":"[2]Gr09!$A$96","v":0},"9_1"]
[{"$f":"[2]Gr09!$A$97","v":0},"9_1"]
[{"$f":"[2]Gr09!$A$98","v":0},"9_1"]
[{"$f":"[2]Gr09!$A$99","v":0},"9_1"]
[{"$f":"[2]Gr09!$A$111","v":0},"9_2"]
[{"$f":"[2]Gr09!$A$112","v":0},"9_2"]
[{"$f":"[2]Gr09!$A$113","v":0},"9_2"]
[{"$f":"[2]Gr09!$A$114","v":0},"9_2"]
[{"$f":"[2]Gr09!$A$115","v":0},"9_2"]
[{"$f":"[2]Gr09!$A$116","v":0},"9_2"]
[{"$f":"[2]Gr09!$A$117","v":0},"9_2"]
[{"$f":"[2]Gr09!$A$118","v":0},"9_2"]
[{"$f":"[2]Gr09!$A$119","v":0},"9_2"]
[{"$f":"[2]Gr09!$A$120","v":0},"9_2"]
[{"$f":"[2]Gr09!$A$121","v":0},"9_2"]
[{"$f":"[2]Gr09!$A$122","v":0},"9_2"]
[{"$f":"[2]Gr09!$A$123","v":0},"9_2"]
[{"$f":"[2]Gr09!$A$124","v":0},"9_2"]
[{"$f":"[2]Gr09!$A$125","v":0},"9_2"]
[{"$f":"[2]Gr09!$A$126","v":0},"9_2"]
[{"$f":"[2]Gr09!$A$127","v":0},"9_2"]
[{"$f":"[2]Gr09!$A$128","v":0},"9_2"]
[{"$f":"[2]Gr09!$A$129","v":0},"9_2"]
[{"$f":"[2]Gr09!$A$130","v":0},"9_2"]
[{"$f":"[2]Gr09!$A$131","v":0},"9_2"]
[{"$f":"[2]Gr09!$A$132","v":0},"9_2"]
[{"$f":"[2]Gr09!$A$133","v":0},"9_2"]
[{"$f":"[2]Gr09!$A$134","v":0},"9_2"]
[{"$f":"[2]Gr09!$A$135","v":0},"9_2"]
[{"$f":"[2]Gr09!$A$136","v":0},"9_2"]
[{"$f":"[2]Gr09!$A$137","v":0},"9_2"]
[{"$f":"[2]Gr09!$A$138","v":0},"9_2"]
[{"$f":"[2]Gr09!$A$139","v":0},"9_2"]
[{"$f":"[2]Gr09!$A$140","v":0},"9_2"]
[{"$f":"[2]Gr09!$A$141","v":0},"9_2"]
[{"$f":"[2]Gr09!$A$142","v":0},"9_2"]
[{"$f":"[2]Gr09!$A$143","v":0},"9_2"]
[{"$f":"[2]Gr09!$A$144","v":0},"9_2"]
[{"$f":"[2]Gr09!$A$145","v":0},"9_2"]
[{"$f":"[2]Gr09!$A$146","v":0},"9_2"]
[{"$f":"[2]Gr09!$A$147","v":0},"9_2"]
[{"$f":"[2]Gr09!$A$148","v":0},"9_2"]
[{"$f":"[2]Gr09!$A$149","v":0},"9_2"]
[{"$f":"[2]Gr09!$A$150","v":0},"9_2"]
[{"$f":"[2]Gr09!$A$151","v":0},"9_2"]
[{"$f":"[2]Gr09!$A$152","v":0},"9_2"]
[{"$f":"[2]Gr09!$A$153","v":0},"9_2"]
[{"$f":"[2]Gr09!$A$154","v":0},"9_2"]
[{"$f":"[2]Gr09!$A$155","v":0},"9_2"]
[{"$f":"[2]Gr09!$A$156","v":0},"9_2"]
[{"$f":"[2]Gr09!$A$157","v":0},"9_2"]
[{"$f":"[2]Gr09!$A$158","v":0},"9_2"]
[{"$f":"[2]Gr09!$A$159","v":0},"9_2"]
[{"$f":"[2]Gr09!$A$160","v":0},"9_2"]
[{"$f":"[2]Gr09!$A$161","v":0},"9_2"]
[{"$f":"[2]Gr09!$A$162","v":0},"9_2"]
[{"$f":"[2]Gr09!$A$163","v":0},"9_2"]
[{"$f":"[2]Gr09!$A$164","v":0},"9_2"]
[{"$f":"[2]Gr09!$A$165","v":0},"9_2"]
[{"$f":"[2]Gr09!$A$166","v":0},"9_2"]
[{"$f":"[2]Gr09!$A$167","v":0},"9_2"]
[{"$f":"[2]Gr09!$A$168","v":0},"9_2"]
[{"$f":"[2]Gr09!$A$169","v":0},"9_2"]
[{"$f":"[2]Gr09!$A$170","v":0},"9_2"]
[{"$f":"[2]Gr09!$A$171","v":0},"9_2"]
[{"$f":"[2]Gr09!$A$172","v":0},"9_2"]
[{"$f":"[2]Gr09!$A$173","v":0},"9_2"]
[{"$f":"[2]Gr09!$A$174","v":0},"9_2"]
[{"$f":"[2]Gr09!$A$175","v":0},"9_2"]
[{"$f":"[2]Gr09!$A$176","v":0},"9_2"]
[{"$f":"[2]Gr09!$A$177","v":0},"9_2"]
[{"$f":"[2]Gr09!$A$178","v":0},"9_2"]
[{"$f":"[2]Gr09!$A$179","v":0},"9_2"]
[{"$f":"[2]Gr09!$A$180","v":0},"9_2"]
[{"$f":"[2]Gr09!$A$181","v":0},"9_2"]
[{"$f":"[2]Gr09!$A$182","v":0},"9_2"]
[{"$f":"[2]Gr09!$A$183","v":0},"9_2"]
[{"$f":"[2]Gr09!$A$184","v":0},"9_2"]
[{"$f":"[2]Gr09!$A$185","v":0},"9_2"]
[{"$f":"[2]Gr09!$A$186","v":0},"9_2"]
[{"$f":"[2]Gr09!$A$187","v":0},"9_2"]
[{"$f":"[2]Gr09!$A$188","v":0},"9_2"]
[{"$f":"[2]Gr09!$A$189","v":0},"9_2"]
[{"$f":"[2]Gr09!$A$190","v":0},"9_2"]
[{"$f":"[2]Gr09!$A$191","v":0},"9_2"]
[{"$f":"[2]Gr09!$A$192","v":0},"9_2"]
[{"$f":"[2]Gr09!$A$193","v":0},"9_2"]
[{"$f":"[2]Gr09!$A$194","v":0},"9_2"]
[{"$f":"[2]Gr09!$A$195","v":0},"9_2"]
[{"$f":"[2]Gr09!$A$196","v":0},"9_2"]
[{"$f":"[2]Gr09!$A$197","v":0},"9_2"]
[{"$f":"[2]Gr09!$A$198","v":0},"9_2"]
[{"$f":"[2]Gr09!$A$199","v":0},"9_2"]
[{"$f":"[2]Gr09!$A$211","v":0},"9_3"]
[{"$f":"[2]Gr09!$A$212","v":0},"9_3"]
[{"$f":"[2]Gr09!$A$213","v":0},"9_3"]
[{"$f":"[2]Gr09!$A$214","v":0},"9_3"]
[{"$f":"[2]Gr09!$A$215","v":0},"9_3"]
[{"$f":"[2]Gr09!$A$216","v":0},"9_3"]
[{"$f":"[2]Gr09!$A$217","v":0},"9_3"]
[{"$f":"[2]Gr09!$A$218","v":0},"9_3"]
[{"$f":"[2]Gr09!$A$219","v":0},"9_3"]
[{"$f":"[2]Gr09!$A$220","v":0},"9_3"]
[{"$f":"[2]Gr09!$A$221","v":0},"9_3"]
[{"$f":"[2]Gr09!$A$222","v":0},"9_3"]
[{"$f":"[2]Gr09!$A$223","v":0},"9_3"]
[{"$f":"[2]Gr09!$A$224","v":0},"9_3"]
[{"$f":"[2]Gr09!$A$225","v":0},"9_3"]
[{"$f":"[2]Gr09!$A$226","v":0},"9_3"]
[{"$f":"[2]Gr09!$A$227","v":0},"9_3"]
[{"$f":"[2]Gr09!$A$228","v":0},"9_3"]
[{"$f":"[2]Gr09!$A$229","v":0},"9_3"]
[{"$f":"[2]Gr09!$A$230","v":0},"9_3"]
[{"$f":"[2]Gr09!$A$231","v":0},"9_3"]
[{"$f":"[2]Gr09!$A$232","v":0},"9_3"]
[{"$f":"[2]Gr09!$A$233","v":0},"9_3"]
[{"$f":"[2]Gr09!$A$234","v":0},"9_3"]
[{"$f":"[2]Gr09!$A$235","v":0},"9_3"]
[{"$f":"[2]Gr09!$A$236","v":0},"9_3"]
[{"$f":"[2]Gr09!$A$237","v":0},"9_3"]
[{"$f":"[2]Gr09!$A$238","v":0},"9_3"]
[{"$f":"[2]Gr09!$A$239","v":0},"9_3"]
[{"$f":"[2]Gr09!$A$240","v":0},"9_3"]
[{"$f":"[2]Gr09!$A$241","v":0},"9_3"]
[{"$f":"[2]Gr09!$A$242","v":0},"9_3"]
[{"$f":"[2]Gr09!$A$243","v":0},"9_3"]
[{"$f":"[2]Gr09!$A$244","v":0},"9_3"]
[{"$f":"[2]Gr09!$A$245","v":0},"9_3"]
[{"$f":"[2]Gr09!$A$246","v":0},"9_3"]
[{"$f":"[2]Gr09!$A$247","v":0},"9_3"]
[{"$f":"[2]Gr09!$A$248","v":0},"9_3"]
[{"$f":"[2]Gr09!$A$249","v":0},"9_3"]
[{"$f":"[2]Gr09!$A$250","v":0},"9_3"]
[{"$f":"[2]Gr09!$A$251","v":0},"9_3"]
[{"$f":"[2]Gr09!$A$252","v":0},"9_3"]
[{"$f":"[2]Gr09!$A$253","v":0},"9_3"]
[{"$f":"[2]Gr09!$A$254","v":0},"9_3"]
[{"$f":"[2]Gr09!$A$255","v":0},"9_3"]
[{"$f":"[2]Gr09!$A$256","v":0},"9_3"]
[{"$f":"[2]Gr09!$A$257","v":0},"9_3"]
[{"$f":"[2]Gr09!$A$258","v":0},"9_3"]
[{"$f":"[2]Gr09!$A$259","v":0},"9_3"]
[{"$f":"[2]Gr09!$A$260","v":0},"9_3"]
[{"$f":"[2]Gr09!$A$261","v":0},"9_3"]
[{"$f":"[2]Gr09!$A$262","v":0},"9_3"]
[{"$f":"[2]Gr09!$A$263","v":0},"9_3"]
[{"$f":"[2]Gr09!$A$264","v":0},"9_3"]
[{"$f":"[2]Gr09!$A$265","v":0},"9_3"]
[{"$f":"[2]Gr09!$A$266","v":0},"9_3"]
[{"$f":"[2]Gr09!$A$267","v":0},"9_3"]
[{"$f":"[2]Gr09!$A$268","v":0},"9_3"]
[{"$f":"[2]Gr09!$A$269","v":0},"9_3"]
[{"$f":"[2]Gr09!$A$270","v":0},"9_3"]
[{"$f":"[2]Gr09!$A$271","v":0},"9_3"]
[{"$f":"[2]Gr09!$A$272","v":0},"9_3"]
[{"$f":"[2]Gr09!$A$273","v":0},"9_3"]
[{"$f":"[2]Gr09!$A$274","v":0},"9_3"]
[{"$f":"[2]Gr09!$A$275","v":0},"9_3"]
[{"$f":"[2]Gr09!$A$276","v":0},"9_3"]
[{"$f":"[2]Gr09!$A$277","v":0},"9_3"]
[{"$f":"[2]Gr09!$A$278","v":0},"9_3"]
[{"$f":"[2]Gr09!$A$279","v":0},"9_3"]
[{"$f":"[2]Gr09!$A$280","v":0},"9_3"]
[{"$f":"[2]Gr09!$A$281","v":0},"9_3"]
[{"$f":"[2]Gr09!$A$282","v":0},"9_3"]
[{"$f":"[2]Gr09!$A$283","v":0},"9_3"]
[{"$f":"[2]Gr09!$A$284","v":0},"9_3"]
[{"$f":"[2]Gr09!$A$285","v":0},"9_3"]
[{"$f":"[2]Gr09!$A$286","v":0},"9_3"]
[{"$f":"[2]Gr09!$A$287","v":0},"9_3"]
[{"$f":"[2]Gr09!$A$288","v":0},"9_3"]
[{"$f":"[2]Gr09!$A$289","v":0},"9_3"]
[{"$f":"[2]Gr09!$A$290","v":0},"9_3"]
[{"$f":"[2]Gr09!$A$291","v":0},"9_3"]
[{"$f":"[2]Gr09!$A$292","v":0},"9_3"]
[{"$f":"[2]Gr09!$A$293","v":0},"9_3"]
[{"$f":"[2]Gr09!$A$294","v":0},"9_3"]
[{"$f":"[2]Gr09!$A$295","v":0},"9_3"]
[{"$f":"[2]Gr09!$A$296","v":0},"9_3"]
[{"$f":"[2]Gr09!$A$297","v":0},"9_3"]
[{"$f":"[2]Gr09!$A$298","v":0},"9_3"]
[{"$f":"[2]Gr09!$A$299","v":0},"9_3"]
[{"$f":"[2]Gr09!$A$311","v":0},"9_4"]
[{"$f":"[2]Gr09!$A$312","v":0},"9_4"]
[{"$f":"[2]Gr09!$A$313","v":0},"9_4"]
[{"$f":"[2]Gr09!$A$314","v":0},"9_4"]
[{"$f":"[2]Gr09!$A$315","v":0},"9_4"]
[{"$f":"[2]Gr09!$A$316","v":0},"9_4"]
[{"$f":"[2]Gr09!$A$317","v":0},"9_4"]
[{"$f":"[2]Gr09!$A$318","v":0},"9_4"]
[{"$f":"[2]Gr09!$A$319","v":0},"9_4"]
[{"$f":"[2]Gr09!$A$320","v":0},"9_4"]
[{"$f":"[2]Gr09!$A$321","v":0},"9_4"]
[{"$f":"[2]Gr09!$A$322","v":0},"9_4"]
[{"$f":"[2]Gr09!$A$323","v":0},"9_4"]
[{"$f":"[2]Gr09!$A$324","v":0},"9_4"]
[{"$f":"[2]Gr09!$A$325","v":0},"9_4"]
[{"$f":"[2]Gr09!$A$326","v":0},"9_4"]
[{"$f":"[2]Gr09!$A$327","v":0},"9_4"]
[{"$f":"[2]Gr09!$A$328","v":0},"9_4"]
[{"$f":"[2]Gr09!$A$329","v":0},"9_4"]
[{"$f":"[2]Gr09!$A$330","v":0},"9_4"]
[{"$f":"[2]Gr09!$A$331","v":0},"9_4"]
[{"$f":"[2]Gr09!$A$332","v":0},"9_4"]
[{"$f":"[2]Gr09!$A$333","v":0},"9_4"]
[{"$f":"[2]Gr09!$A$334","v":0},"9_4"]
[{"$f":"[2]Gr09!$A$335","v":0},"9_4"]
[{"$f":"[2]Gr09!$A$336","v":0},"9_4"]
[{"$f":"[2]Gr09!$A$337","v":0},"9_4"]
[{"$f":"[2]Gr09!$A$338","v":0},"9_4"]
[{"$f":"[2]Gr09!$A$339","v":0},"9_4"]
[{"$f":"[2]Gr09!$A$340","v":0},"9_4"]
[{"$f":"[2]Gr09!$A$341","v":0},"9_4"]
[{"$f":"[2]Gr09!$A$342","v":0},"9_4"]
[{"$f":"[2]Gr09!$A$343","v":0},"9_4"]
[{"$f":"[2]Gr09!$A$344","v":0},"9_4"]
[{"$f":"[2]Gr09!$A$345","v":0},"9_4"]
[{"$f":"[2]Gr09!$A$346","v":0},"9_4"]
[{"$f":"[2]Gr09!$A$347","v":0},"9_4"]
[{"$f":"[2]Gr09!$A$348","v":0},"9_4"]
[{"$f":"[2]Gr09!$A$349","v":0},"9_4"]
[{"$f":"[2]Gr09!$A$350","v":0},"9_4"]
[{"$f":"[2]Gr09!$A$351","v":0},"9_4"]
[{"$f":"[2]Gr09!$A$352","v":0},"9_4"]
[{"$f":"[2]Gr09!$A$353","v":0},"9_4"]
[{"$f":"[2]Gr09!$A$354","v":0},"9_4"]
[{"$f":"[2]Gr09!$A$355","v":0},"9_4"]
[{"$f":"[2]Gr09!$A$356","v":0},"9_4"]
[{"$f":"[2]Gr09!$A$357","v":0},"9_4"]
[{"$f":"[2]Gr09!$A$358","v":0},"9_4"]
[{"$f":"[2]Gr09!$A$359","v":0},"9_4"]
[{"$f":"[2]Gr09!$A$360","v":0},"9_4"]
[{"$f":"[2]Gr09!$A$361","v":0},"9_4"]
[{"$f":"[2]Gr09!$A$362","v":0},"9_4"]
[{"$f":"[2]Gr09!$A$363","v":0},"9_4"]
[{"$f":"[2]Gr09!$A$364","v":0},"9_4"]
[{"$f":"[2]Gr09!$A$365","v":0},"9_4"]
[{"$f":"[2]Gr09!$A$366","v":0},"9_4"]
[{"$f":"[2]Gr09!$A$367","v":0},"9_4"]
[{"$f":"[2]Gr09!$A$368","v":0},"9_4"]
[{"$f":"[2]Gr09!$A$369","v":0},"9_4"]
[{"$f":"[2]Gr09!$A$370","v":0},"9_4"]
[{"$f":"[2]Gr09!$A$371","v":0},"9_4"]
[{"$f":"[2]Gr09!$A$372","v":0},"9_4"]
[{"$f":"[2]Gr09!$A$373","v":0},"9_4"]
[{"$f":"[2]Gr09!$A$374","v":0},"9_4"]
[{"$f":"[2]Gr09!$A$375","v":0},"9_4"]
[{"$f":"[2]Gr09!$A$376","v":0},"9_4"]
[{"$f":"[2]Gr09!$A$377","v":0},"9_4"]
[{"$f":"[2]Gr09!$A$378","v":0},"9_4"]
[{"$f":"[2]Gr09!$A$379","v":0},"9_4"]
[{"$f":"[2]Gr09!$A$380","v":0},"9_4"]
[{"$f":"[2]Gr09!$A$381","v":0},"9_4"]
[{"$f":"[2]Gr09!$A$382","v":0},"9_4"]
[{"$f":"[2]Gr09!$A$383","v":0},"9_4"]
[{"$f":"[2]Gr09!$A$384","v":0},"9_4"]
[{"$f":"[2]Gr09!$A$385","v":0},"9_4"]
[{"$f":"[2]Gr09!$A$386","v":0},"9_4"]
[{"$f":"[2]Gr09!$A$387","v":0},"9_4"]
[{"$f":"[2]Gr09!$A$388","v":0},"9_4"]
[{"$f":"[2]Gr09!$A$389","v":0},"9_4"]
[{"$f":"[2]Gr09!$A$390","v":0},"9_4"]
[{"$f":"[2]Gr09!$A$391","v":0},"9_4"]
[{"$f":"[2]Gr09!$A$392","v":0},"9_4"]
[{"$f":"[2]Gr09!$A$393","v":0},"9_4"]
[{"$f":"[2]Gr09!$A$394","v":0},"9_4"]
[{"$f":"[2]Gr09!$A$395","v":0},"9_4"]
[{"$f":"[2]Gr09!$A$396","v":0},"9_4"]
[{"$f":"[2]Gr09!$A$397","v":0},"9_4"]
[{"$f":"[2]Gr09!$A$398","v":0},"9_4"]
[{"$f":"[2]Gr09!$A$399","v":0},"9_4"]
[{"$f":"[2]Gr09!$A$411","v":0},"9_5"]
[{"$f":"[2]Gr09!$A$412","v":0},"9_5"]
[{"$f":"[2]Gr09!$A$413","v":0},"9_5"]
[{"$f":"[2]Gr09!$A$414","v":0},"9_5"]
[{"$f":"[2]Gr09!$A$415","v":0},"9_5"]
[{"$f":"[2]Gr09!$A$416","v":0},"9_5"]
[{"$f":"[2]Gr09!$A$417","v":0},"9_5"]
[{"$f":"[2]Gr09!$A$418","v":0},"9_5"]
[{"$f":"[2]Gr09!$A$419","v":0},"9_5"]
[{"$f":"[2]Gr09!$A$420","v":0},"9_5"]
[{"$f":"[2]Gr09!$A$421","v":0},"9_5"]
[{"$f":"[2]Gr09!$A$422","v":0},"9_5"]
[{"$f":"[2]Gr09!$A$423","v":0},"9_5"]
[{"$f":"[2]Gr09!$A$424","v":0},"9_5"]
[{"$f":"[2]Gr09!$A$425","v":0},"9_5"]
[{"$f":"[2]Gr09!$A$426","v":0},"9_5"]
[{"$f":"[2]Gr09!$A$427","v":0},"9_5"]
[{"$f":"[2]Gr09!$A$428","v":0},"9_5"]
[{"$f":"[2]Gr09!$A$429","v":0},"9_5"]
[{"$f":"[2]Gr09!$A$430","v":0},"9_5"]
[{"$f":"[2]Gr09!$A$431","v":0},"9_5"]
[{"$f":"[2]Gr09!$A$432","v":0},"9_5"]
[{"$f":"[2]Gr09!$A$433","v":0},"9_5"]
[{"$f":"[2]Gr09!$A$434","v":0},"9_5"]
[{"$f":"[2]Gr09!$A$435","v":0},"9_5"]
[{"$f":"[2]Gr09!$A$436","v":0},"9_5"]
[{"$f":"[2]Gr09!$A$437","v":0},"9_5"]
[{"$f":"[2]Gr09!$A$438","v":0},"9_5"]
[{"$f":"[2]Gr09!$A$439","v":0},"9_5"]
[{"$f":"[2]Gr09!$A$440","v":0},"9_5"]
[{"$f":"[2]Gr09!$A$441","v":0},"9_5"]
[{"$f":"[2]Gr09!$A$442","v":0},"9_5"]
[{"$f":"[2]Gr09!$A$443","v":0},"9_5"]
[{"$f":"[2]Gr09!$A$444","v":0},"9_5"]
[{"$f":"[2]Gr09!$A$445","v":0},"9_5"]
[{"$f":"[2]Gr09!$A$446","v":0},"9_5"]
[{"$f":"[2]Gr09!$A$447","v":0},"9_5"]
[{"$f":"[2]Gr09!$A$448","v":0},"9_5"]
[{"$f":"[2]Gr09!$A$449","v":0},"9_5"]
[{"$f":"[2]Gr09!$A$450","v":0},"9_5"]
[{"$f":"[2]Gr09!$A$451","v":0},"9_5"]
[{"$f":"[2]Gr09!$A$452","v":0},"9_5"]
[{"$f":"[2]Gr09!$A$453","v":0},"9_5"]
[{"$f":"[2]Gr09!$A$454","v":0},"9_5"]
[{"$f":"[2]Gr09!$A$455","v":0},"9_5"]
[{"$f":"[2]Gr09!$A$456","v":0},"9_5"]
[{"$f":"[2]Gr09!$A$457","v":0},"9_5"]
[{"$f":"[2]Gr09!$A$458","v":0},"9_5"]
[{"$f":"[2]Gr09!$A$459","v":0},"9_5"]
[{"$f":"[2]Gr09!$A$460","v":0},"9_5"]
[{"$f":"[2]Gr09!$A$461","v":0},"9_5"]
[{"$f":"[2]Gr09!$A$462","v":0},"9_5"]
[{"$f":"[2]Gr09!$A$463","v":0},"9_5"]
[{"$f":"[2]Gr09!$A$464","v":0},"9_5"]
[{"$f":"[2]Gr09!$A$465","v":0},"9_5"]
[{"$f":"[2]Gr09!$A$466","v":0},"9_5"]
[{"$f":"[2]Gr09!$A$467","v":0},"9_5"]
[{"$f":"[2]Gr09!$A$468","v":0},"9_5"]
[{"$f":"[2]Gr09!$A$469","v":0},"9_5"]
[{"$f":"[2]Gr09!$A$470","v":0},"9_5"]
[{"$f":"[2]Gr09!$A$471","v":0},"9_5"]
[{"$f":"[2]Gr09!$A$472","v":0},"9_5"]
[{"$f":"[2]Gr09!$A$473","v":0},"9_5"]
[{"$f":"[2]Gr09!$A$474","v":0},"9_5"]
[{"$f":"[2]Gr09!$A$475","v":0},"9_5"]
[{"$f":"[2]Gr09!$A$476","v":0},"9_5"]
[{"$f":"[2]Gr09!$A$477","v":0},"9_5"]
[{"$f":"[2]Gr09!$A$478","v":0},"9_5"]
[{"$f":"[2]Gr09!$A$479","v":0},"9_5"]
[{"$f":"[2]Gr09!$A$480","v":0},"9_5"]
[{"$f":"[2]Gr09!$A$481","v":0},"9_5"]
[{"$f":"[2]Gr09!$A$482","v":0},"9_5"]
[{"$f":"[2]Gr09!$A$483","v":0},"9_5"]
[{"$f":"[2]Gr09!$A$484","v":0},"9_5"]
[{"$f":"[2]Gr09!$A$485","v":0},"9_5"]
[{"$f":"[2]Gr09!$A$486","v":0},"9_5"]
[{"$f":"[2]Gr09!$A$487","v":0},"9_5"]
[{"$f":"[2]Gr09!$A$488","v":0},"9_5"]
[{"$f":"[2]Gr09!$A$489","v":0},"9_5"]
[{"$f":"[2]Gr09!$A$490","v":0},"9_5"]
[{"$f":"[2]Gr09!$A$491","v":0},"9_5"]
[{"$f":"[2]Gr09!$A$492","v":0},"9_5"]
[{"$f":"[2]Gr09!$A$493","v":0},"9_5"]
[{"$f":"[2]Gr09!$A$494","v":0},"9_5"]
[{"$f":"[2]Gr09!$A$495","v":0},"9_5"]
[{"$f":"[2]Gr09!$A$496","v":0},"9_5"]
[{"$f":"[2]Gr09!$A$497","v":0},"9_5"]
[{"$f":"[2]Gr09!$A$498","v":0},"9_5"]
[{"$f":"[2]Gr09!$A$499","v":0},"9_5"]
[{"$f":"[2]Gr09!$A$511","v":0},"9_6"]
[{"$f":"[2]Gr09!$A$512","v":0},"9_6"]
[{"$f":"[2]Gr09!$A$513","v":0},"9_6"]
[{"$f":"[2]Gr09!$A$514","v":0},"9_6"]
[{"$f":"[2]Gr09!$A$515","v":0},"9_6"]
[{"$f":"[2]Gr09!$A$516","v":0},"9_6"]
[{"$f":"[2]Gr09!$A$517","v":0},"9_6"]
[{"$f":"[2]Gr09!$A$518","v":0},"9_6"]
[{"$f":"[2]Gr09!$A$519","v":0},"9_6"]
[{"$f":"[2]Gr09!$A$520","v":0},"9_6"]
[{"$f":"[2]Gr09!$A$521","v":0},"9_6"]
[{"$f":"[2]Gr09!$A$522","v":0},"9_6"]
[{"$f":"[2]Gr09!$A$523","v":0},"9_6"]
[{"$f":"[2]Gr09!$A$524","v":0},"9_6"]
[{"$f":"[2]Gr09!$A$525","v":0},"9_6"]
[{"$f":"[2]Gr09!$A$526","v":0},"9_6"]
[{"$f":"[2]Gr09!$A$527","v":0},"9_6"]
[{"$f":"[2]Gr09!$A$528","v":0},"9_6"]
[{"$f":"[2]Gr09!$A$529","v":0},"9_6"]
[{"$f":"[2]Gr09!$A$530","v":0},"9_6"]
[{"$f":"[2]Gr09!$A$531","v":0},"9_6"]
[{"$f":"[2]Gr09!$A$532","v":0},"9_6"]
[{"$f":"[2]Gr09!$A$533","v":0},"9_6"]
[{"$f":"[2]Gr09!$A$534","v":0},"9_6"]
[{"$f":"[2]Gr09!$A$535","v":0},"9_6"]
[{"$f":"[2]Gr09!$A$536","v":0},"9_6"]
[{"$f":"[2]Gr09!$A$537","v":0},"9_6"]
[{"$f":"[2]Gr09!$A$538","v":0},"9_6"]
[{"$f":"[2]Gr09!$A$539","v":0},"9_6"]
[{"$f":"[2]Gr09!$A$540","v":0},"9_6"]
[{"$f":"[2]Gr09!$A$541","v":0},"9_6"]
[{"$f":"[2]Gr09!$A$542","v":0},"9_6"]
[{"$f":"[2]Gr09!$A$543","v":0},"9_6"]
[{"$f":"[2]Gr09!$A$544","v":0},"9_6"]
[{"$f":"[2]Gr09!$A$545","v":0},"9_6"]
[{"$f":"[2]Gr09!$A$546","v":0},"9_6"]
[{"$f":"[2]Gr09!$A$547","v":0},"9_6"]
[{"$f":"[2]Gr09!$A$548","v":0},"9_6"]
[{"$f":"[2]Gr09!$A$549","v":0},"9_6"]
[{"$f":"[2]Gr09!$A$550","v":0},"9_6"]
[{"$f":"[2]Gr09!$A$551","v":0},"9_6"]
[{"$f":"[2]Gr09!$A$552","v":0},"9_6"]
[{"$f":"[2]Gr09!$A$553","v":0},"9_6"]
[{"$f":"[2]Gr09!$A$554","v":0},"9_6"]
[{"$f":"[2]Gr09!$A$555","v":0},"9_6"]
[{"$f":"[2]Gr09!$A$556","v":0},"9_6"]
[{"$f":"[2]Gr09!$A$557","v":0},"9_6"]
[{"$f":"[2]Gr09!$A$558","v":0},"9_6"]
[{"$f":"[2]Gr09!$A$559","v":0},"9_6"]
[{"$f":"[2]Gr09!$A$560","v":0},"9_6"]
[{"$f":"[2]Gr09!$A$561","v":0},"9_6"]
[{"$f":"[2]Gr09!$A$562","v":0},"9_6"]
[{"$f":"[2]Gr09!$A$563","v":0},"9_6"]
[{"$f":"[2]Gr09!$A$564","v":0},"9_6"]
[{"$f":"[2]Gr09!$A$565","v":0},"9_6"]
[{"$f":"[2]Gr09!$A$566","v":0},"9_6"]
[{"$f":"[2]Gr09!$A$567","v":0},"9_6"]
[{"$f":"[2]Gr09!$A$568","v":0},"9_6"]
[{"$f":"[2]Gr09!$A$569","v":0},"9_6"]
[{"$f":"[2]Gr09!$A$570","v":0},"9_6"]
[{"$f":"[2]Gr09!$A$571","v":0},"9_6"]
[{"$f":"[2]Gr09!$A$572","v":0},"9_6"]
[{"$f":"[2]Gr09!$A$573","v":0},"9_6"]
[{"$f":"[2]Gr09!$A$574","v":0},"9_6"]
[{"$f":"[2]Gr09!$A$575","v":0},"9_6"]
[{"$f":"[2]Gr09!$A$576","v":0},"9_6"]
[{"$f":"[2]Gr09!$A$577","v":0},"9_6"]
[{"$f":"[2]Gr09!$A$578","v":0},"9_6"]
[{"$f":"[2]Gr09!$A$579","v":0},"9_6"]
[{"$f":"[2]Gr09!$A$580","v":0},"9_6"]
[{"$f":"[2]Gr09!$A$581","v":0},"9_6"]
[{"$f":"[2]Gr09!$A$582","v":0},"9_6"]
[{"$f":"[2]Gr09!$A$583","v":0},"9_6"]
[{"$f":"[2]Gr09!$A$584","v":0},"9_6"]
[{"$f":"[2]Gr09!$A$585","v":0},"9_6"]
[{"$f":"[2]Gr09!$A$586","v":0},"9_6"]
[{"$f":"[2]Gr09!$A$587","v":0},"9_6"]
[{"$f":"[2]Gr09!$A$588","v":0},"9_6"]
[{"$f":"[2]Gr09!$A$589","v":0},"9_6"]
[{"$f":"[2]Gr09!$A$590","v":0},"9_6"]
[{"$f":"[2]Gr09!$A$591","v":0},"9_6"]
[{"$f":"[2]Gr09!$A$592","v":0},"9_6"]
[{"$f":"[2]Gr09!$A$593","v":0},"9_6"]
[{"$f":"[2]Gr09!$A$594","v":0},"9_6"]
[{"$f":"[2]Gr09!$A$595","v":0},"9_6"]
[{"$f":"[2]Gr09!$A$596","v":0},"9_6"]
[{"$f":"[2]Gr09!$A$597","v":0},"9_6"]
[{"$f":"[2]Gr09!$A$598","v":0},"9_6"]
[{"$f":"[2]Gr09!$A$599","v":0},"9_6"]
[{"$f":"[2]Gr10!$A$11","v":254},"10_1"]
[{"$f":"[2]Gr10!$A$12","v":10},"10_1"]
[{"$f":"[2]Gr10!$A$13","v":0},"10_1"]
[{"$f":"[2]Gr10!$A$14","v":0},"10_1"]
[{"$f":"[2]Gr10!$A$15","v":0},"10_1"]
[{"$f":"[2]Gr10!$A$16","v":0},"10_1"]
[{"$f":"[2]Gr10!$A$17","v":0},"10_1"]
[{"$f":"[2]Gr10!$A$18","v":0},"10_1"]
[{"$f":"[2]Gr10!$A$19","v":0},"10_1"]
[{"$f":"[2]Gr10!$A$20","v":0},"10_1"]
[{"$f":"[2]Gr10!$A$21","v":0},"10_1"]
[{"$f":"[2]Gr10!$A$22","v":0},"10_1"]
[{"$f":"[2]Gr10!$A$23","v":0},"10_1"]
[{"$f":"[2]Gr10!$A$24","v":0},"10_1"]
[{"$f":"[2]Gr10!$A$25","v":0},"10_1"]
[{"$f":"[2]Gr10!$A$26","v":0},"10_1"]
[{"$f":"[2]Gr10!$A$27","v":0},"10_1"]
[{"$f":"[2]Gr10!$A$28","v":0},"10_1"]
[{"$f":"[2]Gr10!$A$29","v":0},"10_1"]
[{"$f":"[2]Gr10!$A$30","v":0},"10_1"]
[{"$f":"[2]Gr10!$A$31","v":0},"10_1"]
[{"$f":"[2]Gr10!$A$32","v":0},"10_1"]
[{"$f":"[2]Gr10!$A$33","v":0},"10_1"]
[{"$f":"[2]Gr10!$A$34","v":0},"10_1"]
[{"$f":"[2]Gr10!$A$35","v":0},"10_1"]
[{"$f":"[2]Gr10!$A$36","v":0},"10_1"]
[{"$f":"[2]Gr10!$A$37","v":0},"10_1"]
[{"$f":"[2]Gr10!$A$38","v":0},"10_1"]
[{"$f":"[2]Gr10!$A$39","v":0},"10_1"]
[{"$f":"[2]Gr10!$A$40","v":0},"10_1"]
[{"$f":"[2]Gr10!$A$41","v":0},"10_1"]
[{"$f":"[2]Gr10!$A$42","v":0},"10_1"]
[{"$f":"[2]Gr10!$A$43","v":0},"10_1"]
[{"$f":"[2]Gr10!$A$44","v":0},"10_1"]
[{"$f":"[2]Gr10!$A$45","v":0},"10_1"]
[{"$f":"[2]Gr10!$A$46","v":0},"10_1"]
[{"$f":"[2]Gr10!$A$47","v":0},"10_1"]
[{"$f":"[2]Gr10!$A$48","v":0},"10_1"]
[{"$f":"[2]Gr10!$A$49","v":0},"10_1"]
[{"$f":"[2]Gr10!$A$50","v":0},"10_1"]
[{"$f":"[2]Gr10!$A$51","v":0},"10_1"]
[{"$f":"[2]Gr10!$A$52","v":0},"10_1"]
[{"$f":"[2]Gr10!$A$53","v":0},"10_1"]
[{"$f":"[2]Gr10!$A$54","v":0},"10_1"]
[{"$f":"[2]Gr10!$A$55","v":0},"10_1"]
[{"$f":"[2]Gr10!$A$56","v":0},"10_1"]
[{"$f":"[2]Gr10!$A$57","v":0},"10_1"]
[{"$f":"[2]Gr10!$A$58","v":0},"10_1"]
[{"$f":"[2]Gr10!$A$59","v":0},"10_1"]
[{"$f":"[2]Gr10!$A$60","v":0},"10_1"]
[{"$f":"[2]Gr10!$A$61","v":0},"10_1"]
[{"$f":"[2]Gr10!$A$62","v":0},"10_1"]
[{"$f":"[2]Gr10!$A$63","v":0},"10_1"]
[{"$f":"[2]Gr10!$A$64","v":0},"10_1"]
[{"$f":"[2]Gr10!$A$65","v":0},"10_1"]
[{"$f":"[2]Gr10!$A$66","v":0},"10_1"]
[{"$f":"[2]Gr10!$A$67","v":0},"10_1"]
[{"$f":"[2]Gr10!$A$68","v":0},"10_1"]
[{"$f":"[2]Gr10!$A$69","v":0},"10_1"]
[{"$f":"[2]Gr10!$A$70","v":0},"10_1"]
[{"$f":"[2]Gr10!$A$71","v":0},"10_1"]
[{"$f":"[2]Gr10!$A$72","v":0},"10_1"]
[{"$f":"[2]Gr10!$A$73","v":0},"10_1"]
[{"$f":"[2]Gr10!$A$74","v":0},"10_1"]
[{"$f":"[2]Gr10!$A$75","v":0},"10_1"]
[{"$f":"[2]Gr10!$A$76","v":0},"10_1"]
[{"$f":"[2]Gr10!$A$77","v":0},"10_1"]
[{"$f":"[2]Gr10!$A$78","v":0},"10_1"]
[{"$f":"[2]Gr10!$A$79","v":0},"10_1"]
[{"$f":"[2]Gr10!$A$80","v":0},"10_1"]
[{"$f":"[2]Gr10!$A$81","v":0},"10_1"]
[{"$f":"[2]Gr10!$A$82","v":0},"10_1"]
[{"$f":"[2]Gr10!$A$83","v":0},"10_1"]
[{"$f":"[2]Gr10!$A$84","v":0},"10_1"]
[{"$f":"[2]Gr10!$A$85","v":0},"10_1"]
[{"$f":"[2]Gr10!$A$86","v":0},"10_1"]
[{"$f":"[2]Gr10!$A$87","v":0},"10_1"]
[{"$f":"[2]Gr10!$A$88","v":0},"10_1"]
[{"$f":"[2]Gr10!$A$89","v":0},"10_1"]
[{"$f":"[2]Gr10!$A$90","v":0},"10_1"]
[{"$f":"[2]Gr10!$A$91","v":0},"10_1"]
[{"$f":"[2]Gr10!$A$92","v":0},"10_1"]
[{"$f":"[2]Gr10!$A$93","v":0},"10_1"]
[{"$f":"[2]Gr10!$A$94","v":0},"10_1"]
[{"$f":"[2]Gr10!$A$95","v":0},"10_1"]
[{"$f":"[2]Gr10!$A$96","v":0},"10_1"]
[{"$f":"[2]Gr10!$A$97","v":0},"10_1"]
[{"$f":"[2]Gr10!$A$98","v":0},"10_1"]
[{"$f":"[2]Gr10!$A$99","v":0},"10_1"]
[{"$f":"[2]Gr10!$A$111","v":0},"10_2"]
[{"$f":"[2]Gr10!$A$112","v":0},"10_2"]
[{"$f":"[2]Gr10!$A$113","v":0},"10_2"]
[{"$f":"[2]Gr10!$A$114","v":0},"10_2"]
[{"$f":"[2]Gr10!$A$115","v":0},"10_2"]
[{"$f":"[2]Gr10!$A$116","v":0},"10_2"]
[{"$f":"[2]Gr10!$A$117","v":0},"10_2"]
[{"$f":"[2]Gr10!$A$118","v":0},"10_2"]
[{"$f":"[2]Gr10!$A$119","v":0},"10_2"]
[{"$f":"[2]Gr10!$A$120","v":0},"10_2"]
[{"$f":"[2]Gr10!$A$121","v":0},"10_2"]
[{"$f":"[2]Gr10!$A$122","v":0},"10_2"]
[{"$f":"[2]Gr10!$A$123","v":0},"10_2"]
[{"$f":"[2]Gr10!$A$124","v":0},"10_2"]
[{"$f":"[2]Gr10!$A$125","v":0},"10_2"]
[{"$f":"[2]Gr10!$A$126","v":0},"10_2"]
[{"$f":"[2]Gr10!$A$127","v":0},"10_2"]
[{"$f":"[2]Gr10!$A$128","v":0},"10_2"]
[{"$f":"[2]Gr10!$A$129","v":0},"10_2"]
[{"$f":"[2]Gr10!$A$130","v":0},"10_2"]
[{"$f":"[2]Gr10!$A$131","v":0},"10_2"]
[{"$f":"[2]Gr10!$A$132","v":0},"10_2"]
[{"$f":"[2]Gr10!$A$133","v":0},"10_2"]
[{"$f":"[2]Gr10!$A$134","v":0},"10_2"]
[{"$f":"[2]Gr10!$A$135","v":0},"10_2"]
[{"$f":"[2]Gr10!$A$136","v":0},"10_2"]
[{"$f":"[2]Gr10!$A$137","v":0},"10_2"]
[{"$f":"[2]Gr10!$A$138","v":0},"10_2"]
[{"$f":"[2]Gr10!$A$139","v":0},"10_2"]
[{"$f":"[2]Gr10!$A$140","v":0},"10_2"]
[{"$f":"[2]Gr10!$A$141","v":0},"10_2"]
[{"$f":"[2]Gr10!$A$142","v":0},"10_2"]
[{"$f":"[2]Gr10!$A$143","v":0},"10_2"]
[{"$f":"[2]Gr10!$A$144","v":0},"10_2"]
[{"$f":"[2]Gr10!$A$145","v":0},"10_2"]
[{"$f":"[2]Gr10!$A$146","v":0},"10_2"]
[{"$f":"[2]Gr10!$A$147","v":0},"10_2"]
[{"$f":"[2]Gr10!$A$148","v":0},"10_2"]
[{"$f":"[2]Gr10!$A$149","v":0},"10_2"]
[{"$f":"[2]Gr10!$A$150","v":0},"10_2"]
[{"$f":"[2]Gr10!$A$151","v":0},"10_2"]
[{"$f":"[2]Gr10!$A$152","v":0},"10_2"]
[{"$f":"[2]Gr10!$A$153","v":0},"10_2"]
[{"$f":"[2]Gr10!$A$154","v":0},"10_2"]
[{"$f":"[2]Gr10!$A$155","v":0},"10_2"]
[{"$f":"[2]Gr10!$A$156","v":0},"10_2"]
[{"$f":"[2]Gr10!$A$157","v":0},"10_2"]
[{"$f":"[2]Gr10!$A$158","v":0},"10_2"]
[{"$f":"[2]Gr10!$A$159","v":0},"10_2"]
[{"$f":"[2]Gr10!$A$160","v":0},"10_2"]
[{"$f":"[2]Gr10!$A$161","v":0},"10_2"]
[{"$f":"[2]Gr10!$A$162","v":0},"10_2"]
[{"$f":"[2]Gr10!$A$163","v":0},"10_2"]
[{"$f":"[2]Gr10!$A$164","v":0},"10_2"]
[{"$f":"[2]Gr10!$A$165","v":0},"10_2"]
[{"$f":"[2]Gr10!$A$166","v":0},"10_2"]
[{"$f":"[2]Gr10!$A$167","v":0},"10_2"]
[{"$f":"[2]Gr10!$A$168","v":0},"10_2"]
[{"$f":"[2]Gr10!$A$169","v":0},"10_2"]
[{"$f":"[2]Gr10!$A$170","v":0},"10_2"]
[{"$f":"[2]Gr10!$A$171","v":0},"10_2"]
[{"$f":"[2]Gr10!$A$172","v":0},"10_2"]
[{"$f":"[2]Gr10!$A$173","v":0},"10_2"]
[{"$f":"[2]Gr10!$A$174","v":0},"10_2"]
[{"$f":"[2]Gr10!$A$175","v":0},"10_2"]
[{"$f":"[2]Gr10!$A$176","v":0},"10_2"]
[{"$f":"[2]Gr10!$A$177","v":0},"10_2"]
[{"$f":"[2]Gr10!$A$178","v":0},"10_2"]
[{"$f":"[2]Gr10!$A$179","v":0},"10_2"]
[{"$f":"[2]Gr10!$A$180","v":0},"10_2"]
[{"$f":"[2]Gr10!$A$181","v":0},"10_2"]
[{"$f":"[2]Gr10!$A$182","v":0},"10_2"]
[{"$f":"[2]Gr10!$A$183","v":0},"10_2"]
[{"$f":"[2]Gr10!$A$184","v":0},"10_2"]
[{"$f":"[2]Gr10!$A$185","v":0},"10_2"]
[{"$f":"[2]Gr10!$A$186","v":0},"10_2"]
[{"$f":"[2]Gr10!$A$187","v":0},"10_2"]
[{"$f":"[2]Gr10!$A$188","v":0},"10_2"]
[{"$f":"[2]Gr10!$A$189","v":0},"10_2"]
[{"$f":"[2]Gr10!$A$190","v":0},"10_2"]
[{"$f":"[2]Gr10!$A$191","v":0},"10_2"]
[{"$f":"[2]Gr10!$A$192","v":0},"10_2"]
[{"$f":"[2]Gr10!$A$193","v":0},"10_2"]
[{"$f":"[2]Gr10!$A$194","v":0},"10_2"]
[{"$f":"[2]Gr10!$A$195","v":0},"10_2"]
[{"$f":"[2]Gr10!$A$196","v":0},"10_2"]
[{"$f":"[2]Gr10!$A$197","v":0},"10_2"]
[{"$f":"[2]Gr10!$A$198","v":0},"10_2"]
[{"$f":"[2]Gr10!$A$199","v":0},"10_2"]
[{"$f":"[2]Gr10!$A$211","v":0},"10_3"]
[{"$f":"[2]Gr10!$A$212","v":0},"10_3"]
[{"$f":"[2]Gr10!$A$213","v":0},"10_3"]
[{"$f":"[2]Gr10!$A$214","v":0},"10_3"]
[{"$f":"[2]Gr10!$A$215","v":0},"10_3"]
[{"$f":"[2]Gr10!$A$216","v":0},"10_3"]
[{"$f":"[2]Gr10!$A$217","v":0},"10_3"]
[{"$f":"[2]Gr10!$A$218","v":0},"10_3"]
[{"$f":"[2]Gr10!$A$219","v":0},"10_3"]
[{"$f":"[2]Gr10!$A$220","v":0},"10_3"]
[{"$f":"[2]Gr10!$A$221","v":0},"10_3"]
[{"$f":"[2]Gr10!$A$222","v":0},"10_3"]
[{"$f":"[2]Gr10!$A$223","v":0},"10_3"]
[{"$f":"[2]Gr10!$A$224","v":0},"10_3"]
[{"$f":"[2]Gr10!$A$225","v":0},"10_3"]
[{"$f":"[2]Gr10!$A$226","v":0},"10_3"]
[{"$f":"[2]Gr10!$A$227","v":0},"10_3"]
[{"$f":"[2]Gr10!$A$228","v":0},"10_3"]
[{"$f":"[2]Gr10!$A$229","v":0},"10_3"]
[{"$f":"[2]Gr10!$A$230","v":0},"10_3"]
[{"$f":"[2]Gr10!$A$231","v":0},"10_3"]
[{"$f":"[2]Gr10!$A$232","v":0},"10_3"]
[{"$f":"[2]Gr10!$A$233","v":0},"10_3"]
[{"$f":"[2]Gr10!$A$234","v":0},"10_3"]
[{"$f":"[2]Gr10!$A$235","v":0},"10_3"]
[{"$f":"[2]Gr10!$A$236","v":0},"10_3"]
[{"$f":"[2]Gr10!$A$237","v":0},"10_3"]
[{"$f":"[2]Gr10!$A$238","v":0},"10_3"]
[{"$f":"[2]Gr10!$A$239","v":0},"10_3"]
[{"$f":"[2]Gr10!$A$240","v":0},"10_3"]
[{"$f":"[2]Gr10!$A$241","v":0},"10_3"]
[{"$f":"[2]Gr10!$A$242","v":0},"10_3"]
[{"$f":"[2]Gr10!$A$243","v":0},"10_3"]
[{"$f":"[2]Gr10!$A$244","v":0},"10_3"]
[{"$f":"[2]Gr10!$A$245","v":0},"10_3"]
[{"$f":"[2]Gr10!$A$246","v":0},"10_3"]
[{"$f":"[2]Gr10!$A$247","v":0},"10_3"]
[{"$f":"[2]Gr10!$A$248","v":0},"10_3"]
[{"$f":"[2]Gr10!$A$249","v":0},"10_3"]
[{"$f":"[2]Gr10!$A$250","v":0},"10_3"]
[{"$f":"[2]Gr10!$A$251","v":0},"10_3"]
[{"$f":"[2]Gr10!$A$252","v":0},"10_3"]
[{"$f":"[2]Gr10!$A$253","v":0},"10_3"]
[{"$f":"[2]Gr10!$A$254","v":0},"10_3"]
[{"$f":"[2]Gr10!$A$255","v":0},"10_3"]
[{"$f":"[2]Gr10!$A$256","v":0},"10_3"]
[{"$f":"[2]Gr10!$A$257","v":0},"10_3"]
[{"$f":"[2]Gr10!$A$258","v":0},"10_3"]
[{"$f":"[2]Gr10!$A$259","v":0},"10_3"]
[{"$f":"[2]Gr10!$A$260","v":0},"10_3"]
[{"$f":"[2]Gr10!$A$261","v":0},"10_3"]
[{"$f":"[2]Gr10!$A$262","v":0},"10_3"]
[{"$f":"[2]Gr10!$A$263","v":0},"10_3"]
[{"$f":"[2]Gr10!$A$264","v":0},"10_3"]
[{"$f":"[2]Gr10!$A$265","v":0},"10_3"]
[{"$f":"[2]Gr10!$A$266","v":0},"10_3"]
[{"$f":"[2]Gr10!$A$267","v":0},"10_3"]
[{"$f":"[2]Gr10!$A$268","v":0},"10_3"]
[{"$f":"[2]Gr10!$A$269","v":0},"10_3"]
[{"$f":"[2]Gr10!$A$270","v":0},"10_3"]
[{"$f":"[2]Gr10!$A$271","v":0},"10_3"]
[{"$f":"[2]Gr10!$A$272","v":0},"10_3"]
[{"$f":"[2]Gr10!$A$273","v":0},"10_3"]
[{"$f":"[2]Gr10!$A$274","v":0},"10_3"]
[{"$f":"[2]Gr10!$A$275","v":0},"10_3"]
[{"$f":"[2]Gr10!$A$276","v":0},"10_3"]
[{"$f":"[2]Gr10!$A$277","v":0},"10_3"]
[{"$f":"[2]Gr10!$A$278","v":0},"10_3"]
[{"$f":"[2]Gr10!$A$279","v":0},"10_3"]
[{"$f":"[2]Gr10!$A$280","v":0},"10_3"]
[{"$f":"[2]Gr10!$A$281","v":0},"10_3"]
[{"$f":"[2]Gr10!$A$282","v":0},"10_3"]
[{"$f":"[2]Gr10!$A$283","v":0},"10_3"]
[{"$f":"[2]Gr10!$A$284","v":0},"10_3"]
[{"$f":"[2]Gr10!$A$285","v":0},"10_3"]
[{"$f":"[2]Gr10!$A$286","v":0},"10_3"]
[{"$f":"[2]Gr10!$A$287","v":0},"10_3"]
[{"$f":"[2]Gr10!$A$288","v":0},"10_3"]
[{"$f":"[2]Gr10!$A$289","v":0},"10_3"]
[{"$f":"[2]Gr10!$A$290","v":0},"10_3"]
[{"$f":"[2]Gr10!$A$291","v":0},"10_3"]
[{"$f":"[2]Gr10!$A$292","v":0},"10_3"]
[{"$f":"[2]Gr10!$A$293","v":0},"10_3"]
[{"$f":"[2]Gr10!$A$294","v":0},"10_3"]
[{"$f":"[2]Gr10!$A$295","v":0},"10_3"]
[{"$f":"[2]Gr10!$A$296","v":0},"10_3"]
[{"$f":"[2]Gr10!$A$297","v":0},"10_3"]
[{"$f":"[2]Gr10!$A$298","v":0},"10_3"]
[{"$f":"[2]Gr10!$A$299","v":0},"10_3"]
[{"$f":"[2]Gr10!$A$311","v":0},"10_4"]
[{"$f":"[2]Gr10!$A$312","v":0},"10_4"]
[{"$f":"[2]Gr10!$A$313","v":0},"10_4"]
[{"$f":"[2]Gr10!$A$314","v":0},"10_4"]
[{"$f":"[2]Gr10!$A$315","v":0},"10_4"]
[{"$f":"[2]Gr10!$A$316","v":0},"10_4"]
[{"$f":"[2]Gr10!$A$317","v":0},"10_4"]
[{"$f":"[2]Gr10!$A$318","v":0},"10_4"]
[{"$f":"[2]Gr10!$A$319","v":0},"10_4"]
[{"$f":"[2]Gr10!$A$320","v":0},"10_4"]
[{"$f":"[2]Gr10!$A$321","v":0},"10_4"]
[{"$f":"[2]Gr10!$A$322","v":0},"10_4"]
[{"$f":"[2]Gr10!$A$323","v":0},"10_4"]
[{"$f":"[2]Gr10!$A$324","v":0},"10_4"]
[{"$f":"[2]Gr10!$A$325","v":0},"10_4"]
[{"$f":"[2]Gr10!$A$326","v":0},"10_4"]
[{"$f":"[2]Gr10!$A$327","v":0},"10_4"]
[{"$f":"[2]Gr10!$A$328","v":0},"10_4"]
[{"$f":"[2]Gr10!$A$329","v":0},"10_4"]
[{"$f":"[2]Gr10!$A$330","v":0},"10_4"]
[{"$f":"[2]Gr10!$A$331","v":0},"10_4"]
[{"$f":"[2]Gr10!$A$332","v":0},"10_4"]
[{"$f":"[2]Gr10!$A$333","v":0},"10_4"]
[{"$f":"[2]Gr10!$A$334","v":0},"10_4"]
[{"$f":"[2]Gr10!$A$335","v":0},"10_4"]
[{"$f":"[2]Gr10!$A$336","v":0},"10_4"]
[{"$f":"[2]Gr10!$A$337","v":0},"10_4"]
[{"$f":"[2]Gr10!$A$338","v":0},"10_4"]
[{"$f":"[2]Gr10!$A$339","v":0},"10_4"]
[{"$f":"[2]Gr10!$A$340","v":0},"10_4"]
[{"$f":"[2]Gr10!$A$341","v":0},"10_4"]
[{"$f":"[2]Gr10!$A$342","v":0},"10_4"]
[{"$f":"[2]Gr10!$A$343","v":0},"10_4"]
[{"$f":"[2]Gr10!$A$344","v":0},"10_4"]
[{"$f":"[2]Gr10!$A$345","v":0},"10_4"]
[{"$f":"[2]Gr10!$A$346","v":0},"10_4"]
[{"$f":"[2]Gr10!$A$347","v":0},"10_4"]
[{"$f":"[2]Gr10!$A$348","v":0},"10_4"]
[{"$f":"[2]Gr10!$A$349","v":0},"10_4"]
[{"$f":"[2]Gr10!$A$350","v":0},"10_4"]
[{"$f":"[2]Gr10!$A$351","v":0},"10_4"]
[{"$f":"[2]Gr10!$A$352","v":0},"10_4"]
[{"$f":"[2]Gr10!$A$353","v":0},"10_4"]
[{"$f":"[2]Gr10!$A$354","v":0},"10_4"]
[{"$f":"[2]Gr10!$A$355","v":0},"10_4"]
[{"$f":"[2]Gr10!$A$356","v":0},"10_4"]
[{"$f":"[2]Gr10!$A$357","v":0},"10_4"]
[{"$f":"[2]Gr10!$A$358","v":0},"10_4"]
[{"$f":"[2]Gr10!$A$359","v":0},"10_4"]
[{"$f":"[2]Gr10!$A$360","v":0},"10_4"]
[{"$f":"[2]Gr10!$A$361","v":0},"10_4"]
[{"$f":"[2]Gr10!$A$362","v":0},"10_4"]
[{"$f":"[2]Gr10!$A$363","v":0},"10_4"]
[{"$f":"[2]Gr10!$A$364","v":0},"10_4"]
[{"$f":"[2]Gr10!$A$365","v":0},"10_4"]
[{"$f":"[2]Gr10!$A$366","v":0},"10_4"]
[{"$f":"[2]Gr10!$A$367","v":0},"10_4"]
[{"$f":"[2]Gr10!$A$368","v":0},"10_4"]
[{"$f":"[2]Gr10!$A$369","v":0},"10_4"]
[{"$f":"[2]Gr10!$A$370","v":0},"10_4"]
[{"$f":"[2]Gr10!$A$371","v":0},"10_4"]
[{"$f":"[2]Gr10!$A$372","v":0},"10_4"]
[{"$f":"[2]Gr10!$A$373","v":0},"10_4"]
[{"$f":"[2]Gr10!$A$374","v":0},"10_4"]
[{"$f":"[2]Gr10!$A$375","v":0},"10_4"]
[{"$f":"[2]Gr10!$A$376","v":0},"10_4"]
[{"$f":"[2]Gr10!$A$377","v":0},"10_4"]
[{"$f":"[2]Gr10!$A$378","v":0},"10_4"]
[{"$f":"[2]Gr10!$A$379","v":0},"10_4"]
[{"$f":"[2]Gr10!$A$380","v":0},"10_4"]
[{"$f":"[2]Gr10!$A$381","v":0},"10_4"]
[{"$f":"[2]Gr10!$A$382","v":0},"10_4"]
[{"$f":"[2]Gr10!$A$383","v":0},"10_4"]
[{"$f":"[2]Gr10!$A$384","v":0},"10_4"]
[{"$f":"[2]Gr10!$A$385","v":0},"10_4"]
[{"$f":"[2]Gr10!$A$386","v":0},"10_4"]
[{"$f":"[2]Gr10!$A$387","v":0},"10_4"]
[{"$f":"[2]Gr10!$A$388","v":0},"10_4"]
[{"$f":"[2]Gr10!$A$389","v":0},"10_4"]
[{"$f":"[2]Gr10!$A$390","v":0},"10_4"]
[{"$f":"[2]Gr10!$A$391","v":0},"10_4"]
[{"$f":"[2]Gr10!$A$392","v":0},"10_4"]
[{"$f":"[2]Gr10!$A$393","v":0},"10_4"]
[{"$f":"[2]Gr10!$A$394","v":0},"10_4"]
[{"$f":"[2]Gr10!$A$395","v":0},"10_4"]
[{"$f":"[2]Gr10!$A$396","v":0},"10_4"]
[{"$f":"[2]Gr10!$A$397","v":0},"10_4"]
[{"$f":"[2]Gr10!$A$398","v":0},"10_4"]
[{"$f":"[2]Gr10!$A$399","v":0},"10_4"]
[{"$f":"[2]Gr10!$A$411","v":0},"10_5"]
[{"$f":"[2]Gr10!$A$412","v":0},"10_5"]
[{"$f":"[2]Gr10!$A$413","v":0},"10_5"]
[{"$f":"[2]Gr10!$A$414","v":0},"10_5"]
[{"$f":"[2]Gr10!$A$415","v":0},"10_5"]
[{"$f":"[2]Gr10!$A$416","v":0},"10_5"]
[{"$f":"[2]Gr10!$A$417","v":0},"10_5"]
[{"$f":"[2]Gr10!$A$418","v":0},"10_5"]
[{"$f":"[2]Gr10!$A$419","v":0},"10_5"]
[{"$f":"[2]Gr10!$A$420","v":0},"10_5"]
[{"$f":"[2]Gr10!$A$421","v":0},"10_5"]
[{"$f":"[2]Gr10!$A$422","v":0},"10_5"]
[{"$f":"[2]Gr10!$A$423","v":0},"10_5"]
[{"$f":"[2]Gr10!$A$424","v":0},"10_5"]
[{"$f":"[2]Gr10!$A$425","v":0},"10_5"]
[{"$f":"[2]Gr10!$A$426","v":0},"10_5"]
[{"$f":"[2]Gr10!$A$427","v":0},"10_5"]
[{"$f":"[2]Gr10!$A$428","v":0},"10_5"]
[{"$f":"[2]Gr10!$A$429","v":0},"10_5"]
[{"$f":"[2]Gr10!$A$430","v":0},"10_5"]
[{"$f":"[2]Gr10!$A$431","v":0},"10_5"]
[{"$f":"[2]Gr10!$A$432","v":0},"10_5"]
[{"$f":"[2]Gr10!$A$433","v":0},"10_5"]
[{"$f":"[2]Gr10!$A$434","v":0},"10_5"]
[{"$f":"[2]Gr10!$A$435","v":0},"10_5"]
[{"$f":"[2]Gr10!$A$436","v":0},"10_5"]
[{"$f":"[2]Gr10!$A$437","v":0},"10_5"]
[{"$f":"[2]Gr10!$A$438","v":0},"10_5"]
[{"$f":"[2]Gr10!$A$439","v":0},"10_5"]
[{"$f":"[2]Gr10!$A$440","v":0},"10_5"]
[{"$f":"[2]Gr10!$A$441","v":0},"10_5"]
[{"$f":"[2]Gr10!$A$442","v":0},"10_5"]
[{"$f":"[2]Gr10!$A$443","v":0},"10_5"]
[{"$f":"[2]Gr10!$A$444","v":0},"10_5"]
[{"$f":"[2]Gr10!$A$445","v":0},"10_5"]
[{"$f":"[2]Gr10!$A$446","v":0},"10_5"]
[{"$f":"[2]Gr10!$A$447","v":0},"10_5"]
[{"$f":"[2]Gr10!$A$448","v":0},"10_5"]
[{"$f":"[2]Gr10!$A$449","v":0},"10_5"]
[{"$f":"[2]Gr10!$A$450","v":0},"10_5"]
[{"$f":"[2]Gr10!$A$451","v":0},"10_5"]
[{"$f":"[2]Gr10!$A$452","v":0},"10_5"]
[{"$f":"[2]Gr10!$A$453","v":0},"10_5"]
[{"$f":"[2]Gr10!$A$454","v":0},"10_5"]
[{"$f":"[2]Gr10!$A$455","v":0},"10_5"]
[{"$f":"[2]Gr10!$A$456","v":0},"10_5"]
[{"$f":"[2]Gr10!$A$457","v":0},"10_5"]
[{"$f":"[2]Gr10!$A$458","v":0},"10_5"]
[{"$f":"[2]Gr10!$A$459","v":0},"10_5"]
[{"$f":"[2]Gr10!$A$460","v":0},"10_5"]
[{"$f":"[2]Gr10!$A$461","v":0},"10_5"]
[{"$f":"[2]Gr10!$A$462","v":0},"10_5"]
[{"$f":"[2]Gr10!$A$463","v":0},"10_5"]
[{"$f":"[2]Gr10!$A$464","v":0},"10_5"]
[{"$f":"[2]Gr10!$A$465","v":0},"10_5"]
[{"$f":"[2]Gr10!$A$466","v":0},"10_5"]
[{"$f":"[2]Gr10!$A$467","v":0},"10_5"]
[{"$f":"[2]Gr10!$A$468","v":0},"10_5"]
[{"$f":"[2]Gr10!$A$469","v":0},"10_5"]
[{"$f":"[2]Gr10!$A$470","v":0},"10_5"]
[{"$f":"[2]Gr10!$A$471","v":0},"10_5"]
[{"$f":"[2]Gr10!$A$472","v":0},"10_5"]
[{"$f":"[2]Gr10!$A$473","v":0},"10_5"]
[{"$f":"[2]Gr10!$A$474","v":0},"10_5"]
[{"$f":"[2]Gr10!$A$475","v":0},"10_5"]
[{"$f":"[2]Gr10!$A$476","v":0},"10_5"]
[{"$f":"[2]Gr10!$A$477","v":0},"10_5"]
[{"$f":"[2]Gr10!$A$478","v":0},"10_5"]
[{"$f":"[2]Gr10!$A$479","v":0},"10_5"]
[{"$f":"[2]Gr10!$A$480","v":0},"10_5"]
[{"$f":"[2]Gr10!$A$481","v":0},"10_5"]
[{"$f":"[2]Gr10!$A$482","v":0},"10_5"]
[{"$f":"[2]Gr10!$A$483","v":0},"10_5"]
[{"$f":"[2]Gr10!$A$484","v":0},"10_5"]
[{"$f":"[2]Gr10!$A$485","v":0},"10_5"]
[{"$f":"[2]Gr10!$A$486","v":0},"10_5"]
[{"$f":"[2]Gr10!$A$487","v":0},"10_5"]
[{"$f":"[2]Gr10!$A$488","v":0},"10_5"]
[{"$f":"[2]Gr10!$A$489","v":0},"10_5"]
[{"$f":"[2]Gr10!$A$490","v":0},"10_5"]
[{"$f":"[2]Gr10!$A$491","v":0},"10_5"]
[{"$f":"[2]Gr10!$A$492","v":0},"10_5"]
[{"$f":"[2]Gr10!$A$493","v":0},"10_5"]
[{"$f":"[2]Gr10!$A$494","v":0},"10_5"]
[{"$f":"[2]Gr10!$A$495","v":0},"10_5"]
[{"$f":"[2]Gr10!$A$496","v":0},"10_5"]
[{"$f":"[2]Gr10!$A$497","v":0},"10_5"]
[{"$f":"[2]Gr10!$A$498","v":0},"10_5"]
[{"$f":"[2]Gr10!$A$499","v":0},"10_5"]
[{"$f":"[2]Gr10!$A$511","v":0},"10_6"]
[{"$f":"[2]Gr10!$A$512","v":0},"10_6"]
[{"$f":"[2]Gr10!$A$513","v":0},"10_6"]
[{"$f":"[2]Gr10!$A$514","v":0},"10_6"]
[{"$f":"[2]Gr10!$A$515","v":0},"10_6"]
[{"$f":"[2]Gr10!$A$516","v":0},"10_6"]
[{"$f":"[2]Gr10!$A$517","v":0},"10_6"]
[{"$f":"[2]Gr10!$A$518","v":0},"10_6"]
[{"$f":"[2]Gr10!$A$519","v":0},"10_6"]
[{"$f":"[2]Gr10!$A$520","v":0},"10_6"]
[{"$f":"[2]Gr10!$A$521","v":0},"10_6"]
[{"$f":"[2]Gr10!$A$522","v":0},"10_6"]
[{"$f":"[2]Gr10!$A$523","v":0},"10_6"]
[{"$f":"[2]Gr10!$A$524","v":0},"10_6"]
[{"$f":"[2]Gr10!$A$525","v":0},"10_6"]
[{"$f":"[2]Gr10!$A$526","v":0},"10_6"]
[{"$f":"[2]Gr10!$A$527","v":0},"10_6"]
[{"$f":"[2]Gr10!$A$528","v":0},"10_6"]
[{"$f":"[2]Gr10!$A$529","v":0},"10_6"]
[{"$f":"[2]Gr10!$A$530","v":0},"10_6"]
[{"$f":"[2]Gr10!$A$531","v":0},"10_6"]
[{"$f":"[2]Gr10!$A$532","v":0},"10_6"]
[{"$f":"[2]Gr10!$A$533","v":0},"10_6"]
[{"$f":"[2]Gr10!$A$534","v":0},"10_6"]
[{"$f":"[2]Gr10!$A$535","v":0},"10_6"]
[{"$f":"[2]Gr10!$A$536","v":0},"10_6"]
[{"$f":"[2]Gr10!$A$537","v":0},"10_6"]
[{"$f":"[2]Gr10!$A$538","v":0},"10_6"]
[{"$f":"[2]Gr10!$A$539","v":0},"10_6"]
[{"$f":"[2]Gr10!$A$540","v":0},"10_6"]
[{"$f":"[2]Gr10!$A$541","v":0},"10_6"]
[{"$f":"[2]Gr10!$A$542","v":0},"10_6"]
[{"$f":"[2]Gr10!$A$543","v":0},"10_6"]
[{"$f":"[2]Gr10!$A$544","v":0},"10_6"]
[{"$f":"[2]Gr10!$A$545","v":0},"10_6"]
[{"$f":"[2]Gr10!$A$546","v":0},"10_6"]
[{"$f":"[2]Gr10!$A$547","v":0},"10_6"]
[{"$f":"[2]Gr10!$A$548","v":0},"10_6"]
[{"$f":"[2]Gr10!$A$549","v":0},"10_6"]
[{"$f":"[2]Gr10!$A$550","v":0},"10_6"]
[{"$f":"[2]Gr10!$A$551","v":0},"10_6"]
[{"$f":"[2]Gr10!$A$552","v":0},"10_6"]
[{"$f":"[2]Gr10!$A$553","v":0},"10_6"]
[{"$f":"[2]Gr10!$A$554","v":0},"10_6"]
[{"$f":"[2]Gr10!$A$555","v":0},"10_6"]
[{"$f":"[2]Gr10!$A$556","v":0},"10_6"]
[{"$f":"[2]Gr10!$A$557","v":0},"10_6"]
[{"$f":"[2]Gr10!$A$558","v":0},"10_6"]
[{"$f":"[2]Gr10!$A$559","v":0},"10_6"]
[{"$f":"[2]Gr10!$A$560","v":0},"10_6"]
[{"$f":"[2]Gr10!$A$561","v":0},"10_6"]
[{"$f":"[2]Gr10!$A$562","v":0},"10_6"]
[{"$f":"[2]Gr10!$A$563","v":0},"10_6"]
[{"$f":"[2]Gr10!$A$564","v":0},"10_6"]
[{"$f":"[2]Gr10!$A$565","v":0},"10_6"]
[{"$f":"[2]Gr10!$A$566","v":0},"10_6"]
[{"$f":"[2]Gr10!$A$567","v":0},"10_6"]
[{"$f":"[2]Gr10!$A$568","v":0},"10_6"]
[{"$f":"[2]Gr10!$A$569","v":0},"10_6"]
[{"$f":"[2]Gr10!$A$570","v":0},"10_6"]
[{"$f":"[2]Gr10!$A$571","v":0},"10_6"]
[{"$f":"[2]Gr10!$A$572","v":0},"10_6"]
[{"$f":"[2]Gr10!$A$573","v":0},"10_6"]
[{"$f":"[2]Gr10!$A$574","v":0},"10_6"]
[{"$f":"[2]Gr10!$A$575","v":0},"10_6"]
[{"$f":"[2]Gr10!$A$576","v":0},"10_6"]
[{"$f":"[2]Gr10!$A$577","v":0},"10_6"]
[{"$f":"[2]Gr10!$A$578","v":0},"10_6"]
[{"$f":"[2]Gr10!$A$579","v":0},"10_6"]
[{"$f":"[2]Gr10!$A$580","v":0},"10_6"]
[{"$f":"[2]Gr10!$A$581","v":0},"10_6"]
[{"$f":"[2]Gr10!$A$582","v":0},"10_6"]
[{"$f":"[2]Gr10!$A$583","v":0},"10_6"]
[{"$f":"[2]Gr10!$A$584","v":0},"10_6"]
[{"$f":"[2]Gr10!$A$585","v":0},"10_6"]
[{"$f":"[2]Gr10!$A$586","v":0},"10_6"]
[{"$f":"[2]Gr10!$A$587","v":0},"10_6"]
[{"$f":"[2]Gr10!$A$588","v":0},"10_6"]
[{"$f":"[2]Gr10!$A$589","v":0},"10_6"]
[{"$f":"[2]Gr10!$A$590","v":0},"10_6"]
[{"$f":"[2]Gr10!$A$591","v":0},"10_6"]
[{"$f":"[2]Gr10!$A$592","v":0},"10_6"]
[{"$f":"[2]Gr10!$A$593","v":0},"10_6"]
[{"$f":"[2]Gr10!$A$594","v":0},"10_6"]
[{"$f":"[2]Gr10!$A$595","v":0},"10_6"]
[{"$f":"[2]Gr10!$A$596","v":0},"10_6"]
[{"$f":"[2]Gr10!$A$597","v":0},"10_6"]
[{"$f":"[2]Gr10!$A$598","v":0},"10_6"]
[{"$f":"[2]Gr10!$A$599","v":0},"10_6"]
[{"$f":"[2]Gr11!$A$11","v":0},"11_1"]
[{"$f":"[2]Gr11!$A$12","v":0},"11_1"]
[{"$f":"[2]Gr11!$A$13","v":0},"11_1"]
[{"$f":"[2]Gr11!$A$14","v":0},"11_1"]
[{"$f":"[2]Gr11!$A$15","v":0},"11_1"]
[{"$f":"[2]Gr11!$A$16","v":0},"11_1"]
[{"$f":"[2]Gr11!$A$17","v":0},"11_1"]
[{"$f":"[2]Gr11!$A$18","v":0},"11_1"]
[{"$f":"[2]Gr11!$A$19","v":0},"11_1"]
[{"$f":"[2]Gr11!$A$20","v":0},"11_1"]
[{"$f":"[2]Gr11!$A$21","v":0},"11_1"]
[{"$f":"[2]Gr11!$A$22","v":0},"11_1"]
[{"$f":"[2]Gr11!$A$23","v":0},"11_1"]
[{"$f":"[2]Gr11!$A$24","v":0},"11_1"]
[{"$f":"[2]Gr11!$A$25","v":0},"11_1"]
[{"$f":"[2]Gr11!$A$26","v":0},"11_1"]
[{"$f":"[2]Gr11!$A$27","v":0},"11_1"]
[{"$f":"[2]Gr11!$A$28","v":0},"11_1"]
[{"$f":"[2]Gr11!$A$29","v":0},"11_1"]
[{"$f":"[2]Gr11!$A$30","v":0},"11_1"]
[{"$f":"[2]Gr11!$A$31","v":0},"11_1"]
[{"$f":"[2]Gr11!$A$32","v":0},"11_1"]
[{"$f":"[2]Gr11!$A$33","v":0},"11_1"]
[{"$f":"[2]Gr11!$A$34","v":0},"11_1"]
[{"$f":"[2]Gr11!$A$35","v":0},"11_1"]
[{"$f":"[2]Gr11!$A$36","v":0},"11_1"]
[{"$f":"[2]Gr11!$A$37","v":0},"11_1"]
[{"$f":"[2]Gr11!$A$38","v":0},"11_1"]
[{"$f":"[2]Gr11!$A$39","v":0},"11_1"]
[{"$f":"[2]Gr11!$A$40","v":0},"11_1"]
[{"$f":"[2]Gr11!$A$41","v":0},"11_1"]
[{"$f":"[2]Gr11!$A$42","v":0},"11_1"]
[{"$f":"[2]Gr11!$A$43","v":0},"11_1"]
[{"$f":"[2]Gr11!$A$44","v":0},"11_1"]
[{"$f":"[2]Gr11!$A$45","v":0},"11_1"]
[{"$f":"[2]Gr11!$A$46","v":0},"11_1"]
[{"$f":"[2]Gr11!$A$47","v":0},"11_1"]
[{"$f":"[2]Gr11!$A$48","v":0},"11_1"]
[{"$f":"[2]Gr11!$A$49","v":0},"11_1"]
[{"$f":"[2]Gr11!$A$50","v":0},"11_1"]
[{"$f":"[2]Gr11!$A$51","v":0},"11_1"]
[{"$f":"[2]Gr11!$A$52","v":0},"11_1"]
[{"$f":"[2]Gr11!$A$53","v":0},"11_1"]
[{"$f":"[2]Gr11!$A$54","v":0},"11_1"]
[{"$f":"[2]Gr11!$A$55","v":0},"11_1"]
[{"$f":"[2]Gr11!$A$56","v":0},"11_1"]
[{"$f":"[2]Gr11!$A$57","v":0},"11_1"]
[{"$f":"[2]Gr11!$A$58","v":0},"11_1"]
[{"$f":"[2]Gr11!$A$59","v":0},"11_1"]
[{"$f":"[2]Gr11!$A$60","v":0},"11_1"]
[{"$f":"[2]Gr11!$A$61","v":0},"11_1"]
[{"$f":"[2]Gr11!$A$62","v":0},"11_1"]
[{"$f":"[2]Gr11!$A$63","v":0},"11_1"]
[{"$f":"[2]Gr11!$A$64","v":0},"11_1"]
[{"$f":"[2]Gr11!$A$65","v":0},"11_1"]
[{"$f":"[2]Gr11!$A$66","v":0},"11_1"]
[{"$f":"[2]Gr11!$A$67","v":0},"11_1"]
[{"$f":"[2]Gr11!$A$68","v":0},"11_1"]
[{"$f":"[2]Gr11!$A$69","v":0},"11_1"]
[{"$f":"[2]Gr11!$A$70","v":0},"11_1"]
[{"$f":"[2]Gr11!$A$71","v":0},"11_1"]
[{"$f":"[2]Gr11!$A$72","v":0},"11_1"]
[{"$f":"[2]Gr11!$A$73","v":0},"11_1"]
[{"$f":"[2]Gr11!$A$74","v":0},"11_1"]
[{"$f":"[2]Gr11!$A$75","v":0},"11_1"]
[{"$f":"[2]Gr11!$A$76","v":0},"11_1"]
[{"$f":"[2]Gr11!$A$77","v":0},"11_1"]
[{"$f":"[2]Gr11!$A$78","v":0},"11_1"]
[{"$f":"[2]Gr11!$A$79","v":0},"11_1"]
[{"$f":"[2]Gr11!$A$80","v":0},"11_1"]
[{"$f":"[2]Gr11!$A$81","v":0},"11_1"]
[{"$f":"[2]Gr11!$A$82","v":0},"11_1"]
[{"$f":"[2]Gr11!$A$83","v":0},"11_1"]
[{"$f":"[2]Gr11!$A$84","v":0},"11_1"]
[{"$f":"[2]Gr11!$A$85","v":0},"11_1"]
[{"$f":"[2]Gr11!$A$86","v":0},"11_1"]
[{"$f":"[2]Gr11!$A$87","v":0},"11_1"]
[{"$f":"[2]Gr11!$A$88","v":0},"11_1"]
[{"$f":"[2]Gr11!$A$89","v":0},"11_1"]
[{"$f":"[2]Gr11!$A$90","v":0},"11_1"]
[{"$f":"[2]Gr11!$A$91","v":0},"11_1"]
[{"$f":"[2]Gr11!$A$92","v":0},"11_1"]
[{"$f":"[2]Gr11!$A$93","v":0},"11_1"]
[{"$f":"[2]Gr11!$A$94","v":0},"11_1"]
[{"$f":"[2]Gr11!$A$95","v":0},"11_1"]
[{"$f":"[2]Gr11!$A$96","v":0},"11_1"]
[{"$f":"[2]Gr11!$A$97","v":0},"11_1"]
[{"$f":"[2]Gr11!$A$98","v":0},"11_1"]
[{"$f":"[2]Gr11!$A$99","v":0},"11_1"]
[{"$f":"[2]Gr11!$A$100","v":0},"11_1"]
[{"$f":"[2]Gr11!$A$101","v":0},"11_1"]
[{"$f":"[2]Gr11!$A$102","v":0},"11_1"]
[{"$f":"[2]Gr11!$A$103","v":0},"11_1"]
[{"$f":"[2]Gr11!$A$104","v":0},"11_1"]
[{"$f":"[2]Gr11!$A$105","v":0},"11_1"]
[{"$f":"[2]Gr11!$A$106","v":0},"11_1"]
[{"$f":"[2]Gr11!$A$107","v":0},"11_1"]
[{"$f":"[2]Gr11!$A$108","v":0},"11_1"]
[{"$f":"[2]Gr11!$A$109","v":0},"11_1"]
[{"$f":"[2]Gr11!$A$110","v":0},"11_1"]
[{"$f":"[2]Gr11!$A$111","v":0},"11_1"]
[{"$f":"[2]Gr11!$A$112","v":0},"11_1"]
[{"$f":"[2]Gr11!$A$113","v":0},"11_1"]
[{"$f":"[2]Gr11!$A$114","v":0},"11_1"]
[{"$f":"[2]Gr11!$A$115","v":0},"11_1"]
[{"$f":"[2]Gr11!$A$116","v":0},"11_1"]
[{"$f":"[2]Gr11!$A$117","v":0},"11_1"]
[{"$f":"[2]Gr11!$A$118","v":0},"11_1"]
[{"$f":"[2]Gr11!$A$119","v":0},"11_1"]
[{"$f":"[2]Gr11!$A$120","v":0},"11_1"]
[{"$f":"[2]Gr11!$A$121","v":0},"11_1"]
[{"$f":"[2]Gr11!$A$122","v":0},"11_1"]
[{"$f":"[2]Gr11!$A$123","v":0},"11_1"]
[{"$f":"[2]Gr11!$A$124","v":0},"11_1"]
[{"$f":"[2]Gr11!$A$125","v":0},"11_1"]
[{"$f":"[2]Gr11!$A$126","v":0},"11_1"]
[{"$f":"[2]Gr11!$A$127","v":0},"11_1"]
[{"$f":"[2]Gr11!$A$128","v":0},"11_1"]
[{"$f":"[2]Gr11!$A$129","v":0},"11_1"]
[{"$f":"[2]Gr11!$A$130","v":0},"11_1"]
[{"$f":"[2]Gr11!$A$131","v":0},"11_1"]
[{"$f":"[2]Gr11!$A$132","v":0},"11_1"]
[{"$f":"[2]Gr11!$A$133","v":0},"11_1"]
[{"$f":"[2]Gr11!$A$134","v":0},"11_1"]
[{"$f":"[2]Gr11!$A$135","v":0},"11_1"]
[{"$f":"[2]Gr11!$A$136","v":0},"11_1"]
[{"$f":"[2]Gr11!$A$137","v":0},"11_1"]
[{"$f":"[2]Gr11!$A$138","v":0},"11_1"]
[{"$f":"[2]Gr11!$A$139","v":0},"11_1"]
[{"$f":"[2]Gr11!$A$140","v":0},"11_1"]
[{"$f":"[2]Gr11!$A$141","v":0},"11_1"]
[{"$f":"[2]Gr11!$A$142","v":0},"11_1"]
[{"$f":"[2]Gr11!$A$143","v":0},"11_1"]
[{"$f":"[2]Gr11!$A$144","v":0},"11_1"]
[{"$f":"[2]Gr11!$A$145","v":0},"11_1"]
[{"$f":"[2]Gr11!$A$146","v":0},"11_1"]
[{"$f":"[2]Gr11!$A$147","v":0},"11_1"]
[{"$f":"[2]Gr11!$A$148","v":0},"11_1"]
[{"$f":"[2]Gr11!$A$149","v":0},"11_1"]
[{"$f":"[2]Gr11!$A$150","v":0},"11_1"]
[{"$f":"[2]Gr11!$A$151","v":0},"11_1"]
[{"$f":"[2]Gr11!$A$152","v":0},"11_1"]
[{"$f":"[2]Gr11!$A$153","v":0},"11_1"]
[{"$f":"[2]Gr11!$A$154","v":0},"11_1"]
[{"$f":"[2]Gr11!$A$155","v":0},"11_1"]
[{"$f":"[2]Gr11!$A$156","v":0},"11_1"]
[{"$f":"[2]Gr11!$A$157","v":0},"11_1"]
[{"$f":"[2]Gr11!$A$158","v":0},"11_1"]
[{"$f":"[2]Gr11!$A$159","v":0},"11_1"]
[{"$f":"[2]Gr11!$A$160","v":0},"11_1"]
[{"$f":"[2]Gr11!$A$161","v":0},"11_1"]
[{"$f":"[2]Gr11!$A$162","v":0},"11_1"]
[{"$f":"[2]Gr11!$A$163","v":0},"11_1"]
[{"$f":"[2]Gr11!$A$164","v":0},"11_1"]
[{"$f":"[2]Gr11!$A$165","v":0},"11_1"]
[{"$f":"[2]Gr11!$A$166","v":0},"11_1"]
[{"$f":"[2]Gr11!$A$167","v":0},"11_1"]
[{"$f":"[2]Gr11!$A$168","v":0},"11_1"]
[{"$f":"[2]Gr11!$A$169","v":0},"11_1"]
[{"$f":"[2]Gr11!$A$170","v":0},"11_1"]
[{"$f":"[2]Gr11!$A$171","v":0},"11_1"]
[{"$f":"[2]Gr11!$A$172","v":0},"11_1"]
[{"$f":"[2]Gr11!$A$173","v":0},"11_1"]
[{"$f":"[2]Gr11!$A$174","v":0},"11_1"]
[{"$f":"[2]Gr11!$A$175","v":0},"11_1"]
[{"$f":"[2]Gr11!$A$176","v":0},"11_1"]
[{"$f":"[2]Gr11!$A$177","v":0},"11_1"]
[{"$f":"[2]Gr11!$A$178","v":0},"11_1"]
[{"$f":"[2]Gr11!$A$179","v":0},"11_1"]
[{"$f":"[2]Gr11!$A$180","v":0},"11_1"]
[{"$f":"[2]Gr11!$A$181","v":0},"11_1"]
[{"$f":"[2]Gr11!$A$182","v":0},"11_1"]
[{"$f":"[2]Gr11!$A$183","v":0},"11_1"]
[{"$f":"[2]Gr11!$A$184","v":0},"11_1"]
[{"$f":"[2]Gr11!$A$185","v":0},"11_1"]
[{"$f":"[2]Gr11!$A$186","v":0},"11_1"]
[{"$f":"[2]Gr11!$A$187","v":0},"11_1"]
[{"$f":"[2]Gr11!$A$188","v":0},"11_1"]
[{"$f":"[2]Gr11!$A$189","v":0},"11_1"]
[{"$f":"[2]Gr11!$A$190","v":0},"11_1"]
[{"$f":"[2]Gr11!$A$191","v":0},"11_1"]
[{"$f":"[2]Gr11!$A$192","v":0},"11_1"]
[{"$f":"[2]Gr11!$A$193","v":0},"11_1"]
[{"$f":"[2]Gr11!$A$194","v":0},"11_1"]
[{"$f":"[2]Gr11!$A$195","v":0},"11_1"]
[{"$f":"[2]Gr11!$A$196","v":0},"11_1"]
[{"$f":"[2]Gr11!$A$197","v":0},"11_1"]
[{"$f":"[2]Gr11!$A$198","v":0},"11_1"]
[{"$f":"[2]Gr11!$A$199","v":0},"11_1"]
[{"$f":"[2]Gr11!$A$200","v":0},"11_1"]
[{"$f":"[2]Gr11!$A$201","v":0},"11_1"]
[{"$f":"[2]Gr11!$A$202","v":0},"11_1"]
[{"$f":"[2]Gr11!$A$203","v":0},"11_1"]
[{"$f":"[2]Gr11!$A$204","v":0},"11_1"]
[{"$f":"[2]Gr11!$A$205","v":0},"11_1"]
[{"$f":"[2]Gr11!$A$206","v":0},"11_1"]
[{"$f":"[2]Gr11!$A$207","v":0},"11_1"]
[{"$f":"[2]Gr11!$A$208","v":0},"11_1"]
[{"$f":"[2]Gr11!$A$209","v":0},"11_1"]
[{"$f":"[2]Gr11!$A$210","v":0},"11_1"]
[{"$f":"[2]Gr11!$A$211","v":0},"11_1"]
[{"$f":"[2]Gr11!$A$212","v":0},"11_1"]
[{"$f":"[2]Gr11!$A$213","v":0},"11_1"]
[{"$f":"[2]Gr11!$A$214","v":0},"11_1"]
[{"$f":"[2]Gr11!$A$215","v":0},"11_1"]
[{"$f":"[2]Gr11!$A$216","v":0},"11_1"]
[{"$f":"[2]Gr11!$A$217","v":0},"11_1"]
[{"$f":"[2]Gr11!$A$218","v":0},"11_1"]
[{"$f":"[2]Gr11!$A$219","v":0},"11_1"]
[{"$f":"[2]Gr11!$A$220","v":0},"11_1"]
[{"$f":"[2]Gr11!$A$221","v":0},"11_1"]
[{"$f":"[2]Gr11!$A$222","v":0},"11_1"]
[{"$f":"[2]Gr11!$A$223","v":0},"11_1"]
[{"$f":"[2]Gr11!$A$224","v":0},"11_1"]
[{"$f":"[2]Gr11!$A$225","v":0},"11_1"]
[{"$f":"[2]Gr11!$A$226","v":0},"11_1"]
[{"$f":"[2]Gr11!$A$227","v":0},"11_1"]
[{"$f":"[2]Gr11!$A$228","v":0},"11_1"]
[{"$f":"[2]Gr11!$A$229","v":0},"11_1"]
[{"$f":"[2]Gr11!$A$230","v":0},"11_1"]
[{"$f":"[2]Gr11!$A$231","v":0},"11_1"]
[{"$f":"[2]Gr11!$A$232","v":0},"11_1"]
[{"$f":"[2]Gr11!$A$233","v":0},"11_1"]
[{"$f":"[2]Gr11!$A$234","v":0},"11_1"]
[{"$f":"[2]Gr11!$A$235","v":0},"11_1"]
[{"$f":"[2]Gr11!$A$236","v":0},"11_1"]
[{"$f":"[2]Gr11!$A$237","v":0},"11_1"]
[{"$f":"[2]Gr11!$A$238","v":0},"11_1"]
[{"$f":"[2]Gr11!$A$239","v":0},"11_1"]
[{"$f":"[2]Gr11!$A$240","v":0},"11_1"]
[{"$f":"[2]Gr11!$A$241","v":0},"11_1"]
[{"$f":"[2]Gr11!$A$242","v":0},"11_1"]
[{"$f":"[2]Gr11!$A$243","v":0},"11_1"]
[{"$f":"[2]Gr11!$A$244","v":0},"11_1"]
[{"$f":"[2]Gr11!$A$245","v":0},"11_1"]
[{"$f":"[2]Gr11!$A$246","v":0},"11_1"]
[{"$f":"[2]Gr11!$A$247","v":0},"11_1"]
[{"$f":"[2]Gr11!$A$248","v":0},"11_1"]
[{"$f":"[2]Gr11!$A$249","v":0},"11_1"]
[{"$f":"[2]Gr11!$A$250","v":0},"11_1"]
[{"$f":"[2]Gr11!$A$251","v":0},"11_1"]
[{"$f":"[2]Gr11!$A$252","v":0},"11_1"]
[{"$f":"[2]Gr11!$A$253","v":0},"11_1"]
[{"$f":"[2]Gr11!$A$254","v":0},"11_1"]
[{"$f":"[2]Gr11!$A$255","v":0},"11_1"]
[{"$f":"[2]Gr11!$A$256","v":0},"11_1"]
[{"$f":"[2]Gr11!$A$257","v":0},"11_1"]
[{"$f":"[2]Gr11!$A$258","v":0},"11_1"]
[{"$f":"[2]Gr11!$A$259","v":0},"11_1"]
[{"$f":"[2]Gr11!$A$260","v":0},"11_1"]
[{"$f":"[2]Gr11!$A$261","v":0},"11_1"]
[{"$f":"[2]Gr11!$A$262","v":0},"11_1"]
[{"$f":"[2]Gr11!$A$263","v":0},"11_1"]
[{"$f":"[2]Gr11!$A$264","v":0},"11_1"]
[{"$f":"[2]Gr11!$A$265","v":0},"11_1"]
[{"$f":"[2]Gr11!$A$266","v":0},"11_1"]
[{"$f":"[2]Gr11!$A$267","v":0},"11_1"]
[{"$f":"[2]Gr11!$A$268","v":0},"11_1"]
[{"$f":"[2]Gr11!$A$269","v":0},"11_1"]
[{"$f":"[2]Gr11!$A$270","v":0},"11_1"]
[{"$f":"[2]Gr11!$A$271","v":0},"11_1"]
[{"$f":"[2]Gr11!$A$272","v":0},"11_1"]
[{"$f":"[2]Gr11!$A$273","v":0},"11_1"]
[{"$f":"[2]Gr11!$A$274","v":0},"11_1"]
[{"$f":"[2]Gr11!$A$275","v":0},"11_1"]
[{"$f":"[2]Gr11!$A$276","v":0},"11_1"]
[{"$f":"[2]Gr11!$A$277","v":0},"11_1"]
[{"$f":"[2]Gr11!$A$278","v":0},"11_1"]
[{"$f":"[2]Gr11!$A$279","v":0},"11_1"]
[{"$f":"[2]Gr11!$A$280","v":0},"11_1"]
[{"$f":"[2]Gr11!$A$292","v":0},"11_2"]
[{"$f":"[2]Gr11!$A$293","v":0},"11_2"]
[{"$f":"[2]Gr11!$A$294","v":0},"11_2"]
[{"$f":"[2]Gr11!$A$295","v":0},"11_2"]
[{"$f":"[2]Gr11!$A$296","v":0},"11_2"]
[{"$f":"[2]Gr11!$A$297","v":0},"11_2"]
[{"$f":"[2]Gr11!$A$298","v":0},"11_2"]
[{"$f":"[2]Gr11!$A$299","v":0},"11_2"]
[{"$f":"[2]Gr11!$A$300","v":0},"11_2"]
[{"$f":"[2]Gr11!$A$301","v":0},"11_2"]
[{"$f":"[2]Gr11!$A$302","v":0},"11_2"]
[{"$f":"[2]Gr11!$A$303","v":0},"11_2"]
[{"$f":"[2]Gr11!$A$304","v":0},"11_2"]
[{"$f":"[2]Gr11!$A$305","v":0},"11_2"]
[{"$f":"[2]Gr11!$A$306","v":0},"11_2"]
[{"$f":"[2]Gr11!$A$307","v":0},"11_2"]
[{"$f":"[2]Gr11!$A$308","v":0},"11_2"]
[{"$f":"[2]Gr11!$A$309","v":0},"11_2"]
[{"$f":"[2]Gr11!$A$310","v":0},"11_2"]
[{"$f":"[2]Gr11!$A$311","v":0},"11_2"]
[{"$f":"[2]Gr11!$A$312","v":0},"11_2"]
[{"$f":"[2]Gr11!$A$313","v":0},"11_2"]
[{"$f":"[2]Gr11!$A$314","v":0},"11_2"]
[{"$f":"[2]Gr11!$A$315","v":0},"11_2"]
[{"$f":"[2]Gr11!$A$316","v":0},"11_2"]
[{"$f":"[2]Gr11!$A$317","v":0},"11_2"]
[{"$f":"[2]Gr11!$A$318","v":0},"11_2"]
[{"$f":"[2]Gr11!$A$319","v":0},"11_2"]
[{"$f":"[2]Gr11!$A$320","v":0},"11_2"]
[{"$f":"[2]Gr11!$A$321","v":0},"11_2"]
[{"$f":"[2]Gr11!$A$322","v":0},"11_2"]
[{"$f":"[2]Gr11!$A$323","v":0},"11_2"]
[{"$f":"[2]Gr11!$A$324","v":0},"11_2"]
[{"$f":"[2]Gr11!$A$325","v":0},"11_2"]
[{"$f":"[2]Gr11!$A$326","v":0},"11_2"]
[{"$f":"[2]Gr11!$A$327","v":0},"11_2"]
[{"$f":"[2]Gr11!$A$328","v":0},"11_2"]
[{"$f":"[2]Gr11!$A$329","v":0},"11_2"]
[{"$f":"[2]Gr11!$A$330","v":0},"11_2"]
[{"$f":"[2]Gr11!$A$331","v":0},"11_2"]
[{"$f":"[2]Gr11!$A$332","v":0},"11_2"]
[{"$f":"[2]Gr11!$A$333","v":0},"11_2"]
[{"$f":"[2]Gr11!$A$334","v":0},"11_2"]
[{"$f":"[2]Gr11!$A$335","v":0},"11_2"]
[{"$f":"[2]Gr11!$A$336","v":0},"11_2"]
[{"$f":"[2]Gr11!$A$337","v":0},"11_2"]
[{"$f":"[2]Gr11!$A$338","v":0},"11_2"]
[{"$f":"[2]Gr11!$A$339","v":0},"11_2"]
[{"$f":"[2]Gr11!$A$340","v":0},"11_2"]
[{"$f":"[2]Gr11!$A$341","v":0},"11_2"]
[{"$f":"[2]Gr11!$A$342","v":0},"11_2"]
[{"$f":"[2]Gr11!$A$343","v":0},"11_2"]
[{"$f":"[2]Gr11!$A$344","v":0},"11_2"]
[{"$f":"[2]Gr11!$A$345","v":0},"11_2"]
[{"$f":"[2]Gr11!$A$346","v":0},"11_2"]
[{"$f":"[2]Gr11!$A$347","v":0},"11_2"]
[{"$f":"[2]Gr11!$A$348","v":0},"11_2"]
[{"$f":"[2]Gr11!$A$349","v":0},"11_2"]
[{"$f":"[2]Gr11!$A$350","v":0},"11_2"]
[{"$f":"[2]Gr11!$A$351","v":0},"11_2"]
[{"$f":"[2]Gr11!$A$352","v":0},"11_2"]
[{"$f":"[2]Gr11!$A$353","v":0},"11_2"]
[{"$f":"[2]Gr11!$A$354","v":0},"11_2"]
[{"$f":"[2]Gr11!$A$355","v":0},"11_2"]
[{"$f":"[2]Gr11!$A$356","v":0},"11_2"]
[{"$f":"[2]Gr11!$A$357","v":0},"11_2"]
[{"$f":"[2]Gr11!$A$358","v":0},"11_2"]
[{"$f":"[2]Gr11!$A$359","v":0},"11_2"]
[{"$f":"[2]Gr11!$A$360","v":0},"11_2"]
[{"$f":"[2]Gr11!$A$361","v":0},"11_2"]
[{"$f":"[2]Gr11!$A$362","v":0},"11_2"]
[{"$f":"[2]Gr11!$A$363","v":0},"11_2"]
[{"$f":"[2]Gr11!$A$364","v":0},"11_2"]
[{"$f":"[2]Gr11!$A$365","v":0},"11_2"]
[{"$f":"[2]Gr11!$A$366","v":0},"11_2"]
[{"$f":"[2]Gr11!$A$367","v":0},"11_2"]
[{"$f":"[2]Gr11!$A$368","v":0},"11_2"]
[{"$f":"[2]Gr11!$A$369","v":0},"11_2"]
[{"$f":"[2]Gr11!$A$370","v":0},"11_2"]
[{"$f":"[2]Gr11!$A$371","v":0},"11_2"]
[{"$f":"[2]Gr11!$A$372","v":0},"11_2"]
[{"$f":"[2]Gr11!$A$373","v":0},"11_2"]
[{"$f":"[2]Gr11!$A$374","v":0},"11_2"]
[{"$f":"[2]Gr11!$A$375","v":0},"11_2"]
[{"$f":"[2]Gr11!$A$376","v":0},"11_2"]
[{"$f":"[2]Gr11!$A$377","v":0},"11_2"]
[{"$f":"[2]Gr11!$A$378","v":0},"11_2"]
[{"$f":"[2]Gr11!$A$379","v":0},"11_2"]
[{"$f":"[2]Gr11!$A$380","v":0},"11_2"]
[{"$f":"[2]Gr11!$A$381","v":0},"11_2"]
[{"$f":"[2]Gr11!$A$382","v":0},"11_2"]
[{"$f":"[2]Gr11!$A$383","v":0},"11_2"]
[{"$f":"[2]Gr11!$A$384","v":0},"11_2"]
[{"$f":"[2]Gr11!$A$385","v":0},"11_2"]
[{"$f":"[2]Gr11!$A$386","v":0},"11_2"]
[{"$f":"[2]Gr11!$A$387","v":0},"11_2"]
[{"$f":"[2]Gr11!$A$388","v":0},"11_2"]
[{"$f":"[2]Gr11!$A$389","v":0},"11_2"]
[{"$f":"[2]Gr11!$A$390","v":0},"11_2"]
[{"$f":"[2]Gr11!$A$391","v":0},"11_2"]
[{"$f":"[2]Gr11!$A$392","v":0},"11_2"]
[{"$f":"[2]Gr11!$A$393","v":0},"11_2"]
[{"$f":"[2]Gr11!$A$394","v":0},"11_2"]
[{"$f":"[2]Gr11!$A$395","v":0},"11_2"]
[{"$f":"[2]Gr11!$A$396","v":0},"11_2"]
[{"$f":"[2]Gr11!$A$397","v":0},"11_2"]
[{"$f":"[2]Gr11!$A$398","v":0},"11_2"]
[{"$f":"[2]Gr11!$A$399","v":0},"11_2"]
[{"$f":"[2]Gr11!$A$400","v":0},"11_2"]
[{"$f":"[2]Gr11!$A$401","v":0},"11_2"]
[{"$f":"[2]Gr11!$A$402","v":0},"11_2"]
[{"$f":"[2]Gr11!$A$403","v":0},"11_2"]
[{"$f":"[2]Gr11!$A$404","v":0},"11_2"]
[{"$f":"[2]Gr11!$A$405","v":0},"11_2"]
[{"$f":"[2]Gr11!$A$406","v":0},"11_2"]
[{"$f":"[2]Gr11!$A$407","v":0},"11_2"]
[{"$f":"[2]Gr11!$A$408","v":0},"11_2"]
[{"$f":"[2]Gr11!$A$409","v":0},"11_2"]
[{"$f":"[2]Gr11!$A$410","v":0},"11_2"]
[{"$f":"[2]Gr11!$A$411","v":0},"11_2"]
[{"$f":"[2]Gr11!$A$412","v":0},"11_2"]
[{"$f":"[2]Gr11!$A$413","v":0},"11_2"]
[{"$f":"[2]Gr11!$A$414","v":0},"11_2"]
[{"$f":"[2]Gr11!$A$415","v":0},"11_2"]
[{"$f":"[2]Gr11!$A$416","v":0},"11_2"]
[{"$f":"[2]Gr11!$A$417","v":0},"11_2"]
[{"$f":"[2]Gr11!$A$418","v":0},"11_2"]
[{"$f":"[2]Gr11!$A$419","v":0},"11_2"]
[{"$f":"[2]Gr11!$A$420","v":0},"11_2"]
[{"$f":"[2]Gr11!$A$421","v":0},"11_2"]
[{"$f":"[2]Gr11!$A$422","v":0},"11_2"]
[{"$f":"[2]Gr11!$A$423","v":0},"11_2"]
[{"$f":"[2]Gr11!$A$424","v":0},"11_2"]
[{"$f":"[2]Gr11!$A$425","v":0},"11_2"]
[{"$f":"[2]Gr11!$A$426","v":0},"11_2"]
[{"$f":"[2]Gr11!$A$427","v":0},"11_2"]
[{"$f":"[2]Gr11!$A$428","v":0},"11_2"]
[{"$f":"[2]Gr11!$A$429","v":0},"11_2"]
[{"$f":"[2]Gr11!$A$430","v":0},"11_2"]
[{"$f":"[2]Gr11!$A$431","v":0},"11_2"]
[{"$f":"[2]Gr11!$A$432","v":0},"11_2"]
[{"$f":"[2]Gr11!$A$433","v":0},"11_2"]
[{"$f":"[2]Gr11!$A$434","v":0},"11_2"]
[{"$f":"[2]Gr11!$A$435","v":0},"11_2"]
[{"$f":"[2]Gr11!$A$436","v":0},"11_2"]
[{"$f":"[2]Gr11!$A$437","v":0},"11_2"]
[{"$f":"[2]Gr11!$A$438","v":0},"11_2"]
[{"$f":"[2]Gr11!$A$439","v":0},"11_2"]
[{"$f":"[2]Gr11!$A$440","v":0},"11_2"]
[{"$f":"[2]Gr11!$A$441","v":0},"11_2"]
[{"$f":"[2]Gr11!$A$442","v":0},"11_2"]
[{"$f":"[2]Gr11!$A$443","v":0},"11_2"]
[{"$f":"[2]Gr11!$A$444","v":0},"11_2"]
[{"$f":"[2]Gr11!$A$445","v":0},"11_2"]
[{"$f":"[2]Gr11!$A$446","v":0},"11_2"]
[{"$f":"[2]Gr11!$A$447","v":0},"11_2"]
[{"$f":"[2]Gr11!$A$448","v":0},"11_2"]
[{"$f":"[2]Gr11!$A$449","v":0},"11_2"]
[{"$f":"[2]Gr11!$A$450","v":0},"11_2"]
[{"$f":"[2]Gr11!$A$451","v":0},"11_2"]
[{"$f":"[2]Gr11!$A$452","v":0},"11_2"]
[{"$f":"[2]Gr11!$A$453","v":0},"11_2"]
[{"$f":"[2]Gr11!$A$454","v":0},"11_2"]
[{"$f":"[2]Gr11!$A$455","v":0},"11_2"]
[{"$f":"[2]Gr11!$A$456","v":0},"11_2"]
[{"$f":"[2]Gr11!$A$457","v":0},"11_2"]
[{"$f":"[2]Gr11!$A$458","v":0},"11_2"]
[{"$f":"[2]Gr11!$A$459","v":0},"11_2"]
[{"$f":"[2]Gr11!$A$460","v":0},"11_2"]
[{"$f":"[2]Gr11!$A$461","v":0},"11_2"]
[{"$f":"[2]Gr11!$A$462","v":0},"11_2"]
[{"$f":"[2]Gr11!$A$463","v":0},"11_2"]
[{"$f":"[2]Gr11!$A$464","v":0},"11_2"]
[{"$f":"[2]Gr11!$A$465","v":0},"11_2"]
[{"$f":"[2]Gr11!$A$466","v":0},"11_2"]
[{"$f":"[2]Gr11!$A$467","v":0},"11_2"]
[{"$f":"[2]Gr11!$A$468","v":0},"11_2"]
[{"$f":"[2]Gr11!$A$469","v":0},"11_2"]
[{"$f":"[2]Gr11!$A$470","v":0},"11_2"]
[{"$f":"[2]Gr11!$A$471","v":0},"11_2"]
[{"$f":"[2]Gr11!$A$472","v":0},"11_2"]
[{"$f":"[2]Gr11!$A$473","v":0},"11_2"]
[{"$f":"[2]Gr11!$A$474","v":0},"11_2"]
[{"$f":"[2]Gr11!$A$475","v":0},"11_2"]
[{"$f":"[2]Gr11!$A$476","v":0},"11_2"]
[{"$f":"[2]Gr11!$A$477","v":0},"11_2"]
[{"$f":"[2]Gr11!$A$478","v":0},"11_2"]
[{"$f":"[2]Gr11!$A$479","v":0},"11_2"]
[{"$f":"[2]Gr11!$A$480","v":0},"11_2"]
[{"$f":"[2]Gr11!$A$481","v":0},"11_2"]
[{"$f":"[2]Gr11!$A$482","v":0},"11_2"]
[{"$f":"[2]Gr11!$A$483","v":0},"11_2"]
[{"$f":"[2]Gr11!$A$484","v":0},"11_2"]
[{"$f":"[2]Gr11!$A$485","v":0},"11_2"]
[{"$f":"[2]Gr11!$A$486","v":0},"11_2"]
[{"$f":"[2]Gr11!$A$487","v":0},"11_2"]
[{"$f":"[2]Gr11!$A$488","v":0},"11_2"]
[{"$f":"[2]Gr11!$A$489","v":0},"11_2"]
[{"$f":"[2]Gr11!$A$490","v":0},"11_2"]
[{"$f":"[2]Gr11!$A$491","v":0},"11_2"]
[{"$f":"[2]Gr11!$A$492","v":0},"11_2"]
[{"$f":"[2]Gr11!$A$493","v":0},"11_2"]
[{"$f":"[2]Gr11!$A$494","v":0},"11_2"]
[{"$f":"[2]Gr11!$A$495","v":0},"11_2"]
[{"$f":"[2]Gr11!$A$496","v":0},"11_2"]
[{"$f":"[2]Gr11!$A$497","v":0},"11_2"]
[{"$f":"[2]Gr11!$A$498","v":0},"11_2"]
[{"$f":"[2]Gr11!$A$499","v":0},"11_2"]
[{"$f":"[2]Gr11!$A$500","v":0},"11_2"]
[{"$f":"[2]Gr11!$A$501","v":0},"11_2"]
[{"$f":"[2]Gr11!$A$502","v":0},"11_2"]
[{"$f":"[2]Gr11!$A$503","v":0},"11_2"]
[{"$f":"[2]Gr11!$A$504","v":0},"11_2"]
[{"$f":"[2]Gr11!$A$505","v":0},"11_2"]
[{"$f":"[2]Gr11!$A$506","v":0},"11_2"]
[{"$f":"[2]Gr11!$A$507","v":0},"11_2"]
[{"$f":"[2]Gr11!$A$508","v":0},"11_2"]
[{"$f":"[2]Gr11!$A$509","v":0},"11_2"]
[{"$f":"[2]Gr11!$A$510","v":0},"11_2"]
[{"$f":"[2]Gr11!$A$511","v":0},"11_2"]
[{"$f":"[2]Gr11!$A$512","v":0},"11_2"]
[{"$f":"[2]Gr11!$A$513","v":0},"11_2"]
[{"$f":"[2]Gr11!$A$514","v":0},"11_2"]
[{"$f":"[2]Gr11!$A$515","v":0},"11_2"]
[{"$f":"[2]Gr11!$A$516","v":0},"11_2"]
[{"$f":"[2]Gr11!$A$517","v":0},"11_2"]
[{"$f":"[2]Gr11!$A$518","v":0},"11_2"]
[{"$f":"[2]Gr11!$A$519","v":0},"11_2"]
[{"$f":"[2]Gr11!$A$520","v":0},"11_2"]
[{"$f":"[2]Gr11!$A$521","v":0},"11_2"]
[{"$f":"[2]Gr11!$A$522","v":0},"11_2"]
[{"$f":"[2]Gr11!$A$523","v":0},"11_2"]
[{"$f":"[2]Gr11!$A$524","v":0},"11_2"]
[{"$f":"[2]Gr11!$A$525","v":0},"11_2"]
[{"$f":"[2]Gr11!$A$526","v":0},"11_2"]
[{"$f":"[2]Gr11!$A$527","v":0},"11_2"]
[{"$f":"[2]Gr11!$A$528","v":0},"11_2"]
[{"$f":"[2]Gr11!$A$529","v":0},"11_2"]
[{"$f":"[2]Gr11!$A$530","v":0},"11_2"]
[{"$f":"[2]Gr11!$A$531","v":0},"11_2"]
[{"$f":"[2]Gr11!$A$532","v":0},"11_2"]
[{"$f":"[2]Gr11!$A$533","v":0},"11_2"]
[{"$f":"[2]Gr11!$A$534","v":0},"11_2"]
[{"$f":"[2]Gr11!$A$535","v":0},"11_2"]
[{"$f":"[2]Gr11!$A$536","v":0},"11_2"]
[{"$f":"[2]Gr11!$A$537","v":0},"11_2"]
[{"$f":"[2]Gr11!$A$538","v":0},"11_2"]
[{"$f":"[2]Gr11!$A$539","v":0},"11_2"]
[{"$f":"[2]Gr11!$A$540","v":0},"11_2"]
[{"$f":"[2]Gr11!$A$541","v":0},"11_2"]
[{"$f":"[2]Gr11!$A$542","v":0},"11_2"]
[{"$f":"[2]Gr11!$A$543","v":0},"11_2"]
[{"$f":"[2]Gr11!$A$544","v":0},"11_2"]
[{"$f":"[2]Gr11!$A$545","v":0},"11_2"]
[{"$f":"[2]Gr11!$A$546","v":0},"11_2"]
[{"$f":"[2]Gr11!$A$547","v":0},"11_2"]
[{"$f":"[2]Gr11!$A$548","v":0},"11_2"]
[{"$f":"[2]Gr11!$A$549","v":0},"11_2"]
[{"$f":"[2]Gr11!$A$550","v":0},"11_2"]
[{"$f":"[2]Gr11!$A$551","v":0},"11_2"]
[{"$f":"[2]Gr11!$A$552","v":0},"11_2"]
[{"$f":"[2]Gr11!$A$553","v":0},"11_2"]
[{"$f":"[2]Gr11!$A$554","v":0},"11_2"]
[{"$f":"[2]Gr11!$A$555","v":0},"11_2"]
[{"$f":"[2]Gr11!$A$556","v":0},"11_2"]
[{"$f":"[2]Gr11!$A$557","v":0},"11_2"]
[{"$f":"[2]Gr11!$A$558","v":0},"11_2"]
[{"$f":"[2]Gr11!$A$559","v":0},"11_2"]
[{"$f":"[2]Gr11!$A$560","v":0},"11_2"]
[{"$f":"[2]Gr11!$A$561","v":0},"11_2"]
[{"$f":"[2]Gr11!$A$573","v":0},"11_3"]
[{"$f":"[2]Gr11!$A$574","v":0},"11_3"]
[{"$f":"[2]Gr11!$A$575","v":0},"11_3"]
[{"$f":"[2]Gr11!$A$576","v":0},"11_3"]
[{"$f":"[2]Gr11!$A$577","v":0},"11_3"]
[{"$f":"[2]Gr11!$A$578","v":0},"11_3"]
[{"$f":"[2]Gr11!$A$579","v":0},"11_3"]
[{"$f":"[2]Gr11!$A$580","v":0},"11_3"]
[{"$f":"[2]Gr11!$A$581","v":0},"11_3"]
[{"$f":"[2]Gr11!$A$582","v":0},"11_3"]
[{"$f":"[2]Gr11!$A$583","v":0},"11_3"]
[{"$f":"[2]Gr11!$A$584","v":0},"11_3"]
[{"$f":"[2]Gr11!$A$585","v":0},"11_3"]
[{"$f":"[2]Gr11!$A$586","v":0},"11_3"]
[{"$f":"[2]Gr11!$A$587","v":0},"11_3"]
[{"$f":"[2]Gr11!$A$588","v":0},"11_3"]
[{"$f":"[2]Gr11!$A$589","v":0},"11_3"]
[{"$f":"[2]Gr11!$A$590","v":0},"11_3"]
[{"$f":"[2]Gr11!$A$591","v":0},"11_3"]
[{"$f":"[2]Gr11!$A$592","v":0},"11_3"]
[{"$f":"[2]Gr11!$A$593","v":0},"11_3"]
[{"$f":"[2]Gr11!$A$594","v":0},"11_3"]
[{"$f":"[2]Gr11!$A$595","v":0},"11_3"]
[{"$f":"[2]Gr11!$A$596","v":0},"11_3"]
[{"$f":"[2]Gr11!$A$597","v":0},"11_3"]
[{"$f":"[2]Gr11!$A$598","v":0},"11_3"]
[{"$f":"[2]Gr11!$A$599","v":0},"11_3"]
[{"$f":"[2]Gr11!$A$600","v":0},"11_3"]
[{"$f":"[2]Gr11!$A$601","v":0},"11_3"]
[{"$f":"[2]Gr11!$A$602","v":0},"11_3"]
[{"$f":"[2]Gr11!$A$603","v":0},"11_3"]
[{"$f":"[2]Gr11!$A$604","v":0},"11_3"]
[{"$f":"[2]Gr11!$A$605","v":0},"11_3"]
[{"$f":"[2]Gr11!$A$606","v":0},"11_3"]
[{"$f":"[2]Gr11!$A$607","v":0},"11_3"]
[{"$f":"[2]Gr11!$A$608","v":0},"11_3"]
[{"$f":"[2]Gr11!$A$609","v":0},"11_3"]
[{"$f":"[2]Gr11!$A$610","v":0},"11_3"]
[{"$f":"[2]Gr11!$A$611","v":0},"11_3"]
[{"$f":"[2]Gr11!$A$612","v":0},"11_3"]
[{"$f":"[2]Gr11!$A$613","v":0},"11_3"]
[{"$f":"[2]Gr11!$A$614","v":0},"11_3"]
[{"$f":"[2]Gr11!$A$615","v":0},"11_3"]
[{"$f":"[2]Gr11!$A$616","v":0},"11_3"]
[{"$f":"[2]Gr11!$A$617","v":0},"11_3"]
[{"$f":"[2]Gr11!$A$618","v":0},"11_3"]
[{"$f":"[2]Gr11!$A$619","v":0},"11_3"]
[{"$f":"[2]Gr11!$A$620","v":0},"11_3"]
[{"$f":"[2]Gr11!$A$621","v":0},"11_3"]
[{"$f":"[2]Gr11!$A$622","v":0},"11_3"]
[{"$f":"[2]Gr11!$A$623","v":0},"11_3"]
[{"$f":"[2]Gr11!$A$624","v":0},"11_3"]
[{"$f":"[2]Gr11!$A$625","v":0},"11_3"]
[{"$f":"[2]Gr11!$A$626","v":0},"11_3"]
[{"$f":"[2]Gr11!$A$627","v":0},"11_3"]
[{"$f":"[2]Gr11!$A$628","v":0},"11_3"]
[{"$f":"[2]Gr11!$A$629","v":0},"11_3"]
[{"$f":"[2]Gr11!$A$630","v":0},"11_3"]
[{"$f":"[2]Gr11!$A$631","v":0},"11_3"]
[{"$f":"[2]Gr11!$A$632","v":0},"11_3"]
[{"$f":"[2]Gr11!$A$633","v":0},"11_3"]
[{"$f":"[2]Gr11!$A$634","v":0},"11_3"]
[{"$f":"[2]Gr11!$A$635","v":0},"11_3"]
[{"$f":"[2]Gr11!$A$636","v":0},"11_3"]
[{"$f":"[2]Gr11!$A$637","v":0},"11_3"]
[{"$f":"[2]Gr11!$A$638","v":0},"11_3"]
[{"$f":"[2]Gr11!$A$639","v":0},"11_3"]
[{"$f":"[2]Gr11!$A$640","v":0},"11_3"]
[{"$f":"[2]Gr11!$A$641","v":0},"11_3"]
[{"$f":"[2]Gr11!$A$642","v":0},"11_3"]
[{"$f":"[2]Gr11!$A$643","v":0},"11_3"]
[{"$f":"[2]Gr11!$A$644","v":0},"11_3"]
[{"$f":"[2]Gr11!$A$645","v":0},"11_3"]
[{"$f":"[2]Gr11!$A$646","v":0},"11_3"]
[{"$f":"[2]Gr11!$A$647","v":0},"11_3"]
[{"$f":"[2]Gr11!$A$648","v":0},"11_3"]
[{"$f":"[2]Gr11!$A$649","v":0},"11_3"]
[{"$f":"[2]Gr11!$A$650","v":0},"11_3"]
[{"$f":"[2]Gr11!$A$651","v":0},"11_3"]
[{"$f":"[2]Gr11!$A$652","v":0},"11_3"]
[{"$f":"[2]Gr11!$A$653","v":0},"11_3"]
[{"$f":"[2]Gr11!$A$654","v":0},"11_3"]
[{"$f":"[2]Gr11!$A$655","v":0},"11_3"]
[{"$f":"[2]Gr11!$A$656","v":0},"11_3"]
[{"$f":"[2]Gr11!$A$657","v":0},"11_3"]
[{"$f":"[2]Gr11!$A$658","v":0},"11_3"]
[{"$f":"[2]Gr11!$A$659","v":0},"11_3"]
[{"$f":"[2]Gr11!$A$660","v":0},"11_3"]
[{"$f":"[2]Gr11!$A$661","v":0},"11_3"]
[{"$f":"[2]Gr11!$A$662","v":0},"11_3"]
[{"$f":"[2]Gr11!$A$663","v":0},"11_3"]
[{"$f":"[2]Gr11!$A$664","v":0},"11_3"]
[{"$f":"[2]Gr11!$A$665","v":0},"11_3"]
[{"$f":"[2]Gr11!$A$666","v":0},"11_3"]
[{"$f":"[2]Gr11!$A$667","v":0},"11_3"]
[{"$f":"[2]Gr11!$A$668","v":0},"11_3"]
[{"$f":"[2]Gr11!$A$669","v":0},"11_3"]
[{"$f":"[2]Gr11!$A$670","v":0},"11_3"]
[{"$f":"[2]Gr11!$A$671","v":0},"11_3"]
[{"$f":"[2]Gr11!$A$672","v":0},"11_3"]
[{"$f":"[2]Gr11!$A$673","v":0},"11_3"]
[{"$f":"[2]Gr11!$A$674","v":0},"11_3"]
[{"$f":"[2]Gr11!$A$675","v":0},"11_3"]
[{"$f":"[2]Gr11!$A$676","v":0},"11_3"]
[{"$f":"[2]Gr11!$A$677","v":0},"11_3"]
[{"$f":"[2]Gr11!$A$678","v":0},"11_3"]
[{"$f":"[2]Gr11!$A$679","v":0},"11_3"]
[{"$f":"[2]Gr11!$A$680","v":0},"11_3"]
[{"$f":"[2]Gr11!$A$681","v":0},"11_3"]
[{"$f":"[2]Gr11!$A$682","v":0},"11_3"]
[{"$f":"[2]Gr11!$A$683","v":0},"11_3"]
[{"$f":"[2]Gr11!$A$684","v":0},"11_3"]
[{"$f":"[2]Gr11!$A$685","v":0},"11_3"]
[{"$f":"[2]Gr11!$A$686","v":0},"11_3"]
[{"$f":"[2]Gr11!$A$687","v":0},"11_3"]
[{"$f":"[2]Gr11!$A$688","v":0},"11_3"]
[{"$f":"[2]Gr11!$A$689","v":0},"11_3"]
[{"$f":"[2]Gr11!$A$690","v":0},"11_3"]
[{"$f":"[2]Gr11!$A$691","v":0},"11_3"]
[{"$f":"[2]Gr11!$A$692","v":0},"11_3"]
[{"$f":"[2]Gr11!$A$693","v":0},"11_3"]
[{"$f":"[2]Gr11!$A$694","v":0},"11_3"]
[{"$f":"[2]Gr11!$A$695","v":0},"11_3"]
[{"$f":"[2]Gr11!$A$696","v":0},"11_3"]
[{"$f":"[2]Gr11!$A$697","v":0},"11_3"]
[{"$f":"[2]Gr11!$A$698","v":0},"11_3"]
[{"$f":"[2]Gr11!$A$699","v":0},"11_3"]
[{"$f":"[2]Gr11!$A$700","v":0},"11_3"]
[{"$f":"[2]Gr11!$A$701","v":0},"11_3"]
[{"$f":"[2]Gr11!$A$702","v":0},"11_3"]
[{"$f":"[2]Gr11!$A$703","v":0},"11_3"]
[{"$f":"[2]Gr11!$A$704","v":0},"11_3"]
[{"$f":"[2]Gr11!$A$705","v":0},"11_3"]
[{"$f":"[2]Gr11!$A$706","v":0},"11_3"]
[{"$f":"[2]Gr11!$A$707","v":0},"11_3"]
[{"$f":"[2]Gr11!$A$708","v":0},"11_3"]
[{"$f":"[2]Gr11!$A$709","v":0},"11_3"]
[{"$f":"[2]Gr11!$A$710","v":0},"11_3"]
[{"$f":"[2]Gr11!$A$711","v":0},"11_3"]
[{"$f":"[2]Gr11!$A$712","v":0},"11_3"]
[{"$f":"[2]Gr11!$A$713","v":0},"11_3"]
[{"$f":"[2]Gr11!$A$714","v":0},"11_3"]
[{"$f":"[2]Gr11!$A$715","v":0},"11_3"]
[{"$f":"[2]Gr11!$A$716","v":0},"11_3"]
[{"$f":"[2]Gr11!$A$717","v":0},"11_3"]
[{"$f":"[2]Gr11!$A$718","v":0},"11_3"]
[{"$f":"[2]Gr11!$A$719","v":0},"11_3"]
[{"$f":"[2]Gr11!$A$720","v":0},"11_3"]
[{"$f":"[2]Gr11!$A$721","v":0},"11_3"]
[{"$f":"[2]Gr11!$A$722","v":0},"11_3"]
[{"$f":"[2]Gr11!$A$723","v":0},"11_3"]
[{"$f":"[2]Gr11!$A$724","v":0},"11_3"]
[{"$f":"[2]Gr11!$A$725","v":0},"11_3"]
[{"$f":"[2]Gr11!$A$726","v":0},"11_3"]
[{"$f":"[2]Gr11!$A$727","v":0},"11_3"]
[{"$f":"[2]Gr11!$A$728","v":0},"11_3"]
[{"$f":"[2]Gr11!$A$729","v":0},"11_3"]
[{"$f":"[2]Gr11!$A$730","v":0},"11_3"]
[{"$f":"[2]Gr11!$A$731","v":0},"11_3"]
[{"$f":"[2]Gr11!$A$732","v":0},"11_3"]
[{"$f":"[2]Gr11!$A$733","v":0},"11_3"]
[{"$f":"[2]Gr11!$A$734","v":0},"11_3"]
[{"$f":"[2]Gr11!$A$735","v":0},"11_3"]
[{"$f":"[2]Gr11!$A$736","v":0},"11_3"]
[{"$f":"[2]Gr11!$A$737","v":0},"11_3"]
[{"$f":"[2]Gr11!$A$738","v":0},"11_3"]
[{"$f":"[2]Gr11!$A$739","v":0},"11_3"]
[{"$f":"[2]Gr11!$A$740","v":0},"11_3"]
[{"$f":"[2]Gr11!$A$741","v":0},"11_3"]
[{"$f":"[2]Gr11!$A$742","v":0},"11_3"]
[{"$f":"[2]Gr11!$A$743","v":0},"11_3"]
[{"$f":"[2]Gr11!$A$744","v":0},"11_3"]
[{"$f":"[2]Gr11!$A$745","v":0},"11_3"]
[{"$f":"[2]Gr11!$A$746","v":0},"11_3"]
[{"$f":"[2]Gr11!$A$747","v":0},"11_3"]
[{"$f":"[2]Gr11!$A$748","v":0},"11_3"]
[{"$f":"[2]Gr11!$A$749","v":0},"11_3"]
[{"$f":"[2]Gr11!$A$750","v":0},"11_3"]
[{"$f":"[2]Gr11!$A$751","v":0},"11_3"]
[{"$f":"[2]Gr11!$A$752","v":0},"11_3"]
[{"$f":"[2]Gr11!$A$753","v":0},"11_3"]
[{"$f":"[2]Gr11!$A$754","v":0},"11_3"]
[{"$f":"[2]Gr11!$A$755","v":0},"11_3"]
[{"$f":"[2]Gr11!$A$756","v":0},"11_3"]
[{"$f":"[2]Gr11!$A$757","v":0},"11_3"]
[{"$f":"[2]Gr11!$A$758","v":0},"11_3"]
[{"$f":"[2]Gr11!$A$759","v":0},"11_3"]
[{"$f":"[2]Gr11!$A$760","v":0},"11_3"]
[{"$f":"[2]Gr11!$A$761","v":0},"11_3"]
[{"$f":"[2]Gr11!$A$762","v":0},"11_3"]
[{"$f":"[2]Gr11!$A$763","v":0},"11_3"]
[{"$f":"[2]Gr11!$A$764","v":0},"11_3"]
[{"$f":"[2]Gr11!$A$765","v":0},"11_3"]
[{"$f":"[2]Gr11!$A$766","v":0},"11_3"]
[{"$f":"[2]Gr11!$A$767","v":0},"11_3"]
[{"$f":"[2]Gr11!$A$768","v":0},"11_3"]
[{"$f":"[2]Gr11!$A$769","v":0},"11_3"]
[{"$f":"[2]Gr11!$A$770","v":0},"11_3"]
[{"$f":"[2]Gr11!$A$771","v":0},"11_3"]
[{"$f":"[2]Gr11!$A$772","v":0},"11_3"]
[{"$f":"[2]Gr11!$A$773","v":0},"11_3"]
[{"$f":"[2]Gr11!$A$774","v":0},"11_3"]
[{"$f":"[2]Gr11!$A$775","v":0},"11_3"]
[{"$f":"[2]Gr11!$A$776","v":0},"11_3"]
[{"$f":"[2]Gr11!$A$777","v":0},"11_3"]
[{"$f":"[2]Gr11!$A$778","v":0},"11_3"]
[{"$f":"[2]Gr11!$A$779","v":0},"11_3"]
[{"$f":"[2]Gr11!$A$780","v":0},"11_3"]
[{"$f":"[2]Gr11!$A$781","v":0},"11_3"]
[{"$f":"[2]Gr11!$A$782","v":0},"11_3"]
[{"$f":"[2]Gr11!$A$783","v":0},"11_3"]
[{"$f":"[2]Gr11!$A$784","v":0},"11_3"]
[{"$f":"[2]Gr11!$A$785","v":0},"11_3"]
[{"$f":"[2]Gr11!$A$786","v":0},"11_3"]
[{"$f":"[2]Gr11!$A$787","v":0},"11_3"]
[{"$f":"[2]Gr11!$A$788","v":0},"11_3"]
[{"$f":"[2]Gr11!$A$789","v":0},"11_3"]
[{"$f":"[2]Gr11!$A$790","v":0},"11_3"]
[{"$f":"[2]Gr11!$A$791","v":0},"11_3"]
[{"$f":"[2]Gr11!$A$792","v":0},"11_3"]
[{"$f":"[2]Gr11!$A$793","v":0},"11_3"]
[{"$f":"[2]Gr11!$A$794","v":0},"11_3"]
[{"$f":"[2]Gr11!$A$795","v":0},"11_3"]
[{"$f":"[2]Gr11!$A$796","v":0},"11_3"]
[{"$f":"[2]Gr11!$A$797","v":0},"11_3"]
[{"$f":"[2]Gr11!$A$798","v":0},"11_3"]
[{"$f":"[2]Gr11!$A$799","v":0},"11_3"]
[{"$f":"[2]Gr11!$A$800","v":0},"11_3"]
[{"$f":"[2]Gr11!$A$801","v":0},"11_3"]
[{"$f":"[2]Gr11!$A$802","v":0},"11_3"]
[{"$f":"[2]Gr11!$A$803","v":0},"11_3"]
[{"$f":"[2]Gr11!$A$804","v":0},"11_3"]
[{"$f":"[2]Gr11!$A$805","v":0},"11_3"]
[{"$f":"[2]Gr11!$A$806","v":0},"11_3"]
[{"$f":"[2]Gr11!$A$807","v":0},"11_3"]
[{"$f":"[2]Gr11!$A$808","v":0},"11_3"]
[{"$f":"[2]Gr11!$A$809","v":0},"11_3"]
[{"$f":"[2]Gr11!$A$810","v":0},"11_3"]
[{"$f":"[2]Gr11!$A$811","v":0},"11_3"]
[{"$f":"[2]Gr11!$A$812","v":0},"11_3"]
[{"$f":"[2]Gr11!$A$813","v":0},"11_3"]
[{"$f":"[2]Gr11!$A$814","v":0},"11_3"]
[{"$f":"[2]Gr11!$A$815","v":0},"11_3"]
[{"$f":"[2]Gr11!$A$816","v":0},"11_3"]
[{"$f":"[2]Gr11!$A$817","v":0},"11_3"]
[{"$f":"[2]Gr11!$A$818","v":0},"11_3"]
[{"$f":"[2]Gr11!$A$819","v":0},"11_3"]
[{"$f":"[2]Gr11!$A$820","v":0},"11_3"]
[{"$f":"[2]Gr11!$A$821","v":0},"11_3"]
[{"$f":"[2]Gr11!$A$822","v":0},"11_3"]
[{"$f":"[2]Gr11!$A$823","v":0},"11_3"]
[{"$f":"[2]Gr11!$A$824","v":0},"11_3"]
[{"$f":"[2]Gr11!$A$825","v":0},"11_3"]
[{"$f":"[2]Gr11!$A$826","v":0},"11_3"]
[{"$f":"[2]Gr11!$A$827","v":0},"11_3"]
[{"$f":"[2]Gr11!$A$828","v":0},"11_3"]
[{"$f":"[2]Gr11!$A$829","v":0},"11_3"]
[{"$f":"[2]Gr11!$A$830","v":0},"11_3"]
[{"$f":"[2]Gr11!$A$831","v":0},"11_3"]
[{"$f":"[2]Gr11!$A$832","v":0},"11_3"]
[{"$f":"[2]Gr11!$A$833","v":0},"11_3"]
[{"$f":"[2]Gr11!$A$834","v":0},"11_3"]
[{"$f":"[2]Gr11!$A$835","v":0},"11_3"]
[{"$f":"[2]Gr11!$A$836","v":0},"11_3"]
[{"$f":"[2]Gr11!$A$837","v":0},"11_3"]
[{"$f":"[2]Gr11!$A$838","v":0},"11_3"]
[{"$f":"[2]Gr11!$A$839","v":0},"11_3"]
[{"$f":"[2]Gr11!$A$840","v":0},"11_3"]
[{"$f":"[2]Gr11!$A$841","v":0},"11_3"]
[{"$f":"[2]Gr11!$A$842","v":0},"11_3"]
[{"$f":"[2]Gr11!$A$854","v":0},"11_4"]
[{"$f":"[2]Gr11!$A$855","v":0},"11_4"]
[{"$f":"[2]Gr11!$A$856","v":0},"11_4"]
[{"$f":"[2]Gr11!$A$857","v":0},"11_4"]
[{"$f":"[2]Gr11!$A$858","v":0},"11_4"]
[{"$f":"[2]Gr11!$A$859","v":0},"11_4"]
[{"$f":"[2]Gr11!$A$860","v":0},"11_4"]
[{"$f":"[2]Gr11!$A$861","v":0},"11_4"]
[{"$f":"[2]Gr11!$A$862","v":0},"11_4"]
[{"$f":"[2]Gr11!$A$863","v":0},"11_4"]
[{"$f":"[2]Gr11!$A$864","v":0},"11_4"]
[{"$f":"[2]Gr11!$A$865","v":0},"11_4"]
[{"$f":"[2]Gr11!$A$866","v":0},"11_4"]
[{"$f":"[2]Gr11!$A$867","v":0},"11_4"]
[{"$f":"[2]Gr11!$A$868","v":0},"11_4"]
[{"$f":"[2]Gr11!$A$869","v":0},"11_4"]
[{"$f":"[2]Gr11!$A$870","v":0},"11_4"]
[{"$f":"[2]Gr11!$A$871","v":0},"11_4"]
[{"$f":"[2]Gr11!$A$872","v":0},"11_4"]
[{"$f":"[2]Gr11!$A$873","v":0},"11_4"]
[{"$f":"[2]Gr11!$A$874","v":0},"11_4"]
[{"$f":"[2]Gr11!$A$875","v":0},"11_4"]
[{"$f":"[2]Gr11!$A$876","v":0},"11_4"]
[{"$f":"[2]Gr11!$A$877","v":0},"11_4"]
[{"$f":"[2]Gr11!$A$878","v":0},"11_4"]
[{"$f":"[2]Gr11!$A$879","v":0},"11_4"]
[{"$f":"[2]Gr11!$A$880","v":0},"11_4"]
[{"$f":"[2]Gr11!$A$881","v":0},"11_4"]
[{"$f":"[2]Gr11!$A$882","v":0},"11_4"]
[{"$f":"[2]Gr11!$A$883","v":0},"11_4"]
[{"$f":"[2]Gr11!$A$884","v":0},"11_4"]
[{"$f":"[2]Gr11!$A$885","v":0},"11_4"]
[{"$f":"[2]Gr11!$A$886","v":0},"11_4"]
[{"$f":"[2]Gr11!$A$887","v":0},"11_4"]
[{"$f":"[2]Gr11!$A$888","v":0},"11_4"]
[{"$f":"[2]Gr11!$A$889","v":0},"11_4"]
[{"$f":"[2]Gr11!$A$890","v":0},"11_4"]
[{"$f":"[2]Gr11!$A$891","v":0},"11_4"]
[{"$f":"[2]Gr11!$A$892","v":0},"11_4"]
[{"$f":"[2]Gr11!$A$893","v":0},"11_4"]
[{"$f":"[2]Gr11!$A$894","v":0},"11_4"]
[{"$f":"[2]Gr11!$A$895","v":0},"11_4"]
[{"$f":"[2]Gr11!$A$896","v":0},"11_4"]
[{"$f":"[2]Gr11!$A$897","v":0},"11_4"]
[{"$f":"[2]Gr11!$A$898","v":0},"11_4"]
[{"$f":"[2]Gr11!$A$899","v":0},"11_4"]
[{"$f":"[2]Gr11!$A$900","v":0},"11_4"]
[{"$f":"[2]Gr11!$A$901","v":0},"11_4"]
[{"$f":"[2]Gr11!$A$902","v":0},"11_4"]
[{"$f":"[2]Gr11!$A$903","v":0},"11_4"]
[{"$f":"[2]Gr11!$A$904","v":0},"11_4"]
[{"$f":"[2]Gr11!$A$905","v":0},"11_4"]
[{"$f":"[2]Gr11!$A$906","v":0},"11_4"]
[{"$f":"[2]Gr11!$A$907","v":0},"11_4"]
[{"$f":"[2]Gr11!$A$908","v":0},"11_4"]
[{"$f":"[2]Gr11!$A$909","v":0},"11_4"]
[{"$f":"[2]Gr11!$A$910","v":0},"11_4"]
[{"$f":"[2]Gr11!$A$911","v":0},"11_4"]
[{"$f":"[2]Gr11!$A$912","v":0},"11_4"]
[{"$f":"[2]Gr11!$A$913","v":0},"11_4"]
[{"$f":"[2]Gr11!$A$914","v":0},"11_4"]
[{"$f":"[2]Gr11!$A$915","v":0},"11_4"]
[{"$f":"[2]Gr11!$A$916","v":0},"11_4"]
[{"$f":"[2]Gr11!$A$917","v":0},"11_4"]
[{"$f":"[2]Gr11!$A$918","v":0},"11_4"]
[{"$f":"[2]Gr11!$A$919","v":0},"11_4"]
[{"$f":"[2]Gr11!$A$920","v":0},"11_4"]
[{"$f":"[2]Gr11!$A$921","v":0},"11_4"]
[{"$f":"[2]Gr11!$A$922","v":0},"11_4"]
[{"$f":"[2]Gr11!$A$923","v":0},"11_4"]
[{"$f":"[2]Gr11!$A$924","v":0},"11_4"]
[{"$f":"[2]Gr11!$A$925","v":0},"11_4"]
[{"$f":"[2]Gr11!$A$926","v":0},"11_4"]
[{"$f":"[2]Gr11!$A$927","v":0},"11_4"]
[{"$f":"[2]Gr11!$A$928","v":0},"11_4"]
[{"$f":"[2]Gr11!$A$929","v":0},"11_4"]
[{"$f":"[2]Gr11!$A$930","v":0},"11_4"]
[{"$f":"[2]Gr11!$A$931","v":0},"11_4"]
[{"$f":"[2]Gr11!$A$932","v":0},"11_4"]
[{"$f":"[2]Gr11!$A$933","v":0},"11_4"]
[{"$f":"[2]Gr11!$A$934","v":0},"11_4"]
[{"$f":"[2]Gr11!$A$935","v":0},"11_4"]
[{"$f":"[2]Gr11!$A$936","v":0},"11_4"]
[{"$f":"[2]Gr11!$A$937","v":0},"11_4"]
[{"$f":"[2]Gr11!$A$938","v":0},"11_4"]
[{"$f":"[2]Gr11!$A$939","v":0},"11_4"]
[{"$f":"[2]Gr11!$A$940","v":0},"11_4"]
[{"$f":"[2]Gr11!$A$941","v":0},"11_4"]
[{"$f":"[2]Gr11!$A$942","v":0},"11_4"]
[{"$f":"[2]Gr11!$A$943","v":0},"11_4"]
[{"$f":"[2]Gr11!$A$944","v":0},"11_4"]
[{"$f":"[2]Gr11!$A$945","v":0},"11_4"]
[{"$f":"[2]Gr11!$A$946","v":0},"11_4"]
[{"$f":"[2]Gr11!$A$947","v":0},"11_4"]
[{"$f":"[2]Gr11!$A$948","v":0},"11_4"]
[{"$f":"[2]Gr11!$A$949","v":0},"11_4"]
[{"$f":"[2]Gr11!$A$950","v":0},"11_4"]
[{"$f":"[2]Gr11!$A$951","v":0},"11_4"]
[{"$f":"[2]Gr11!$A$952","v":0},"11_4"]
[{"$f":"[2]Gr11!$A$953","v":0},"11_4"]
[{"$f":"[2]Gr11!$A$954","v":0},"11_4"]
[{"$f":"[2]Gr11!$A$955","v":0},"11_4"]
[{"$f":"[2]Gr11!$A$956","v":0},"11_4"]
[{"$f":"[2]Gr11!$A$957","v":0},"11_4"]
[{"$f":"[2]Gr11!$A$958","v":0},"11_4"]
[{"$f":"[2]Gr11!$A$959","v":0},"11_4"]
[{"$f":"[2]Gr11!$A$960","v":0},"11_4"]
[{"$f":"[2]Gr11!$A$961","v":0},"11_4"]
[{"$f":"[2]Gr11!$A$962","v":0},"11_4"]
[{"$f":"[2]Gr11!$A$963","v":0},"11_4"]
[{"$f":"[2]Gr11!$A$964","v":0},"11_4"]
[{"$f":"[2]Gr11!$A$965","v":0},"11_4"]
[{"$f":"[2]Gr11!$A$966","v":0},"11_4"]
[{"$f":"[2]Gr11!$A$967","v":0},"11_4"]
[{"$f":"[2]Gr11!$A$968","v":0},"11_4"]
[{"$f":"[2]Gr11!$A$969","v":0},"11_4"]
[{"$f":"[2]Gr11!$A$970","v":0},"11_4"]
[{"$f":"[2]Gr11!$A$971","v":0},"11_4"]
[{"$f":"[2]Gr11!$A$972","v":0},"11_4"]
[{"$f":"[2]Gr11!$A$973","v":0},"11_4"]
[{"$f":"[2]Gr11!$A$974","v":0},"11_4"]
[{"$f":"[2]Gr11!$A$975","v":0},"11_4"]
[{"$f":"[2]Gr11!$A$976","v":0},"11_4"]
[{"$f":"[2]Gr11!$A$977","v":0},"11_4"]
[{"$f":"[2]Gr11!$A$978","v":0},"11_4"]
[{"$f":"[2]Gr11!$A$979","v":0},"11_4"]
[{"$f":"[2]Gr11!$A$980","v":0},"11_4"]
[{"$f":"[2]Gr11!$A$981","v":0},"11_4"]
[{"$f":"[2]Gr11!$A$982","v":0},"11_4"]
[{"$f":"[2]Gr11!$A$983","v":0},"11_4"]
[{"$f":"[2]Gr11!$A$984","v":0},"11_4"]
[{"$f":"[2]Gr11!$A$985","v":0},"11_4"]
[{"$f":"[2]Gr11!$A$986","v":0},"11_4"]
[{"$f":"[2]Gr11!$A$987","v":0},"11_4"]
[{"$f":"[2]Gr11!$A$988","v":0},"11_4"]
[{"$f":"[2]Gr11!$A$989","v":0},"11_4"]
[{"$f":"[2]Gr11!$A$990","v":0},"11_4"]
[{"$f":"[2]Gr11!$A$991","v":0},"11_4"]
[{"$f":"[2]Gr11!$A$992","v":0},"11_4"]
[{"$f":"[2]Gr11!$A$993","v":0},"11_4"]
[{"$f":"[2]Gr11!$A$994","v":0},"11_4"]
[{"$f":"[2]Gr11!$A$995","v":0},"11_4"]
[{"$f":"[2]Gr11!$A$996","v":0},"11_4"]
[{"$f":"[2]Gr11!$A$997","v":0},"11_4"]
[{"$f":"[2]Gr11!$A$998","v":0},"11_4"]
[{"$f":"[2]Gr11!$A$999","v":0},"11_4"]
[{"$f":"[2]Gr11!$A$1000","v":0},"11_4"]
[{"$f":"[2]Gr11!$A$1001","v":0},"11_4"]
[{"$f":"[2]Gr11!$A$1002","v":0},"11_4"]
[{"$f":"[2]Gr11!$A$1003","v":0},"11_4"]
[{"$f":"[2]Gr11!$A$1004","v":0},"11_4"]
[{"$f":"[2]Gr11!$A$1005","v":0},"11_4"]
[{"$f":"[2]Gr11!$A$1006","v":0},"11_4"]
[{"$f":"[2]Gr11!$A$1007","v":0},"11_4"]
[{"$f":"[2]Gr11!$A$1008","v":0},"11_4"]
[{"$f":"[2]Gr11!$A$1009","v":0},"11_4"]
[{"$f":"[2]Gr11!$A$1010","v":0},"11_4"]
[{"$f":"[2]Gr11!$A$1011","v":0},"11_4"]
[{"$f":"[2]Gr11!$A$1012","v":0},"11_4"]
[{"$f":"[2]Gr11!$A$1013","v":0},"11_4"]
[{"$f":"[2]Gr11!$A$1014","v":0},"11_4"]
[{"$f":"[2]Gr11!$A$1015","v":0},"11_4"]
[{"$f":"[2]Gr11!$A$1016","v":0},"11_4"]
[{"$f":"[2]Gr11!$A$1017","v":0},"11_4"]
[{"$f":"[2]Gr11!$A$1018","v":0},"11_4"]
[{"$f":"[2]Gr11!$A$1019","v":0},"11_4"]
[{"$f":"[2]Gr11!$A$1020","v":0},"11_4"]
[{"$f":"[2]Gr11!$A$1021","v":0},"11_4"]
[{"$f":"[2]Gr11!$A$1022","v":0},"11_4"]
[{"$f":"[2]Gr11!$A$1023","v":0},"11_4"]
[{"$f":"[2]Gr11!$A$1024","v":0},"11_4"]
[{"$f":"[2]Gr11!$A$1025","v":0},"11_4"]
[{"$f":"[2]Gr11!$A$1026","v":0},"11_4"]
[{"$f":"[2]Gr11!$A$1027","v":0},"11_4"]
[{"$f":"[2]Gr11!$A$1028","v":0},"11_4"]
[{"$f":"[2]Gr11!$A$1029","v":0},"11_4"]
[{"$f":"[2]Gr11!$A$1030","v":0},"11_4"]
[{"$f":"[2]Gr11!$A$1031","v":0},"11_4"]
[{"$f":"[2]Gr11!$A$1032","v":0},"11_4"]
[{"$f":"[2]Gr11!$A$1033","v":0},"11_4"]
[{"$f":"[2]Gr11!$A$1034","v":0},"11_4"]
[{"$f":"[2]Gr11!$A$1035","v":0},"11_4"]
[{"$f":"[2]Gr11!$A$1036","v":0},"11_4"]
[{"$f":"[2]Gr11!$A$1037","v":0},"11_4"]
[{"$f":"[2]Gr11!$A$1038","v":0},"11_4"]
[{"$f":"[2]Gr11!$A$1039","v":0},"11_4"]
[{"$f":"[2]Gr11!$A$1040","v":0},"11_4"]
[{"$f":"[2]Gr11!$A$1041","v":0},"11_4"]
[{"$f":"[2]Gr11!$A$1042","v":0},"11_4"]
[{"$f":"[2]Gr11!$A$1043","v":0},"11_4"]
[{"$f":"[2]Gr11!$A$1044","v":0},"11_4"]
[{"$f":"[2]Gr11!$A$1045","v":0},"11_4"]
[{"$f":"[2]Gr11!$A$1046","v":0},"11_4"]
[{"$f":"[2]Gr11!$A$1047","v":0},"11_4"]
[{"$f":"[2]Gr11!$A$1048","v":0},"11_4"]
[{"$f":"[2]Gr11!$A$1049","v":0},"11_4"]
[{"$f":"[2]Gr11!$A$1050","v":0},"11_4"]
[{"$f":"[2]Gr11!$A$1051","v":0},"11_4"]
[{"$f":"[2]Gr11!$A$1052","v":0},"11_4"]
[{"$f":"[2]Gr11!$A$1053","v":0},"11_4"]
[{"$f":"[2]Gr11!$A$1054","v":0},"11_4"]
[{"$f":"[2]Gr11!$A$1055","v":0},"11_4"]
[{"$f":"[2]Gr11!$A$1056","v":0},"11_4"]
[{"$f":"[2]Gr11!$A$1057","v":0},"11_4"]
[{"$f":"[2]Gr11!$A$1058","v":0},"11_4"]
[{"$f":"[2]Gr11!$A$1059","v":0},"11_4"]
[{"$f":"[2]Gr11!$A$1060","v":0},"11_4"]
[{"$f":"[2]Gr11!$A$1061","v":0},"11_4"]
[{"$f":"[2]Gr11!$A$1062","v":0},"11_4"]
[{"$f":"[2]Gr11!$A$1063","v":0},"11_4"]
[{"$f":"[2]Gr11!$A$1064","v":0},"11_4"]
[{"$f":"[2]Gr11!$A$1065","v":0},"11_4"]
[{"$f":"[2]Gr11!$A$1066","v":0},"11_4"]
[{"$f":"[2]Gr11!$A$1067","v":0},"11_4"]
[{"$f":"[2]Gr11!$A$1068","v":0},"11_4"]
[{"$f":"[2]Gr11!$A$1069","v":0},"11_4"]
[{"$f":"[2]Gr11!$A$1070","v":0},"11_4"]
[{"$f":"[2]Gr11!$A$1071","v":0},"11_4"]
[{"$f":"[2]Gr11!$A$1072","v":0},"11_4"]
[{"$f":"[2]Gr11!$A$1073","v":0},"11_4"]
[{"$f":"[2]Gr11!$A$1074","v":0},"11_4"]
[{"$f":"[2]Gr11!$A$1075","v":0},"11_4"]
[{"$f":"[2]Gr11!$A$1076","v":0},"11_4"]
[{"$f":"[2]Gr11!$A$1077","v":0},"11_4"]
[{"$f":"[2]Gr11!$A$1078","v":0},"11_4"]
[{"$f":"[2]Gr11!$A$1079","v":0},"11_4"]
[{"$f":"[2]Gr11!$A$1080","v":0},"11_4"]
[{"$f":"[2]Gr11!$A$1081","v":0},"11_4"]
[{"$f":"[2]Gr11!$A$1082","v":0},"11_4"]
[{"$f":"[2]Gr11!$A$1083","v":0},"11_4"]
[{"$f":"[2]Gr11!$A$1084","v":0},"11_4"]
[{"$f":"[2]Gr11!$A$1085","v":0},"11_4"]
[{"$f":"[2]Gr11!$A$1086","v":0},"11_4"]
[{"$f":"[2]Gr11!$A$1087","v":0},"11_4"]
[{"$f":"[2]Gr11!$A$1088","v":0},"11_4"]
[{"$f":"[2]Gr11!$A$1089","v":0},"11_4"]
[{"$f":"[2]Gr11!$A$1090","v":0},"11_4"]
[{"$f":"[2]Gr11!$A$1091","v":0},"11_4"]
[{"$f":"[2]Gr11!$A$1092","v":0},"11_4"]
[{"$f":"[2]Gr11!$A$1093","v":0},"11_4"]
[{"$f":"[2]Gr11!$A$1094","v":0},"11_4"]
[{"$f":"[2]Gr11!$A$1095","v":0},"11_4"]
[{"$f":"[2]Gr11!$A$1096","v":0},"11_4"]
[{"$f":"[2]Gr11!$A$1097","v":0},"11_4"]
[{"$f":"[2]Gr11!$A$1098","v":0},"11_4"]
[{"$f":"[2]Gr11!$A$1099","v":0},"11_4"]
[{"$f":"[2]Gr11!$A$1100","v":0},"11_4"]
[{"$f":"[2]Gr11!$A$1101","v":0},"11_4"]
[{"$f":"[2]Gr11!$A$1102","v":0},"11_4"]
[{"$f":"[2]Gr11!$A$1103","v":0},"11_4"]
[{"$f":"[2]Gr11!$A$1104","v":0},"11_4"]
[{"$f":"[2]Gr11!$A$1105","v":0},"11_4"]
[{"$f":"[2]Gr11!$A$1106","v":0},"11_4"]
[{"$f":"[2]Gr11!$A$1107","v":0},"11_4"]
[{"$f":"[2]Gr11!$A$1108","v":0},"11_4"]
[{"$f":"[2]Gr11!$A$1109","v":0},"11_4"]
[{"$f":"[2]Gr11!$A$1110","v":0},"11_4"]
[{"$f":"[2]Gr11!$A$1111","v":0},"11_4"]
[{"$f":"[2]Gr11!$A$1112","v":0},"11_4"]
[{"$f":"[2]Gr11!$A$1113","v":0},"11_4"]
[{"$f":"[2]Gr11!$A$1114","v":0},"11_4"]
[{"$f":"[2]Gr11!$A$1115","v":0},"11_4"]
[{"$f":"[2]Gr11!$A$1116","v":0},"11_4"]
[{"$f":"[2]Gr11!$A$1117","v":0},"11_4"]
[{"$f":"[2]Gr11!$A$1118","v":0},"11_4"]
[{"$f":"[2]Gr11!$A$1119","v":0},"11_4"]
[{"$f":"[2]Gr11!$A$1120","v":0},"11_4"]
[{"$f":"[2]Gr11!$A$1121","v":0},"11_4"]
[{"$f":"[2]Gr11!$A$1122","v":0},"11_4"]
[{"$f":"[2]Gr11!$A$1123","v":0},"11_4"]
[{"$f":"[2]Gr11!$A$1135","v":0},"11_5"]
[{"$f":"[2]Gr11!$A$1136","v":0},"11_5"]
[{"$f":"[2]Gr11!$A$1137","v":0},"11_5"]
[{"$f":"[2]Gr11!$A$1138","v":0},"11_5"]
[{"$f":"[2]Gr11!$A$1139","v":0},"11_5"]
[{"$f":"[2]Gr11!$A$1140","v":0},"11_5"]
[{"$f":"[2]Gr11!$A$1141","v":0},"11_5"]
[{"$f":"[2]Gr11!$A$1142","v":0},"11_5"]
[{"$f":"[2]Gr11!$A$1143","v":0},"11_5"]
[{"$f":"[2]Gr11!$A$1144","v":0},"11_5"]
[{"$f":"[2]Gr11!$A$1145","v":0},"11_5"]
[{"$f":"[2]Gr11!$A$1146","v":0},"11_5"]
[{"$f":"[2]Gr11!$A$1147","v":0},"11_5"]
[{"$f":"[2]Gr11!$A$1148","v":0},"11_5"]
[{"$f":"[2]Gr11!$A$1149","v":0},"11_5"]
[{"$f":"[2]Gr11!$A$1150","v":0},"11_5"]
[{"$f":"[2]Gr11!$A$1151","v":0},"11_5"]
[{"$f":"[2]Gr11!$A$1152","v":0},"11_5"]
[{"$f":"[2]Gr11!$A$1153","v":0},"11_5"]
[{"$f":"[2]Gr11!$A$1154","v":0},"11_5"]
[{"$f":"[2]Gr11!$A$1155","v":0},"11_5"]
[{"$f":"[2]Gr11!$A$1156","v":0},"11_5"]
[{"$f":"[2]Gr11!$A$1157","v":0},"11_5"]
[{"$f":"[2]Gr11!$A$1158","v":0},"11_5"]
[{"$f":"[2]Gr11!$A$1159","v":0},"11_5"]
[{"$f":"[2]Gr11!$A$1160","v":0},"11_5"]
[{"$f":"[2]Gr11!$A$1161","v":0},"11_5"]
[{"$f":"[2]Gr11!$A$1162","v":0},"11_5"]
[{"$f":"[2]Gr11!$A$1163","v":0},"11_5"]
[{"$f":"[2]Gr11!$A$1164","v":0},"11_5"]
[{"$f":"[2]Gr11!$A$1165","v":0},"11_5"]
[{"$f":"[2]Gr11!$A$1166","v":0},"11_5"]
[{"$f":"[2]Gr11!$A$1167","v":0},"11_5"]
[{"$f":"[2]Gr11!$A$1168","v":0},"11_5"]
[{"$f":"[2]Gr11!$A$1169","v":0},"11_5"]
[{"$f":"[2]Gr11!$A$1170","v":0},"11_5"]
[{"$f":"[2]Gr11!$A$1171","v":0},"11_5"]
[{"$f":"[2]Gr11!$A$1172","v":0},"11_5"]
[{"$f":"[2]Gr11!$A$1173","v":0},"11_5"]
[{"$f":"[2]Gr11!$A$1174","v":0},"11_5"]
[{"$f":"[2]Gr11!$A$1175","v":0},"11_5"]
[{"$f":"[2]Gr11!$A$1176","v":0},"11_5"]
[{"$f":"[2]Gr11!$A$1177","v":0},"11_5"]
[{"$f":"[2]Gr11!$A$1178","v":0},"11_5"]
[{"$f":"[2]Gr11!$A$1179","v":0},"11_5"]
[{"$f":"[2]Gr11!$A$1180","v":0},"11_5"]
[{"$f":"[2]Gr11!$A$1181","v":0},"11_5"]
[{"$f":"[2]Gr11!$A$1182","v":0},"11_5"]
[{"$f":"[2]Gr11!$A$1183","v":0},"11_5"]
[{"$f":"[2]Gr11!$A$1184","v":0},"11_5"]
[{"$f":"[2]Gr11!$A$1185","v":0},"11_5"]
[{"$f":"[2]Gr11!$A$1186","v":0},"11_5"]
[{"$f":"[2]Gr11!$A$1187","v":0},"11_5"]
[{"$f":"[2]Gr11!$A$1188","v":0},"11_5"]
[{"$f":"[2]Gr11!$A$1189","v":0},"11_5"]
[{"$f":"[2]Gr11!$A$1190","v":0},"11_5"]
[{"$f":"[2]Gr11!$A$1191","v":0},"11_5"]
[{"$f":"[2]Gr11!$A$1192","v":0},"11_5"]
[{"$f":"[2]Gr11!$A$1193","v":0},"11_5"]
[{"$f":"[2]Gr11!$A$1194","v":0},"11_5"]
[{"$f":"[2]Gr11!$A$1195","v":0},"11_5"]
[{"$f":"[2]Gr11!$A$1196","v":0},"11_5"]
[{"$f":"[2]Gr11!$A$1197","v":0},"11_5"]
[{"$f":"[2]Gr11!$A$1198","v":0},"11_5"]
[{"$f":"[2]Gr11!$A$1199","v":0},"11_5"]
[{"$f":"[2]Gr11!$A$1200","v":0},"11_5"]
[{"$f":"[2]Gr11!$A$1201","v":0},"11_5"]
[{"$f":"[2]Gr11!$A$1202","v":0},"11_5"]
[{"$f":"[2]Gr11!$A$1203","v":0},"11_5"]
[{"$f":"[2]Gr11!$A$1204","v":0},"11_5"]
[{"$f":"[2]Gr11!$A$1205","v":0},"11_5"]
[{"$f":"[2]Gr11!$A$1206","v":0},"11_5"]
[{"$f":"[2]Gr11!$A$1207","v":0},"11_5"]
[{"$f":"[2]Gr11!$A$1208","v":0},"11_5"]
[{"$f":"[2]Gr11!$A$1209","v":0},"11_5"]
[{"$f":"[2]Gr11!$A$1210","v":0},"11_5"]
[{"$f":"[2]Gr11!$A$1211","v":0},"11_5"]
[{"$f":"[2]Gr11!$A$1212","v":0},"11_5"]
[{"$f":"[2]Gr11!$A$1213","v":0},"11_5"]
[{"$f":"[2]Gr11!$A$1214","v":0},"11_5"]
[{"$f":"[2]Gr11!$A$1215","v":0},"11_5"]
[{"$f":"[2]Gr11!$A$1216","v":0},"11_5"]
[{"$f":"[2]Gr11!$A$1217","v":0},"11_5"]
[{"$f":"[2]Gr11!$A$1218","v":0},"11_5"]
[{"$f":"[2]Gr11!$A$1219","v":0},"11_5"]
[{"$f":"[2]Gr11!$A$1220","v":0},"11_5"]
[{"$f":"[2]Gr11!$A$1221","v":0},"11_5"]
[{"$f":"[2]Gr11!$A$1222","v":0},"11_5"]
[{"$f":"[2]Gr11!$A$1223","v":0},"11_5"]
[{"$f":"[2]Gr11!$A$1224","v":0},"11_5"]
[{"$f":"[2]Gr11!$A$1225","v":0},"11_5"]
[{"$f":"[2]Gr11!$A$1226","v":0},"11_5"]
[{"$f":"[2]Gr11!$A$1227","v":0},"11_5"]
[{"$f":"[2]Gr11!$A$1228","v":0},"11_5"]
[{"$f":"[2]Gr11!$A$1229","v":0},"11_5"]
[{"$f":"[2]Gr11!$A$1230","v":0},"11_5"]
[{"$f":"[2]Gr11!$A$1231","v":0},"11_5"]
[{"$f":"[2]Gr11!$A$1232","v":0},"11_5"]
[{"$f":"[2]Gr11!$A$1233","v":0},"11_5"]
[{"$f":"[2]Gr11!$A$1234","v":0},"11_5"]
[{"$f":"[2]Gr11!$A$1235","v":0},"11_5"]
[{"$f":"[2]Gr11!$A$1236","v":0},"11_5"]
[{"$f":"[2]Gr11!$A$1237","v":0},"11_5"]
[{"$f":"[2]Gr11!$A$1238","v":0},"11_5"]
[{"$f":"[2]Gr11!$A$1239","v":0},"11_5"]
[{"$f":"[2]Gr11!$A$1240","v":0},"11_5"]
[{"$f":"[2]Gr11!$A$1241","v":0},"11_5"]
[{"$f":"[2]Gr11!$A$1242","v":0},"11_5"]
[{"$f":"[2]Gr11!$A$1243","v":0},"11_5"]
[{"$f":"[2]Gr11!$A$1244","v":0},"11_5"]
[{"$f":"[2]Gr11!$A$1245","v":0},"11_5"]
[{"$f":"[2]Gr11!$A$1246","v":0},"11_5"]
[{"$f":"[2]Gr11!$A$1247","v":0},"11_5"]
[{"$f":"[2]Gr11!$A$1248","v":0},"11_5"]
[{"$f":"[2]Gr11!$A$1249","v":0},"11_5"]
[{"$f":"[2]Gr11!$A$1250","v":0},"11_5"]
[{"$f":"[2]Gr11!$A$1251","v":0},"11_5"]
[{"$f":"[2]Gr11!$A$1252","v":0},"11_5"]
[{"$f":"[2]Gr11!$A$1253","v":0},"11_5"]
[{"$f":"[2]Gr11!$A$1254","v":0},"11_5"]
[{"$f":"[2]Gr11!$A$1255","v":0},"11_5"]
[{"$f":"[2]Gr11!$A$1256","v":0},"11_5"]
[{"$f":"[2]Gr11!$A$1257","v":0},"11_5"]
[{"$f":"[2]Gr11!$A$1258","v":0},"11_5"]
[{"$f":"[2]Gr11!$A$1259","v":0},"11_5"]
[{"$f":"[2]Gr11!$A$1260","v":0},"11_5"]
[{"$f":"[2]Gr11!$A$1261","v":0},"11_5"]
[{"$f":"[2]Gr11!$A$1262","v":0},"11_5"]
[{"$f":"[2]Gr11!$A$1263","v":0},"11_5"]
[{"$f":"[2]Gr11!$A$1264","v":0},"11_5"]
[{"$f":"[2]Gr11!$A$1265","v":0},"11_5"]
[{"$f":"[2]Gr11!$A$1266","v":0},"11_5"]
[{"$f":"[2]Gr11!$A$1267","v":0},"11_5"]
[{"$f":"[2]Gr11!$A$1268","v":0},"11_5"]
[{"$f":"[2]Gr11!$A$1269","v":0},"11_5"]
[{"$f":"[2]Gr11!$A$1270","v":0},"11_5"]
[{"$f":"[2]Gr11!$A$1271","v":0},"11_5"]
[{"$f":"[2]Gr11!$A$1272","v":0},"11_5"]
[{"$f":"[2]Gr11!$A$1273","v":0},"11_5"]
[{"$f":"[2]Gr11!$A$1274","v":0},"11_5"]
[{"$f":"[2]Gr11!$A$1275","v":0},"11_5"]
[{"$f":"[2]Gr11!$A$1276","v":0},"11_5"]
[{"$f":"[2]Gr11!$A$1277","v":0},"11_5"]
[{"$f":"[2]Gr11!$A$1278","v":0},"11_5"]
[{"$f":"[2]Gr11!$A$1279","v":0},"11_5"]
[{"$f":"[2]Gr11!$A$1280","v":0},"11_5"]
[{"$f":"[2]Gr11!$A$1281","v":0},"11_5"]
[{"$f":"[2]Gr11!$A$1282","v":0},"11_5"]
[{"$f":"[2]Gr11!$A$1283","v":0},"11_5"]
[{"$f":"[2]Gr11!$A$1284","v":0},"11_5"]
[{"$f":"[2]Gr11!$A$1285","v":0},"11_5"]
[{"$f":"[2]Gr11!$A$1286","v":0},"11_5"]
[{"$f":"[2]Gr11!$A$1287","v":0},"11_5"]
[{"$f":"[2]Gr11!$A$1288","v":0},"11_5"]
[{"$f":"[2]Gr11!$A$1289","v":0},"11_5"]
[{"$f":"[2]Gr11!$A$1290","v":0},"11_5"]
[{"$f":"[2]Gr11!$A$1291","v":0},"11_5"]
[{"$f":"[2]Gr11!$A$1292","v":0},"11_5"]
[{"$f":"[2]Gr11!$A$1293","v":0},"11_5"]
[{"$f":"[2]Gr11!$A$1294","v":0},"11_5"]
[{"$f":"[2]Gr11!$A$1295","v":0},"11_5"]
[{"$f":"[2]Gr11!$A$1296","v":0},"11_5"]
[{"$f":"[2]Gr11!$A$1297","v":0},"11_5"]
[{"$f":"[2]Gr11!$A$1298","v":0},"11_5"]
[{"$f":"[2]Gr11!$A$1299","v":0},"11_5"]
[{"$f":"[2]Gr11!$A$1300","v":0},"11_5"]
[{"$f":"[2]Gr11!$A$1301","v":0},"11_5"]
[{"$f":"[2]Gr11!$A$1302","v":0},"11_5"]
[{"$f":"[2]Gr11!$A$1303","v":0},"11_5"]
[{"$f":"[2]Gr11!$A$1304","v":0},"11_5"]
[{"$f":"[2]Gr11!$A$1305","v":0},"11_5"]
[{"$f":"[2]Gr11!$A$1306","v":0},"11_5"]
[{"$f":"[2]Gr11!$A$1307","v":0},"11_5"]
[{"$f":"[2]Gr11!$A$1308","v":0},"11_5"]
[{"$f":"[2]Gr11!$A$1309","v":0},"11_5"]
[{"$f":"[2]Gr11!$A$1310","v":0},"11_5"]
[{"$f":"[2]Gr11!$A$1311","v":0},"11_5"]
[{"$f":"[2]Gr11!$A$1312","v":0},"11_5"]
[{"$f":"[2]Gr11!$A$1313","v":0},"11_5"]
[{"$f":"[2]Gr11!$A$1314","v":0},"11_5"]
[{"$f":"[2]Gr11!$A$1315","v":0},"11_5"]
[{"$f":"[2]Gr11!$A$1316","v":0},"11_5"]
[{"$f":"[2]Gr11!$A$1317","v":0},"11_5"]
[{"$f":"[2]Gr11!$A$1318","v":0},"11_5"]
[{"$f":"[2]Gr11!$A$1319","v":0},"11_5"]
[{"$f":"[2]Gr11!$A$1320","v":0},"11_5"]
[{"$f":"[2]Gr11!$A$1321","v":0},"11_5"]
[{"$f":"[2]Gr11!$A$1322","v":0},"11_5"]
[{"$f":"[2]Gr11!$A$1323","v":0},"11_5"]
[{"$f":"[2]Gr11!$A$1324","v":0},"11_5"]
[{"$f":"[2]Gr11!$A$1325","v":0},"11_5"]
[{"$f":"[2]Gr11!$A$1326","v":0},"11_5"]
[{"$f":"[2]Gr11!$A$1327","v":0},"11_5"]
[{"$f":"[2]Gr11!$A$1328","v":0},"11_5"]
[{"$f":"[2]Gr11!$A$1329","v":0},"11_5"]
[{"$f":"[2]Gr11!$A$1330","v":0},"11_5"]
[{"$f":"[2]Gr11!$A$1331","v":0},"11_5"]
[{"$f":"[2]Gr11!$A$1332","v":0},"11_5"]
[{"$f":"[2]Gr11!$A$1333","v":0},"11_5"]
[{"$f":"[2]Gr11!$A$1334","v":0},"11_5"]
[{"$f":"[2]Gr11!$A$1335","v":0},"11_5"]
[{"$f":"[2]Gr11!$A$1336","v":0},"11_5"]
[{"$f":"[2]Gr11!$A$1337","v":0},"11_5"]
[{"$f":"[2]Gr11!$A$1338","v":0},"11_5"]
[{"$f":"[2]Gr11!$A$1339","v":0},"11_5"]
[{"$f":"[2]Gr11!$A$1340","v":0},"11_5"]
[{"$f":"[2]Gr11!$A$1341","v":0},"11_5"]
[{"$f":"[2]Gr11!$A$1342","v":0},"11_5"]
[{"$f":"[2]Gr11!$A$1343","v":0},"11_5"]
[{"$f":"[2]Gr11!$A$1344","v":0},"11_5"]
[{"$f":"[2]Gr11!$A$1345","v":0},"11_5"]
[{"$f":"[2]Gr11!$A$1346","v":0},"11_5"]
[{"$f":"[2]Gr11!$A$1347","v":0},"11_5"]
[{"$f":"[2]Gr11!$A$1348","v":0},"11_5"]
[{"$f":"[2]Gr11!$A$1349","v":0},"11_5"]
[{"$f":"[2]Gr11!$A$1350","v":0},"11_5"]
[{"$f":"[2]Gr11!$A$1351","v":0},"11_5"]
[{"$f":"[2]Gr11!$A$1352","v":0},"11_5"]
[{"$f":"[2]Gr11!$A$1353","v":0},"11_5"]
[{"$f":"[2]Gr11!$A$1354","v":0},"11_5"]
[{"$f":"[2]Gr11!$A$1355","v":0},"11_5"]
[{"$f":"[2]Gr11!$A$1356","v":0},"11_5"]
[{"$f":"[2]Gr11!$A$1357","v":0},"11_5"]
[{"$f":"[2]Gr11!$A$1358","v":0},"11_5"]
[{"$f":"[2]Gr11!$A$1359","v":0},"11_5"]
[{"$f":"[2]Gr11!$A$1360","v":0},"11_5"]
[{"$f":"[2]Gr11!$A$1361","v":0},"11_5"]
[{"$f":"[2]Gr11!$A$1362","v":0},"11_5"]
[{"$f":"[2]Gr11!$A$1363","v":0},"11_5"]
[{"$f":"[2]Gr11!$A$1364","v":0},"11_5"]
[{"$f":"[2]Gr11!$A$1365","v":0},"11_5"]
[{"$f":"[2]Gr11!$A$1366","v":0},"11_5"]
[{"$f":"[2]Gr11!$A$1367","v":0},"11_5"]
[{"$f":"[2]Gr11!$A$1368","v":0},"11_5"]
[{"$f":"[2]Gr11!$A$1369","v":0},"11_5"]
[{"$f":"[2]Gr11!$A$1370","v":0},"11_5"]
[{"$f":"[2]Gr11!$A$1371","v":0},"11_5"]
[{"$f":"[2]Gr11!$A$1372","v":0},"11_5"]
[{"$f":"[2]Gr11!$A$1373","v":0},"11_5"]
[{"$f":"[2]Gr11!$A$1374","v":0},"11_5"]
[{"$f":"[2]Gr11!$A$1375","v":0},"11_5"]
[{"$f":"[2]Gr11!$A$1376","v":0},"11_5"]
[{"$f":"[2]Gr11!$A$1377","v":0},"11_5"]
[{"$f":"[2]Gr11!$A$1378","v":0},"11_5"]
[{"$f":"[2]Gr11!$A$1379","v":0},"11_5"]
[{"$f":"[2]Gr11!$A$1380","v":0},"11_5"]
[{"$f":"[2]Gr11!$A$1381","v":0},"11_5"]
[{"$f":"[2]Gr11!$A$1382","v":0},"11_5"]
[{"$f":"[2]Gr11!$A$1383","v":0},"11_5"]
[{"$f":"[2]Gr11!$A$1384","v":0},"11_5"]
[{"$f":"[2]Gr11!$A$1385","v":0},"11_5"]
[{"$f":"[2]Gr11!$A$1386","v":0},"11_5"]
[{"$f":"[2]Gr11!$A$1387","v":0},"11_5"]
[{"$f":"[2]Gr11!$A$1388","v":0},"11_5"]
[{"$f":"[2]Gr11!$A$1389","v":0},"11_5"]
[{"$f":"[2]Gr11!$A$1390","v":0},"11_5"]
[{"$f":"[2]Gr11!$A$1391","v":0},"11_5"]
[{"$f":"[2]Gr11!$A$1392","v":0},"11_5"]
[{"$f":"[2]Gr11!$A$1393","v":0},"11_5"]
[{"$f":"[2]Gr11!$A$1394","v":0},"11_5"]
[{"$f":"[2]Gr11!$A$1395","v":0},"11_5"]
[{"$f":"[2]Gr11!$A$1396","v":0},"11_5"]
[{"$f":"[2]Gr11!$A$1397","v":0},"11_5"]
[{"$f":"[2]Gr11!$A$1398","v":0},"11_5"]
[{"$f":"[2]Gr11!$A$1399","v":0},"11_5"]
[{"$f":"[2]Gr11!$A$1400","v":0},"11_5"]
[{"$f":"[2]Gr11!$A$1401","v":0},"11_5"]
[{"$f":"[2]Gr11!$A$1402","v":0},"11_5"]
[{"$f":"[2]Gr11!$A$1403","v":0},"11_5"]
[{"$f":"[2]Gr11!$A$1404","v":0},"11_5"]
[{"$f":"[2]Gr11!$A$1416","v":0},"11_6"]
[{"$f":"[2]Gr11!$A$1417","v":0},"11_6"]
[{"$f":"[2]Gr11!$A$1418","v":0},"11_6"]
[{"$f":"[2]Gr11!$A$1419","v":0},"11_6"]
[{"$f":"[2]Gr11!$A$1420","v":0},"11_6"]
[{"$f":"[2]Gr11!$A$1421","v":0},"11_6"]
[{"$f":"[2]Gr11!$A$1422","v":0},"11_6"]
[{"$f":"[2]Gr11!$A$1423","v":0},"11_6"]
[{"$f":"[2]Gr11!$A$1424","v":0},"11_6"]
[{"$f":"[2]Gr11!$A$1425","v":0},"11_6"]
[{"$f":"[2]Gr11!$A$1426","v":0},"11_6"]
[{"$f":"[2]Gr11!$A$1427","v":0},"11_6"]
[{"$f":"[2]Gr11!$A$1428","v":0},"11_6"]
[{"$f":"[2]Gr11!$A$1429","v":0},"11_6"]
[{"$f":"[2]Gr11!$A$1430","v":0},"11_6"]
[{"$f":"[2]Gr11!$A$1431","v":0},"11_6"]
[{"$f":"[2]Gr11!$A$1432","v":0},"11_6"]
[{"$f":"[2]Gr11!$A$1433","v":0},"11_6"]
[{"$f":"[2]Gr11!$A$1434","v":0},"11_6"]
[{"$f":"[2]Gr11!$A$1435","v":0},"11_6"]
[{"$f":"[2]Gr11!$A$1436","v":0},"11_6"]
[{"$f":"[2]Gr11!$A$1437","v":0},"11_6"]
[{"$f":"[2]Gr11!$A$1438","v":0},"11_6"]
[{"$f":"[2]Gr11!$A$1439","v":0},"11_6"]
[{"$f":"[2]Gr11!$A$1440","v":0},"11_6"]
[{"$f":"[2]Gr11!$A$1441","v":0},"11_6"]
[{"$f":"[2]Gr11!$A$1442","v":0},"11_6"]
[{"$f":"[2]Gr11!$A$1443","v":0},"11_6"]
[{"$f":"[2]Gr11!$A$1444","v":0},"11_6"]
[{"$f":"[2]Gr11!$A$1445","v":0},"11_6"]
[{"$f":"[2]Gr11!$A$1446","v":0},"11_6"]
[{"$f":"[2]Gr11!$A$1447","v":0},"11_6"]
[{"$f":"[2]Gr11!$A$1448","v":0},"11_6"]
[{"$f":"[2]Gr11!$A$1449","v":0},"11_6"]
[{"$f":"[2]Gr11!$A$1450","v":0},"11_6"]
[{"$f":"[2]Gr11!$A$1451","v":0},"11_6"]
[{"$f":"[2]Gr11!$A$1452","v":0},"11_6"]
[{"$f":"[2]Gr11!$A$1453","v":0},"11_6"]
[{"$f":"[2]Gr11!$A$1454","v":0},"11_6"]
[{"$f":"[2]Gr11!$A$1455","v":0},"11_6"]
[{"$f":"[2]Gr11!$A$1456","v":0},"11_6"]
[{"$f":"[2]Gr11!$A$1457","v":0},"11_6"]
[{"$f":"[2]Gr11!$A$1458","v":0},"11_6"]
[{"$f":"[2]Gr11!$A$1459","v":0},"11_6"]
[{"$f":"[2]Gr11!$A$1460","v":0},"11_6"]
[{"$f":"[2]Gr11!$A$1461","v":0},"11_6"]
[{"$f":"[2]Gr11!$A$1462","v":0},"11_6"]
[{"$f":"[2]Gr11!$A$1463","v":0},"11_6"]
[{"$f":"[2]Gr11!$A$1464","v":0},"11_6"]
[{"$f":"[2]Gr11!$A$1465","v":0},"11_6"]
[{"$f":"[2]Gr11!$A$1466","v":0},"11_6"]
[{"$f":"[2]Gr11!$A$1467","v":0},"11_6"]
[{"$f":"[2]Gr11!$A$1468","v":0},"11_6"]
[{"$f":"[2]Gr11!$A$1469","v":0},"11_6"]
[{"$f":"[2]Gr11!$A$1470","v":0},"11_6"]
[{"$f":"[2]Gr11!$A$1471","v":0},"11_6"]
[{"$f":"[2]Gr11!$A$1472","v":0},"11_6"]
[{"$f":"[2]Gr11!$A$1473","v":0},"11_6"]
[{"$f":"[2]Gr11!$A$1474","v":0},"11_6"]
[{"$f":"[2]Gr11!$A$1475","v":0},"11_6"]
[{"$f":"[2]Gr11!$A$1476","v":0},"11_6"]
[{"$f":"[2]Gr11!$A$1477","v":0},"11_6"]
[{"$f":"[2]Gr11!$A$1478","v":0},"11_6"]
[{"$f":"[2]Gr11!$A$1479","v":0},"11_6"]
[{"$f":"[2]Gr11!$A$1480","v":0},"11_6"]
[{"$f":"[2]Gr11!$A$1481","v":0},"11_6"]
[{"$f":"[2]Gr11!$A$1482","v":0},"11_6"]
[{"$f":"[2]Gr11!$A$1483","v":0},"11_6"]
[{"$f":"[2]Gr11!$A$1484","v":0},"11_6"]
[{"$f":"[2]Gr11!$A$1485","v":0},"11_6"]
[{"$f":"[2]Gr11!$A$1486","v":0},"11_6"]
[{"$f":"[2]Gr11!$A$1487","v":0},"11_6"]
[{"$f":"[2]Gr11!$A$1488","v":0},"11_6"]
[{"$f":"[2]Gr11!$A$1489","v":0},"11_6"]
[{"$f":"[2]Gr11!$A$1490","v":0},"11_6"]
[{"$f":"[2]Gr11!$A$1491","v":0},"11_6"]
[{"$f":"[2]Gr11!$A$1492","v":0},"11_6"]
[{"$f":"[2]Gr11!$A$1493","v":0},"11_6"]
[{"$f":"[2]Gr11!$A$1494","v":0},"11_6"]
[{"$f":"[2]Gr11!$A$1495","v":0},"11_6"]
[{"$f":"[2]Gr11!$A$1496","v":0},"11_6"]
[{"$f":"[2]Gr11!$A$1497","v":0},"11_6"]
[{"$f":"[2]Gr11!$A$1498","v":0},"11_6"]
[{"$f":"[2]Gr11!$A$1499","v":0},"11_6"]
[{"$f":"[2]Gr11!$A$1500","v":0},"11_6"]
[{"$f":"[2]Gr11!$A$1501","v":0},"11_6"]
[{"$f":"[2]Gr11!$A$1502","v":0},"11_6"]
[{"$f":"[2]Gr11!$A$1503","v":0},"11_6"]
[{"$f":"[2]Gr11!$A$1504","v":0},"11_6"]
[{"$f":"[2]Gr11!$A$1505","v":0},"11_6"]
[{"$f":"[2]Gr11!$A$1506","v":0},"11_6"]
[{"$f":"[2]Gr11!$A$1507","v":0},"11_6"]
[{"$f":"[2]Gr11!$A$1508","v":0},"11_6"]
[{"$f":"[2]Gr11!$A$1509","v":0},"11_6"]
[{"$f":"[2]Gr11!$A$1510","v":0},"11_6"]
[{"$f":"[2]Gr11!$A$1511","v":0},"11_6"]
[{"$f":"[2]Gr11!$A$1512","v":0},"11_6"]
[{"$f":"[2]Gr11!$A$1513","v":0},"11_6"]
[{"$f":"[2]Gr11!$A$1514","v":0},"11_6"]
[{"$f":"[2]Gr11!$A$1515","v":0},"11_6"]
[{"$f":"[2]Gr11!$A$1516","v":0},"11_6"]
[{"$f":"[2]Gr11!$A$1517","v":0},"11_6"]
[{"$f":"[2]Gr11!$A$1518","v":0},"11_6"]
[{"$f":"[2]Gr11!$A$1519","v":0},"11_6"]
[{"$f":"[2]Gr11!$A$1520","v":0},"11_6"]
[{"$f":"[2]Gr11!$A$1521","v":0},"11_6"]
[{"$f":"[2]Gr11!$A$1522","v":0},"11_6"]
[{"$f":"[2]Gr11!$A$1523","v":0},"11_6"]
[{"$f":"[2]Gr11!$A$1524","v":0},"11_6"]
[{"$f":"[2]Gr11!$A$1525","v":0},"11_6"]
[{"$f":"[2]Gr11!$A$1526","v":0},"11_6"]
[{"$f":"[2]Gr11!$A$1527","v":0},"11_6"]
[{"$f":"[2]Gr11!$A$1528","v":0},"11_6"]
[{"$f":"[2]Gr11!$A$1529","v":0},"11_6"]
[{"$f":"[2]Gr11!$A$1530","v":0},"11_6"]
[{"$f":"[2]Gr11!$A$1531","v":0},"11_6"]
[{"$f":"[2]Gr11!$A$1532","v":0},"11_6"]
[{"$f":"[2]Gr11!$A$1533","v":0},"11_6"]
[{"$f":"[2]Gr11!$A$1534","v":0},"11_6"]
[{"$f":"[2]Gr11!$A$1535","v":0},"11_6"]
[{"$f":"[2]Gr11!$A$1536","v":0},"11_6"]
[{"$f":"[2]Gr11!$A$1537","v":0},"11_6"]
[{"$f":"[2]Gr11!$A$1538","v":0},"11_6"]
[{"$f":"[2]Gr11!$A$1539","v":0},"11_6"]
[{"$f":"[2]Gr11!$A$1540","v":0},"11_6"]
[{"$f":"[2]Gr11!$A$1541","v":0},"11_6"]
[{"$f":"[2]Gr11!$A$1542","v":0},"11_6"]
[{"$f":"[2]Gr11!$A$1543","v":0},"11_6"]
[{"$f":"[2]Gr11!$A$1544","v":0},"11_6"]
[{"$f":"[2]Gr11!$A$1545","v":0},"11_6"]
[{"$f":"[2]Gr11!$A$1546","v":0},"11_6"]
[{"$f":"[2]Gr11!$A$1547","v":0},"11_6"]
[{"$f":"[2]Gr11!$A$1548","v":0},"11_6"]
[{"$f":"[2]Gr11!$A$1549","v":0},"11_6"]
[{"$f":"[2]Gr11!$A$1550","v":0},"11_6"]
[{"$f":"[2]Gr11!$A$1551","v":0},"11_6"]
[{"$f":"[2]Gr11!$A$1552","v":0},"11_6"]
[{"$f":"[2]Gr11!$A$1553","v":0},"11_6"]
[{"$f":"[2]Gr11!$A$1554","v":0},"11_6"]
[{"$f":"[2]Gr11!$A$1555","v":0},"11_6"]
[{"$f":"[2]Gr11!$A$1556","v":0},"11_6"]
[{"$f":"[2]Gr11!$A$1557","v":0},"11_6"]
[{"$f":"[2]Gr11!$A$1558","v":0},"11_6"]
[{"$f":"[2]Gr11!$A$1559","v":0},"11_6"]
[{"$f":"[2]Gr11!$A$1560","v":0},"11_6"]
[{"$f":"[2]Gr11!$A$1561","v":0},"11_6"]
[{"$f":"[2]Gr11!$A$1562","v":0},"11_6"]
[{"$f":"[2]Gr11!$A$1563","v":0},"11_6"]
[{"$f":"[2]Gr11!$A$1564","v":0},"11_6"]
[{"$f":"[2]Gr11!$A$1565","v":0},"11_6"]
[{"$f":"[2]Gr11!$A$1566","v":0},"11_6"]
[{"$f":"[2]Gr11!$A$1567","v":0},"11_6"]
[{"$f":"[2]Gr11!$A$1568","v":0},"11_6"]
[{"$f":"[2]Gr11!$A$1569","v":0},"11_6"]
[{"$f":"[2]Gr11!$A$1570","v":0},"11_6"]
[{"$f":"[2]Gr11!$A$1571","v":0},"11_6"]
[{"$f":"[2]Gr11!$A$1572","v":0},"11_6"]
[{"$f":"[2]Gr11!$A$1573","v":0},"11_6"]
[{"$f":"[2]Gr11!$A$1574","v":0},"11_6"]
[{"$f":"[2]Gr11!$A$1575","v":0},"11_6"]
[{"$f":"[2]Gr11!$A$1576","v":0},"11_6"]
[{"$f":"[2]Gr11!$A$1577","v":0},"11_6"]
[{"$f":"[2]Gr11!$A$1578","v":0},"11_6"]
[{"$f":"[2]Gr11!$A$1579","v":0},"11_6"]
[{"$f":"[2]Gr11!$A$1580","v":0},"11_6"]
[{"$f":"[2]Gr11!$A$1581","v":0},"11_6"]
[{"$f":"[2]Gr11!$A$1582","v":0},"11_6"]
[{"$f":"[2]Gr11!$A$1583","v":0},"11_6"]
[{"$f":"[2]Gr11!$A$1584","v":0},"11_6"]
[{"$f":"[2]Gr11!$A$1585","v":0},"11_6"]
[{"$f":"[2]Gr11!$A$1586","v":0},"11_6"]
[{"$f":"[2]Gr11!$A$1587","v":0},"11_6"]
[{"$f":"[2]Gr11!$A$1588","v":0},"11_6"]
[{"$f":"[2]Gr11!$A$1589","v":0},"11_6"]
[{"$f":"[2]Gr11!$A$1590","v":0},"11_6"]
[{"$f":"[2]Gr11!$A$1591","v":0},"11_6"]
[{"$f":"[2]Gr11!$A$1592","v":0},"11_6"]
[{"$f":"[2]Gr11!$A$1593","v":0},"11_6"]
[{"$f":"[2]Gr11!$A$1594","v":0},"11_6"]
[{"$f":"[2]Gr11!$A$1595","v":0},"11_6"]
[{"$f":"[2]Gr11!$A$1596","v":0},"11_6"]
[{"$f":"[2]Gr11!$A$1597","v":0},"11_6"]
[{"$f":"[2]Gr11!$A$1598","v":0},"11_6"]
[{"$f":"[2]Gr11!$A$1599","v":0},"11_6"]
[{"$f":"[2]Gr11!$A$1600","v":0},"11_6"]
[{"$f":"[2]Gr11!$A$1601","v":0},"11_6"]
[{"$f":"[2]Gr11!$A$1602","v":0},"11_6"]
[{"$f":"[2]Gr11!$A$1603","v":0},"11_6"]
[{"$f":"[2]Gr11!$A$1604","v":0},"11_6"]
[{"$f":"[2]Gr11!$A$1605","v":0},"11_6"]
[{"$f":"[2]Gr11!$A$1606","v":0},"11_6"]
[{"$f":"[2]Gr11!$A$1607","v":0},"11_6"]
[{"$f":"[2]Gr11!$A$1608","v":0},"11_6"]
[{"$f":"[2]Gr11!$A$1609","v":0},"11_6"]
[{"$f":"[2]Gr11!$A$1610","v":0},"11_6"]
[{"$f":"[2]Gr11!$A$1611","v":0},"11_6"]
[{"$f":"[2]Gr11!$A$1612","v":0},"11_6"]
[{"$f":"[2]Gr11!$A$1613","v":0},"11_6"]
[{"$f":"[2]Gr11!$A$1614","v":0},"11_6"]
[{"$f":"[2]Gr11!$A$1615","v":0},"11_6"]
[{"$f":"[2]Gr11!$A$1616","v":0},"11_6"]
[{"$f":"[2]Gr11!$A$1617","v":0},"11_6"]
[{"$f":"[2]Gr11!$A$1618","v":0},"11_6"]
[{"$f":"[2]Gr11!$A$1619","v":0},"11_6"]
[{"$f":"[2]Gr11!$A$1620","v":0},"11_6"]
[{"$f":"[2]Gr11!$A$1621","v":0},"11_6"]
[{"$f":"[2]Gr11!$A$1622","v":0},"11_6"]
[{"$f":"[2]Gr11!$A$1623","v":0},"11_6"]
[{"$f":"[2]Gr11!$A$1624","v":0},"11_6"]
[{"$f":"[2]Gr11!$A$1625","v":0},"11_6"]
[{"$f":"[2]Gr11!$A$1626","v":0},"11_6"]
[{"$f":"[2]Gr11!$A$1627","v":0},"11_6"]
[{"$f":"[2]Gr11!$A$1628","v":0},"11_6"]
[{"$f":"[2]Gr11!$A$1629","v":0},"11_6"]
[{"$f":"[2]Gr11!$A$1630","v":0},"11_6"]
[{"$f":"[2]Gr11!$A$1631","v":0},"11_6"]
[{"$f":"[2]Gr11!$A$1632","v":0},"11_6"]
[{"$f":"[2]Gr11!$A$1633","v":0},"11_6"]
[{"$f":"[2]Gr11!$A$1634","v":0},"11_6"]
[{"$f":"[2]Gr11!$A$1635","v":0},"11_6"]
[{"$f":"[2]Gr11!$A$1636","v":0},"11_6"]
[{"$f":"[2]Gr11!$A$1637","v":0},"11_6"]
[{"$f":"[2]Gr11!$A$1638","v":0},"11_6"]
[{"$f":"[2]Gr11!$A$1639","v":0},"11_6"]
[{"$f":"[2]Gr11!$A$1640","v":0},"11_6"]
[{"$f":"[2]Gr11!$A$1641","v":0},"11_6"]
[{"$f":"[2]Gr11!$A$1642","v":0},"11_6"]
[{"$f":"[2]Gr11!$A$1643","v":0},"11_6"]
[{"$f":"[2]Gr11!$A$1644","v":0},"11_6"]
[{"$f":"[2]Gr11!$A$1645","v":0},"11_6"]
[{"$f":"[2]Gr11!$A$1646","v":0},"11_6"]
[{"$f":"[2]Gr11!$A$1647","v":0},"11_6"]
[{"$f":"[2]Gr11!$A$1648","v":0},"11_6"]
[{"$f":"[2]Gr11!$A$1649","v":0},"11_6"]
[{"$f":"[2]Gr11!$A$1650","v":0},"11_6"]
[{"$f":"[2]Gr11!$A$1651","v":0},"11_6"]
[{"$f":"[2]Gr11!$A$1652","v":0},"11_6"]
[{"$f":"[2]Gr11!$A$1653","v":0},"11_6"]
[{"$f":"[2]Gr11!$A$1654","v":0},"11_6"]
[{"$f":"[2]Gr11!$A$1655","v":0},"11_6"]
[{"$f":"[2]Gr11!$A$1656","v":0},"11_6"]
[{"$f":"[2]Gr11!$A$1657","v":0},"11_6"]
[{"$f":"[2]Gr11!$A$1658","v":0},"11_6"]
[{"$f":"[2]Gr11!$A$1659","v":0},"11_6"]
[{"$f":"[2]Gr11!$A$1660","v":0},"11_6"]
[{"$f":"[2]Gr11!$A$1661","v":0},"11_6"]
[{"$f":"[2]Gr11!$A$1662","v":0},"11_6"]
[{"$f":"[2]Gr11!$A$1663","v":0},"11_6"]
[{"$f":"[2]Gr11!$A$1664","v":0},"11_6"]
[{"$f":"[2]Gr11!$A$1665","v":0},"11_6"]
[{"$f":"[2]Gr11!$A$1666","v":0},"11_6"]
[{"$f":"[2]Gr11!$A$1667","v":0},"11_6"]
[{"$f":"[2]Gr11!$A$1668","v":0},"11_6"]
[{"$f":"[2]Gr11!$A$1669","v":0},"11_6"]
[{"$f":"[2]Gr11!$A$1670","v":0},"11_6"]
[{"$f":"[2]Gr11!$A$1671","v":0},"11_6"]
[{"$f":"[2]Gr11!$A$1672","v":0},"11_6"]
[{"$f":"[2]Gr11!$A$1673","v":0},"11_6"]
[{"$f":"[2]Gr11!$A$1674","v":0},"11_6"]
[{"$f":"[2]Gr11!$A$1675","v":0},"11_6"]
[{"$f":"[2]Gr11!$A$1676","v":0},"11_6"]
[{"$f":"[2]Gr11!$A$1677","v":0},"11_6"]
[{"$f":"[2]Gr11!$A$1678","v":0},"11_6"]
[{"$f":"[2]Gr11!$A$1679","v":0},"11_6"]
[{"$f":"[2]Gr11!$A$1680","v":0},"11_6"]
[{"$f":"[2]Gr11!$A$1681","v":0},"11_6"]
[{"$f":"[2]Gr11!$A$1682","v":0},"11_6"]
[{"$f":"[2]Gr11!$A$1683","v":0},"11_6"]
[{"$f":"[2]Gr11!$A$1684","v":0},"11_6"]
[{"$f":"[2]Gr11!$A$1685","v":0},"11_6"]
[{"$f":"[2]Gr12!$A$11","v":254},"12_1"]
[{"$f":"[2]Gr12!$A$12","v":10},"12_1"]
[{"$f":"[2]Gr12!$A$13","v":0},"12_1"]
[{"$f":"[2]Gr12!$A$14","v":0},"12_1"]
[{"$f":"[2]Gr12!$A$15","v":0},"12_1"]
[{"$f":"[2]Gr12!$A$16","v":0},"12_1"]
[{"$f":"[2]Gr12!$A$17","v":0},"12_1"]
[{"$f":"[2]Gr12!$A$18","v":0},"12_1"]
[{"$f":"[2]Gr12!$A$19","v":0},"12_1"]
[{"$f":"[2]Gr12!$A$20","v":0},"12_1"]
[{"$f":"[2]Gr12!$A$21","v":0},"12_1"]
[{"$f":"[2]Gr12!$A$22","v":0},"12_1"]
[{"$f":"[2]Gr12!$A$23","v":0},"12_1"]
[{"$f":"[2]Gr12!$A$24","v":0},"12_1"]
[{"$f":"[2]Gr12!$A$25","v":0},"12_1"]
[{"$f":"[2]Gr12!$A$26","v":0},"12_1"]
[{"$f":"[2]Gr12!$A$27","v":0},"12_1"]
[{"$f":"[2]Gr12!$A$28","v":0},"12_1"]
[{"$f":"[2]Gr12!$A$29","v":0},"12_1"]
[{"$f":"[2]Gr12!$A$30","v":0},"12_1"]
[{"$f":"[2]Gr12!$A$31","v":0},"12_1"]
[{"$f":"[2]Gr12!$A$32","v":0},"12_1"]
[{"$f":"[2]Gr12!$A$33","v":0},"12_1"]
[{"$f":"[2]Gr12!$A$34","v":0},"12_1"]
[{"$f":"[2]Gr12!$A$35","v":0},"12_1"]
[{"$f":"[2]Gr12!$A$36","v":0},"12_1"]
[{"$f":"[2]Gr12!$A$37","v":0},"12_1"]
[{"$f":"[2]Gr12!$A$38","v":0},"12_1"]
[{"$f":"[2]Gr12!$A$39","v":0},"12_1"]
[{"$f":"[2]Gr12!$A$40","v":0},"12_1"]
[{"$f":"[2]Gr12!$A$41","v":0},"12_1"]
[{"$f":"[2]Gr12!$A$42","v":0},"12_1"]
[{"$f":"[2]Gr12!$A$43","v":0},"12_1"]
[{"$f":"[2]Gr12!$A$44","v":0},"12_1"]
[{"$f":"[2]Gr12!$A$45","v":0},"12_1"]
[{"$f":"[2]Gr12!$A$46","v":0},"12_1"]
[{"$f":"[2]Gr12!$A$47","v":0},"12_1"]
[{"$f":"[2]Gr12!$A$48","v":0},"12_1"]
[{"$f":"[2]Gr12!$A$49","v":0},"12_1"]
[{"$f":"[2]Gr12!$A$50","v":0},"12_1"]
[{"$f":"[2]Gr12!$A$51","v":0},"12_1"]
[{"$f":"[2]Gr12!$A$52","v":0},"12_1"]
[{"$f":"[2]Gr12!$A$53","v":0},"12_1"]
[{"$f":"[2]Gr12!$A$54","v":0},"12_1"]
[{"$f":"[2]Gr12!$A$55","v":0},"12_1"]
[{"$f":"[2]Gr12!$A$56","v":0},"12_1"]
[{"$f":"[2]Gr12!$A$57","v":0},"12_1"]
[{"$f":"[2]Gr12!$A$58","v":0},"12_1"]
[{"$f":"[2]Gr12!$A$59","v":0},"12_1"]
[{"$f":"[2]Gr12!$A$60","v":0},"12_1"]
[{"$f":"[2]Gr12!$A$61","v":0},"12_1"]
[{"$f":"[2]Gr12!$A$62","v":0},"12_1"]
[{"$f":"[2]Gr12!$A$63","v":0},"12_1"]
[{"$f":"[2]Gr12!$A$64","v":0},"12_1"]
[{"$f":"[2]Gr12!$A$65","v":0},"12_1"]
[{"$f":"[2]Gr12!$A$66","v":0},"12_1"]
[{"$f":"[2]Gr12!$A$67","v":0},"12_1"]
[{"$f":"[2]Gr12!$A$68","v":0},"12_1"]
[{"$f":"[2]Gr12!$A$69","v":0},"12_1"]
[{"$f":"[2]Gr12!$A$70","v":0},"12_1"]
[{"$f":"[2]Gr12!$A$71","v":0},"12_1"]
[{"$f":"[2]Gr12!$A$72","v":0},"12_1"]
[{"$f":"[2]Gr12!$A$73","v":0},"12_1"]
[{"$f":"[2]Gr12!$A$74","v":0},"12_1"]
[{"$f":"[2]Gr12!$A$75","v":0},"12_1"]
[{"$f":"[2]Gr12!$A$76","v":0},"12_1"]
[{"$f":"[2]Gr12!$A$77","v":0},"12_1"]
[{"$f":"[2]Gr12!$A$78","v":0},"12_1"]
[{"$f":"[2]Gr12!$A$79","v":0},"12_1"]
[{"$f":"[2]Gr12!$A$80","v":0},"12_1"]
[{"$f":"[2]Gr12!$A$81","v":0},"12_1"]
[{"$f":"[2]Gr12!$A$82","v":0},"12_1"]
[{"$f":"[2]Gr12!$A$83","v":0},"12_1"]
[{"$f":"[2]Gr12!$A$84","v":0},"12_1"]
[{"$f":"[2]Gr12!$A$85","v":0},"12_1"]
[{"$f":"[2]Gr12!$A$86","v":0},"12_1"]
[{"$f":"[2]Gr12!$A$87","v":0},"12_1"]
[{"$f":"[2]Gr12!$A$88","v":0},"12_1"]
[{"$f":"[2]Gr12!$A$89","v":0},"12_1"]
[{"$f":"[2]Gr12!$A$90","v":0},"12_1"]
[{"$f":"[2]Gr12!$A$91","v":0},"12_1"]
[{"$f":"[2]Gr12!$A$92","v":0},"12_1"]
[{"$f":"[2]Gr12!$A$93","v":0},"12_1"]
[{"$f":"[2]Gr12!$A$94","v":0},"12_1"]
[{"$f":"[2]Gr12!$A$95","v":0},"12_1"]
[{"$f":"[2]Gr12!$A$96","v":0},"12_1"]
[{"$f":"[2]Gr12!$A$97","v":0},"12_1"]
[{"$f":"[2]Gr12!$A$98","v":0},"12_1"]
[{"$f":"[2]Gr12!$A$99","v":0},"12_1"]
[{"$f":"[2]Gr12!$A$100","v":0},"12_1"]
[{"$f":"[2]Gr12!$A$101","v":0},"12_1"]
[{"$f":"[2]Gr12!$A$102","v":0},"12_1"]
[{"$f":"[2]Gr12!$A$103","v":0},"12_1"]
[{"$f":"[2]Gr12!$A$104","v":0},"12_1"]
[{"$f":"[2]Gr12!$A$105","v":0},"12_1"]
[{"$f":"[2]Gr12!$A$106","v":0},"12_1"]
[{"$f":"[2]Gr12!$A$107","v":0},"12_1"]
[{"$f":"[2]Gr12!$A$108","v":0},"12_1"]
[{"$f":"[2]Gr12!$A$109","v":0},"12_1"]
[{"$f":"[2]Gr12!$A$110","v":0},"12_1"]
[{"$f":"[2]Gr12!$A$111","v":0},"12_1"]
[{"$f":"[2]Gr12!$A$112","v":0},"12_1"]
[{"$f":"[2]Gr12!$A$113","v":0},"12_1"]
[{"$f":"[2]Gr12!$A$114","v":0},"12_1"]
[{"$f":"[2]Gr12!$A$115","v":0},"12_1"]
[{"$f":"[2]Gr12!$A$116","v":0},"12_1"]
[{"$f":"[2]Gr12!$A$117","v":0},"12_1"]
[{"$f":"[2]Gr12!$A$118","v":0},"12_1"]
[{"$f":"[2]Gr12!$A$119","v":0},"12_1"]
[{"$f":"[2]Gr12!$A$120","v":0},"12_1"]
[{"$f":"[2]Gr12!$A$121","v":0},"12_1"]
[{"$f":"[2]Gr12!$A$122","v":0},"12_1"]
[{"$f":"[2]Gr12!$A$123","v":0},"12_1"]
[{"$f":"[2]Gr12!$A$124","v":0},"12_1"]
[{"$f":"[2]Gr12!$A$125","v":0},"12_1"]
[{"$f":"[2]Gr12!$A$126","v":0},"12_1"]
[{"$f":"[2]Gr12!$A$127","v":0},"12_1"]
[{"$f":"[2]Gr12!$A$128","v":0},"12_1"]
[{"$f":"[2]Gr12!$A$129","v":0},"12_1"]
[{"$f":"[2]Gr12!$A$130","v":0},"12_1"]
[{"$f":"[2]Gr12!$A$131","v":0},"12_1"]
[{"$f":"[2]Gr12!$A$132","v":0},"12_1"]
[{"$f":"[2]Gr12!$A$133","v":0},"12_1"]
[{"$f":"[2]Gr12!$A$134","v":0},"12_1"]
[{"$f":"[2]Gr12!$A$135","v":0},"12_1"]
[{"$f":"[2]Gr12!$A$136","v":0},"12_1"]
[{"$f":"[2]Gr12!$A$137","v":0},"12_1"]
[{"$f":"[2]Gr12!$A$138","v":0},"12_1"]
[{"$f":"[2]Gr12!$A$139","v":0},"12_1"]
[{"$f":"[2]Gr12!$A$140","v":0},"12_1"]
[{"$f":"[2]Gr12!$A$141","v":0},"12_1"]
[{"$f":"[2]Gr12!$A$142","v":0},"12_1"]
[{"$f":"[2]Gr12!$A$143","v":0},"12_1"]
[{"$f":"[2]Gr12!$A$144","v":0},"12_1"]
[{"$f":"[2]Gr12!$A$145","v":0},"12_1"]
[{"$f":"[2]Gr12!$A$146","v":0},"12_1"]
[{"$f":"[2]Gr12!$A$147","v":0},"12_1"]
[{"$f":"[2]Gr12!$A$148","v":0},"12_1"]
[{"$f":"[2]Gr12!$A$149","v":0},"12_1"]
[{"$f":"[2]Gr12!$A$150","v":0},"12_1"]
[{"$f":"[2]Gr12!$A$151","v":0},"12_1"]
[{"$f":"[2]Gr12!$A$152","v":0},"12_1"]
[{"$f":"[2]Gr12!$A$153","v":0},"12_1"]
[{"$f":"[2]Gr12!$A$154","v":0},"12_1"]
[{"$f":"[2]Gr12!$A$155","v":0},"12_1"]
[{"$f":"[2]Gr12!$A$156","v":0},"12_1"]
[{"$f":"[2]Gr12!$A$157","v":0},"12_1"]
[{"$f":"[2]Gr12!$A$158","v":0},"12_1"]
[{"$f":"[2]Gr12!$A$159","v":0},"12_1"]
[{"$f":"[2]Gr12!$A$160","v":0},"12_1"]
[{"$f":"[2]Gr12!$A$161","v":0},"12_1"]
[{"$f":"[2]Gr12!$A$162","v":0},"12_1"]
[{"$f":"[2]Gr12!$A$163","v":0},"12_1"]
[{"$f":"[2]Gr12!$A$164","v":0},"12_1"]
[{"$f":"[2]Gr12!$A$165","v":0},"12_1"]
[{"$f":"[2]Gr12!$A$166","v":0},"12_1"]
[{"$f":"[2]Gr12!$A$167","v":0},"12_1"]
[{"$f":"[2]Gr12!$A$168","v":0},"12_1"]
[{"$f":"[2]Gr12!$A$169","v":0},"12_1"]
[{"$f":"[2]Gr12!$A$170","v":0},"12_1"]
[{"$f":"[2]Gr12!$A$171","v":0},"12_1"]
[{"$f":"[2]Gr12!$A$172","v":0},"12_1"]
[{"$f":"[2]Gr12!$A$173","v":0},"12_1"]
[{"$f":"[2]Gr12!$A$174","v":0},"12_1"]
[{"$f":"[2]Gr12!$A$175","v":0},"12_1"]
[{"$f":"[2]Gr12!$A$176","v":0},"12_1"]
[{"$f":"[2]Gr12!$A$177","v":0},"12_1"]
[{"$f":"[2]Gr12!$A$178","v":0},"12_1"]
[{"$f":"[2]Gr12!$A$179","v":0},"12_1"]
[{"$f":"[2]Gr12!$A$180","v":0},"12_1"]
[{"$f":"[2]Gr12!$A$181","v":0},"12_1"]
[{"$f":"[2]Gr12!$A$182","v":0},"12_1"]
[{"$f":"[2]Gr12!$A$183","v":0},"12_1"]
[{"$f":"[2]Gr12!$A$184","v":0},"12_1"]
[{"$f":"[2]Gr12!$A$185","v":0},"12_1"]
[{"$f":"[2]Gr12!$A$186","v":0},"12_1"]
[{"$f":"[2]Gr12!$A$187","v":0},"12_1"]
[{"$f":"[2]Gr12!$A$188","v":0},"12_1"]
[{"$f":"[2]Gr12!$A$189","v":0},"12_1"]
[{"$f":"[2]Gr12!$A$190","v":0},"12_1"]
[{"$f":"[2]Gr12!$A$191","v":0},"12_1"]
[{"$f":"[2]Gr12!$A$192","v":0},"12_1"]
[{"$f":"[2]Gr12!$A$193","v":0},"12_1"]
[{"$f":"[2]Gr12!$A$194","v":0},"12_1"]
[{"$f":"[2]Gr12!$A$195","v":0},"12_1"]
[{"$f":"[2]Gr12!$A$196","v":0},"12_1"]
[{"$f":"[2]Gr12!$A$197","v":0},"12_1"]
[{"$f":"[2]Gr12!$A$198","v":0},"12_1"]
[{"$f":"[2]Gr12!$A$199","v":0},"12_1"]
[{"$f":"[2]Gr12!$A$200","v":0},"12_1"]
[{"$f":"[2]Gr12!$A$201","v":0},"12_1"]
[{"$f":"[2]Gr12!$A$202","v":0},"12_1"]
[{"$f":"[2]Gr12!$A$203","v":0},"12_1"]
[{"$f":"[2]Gr12!$A$204","v":0},"12_1"]
[{"$f":"[2]Gr12!$A$205","v":0},"12_1"]
[{"$f":"[2]Gr12!$A$206","v":0},"12_1"]
[{"$f":"[2]Gr12!$A$207","v":0},"12_1"]
[{"$f":"[2]Gr12!$A$208","v":0},"12_1"]
[{"$f":"[2]Gr12!$A$209","v":0},"12_1"]
[{"$f":"[2]Gr12!$A$210","v":0},"12_1"]
[{"$f":"[2]Gr12!$A$211","v":0},"12_1"]
[{"$f":"[2]Gr12!$A$212","v":0},"12_1"]
[{"$f":"[2]Gr12!$A$213","v":0},"12_1"]
[{"$f":"[2]Gr12!$A$214","v":0},"12_1"]
[{"$f":"[2]Gr12!$A$215","v":0},"12_1"]
[{"$f":"[2]Gr12!$A$216","v":0},"12_1"]
[{"$f":"[2]Gr12!$A$217","v":0},"12_1"]
[{"$f":"[2]Gr12!$A$218","v":0},"12_1"]
[{"$f":"[2]Gr12!$A$219","v":0},"12_1"]
[{"$f":"[2]Gr12!$A$220","v":0},"12_1"]
[{"$f":"[2]Gr12!$A$221","v":0},"12_1"]
[{"$f":"[2]Gr12!$A$222","v":0},"12_1"]
[{"$f":"[2]Gr12!$A$223","v":0},"12_1"]
[{"$f":"[2]Gr12!$A$224","v":0},"12_1"]
[{"$f":"[2]Gr12!$A$225","v":0},"12_1"]
[{"$f":"[2]Gr12!$A$226","v":0},"12_1"]
[{"$f":"[2]Gr12!$A$227","v":0},"12_1"]
[{"$f":"[2]Gr12!$A$228","v":0},"12_1"]
[{"$f":"[2]Gr12!$A$229","v":0},"12_1"]
[{"$f":"[2]Gr12!$A$230","v":0},"12_1"]
[{"$f":"[2]Gr12!$A$231","v":0},"12_1"]
[{"$f":"[2]Gr12!$A$232","v":0},"12_1"]
[{"$f":"[2]Gr12!$A$233","v":0},"12_1"]
[{"$f":"[2]Gr12!$A$234","v":0},"12_1"]
[{"$f":"[2]Gr12!$A$235","v":0},"12_1"]
[{"$f":"[2]Gr12!$A$236","v":0},"12_1"]
[{"$f":"[2]Gr12!$A$237","v":0},"12_1"]
[{"$f":"[2]Gr12!$A$238","v":0},"12_1"]
[{"$f":"[2]Gr12!$A$239","v":0},"12_1"]
[{"$f":"[2]Gr12!$A$240","v":0},"12_1"]
[{"$f":"[2]Gr12!$A$241","v":0},"12_1"]
[{"$f":"[2]Gr12!$A$242","v":0},"12_1"]
[{"$f":"[2]Gr12!$A$243","v":0},"12_1"]
[{"$f":"[2]Gr12!$A$244","v":0},"12_1"]
[{"$f":"[2]Gr12!$A$245","v":0},"12_1"]
[{"$f":"[2]Gr12!$A$246","v":0},"12_1"]
[{"$f":"[2]Gr12!$A$247","v":0},"12_1"]
[{"$f":"[2]Gr12!$A$248","v":0},"12_1"]
[{"$f":"[2]Gr12!$A$249","v":0},"12_1"]
[{"$f":"[2]Gr12!$A$250","v":0},"12_1"]
[{"$f":"[2]Gr12!$A$251","v":0},"12_1"]
[{"$f":"[2]Gr12!$A$252","v":0},"12_1"]
[{"$f":"[2]Gr12!$A$253","v":0},"12_1"]
[{"$f":"[2]Gr12!$A$254","v":0},"12_1"]
[{"$f":"[2]Gr12!$A$255","v":0},"12_1"]
[{"$f":"[2]Gr12!$A$256","v":0},"12_1"]
[{"$f":"[2]Gr12!$A$257","v":0},"12_1"]
[{"$f":"[2]Gr12!$A$258","v":0},"12_1"]
[{"$f":"[2]Gr12!$A$259","v":0},"12_1"]
[{"$f":"[2]Gr12!$A$260","v":0},"12_1"]
[{"$f":"[2]Gr12!$A$261","v":0},"12_1"]
[{"$f":"[2]Gr12!$A$262","v":0},"12_1"]
[{"$f":"[2]Gr12!$A$263","v":0},"12_1"]
[{"$f":"[2]Gr12!$A$264","v":0},"12_1"]
[{"$f":"[2]Gr12!$A$265","v":0},"12_1"]
[{"$f":"[2]Gr12!$A$266","v":0},"12_1"]
[{"$f":"[2]Gr12!$A$267","v":0},"12_1"]
[{"$f":"[2]Gr12!$A$268","v":0},"12_1"]
[{"$f":"[2]Gr12!$A$269","v":0},"12_1"]
[{"$f":"[2]Gr12!$A$270","v":0},"12_1"]
[{"$f":"[2]Gr12!$A$271","v":0},"12_1"]
[{"$f":"[2]Gr12!$A$272","v":0},"12_1"]
[{"$f":"[2]Gr12!$A$273","v":0},"12_1"]
[{"$f":"[2]Gr12!$A$274","v":0},"12_1"]
[{"$f":"[2]Gr12!$A$275","v":0},"12_1"]
[{"$f":"[2]Gr12!$A$276","v":0},"12_1"]
[{"$f":"[2]Gr12!$A$277","v":0},"12_1"]
[{"$f":"[2]Gr12!$A$278","v":0},"12_1"]
[{"$f":"[2]Gr12!$A$279","v":0},"12_1"]
[{"$f":"[2]Gr12!$A$280","v":0},"12_1"]
[{"$f":"[2]Gr12!$A$292","v":0},"12_2"]
[{"$f":"[2]Gr12!$A$293","v":0},"12_2"]
[{"$f":"[2]Gr12!$A$294","v":0},"12_2"]
[{"$f":"[2]Gr12!$A$295","v":0},"12_2"]
[{"$f":"[2]Gr12!$A$296","v":0},"12_2"]
[{"$f":"[2]Gr12!$A$297","v":0},"12_2"]
[{"$f":"[2]Gr12!$A$298","v":0},"12_2"]
[{"$f":"[2]Gr12!$A$299","v":0},"12_2"]
[{"$f":"[2]Gr12!$A$300","v":0},"12_2"]
[{"$f":"[2]Gr12!$A$301","v":0},"12_2"]
[{"$f":"[2]Gr12!$A$302","v":0},"12_2"]
[{"$f":"[2]Gr12!$A$303","v":0},"12_2"]
[{"$f":"[2]Gr12!$A$304","v":0},"12_2"]
[{"$f":"[2]Gr12!$A$305","v":0},"12_2"]
[{"$f":"[2]Gr12!$A$306","v":0},"12_2"]
[{"$f":"[2]Gr12!$A$307","v":0},"12_2"]
[{"$f":"[2]Gr12!$A$308","v":0},"12_2"]
[{"$f":"[2]Gr12!$A$309","v":0},"12_2"]
[{"$f":"[2]Gr12!$A$310","v":0},"12_2"]
[{"$f":"[2]Gr12!$A$311","v":0},"12_2"]
[{"$f":"[2]Gr12!$A$312","v":0},"12_2"]
[{"$f":"[2]Gr12!$A$313","v":0},"12_2"]
[{"$f":"[2]Gr12!$A$314","v":0},"12_2"]
[{"$f":"[2]Gr12!$A$315","v":0},"12_2"]
[{"$f":"[2]Gr12!$A$316","v":0},"12_2"]
[{"$f":"[2]Gr12!$A$317","v":0},"12_2"]
[{"$f":"[2]Gr12!$A$318","v":0},"12_2"]
[{"$f":"[2]Gr12!$A$319","v":0},"12_2"]
[{"$f":"[2]Gr12!$A$320","v":0},"12_2"]
[{"$f":"[2]Gr12!$A$321","v":0},"12_2"]
[{"$f":"[2]Gr12!$A$322","v":0},"12_2"]
[{"$f":"[2]Gr12!$A$323","v":0},"12_2"]
[{"$f":"[2]Gr12!$A$324","v":0},"12_2"]
[{"$f":"[2]Gr12!$A$325","v":0},"12_2"]
[{"$f":"[2]Gr12!$A$326","v":0},"12_2"]
[{"$f":"[2]Gr12!$A$327","v":0},"12_2"]
[{"$f":"[2]Gr12!$A$328","v":0},"12_2"]
[{"$f":"[2]Gr12!$A$329","v":0},"12_2"]
[{"$f":"[2]Gr12!$A$330","v":0},"12_2"]
[{"$f":"[2]Gr12!$A$331","v":0},"12_2"]
[{"$f":"[2]Gr12!$A$332","v":0},"12_2"]
[{"$f":"[2]Gr12!$A$333","v":0},"12_2"]
[{"$f":"[2]Gr12!$A$334","v":0},"12_2"]
[{"$f":"[2]Gr12!$A$335","v":0},"12_2"]
[{"$f":"[2]Gr12!$A$336","v":0},"12_2"]
[{"$f":"[2]Gr12!$A$337","v":0},"12_2"]
[{"$f":"[2]Gr12!$A$338","v":0},"12_2"]
[{"$f":"[2]Gr12!$A$339","v":0},"12_2"]
[{"$f":"[2]Gr12!$A$340","v":0},"12_2"]
[{"$f":"[2]Gr12!$A$341","v":0},"12_2"]
[{"$f":"[2]Gr12!$A$342","v":0},"12_2"]
[{"$f":"[2]Gr12!$A$343","v":0},"12_2"]
[{"$f":"[2]Gr12!$A$344","v":0},"12_2"]
[{"$f":"[2]Gr12!$A$345","v":0},"12_2"]
[{"$f":"[2]Gr12!$A$346","v":0},"12_2"]
[{"$f":"[2]Gr12!$A$347","v":0},"12_2"]
[{"$f":"[2]Gr12!$A$348","v":0},"12_2"]
[{"$f":"[2]Gr12!$A$349","v":0},"12_2"]
[{"$f":"[2]Gr12!$A$350","v":0},"12_2"]
[{"$f":"[2]Gr12!$A$351","v":0},"12_2"]
[{"$f":"[2]Gr12!$A$352","v":0},"12_2"]
[{"$f":"[2]Gr12!$A$353","v":0},"12_2"]
[{"$f":"[2]Gr12!$A$354","v":0},"12_2"]
[{"$f":"[2]Gr12!$A$355","v":0},"12_2"]
[{"$f":"[2]Gr12!$A$356","v":0},"12_2"]
[{"$f":"[2]Gr12!$A$357","v":0},"12_2"]
[{"$f":"[2]Gr12!$A$358","v":0},"12_2"]
[{"$f":"[2]Gr12!$A$359","v":0},"12_2"]
[{"$f":"[2]Gr12!$A$360","v":0},"12_2"]
[{"$f":"[2]Gr12!$A$361","v":0},"12_2"]
[{"$f":"[2]Gr12!$A$362","v":0},"12_2"]
[{"$f":"[2]Gr12!$A$363","v":0},"12_2"]
[{"$f":"[2]Gr12!$A$364","v":0},"12_2"]
[{"$f":"[2]Gr12!$A$365","v":0},"12_2"]
[{"$f":"[2]Gr12!$A$366","v":0},"12_2"]
[{"$f":"[2]Gr12!$A$367","v":0},"12_2"]
[{"$f":"[2]Gr12!$A$368","v":0},"12_2"]
[{"$f":"[2]Gr12!$A$369","v":0},"12_2"]
[{"$f":"[2]Gr12!$A$370","v":0},"12_2"]
[{"$f":"[2]Gr12!$A$371","v":0},"12_2"]
[{"$f":"[2]Gr12!$A$372","v":0},"12_2"]
[{"$f":"[2]Gr12!$A$373","v":0},"12_2"]
[{"$f":"[2]Gr12!$A$374","v":0},"12_2"]
[{"$f":"[2]Gr12!$A$375","v":0},"12_2"]
[{"$f":"[2]Gr12!$A$376","v":0},"12_2"]
[{"$f":"[2]Gr12!$A$377","v":0},"12_2"]
[{"$f":"[2]Gr12!$A$378","v":0},"12_2"]
[{"$f":"[2]Gr12!$A$379","v":0},"12_2"]
[{"$f":"[2]Gr12!$A$380","v":0},"12_2"]
[{"$f":"[2]Gr12!$A$381","v":0},"12_2"]
[{"$f":"[2]Gr12!$A$382","v":0},"12_2"]
[{"$f":"[2]Gr12!$A$383","v":0},"12_2"]
[{"$f":"[2]Gr12!$A$384","v":0},"12_2"]
[{"$f":"[2]Gr12!$A$385","v":0},"12_2"]
[{"$f":"[2]Gr12!$A$386","v":0},"12_2"]
[{"$f":"[2]Gr12!$A$387","v":0},"12_2"]
[{"$f":"[2]Gr12!$A$388","v":0},"12_2"]
[{"$f":"[2]Gr12!$A$389","v":0},"12_2"]
[{"$f":"[2]Gr12!$A$390","v":0},"12_2"]
[{"$f":"[2]Gr12!$A$391","v":0},"12_2"]
[{"$f":"[2]Gr12!$A$392","v":0},"12_2"]
[{"$f":"[2]Gr12!$A$393","v":0},"12_2"]
[{"$f":"[2]Gr12!$A$394","v":0},"12_2"]
[{"$f":"[2]Gr12!$A$395","v":0},"12_2"]
[{"$f":"[2]Gr12!$A$396","v":0},"12_2"]
[{"$f":"[2]Gr12!$A$397","v":0},"12_2"]
[{"$f":"[2]Gr12!$A$398","v":0},"12_2"]
[{"$f":"[2]Gr12!$A$399","v":0},"12_2"]
[{"$f":"[2]Gr12!$A$400","v":0},"12_2"]
[{"$f":"[2]Gr12!$A$401","v":0},"12_2"]
[{"$f":"[2]Gr12!$A$402","v":0},"12_2"]
[{"$f":"[2]Gr12!$A$403","v":0},"12_2"]
[{"$f":"[2]Gr12!$A$404","v":0},"12_2"]
[{"$f":"[2]Gr12!$A$405","v":0},"12_2"]
[{"$f":"[2]Gr12!$A$406","v":0},"12_2"]
[{"$f":"[2]Gr12!$A$407","v":0},"12_2"]
[{"$f":"[2]Gr12!$A$408","v":0},"12_2"]
[{"$f":"[2]Gr12!$A$409","v":0},"12_2"]
[{"$f":"[2]Gr12!$A$410","v":0},"12_2"]
[{"$f":"[2]Gr12!$A$411","v":0},"12_2"]
[{"$f":"[2]Gr12!$A$412","v":0},"12_2"]
[{"$f":"[2]Gr12!$A$413","v":0},"12_2"]
[{"$f":"[2]Gr12!$A$414","v":0},"12_2"]
[{"$f":"[2]Gr12!$A$415","v":0},"12_2"]
[{"$f":"[2]Gr12!$A$416","v":0},"12_2"]
[{"$f":"[2]Gr12!$A$417","v":0},"12_2"]
[{"$f":"[2]Gr12!$A$418","v":0},"12_2"]
[{"$f":"[2]Gr12!$A$419","v":0},"12_2"]
[{"$f":"[2]Gr12!$A$420","v":0},"12_2"]
[{"$f":"[2]Gr12!$A$421","v":0},"12_2"]
[{"$f":"[2]Gr12!$A$422","v":0},"12_2"]
[{"$f":"[2]Gr12!$A$423","v":0},"12_2"]
[{"$f":"[2]Gr12!$A$424","v":0},"12_2"]
[{"$f":"[2]Gr12!$A$425","v":0},"12_2"]
[{"$f":"[2]Gr12!$A$426","v":0},"12_2"]
[{"$f":"[2]Gr12!$A$427","v":0},"12_2"]
[{"$f":"[2]Gr12!$A$428","v":0},"12_2"]
[{"$f":"[2]Gr12!$A$429","v":0},"12_2"]
[{"$f":"[2]Gr12!$A$430","v":0},"12_2"]
[{"$f":"[2]Gr12!$A$431","v":0},"12_2"]
[{"$f":"[2]Gr12!$A$432","v":0},"12_2"]
[{"$f":"[2]Gr12!$A$433","v":0},"12_2"]
[{"$f":"[2]Gr12!$A$434","v":0},"12_2"]
[{"$f":"[2]Gr12!$A$435","v":0},"12_2"]
[{"$f":"[2]Gr12!$A$436","v":0},"12_2"]
[{"$f":"[2]Gr12!$A$437","v":0},"12_2"]
[{"$f":"[2]Gr12!$A$438","v":0},"12_2"]
[{"$f":"[2]Gr12!$A$439","v":0},"12_2"]
[{"$f":"[2]Gr12!$A$440","v":0},"12_2"]
[{"$f":"[2]Gr12!$A$441","v":0},"12_2"]
[{"$f":"[2]Gr12!$A$442","v":0},"12_2"]
[{"$f":"[2]Gr12!$A$443","v":0},"12_2"]
[{"$f":"[2]Gr12!$A$444","v":0},"12_2"]
[{"$f":"[2]Gr12!$A$445","v":0},"12_2"]
[{"$f":"[2]Gr12!$A$446","v":0},"12_2"]
[{"$f":"[2]Gr12!$A$447","v":0},"12_2"]
[{"$f":"[2]Gr12!$A$448","v":0},"12_2"]
[{"$f":"[2]Gr12!$A$449","v":0},"12_2"]
[{"$f":"[2]Gr12!$A$450","v":0},"12_2"]
[{"$f":"[2]Gr12!$A$451","v":0},"12_2"]
[{"$f":"[2]Gr12!$A$452","v":0},"12_2"]
[{"$f":"[2]Gr12!$A$453","v":0},"12_2"]
[{"$f":"[2]Gr12!$A$454","v":0},"12_2"]
[{"$f":"[2]Gr12!$A$455","v":0},"12_2"]
[{"$f":"[2]Gr12!$A$456","v":0},"12_2"]
[{"$f":"[2]Gr12!$A$457","v":0},"12_2"]
[{"$f":"[2]Gr12!$A$458","v":0},"12_2"]
[{"$f":"[2]Gr12!$A$459","v":0},"12_2"]
[{"$f":"[2]Gr12!$A$460","v":0},"12_2"]
[{"$f":"[2]Gr12!$A$461","v":0},"12_2"]
[{"$f":"[2]Gr12!$A$462","v":0},"12_2"]
[{"$f":"[2]Gr12!$A$463","v":0},"12_2"]
[{"$f":"[2]Gr12!$A$464","v":0},"12_2"]
[{"$f":"[2]Gr12!$A$465","v":0},"12_2"]
[{"$f":"[2]Gr12!$A$466","v":0},"12_2"]
[{"$f":"[2]Gr12!$A$467","v":0},"12_2"]
[{"$f":"[2]Gr12!$A$468","v":0},"12_2"]
[{"$f":"[2]Gr12!$A$469","v":0},"12_2"]
[{"$f":"[2]Gr12!$A$470","v":0},"12_2"]
[{"$f":"[2]Gr12!$A$471","v":0},"12_2"]
[{"$f":"[2]Gr12!$A$472","v":0},"12_2"]
[{"$f":"[2]Gr12!$A$473","v":0},"12_2"]
[{"$f":"[2]Gr12!$A$474","v":0},"12_2"]
[{"$f":"[2]Gr12!$A$475","v":0},"12_2"]
[{"$f":"[2]Gr12!$A$476","v":0},"12_2"]
[{"$f":"[2]Gr12!$A$477","v":0},"12_2"]
[{"$f":"[2]Gr12!$A$478","v":0},"12_2"]
[{"$f":"[2]Gr12!$A$479","v":0},"12_2"]
[{"$f":"[2]Gr12!$A$480","v":0},"12_2"]
[{"$f":"[2]Gr12!$A$481","v":0},"12_2"]
[{"$f":"[2]Gr12!$A$482","v":0},"12_2"]
[{"$f":"[2]Gr12!$A$483","v":0},"12_2"]
[{"$f":"[2]Gr12!$A$484","v":0},"12_2"]
[{"$f":"[2]Gr12!$A$485","v":0},"12_2"]
[{"$f":"[2]Gr12!$A$486","v":0},"12_2"]
[{"$f":"[2]Gr12!$A$487","v":0},"12_2"]
[{"$f":"[2]Gr12!$A$488","v":0},"12_2"]
[{"$f":"[2]Gr12!$A$489","v":0},"12_2"]
[{"$f":"[2]Gr12!$A$490","v":0},"12_2"]
[{"$f":"[2]Gr12!$A$491","v":0},"12_2"]
[{"$f":"[2]Gr12!$A$492","v":0},"12_2"]
[{"$f":"[2]Gr12!$A$493","v":0},"12_2"]
[{"$f":"[2]Gr12!$A$494","v":0},"12_2"]
[{"$f":"[2]Gr12!$A$495","v":0},"12_2"]
[{"$f":"[2]Gr12!$A$496","v":0},"12_2"]
[{"$f":"[2]Gr12!$A$497","v":0},"12_2"]
[{"$f":"[2]Gr12!$A$498","v":0},"12_2"]
[{"$f":"[2]Gr12!$A$499","v":0},"12_2"]
[{"$f":"[2]Gr12!$A$500","v":0},"12_2"]
[{"$f":"[2]Gr12!$A$501","v":0},"12_2"]
[{"$f":"[2]Gr12!$A$502","v":0},"12_2"]
[{"$f":"[2]Gr12!$A$503","v":0},"12_2"]
[{"$f":"[2]Gr12!$A$504","v":0},"12_2"]
[{"$f":"[2]Gr12!$A$505","v":0},"12_2"]
[{"$f":"[2]Gr12!$A$506","v":0},"12_2"]
[{"$f":"[2]Gr12!$A$507","v":0},"12_2"]
[{"$f":"[2]Gr12!$A$508","v":0},"12_2"]
[{"$f":"[2]Gr12!$A$509","v":0},"12_2"]
[{"$f":"[2]Gr12!$A$510","v":0},"12_2"]
[{"$f":"[2]Gr12!$A$511","v":0},"12_2"]
[{"$f":"[2]Gr12!$A$512","v":0},"12_2"]
[{"$f":"[2]Gr12!$A$513","v":0},"12_2"]
[{"$f":"[2]Gr12!$A$514","v":0},"12_2"]
[{"$f":"[2]Gr12!$A$515","v":0},"12_2"]
[{"$f":"[2]Gr12!$A$516","v":0},"12_2"]
[{"$f":"[2]Gr12!$A$517","v":0},"12_2"]
[{"$f":"[2]Gr12!$A$518","v":0},"12_2"]
[{"$f":"[2]Gr12!$A$519","v":0},"12_2"]
[{"$f":"[2]Gr12!$A$520","v":0},"12_2"]
[{"$f":"[2]Gr12!$A$521","v":0},"12_2"]
[{"$f":"[2]Gr12!$A$522","v":0},"12_2"]
[{"$f":"[2]Gr12!$A$523","v":0},"12_2"]
[{"$f":"[2]Gr12!$A$524","v":0},"12_2"]
[{"$f":"[2]Gr12!$A$525","v":0},"12_2"]
[{"$f":"[2]Gr12!$A$526","v":0},"12_2"]
[{"$f":"[2]Gr12!$A$527","v":0},"12_2"]
[{"$f":"[2]Gr12!$A$528","v":0},"12_2"]
[{"$f":"[2]Gr12!$A$529","v":0},"12_2"]
[{"$f":"[2]Gr12!$A$530","v":0},"12_2"]
[{"$f":"[2]Gr12!$A$531","v":0},"12_2"]
[{"$f":"[2]Gr12!$A$532","v":0},"12_2"]
[{"$f":"[2]Gr12!$A$533","v":0},"12_2"]
[{"$f":"[2]Gr12!$A$534","v":0},"12_2"]
[{"$f":"[2]Gr12!$A$535","v":0},"12_2"]
[{"$f":"[2]Gr12!$A$536","v":0},"12_2"]
[{"$f":"[2]Gr12!$A$537","v":0},"12_2"]
[{"$f":"[2]Gr12!$A$538","v":0},"12_2"]
[{"$f":"[2]Gr12!$A$539","v":0},"12_2"]
[{"$f":"[2]Gr12!$A$540","v":0},"12_2"]
[{"$f":"[2]Gr12!$A$541","v":0},"12_2"]
[{"$f":"[2]Gr12!$A$542","v":0},"12_2"]
[{"$f":"[2]Gr12!$A$543","v":0},"12_2"]
[{"$f":"[2]Gr12!$A$544","v":0},"12_2"]
[{"$f":"[2]Gr12!$A$545","v":0},"12_2"]
[{"$f":"[2]Gr12!$A$546","v":0},"12_2"]
[{"$f":"[2]Gr12!$A$547","v":0},"12_2"]
[{"$f":"[2]Gr12!$A$548","v":0},"12_2"]
[{"$f":"[2]Gr12!$A$549","v":0},"12_2"]
[{"$f":"[2]Gr12!$A$550","v":0},"12_2"]
[{"$f":"[2]Gr12!$A$551","v":0},"12_2"]
[{"$f":"[2]Gr12!$A$552","v":0},"12_2"]
[{"$f":"[2]Gr12!$A$553","v":0},"12_2"]
[{"$f":"[2]Gr12!$A$554","v":0},"12_2"]
[{"$f":"[2]Gr12!$A$555","v":0},"12_2"]
[{"$f":"[2]Gr12!$A$556","v":0},"12_2"]
[{"$f":"[2]Gr12!$A$557","v":0},"12_2"]
[{"$f":"[2]Gr12!$A$558","v":0},"12_2"]
[{"$f":"[2]Gr12!$A$559","v":0},"12_2"]
[{"$f":"[2]Gr12!$A$560","v":0},"12_2"]
[{"$f":"[2]Gr12!$A$561","v":0},"12_2"]
[{"$f":"[2]Gr12!$A$573","v":0},"12_3"]
[{"$f":"[2]Gr12!$A$574","v":0},"12_3"]
[{"$f":"[2]Gr12!$A$575","v":0},"12_3"]
[{"$f":"[2]Gr12!$A$576","v":0},"12_3"]
[{"$f":"[2]Gr12!$A$577","v":0},"12_3"]
[{"$f":"[2]Gr12!$A$578","v":0},"12_3"]
[{"$f":"[2]Gr12!$A$579","v":0},"12_3"]
[{"$f":"[2]Gr12!$A$580","v":0},"12_3"]
[{"$f":"[2]Gr12!$A$581","v":0},"12_3"]
[{"$f":"[2]Gr12!$A$582","v":0},"12_3"]
[{"$f":"[2]Gr12!$A$583","v":0},"12_3"]
[{"$f":"[2]Gr12!$A$584","v":0},"12_3"]
[{"$f":"[2]Gr12!$A$585","v":0},"12_3"]
[{"$f":"[2]Gr12!$A$586","v":0},"12_3"]
[{"$f":"[2]Gr12!$A$587","v":0},"12_3"]
[{"$f":"[2]Gr12!$A$588","v":0},"12_3"]
[{"$f":"[2]Gr12!$A$589","v":0},"12_3"]
[{"$f":"[2]Gr12!$A$590","v":0},"12_3"]
[{"$f":"[2]Gr12!$A$591","v":0},"12_3"]
[{"$f":"[2]Gr12!$A$592","v":0},"12_3"]
[{"$f":"[2]Gr12!$A$593","v":0},"12_3"]
[{"$f":"[2]Gr12!$A$594","v":0},"12_3"]
[{"$f":"[2]Gr12!$A$595","v":0},"12_3"]
[{"$f":"[2]Gr12!$A$596","v":0},"12_3"]
[{"$f":"[2]Gr12!$A$597","v":0},"12_3"]
[{"$f":"[2]Gr12!$A$598","v":0},"12_3"]
[{"$f":"[2]Gr12!$A$599","v":0},"12_3"]
[{"$f":"[2]Gr12!$A$600","v":0},"12_3"]
[{"$f":"[2]Gr12!$A$601","v":0},"12_3"]
[{"$f":"[2]Gr12!$A$602","v":0},"12_3"]
[{"$f":"[2]Gr12!$A$603","v":0},"12_3"]
[{"$f":"[2]Gr12!$A$604","v":0},"12_3"]
[{"$f":"[2]Gr12!$A$605","v":0},"12_3"]
[{"$f":"[2]Gr12!$A$606","v":0},"12_3"]
[{"$f":"[2]Gr12!$A$607","v":0},"12_3"]
[{"$f":"[2]Gr12!$A$608","v":0},"12_3"]
[{"$f":"[2]Gr12!$A$609","v":0},"12_3"]
[{"$f":"[2]Gr12!$A$610","v":0},"12_3"]
[{"$f":"[2]Gr12!$A$611","v":0},"12_3"]
[{"$f":"[2]Gr12!$A$612","v":0},"12_3"]
[{"$f":"[2]Gr12!$A$613","v":0},"12_3"]
[{"$f":"[2]Gr12!$A$614","v":0},"12_3"]
[{"$f":"[2]Gr12!$A$615","v":0},"12_3"]
[{"$f":"[2]Gr12!$A$616","v":0},"12_3"]
[{"$f":"[2]Gr12!$A$617","v":0},"12_3"]
[{"$f":"[2]Gr12!$A$618","v":0},"12_3"]
[{"$f":"[2]Gr12!$A$619","v":0},"12_3"]
[{"$f":"[2]Gr12!$A$620","v":0},"12_3"]
[{"$f":"[2]Gr12!$A$621","v":0},"12_3"]
[{"$f":"[2]Gr12!$A$622","v":0},"12_3"]
[{"$f":"[2]Gr12!$A$623","v":0},"12_3"]
[{"$f":"[2]Gr12!$A$624","v":0},"12_3"]
[{"$f":"[2]Gr12!$A$625","v":0},"12_3"]
[{"$f":"[2]Gr12!$A$626","v":0},"12_3"]
[{"$f":"[2]Gr12!$A$627","v":0},"12_3"]
[{"$f":"[2]Gr12!$A$628","v":0},"12_3"]
[{"$f":"[2]Gr12!$A$629","v":0},"12_3"]
[{"$f":"[2]Gr12!$A$630","v":0},"12_3"]
[{"$f":"[2]Gr12!$A$631","v":0},"12_3"]
[{"$f":"[2]Gr12!$A$632","v":0},"12_3"]
[{"$f":"[2]Gr12!$A$633","v":0},"12_3"]
[{"$f":"[2]Gr12!$A$634","v":0},"12_3"]
[{"$f":"[2]Gr12!$A$635","v":0},"12_3"]
[{"$f":"[2]Gr12!$A$636","v":0},"12_3"]
[{"$f":"[2]Gr12!$A$637","v":0},"12_3"]
[{"$f":"[2]Gr12!$A$638","v":0},"12_3"]
[{"$f":"[2]Gr12!$A$639","v":0},"12_3"]
[{"$f":"[2]Gr12!$A$640","v":0},"12_3"]
[{"$f":"[2]Gr12!$A$641","v":0},"12_3"]
[{"$f":"[2]Gr12!$A$642","v":0},"12_3"]
[{"$f":"[2]Gr12!$A$643","v":0},"12_3"]
[{"$f":"[2]Gr12!$A$644","v":0},"12_3"]
[{"$f":"[2]Gr12!$A$645","v":0},"12_3"]
[{"$f":"[2]Gr12!$A$646","v":0},"12_3"]
[{"$f":"[2]Gr12!$A$647","v":0},"12_3"]
[{"$f":"[2]Gr12!$A$648","v":0},"12_3"]
[{"$f":"[2]Gr12!$A$649","v":0},"12_3"]
[{"$f":"[2]Gr12!$A$650","v":0},"12_3"]
[{"$f":"[2]Gr12!$A$651","v":0},"12_3"]
[{"$f":"[2]Gr12!$A$652","v":0},"12_3"]
[{"$f":"[2]Gr12!$A$653","v":0},"12_3"]
[{"$f":"[2]Gr12!$A$654","v":0},"12_3"]
[{"$f":"[2]Gr12!$A$655","v":0},"12_3"]
[{"$f":"[2]Gr12!$A$656","v":0},"12_3"]
[{"$f":"[2]Gr12!$A$657","v":0},"12_3"]
[{"$f":"[2]Gr12!$A$658","v":0},"12_3"]
[{"$f":"[2]Gr12!$A$659","v":0},"12_3"]
[{"$f":"[2]Gr12!$A$660","v":0},"12_3"]
[{"$f":"[2]Gr12!$A$661","v":0},"12_3"]
[{"$f":"[2]Gr12!$A$662","v":0},"12_3"]
[{"$f":"[2]Gr12!$A$663","v":0},"12_3"]
[{"$f":"[2]Gr12!$A$664","v":0},"12_3"]
[{"$f":"[2]Gr12!$A$665","v":0},"12_3"]
[{"$f":"[2]Gr12!$A$666","v":0},"12_3"]
[{"$f":"[2]Gr12!$A$667","v":0},"12_3"]
[{"$f":"[2]Gr12!$A$668","v":0},"12_3"]
[{"$f":"[2]Gr12!$A$669","v":0},"12_3"]
[{"$f":"[2]Gr12!$A$670","v":0},"12_3"]
[{"$f":"[2]Gr12!$A$671","v":0},"12_3"]
[{"$f":"[2]Gr12!$A$672","v":0},"12_3"]
[{"$f":"[2]Gr12!$A$673","v":0},"12_3"]
[{"$f":"[2]Gr12!$A$674","v":0},"12_3"]
[{"$f":"[2]Gr12!$A$675","v":0},"12_3"]
[{"$f":"[2]Gr12!$A$676","v":0},"12_3"]
[{"$f":"[2]Gr12!$A$677","v":0},"12_3"]
[{"$f":"[2]Gr12!$A$678","v":0},"12_3"]
[{"$f":"[2]Gr12!$A$679","v":0},"12_3"]
[{"$f":"[2]Gr12!$A$680","v":0},"12_3"]
[{"$f":"[2]Gr12!$A$681","v":0},"12_3"]
[{"$f":"[2]Gr12!$A$682","v":0},"12_3"]
[{"$f":"[2]Gr12!$A$683","v":0},"12_3"]
[{"$f":"[2]Gr12!$A$684","v":0},"12_3"]
[{"$f":"[2]Gr12!$A$685","v":0},"12_3"]
[{"$f":"[2]Gr12!$A$686","v":0},"12_3"]
[{"$f":"[2]Gr12!$A$687","v":0},"12_3"]
[{"$f":"[2]Gr12!$A$688","v":0},"12_3"]
[{"$f":"[2]Gr12!$A$689","v":0},"12_3"]
[{"$f":"[2]Gr12!$A$690","v":0},"12_3"]
[{"$f":"[2]Gr12!$A$691","v":0},"12_3"]
[{"$f":"[2]Gr12!$A$692","v":0},"12_3"]
[{"$f":"[2]Gr12!$A$693","v":0},"12_3"]
[{"$f":"[2]Gr12!$A$694","v":0},"12_3"]
[{"$f":"[2]Gr12!$A$695","v":0},"12_3"]
[{"$f":"[2]Gr12!$A$696","v":0},"12_3"]
[{"$f":"[2]Gr12!$A$697","v":0},"12_3"]
[{"$f":"[2]Gr12!$A$698","v":0},"12_3"]
[{"$f":"[2]Gr12!$A$699","v":0},"12_3"]
[{"$f":"[2]Gr12!$A$700","v":0},"12_3"]
[{"$f":"[2]Gr12!$A$701","v":0},"12_3"]
[{"$f":"[2]Gr12!$A$702","v":0},"12_3"]
[{"$f":"[2]Gr12!$A$703","v":0},"12_3"]
[{"$f":"[2]Gr12!$A$704","v":0},"12_3"]
[{"$f":"[2]Gr12!$A$705","v":0},"12_3"]
[{"$f":"[2]Gr12!$A$706","v":0},"12_3"]
[{"$f":"[2]Gr12!$A$707","v":0},"12_3"]
[{"$f":"[2]Gr12!$A$708","v":0},"12_3"]
[{"$f":"[2]Gr12!$A$709","v":0},"12_3"]
[{"$f":"[2]Gr12!$A$710","v":0},"12_3"]
[{"$f":"[2]Gr12!$A$711","v":0},"12_3"]
[{"$f":"[2]Gr12!$A$712","v":0},"12_3"]
[{"$f":"[2]Gr12!$A$713","v":0},"12_3"]
[{"$f":"[2]Gr12!$A$714","v":0},"12_3"]
[{"$f":"[2]Gr12!$A$715","v":0},"12_3"]
[{"$f":"[2]Gr12!$A$716","v":0},"12_3"]
[{"$f":"[2]Gr12!$A$717","v":0},"12_3"]
[{"$f":"[2]Gr12!$A$718","v":0},"12_3"]
[{"$f":"[2]Gr12!$A$719","v":0},"12_3"]
[{"$f":"[2]Gr12!$A$720","v":0},"12_3"]
[{"$f":"[2]Gr12!$A$721","v":0},"12_3"]
[{"$f":"[2]Gr12!$A$722","v":0},"12_3"]
[{"$f":"[2]Gr12!$A$723","v":0},"12_3"]
[{"$f":"[2]Gr12!$A$724","v":0},"12_3"]
[{"$f":"[2]Gr12!$A$725","v":0},"12_3"]
[{"$f":"[2]Gr12!$A$726","v":0},"12_3"]
[{"$f":"[2]Gr12!$A$727","v":0},"12_3"]
[{"$f":"[2]Gr12!$A$728","v":0},"12_3"]
[{"$f":"[2]Gr12!$A$729","v":0},"12_3"]
[{"$f":"[2]Gr12!$A$730","v":0},"12_3"]
[{"$f":"[2]Gr12!$A$731","v":0},"12_3"]
[{"$f":"[2]Gr12!$A$732","v":0},"12_3"]
[{"$f":"[2]Gr12!$A$733","v":0},"12_3"]
[{"$f":"[2]Gr12!$A$734","v":0},"12_3"]
[{"$f":"[2]Gr12!$A$735","v":0},"12_3"]
[{"$f":"[2]Gr12!$A$736","v":0},"12_3"]
[{"$f":"[2]Gr12!$A$737","v":0},"12_3"]
[{"$f":"[2]Gr12!$A$738","v":0},"12_3"]
[{"$f":"[2]Gr12!$A$739","v":0},"12_3"]
[{"$f":"[2]Gr12!$A$740","v":0},"12_3"]
[{"$f":"[2]Gr12!$A$741","v":0},"12_3"]
[{"$f":"[2]Gr12!$A$742","v":0},"12_3"]
[{"$f":"[2]Gr12!$A$743","v":0},"12_3"]
[{"$f":"[2]Gr12!$A$744","v":0},"12_3"]
[{"$f":"[2]Gr12!$A$745","v":0},"12_3"]
[{"$f":"[2]Gr12!$A$746","v":0},"12_3"]
[{"$f":"[2]Gr12!$A$747","v":0},"12_3"]
[{"$f":"[2]Gr12!$A$748","v":0},"12_3"]
[{"$f":"[2]Gr12!$A$749","v":0},"12_3"]
[{"$f":"[2]Gr12!$A$750","v":0},"12_3"]
[{"$f":"[2]Gr12!$A$751","v":0},"12_3"]
[{"$f":"[2]Gr12!$A$752","v":0},"12_3"]
[{"$f":"[2]Gr12!$A$753","v":0},"12_3"]
[{"$f":"[2]Gr12!$A$754","v":0},"12_3"]
[{"$f":"[2]Gr12!$A$755","v":0},"12_3"]
[{"$f":"[2]Gr12!$A$756","v":0},"12_3"]
[{"$f":"[2]Gr12!$A$757","v":0},"12_3"]
[{"$f":"[2]Gr12!$A$758","v":0},"12_3"]
[{"$f":"[2]Gr12!$A$759","v":0},"12_3"]
[{"$f":"[2]Gr12!$A$760","v":0},"12_3"]
[{"$f":"[2]Gr12!$A$761","v":0},"12_3"]
[{"$f":"[2]Gr12!$A$762","v":0},"12_3"]
[{"$f":"[2]Gr12!$A$763","v":0},"12_3"]
[{"$f":"[2]Gr12!$A$764","v":0},"12_3"]
[{"$f":"[2]Gr12!$A$765","v":0},"12_3"]
[{"$f":"[2]Gr12!$A$766","v":0},"12_3"]
[{"$f":"[2]Gr12!$A$767","v":0},"12_3"]
[{"$f":"[2]Gr12!$A$768","v":0},"12_3"]
[{"$f":"[2]Gr12!$A$769","v":0},"12_3"]
[{"$f":"[2]Gr12!$A$770","v":0},"12_3"]
[{"$f":"[2]Gr12!$A$771","v":0},"12_3"]
[{"$f":"[2]Gr12!$A$772","v":0},"12_3"]
[{"$f":"[2]Gr12!$A$773","v":0},"12_3"]
[{"$f":"[2]Gr12!$A$774","v":0},"12_3"]
[{"$f":"[2]Gr12!$A$775","v":0},"12_3"]
[{"$f":"[2]Gr12!$A$776","v":0},"12_3"]
[{"$f":"[2]Gr12!$A$777","v":0},"12_3"]
[{"$f":"[2]Gr12!$A$778","v":0},"12_3"]
[{"$f":"[2]Gr12!$A$779","v":0},"12_3"]
[{"$f":"[2]Gr12!$A$780","v":0},"12_3"]
[{"$f":"[2]Gr12!$A$781","v":0},"12_3"]
[{"$f":"[2]Gr12!$A$782","v":0},"12_3"]
[{"$f":"[2]Gr12!$A$783","v":0},"12_3"]
[{"$f":"[2]Gr12!$A$784","v":0},"12_3"]
[{"$f":"[2]Gr12!$A$785","v":0},"12_3"]
[{"$f":"[2]Gr12!$A$786","v":0},"12_3"]
[{"$f":"[2]Gr12!$A$787","v":0},"12_3"]
[{"$f":"[2]Gr12!$A$788","v":0},"12_3"]
[{"$f":"[2]Gr12!$A$789","v":0},"12_3"]
[{"$f":"[2]Gr12!$A$790","v":0},"12_3"]
[{"$f":"[2]Gr12!$A$791","v":0},"12_3"]
[{"$f":"[2]Gr12!$A$792","v":0},"12_3"]
[{"$f":"[2]Gr12!$A$793","v":0},"12_3"]
[{"$f":"[2]Gr12!$A$794","v":0},"12_3"]
[{"$f":"[2]Gr12!$A$795","v":0},"12_3"]
[{"$f":"[2]Gr12!$A$796","v":0},"12_3"]
[{"$f":"[2]Gr12!$A$797","v":0},"12_3"]
[{"$f":"[2]Gr12!$A$798","v":0},"12_3"]
[{"$f":"[2]Gr12!$A$799","v":0},"12_3"]
[{"$f":"[2]Gr12!$A$800","v":0},"12_3"]
[{"$f":"[2]Gr12!$A$801","v":0},"12_3"]
[{"$f":"[2]Gr12!$A$802","v":0},"12_3"]
[{"$f":"[2]Gr12!$A$803","v":0},"12_3"]
[{"$f":"[2]Gr12!$A$804","v":0},"12_3"]
[{"$f":"[2]Gr12!$A$805","v":0},"12_3"]
[{"$f":"[2]Gr12!$A$806","v":0},"12_3"]
[{"$f":"[2]Gr12!$A$807","v":0},"12_3"]
[{"$f":"[2]Gr12!$A$808","v":0},"12_3"]
[{"$f":"[2]Gr12!$A$809","v":0},"12_3"]
[{"$f":"[2]Gr12!$A$810","v":0},"12_3"]
[{"$f":"[2]Gr12!$A$811","v":0},"12_3"]
[{"$f":"[2]Gr12!$A$812","v":0},"12_3"]
[{"$f":"[2]Gr12!$A$813","v":0},"12_3"]
[{"$f":"[2]Gr12!$A$814","v":0},"12_3"]
[{"$f":"[2]Gr12!$A$815","v":0},"12_3"]
[{"$f":"[2]Gr12!$A$816","v":0},"12_3"]
[{"$f":"[2]Gr12!$A$817","v":0},"12_3"]
[{"$f":"[2]Gr12!$A$818","v":0},"12_3"]
[{"$f":"[2]Gr12!$A$819","v":0},"12_3"]
[{"$f":"[2]Gr12!$A$820","v":0},"12_3"]
[{"$f":"[2]Gr12!$A$821","v":0},"12_3"]
[{"$f":"[2]Gr12!$A$822","v":0},"12_3"]
[{"$f":"[2]Gr12!$A$823","v":0},"12_3"]
[{"$f":"[2]Gr12!$A$824","v":0},"12_3"]
[{"$f":"[2]Gr12!$A$825","v":0},"12_3"]
[{"$f":"[2]Gr12!$A$826","v":0},"12_3"]
[{"$f":"[2]Gr12!$A$827","v":0},"12_3"]
[{"$f":"[2]Gr12!$A$828","v":0},"12_3"]
[{"$f":"[2]Gr12!$A$829","v":0},"12_3"]
[{"$f":"[2]Gr12!$A$830","v":0},"12_3"]
[{"$f":"[2]Gr12!$A$831","v":0},"12_3"]
[{"$f":"[2]Gr12!$A$832","v":0},"12_3"]
[{"$f":"[2]Gr12!$A$833","v":0},"12_3"]
[{"$f":"[2]Gr12!$A$834","v":0},"12_3"]
[{"$f":"[2]Gr12!$A$835","v":0},"12_3"]
[{"$f":"[2]Gr12!$A$836","v":0},"12_3"]
[{"$f":"[2]Gr12!$A$837","v":0},"12_3"]
[{"$f":"[2]Gr12!$A$838","v":0},"12_3"]
[{"$f":"[2]Gr12!$A$839","v":0},"12_3"]
[{"$f":"[2]Gr12!$A$840","v":0},"12_3"]
[{"$f":"[2]Gr12!$A$841","v":0},"12_3"]
[{"$f":"[2]Gr12!$A$842","v":0},"12_3"]
[{"$f":"[2]Gr12!$A$854","v":0},"12_4"]
[{"$f":"[2]Gr12!$A$855","v":0},"12_4"]
[{"$f":"[2]Gr12!$A$856","v":0},"12_4"]
[{"$f":"[2]Gr12!$A$857","v":0},"12_4"]
[{"$f":"[2]Gr12!$A$858","v":0},"12_4"]
[{"$f":"[2]Gr12!$A$859","v":0},"12_4"]
[{"$f":"[2]Gr12!$A$860","v":0},"12_4"]
[{"$f":"[2]Gr12!$A$861","v":0},"12_4"]
[{"$f":"[2]Gr12!$A$862","v":0},"12_4"]
[{"$f":"[2]Gr12!$A$863","v":0},"12_4"]
[{"$f":"[2]Gr12!$A$864","v":0},"12_4"]
[{"$f":"[2]Gr12!$A$865","v":0},"12_4"]
[{"$f":"[2]Gr12!$A$866","v":0},"12_4"]
[{"$f":"[2]Gr12!$A$867","v":0},"12_4"]
[{"$f":"[2]Gr12!$A$868","v":0},"12_4"]
[{"$f":"[2]Gr12!$A$869","v":0},"12_4"]
[{"$f":"[2]Gr12!$A$870","v":0},"12_4"]
[{"$f":"[2]Gr12!$A$871","v":0},"12_4"]
[{"$f":"[2]Gr12!$A$872","v":0},"12_4"]
[{"$f":"[2]Gr12!$A$873","v":0},"12_4"]
[{"$f":"[2]Gr12!$A$874","v":0},"12_4"]
[{"$f":"[2]Gr12!$A$875","v":0},"12_4"]
[{"$f":"[2]Gr12!$A$876","v":0},"12_4"]
[{"$f":"[2]Gr12!$A$877","v":0},"12_4"]
[{"$f":"[2]Gr12!$A$878","v":0},"12_4"]
[{"$f":"[2]Gr12!$A$879","v":0},"12_4"]
[{"$f":"[2]Gr12!$A$880","v":0},"12_4"]
[{"$f":"[2]Gr12!$A$881","v":0},"12_4"]
[{"$f":"[2]Gr12!$A$882","v":0},"12_4"]
[{"$f":"[2]Gr12!$A$883","v":0},"12_4"]
[{"$f":"[2]Gr12!$A$884","v":0},"12_4"]
[{"$f":"[2]Gr12!$A$885","v":0},"12_4"]
[{"$f":"[2]Gr12!$A$886","v":0},"12_4"]
[{"$f":"[2]Gr12!$A$887","v":0},"12_4"]
[{"$f":"[2]Gr12!$A$888","v":0},"12_4"]
[{"$f":"[2]Gr12!$A$889","v":0},"12_4"]
[{"$f":"[2]Gr12!$A$890","v":0},"12_4"]
[{"$f":"[2]Gr12!$A$891","v":0},"12_4"]
[{"$f":"[2]Gr12!$A$892","v":0},"12_4"]
[{"$f":"[2]Gr12!$A$893","v":0},"12_4"]
[{"$f":"[2]Gr12!$A$894","v":0},"12_4"]
[{"$f":"[2]Gr12!$A$895","v":0},"12_4"]
[{"$f":"[2]Gr12!$A$896","v":0},"12_4"]
[{"$f":"[2]Gr12!$A$897","v":0},"12_4"]
[{"$f":"[2]Gr12!$A$898","v":0},"12_4"]
[{"$f":"[2]Gr12!$A$899","v":0},"12_4"]
[{"$f":"[2]Gr12!$A$900","v":0},"12_4"]
[{"$f":"[2]Gr12!$A$901","v":0},"12_4"]
[{"$f":"[2]Gr12!$A$902","v":0},"12_4"]
[{"$f":"[2]Gr12!$A$903","v":0},"12_4"]
[{"$f":"[2]Gr12!$A$904","v":0},"12_4"]
[{"$f":"[2]Gr12!$A$905","v":0},"12_4"]
[{"$f":"[2]Gr12!$A$906","v":0},"12_4"]
[{"$f":"[2]Gr12!$A$907","v":0},"12_4"]
[{"$f":"[2]Gr12!$A$908","v":0},"12_4"]
[{"$f":"[2]Gr12!$A$909","v":0},"12_4"]
[{"$f":"[2]Gr12!$A$910","v":0},"12_4"]
[{"$f":"[2]Gr12!$A$911","v":0},"12_4"]
[{"$f":"[2]Gr12!$A$912","v":0},"12_4"]
[{"$f":"[2]Gr12!$A$913","v":0},"12_4"]
[{"$f":"[2]Gr12!$A$914","v":0},"12_4"]
[{"$f":"[2]Gr12!$A$915","v":0},"12_4"]
[{"$f":"[2]Gr12!$A$916","v":0},"12_4"]
[{"$f":"[2]Gr12!$A$917","v":0},"12_4"]
[{"$f":"[2]Gr12!$A$918","v":0},"12_4"]
[{"$f":"[2]Gr12!$A$919","v":0},"12_4"]
[{"$f":"[2]Gr12!$A$920","v":0},"12_4"]
[{"$f":"[2]Gr12!$A$921","v":0},"12_4"]
[{"$f":"[2]Gr12!$A$922","v":0},"12_4"]
[{"$f":"[2]Gr12!$A$923","v":0},"12_4"]
[{"$f":"[2]Gr12!$A$924","v":0},"12_4"]
[{"$f":"[2]Gr12!$A$925","v":0},"12_4"]
[{"$f":"[2]Gr12!$A$926","v":0},"12_4"]
[{"$f":"[2]Gr12!$A$927","v":0},"12_4"]
[{"$f":"[2]Gr12!$A$928","v":0},"12_4"]
[{"$f":"[2]Gr12!$A$929","v":0},"12_4"]
[{"$f":"[2]Gr12!$A$930","v":0},"12_4"]
[{"$f":"[2]Gr12!$A$931","v":0},"12_4"]
[{"$f":"[2]Gr12!$A$932","v":0},"12_4"]
[{"$f":"[2]Gr12!$A$933","v":0},"12_4"]
[{"$f":"[2]Gr12!$A$934","v":0},"12_4"]
[{"$f":"[2]Gr12!$A$935","v":0},"12_4"]
[{"$f":"[2]Gr12!$A$936","v":0},"12_4"]
[{"$f":"[2]Gr12!$A$937","v":0},"12_4"]
[{"$f":"[2]Gr12!$A$938","v":0},"12_4"]
[{"$f":"[2]Gr12!$A$939","v":0},"12_4"]
[{"$f":"[2]Gr12!$A$940","v":0},"12_4"]
[{"$f":"[2]Gr12!$A$941","v":0},"12_4"]
[{"$f":"[2]Gr12!$A$942","v":0},"12_4"]
[{"$f":"[2]Gr12!$A$943","v":0},"12_4"]
[{"$f":"[2]Gr12!$A$944","v":0},"12_4"]
[{"$f":"[2]Gr12!$A$945","v":0},"12_4"]
[{"$f":"[2]Gr12!$A$946","v":0},"12_4"]
[{"$f":"[2]Gr12!$A$947","v":0},"12_4"]
[{"$f":"[2]Gr12!$A$948","v":0},"12_4"]
[{"$f":"[2]Gr12!$A$949","v":0},"12_4"]
[{"$f":"[2]Gr12!$A$950","v":0},"12_4"]
[{"$f":"[2]Gr12!$A$951","v":0},"12_4"]
[{"$f":"[2]Gr12!$A$952","v":0},"12_4"]
[{"$f":"[2]Gr12!$A$953","v":0},"12_4"]
[{"$f":"[2]Gr12!$A$954","v":0},"12_4"]
[{"$f":"[2]Gr12!$A$955","v":0},"12_4"]
[{"$f":"[2]Gr12!$A$956","v":0},"12_4"]
[{"$f":"[2]Gr12!$A$957","v":0},"12_4"]
[{"$f":"[2]Gr12!$A$958","v":0},"12_4"]
[{"$f":"[2]Gr12!$A$959","v":0},"12_4"]
[{"$f":"[2]Gr12!$A$960","v":0},"12_4"]
[{"$f":"[2]Gr12!$A$961","v":0},"12_4"]
[{"$f":"[2]Gr12!$A$962","v":0},"12_4"]
[{"$f":"[2]Gr12!$A$963","v":0},"12_4"]
[{"$f":"[2]Gr12!$A$964","v":0},"12_4"]
[{"$f":"[2]Gr12!$A$965","v":0},"12_4"]
[{"$f":"[2]Gr12!$A$966","v":0},"12_4"]
[{"$f":"[2]Gr12!$A$967","v":0},"12_4"]
[{"$f":"[2]Gr12!$A$968","v":0},"12_4"]
[{"$f":"[2]Gr12!$A$969","v":0},"12_4"]
[{"$f":"[2]Gr12!$A$970","v":0},"12_4"]
[{"$f":"[2]Gr12!$A$971","v":0},"12_4"]
[{"$f":"[2]Gr12!$A$972","v":0},"12_4"]
[{"$f":"[2]Gr12!$A$973","v":0},"12_4"]
[{"$f":"[2]Gr12!$A$974","v":0},"12_4"]
[{"$f":"[2]Gr12!$A$975","v":0},"12_4"]
[{"$f":"[2]Gr12!$A$976","v":0},"12_4"]
[{"$f":"[2]Gr12!$A$977","v":0},"12_4"]
[{"$f":"[2]Gr12!$A$978","v":0},"12_4"]
[{"$f":"[2]Gr12!$A$979","v":0},"12_4"]
[{"$f":"[2]Gr12!$A$980","v":0},"12_4"]
[{"$f":"[2]Gr12!$A$981","v":0},"12_4"]
[{"$f":"[2]Gr12!$A$982","v":0},"12_4"]
[{"$f":"[2]Gr12!$A$983","v":0},"12_4"]
[{"$f":"[2]Gr12!$A$984","v":0},"12_4"]
[{"$f":"[2]Gr12!$A$985","v":0},"12_4"]
[{"$f":"[2]Gr12!$A$986","v":0},"12_4"]
[{"$f":"[2]Gr12!$A$987","v":0},"12_4"]
[{"$f":"[2]Gr12!$A$988","v":0},"12_4"]
[{"$f":"[2]Gr12!$A$989","v":0},"12_4"]
[{"$f":"[2]Gr12!$A$990","v":0},"12_4"]
[{"$f":"[2]Gr12!$A$991","v":0},"12_4"]
[{"$f":"[2]Gr12!$A$992","v":0},"12_4"]
[{"$f":"[2]Gr12!$A$993","v":0},"12_4"]
[{"$f":"[2]Gr12!$A$994","v":0},"12_4"]
[{"$f":"[2]Gr12!$A$995","v":0},"12_4"]
[{"$f":"[2]Gr12!$A$996","v":0},"12_4"]
[{"$f":"[2]Gr12!$A$997","v":0},"12_4"]
[{"$f":"[2]Gr12!$A$998","v":0},"12_4"]
[{"$f":"[2]Gr12!$A$999","v":0},"12_4"]
[{"$f":"[2]Gr12!$A$1000","v":0},"12_4"]
[{"$f":"[2]Gr12!$A$1001","v":0},"12_4"]
[{"$f":"[2]Gr12!$A$1002","v":0},"12_4"]
[{"$f":"[2]Gr12!$A$1003","v":0},"12_4"]
[{"$f":"[2]Gr12!$A$1004","v":0},"12_4"]
[{"$f":"[2]Gr12!$A$1005","v":0},"12_4"]
[{"$f":"[2]Gr12!$A$1006","v":0},"12_4"]
[{"$f":"[2]Gr12!$A$1007","v":0},"12_4"]
[{"$f":"[2]Gr12!$A$1008","v":0},"12_4"]
[{"$f":"[2]Gr12!$A$1009","v":0},"12_4"]
[{"$f":"[2]Gr12!$A$1010","v":0},"12_4"]
[{"$f":"[2]Gr12!$A$1011","v":0},"12_4"]
[{"$f":"[2]Gr12!$A$1012","v":0},"12_4"]
[{"$f":"[2]Gr12!$A$1013","v":0},"12_4"]
[{"$f":"[2]Gr12!$A$1014","v":0},"12_4"]
[{"$f":"[2]Gr12!$A$1015","v":0},"12_4"]
[{"$f":"[2]Gr12!$A$1016","v":0},"12_4"]
[{"$f":"[2]Gr12!$A$1017","v":0},"12_4"]
[{"$f":"[2]Gr12!$A$1018","v":0},"12_4"]
[{"$f":"[2]Gr12!$A$1019","v":0},"12_4"]
[{"$f":"[2]Gr12!$A$1020","v":0},"12_4"]
[{"$f":"[2]Gr12!$A$1021","v":0},"12_4"]
[{"$f":"[2]Gr12!$A$1022","v":0},"12_4"]
[{"$f":"[2]Gr12!$A$1023","v":0},"12_4"]
[{"$f":"[2]Gr12!$A$1024","v":0},"12_4"]
[{"$f":"[2]Gr12!$A$1025","v":0},"12_4"]
[{"$f":"[2]Gr12!$A$1026","v":0},"12_4"]
[{"$f":"[2]Gr12!$A$1027","v":0},"12_4"]
[{"$f":"[2]Gr12!$A$1028","v":0},"12_4"]
[{"$f":"[2]Gr12!$A$1029","v":0},"12_4"]
[{"$f":"[2]Gr12!$A$1030","v":0},"12_4"]
[{"$f":"[2]Gr12!$A$1031","v":0},"12_4"]
[{"$f":"[2]Gr12!$A$1032","v":0},"12_4"]
[{"$f":"[2]Gr12!$A$1033","v":0},"12_4"]
[{"$f":"[2]Gr12!$A$1034","v":0},"12_4"]
[{"$f":"[2]Gr12!$A$1035","v":0},"12_4"]
[{"$f":"[2]Gr12!$A$1036","v":0},"12_4"]
[{"$f":"[2]Gr12!$A$1037","v":0},"12_4"]
[{"$f":"[2]Gr12!$A$1038","v":0},"12_4"]
[{"$f":"[2]Gr12!$A$1039","v":0},"12_4"]
[{"$f":"[2]Gr12!$A$1040","v":0},"12_4"]
[{"$f":"[2]Gr12!$A$1041","v":0},"12_4"]
[{"$f":"[2]Gr12!$A$1042","v":0},"12_4"]
[{"$f":"[2]Gr12!$A$1043","v":0},"12_4"]
[{"$f":"[2]Gr12!$A$1044","v":0},"12_4"]
[{"$f":"[2]Gr12!$A$1045","v":0},"12_4"]
[{"$f":"[2]Gr12!$A$1046","v":0},"12_4"]
[{"$f":"[2]Gr12!$A$1047","v":0},"12_4"]
[{"$f":"[2]Gr12!$A$1048","v":0},"12_4"]
[{"$f":"[2]Gr12!$A$1049","v":0},"12_4"]
[{"$f":"[2]Gr12!$A$1050","v":0},"12_4"]
[{"$f":"[2]Gr12!$A$1051","v":0},"12_4"]
[{"$f":"[2]Gr12!$A$1052","v":0},"12_4"]
[{"$f":"[2]Gr12!$A$1053","v":0},"12_4"]
[{"$f":"[2]Gr12!$A$1054","v":0},"12_4"]
[{"$f":"[2]Gr12!$A$1055","v":0},"12_4"]
[{"$f":"[2]Gr12!$A$1056","v":0},"12_4"]
[{"$f":"[2]Gr12!$A$1057","v":0},"12_4"]
[{"$f":"[2]Gr12!$A$1058","v":0},"12_4"]
[{"$f":"[2]Gr12!$A$1059","v":0},"12_4"]
[{"$f":"[2]Gr12!$A$1060","v":0},"12_4"]
[{"$f":"[2]Gr12!$A$1061","v":0},"12_4"]
[{"$f":"[2]Gr12!$A$1062","v":0},"12_4"]
[{"$f":"[2]Gr12!$A$1063","v":0},"12_4"]
[{"$f":"[2]Gr12!$A$1064","v":0},"12_4"]
[{"$f":"[2]Gr12!$A$1065","v":0},"12_4"]
[{"$f":"[2]Gr12!$A$1066","v":0},"12_4"]
[{"$f":"[2]Gr12!$A$1067","v":0},"12_4"]
[{"$f":"[2]Gr12!$A$1068","v":0},"12_4"]
[{"$f":"[2]Gr12!$A$1069","v":0},"12_4"]
[{"$f":"[2]Gr12!$A$1070","v":0},"12_4"]
[{"$f":"[2]Gr12!$A$1071","v":0},"12_4"]
[{"$f":"[2]Gr12!$A$1072","v":0},"12_4"]
[{"$f":"[2]Gr12!$A$1073","v":0},"12_4"]
[{"$f":"[2]Gr12!$A$1074","v":0},"12_4"]
[{"$f":"[2]Gr12!$A$1075","v":0},"12_4"]
[{"$f":"[2]Gr12!$A$1076","v":0},"12_4"]
[{"$f":"[2]Gr12!$A$1077","v":0},"12_4"]
[{"$f":"[2]Gr12!$A$1078","v":0},"12_4"]
[{"$f":"[2]Gr12!$A$1079","v":0},"12_4"]
[{"$f":"[2]Gr12!$A$1080","v":0},"12_4"]
[{"$f":"[2]Gr12!$A$1081","v":0},"12_4"]
[{"$f":"[2]Gr12!$A$1082","v":0},"12_4"]
[{"$f":"[2]Gr12!$A$1083","v":0},"12_4"]
[{"$f":"[2]Gr12!$A$1084","v":0},"12_4"]
[{"$f":"[2]Gr12!$A$1085","v":0},"12_4"]
[{"$f":"[2]Gr12!$A$1086","v":0},"12_4"]
[{"$f":"[2]Gr12!$A$1087","v":0},"12_4"]
[{"$f":"[2]Gr12!$A$1088","v":0},"12_4"]
[{"$f":"[2]Gr12!$A$1089","v":0},"12_4"]
[{"$f":"[2]Gr12!$A$1090","v":0},"12_4"]
[{"$f":"[2]Gr12!$A$1091","v":0},"12_4"]
[{"$f":"[2]Gr12!$A$1092","v":0},"12_4"]
[{"$f":"[2]Gr12!$A$1093","v":0},"12_4"]
[{"$f":"[2]Gr12!$A$1094","v":0},"12_4"]
[{"$f":"[2]Gr12!$A$1095","v":0},"12_4"]
[{"$f":"[2]Gr12!$A$1096","v":0},"12_4"]
[{"$f":"[2]Gr12!$A$1097","v":0},"12_4"]
[{"$f":"[2]Gr12!$A$1098","v":0},"12_4"]
[{"$f":"[2]Gr12!$A$1099","v":0},"12_4"]
[{"$f":"[2]Gr12!$A$1100","v":0},"12_4"]
[{"$f":"[2]Gr12!$A$1101","v":0},"12_4"]
[{"$f":"[2]Gr12!$A$1102","v":0},"12_4"]
[{"$f":"[2]Gr12!$A$1103","v":0},"12_4"]
[{"$f":"[2]Gr12!$A$1104","v":0},"12_4"]
[{"$f":"[2]Gr12!$A$1105","v":0},"12_4"]
[{"$f":"[2]Gr12!$A$1106","v":0},"12_4"]
[{"$f":"[2]Gr12!$A$1107","v":0},"12_4"]
[{"$f":"[2]Gr12!$A$1108","v":0},"12_4"]
[{"$f":"[2]Gr12!$A$1109","v":0},"12_4"]
[{"$f":"[2]Gr12!$A$1110","v":0},"12_4"]
[{"$f":"[2]Gr12!$A$1111","v":0},"12_4"]
[{"$f":"[2]Gr12!$A$1112","v":0},"12_4"]
[{"$f":"[2]Gr12!$A$1113","v":0},"12_4"]
[{"$f":"[2]Gr12!$A$1114","v":0},"12_4"]
[{"$f":"[2]Gr12!$A$1115","v":0},"12_4"]
[{"$f":"[2]Gr12!$A$1116","v":0},"12_4"]
[{"$f":"[2]Gr12!$A$1117","v":0},"12_4"]
[{"$f":"[2]Gr12!$A$1118","v":0},"12_4"]
[{"$f":"[2]Gr12!$A$1119","v":0},"12_4"]
[{"$f":"[2]Gr12!$A$1120","v":0},"12_4"]
[{"$f":"[2]Gr12!$A$1121","v":0},"12_4"]
[{"$f":"[2]Gr12!$A$1122","v":0},"12_4"]
[{"$f":"[2]Gr12!$A$1123","v":0},"12_4"]
[{"$f":"[2]Gr12!$A$1135","v":0},"12_5"]
[{"$f":"[2]Gr12!$A$1136","v":0},"12_5"]
[{"$f":"[2]Gr12!$A$1137","v":0},"12_5"]
[{"$f":"[2]Gr12!$A$1138","v":0},"12_5"]
[{"$f":"[2]Gr12!$A$1139","v":0},"12_5"]
[{"$f":"[2]Gr12!$A$1140","v":0},"12_5"]
[{"$f":"[2]Gr12!$A$1141","v":0},"12_5"]
[{"$f":"[2]Gr12!$A$1142","v":0},"12_5"]
[{"$f":"[2]Gr12!$A$1143","v":0},"12_5"]
[{"$f":"[2]Gr12!$A$1144","v":0},"12_5"]
[{"$f":"[2]Gr12!$A$1145","v":0},"12_5"]
[{"$f":"[2]Gr12!$A$1146","v":0},"12_5"]
[{"$f":"[2]Gr12!$A$1147","v":0},"12_5"]
[{"$f":"[2]Gr12!$A$1148","v":0},"12_5"]
[{"$f":"[2]Gr12!$A$1149","v":0},"12_5"]
[{"$f":"[2]Gr12!$A$1150","v":0},"12_5"]
[{"$f":"[2]Gr12!$A$1151","v":0},"12_5"]
[{"$f":"[2]Gr12!$A$1152","v":0},"12_5"]
[{"$f":"[2]Gr12!$A$1153","v":0},"12_5"]
[{"$f":"[2]Gr12!$A$1154","v":0},"12_5"]
[{"$f":"[2]Gr12!$A$1155","v":0},"12_5"]
[{"$f":"[2]Gr12!$A$1156","v":0},"12_5"]
[{"$f":"[2]Gr12!$A$1157","v":0},"12_5"]
[{"$f":"[2]Gr12!$A$1158","v":0},"12_5"]
[{"$f":"[2]Gr12!$A$1159","v":0},"12_5"]
[{"$f":"[2]Gr12!$A$1160","v":0},"12_5"]
[{"$f":"[2]Gr12!$A$1161","v":0},"12_5"]
[{"$f":"[2]Gr12!$A$1162","v":0},"12_5"]
[{"$f":"[2]Gr12!$A$1163","v":0},"12_5"]
[{"$f":"[2]Gr12!$A$1164","v":0},"12_5"]
[{"$f":"[2]Gr12!$A$1165","v":0},"12_5"]
[{"$f":"[2]Gr12!$A$1166","v":0},"12_5"]
[{"$f":"[2]Gr12!$A$1167","v":0},"12_5"]
[{"$f":"[2]Gr12!$A$1168","v":0},"12_5"]
[{"$f":"[2]Gr12!$A$1169","v":0},"12_5"]
[{"$f":"[2]Gr12!$A$1170","v":0},"12_5"]
[{"$f":"[2]Gr12!$A$1171","v":0},"12_5"]
[{"$f":"[2]Gr12!$A$1172","v":0},"12_5"]
[{"$f":"[2]Gr12!$A$1173","v":0},"12_5"]
[{"$f":"[2]Gr12!$A$1174","v":0},"12_5"]
[{"$f":"[2]Gr12!$A$1175","v":0},"12_5"]
[{"$f":"[2]Gr12!$A$1176","v":0},"12_5"]
[{"$f":"[2]Gr12!$A$1177","v":0},"12_5"]
[{"$f":"[2]Gr12!$A$1178","v":0},"12_5"]
[{"$f":"[2]Gr12!$A$1179","v":0},"12_5"]
[{"$f":"[2]Gr12!$A$1180","v":0},"12_5"]
[{"$f":"[2]Gr12!$A$1181","v":0},"12_5"]
[{"$f":"[2]Gr12!$A$1182","v":0},"12_5"]
[{"$f":"[2]Gr12!$A$1183","v":0},"12_5"]
[{"$f":"[2]Gr12!$A$1184","v":0},"12_5"]
[{"$f":"[2]Gr12!$A$1185","v":0},"12_5"]
[{"$f":"[2]Gr12!$A$1186","v":0},"12_5"]
[{"$f":"[2]Gr12!$A$1187","v":0},"12_5"]
[{"$f":"[2]Gr12!$A$1188","v":0},"12_5"]
[{"$f":"[2]Gr12!$A$1189","v":0},"12_5"]
[{"$f":"[2]Gr12!$A$1190","v":0},"12_5"]
[{"$f":"[2]Gr12!$A$1191","v":0},"12_5"]
[{"$f":"[2]Gr12!$A$1192","v":0},"12_5"]
[{"$f":"[2]Gr12!$A$1193","v":0},"12_5"]
[{"$f":"[2]Gr12!$A$1194","v":0},"12_5"]
[{"$f":"[2]Gr12!$A$1195","v":0},"12_5"]
[{"$f":"[2]Gr12!$A$1196","v":0},"12_5"]
[{"$f":"[2]Gr12!$A$1197","v":0},"12_5"]
[{"$f":"[2]Gr12!$A$1198","v":0},"12_5"]
[{"$f":"[2]Gr12!$A$1199","v":0},"12_5"]
[{"$f":"[2]Gr12!$A$1200","v":0},"12_5"]
[{"$f":"[2]Gr12!$A$1201","v":0},"12_5"]
[{"$f":"[2]Gr12!$A$1202","v":0},"12_5"]
[{"$f":"[2]Gr12!$A$1203","v":0},"12_5"]
[{"$f":"[2]Gr12!$A$1204","v":0},"12_5"]
[{"$f":"[2]Gr12!$A$1205","v":0},"12_5"]
[{"$f":"[2]Gr12!$A$1206","v":0},"12_5"]
[{"$f":"[2]Gr12!$A$1207","v":0},"12_5"]
[{"$f":"[2]Gr12!$A$1208","v":0},"12_5"]
[{"$f":"[2]Gr12!$A$1209","v":0},"12_5"]
[{"$f":"[2]Gr12!$A$1210","v":0},"12_5"]
[{"$f":"[2]Gr12!$A$1211","v":0},"12_5"]
[{"$f":"[2]Gr12!$A$1212","v":0},"12_5"]
[{"$f":"[2]Gr12!$A$1213","v":0},"12_5"]
[{"$f":"[2]Gr12!$A$1214","v":0},"12_5"]
[{"$f":"[2]Gr12!$A$1215","v":0},"12_5"]
[{"$f":"[2]Gr12!$A$1216","v":0},"12_5"]
[{"$f":"[2]Gr12!$A$1217","v":0},"12_5"]
[{"$f":"[2]Gr12!$A$1218","v":0},"12_5"]
[{"$f":"[2]Gr12!$A$1219","v":0},"12_5"]
[{"$f":"[2]Gr12!$A$1220","v":0},"12_5"]
[{"$f":"[2]Gr12!$A$1221","v":0},"12_5"]
[{"$f":"[2]Gr12!$A$1222","v":0},"12_5"]
[{"$f":"[2]Gr12!$A$1223","v":0},"12_5"]
[{"$f":"[2]Gr12!$A$1224","v":0},"12_5"]
[{"$f":"[2]Gr12!$A$1225","v":0},"12_5"]
[{"$f":"[2]Gr12!$A$1226","v":0},"12_5"]
[{"$f":"[2]Gr12!$A$1227","v":0},"12_5"]
[{"$f":"[2]Gr12!$A$1228","v":0},"12_5"]
[{"$f":"[2]Gr12!$A$1229","v":0},"12_5"]
[{"$f":"[2]Gr12!$A$1230","v":0},"12_5"]
[{"$f":"[2]Gr12!$A$1231","v":0},"12_5"]
[{"$f":"[2]Gr12!$A$1232","v":0},"12_5"]
[{"$f":"[2]Gr12!$A$1233","v":0},"12_5"]
[{"$f":"[2]Gr12!$A$1234","v":0},"12_5"]
[{"$f":"[2]Gr12!$A$1235","v":0},"12_5"]
[{"$f":"[2]Gr12!$A$1236","v":0},"12_5"]
[{"$f":"[2]Gr12!$A$1237","v":0},"12_5"]
[{"$f":"[2]Gr12!$A$1238","v":0},"12_5"]
[{"$f":"[2]Gr12!$A$1239","v":0},"12_5"]
[{"$f":"[2]Gr12!$A$1240","v":0},"12_5"]
[{"$f":"[2]Gr12!$A$1241","v":0},"12_5"]
[{"$f":"[2]Gr12!$A$1242","v":0},"12_5"]
[{"$f":"[2]Gr12!$A$1243","v":0},"12_5"]
[{"$f":"[2]Gr12!$A$1244","v":0},"12_5"]
[{"$f":"[2]Gr12!$A$1245","v":0},"12_5"]
[{"$f":"[2]Gr12!$A$1246","v":0},"12_5"]
[{"$f":"[2]Gr12!$A$1247","v":0},"12_5"]
[{"$f":"[2]Gr12!$A$1248","v":0},"12_5"]
[{"$f":"[2]Gr12!$A$1249","v":0},"12_5"]
[{"$f":"[2]Gr12!$A$1250","v":0},"12_5"]
[{"$f":"[2]Gr12!$A$1251","v":0},"12_5"]
[{"$f":"[2]Gr12!$A$1252","v":0},"12_5"]
[{"$f":"[2]Gr12!$A$1253","v":0},"12_5"]
[{"$f":"[2]Gr12!$A$1254","v":0},"12_5"]
[{"$f":"[2]Gr12!$A$1255","v":0},"12_5"]
[{"$f":"[2]Gr12!$A$1256","v":0},"12_5"]
[{"$f":"[2]Gr12!$A$1257","v":0},"12_5"]
[{"$f":"[2]Gr12!$A$1258","v":0},"12_5"]
[{"$f":"[2]Gr12!$A$1259","v":0},"12_5"]
[{"$f":"[2]Gr12!$A$1260","v":0},"12_5"]
[{"$f":"[2]Gr12!$A$1261","v":0},"12_5"]
[{"$f":"[2]Gr12!$A$1262","v":0},"12_5"]
[{"$f":"[2]Gr12!$A$1263","v":0},"12_5"]
[{"$f":"[2]Gr12!$A$1264","v":0},"12_5"]
[{"$f":"[2]Gr12!$A$1265","v":0},"12_5"]
[{"$f":"[2]Gr12!$A$1266","v":0},"12_5"]
[{"$f":"[2]Gr12!$A$1267","v":0},"12_5"]
[{"$f":"[2]Gr12!$A$1268","v":0},"12_5"]
[{"$f":"[2]Gr12!$A$1269","v":0},"12_5"]
[{"$f":"[2]Gr12!$A$1270","v":0},"12_5"]
[{"$f":"[2]Gr12!$A$1271","v":0},"12_5"]
[{"$f":"[2]Gr12!$A$1272","v":0},"12_5"]
[{"$f":"[2]Gr12!$A$1273","v":0},"12_5"]
[{"$f":"[2]Gr12!$A$1274","v":0},"12_5"]
[{"$f":"[2]Gr12!$A$1275","v":0},"12_5"]
[{"$f":"[2]Gr12!$A$1276","v":0},"12_5"]
[{"$f":"[2]Gr12!$A$1277","v":0},"12_5"]
[{"$f":"[2]Gr12!$A$1278","v":0},"12_5"]
[{"$f":"[2]Gr12!$A$1279","v":0},"12_5"]
[{"$f":"[2]Gr12!$A$1280","v":0},"12_5"]
[{"$f":"[2]Gr12!$A$1281","v":0},"12_5"]
[{"$f":"[2]Gr12!$A$1282","v":0},"12_5"]
[{"$f":"[2]Gr12!$A$1283","v":0},"12_5"]
[{"$f":"[2]Gr12!$A$1284","v":0},"12_5"]
[{"$f":"[2]Gr12!$A$1285","v":0},"12_5"]
[{"$f":"[2]Gr12!$A$1286","v":0},"12_5"]
[{"$f":"[2]Gr12!$A$1287","v":0},"12_5"]
[{"$f":"[2]Gr12!$A$1288","v":0},"12_5"]
[{"$f":"[2]Gr12!$A$1289","v":0},"12_5"]
[{"$f":"[2]Gr12!$A$1290","v":0},"12_5"]
[{"$f":"[2]Gr12!$A$1291","v":0},"12_5"]
[{"$f":"[2]Gr12!$A$1292","v":0},"12_5"]
[{"$f":"[2]Gr12!$A$1293","v":0},"12_5"]
[{"$f":"[2]Gr12!$A$1294","v":0},"12_5"]
[{"$f":"[2]Gr12!$A$1295","v":0},"12_5"]
[{"$f":"[2]Gr12!$A$1296","v":0},"12_5"]
[{"$f":"[2]Gr12!$A$1297","v":0},"12_5"]
[{"$f":"[2]Gr12!$A$1298","v":0},"12_5"]
[{"$f":"[2]Gr12!$A$1299","v":0},"12_5"]
[{"$f":"[2]Gr12!$A$1300","v":0},"12_5"]
[{"$f":"[2]Gr12!$A$1301","v":0},"12_5"]
[{"$f":"[2]Gr12!$A$1302","v":0},"12_5"]
[{"$f":"[2]Gr12!$A$1303","v":0},"12_5"]
[{"$f":"[2]Gr12!$A$1304","v":0},"12_5"]
[{"$f":"[2]Gr12!$A$1305","v":0},"12_5"]
[{"$f":"[2]Gr12!$A$1306","v":0},"12_5"]
[{"$f":"[2]Gr12!$A$1307","v":0},"12_5"]
[{"$f":"[2]Gr12!$A$1308","v":0},"12_5"]
[{"$f":"[2]Gr12!$A$1309","v":0},"12_5"]
[{"$f":"[2]Gr12!$A$1310","v":0},"12_5"]
[{"$f":"[2]Gr12!$A$1311","v":0},"12_5"]
[{"$f":"[2]Gr12!$A$1312","v":0},"12_5"]
[{"$f":"[2]Gr12!$A$1313","v":0},"12_5"]
[{"$f":"[2]Gr12!$A$1314","v":0},"12_5"]
[{"$f":"[2]Gr12!$A$1315","v":0},"12_5"]
[{"$f":"[2]Gr12!$A$1316","v":0},"12_5"]
[{"$f":"[2]Gr12!$A$1317","v":0},"12_5"]
[{"$f":"[2]Gr12!$A$1318","v":0},"12_5"]
[{"$f":"[2]Gr12!$A$1319","v":0},"12_5"]
[{"$f":"[2]Gr12!$A$1320","v":0},"12_5"]
[{"$f":"[2]Gr12!$A$1321","v":0},"12_5"]
[{"$f":"[2]Gr12!$A$1322","v":0},"12_5"]
[{"$f":"[2]Gr12!$A$1323","v":0},"12_5"]
[{"$f":"[2]Gr12!$A$1324","v":0},"12_5"]
[{"$f":"[2]Gr12!$A$1325","v":0},"12_5"]
[{"$f":"[2]Gr12!$A$1326","v":0},"12_5"]
[{"$f":"[2]Gr12!$A$1327","v":0},"12_5"]
[{"$f":"[2]Gr12!$A$1328","v":0},"12_5"]
[{"$f":"[2]Gr12!$A$1329","v":0},"12_5"]
[{"$f":"[2]Gr12!$A$1330","v":0},"12_5"]
[{"$f":"[2]Gr12!$A$1331","v":0},"12_5"]
[{"$f":"[2]Gr12!$A$1332","v":0},"12_5"]
[{"$f":"[2]Gr12!$A$1333","v":0},"12_5"]
[{"$f":"[2]Gr12!$A$1334","v":0},"12_5"]
[{"$f":"[2]Gr12!$A$1335","v":0},"12_5"]
[{"$f":"[2]Gr12!$A$1336","v":0},"12_5"]
[{"$f":"[2]Gr12!$A$1337","v":0},"12_5"]
[{"$f":"[2]Gr12!$A$1338","v":0},"12_5"]
[{"$f":"[2]Gr12!$A$1339","v":0},"12_5"]
[{"$f":"[2]Gr12!$A$1340","v":0},"12_5"]
[{"$f":"[2]Gr12!$A$1341","v":0},"12_5"]
[{"$f":"[2]Gr12!$A$1342","v":0},"12_5"]
[{"$f":"[2]Gr12!$A$1343","v":0},"12_5"]
[{"$f":"[2]Gr12!$A$1344","v":0},"12_5"]
[{"$f":"[2]Gr12!$A$1345","v":0},"12_5"]
[{"$f":"[2]Gr12!$A$1346","v":0},"12_5"]
[{"$f":"[2]Gr12!$A$1347","v":0},"12_5"]
[{"$f":"[2]Gr12!$A$1348","v":0},"12_5"]
[{"$f":"[2]Gr12!$A$1349","v":0},"12_5"]
[{"$f":"[2]Gr12!$A$1350","v":0},"12_5"]
[{"$f":"[2]Gr12!$A$1351","v":0},"12_5"]
[{"$f":"[2]Gr12!$A$1352","v":0},"12_5"]
[{"$f":"[2]Gr12!$A$1353","v":0},"12_5"]
[{"$f":"[2]Gr12!$A$1354","v":0},"12_5"]
[{"$f":"[2]Gr12!$A$1355","v":0},"12_5"]
[{"$f":"[2]Gr12!$A$1356","v":0},"12_5"]
[{"$f":"[2]Gr12!$A$1357","v":0},"12_5"]
[{"$f":"[2]Gr12!$A$1358","v":0},"12_5"]
[{"$f":"[2]Gr12!$A$1359","v":0},"12_5"]
[{"$f":"[2]Gr12!$A$1360","v":0},"12_5"]
[{"$f":"[2]Gr12!$A$1361","v":0},"12_5"]
[{"$f":"[2]Gr12!$A$1362","v":0},"12_5"]
[{"$f":"[2]Gr12!$A$1363","v":0},"12_5"]
[{"$f":"[2]Gr12!$A$1364","v":0},"12_5"]
[{"$f":"[2]Gr12!$A$1365","v":0},"12_5"]
[{"$f":"[2]Gr12!$A$1366","v":0},"12_5"]
[{"$f":"[2]Gr12!$A$1367","v":0},"12_5"]
[{"$f":"[2]Gr12!$A$1368","v":0},"12_5"]
[{"$f":"[2]Gr12!$A$1369","v":0},"12_5"]
[{"$f":"[2]Gr12!$A$1370","v":0},"12_5"]
[{"$f":"[2]Gr12!$A$1371","v":0},"12_5"]
[{"$f":"[2]Gr12!$A$1372","v":0},"12_5"]
[{"$f":"[2]Gr12!$A$1373","v":0},"12_5"]
[{"$f":"[2]Gr12!$A$1374","v":0},"12_5"]
[{"$f":"[2]Gr12!$A$1375","v":0},"12_5"]
[{"$f":"[2]Gr12!$A$1376","v":0},"12_5"]
[{"$f":"[2]Gr12!$A$1377","v":0},"12_5"]
[{"$f":"[2]Gr12!$A$1378","v":0},"12_5"]
[{"$f":"[2]Gr12!$A$1379","v":0},"12_5"]
[{"$f":"[2]Gr12!$A$1380","v":0},"12_5"]
[{"$f":"[2]Gr12!$A$1381","v":0},"12_5"]
[{"$f":"[2]Gr12!$A$1382","v":0},"12_5"]
[{"$f":"[2]Gr12!$A$1383","v":0},"12_5"]
[{"$f":"[2]Gr12!$A$1384","v":0},"12_5"]
[{"$f":"[2]Gr12!$A$1385","v":0},"12_5"]
[{"$f":"[2]Gr12!$A$1386","v":0},"12_5"]
[{"$f":"[2]Gr12!$A$1387","v":0},"12_5"]
[{"$f":"[2]Gr12!$A$1388","v":0},"12_5"]
[{"$f":"[2]Gr12!$A$1389","v":0},"12_5"]
[{"$f":"[2]Gr12!$A$1390","v":0},"12_5"]
[{"$f":"[2]Gr12!$A$1391","v":0},"12_5"]
[{"$f":"[2]Gr12!$A$1392","v":0},"12_5"]
[{"$f":"[2]Gr12!$A$1393","v":0},"12_5"]
[{"$f":"[2]Gr12!$A$1394","v":0},"12_5"]
[{"$f":"[2]Gr12!$A$1395","v":0},"12_5"]
[{"$f":"[2]Gr12!$A$1396","v":0},"12_5"]
[{"$f":"[2]Gr12!$A$1397","v":0},"12_5"]
[{"$f":"[2]Gr12!$A$1398","v":0},"12_5"]
[{"$f":"[2]Gr12!$A$1399","v":0},"12_5"]
[{"$f":"[2]Gr12!$A$1400","v":0},"12_5"]
[{"$f":"[2]Gr12!$A$1401","v":0},"12_5"]
[{"$f":"[2]Gr12!$A$1402","v":0},"12_5"]
[{"$f":"[2]Gr12!$A$1403","v":0},"12_5"]
[{"$f":"[2]Gr12!$A$1404","v":0},"12_5"]
[{"$f":"[2]Gr12!$A$1416","v":0},"12_6"]
[{"$f":"[2]Gr12!$A$1417","v":0},"12_6"]
[{"$f":"[2]Gr12!$A$1418","v":0},"12_6"]
[{"$f":"[2]Gr12!$A$1419","v":0},"12_6"]
[{"$f":"[2]Gr12!$A$1420","v":0},"12_6"]
[{"$f":"[2]Gr12!$A$1421","v":0},"12_6"]
[{"$f":"[2]Gr12!$A$1422","v":0},"12_6"]
[{"$f":"[2]Gr12!$A$1423","v":0},"12_6"]
[{"$f":"[2]Gr12!$A$1424","v":0},"12_6"]
[{"$f":"[2]Gr12!$A$1425","v":0},"12_6"]
[{"$f":"[2]Gr12!$A$1426","v":0},"12_6"]
[{"$f":"[2]Gr12!$A$1427","v":0},"12_6"]
[{"$f":"[2]Gr12!$A$1428","v":0},"12_6"]
[{"$f":"[2]Gr12!$A$1429","v":0},"12_6"]
[{"$f":"[2]Gr12!$A$1430","v":0},"12_6"]
[{"$f":"[2]Gr12!$A$1431","v":0},"12_6"]
[{"$f":"[2]Gr12!$A$1432","v":0},"12_6"]
[{"$f":"[2]Gr12!$A$1433","v":0},"12_6"]
[{"$f":"[2]Gr12!$A$1434","v":0},"12_6"]
[{"$f":"[2]Gr12!$A$1435","v":0},"12_6"]
[{"$f":"[2]Gr12!$A$1436","v":0},"12_6"]
[{"$f":"[2]Gr12!$A$1437","v":0},"12_6"]
[{"$f":"[2]Gr12!$A$1438","v":0},"12_6"]
[{"$f":"[2]Gr12!$A$1439","v":0},"12_6"]
[{"$f":"[2]Gr12!$A$1440","v":0},"12_6"]
[{"$f":"[2]Gr12!$A$1441","v":0},"12_6"]
[{"$f":"[2]Gr12!$A$1442","v":0},"12_6"]
[{"$f":"[2]Gr12!$A$1443","v":0},"12_6"]
[{"$f":"[2]Gr12!$A$1444","v":0},"12_6"]
[{"$f":"[2]Gr12!$A$1445","v":0},"12_6"]
[{"$f":"[2]Gr12!$A$1446","v":0},"12_6"]
[{"$f":"[2]Gr12!$A$1447","v":0},"12_6"]
[{"$f":"[2]Gr12!$A$1448","v":0},"12_6"]
[{"$f":"[2]Gr12!$A$1449","v":0},"12_6"]
[{"$f":"[2]Gr12!$A$1450","v":0},"12_6"]
[{"$f":"[2]Gr12!$A$1451","v":0},"12_6"]
[{"$f":"[2]Gr12!$A$1452","v":0},"12_6"]
[{"$f":"[2]Gr12!$A$1453","v":0},"12_6"]
[{"$f":"[2]Gr12!$A$1454","v":0},"12_6"]
[{"$f":"[2]Gr12!$A$1455","v":0},"12_6"]
[{"$f":"[2]Gr12!$A$1456","v":0},"12_6"]
[{"$f":"[2]Gr12!$A$1457","v":0},"12_6"]
[{"$f":"[2]Gr12!$A$1458","v":0},"12_6"]
[{"$f":"[2]Gr12!$A$1459","v":0},"12_6"]
[{"$f":"[2]Gr12!$A$1460","v":0},"12_6"]
[{"$f":"[2]Gr12!$A$1461","v":0},"12_6"]
[{"$f":"[2]Gr12!$A$1462","v":0},"12_6"]
[{"$f":"[2]Gr12!$A$1463","v":0},"12_6"]
[{"$f":"[2]Gr12!$A$1464","v":0},"12_6"]
[{"$f":"[2]Gr12!$A$1465","v":0},"12_6"]
[{"$f":"[2]Gr12!$A$1466","v":0},"12_6"]
[{"$f":"[2]Gr12!$A$1467","v":0},"12_6"]
[{"$f":"[2]Gr12!$A$1468","v":0},"12_6"]
[{"$f":"[2]Gr12!$A$1469","v":0},"12_6"]
[{"$f":"[2]Gr12!$A$1470","v":0},"12_6"]
[{"$f":"[2]Gr12!$A$1471","v":0},"12_6"]
[{"$f":"[2]Gr12!$A$1472","v":0},"12_6"]
[{"$f":"[2]Gr12!$A$1473","v":0},"12_6"]
[{"$f":"[2]Gr12!$A$1474","v":0},"12_6"]
[{"$f":"[2]Gr12!$A$1475","v":0},"12_6"]
[{"$f":"[2]Gr12!$A$1476","v":0},"12_6"]
[{"$f":"[2]Gr12!$A$1477","v":0},"12_6"]
[{"$f":"[2]Gr12!$A$1478","v":0},"12_6"]
[{"$f":"[2]Gr12!$A$1479","v":0},"12_6"]
[{"$f":"[2]Gr12!$A$1480","v":0},"12_6"]
[{"$f":"[2]Gr12!$A$1481","v":0},"12_6"]
[{"$f":"[2]Gr12!$A$1482","v":0},"12_6"]
[{"$f":"[2]Gr12!$A$1483","v":0},"12_6"]
[{"$f":"[2]Gr12!$A$1484","v":0},"12_6"]
[{"$f":"[2]Gr12!$A$1485","v":0},"12_6"]
[{"$f":"[2]Gr12!$A$1486","v":0},"12_6"]
[{"$f":"[2]Gr12!$A$1487","v":0},"12_6"]
[{"$f":"[2]Gr12!$A$1488","v":0},"12_6"]
[{"$f":"[2]Gr12!$A$1489","v":0},"12_6"]
[{"$f":"[2]Gr12!$A$1490","v":0},"12_6"]
[{"$f":"[2]Gr12!$A$1491","v":0},"12_6"]
[{"$f":"[2]Gr12!$A$1492","v":0},"12_6"]
[{"$f":"[2]Gr12!$A$1493","v":0},"12_6"]
[{"$f":"[2]Gr12!$A$1494","v":0},"12_6"]
[{"$f":"[2]Gr12!$A$1495","v":0},"12_6"]
[{"$f":"[2]Gr12!$A$1496","v":0},"12_6"]
[{"$f":"[2]Gr12!$A$1497","v":0},"12_6"]
[{"$f":"[2]Gr12!$A$1498","v":0},"12_6"]
[{"$f":"[2]Gr12!$A$1499","v":0},"12_6"]
[{"$f":"[2]Gr12!$A$1500","v":0},"12_6"]
[{"$f":"[2]Gr12!$A$1501","v":0},"12_6"]
[{"$f":"[2]Gr12!$A$1502","v":0},"12_6"]
[{"$f":"[2]Gr12!$A$1503","v":0},"12_6"]
[{"$f":"[2]Gr12!$A$1504","v":0},"12_6"]
[{"$f":"[2]Gr12!$A$1505","v":0},"12_6"]
[{"$f":"[2]Gr12!$A$1506","v":0},"12_6"]
[{"$f":"[2]Gr12!$A$1507","v":0},"12_6"]
[{"$f":"[2]Gr12!$A$1508","v":0},"12_6"]
[{"$f":"[2]Gr12!$A$1509","v":0},"12_6"]
[{"$f":"[2]Gr12!$A$1510","v":0},"12_6"]
[{"$f":"[2]Gr12!$A$1511","v":0},"12_6"]
[{"$f":"[2]Gr12!$A$1512","v":0},"12_6"]
[{"$f":"[2]Gr12!$A$1513","v":0},"12_6"]
[{"$f":"[2]Gr12!$A$1514","v":0},"12_6"]
[{"$f":"[2]Gr12!$A$1515","v":0},"12_6"]
[{"$f":"[2]Gr12!$A$1516","v":0},"12_6"]
[{"$f":"[2]Gr12!$A$1517","v":0},"12_6"]
[{"$f":"[2]Gr12!$A$1518","v":0},"12_6"]
[{"$f":"[2]Gr12!$A$1519","v":0},"12_6"]
[{"$f":"[2]Gr12!$A$1520","v":0},"12_6"]
[{"$f":"[2]Gr12!$A$1521","v":0},"12_6"]
[{"$f":"[2]Gr12!$A$1522","v":0},"12_6"]
[{"$f":"[2]Gr12!$A$1523","v":0},"12_6"]
[{"$f":"[2]Gr12!$A$1524","v":0},"12_6"]
[{"$f":"[2]Gr12!$A$1525","v":0},"12_6"]
[{"$f":"[2]Gr12!$A$1526","v":0},"12_6"]
[{"$f":"[2]Gr12!$A$1527","v":0},"12_6"]
[{"$f":"[2]Gr12!$A$1528","v":0},"12_6"]
[{"$f":"[2]Gr12!$A$1529","v":0},"12_6"]
[{"$f":"[2]Gr12!$A$1530","v":0},"12_6"]
[{"$f":"[2]Gr12!$A$1531","v":0},"12_6"]
[{"$f":"[2]Gr12!$A$1532","v":0},"12_6"]
[{"$f":"[2]Gr12!$A$1533","v":0},"12_6"]
[{"$f":"[2]Gr12!$A$1534","v":0},"12_6"]
[{"$f":"[2]Gr12!$A$1535","v":0},"12_6"]
[{"$f":"[2]Gr12!$A$1536","v":0},"12_6"]
[{"$f":"[2]Gr12!$A$1537","v":0},"12_6"]
[{"$f":"[2]Gr12!$A$1538","v":0},"12_6"]
[{"$f":"[2]Gr12!$A$1539","v":0},"12_6"]
[{"$f":"[2]Gr12!$A$1540","v":0},"12_6"]
[{"$f":"[2]Gr12!$A$1541","v":0},"12_6"]
[{"$f":"[2]Gr12!$A$1542","v":0},"12_6"]
[{"$f":"[2]Gr12!$A$1543","v":0},"12_6"]
[{"$f":"[2]Gr12!$A$1544","v":0},"12_6"]
[{"$f":"[2]Gr12!$A$1545","v":0},"12_6"]
[{"$f":"[2]Gr12!$A$1546","v":0},"12_6"]
[{"$f":"[2]Gr12!$A$1547","v":0},"12_6"]
[{"$f":"[2]Gr12!$A$1548","v":0},"12_6"]
[{"$f":"[2]Gr12!$A$1549","v":0},"12_6"]
[{"$f":"[2]Gr12!$A$1550","v":0},"12_6"]
[{"$f":"[2]Gr12!$A$1551","v":0},"12_6"]
[{"$f":"[2]Gr12!$A$1552","v":0},"12_6"]
[{"$f":"[2]Gr12!$A$1553","v":0},"12_6"]
[{"$f":"[2]Gr12!$A$1554","v":0},"12_6"]
[{"$f":"[2]Gr12!$A$1555","v":0},"12_6"]
[{"$f":"[2]Gr12!$A$1556","v":0},"12_6"]
[{"$f":"[2]Gr12!$A$1557","v":0},"12_6"]
[{"$f":"[2]Gr12!$A$1558","v":0},"12_6"]
[{"$f":"[2]Gr12!$A$1559","v":0},"12_6"]
[{"$f":"[2]Gr12!$A$1560","v":0},"12_6"]
[{"$f":"[2]Gr12!$A$1561","v":0},"12_6"]
[{"$f":"[2]Gr12!$A$1562","v":0},"12_6"]
[{"$f":"[2]Gr12!$A$1563","v":0},"12_6"]
[{"$f":"[2]Gr12!$A$1564","v":0},"12_6"]
[{"$f":"[2]Gr12!$A$1565","v":0},"12_6"]
[{"$f":"[2]Gr12!$A$1566","v":0},"12_6"]
[{"$f":"[2]Gr12!$A$1567","v":0},"12_6"]
[{"$f":"[2]Gr12!$A$1568","v":0},"12_6"]
[{"$f":"[2]Gr12!$A$1569","v":0},"12_6"]
[{"$f":"[2]Gr12!$A$1570","v":0},"12_6"]
[{"$f":"[2]Gr12!$A$1571","v":0},"12_6"]
[{"$f":"[2]Gr12!$A$1572","v":0},"12_6"]
[{"$f":"[2]Gr12!$A$1573","v":0},"12_6"]
[{"$f":"[2]Gr12!$A$1574","v":0},"12_6"]
[{"$f":"[2]Gr12!$A$1575","v":0},"12_6"]
[{"$f":"[2]Gr12!$A$1576","v":0},"12_6"]
[{"$f":"[2]Gr12!$A$1577","v":0},"12_6"]
[{"$f":"[2]Gr12!$A$1578","v":0},"12_6"]
[{"$f":"[2]Gr12!$A$1579","v":0},"12_6"]
[{"$f":"[2]Gr12!$A$1580","v":0},"12_6"]
[{"$f":"[2]Gr12!$A$1581","v":0},"12_6"]
[{"$f":"[2]Gr12!$A$1582","v":0},"12_6"]
[{"$f":"[2]Gr12!$A$1583","v":0},"12_6"]
[{"$f":"[2]Gr12!$A$1584","v":0},"12_6"]
[{"$f":"[2]Gr12!$A$1585","v":0},"12_6"]
[{"$f":"[2]Gr12!$A$1586","v":0},"12_6"]
[{"$f":"[2]Gr12!$A$1587","v":0},"12_6"]
[{"$f":"[2]Gr12!$A$1588","v":0},"12_6"]
[{"$f":"[2]Gr12!$A$1589","v":0},"12_6"]
[{"$f":"[2]Gr12!$A$1590","v":0},"12_6"]
[{"$f":"[2]Gr12!$A$1591","v":0},"12_6"]
[{"$f":"[2]Gr12!$A$1592","v":0},"12_6"]
[{"$f":"[2]Gr12!$A$1593","v":0},"12_6"]
[{"$f":"[2]Gr12!$A$1594","v":0},"12_6"]
[{"$f":"[2]Gr12!$A$1595","v":0},"12_6"]
[{"$f":"[2]Gr12!$A$1596","v":0},"12_6"]
[{"$f":"[2]Gr12!$A$1597","v":0},"12_6"]
[{"$f":"[2]Gr12!$A$1598","v":0},"12_6"]
[{"$f":"[2]Gr12!$A$1599","v":0},"12_6"]
[{"$f":"[2]Gr12!$A$1600","v":0},"12_6"]
[{"$f":"[2]Gr12!$A$1601","v":0},"12_6"]
[{"$f":"[2]Gr12!$A$1602","v":0},"12_6"]
[{"$f":"[2]Gr12!$A$1603","v":0},"12_6"]
[{"$f":"[2]Gr12!$A$1604","v":0},"12_6"]
[{"$f":"[2]Gr12!$A$1605","v":0},"12_6"]
[{"$f":"[2]Gr12!$A$1606","v":0},"12_6"]
[{"$f":"[2]Gr12!$A$1607","v":0},"12_6"]
[{"$f":"[2]Gr12!$A$1608","v":0},"12_6"]
[{"$f":"[2]Gr12!$A$1609","v":0},"12_6"]
[{"$f":"[2]Gr12!$A$1610","v":0},"12_6"]
[{"$f":"[2]Gr12!$A$1611","v":0},"12_6"]
[{"$f":"[2]Gr12!$A$1612","v":0},"12_6"]
[{"$f":"[2]Gr12!$A$1613","v":0},"12_6"]
[{"$f":"[2]Gr12!$A$1614","v":0},"12_6"]
[{"$f":"[2]Gr12!$A$1615","v":0},"12_6"]
[{"$f":"[2]Gr12!$A$1616","v":0},"12_6"]
[{"$f":"[2]Gr12!$A$1617","v":0},"12_6"]
[{"$f":"[2]Gr12!$A$1618","v":0},"12_6"]
[{"$f":"[2]Gr12!$A$1619","v":0},"12_6"]
[{"$f":"[2]Gr12!$A$1620","v":0},"12_6"]
[{"$f":"[2]Gr12!$A$1621","v":0},"12_6"]
[{"$f":"[2]Gr12!$A$1622","v":0},"12_6"]
[{"$f":"[2]Gr12!$A$1623","v":0},"12_6"]
[{"$f":"[2]Gr12!$A$1624","v":0},"12_6"]
[{"$f":"[2]Gr12!$A$1625","v":0},"12_6"]
[{"$f":"[2]Gr12!$A$1626","v":0},"12_6"]
[{"$f":"[2]Gr12!$A$1627","v":0},"12_6"]
[{"$f":"[2]Gr12!$A$1628","v":0},"12_6"]
[{"$f":"[2]Gr12!$A$1629","v":0},"12_6"]
[{"$f":"[2]Gr12!$A$1630","v":0},"12_6"]
[{"$f":"[2]Gr12!$A$1631","v":0},"12_6"]
[{"$f":"[2]Gr12!$A$1632","v":0},"12_6"]
[{"$f":"[2]Gr12!$A$1633","v":0},"12_6"]
[{"$f":"[2]Gr12!$A$1634","v":0},"12_6"]
[{"$f":"[2]Gr12!$A$1635","v":0},"12_6"]
[{"$f":"[2]Gr12!$A$1636","v":0},"12_6"]
[{"$f":"[2]Gr12!$A$1637","v":0},"12_6"]
[{"$f":"[2]Gr12!$A$1638","v":0},"12_6"]
[{"$f":"[2]Gr12!$A$1639","v":0},"12_6"]
[{"$f":"[2]Gr12!$A$1640","v":0},"12_6"]
[{"$f":"[2]Gr12!$A$1641","v":0},"12_6"]
[{"$f":"[2]Gr12!$A$1642","v":0},"12_6"]
[{"$f":"[2]Gr12!$A$1643","v":0},"12_6"]
[{"$f":"[2]Gr12!$A$1644","v":0},"12_6"]
[{"$f":"[2]Gr12!$A$1645","v":0},"12_6"]
[{"$f":"[2]Gr12!$A$1646","v":0},"12_6"]
[{"$f":"[2]Gr12!$A$1647","v":0},"12_6"]
[{"$f":"[2]Gr12!$A$1648","v":0},"12_6"]
[{"$f":"[2]Gr12!$A$1649","v":0},"12_6"]
[{"$f":"[2]Gr12!$A$1650","v":0},"12_6"]
[{"$f":"[2]Gr12!$A$1651","v":0},"12_6"]
[{"$f":"[2]Gr12!$A$1652","v":0},"12_6"]
[{"$f":"[2]Gr12!$A$1653","v":0},"12_6"]
[{"$f":"[2]Gr12!$A$1654","v":0},"12_6"]
[{"$f":"[2]Gr12!$A$1655","v":0},"12_6"]
[{"$f":"[2]Gr12!$A$1656","v":0},"12_6"]
[{"$f":"[2]Gr12!$A$1657","v":0},"12_6"]
[{"$f":"[2]Gr12!$A$1658","v":0},"12_6"]
[{"$f":"[2]Gr12!$A$1659","v":0},"12_6"]
[{"$f":"[2]Gr12!$A$1660","v":0},"12_6"]
[{"$f":"[2]Gr12!$A$1661","v":0},"12_6"]
[{"$f":"[2]Gr12!$A$1662","v":0},"12_6"]
[{"$f":"[2]Gr12!$A$1663","v":0},"12_6"]
[{"$f":"[2]Gr12!$A$1664","v":0},"12_6"]
[{"$f":"[2]Gr12!$A$1665","v":0},"12_6"]
[{"$f":"[2]Gr12!$A$1666","v":0},"12_6"]
[{"$f":"[2]Gr12!$A$1667","v":0},"12_6"]
[{"$f":"[2]Gr12!$A$1668","v":0},"12_6"]
[{"$f":"[2]Gr12!$A$1669","v":0},"12_6"]
[{"$f":"[2]Gr12!$A$1670","v":0},"12_6"]
[{"$f":"[2]Gr12!$A$1671","v":0},"12_6"]
[{"$f":"[2]Gr12!$A$1672","v":0},"12_6"]
[{"$f":"[2]Gr12!$A$1673","v":0},"12_6"]
[{"$f":"[2]Gr12!$A$1674","v":0},"12_6"]
[{"$f":"[2]Gr12!$A$1675","v":0},"12_6"]
[{"$f":"[2]Gr12!$A$1676","v":0},"12_6"]
[{"$f":"[2]Gr12!$A$1677","v":0},"12_6"]
[{"$f":"[2]Gr12!$A$1678","v":0},"12_6"]
[{"$f":"[2]Gr12!$A$1679","v":0},"12_6"]
[{"$f":"[2]Gr12!$A$1680","v":0},"12_6"]
[{"$f":"[2]Gr12!$A$1681","v":0},"12_6"]
[{"$f":"[2]Gr12!$A$1682","v":0},"12_6"]
[{"$f":"[2]Gr12!$A$1683","v":0},"12_6"]
[{"$f":"[2]Gr12!$A$1684","v":0},"12_6"]
[{"$f":"[2]Gr12!$A$1685","v":0},"12_6"]