{"text_format":"1","workbook":"xlsx","n_sheets":4,"sheets":["1930","1934","1938","Gesamt"],"not_rendered":{"charts":0,"images":0,"macros":1,"external_links":0,"defined_names":0,"comments":0,"pivot_tables":0},"unopened":[],"bounds":{"document_bytes":16777216,"sheet_cells":100000,"rows_first":2000,"rows_last":500,"rows_between":2000,"halvings":0,"cell_chars":16384,"cell_head_chars":4096},"cells_cut":0,"cells_raw":0,"read":"whole","date_system":"1900"}

{"sheet":"1930","index":0,"n_rows":113,"n_cols":27,"rows_kept":113,"cut":false,"hidden":false,"merged":[[91,2,91,8],[1,0,1,10],[3,0,3,10],[4,0,4,10],[6,0,6,10],[76,2,76,8],[84,2,84,8]]}
[null,null,null,null,null,null,null,null,null,null,null,null,null,null,null,null,null,null,1,2,3,4,5,6,7]
["1. WM 1930 in Uruguay"]
[]
["13.-30. Juli 1930"]
["Teilnehmende Nationen: 13 --- Bewerbungen: 13"]
[]
["Alle Spiele fanden in Montevideo statt."]
[]
[]
[null,null,null,null,null,"Gruppe 1"]
[]
[null,null,null,"1930-07-13","Frankreich","Mexiko",4,1,null,null,null,null,">>>>>>>>",null,">>>>>>>>",null,">>>>>>>>>",null,"Frankreich","Mexiko",4,1,null,{"$f":"(IF(U12>V12,3,IF(U12=V12,1,2)))","v":3},{"$f":"(IF(V12>U12,3,IF(U12=V12,1,2)))","v":2},null,"Uruguay"]
[null,null,null,null,null,null,"(3","0)",null,null,null,null,null,null,null,null,null,null,"Argentinien","Frankreich",1,0,null,{"$f":"(IF(U13>V13,3,IF(U13=V13,1,2)))","v":3},{"$f":"(IF(V13>U13,3,IF(U13=V13,1,2)))","v":2},null,"Argentinien"]
[null,null,null,"1930-07-15","Argentinien","Frankreich",1,0,null,null,null,null,null,null,null,null,null,null,"Chile","Mexiko",3,0,null,3,2,null,"USA"]
[null,null,null,null,null,null,"(0","0)",null,null,null,null,null,null,null,null,null,null,"Chile","Frankreich",1,0,null,3,2,null,"Jugoslawien"]
[null,null,null,"1930-07-16","Chile","Mexiko",3,0,null,null,null,null,null,null,null,null,null,null,"Argentinien","Mexiko",6,3,null,3,2,null,"Chile"]
[null,null,null,null,null,null,"(1","0)",null,null,null,null,null,null,null,null,null,null,"Argentinien","Chile",3,1,null,3,2,null,"Brasilien"]
[null,null,null,"1930-07-19","Chile","Frankreich",1,0,null,null,null,null,null,null,null,null,null,null,null,null,null,null,null,null,null,null,"Rumänien"]
[null,null,null,null,null,null,"(0","0)",null,null,null,null,null,null,null,null,null,null,null,null,null,null,null,null,null,null,"Paraguay"]
[null,null,null,"1930-07-19","Argentinien","Mexiko",6,3,null,null,null,null,null,null,null,null,null,null,null,null,null,null,null,null,null,null,"Frankreich"]
[null,null,null,null,null,null,"(3","1)",null,null,null,null,null,null,null,null,null,null,null,null,null,null,null,null,null,null,"Peru"]
[null,null,null,"1930-07-22","Argentinien","Chile",3,1,null,null,null,null,null,null,null,null,null,null,"Paris","Rom",5,2,null,{"$f":"(IF(U22>V22,3,IF(U22=V22,1,2)))","v":3},{"$f":"(IF(V22>U22,3,IF(U22=V22,1,2)))","v":2},null,"Belgien"]
[null,null,null,null,null,null,"(2","1)",null,null,null,null,null,null,null,null,null,null,null,null,null,null,null,null,null,null,"Bolivien"]
[null,null,null,null,null,null,null,null,null,null,null,null,null,null,null,null,null,null,null,null,null,null,null,null,null,null,"Mexiko"]
[null,null,"Spiele","gew","unent","verl","Tore+","Tore-","Punkte+","Punkte-"]
[null,"Argentinien",{"$f":"COUNTIF($S$12:$T$17,\"Argentinien\")","v":3},{"$f":"SUMPRODUCT(($S$12:$T$17=B26)*($X$12:$Y$17=3))","v":3},{"$f":"SUMPRODUCT(($S$12:$T$17=B26)*($X$12:$Y$17=1))","v":0},{"$f":"SUMPRODUCT(($S$12:$T$17=B26)*($X$12:$Y$17=2))","v":0},{"$f":"SUMPRODUCT(($S$12:$S$17=B26)*($U$12:$U$17))+SUMPRODUCT(($T$12:$T$17=B26)*($V$12:$V$17))","v":10},{"$f":"SUMPRODUCT(($S$12:$S$17=B26)*($V$12:$V$17))+SUMPRODUCT(($T$12:$T$17=B26)*($U$12:$U$17))","v":4},{"$f":"(D26*2)+E26","v":6},{"$f":"(F26*2)+E26","v":0}]
[null,"Chile",{"$f":"COUNTIF($S$12:$T$17,\"Chile\")","v":3},{"$f":"SUMPRODUCT(($S$12:$T$17=B27)*($X$12:$Y$17=3))","v":2},{"$f":"SUMPRODUCT(($S$12:$T$17=B27)*($X$12:$Y$17=1))","v":0},{"$f":"SUMPRODUCT(($S$12:$T$17=B27)*($X$12:$Y$17=2))","v":1},{"$f":"SUMPRODUCT(($S$12:$S$17=B27)*($U$12:$U$17))+SUMPRODUCT(($T$12:$T$17=B27)*($V$12:$V$17))","v":5},{"$f":"SUMPRODUCT(($S$12:$S$17=B27)*($V$12:$V$17))+SUMPRODUCT(($T$12:$T$17=B27)*($U$12:$U$17))","v":3},{"$f":"(D27*2)+E27","v":4},{"$f":"(F27*2)+E27","v":2}]
[null,"Frankreich",{"$f":"COUNTIF($S$12:$T$17,\"Frankreich\")","v":3},{"$f":"SUMPRODUCT(($S$12:$T$17=B28)*($X$12:$Y$17=3))","v":1},{"$f":"SUMPRODUCT(($S$12:$T$17=B28)*($X$12:$Y$17=1))","v":0},{"$f":"SUMPRODUCT(($S$12:$T$17=B28)*($X$12:$Y$17=2))","v":2},{"$f":"SUMPRODUCT(($S$12:$S$17=B28)*($U$12:$U$17))+SUMPRODUCT(($T$12:$T$17=B28)*($V$12:$V$17))","v":4},{"$f":"SUMPRODUCT(($S$12:$S$17=B28)*($V$12:$V$17))+SUMPRODUCT(($T$12:$T$17=B28)*($U$12:$U$17))","v":3},{"$f":"(D28*2)+E28","v":2},{"$f":"(F28*2)+E28","v":4}]
[null,"Mexiko",{"$f":"COUNTIF($S$12:$T$17,\"Mexiko\")","v":3},{"$f":"SUMPRODUCT(($S$12:$T$17=B29)*($X$12:$Y$17=3))","v":0},{"$f":"SUMPRODUCT(($S$12:$T$17=B29)*($X$12:$Y$17=1))","v":0},{"$f":"SUMPRODUCT(($S$12:$T$17=B29)*($X$12:$Y$17=2))","v":3},{"$f":"SUMPRODUCT(($S$12:$S$17=B29)*($U$12:$U$17))+SUMPRODUCT(($T$12:$T$17=B29)*($V$12:$V$17))","v":4},{"$f":"SUMPRODUCT(($S$12:$S$17=B29)*($V$12:$V$17))+SUMPRODUCT(($T$12:$T$17=B29)*($U$12:$U$17))","v":13},{"$f":"(D29*2)+E29","v":0},{"$f":"(F29*2)+E29","v":6}]
[]
[]
[null,null,null,null,null,"Gruppe 2"]
[]
[null,null,null,"1930-07-14","Jugoslawien","Brasilien",2,1,null,null,null,null,null,null,null,null,null,null,"Jugoslawien","Brasilien",2,1,null,{"$f":"(IF(U34>V34,3,IF(U34=V34,1,2)))","v":3},{"$f":"(IF(V34>U34,3,IF(U34=V34,1,2)))","v":2}]
[null,null,null,null,null,null,"(2","0)",null,null,null,null,null,null,null,null,null,null,"Jugoslawien","Bolivien",4,0,null,{"$f":"(IF(U35>V35,3,IF(U35=V35,1,2)))","v":3},2]
[null,null,null,"1930-07-17","Jugoslawien","Bolivien",4,0,null,null,null,null,null,null,null,null,null,null,"Brasilien","Bolivien",4,0,null,3,2]
[null,null,null,null,null,null,"(0","0)"]
[null,null,null,"1930-07-20","Brasilien","Bolivien",4,0]
[null,null,null,null,null,null,"(1","0)"]
[]
[null,null,"Spiele","gew","unent","verl","Tore+","Tore-","Punkte+","Punkte-"]
[null,"Jugoslawien",{"$f":"COUNTIF($S$34:$T$36,\"Jugoslawien\")","v":2},{"$f":"SUMPRODUCT(($S$34:$T$36=B42)*($X$34:$Y$36=3))","v":2},{"$f":"SUMPRODUCT(($S$34:$T$36=B42)*($X$34:$Y$36=1))","v":0},{"$f":"SUMPRODUCT(($S$34:$T$36=B42)*($X$34:$Y$36=2))","v":0},{"$f":"SUMPRODUCT(($S$34:$S$36=B42)*($U$34:$U$36))+SUMPRODUCT(($T$34:$T$36=B42)*($V$34:$V$36))","v":6},{"$f":"SUMPRODUCT(($S$34:$S$36=B42)*($V$34:$V$36))+SUMPRODUCT(($T$34:$T$36=B42)*($U$34:$U$36))","v":1},{"$f":"(D42*2)+E42","v":4},{"$f":"(F42*2)+E42","v":0}]
[null,"Brasilien",{"$f":"COUNTIF($S$34:$T$36,\"Brasilien\")","v":2},{"$f":"SUMPRODUCT(($S$34:$T$36=B43)*($X$34:$Y$36=3))","v":1},{"$f":"SUMPRODUCT(($S$34:$T$36=B43)*($X$34:$Y$36=1))","v":0},{"$f":"SUMPRODUCT(($S$34:$T$36=B43)*($X$34:$Y$36=2))","v":1},{"$f":"SUMPRODUCT(($S$34:$S$36=B43)*($U$34:$U$36))+SUMPRODUCT(($T$34:$T$36=B43)*($V$34:$V$36))","v":5},{"$f":"SUMPRODUCT(($S$34:$S$36=B43)*($V$34:$V$36))+SUMPRODUCT(($T$34:$T$36=B43)*($U$34:$U$36))","v":2},{"$f":"(D43*2)+E43","v":2},{"$f":"(F43*2)+E43","v":2}]
[null,"Bolivien",{"$f":"COUNTIF($S$34:$T$36,\"Bolivien\")","v":2},{"$f":"SUMPRODUCT(($S$34:$T$36=B44)*($X$34:$Y$36=3))","v":0},{"$f":"SUMPRODUCT(($S$34:$T$36=B44)*($X$34:$Y$36=1))","v":0},{"$f":"SUMPRODUCT(($S$34:$T$36=B44)*($X$34:$Y$36=2))","v":2},{"$f":"SUMPRODUCT(($S$34:$S$36=B44)*($U$34:$U$36))+SUMPRODUCT(($T$34:$T$36=B44)*($V$34:$V$36))","v":0},{"$f":"SUMPRODUCT(($S$34:$S$36=B44)*($V$34:$V$36))+SUMPRODUCT(($T$34:$T$36=B44)*($U$34:$U$36))","v":8},{"$f":"(D44*2)+E44","v":0},{"$f":"(F44*2)+E44","v":4}]
[]
[]
[null,null,null,null,null,"Gruppe 3"]
[]
[null,null,null,"1930-07-14","Rumänien","Peru",3,1,null,null,null,null,null,null,null,null,null,null,"Rumänien","Peru",3,1,null,{"$f":"(IF(U49>V49,3,IF(U49=V49,1,2)))","v":3},{"$f":"(IF(V49>U49,3,IF(U49=V49,1,2)))","v":2}]
[null,null,null,null,null,null,"(1","0)",null,null,null,null,null,null,null,null,null,null,"Uruguay","Peru",1,0,null,3,2]
[null,null,null,"1930-07-18","Uruguay","Peru",1,0,null,null,null,null,null,null,null,null,null,null,"Uruguay","Rumänien",4,0,null,3,2]
[null,null,null,null,null,null,"(0","0)"]
[null,null,null,"1930-07-21","Uruguay","Rumänien",4,0]
[null,null,null,null,null,null,"(4","0)"]
[]
[null,null,"Spiele","gew","unent","verl","Tore+","Tore-","Punkte+","Punkte-"]
[null,"Uruguay",{"$f":"COUNTIF($S$49:$T$51,\"Uruguay\")","v":2},{"$f":"SUMPRODUCT(($S$49:$T$51=B57)*($X$49:$Y$51=3))","v":2},{"$f":"SUMPRODUCT(($S$49:$T$51=B57)*($X$49:$Y$51=1))","v":0},{"$f":"SUMPRODUCT(($S$49:$T$51=B57)*($X$49:$Y$51=2))","v":0},{"$f":"SUMPRODUCT(($S$49:$S$51=B57)*($U$49:$U$51))+SUMPRODUCT(($T$49:$T$51=B57)*($V$49:$V$51))","v":5},{"$f":"SUMPRODUCT(($S$49:$S$51=B57)*($V$49:$V$51))+SUMPRODUCT(($T$49:$T$51=B57)*($U$49:$U$51))","v":0},{"$f":"(D57*2)+E57","v":4},{"$f":"(F57*2)+E57","v":0}]
[null,"Rumänien",{"$f":"COUNTIF($S$49:$T$51,\"Rumänien\")","v":2},{"$f":"SUMPRODUCT(($S$49:$T$51=B58)*($X$49:$Y$51=3))","v":1},{"$f":"SUMPRODUCT(($S$49:$T$51=B58)*($X$49:$Y$51=1))","v":0},{"$f":"SUMPRODUCT(($S$49:$T$51=B58)*($X$49:$Y$51=2))","v":1},{"$f":"SUMPRODUCT(($S$49:$S$51=B58)*($U$49:$U$51))+SUMPRODUCT(($T$49:$T$51=B58)*($V$49:$V$51))","v":3},{"$f":"SUMPRODUCT(($S$49:$S$51=B58)*($V$49:$V$51))+SUMPRODUCT(($T$49:$T$51=B58)*($U$49:$U$51))","v":5},{"$f":"(D58*2)+E58","v":2},{"$f":"(F58*2)+E58","v":2}]
[null,"Peru",{"$f":"COUNTIF($S$49:$T$51,\"Peru\")","v":2},{"$f":"SUMPRODUCT(($S$49:$T$51=B59)*($X$49:$Y$51=3))","v":0},{"$f":"SUMPRODUCT(($S$49:$T$51=B59)*($X$49:$Y$51=1))","v":0},{"$f":"SUMPRODUCT(($S$49:$T$51=B59)*($X$49:$Y$51=2))","v":2},{"$f":"SUMPRODUCT(($S$49:$S$51=B59)*($U$49:$U$51))+SUMPRODUCT(($T$49:$T$51=B59)*($V$49:$V$51))","v":1},{"$f":"SUMPRODUCT(($S$49:$S$51=B59)*($V$49:$V$51))+SUMPRODUCT(($T$49:$T$51=B59)*($U$49:$U$51))","v":4},{"$f":"(D59*2)+E59","v":0},{"$f":"(F59*2)+E59","v":4}]
[]
[]
[null,null,null,null,null,"Gruppe 4"]
[]
[null,null,null,"1930-07-13","USA","Belgien",3,0,null,null,null,null,null,null,null,null,null,null,"USA","Belgien",3,0,null,{"$f":"(IF(U64>V64,3,IF(U64=V64,1,2)))","v":3},{"$f":"(IF(V64>U64,3,IF(U64=V64,1,2)))","v":2}]
[null,null,null,null,null,null,"(2","0)",null,null,null,null,null,null,null,null,null,null,"USA","Paraguay",3,0,null,3,2]
[null,null,null,"1930-07-17","USA","Paraguay",3,0,null,null,null,null,null,null,null,null,null,null,"Paraguay","Belgien",1,0,null,3,2]
[null,null,null,null,null,null,"(2","0)"]
[null,null,null,"1930-07-20","Paraguay","Belgien",1,0]
[null,null,null,null,null,null,"(1","0)"]
[]
[null,null,"Spiele","gew","unent","verl","Tore+","Tore-","Punkte+","Punkte-"]
[null,"USA",{"$f":"COUNTIF($S$64:$T$66,\"USA\")","v":2},{"$f":"SUMPRODUCT(($S$64:$T$66=B72)*($X$64:$Y$66=3))","v":2},{"$f":"SUMPRODUCT(($S$64:$T$66=B72)*($X$64:$Y$66=1))","v":0},{"$f":"SUMPRODUCT(($S$64:$T$66=B72)*($X$64:$Y$66=2))","v":0},{"$f":"SUMPRODUCT(($S$64:$S$66=B72)*($U$64:$U$66))+SUMPRODUCT(($T$64:$T$66=B72)*($V$64:$V$66))","v":6},{"$f":"SUMPRODUCT(($S$64:$S$66=B72)*($V$64:$V$66))+SUMPRODUCT(($T$64:$T$66=B72)*($U$64:$U$66))","v":0},{"$f":"(D72*2)+E72","v":4},{"$f":"(F72*2)+E72","v":0}]
[null,"Belgien",{"$f":"COUNTIF($S$64:$T$66,\"Belgien\")","v":2},{"$f":"SUMPRODUCT(($S$64:$T$66=B73)*($X$64:$Y$66=3))","v":0},{"$f":"SUMPRODUCT(($S$64:$T$66=B73)*($X$64:$Y$66=1))","v":0},{"$f":"SUMPRODUCT(($S$64:$T$66=B73)*($X$64:$Y$66=2))","v":2},{"$f":"SUMPRODUCT(($S$64:$S$66=B73)*($U$64:$U$66))+SUMPRODUCT(($T$64:$T$66=B73)*($V$64:$V$66))","v":0},{"$f":"SUMPRODUCT(($S$64:$S$66=B73)*($V$64:$V$66))+SUMPRODUCT(($T$64:$T$66=B73)*($U$64:$U$66))","v":4},{"$f":"(D73*2)+E73","v":0},{"$f":"(F73*2)+E73","v":4}]
[null,"Paraguay",{"$f":"COUNTIF($S$64:$T$66,\"Paraguay\")","v":2},1,0,1,1,3,2,2]
[]
[]
[null,null,"Halbfinale:"]
[]
[null,null,null,"1930-07-26","Argentinien","USA",6,1,null,null,null,null,null,null,null,null,null,null,"Argentinien","USA",6,1,null,{"$f":"(IF(U79>V79,3,IF(U79=V79,1,2)))","v":3},{"$f":"(IF(V79>U79,3,IF(U79=V79,1,2)))","v":2}]
[null,null,null,null,null,null,"(1","0)",null,null,null,null,null,null,null,null,null,null,"Uruguay","Jugoslawien",6,1,null,3,2]
[null,null,null,"1930-07-27","Uruguay","Jugoslawien",6,1]
[null,null,null,null,null,null,"(3","1)"]
[]
[]
[null,null,"Spiel um Platz 3 am in Montevideo"]
[null,null,null,null,"Jugoslawien","---","USA"]
[null,null,null,null,null,"Jugoslawien verzichtet. USA kampflos Dritter."]
[]
[]
[]
[]
[null,null,"Endspiel am 30. Juli 1930 in Montevideo"]
[null,null,null,null,"Uruguay","---","Argentinien",null,null,null,null,null,null,null,null,null,null,null,"Uruguay","Argentinien",4,2,null,{"$f":"(IF(U93>V93,3,IF(U93=V93,1,2)))","v":3},{"$f":"(IF(V93>U93,3,IF(U93=V93,1,2)))","v":2}]
[null,null,null,null,4,null,2]
[null,null,null,null,"(1",null,"2)"]
[]
[]
[]
[]
["VR-Gruppe","Nation","Spiele","gew","unent","verl","Tore+","Tore-","Punkte+","Punkte-"]
[3,"Uruguay",{"$f":"COUNTIF($S$12:$T$93,\"Uruguay\")","v":4},{"$f":"SUMPRODUCT(($S$12:$T$93=B101)*($X$12:$Y$93=3))","v":4},{"$f":"SUMPRODUCT(($S$12:$T$93=B101)*($X$12:$Y$93=1))","v":0},{"$f":"SUMPRODUCT(($S$12:$T$93=B101)*($X$12:$Y$93=2))","v":0},{"$f":"SUMPRODUCT(($S$12:$S$93=B101)*($U$12:$U$93))+SUMPRODUCT(($T$12:$T$93=B101)*($V$12:$V$93))","v":15},{"$f":"SUMPRODUCT(($S$12:$S$93=B101)*($V$12:$V$93))+SUMPRODUCT(($T$12:$T$93=B101)*($U$12:$U$93))","v":3},{"$f":"(D101*2)+E101","v":8},{"$f":"(F101*2)+E101","v":0}]
[1,"Argentinien",{"$f":"COUNTIF($S$12:$T$93,\"Argentinien\")","v":5},4,0,1,18,9,8,2]
[4,"USA",{"$f":"COUNTIF($S$12:$T$93,\"USA\")","v":3},2,0,1,7,6,4,2]
[2,"Jugoslawien",{"$f":"COUNTIF($S$12:$T$93,\"Jugoslawien\")","v":3},2,0,1,7,7,4,2]
[1,"Chile",{"$f":"COUNTIF($S$12:$T$93,\"Chile\")","v":3},2,0,1,5,3,4,2]
[2,"Brasilien",{"$f":"COUNTIF($S$12:$T$93,\"Brasilien\")","v":2},1,0,1,5,2,2,2]
[3,"Rumänien",{"$f":"COUNTIF($S$12:$T$93,\"Rumänien\")","v":2},1,0,1,3,5,2,2]
[4,"Paraguay",{"$f":"COUNTIF($S$12:$T$93,\"Paraguay\")","v":2},1,0,1,1,3,2,2]
[1,"Frankreich",{"$f":"COUNTIF($S$12:$T$93,\"Frankreich\")","v":3},1,0,2,4,3,2,4]
[3,"Peru",{"$f":"COUNTIF($S$12:$T$93,\"Peru\")","v":2},0,0,2,1,4,0,4]
[2,"Belgien",{"$f":"COUNTIF($S$12:$T$93,\"Belgien\")","v":2},0,0,2,0,4,0,4]
[4,"Bolivien",{"$f":"COUNTIF($S$12:$T$93,\"Bolivien\")","v":2},0,0,2,0,8,0,4]
[1,"Mexiko",{"$f":"COUNTIF($S$12:$T$93,\"Mexiko\")","v":3},0,0,3,4,13,0,6]

{"sheet":"1934","index":1,"n_rows":91,"n_cols":27,"rows_kept":91,"cut":false,"hidden":false,"merged":[[65,2,65,8],[1,0,1,10],[3,0,3,10],[4,0,4,10],[6,0,6,10],[57,2,57,8]]}
[null,null,null,null,null,null,null,null,null,null,null,null,null,null,null,null,null,null,1,2,3,4,5,6,7]
["2. WM 1934 in Italien"]
[]
["27. Mai-10. Juni 1934"]
["Teilnehmende Nationen: 16 --- Bewerbungen: 32"]
[]
["Das Tunier wurde im K.O.-System ausgespielt"]
[]
[]
[null,null,null,null,null,"Achtelfinale:"]
[]
[null,null,"1934-05-27","Italien","USA",7,1,null,"Rom",null,null,null,null,null,null,null,null,null,"Italien","USA",7,1,null,{"$f":"(IF(U12>V12,3,IF(U12=V12,1,2)))","v":3},{"$f":"(IF(V12>U12,3,IF(U12=V12,1,2)))","v":2},null,"Italien"]
[null,null,null,null,null,"(3","0)",null,null,null,null,null,null,null,null,null,null,null,"CSSR","Rumänien",2,1,null,{"$f":"(IF(U13>V13,3,IF(U13=V13,1,2)))","v":3},{"$f":"(IF(V13>U13,3,IF(U13=V13,1,2)))","v":2},null,"Deutschland"]
[null,null,"1934-05-27","CSSR","Rumänien",2,1,null,"Triest",null,null,null,null,null,null,null,null,null,"Deutschland","Belgien",5,2,null,3,2,null,"CSSR"]
[null,null,null,null,null,"(0","1)",null,null,null,null,null,null,null,null,null,null,null,"Österreich","Frankreich",3,2,null,3,2,null,"Österreich"]
[null,null,"1934-05-27","Deutschland","Belgien",5,2,null,"Florenz",null,null,null,null,null,null,null,null,null,"Spanien","Brasilien",3,1,null,3,2,null,"Spanien"]
[null,null,null,null,null,"(1","2)",null,null,null,null,null,null,null,null,null,null,null,"Schweiz","Niederlande",3,2,null,3,2,null,"Ungarn"]
[null,null,"1934-05-27","Österreich","Frankreich",3,2,"n.V.","Turin",null,null,null,null,null,null,null,null,null,"Schweden","Argentinien",3,2,null,3,2,null,"Schweiz"]
[null,null,null,null,null,1,1,null,null,null,null,null,null,null,null,null,null,null,"Ungarn","Ägypten",4,2,null,3,2,null,"Schweden"]
[null,null,null,null,null,"(1","1)",null,null,null,null,null,null,null,null,null,null,null,null,null,null,null,null,null,null,null,"Frankreich"]
[null,null,"1934-05-27","Spanien","Brasilien",3,1,null,"Genua",null,null,null,null,null,null,null,null,null,null,null,null,null,null,null,null,null,"Niederlande"]
[null,null,null,null,null,"(3","0)",null,null,null,null,null,null,null,null,null,null,null,null,null,null,null,null,null,null,null,"Argentinien"]
[null,null,"1934-05-27","Schweiz","Niederlande",3,2,null,"Mailand",null,null,null,null,null,null,null,null,null,null,null,null,null,null,null,null,null,"Ägypten"]
[null,null,null,null,null,"(2","1)",null,null,null,null,null,null,null,null,null,null,null,null,null,null,null,null,null,null,null,"Belgien"]
[null,null,"1934-05-27","Schweden","Argentinien",3,2,null,"Bologna",null,null,null,null,null,null,null,null,null,null,null,null,null,null,null,null,null,"Rumänien"]
[null,null,null,null,null,"(1","1)",null,null,null,null,null,null,null,null,null,null,null,null,null,null,null,null,null,null,null,"Brasilien"]
[null,null,"1934-05-27","Ungarn","Ägypten",4,2,null,"Neapel",null,null,null,null,null,null,null,null,null,null,null,null,null,null,null,null,null,"USA"]
[null,null,null,null,null,"(2","1)"]
[]
[]
[null,null,null,null,null,"Viertelfinale:"]
[]
[null,null,"1934-05-31","Österreich","Ungarn",2,1,null,"Bologna",null,null,null,null,null,null,null,null,null,"Österreich","Ungarn",2,1,null,{"$f":"(IF(U33>V33,3,IF(U33=V33,1,2)))","v":3},{"$f":"(IF(V33>U33,3,IF(U33=V33,1,2)))","v":2}]
[null,null,null,null,null,"(1","0)",null,null,null,null,null,null,null,null,null,null,null,"Italien","Spanien",1,1,null,{"$f":"(IF(U34>V34,3,IF(U34=V34,1,2)))","v":1},1]
[null,null,"1934-05-31","Italien","Spanien",1,1,"n.V.","Florenz",null,null,null,null,null,null,null,null,null,"Deutschland","Schweden",2,1,null,{"$f":"(IF(U35>V35,3,IF(U35=V35,1,2)))","v":3},2]
[null,null,null,null,null,1,1,null,null,null,null,null,null,null,null,null,null,null,"CSSR","Schweiz",3,2,null,3,2]
[null,null,null,null,null,"(1","1)"]
[null,null,"1934-05-31","Deutschland","Schweden",2,1,null,"Mailand"]
[null,null,null,null,null,"(0","0)"]
[null,null,"1934-05-31","CSSR","Schweiz",3,2,null,"Turin"]
[null,null,null,null,null,"(1","1)"]
[]
[]
[null,null,null,null,null,"Wiederholungsspiel:"]
[]
[null,null,"1934-06-01","Italien","Spanien",1,0,null,"Florenz",null,null,null,null,null,null,null,null,null,"Italien","Spanien",1,0,null,{"$f":"(IF(U46>V46,3,IF(U46=V46,1,2)))","v":3},{"$f":"(IF(V46>U46,3,IF(U46=V46,1,2)))","v":2}]
[null,null,null,null,null,"(1","0)"]
[]
[]
[null,null,null,null,null,"Halbfinale:"]
[]
[null,null,"1934-06-03","Österreich","Italien",0,1,null,"Mailand",null,null,null,null,null,null,null,null,null,"Österreich","Italien",0,1,null,{"$f":"(IF(U52>V52,3,IF(U52=V52,1,2)))","v":2},{"$f":"(IF(V52>U52,3,IF(U52=V52,1,2)))","v":3}]
[null,null,null,null,null,"(0","1)",null,null,null,null,null,null,null,null,null,null,null,"Deutschland","CSSR",1,3,null,2,3]
[null,null,"1934-06-03","Deutschland","CSSR",1,3,null,"Rom"]
[null,null,null,null,null,"(0","1)"]
[]
[]
[null,null,"Spiel um Platz 3 am 7. Juni 1934 in Neapel"]
[null,null,null,null,"Österreich","---","Deutschland",null,null,null,null,null,null,null,null,null,null,null,"Österreich","Deutschland",2,3,null,{"$f":"(IF(U59>V59,3,IF(U59=V59,1,2)))","v":2},{"$f":"(IF(V59>U59,3,IF(U59=V59,1,2)))","v":3}]
[null,null,null,null,2,null,3]
[null,null,null,null,"(1",null,"3)"]
[]
[]
[]
[]
[null,null,"Endspiel am 10. Juni 1934 in Rom"]
[null,null,null,null,"Italien","---","CSSR",null,null,null,null,null,null,null,null,null,null,null,"Italien","CSSR",2,1,null,{"$f":"(IF(U67>V67,3,IF(U67=V67,1,2)))","v":3},{"$f":"(IF(V67>U67,3,IF(U67=V67,1,2)))","v":2}]
[null,null,null,null,2,null,1,"n.V."]
[null,null,null,null,1,null,1]
[null,null,null,null,"(0",null,"0)"]
[]
[]
[]
[]
[null,"Nation","Spiele","gew","unent","verl","Tore+","Tore-","Punkte+","Punkte-"]
[null,"Italien",{"$f":"COUNTIF($S$12:$T$67,\"Italien\")","v":5},{"$f":"SUMPRODUCT(($S$12:$T$67=B76)*($X$12:$Y$67=3))","v":4},{"$f":"SUMPRODUCT(($S$12:$T$67=B76)*($X$12:$Y$67=1))","v":1},{"$f":"SUMPRODUCT(($S$12:$T$67=B76)*($X$12:$Y$67=2))","v":0},{"$f":"SUMPRODUCT(($S$12:$S$67=B76)*($U$12:$U$67))+SUMPRODUCT(($T$12:$T$67=B76)*($V$12:$V$67))","v":12},{"$f":"SUMPRODUCT(($S$12:$S$67=B76)*($V$12:$V$67))+SUMPRODUCT(($T$12:$T$67=B76)*($U$12:$U$67))","v":3},{"$f":"(D76*2)+E76","v":9},{"$f":"(F76*2)+E76","v":1}]
[null,"Deutschland",{"$f":"COUNTIF($S$12:$T$67,\"Deutschland\")","v":4},3,0,1,11,8,6,2]
[null,"CSSR",{"$f":"COUNTIF($S$12:$T$67,\"CSSR\")","v":4},3,0,1,9,6,6,2]
[null,"Österreich",{"$f":"COUNTIF($S$12:$T$67,\"Österreich\")","v":4},2,0,2,7,7,4,4]
[null,"Spanien",{"$f":"COUNTIF($S$12:$T$67,\"Spanien\")","v":3},1,1,1,4,3,3,3]
[null,"Ungarn",{"$f":"COUNTIF($S$12:$T$67,\"Ungarn\")","v":2},1,0,1,5,4,2,2]
[null,"Schweiz",{"$f":"COUNTIF($S$12:$T$67,\"Schweiz\")","v":2},1,0,1,5,5,2,2]
[null,"Schweden",{"$f":"COUNTIF($S$12:$T$67,\"Schweden\")","v":2},1,0,1,4,4,2,2]
[null,"Frankreich",{"$f":"COUNTIF($S$12:$T$67,\"Frankreich\")","v":1},0,0,1,2,3,0,2]
[null,"Niederlande",{"$f":"COUNTIF($S$12:$T$67,\"Niederlande\")","v":1},0,0,1,2,3,0,2]
[null,"Argentinien",{"$f":"COUNTIF($S$12:$T$67,\"Argentinien\")","v":1},0,0,1,2,3,0,2]
[null,"Ägypten",{"$f":"COUNTIF($S$12:$T$67,\"Ägypten\")","v":1},0,0,1,2,4,0,2]
[null,"Belgien",{"$f":"COUNTIF($S$12:$T$67,\"Belgien\")","v":1},0,0,1,2,5,0,2]
[null,"Rumänien",{"$f":"COUNTIF($S$12:$T$67,\"Rumänien\")","v":1},0,0,1,1,2,0,2]
[null,"Brasilien",{"$f":"COUNTIF($S$12:$T$67,\"Brasilien\")","v":1},0,0,1,1,3,0,2]
[null,"USA",{"$f":"COUNTIF($S$12:$T$67,\"USA\")","v":1},0,0,1,1,7,0,2]

{"sheet":"1938","index":2,"n_rows":99,"n_cols":27,"rows_kept":99,"cut":false,"hidden":false,"merged":[[75,2,75,8],[1,0,1,10],[3,0,3,10],[4,0,4,10],[6,0,6,10],[67,2,67,8]]}
[null,null,null,null,null,null,null,null,null,null,null,null,null,null,null,null,null,null,1,2,3,4,5,6,7]
["3. WM 1938 in Frankreich"]
[]
["4.-19. Juni 1938"]
["Teilnehmende Nationen: 16 --- Bewerbungen: 36"]
[]
["Das Tunier wurde im K.O.-System ausgespielt"]
[]
[]
[null,null,null,null,null,"Achtelfinale:"]
[]
[null,null,"1938-06-04","Schweiz","Dtsch. Reich",1,1,"n.V.","Paris",null,null,null,null,null,null,null,null,null,"Schweiz","Dtsch. Reich",1,1,null,{"$f":"(IF(U12>V12,3,IF(U12=V12,1,2)))","v":1},{"$f":"(IF(V12>U12,3,IF(U12=V12,1,2)))","v":1},null,"Italien"]
[null,null,null,null,null,1,1,null,null,null,null,null,null,null,null,null,null,null,"Ungarn","Niederl.-Indien",6,0,null,{"$f":"(IF(U13>V13,3,IF(U13=V13,1,2)))","v":3},{"$f":"(IF(V13>U13,3,IF(U13=V13,1,2)))","v":2},null,"Brasilien"]
[null,null,null,null,null,"(1","1)",null,null,null,null,null,null,null,null,null,null,null,"Kuba","Rumänien",3,3,null,1,1,null,"Ungarn"]
[null,null,"1938-06-05","Ungarn","Niederl.-Indien",6,0,null,"Reims",null,null,null,null,null,null,null,null,null,"Frankreich","Belgien",3,1,null,3,2,null,"CSSR"]
[null,null,null,null,null,"(4","0)",null,null,null,null,null,null,null,null,null,null,null,"Italien","Norwegen",2,1,null,3,2,null,"Schweiz"]
[null,null,"1938-06-05","Kuba","Rumänien",3,3,"n.V.","Toulouse",null,null,null,null,null,null,null,null,null,"Brasilien","Polen",6,5,null,3,2,null,"Kuba"]
[null,null,null,null,null,2,2,null,null,null,null,null,null,null,null,null,null,null,"CSSR","Niederlande",3,0,null,3,2,null,"Frankreich"]
[null,null,null,null,null,"(1","1)",null,null,null,null,null,null,null,null,null,null,null,null,null,null,null,null,null,null,null,"Schweden"]
[null,null,"1938-06-05","Frankreich","Belgien",3,1,null,"Colombes (bei Paris)",null,null,null,null,null,null,null,null,null,null,null,null,null,null,null,null,null,"Rumänien"]
[null,null,null,null,null,"(2","1)",null,null,null,null,null,null,null,null,null,null,null,null,null,null,null,null,null,null,null,"Dtsch. Reich"]
[null,null,"1938-06-05","Italien","Norwegen",2,1,"n.V.","Marseille",null,null,null,null,null,null,null,null,null,null,null,null,null,null,null,null,null,"Polen"]
[null,null,null,null,null,1,1,null,null,null,null,null,null,null,null,null,null,null,null,null,null,null,null,null,null,null,"Norwegen"]
[null,null,null,null,null,"(1","0)",null,null,null,null,null,null,null,null,null,null,null,null,null,null,null,null,null,null,null,"Belgien"]
[null,null,"1938-06-05","Brasilien","Polen",6,5,"n.V.","Straßburg",null,null,null,null,null,null,null,null,null,null,null,null,null,null,null,null,null,"Niederlande"]
[null,null,null,null,null,4,4,null,null,null,null,null,null,null,null,null,null,null,null,null,null,null,null,null,null,null,"Niederl.-Indien"]
[null,null,null,null,null,"(3","1)"]
[null,null,"1938-06-05","CSSR","Niederlande",3,0,"n.V.","Le Havre"]
[null,null,null,null,null,0,0]
[null,null,null,null,null,"(0","0)"]
[null,null,"1938-06-05","Schweden","Österreich","kampflos",null,null,"Lyon"]
[]
[]
[null,null,null,null,null,"Wiederholungsspiele:"]
[]
[null,null,"1938-06-09","Schweiz","Dtsch. Reich",4,2,null,"Paris",null,null,null,null,null,null,null,null,null,"Schweiz","Dtsch. Reich",4,2,null,{"$f":"(IF(U36>V36,3,IF(U36=V36,1,2)))","v":3},{"$f":"(IF(V36>U36,3,IF(U36=V36,1,2)))","v":2}]
[null,null,null,null,null,"(1","2)",null,null,null,null,null,null,null,null,null,null,null,"Kuba","Rumänien",2,1,null,3,2]
[null,null,"1938-06-09","Kuba","Rumänien",2,1,null,"Toulouse"]
[null,null,null,null,null,"(0","1)"]
[]
[null,null,null,null,null,"Viertelfinale:"]
[]
[null,null,"1938-06-12","Italien","Frankreich",3,1,null,"Colombes (bei Paris)",null,null,null,null,null,null,null,null,null,"Italien","Frankreich",3,1,null,{"$f":"(IF(U43>V43,3,IF(U43=V43,1,2)))","v":3},{"$f":"(IF(V43>U43,3,IF(U43=V43,1,2)))","v":2}]
[null,null,null,null,null,"(1","1)",null,null,null,null,null,null,null,null,null,null,null,"CSSR","Brasilien",1,1,null,1,1]
[null,null,"1938-06-12","CSSR","Brasilien",1,1,"n.V.","Bordeaux",null,null,null,null,null,null,null,null,null,"Kuba","Schweden",0,8,null,2,3]
[null,null,null,null,null,1,1,null,null,null,null,null,null,null,null,null,null,null,"Schweiz","Ungarn",0,2,null,2,3]
[null,null,null,null,null,"(0","1)"]
[null,null,"1938-06-12","Kuba","Schweden",0,8,null,"Antibes"]
[null,null,null,null,null,"(0","4)"]
[null,null,"1938-06-12","Schweiz","Ungarn",0,2,null,"Lille"]
[null,null,null,null,null,"(0","1)"]
[]
[]
[null,null,null,null,null,"Wiederholungsspiel:"]
[]
[null,null,"1938-06-14","CSSR","Brasilien",1,2,null,"Bordeaux",null,null,null,null,null,null,null,null,null,"CSSR","Brasilien",1,2,null,{"$f":"(IF(U56>V56,3,IF(U56=V56,1,2)))","v":2},{"$f":"(IF(V56>U56,3,IF(U56=V56,1,2)))","v":3}]
[null,null,null,null,null,"(1","0)"]
[]
[]
[null,null,null,null,null,"Halbfinale:"]
[]
[null,null,"1938-06-16","Italien","Brasilien",2,1,null,"Marseille",null,null,null,null,null,null,null,null,null,"Italien","Brasilien",2,1,null,{"$f":"(IF(U62>V62,3,IF(U62=V62,1,2)))","v":3},{"$f":"(IF(V62>U62,3,IF(U62=V62,1,2)))","v":2}]
[null,null,null,null,null,"(0","0)",null,null,null,null,null,null,null,null,null,null,null,"Schweden","Ungarn",1,5,null,2,3]
[null,null,"1938-06-16","Schweden","Ungarn",1,5,null,"Paris"]
[null,null,null,null,null,"(1","3)"]
[]
[]
[null,null,"Spiel um Platz 3 am 19. Juni 1938 in Bordeaux"]
[null,null,null,null,"Brasilien","---","Schweden",null,null,null,null,null,null,null,null,null,null,null,"Brasilien","Schweden",4,2,null,{"$f":"(IF(U69>V69,3,IF(U69=V69,1,2)))","v":3},{"$f":"(IF(V69>U69,3,IF(U69=V69,1,2)))","v":2}]
[null,null,null,null,4,null,2]
[null,null,null,null,"(1",null,"2)"]
[]
[]
[]
[]
[null,null,"Endspiel am 19. Juni 1938 in Colombes (bei Paris)"]
[null,null,null,null,"Italien","---","Ungarn",null,null,null,null,null,null,null,null,null,null,null,"Italien","Ungarn",4,2,null,{"$f":"(IF(U77>V77,3,IF(U77=V77,1,2)))","v":3},{"$f":"(IF(V77>U77,3,IF(U77=V77,1,2)))","v":2}]
[null,null,null,null,4,null,2]
[null,null,null,null,"(3",null,"1)"]
[]
[]
[]
[]
[null,"Nation","Spiele","gew","unent","verl","Tore+","Tore-","Punkte+","Punkte-"]
[null,"Italien",{"$f":"COUNTIF($S$12:$T$77,\"Italien\")","v":4},{"$f":"SUMPRODUCT(($S$12:$T$77=B85)*($X$12:$Y$77=3))","v":4},{"$f":"SUMPRODUCT(($S$12:$T$77=B85)*($X$12:$Y$77=1))","v":0},{"$f":"SUMPRODUCT(($S$12:$T$77=B85)*($X$12:$Y$77=2))","v":0},{"$f":"SUMPRODUCT(($S$12:$S$77=B85)*($U$12:$U$77))+SUMPRODUCT(($T$12:$T$77=B85)*($V$12:$V$77))","v":11},{"$f":"SUMPRODUCT(($S$12:$S$77=B85)*($V$12:$V$77))+SUMPRODUCT(($T$12:$T$77=B85)*($U$12:$U$77))","v":5},{"$f":"(D85*2)+E85","v":8},{"$f":"(F85*2)+E85","v":0}]
[null,"Brasilien",{"$f":"COUNTIF($S$12:$T$77,\"Brasilien\")","v":5},3,1,1,14,11,7,3]
[null,"Ungarn",{"$f":"COUNTIF($S$12:$T$77,\"Ungarn\")","v":4},3,0,1,15,5,6,2]
[null,"CSSR",{"$f":"COUNTIF($S$12:$T$77,\"CSSR\")","v":3},1,1,1,5,3,3,3]
[null,"Schweiz",{"$f":"COUNTIF($S$12:$T$77,\"Schweiz\")","v":3},1,1,1,5,5,3,3]
[null,"Kuba",{"$f":"COUNTIF($S$12:$T$77,\"Kuba\")","v":3},1,1,1,5,12,3,3]
[null,"Frankreich",{"$f":"COUNTIF($S$12:$T$77,\"Frankreich\")","v":2},1,0,1,4,4,2,2]
[null,"Schweden",{"$f":"COUNTIF($S$12:$T$77,\"Schweden\")","v":3},1,0,2,11,9,2,4]
[null,"Rumänien",{"$f":"COUNTIF($S$12:$T$77,\"Rumänien\")","v":2},0,1,1,4,5,1,3]
[null,"Dtsch. Reich",{"$f":"COUNTIF($S$12:$T$77,\"Dtsch. Reich\")","v":2},0,1,1,3,5,1,3]
[null,"Polen",{"$f":"COUNTIF($S$12:$T$77,\"Polen\")","v":1},0,0,1,5,6,0,2]
[null,"Norwegen",{"$f":"COUNTIF($S$12:$T$77,\"Norwegen\")","v":1},0,0,1,1,2,0,2]
[null,"Belgien",{"$f":"COUNTIF($S$12:$T$77,\"Belgien\")","v":1},0,0,1,1,3,0,2]
[null,"Niederlande",{"$f":"COUNTIF($S$12:$T$77,\"Niederlande\")","v":1},0,0,1,0,3,0,2]
[null,"Niederl.-Indien",{"$f":"COUNTIF($S$12:$T$77,\"Niederl.-Indien\")","v":1},0,0,1,0,6,0,2]

{"sheet":"Gesamt","index":3,"n_rows":23,"n_cols":48,"rows_kept":23,"cut":false,"hidden":false,"merged":[[2,4,2,6],[2,7,2,8],[2,10,2,11]]}
[]
["Teilnehmer","Teilnahme","Nation","Spiele","gew","unent","verl","Tore+","Tore-","diff. +/-","Punkte+","Punkte-",null,1930,1934,1938]
[null,"Gesamt",null,null,null,null,null,"Gesamt"]
[1,{"$f":"SUM($N4:$P4)","v":3},"Brasilien",{"$f":"SUM(COUNTIF(INDIRECT(\"\"&$N$2:$P$2&\"!$S$12:$T$100\"),\"Brasilien\"))","v":8},{"$f":"SUM('1930'!D106,'1934'!D90,'1938'!D86)","v":4},{"$f":"SUM('1930'!E106,'1934'!E90,'1938'!E86)","v":1},{"$f":"SUM('1930'!F106,'1934'!F90,'1938'!F86)","v":3},{"$f":"SUM('1930'!G106,'1934'!G90,'1938'!G86)","v":20},{"$f":"SUM('1930'!H106,'1934'!H90,'1938'!H86)","v":16},{"$f":"SUM(H4-I4)","v":4},{"$f":"(E4*2)+F4","v":9},{"$f":"(G4*2)+F4","v":7},null,{"$f":"COUNTIF('1930'!$AA$1:$AA$100,\"Brasilien\")","v":1},{"$f":"COUNTIF('1934'!$AA$1:$AA$100,\"Brasilien\")","v":1},{"$f":"COUNTIF('1938'!$AA$1:$AA$100,\"Brasilien\")","v":1},null,null,null,null,null,null,null,null,null,null,null,null,null,null,null,null,null,null,null,null,null,null,null,null,null,null,null,2018,null,2022,null,2026]
[2,{"$f":"SUM($N5:$P5)","v":0},"BRD",{"$f":"SUM(COUNTIF(INDIRECT(\"\"&$N$2:$P$2&\"!$S$12:$T$100\"),\"BRD\"))","v":0},{"$f":"SUM(0)","v":0},{"$f":"SUM(0)","v":0},0,0,0,{"$f":"SUM(H5-I5)","v":0},0,0,null,{"$f":"COUNTIF('1930'!$AA$1:$AA$100,\"BRD\")","v":0},{"$f":"COUNTIF('1934'!$AA$1:$AA$100,\"BRD\")","v":0},{"$f":"COUNTIF('1938'!$AA$1:$AA$100,\"BRD\")","v":0}]
[3,{"$f":"SUM($N6:$P6)","v":2},"Italien",{"$f":"SUM(COUNTIF(INDIRECT(\"\"&$N$2:$P$2&\"!$S$12:$T$100\"),\"Italien\"))","v":9},{"$f":"SUM('1934'!D76,'1938'!D85)","v":8},{"$f":"SUM('1934'!E76,'1938'!E85)","v":1},{"$f":"SUM('1934'!F76,'1938'!F85)","v":0},{"$f":"SUM('1934'!G76,'1938'!G85)","v":23},{"$f":"SUM('1934'!H76,'1938'!H85)","v":8},15,17,1,null,{"$f":"COUNTIF('1930'!$AA$1:$AA$100,\"Italien\")","v":0},{"$f":"COUNTIF('1934'!$AA$1:$AA$100,\"Italien\")","v":1},{"$f":"COUNTIF('1938'!$AA$1:$AA$100,\"Italien\")","v":1},null,null,null,null,null,null,null,null,null,null,null,null,null,null,null,null,null,null,null,null,null,null,null,null,null,null,null,"Russland",null,"Katar",null,"Mexiko"]
[4,{"$f":"SUM($N7:$P7)","v":2},"Argentinien",{"$f":"SUM(COUNTIF(INDIRECT(\"\"&$N$2:$P$2&\"!$S$12:$T$100\"),\"Argentinien\"))","v":6},{"$f":"SUM('1930'!D102,'1934'!D86)","v":4},{"$f":"SUM('1930'!E102,'1934'!E86)","v":0},{"$f":"SUM('1930'!F102,'1934'!F86)","v":2},{"$f":"SUM('1930'!G102,'1934'!G86)","v":20},{"$f":"SUM('1930'!H102,'1934'!H86)","v":12},8,8,4,null,{"$f":"COUNTIF('1930'!$AA$1:$AA$100,\"Argentinien\")","v":1},{"$f":"COUNTIF('1934'!$AA$1:$AA$100,\"Argentinien\")","v":1},{"$f":"COUNTIF('1938'!$AA$1:$AA$100,\"Argentinien\")","v":0},null,null,null,null,null,null,null,null,null,null,null,null,null,null,null,null,null,null,null,null,null,null,null,null,null,null,null,"Saudi-Arabien",null,"Ecuador",null,"Südafrika"]
[5,1,"Spanien",{"$f":"SUM(COUNTIF(INDIRECT(\"\"&$N$2:$P$2&\"!$S$12:$T$100\"),\"Spanien\"))","v":3},{"$f":"SUM('1934'!D80)","v":1},{"$f":"SUM('1934'!E80)","v":1},{"$f":"SUM('1934'!F80)","v":1},{"$f":"SUM('1934'!G80)","v":4},{"$f":"SUM('1934'!H80)","v":3},1,3,3,null,{"$f":"COUNTIF('1930'!$AA$1:$AA$100,\"Spanien\")","v":0},{"$f":"COUNTIF('1934'!$AA$1:$AA$100,\"Spanien\")","v":1},{"$f":"COUNTIF('1938'!$AA$1:$AA$100,\"Spanien\")","v":0},null,null,null,null,null,null,null,null,null,null,null,null,null,null,null,null,null,null,null,null,null,null,null,null,null,null,null,"Ägypten",null,"Senegal",null,"Südkorea"]
[6,2,"Niederlande",{"$f":"SUM(COUNTIF(INDIRECT(\"\"&$N$2:$P$2&\"!$S$12:$T$100\"),\"Niederlande\"))","v":2},{"$f":"SUM(#REF!,#REF!)","v":{"$error":"#REF!"}},{"$f":"SUM(#REF!,#REF!)","v":{"$error":"#REF!"}},{"$f":"SUM(#REF!,#REF!)","v":{"$error":"#REF!"}},{"$f":"SUM(#REF!,#REF!)","v":{"$error":"#REF!"}},{"$f":"SUM(#REF!,#REF!)","v":{"$error":"#REF!"}},{"$error":"#REF!"},{"$error":"#REF!"},{"$error":"#REF!"},null,{"$f":"COUNTIF('1930'!$AA$1:$AA$100,\"Niederlande\")","v":0},{"$f":"COUNTIF('1934'!$AA$1:$AA$100,\"Niederlande\")","v":1},{"$f":"COUNTIF('1938'!$AA$1:$AA$100,\"Niederlande\")","v":1},null,null,null,null,null,null,null,null,null,null,null,null,null,null,null,null,null,null,null,null,null,null,null,null,null,null,null,"Uruguay",null,"Niederlande",null,"Tschechien"]
[7,3,"Frankreich",{"$f":"SUM(COUNTIF(INDIRECT(\"\"&$N$2:$P$2&\"!$S$12:$T$100\"),\"Frankreich\"))","v":6},{"$f":"SUM(0)","v":0},{"$f":"SUM(0)","v":0},0,0,0,0,0,0,null,{"$f":"COUNTIF('1930'!$AA$1:$AA$100,\"Frankreich\")","v":1},{"$f":"COUNTIF('1934'!$AA$1:$AA$100,\"Frankreich\")","v":1},{"$f":"COUNTIF('1938'!$AA$1:$AA$100,\"Frankreich\")","v":1},null,null,null,null,null,null,null,null,null,null,null,null,null,null,null,null,null,null,null,null,null,null,null,null,null,null,null,"Marokko",null,"England",null,"Kanada"]
[8,0,"England",{"$f":"SUM(COUNTIF(INDIRECT(\"\"&$N$2:$P$2&\"!$S$12:$T$100\"),\"England\"))","v":0},0,0,0,0,0,0,0,0,null,{"$f":"COUNTIF('1930'!$AA$1:$AA$100,\"England\")","v":0},{"$f":"COUNTIF('1934'!$AA$1:$AA$100,\"England\")","v":0},{"$f":"COUNTIF('1938'!$AA$1:$AA$100,\"England\")","v":0},null,null,null,null,null,null,null,null,null,null,null,null,null,null,null,null,null,null,null,null,null,null,null,null,null,null,null,"Iran",null,"Iran",null,"Bos u. Herz"]
[9,1,"Uruguay",{"$f":"SUM(COUNTIF(INDIRECT(\"\"&$N$2:$P$2&\"!$S$12:$T$100\"),\"Uruguay\"))","v":4},0,0,0,0,0,0,0,0,null,{"$f":"COUNTIF('1930'!$AA$1:$AA$100,\"Uruguay\")","v":1},{"$f":"COUNTIF('1934'!$AA$1:$AA$100,\"Uruguay\")","v":0},{"$f":"COUNTIF('1938'!$AA$1:$AA$100,\"Uruguay\")","v":0},null,null,null,null,null,null,null,null,null,null,null,null,null,null,null,null,null,null,null,null,null,null,null,null,null,null,null,"Portugal",null,"USA",null,"Katar"]
[10,2,"Schweden",{"$f":"SUM(COUNTIF(INDIRECT(\"\"&$N$2:$P$2&\"!$S$12:$T$100\"),\"Schweden\"))","v":5},0,0,0,0,0,0,0,0,null,{"$f":"COUNTIF('1930'!$AA$1:$AA$100,\"Schweden\")","v":0},{"$f":"COUNTIF('1934'!$AA$1:$AA$100,\"Schweden\")","v":1},{"$f":"COUNTIF('1938'!$AA$1:$AA$100,\"Schweden\")","v":1},null,null,null,null,null,null,null,null,null,null,null,null,null,null,null,null,null,null,null,null,null,null,null,null,null,null,null,"Spanien",null,"Wales",null,"Schweiz"]
[11,1,"Mexiko",{"$f":"SUM(COUNTIF(INDIRECT(\"\"&$N$2:$P$2&\"!$S$12:$T$100\"),\"Mexiko\"))","v":3},0,0,0,0,0,0,0,0,null,{"$f":"COUNTIF('1930'!$AA$1:$AA$100,\"Mexiko\")","v":1},{"$f":"COUNTIF('1934'!$AA$1:$AA$100,\"Mexiko\")","v":0},{"$f":"COUNTIF('1938'!$AA$1:$AA$100,\"Mexiko\")","v":0},null,null,null,null,null,null,null,null,null,null,null,null,null,null,null,null,null,null,null,null,null,null,null,null,null,null,null,"Frankreich",null,"Argentinien",null,"USA"]
[12,3,"Belgien",{"$f":"SUM(COUNTIF(INDIRECT(\"\"&$N$2:$P$2&\"!$S$12:$T$100\"),\"Belgien\"))","v":4},0,0,0,0,0,0,0,0,null,{"$f":"COUNTIF('1930'!$AA$1:$AA$100,\"Belgien\")","v":1},{"$f":"COUNTIF('1934'!$AA$1:$AA$100,\"Belgien\")","v":1},{"$f":"COUNTIF('1938'!$AA$1:$AA$100,\"Belgien\")","v":1},null,null,null,null,null,null,null,null,null,null,null,null,null,null,null,null,null,null,null,null,null,null,null,null,null,null,null,"Australien",null,"Saudi-Arabien",null,"Paraguay"]
[13,0,"Portugal",{"$f":"SUM(COUNTIF(INDIRECT(\"\"&$N$2:$P$2&\"!$S$12:$T$100\"),\"Portugal\"))","v":0},0,0,0,0,0,0,0,0,null,{"$f":"COUNTIF('1930'!$AA$1:$AA$100,\"Portugal\")","v":0},{"$f":"COUNTIF('1934'!$AA$1:$AA$100,\"Portugal\")","v":0},{"$f":"COUNTIF('1938'!$AA$1:$AA$100,\"Portugal\")","v":0},null,null,null,null,null,null,null,null,null,null,null,null,null,null,null,null,null,null,null,null,null,null,null,null,null,null,null,"Peru",null,"Mexiko",null,"Australien"]
[14,1,"Jugoslawien",{"$f":"SUM(COUNTIF(INDIRECT(\"\"&$N$2:$P$2&\"!$S$12:$T$100\"),\"Jugoslawien\"))","v":3},0,0,0,0,0,0,0,0,null,{"$f":"COUNTIF('1930'!$AA$1:$AA$100,\"Jugoslawien\")","v":1},{"$f":"COUNTIF('1934'!$AA$1:$AA$100,\"Jugoslawien\")","v":0},{"$f":"COUNTIF('1938'!$AA$1:$AA$100,\"Jugoslawien\")","v":0},null,null,null,null,null,null,null,null,null,null,null,null,null,null,null,null,null,null,null,null,null,null,null,null,null,null,null,"Dänemark",null,"Polen",null,"Türkei"]
[15,1,"Polen",{"$f":"SUM(COUNTIF(INDIRECT(\"\"&$N$2:$P$2&\"!$S$12:$T$100\"),\"Polen\"))","v":1},0,0,0,0,0,0,0,0,null,{"$f":"COUNTIF('1930'!$AA$1:$AA$100,\"Polen\")","v":0},{"$f":"COUNTIF('1934'!$AA$1:$AA$100,\"Polen\")","v":0},{"$f":"COUNTIF('1938'!$AA$1:$AA$100,\"Polen\")","v":1},null,null,null,null,null,null,null,null,null,null,null,null,null,null,null,null,null,null,null,null,null,null,null,null,null,null,null,"Argentinien",null,"Dänemark",null,"BRD"]
[16,2,"Schweiz",{"$f":"SUM(COUNTIF(INDIRECT(\"\"&$N$2:$P$2&\"!$S$12:$T$100\"),\"Schweiz\"))","v":5},0,0,0,0,0,0,0,0,null,{"$f":"COUNTIF('1930'!$AA$1:$AA$100,\"Schweiz\")","v":0},{"$f":"COUNTIF('1934'!$AA$1:$AA$100,\"Schweiz\")","v":1},{"$f":"COUNTIF('1938'!$AA$1:$AA$100,\"Schweiz\")","v":1},null,null,null,null,null,null,null,null,null,null,null,null,null,null,null,null,null,null,null,null,null,null,null,null,null,null,null,"Island",null,"Tunesien",null,"Curaçao"]
[17,0,"UdSSR",{"$f":"SUM(COUNTIF(INDIRECT(\"\"&$N$2:$P$2&\"!$S$12:$T$100\"),\"UdSSR\"))","v":0},0,0,0,0,0,0,0,0,null,{"$f":"COUNTIF('1930'!$AA$1:$AA$100,\"UdSSR\")","v":0},{"$f":"COUNTIF('1934'!$AA$1:$AA$100,\"UdSSR\")","v":0},{"$f":"COUNTIF('1938'!$AA$1:$AA$100,\"UdSSR\")","v":0},null,null,null,null,null,null,null,null,null,null,null,null,null,null,null,null,null,null,null,null,null,null,null,null,null,null,null,"Kroatien",null,"Frankreich",null,"Elfenbeinküste"]
[18,2,"Ungarn",{"$f":"SUM(COUNTIF(INDIRECT(\"\"&$N$2:$P$2&\"!$S$12:$T$100\"),\"Ungarn\"))","v":6},0,0,0,0,0,0,0,0,null,{"$f":"COUNTIF('1930'!$AA$1:$AA$100,\"Ungarn\")","v":0},{"$f":"COUNTIF('1934'!$AA$1:$AA$100,\"Ungarn\")","v":1},{"$f":"COUNTIF('1938'!$AA$1:$AA$100,\"Ungarn\")","v":1},null,null,null,null,null,null,null,null,null,null,null,null,null,null,null,null,null,null,null,null,null,null,null,null,null,null,null,"Nigeria",null,"Australien",null,"Ecuador"]
[19,1,"Chile",{"$f":"SUM(COUNTIF(INDIRECT(\"\"&$N$2:$P$2&\"!$S$12:$T$100\"),\"Chile\"))","v":3},0,0,0,0,0,0,0,0,null,{"$f":"COUNTIF('1930'!$AA$1:$AA$100,\"Chile\")","v":1},{"$f":"COUNTIF('1934'!$AA$1:$AA$100,\"Chile\")","v":0},{"$f":"COUNTIF('1938'!$AA$1:$AA$100,\"Chile\")","v":0},null,null,null,null,null,null,null,null,null,null,null,null,null,null,null,null,null,null,null,null,null,null,null,null,null,null,null,"Costa Rica",null,"BRD",null,"Niederlande"]
[20,1,"Paraguay",{"$f":"SUM(COUNTIF(INDIRECT(\"\"&$N$2:$P$2&\"!$S$12:$T$100\"),\"Paraguay\"))","v":2},0,0,0,0,0,0,0,0,null,{"$f":"COUNTIF('1930'!$AA$1:$AA$100,\"Paraguay\")","v":1},{"$f":"COUNTIF('1934'!$AA$1:$AA$100,\"Paraguay\")","v":0},{"$f":"COUNTIF('1938'!$AA$1:$AA$100,\"Paraguay\")","v":0},null,null,null,null,null,null,null,null,null,null,null,null,null,null,null,null,null,null,null,null,null,null,null,null,null,null,null,"Serbien",null,"Japan",null,"Japan"]