{"text_format":"1","workbook":"xlsx","n_sheets":7,"sheets":["1986","1990","1994","1998","2002","Gesamt","Tabelle1"],"not_rendered":{"charts":0,"images":0,"macros":1,"external_links":1,"defined_names":0,"comments":0,"pivot_tables":0},"unopened":[],"bounds":{"document_bytes":16777216,"sheet_cells":100000,"rows_first":2000,"rows_last":500,"rows_between":2000,"halvings":0,"cell_chars":16384,"cell_head_chars":4096},"cells_cut":0,"cells_raw":0,"read":"whole","date_system":"1900"}

{"sheet":"1986","index":0,"n_rows":239,"n_cols":27,"rows_kept":239,"cut":false,"hidden":false,"merged":[[1,0,1,10],[3,0,3,10],[4,0,4,10],[197,2,197,8],[206,2,206,8]]}
[null,null,null,null,null,null,null,null,null,null,null,null,null,null,null,null,null,null,1,2,3,4,5,6,7]
["13. WM 1986 in Mexiko"]
[]
["31. Mai-29. Juni 1986"]
["Teilnehmende Nationen: 24 --- Bewerbungen: 121"]
[]
[]
[]
[]
[null,null,null,null,null,"Gruppe A"]
[]
[null,null,"1986-05-31","Bulgarien","Italien",1,1,null,"Mexiko-Stadt (Aztekenstadion)",null,null,null,null,null,null,null,null,null,"Bulgarien","Italien",1,1,null,{"$f":"(IF(U12>V12,3,IF(U12=V12,1,2)))","v":1},{"$f":"(IF(V12>U12,3,IF(U12=V12,1,2)))","v":1},null,"Argentinien"]
[null,null,null,null,null,"(0","1)",null,null,null,null,null,null,null,null,null,null,null,"Argentinien","Südkorea",3,1,null,3,2,null,"Frankreich"]
[null,null,"1986-06-02","Argentinien","Südkorea",3,1,null,"Mexiko-Stadt (Olympiastadion)",null,null,null,null,null,null,null,null,null,"Italien","Argentinien",1,1,null,1,1,null,"BRD"]
[null,null,null,null,null,"(2","0)",null,null,null,null,null,null,null,null,null,null,null,"Südkorea","Bulgarien",1,1,null,1,1,null,"Brasilien"]
[null,null,"1986-06-05","Italien","Argentinien",1,1,null,"Puebla",null,null,null,null,null,null,null,null,null,"Südkorea","Italien",2,3,null,2,3,null,"Mexiko"]
[null,null,null,null,null,"(1","1)",null,null,null,null,null,null,null,null,null,null,null,"Argentinien","Bulgarien",2,0,null,3,2,null,"Belgien"]
[null,null,"1986-06-05","Südkorea","Bulgarien",1,1,null,"Mexiko-Stadt (Olympiastadion)",null,null,null,null,null,null,null,null,null,null,null,null,null,null,null,null,null,"Dänemark"]
[null,null,null,null,null,"(0","1)",null,null,null,null,null,null,null,null,null,null,null,null,null,null,null,null,null,null,null,"Spanien"]
[null,null,"1986-06-10","Südkorea","Italien",2,3,null,"Puebla",null,null,null,null,null,null,null,null,null,null,null,null,null,null,null,null,null,"UdSSR"]
[null,null,null,null,null,"(0","1)",null,null,null,null,null,null,null,null,null,null,null,null,null,null,null,null,null,null,null,"England"]
[null,null,"1986-06-10","Argentinien","Bulgarien",2,0,null,"Mexiko-Stadt (Olympiastadion)",null,null,null,null,null,null,null,null,null,null,null,null,null,null,null,null,null,"Italien"]
[null,null,null,null,null,"(1","0)",null,null,null,null,null,null,null,null,null,null,null,null,null,null,null,null,null,null,null,"Paraguay"]
[null,null,null,null,null,null,null,null,null,null,null,null,null,null,null,null,null,null,null,null,null,null,null,null,null,null,"Marokko"]
[null,null,"Spiele","gew","unent","verl","Tore+","Tore-","Punkte+","Punkte-",null,null,null,null,null,null,null,null,null,null,null,null,null,null,null,null,"Polen"]
[null,"Argentinien",{"$f":"COUNTIF($S$12:$T$17,\"Argentinien\")","v":3},{"$f":"SUMPRODUCT(($S$12:$T$17=B26)*($X$12:$Y$17=3))","v":2},{"$f":"SUMPRODUCT(($S$12:$T$17=B26)*($X$12:$Y$17=1))","v":1},{"$f":"SUMPRODUCT(($S$12:$T$17=B26)*($X$12:$Y$17=2))","v":0},{"$f":"SUMPRODUCT(($S$12:$S$17=B26)*($U$12:$U$17))+SUMPRODUCT(($T$12:$T$17=B26)*($V$12:$V$17))","v":6},{"$f":"SUMPRODUCT(($S$12:$S$17=B26)*($V$12:$V$17))+SUMPRODUCT(($T$12:$T$17=B26)*($U$12:$U$17))","v":2},{"$f":"(D26*2)+E26","v":5},{"$f":"(F26*2)+E26","v":1},null,null,null,null,null,null,null,null,null,null,null,null,null,null,null,null,"Portugal"]
[null,"Italien",{"$f":"COUNTIF($S$12:$T$17,\"Italien\")","v":3},{"$f":"SUMPRODUCT(($S$12:$T$17=B27)*($X$12:$Y$17=3))","v":1},{"$f":"SUMPRODUCT(($S$12:$T$17=B27)*($X$12:$Y$17=1))","v":2},{"$f":"SUMPRODUCT(($S$12:$T$17=B27)*($X$12:$Y$17=2))","v":0},{"$f":"SUMPRODUCT(($S$12:$S$17=B27)*($U$12:$U$17))+SUMPRODUCT(($T$12:$T$17=B27)*($V$12:$V$17))","v":5},{"$f":"SUMPRODUCT(($S$12:$S$17=B27)*($V$12:$V$17))+SUMPRODUCT(($T$12:$T$17=B27)*($U$12:$U$17))","v":4},{"$f":"(D27*2)+E27","v":4},{"$f":"(F27*2)+E27","v":2},null,null,null,null,null,null,null,null,null,null,null,null,null,null,null,null,"Ungarn"]
[null,"Bulgarien",{"$f":"COUNTIF($S$12:$T$17,\"Bulgarien\")","v":3},{"$f":"SUMPRODUCT(($S$12:$T$17=B28)*($X$12:$Y$17=3))","v":0},{"$f":"SUMPRODUCT(($S$12:$T$17=B28)*($X$12:$Y$17=1))","v":2},{"$f":"SUMPRODUCT(($S$12:$T$17=B28)*($X$12:$Y$17=2))","v":1},{"$f":"SUMPRODUCT(($S$12:$S$17=B28)*($U$12:$U$17))+SUMPRODUCT(($T$12:$T$17=B28)*($V$12:$V$17))","v":2},{"$f":"SUMPRODUCT(($S$12:$S$17=B28)*($V$12:$V$17))+SUMPRODUCT(($T$12:$T$17=B28)*($U$12:$U$17))","v":4},{"$f":"(D28*2)+E28","v":2},{"$f":"(F28*2)+E28","v":4},null,null,null,null,null,null,null,null,null,null,null,null,null,null,null,null,"Bulgarien"]
[null,"Südkorea",{"$f":"COUNTIF($S$12:$T$17,\"Südkorea\")","v":3},{"$f":"SUMPRODUCT(($S$12:$T$17=B29)*($X$12:$Y$17=3))","v":0},{"$f":"SUMPRODUCT(($S$12:$T$17=B29)*($X$12:$Y$17=1))","v":1},{"$f":"SUMPRODUCT(($S$12:$T$17=B29)*($X$12:$Y$17=2))","v":2},{"$f":"SUMPRODUCT(($S$12:$S$17=B29)*($U$12:$U$17))+SUMPRODUCT(($T$12:$T$17=B29)*($V$12:$V$17))","v":4},{"$f":"SUMPRODUCT(($S$12:$S$17=B29)*($V$12:$V$17))+SUMPRODUCT(($T$12:$T$17=B29)*($U$12:$U$17))","v":7},{"$f":"(D29*2)+E29","v":1},{"$f":"(F29*2)+E29","v":5},null,null,null,null,null,null,null,null,null,null,null,null,null,null,null,null,"Uruguay"]
[null,null,null,null,null,null,null,null,null,null,null,null,null,null,null,null,null,null,null,null,null,null,null,null,null,null,"Südkorea"]
[null,null,null,null,null,null,null,null,null,null,null,null,null,null,null,null,null,null,null,null,null,null,null,null,null,null,"Nordirland"]
[null,null,null,null,null,"Gruppe B",null,null,null,null,null,null,null,null,null,null,null,null,null,null,null,null,null,null,null,null,"Schottland"]
[null,null,null,null,null,null,null,null,null,null,null,null,null,null,null,null,null,null,null,null,null,null,null,null,null,null,"Algerien"]
[null,null,"1986-06-03","Belgien","Mexiko",1,2,null,"Mexiko-Stadt (Aztekenstadion)",null,null,null,null,null,null,null,null,null,"Belgien","Mexiko",1,2,null,{"$f":"(IF(U34>V34,3,IF(U34=V34,1,2)))","v":2},{"$f":"(IF(V34>U34,3,IF(U34=V34,1,2)))","v":3},null,"Irak"]
[null,null,null,null,null,"(1","2)",null,null,null,null,null,null,null,null,null,null,null,"Paraguay","Irak",1,0,null,3,2,null,"Kanada"]
[null,null,"1986-06-04","Paraguay","Irak",1,0,null,"Toluca",null,null,null,null,null,null,null,null,null,"Mexiko","Paraguay",1,1,null,1,1]
[null,null,null,null,null,"(1","0)",null,null,null,null,null,null,null,null,null,null,null,"Irak","Belgien",1,2,null,2,3]
[null,null,"1986-06-07","Mexiko","Paraguay",1,1,null,"Mexiko-Stadt (Aztekenstadion)",null,null,null,null,null,null,null,null,null,"Irak","Mexiko",0,1,null,2,3]
[null,null,null,null,null,"(1","0)",null,null,null,null,null,null,null,null,null,null,null,"Paraguay","Belgien",2,2,null,{"$f":"(IF(U39>V39,3,IF(U39=V39,1,2)))","v":1},{"$f":"(IF(V39>U39,3,IF(U39=V39,1,2)))","v":1}]
[null,null,"1986-06-08","Irak","Belgien",1,2,null,"Toluca"]
[null,null,null,null,null,"(0","2)"]
[null,null,"1986-06-11","Irak","Mexiko",0,1,null,"Mexiko-Stadt (Aztekenstadion)"]
[null,null,null,null,null,"(0","0)"]
[null,null,"1986-06-11","Paraguay","Belgien",2,2,null,"Toluca"]
[null,null,null,null,null,"(0","1)"]
[]
[null,null,"Spiele","gew","unent","verl","Tore+","Tore-","Punkte+","Punkte-"]
[null,"Mexiko",{"$f":"COUNTIF($S$34:$T$39,\"Mexiko\")","v":3},{"$f":"SUMPRODUCT(($S$34:$T$39=B48)*($X$34:$Y$39=3))","v":2},{"$f":"SUMPRODUCT(($S$34:$T$39=B48)*($X$34:$Y$39=1))","v":1},{"$f":"SUMPRODUCT(($S$34:$T$39=B48)*($X$34:$Y$39=2))","v":0},{"$f":"SUMPRODUCT(($S$34:$S$39=B48)*($U$34:$U$39))+SUMPRODUCT(($T$34:$T$39=B48)*($V$34:$V$39))","v":4},{"$f":"SUMPRODUCT(($S$34:$S$39=B48)*($V$34:$V$39))+SUMPRODUCT(($T$34:$T$39=B48)*($U$34:$U$39))","v":2},{"$f":"(D48*2)+E48","v":5},{"$f":"(F48*2)+E48","v":1}]
[null,"Paraguay",{"$f":"COUNTIF($S$34:$T$39,\"Paraguay\")","v":3},{"$f":"SUMPRODUCT(($S$34:$T$39=B49)*($X$34:$Y$39=3))","v":1},{"$f":"SUMPRODUCT(($S$34:$T$39=B49)*($X$34:$Y$39=1))","v":2},{"$f":"SUMPRODUCT(($S$34:$T$39=B49)*($X$34:$Y$39=2))","v":0},{"$f":"SUMPRODUCT(($S$34:$S$39=B49)*($U$34:$U$39))+SUMPRODUCT(($T$34:$T$39=B49)*($V$34:$V$39))","v":4},{"$f":"SUMPRODUCT(($S$34:$S$39=B49)*($V$34:$V$39))+SUMPRODUCT(($T$34:$T$39=B49)*($U$34:$U$39))","v":3},{"$f":"(D49*2)+E49","v":4},{"$f":"(F49*2)+E49","v":2}]
[null,"Belgien",{"$f":"COUNTIF($S$34:$T$39,\"Belgien\")","v":3},{"$f":"SUMPRODUCT(($S$34:$T$39=B50)*($X$34:$Y$39=3))","v":1},{"$f":"SUMPRODUCT(($S$34:$T$39=B50)*($X$34:$Y$39=1))","v":1},{"$f":"SUMPRODUCT(($S$34:$T$39=B50)*($X$34:$Y$39=2))","v":1},{"$f":"SUMPRODUCT(($S$34:$S$39=B50)*($U$34:$U$39))+SUMPRODUCT(($T$34:$T$39=B50)*($V$34:$V$39))","v":5},{"$f":"SUMPRODUCT(($S$34:$S$39=B50)*($V$34:$V$39))+SUMPRODUCT(($T$34:$T$39=B50)*($U$34:$U$39))","v":5},{"$f":"(D50*2)+E50","v":3},{"$f":"(F50*2)+E50","v":3}]
[null,"Irak",{"$f":"COUNTIF($S$34:$T$39,\"Irak\")","v":3},{"$f":"SUMPRODUCT(($S$34:$T$39=B51)*($X$34:$Y$39=3))","v":0},{"$f":"SUMPRODUCT(($S$34:$T$39=B51)*($X$34:$Y$39=1))","v":0},{"$f":"SUMPRODUCT(($S$34:$T$39=B51)*($X$34:$Y$39=2))","v":3},{"$f":"SUMPRODUCT(($S$34:$S$39=B51)*($U$34:$U$39))+SUMPRODUCT(($T$34:$T$39=B51)*($V$34:$V$39))","v":1},{"$f":"SUMPRODUCT(($S$34:$S$39=B51)*($V$34:$V$39))+SUMPRODUCT(($T$34:$T$39=B51)*($U$34:$U$39))","v":4},{"$f":"(D51*2)+E51","v":0},{"$f":"(F51*2)+E51","v":6}]
[]
[]
[null,null,null,null,null,"Gruppe C"]
[]
[null,null,"1986-06-01","Kanada","Frankreich",0,1,null,"León",null,null,null,null,null,null,null,null,null,"Kanada","Frankreich",0,1,null,{"$f":"(IF(U56>V56,3,IF(U56=V56,1,2)))","v":2},{"$f":"(IF(V56>U56,3,IF(U56=V56,1,2)))","v":3}]
[null,null,null,null,null,"(0","0)",null,null,null,null,null,null,null,null,null,null,null,"UdSSR","Ungarn",6,0,null,3,2]
[null,null,"1986-06-02","UdSSR","Ungarn",6,0,null,"Irapuato",null,null,null,null,null,null,null,null,null,"Frankreich","UdSSR",1,1,null,1,1]
[null,null,null,null,null,"(3","0)",null,null,null,null,null,null,null,null,null,null,null,"Ungarn","Kanada",2,0,null,3,2]
[null,null,"1986-06-05","Frankreich","UdSSR",1,1,null,"León",null,null,null,null,null,null,null,null,null,"Frankreich","Ungarn",3,0,null,3,2]
[null,null,null,null,null,"(0","0)",null,null,null,null,null,null,null,null,null,null,null,"UdSSR","Kanada",2,0,null,3,2]
[null,null,"1986-06-06","Ungarn","Kanada",2,0,null,"Irapuato"]
[null,null,null,null,null,"(1","0)"]
[null,null,"1986-06-09","Frankreich","Ungarn",3,0,null,"León"]
[null,null,null,null,null,"(1","0)"]
[null,null,"1986-06-09","UdSSR","Kanada",2,0,null,"Irapuato"]
[null,null,null,null,null,"(0","0)"]
[]
[null,null,"Spiele","gew","unent","verl","Tore+","Tore-","Punkte+","Punkte-"]
[null,"UdSSR",{"$f":"COUNTIF($S$56:$T$61,\"UdSSR\")","v":3},{"$f":"SUMPRODUCT(($S$56:$T$61=B70)*($X$56:$Y$61=3))","v":2},{"$f":"SUMPRODUCT(($S$56:$T$61=B70)*($X$56:$Y$61=1))","v":1},{"$f":"SUMPRODUCT(($S$56:$T$61=B70)*($X$56:$Y$61=2))","v":0},{"$f":"SUMPRODUCT(($S$56:$S$61=B70)*($U$56:$U$61))+SUMPRODUCT(($T$56:$T$61=B70)*($V$56:$V$61))","v":9},{"$f":"SUMPRODUCT(($S$56:$S$61=B70)*($V$56:$V$61))+SUMPRODUCT(($T$56:$T$61=B70)*($U$56:$U$61))","v":1},{"$f":"(D70*2)+E70","v":5},{"$f":"(F70*2)+E70","v":1}]
[null,"Frankreich",{"$f":"COUNTIF($S$56:$T$61,\"Frankreich\")","v":3},{"$f":"SUMPRODUCT(($S$56:$T$61=B71)*($X$56:$Y$61=3))","v":2},{"$f":"SUMPRODUCT(($S$56:$T$61=B71)*($X$56:$Y$61=1))","v":1},{"$f":"SUMPRODUCT(($S$56:$T$61=B71)*($X$56:$Y$61=2))","v":0},{"$f":"SUMPRODUCT(($S$56:$S$61=B71)*($U$56:$U$61))+SUMPRODUCT(($T$56:$T$61=B71)*($V$56:$V$61))","v":5},{"$f":"SUMPRODUCT(($S$56:$S$61=B71)*($V$56:$V$61))+SUMPRODUCT(($T$56:$T$61=B71)*($U$56:$U$61))","v":1},{"$f":"(D71*2)+E71","v":5},{"$f":"(F71*2)+E71","v":1}]
[null,"Ungarn",{"$f":"COUNTIF($S$56:$T$61,\"Ungarn\")","v":3},{"$f":"SUMPRODUCT(($S$56:$T$61=B72)*($X$56:$Y$61=3))","v":1},{"$f":"SUMPRODUCT(($S$56:$T$61=B72)*($X$56:$Y$61=1))","v":0},{"$f":"SUMPRODUCT(($S$56:$T$61=B72)*($X$56:$Y$61=2))","v":2},{"$f":"SUMPRODUCT(($S$56:$S$61=B72)*($U$56:$U$61))+SUMPRODUCT(($T$56:$T$61=B72)*($V$56:$V$61))","v":2},{"$f":"SUMPRODUCT(($S$56:$S$61=B72)*($V$56:$V$61))+SUMPRODUCT(($T$56:$T$61=B72)*($U$56:$U$61))","v":9},{"$f":"(D72*2)+E72","v":2},{"$f":"(F72*2)+E72","v":4}]
[null,"Kanada",{"$f":"COUNTIF($S$56:$T$61,\"Kanada\")","v":3},{"$f":"SUMPRODUCT(($S$56:$T$61=B73)*($X$56:$Y$61=3))","v":0},{"$f":"SUMPRODUCT(($S$56:$T$61=B73)*($X$56:$Y$61=1))","v":0},{"$f":"SUMPRODUCT(($S$56:$T$61=B73)*($X$56:$Y$61=2))","v":3},{"$f":"SUMPRODUCT(($S$56:$S$61=B73)*($U$56:$U$61))+SUMPRODUCT(($T$56:$T$61=B73)*($V$56:$V$61))","v":0},{"$f":"SUMPRODUCT(($S$56:$S$61=B73)*($V$56:$V$61))+SUMPRODUCT(($T$56:$T$61=B73)*($U$56:$U$61))","v":5},{"$f":"(D73*2)+E73","v":0},{"$f":"(F73*2)+E73","v":6}]
[]
[]
[null,null,null,null,null,"Gruppe D"]
[]
[null,null,"1986-06-01","Spanien","Brasilien",0,1,null,"Guadalajara (Estadio Jalisco)",null,null,null,null,null,null,null,null,null,"Spanien","Brasilien",0,1,null,{"$f":"(IF(U78>V78,3,IF(U78=V78,1,2)))","v":2},{"$f":"(IF(V78>U78,3,IF(U78=V78,1,2)))","v":3}]
[null,null,null,null,null,"(0","0)",null,null,null,null,null,null,null,null,null,null,null,"Algerien","Nordirland",1,1,null,1,1]
[null,null,"1986-06-03","Algerien","Nordirland",1,1,null,"Guadalajara (Tres de Marzo)",null,null,null,null,null,null,null,null,null,"Brasilien","Algerien",1,0,null,3,2]
[null,null,null,null,null,"(0","1)",null,null,null,null,null,null,null,null,null,null,null,"Nordirland","Spanien",1,2,null,2,3]
[null,null,"1986-06-06","Brasilien","Algerien",1,0,null,"Guadalajara (Estadio Jalisco)",null,null,null,null,null,null,null,null,null,"Nordirland","Brasilien",0,3,null,2,3]
[null,null,null,null,null,"(0","0)",null,null,null,null,null,null,null,null,null,null,null,"Algerien","Spanien",0,3,null,2,3]
[null,null,"1986-06-07","Nordirland","Spanien",1,2,null,"Guadalajara (Tres de Marzo)"]
[null,null,null,null,null,"(0","2)"]
[null,null,"1986-06-12","Nordirland","Brasilien",0,3,null,"Guadalajara (Estadio Jalisco)"]
[null,null,null,null,null,"(0","1)"]
[null,null,"1986-06-12","Algerien","Spanien",0,3,null,"Monterrey (Tecnológico)"]
[null,null,null,null,null,"(0","2)"]
[]
[null,null,"Spiele","gew","unent","verl","Tore+","Tore-","Punkte+","Punkte-"]
[null,"Brasilien",{"$f":"COUNTIF($S$78:$T$83,\"Brasilien\")","v":3},{"$f":"SUMPRODUCT(($S$78:$T$83=B92)*($X$78:$Y$83=3))","v":3},{"$f":"SUMPRODUCT(($S$78:$T$83=B92)*($X$78:$Y$83=1))","v":0},{"$f":"SUMPRODUCT(($S$78:$T$83=B92)*($X$78:$Y$83=2))","v":0},{"$f":"SUMPRODUCT(($S$78:$S$83=B92)*($U$78:$U$83))+SUMPRODUCT(($T$78:$T$83=B92)*($V$78:$V$83))","v":5},{"$f":"SUMPRODUCT(($S$78:$S$83=B92)*($V$78:$V$83))+SUMPRODUCT(($T$78:$T$83=B92)*($U$78:$U$83))","v":0},{"$f":"(D92*2)+E92","v":6},{"$f":"(F92*2)+E92","v":0}]
[null,"Spanien",{"$f":"COUNTIF($S$78:$T$83,\"Spanien\")","v":3},{"$f":"SUMPRODUCT(($S$78:$T$83=B93)*($X$78:$Y$83=3))","v":2},{"$f":"SUMPRODUCT(($S$78:$T$83=B93)*($X$78:$Y$83=1))","v":0},{"$f":"SUMPRODUCT(($S$78:$T$83=B93)*($X$78:$Y$83=2))","v":1},{"$f":"SUMPRODUCT(($S$78:$S$83=B93)*($U$78:$U$83))+SUMPRODUCT(($T$78:$T$83=B93)*($V$78:$V$83))","v":5},{"$f":"SUMPRODUCT(($S$78:$S$83=B93)*($V$78:$V$83))+SUMPRODUCT(($T$78:$T$83=B93)*($U$78:$U$83))","v":2},{"$f":"(D93*2)+E93","v":4},{"$f":"(F93*2)+E93","v":2}]
[null,"Nordirland",{"$f":"COUNTIF($S$78:$T$83,\"Nordirland\")","v":3},{"$f":"SUMPRODUCT(($S$78:$T$83=B94)*($X$78:$Y$83=3))","v":0},{"$f":"SUMPRODUCT(($S$78:$T$83=B94)*($X$78:$Y$83=1))","v":1},{"$f":"SUMPRODUCT(($S$78:$T$83=B94)*($X$78:$Y$83=2))","v":2},{"$f":"SUMPRODUCT(($S$78:$S$83=B94)*($U$78:$U$83))+SUMPRODUCT(($T$78:$T$83=B94)*($V$78:$V$83))","v":2},{"$f":"SUMPRODUCT(($S$78:$S$83=B94)*($V$78:$V$83))+SUMPRODUCT(($T$78:$T$83=B94)*($U$78:$U$83))","v":6},{"$f":"(D94*2)+E94","v":1},{"$f":"(F94*2)+E94","v":5}]
[null,"Algerien",{"$f":"COUNTIF($S$78:$T$83,\"Algerien\")","v":3},{"$f":"SUMPRODUCT(($S$78:$T$83=B95)*($X$78:$Y$83=3))","v":0},{"$f":"SUMPRODUCT(($S$78:$T$83=B95)*($X$78:$Y$83=1))","v":1},{"$f":"SUMPRODUCT(($S$78:$T$83=B95)*($X$78:$Y$83=2))","v":2},{"$f":"SUMPRODUCT(($S$78:$S$83=B95)*($U$78:$U$83))+SUMPRODUCT(($T$78:$T$83=B95)*($V$78:$V$83))","v":1},{"$f":"SUMPRODUCT(($S$78:$S$83=B95)*($V$78:$V$83))+SUMPRODUCT(($T$78:$T$83=B95)*($U$78:$U$83))","v":5},{"$f":"(D95*2)+E95","v":1},{"$f":"(F95*2)+E95","v":5}]
[]
[]
[null,null,null,null,null,"Gruppe E"]
[]
[null,null,"1986-06-04","Uruguay","BRD",1,1,null,"Querétaro",null,null,null,null,null,null,null,null,null,"Uruguay","BRD",1,1,null,{"$f":"(IF(U100>V100,3,IF(U100=V100,1,2)))","v":1},{"$f":"(IF(V100>U100,3,IF(U100=V100,1,2)))","v":1}]
[null,null,null,null,null,"(1","0)",null,null,null,null,null,null,null,null,null,null,null,"Schottland","Dänemark",0,1,null,2,3]
[null,null,"1986-06-04","Schottland","Dänemark",0,1,null,"Nezahualcóyotl",null,null,null,null,null,null,null,null,null,"BRD","Schottland",2,1,null,3,2]
[null,null,null,null,null,"(0","0)",null,null,null,null,null,null,null,null,null,null,null,"Dänemark","Uruguay",6,1,null,3,2]
[null,null,"1986-06-08","BRD","Schottland",2,1,null,"Querétaro",null,null,null,null,null,null,null,null,null,"Dänemark","BRD",2,0,null,3,2]
[null,null,null,null,null,"(1","1)",null,null,null,null,null,null,null,null,null,null,null,"Schottland","Uruguay",0,0,null,1,1]
[null,null,"1986-06-08","Dänemark","Uruguay",6,1,null,"Nezahualcóyotl"]
[null,null,null,null,null,"(2","1)"]
[null,null,"1986-06-13","Dänemark","BRD",2,0,null,"Querétaro"]
[null,null,null,null,null,"(1","0)"]
[null,null,"1986-06-13","Schottland","Uruguay",0,0,null,"Nezahualcóyotl"]
[]
[]
[null,null,"Spiele","gew","unent","verl","Tore+","Tore-","Punkte+","Punkte-"]
[null,"Dänemark",{"$f":"COUNTIF($S$100:$T$105,\"Dänemark\")","v":3},{"$f":"SUMPRODUCT(($S$100:$T$105=B114)*($X$100:$Y$105=3))","v":3},{"$f":"SUMPRODUCT(($S$100:$T$105=B114)*($X$100:$Y$105=1))","v":0},{"$f":"SUMPRODUCT(($S$100:$T$105=B114)*($X$100:$Y$105=2))","v":0},{"$f":"SUMPRODUCT(($S$100:$S$105=B114)*($U$100:$U$105))+SUMPRODUCT(($T$100:$T$105=B114)*($V$100:$V$105))","v":9},{"$f":"SUMPRODUCT(($S$100:$S$105=B114)*($V$100:$V$105))+SUMPRODUCT(($T$100:$T$105=B114)*($U$100:$U$105))","v":1},{"$f":"(D114*2)+E114","v":6},{"$f":"(F114*2)+E114","v":0}]
[null,"BRD",{"$f":"COUNTIF($S$100:$T$105,\"BRD\")","v":3},{"$f":"SUMPRODUCT(($S$100:$T$105=B115)*($X$100:$Y$105=3))","v":1},{"$f":"SUMPRODUCT(($S$100:$T$105=B115)*($X$100:$Y$105=1))","v":1},{"$f":"SUMPRODUCT(($S$100:$T$105=B115)*($X$100:$Y$105=2))","v":1},{"$f":"SUMPRODUCT(($S$100:$S$105=B115)*($U$100:$U$105))+SUMPRODUCT(($T$100:$T$105=B115)*($V$100:$V$105))","v":3},{"$f":"SUMPRODUCT(($S$100:$S$105=B115)*($V$100:$V$105))+SUMPRODUCT(($T$100:$T$105=B115)*($U$100:$U$105))","v":4},{"$f":"(D115*2)+E115","v":3},{"$f":"(F115*2)+E115","v":3}]
[null,"Uruguay",{"$f":"COUNTIF($S$100:$T$105,\"Uruguay\")","v":3},{"$f":"SUMPRODUCT(($S$100:$T$105=B116)*($X$100:$Y$105=3))","v":0},{"$f":"SUMPRODUCT(($S$100:$T$105=B116)*($X$100:$Y$105=1))","v":2},{"$f":"SUMPRODUCT(($S$100:$T$105=B116)*($X$100:$Y$105=2))","v":1},{"$f":"SUMPRODUCT(($S$100:$S$105=B116)*($U$100:$U$105))+SUMPRODUCT(($T$100:$T$105=B116)*($V$100:$V$105))","v":2},{"$f":"SUMPRODUCT(($S$100:$S$105=B116)*($V$100:$V$105))+SUMPRODUCT(($T$100:$T$105=B116)*($U$100:$U$105))","v":7},{"$f":"(D116*2)+E116","v":2},{"$f":"(F116*2)+E116","v":4}]
[null,"Schottland",{"$f":"COUNTIF($S$100:$T$105,\"Schottland\")","v":3},{"$f":"SUMPRODUCT(($S$100:$T$105=B117)*($X$100:$Y$105=3))","v":0},{"$f":"SUMPRODUCT(($S$100:$T$105=B117)*($X$100:$Y$105=1))","v":1},{"$f":"SUMPRODUCT(($S$100:$T$105=B117)*($X$100:$Y$105=2))","v":2},{"$f":"SUMPRODUCT(($S$100:$S$105=B117)*($U$100:$U$105))+SUMPRODUCT(($T$100:$T$105=B117)*($V$100:$V$105))","v":1},{"$f":"SUMPRODUCT(($S$100:$S$105=B117)*($V$100:$V$105))+SUMPRODUCT(($T$100:$T$105=B117)*($U$100:$U$105))","v":3},{"$f":"(D117*2)+E117","v":1},{"$f":"(F117*2)+E117","v":5}]
[]
[]
[null,null,null,null,null,"Gruppe F"]
[]
[null,null,"1986-06-02","Marokko","Polen",0,0,null,"Monterrey (Universitario)",null,null,null,null,null,null,null,null,null,"Marokko","Polen",0,0,null,{"$f":"(IF(U122>V122,3,IF(U122=V122,1,2)))","v":1},{"$f":"(IF(V122>U122,3,IF(U122=V122,1,2)))","v":1}]
[null,null,"1986-06-03","Portugal","England",1,0,null,"Monterrey (Tecnológico)",null,null,null,null,null,null,null,null,null,"Portugal","England",1,0,null,3,2]
[null,null,null,null,null,"(0","0)",null,null,null,null,null,null,null,null,null,null,null,"England","Marokko",0,0,null,1,1]
[null,null,"1986-06-06","England","Marokko",0,0,null,"Monterrey (Tecnológico)",null,null,null,null,null,null,null,null,null,"Polen","Portugal",1,0,null,3,2]
[null,null,"1986-06-07","Polen","Portugal",1,0,null,"Monterrey (Universitario)",null,null,null,null,null,null,null,null,null,"Portugal","Marokko",1,3,null,2,3]
[null,null,null,null,null,"(0","0)",null,null,null,null,null,null,null,null,null,null,null,"England","Polen",3,0,null,3,2]
[null,null,"1986-06-11","Portugal","Marokko",1,3,null,"Guadalajara (Estadio Tres de Marzo)"]
[null,null,null,null,null,"(0","2)"]
[null,null,"1986-06-11","England","Polen",3,0,null,"Monterrey (Tecnológico)"]
[null,null,null,null,null,"(3","0)"]
[]
[null,null,"Spiele","gew","unent","verl","Tore+","Tore-","Punkte+","Punkte-"]
[null,"Marokko",{"$f":"COUNTIF($S$122:$T$127,\"Marokko\")","v":3},{"$f":"SUMPRODUCT(($S$122:$T$127=B134)*($X$122:$Y$127=3))","v":1},{"$f":"SUMPRODUCT(($S$122:$T$127=B134)*($X$122:$Y$127=1))","v":2},{"$f":"SUMPRODUCT(($S$122:$T$127=B134)*($X$122:$Y$127=2))","v":0},{"$f":"SUMPRODUCT(($S$122:$S$127=B134)*($U$122:$U$127))+SUMPRODUCT(($T$122:$T$127=B134)*($V$122:$V$127))","v":3},{"$f":"SUMPRODUCT(($S$122:$S$127=B134)*($V$122:$V$127))+SUMPRODUCT(($T$122:$T$127=B134)*($U$122:$U$127))","v":1},{"$f":"(D134*2)+E134","v":4},{"$f":"(F134*2)+E134","v":2}]
[null,"England",{"$f":"COUNTIF($S$122:$T$127,\"England\")","v":3},{"$f":"SUMPRODUCT(($S$122:$T$127=B135)*($X$122:$Y$127=3))","v":1},{"$f":"SUMPRODUCT(($S$122:$T$127=B135)*($X$122:$Y$127=1))","v":1},{"$f":"SUMPRODUCT(($S$122:$T$127=B135)*($X$122:$Y$127=2))","v":1},{"$f":"SUMPRODUCT(($S$122:$S$127=B135)*($U$122:$U$127))+SUMPRODUCT(($T$122:$T$127=B135)*($V$122:$V$127))","v":3},{"$f":"SUMPRODUCT(($S$122:$S$127=B135)*($V$122:$V$127))+SUMPRODUCT(($T$122:$T$127=B135)*($U$122:$U$127))","v":1},{"$f":"(D135*2)+E135","v":3},{"$f":"(F135*2)+E135","v":3}]
[null,"Polen",{"$f":"COUNTIF($S$122:$T$127,\"Polen\")","v":3},{"$f":"SUMPRODUCT(($S$122:$T$127=B136)*($X$122:$Y$127=3))","v":1},{"$f":"SUMPRODUCT(($S$122:$T$127=B136)*($X$122:$Y$127=1))","v":1},{"$f":"SUMPRODUCT(($S$122:$T$127=B136)*($X$122:$Y$127=2))","v":1},{"$f":"SUMPRODUCT(($S$122:$S$127=B136)*($U$122:$U$127))+SUMPRODUCT(($T$122:$T$127=B136)*($V$122:$V$127))","v":1},{"$f":"SUMPRODUCT(($S$122:$S$127=B136)*($V$122:$V$127))+SUMPRODUCT(($T$122:$T$127=B136)*($U$122:$U$127))","v":3},{"$f":"(D136*2)+E136","v":3},{"$f":"(F136*2)+E136","v":3}]
[null,"Portugal",{"$f":"COUNTIF($S$122:$T$127,\"Portugal\")","v":3},{"$f":"SUMPRODUCT(($S$122:$T$127=B137)*($X$122:$Y$127=3))","v":1},{"$f":"SUMPRODUCT(($S$122:$T$127=B137)*($X$122:$Y$127=1))","v":0},{"$f":"SUMPRODUCT(($S$122:$T$127=B137)*($X$122:$Y$127=2))","v":2},{"$f":"SUMPRODUCT(($S$122:$S$127=B137)*($U$122:$U$127))+SUMPRODUCT(($T$122:$T$127=B137)*($V$122:$V$127))","v":2},{"$f":"SUMPRODUCT(($S$122:$S$127=B137)*($V$122:$V$127))+SUMPRODUCT(($T$122:$T$127=B137)*($U$122:$U$127))","v":4},{"$f":"(D137*2)+E137","v":2},{"$f":"(F137*2)+E137","v":4}]
[]
[]
[null,null,null,null,null,"Rangliste der Gruppendritten:"]
[]
[null,"Nation","Spiele","gew","unent","verl","Tore+","Tore-","Punkte+","Punkte-"]
[null,"Belgien",3,1,1,1,5,5,3,3]
[null,"Polen",3,1,1,1,1,3,3,3]
[null,"Bulgarien",3,0,2,1,2,4,2,4]
[null,"Uruguay",3,0,2,1,2,7,2,4]
[null,"Ungarn",3,1,0,2,2,9,2,4]
[null,"Nordirland",3,0,1,2,2,6,1,5]
[]
[]
[null,null,null,null,null,"Achtelfinale:"]
[]
[null,null,"1986-06-15","Mexiko","Bulgarien",2,0,null,"Mexiko-Stadt",null,null,null,null,null,null,null,null,null,"Mexiko","Bulgarien",2,0,null,{"$f":"(IF(U153>V153,3,IF(U153=V153,1,2)))","v":3},{"$f":"(IF(V153>U153,3,IF(U153=V153,1,2)))","v":2}]
[null,null,null,null,null,"(1","0)",null,null,null,null,null,null,null,null,null,null,null,"UdSSR","Belgien",3,4,null,2,3]
[null,null,"1986-06-15","UdSSR","Belgien",3,4,"n.V.","León",null,null,null,null,null,null,null,null,null,"Brasilien","Polen",4,0,null,3,2]
[null,null,null,null,null,2,2,null,null,null,null,null,null,null,null,null,null,null,"Argentinien","Uruguay",1,0,null,3,2]
[null,null,null,null,null,"(1","0)",null,null,null,null,null,null,null,null,null,null,null,"Italien","Frankreich",0,2,null,2,3]
[null,null,"1986-06-16","Brasilien","Polen",4,0,null,"Guadalajara",null,null,null,null,null,null,null,null,null,"Marokko","BRD",0,1,null,2,3]
[null,null,null,null,null,"(1","0)",null,null,null,null,null,null,null,null,null,null,null,"England","Paraguay",3,0,null,3,2]
[null,null,"1986-06-16","Argentinien","Uruguay",1,0,null,"Puebla",null,null,null,null,null,null,null,null,null,"Dänemark","Spanien",1,5,null,2,3]
[null,null,null,null,null,"(1","0)"]
[null,null,"1986-06-17","Italien","Frankreich",0,2,null,"Mexiko-Stadt (Olympiastadion)"]
[null,null,null,null,null,"(0","1)"]
[null,null,"1986-06-17","Marokko","BRD",0,1,null,"Monterrey (Universitario)"]
[null,null,null,null,null,"(0","0)"]
[null,null,"1986-06-18","England","Paraguay",3,0,null,"Mexiko-Stadt"]
[null,null,null,null,null,"(1","0)"]
[null,null,"1986-06-18","Dänemark","Spanien",1,5,null,"Querétaro"]
[null,null,null,null,null,"(1","1)"]
[]
[]
[null,null,null,null,null,"Viertelfinale:"]
[]
[null,null,"1986-06-21","Brasilien","Frankreich",3,4,"n.E.","Guadalajara",null,null,null,null,null,null,null,null,null,"Brasilien","Frankreich",4,5,null,{"$f":"(IF(U174>V174,3,IF(U174=V174,1,2)))","v":2},{"$f":"(IF(V174>U174,3,IF(U174=V174,1,2)))","v":3}]
[null,null,null,null,null,1,1,"n.V.",null,null,null,null,null,null,null,null,null,null,"BRD","Mexiko",4,1,null,3,2]
[null,null,null,null,null,1,1,null,null,null,null,null,null,null,null,null,null,null,"Argentinien","England",2,1,null,3,2]
[null,null,null,null,null,"(1","1)",null,null,null,null,null,null,null,null,null,null,null,"Spanien","Belgien",5,6,null,2,3]
[null,null,"1986-06-21","BRD","Mexiko",4,1,"n.E.","Monterrey (Universitario)"]
[null,null,null,null,null,0,0,"n.V."]
[null,null,null,null,null,0,0]
[null,null,null,null,null,"(0","0)"]
[null,null,"1986-06-22","Argentinien","England",2,1,null,"Mexiko-Stadt"]
[null,null,null,null,null,"(0","0)"]
[null,null,"1986-06-22","Spanien","Belgien",4,5,"n.E.","Puebla"]
[null,null,null,null,null,1,1,"n.V."]
[null,null,null,null,null,1,1]
[null,null,null,null,null,"(0","1)"]
[]
[]
[null,null,null,null,null,"Halbfinale:"]
[]
[null,null,"1986-06-25","Frankreich","BRD",0,2,null,"Guadalajara",null,null,null,null,null,null,null,null,null,"Frankreich","BRD",0,2,null,{"$f":"(IF(U192>V192,3,IF(U192=V192,1,2)))","v":2},{"$f":"(IF(V192>U192,3,IF(U192=V192,1,2)))","v":3}]
[null,null,null,null,null,"(0","1)",null,null,null,null,null,null,null,null,null,null,null,"Argentinien","Belgien",2,0,null,3,2]
[null,null,"1986-06-25","Argentinien","Belgien",2,0,null,"Mexiko-Stadt"]
[null,null,null,null,null,"(0","0)"]
[]
[]
[null,null,"Spiel um Platz 3 am 28. Juli 1986 in Puebla:"]
[null,null,null,null,"Frankreich",null,"Belgien",null,null,null,null,null,null,null,null,null,null,null,"Frankreich","Belgien",4,2,null,{"$f":"(IF(U199>V199,3,IF(U199=V199,1,2)))","v":3},{"$f":"(IF(V199>U199,3,IF(U199=V199,1,2)))","v":2}]
[null,null,null,null,4,null,2,"n.V."]
[null,null,null,null,2,null,2]
[null,null,null,null,"(2",null,"1)"]
[]
[]
[]
[]
[null,null,"Endspiel am 29. Juli 1986 in Mexiko-Stadt"]
[null,null,null,null,"BRD",null,"Argentinien",null,null,null,null,null,null,null,null,null,null,null,"BRD","Argentinien",2,3,null,2,3]
[null,null,null,null,2,null,3]
[null,null,null,null,"(0",null,"1)"]
[]
[]
[]
[]
["VR-Gruppe","Nation","Spiele","gew","unent","verl","Tore+","Tore-","Punkte+","Punkte-"]
[null,"Argentinien",{"$f":"COUNTIF($S$12:$T$208,\"Argentinien\")","v":7},{"$f":"SUMPRODUCT(($S$12:$T$208=B216)*($X$12:$Y$208=3))","v":6},{"$f":"SUMPRODUCT(($S$12:$T$208=B216)*($X$12:$Y$208=1))","v":1},{"$f":"SUMPRODUCT(($S$12:$T$208=B216)*($X$12:$Y$208=2))","v":0},{"$f":"SUMPRODUCT(($S$12:$S$208=B216)*($U$12:$U$208))+SUMPRODUCT(($T$12:$T$208=B216)*($V$12:$V$208))","v":14},{"$f":"SUMPRODUCT(($S$12:$S$208=B216)*($V$12:$V$208))+SUMPRODUCT(($T$12:$T$208=B216)*($U$12:$U$208))","v":5},{"$f":"(D216*2)+E216","v":13},{"$f":"(F216*2)+E216","v":1}]
[null,"Frankreich",{"$f":"COUNTIF($S$12:$T$208,\"Frankreich\")","v":7},5,1,1,16,9,11,3]
[null,"BRD",{"$f":"COUNTIF($S$12:$T$208,\"BRD\")","v":7},4,1,2,12,8,9,5]
[null,"Brasilien",{"$f":"COUNTIF($S$12:$T$208,\"Brasilien\")","v":5},4,0,1,13,5,8,2]
[null,"Mexiko",{"$f":"COUNTIF($S$12:$T$208,\"Mexiko\")","v":5},3,1,1,7,6,7,3]
[null,"Belgien",{"$f":"COUNTIF($S$12:$T$208,\"Belgien\")","v":7},3,1,3,17,19,7,7]
[null,"Dänemark",{"$f":"COUNTIF($S$12:$T$208,\"Dänemark\")","v":4},3,0,1,10,6,6,2]
[null,"Spanien",{"$f":"COUNTIF($S$12:$T$208,\"Spanien\")","v":5},3,0,2,15,9,6,4]
[null,"UdSSR",{"$f":"COUNTIF($S$12:$T$208,\"UdSSR\")","v":4},2,1,1,12,5,5,3]
[null,"England",{"$f":"COUNTIF($S$12:$T$208,\"England\")","v":5},2,1,2,7,3,5,5]
[null,"Italien",{"$f":"COUNTIF($S$12:$T$208,\"Italien\")","v":4},1,2,1,5,6,4,4]
[null,"Paraguay",{"$f":"COUNTIF($S$12:$T$208,\"Paraguay\")","v":4},1,2,1,4,6,4,4]
[null,"Marokko",{"$f":"COUNTIF($S$12:$T$208,\"Marokko\")","v":4},1,2,1,3,2,4,4]
[null,"Polen",{"$f":"COUNTIF($S$12:$T$208,\"Polen\")","v":4},1,1,2,1,7,3,5]
[null,"Portugal",{"$f":"COUNTIF($S$12:$T$208,\"Portugal\")","v":3},1,0,2,2,4,2,4]
[null,"Ungarn",{"$f":"COUNTIF($S$12:$T$208,\"Ungarn\")","v":3},1,0,2,2,9,2,4]
[null,"Bulgarien",{"$f":"COUNTIF($S$12:$T$208,\"Bulgarien\")","v":4},0,2,2,2,6,2,6]
[null,"Uruguay",{"$f":"COUNTIF($S$12:$T$208,\"Uruguay\")","v":4},0,2,2,2,8,2,6]
[null,"Südkorea",{"$f":"COUNTIF($S$12:$T$208,\"Südkorea\")","v":3},0,1,2,4,7,1,5]
[null,"Nordirland",{"$f":"COUNTIF($S$12:$T$208,\"Nordirland\")","v":3},0,1,2,2,6,1,5]
[null,"Schottland",{"$f":"COUNTIF($S$12:$T$208,\"Schottland\")","v":3},0,1,2,1,3,1,5]
[null,"Algerien",{"$f":"COUNTIF($S$12:$T$208,\"Algerien\")","v":3},0,1,2,1,5,1,5]
[null,"Irak",{"$f":"COUNTIF($S$12:$T$208,\"Irak\")","v":3},0,0,3,1,4,0,6]
[null,"Kanada",{"$f":"COUNTIF($S$12:$T$208,\"Kanada\")","v":3},0,0,3,0,5,0,6]

{"sheet":"1990","index":1,"n_rows":249,"n_cols":27,"rows_kept":249,"cut":false,"hidden":false,"merged":[[1,0,1,10],[3,0,3,10],[4,0,4,10],[208,2,208,8],[216,2,216,8]]}
[null,null,null,null,null,null,null,null,null,null,null,null,null,null,null,null,null,null,1,2,3,4,5,6,7]
["14. WM 1990 in Italien"]
[]
["8. Juni-8. Juli 1990"]
["Teilnehmende Nationen: 24 --- Bewerbungen: 112"]
[]
[]
[]
[]
[null,null,null,null,null,"Gruppe A"]
[]
[null,null,"1990-06-09","Italien","Österreich",1,0,null,"Rom",null,null,null,null,null,null,null,null,null,"Italien","Österreich",1,0,null,{"$f":"(IF(U12>V12,3,IF(U12=V12,1,2)))","v":3},{"$f":"(IF(V12>U12,3,IF(U12=V12,1,2)))","v":2},null,"BRD"]
[null,null,null,null,null,"(0","0)",null,null,null,null,null,null,null,null,null,null,null,"USA","ČSFR",1,5,null,2,3,null,"Italien"]
[null,null,"1990-06-10","USA","ČSFR",1,5,null,"Florenz",null,null,null,null,null,null,null,null,null,"Italien","USA",1,0,null,3,2,null,"Argentinien"]
[null,null,null,null,null,"(0","2)",null,null,null,null,null,null,null,null,null,null,null,"Österreich","ČSFR",0,1,null,2,3,null,"England"]
[null,null,"1990-06-14","Italien","USA",1,0,null,"Rom",null,null,null,null,null,null,null,null,null,"Italien","ČSFR",2,0,null,3,2,null,"Brasilien"]
[null,null,null,null,null,"(1","0)",null,null,null,null,null,null,null,null,null,null,null,"Österreich","USA",2,1,null,3,2,null,"ČSFR"]
[null,null,"1990-06-15","Österreich","ČSFR",0,1,null,"Florenz",null,null,null,null,null,null,null,null,null,null,null,null,null,null,null,null,null,"Jugoslawien"]
[null,null,null,null,null,"(0","1)",null,null,null,null,null,null,null,null,null,null,null,null,null,null,null,null,null,null,null,"Kamerun"]
[null,null,"1990-06-19","Italien","ČSFR",2,0,null,"Rom",null,null,null,null,null,null,null,null,null,null,null,null,null,null,null,null,null,"Spanien"]
[null,null,null,null,null,"(1","0)",null,null,null,null,null,null,null,null,null,null,null,null,null,null,null,null,null,null,null,"Irland"]
[null,null,"1990-06-19","Österreich","USA",2,1,null,"Florenz",null,null,null,null,null,null,null,null,null,null,null,null,null,null,null,null,null,"Belgien"]
[null,null,null,null,null,"(0","0)",null,null,null,null,null,null,null,null,null,null,null,null,null,null,null,null,null,null,null,"Costa Rica"]
[null,null,null,null,null,null,null,null,null,null,null,null,null,null,null,null,null,null,null,null,null,null,null,null,null,null,"Rumänien"]
[null,null,null,null,null,null,null,null,null,null,null,null,null,null,null,null,null,null,null,null,null,null,null,null,null,null,"Kolumbien"]
[null,"Nation","Spiele","gew","unent","verl","Tore+","Tore-","Punkte+","Punkte-",null,null,null,null,null,null,null,null,null,null,null,null,null,null,null,null,"Niederlande"]
["Tabelle:","Italien",{"$f":"COUNTIF($S$12:$T$17,\"Italien\")","v":3},{"$f":"SUMPRODUCT(($S$12:$T$17=B27)*($X$12:$Y$17=3))","v":3},{"$f":"SUMPRODUCT(($S$12:$T$17=B27)*($X$12:$Y$17=1))","v":0},{"$f":"SUMPRODUCT(($S$12:$T$17=B27)*($X$12:$Y$17=2))","v":0},{"$f":"SUMPRODUCT(($S$12:$S$17=B27)*($U$12:$U$17))+SUMPRODUCT(($T$12:$T$17=B27)*($V$12:$V$17))","v":4},{"$f":"SUMPRODUCT(($S$12:$S$17=B27)*($V$12:$V$17))+SUMPRODUCT(($T$12:$T$17=B27)*($U$12:$U$17))","v":0},{"$f":"(D27*2)+E27","v":6},{"$f":"(F27*2)+E27","v":0},null,null,null,null,null,null,null,null,null,null,null,null,null,null,null,null,"Uruguay"]
[null,"ČSFR",{"$f":"COUNTIF($S$12:$T$17,\"ČSFR\")","v":3},{"$f":"SUMPRODUCT(($S$12:$T$17=B28)*($X$12:$Y$17=3))","v":2},{"$f":"SUMPRODUCT(($S$12:$T$17=B28)*($X$12:$Y$17=1))","v":0},{"$f":"SUMPRODUCT(($S$12:$T$17=B28)*($X$12:$Y$17=2))","v":1},{"$f":"SUMPRODUCT(($S$12:$S$17=B28)*($U$12:$U$17))+SUMPRODUCT(($T$12:$T$17=B28)*($V$12:$V$17))","v":6},{"$f":"SUMPRODUCT(($S$12:$S$17=B28)*($V$12:$V$17))+SUMPRODUCT(($T$12:$T$17=B28)*($U$12:$U$17))","v":3},{"$f":"(D28*2)+E28","v":4},{"$f":"(F28*2)+E28","v":2},null,null,null,null,null,null,null,null,null,null,null,null,null,null,null,null,"UdSSR"]
[null,"Österreich",{"$f":"COUNTIF($S$12:$T$17,\"Österreich\")","v":3},1,0,2,2,3,2,4,null,null,null,null,null,null,null,null,null,null,null,null,null,null,null,null,"Österreich"]
[null,"USA",{"$f":"COUNTIF($S$12:$T$17,\"USA\")","v":3},0,0,3,2,8,0,6,null,null,null,null,null,null,null,null,null,null,null,null,null,null,null,null,"Schottland"]
[null,null,null,null,null,null,null,null,null,null,null,null,null,null,null,null,null,null,null,null,null,null,null,null,null,null,"Ägypten"]
[null,null,null,null,null,null,null,null,null,null,null,null,null,null,null,null,null,null,null,null,null,null,null,null,null,null,"Schweden"]
[null,null,null,null,null,"Gruppe B",null,null,null,null,null,null,null,null,null,null,null,null,null,null,null,null,null,null,null,null,"USA"]
[null,null,null,null,null,null,null,null,null,null,null,null,null,null,null,null,null,null,null,null,null,null,null,null,null,null,"VAE"]
[null,null,"1990-06-08","Argentinien","Kamerun",0,1,null,"Mailand",null,null,null,null,null,null,null,null,null,"Argentinien","Kamerun",0,1,null,{"$f":"(IF(U35>V35,3,IF(U35=V35,1,2)))","v":2},{"$f":"(IF(V35>U35,3,IF(U35=V35,1,2)))","v":3},null,"Südkorea"]
[null,null,null,null,null,"(0","0)",null,null,null,null,null,null,null,null,null,null,null,"UdSSR","Rumänien",0,2,null,2,3]
[null,null,"1990-06-09","UdSSR","Rumänien",0,2,null,"Bari",null,null,null,null,null,null,null,null,null,"Argentinien","UdSSR",2,0,null,3,2]
[null,null,null,null,null,"(0","1)",null,null,null,null,null,null,null,null,null,null,null,"Kamerun","Rumänien",2,1,null,3,2]
[null,null,"1990-06-13","Argentinien","UdSSR",2,0,null,"Neapel",null,null,null,null,null,null,null,null,null,"Argentinien","Rumänien",1,1,null,1,1]
[null,null,null,null,null,"(1","0)",null,null,null,null,null,null,null,null,null,null,null,"Kamerun","UdSSR",0,4,null,2,3]
[null,null,"1990-06-14","Kamerun","Rumänien",2,1,null,"Bari"]
[null,null,null,null,null,"(0","0)"]
[null,null,"1990-06-18","Argentinien","Rumänien",1,1,null,"Neapel"]
[null,null,null,null,null,"(0","0)"]
[null,null,"1990-06-18","Kamerun","UdSSR",0,4,null,"Bari"]
[null,null,null,null,null,"(0","2)"]
[]
[]
[null,"Nation","Spiele","gew","unent","verl","Tore+","Tore-","Punkte+","Punkte-"]
["Tabelle:","Kamerun",{"$f":"COUNTIF($S$35:$T$40,\"Kamerun\")","v":3},{"$f":"SUMPRODUCT(($S$35:$T$40=B50)*($X$35:$Y$40=3))","v":2},{"$f":"SUMPRODUCT(($S$35:$T$40=B50)*($X$35:$Y$40=1))","v":0},{"$f":"SUMPRODUCT(($S$35:$T$40=B50)*($X$35:$Y$40=2))","v":1},{"$f":"SUMPRODUCT(($S$35:$S$40=B50)*($U$35:$U$40))+SUMPRODUCT(($T$35:$T$40=B50)*($V$35:$V$40))","v":3},{"$f":"SUMPRODUCT(($S$35:$S$40=B50)*($V$35:$V$40))+SUMPRODUCT(($T$35:$T$40=B50)*($U$35:$U$40))","v":5},{"$f":"(D50*2)+E50","v":4},{"$f":"(F50*2)+E50","v":2}]
[null,"Rumänien",{"$f":"COUNTIF($S$35:$T$40,\"Rumänien\")","v":3},{"$f":"SUMPRODUCT(($S$35:$T$40=B51)*($X$35:$Y$40=3))","v":1},{"$f":"SUMPRODUCT(($S$35:$T$40=B51)*($X$35:$Y$40=1))","v":1},{"$f":"SUMPRODUCT(($S$35:$T$40=B51)*($X$35:$Y$40=2))","v":1},{"$f":"SUMPRODUCT(($S$35:$S$40=B51)*($U$35:$U$40))+SUMPRODUCT(($T$35:$T$40=B51)*($V$35:$V$40))","v":4},{"$f":"SUMPRODUCT(($S$35:$S$40=B51)*($V$35:$V$40))+SUMPRODUCT(($T$35:$T$40=B51)*($U$35:$U$40))","v":3},{"$f":"(D51*2)+E51","v":3},{"$f":"(F51*2)+E51","v":3}]
[null,"Argentinien",{"$f":"COUNTIF($S$35:$T$40,\"Argentinien\")","v":3},1,1,1,3,2,3,3]
[null,"UdSSR",{"$f":"COUNTIF($S$35:$T$40,\"UdSSR\")","v":3},1,0,2,4,4,2,4]
[]
[]
[null,null,null,null,null,"Gruppe C"]
[]
[null,null,"1990-06-10","Brasilien","Schweden",2,1,null,"Turin",null,null,null,null,null,null,null,null,null,"Brasilien","Schweden",2,1,null,{"$f":"(IF(U58>V58,3,IF(U58=V58,1,2)))","v":3},{"$f":"(IF(V58>U58,3,IF(U58=V58,1,2)))","v":2}]
[null,null,null,null,null,"(1","0)",null,null,null,null,null,null,null,null,null,null,null,"Costa Rica","Schottland",1,0,null,3,2]
[null,null,"1990-06-11","Costa Rica","Schottland",1,0,null,"Genua",null,null,null,null,null,null,null,null,null,"Brasilien","Costa Rica",1,0,null,3,2]
[null,null,null,null,null,"(0","0)",null,null,null,null,null,null,null,null,null,null,null,"Schweden","Schottland",1,2,null,2,3]
[null,null,"1990-06-16","Brasilien","Costa Rica",1,0,null,"Turin",null,null,null,null,null,null,null,null,null,"Brasilien","Schottland",1,0,null,3,2]
[null,null,null,null,null,"(1","0)",null,null,null,null,null,null,null,null,null,null,null,"Schweden","Costa Rica",1,2,null,2,3]
[null,null,"1990-06-16","Schweden","Schottland",1,2,null,"Genua"]
[null,null,null,null,null,"(0","1)"]
[null,null,"1990-06-20","Brasilien","Schottland",1,0,null,"Turin"]
[null,null,null,null,null,"(0","0)"]
[null,null,"1990-06-20","Schweden","Costa Rica",1,2,null,"Genua"]
[null,null,null,null,null,"(1","0)"]
[]
[]
[null,"Nation","Spiele","gew","unent","verl","Tore+","Tore-","Punkte+","Punkte-"]
["Tabelle:","Brasilien",{"$f":"COUNTIF($S$58:$T$63,\"Brasilien\")","v":3},{"$f":"SUMPRODUCT(($S$58:$T$63=B73)*($X$58:$Y$63=3))","v":3},{"$f":"SUMPRODUCT(($S$58:$T$63=B73)*($X$58:$Y$63=1))","v":0},{"$f":"SUMPRODUCT(($S$58:$T$63=B73)*($X$58:$Y$63=2))","v":0},{"$f":"SUMPRODUCT(($S$58:$S$63=B73)*($U$58:$U$63))+SUMPRODUCT(($T$58:$T$63=B73)*($V$58:$V$63))","v":4},{"$f":"SUMPRODUCT(($S$58:$S$63=B73)*($V$58:$V$63))+SUMPRODUCT(($T$58:$T$63=B73)*($U$58:$U$63))","v":1},{"$f":"(D73*2)+E73","v":6},{"$f":"(F73*2)+E73","v":0}]
[null,"Costa Rica",{"$f":"COUNTIF($S$58:$T$63,\"Costa Rica\")","v":3},{"$f":"SUMPRODUCT(($S$58:$T$63=B74)*($X$58:$Y$63=3))","v":2},{"$f":"SUMPRODUCT(($S$58:$T$63=B74)*($X$58:$Y$63=1))","v":0},{"$f":"SUMPRODUCT(($S$58:$T$63=B74)*($X$58:$Y$63=2))","v":1},{"$f":"SUMPRODUCT(($S$58:$S$63=B74)*($U$58:$U$63))+SUMPRODUCT(($T$58:$T$63=B74)*($V$58:$V$63))","v":3},{"$f":"SUMPRODUCT(($S$58:$S$63=B74)*($V$58:$V$63))+SUMPRODUCT(($T$58:$T$63=B74)*($U$58:$U$63))","v":2},{"$f":"(D74*2)+E74","v":4},{"$f":"(F74*2)+E74","v":2}]
[null,"Schottland",{"$f":"COUNTIF($S$58:$T$63,\"Schottland\")","v":3},1,0,2,2,3,2,4]
[null,"Schweden",{"$f":"COUNTIF($S$58:$T$63,\"Schweden\")","v":3},0,0,3,3,6,0,6]
[]
[]
[null,null,null,null,null,"Gruppe D"]
[]
[null,null,"1990-06-09","VAE","Kolumbien",0,2,null,"Bologna",null,null,null,null,null,null,null,null,null,"VAE","Kolumbien",0,2,null,{"$f":"(IF(U81>V81,3,IF(U81=V81,1,2)))","v":2},{"$f":"(IF(V81>U81,3,IF(U81=V81,1,2)))","v":3}]
[null,null,null,null,null,"(0","0)",null,null,null,null,null,null,null,null,null,null,null,"BRD","Jugoslawien",4,1,null,3,2]
[null,null,"1990-06-10","BRD","Jugoslawien",4,1,null,"Mailand",null,null,null,null,null,null,null,null,null,"Jugoslawien","Kolumbien",1,0,null,3,2]
[null,null,null,null,null,"(2","0)",null,null,null,null,null,null,null,null,null,null,null,"BRD","VAE",5,1,null,3,2]
[null,null,"1990-06-14","Jugoslawien","Kolumbien",1,0,null,"Bologna",null,null,null,null,null,null,null,null,null,"BRD","Kolumbien",1,1,null,1,1]
[null,null,null,null,null,"(0","0)",null,null,null,null,null,null,null,null,null,null,null,"Jugoslawien","VAE",4,1,null,3,2]
[null,null,"1990-06-15","BRD","VAE",5,1,null,"Mailand"]
[null,null,null,null,null,"(2","0)"]
[null,null,"1990-06-19","BRD","Kolumbien",1,1,null,"Mailand"]
[null,null,null,null,null,"(0","0)"]
[null,null,"1990-06-19","Jugoslawien","VAE",4,1,null,"Bologna"]
[null,null,null,null,null,"(2","1)"]
[]
[]
[null,"Nation","Spiele","gew","unent","verl","Tore+","Tore-","Punkte+","Punkte-"]
["Tabelle:","BRD",{"$f":"COUNTIF($S$81:$T$86,\"BRD\")","v":3},{"$f":"SUMPRODUCT(($S$81:$T$86=B96)*($X$81:$Y$86=3))","v":2},{"$f":"SUMPRODUCT(($S$81:$T$86=B96)*($X$81:$Y$86=1))","v":1},{"$f":"SUMPRODUCT(($S$81:$T$86=B96)*($X$81:$Y$86=2))","v":0},{"$f":"SUMPRODUCT(($S$81:$S$86=B96)*($U$81:$U$86))+SUMPRODUCT(($T$81:$T$86=B96)*($V$81:$V$86))","v":10},{"$f":"SUMPRODUCT(($S$81:$S$86=B96)*($V$81:$V$86))+SUMPRODUCT(($T$81:$T$86=B96)*($U$81:$U$86))","v":3},{"$f":"(D96*2)+E96","v":5},{"$f":"(F96*2)+E96","v":1}]
[null,"Jugoslawien",{"$f":"COUNTIF($S$81:$T$86,\"Jugoslawien\")","v":3},{"$f":"SUMPRODUCT(($S$81:$T$86=B97)*($X$81:$Y$86=3))","v":2},{"$f":"SUMPRODUCT(($S$81:$T$86=B97)*($X$81:$Y$86=1))","v":0},{"$f":"SUMPRODUCT(($S$81:$T$86=B97)*($X$81:$Y$86=2))","v":1},{"$f":"SUMPRODUCT(($S$81:$S$86=B97)*($U$81:$U$86))+SUMPRODUCT(($T$81:$T$86=B97)*($V$81:$V$86))","v":6},{"$f":"SUMPRODUCT(($S$81:$S$86=B97)*($V$81:$V$86))+SUMPRODUCT(($T$81:$T$86=B97)*($U$81:$U$86))","v":5},{"$f":"(D97*2)+E97","v":4},{"$f":"(F97*2)+E97","v":2}]
[null,"Kolumbien",{"$f":"COUNTIF($S$81:$T$86,\"Kolumbien\")","v":3},1,1,1,3,2,3,3]
[null,"VAE",{"$f":"COUNTIF($S$81:$T$86,\"VAE\")","v":3},0,0,3,2,11,0,6]
[]
[]
[null,null,null,null,null,"Gruppe E"]
[]
[null,null,"1990-06-12","Belgien","Südkorea",2,0,null,"Verona",null,null,null,null,null,null,null,null,null,"Belgien","Südkorea",2,0,null,{"$f":"(IF(U104>V104,3,IF(U104=V104,1,2)))","v":3},{"$f":"(IF(V104>U104,3,IF(U104=V104,1,2)))","v":2}]
[null,null,null,null,null,"(0","0)",null,null,null,null,null,null,null,null,null,null,null,"Uruguay","Spanien",0,0,null,1,1]
[null,null,"1990-06-13","Uruguay","Spanien",0,0,null,"Udine",null,null,null,null,null,null,null,null,null,"Belgien","Uruguay",3,1,null,3,2]
[null,null,"1990-06-17","Belgien","Uruguay",3,1,null,"Verona",null,null,null,null,null,null,null,null,null,"Südkorea","Spanien",1,3,null,2,3]
[null,null,null,null,null,"(2","0)",null,null,null,null,null,null,null,null,null,null,null,"Belgien","Spanien",1,2,null,2,3]
[null,null,"1990-06-17","Südkorea","Spanien",1,3,null,"Udine",null,null,null,null,null,null,null,null,null,"Südkorea","Uruguay",0,1,null,2,3]
[null,null,null,null,null,"(1","1)"]
[null,null,"1990-06-21","Belgien","Spanien",1,2,null,"Verona"]
[null,null,null,null,null,"(1","2)"]
[null,null,"1990-06-21","Südkorea","Uruguay",0,1,null,"Udine"]
[null,null,null,null,null,"(0","0)"]
[]
[]
[null,"Nation","Spiele","gew","unent","verl","Tore+","Tore-","Punkte+","Punkte-"]
["Tabelle:","Spanien",{"$f":"COUNTIF($S$104:$T$109,\"Spanien\")","v":3},{"$f":"SUMPRODUCT(($S$104:$T$109=B118)*($X$104:$Y$109=3))","v":2},{"$f":"SUMPRODUCT(($S$104:$T$109=B118)*($X$104:$Y$109=1))","v":1},{"$f":"SUMPRODUCT(($S$104:$T$109=B118)*($X$104:$Y$109=2))","v":0},{"$f":"SUMPRODUCT(($S$104:$S$109=B118)*($U$104:$U$109))+SUMPRODUCT(($T$104:$T$109=B118)*($V$104:$V$109))","v":5},{"$f":"SUMPRODUCT(($S$104:$S$109=B118)*($V$104:$V$109))+SUMPRODUCT(($T$104:$T$109=B118)*($U$104:$U$109))","v":2},{"$f":"(D118*2)+E118","v":5},{"$f":"(F118*2)+E118","v":1}]
[null,"Belgien",{"$f":"COUNTIF($S$104:$T$109,\"Belgien\")","v":3},{"$f":"SUMPRODUCT(($S$104:$T$109=B119)*($X$104:$Y$109=3))","v":2},{"$f":"SUMPRODUCT(($S$104:$T$109=B119)*($X$104:$Y$109=1))","v":0},{"$f":"SUMPRODUCT(($S$104:$T$109=B119)*($X$104:$Y$109=2))","v":1},{"$f":"SUMPRODUCT(($S$104:$S$109=B119)*($U$104:$U$109))+SUMPRODUCT(($T$104:$T$109=B119)*($V$104:$V$109))","v":6},{"$f":"SUMPRODUCT(($S$104:$S$109=B119)*($V$104:$V$109))+SUMPRODUCT(($T$104:$T$109=B119)*($U$104:$U$109))","v":3},{"$f":"(D119*2)+E119","v":4},{"$f":"(F119*2)+E119","v":2}]
[null,"Uruguay",{"$f":"COUNTIF($S$104:$T$109,\"Uruguay\")","v":3},1,1,1,2,3,3,3]
[null,"Südkorea",{"$f":"COUNTIF($S$104:$T$109,\"Südkorea\")","v":3},0,0,3,1,6,0,6]
[]
[]
[null,null,null,null,null,"Gruppe F"]
[]
[null,null,"1990-06-11","England","Irland",1,1,null,"Cagliari",null,null,null,null,null,null,null,null,null,"England","Irland",1,1,null,{"$f":"(IF(U126>V126,3,IF(U126=V126,1,2)))","v":1},{"$f":"(IF(V126>U126,3,IF(U126=V126,1,2)))","v":1}]
[null,null,null,null,null,"(1","0)",null,null,null,null,null,null,null,null,null,null,null,"Niederlande","Ägypten",1,1,null,1,1]
[null,null,"1990-06-12","Niederlande","Ägypten",1,1,null,"Palermo",null,null,null,null,null,null,null,null,null,"England","Niederlande",0,0,null,1,1]
[null,null,null,null,null,"(0","0)",null,null,null,null,null,null,null,null,null,null,null,"Irland","Ägypten",0,0,null,1,1]
[null,null,"1990-06-16","England","Niederlande",0,0,null,"Cagliari",null,null,null,null,null,null,null,null,null,"England","Ägypten",1,0,null,3,2]
[null,null,"1990-06-17","Irland","Ägypten",0,0,null,"Palermo",null,null,null,null,null,null,null,null,null,"Irland","Niederlande",1,1,null,1,1]
[null,null,"1990-06-21","England","Ägypten",1,0,null,"Cagliari"]
[null,null,null,null,null,"(0","0)"]
[null,null,"1990-06-21","Irland","Niederlande",1,1,null,"Palermo"]
[null,null,null,null,null,"(0","1)"]
[]
[null,"Nation","Spiele","gew","unent","verl","Tore+","Tore-","Punkte+","Punkte-"]
["Tabelle:","England",{"$f":"COUNTIF($S$126:$T$131,\"England\")","v":3},{"$f":"SUMPRODUCT(($S$126:$T$131=B138)*($X$126:$Y$131=3))","v":1},{"$f":"SUMPRODUCT(($S$126:$T$131=B138)*($X$126:$Y$131=1))","v":2},{"$f":"SUMPRODUCT(($S$126:$T$131=B138)*($X$126:$Y$131=2))","v":0},{"$f":"SUMPRODUCT(($S$126:$S$131=B138)*($U$126:$U$131))+SUMPRODUCT(($T$126:$T$131=B138)*($V$126:$V$131))","v":2},{"$f":"SUMPRODUCT(($S$126:$S$131=B138)*($V$126:$V$131))+SUMPRODUCT(($T$126:$T$131=B138)*($U$126:$U$131))","v":1},{"$f":"(D138*2)+E138","v":4},{"$f":"(F138*2)+E138","v":2}]
[null,"Irland",{"$f":"COUNTIF($S$126:$T$131,\"Irland\")","v":3},{"$f":"SUMPRODUCT(($S$126:$T$131=B139)*($X$126:$Y$131=3))","v":0},{"$f":"SUMPRODUCT(($S$126:$T$131=B139)*($X$126:$Y$131=1))","v":3},{"$f":"SUMPRODUCT(($S$126:$T$131=B139)*($X$126:$Y$131=2))","v":0},{"$f":"SUMPRODUCT(($S$126:$S$131=B139)*($U$126:$U$131))+SUMPRODUCT(($T$126:$T$131=B139)*($V$126:$V$131))","v":2},{"$f":"SUMPRODUCT(($S$126:$S$131=B139)*($V$126:$V$131))+SUMPRODUCT(($T$126:$T$131=B139)*($U$126:$U$131))","v":2},{"$f":"(D139*2)+E139","v":3},{"$f":"(F139*2)+E139","v":3}]
[null,"Niederlande",{"$f":"COUNTIF($S$126:$T$131,\"Niederlande\")","v":3},0,3,0,2,2,3,3]
[null,"Ägypten",{"$f":"COUNTIF($S$126:$T$131,\"Ägypten\")","v":3},0,2,1,1,2,2,4]
[]
[null,null,"Irland durch Losentscheid Gruppenzweiter"]
[]
[]
[null,null,null,null,null,"Rangliste der Gruppendritten:"]
[]
[null,"Nation","Spiele","gew","unent","verl","Tore+","Tore-","Punkte+","Punkte-"]
[null,"Argentinien",3,1,1,1,3,2,3,3]
[null,"Kolumbien",3,1,1,1,3,2,3,3]
[null,"Niederlande",3,0,3,0,2,2,3,3]
[null,"Uruguay",3,1,1,1,2,3,3,3]
[null,"Österreich",3,1,0,2,2,3,2,4]
[null,"Schottland",3,1,0,2,2,3,2,4]
[]
[]
[null,null,null,null,null,"Achtelfinale:"]
[]
[null,null,"1990-06-23","Kamerun","Kolumbien",2,1,"n.V.","Neapel",null,null,null,null,null,null,null,null,null,"Kamerun","Kolumbien",2,1,null,{"$f":"(IF(U159>V159,3,IF(U159=V159,1,2)))","v":3},{"$f":"(IF(V159>U159,3,IF(U159=V159,1,2)))","v":2}]
[null,null,null,null,null,0,0,null,null,null,null,null,null,null,null,null,null,null,"ČSFR","Costa Rica",4,1,null,3,2]
[null,null,null,null,null,"(0","0)",null,null,null,null,null,null,null,null,null,null,null,"Brasilien","Argentinien",0,1,null,2,3]
[null,null,"1990-06-23","ČSFR","Costa Rica",4,1,null,"Bari",null,null,null,null,null,null,null,null,null,"BRD","Niederlande",2,1,null,3,2]
[null,null,null,null,null,"(1","0)",null,null,null,null,null,null,null,null,null,null,null,"Rumänien","Irland",4,5,null,2,3]
[null,null,"1990-06-24","Brasilien","Argentinien",0,1,null,"Turin",null,null,null,null,null,null,null,null,null,"Italien","Uruguay",2,0,null,3,2]
[null,null,null,null,null,"(0","0)",null,null,null,null,null,null,null,null,null,null,null,"Spanien","Jugoslawien",1,2,null,2,3]
[null,null,"1990-06-24","BRD","Niederlande",2,1,null,"Mailand",null,null,null,null,null,null,null,null,null,"England","Belgien",1,0,null,3,2]
[null,null,null,null,null,"(0","0)"]
[null,null,"1990-06-25","Rumänien","Irland",4,5,"n.E.","Genua"]
[null,null,null,null,null,0,0,"n.V."]
[null,null,null,null,null,0,0]
[null,null,null,null,null,"(0","0)"]
[null,null,"1990-06-25","Italien","Uruguay",2,0,null,"Rom"]
[null,null,null,null,null,"(0","0)"]
[null,null,"1990-06-26","Spanien","Jugoslawien",1,2,"n.V.","Verona"]
[null,null,null,null,null,1,1]
[null,null,null,null,null,"(0","0)"]
[null,null,"1990-06-26","England","Belgien",1,0,"n.V.","Bologna"]
[null,null,null,null,null,0,0]
[null,null,null,null,null,"(0","0)"]
[]
[]
[null,null,null,null,null,"Viertelfinale:"]
[]
[null,null,"1990-06-30","Jugoslawien","Argentinien",2,3,"n.E.","Florenz",null,null,null,null,null,null,null,null,null,"Jugoslawien","Argentinien",2,3,null,{"$f":"(IF(U184>V184,3,IF(U184=V184,1,2)))","v":2},{"$f":"(IF(V184>U184,3,IF(U184=V184,1,2)))","v":3}]
[null,null,null,null,null,0,0,"n.V.",null,null,null,null,null,null,null,null,null,null,"Italien","Irland",1,0,null,3,2]
[null,null,null,null,null,0,0,null,null,null,null,null,null,null,null,null,null,null,"BRD","ČSFR",1,0,null,3,2]
[null,null,null,null,null,"(0","0)",null,null,null,null,null,null,null,null,null,null,null,"England","Kamerun",3,2,null,3,2]
[null,null,"1990-06-30","Italien","Irland",1,0,null,"Rom"]
[null,null,null,null,null,"(1","0)"]
[null,null,"1990-07-01","BRD","ČSFR",1,0,null,"Mailand"]
[null,null,null,null,null,"(1","0)"]
[null,null,"1990-07-01","England","Kamerun",3,2,"n.V.","Neapel"]
[null,null,null,null,null,2,2]
[null,null,null,null,null,"(1","0)"]
[]
[]
[null,null,null,null,null,"Halbfinale:"]
[]
[null,null,"1990-07-03","Italien","Argentinien",3,4,"n.E.","Neapel",null,null,null,null,null,null,null,null,null,"Italien","Argentinien",4,5,null,{"$f":"(IF(U199>V199,3,IF(U199=V199,1,2)))","v":2},{"$f":"(IF(V199>U199,3,IF(U199=V199,1,2)))","v":3}]
[null,null,null,null,null,1,1,"n.V.",null,null,null,null,null,null,null,null,null,null,"BRD","England",5,4,null,3,2]
[null,null,null,null,null,1,1]
[null,null,null,null,null,"(1","0)"]
[null,null,"1990-07-04","BRD","England",4,3,"n.E.","Turin"]
[null,null,null,null,null,1,1,"n.V."]
[null,null,null,null,null,1,1]
[null,null,null,null,null,"(0","0)"]
[]
[]
[null,null,"Spiel um Platz 3 am 7. Juli 1990 in Bari:"]
[null,null,null,null,"Italien","---","England",null,null,null,null,null,null,null,null,null,null,null,"Italien","England",2,1,null,{"$f":"(IF(U210>V210,3,IF(U210=V210,1,2)))","v":3},{"$f":"(IF(V210>U210,3,IF(U210=V210,1,2)))","v":2}]
[null,null,null,null,2,null,1]
[null,null,null,null,"(0",null,"0)"]
[]
[]
[]
[]
[null,null,"Endspiel am 8. Juli 1990 in Rom:"]
[null,null,null,null,"Argentinien","---","BRD",null,null,null,null,null,null,null,null,null,null,null,"Argentinien","BRD",0,1,null,{"$f":"(IF(U218>V218,3,IF(U218=V218,1,2)))","v":2},{"$f":"(IF(V218>U218,3,IF(U218=V218,1,2)))","v":3}]
[null,null,null,null,0,null,1]
[null,null,null,null,"(0",null,"0)"]
[]
[]
[]
[]
["VR-Gruppe","Nation","Spiele","gew","unent","verl","Tore+","Tore-","Punkte+","Punkte-"]
[null,"BRD",{"$f":"COUNTIF($S$12:$T$218,\"BRD\")","v":7},{"$f":"SUMPRODUCT(($S$12:$T$218=B226)*($X$12:$Y$218=3))","v":6},{"$f":"SUMPRODUCT(($S$12:$T$218=B226)*($X$12:$Y$218=1))","v":1},{"$f":"SUMPRODUCT(($S$12:$T$218=B226)*($X$12:$Y$218=2))","v":0},{"$f":"SUMPRODUCT(($S$12:$S$218=B226)*($U$12:$U$218))+SUMPRODUCT(($T$12:$T$218=B226)*($V$12:$V$218))","v":19},{"$f":"SUMPRODUCT(($S$12:$S$218=B226)*($V$12:$V$218))+SUMPRODUCT(($T$12:$T$218=B226)*($U$12:$U$218))","v":8},{"$f":"(D226*2)+E226","v":13},{"$f":"(F226*2)+E226","v":1}]
[null,"Italien",{"$f":"COUNTIF($S$12:$T$218,\"Italien\")","v":7},6,0,1,13,6,12,2]
[null,"Argentinien",{"$f":"COUNTIF($S$12:$T$218,\"Argentinien\")","v":7},4,1,2,12,9,9,5]
[null,"England",{"$f":"COUNTIF($S$12:$T$218,\"England\")","v":7},3,2,2,11,10,8,6]
[null,"Brasilien",{"$f":"COUNTIF($S$12:$T$218,\"Brasilien\")","v":4},3,0,1,4,2,6,2]
[null,"ČSFR",{"$f":"COUNTIF($S$12:$T$218,\"ČSFR\")","v":5},3,0,2,10,5,6,4]
[null,"Jugoslawien",{"$f":"COUNTIF($S$12:$T$218,\"Jugoslawien\")","v":5},3,0,2,10,9,6,4]
[null,"Kamerun",{"$f":"COUNTIF($S$12:$T$218,\"Kamerun\")","v":5},3,0,2,7,9,6,4]
[null,"Spanien",{"$f":"COUNTIF($S$12:$T$218,\"Spanien\")","v":4},2,1,1,6,4,5,3]
[null,"Irland",{"$f":"COUNTIF($S$12:$T$218,\"Irland\")","v":5},1,3,1,7,7,5,5]
[null,"Belgien",{"$f":"COUNTIF($S$12:$T$218,\"Belgien\")","v":4},2,0,2,6,4,4,4]
[null,"Costa Rica",{"$f":"COUNTIF($S$12:$T$218,\"Costa Rica\")","v":4},2,0,2,4,6,4,4]
[null,"Rumänien",{"$f":"COUNTIF($S$12:$T$218,\"Rumänien\")","v":4},1,1,2,8,8,3,5]
[null,"Kolumbien",{"$f":"COUNTIF($S$12:$T$218,\"Kolumbien\")","v":4},1,1,2,4,4,3,5]
[null,"Niederlande",{"$f":"COUNTIF($S$12:$T$218,\"Niederlande\")","v":4},0,3,1,3,4,3,5]
[null,"Uruguay",{"$f":"COUNTIF($S$12:$T$218,\"Uruguay\")","v":4},1,1,2,2,5,3,5]
[null,"UdSSR",{"$f":"COUNTIF($S$12:$T$218,\"UdSSR\")","v":3},1,0,2,4,4,2,4]
[null,"Österreich",{"$f":"COUNTIF($S$12:$T$218,\"Österreich\")","v":3},1,0,2,2,3,2,4]
[null,"Schottland",{"$f":"COUNTIF($S$12:$T$218,\"Schottland\")","v":3},1,0,2,2,3,2,4]
[null,"Ägypten",{"$f":"COUNTIF($S$12:$T$218,\"Ägypten\")","v":3},0,2,1,1,2,2,4]
[null,"Schweden",{"$f":"COUNTIF($S$12:$T$218,\"Schweden\")","v":3},0,0,3,3,6,0,6]
[null,"USA",{"$f":"COUNTIF($S$12:$T$218,\"USA\")","v":3},0,0,3,2,8,0,6]
[null,"VAE",{"$f":"COUNTIF($S$12:$T$218,\"VAE\")","v":3},0,0,3,2,11,0,6]
[null,"Südkorea",{"$f":"COUNTIF($S$12:$T$218,\"Südkorea\")","v":3},0,0,3,1,6,0,6]

{"sheet":"1994","index":2,"n_rows":244,"n_cols":27,"rows_kept":244,"cut":false,"hidden":false,"merged":[[1,0,1,9],[3,0,3,9],[4,0,4,9],[201,2,201,8],[209,2,209,8]]}
[null,null,null,null,null,null,null,null,null,null,null,null,null,null,null,null,null,null,1,2,3,4,5,6,7]
["15. WM 1994 in den USA"]
[]
["17. Juni-17. Juli 1994"]
["Teilnehmende Nationen: 24 --- Bewerbungen: 143"]
[]
[null,null,null,null,null,"Ab dieser WM gibt es für einen Sieg 3 Punkte, für ein Unentschieden 1 Punkt"]
[]
[]
[null,null,null,null,null,"Gruppe A"]
[]
[null,null,"1994-06-18","USA","Schweiz",1,1,null,"Pontiac",null,null,null,null,null,null,null,null,null,"USA","Schweiz",1,1,null,{"$f":"(IF(U12>V12,3,IF(U12=V12,1,2)))","v":1},{"$f":"(IF(V12>U12,3,IF(U12=V12,1,2)))","v":1},null,"Brasilien"]
[null,null,null,null,null,"(1","1)",null,null,null,null,null,null,null,null,null,null,null,"Kolumbien","Rumänien",1,3,null,2,3,null,"Schweden"]
[null,null,"1994-06-18","Kolumbien","Rumänien",1,3,null,"Pasadena",null,null,null,null,null,null,null,null,null,"Rumänien","Schweiz",1,4,null,2,3,null,"Italien"]
[null,null,null,null,null,"(1","2)",null,null,null,null,null,null,null,null,null,null,null,"USA","Kolumbien",2,1,null,3,2,null,"Bulgarien"]
[null,null,"1994-06-22","Rumänien","Schweiz",1,4,null,"Pontiac",null,null,null,null,null,null,null,null,null,"USA","Rumänien",0,1,null,2,3,null,"BRD"]
[null,null,null,null,null,"(1","1)",null,null,null,null,null,null,null,null,null,null,null,"Schweiz","Kolumbien",0,2,null,2,3,null,"Rumänien"]
[null,null,"1994-06-22","USA","Kolumbien",2,1,null,"Pasadena",null,null,null,null,null,null,null,null,null,null,null,null,null,null,null,null,null,"Niederlande"]
[null,null,null,null,null,"(1","0)",null,null,null,null,null,null,null,null,null,null,null,null,null,null,null,null,null,null,null,"Spanien"]
[null,null,"1994-06-26","USA","Rumänien",0,1,null,"Pasadena",null,null,null,null,null,null,null,null,null,null,null,null,null,null,null,null,null,"Argentinien"]
[null,null,null,null,null,"(0","1)",null,null,null,null,null,null,null,null,null,null,null,null,null,null,null,null,null,null,null,"Nigeria"]
[null,null,"1994-06-26","Schweiz","Kolumbien",0,2,null,"Palo Alto",null,null,null,null,null,null,null,null,null,null,null,null,null,null,null,null,null,"Saudi-Arabien"]
[null,null,null,null,null,"(0","1)",null,null,null,null,null,null,null,null,null,null,null,null,null,null,null,null,null,null,null,"Belgien"]
[null,null,null,null,null,null,null,null,null,null,null,null,null,null,null,null,null,null,null,null,null,null,null,null,null,null,"Schweiz"]
[null,"Nation","Spiele","gew","unent","verl","Tore+","Tore-","Punkte",null,null,null,null,null,null,null,null,null,null,null,null,null,null,null,null,null,"Mexiko"]
["Tabelle:","Rumänien",{"$f":"COUNTIF($S$12:$T$17,\"Rumänien\")","v":3},{"$f":"SUMPRODUCT(($S$12:$T$17=B26)*($X$12:$Y$17=3))","v":2},{"$f":"SUMPRODUCT(($S$12:$T$17=B26)*($X$12:$Y$17=1))","v":0},{"$f":"SUMPRODUCT(($S$12:$T$17=B26)*($X$12:$Y$17=2))","v":1},{"$f":"SUMPRODUCT(($S$12:$S$17=B26)*($U$12:$U$17))+SUMPRODUCT(($T$12:$T$17=B26)*($V$12:$V$17))","v":5},{"$f":"SUMPRODUCT(($S$12:$S$17=B26)*($V$12:$V$17))+SUMPRODUCT(($T$12:$T$17=B26)*($U$12:$U$17))","v":5},{"$f":"(D26*3)+E26","v":6},null,null,null,null,null,null,null,null,null,null,null,null,null,null,null,null,null,"USA"]
[null,"Schweiz",{"$f":"COUNTIF($S$12:$T$17,\"Schweiz\")","v":3},1,1,1,5,4,{"$f":"(D27*3)+E27","v":4},null,null,null,null,null,null,null,null,null,null,null,null,null,null,null,null,null,"Irland"]
[null,"USA",{"$f":"COUNTIF($S$12:$T$17,\"USA\")","v":3},1,1,1,3,3,4,null,null,null,null,null,null,null,null,null,null,null,null,null,null,null,null,null,"Norwegen"]
[null,"Kolumbien",{"$f":"COUNTIF($S$12:$T$17,\"Kolumbien\")","v":3},1,0,2,4,5,3,null,null,null,null,null,null,null,null,null,null,null,null,null,null,null,null,null,"Russland"]
[null,null,null,null,null,null,null,null,null,null,null,null,null,null,null,null,null,null,null,null,null,null,null,null,null,null,"Kolumbien"]
[null,null,null,null,null,null,null,null,null,null,null,null,null,null,null,null,null,null,null,null,null,null,null,null,null,null,"Südkorea"]
[null,null,null,null,null,"Gruppe B",null,null,null,null,null,null,null,null,null,null,null,null,null,null,null,null,null,null,null,null,"Kamerun"]
[null,null,null,null,null,null,null,null,null,null,null,null,null,null,null,null,null,null,null,null,null,null,null,null,null,null,"Bolivien"]
[null,null,"1994-06-19","Kamerun","Schweden",2,2,null,"Pasadena",null,null,null,null,null,null,null,null,null,"Kamerun","Schweden",2,2,null,{"$f":"(IF(U34>V34,3,IF(U34=V34,1,2)))","v":1},{"$f":"(IF(V34>U34,3,IF(U34=V34,1,2)))","v":1},null,"Marokko"]
[null,null,null,null,null,"(1","1)",null,null,null,null,null,null,null,null,null,null,null,"Brasilien","Russland",2,0,null,3,2,null,"Griechenland"]
[null,null,"1994-06-20","Brasilien","Russland",2,0,null,"Palo Alto",null,null,null,null,null,null,null,null,null,"Brasilien","Kamerun",3,0,null,3,2]
[null,null,null,null,null,"(1","0)",null,null,null,null,null,null,null,null,null,null,null,"Schweden","Russland",3,1,null,3,2]
[null,null,"1994-06-24","Brasilien","Kamerun",3,0,null,"Palo Alto",null,null,null,null,null,null,null,null,null,"Russland","Kamerun",6,1,null,3,2]
[null,null,null,null,null,"(1","0)",null,null,null,null,null,null,null,null,null,null,null,"Brasilien","Schweden",1,1,null,1,1]
[null,null,"1994-06-24","Schweden","Russland",3,1,null,"Pontiac"]
[null,null,null,null,null,"(1","1)"]
[null,null,"1994-06-28","Russland","Kamerun",6,1,null,"Palo Alto"]
[null,null,null,null,null,"(3","0)"]
[null,null,"1994-06-28","Brasilien","Schweden",1,1,null,"Pontiac"]
[null,null,null,null,null,"(0","1)"]
[]
[null,"Nation","Spiele","gew","unent","verl","Tore+","Tore-","Punkte"]
["Tabelle:","Brasilien",3,2,1,0,6,1,7]
[null,"Schweden"]
[null,"Russland"]
[null,"Kamerun"]
[]
[]
[null,null,null,null,null,"Gruppe C"]
[]
[null,null,"1994-06-17","BRD","Bolivien",1,0,null,"Chicago",null,null,null,null,null,null,null,null,null,"BRD","Bolivien",1,0,null,{"$f":"(IF(U56>V56,3,IF(U56=V56,1,2)))","v":3},{"$f":"(IF(V56>U56,3,IF(U56=V56,1,2)))","v":2}]
[null,null,null,null,null,"(0","0)",null,null,null,null,null,null,null,null,null,null,null,"Spanien","Südkorea",2,2,null,1,1]
[null,null,"1994-06-17","Spanien","Südkorea",2,2,null,"Dallas",null,null,null,null,null,null,null,null,null,"BRD","Spanien",1,1,null,1,1]
[null,null,null,null,null,"(0","0)",null,null,null,null,null,null,null,null,null,null,null,"Südkorea","Bolivien",0,0,null,1,1]
[null,null,"1994-06-21","BRD","Spanien",1,1,null,"Chicago",null,null,null,null,null,null,null,null,null,"Bolivien","Spanien",1,3,null,2,3]
[null,null,null,null,null,"(0","1)",null,null,null,null,null,null,null,null,null,null,null,"BRD","Südkorea",3,2,null,3,2]
[null,null,"1994-06-23","Südkorea","Bolivien",0,0,null,"Foxborough"]
[null,null,"1994-06-27","Bolivien","Spanien",1,3,null,"Chicago"]
[null,null,null,null,null,"(0","1)"]
[null,null,"1994-06-27","BRD","Südkorea",3,2,null,"Dallas"]
[null,null,null,null,null,"(3","0)"]
[]
[null,"Nation","Spiele","gew","unent","verl","Tore+","Tore-","Punkte"]
["Tabelle:","BRD",3,2,1,0,5,3,7]
[null,"Spanien"]
[null,"Südkorea"]
[null,"Bolivien"]
[]
[]
[null,null,null,null,null,"Gruppe D"]
[]
[null,null,"1994-06-21","Argentinien","Griechenland",4,0,null,"Foxborough",null,null,null,null,null,null,null,null,null,"Argentinien","Griechenland",4,0,null,{"$f":"(IF(U77>V77,3,IF(U77=V77,1,2)))","v":3},{"$f":"(IF(V77>U77,3,IF(U77=V77,1,2)))","v":2}]
[null,null,null,null,null,"(2","0)",null,null,null,null,null,null,null,null,null,null,null,"Nigeria","Bulgarien",3,0,null,3,2]
[null,null,"1994-06-21","Nigeria","Bulgarien",3,0,null,"Dallas",null,null,null,null,null,null,null,null,null,"Argentinien","Nigeria",2,1,null,3,2]
[null,null,null,null,null,"(2","0)",null,null,null,null,null,null,null,null,null,null,null,"Bulgarien","Griechenland",4,0,null,3,2]
[null,null,"1994-06-25","Argentinien","Nigeria",2,1,null,"Foxborough",null,null,null,null,null,null,null,null,null,"Griechenland","Nigeria",0,2,null,2,3]
[null,null,null,null,null,"(2","1)",null,null,null,null,null,null,null,null,null,null,null,"Argentinien","Bulgarien",0,2,null,2,3]
[null,null,"1994-06-26","Bulgarien","Griechenland",4,0,null,"Chicago"]
[null,null,null,null,null,"(1","0)"]
[null,null,"1994-06-30","Griechenland","Nigeria",0,2,null,"Foxborough"]
[null,null,null,null,null,"(0","1)"]
[null,null,"1994-06-30","Argentinien","Bulgarien",0,2,null,"Dallas"]
[null,null,null,null,null,"(0","0)"]
[]
[null,"Nation","Spiele","gew","unent","verl","Tore+","Tore-","Punkte"]
["Tabelle:","Nigeria",3,2,0,1,6,2,6]
[null,"Bulgarien"]
[null,"Argentinien"]
[null,"Griechenland"]
[]
[null,null,"Bulgarien durch direkten Vergleich vor Argentinien Gruppenzweiter"]
[]
[]
[null,null,null,null,null,"Gruppe E"]
[]
[null,null,"1994-06-18","Italien","Irland",0,1,null,"East Rutherford",null,null,null,null,null,null,null,null,null,"Italien","Irland",0,1,null,{"$f":"(IF(U101>V101,3,IF(U101=V101,1,2)))","v":2},{"$f":"(IF(V101>U101,3,IF(U101=V101,1,2)))","v":3}]
[null,null,null,null,null,"(0","1)",null,null,null,null,null,null,null,null,null,null,null,"Norwegen","Mexiko",1,0,null,3,2]
[null,null,"1994-06-19","Norwegen","Mexiko",1,0,null,"Washington, D.C.",null,null,null,null,null,null,null,null,null,"Italien","Norwegen",1,0,null,3,2]
[null,null,null,null,null,"(0","0)",null,null,null,null,null,null,null,null,null,null,null,"Mexiko","Irland",2,1,null,3,2]
[null,null,"1994-06-23","Italien","Norwegen",1,0,null,"East Rutherford",null,null,null,null,null,null,null,null,null,"Irland","Norwegen",0,0,null,1,1]
[null,null,null,null,null,"(0","0)",null,null,null,null,null,null,null,null,null,null,null,"Italien","Mexiko",1,1,null,1,1]
[null,null,"1994-06-24","Mexiko","Irland",2,1,null,"Orlando"]
[null,null,null,null,null,"(1","0)"]
[null,null,"1994-06-28","Irland","Norwegen",0,0,null,"East Rutherford"]
[null,null,"1994-06-28","Italien","Mexiko",1,1,null,"Washington, D.C."]
[null,null,null,null,null,"(0","0)"]
[]
[null,"Nation","Spiele","gew","unent","verl","Tore+","Tore-","Punkte"]
["Tabelle:","Mexiko",3,1,1,1,3,3,4]
[null,"Irland"]
[null,"Italien"]
[null,"Norwegen"]
[]
[null,null,"Irland durch direkten Vergleich vor Italien Gruppenzweiter"]
[]
[]
[null,null,null,null,null,"Gruppe F"]
[]
[null,null,"1994-06-19","Belgien","Marokko",1,0,null,"Orlando",null,null,null,null,null,null,null,null,null,"Belgien","Marokko",1,0,null,{"$f":"(IF(U124>V124,3,IF(U124=V124,1,2)))","v":3},{"$f":"(IF(V124>U124,3,IF(U124=V124,1,2)))","v":2}]
[null,null,null,null,null,"(1","0)",null,null,null,null,null,null,null,null,null,null,null,"Niederlande","Saudi-Arabien",2,1,null,3,2]
[null,null,"1994-06-20","Niederlande","Saudi-Arabien",2,1,null,"Washington, D.C.",null,null,null,null,null,null,null,null,null,"Belgien","Niederlande",1,0,null,3,2]
[null,null,null,null,null,"(0","1)",null,null,null,null,null,null,null,null,null,null,null,"Saudi-Arabien","Marokko",2,1,null,3,2]
[null,null,"1994-06-25","Belgien","Niederlande",1,0,null,"Orlando",null,null,null,null,null,null,null,null,null,"Marokko","Niederlande",1,2,null,2,3]
[null,null,null,null,null,"(0","0)",null,null,null,null,null,null,null,null,null,null,null,"Belgien","Saudi-Arabien",0,1,null,2,3]
[null,null,"1994-06-25","Saudi-Arabien","Marokko",2,1,null,"East Rutherford"]
[null,null,null,null,null,"(2","1)"]
[null,null,"1994-06-29","Marokko","Niederlande",1,2,null,"Orlando"]
[null,null,null,null,null,"(0","1)"]
[null,null,"1994-06-29","Belgien","Saudi-Arabien",0,1,null,"Washington, D.C."]
[null,null,null,null,null,"(0","1)"]
[]
[null,"Nation","Spiele","gew","unent","verl","Tore+","Tore-","Punkte"]
["Tabelle:","Niederlande",3,2,0,1,4,3,6]
[null,"Saudi-Arabien"]
[null,"Belgien"]
[null,"Marokko"]
[]
[null,null,"Niederlande durch direkten Vergleich vor Saudi-Arabien Gruppensieger"]
[]
[]
[null,null,null,null,null,"Rangliste der Gruppendritten:"]
[]
[null,"Nation","Spiele","gew","unent","verl","Tore+","Tore-","Punkte"]
[null,"Argentinien",3,2,0,1,6,3,6]
[null,"Belgien",3,2,0,1,2,1,6]
[null,"USA",3,1,1,1,3,3,4]
[null,"Italien",3,1,1,1,2,2,4]
[null,"Russland",3,1,0,2,7,6,3]
[null,"Südkorea",3,0,2,1,4,5,2]
[]
[]
[null,null,null,null,null,"Achtelfinale:"]
[]
[null,null,"1994-07-02","BRD","Belgien",3,2,null,"Chicago",null,null,null,null,null,null,null,null,null,"BRD","Belgien",3,2,null,{"$f":"(IF(U159>V159,3,IF(U159=V159,1,2)))","v":3},{"$f":"(IF(V159>U159,3,IF(U159=V159,1,2)))","v":2}]
[null,null,null,null,null,"(3","1)",null,null,null,null,null,null,null,null,null,null,null,"Schweiz","Spanien",0,3,null,2,3]
[null,null,"1994-07-02","Schweiz","Spanien",0,3,null,"Washington, D.C.",null,null,null,null,null,null,null,null,null,"Saudi-Arabien","Schweden",1,3,null,2,3]
[null,null,null,null,null,"(0","1)",null,null,null,null,null,null,null,null,null,null,null,"Rumänien","Argentinien",3,2,null,3,2]
[null,null,"1994-07-03","Saudi-Arabien","Schweden",1,3,null,"Dallas",null,null,null,null,null,null,null,null,null,"Niederlande","Irland",2,0,null,3,2]
[null,null,null,null,null,"(0","1)",null,null,null,null,null,null,null,null,null,null,null,"Brasilien","USA",1,0,null,3,2]
[null,null,"1994-07-03","Rumänien","Argentinien",3,2,null,"Pasadena",null,null,null,null,null,null,null,null,null,"Nigeria","Italien",1,2,null,2,3]
[null,null,null,null,null,"(2","1)",null,null,null,null,null,null,null,null,null,null,null,"Mexiko","Bulgarien",2,4,null,2,3]
[null,null,"1994-07-04","Niederlande","Irland",2,0,null,"Orlando"]
[null,null,null,null,null,"(2","0)"]
[null,null,"1994-07-04","Brasilien","USA",1,0,null,"Palo Alto"]
[null,null,null,null,null,"(0","0)"]
[null,null,"1994-07-05","Nigeria","Italien",1,2,"n.V.","Foxborough"]
[null,null,null,null,null,1,1]
[null,null,null,null,null,"(1","0)"]
[null,null,"1994-07-05","Mexiko","Bulgarien",1,3,"n.E.","East Rutherford"]
[null,null,null,null,null,1,1,"n.V."]
[null,null,null,null,null,1,1]
[null,null,null,null,null,"(1","1)"]
[]
[]
[null,null,null,null,null,"Viertelfinale:"]
[]
[null,null,"1994-07-09","Italien","Spanien",2,1,null,"Foxborough",null,null,null,null,null,null,null,null,null,"Italien","Spanien",2,1,null,{"$f":"(IF(U182>V182,3,IF(U182=V182,1,2)))","v":3},{"$f":"(IF(V182>U182,3,IF(U182=V182,1,2)))","v":2}]
[null,null,null,null,null,"(1","0)",null,null,null,null,null,null,null,null,null,null,null,"Brasilien","Niederlande",3,2,null,3,2]
[null,null,"1994-07-09","Brasilien","Niederlande",3,2,null,"Dallas",null,null,null,null,null,null,null,null,null,"BRD","Bulgarien",1,2,null,2,3]
[null,null,null,null,null,"(1","0)",null,null,null,null,null,null,null,null,null,null,null,"Rumänien","Schweden",6,7,null,2,3]
[null,null,"1994-07-10","BRD","Bulgarien",1,2,null,"East Rutherford"]
[null,null,null,null,null,"(0","0)"]
[null,null,"1994-07-10","Rumänien","Schweden",4,5,"n.E.","Palo Alto"]
[null,null,null,null,null,2,2,"n.V."]
[null,null,null,null,null,1,1]
[null,null,null,null,null,"(0","0)"]
[]
[]
[null,null,null,null,null,"Halbfinale:"]
[]
[null,null,"1994-07-13","Bulgarien","Italien",1,2,null,"East Rutherford",null,null,null,null,null,null,null,null,null,"Bulgarien","Italien",1,2,null,{"$f":"(IF(U196>V196,3,IF(U196=V196,1,2)))","v":2},{"$f":"(IF(V196>U196,3,IF(U196=V196,1,2)))","v":3}]
[null,null,null,null,null,"(1","2)",null,null,null,null,null,null,null,null,null,null,null,"Schweden","Brasilien",0,1,null,2,3]
[null,null,"1994-07-13","Schweden","Brasilien",0,1,null,"Pasadena"]
[null,null,null,null,null,"(0","0)"]
[]
[]
[null,null,"Spiel um Platz 3 am 16. Juli 1994 in Pasadena:"]
[null,null,null,null,"Schweden","---","Bulgarien",null,null,null,null,null,null,null,null,null,null,null,"Schweden","Bulgarien",4,0,null,{"$f":"(IF(U203>V203,3,IF(U203=V203,1,2)))","v":3},{"$f":"(IF(V203>U203,3,IF(U203=V203,1,2)))","v":2}]
[null,null,null,null,4,null,0]
[null,null,null,null,"(4",null,"0)"]
[]
[]
[]
[]
[null,null,"Endspiel am 8. Juli 1990 in Rom:"]
[null,null,null,null,"Brasilien","---","Italien",null,null,null,null,null,null,null,null,null,null,null,"Brasilien","Italien",3,2,null,{"$f":"(IF(U211>V211,3,IF(U211=V211,1,2)))","v":3},{"$f":"(IF(V211>U211,3,IF(U211=V211,1,2)))","v":2}]
[null,null,null,null,3,null,2,"n.E."]
[null,null,null,null,0,null,0,"n.V."]
[null,null,null,null,0,null,0]
[null,null,null,null,"(0",null,"0)"]
[]
[]
[]
[]
["VR-Gruppe","Nation","Spiele","gew","unent","verl","Tore+","Tore-","Punkte"]
[null,"Brasilien",{"$f":"COUNTIF($S$12:$T$211,\"Brasilien\")","v":7},{"$f":"SUMPRODUCT(($S$12:$T$211=B221)*($X$12:$Y$211=3))","v":6},{"$f":"SUMPRODUCT(($S$12:$T$211=B221)*($X$12:$Y$211=1))","v":1},{"$f":"SUMPRODUCT(($S$12:$T$211=B221)*($X$12:$Y$211=2))","v":0},{"$f":"SUMPRODUCT(($S$12:$S$211=B221)*($U$12:$U$211))+SUMPRODUCT(($T$12:$T$211=B221)*($V$12:$V$211))","v":14},{"$f":"SUMPRODUCT(($S$12:$S$211=B221)*($V$12:$V$211))+SUMPRODUCT(($T$12:$T$211=B221)*($U$12:$U$211))","v":5},{"$f":"(D221*3)+E221","v":19}]
[null,"Schweden",{"$f":"COUNTIF($S$12:$T$211,\"Schweden\")","v":7},4,2,1,20,12,14]
[null,"Italien",{"$f":"COUNTIF($S$12:$T$211,\"Italien\")","v":7},4,1,2,10,8,13]
[null,"Bulgarien",{"$f":"COUNTIF($S$12:$T$211,\"Bulgarien\")","v":7},4,0,3,13,12,12]
[null,"BRD",{"$f":"COUNTIF($S$12:$T$211,\"BRD\")","v":5},3,1,1,9,7,10]
[null,"Rumänien",{"$f":"COUNTIF($S$12:$T$211,\"Rumänien\")","v":5},3,0,2,14,14,9]
[null,"Niederlande",{"$f":"COUNTIF($S$12:$T$211,\"Niederlande\")","v":5},3,0,2,8,6,9]
[null,"Spanien",{"$f":"COUNTIF($S$12:$T$211,\"Spanien\")","v":5},2,2,1,10,6,8]
[null,"Argentinien",{"$f":"COUNTIF($S$12:$T$211,\"Argentinien\")","v":4},2,0,2,8,6,6]
[null,"Nigeria",{"$f":"COUNTIF($S$12:$T$211,\"Nigeria\")","v":4},2,0,2,7,4,6]
[null,"Saudi-Arabien",{"$f":"COUNTIF($S$12:$T$211,\"Saudi-Arabien\")","v":4},2,0,2,5,6,6]
[null,"Belgien",{"$f":"COUNTIF($S$12:$T$211,\"Belgien\")","v":4},2,0,2,4,4,6]
[null,"Schweiz",{"$f":"COUNTIF($S$12:$T$211,\"Schweiz\")","v":4},1,1,2,5,7,4]
[null,"Mexiko",{"$f":"COUNTIF($S$12:$T$211,\"Mexiko\")","v":4},1,1,2,5,7,4]
[null,"USA",{"$f":"COUNTIF($S$12:$T$211,\"USA\")","v":4},{"$f":"SUMPRODUCT(($S$12:$T$211=B235)*($X$12:$Y$211=3))","v":1},{"$f":"SUMPRODUCT(($S$12:$T$211=B235)*($X$12:$Y$211=1))","v":1},2,3,4,4]
[null,"Irland",{"$f":"COUNTIF($S$12:$T$211,\"Irland\")","v":4},1,1,2,2,4,4]
[null,"Norwegen",{"$f":"COUNTIF($S$12:$T$211,\"Norwegen\")","v":3},1,1,1,1,1,4]
[null,"Russland",{"$f":"COUNTIF($S$12:$T$211,\"Russland\")","v":3},1,0,2,7,6,3]
[null,"Kolumbien",{"$f":"COUNTIF($S$12:$T$211,\"Kolumbien\")","v":3},{"$f":"SUMPRODUCT(($S$12:$T$211=B239)*($X$12:$Y$211=3))","v":1},{"$f":"SUMPRODUCT(($S$12:$T$211=B239)*($X$12:$Y$211=1))","v":0},{"$f":"SUMPRODUCT(($S$12:$T$211=B239)*($X$12:$Y$211=2))","v":2},4,5,3]
[null,"Südkorea",{"$f":"COUNTIF($S$12:$T$211,\"Südkorea\")","v":3},0,2,1,4,5,2]
[null,"Kamerun",{"$f":"COUNTIF($S$12:$T$211,\"Kamerun\")","v":3},0,1,2,3,11,1]
[null,"Bolivien",{"$f":"COUNTIF($S$12:$T$211,\"Bolivien\")","v":3},0,1,2,1,4,1]
[null,"Marokko",{"$f":"COUNTIF($S$12:$T$211,\"Marokko\")","v":3},0,0,3,2,5,0]
[null,"Griechenland",{"$f":"COUNTIF($S$12:$T$211,\"Griechenland\")","v":3},0,0,3,0,10,0]

{"sheet":"1998","index":3,"n_rows":278,"n_cols":27,"rows_kept":278,"cut":false,"hidden":false,"merged":[[1,0,1,9],[3,0,3,9],[4,0,4,9],[229,2,229,8],[237,2,237,8]]}
[null,null,null,null,null,null,null,null,null,null,null,null,null,null,null,null,null,null,1,2,3,4,5,6,7]
["16. WM 1998 in Frankreich"]
[]
["10. Juni-12. Juli 1998"]
["Teilnehmende Nationen: 32 --- Bewerbungen: 166"]
[]
[]
[]
[]
[null,null,null,null,null,"Gruppe A"]
[]
[null,null,"1998-06-10","Brasilien","Schottland",2,1,null,null,null,null,null,null,null,null,null,null,null,"Brasilien","Schottland",2,1,null,{"$f":"(IF(U12>V12,3,IF(U12=V12,1,2)))","v":3},{"$f":"(IF(V12>U12,3,IF(U12=V12,1,2)))","v":2},null,"Frankreich"]
[null,null,null,null,null,"(1","1)",null,null,null,null,null,null,null,null,null,null,null,"Marokko","Norwegen",2,2,null,1,1,null,"Brasilien"]
[null,null,"1998-06-10","Marokko","Norwegen",2,2,null,null,null,null,null,null,null,null,null,null,null,"Schottland","Norwegen",1,1,null,1,1,null,"Kroatien"]
[null,null,null,null,null,"(1","1)",null,null,null,null,null,null,null,null,null,null,null,"Brasilien","Marokko",3,0,null,3,2,null,"Argentinien"]
[null,null,"1998-06-16","Schottland","Norwegen",1,1,null,null,null,null,null,null,null,null,null,null,null,"Brasilien","Norwegen",1,2,null,2,3,null,"Niederlande"]
[null,null,null,null,null,"(0","0)",null,null,null,null,null,null,null,null,null,null,null,"Schottland","Marokko",0,3,null,2,3,null,"Italien"]
[null,null,"1998-06-16","Brasilien","Marokko",3,0,null,null,null,null,null,null,null,null,null,null,null,null,null,null,null,null,null,null,null,"BRD"]
[null,null,null,null,null,"(2","0)",null,null,null,null,null,null,null,null,null,null,null,null,null,null,null,null,null,null,null,"Dänemark"]
[null,null,"1998-06-23","Brasilien","Norwegen",1,2,null,null,null,null,null,null,null,null,null,null,null,null,null,null,null,null,null,null,null,"Jugoslawien"]
[null,null,null,null,null,"(0","0)",null,null,null,null,null,null,null,null,null,null,null,null,null,null,null,null,null,null,null,"Rumänien"]
[null,null,"1998-06-23","Schottland","Marokko",0,3,null,null,null,null,null,null,null,null,null,null,null,null,null,null,null,null,null,null,null,"England"]
[null,null,null,null,null,"(0","1)",null,null,null,null,null,null,null,null,null,null,null,null,null,null,null,null,null,null,null,"Nigeria"]
[null,null,null,null,null,null,null,null,null,null,null,null,null,null,null,null,null,null,null,null,null,null,null,null,null,null,"Mexiko"]
[null,"Nation","Spiele","gew","unent","verl","Tore+","Tore-","Punkte",null,null,null,null,null,null,null,null,null,null,null,null,null,null,null,null,null,"Norwegen"]
["Tabelle:","Brasilien",{"$f":"COUNTIF($S$12:$T$17,\"Rumänien\")","v":0},{"$f":"SUMPRODUCT(($S$12:$T$17=B26)*($X$12:$Y$17=3))","v":2},{"$f":"SUMPRODUCT(($S$12:$T$17=B26)*($X$12:$Y$17=1))","v":0},{"$f":"SUMPRODUCT(($S$12:$T$17=B26)*($X$12:$Y$17=2))","v":1},{"$f":"SUMPRODUCT(($S$12:$S$17=B26)*($U$12:$U$17))+SUMPRODUCT(($T$12:$T$17=B26)*($V$12:$V$17))","v":6},{"$f":"SUMPRODUCT(($S$12:$S$17=B26)*($V$12:$V$17))+SUMPRODUCT(($T$12:$T$17=B26)*($U$12:$U$17))","v":3},{"$f":"(D26*3)+E26","v":6},null,null,null,null,null,null,null,null,null,null,null,null,null,null,null,null,null,"Paraguay"]
[null,"Schottland",{"$f":"COUNTIF($S$12:$T$17,\"Schweiz\")","v":0},0,1,2,2,6,{"$f":"(D27*3)+E27","v":1},null,null,null,null,null,null,null,null,null,null,null,null,null,null,null,null,null,"Spanien"]
[null,"Marokko",{"$f":"COUNTIF($S$12:$T$17,\"USA\")","v":0},1,1,1,5,5,4,null,null,null,null,null,null,null,null,null,null,null,null,null,null,null,null,null,"Marokko"]
[null,"Norwegen",{"$f":"COUNTIF($S$12:$T$17,\"Kolumbien\")","v":0},1,2,0,5,4,5,null,null,null,null,null,null,null,null,null,null,null,null,null,null,null,null,null,"Chile"]
[null,null,null,null,null,null,null,null,null,null,null,null,null,null,null,null,null,null,null,null,null,null,null,null,null,null,"Belgien"]
[null,null,null,null,null,null,null,null,null,null,null,null,null,null,null,null,null,null,null,null,null,null,null,null,null,null,"Jamaika"]
[null,null,null,null,null,"Gruppe B",null,null,null,null,null,null,null,null,null,null,null,null,null,null,null,null,null,null,null,null,"Iran"]
[null,null,null,null,null,null,null,null,null,null,null,null,null,null,null,null,null,null,null,null,null,null,null,null,null,null,"Kolumbien"]
[null,null,"1998-06-11","Italien","Chile",2,2,null,null,null,null,null,null,null,null,null,null,null,"Italien","Chile",2,2,null,{"$f":"(IF(U34>V34,3,IF(U34=V34,1,2)))","v":1},{"$f":"(IF(V34>U34,3,IF(U34=V34,1,2)))","v":1},null,"Österreich"]
[null,null,null,null,null,"(1","1)",null,null,null,null,null,null,null,null,null,null,null,"Kamerun","Österreich",1,1,null,1,1,null,"Südafrika"]
[null,null,"1998-06-11","Kamerun","Österreich",1,1,null,null,null,null,null,null,null,null,null,null,null,"Chile","Österreich",1,1,null,1,1,null,"Kamerun"]
[null,null,null,null,null,"(0","0)",null,null,null,null,null,null,null,null,null,null,null,"Italien","Kamerun",3,0,null,3,2,null,"Saudi-Arabien"]
[null,null,"1998-06-17","Chile","Österreich",1,1,null,null,null,null,null,null,null,null,null,null,null,"Italien","Österreich",2,1,null,3,2,null,"Südkorea"]
[null,null,null,null,null,"(0","0)",null,null,null,null,null,null,null,null,null,null,null,"Chile","Kamerun",1,1,null,1,1,null,"Schottland"]
[null,null,"1998-06-17","Italien","Kamerun",3,0,null,null,null,null,null,null,null,null,null,null,null,null,null,null,null,null,null,null,null,"Tunesien"]
[null,null,null,null,null,"(1","0)",null,null,null,null,null,null,null,null,null,null,null,null,null,null,null,null,null,null,null,"Bulgarien"]
[null,null,"1998-06-23","Italien","Österreich",2,1,null,null,null,null,null,null,null,null,null,null,null,null,null,null,null,null,null,null,null,"Japan"]
[null,null,null,null,null,"(1","0)",null,null,null,null,null,null,null,null,null,null,null,null,null,null,null,null,null,null,null,"USA"]
[null,null,"1998-06-23","Chile","Kamerun",1,1]
[null,null,null,null,null,"(1","0)"]
[]
[null,"Nation","Spiele","gew","unent","verl","Tore+","Tore-","Punkte"]
["Tabelle:","Italien",3,2,1,0,6,1,7]
[null,"Chile"]
[null,"Kamerun"]
[null,"Österreich"]
[]
[]
[null,null,null,null,null,"Gruppe C"]
[]
[null,null,"1998-06-12","Saudi-Arabien","Dänemark",0,1,null,null,null,null,null,null,null,null,null,null,null,"Saudi-Arabien","Dänemark",0,1,null,{"$f":"(IF(U56>V56,3,IF(U56=V56,1,2)))","v":2},{"$f":"(IF(V56>U56,3,IF(U56=V56,1,2)))","v":3}]
[null,null,null,null,null,"(0","0)",null,null,null,null,null,null,null,null,null,null,null,"Frankreich","Südafrika",3,0,null,3,2]
[null,null,"1998-06-12","Frankreich","Südafrika",3,0,null,null,null,null,null,null,null,null,null,null,null,"Südafrika","Dänemark",1,1,null,1,1]
[null,null,null,null,null,"(1","0)",null,null,null,null,null,null,null,null,null,null,null,"Frankreich","Saudi-Arabien",4,0,null,3,2]
[null,null,"1998-06-18","Südafrika","Dänemark",1,1,null,null,null,null,null,null,null,null,null,null,null,"Frankreich","Dänemark",2,1,null,3,2]
[null,null,null,null,null,"(0","1)",null,null,null,null,null,null,null,null,null,null,null,"Südafrika","Saudi-Arabien",2,2,null,1,1]
[null,null,"1998-06-18","Frankreich","Saudi-Arabien",4,0]
[null,null,null,null,null,"(1","0)"]
[null,null,"1998-06-24","Frankreich","Dänemark",2,1]
[null,null,null,null,null,"(1","1)"]
[null,null,"1998-06-24","Südafrika","Saudi-Arabien",2,2]
[null,null,null,null,null,"(1","1)"]
[]
[null,"Nation","Spiele","gew","unent","verl","Tore+","Tore-","Punkte"]
["Tabelle:","Saudi-Arabien",3,2,1,0,5,3,7]
[null,"Dänemark"]
[null,"Frankreich"]
[null,"Südafrika"]
[]
[]
[null,null,null,null,null,"Gruppe D"]
[]
[null,null,"1998-06-12","Paraguay","Bulgarien",0,0,null,null,null,null,null,null,null,null,null,null,null,"Paraguay","Bulgarien",0,0,null,{"$f":"(IF(U78>V78,3,IF(U78=V78,1,2)))","v":1},{"$f":"(IF(V78>U78,3,IF(U78=V78,1,2)))","v":1}]
[null,null,"1998-06-13","Spanien","Nigeria",2,3,null,null,null,null,null,null,null,null,null,null,null,"Spanien","Nigeria",2,3,null,2,3]
[null,null,null,null,null,"(1","1)",null,null,null,null,null,null,null,null,null,null,null,"Nigeria","Bulgarien",1,0,null,3,2]
[null,null,"1998-06-19","Nigeria","Bulgarien",1,0,null,null,null,null,null,null,null,null,null,null,null,"Spanien","Paraguay",0,0,null,1,1]
[null,null,null,null,null,"(1","0)",null,null,null,null,null,null,null,null,null,null,null,"Spanien","Bulgarien",6,1,null,3,2]
[null,null,"1998-06-19","Spanien","Paraguay",0,0,null,null,null,null,null,null,null,null,null,null,null,"Nigeria","Paraguay",1,3,null,2,3]
[null,null,"1998-06-24","Spanien","Bulgarien",6,1]
[null,null,null,null,null,"(2","0)"]
[null,null,"1998-06-24","Nigeria","Paraguay",1,3]
[null,null,null,null,null,"(1","1)"]
[]
[null,"Nation","Spiele","gew","unent","verl","Tore+","Tore-","Punkte"]
["Tabelle:","Paraguay",3,2,0,1,6,2,6]
[null,"Bulgarien"]
[null,"Spanien"]
[null,"Nigeria"]
[]
[]
[null,null,null,null,null,"Gruppe E"]
[]
[null,null,"1998-06-13","Südkorea","Mexiko",1,3,null,null,null,null,null,null,null,null,null,null,null,"Südkorea","Mexiko",1,3,null,{"$f":"(IF(U98>V98,3,IF(U98=V98,1,2)))","v":2},{"$f":"(IF(V98>U98,3,IF(U98=V98,1,2)))","v":3}]
[null,null,null,null,null,"(1","0)",null,null,null,null,null,null,null,null,null,null,null,"Niederlande","Belgien",0,0,null,1,1]
[null,null,"1998-06-13","Niederlande","Belgien",0,0,null,null,null,null,null,null,null,null,null,null,null,"Belgien","Mexiko",2,2,null,1,1]
[null,null,"1998-06-20","Belgien","Mexiko",2,2,null,null,null,null,null,null,null,null,null,null,null,"Niederlande","Südkorea",5,0,null,3,2]
[null,null,null,null,null,"(1","0)",null,null,null,null,null,null,null,null,null,null,null,"Belgien","Südkorea",1,1,null,1,1]
[null,null,"1998-06-20","Niederlande","Südkorea",5,0,null,null,null,null,null,null,null,null,null,null,null,"Niederlande","Mexiko",2,2,null,1,1]
[null,null,null,null,null,"(2","0)"]
[null,null,"1998-06-25","Belgien","Südkorea",1,1]
[null,null,null,null,null,"(1","0)"]
[null,null,"1998-06-25","Niederlande","Mexiko",2,2]
[null,null,null,null,null,"(2","0)"]
[]
[null,"Nation","Spiele","gew","unent","verl","Tore+","Tore-","Punkte"]
["Tabelle:","Südkorea",3,1,1,1,3,3,4]
[null,"Mexiko"]
[null,"Niederlande"]
[null,"Belgien"]
[]
[]
[null,null,null,null,null,"Gruppe F"]
[]
[null,null,"1998-06-14","Jugoslawien","Iran",1,0,null,null,null,null,null,null,null,null,null,null,null,"Jugoslawien","Iran",1,0,null,{"$f":"(IF(U119>V119,3,IF(U119=V119,1,2)))","v":3},{"$f":"(IF(V119>U119,3,IF(U119=V119,1,2)))","v":2}]
[null,null,null,null,null,"(0","0)",null,null,null,null,null,null,null,null,null,null,null,"BRD","USA",2,0,null,3,2]
[null,null,"1998-06-15","BRD","USA",2,0,null,null,null,null,null,null,null,null,null,null,null,"BRD","Jugoslawien",2,2,null,1,1]
[null,null,null,null,null,"(1","0)",null,null,null,null,null,null,null,null,null,null,null,"USA","Iran",1,2,null,2,3]
[null,null,"1998-06-21","BRD","Jugoslawien",2,2,null,null,null,null,null,null,null,null,null,null,null,"BRD","Iran",2,0,null,3,2]
[null,null,null,null,null,"(0","1)",null,null,null,null,null,null,null,null,null,null,null,"USA","Jugoslawien",0,1,null,2,3]
[null,null,"1998-06-21","USA","Iran",1,2]
[null,null,null,null,null,"(0","1)"]
[null,null,"1998-06-25","BRD","Iran",2,0]
[null,null,null,null,null,"(0","0)"]
[null,null,"1998-06-25","USA","Jugoslawien",0,1]
[null,null,null,null,null,"(0","1)"]
[]
[null,"Nation","Spiele","gew","unent","verl","Tore+","Tore-","Punkte"]
["Tabelle:","Jugoslawien",3,2,0,1,4,3,6]
[null,"Iran"]
[null,"BRD"]
[null,"USA"]
[]
[]
[null,null,null,null,null,"Gruppe G"]
[]
[null,null,"1998-06-15","England","Tunesien",2,0,null,null,null,null,null,null,null,null,null,null,null,"England","Tunesien",2,0,null,{"$f":"(IF(U141>V141,3,IF(U141=V141,1,2)))","v":3},{"$f":"(IF(V141>U141,3,IF(U141=V141,1,2)))","v":2}]
[null,null,null,null,null,"(1","0)",null,null,null,null,null,null,null,null,null,null,null,"Rumänien","Kolumbien",1,0,null,3,2]
[null,null,"1998-06-15","Rumänien","Kolumbien",1,0,null,null,null,null,null,null,null,null,null,null,null,"Kolumbien","Tunesien",1,0,null,3,2]
[null,null,null,null,null,"(1","0)",null,null,null,null,null,null,null,null,null,null,null,"Rumänien","England",2,1,null,3,2]
[null,null,"1998-06-22","Kolumbien","Tunesien",1,0,null,null,null,null,null,null,null,null,null,null,null,"Rumänien","Tunesien",1,1,null,1,1]
[null,null,null,null,null,"(0","0)",null,null,null,null,null,null,null,null,null,null,null,"Kolumbien","England",0,2,null,2,3]
[null,null,"1998-06-22","Rumänien","England",2,1]
[null,null,null,null,null,"(0","0)"]
[null,null,"1998-06-26","Rumänien","Tunesien",1,1]
[null,null,null,null,null,"(0","1)"]
[null,null,"1998-06-26","Kolumbien","England",0,2]
[null,null,null,null,null,"(0","2)"]
[]
[null,"Nation","Spiele","gew","unent","verl","Tore+","Tore-","Punkte"]
["Tabelle:","England",3,1,1,1,3,3,4]
[null,"Tunesien"]
[null,"Rumänien"]
[null,"Kolumbien"]
[]
[]
[null,null,null,null,null,"Gruppe H"]
[]
[null,null,"1998-06-14","Argentinien","Japan",1,0,null,null,null,null,null,null,null,null,null,null,null,"Argentinien","Japan",1,0,null,{"$f":"(IF(U163>V163,3,IF(U163=V163,1,2)))","v":3},{"$f":"(IF(V163>U163,3,IF(U163=V163,1,2)))","v":2}]
[null,null,null,null,null,"(1","0)",null,null,null,null,null,null,null,null,null,null,null,"Jamaika","Kroatien",1,3,null,2,3]
[null,null,"1998-06-14","Jamaika","Kroatien",1,3,null,null,null,null,null,null,null,null,null,null,null,"Japan","Kroatien",0,1,null,2,3]
[null,null,null,null,null,"(1","1)",null,null,null,null,null,null,null,null,null,null,null,"Argentinien","Jamaika",5,0,null,3,2]
[null,null,"1998-06-20","Japan","Kroatien",0,1,null,null,null,null,null,null,null,null,null,null,null,"Argentinien","Kroatien",1,0,null,3,2]
[null,null,null,null,null,"(0","0)",null,null,null,null,null,null,null,null,null,null,null,"Japan","Jamaika",1,2,null,2,3]
[null,null,"1998-06-21","Argentinien","Jamaika",5,0]
[null,null,null,null,null,"(1","0)"]
[null,null,"1998-06-26","Argentinien","Kroatien",1,0]
[null,null,null,null,null,"(1","0)"]
[null,null,"1998-06-26","Japan","Jamaika",1,2]
[null,null,null,null,null,"(0","1)"]
[]
[null,"Nation","Spiele","gew","unent","verl","Tore+","Tore-","Punkte"]
["Tabelle:","Argentinien",3,1,1,1,3,3,4]
[null,"Japan"]
[null,"Jamaika"]
[null,"Kroatien"]
[]
[]
[null,null,null,null,null,"Achtelfinale:"]
[]
[null,null,"1998-06-27","Italien","Norwegen",1,0,null,null,null,null,null,null,null,null,null,null,null,"Italien","Norwegen",1,0,null,{"$f":"(IF(U185>V185,3,IF(U185=V185,1,2)))","v":3},{"$f":"(IF(V185>U185,3,IF(U185=V185,1,2)))","v":2}]
[null,null,null,null,null,"(1","0)",null,null,null,null,null,null,null,null,null,null,null,"Brasilien","Chile",4,1,null,3,2]
[null,null,"1998-06-27","Brasilien","Chile",4,1,null,null,null,null,null,null,null,null,null,null,null,"Frankreich","Paraguay",1,0,"n.GG.",3,2]
[null,null,null,null,null,"(3","0)",null,null,null,null,null,null,null,null,null,null,null,"Nigeria","Dänemark",1,4,null,2,3]
[null,null,"1998-06-28","Frankreich","Paraguay",1,0,"n.GG.",null,null,null,null,null,null,null,null,null,null,"BRD","Mexiko",2,1,null,3,2]
[null,null,null,null,null,0,0,null,null,null,null,null,null,null,null,null,null,null,"Niederlande","Jugoslawien",2,1,null,3,2]
[null,null,null,null,null,"(0","0)",null,null,null,null,null,null,null,null,null,null,null,"Rumänien","Kroatien",0,1,null,2,3]
[null,null,"1998-06-28","Nigeria","Dänemark",1,4,null,null,null,null,null,null,null,null,null,null,null,"Argentinien","England",6,5,"n.E.",3,2]
[null,null,null,null,null,"(0","3)"]
[null,null,"1998-06-29","BRD","Mexiko",2,1]
[null,null,null,null,null,"(0","0)"]
[null,null,"1998-06-29","Niederlande","Jugoslawien",2,1]
[null,null,null,null,null,"(1","0)"]
[null,null,"1998-06-30","Rumänien","Kroatien",0,1]
[null,null,null,null,null,"(0","1)"]
[null,null,"1998-06-30","Argentinien","England",4,3,"n.E."]
[null,null,null,null,null,2,2,"n.V."]
[null,null,null,null,null,2,2]
[null,null,null,null,null,"(2","2)"]
[]
[]
[null,null,null,null,null,"Viertelfinale:"]
[]
[null,null,"1998-07-03","Italien","Frankreich",3,4,"n.E.",null,null,null,null,null,null,null,null,null,null,"Italien","Frankreich",3,4,"n.E.",{"$f":"(IF(U208>V208,3,IF(U208=V208,1,2)))","v":2},{"$f":"(IF(V208>U208,3,IF(U208=V208,1,2)))","v":3}]
[null,null,null,null,null,0,0,"n.V.",null,null,null,null,null,null,null,null,null,null,"Brasilien","Dänemark",3,2,null,3,2]
[null,null,null,null,null,0,0,null,null,null,null,null,null,null,null,null,null,null,"Niederlande","Argentinien",2,1,null,3,2]
[null,null,null,null,null,"(0","0)",null,null,null,null,null,null,null,null,null,null,null,"BRD","Kroatien",0,3,null,2,3]
[null,null,"1998-07-03","Brasilien","Dänemark",3,2]
[null,null,null,null,null,"(2","1)"]
[null,null,"1998-07-04","Niederlande","Argentinien",2,1]
[null,null,null,null,null,"(1","1)"]
[null,null,"1998-07-04","BRD","Kroatien",0,3]
[null,null,null,null,null,"(0","1)"]
[]
[]
[null,null,null,null,null,"Halbfinale:"]
[]
[null,null,"1998-07-07","Brasilien","Niederlande",4,2,"n.E.",null,null,null,null,null,null,null,null,null,null,"Brasilien","Niederlande",5,3,"n.E.",{"$f":"(IF(U222>V222,3,IF(U222=V222,1,2)))","v":3},{"$f":"(IF(V222>U222,3,IF(U222=V222,1,2)))","v":2}]
[null,null,null,null,null,1,1,"n.V.",null,null,null,null,null,null,null,null,null,null,"Frankreich","Kroatien",2,1,null,3,2]
[null,null,null,null,null,1,1]
[null,null,null,null,null,"(0","0)"]
[null,null,"1998-07-08","Frankreich","Kroatien",2,1]
[null,null,null,null,null,"(0","0)"]
[]
[]
[null,null,"Spiel um Platz 3 am 11. Juli 1998 in Paris:"]
[null,null,null,null,"Niederlande","---","Kroatien",null,null,null,null,null,null,null,null,null,null,null,"Niederlande","Kroatien",1,2,null,{"$f":"(IF(U231>V231,3,IF(U231=V231,1,2)))","v":2},{"$f":"(IF(V231>U231,3,IF(U231=V231,1,2)))","v":3}]
[null,null,null,null,1,null,2]
[null,null,null,null,"(1",null,"2)"]
[]
[]
[]
[]
[null,null,"Endspiel am 12. Juli 1998 in Paris:"]
[null,null,null,null,"Brasilien","---","Frankreich",null,null,null,null,null,null,null,null,null,null,null,"Brasilien","Frankreich",0,3,null,{"$f":"(IF(U239>V239,3,IF(U239=V239,1,2)))","v":2},{"$f":"(IF(V239>U239,3,IF(U239=V239,1,2)))","v":3}]
[null,null,null,null,0,null,3]
[null,null,null,null,"(0",null,"2)"]
[]
[]
[]
[]
["VR-Gruppe","Nation","Spiele","gew","unent","verl","Tore+","Tore-","Punkte"]
[null,"Frankreich",{"$f":"COUNTIF($S$12:$T$239,\"Frankreich\")","v":7},{"$f":"SUMPRODUCT(($S$12:$T$239=B247)*($X$12:$Y$239=3))","v":7},{"$f":"SUMPRODUCT(($S$12:$T$239=B247)*($X$12:$Y$239=1))","v":0},{"$f":"SUMPRODUCT(($S$12:$T$239=B247)*($X$12:$Y$239=2))","v":0},{"$f":"SUMPRODUCT(($S$12:$S$239=B247)*($U$12:$U$239))+SUMPRODUCT(($T$12:$T$239=B247)*($V$12:$V$239))","v":19},{"$f":"SUMPRODUCT(($S$12:$S$239=B247)*($V$12:$V$239))+SUMPRODUCT(($T$12:$T$239=B247)*($U$12:$U$239))","v":5},{"$f":"(D247*3)+E247","v":21}]
[null,"Brasilien",{"$f":"COUNTIF($S$12:$T$239,\"Brasilien\")","v":7},5,0,2,18,12,15]
[null,"Kroatien",{"$f":"COUNTIF($S$12:$T$239,\"Kroatien\")","v":7},5,0,2,11,5,15]
[null,"Argentinien",{"$f":"COUNTIF($S$12:$T$239,\"Argentinien\")","v":5},4,0,1,14,7,12]
[null,"Niederlande",{"$f":"COUNTIF($S$12:$T$239,\"Niederlande\")","v":7},3,2,2,15,11,11]
[null,"Italien",{"$f":"COUNTIF($S$12:$T$239,\"Italien\")","v":5},3,1,1,11,7,10]
[null,"BRD",{"$f":"COUNTIF($S$12:$T$239,\"BRD\")","v":5},3,1,1,8,6,10]
[null,"Dänemark",{"$f":"COUNTIF($S$12:$T$239,\"Dänemark\")","v":5},2,1,2,9,7,7]
[null,"Jugoslawien",{"$f":"COUNTIF($S$12:$T$239,\"Jugoslawien\")","v":4},2,1,1,5,4,7]
[null,"Rumänien",{"$f":"COUNTIF($S$12:$T$239,\"Rumänien\")","v":4},2,1,1,4,3,7]
[null,"England",{"$f":"COUNTIF($S$12:$T$239,\"England\")","v":4},2,0,2,10,8,6]
[null,"Nigeria",{"$f":"COUNTIF($S$12:$T$239,\"Nigeria\")","v":4},2,0,2,6,9,6]
[null,"Mexiko",{"$f":"COUNTIF($S$12:$T$239,\"Mexiko\")","v":4},1,2,1,8,7,5]
[null,"Norwegen",{"$f":"COUNTIF($S$12:$T$239,\"Norwegen\")","v":4},1,2,1,5,5,5]
[null,"Paraguay",{"$f":"COUNTIF($S$12:$T$239,\"Paraguay\")","v":4},1,2,1,3,2,5]
[null,"Spanien",{"$f":"COUNTIF($S$12:$T$239,\"Spanien\")","v":3},1,1,1,8,4,4]
[null,"Marokko",{"$f":"COUNTIF($S$12:$T$239,\"Marokko\")","v":3},1,1,1,5,5,4]
[null,"Chile",{"$f":"COUNTIF($S$12:$T$239,\"Chile\")","v":4},0,3,1,5,8,3]
[null,"Belgien",{"$f":"COUNTIF($S$12:$T$239,\"Belgien\")","v":3},0,3,0,3,3,3]
[null,"Jamaika",{"$f":"COUNTIF($S$12:$T$239,\"Jamaika\")","v":3},1,0,2,3,9,3]
[null,"Iran",{"$f":"COUNTIF($S$12:$T$239,\"Iran\")","v":3},1,0,2,2,4,3]
[null,"Kolumbien",{"$f":"COUNTIF($S$12:$T$239,\"Kolumbien\")","v":3},1,0,2,1,3,3]
[null,"Österreich",{"$f":"COUNTIF($S$12:$T$239,\"Österreich\")","v":3},0,2,1,3,4,2]
[null,"Südafrika",{"$f":"COUNTIF($S$12:$T$239,\"Südafrika\")","v":3},0,2,1,3,6,2]
[null,"Kamerun",{"$f":"COUNTIF($S$12:$T$239,\"Kamerun\")","v":3},0,2,1,2,5,2]
[null,"Saudi-Arabien",{"$f":"COUNTIF($S$12:$T$239,\"Saudi-Arabien\")","v":3},0,1,2,2,7,1]
[null,"Südkorea",{"$f":"COUNTIF($S$12:$T$239,\"Südkorea\")","v":3},0,1,2,2,9,1]
[null,"Schottland",{"$f":"COUNTIF($S$12:$T$239,\"Schottland\")","v":3},0,1,2,2,6,1]
[null,"Tunesien",{"$f":"COUNTIF($S$12:$T$239,\"Tunesien\")","v":3},0,1,2,1,4,1]
[null,"Bulgarien",{"$f":"COUNTIF($S$12:$T$239,\"Bulgarien\")","v":3},0,1,2,1,7,1]
[null,"Japan",{"$f":"COUNTIF($S$12:$T$239,\"Japan\")","v":3},0,0,3,1,4,0]
[null,"USA",{"$f":"COUNTIF($S$12:$T$239,\"USA\")","v":3},0,0,3,1,5,0]

{"sheet":"2002","index":4,"n_rows":279,"n_cols":27,"rows_kept":279,"cut":false,"hidden":false,"merged":[[1,0,1,9],[3,0,3,9],[4,0,4,9],[230,2,230,8],[238,2,238,8]]}
[null,null,null,null,null,null,null,null,null,null,null,null,null,null,null,null,null,null,1,2,3,4,5,6,7]
["17. WM 2002 in Südkorea und Japan"]
[]
["31. Mai-30. Juni 2002"]
["Teilnehmende Nationen: 32 --- Bewerbungen: 198"]
[]
[]
[]
[]
[null,null,null,null,null,"Gruppe A"]
[]
[null,null,"2002-05-31","Frankreich","Senegal",0,1,null,"Seoul",null,null,null,null,null,null,null,null,null,"Frankreich","Senegal",0,1,null,{"$f":"(IF(U12>V12,3,IF(U12=V12,1,2)))","v":2},{"$f":"(IF(V12>U12,3,IF(U12=V12,1,2)))","v":3},null,"Frankreich"]
[null,null,null,null,null,"(0","1)",null,null,null,null,null,null,null,null,null,null,null,"Uruguay","Dänemark",1,2,null,2,3,null,"Senegal"]
[null,null,"2002-06-01","Uruguay","Dänemark",1,2,null,"Ulsan",null,null,null,null,null,null,null,null,null,"Dänemark","Senegal",1,1,null,1,1,null,"Uruguay"]
[null,null,null,null,null,"(0","1)",null,null,null,null,null,null,null,null,null,null,null,"Frankreich","Uruguay",0,0,null,1,1,null,"Dänemark"]
[null,null,"2002-06-06","Dänemark","Senegal",1,1,null,"Daegu",null,null,null,null,null,null,null,null,null,"Dänemark","Frankreich",2,0,null,3,2,null,"Paraguay"]
[null,null,null,null,null,"(1","0)",null,null,null,null,null,null,null,null,null,null,null,"Senegal","Uruguay",3,3,null,1,1,null,"Südafrika"]
[null,null,"2002-06-06","Frankreich","Uruguay",0,0,null,"Busan",null,null,null,null,null,null,null,null,null,null,null,null,null,null,null,null,null,"Spanien"]
[null,null,"2002-06-11","Dänemark","Frankreich",2,0,null,"Incheon",null,null,null,null,null,null,null,null,null,null,null,null,null,null,null,null,null,"Slowenien"]
[null,null,null,null,null,"(1","0)",null,null,null,null,null,null,null,null,null,null,null,null,null,null,null,null,null,null,null,"Brasilien"]
[null,null,"2002-06-11","Senegal","Uruguay",3,3,null,"Suwon",null,null,null,null,null,null,null,null,null,null,null,null,null,null,null,null,null,"Türkei"]
[null,null,null,null,null,"(3","0)",null,null,null,null,null,null,null,null,null,null,null,null,null,null,null,null,null,null,null,"China"]
[null,null,null,null,null,null,null,null,null,null,null,null,null,null,null,null,null,null,null,null,null,null,null,null,null,null,"Costa Rica"]
[null,"Nation","Spiele","gew","unent","verl","Tore+","Tore-","Punkte",null,null,null,null,null,null,null,null,null,null,null,null,null,null,null,null,null,"Südkorea"]
["Tabelle:","Frankreich",{"$f":"COUNTIF($S$12:$T$17,\"Rumänien\")","v":0},{"$f":"SUMPRODUCT(($S$12:$T$17=B25)*($X$12:$Y$17=3))","v":0},{"$f":"SUMPRODUCT(($S$12:$T$17=B25)*($X$12:$Y$17=1))","v":1},{"$f":"SUMPRODUCT(($S$12:$T$17=B25)*($X$12:$Y$17=2))","v":2},{"$f":"SUMPRODUCT(($S$12:$S$17=B25)*($U$12:$U$17))+SUMPRODUCT(($T$12:$T$17=B25)*($V$12:$V$17))","v":0},{"$f":"SUMPRODUCT(($S$12:$S$17=B25)*($V$12:$V$17))+SUMPRODUCT(($T$12:$T$17=B25)*($U$12:$U$17))","v":3},{"$f":"(D25*3)+E25","v":1},null,null,null,null,null,null,null,null,null,null,null,null,null,null,null,null,null,"Polen"]
[null,"Senegal",{"$f":"COUNTIF($S$12:$T$17,\"Schweiz\")","v":0},1,2,0,5,4,{"$f":"(D26*3)+E26","v":5},null,null,null,null,null,null,null,null,null,null,null,null,null,null,null,null,null,"USA"]
[null,"Uruguay",{"$f":"COUNTIF($S$12:$T$17,\"USA\")","v":0},0,2,1,4,5,2,null,null,null,null,null,null,null,null,null,null,null,null,null,null,null,null,null,"Portugal"]
[null,"Dänemark",{"$f":"COUNTIF($S$12:$T$17,\"Kolumbien\")","v":0},2,1,0,5,2,7,null,null,null,null,null,null,null,null,null,null,null,null,null,null,null,null,null,"Irland"]
[null,null,null,null,null,null,null,null,null,null,null,null,null,null,null,null,null,null,null,null,null,null,null,null,null,null,"Kamerun"]
[null,null,null,null,null,null,null,null,null,null,null,null,null,null,null,null,null,null,null,null,null,null,null,null,null,null,"BRD"]
[null,null,null,null,null,"Gruppe B",null,null,null,null,null,null,null,null,null,null,null,null,null,null,null,null,null,null,null,null,"Saudi-Arabien"]
[null,null,null,null,null,null,null,null,null,null,null,null,null,null,null,null,null,null,null,null,null,null,null,null,null,null,"England"]
[null,null,"2002-06-02","Paraguay","Südafrika",2,2,null,"Busan",null,null,null,null,null,null,null,null,null,"Paraguay","Südafrika",2,2,null,{"$f":"(IF(U33>V33,3,IF(U33=V33,1,2)))","v":1},{"$f":"(IF(V33>U33,3,IF(U33=V33,1,2)))","v":1},null,"Schweden"]
[null,null,null,null,null,"(1","0)",null,null,null,null,null,null,null,null,null,null,null,"Spanien","Slowenien",3,1,null,3,2,null,"Argentinien"]
[null,null,"2002-06-02","Spanien","Slowenien",3,1,null,"Gwangju",null,null,null,null,null,null,null,null,null,"Spanien","Paraguay",3,1,null,3,2,null,"Nigeria"]
[null,null,null,null,null,"(1","0)",null,null,null,null,null,null,null,null,null,null,null,"Südafrika","Slowenien",1,0,null,3,2,null,"Kroatien"]
[null,null,"2002-06-07","Spanien","Paraguay",3,1,null,"Jeonju",null,null,null,null,null,null,null,null,null,"Südafrika","Spanien",2,3,null,2,3,null,"Mexiko"]
[null,null,null,null,null,"(0","1)",null,null,null,null,null,null,null,null,null,null,null,"Slowenien","Paraguay",1,3,null,2,3,null,"Italien"]
[null,null,"2002-06-08","Südafrika","Slowenien",1,0,null,"Daegu",null,null,null,null,null,null,null,null,null,null,null,null,null,null,null,null,null,"Ecuador"]
[null,null,null,null,null,"(1","0)",null,null,null,null,null,null,null,null,null,null,null,null,null,null,null,null,null,null,null,"Japan"]
[null,null,"2002-06-12","Südafrika","Spanien",2,3,null,"Daejeon",null,null,null,null,null,null,null,null,null,null,null,null,null,null,null,null,null,"Belgien"]
[null,null,null,null,null,"(1","2)",null,null,null,null,null,null,null,null,null,null,null,null,null,null,null,null,null,null,null,"Russland"]
[null,null,"2002-06-12","Slowenien","Paraguay",1,3,null,"Seogwipo",null,null,null,null,null,null,null,null,null,null,null,null,null,null,null,null,null,"Tunesien"]
[null,null,null,null,null,"(1","0)"]
[]
[null,"Nation","Spiele","gew","unent","verl","Tore+","Tore-","Punkte"]
["Tabelle:","Paraguay",3,2,1,0,6,1,7]
[null,"Südafrika"]
[null,"Spanien"]
[null,"Slowenien"]
[]
[]
[null,null,null,null,null,"Gruppe C"]
[]
[null,null,"2002-06-03","Brasilien","Türkei",2,1,null,"Ulsan",null,null,null,null,null,null,null,null,null,"Brasilien","Türkei",2,1,null,{"$f":"(IF(U55>V55,3,IF(U55=V55,1,2)))","v":3},{"$f":"(IF(V55>U55,3,IF(U55=V55,1,2)))","v":2}]
[null,null,null,null,null,"(0","1)",null,null,null,null,null,null,null,null,null,null,null,"China","Costa Rica",0,2,null,2,3]
[null,null,"2002-06-04","China","Costa Rica",0,2,null,"Gwangju",null,null,null,null,null,null,null,null,null,"Brasilien","China",4,0,null,3,2]
[null,null,null,null,null,"(0","0)",null,null,null,null,null,null,null,null,null,null,null,"Costa Rica","Türkei",1,1,null,1,1]
[null,null,"2002-06-08","Brasilien","China",4,0,null,"Seogwipo",null,null,null,null,null,null,null,null,null,"Costa Rica","Brasilien",2,5,null,2,3]
[null,null,null,null,null,"(3","0)",null,null,null,null,null,null,null,null,null,null,null,"Türkei","China",3,0,null,3,2]
[null,null,"2002-06-09","Costa Rica","Türkei",1,1,null,"Incheon"]
[null,null,null,null,null,"(0","0)"]
[null,null,"2002-06-13","Costa Rica","Brasilien",2,5,null,"Suwon"]
[null,null,null,null,null,"(1","3)"]
[null,null,"2002-06-13","Türkei","China",3,0,null,"Seoul"]
[null,null,null,null,null,"(2","0)"]
[]
[null,"Nation","Spiele","gew","unent","verl","Tore+","Tore-","Punkte"]
["Tabelle:","Brasilien",3,2,1,0,5,3,7]
[null,"Türkei"]
[null,"China"]
[null,"Costa Rica"]
[]
[]
[null,null,null,null,null,"Gruppe D"]
[]
[null,null,"2002-06-04","Südkorea","Polen",2,0,null,"Busan",null,null,null,null,null,null,null,null,null,"Südkorea","Polen",2,0,null,{"$f":"(IF(U77>V77,3,IF(U77=V77,1,2)))","v":3},{"$f":"(IF(V77>U77,3,IF(U77=V77,1,2)))","v":2}]
[null,null,null,null,null,"(1","0)",null,null,null,null,null,null,null,null,null,null,null,"USA","Portugal",3,2,null,3,2]
[null,null,"2002-06-05","USA","Portugal",3,2,null,"Suwon",null,null,null,null,null,null,null,null,null,"Südkorea","USA",1,1,null,1,1]
[null,null,null,null,null,"(3","1)",null,null,null,null,null,null,null,null,null,null,null,"Portugal","Polen",4,0,null,3,2]
[null,null,"2002-06-10","Südkorea","USA",1,1,null,"Daegu",null,null,null,null,null,null,null,null,null,"Portugal","Südkorea",0,1,null,2,3]
[null,null,null,null,null,"(0","1)",null,null,null,null,null,null,null,null,null,null,null,"Polen","USA",3,1,null,3,2]
[null,null,"2002-06-10","Portugal","Polen",4,0,null,"Jeonju"]
[null,null,null,null,null,"(1","0)"]
[null,null,"2002-06-14","Portugal","Südkorea",0,1,null,"Incheon"]
[null,null,null,null,null,"(0","0)"]
[null,null,"2002-06-14","Polen","USA",3,1,null,"Daejeon"]
[null,null,null,null,null,"(2","0)"]
[]
[null,"Nation","Spiele","gew","unent","verl","Tore+","Tore-","Punkte"]
["Tabelle:","Südkorea",3,2,0,1,6,2,6]
[null,"Polen"]
[null,"USA"]
[null,"Portugal"]
[]
[]
[null,null,null,null,null,"Gruppe E"]
[]
[null,null,"2002-06-01","Irland","Kamerun",1,1,null,"Niigata",null,null,null,null,null,null,null,null,null,"Irland","Kamerun",1,1,null,{"$f":"(IF(U99>V99,3,IF(U99=V99,1,2)))","v":1},{"$f":"(IF(V99>U99,3,IF(U99=V99,1,2)))","v":1}]
[null,null,null,null,null,"(0","1)",null,null,null,null,null,null,null,null,null,null,null,"BRD","Saudi-Arabien",8,0,null,3,2]
[null,null,"2002-06-01","BRD","Saudi-Arabien",8,0,null,"Sapporo",null,null,null,null,null,null,null,null,null,"BRD","Irland",1,1,null,1,1]
[null,null,null,null,null,"(4","0)",null,null,null,null,null,null,null,null,null,null,null,"Kamerun","Saudi-Arabien",1,0,null,3,2]
[null,null,"2002-06-05","BRD","Irland",1,1,null,"Kashima",null,null,null,null,null,null,null,null,null,"Kamerun","BRD",0,2,null,2,3]
[null,null,null,null,null,"(1","0)",null,null,null,null,null,null,null,null,null,null,null,"Saudi-Arabien","Irland",0,3,null,2,3]
[null,null,"2002-06-06","Kamerun","Saudi-Arabien",1,0,null,"Saitama"]
[null,null,null,null,null,"(0","0)"]
[null,null,"2002-06-11","Kamerun","BRD",0,2,null,"Shizuoka"]
[null,null,null,null,null,"(0","0)"]
[null,null,"2002-06-11","Saudi-Arabien","Irland",0,3,null,"Yokohama"]
[null,null,null,null,null,"(0","1)"]
[]
[null,"Nation","Spiele","gew","unent","verl","Tore+","Tore-","Punkte"]
["Tabelle:","Irland",3,1,1,1,3,3,4]
[null,"Kamerun"]
[null,"BRD"]
[null,"Saudi-Arabien"]
[]
[]
[null,null,null,null,null,"Gruppe F"]
[]
[null,null,"2002-06-02","England","Schweden",1,1,null,"Saitama",null,null,null,null,null,null,null,null,null,"England","Schweden",1,1,null,{"$f":"(IF(U121>V121,3,IF(U121=V121,1,2)))","v":1},{"$f":"(IF(V121>U121,3,IF(U121=V121,1,2)))","v":1}]
[null,null,null,null,null,"(1","0)",null,null,null,null,null,null,null,null,null,null,null,"Argentinien","Nigeria",1,0,null,3,2]
[null,null,"2002-06-02","Argentinien","Nigeria",1,0,null,"Kashima",null,null,null,null,null,null,null,null,null,"Schweden","Nigeria",2,1,null,3,2]
[null,null,null,null,null,"(0","0)",null,null,null,null,null,null,null,null,null,null,null,"Argentinien","England",0,1,null,2,3]
[null,null,"2002-06-07","Schweden","Nigeria",2,1,null,"Kobe",null,null,null,null,null,null,null,null,null,"Schweden","Argentinien",1,1,null,1,1]
[null,null,null,null,null,"(1","1)",null,null,null,null,null,null,null,null,null,null,null,"Nigeria","England",0,0,null,1,1]
[null,null,"2002-06-07","Argentinien","England",0,1,null,"Sapporo"]
[null,null,null,null,null,"(0","1)"]
[null,null,"2002-06-12","Schweden","Argentinien",1,1,null,"Miyagi"]
[null,null,null,null,null,"(0","0)"]
[null,null,"2002-06-12","Nigeria","England",0,0,null,"Osaka"]
[]
[null,"Nation","Spiele","gew","unent","verl","Tore+","Tore-","Punkte"]
["Tabelle:","England",3,2,0,1,4,3,6]
[null,"Schweden"]
[null,"Argentinien"]
[null,"Nigeria"]
[]
[]
[null,null,null,null,null,"Gruppe G"]
[]
[null,null,"2002-06-03","Kroatien","Mexiko",0,1,null,"Niigata",null,null,null,null,null,null,null,null,null,"Kroatien","Mexiko",0,1,null,{"$f":"(IF(U142>V142,3,IF(U142=V142,1,2)))","v":2},{"$f":"(IF(V142>U142,3,IF(U142=V142,1,2)))","v":3}]
[null,null,null,null,null,"(0","0)",null,null,null,null,null,null,null,null,null,null,null,"Italien","Ecuador",2,0,null,3,2]
[null,null,"2002-06-03","Italien","Ecuador",2,0,null,"Sapporo",null,null,null,null,null,null,null,null,null,"Italien","Kroatien",1,2,null,2,3]
[null,null,null,null,null,"(2","0)",null,null,null,null,null,null,null,null,null,null,null,"Mexiko","Ecuador",2,1,null,3,2]
[null,null,"2002-06-08","Italien","Kroatien",1,2,null,"Kashima",null,null,null,null,null,null,null,null,null,"Mexiko","Italien",1,1,null,1,1]
[null,null,null,null,null,"(0","0)",null,null,null,null,null,null,null,null,null,null,null,"Ecuador","Kroatien",1,0,null,3,2]
[null,null,"2002-06-09","Mexiko","Ecuador",2,1,null,"Miyagi"]
[null,null,null,null,null,"(1","1)"]
[null,null,"2002-06-13","Mexiko","Italien",1,1,null,"Oita"]
[null,null,null,null,null,"(1","0)"]
[null,null,"2002-06-13","Ecuador","Kroatien",1,0,null,"Yokohama"]
[null,null,null,null,null,"(0","0)"]
[]
[null,"Nation","Spiele","gew","unent","verl","Tore+","Tore-","Punkte"]
["Tabelle:","Kroatien",3,2,0,1,4,3,6]
[null,"Mexiko"]
[null,"Italien"]
[null,"Ecuador"]
[]
[]
[null,null,null,null,null,"Gruppe H"]
[]
[null,null,"2002-06-04","Japan","Belgien",2,2,null,"Saitama",null,null,null,null,null,null,null,null,null,"Japan","Belgien",2,2,null,{"$f":"(IF(U164>V164,3,IF(U164=V164,1,2)))","v":1},{"$f":"(IF(V164>U164,3,IF(U164=V164,1,2)))","v":1}]
[null,null,null,null,null,"(0","0)",null,null,null,null,null,null,null,null,null,null,null,"Russland","Tunesien",2,0,null,3,2]
[null,null,"2002-06-05","Russland","Tunesien",2,0,null,"Kobe",null,null,null,null,null,null,null,null,null,"Japan","Russland",1,0,null,3,2]
[null,null,null,null,null,"(0","0)",null,null,null,null,null,null,null,null,null,null,null,"Tunesien","Belgien",1,1,null,1,1]
[null,null,"2002-06-09","Japan","Russland",1,0,null,"Yokohama",null,null,null,null,null,null,null,null,null,"Tunesien","Japan",0,2,null,2,3]
[null,null,null,null,null,"(0","0)",null,null,null,null,null,null,null,null,null,null,null,"Belgien","Russland",3,2,null,3,2]
[null,null,"2002-06-10","Tunesien","Belgien",1,1,null,"Oita"]
[null,null,null,null,null,"(1","1)"]
[null,null,"2002-06-14","Tunesien","Japan",0,2,null,"Osaka"]
[null,null,null,null,null,"(0","0)"]
[null,null,"2002-06-14","Belgien","Russland",3,2,null,"Shizuoka"]
[null,null,null,null,null,"(1","0)"]
[]
[null,"Nation","Spiele","gew","unent","verl","Tore+","Tore-","Punkte"]
["Tabelle:","Japan",3,2,0,1,4,3,6]
[null,"Belgien"]
[null,"Russland"]
[null,"Tunesien"]
[]
[]
[null,null,null,null,null,"Achtelfinale:"]
[]
[null,null,"2002-06-15","BRD","Paraguay",1,0,null,"Seogwipo",null,null,null,null,null,null,null,null,null,"BRD","Paraguay",1,0,null,{"$f":"(IF(U186>V186,3,IF(U186=V186,1,2)))","v":3},{"$f":"(IF(V186>U186,3,IF(U186=V186,1,2)))","v":2}]
[null,null,null,null,null,"(0","0)",null,null,null,null,null,null,null,null,null,null,null,"Dänemark","England",0,3,null,2,3]
[null,null,"2002-06-15","Dänemark","England",0,3,null,"Niigata",null,null,null,null,null,null,null,null,null,"Schweden","Senegal",1,2,null,2,3]
[null,null,null,null,null,"(0","3)",null,null,null,null,null,null,null,null,null,null,null,"Spanien","Irland",4,3,"n.E.",3,2]
[null,null,"2002-06-16","Schweden","Senegal",1,2,"n.GG.","Oita",null,null,null,null,null,null,null,null,null,"Mexiko","USA",0,2,null,2,3]
[null,null,null,null,null,1,1,null,null,null,null,null,null,null,null,null,null,null,"Brasilien","Belgien",2,0,null,3,2]
[null,null,null,null,null,"(1","1)",null,null,null,null,null,null,null,null,null,null,null,"Japan","Türkei",0,1,null,2,3]
[null,null,"2002-06-16","Spanien","Irland",3,2,"n.E.","Suwon",null,null,null,null,null,null,null,null,null,"Südkorea","Italien",2,1,"n.GG.",3,2]
[null,null,null,null,null,1,1,"n.V."]
[null,null,null,null,null,1,1]
[null,null,null,null,null,"(1","0)"]
[null,null,"2002-06-17","Mexiko","USA",0,2,null,"Jeonju"]
[null,null,null,null,null,"(0","1)"]
[null,null,"2002-06-17","Brasilien","Belgien",2,0,null,"Kobe"]
[null,null,null,null,null,"(0","0)"]
[null,null,"2002-06-18","Japan","Türkei",0,1,null,"Mivagi"]
[null,null,null,null,null,"(0","1)"]
[null,null,"2002-06-18","Südkorea","Italien",2,1,"n.GG.","Daejeon"]
[null,null,null,null,null,1,1]
[null,null,null,null,null,"(0","1)"]
[]
[]
[null,null,null,null,null,"Viertelfinale:"]
[]
[null,null,"2002-06-21","England","Brasilien",1,2,null,"Shizuoka",null,null,null,null,null,null,null,null,null,"England","Brasilien",1,2,null,{"$f":"(IF(U210>V210,3,IF(U210=V210,1,2)))","v":2},{"$f":"(IF(V210>U210,3,IF(U210=V210,1,2)))","v":3}]
[null,null,null,null,null,"(1","1)",null,null,null,null,null,null,null,null,null,null,null,"BRD","USA",1,0,null,3,2]
[null,null,"2002-06-21","BRD","USA",1,0,null,"Ulsan",null,null,null,null,null,null,null,null,null,"Spanien","Südkorea",3,5,"n.E.",2,3]
[null,null,null,null,null,"(1","0)",null,null,null,null,null,null,null,null,null,null,null,"Senegal","Türkei",0,1,"n.GG.",2,3]
[null,null,"2002-06-22","Spanien","Südkorea",3,5,"n.E.","Gwangju"]
[null,null,null,null,null,0,0,"n.V."]
[null,null,null,null,null,0,0]
[null,null,null,null,null,"(0","0)"]
[null,null,"2002-06-22","Senegal","Türkei",0,1,"n.GG.","Osaka"]
[null,null,null,null,null,0,0]
[null,null,null,null,null,"(0","0)"]
[]
[]
[null,null,null,null,null,"Halbfinale:"]
[]
[null,null,"2002-06-25","BRD","Südkorea",1,0,null,"Seoul",null,null,null,null,null,null,null,null,null,"BRD","Südkorea",1,0,null,{"$f":"(IF(U225>V225,3,IF(U225=V225,1,2)))","v":3},{"$f":"(IF(V225>U225,3,IF(U225=V225,1,2)))","v":2}]
[null,null,null,null,null,"(0","0)",null,null,null,null,null,null,null,null,null,null,null,"Brasilien","Türkei",1,0,null,3,2]
[null,null,"2002-06-26","Brasilien","Türkei",1,0,null,"Saitama"]
[null,null,null,null,null,"(0","0)"]
[]
[]
[null,null,"Spiel um Platz 3 am 29. Juni 2002 in Daegu:"]
[null,null,null,null,"Südkorea","---","Türkei",null,null,null,null,null,null,null,null,null,null,null,"Südkorea","Türkei",2,3,null,{"$f":"(IF(U232>V232,3,IF(U232=V232,1,2)))","v":2},{"$f":"(IF(V232>U232,3,IF(U232=V232,1,2)))","v":3}]
[null,null,null,null,2,null,3]
[null,null,null,null,"(1",null,"3)"]
[]
[]
[]
[]
[null,null,"Endspiel am 30. Juni in Yokohama:"]
[null,null,null,null,"BRD","---","Brasilien",null,null,null,null,null,null,null,null,null,null,null,"BRD","Brasilien",0,2,null,{"$f":"(IF(U240>V240,3,IF(U240=V240,1,2)))","v":2},{"$f":"(IF(V240>U240,3,IF(U240=V240,1,2)))","v":3}]
[null,null,null,null,0,null,2]
[null,null,null,null,"(0",null,"0)"]
[]
[]
[]
[]
["VR-Gruppe","Nation","Spiele","gew","unent","verl","Tore+","Tore-","Punkte"]
[null,"Brasilien",{"$f":"COUNTIF($S$12:$T$240,\"Brasilien\")","v":7},{"$f":"SUMPRODUCT(($S$12:$T$240=B248)*($X$12:$Y$240=3))","v":7},{"$f":"SUMPRODUCT(($S$12:$T$240=B248)*($X$12:$Y$240=1))","v":0},{"$f":"SUMPRODUCT(($S$12:$T$240=B248)*($X$12:$Y$240=2))","v":0},{"$f":"SUMPRODUCT(($S$12:$S$240=B248)*($U$12:$U$240))+SUMPRODUCT(($T$12:$T$240=B248)*($V$12:$V$240))","v":18},{"$f":"SUMPRODUCT(($S$12:$S$240=B248)*($V$12:$V$240))+SUMPRODUCT(($T$12:$T$240=B248)*($U$12:$U$240))","v":4},{"$f":"(D248*3)+E248","v":21}]
[null,"BRD",{"$f":"COUNTIF($S$12:$T$240,\"BRD\")","v":7},5,1,1,14,3,16]
[null,"Südkorea",{"$f":"COUNTIF($S$12:$T$240,\"Südkorea\")","v":7},4,1,2,13,9,13]
[null,"Türkei",{"$f":"COUNTIF($S$12:$T$240,\"Türkei\")","v":7},4,1,2,10,6,13]
[null,"Spanien",{"$f":"COUNTIF($S$12:$T$240,\"Spanien\")","v":5},4,0,1,16,12,12]
[null,"Senegal",{"$f":"COUNTIF($S$12:$T$240,\"Senegal\")","v":5},2,2,1,7,6,8]
[null,"England",{"$f":"COUNTIF($S$12:$T$240,\"England\")","v":5},2,2,1,6,3,8]
[null,"USA",{"$f":"COUNTIF($S$12:$T$240,\"USA\")","v":5},2,1,2,7,7,7]
[null,"Japan",{"$f":"COUNTIF($S$12:$T$240,\"Japan\")","v":4},2,1,1,5,3,7]
[null,"Dänemark",{"$f":"COUNTIF($S$12:$T$240,\"Dänemark\")","v":4},2,1,1,5,5,7]
[null,"Mexiko",{"$f":"COUNTIF($S$12:$T$240,\"Mexiko\")","v":4},2,1,1,4,4,7]
[null,"Irland",{"$f":"COUNTIF($S$12:$T$240,\"Irland\")","v":4},1,2,1,8,6,5]
[null,"Belgien",{"$f":"COUNTIF($S$12:$T$240,\"Belgien\")","v":4},1,2,1,6,7,5]
[null,"Schweden",{"$f":"COUNTIF($S$12:$T$240,\"Schweden\")","v":4},1,2,1,5,5,5]
[null,"Paraguay",{"$f":"COUNTIF($S$12:$T$240,\"Paraguay\")","v":4},1,1,2,6,7,4]
[null,"Südafrika",{"$f":"COUNTIF($S$12:$T$240,\"Südafrika\")","v":3},1,1,1,5,5,4]
[null,"Italien",{"$f":"COUNTIF($S$12:$T$240,\"Italien\")","v":4},1,1,2,5,5,4]
[null,"Costa Rica",{"$f":"COUNTIF($S$12:$T$240,\"Costa Rica\")","v":3},1,1,1,5,6,4]
[null,"Argentinien",{"$f":"COUNTIF($S$12:$T$240,\"Argentinien\")","v":3},1,1,1,2,2,4]
[null,"Kamerun",{"$f":"COUNTIF($S$12:$T$240,\"Kamerun\")","v":3},1,1,1,2,3,4]
[null,"Portugal",{"$f":"COUNTIF($S$12:$T$240,\"Portugal\")","v":3},1,0,2,6,4,3]
[null,"Russland",{"$f":"COUNTIF($S$12:$T$240,\"Russland\")","v":3},1,0,2,4,4,3]
[null,"Polen",{"$f":"COUNTIF($S$12:$T$240,\"Polen\")","v":3},1,0,2,3,7,3]
[null,"Kroatien",{"$f":"COUNTIF($S$12:$T$240,\"Kroatien\")","v":3},1,0,2,2,3,3]
[null,"Ecuador",{"$f":"COUNTIF($S$12:$T$240,\"Ecuador\")","v":3},1,0,2,2,4,3]
[null,"Uruguay",{"$f":"COUNTIF($S$12:$T$240,\"Uruguay\")","v":3},0,2,1,4,5,2]
[null,"Nigeria",{"$f":"COUNTIF($S$12:$T$240,\"Nigeria\")","v":3},0,1,2,1,3,1]
[null,"Tunesien",{"$f":"COUNTIF($S$12:$T$240,\"Tunesien\")","v":3},0,1,2,1,5,1]
[null,"Frankreich",{"$f":"COUNTIF($S$12:$T$240,\"Frankreich\")","v":3},0,1,2,0,3,1]
[null,"Slowenien",{"$f":"COUNTIF($S$12:$T$240,\"Slowenien\")","v":3},0,0,3,2,7,0]
[null,"China",{"$f":"COUNTIF($S$12:$T$240,\"China\")","v":3},0,0,3,0,9,0]
[null,"Saudi-Arabien",{"$f":"COUNTIF($S$12:$T$240,\"Saudi-Arabien\")","v":3},0,0,3,0,12,0]

{"sheet":"Gesamt","index":5,"n_rows":24,"n_cols":24,"rows_kept":24,"cut":false,"hidden":false,"merged":[[3,4,3,6],[3,7,3,8],[3,10,3,11],[3,13,3,15]]}
["Č",null,"Länder existieren nicht mehr"]
[]
["Teilnehmer","Teilnahme","Nation","Spiele","gew","unent","verl","Tore+","Tore-","diff. +/-","Punkte+","Punkte-","Spiele","gew","unent","verl","Punkte","Punkte+",null,1986,1990,1994,1998,2002]
[null,"Gesamt",null,"bis 1990","Ergebnisse bis 1990",null,null,"Gesamt",null,null,"Punkte +/- bis 1990",null,"ab 1994","Ergebnisse ab 1994",null,null,"Punkte ab 1994","Gesamt"]
[1,{"$f":"SUM($T5:$X5)","v":5},"Brasilien",{"$f":"SUM(COUNTIF(INDIRECT(\"\"&$T$3:$X$3&\"!$S$12:$T$400\"),\"Brasilien\"))","v":30},{"$f":"SUM('1986'!D219,'1990'!D230)","v":7},{"$f":"SUM('1986'!E219,'1990'!E230)","v":0},{"$f":"SUM('1986'!F219,'1990'!F230)","v":2},{"$f":"SUM('1986'!G219,'1990'!G230,'1994'!G221,'1998'!G248,'2002'!G248)","v":67},{"$f":"SUM('1986'!H219,'1990'!H230,'1994'!H221,'1998'!H248,'2002'!H248)","v":28},{"$f":"SUM(H5-I5)","v":39},{"$f":"(E5*2)+F5","v":14},{"$f":"(G5*2)+F5","v":4},{"$f":"SUM(COUNTIF(INDIRECT(\"\"&$V$3:$X$3&\"!$S$12:$T$400\"),\"Brasilien\"))","v":21},{"$f":"SUM('1994'!D221,'1998'!D248,'2002'!D248)","v":18},{"$f":"SUM('1994'!E221,'1998'!E248,'2002'!E248)","v":1},{"$f":"SUM('1994'!F221,'1998'!F248,'2002'!F248)","v":2},{"$f":"(N5*3)+O5","v":55},{"$f":"SUM(K5+Q5)","v":69},null,{"$f":"COUNTIF('1986'!$AA$1:$AA$100,\"Brasilien\")","v":1},{"$f":"COUNTIF('1990'!$AA$1:$AA$100,\"Brasilien\")","v":1},{"$f":"COUNTIF('1994'!$AA$1:$AA$100,\"Brasilien\")","v":1},{"$f":"COUNTIF('1998'!$AA$1:$AA$100,\"Brasilien\")","v":1},{"$f":"COUNTIF('2002'!$AA$1:$AA$100,\"Brasilien\")","v":1}]
[2,{"$f":"SUM($T6:$X6)","v":5},"BRD",{"$f":"SUM(COUNTIF(INDIRECT(\"\"&$T$3:$X$3&\"!$S$12:$T$400\"),\"BRD\"))","v":31},{"$f":"SUM('[1]1954'!D134,'[1]1958'!D155,'[1]1962'!D137,'[1]1966'!D135,'[1]1970'!D137,'[1]1974'!D155,'[1]1978'!D159,'[1]1982'!D225,'[1]1986'!D218,'[1]1990'!D226)","v":39},{"$f":"SUM('[1]1954'!E134,'[1]1958'!E155,'[1]1962'!E137,'[1]1966'!E135,'[1]1970'!E137,'[1]1974'!E155,'[1]1978'!E159,'[1]1982'!E225,'[1]1986'!E218,'[1]1990'!E226)","v":11},{"$f":"SUM('[1]1954'!F134,'[1]1958'!F155,'[1]1962'!F137,'[1]1966'!F135,'[1]1970'!F137,'[1]1974'!F155,'[1]1978'!F159,'[1]1982'!F225,'[1]1986'!F218,'[1]1990'!F226)","v":12},{"$f":"SUM('[1]1954'!G134,'[1]1958'!G155,'[1]1962'!G137,'[1]1966'!G135,'[1]1970'!G137,'[1]1974'!G155,'[1]1978'!G159,'[1]1982'!G225,'[1]1986'!G218,'[1]1990'!G226,'[1]1994'!G225,'[1]1998'!G253,'[1]2002'!G249,'[1]2006'!G249,'[1]2010'!G245,'[1]2014'!G250)","v":227},{"$f":"SUM('[1]1954'!H134,'[1]1958'!H155,'[1]1962'!H137,'[1]1966'!H135,'[1]1970'!H137,'[1]1974'!H155,'[1]1978'!H159,'[1]1982'!H225,'[1]1986'!H218,'[1]1990'!H226,'[1]1994'!H225,'[1]1998'!H253,'[1]2002'!H249,'[1]2006'!H249,'[1]2010'!H245,'[1]2014'!H250)","v":118},109,{"$f":"(E6*2)+F6","v":89},35,{"$f":"SUM(COUNTIF(INDIRECT(\"\"&$V$3:$X$3&\"!$S$12:$T$400\"),\"BRD\"))","v":17},{"$f":"SUM('[1]1994'!D225,'[1]1998'!D253,'[1]2002'!D249,'[1]2006'!D249,'[1]2010'!D245,'[1]2014'!D250)","v":28},{"$f":"SUM('[1]1994'!E225,'[1]1998'!E253,'[1]2002'!E249,'[1]2006'!E249,'[1]2010'!E245,'[1]2014'!E250)","v":4},{"$f":"SUM('[1]1994'!F225,'[1]1998'!F253,'[1]2002'!F249,'[1]2006'!F249,'[1]2010'!F245,'[1]2014'!F250)","v":6},{"$f":"(N6*3)+O6","v":88},{"$f":"SUM(K6+Q6)","v":177},null,{"$f":"COUNTIF('1986'!$AA$1:$AA$100,\"BRD\")","v":1},{"$f":"COUNTIF('1990'!$AA$1:$AA$100,\"BRD\")","v":1},{"$f":"COUNTIF('1994'!$AA$1:$AA$100,\"BRD\")","v":1},{"$f":"COUNTIF('1998'!$AA$1:$AA$100,\"BRD\")","v":1},{"$f":"COUNTIF('2002'!$AA$1:$AA$100,\"BRD\")","v":1}]
[3,{"$f":"SUM($T7:$AE7)","v":5},"Italien",{"$f":"SUM(COUNTIF(INDIRECT(\"\"&$T$3:$X$3&\"!$S$12:$T$400\"),\"Italien\"))","v":27},{"$f":"SUM('[1]1934'!D76,'[1]1938'!D85,'[1]1950'!D113,'[1]1954'!D144,'[1]1962'!D138,'[1]1966'!D143,'[1]1970'!D138,'[1]1974'!D163,'[1]1978'!D156,'[1]1982'!D224,'[1]1986'!D226,'[1]1990'!D227)","v":31},{"$f":"SUM('[1]1934'!E76,'[1]1938'!E85,'[1]1950'!E113,'[1]1954'!E144,'[1]1962'!E138,'[1]1966'!E143,'[1]1970'!E138,'[1]1974'!E163,'[1]1978'!E156,'[1]1982'!E224,'[1]1986'!E226,'[1]1990'!E227)","v":11},{"$f":"SUM('[1]1934'!F76,'[1]1938'!F85,'[1]1950'!F113,'[1]1954'!F144,'[1]1962'!F138,'[1]1966'!F143,'[1]1970'!F138,'[1]1974'!F163,'[1]1978'!F156,'[1]1982'!F224,'[1]1986'!F226,'[1]1990'!F227)","v":12},{"$f":"SUM('[1]1934'!G76,'[1]1938'!G85,'[1]1950'!G113,'[1]1954'!G144,'[1]1962'!G138,'[1]1966'!G143,'[1]1970'!G138,'[1]1974'!G163,'[1]1978'!G156,'[1]1982'!G224,'[1]1986'!G226,'[1]1990'!G227,'[1]1994'!G223,'[1]1998'!G252,'[1]2002'!G264,'[1]2006'!G248,'[1]2010'!G268,'[1]2014'!G272)","v":141},{"$f":"SUM('[1]1934'!H76,'[1]1938'!H85,'[1]1950'!H113,'[1]1954'!H144,'[1]1962'!H138,'[1]1966'!H143,'[1]1970'!H138,'[1]1974'!H163,'[1]1978'!H156,'[1]1982'!H224,'[1]1986'!H226,'[1]1990'!H227,'[1]1994'!H223,'[1]1998'!H252,'[1]2002'!H264,'[1]2006'!H248,'[1]2010'!H268,'[1]2014'!H272)","v":91},50,73,35,{"$f":"SUM(COUNTIF(INDIRECT(\"\"&$V$3:$X$3&\"!$S$12:$T$400\"),\"Italien\"))","v":16},{"$f":"SUM('[1]1994'!D223,'[1]1998'!D252,'[1]2002'!D264,'[1]2006'!D248,'[1]2010'!D268,'[1]2014'!D272)","v":15},{"$f":"SUM('[1]1994'!E223,'[1]1998'!E252,'[1]2002'!E264,'[1]2006'!E248,'[1]2010'!E268,'[1]2014'!E272)","v":6},{"$f":"SUM('[1]1994'!F223,'[1]1998'!F252,'[1]2002'!F264,'[1]2006'!F248,'[1]2010'!F268,'[1]2014'!F272)","v":8},51,124,null,{"$f":"COUNTIF('1986'!$AA$1:$AA$100,\"Italien\")","v":1},{"$f":"COUNTIF('1990'!$AA$1:$AA$100,\"Italien\")","v":1},{"$f":"COUNTIF('1994'!$AA$1:$AA$100,\"Italien\")","v":1},{"$f":"COUNTIF('1998'!$AA$1:$AA$100,\"Italien\")","v":1},{"$f":"COUNTIF('2002'!$AA$1:$AA$100,\"Italien\")","v":1}]
[4,5,"Argentinien",{"$f":"SUM(COUNTIF(INDIRECT(\"\"&$T$3:$X$3&\"!$S$12:$T$400\"),\"Argentinien\"))","v":26},{"$f":"SUM('[1]1930'!D102,'[1]1934'!D86,'[1]1958'!D164,'[1]1962'!D139,'[1]1966'!D137,'[1]1974'!D162,'[1]1978'!D154,'[1]1982'!D235,'[1]1986'!D216,'[1]1990'!D228)","v":26},{"$f":"SUM('[1]1930'!E102,'[1]1934'!E86,'[1]1958'!E164,'[1]1962'!E139,'[1]1966'!E137,'[1]1974'!E162,'[1]1978'!E154,'[1]1982'!E235,'[1]1986'!E216,'[1]1990'!E228)","v":7},{"$f":"SUM('[1]1930'!F102,'[1]1934'!F86,'[1]1958'!F164,'[1]1962'!F139,'[1]1966'!F137,'[1]1974'!F162,'[1]1978'!F154,'[1]1982'!F235,'[1]1986'!F216,'[1]1990'!F228)","v":15},{"$f":"SUM('[1]1930'!G102,'[1]1934'!G86,'[1]1958'!G164,'[1]1962'!G139,'[1]1966'!G137,'[1]1974'!G162,'[1]1978'!G154,'[1]1982'!G235,'[1]1986'!G216,'[1]1990'!G228,'[1]1994'!G229,'[1]1998'!G250,'[1]2002'!G266,'[1]2006'!G253,'[1]2010'!G247,'[1]2014'!G252)","v":148},{"$f":"SUM('[1]1930'!H102,'[1]1934'!H86,'[1]1958'!H164,'[1]1962'!H139,'[1]1966'!H137,'[1]1974'!H162,'[1]1978'!H154,'[1]1982'!H235,'[1]1986'!H216,'[1]1990'!H228,'[1]1994'!H229,'[1]1998'!H250,'[1]2002'!H266,'[1]2006'!H253,'[1]2010'!H247,'[1]2014'!H252)","v":98},50,59,37,{"$f":"SUM(COUNTIF(INDIRECT(\"\"&$V$3:$X$3&\"!$S$12:$T$400\"),\"Argentinien\"))","v":12},{"$f":"SUM('[1]1994'!D229,'[1]1998'!D250,'[1]2002'!D266,'[1]2006'!D253,'[1]2010'!D247,'[1]2014'!D252)","v":20},{"$f":"SUM('[1]1994'!E229,'[1]1998'!E250,'[1]2002'!E266,'[1]2006'!E253,'[1]2010'!E247,'[1]2014'!E252)","v":2},{"$f":"SUM('[1]1994'!F229,'[1]1998'!F250,'[1]2002'!F266,'[1]2006'!F253,'[1]2010'!F247,'[1]2014'!F252)","v":7},62,121,null,{"$f":"COUNTIF('1986'!$AA$1:$AA$100,\"Argentinien\")","v":1},{"$f":"COUNTIF('1990'!$AA$1:$AA$100,\"Argentinien\")","v":1},{"$f":"COUNTIF('1994'!$AA$1:$AA$100,\"Argentinien\")","v":1},{"$f":"COUNTIF('1998'!$AA$1:$AA$100,\"Argentinien\")","v":1},{"$f":"COUNTIF('2002'!$AA$1:$AA$100,\"Argentinien\")","v":1}]
[5,5,"Spanien",{"$f":"SUM(COUNTIF(INDIRECT(\"\"&$T$3:$X$3&\"!$S$12:$T$400\"),\"Spanien\"))","v":22},{"$f":"SUM('[1]1934'!D80,'[1]1950'!D109,'[1]1962'!D143,'[1]1966'!D141,'[1]1978'!D164,'[1]1982'!D236,'[1]1986'!D223,'[1]1990'!D234)","v":13},{"$f":"SUM('[1]1934'!E80,'[1]1950'!E109,'[1]1962'!E143,'[1]1966'!E141,'[1]1978'!E164,'[1]1982'!E236,'[1]1986'!E223,'[1]1990'!E234)","v":6},{"$f":"SUM('[1]1934'!F80,'[1]1950'!F109,'[1]1962'!F143,'[1]1966'!F141,'[1]1978'!F164,'[1]1982'!F236,'[1]1986'!F223,'[1]1990'!F234)","v":13},{"$f":"SUM('[1]1934'!G80,'[1]1950'!G109,'[1]1962'!G143,'[1]1966'!G141,'[1]1978'!G164,'[1]1982'!G236,'[1]1986'!G223,'[1]1990'!G234,'[1]1994'!G228,'[1]1998'!G262,'[1]2002'!G252,'[1]2006'!G255,'[1]2010'!G244,'[1]2014'!G271)","v":102},{"$f":"SUM('[1]1934'!H80,'[1]1950'!H109,'[1]1962'!H143,'[1]1966'!H141,'[1]1978'!H164,'[1]1982'!H236,'[1]1986'!H223,'[1]1990'!H234,'[1]1994'!H228,'[1]1998'!H262,'[1]2002'!H252,'[1]2006'!H255,'[1]2010'!H244,'[1]2014'!H271)","v":78},24,32,32,{"$f":"SUM(COUNTIF(INDIRECT(\"\"&$V$3:$X$3&\"!$S$12:$T$400\"),\"Spanien\"))","v":13},{"$f":"SUM('[1]1994'!D228,'[1]1998'!D262,'[1]2002'!D252,'[1]2006'!D255,'[1]2010'!D244,'[1]2014'!D271)","v":17},{"$f":"SUM('[1]1994'!E228,'[1]1998'!E262,'[1]2002'!E252,'[1]2006'!E255,'[1]2010'!E244,'[1]2014'!E271)","v":3},{"$f":"SUM('[1]1994'!F228,'[1]1998'!F262,'[1]2002'!F252,'[1]2006'!F255,'[1]2010'!F244,'[1]2014'!F271)","v":7},54,86,null,{"$f":"COUNTIF('1986'!$AA$1:$AA$100,\"Spanien\")","v":1},{"$f":"COUNTIF('1990'!$AA$1:$AA$100,\"Spanien\")","v":1},{"$f":"COUNTIF('1994'!$AA$1:$AA$100,\"Spanien\")","v":1},{"$f":"COUNTIF('1998'!$AA$1:$AA$100,\"Spanien\")","v":1},{"$f":"COUNTIF('2002'!$AA$1:$AA$100,\"Spanien\")","v":1}]
[6,3,"Niederlande",{"$f":"SUM(COUNTIF(INDIRECT(\"\"&$T$3:$X$3&\"!$S$12:$T$400\"),\"Niederlande\"))","v":16},{"$f":"SUM('[1]1934'!D85,'[1]1938'!D98,'[1]1974'!D156,'[1]1978'!D157,'[1]1990'!D240)","v":8},{"$f":"SUM('[1]1934'!E85,'[1]1938'!E98,'[1]1974'!E156,'[1]1978'!E157,'[1]1990'!E240)","v":6},{"$f":"SUM('[1]1934'!F85,'[1]1938'!F98,'[1]1974'!F156,'[1]1978'!F157,'[1]1990'!F240)","v":6},{"$f":"SUM('[1]1934'!G85,'[1]1938'!G98,'[1]1974'!G156,'[1]1978'!G157,'[1]1990'!G240,'[1]1994'!G227,'[1]1998'!G251,'[1]2006'!G258,'[1]2010'!G243,'[1]2014'!G251)","v":94},{"$f":"SUM('[1]1934'!H85,'[1]1938'!H98,'[1]1974'!H156,'[1]1978'!H157,'[1]1990'!H240,'[1]1994'!H227,'[1]1998'!H251,'[1]2006'!H258,'[1]2010'!H243,'[1]2014'!H251)","v":59},35,22,18,{"$f":"SUM(COUNTIF(INDIRECT(\"\"&$V$3:$X$3&\"!$S$12:$T$400\"),\"Niederlande\"))","v":12},{"$f":"SUM('[1]1994'!D227,'[1]1998'!D251,'[1]2006'!D258,'[1]2010'!D243,'[1]2014'!D251)","v":20},{"$f":"SUM('[1]1994'!E227,'[1]1998'!E251,'[1]2006'!E258,'[1]2010'!E243,'[1]2014'!E251)","v":3},{"$f":"SUM('[1]1994'!F227,'[1]1998'!F251,'[1]2006'!F258,'[1]2010'!F243,'[1]2014'!F251)","v":7},63,85,null,{"$f":"COUNTIF('1986'!$AA$1:$AA$100,\"Niederlande\")","v":0},{"$f":"COUNTIF('1990'!$AA$1:$AA$100,\"Niederlande\")","v":1},{"$f":"COUNTIF('1994'!$AA$1:$AA$100,\"Niederlande\")","v":1},{"$f":"COUNTIF('1998'!$AA$1:$AA$100,\"Niederlande\")","v":1},{"$f":"COUNTIF('2002'!$AA$1:$AA$100,\"Niederlande\")","v":0}]
[7,3,"Frankreich",{"$f":"SUM(COUNTIF(INDIRECT(\"\"&$T$3:$X$3&\"!$S$12:$T$400\"),\"Frankreich\"))","v":17},{"$f":"SUM('[1]1930'!D109,'[1]1934'!D84,'[1]1938'!D91,'[1]1954'!D142,'[1]1958'!D154,'[1]1966'!D145,'[1]1978'!D165,'[1]1982'!D229,'[1]1986'!D217)","v":16},{"$f":"SUM('[1]1930'!E109,'[1]1934'!E84,'[1]1938'!E91,'[1]1954'!E142,'[1]1958'!E154,'[1]1966'!E145,'[1]1978'!E165,'[1]1982'!E229,'[1]1986'!E217)","v":3},{"$f":"SUM('[1]1930'!F109,'[1]1934'!F84,'[1]1938'!F91,'[1]1954'!F142,'[1]1958'!F154,'[1]1966'!F145,'[1]1978'!F165,'[1]1982'!F229,'[1]1986'!F217)","v":15},{"$f":"SUM('[1]1930'!G109,'[1]1934'!G84,'[1]1938'!G91,'[1]1954'!G142,'[1]1958'!G154,'[1]1966'!G145,'[1]1978'!G165,'[1]1982'!G229,'[1]1986'!G217,'[1]1998'!G247,'[1]2002'!G276,'[1]2006'!G251,'[1]2010'!G270,'[1]2014'!G257)","v":121},{"$f":"SUM('[1]1930'!H109,'[1]1934'!H84,'[1]1938'!H91,'[1]1954'!H142,'[1]1958'!H154,'[1]1966'!H145,'[1]1978'!H165,'[1]1982'!H229,'[1]1986'!H217,'[1]1998'!H247,'[1]2002'!H276,'[1]2006'!H251,'[1]2010'!H270,'[1]2014'!H257)","v":87},34,35,33,{"$f":"SUM(COUNTIF(INDIRECT(\"\"&$V$3:$X$3&\"!$S$12:$T$400\"),\"Frankreich\"))","v":10},{"$f":"SUM('[1]1998'!D247,'[1]2002'!D276,'[1]2006'!D251,'[1]2010'!D270,'[1]2014'!D257)","v":14},{"$f":"SUM('[1]1998'!E247,'[1]2002'!E276,'[1]2006'!E251,'[1]2010'!E270,'[1]2014'!E257)","v":5},{"$f":"SUM('[1]1998'!F247,'[1]2002'!F276,'[1]2006'!F251,'[1]2010'!F270,'[1]2014'!F257)","v":6},47,82,null,{"$f":"COUNTIF('1986'!$AA$1:$AA$100,\"Frankreich\")","v":1},{"$f":"COUNTIF('1990'!$AA$1:$AA$100,\"Frankreich\")","v":0},{"$f":"COUNTIF('1994'!$AA$1:$AA$100,\"Frankreich\")","v":0},{"$f":"COUNTIF('1998'!$AA$1:$AA$100,\"Frankreich\")","v":1},{"$f":"COUNTIF('2002'!$AA$1:$AA$100,\"Frankreich\")","v":1}]
[8,4,"England",{"$f":"SUM(COUNTIF(INDIRECT(\"\"&$T$3:$X$3&\"!$S$12:$T$400\"),\"England\"))","v":21},{"$f":"SUM('[1]1950'!D116,'[1]1954'!D140,'[1]1958'!D163,'[1]1962'!D140,'[1]1966'!D133,'[1]1970'!D143,'[1]1982'!D228,'[1]1986'!D225,'[1]1990'!D229)","v":18},{"$f":"SUM('[1]1950'!E116,'[1]1954'!E140,'[1]1958'!E163,'[1]1962'!E140,'[1]1966'!E133,'[1]1970'!E143,'[1]1982'!E228,'[1]1986'!E225,'[1]1990'!E229)","v":11},{"$f":"SUM('[1]1950'!F116,'[1]1954'!F140,'[1]1958'!F163,'[1]1962'!F140,'[1]1966'!F133,'[1]1970'!F143,'[1]1982'!F228,'[1]1986'!F225,'[1]1990'!F229)","v":12},{"$f":"SUM('[1]1950'!G116,'[1]1954'!G140,'[1]1958'!G163,'[1]1962'!G140,'[1]1966'!G133,'[1]1970'!G143,'[1]1982'!G228,'[1]1986'!G225,'[1]1990'!G229,'[1]1998'!G257,'[1]2002'!G254,'[1]2006'!G254,'[1]2010'!G255,'[1]2014'!G276)","v":86},{"$f":"SUM('[1]1950'!H116,'[1]1954'!H140,'[1]1958'!H163,'[1]1962'!H140,'[1]1966'!H133,'[1]1970'!H143,'[1]1982'!H228,'[1]1986'!H225,'[1]1990'!H229,'[1]1998'!H257,'[1]2002'!H254,'[1]2006'!H254,'[1]2010'!H255,'[1]2014'!H276)","v":67},19,47,35,{"$f":"SUM(COUNTIF(INDIRECT(\"\"&$V$3:$X$3&\"!$S$12:$T$400\"),\"England\"))","v":9},{"$f":"SUM('[1]1998'!D257,'[1]2002'!D254,'[1]2006'!D254,'[1]2010'!D255,'[1]2014'!D276)","v":8},{"$f":"SUM('[1]1998'!E257,'[1]2002'!E254,'[1]2006'!E254,'[1]2010'!E255,'[1]2014'!E276)","v":6},{"$f":"SUM('[1]1998'!F257,'[1]2002'!F254,'[1]2006'!F254,'[1]2010'!F255,'[1]2014'!F276)","v":7},30,77,null,{"$f":"COUNTIF('1986'!$AA$1:$AA$100,\"England\")","v":1},{"$f":"COUNTIF('1990'!$AA$1:$AA$100,\"England\")","v":1},{"$f":"COUNTIF('1994'!$AA$1:$AA$100,\"England\")","v":0},{"$f":"COUNTIF('1998'!$AA$1:$AA$100,\"England\")","v":1},{"$f":"COUNTIF('2002'!$AA$1:$AA$100,\"England\")","v":1}]
[9,3,"Uruguay",{"$f":"SUM(COUNTIF(INDIRECT(\"\"&$T$3:$X$3&\"!$S$12:$T$400\"),\"Uruguay\"))","v":11},{"$f":"SUM('[1]1930'!D101,'[1]1950'!D108,'[1]1954'!D137,'[1]1962'!D141,'[1]1966'!D139,'[1]1970'!D141,'[1]1974'!D166,'[1]1986'!D233,'[1]1990'!D241)","v":15},{"$f":"SUM('[1]1930'!E101,'[1]1950'!E108,'[1]1954'!E137,'[1]1962'!E141,'[1]1966'!E139,'[1]1970'!E141,'[1]1974'!E166,'[1]1986'!E233,'[1]1990'!E241)","v":8},{"$f":"SUM('[1]1930'!F101,'[1]1950'!F108,'[1]1954'!F137,'[1]1962'!F141,'[1]1966'!F139,'[1]1970'!F141,'[1]1974'!F166,'[1]1986'!F233,'[1]1990'!F241)","v":14},{"$f":"SUM('[1]1930'!G101,'[1]1950'!G108,'[1]1954'!G137,'[1]1962'!G141,'[1]1966'!G139,'[1]1970'!G141,'[1]1974'!G166,'[1]1986'!G233,'[1]1990'!G241,'[1]2002'!G273,'[1]2010'!G246,'[1]2014'!G261)","v":83},{"$f":"SUM('[1]1930'!H101,'[1]1950'!H108,'[1]1954'!H137,'[1]1962'!H141,'[1]1966'!H139,'[1]1970'!H141,'[1]1974'!H166,'[1]1986'!H233,'[1]1990'!H241,'[1]2002'!H273,'[1]2010'!H246,'[1]2014'!H261)","v":72},11,38,36,{"$f":"SUM(COUNTIF(INDIRECT(\"\"&$V$3:$X$3&\"!$S$12:$T$400\"),\"Uruguay\"))","v":3},{"$f":"SUM('[1]2002'!D273,'[1]2010'!D246,'[1]2014'!D261)","v":6},{"$f":"SUM('[1]2002'!E273,'[1]2010'!E246,'[1]2014'!E261)","v":3},{"$f":"SUM('[1]2002'!F273,'[1]2010'!F246,'[1]2014'!F261)","v":5},21,59,null,{"$f":"COUNTIF('1986'!$AA$1:$AA$100,\"Uruguay\")","v":1},{"$f":"COUNTIF('1990'!$AA$1:$AA$100,\"Uruguay\")","v":1},{"$f":"COUNTIF('1994'!$AA$1:$AA$100,\"Uruguay\")","v":0},{"$f":"COUNTIF('1998'!$AA$1:$AA$100,\"Uruguay\")","v":0},{"$f":"COUNTIF('2002'!$AA$1:$AA$100,\"Uruguay\")","v":1}]
[10,3,"Schweden",{"$f":"SUM(COUNTIF(INDIRECT(\"\"&$T$3:$X$3&\"!$S$12:$T$400\"),\"Schweden\"))","v":14},{"$f":"SUM('[1]1934'!D83,'[1]1938'!D92,'[1]1950'!D110,'[1]1958'!D153,'[1]1970'!D144,'[1]1974'!D158,'[1]1978'!D167,'[1]1990'!D246)","v":11},{"$f":"SUM('[1]1934'!E83,'[1]1938'!E92,'[1]1950'!E110,'[1]1958'!E153,'[1]1970'!E144,'[1]1974'!E158,'[1]1978'!E167,'[1]1990'!E246)","v":6},{"$f":"SUM('[1]1934'!F83,'[1]1938'!F92,'[1]1950'!F110,'[1]1958'!F153,'[1]1970'!F144,'[1]1974'!F158,'[1]1978'!F167,'[1]1990'!F246)","v":14},{"$f":"SUM('[1]1934'!G83,'[1]1938'!G92,'[1]1950'!G110,'[1]1958'!G153,'[1]1970'!G144,'[1]1974'!G158,'[1]1978'!G167,'[1]1990'!G246,'[1]1994'!G222,'[1]2002'!G261,'[1]2006'!G261)","v":79},{"$f":"SUM('[1]1934'!H83,'[1]1938'!H92,'[1]1950'!H110,'[1]1958'!H153,'[1]1970'!H144,'[1]1974'!H158,'[1]1978'!H167,'[1]1990'!H246,'[1]1994'!H222,'[1]2002'!H261,'[1]2006'!H261)","v":73},6,28,34,{"$f":"SUM(COUNTIF(INDIRECT(\"\"&$V$3:$X$3&\"!$S$12:$T$400\"),\"Schweden\"))","v":11},{"$f":"SUM('[1]1994'!D222,'[1]2002'!D261,'[1]2006'!D261)","v":6},{"$f":"SUM('[1]1994'!E222,'[1]2002'!E261,'[1]2006'!E261)","v":6},{"$f":"SUM('[1]1994'!F222,'[1]2002'!F261,'[1]2006'!F261)","v":3},24,52,null,{"$f":"COUNTIF('1986'!$AA$1:$AA$100,\"Schweden\")","v":0},{"$f":"COUNTIF('1990'!$AA$1:$AA$100,\"Schweden\")","v":1},{"$f":"COUNTIF('1994'!$AA$1:$AA$100,\"Schweden\")","v":1},{"$f":"COUNTIF('1998'!$AA$1:$AA$100,\"Schweden\")","v":0},{"$f":"COUNTIF('2002'!$AA$1:$AA$100,\"Schweden\")","v":1}]
[11,4,"Mexiko",{"$f":"SUM(COUNTIF(INDIRECT(\"\"&$T$3:$X$3&\"!$S$12:$T$400\"),\"Mexiko\"))","v":17},{"$f":"SUM('[1]1930'!D113,'[1]1950'!D119,'[1]1954'!D146,'[1]1958'!D167,'[1]1962'!D142,'[1]1966'!D144,'[1]1970'!D140,'[1]1978'!D169,'[1]1986'!D220)","v":6},{"$f":"SUM('[1]1930'!E113,'[1]1950'!E119,'[1]1954'!E146,'[1]1958'!E167,'[1]1962'!E142,'[1]1966'!E144,'[1]1970'!E140,'[1]1978'!E169,'[1]1986'!E220)","v":5},{"$f":"SUM('[1]1930'!F113,'[1]1950'!F119,'[1]1954'!F146,'[1]1958'!F167,'[1]1962'!F142,'[1]1966'!F144,'[1]1970'!F140,'[1]1978'!F169,'[1]1986'!F220)","v":18},{"$f":"SUM('[1]1930'!G113,'[1]1950'!G119,'[1]1954'!G146,'[1]1958'!G167,'[1]1962'!G142,'[1]1966'!G144,'[1]1970'!G140,'[1]1978'!G169,'[1]1986'!G220,'[1]1994'!G234,'[1]1998'!G259,'[1]2002'!G258,'[1]2006'!G262,'[1]2010'!G259,'[1]2014'!G258)","v":59},{"$f":"SUM('[1]1930'!H113,'[1]1950'!H119,'[1]1954'!H146,'[1]1958'!H167,'[1]1962'!H142,'[1]1966'!H144,'[1]1970'!H140,'[1]1978'!H169,'[1]1986'!H220,'[1]1994'!H234,'[1]1998'!H259,'[1]2002'!H258,'[1]2006'!H262,'[1]2010'!H259,'[1]2014'!H258)","v":99},-40,17,41,{"$f":"SUM(COUNTIF(INDIRECT(\"\"&$V$3:$X$3&\"!$S$12:$T$400\"),\"Mexiko\"))","v":12},{"$f":"SUM('[1]1994'!D234,'[1]1998'!D259,'[1]2002'!D258,'[1]2006'!D262,'[1]2010'!D259,'[1]2014'!D258)","v":8},{"$f":"SUM('[1]1994'!E234,'[1]1998'!E259,'[1]2002'!E258,'[1]2006'!E262,'[1]2010'!E259,'[1]2014'!E258)","v":7},{"$f":"SUM('[1]1994'!F234,'[1]1998'!F259,'[1]2002'!F258,'[1]2006'!F262,'[1]2010'!F259,'[1]2014'!F258)","v":9},31,48,null,{"$f":"COUNTIF('1986'!$AA$1:$AA$100,\"Mexiko\")","v":1},{"$f":"COUNTIF('1990'!$AA$1:$AA$100,\"Mexiko\")","v":0},{"$f":"COUNTIF('1994'!$AA$1:$AA$100,\"Mexiko\")","v":1},{"$f":"COUNTIF('1998'!$AA$1:$AA$100,\"Mexiko\")","v":1},{"$f":"COUNTIF('2002'!$AA$1:$AA$100,\"Mexiko\")","v":1}]
[12,5,"Belgien",{"$f":"SUM(COUNTIF(INDIRECT(\"\"&$T$3:$X$3&\"!$S$12:$T$400\"),\"Belgien\"))","v":22},{"$f":"SUM('[1]1930'!D111,'[1]1934'!D88,'[1]1938'!D97,'[1]1954'!D145,'[1]1970'!D145,'[1]1982'!D233,'[1]1986'!D221,'[1]1990'!D236)","v":8},{"$f":"SUM('[1]1930'!E111,'[1]1934'!E88,'[1]1938'!E97,'[1]1954'!E145,'[1]1970'!E145,'[1]1982'!E233,'[1]1986'!E221,'[1]1990'!E236)","v":3},{"$f":"SUM('[1]1930'!F111,'[1]1934'!F88,'[1]1938'!F97,'[1]1954'!F145,'[1]1970'!F145,'[1]1982'!F233,'[1]1986'!F221,'[1]1990'!F236)","v":14},{"$f":"SUM('[1]1930'!G111,'[1]1934'!G88,'[1]1938'!G97,'[1]1954'!G145,'[1]1970'!G145,'[1]1982'!G233,'[1]1986'!G221,'[1]1990'!G236,'[1]1994'!G232,'[1]1998'!G265,'[1]2002'!G260,'[1]2014'!G255)","v":57},{"$f":"SUM('[1]1930'!H111,'[1]1934'!H88,'[1]1938'!H97,'[1]1954'!H145,'[1]1970'!H145,'[1]1982'!H233,'[1]1986'!H221,'[1]1990'!H236,'[1]1994'!H232,'[1]1998'!H265,'[1]2002'!H260,'[1]2014'!H255)","v":70},-13,19,31,{"$f":"SUM(COUNTIF(INDIRECT(\"\"&$V$3:$X$3&\"!$S$12:$T$400\"),\"Belgien\"))","v":11},{"$f":"SUM('[1]1994'!D232,'[1]1998'!D265,'[1]2002'!D260,'[1]2014'!D255)","v":7},{"$f":"SUM('[1]1994'!E232,'[1]1998'!E265,'[1]2002'!E260,'[1]2014'!E255)","v":5},{"$f":"SUM('[1]1994'!F232,'[1]1998'!F265,'[1]2002'!F260,'[1]2014'!F255)","v":4},26,45,null,{"$f":"COUNTIF('1986'!$AA$1:$AA$100,\"Belgien\")","v":1},{"$f":"COUNTIF('1990'!$AA$1:$AA$100,\"Belgien\")","v":1},{"$f":"COUNTIF('1994'!$AA$1:$AA$100,\"Belgien\")","v":1},{"$f":"COUNTIF('1998'!$AA$1:$AA$100,\"Belgien\")","v":1},{"$f":"COUNTIF('2002'!$AA$1:$AA$100,\"Belgien\")","v":1}]
[13,2,"Portugal",{"$f":"SUM(COUNTIF(INDIRECT(\"\"&$T$3:$X$3&\"!$S$12:$T$400\"),\"Portugal\"))","v":6},{"$f":"SUM('[1]1966'!D134,'[1]1986'!D230)","v":6},{"$f":"SUM('[1]1966'!E134,'[1]1986'!E230)","v":0},{"$f":"SUM('[1]1966'!F134,'[1]1986'!F230)","v":3},{"$f":"SUM('[1]1966'!G134,'[1]1986'!G230,'[1]2002'!G268,'[1]2006'!G250,'[1]2010'!G253,'[1]2014'!G265,'[1]2018'!G262)","v":52},{"$f":"SUM('[1]1966'!H134,'[1]1986'!H230,'[1]2002'!H268,'[1]2006'!H250,'[1]2010'!H253,'[1]2014'!H265,'[1]2018'!H262)","v":36},16,12,6,{"$f":"SUM(COUNTIF(INDIRECT(\"\"&$V$3:$X$3&\"!$S$12:$T$400\"),\"Portugal\"))","v":3},{"$f":"SUM('[1]2002'!D268,'[1]2006'!D250,'[1]2010'!D253,'[1]2014'!D265,'[1]2018'!D262)","v":9},{"$f":"SUM('[1]2002'!E268,'[1]2006'!E250,'[1]2010'!E253,'[1]2014'!E265,'[1]2018'!E262)","v":5},{"$f":"SUM('[1]2002'!F268,'[1]2006'!F250,'[1]2010'!F253,'[1]2014'!F265,'[1]2018'!F262)","v":7},32,44,null,{"$f":"COUNTIF('1986'!$AA$1:$AA$100,\"Portugal\")","v":1},{"$f":"COUNTIF('1990'!$AA$1:$AA$100,\"Portugal\")","v":0},{"$f":"COUNTIF('1994'!$AA$1:$AA$100,\"Portugal\")","v":0},{"$f":"COUNTIF('1998'!$AA$1:$AA$100,\"Portugal\")","v":0},{"$f":"COUNTIF('2002'!$AA$1:$AA$100,\"Portugal\")","v":1}]
[14,2,"Jugoslawien",{"$f":"SUM(COUNTIF(INDIRECT(\"\"&$T$3:$X$3&\"!$S$12:$T$400\"),\"Jugoslawien\"))","v":9},{"$f":"SUM('[1]1930'!D104,'[1]1950'!D111,'[1]1954'!D141,'[1]1958'!D159,'[1]1962'!D134,'[1]1974'!D161,'[1]1982'!D239,'[1]1990'!D232)","v":14},{"$f":"SUM('[1]1930'!E104,'[1]1950'!E111,'[1]1954'!E141,'[1]1958'!E159,'[1]1962'!E134,'[1]1974'!E161,'[1]1982'!E239,'[1]1990'!E232)","v":6},{"$f":"SUM('[1]1930'!F104,'[1]1950'!F111,'[1]1954'!F141,'[1]1958'!F159,'[1]1962'!F134,'[1]1974'!F161,'[1]1982'!F239,'[1]1990'!F232)","v":13},{"$f":"SUM('[1]1930'!G104,'[1]1950'!G111,'[1]1954'!G141,'[1]1958'!G159,'[1]1962'!G134,'[1]1974'!G161,'[1]1982'!G239,'[1]1990'!G232,'[1]1998'!G255)","v":62},{"$f":"SUM('[1]1930'!H104,'[1]1950'!H111,'[1]1954'!H141,'[1]1958'!H159,'[1]1962'!H134,'[1]1974'!H161,'[1]1982'!H239,'[1]1990'!H232,'[1]1998'!H255)","v":49},13,34,32,{"$f":"SUM(COUNTIF(INDIRECT(\"\"&$V$3:$X$3&\"!$S$12:$T$400\"),\"Jugoslawien\"))","v":4},{"$f":"SUM('[1]1998'!D255)","v":2},{"$f":"SUM('[1]1998'!E255)","v":1},{"$f":"SUM('[1]1998'!F255)","v":1},7,41,null,{"$f":"COUNTIF('1986'!$AA$1:$AA$100,\"Jugoslawien\")","v":0},{"$f":"COUNTIF('1990'!$AA$1:$AA$100,\"Jugoslawien\")","v":1},{"$f":"COUNTIF('1994'!$AA$1:$AA$100,\"Jugoslawien\")","v":0},{"$f":"COUNTIF('1998'!$AA$1:$AA$100,\"Jugoslawien\")","v":1},{"$f":"COUNTIF('2002'!$AA$1:$AA$100,\"Jugoslawien\")","v":0}]
[15,2,"Polen",{"$f":"SUM(COUNTIF(INDIRECT(\"\"&$T$3:$X$3&\"!$S$12:$T$400\"),\"Polen\"))","v":7},{"$f":"SUM('[1]1938'!D95,'[1]1974'!D154,'[1]1978'!D158,'[1]1982'!D226,'[1]1986'!D229)","v":13},{"$f":"SUM('[1]1938'!E95,'[1]1974'!E154,'[1]1978'!E158,'[1]1982'!E226,'[1]1986'!E229)","v":5},{"$f":"SUM('[1]1938'!F95,'[1]1974'!F154,'[1]1978'!F158,'[1]1982'!F226,'[1]1986'!F229)","v":7},{"$f":"SUM('[1]1938'!G95,'[1]1974'!G154,'[1]1978'!G158,'[1]1982'!G226,'[1]1986'!G229,'[1]2002'!G270,'[1]2006'!G268,'[1]2018'!G275)","v":46},{"$f":"SUM('[1]1938'!H95,'[1]1974'!H154,'[1]1978'!H158,'[1]1982'!H226,'[1]1986'!H229,'[1]2002'!H270,'[1]2006'!H268,'[1]2018'!H275)","v":45},1,31,19,{"$f":"SUM(COUNTIF(INDIRECT(\"\"&$V$3:$X$3&\"!$S$12:$T$400\"),\"Polen\"))","v":3},{"$f":"SUM('[1]2002'!D270,'[1]2006'!D268,'[1]2018'!D275)","v":3},{"$f":"SUM('[1]2002'!E270,'[1]2006'!E268,'[1]2018'!E275)","v":0},{"$f":"SUM('[1]2002'!F270,'[1]2006'!F268,'[1]2018'!F275)","v":6},9,40,null,{"$f":"COUNTIF('1986'!$AA$1:$AA$100,\"Polen\")","v":1},{"$f":"COUNTIF('1990'!$AA$1:$AA$100,\"Polen\")","v":0},{"$f":"COUNTIF('1994'!$AA$1:$AA$100,\"Polen\")","v":0},{"$f":"COUNTIF('1998'!$AA$1:$AA$100,\"Polen\")","v":0},{"$f":"COUNTIF('2002'!$AA$1:$AA$100,\"Polen\")","v":1}]
[16,1,"Schweiz",{"$f":"SUM(COUNTIF(INDIRECT(\"\"&$T$3:$X$3&\"!$S$12:$T$400\"),\"Schweiz\"))","v":4},{"$f":"SUM('[1]1934'!D82,'[1]1938'!D89,'[1]1950'!D112,'[1]1954'!D138,'[1]1962'!D146,'[1]1966'!D148)","v":5},{"$f":"SUM('[1]1934'!E82,'[1]1938'!E89,'[1]1950'!E112,'[1]1954'!E138,'[1]1962'!E146,'[1]1966'!E148)","v":2},{"$f":"SUM('[1]1934'!F82,'[1]1938'!F89,'[1]1950'!F112,'[1]1954'!F138,'[1]1962'!F146,'[1]1966'!F148)","v":11},{"$f":"SUM('[1]1934'!G82,'[1]1938'!G89,'[1]1950'!G112,'[1]1954'!G138,'[1]1962'!G146,'[1]1966'!G148,'[1]1994'!G233,'[1]2006'!G257,'[1]2010'!G263,'[1]2014'!G260,'[1]2018'!G264)","v":50},{"$f":"SUM('[1]1934'!H82,'[1]1938'!H89,'[1]1950'!H112,'[1]1954'!H138,'[1]1962'!H146,'[1]1966'!H148,'[1]1994'!H233,'[1]2006'!H257,'[1]2010'!H263,'[1]2014'!H260,'[1]2018'!H264)","v":67},-17,12,24,{"$f":"SUM(COUNTIF(INDIRECT(\"\"&$V$3:$X$3&\"!$S$12:$T$400\"),\"Schweiz\"))","v":4},{"$f":"SUM('[1]1994'!D233,'[1]2006'!D257,'[1]2010'!D263,'[1]2014'!D260,'[1]2018'!D264)","v":7},{"$f":"SUM('[1]1994'!E233,'[1]2006'!E257,'[1]2010'!E263,'[1]2014'!E260,'[1]2018'!E264)","v":5},{"$f":"SUM('[1]1994'!F233,'[1]2006'!F257,'[1]2010'!F263,'[1]2014'!F260,'[1]2018'!F264)","v":7},26,38,null,{"$f":"COUNTIF('1986'!$AA$1:$AA$100,\"Schweiz\")","v":0},{"$f":"COUNTIF('1990'!$AA$1:$AA$100,\"Schweiz\")","v":0},{"$f":"COUNTIF('1994'!$AA$1:$AA$100,\"Schweiz\")","v":1},{"$f":"COUNTIF('1998'!$AA$1:$AA$100,\"Schweiz\")","v":0},{"$f":"COUNTIF('2002'!$AA$1:$AA$100,\"Schweiz\")","v":0}]
[17,2,"UdSSR",{"$f":"SUM(COUNTIF(INDIRECT(\"\"&$T$3:$X$3&\"!$S$12:$T$400\"),\"UdSSR\"))","v":7},{"$f":"SUM('[1]1958'!D157,'[1]1962'!D135,'[1]1966'!D136,'[1]1970'!D139,'[1]1982'!D230,'[1]1986'!D224,'[1]1990'!D242)","v":15},{"$f":"SUM('[1]1958'!E157,'[1]1962'!E135,'[1]1966'!E136,'[1]1970'!E139,'[1]1982'!E230,'[1]1986'!E224,'[1]1990'!E242)","v":6},{"$f":"SUM('[1]1958'!F157,'[1]1962'!F135,'[1]1966'!F136,'[1]1970'!F139,'[1]1982'!F230,'[1]1986'!F224,'[1]1990'!F242)","v":10},{"$f":"SUM('[1]1958'!G157,'[1]1962'!G135,'[1]1966'!G136,'[1]1970'!G139,'[1]1982'!G230,'[1]1986'!G224,'[1]1990'!G242)","v":53},{"$f":"SUM('[1]1958'!H157,'[1]1962'!H135,'[1]1966'!H136,'[1]1970'!H139,'[1]1982'!H230,'[1]1986'!H224,'[1]1990'!H242)","v":34},19,36,26,{"$f":"SUM(COUNTIF(INDIRECT(\"\"&$V$3:$X$3&\"!$S$12:$T$400\"),\"UdSSR\"))","v":0},{"$f":"SUM(0)","v":0},0,0,0,36,null,{"$f":"COUNTIF('1986'!$AA$1:$AA$100,\"UdSSR\")","v":1},{"$f":"COUNTIF('1990'!$AA$1:$AA$100,\"UdSSR\")","v":1},{"$f":"COUNTIF('1994'!$AA$1:$AA$100,\"UdSSR\")","v":0},{"$f":"COUNTIF('1998'!$AA$1:$AA$100,\"UdSSR\")","v":0},{"$f":"COUNTIF('2002'!$AA$1:$AA$100,\"UdSSR\")","v":0}]
[18,1,"Ungarn",{"$f":"SUM(COUNTIF(INDIRECT(\"\"&$T$3:$X$3&\"!$S$12:$T$400\"),\"Ungarn\"))","v":3},{"$f":"SUM('[1]1934'!D81,'[1]1938'!D87,'[1]1954'!D135,'[1]1958'!D162,'[1]1962'!D136,'[1]1966'!D138,'[1]1978'!D168,'[1]1982'!D237,'[1]1986'!D231)","v":15},{"$f":"SUM('[1]1934'!E81,'[1]1938'!E87,'[1]1954'!E135,'[1]1958'!E162,'[1]1962'!E136,'[1]1966'!E138,'[1]1978'!E168,'[1]1982'!E237,'[1]1986'!E231)","v":3},{"$f":"SUM('[1]1934'!F81,'[1]1938'!F87,'[1]1954'!F135,'[1]1958'!F162,'[1]1962'!F136,'[1]1966'!F138,'[1]1978'!F168,'[1]1982'!F237,'[1]1986'!F231)","v":14},{"$f":"SUM('[1]1934'!G81,'[1]1938'!G87,'[1]1954'!G135,'[1]1958'!G162,'[1]1962'!G136,'[1]1966'!G138,'[1]1978'!G168,'[1]1982'!G237,'[1]1986'!G231)","v":87},{"$f":"SUM('[1]1934'!H81,'[1]1938'!H87,'[1]1954'!H135,'[1]1958'!H162,'[1]1962'!H136,'[1]1966'!H138,'[1]1978'!H168,'[1]1982'!H237,'[1]1986'!H231)","v":57},30,33,31,{"$f":"SUM(COUNTIF(INDIRECT(\"\"&$V$3:$X$3&\"!$S$12:$T$400\"),\"Ungarn\"))","v":0},0,0,0,0,33,null,{"$f":"COUNTIF('1986'!$AA$1:$AA$100,\"Ungarn\")","v":1},{"$f":"COUNTIF('1990'!$AA$1:$AA$100,\"Ungarn\")","v":0},{"$f":"COUNTIF('1994'!$AA$1:$AA$100,\"Ungarn\")","v":0},{"$f":"COUNTIF('1998'!$AA$1:$AA$100,\"Ungarn\")","v":0},{"$f":"COUNTIF('2002'!$AA$1:$AA$100,\"Ungarn\")","v":0}]
[19,1,"Chile",{"$f":"SUM(COUNTIF(INDIRECT(\"\"&$T$3:$X$3&\"!$S$12:$T$400\"),\"Chile\"))","v":4},{"$f":"SUM('[1]1930'!D105,'[1]1950'!D114,'[1]1962'!D132,'[1]1966'!D146,'[1]1974'!D165,'[1]1982'!D245)","v":7},{"$f":"SUM('[1]1930'!E105,'[1]1950'!E114,'[1]1962'!E132,'[1]1966'!E146,'[1]1974'!E165,'[1]1982'!E245)","v":3},{"$f":"SUM('[1]1930'!F105,'[1]1950'!F114,'[1]1962'!F132,'[1]1966'!F146,'[1]1974'!F165,'[1]1982'!F245)","v":11},{"$f":"SUM('[1]1930'!G105,'[1]1950'!G114,'[1]1962'!G132,'[1]1966'!G146,'[1]1974'!G165,'[1]1982'!G245,'[1]1998'!G264,'[1]2010'!G252,'[1]2014'!G259)","v":42},{"$f":"SUM('[1]1930'!H105,'[1]1950'!H114,'[1]1962'!H132,'[1]1966'!H146,'[1]1974'!H165,'[1]1982'!H245,'[1]1998'!H264,'[1]2010'!H252,'[1]2014'!H259)","v":52},-10,17,25,{"$f":"SUM(COUNTIF(INDIRECT(\"\"&$V$3:$X$3&\"!$S$12:$T$400\"),\"Chile\"))","v":4},{"$f":"SUM('[1]1998'!D264,'[1]2010'!D252,'[1]2014'!D259)","v":4},{"$f":"SUM('[1]1998'!E264,'[1]2010'!E252,'[1]2014'!E259)","v":3},{"$f":"SUM('[1]1998'!F264,'[1]2010'!F252,'[1]2014'!F259)","v":5},15,32,null,{"$f":"COUNTIF('1986'!$AA$1:$AA$100,\"Chile\")","v":0},{"$f":"COUNTIF('1990'!$AA$1:$AA$100,\"Chile\")","v":0},{"$f":"COUNTIF('1994'!$AA$1:$AA$100,\"Chile\")","v":0},{"$f":"COUNTIF('1998'!$AA$1:$AA$100,\"Chile\")","v":1},{"$f":"COUNTIF('2002'!$AA$1:$AA$100,\"Chile\")","v":0}]
[20,3,"Paraguay",{"$f":"SUM(COUNTIF(INDIRECT(\"\"&$T$3:$X$3&\"!$S$12:$T$400\"),\"Paraguay\"))","v":12},{"$f":"SUM('[1]1930'!D108,'[1]1950'!D117,'[1]1958'!D160,'[1]1986'!D227)","v":3},{"$f":"SUM('[1]1930'!E108,'[1]1950'!E117,'[1]1958'!E160,'[1]1986'!E227)","v":4},{"$f":"SUM('[1]1930'!F108,'[1]1950'!F117,'[1]1958'!F160,'[1]1986'!F227)","v":4},{"$f":"SUM('[1]1930'!G108,'[1]1950'!G117,'[1]1958'!G160,'[1]1986'!G227,'[1]1998'!G261,'[1]2002'!G262,'[1]2006'!G267,'[1]2010'!G249)","v":35},{"$f":"SUM('[1]1930'!H108,'[1]1950'!H117,'[1]1958'!H160,'[1]1986'!H227,'[1]1998'!H261,'[1]2002'!H262,'[1]2006'!H267,'[1]2010'!H249)","v":41},-6,10,12,{"$f":"SUM(COUNTIF(INDIRECT(\"\"&$V$3:$X$3&\"!$S$12:$T$400\"),\"Paraguay\"))","v":8},{"$f":"SUM('[1]1998'!D261,'[1]2002'!D262,'[1]2006'!D267,'[1]2010'!D249)","v":5},{"$f":"SUM('[1]1998'!E261,'[1]2002'!E262,'[1]2006'!E267,'[1]2010'!E249)","v":5},{"$f":"SUM('[1]1998'!F261,'[1]2002'!F262,'[1]2006'!F267,'[1]2010'!F249)","v":6},20,30,null,{"$f":"COUNTIF('1986'!$AA$1:$AA$100,\"Paraguay\")","v":1},{"$f":"COUNTIF('1990'!$AA$1:$AA$100,\"Paraguay\")","v":0},{"$f":"COUNTIF('1994'!$AA$1:$AA$100,\"Paraguay\")","v":0},{"$f":"COUNTIF('1998'!$AA$1:$AA$100,\"Paraguay\")","v":1},{"$f":"COUNTIF('2002'!$AA$1:$AA$100,\"Paraguay\")","v":1}]

{"sheet":"Tabelle1","index":6,"n_rows":0,"n_cols":0,"rows_kept":0,"cut":false,"hidden":false,"merged":[]}