{"text_format":"1","workbook":"xlsx","n_sheets":2,"sheets":["Einteilung-Termine","Wertung-Einzel"],"not_rendered":{"charts":0,"images":1,"macros":1,"external_links":0,"defined_names":1,"comments":2,"pivot_tables":0},"unopened":[],"bounds":{"document_bytes":16777216,"sheet_cells":100000,"rows_first":2000,"rows_last":500,"rows_between":2000,"halvings":0,"cell_chars":16384,"cell_head_chars":4096},"cells_cut":0,"cells_raw":0,"read":"whole","date_system":"1900"}

{"sheet":"Einteilung-Termine","index":0,"n_rows":54,"n_cols":5,"rows_kept":54,"cut":false,"hidden":false,"merged":[[49,1,49,2],[49,3,49,5],[50,3,50,5],[51,1,51,2],[0,1,0,2],[45,3,45,5],[46,3,46,5],[47,3,47,5],[43,1,43,2],[45,1,45,2],[47,1,47,2],[48,3,48,5],[16,2,16,4],[54,3,54,5],[51,3,51,5],[52,3,52,5],[53,1,53,2],[53,3,53,5]]}
[]
[null,null,"Gebiet",":"]
[null,null,"Veranstalter",":"]
[null,null,"Region",":"]
[null,null,"Disziplin",":","Luftgewehr Auflage 1.11"]
[null,null,"Datum",":"]
[null,null,"Vereine"]
[null,"1)","SSV Tiefschuss"]
[null,"2)","SG Weitschuss"]
[null,"3)","SC Hochschuss"]
[null,"4)","Sbr.St.Hub. Blattschuss"]
[null,"5)","SV Rechtsschuss"]
[]
[]
[]
[]
[null,null,"Paarungen"]
[null,null,"1.Wettkampftag          Anfangstermin","Ü"]
[null,1,{"$f":"IF($C$9=\"\",\"\",$C$9)","v":"SG Weitschuss"},"-",{"$f":"IF($C$8=\"\",\"\",$C$8)","v":"SSV Tiefschuss"}]
[null,2,{"$f":"IF($C$11=\"\",\"\",$C$11)","v":"Sbr.St.Hub. Blattschuss"},"-",{"$f":"IF($C$10=\"\",\"\",$C$10)","v":"SC Hochschuss"}]
[null,3,"frei","-",{"$f":"IF($C$12=\"\",\"\",$C$12)","v":"SV Rechtsschuss"}]
[]
[null,null,"2.Wettkampftag"]
[null,1,{"$f":"IF($C$11=\"\",\"\",$C$11)","v":"Sbr.St.Hub. Blattschuss"},"-",{"$f":"IF($C$9=\"\",\"\",$C$9)","v":"SG Weitschuss"}]
[null,2,{"$f":"IF($C$12=\"\",\"\",$C$12)","v":"SV Rechtsschuss"},"-",{"$f":"IF($C$8=\"\",\"\",$C$8)","v":"SSV Tiefschuss"}]
[null,3,"frei","-",{"$f":"IF($C$10=\"\",\"\",$C$10)","v":"SC Hochschuss"}]
[]
[null,null,"3.Wettkampftag"]
[null,1,{"$f":"IF($C$10=\"\",\"\",$C$10)","v":"SC Hochschuss"},"-",{"$f":"IF($C$9=\"\",\"\",$C$9)","v":"SG Weitschuss"}]
[null,2,{"$f":"IF($C$12=\"\",\"\",$C$12)","v":"SV Rechtsschuss"},"-",{"$f":"IF($C$11=\"\",\"\",$C$11)","v":"Sbr.St.Hub. Blattschuss"}]
[null,3,"frei","-",{"$f":"IF($C$8=\"\",\"\",$C$8)","v":"SSV Tiefschuss"}]
[]
[null,null,"4.Wettkampftag"]
[null,1,{"$f":"IF($C$8=\"\",\"\",$C$8)","v":"SSV Tiefschuss"},"-",{"$f":"IF($C$11=\"\",\"\",$C$11)","v":"Sbr.St.Hub. Blattschuss"}]
[null,2,{"$f":"IF($C$10=\"\",\"\",$C$10)","v":"SC Hochschuss"},"-",{"$f":"IF($C$12=\"\",\"\",$C$12)","v":"SV Rechtsschuss"}]
[null,3,"frei","-",{"$f":"IF($C$9=\"\",\"\",$C$9)","v":"SG Weitschuss"}]
[]
[null,null,"5.Wettkampftag               Endtermin","Ü"]
[null,1,{"$f":"IF($C$8=\"\",\"\",$C$8)","v":"SSV Tiefschuss"},"-",{"$f":"IF($C$10=\"\",\"\",$C$10)","v":"SC Hochschuss"}]
[null,2,{"$f":"IF($C$9=\"\",\"\",$C$9)","v":"SG Weitschuss"},"-",{"$f":"IF($C$12=\"\",\"\",$C$12)","v":"SV Rechtsschuss"}]
[null,3,"frei","-",{"$f":"IF($C$11=\"\",\"\",$C$11)","v":"Sbr.St.Hub. Blattschuss"}]
[]
[]
[null,"Mannschaftsführer"]
[]
[null,{"$f":"IF(C8=\"\",\"\",C8)","v":"SSV Tiefschuss"}]
[]
[null,{"$f":"IF(C9=\"\",\"\",C9)","v":"SG Weitschuss"}]
[]
[null,{"$f":"IF(C10=\"\",\"\",C10)","v":"SC Hochschuss"}]
[]
[null,{"$f":"IF(C11=\"\",\"\",C11)","v":"Sbr.St.Hub. Blattschuss"}]
[]
[null,{"$f":"IF(C12=\"\",\"\",C12)","v":"SV Rechtsschuss"}]

{"sheet":"Wertung-Einzel","index":1,"n_rows":50,"n_cols":13,"rows_kept":50,"cut":false,"hidden":false,"merged":[[0,1,0,2],[4,10,4,12],[2,10,2,12],[6,2,6,12]]}
[]
[null,"Ergebnis:  ","Einzel"]
[null,"Veranstalter:   ",{"$f":"IF('Einteilung-Termine'!E3=\"\",\"\",'Einteilung-Termine'!E3)","v":""},null,null,null,null,null,null,null,{"$f":"TODAY()","v":"2026-07-08"}]
[null,"Region:   ",{"$f":"IF('Einteilung-Termine'!E4=\"\",\"\",'Einteilung-Termine'!E4)","v":""}]
[null,"Disziplin :   ",{"$f":"IF('Einteilung-Termine'!E5=\"\",\"\",'Einteilung-Termine'!E5)","v":"Luftgewehr Auflage 1.11"},null,null,null,null,null,null,null,{"$f":"IF('Einteilung-Termine'!E16=\"\",\"\",'Einteilung-Termine'!E16)","v":""},{"$f":"IF('Einteilung-Termine'!G16=\"\",\"\",'Einteilung-Termine'!G16)","v":""},{"$f":"IF('Einteilung-Termine'!H16=\"\",\"\",'Einteilung-Termine'!H16)","v":""}]
[]
[null,null,"Rangliste (RL) wird nach dem Schnitt der 3 besten Wettkämpfe sortiert"]
["RL","Name","Verein",null,"S/E","1W","2W","3W","4W","∑","∑ Ø","WK","Ø 4WK"]
[1,"Zimmermann Jens","Sbr.St.Hub. Blattschuss",null,"S",299,299.3,299,300.8,{"$f":"IF(SUM(F9:I9)>0,SUM(F9:I9),\"\")","v":1198.0999999999999},{"$f":"IF(J9=\"\",\"\",AVERAGE(F9:I9))","v":299.52499999999998},{"$f":"IF(J9=\"\",\"\",COUNT(F9:I9)-COUNTIF(F9:I9,\"0\"))","v":4},{"$f":"IF(L9<3,0,IF(ISERROR(AVERAGE(LARGE(F9:I9,{1,2,3}))),\"\",AVERAGE(LARGE(F9:I9,{1,2,3}))))","v":299.7}]
[{"$f":"IF(L10=\"\",\"\",IF(L10<3,\"\",IF(ROUND(M10,5)=ROUND(M9,5),\"\",ROW()-8)))","v":2},"Fischer Peter","SSV Tiefschuss",null,"S",299,null,300,299,{"$f":"IF(SUM(F10:I10)>0,SUM(F10:I10),\"\")","v":898},{"$f":"IF(J10=\"\",\"\",AVERAGE(F10:I10))","v":299.33333333333331},{"$f":"IF(J10=\"\",\"\",COUNT(F10:I10)-COUNTIF(F10:I10,\"0\"))","v":3},{"$f":"IF(L10<3,0,IF(ISERROR(AVERAGE(LARGE(F10:I10,{1,2,3}))),\"\",AVERAGE(LARGE(F10:I10,{1,2,3}))))","v":299.33333333333331}]
[{"$f":"IF(L11=\"\",\"\",IF(L11<3,\"\",IF(ROUND(M11,5)=ROUND(M10,5),\"\",ROW()-8)))","v":3},"Meyer Stefan","SSV Tiefschuss",null,"E",298,297,300,299,{"$f":"IF(SUM(F11:I11)>0,SUM(F11:I11),\"\")","v":1194},{"$f":"IF(J11=\"\",\"\",AVERAGE(F11:I11))","v":298.5},{"$f":"IF(J11=\"\",\"\",COUNT(F11:I11)-COUNTIF(F11:I11,\"0\"))","v":4},{"$f":"IF(L11<3,0,IF(ISERROR(AVERAGE(LARGE(F11:I11,{1,2,3}))),\"\",AVERAGE(LARGE(F11:I11,{1,2,3}))))","v":299}]
["","Richter Alexander","SC Hochschuss",null,"S",299,299,null,299,{"$f":"IF(SUM(F12:I12)>0,SUM(F12:I12),\"\")","v":897},{"$f":"IF(J12=\"\",\"\",AVERAGE(F12:I12))","v":299},{"$f":"IF(J12=\"\",\"\",COUNT(F12:I12)-COUNTIF(F12:I12,\"0\"))","v":3},{"$f":"IF(L12<3,0,IF(ISERROR(AVERAGE(LARGE(F12:I12,{1,2,3}))),\"\",AVERAGE(LARGE(F12:I12,{1,2,3}))))","v":299}]
["",null,null,null,null,null,null,null,null,null,{"$f":"IF(J13=\"\",\"\",AVERAGE(F13:I13))","v":""},{"$f":"IF(J13=\"\",\"\",COUNT(F13:I13)-COUNTIF(F13:I13,\"0\"))","v":""},{"$f":"IF(L13<3,0,IF(ISERROR(AVERAGE(LARGE(F13:I13,{1,2,3}))),\"\",AVERAGE(LARGE(F13:I13,{1,2,3}))))","v":""}]
["",null,null,null,null,null,null,null,null,null,"","",{"$f":"IF(L14<3,0,IF(ISERROR(AVERAGE(LARGE(F14:I14,{1,2,3}))),\"\",AVERAGE(LARGE(F14:I14,{1,2,3}))))","v":""}]
["",null,null,null,null,null,null,null,null,null,"","",{"$f":"IF(L15<3,0,IF(ISERROR(AVERAGE(LARGE(F15:I15,{1,2,3}))),\"\",AVERAGE(LARGE(F15:I15,{1,2,3}))))","v":""}]
["",null,null,null,null,null,null,null,null,null,"","",{"$f":"IF(L16<3,0,IF(ISERROR(AVERAGE(LARGE(F16:I16,{1,2,3}))),\"\",AVERAGE(LARGE(F16:I16,{1,2,3}))))","v":""}]
["",null,null,null,null,null,null,null,null,null,"","",{"$f":"IF(L17<3,0,IF(ISERROR(AVERAGE(LARGE(F17:I17,{1,2,3}))),\"\",AVERAGE(LARGE(F17:I17,{1,2,3}))))","v":""}]
["",null,null,null,null,null,null,null,null,{"$f":"IF(SUM(F18:I18)>0,SUM(F18:I18),\"\")","v":""},{"$f":"IF(J18=\"\",\"\",AVERAGE(F18:I18))","v":""},{"$f":"IF(J18=\"\",\"\",COUNT(F18:I18)-COUNTIF(F18:I18,\"0\"))","v":""},{"$f":"IF(L18<3,0,IF(ISERROR(AVERAGE(LARGE(F18:I18,{1,2,3}))),\"\",AVERAGE(LARGE(F18:I18,{1,2,3}))))","v":""}]
["",null,null,null,null,null,null,null,null,"","","",{"$f":"IF(L19<3,0,IF(ISERROR(AVERAGE(LARGE(F19:I19,{1,2,3}))),\"\",AVERAGE(LARGE(F19:I19,{1,2,3}))))","v":""}]
["",null,null,null,null,null,null,null,null,"","","",{"$f":"IF(L20<3,0,IF(ISERROR(AVERAGE(LARGE(F20:I20,{1,2,3}))),\"\",AVERAGE(LARGE(F20:I20,{1,2,3}))))","v":""}]
["",null,null,null,null,null,null,null,null,"","","",{"$f":"IF(L21<3,0,IF(ISERROR(AVERAGE(LARGE(F21:I21,{1,2,3}))),\"\",AVERAGE(LARGE(F21:I21,{1,2,3}))))","v":""}]
["",null,null,null,null,null,null,null,null,"","","",{"$f":"IF(L22<3,0,IF(ISERROR(AVERAGE(LARGE(F22:I22,{1,2,3}))),\"\",AVERAGE(LARGE(F22:I22,{1,2,3}))))","v":""}]
["",null,null,null,null,null,null,null,null,"","","",{"$f":"IF(L23<3,0,IF(ISERROR(AVERAGE(LARGE(F23:I23,{1,2,3}))),\"\",AVERAGE(LARGE(F23:I23,{1,2,3}))))","v":""}]
["",null,null,null,null,null,null,null,null,"","","",{"$f":"IF(L24<3,0,IF(ISERROR(AVERAGE(LARGE(F24:I24,{1,2,3}))),\"\",AVERAGE(LARGE(F24:I24,{1,2,3}))))","v":""}]
["",null,null,null,null,null,null,null,null,"","","",{"$f":"IF(L25<3,0,IF(ISERROR(AVERAGE(LARGE(F25:I25,{1,2,3}))),\"\",AVERAGE(LARGE(F25:I25,{1,2,3}))))","v":""}]
["",null,null,null,null,null,null,null,null,"","","",{"$f":"IF(L26<3,0,IF(ISERROR(AVERAGE(LARGE(F26:I26,{1,2,3}))),\"\",AVERAGE(LARGE(F26:I26,{1,2,3}))))","v":""}]
["",null,null,null,null,null,null,null,null,"","","",{"$f":"IF(L27<3,0,IF(ISERROR(AVERAGE(LARGE(F27:I27,{1,2,3}))),\"\",AVERAGE(LARGE(F27:I27,{1,2,3}))))","v":""}]
["",null,null,null,null,null,null,null,null,"","","",{"$f":"IF(L28<3,0,IF(ISERROR(AVERAGE(LARGE(F28:I28,{1,2,3}))),\"\",AVERAGE(LARGE(F28:I28,{1,2,3}))))","v":""}]
["",null,null,null,null,null,null,null,null,"","","",{"$f":"IF(L29<3,0,IF(ISERROR(AVERAGE(LARGE(F29:I29,{1,2,3}))),\"\",AVERAGE(LARGE(F29:I29,{1,2,3}))))","v":""}]
["",null,null,null,null,null,null,null,null,"","","",{"$f":"IF(L30<3,0,IF(ISERROR(AVERAGE(LARGE(F30:I30,{1,2,3}))),\"\",AVERAGE(LARGE(F30:I30,{1,2,3}))))","v":""}]
["",null,null,null,null,null,null,null,null,"","","",{"$f":"IF(L31<3,0,IF(ISERROR(AVERAGE(LARGE(F31:I31,{1,2,3}))),\"\",AVERAGE(LARGE(F31:I31,{1,2,3}))))","v":""}]
["",null,null,null,null,null,null,null,null,"","","",{"$f":"IF(L32<3,0,IF(ISERROR(AVERAGE(LARGE(F32:I32,{1,2,3}))),\"\",AVERAGE(LARGE(F32:I32,{1,2,3}))))","v":""}]
["",null,null,null,null,null,null,null,null,"","","",{"$f":"IF(L33<3,0,IF(ISERROR(AVERAGE(LARGE(F33:I33,{1,2,3}))),\"\",AVERAGE(LARGE(F33:I33,{1,2,3}))))","v":""}]
["",null,null,null,null,null,null,null,null,{"$f":"IF(SUM(F34:I34)>0,SUM(F34:I34),\"\")","v":""},{"$f":"IF(J34=\"\",\"\",AVERAGE(F34:I34))","v":""},{"$f":"IF(J34=\"\",\"\",COUNT(F34:I34)-COUNTIF(F34:I34,\"0\"))","v":""},{"$f":"IF(L34<3,0,IF(ISERROR(AVERAGE(LARGE(F34:I34,{1,2,3}))),\"\",AVERAGE(LARGE(F34:I34,{1,2,3}))))","v":""}]
["",null,null,null,null,null,null,null,null,"","","",{"$f":"IF(L35<3,0,IF(ISERROR(AVERAGE(LARGE(F35:I35,{1,2,3}))),\"\",AVERAGE(LARGE(F35:I35,{1,2,3}))))","v":""}]
["",null,null,null,null,null,null,null,null,"","","",{"$f":"IF(L36<3,0,IF(ISERROR(AVERAGE(LARGE(F36:I36,{1,2,3}))),\"\",AVERAGE(LARGE(F36:I36,{1,2,3}))))","v":""}]
["",null,null,null,null,null,null,null,null,"","","",{"$f":"IF(L37<3,0,IF(ISERROR(AVERAGE(LARGE(F37:I37,{1,2,3}))),\"\",AVERAGE(LARGE(F37:I37,{1,2,3}))))","v":""}]
["",null,null,null,null,null,null,null,null,"","","",{"$f":"IF(L38<3,0,IF(ISERROR(AVERAGE(LARGE(F38:I38,{1,2,3}))),\"\",AVERAGE(LARGE(F38:I38,{1,2,3}))))","v":""}]
["",null,null,null,null,null,null,null,null,"","","",{"$f":"IF(L39<3,0,IF(ISERROR(AVERAGE(LARGE(F39:I39,{1,2,3}))),\"\",AVERAGE(LARGE(F39:I39,{1,2,3}))))","v":""}]
["",null,null,null,null,null,null,null,null,"","","",{"$f":"IF(L40<3,0,IF(ISERROR(AVERAGE(LARGE(F40:I40,{1,2,3}))),\"\",AVERAGE(LARGE(F40:I40,{1,2,3}))))","v":""}]
["",null,null,null,null,null,null,null,null,"","","",{"$f":"IF(L41<3,0,IF(ISERROR(AVERAGE(LARGE(F41:I41,{1,2,3}))),\"\",AVERAGE(LARGE(F41:I41,{1,2,3}))))","v":""}]
["",null,null,null,null,null,null,null,null,"","","",{"$f":"IF(L42<3,0,IF(ISERROR(AVERAGE(LARGE(F42:I42,{1,2,3}))),\"\",AVERAGE(LARGE(F42:I42,{1,2,3}))))","v":""}]
["",null,null,null,null,null,null,null,null,"","","",{"$f":"IF(L43<3,0,IF(ISERROR(AVERAGE(LARGE(F43:I43,{1,2,3}))),\"\",AVERAGE(LARGE(F43:I43,{1,2,3}))))","v":""}]
["",null,null,null,null,null,null,null,null,{"$f":"IF(SUM(F44:I44)>0,SUM(F44:I44),\"\")","v":""},{"$f":"IF(J44=\"\",\"\",AVERAGE(F44:I44))","v":""},{"$f":"IF(J44=\"\",\"\",COUNT(F44:I44)-COUNTIF(F44:I44,\"0\"))","v":""},{"$f":"IF(L44<3,0,IF(ISERROR(AVERAGE(LARGE(F44:I44,{1,2,3}))),\"\",AVERAGE(LARGE(F44:I44,{1,2,3}))))","v":""}]
["",null,null,null,null,null,null,null,null,"","","",{"$f":"IF(L45<3,0,IF(ISERROR(AVERAGE(LARGE(F45:I45,{1,2,3}))),\"\",AVERAGE(LARGE(F45:I45,{1,2,3}))))","v":""}]
["",null,null,null,null,null,null,null,null,"","","",{"$f":"IF(L46<3,0,IF(ISERROR(AVERAGE(LARGE(F46:I46,{1,2,3}))),\"\",AVERAGE(LARGE(F46:I46,{1,2,3}))))","v":""}]
["",null,null,null,null,null,null,null,null,"","","",{"$f":"IF(L47<3,0,IF(ISERROR(AVERAGE(LARGE(F47:I47,{1,2,3}))),\"\",AVERAGE(LARGE(F47:I47,{1,2,3}))))","v":""}]
["",null,null,null,null,null,null,null,null,"","","",{"$f":"IF(L48<3,0,IF(ISERROR(AVERAGE(LARGE(F48:I48,{1,2,3}))),\"\",AVERAGE(LARGE(F48:I48,{1,2,3}))))","v":""}]
["",null,null,null,null,null,null,null,null,"","","",{"$f":"IF(L49<3,0,IF(ISERROR(AVERAGE(LARGE(F49:I49,{1,2,3}))),\"\",AVERAGE(LARGE(F49:I49,{1,2,3}))))","v":""}]
["",null,null,null,null,null,null,null,null,null,"","",{"$f":"IF(L50<3,0,IF(ISERROR(AVERAGE(LARGE(F50:I50,{1,2,3}))),\"\",AVERAGE(LARGE(F50:I50,{1,2,3}))))","v":""}]