{"text_format":"1","workbook":"xlsx","n_sheets":23,"sheets":["1930","1934","1938","1950","1954","1958","1962","1966","1970","1974","1978","1982","1986","1990","Gesamt","1994","1998","2002","2006","2010","2014","2018","2022"],"not_rendered":{"charts":0,"images":0,"macros":1,"external_links":0,"defined_names":0,"comments":0,"pivot_tables":0},"unopened":[],"bounds":{"document_bytes":16777216,"sheet_cells":100000,"rows_first":2000,"rows_last":500,"rows_between":2000,"halvings":0,"cell_chars":16384,"cell_head_chars":4096},"cells_cut":0,"cells_raw":0,"read":"whole","date_system":"1900"}

{"sheet":"1930","index":0,"n_rows":115,"n_cols":27,"rows_kept":115,"cut":false,"hidden":false,"merged":[[92,2,92,8],[76,2,76,8],[1,0,1,10],[3,0,3,10],[4,0,4,10],[6,0,6,10],[84,2,84,8]]}
[null,null,null,null,null,null,null,null,null,null,null,null,null,null,null,null,null,null,1,2,3,4,5,6,7]
["1. WM 1930 in Uruguay"]
[]
["13.-30. Juli 1930"]
["Teilnehmende Nationen: 13 --- Bewerbungen: 13"]
[]
["Alle Spiele fanden in Montevideo statt."]
[]
[]
[null,null,null,null,null,"Gruppe 1"]
[]
[null,null,null,"1930-07-13","Frankreich","Mexiko",4,1,null,null,null,null,null,null,null,null,null,null,"Frankreich","Mexiko",4,1,null,{"$f":"(IF(U12>V12,3,IF(U12=V12,1,2)))","v":3},{"$f":"(IF(V12>U12,3,IF(U12=V12,1,2)))","v":2},null,"Uruguay"]
[null,null,null,null,null,null,"(3","0)",null,null,null,null,null,null,null,null,null,null,"Argentinien","Frankreich",1,0,null,{"$f":"(IF(U13>V13,3,IF(U13=V13,1,2)))","v":3},{"$f":"(IF(V13>U13,3,IF(U13=V13,1,2)))","v":2},null,"Argentinien"]
[null,null,null,"1930-07-15","Argentinien","Frankreich",1,0,null,null,null,null,null,null,null,null,null,null,"Chile","Mexiko",3,0,null,3,2,null,"USA"]
[null,null,null,null,null,null,"(0","0)",null,null,null,null,null,null,null,null,null,null,"Chile","Frankreich",1,0,null,3,2,null,"Jugoslawien"]
[null,null,null,"1930-07-16","Chile","Mexiko",3,0,null,null,null,null,null,null,null,null,null,null,"Argentinien","Mexiko",6,3,null,3,2,null,"Chile"]
[null,null,null,null,null,null,"(1","0)",null,null,null,null,null,null,null,null,null,null,"Argentinien","Chile",3,1,null,3,2,null,"Brasilien"]
[null,null,null,"1930-07-19","Chile","Frankreich",1,0,null,null,null,null,null,null,null,null,null,null,null,null,null,null,null,null,null,null,"Rumänien"]
[null,null,null,null,null,null,"(0","0)",null,null,null,null,null,null,null,null,null,null,null,null,null,null,null,null,null,null,"Paraguay"]
[null,null,null,"1930-07-19","Argentinien","Mexiko",6,3,null,null,null,null,null,null,null,null,null,null,null,null,null,null,null,null,null,null,"Frankreich"]
[null,null,null,null,null,null,"(3","1)",null,null,null,null,null,null,null,null,null,null,null,null,null,null,null,null,null,null,"Peru"]
[null,null,null,"1930-07-22","Argentinien","Chile",3,1,null,null,null,null,null,null,null,null,null,null,null,null,null,null,null,null,null,null,"Belgien"]
[null,null,null,null,null,null,"(2","1)",null,null,null,null,null,null,null,null,null,null,null,null,null,null,null,null,null,null,"Bolivien"]
[null,null,null,null,null,null,null,null,null,null,null,null,null,null,null,null,null,null,null,null,null,null,null,null,null,null,"Mexiko"]
[null,null,"Spiele","gew","unent","verl","Tore+","Tore-","Punkte+","Punkte-"]
[null,"Argentinien",{"$f":"COUNTIF($S$12:$T$17,\"Argentinien\")","v":3},{"$f":"SUMPRODUCT(($S$12:$T$17=B26)*($X$12:$Y$17=3))","v":3},{"$f":"SUMPRODUCT(($S$12:$T$17=B26)*($X$12:$Y$17=1))","v":0},{"$f":"SUMPRODUCT(($S$12:$T$17=B26)*($X$12:$Y$17=2))","v":0},{"$f":"SUMPRODUCT(($S$12:$S$17=B26)*($U$12:$U$17))+SUMPRODUCT(($T$12:$T$17=B26)*($V$12:$V$17))","v":10},{"$f":"SUMPRODUCT(($S$12:$S$17=B26)*($V$12:$V$17))+SUMPRODUCT(($T$12:$T$17=B26)*($U$12:$U$17))","v":4},{"$f":"(D26*2)+E26","v":6},{"$f":"(F26*2)+E26","v":0}]
[null,"Chile",{"$f":"COUNTIF($S$12:$T$17,\"Chile\")","v":3},{"$f":"SUMPRODUCT(($S$12:$T$17=B27)*($X$12:$Y$17=3))","v":2},{"$f":"SUMPRODUCT(($S$12:$T$17=B27)*($X$12:$Y$17=1))","v":0},{"$f":"SUMPRODUCT(($S$12:$T$17=B27)*($X$12:$Y$17=2))","v":1},{"$f":"SUMPRODUCT(($S$12:$S$17=B27)*($U$12:$U$17))+SUMPRODUCT(($T$12:$T$17=B27)*($V$12:$V$17))","v":5},{"$f":"SUMPRODUCT(($S$12:$S$17=B27)*($V$12:$V$17))+SUMPRODUCT(($T$12:$T$17=B27)*($U$12:$U$17))","v":3},{"$f":"(D27*2)+E27","v":4},{"$f":"(F27*2)+E27","v":2}]
[null,"Frankreich",{"$f":"COUNTIF($S$12:$T$17,\"Frankreich\")","v":3},{"$f":"SUMPRODUCT(($S$12:$T$17=B28)*($X$12:$Y$17=3))","v":1},{"$f":"SUMPRODUCT(($S$12:$T$17=B28)*($X$12:$Y$17=1))","v":0},{"$f":"SUMPRODUCT(($S$12:$T$17=B28)*($X$12:$Y$17=2))","v":2},{"$f":"SUMPRODUCT(($S$12:$S$17=B28)*($U$12:$U$17))+SUMPRODUCT(($T$12:$T$17=B28)*($V$12:$V$17))","v":4},{"$f":"SUMPRODUCT(($S$12:$S$17=B28)*($V$12:$V$17))+SUMPRODUCT(($T$12:$T$17=B28)*($U$12:$U$17))","v":3},{"$f":"(D28*2)+E28","v":2},{"$f":"(F28*2)+E28","v":4}]
[null,"Mexiko",{"$f":"COUNTIF($S$12:$T$17,\"Mexiko\")","v":3},{"$f":"SUMPRODUCT(($S$12:$T$17=B29)*($X$12:$Y$17=3))","v":0},{"$f":"SUMPRODUCT(($S$12:$T$17=B29)*($X$12:$Y$17=1))","v":0},{"$f":"SUMPRODUCT(($S$12:$T$17=B29)*($X$12:$Y$17=2))","v":3},{"$f":"SUMPRODUCT(($S$12:$S$17=B29)*($U$12:$U$17))+SUMPRODUCT(($T$12:$T$17=B29)*($V$12:$V$17))","v":4},{"$f":"SUMPRODUCT(($S$12:$S$17=B29)*($V$12:$V$17))+SUMPRODUCT(($T$12:$T$17=B29)*($U$12:$U$17))","v":13},{"$f":"(D29*2)+E29","v":0},{"$f":"(F29*2)+E29","v":6}]
[]
[]
[null,null,null,null,null,"Gruppe 2"]
[]
[null,null,null,"1930-07-14","Jugoslawien","Brasilien",2,1,null,null,null,null,null,null,null,null,null,null,"Jugoslawien","Brasilien",2,1,null,{"$f":"(IF(U34>V34,3,IF(U34=V34,1,2)))","v":3},{"$f":"(IF(V34>U34,3,IF(U34=V34,1,2)))","v":2}]
[null,null,null,null,null,null,"(2","0)",null,null,null,null,null,null,null,null,null,null,"Jugoslawien","Bolivien",4,0,null,{"$f":"(IF(U35>V35,3,IF(U35=V35,1,2)))","v":3},2]
[null,null,null,"1930-07-17","Jugoslawien","Bolivien",4,0,null,null,null,null,null,null,null,null,null,null,"Brasilien","Bolivien",4,0,null,3,2]
[null,null,null,null,null,null,"(0","0)"]
[null,null,null,"1930-07-20","Brasilien","Bolivien",4,0]
[null,null,null,null,null,null,"(1","0)"]
[]
[null,null,"Spiele","gew","unent","verl","Tore+","Tore-","Punkte+","Punkte-"]
[null,"Jugoslawien",{"$f":"COUNTIF($S$34:$T$36,\"Jugoslawien\")","v":2},{"$f":"SUMPRODUCT(($S$34:$T$36=B42)*($X$34:$Y$36=3))","v":2},{"$f":"SUMPRODUCT(($S$34:$T$36=B42)*($X$34:$Y$36=1))","v":0},{"$f":"SUMPRODUCT(($S$34:$T$36=B42)*($X$34:$Y$36=2))","v":0},{"$f":"SUMPRODUCT(($S$34:$S$36=B42)*($U$34:$U$36))+SUMPRODUCT(($T$34:$T$36=B42)*($V$34:$V$36))","v":6},{"$f":"SUMPRODUCT(($S$34:$S$36=B42)*($V$34:$V$36))+SUMPRODUCT(($T$34:$T$36=B42)*($U$34:$U$36))","v":1},{"$f":"(D42*2)+E42","v":4},{"$f":"(F42*2)+E42","v":0}]
[null,"Brasilien",{"$f":"COUNTIF($S$34:$T$36,\"Brasilien\")","v":2},{"$f":"SUMPRODUCT(($S$34:$T$36=B43)*($X$34:$Y$36=3))","v":1},{"$f":"SUMPRODUCT(($S$34:$T$36=B43)*($X$34:$Y$36=1))","v":0},{"$f":"SUMPRODUCT(($S$34:$T$36=B43)*($X$34:$Y$36=2))","v":1},{"$f":"SUMPRODUCT(($S$34:$S$36=B43)*($U$34:$U$36))+SUMPRODUCT(($T$34:$T$36=B43)*($V$34:$V$36))","v":5},{"$f":"SUMPRODUCT(($S$34:$S$36=B43)*($V$34:$V$36))+SUMPRODUCT(($T$34:$T$36=B43)*($U$34:$U$36))","v":2},{"$f":"(D43*2)+E43","v":2},{"$f":"(F43*2)+E43","v":2}]
[null,"Bolivien",{"$f":"COUNTIF($S$34:$T$36,\"Bolivien\")","v":2},{"$f":"SUMPRODUCT(($S$34:$T$36=B44)*($X$34:$Y$36=3))","v":0},{"$f":"SUMPRODUCT(($S$34:$T$36=B44)*($X$34:$Y$36=1))","v":0},{"$f":"SUMPRODUCT(($S$34:$T$36=B44)*($X$34:$Y$36=2))","v":2},{"$f":"SUMPRODUCT(($S$34:$S$36=B44)*($U$34:$U$36))+SUMPRODUCT(($T$34:$T$36=B44)*($V$34:$V$36))","v":0},{"$f":"SUMPRODUCT(($S$34:$S$36=B44)*($V$34:$V$36))+SUMPRODUCT(($T$34:$T$36=B44)*($U$34:$U$36))","v":8},{"$f":"(D44*2)+E44","v":0},{"$f":"(F44*2)+E44","v":4}]
[]
[]
[null,null,null,null,null,"Gruppe 3"]
[]
[null,null,null,"1930-07-14","Rumänien","Peru",3,1,null,null,null,null,null,null,null,null,null,null,"Rumänien","Peru",3,1,null,{"$f":"(IF(U49>V49,3,IF(U49=V49,1,2)))","v":3},{"$f":"(IF(V49>U49,3,IF(U49=V49,1,2)))","v":2}]
[null,null,null,null,null,null,"(1","0)",null,null,null,null,null,null,null,null,null,null,"Uruguay","Peru",1,0,null,3,2]
[null,null,null,"1930-07-18","Uruguay","Peru",1,0,null,null,null,null,null,null,null,null,null,null,"Uruguay","Rumänien",4,0,null,3,2]
[null,null,null,null,null,null,"(0","0)"]
[null,null,null,"1930-07-21","Uruguay","Rumänien",4,0]
[null,null,null,null,null,null,"(4","0)"]
[]
[null,null,"Spiele","gew","unent","verl","Tore+","Tore-","Punkte+","Punkte-"]
[null,"Uruguay",{"$f":"COUNTIF($S$49:$T$51,\"Uruguay\")","v":2},{"$f":"SUMPRODUCT(($S$49:$T$51=B57)*($X$49:$Y$51=3))","v":2},{"$f":"SUMPRODUCT(($S$49:$T$51=B57)*($X$49:$Y$51=1))","v":0},{"$f":"SUMPRODUCT(($S$49:$T$51=B57)*($X$49:$Y$51=2))","v":0},{"$f":"SUMPRODUCT(($S$49:$S$51=B57)*($U$49:$U$51))+SUMPRODUCT(($T$49:$T$51=B57)*($V$49:$V$51))","v":5},{"$f":"SUMPRODUCT(($S$49:$S$51=B57)*($V$49:$V$51))+SUMPRODUCT(($T$49:$T$51=B57)*($U$49:$U$51))","v":0},{"$f":"(D57*2)+E57","v":4},{"$f":"(F57*2)+E57","v":0}]
[null,"Rumänien",{"$f":"COUNTIF($S$49:$T$51,\"Rumänien\")","v":2},{"$f":"SUMPRODUCT(($S$49:$T$51=B58)*($X$49:$Y$51=3))","v":1},{"$f":"SUMPRODUCT(($S$49:$T$51=B58)*($X$49:$Y$51=1))","v":0},{"$f":"SUMPRODUCT(($S$49:$T$51=B58)*($X$49:$Y$51=2))","v":1},{"$f":"SUMPRODUCT(($S$49:$S$51=B58)*($U$49:$U$51))+SUMPRODUCT(($T$49:$T$51=B58)*($V$49:$V$51))","v":3},{"$f":"SUMPRODUCT(($S$49:$S$51=B58)*($V$49:$V$51))+SUMPRODUCT(($T$49:$T$51=B58)*($U$49:$U$51))","v":5},{"$f":"(D58*2)+E58","v":2},{"$f":"(F58*2)+E58","v":2}]
[null,"Peru",{"$f":"COUNTIF($S$49:$T$51,\"Peru\")","v":2},{"$f":"SUMPRODUCT(($S$49:$T$51=B59)*($X$49:$Y$51=3))","v":0},{"$f":"SUMPRODUCT(($S$49:$T$51=B59)*($X$49:$Y$51=1))","v":0},{"$f":"SUMPRODUCT(($S$49:$T$51=B59)*($X$49:$Y$51=2))","v":2},{"$f":"SUMPRODUCT(($S$49:$S$51=B59)*($U$49:$U$51))+SUMPRODUCT(($T$49:$T$51=B59)*($V$49:$V$51))","v":1},{"$f":"SUMPRODUCT(($S$49:$S$51=B59)*($V$49:$V$51))+SUMPRODUCT(($T$49:$T$51=B59)*($U$49:$U$51))","v":4},{"$f":"(D59*2)+E59","v":0},{"$f":"(F59*2)+E59","v":4}]
[]
[]
[null,null,null,null,null,"Gruppe 4"]
[]
[null,null,null,"1930-07-13","USA","Belgien",3,0,null,null,null,null,null,null,null,null,null,null,"USA","Belgien",3,0,null,{"$f":"(IF(U64>V64,3,IF(U64=V64,1,2)))","v":3},{"$f":"(IF(V64>U64,3,IF(U64=V64,1,2)))","v":2}]
[null,null,null,null,null,null,"(2","0)",null,null,null,null,null,null,null,null,null,null,"USA","Paraguay",3,0,null,3,2]
[null,null,null,"1930-07-17","USA","Paraguay",3,0,null,null,null,null,null,null,null,null,null,null,"Paraguay","Belgien",1,0,null,3,2]
[null,null,null,null,null,null,"(2","0)"]
[null,null,null,"1930-07-20","Paraguay","Belgien",1,0]
[null,null,null,null,null,null,"(1","0)"]
[]
[null,null,"Spiele","gew","unent","verl","Tore+","Tore-","Punkte+","Punkte-"]
[null,"USA",{"$f":"COUNTIF($S$64:$T$66,\"USA\")","v":2},{"$f":"SUMPRODUCT(($S$64:$T$66=B72)*($X$64:$Y$66=3))","v":2},{"$f":"SUMPRODUCT(($S$64:$T$66=B72)*($X$64:$Y$66=1))","v":0},{"$f":"SUMPRODUCT(($S$64:$T$66=B72)*($X$64:$Y$66=2))","v":0},{"$f":"SUMPRODUCT(($S$64:$S$66=B72)*($U$64:$U$66))+SUMPRODUCT(($T$64:$T$66=B72)*($V$64:$V$66))","v":6},{"$f":"SUMPRODUCT(($S$64:$S$66=B72)*($V$64:$V$66))+SUMPRODUCT(($T$64:$T$66=B72)*($U$64:$U$66))","v":0},{"$f":"(D72*2)+E72","v":4},{"$f":"(F72*2)+E72","v":0}]
[null,"Paraguay",{"$f":"COUNTIF($S$64:$T$66,\"Paraguay\")","v":2},{"$f":"SUMPRODUCT(($S$64:$T$66=B73)*($X$64:$Y$66=3))","v":1},{"$f":"SUMPRODUCT(($S$64:$T$66=B73)*($X$64:$Y$66=1))","v":0},{"$f":"SUMPRODUCT(($S$64:$T$66=B73)*($X$64:$Y$66=2))","v":1},{"$f":"SUMPRODUCT(($S$64:$S$66=B73)*($U$64:$U$66))+SUMPRODUCT(($T$64:$T$66=B73)*($V$64:$V$66))","v":1},{"$f":"SUMPRODUCT(($S$64:$S$66=B73)*($V$64:$V$66))+SUMPRODUCT(($T$64:$T$66=B73)*($U$64:$U$66))","v":3},{"$f":"(D73*2)+E73","v":2},{"$f":"(F73*2)+E73","v":2}]
[null,"Belgien",{"$f":"COUNTIF($S$64:$T$66,\"Belgien\")","v":2},{"$f":"SUMPRODUCT(($S$64:$T$66=B74)*($X$64:$Y$66=3))","v":0},{"$f":"SUMPRODUCT(($S$64:$T$66=B74)*($X$64:$Y$66=1))","v":0},{"$f":"SUMPRODUCT(($S$64:$T$66=B74)*($X$64:$Y$66=2))","v":2},{"$f":"SUMPRODUCT(($S$64:$S$66=B74)*($U$64:$U$66))+SUMPRODUCT(($T$64:$T$66=B74)*($V$64:$V$66))","v":0},{"$f":"SUMPRODUCT(($S$64:$S$66=B74)*($V$64:$V$66))+SUMPRODUCT(($T$64:$T$66=B74)*($U$64:$U$66))","v":4},{"$f":"(D74*2)+E74","v":0},{"$f":"(F74*2)+E74","v":4}]
[]
[]
[null,null,"Halbfinale:"]
[]
[null,null,null,"1930-07-26","Argentinien","USA",6,1,null,null,null,null,null,null,null,null,null,null,"Argentinien","USA",6,1,null,{"$f":"(IF(U79>V79,3,IF(U79=V79,1,2)))","v":3},{"$f":"(IF(V79>U79,3,IF(U79=V79,1,2)))","v":2}]
[null,null,null,null,null,null,"(1","0)",null,null,null,null,null,null,null,null,null,null,"Uruguay","Jugoslawien",6,1,null,3,2]
[null,null,null,"1930-07-27","Uruguay","Jugoslawien",6,1]
[null,null,null,null,null,null,"(3","1)"]
[]
[]
[null,null,"Spiel um Platz 3 am 29. Juli 1930 in Montevideo"]
[]
[null,null,null,"Jugoslawien","USA","-","-"]
[]
[]
[null,null,null,null,null,"Jugoslawien verzichtet. USA kampflos Dritter."]
[]
[]
[null,null,"Endspiel am 30. Juli 1930 in Montevideo"]
[]
[null,null,null,"Uruguay","Argentinien",4,2,null,null,null,null,null,null,null,null,null,null,null,"Uruguay","Argentinien",4,2,null,{"$f":"(IF(U95>V95,3,IF(U95=V95,1,2)))","v":3},{"$f":"(IF(V95>U95,3,IF(U95=V95,1,2)))","v":2}]
[null,null,null,null,null,"(1","2)"]
[]
[]
[]
[]
[]
["Auswertung","Nation","Spiele","gew","unent","verl","Tore+","Tore-","Punkte+","Punkte-"]
[null,"Uruguay",{"$f":"COUNTIF($S$12:$T$95,\"Uruguay\")","v":4},{"$f":"SUMPRODUCT(($S$12:$T$95=B103)*($X$12:$Y$95=3))","v":4},{"$f":"SUMPRODUCT(($S$12:$T$95=B103)*($X$12:$Y$95=1))","v":0},{"$f":"SUMPRODUCT(($S$12:$T$95=B103)*($X$12:$Y$95=2))","v":0},{"$f":"SUMPRODUCT(($S$12:$S$95=B103)*($U$12:$U$95))+SUMPRODUCT(($T$12:$T$95=B103)*($V$12:$V$95))","v":15},{"$f":"SUMPRODUCT(($S$12:$S$95=B103)*($V$12:$V$95))+SUMPRODUCT(($T$12:$T$95=B103)*($U$12:$U$95))","v":3},{"$f":"(D103*2)+E103","v":8},{"$f":"(F103*2)+E103","v":0}]
[null,"Argentinien",{"$f":"COUNTIF($S$12:$T$95,\"Argentinien\")","v":5},4,0,1,18,9,8,2]
[null,"USA",{"$f":"COUNTIF($S$12:$T$95,\"USA\")","v":3},2,0,1,7,6,4,2]
[null,"Jugoslawien",{"$f":"COUNTIF($S$12:$T$95,\"Jugoslawien\")","v":3},2,0,1,7,7,4,2]
[null,"Chile",{"$f":"COUNTIF($S$12:$T$95,\"Chile\")","v":3},2,0,1,5,3,4,2]
[null,"Brasilien",{"$f":"COUNTIF($S$12:$T$95,\"Brasilien\")","v":2},1,0,1,5,2,2,2]
[null,"Rumänien",{"$f":"COUNTIF($S$12:$T$95,\"Rumänien\")","v":2},1,0,1,3,5,2,2]
[null,"Paraguay",{"$f":"COUNTIF($S$12:$T$95,\"Paraguay\")","v":2},1,0,1,1,3,2,2]
[null,"Frankreich",{"$f":"COUNTIF($S$12:$T$95,\"Frankreich\")","v":3},1,0,2,4,3,2,4]
[null,"Peru",{"$f":"COUNTIF($S$12:$T$95,\"Peru\")","v":2},0,0,2,1,4,0,4]
[null,"Belgien",{"$f":"COUNTIF($S$12:$T$95,\"Belgien\")","v":2},0,0,2,0,4,0,4]
[null,"Bolivien",{"$f":"COUNTIF($S$12:$T$95,\"Bolivien\")","v":2},0,0,2,0,8,0,4]
[null,"Mexiko",{"$f":"COUNTIF($S$12:$T$95,\"Mexiko\")","v":3},0,0,3,4,13,0,6]

{"sheet":"1934","index":1,"n_rows":93,"n_cols":27,"rows_kept":93,"cut":false,"hidden":false,"merged":[[66,2,66,8],[57,2,57,8],[1,0,1,10],[3,0,3,10],[4,0,4,10],[6,0,6,10]]}
[]
["2. WM 1934 in Italien"]
[]
["27. Mai-10. Juni 1934"]
["Teilnehmende Nationen: 16 --- Bewerbungen: 32"]
[]
["Das Tunier wurde im K.O.-System ausgespielt"]
[]
[]
[null,null,null,null,null,"Achtelfinale:"]
[]
[null,null,"1934-05-27","Italien","USA",7,1,null,"Rom",null,null,null,null,null,null,null,null,null,"Italien","USA",7,1,null,{"$f":"(IF(U12>V12,3,IF(U12=V12,1,2)))","v":3},{"$f":"(IF(V12>U12,3,IF(U12=V12,1,2)))","v":2},null,"Italien"]
[null,null,null,null,null,"(3","0)",null,null,null,null,null,null,null,null,null,null,null,"CSSR","Rumänien",2,1,null,{"$f":"(IF(U13>V13,3,IF(U13=V13,1,2)))","v":3},{"$f":"(IF(V13>U13,3,IF(U13=V13,1,2)))","v":2},null,"Deutschland"]
[null,null,"1934-05-27","CSSR","Rumänien",2,1,null,"Triest",null,null,null,null,null,null,null,null,null,"Deutschland","Belgien",5,2,null,3,2,null,"CSSR"]
[null,null,null,null,null,"(0","1)",null,null,null,null,null,null,null,null,null,null,null,"Österreich","Frankreich",3,2,null,3,2,null,"Österreich"]
[null,null,"1934-05-27","Deutschland","Belgien",5,2,null,"Florenz",null,null,null,null,null,null,null,null,null,"Spanien","Brasilien",3,1,null,3,2,null,"Spanien"]
[null,null,null,null,null,"(1","2)",null,null,null,null,null,null,null,null,null,null,null,"Schweiz","Niederlande",3,2,null,3,2,null,"Ungarn"]
[null,null,"1934-05-27","Österreich","Frankreich",3,2,"n.V.","Turin",null,null,null,null,null,null,null,null,null,"Schweden","Argentinien",3,2,null,3,2,null,"Schweiz"]
[null,null,null,null,null,1,1,null,null,null,null,null,null,null,null,null,null,null,"Ungarn","Ägypten",4,2,null,3,2,null,"Schweden"]
[null,null,null,null,null,"(1","1)",null,null,null,null,null,null,null,null,null,null,null,null,null,null,null,null,null,null,null,"Frankreich"]
[null,null,"1934-05-27","Spanien","Brasilien",3,1,null,"Genua",null,null,null,null,null,null,null,null,null,null,null,null,null,null,null,null,null,"Niederlande"]
[null,null,null,null,null,"(3","0)",null,null,null,null,null,null,null,null,null,null,null,null,null,null,null,null,null,null,null,"Argentinien"]
[null,null,"1934-05-27","Schweiz","Niederlande",3,2,null,"Mailand",null,null,null,null,null,null,null,null,null,null,null,null,null,null,null,null,null,"Ägypten"]
[null,null,null,null,null,"(2","1)",null,null,null,null,null,null,null,null,null,null,null,null,null,null,null,null,null,null,null,"Belgien"]
[null,null,"1934-05-27","Schweden","Argentinien",3,2,null,"Bologna",null,null,null,null,null,null,null,null,null,null,null,null,null,null,null,null,null,"Rumänien"]
[null,null,null,null,null,"(1","1)",null,null,null,null,null,null,null,null,null,null,null,null,null,null,null,null,null,null,null,"Brasilien"]
[null,null,"1934-05-27","Ungarn","Ägypten",4,2,null,"Neapel",null,null,null,null,null,null,null,null,null,null,null,null,null,null,null,null,null,"USA"]
[null,null,null,null,null,"(2","1)"]
[]
[]
[null,null,null,null,null,"Viertelfinale:"]
[]
[null,null,"1934-05-31","Österreich","Ungarn",2,1,null,"Bologna",null,null,null,null,null,null,null,null,null,"Österreich","Ungarn",2,1,null,{"$f":"(IF(U33>V33,3,IF(U33=V33,1,2)))","v":3},{"$f":"(IF(V33>U33,3,IF(U33=V33,1,2)))","v":2}]
[null,null,null,null,null,"(1","0)",null,null,null,null,null,null,null,null,null,null,null,"Italien","Spanien",1,1,null,{"$f":"(IF(U34>V34,3,IF(U34=V34,1,2)))","v":1},{"$f":"(IF(V34>U34,3,IF(U34=V34,1,2)))","v":1}]
[null,null,"1934-05-31","Italien","Spanien",1,1,"n.V.","Florenz",null,null,null,null,null,null,null,null,null,"Deutschland","Schweden",2,1,null,{"$f":"(IF(U35>V35,3,IF(U35=V35,1,2)))","v":3},2]
[null,null,null,null,null,1,1,null,null,null,null,null,null,null,null,null,null,null,"CSSR","Schweiz",3,2,null,3,2]
[null,null,null,null,null,"(1","1)"]
[null,null,"1934-05-31","Deutschland","Schweden",2,1,null,"Mailand"]
[null,null,null,null,null,"(0","0)"]
[null,null,"1934-05-31","CSSR","Schweiz",3,2,null,"Turin"]
[null,null,null,null,null,"(1","1)"]
[]
[]
[null,null,null,null,null,"Wiederholungsspiel:"]
[]
[null,null,"1934-06-01","Italien","Spanien",1,0,null,"Florenz",null,null,null,null,null,null,null,null,null,"Italien","Spanien",1,0,null,{"$f":"(IF(U46>V46,3,IF(U46=V46,1,2)))","v":3},{"$f":"(IF(V46>U46,3,IF(U46=V46,1,2)))","v":2}]
[null,null,null,null,null,"(1","0)"]
[]
[]
[null,null,null,null,null,"Halbfinale:"]
[]
[null,null,"1934-06-03","Österreich","Italien",0,1,null,"Mailand",null,null,null,null,null,null,null,null,null,"Österreich","Italien",0,1,null,{"$f":"(IF(U52>V52,3,IF(U52=V52,1,2)))","v":2},{"$f":"(IF(V52>U52,3,IF(U52=V52,1,2)))","v":3}]
[null,null,null,null,null,"(0","1)",null,null,null,null,null,null,null,null,null,null,null,"Deutschland","CSSR",1,3,null,2,3]
[null,null,"1934-06-03","Deutschland","CSSR",1,3,null,"Rom"]
[null,null,null,null,null,"(0","1)"]
[]
[]
[null,null,"Spiel um Platz 3 am 7. Juni 1934 in Neapel"]
[]
[null,null,null,"Österreich","Deutschland",2,3,null,null,null,null,null,null,null,null,null,null,null,"Österreich","Deutschland",2,3,null,{"$f":"(IF(U60>V60,3,IF(U60=V60,1,2)))","v":2},{"$f":"(IF(V60>U60,3,IF(U60=V60,1,2)))","v":3}]
[null,null,null,null,null,"(1","3)"]
[]
[]
[]
[]
[]
[null,null,"Endspiel am 10. Juni 1934 in Rom"]
[]
[null,null,null,"Italien","CSSR",2,1,"n.V.",null,null,null,null,null,null,null,null,null,null,"Italien","CSSR",2,1,null,{"$f":"(IF(U69>V69,3,IF(U69=V69,1,2)))","v":3},{"$f":"(IF(V69>U69,3,IF(U69=V69,1,2)))","v":2}]
[null,null,null,null,null,1,1]
[null,null,null,null,null,"(0","0)"]
[]
[]
[]
[]
[]
["Auswertung","Nation","Spiele","gew","unent","verl","Tore+","Tore-","Punkte+","Punkte-"]
[null,"Italien",{"$f":"COUNTIF($S$12:$T$69,\"Italien\")","v":5},{"$f":"SUMPRODUCT(($S$12:$T$69=B78)*($X$12:$Y$69=3))","v":4},{"$f":"SUMPRODUCT(($S$12:$T$69=B78)*($X$12:$Y$69=1))","v":1},{"$f":"SUMPRODUCT(($S$12:$T$69=B78)*($X$12:$Y$69=2))","v":0},{"$f":"SUMPRODUCT(($S$12:$S$69=B78)*($U$12:$U$69))+SUMPRODUCT(($T$12:$T$69=B78)*($V$12:$V$69))","v":12},{"$f":"SUMPRODUCT(($S$12:$S$69=B78)*($V$12:$V$69))+SUMPRODUCT(($T$12:$T$69=B78)*($U$12:$U$69))","v":3},{"$f":"(D78*2)+E78","v":9},{"$f":"(F78*2)+E78","v":1}]
[null,"Deutschland",{"$f":"COUNTIF($S$12:$T$69,\"Deutschland\")","v":4},3,0,1,11,8,6,2]
[null,"CSSR",{"$f":"COUNTIF($S$12:$T$69,\"CSSR\")","v":4},3,0,1,9,6,6,2]
[null,"Österreich",{"$f":"COUNTIF($S$12:$T$69,\"Österreich\")","v":4},2,0,2,7,7,4,4]
[null,"Spanien",{"$f":"COUNTIF($S$12:$T$69,\"Spanien\")","v":3},1,1,1,4,3,3,3]
[null,"Ungarn",{"$f":"COUNTIF($S$12:$T$69,\"Ungarn\")","v":2},1,0,1,5,4,2,2]
[null,"Schweiz",{"$f":"COUNTIF($S$12:$T$69,\"Schweiz\")","v":2},1,0,1,5,5,2,2]
[null,"Schweden",{"$f":"COUNTIF($S$12:$T$69,\"Schweden\")","v":2},1,0,1,4,4,2,2]
[null,"Frankreich",{"$f":"COUNTIF($S$12:$T$69,\"Frankreich\")","v":1},0,0,1,2,3,0,2]
[null,"Niederlande",{"$f":"COUNTIF($S$12:$T$69,\"Niederlande\")","v":1},0,0,1,2,3,0,2]
[null,"Argentinien",{"$f":"COUNTIF($S$12:$T$69,\"Argentinien\")","v":1},0,0,1,2,3,0,2]
[null,"Ägypten",{"$f":"COUNTIF($S$12:$T$69,\"Ägypten\")","v":1},0,0,1,2,4,0,2]
[null,"Belgien",{"$f":"COUNTIF($S$12:$T$69,\"Belgien\")","v":1},0,0,1,2,5,0,2]
[null,"Rumänien",{"$f":"COUNTIF($S$12:$T$69,\"Rumänien\")","v":1},0,0,1,1,2,0,2]
[null,"Brasilien",{"$f":"COUNTIF($S$12:$T$69,\"Brasilien\")","v":1},0,0,1,1,3,0,2]
[null,"USA",{"$f":"COUNTIF($S$12:$T$69,\"USA\")","v":1},0,0,1,1,7,0,2]

{"sheet":"1938","index":2,"n_rows":101,"n_cols":27,"rows_kept":101,"cut":false,"hidden":false,"merged":[[67,2,67,8],[76,2,76,8],[1,0,1,10],[3,0,3,10],[4,0,4,10],[6,0,6,10]]}
[]
["3. WM 1938 in Frankreich"]
[]
["4.-19. Juni 1938"]
["Teilnehmende Nationen: 16 --- Bewerbungen: 36"]
[]
["Das Tunier wurde im K.O.-System ausgespielt"]
[]
[]
[null,null,null,null,null,"Achtelfinale:"]
[]
[null,null,"1938-06-04","Schweiz","Dtsch. Reich",1,1,"n.V.","Paris",null,null,null,null,null,null,null,null,null,"Schweiz","Dtsch. Reich",1,1,null,{"$f":"(IF(U12>V12,3,IF(U12=V12,1,2)))","v":1},{"$f":"(IF(V12>U12,3,IF(U12=V12,1,2)))","v":1},null,"Italien"]
[null,null,null,null,null,1,1,null,null,null,null,null,null,null,null,null,null,null,"Ungarn","Niederl.-Indien",6,0,null,{"$f":"(IF(U13>V13,3,IF(U13=V13,1,2)))","v":3},{"$f":"(IF(V13>U13,3,IF(U13=V13,1,2)))","v":2},null,"Brasilien"]
[null,null,null,null,null,"(1","1)",null,null,null,null,null,null,null,null,null,null,null,"Kuba","Rumänien",3,3,null,1,1,null,"Ungarn"]
[null,null,"1938-06-05","Ungarn","Niederl.-Indien",6,0,null,"Reims",null,null,null,null,null,null,null,null,null,"Frankreich","Belgien",3,1,null,3,2,null,"CSSR"]
[null,null,null,null,null,"(4","0)",null,null,null,null,null,null,null,null,null,null,null,"Italien","Norwegen",2,1,null,3,2,null,"Schweiz"]
[null,null,"1938-06-05","Kuba","Rumänien",3,3,"n.V.","Toulouse",null,null,null,null,null,null,null,null,null,"Brasilien","Polen",6,5,null,3,2,null,"Kuba"]
[null,null,null,null,null,2,2,null,null,null,null,null,null,null,null,null,null,null,"CSSR","Niederlande",3,0,null,3,2,null,"Frankreich"]
[null,null,null,null,null,"(1","1)",null,null,null,null,null,null,null,null,null,null,null,null,null,null,null,null,null,null,null,"Schweden"]
[null,null,"1938-06-05","Frankreich","Belgien",3,1,null,"Colombes (bei Paris)",null,null,null,null,null,null,null,null,null,null,null,null,null,null,null,null,null,"Rumänien"]
[null,null,null,null,null,"(2","1)",null,null,null,null,null,null,null,null,null,null,null,null,null,null,null,null,null,null,null,"Dtsch. Reich"]
[null,null,"1938-06-05","Italien","Norwegen",2,1,"n.V.","Marseille",null,null,null,null,null,null,null,null,null,null,null,null,null,null,null,null,null,"Polen"]
[null,null,null,null,null,1,1,null,null,null,null,null,null,null,null,null,null,null,null,null,null,null,null,null,null,null,"Norwegen"]
[null,null,null,null,null,"(1","0)",null,null,null,null,null,null,null,null,null,null,null,null,null,null,null,null,null,null,null,"Belgien"]
[null,null,"1938-06-05","Brasilien","Polen",6,5,"n.V.","Straßburg",null,null,null,null,null,null,null,null,null,null,null,null,null,null,null,null,null,"Niederlande"]
[null,null,null,null,null,4,4,null,null,null,null,null,null,null,null,null,null,null,null,null,null,null,null,null,null,null,"Niederl.-Indien"]
[null,null,null,null,null,"(3","1)"]
[null,null,"1938-06-05","CSSR","Niederlande",3,0,"n.V.","Le Havre"]
[null,null,null,null,null,0,0]
[null,null,null,null,null,"(0","0)"]
[null,null,"1938-06-05","Schweden","Österreich","kampflos",null,null,"Lyon"]
[]
[]
[null,null,null,null,null,"Wiederholungsspiele:"]
[]
[null,null,"1938-06-09","Schweiz","Dtsch. Reich",4,2,null,"Paris",null,null,null,null,null,null,null,null,null,"Schweiz","Dtsch. Reich",4,2,null,{"$f":"(IF(U36>V36,3,IF(U36=V36,1,2)))","v":3},{"$f":"(IF(V36>U36,3,IF(U36=V36,1,2)))","v":2}]
[null,null,null,null,null,"(1","2)",null,null,null,null,null,null,null,null,null,null,null,"Kuba","Rumänien",2,1,null,{"$f":"(IF(U37>V37,3,IF(U37=V37,1,2)))","v":3},{"$f":"(IF(V37>U37,3,IF(U37=V37,1,2)))","v":2}]
[null,null,"1938-06-09","Kuba","Rumänien",2,1,null,"Toulouse"]
[null,null,null,null,null,"(0","1)"]
[]
[null,null,null,null,null,"Viertelfinale:"]
[]
[null,null,"1938-06-12","Italien","Frankreich",3,1,null,"Colombes (bei Paris)",null,null,null,null,null,null,null,null,null,"Italien","Frankreich",3,1,null,{"$f":"(IF(U43>V43,3,IF(U43=V43,1,2)))","v":3},{"$f":"(IF(V43>U43,3,IF(U43=V43,1,2)))","v":2}]
[null,null,null,null,null,"(1","1)",null,null,null,null,null,null,null,null,null,null,null,"CSSR","Brasilien",1,1,null,1,1]
[null,null,"1938-06-12","CSSR","Brasilien",1,1,"n.V.","Bordeaux",null,null,null,null,null,null,null,null,null,"Kuba","Schweden",0,8,null,2,3]
[null,null,null,null,null,1,1,null,null,null,null,null,null,null,null,null,null,null,"Schweiz","Ungarn",0,2,null,{"$f":"(IF(U46>V46,3,IF(U46=V46,1,2)))","v":2},{"$f":"(IF(V46>U46,3,IF(U46=V46,1,2)))","v":3}]
[null,null,null,null,null,"(0","1)"]
[null,null,"1938-06-12","Kuba","Schweden",0,8,null,"Antibes"]
[null,null,null,null,null,"(0","4)"]
[null,null,"1938-06-12","Schweiz","Ungarn",0,2,null,"Lille"]
[null,null,null,null,null,"(0","1)"]
[]
[]
[null,null,null,null,null,"Wiederholungsspiel:"]
[]
[null,null,"1938-06-14","CSSR","Brasilien",1,2,null,"Bordeaux",null,null,null,null,null,null,null,null,null,"CSSR","Brasilien",1,2,null,{"$f":"(IF(U56>V56,3,IF(U56=V56,1,2)))","v":2},{"$f":"(IF(V56>U56,3,IF(U56=V56,1,2)))","v":3}]
[null,null,null,null,null,"(1","0)"]
[]
[]
[null,null,null,null,null,"Halbfinale:"]
[]
[null,null,"1938-06-16","Italien","Brasilien",2,1,null,"Marseille",null,null,null,null,null,null,null,null,null,"Italien","Brasilien",2,1,null,{"$f":"(IF(U62>V62,3,IF(U62=V62,1,2)))","v":3},{"$f":"(IF(V62>U62,3,IF(U62=V62,1,2)))","v":2}]
[null,null,null,null,null,"(0","0)",null,null,null,null,null,null,null,null,null,null,null,"Schweden","Ungarn",1,5,null,2,3]
[null,null,"1938-06-16","Schweden","Ungarn",1,5,null,"Paris"]
[null,null,null,null,null,"(1","3)"]
[]
[]
[null,null,"Spiel um Platz 3 am 19. Juni 1938 in Bordeaux"]
[]
[null,null,null,"Brasilien","Schweden",4,2,null,null,null,null,null,null,null,null,null,null,null,"Brasilien","Schweden",4,2,null,{"$f":"(IF(U70>V70,3,IF(U70=V70,1,2)))","v":3},{"$f":"(IF(V70>U70,3,IF(U70=V70,1,2)))","v":2}]
[null,null,null,4,null,"(1","2)"]
[]
[]
[]
[]
[]
[null,null,"Endspiel am 19. Juni 1938 in Colombes (bei Paris)"]
[]
[null,null,null,"Italien","Ungarn",4,2,null,null,null,null,null,null,null,null,null,null,null,"Italien","Ungarn",4,2,null,{"$f":"(IF(U79>V79,3,IF(U79=V79,1,2)))","v":3},{"$f":"(IF(V79>U79,3,IF(U79=V79,1,2)))","v":2}]
[null,null,null,null,null,"(3","1)"]
[]
[]
[]
[]
[]
["Auswertung","Nation","Spiele","gew","unent","verl","Tore+","Tore-","Punkte+","Punkte-"]
[null,"Italien",{"$f":"COUNTIF($S$12:$T$79,\"Italien\")","v":4},{"$f":"SUMPRODUCT(($S$12:$T$79=B87)*($X$12:$Y$79=3))","v":4},{"$f":"SUMPRODUCT(($S$12:$T$79=B87)*($X$12:$Y$79=1))","v":0},{"$f":"SUMPRODUCT(($S$12:$T$79=B87)*($X$12:$Y$79=2))","v":0},{"$f":"SUMPRODUCT(($S$12:$S$79=B87)*($U$12:$U$79))+SUMPRODUCT(($T$12:$T$79=B87)*($V$12:$V$79))","v":11},{"$f":"SUMPRODUCT(($S$12:$S$79=B87)*($V$12:$V$79))+SUMPRODUCT(($T$12:$T$79=B87)*($U$12:$U$79))","v":5},{"$f":"(D87*2)+E87","v":8},{"$f":"(F87*2)+E87","v":0}]
[null,"Brasilien",{"$f":"COUNTIF($S$12:$T$79,\"Brasilien\")","v":5},3,1,1,14,11,7,3]
[null,"Ungarn",{"$f":"COUNTIF($S$12:$T$79,\"Ungarn\")","v":4},3,0,1,15,5,6,2]
[null,"CSSR",{"$f":"COUNTIF($S$12:$T$79,\"CSSR\")","v":3},1,1,1,5,3,3,3]
[null,"Schweiz",{"$f":"COUNTIF($S$12:$T$79,\"Schweiz\")","v":3},1,1,1,5,5,3,3]
[null,"Kuba",{"$f":"COUNTIF($S$12:$T$79,\"Kuba\")","v":3},1,1,1,5,12,3,3]
[null,"Frankreich",{"$f":"COUNTIF($S$12:$T$79,\"Frankreich\")","v":2},1,0,1,4,4,2,2]
[null,"Schweden",{"$f":"COUNTIF($S$12:$T$79,\"Schweden\")","v":3},1,0,2,11,9,2,4]
[null,"Rumänien",{"$f":"COUNTIF($S$12:$T$79,\"Rumänien\")","v":2},0,1,1,4,5,1,3]
[null,"Dtsch. Reich",{"$f":"COUNTIF($S$12:$T$79,\"Dtsch. Reich\")","v":2},0,1,1,3,5,1,3]
[null,"Polen",{"$f":"COUNTIF($S$12:$T$79,\"Polen\")","v":1},0,0,1,5,6,0,2]
[null,"Norwegen",{"$f":"COUNTIF($S$12:$T$79,\"Norwegen\")","v":1},0,0,1,1,2,0,2]
[null,"Belgien",{"$f":"COUNTIF($S$12:$T$79,\"Belgien\")","v":1},0,0,1,1,3,0,2]
[null,"Niederlande",{"$f":"COUNTIF($S$12:$T$79,\"Niederlande\")","v":1},0,0,1,0,3,0,2]
[null,"Niederl.-Indien",{"$f":"COUNTIF($S$12:$T$79,\"Niederl.-Indien\")","v":1},0,0,1,0,6,0,2]

{"sheet":"1950","index":3,"n_rows":119,"n_cols":27,"rows_kept":119,"cut":false,"hidden":false,"merged":[[1,0,1,10],[3,0,3,10],[4,0,4,10],[77,2,77,9],[78,2,78,9],[66,2,66,9]]}
[]
["4. WM 1950 in Brasilien"]
[]
["24. Juni - 16. Juli 1950"]
["Teilnehmende Nationen: 13 --- Bewerbungen: 34"]
[]
[]
[]
[]
[null,null,null,null,null,"Gruppe 1"]
[]
[null,null,"1950-06-24","Brasilien","Mexiko",4,0,null,"Rio de Janeiro",null,null,null,null,null,null,null,null,null,"Brasilien","Mexiko",4,0,null,{"$f":"(IF(U12>V12,3,IF(U12=V12,1,2)))","v":3},{"$f":"(IF(V12>U12,3,IF(U12=V12,1,2)))","v":2},null,"Brasilien"]
[null,null,null,null,null,"(1","0)",null,null,null,null,null,null,null,null,null,null,null,"Jugoslawien","Schweiz",3,0,null,{"$f":"(IF(U13>V13,3,IF(U13=V13,1,2)))","v":3},{"$f":"(IF(V13>U13,3,IF(U13=V13,1,2)))","v":2},null,"Uruguay"]
[null,null,"1950-06-25","Jugoslawien","Schweiz",3,0,null,"Belo Horizonte",null,null,null,null,null,null,null,null,null,"Brasilien","Schweiz",2,2,null,1,1,null,"Spanien"]
[null,null,null,null,null,"(0","0)",null,null,null,null,null,null,null,null,null,null,null,"Jugoslawien","Mexiko",4,1,null,3,2,null,"Schweden"]
[null,null,"1950-06-28","Brasilien","Schweiz",2,2,null,"São Paulo",null,null,null,null,null,null,null,null,null,"Brasilien","Jugoslawien",2,0,null,3,2,null,"Jugoslawien"]
[null,null,null,null,null,"(2","1)",null,null,null,null,null,null,null,null,null,null,null,"Schweiz","Mexiko",2,1,null,3,2,null,"Schweiz"]
[null,null,"1950-06-28","Jugoslawien","Mexiko",4,1,null,"Porto Alegre",null,null,null,null,null,null,null,null,null,null,null,null,null,null,null,null,null,"Italien"]
[null,null,null,null,null,"(2","0)",null,null,null,null,null,null,null,null,null,null,null,null,null,null,null,null,null,null,null,"Chile"]
[null,null,"1950-07-01","Brasilien","Jugoslawien",2,0,null,"Rio de Janeiro",null,null,null,null,null,null,null,null,null,null,null,null,null,null,null,null,null,"USA"]
[null,null,null,null,null,"(1","0)",null,null,null,null,null,null,null,null,null,null,null,null,null,null,null,null,null,null,null,"England"]
[null,null,"1950-07-02","Schweiz","Mexiko",2,1,null,"Porto Alegre",null,null,null,null,null,null,null,null,null,null,null,null,null,null,null,null,null,"Paraguay"]
[null,null,null,null,null,"(2","0)",null,null,null,null,null,null,null,null,null,null,null,null,null,null,null,null,null,null,null,"Bolivien"]
[null,null,null,null,null,null,null,null,null,null,null,null,null,null,null,null,null,null,null,null,null,null,null,null,null,null,"Mexiko"]
[null,null,"Spiele","gew","unent","verl","Tore+","Tore-","Punkte+","Punkte-"]
[null,"Brasilien",{"$f":"COUNTIF($S$12:$T$17,\"Brasilien\")","v":3},{"$f":"SUMPRODUCT(($S$12:$T$17=B26)*($X$12:$Y$17=3))","v":2},{"$f":"SUMPRODUCT(($S$12:$T$17=B26)*($X$12:$Y$17=1))","v":1},{"$f":"SUMPRODUCT(($S$12:$T$17=B26)*($X$12:$Y$17=2))","v":0},{"$f":"SUMPRODUCT(($S$12:$S$17=B26)*($U$12:$U$17))+SUMPRODUCT(($T$12:$T$17=B26)*($V$12:$V$17))","v":8},{"$f":"SUMPRODUCT(($S$12:$S$17=B26)*($V$12:$V$17))+SUMPRODUCT(($T$12:$T$17=B26)*($U$12:$U$17))","v":2},{"$f":"(D26*2)+E26","v":5},{"$f":"(F26*2)+E26","v":1}]
[null,"Jugoslawien",{"$f":"COUNTIF($S$12:$T$17,\"Jugoslawien\")","v":3},{"$f":"SUMPRODUCT(($S$12:$T$17=B27)*($X$12:$Y$17=3))","v":2},{"$f":"SUMPRODUCT(($S$12:$T$17=B27)*($X$12:$Y$17=1))","v":0},{"$f":"SUMPRODUCT(($S$12:$T$17=B27)*($X$12:$Y$17=2))","v":1},{"$f":"SUMPRODUCT(($S$12:$S$17=B27)*($U$12:$U$17))+SUMPRODUCT(($T$12:$T$17=B27)*($V$12:$V$17))","v":7},{"$f":"SUMPRODUCT(($S$12:$S$17=B27)*($V$12:$V$17))+SUMPRODUCT(($T$12:$T$17=B27)*($U$12:$U$17))","v":3},{"$f":"(D27*2)+E27","v":4},{"$f":"(F27*2)+E27","v":2}]
[null,"Schweiz",{"$f":"COUNTIF($S$12:$T$17,\"Schweiz\")","v":3},{"$f":"SUMPRODUCT(($S$12:$T$17=B28)*($X$12:$Y$17=3))","v":1},{"$f":"SUMPRODUCT(($S$12:$T$17=B28)*($X$12:$Y$17=1))","v":1},{"$f":"SUMPRODUCT(($S$12:$T$17=B28)*($X$12:$Y$17=2))","v":1},{"$f":"SUMPRODUCT(($S$12:$S$17=B28)*($U$12:$U$17))+SUMPRODUCT(($T$12:$T$17=B28)*($V$12:$V$17))","v":4},{"$f":"SUMPRODUCT(($S$12:$S$17=B28)*($V$12:$V$17))+SUMPRODUCT(($T$12:$T$17=B28)*($U$12:$U$17))","v":6},{"$f":"(D28*2)+E28","v":3},{"$f":"(F28*2)+E28","v":3}]
[null,"Mexiko",{"$f":"COUNTIF($S$12:$T$17,\"Mexiko\")","v":3},{"$f":"SUMPRODUCT(($S$12:$T$17=B29)*($X$12:$Y$17=3))","v":0},{"$f":"SUMPRODUCT(($S$12:$T$17=B29)*($X$12:$Y$17=1))","v":0},{"$f":"SUMPRODUCT(($S$12:$T$17=B29)*($X$12:$Y$17=2))","v":3},{"$f":"SUMPRODUCT(($S$12:$S$17=B29)*($U$12:$U$17))+SUMPRODUCT(($T$12:$T$17=B29)*($V$12:$V$17))","v":2},{"$f":"SUMPRODUCT(($S$12:$S$17=B29)*($V$12:$V$17))+SUMPRODUCT(($T$12:$T$17=B29)*($U$12:$U$17))","v":10},{"$f":"(D29*2)+E29","v":0},{"$f":"(F29*2)+E29","v":6}]
[]
[]
[null,null,null,null,null,"Gruppe 2"]
[]
[null,null,"1950-06-25","Chile","England",0,2,null,"Rio de Janeiro",null,null,null,null,null,null,null,null,null,"Chile","England",0,2,null,{"$f":"(IF(U34>V34,3,IF(U34=V34,1,2)))","v":2},{"$f":"(IF(V34>U34,3,IF(U34=V34,1,2)))","v":3}]
[null,null,null,null,null,"(0","1)",null,null,null,null,null,null,null,null,null,null,null,"USA","Spanien",1,3,null,2,3]
[null,null,"1950-06-25","USA","Spanien",1,3,null,"Curitiba",null,null,null,null,null,null,null,null,null,"USA","England",1,0,null,3,2]
[null,null,null,null,null,"(1","0)",null,null,null,null,null,null,null,null,null,null,null,"Chile","Spanien",0,2,null,2,3]
[null,null,"1950-06-29","USA","England",1,0,null,"Belo Horizonte",null,null,null,null,null,null,null,null,null,"England","Spanien",0,1,null,{"$f":"(IF(U38>V38,3,IF(U38=V38,1,2)))","v":2},{"$f":"(IF(V38>U38,3,IF(U38=V38,1,2)))","v":3}]
[null,null,null,null,null,"(1","0)",null,null,null,null,null,null,null,null,null,null,null,"Chile","USA",5,2,null,3,2]
[null,null,"1950-06-29","Chile","Spanien",0,2,null,"Rio de Janeiro"]
[null,null,null,null,null,"(0","2)"]
[null,null,"1950-07-02","England","Spanien",0,1,null,"Rio de Janeiro"]
[null,null,null,null,null,"(0","0)"]
[null,null,"1950-07-02","Chile","USA",5,2,null,"Recife"]
[null,null,null,null,null,"(2","0)"]
[]
[null,null,"Spiele","gew","unent","verl","Tore+","Tore-","Punkte+","Punkte-"]
[null,"Spanien",{"$f":"COUNTIF($S$34:$T$39,\"Spanien\")","v":3},{"$f":"SUMPRODUCT(($S$34:$T$39=B48)*($X$34:$Y$39=3))","v":3},{"$f":"SUMPRODUCT(($S$34:$T$39=B48)*($X$34:$Y$39=1))","v":0},{"$f":"SUMPRODUCT(($S$34:$T$39=B48)*($X$34:$Y$39=2))","v":0},{"$f":"SUMPRODUCT(($S$34:$S$39=B48)*($U$34:$U$39))+SUMPRODUCT(($T$34:$T$39=B48)*($V$34:$V$39))","v":6},{"$f":"SUMPRODUCT(($S$34:$S$39=B48)*($V$34:$V$39))+SUMPRODUCT(($T$34:$T$39=B48)*($U$34:$U$39))","v":1},{"$f":"(D48*2)+E48","v":6},{"$f":"(F48*2)+E48","v":0}]
[null,"Chile",{"$f":"COUNTIF($S$34:$T$39,\"Chile\")","v":3},{"$f":"SUMPRODUCT(($S$34:$T$39=B49)*($X$34:$Y$39=3))","v":1},{"$f":"SUMPRODUCT(($S$34:$T$39=B49)*($X$34:$Y$39=1))","v":0},{"$f":"SUMPRODUCT(($S$34:$T$39=B49)*($X$34:$Y$39=2))","v":2},{"$f":"SUMPRODUCT(($S$34:$S$39=B49)*($U$34:$U$39))+SUMPRODUCT(($T$34:$T$39=B49)*($V$34:$V$39))","v":5},{"$f":"SUMPRODUCT(($S$34:$S$39=B49)*($V$34:$V$39))+SUMPRODUCT(($T$34:$T$39=B49)*($U$34:$U$39))","v":6},{"$f":"(D49*2)+E49","v":2},{"$f":"(F49*2)+E49","v":4}]
[null,"USA",{"$f":"COUNTIF($S$34:$T$39,\"USA\")","v":3},{"$f":"SUMPRODUCT(($S$34:$T$39=B50)*($X$34:$Y$39=3))","v":1},{"$f":"SUMPRODUCT(($S$34:$T$39=B50)*($X$34:$Y$39=1))","v":0},{"$f":"SUMPRODUCT(($S$34:$T$39=B50)*($X$34:$Y$39=2))","v":2},{"$f":"SUMPRODUCT(($S$34:$S$39=B50)*($U$34:$U$39))+SUMPRODUCT(($T$34:$T$39=B50)*($V$34:$V$39))","v":4},{"$f":"SUMPRODUCT(($S$34:$S$39=B50)*($V$34:$V$39))+SUMPRODUCT(($T$34:$T$39=B50)*($U$34:$U$39))","v":8},{"$f":"(D50*2)+E50","v":2},{"$f":"(F50*2)+E50","v":4}]
[null,"England",{"$f":"COUNTIF($S$34:$T$39,\"England\")","v":3},{"$f":"SUMPRODUCT(($S$34:$T$39=B51)*($X$34:$Y$39=3))","v":1},{"$f":"SUMPRODUCT(($S$34:$T$39=B51)*($X$34:$Y$39=1))","v":0},{"$f":"SUMPRODUCT(($S$34:$T$39=B51)*($X$34:$Y$39=2))","v":2},{"$f":"SUMPRODUCT(($S$34:$S$39=B51)*($U$34:$U$39))+SUMPRODUCT(($T$34:$T$39=B51)*($V$34:$V$39))","v":2},{"$f":"SUMPRODUCT(($S$34:$S$39=B51)*($V$34:$V$39))+SUMPRODUCT(($T$34:$T$39=B51)*($U$34:$U$39))","v":2},{"$f":"(D51*2)+E51","v":2},{"$f":"(F51*2)+E51","v":4}]
[]
[]
[null,null,null,null,null,"Gruppe 3"]
[]
[null,null,"1950-06-25","Schweden","Italien",3,2,null,"São Paulo",null,null,null,null,null,null,null,null,null,"Schweden","Italien",3,2,null,{"$f":"(IF(U56>V56,3,IF(U56=V56,1,2)))","v":3},{"$f":"(IF(V56>U56,3,IF(U56=V56,1,2)))","v":2}]
[null,null,null,null,null,"(2","1)",null,null,null,null,null,null,null,null,null,null,null,"Paraguay","Schweden",2,2,null,1,1]
[null,null,"1950-06-29","Paraguay","Schweden",2,2,null,"Curitiba",null,null,null,null,null,null,null,null,null,"Paraguay","Italien",0,2,null,{"$f":"(IF(U58>V58,3,IF(U58=V58,1,2)))","v":2},{"$f":"(IF(V58>U58,3,IF(U58=V58,1,2)))","v":3}]
[null,null,null,null,null,"(1","2)"]
[null,null,"1950-07-02","Paraguay","Italien",0,2,null,"São Paulo"]
[null,null,null,null,null,"(0","1)"]
[]
[null,null,"Spiele","gew","unent","verl","Tore+","Tore-","Punkte+","Punkte-"]
[null,"Schweden",{"$f":"COUNTIF($S$56:$T$58,\"Schweden\")","v":2},{"$f":"SUMPRODUCT(($S$56:$T$58=B64)*($X$56:$Y$58=3))","v":1},{"$f":"SUMPRODUCT(($S$56:$T$58=B64)*($X$56:$Y$58=1))","v":1},{"$f":"SUMPRODUCT(($S$56:$T$58=B64)*($X$56:$Y$58=2))","v":0},{"$f":"SUMPRODUCT(($S$56:$S$58=B64)*($U$56:$U$58))+SUMPRODUCT(($T$56:$T$58=B64)*($V$56:$V$58))","v":5},{"$f":"SUMPRODUCT(($S$56:$S$58=B64)*($V$56:$V$58))+SUMPRODUCT(($T$56:$T$58=B64)*($U$56:$U$58))","v":4},{"$f":"(D64*2)+E64","v":3},{"$f":"(F64*2)+E64","v":1}]
[null,"Italien",{"$f":"COUNTIF($S$56:$T$58,\"Italien\")","v":2},{"$f":"SUMPRODUCT(($S$56:$T$58=B65)*($X$56:$Y$58=3))","v":1},{"$f":"SUMPRODUCT(($S$56:$T$58=B65)*($X$56:$Y$58=1))","v":0},{"$f":"SUMPRODUCT(($S$56:$T$58=B65)*($X$56:$Y$58=2))","v":1},{"$f":"SUMPRODUCT(($S$56:$S$58=B65)*($U$56:$U$58))+SUMPRODUCT(($T$56:$T$58=B65)*($V$56:$V$58))","v":4},{"$f":"SUMPRODUCT(($S$56:$S$58=B65)*($V$56:$V$58))+SUMPRODUCT(($T$56:$T$58=B65)*($U$56:$U$58))","v":3},{"$f":"(D65*2)+E65","v":2},{"$f":"(F65*2)+E65","v":2}]
[null,"Paraguay",{"$f":"COUNTIF($S$56:$T$58,\"Paraguay\")","v":2},0,1,1,2,4,1,3]
[null,"Indien","Teilnahme zurück gezogen"]
[]
[]
[null,null,null,null,null,"Gruppe 4"]
[]
[null,null,"1950-07-02","Uruguay","Bolivien",8,0,null,"Belo Horizonte",null,null,null,null,null,null,null,null,null,"Uruguay","Bolivien",8,0,null,{"$f":"(IF(U72>V72,3,IF(U72=V72,1,2)))","v":3},{"$f":"(IF(V72>U72,3,IF(U72=V72,1,2)))","v":2}]
[null,null,null,null,null,"(4","0)"]
[]
[null,null,"Spiele","gew","unent","verl","Tore+","Tore-","Punkte+","Punkte-"]
[null,"Uruguay",{"$f":"COUNTIF($S$72:$T$72,\"Uruguay\")","v":1},{"$f":"SUMPRODUCT(($S$72:$T$72=B76)*($X$72:$Y$72=3))","v":1},{"$f":"SUMPRODUCT(($S$72:$T$72=B76)*($X$72:$Y$72=1))","v":0},{"$f":"SUMPRODUCT(($S$72:$T$72=B76)*($X$72:$Y$72=2))","v":0},{"$f":"SUMPRODUCT(($S$72:$S$72=B76)*($U$72:$U$72))+SUMPRODUCT(($T$72:$T$72=B76)*($V$72:$V$72))","v":8},{"$f":"SUMPRODUCT(($S$72:$S$72=B76)*($V$72:$V$72))+SUMPRODUCT(($T$72:$T$72=B76)*($U$72:$U$72))","v":0},{"$f":"(D76*2)+E76","v":2},{"$f":"(F76*2)+E76","v":0}]
[null,"Bolivien",{"$f":"COUNTIF($S$72:$T$72,\"Bolivien\")","v":1},{"$f":"SUMPRODUCT(($S$72:$T$72=B77)*($X$72:$Y$72=3))","v":0},{"$f":"SUMPRODUCT(($S$72:$T$72=B77)*($X$72:$Y$72=1))","v":0},{"$f":"SUMPRODUCT(($S$72:$T$72=B77)*($X$72:$Y$72=2))","v":1},{"$f":"SUMPRODUCT(($S$72:$S$72=B77)*($U$72:$U$72))+SUMPRODUCT(($T$72:$T$72=B77)*($V$72:$V$72))","v":0},{"$f":"SUMPRODUCT(($S$72:$S$72=B77)*($V$72:$V$72))+SUMPRODUCT(($T$72:$T$72=B77)*($U$72:$U$72))","v":8},{"$f":"(D77*2)+E77","v":0},{"$f":"(F77*2)+E77","v":2}]
[null,"Schottland","Teilnahme zurück gezogen"]
[null,"Türkei","Teilnahme zurück gezogen"]
[]
[]
[null,null,null,null,null,"Finalrunde:"]
[]
[null,null,"1950-07-09","Brasilien","Schweden",7,1,null,"Rio de Janeiro",null,null,null,null,null,null,null,null,null,"Brasilien","Schweden",7,1,null,{"$f":"(IF(U84>V84,3,IF(U84=V84,1,2)))","v":3},{"$f":"(IF(V84>U84,3,IF(U84=V84,1,2)))","v":2}]
[null,null,null,null,null,"(3","0)",null,null,null,null,null,null,null,null,null,null,null,"Uruguay","Spanien",2,2,null,1,1]
[null,null,"1950-07-09","Uruguay","Spanien",2,2,null,"São Paulo",null,null,null,null,null,null,null,null,null,"Brasilien","Spanien",6,1,null,3,2]
[null,null,null,null,null,"(1","2)",null,null,null,null,null,null,null,null,null,null,null,"Uruguay","Schweden",3,2,null,3,2]
[null,null,"1950-07-13","Brasilien","Spanien",6,1,null,"Rio de Janeiro",null,null,null,null,null,null,null,null,null,"Spanien","Schweden",1,3,null,2,3]
[null,null,null,null,null,"(3","0)",null,null,null,null,null,null,null,null,null,null,null,"Brasilien","Uruguay",1,2,null,2,3]
[null,null,"1950-07-13","Uruguay","Schweden",3,2,null,"São Paulo"]
[null,null,null,null,null,"(1","2)"]
[null,null,"1950-07-16","Spanien","Schweden",1,3,null,"São Paulo"]
[null,null,null,null,null,"(0","2)"]
[null,null,"1950-07-16","Brasilien","Uruguay",1,2,null,"Rio de Janeiro"]
[null,null,null,null,null,"(0","0)"]
[]
[null,null,"Spiele","gew","unent","verl","Tore+","Tore-","Punkte+","Punkte-"]
[null,"Uruguay",{"$f":"COUNTIF($S$84:$T$89,\"Uruguay\")","v":3},{"$f":"SUMPRODUCT(($S$84:$T$89=B98)*($X$84:$Y$89=3))","v":2},{"$f":"SUMPRODUCT(($S$84:$T$89=B98)*($X$84:$Y$89=1))","v":1},{"$f":"SUMPRODUCT(($S$84:$T$89=B98)*($X$84:$Y$89=2))","v":0},{"$f":"SUMPRODUCT(($S$84:$S$89=B98)*($U$84:$U$89))+SUMPRODUCT(($T$84:$T$89=B98)*($V$84:$V$89))","v":7},{"$f":"SUMPRODUCT(($S$84:$S$89=B98)*($V$84:$V$89))+SUMPRODUCT(($T$84:$T$89=B98)*($U$84:$U$89))","v":5},{"$f":"(D98*2)+E98","v":5},{"$f":"(F98*2)+E98","v":1}]
[null,"Brasilien",{"$f":"COUNTIF($S$84:$T$89,\"Brasilien\")","v":3},{"$f":"SUMPRODUCT(($S$84:$T$89=B99)*($X$84:$Y$89=3))","v":2},{"$f":"SUMPRODUCT(($S$84:$T$89=B99)*($X$84:$Y$89=1))","v":0},{"$f":"SUMPRODUCT(($S$84:$T$89=B99)*($X$84:$Y$89=2))","v":1},{"$f":"SUMPRODUCT(($S$84:$S$89=B99)*($U$84:$U$89))+SUMPRODUCT(($T$84:$T$89=B99)*($V$84:$V$89))","v":14},{"$f":"SUMPRODUCT(($S$84:$S$89=B99)*($V$84:$V$89))+SUMPRODUCT(($T$84:$T$89=B99)*($U$84:$U$89))","v":4},{"$f":"(D99*2)+E99","v":4},{"$f":"(F99*2)+E99","v":2}]
[null,"Schweden",{"$f":"COUNTIF($S$84:$T$89,\"Schweden\")","v":3},{"$f":"SUMPRODUCT(($S$84:$T$89=B100)*($X$84:$Y$89=3))","v":1},{"$f":"SUMPRODUCT(($S$84:$T$89=B100)*($X$84:$Y$89=1))","v":0},{"$f":"SUMPRODUCT(($S$84:$T$89=B100)*($X$84:$Y$89=2))","v":2},{"$f":"SUMPRODUCT(($S$84:$S$89=B100)*($U$84:$U$89))+SUMPRODUCT(($T$84:$T$89=B100)*($V$84:$V$89))","v":6},{"$f":"SUMPRODUCT(($S$84:$S$89=B100)*($V$84:$V$89))+SUMPRODUCT(($T$84:$T$89=B100)*($U$84:$U$89))","v":11},{"$f":"(D100*2)+E100","v":2},{"$f":"(F100*2)+E100","v":4}]
[null,"Spanien",{"$f":"COUNTIF($S$84:$T$89,\"Spanien\")","v":3},{"$f":"SUMPRODUCT(($S$84:$T$89=B101)*($X$84:$Y$89=3))","v":0},{"$f":"SUMPRODUCT(($S$84:$T$89=B101)*($X$84:$Y$89=1))","v":1},{"$f":"SUMPRODUCT(($S$84:$T$89=B101)*($X$84:$Y$89=2))","v":2},{"$f":"SUMPRODUCT(($S$84:$S$89=B101)*($U$84:$U$89))+SUMPRODUCT(($T$84:$T$89=B101)*($V$84:$V$89))","v":4},{"$f":"SUMPRODUCT(($S$84:$S$89=B101)*($V$84:$V$89))+SUMPRODUCT(($T$84:$T$89=B101)*($U$84:$U$89))","v":11},{"$f":"(D101*2)+E101","v":1},{"$f":"(F101*2)+E101","v":5}]
[]
[]
[]
[]
["Auswertung","Nation","Spiele","gew","unent","verl","Tore+","Tore-","Punkte+","Punkte-"]
[null,"Brasilien",{"$f":"COUNTIF($S$12:$T$89,\"Brasilien\")","v":6},{"$f":"SUMPRODUCT(($S$12:$T$89=B107)*($X$12:$Y$89=3))","v":4},{"$f":"SUMPRODUCT(($S$12:$T$89=B107)*($X$12:$Y$89=1))","v":1},{"$f":"SUMPRODUCT(($S$12:$T$89=B107)*($X$12:$Y$89=2))","v":1},{"$f":"SUMPRODUCT(($S$12:$S$89=B107)*($U$12:$U$89))+SUMPRODUCT(($T$12:$T$89=B107)*($V$12:$V$89))","v":22},{"$f":"SUMPRODUCT(($S$12:$S$89=B107)*($V$12:$V$89))+SUMPRODUCT(($T$12:$T$89=B107)*($U$12:$U$89))","v":6},{"$f":"(D107*2)+E107","v":9},{"$f":"(F107*2)+E107","v":3}]
[null,"Uruguay",{"$f":"COUNTIF($S$12:$T$89,\"Uruguay\")","v":4},3,1,0,15,5,7,1]
[null,"Spanien",{"$f":"COUNTIF($S$12:$T$89,\"Spanien\")","v":6},3,1,2,10,12,7,5]
[null,"Schweden",{"$f":"COUNTIF($S$12:$T$89,\"Schweden\")","v":5},2,1,2,11,15,5,5]
[null,"Jugoslawien",{"$f":"COUNTIF($S$12:$T$89,\"Jugoslawien\")","v":3},2,0,1,7,3,4,2]
[null,"Schweiz",{"$f":"COUNTIF($S$12:$T$89,\"Schweiz\")","v":3},1,1,1,4,6,3,3]
[null,"Italien",{"$f":"COUNTIF($S$12:$T$89,\"Italien\")","v":2},1,0,1,4,3,2,2]
[null,"Chile",{"$f":"COUNTIF($S$12:$T$89,\"Chile\")","v":3},1,0,2,5,6,2,4]
[null,"USA",{"$f":"COUNTIF($S$12:$T$89,\"USA\")","v":3},1,0,2,4,8,2,4]
[null,"England",{"$f":"COUNTIF($S$12:$T$89,\"England\")","v":3},1,0,2,2,2,2,4]
[null,"Paraguay",{"$f":"COUNTIF($S$12:$T$89,\"Paraguay\")","v":2},0,1,1,2,4,1,3]
[null,"Bolivien",{"$f":"COUNTIF($S$12:$T$89,\"Bolivien\")","v":1},0,0,1,0,8,0,2]
[null,"Mexiko",{"$f":"COUNTIF($S$12:$T$89,\"Mexiko\")","v":3},0,0,3,2,10,0,6]

{"sheet":"1954","index":4,"n_rows":151,"n_cols":27,"rows_kept":151,"cut":false,"hidden":false,"merged":[[1,0,1,10],[3,0,3,10],[4,0,4,10],[116,2,116,8],[125,2,125,8]]}
[]
["5. WM 1954 in der Schweiz"]
[]
["16. Juni - 4. Juli 1954"]
["Teilnehmende Nationen: 16 --- Bewerbungen: 38"]
[]
[]
[]
[]
[null,null,null,null,null,"Gruppe 1"]
[]
[null,null,"1954-06-16","Frankreich","Jugoslawien",0,1,null,"Lausanne",null,null,null,null,null,null,null,null,null,"Frankreich","Jugoslawien",0,1,null,{"$f":"(IF(U12>V12,3,IF(U12=V12,1,2)))","v":2},{"$f":"(IF(V12>U12,3,IF(U12=V12,1,2)))","v":3},null,"BRD"]
[null,null,null,null,null,"(0","1)",null,null,null,null,null,null,null,null,null,null,null,"Brasilien","Mexiko",5,0,null,3,2,null,"Ungarn"]
[null,null,"1954-06-16","Brasilien","Mexiko",5,0,null,"Genf",null,null,null,null,null,null,null,null,null,"Frankreich","Mexiko",3,2,null,{"$f":"(IF(U14>V14,3,IF(U14=V14,1,2)))","v":3},{"$f":"(IF(V14>U14,3,IF(U14=V14,1,2)))","v":2},null,"Österreich"]
[null,null,null,null,null,"(4","0)",null,null,null,null,null,null,null,null,null,null,null,"Brasilien","Jugoslawien",1,1,null,{"$f":"(IF(U15>V15,3,IF(U15=V15,1,2)))","v":1},{"$f":"(IF(V15>U15,3,IF(U15=V15,1,2)))","v":1},null,"Uruguay"]
[null,null,"1954-06-19","Frankreich","Mexiko",3,2,null,"Genf",null,null,null,null,null,null,null,null,null,null,null,null,null,null,null,null,null,"Schweiz"]
[null,null,null,null,null,"(1","0)",null,null,null,null,null,null,null,null,null,null,null,null,null,null,null,null,null,null,null,"Brasilien"]
[null,null,"1954-06-19","Brasilien","Jugoslawien",1,1,"n.V.","Lausanne",null,null,null,null,null,null,null,null,null,null,null,null,null,null,null,null,null,"England"]
[null,null,null,null,null,1,1,null,null,null,null,null,null,null,null,null,null,null,null,null,null,null,null,null,null,null,"Jugoslawien"]
[null,null,null,null,null,"(0","0)",null,null,null,null,null,null,null,null,null,null,null,null,null,null,null,null,null,null,null,"Frankreich"]
[null,null,null,null,null,null,null,null,null,null,null,null,null,null,null,null,null,null,null,null,null,null,null,null,null,null,"Türkei"]
[null,null,"Spiele","gew","unent","verl","Tore+","Tore-","Punkte+","Punkte-",null,null,null,null,null,null,null,null,null,null,null,null,null,null,null,null,"Italien"]
[null,"Brasilien",{"$f":"COUNTIF($S$12:$T$15,\"Brasilien\")","v":2},{"$f":"SUMPRODUCT(($S$12:$T$15=B23)*($X$12:$Y$15=3))","v":1},{"$f":"SUMPRODUCT(($S$12:$T$15=B23)*($X$12:$Y$15=1))","v":1},{"$f":"SUMPRODUCT(($S$12:$T$15=B23)*($X$12:$Y$15=2))","v":0},{"$f":"SUMPRODUCT(($S$12:$S$15=B23)*($U$12:$U$15))+SUMPRODUCT(($T$12:$T$15=B23)*($V$12:$V$15))","v":6},{"$f":"SUMPRODUCT(($S$12:$S$15=B23)*($V$12:$V$15))+SUMPRODUCT(($T$12:$T$15=B23)*($U$12:$U$15))","v":1},{"$f":"(D23*2)+E23","v":3},{"$f":"(F23*2)+E23","v":1},null,null,null,null,null,null,null,null,null,null,null,null,null,null,null,null,"Belgien"]
[null,"Jugoslawien",{"$f":"COUNTIF($S$12:$T$15,\"Jugoslawien\")","v":2},{"$f":"SUMPRODUCT(($S$12:$T$15=B24)*($X$12:$Y$15=3))","v":1},{"$f":"SUMPRODUCT(($S$12:$T$15=B24)*($X$12:$Y$15=1))","v":1},{"$f":"SUMPRODUCT(($S$12:$T$15=B24)*($X$12:$Y$15=2))","v":0},{"$f":"SUMPRODUCT(($S$12:$S$15=B24)*($U$12:$U$15))+SUMPRODUCT(($T$12:$T$15=B24)*($V$12:$V$15))","v":2},{"$f":"SUMPRODUCT(($S$12:$S$15=B24)*($V$12:$V$15))+SUMPRODUCT(($T$12:$T$15=B24)*($U$12:$U$15))","v":1},{"$f":"(D24*2)+E24","v":3},{"$f":"(F24*2)+E24","v":1},null,null,null,null,null,null,null,null,null,null,null,null,null,null,null,null,"Mexiko"]
[null,"Frankreich",{"$f":"COUNTIF($S$12:$T$15,\"Frankreich\")","v":2},{"$f":"SUMPRODUCT(($S$12:$T$15=B25)*($X$12:$Y$15=3))","v":1},{"$f":"SUMPRODUCT(($S$12:$T$15=B25)*($X$12:$Y$15=1))","v":0},{"$f":"SUMPRODUCT(($S$12:$T$15=B25)*($X$12:$Y$15=2))","v":1},{"$f":"SUMPRODUCT(($S$12:$S$15=B25)*($U$12:$U$15))+SUMPRODUCT(($T$12:$T$15=B25)*($V$12:$V$15))","v":3},{"$f":"SUMPRODUCT(($S$12:$S$15=B25)*($V$12:$V$15))+SUMPRODUCT(($T$12:$T$15=B25)*($U$12:$U$15))","v":3},{"$f":"(D25*2)+E25","v":2},{"$f":"(F25*2)+E25","v":2},null,null,null,null,null,null,null,null,null,null,null,null,null,null,null,null,"CSSR"]
[null,"Mexiko",{"$f":"COUNTIF($S$12:$T$15,\"Mexiko\")","v":2},{"$f":"SUMPRODUCT(($S$12:$T$15=B26)*($X$12:$Y$15=3))","v":0},{"$f":"SUMPRODUCT(($S$12:$T$15=B26)*($X$12:$Y$15=1))","v":0},{"$f":"SUMPRODUCT(($S$12:$T$15=B26)*($X$12:$Y$15=2))","v":2},{"$f":"SUMPRODUCT(($S$12:$S$15=B26)*($U$12:$U$15))+SUMPRODUCT(($T$12:$T$15=B26)*($V$12:$V$15))","v":2},{"$f":"SUMPRODUCT(($S$12:$S$15=B26)*($V$12:$V$15))+SUMPRODUCT(($T$12:$T$15=B26)*($U$12:$U$15))","v":8},{"$f":"(D26*2)+E26","v":0},{"$f":"(F26*2)+E26","v":4},null,null,null,null,null,null,null,null,null,null,null,null,null,null,null,null,"Schottland"]
[null,null,null,null,null,null,null,null,null,null,null,null,null,null,null,null,null,null,null,null,null,null,null,null,null,null,"Südkorea"]
[]
[null,null,null,null,null,"Gruppe 2"]
[]
[null,null,"1954-06-17","Türkei","BRD",1,4,null,"Bern",null,null,null,null,null,null,null,null,null,"Türkei","BRD",1,4,null,{"$f":"(IF(U31>V31,3,IF(U31=V31,1,2)))","v":2},{"$f":"(IF(V31>U31,3,IF(U31=V31,1,2)))","v":3}]
[null,null,null,null,null,"(1","1)",null,null,null,null,null,null,null,null,null,null,null,"Ungarn","Südkorea",9,0,null,3,2]
[null,null,"1954-06-17","Ungarn","Südkorea",9,0,null,"Zürich",null,null,null,null,null,null,null,null,null,"Ungarn","BRD",8,3,null,3,2]
[null,null,null,null,null,"(4","0)",null,null,null,null,null,null,null,null,null,null,null,"Türkei","Südkorea",7,0,null,{"$f":"(IF(U34>V34,3,IF(U34=V34,1,2)))","v":3},{"$f":"(IF(V34>U34,3,IF(U34=V34,1,2)))","v":2}]
[null,null,"1954-06-20","Ungarn","BRD",8,3,null,"Basel"]
[null,null,null,null,null,"(3","1)"]
[null,null,"1954-06-20","Türkei","Südkorea",7,0,null,"Genf"]
[null,null,null,null,null,"(4","0)"]
[]
[]
[null,null,null,null,null,"Entscheidungsspiel zum Einzug ins Viertelfinale:"]
[]
[null,null,"1954-06-23","Türkei","BRD",2,7,null,"Zürich",null,null,null,null,null,null,null,null,null,"Türkei","BRD",2,7,null,{"$f":"(IF(U43>V43,3,IF(U43=V43,1,2)))","v":2},{"$f":"(IF(V43>U43,3,IF(U43=V43,1,2)))","v":3}]
[null,null,null,null,null,"(1","3)"]
[]
[null,null,"Spiele","gew","unent","verl","Tore+","Tore-","Punkte+","Punkte-"]
[null,"Ungarn",{"$f":"COUNTIF($S$31:$T$43,\"Ungarn\")","v":2},{"$f":"SUMPRODUCT(($S$31:$T$43=B47)*($X$31:$Y$43=3))","v":2},{"$f":"SUMPRODUCT(($S$31:$T$43=B47)*($X$31:$Y$43=1))","v":0},{"$f":"SUMPRODUCT(($S$31:$T$43=B47)*($X$31:$Y$43=2))","v":0},{"$f":"SUMPRODUCT(($S$31:$S$43=B47)*($U$31:$U$43))+SUMPRODUCT(($T$31:$T$43=B47)*($V$31:$V$43))","v":17},{"$f":"SUMPRODUCT(($S$31:$S$43=B47)*($V$31:$V$43))+SUMPRODUCT(($T$31:$T$43=B47)*($U$31:$U$43))","v":3},{"$f":"(D47*2)+E47","v":4},{"$f":"(F47*2)+E47","v":0}]
[null,"BRD",{"$f":"COUNTIF($S$31:$T$43,\"BRD\")","v":3},{"$f":"SUMPRODUCT(($S$31:$T$43=B48)*($X$31:$Y$43=3))","v":2},{"$f":"SUMPRODUCT(($S$31:$T$43=B48)*($X$31:$Y$43=1))","v":0},{"$f":"SUMPRODUCT(($S$31:$T$43=B48)*($X$31:$Y$43=2))","v":1},{"$f":"SUMPRODUCT(($S$31:$S$43=B48)*($U$31:$U$43))+SUMPRODUCT(($T$31:$T$43=B48)*($V$31:$V$43))","v":14},{"$f":"SUMPRODUCT(($S$31:$S$43=B48)*($V$31:$V$43))+SUMPRODUCT(($T$31:$T$43=B48)*($U$31:$U$43))","v":11},{"$f":"(D48*2)+E48","v":4},{"$f":"(F48*2)+E48","v":2}]
[null,"Türkei",{"$f":"COUNTIF($S$31:$T$43,\"Türkei\")","v":3},{"$f":"SUMPRODUCT(($S$31:$T$43=B49)*($X$31:$Y$43=3))","v":1},{"$f":"SUMPRODUCT(($S$31:$T$43=B49)*($X$31:$Y$43=1))","v":0},{"$f":"SUMPRODUCT(($S$31:$T$43=B49)*($X$31:$Y$43=2))","v":2},{"$f":"SUMPRODUCT(($S$31:$S$43=B49)*($U$31:$U$43))+SUMPRODUCT(($T$31:$T$43=B49)*($V$31:$V$43))","v":10},{"$f":"SUMPRODUCT(($S$31:$S$43=B49)*($V$31:$V$43))+SUMPRODUCT(($T$31:$T$43=B49)*($U$31:$U$43))","v":11},{"$f":"(D49*2)+E49","v":2},{"$f":"(F49*2)+E49","v":4}]
[null,"Südkorea",{"$f":"COUNTIF($S$31:$T$43,\"Südkorea\")","v":2},{"$f":"SUMPRODUCT(($S$31:$T$43=B50)*($X$31:$Y$43=3))","v":0},{"$f":"SUMPRODUCT(($S$31:$T$43=B50)*($X$31:$Y$43=1))","v":0},{"$f":"SUMPRODUCT(($S$31:$T$43=B50)*($X$31:$Y$43=2))","v":2},{"$f":"SUMPRODUCT(($S$31:$S$43=B50)*($U$31:$U$43))+SUMPRODUCT(($T$31:$T$43=B50)*($V$31:$V$43))","v":0},{"$f":"SUMPRODUCT(($S$31:$S$43=B50)*($V$31:$V$43))+SUMPRODUCT(($T$31:$T$43=B50)*($U$31:$U$43))","v":16},{"$f":"(D50*2)+E50","v":0},{"$f":"(F50*2)+E50","v":4}]
[]
[]
[null,null,null,null,null,"Gruppe 3"]
[]
[null,null,"1954-06-16","Uruguay","CSSR",2,0,null,"Bern",null,null,null,null,null,null,null,null,null,"Uruguay","CSSR",2,0,null,{"$f":"(IF(U55>V55,3,IF(U55=V55,1,2)))","v":3},{"$f":"(IF(V55>U55,3,IF(U55=V55,1,2)))","v":2}]
[null,null,null,null,null,"(0","0)",null,null,null,null,null,null,null,null,null,null,null,"Österreich","Schottland",1,0,null,{"$f":"(IF(U56>V56,3,IF(U56=V56,1,2)))","v":3},{"$f":"(IF(V56>U56,3,IF(U56=V56,1,2)))","v":2}]
[null,null,"1954-06-16","Österreich","Schottland",1,0,null,"Zürich",null,null,null,null,null,null,null,null,null,"Uruguay","Schottland",7,0,null,3,2]
[null,null,null,null,null,"(1","0)",null,null,null,null,null,null,null,null,null,null,null,"Österreich","CSSR",5,0,null,3,2]
[null,null,"1954-06-19","Uruguay","Schottland",7,0,null,"Basel"]
[null,null,null,null,null,"(2","0)"]
[null,null,"1954-06-19","Österreich","CSSR",5,0,null,"Zürich"]
[null,null,null,null,null,"(4","0)"]
[]
[null,null,"Spiele","gew","unent","verl","Tore+","Tore-","Punkte+","Punkte-"]
[null,"Uruguay",{"$f":"COUNTIF($S$55:$T$58,\"Uruguay\")","v":2},{"$f":"SUMPRODUCT(($S$55:$T$58=B65)*($X$55:$Y$58=3))","v":2},{"$f":"SUMPRODUCT(($S$55:$T$58=B65)*($X$55:$Y$58=1))","v":0},{"$f":"SUMPRODUCT(($S$55:$T$58=B65)*($X$55:$Y$58=2))","v":0},{"$f":"SUMPRODUCT(($S$55:$S$58=B65)*($U$55:$U$58))+SUMPRODUCT(($T$55:$T$58=B65)*($V$55:$V$58))","v":9},{"$f":"SUMPRODUCT(($S$55:$S$58=B65)*($V$55:$V$58))+SUMPRODUCT(($T$55:$T$58=B65)*($U$55:$U$58))","v":0},{"$f":"(D65*2)+E65","v":4},{"$f":"(F65*2)+E65","v":0}]
[null,"CSSR",{"$f":"COUNTIF($S$55:$T$58,\"CSSR\")","v":2},{"$f":"SUMPRODUCT(($S$55:$T$58=B66)*($X$55:$Y$58=3))","v":0},{"$f":"SUMPRODUCT(($S$55:$T$58=B66)*($X$55:$Y$58=1))","v":0},{"$f":"SUMPRODUCT(($S$55:$T$58=B66)*($X$55:$Y$58=2))","v":2},{"$f":"SUMPRODUCT(($S$55:$S$58=B66)*($U$55:$U$58))+SUMPRODUCT(($T$55:$T$58=B66)*($V$55:$V$58))","v":0},{"$f":"SUMPRODUCT(($S$55:$S$58=B66)*($V$55:$V$58))+SUMPRODUCT(($T$55:$T$58=B66)*($U$55:$U$58))","v":7},{"$f":"(D66*2)+E66","v":0},{"$f":"(F66*2)+E66","v":4}]
[null,"Österreich",{"$f":"COUNTIF($S$55:$T$58,\"Österreich\")","v":2},2,0,0,6,0,4,0]
[null,"Schottland",{"$f":"COUNTIF($S$55:$T$58,\"Schottland\")","v":2},0,0,2,0,8,0,4]
[]
[]
[null,null,null,null,null,"Gruppe 4"]
[]
[null,null,"1954-06-17","Italien","Schweiz",1,2,null,"Lausanne",null,null,null,null,null,null,null,null,null,"Italien","Schweiz",1,2,null,{"$f":"(IF(U73>V73,3,IF(U73=V73,1,2)))","v":2},{"$f":"(IF(V73>U73,3,IF(U73=V73,1,2)))","v":3}]
[null,null,null,null,null,"(1","1)",null,null,null,null,null,null,null,null,null,null,null,"England","Belgien",4,4,null,1,1]
[null,null,"1954-06-17","England","Belgien",4,4,"n.V.","Basel",null,null,null,null,null,null,null,null,null,"Italien","Belgien",4,1,null,3,2]
[null,null,null,null,null,3,3,null,null,null,null,null,null,null,null,null,null,null,"England","Schweiz",2,0,null,3,2]
[null,null,null,null,null,"(2","1)"]
[null,null,"1954-06-20","Italien","Belgien",4,1,null,"Lugano"]
[null,null,null,null,null,"(1","0)"]
[null,null,"1954-06-20","England","Schweiz",2,0,null,"Bern"]
[null,null,null,null,null,"(1","0)"]
[]
[]
[null,null,null,null,null,"Entscheidungsspiel zum Einzug ins Viertelfinale:"]
[]
[null,null,"1954-06-23","Italien","Schweiz",1,4,null,"Basel",null,null,null,null,null,null,null,null,null,"Italien","Schweiz",1,4,null,{"$f":"(IF(U86>V86,3,IF(U86=V86,1,2)))","v":2},{"$f":"(IF(V86>U86,3,IF(U86=V86,1,2)))","v":3}]
[null,null,null,null,null,"(0","1)"]
[]
[null,null,"Spiele","gew","unent","verl","Tore+","Tore-","Punkte+","Punkte-"]
[null,"Schweiz",{"$f":"COUNTIF($S$73:$T$86,\"Schweiz\")","v":3},{"$f":"SUMPRODUCT(($S$73:$T$86=B90)*($X$73:$Y$86=3))","v":2},{"$f":"SUMPRODUCT(($S$73:$T$86=B90)*($X$73:$Y$86=1))","v":0},{"$f":"SUMPRODUCT(($S$73:$T$86=B90)*($X$73:$Y$86=2))","v":1},{"$f":"SUMPRODUCT(($S$73:$S$86=B90)*($U$73:$U$86))+SUMPRODUCT(($T$73:$T$86=B90)*($V$73:$V$86))","v":6},{"$f":"SUMPRODUCT(($S$73:$S$86=B90)*($V$73:$V$86))+SUMPRODUCT(($T$73:$T$86=B90)*($U$73:$U$86))","v":4},{"$f":"(D90*2)+E90","v":4},{"$f":"(F90*2)+E90","v":2}]
[null,"England",{"$f":"COUNTIF($S$73:$T$86,\"England\")","v":2},{"$f":"SUMPRODUCT(($S$73:$T$86=B91)*($X$73:$Y$86=3))","v":1},{"$f":"SUMPRODUCT(($S$73:$T$86=B91)*($X$73:$Y$86=1))","v":1},{"$f":"SUMPRODUCT(($S$73:$T$86=B91)*($X$73:$Y$86=2))","v":0},{"$f":"SUMPRODUCT(($S$73:$S$86=B91)*($U$73:$U$86))+SUMPRODUCT(($T$73:$T$86=B91)*($V$73:$V$86))","v":6},{"$f":"SUMPRODUCT(($S$73:$S$86=B91)*($V$73:$V$86))+SUMPRODUCT(($T$73:$T$86=B91)*($U$73:$U$86))","v":4},{"$f":"(D91*2)+E91","v":3},{"$f":"(F91*2)+E91","v":1}]
[null,"Italien",{"$f":"COUNTIF($S$73:$T$86,\"Italien\")","v":3},{"$f":"SUMPRODUCT(($S$73:$T$86=B92)*($X$73:$Y$86=3))","v":1},{"$f":"SUMPRODUCT(($S$73:$T$86=B92)*($X$73:$Y$86=1))","v":0},{"$f":"SUMPRODUCT(($S$73:$T$86=B92)*($X$73:$Y$86=2))","v":2},{"$f":"SUMPRODUCT(($S$73:$S$86=B92)*($U$73:$U$86))+SUMPRODUCT(($T$73:$T$86=B92)*($V$73:$V$86))","v":6},{"$f":"SUMPRODUCT(($S$73:$S$86=B92)*($V$73:$V$86))+SUMPRODUCT(($T$73:$T$86=B92)*($U$73:$U$86))","v":7},{"$f":"(D92*2)+E92","v":2},{"$f":"(F92*2)+E92","v":4}]
[null,"Belgien",{"$f":"COUNTIF($S$73:$T$86,\"Belgien\")","v":2},{"$f":"SUMPRODUCT(($S$73:$T$86=B93)*($X$73:$Y$86=3))","v":0},{"$f":"SUMPRODUCT(($S$73:$T$86=B93)*($X$73:$Y$86=1))","v":1},{"$f":"SUMPRODUCT(($S$73:$T$86=B93)*($X$73:$Y$86=2))","v":1},{"$f":"SUMPRODUCT(($S$73:$S$86=B93)*($U$73:$U$86))+SUMPRODUCT(($T$73:$T$86=B93)*($V$73:$V$86))","v":5},{"$f":"SUMPRODUCT(($S$73:$S$86=B93)*($V$73:$V$86))+SUMPRODUCT(($T$73:$T$86=B93)*($U$73:$U$86))","v":8},{"$f":"(D93*2)+E93","v":1},{"$f":"(F93*2)+E93","v":3}]
[]
[]
[null,null,null,null,null,"Viertelfinale:"]
[]
[null,null,"1954-06-26","Österreich","Schweiz",7,5,null,"Lausanne",null,null,null,null,null,null,null,null,null,"Österreich","Schweiz",7,5,null,{"$f":"(IF(U98>V98,3,IF(U98=V98,1,2)))","v":3},{"$f":"(IF(V98>U98,3,IF(U98=V98,1,2)))","v":2}]
[null,null,null,null,null,"(5","4)",null,null,null,null,null,null,null,null,null,null,null,"England","Uruguay",2,4,null,2,3]
[null,null,"1954-06-26","England","Uruguay",2,4,null,"Basel",null,null,null,null,null,null,null,null,null,"Jugoslawien","BRD",0,2,null,2,3]
[null,null,null,null,null,"(1","2)",null,null,null,null,null,null,null,null,null,null,null,"Ungarn","Brasilien",4,2,null,3,2]
[null,null,"1954-06-27","Jugoslawien","BRD",0,2,null,"Genf"]
[null,null,null,null,null,"(0","1)"]
[null,null,"1954-06-27","Ungarn","Brasilien",4,2,null,"Bern"]
[null,null,null,null,null,"(2","1)"]
[]
[]
[null,null,null,null,null,"Halbfinale:"]
[]
[null,null,"1954-06-30","Österreich","BRD",1,6,null,"Basel",null,null,null,null,null,null,null,null,null,"Österreich","BRD",1,6,null,{"$f":"(IF(U110>V110,3,IF(U110=V110,1,2)))","v":2},{"$f":"(IF(V110>U110,3,IF(U110=V110,1,2)))","v":3}]
[null,null,null,null,null,"(0","1)",null,null,null,null,null,null,null,null,null,null,null,"Uruguay","Ungarn",2,4,null,2,3]
[null,null,"1954-06-30","Uruguay","Ungarn",2,4,"n. V.","Lausanne"]
[null,null,null,null,null,2,2]
[null,null,null,null,null,"(0","1)"]
[]
[]
[null,null,"Spiel um Platz 3 am 3. Juli 1954 in Zürich"]
[]
[null,null,null,"Österreich","Uruguay",3,1,null,null,null,null,null,null,null,null,null,null,null,"Österreich","Uruguay",3,1,null,{"$f":"(IF(U119>V119,3,IF(U119=V119,1,2)))","v":3},{"$f":"(IF(V119>U119,3,IF(U119=V119,1,2)))","v":2}]
[null,null,null,null,null,"(1","1)"]
[]
[]
[]
[]
[]
[null,null,"Endspiel am 4. Juli 1954 in Bern"]
[]
[null,null,null,"BRD","Ungarn",3,2,null,null,null,null,null,null,null,null,null,null,null,"BRD","Ungarn",3,2,null,{"$f":"(IF(U128>V128,3,IF(U128=V128,1,2)))","v":3},{"$f":"(IF(V128>U128,3,IF(U128=V128,1,2)))","v":2}]
[null,null,null,null,null,"(2","2)"]
[]
[]
[]
[]
[]
["Auswertung","Nation","Spiele","gew","unent","verl","Tore+","Tore-","Punkte+","Punkte-"]
[null,"BRD",{"$f":"COUNTIF($S$12:$T$128,\"BRD\")","v":6},{"$f":"SUMPRODUCT(($S$12:$T$128=B136)*($X$12:$Y$128=3))","v":5},{"$f":"SUMPRODUCT(($S$12:$T$128=B136)*($X$12:$Y$128=1))","v":0},{"$f":"SUMPRODUCT(($S$12:$T$128=B136)*($X$12:$Y$128=2))","v":1},{"$f":"SUMPRODUCT(($S$12:$S$128=B136)*($U$12:$U$128))+SUMPRODUCT(($T$12:$T$128=B136)*($V$12:$V$128))","v":25},{"$f":"SUMPRODUCT(($S$12:$S$128=B136)*($V$12:$V$128))+SUMPRODUCT(($T$12:$T$128=B136)*($U$12:$U$128))","v":14},{"$f":"(D136*2)+E136","v":10},{"$f":"(F136*2)+E136","v":2}]
[null,"Ungarn",{"$f":"COUNTIF($S$12:$T$128,\"Ungarn\")","v":5},4,0,1,27,10,8,2]
[null,"Österreich",{"$f":"COUNTIF($S$12:$T$128,\"Österreich\")","v":5},4,0,1,17,12,8,2]
[null,"Uruguay",{"$f":"COUNTIF($S$12:$T$128,\"Uruguay\")","v":5},3,0,2,16,9,6,4]
[null,"Schweiz",{"$f":"COUNTIF($S$12:$T$128,\"Schweiz\")","v":4},2,0,2,11,11,4,4]
[null,"Brasilien",{"$f":"COUNTIF($S$12:$T$128,\"Brasilien\")","v":3},1,1,1,8,5,3,3]
[null,"England",{"$f":"COUNTIF($S$12:$T$128,\"England\")","v":3},1,1,1,8,8,3,3]
[null,"Jugoslawien",{"$f":"COUNTIF($S$12:$T$128,\"Jugoslawien\")","v":3},1,1,1,2,3,3,3]
[null,"Frankreich",{"$f":"COUNTIF($S$12:$T$128,\"Frankreich\")","v":2},1,0,1,3,3,2,2]
[null,"Türkei",{"$f":"COUNTIF($S$12:$T$128,\"Türkei\")","v":3},1,0,2,10,11,2,4]
[null,"Italien",{"$f":"COUNTIF($S$12:$T$128,\"Italien\")","v":3},1,0,2,6,7,2,4]
[null,"Belgien",{"$f":"COUNTIF($S$12:$T$128,\"Belgien\")","v":2},0,1,1,5,8,1,3]
[null,"Mexiko",{"$f":"COUNTIF($S$12:$T$128,\"Mexiko\")","v":2},0,0,2,2,8,0,4]
[null,"CSSR",{"$f":"COUNTIF($S$12:$T$128,\"CSSR\")","v":2},0,0,2,0,7,0,4]
[null,"Schottland",{"$f":"COUNTIF($S$12:$T$128,\"Schottland\")","v":2},0,0,2,0,8,0,4]
[null,"Südkorea",{"$f":"COUNTIF($S$12:$T$128,\"Südkorea\")","v":2},0,0,2,0,16,0,4]

{"sheet":"1958","index":5,"n_rows":169,"n_cols":27,"rows_kept":169,"cut":false,"hidden":false,"merged":[[1,0,1,10],[3,0,3,10],[4,0,4,10],[134,2,134,8],[143,2,143,8]]}
[]
["6. WM 1958 in Schweden"]
[]
["8. - 29. Juni 1958"]
["Teilnehmende Nationen: 16 --- Bewerbungen: 52"]
[]
[]
[]
[]
[null,null,null,null,null,"Gruppe 1"]
[]
[null,null,"1958-06-08","Argentinien","BRD",1,3,null,"Malmö",null,null,null,null,null,null,null,null,null,"Argentinien","BRD",1,3,null,{"$f":"(IF(U12>V12,3,IF(U12=V12,1,2)))","v":2},{"$f":"(IF(V12>U12,3,IF(U12=V12,1,2)))","v":3},null,"Brasilien"]
[null,null,null,null,null,"(1","2)",null,null,null,null,null,null,null,null,null,null,null,"Nordirland","CSSR",1,0,null,3,2,null,"Schweden"]
[null,null,"1958-06-08","Nordirland","CSSR",1,0,null,"Halmstad",null,null,null,null,null,null,null,null,null,"BRD","CSSR",2,2,null,{"$f":"(IF(U14>V14,3,IF(U14=V14,1,2)))","v":1},{"$f":"(IF(V14>U14,3,IF(U14=V14,1,2)))","v":1},null,"Frankreich"]
[null,null,null,null,null,"(1","0)",null,null,null,null,null,null,null,null,null,null,null,"Argentinien","Nordirland",3,1,null,{"$f":"(IF(U15>V15,3,IF(U15=V15,1,2)))","v":3},{"$f":"(IF(V15>U15,3,IF(U15=V15,1,2)))","v":2},null,"BRD"]
[null,null,"1958-06-11","BRD","CSSR",2,2,null,"Helsingborg",null,null,null,null,null,null,null,null,null,"BRD","Nordirland",2,2,null,{"$f":"(IF(U16>V16,3,IF(U16=V16,1,2)))","v":1},{"$f":"(IF(V16>U16,3,IF(U16=V16,1,2)))","v":1},null,"Nordirland"]
[null,null,null,null,null,"(0","2)",null,null,null,null,null,null,null,null,null,null,null,"CSSR","Argentinien",6,1,null,{"$f":"(IF(U17>V17,3,IF(U17=V17,1,2)))","v":3},{"$f":"(IF(V17>U17,3,IF(U17=V17,1,2)))","v":2},null,"UdSSR"]
[null,null,"1958-06-11","Argentinien","Nordirland",3,1,null,"Halmstad",null,null,null,null,null,null,null,null,null,null,null,null,null,null,null,null,null,"Wales"]
[null,null,null,null,null,"(1","1)",null,null,null,null,null,null,null,null,null,null,null,null,null,null,null,null,null,null,null,"Jugoslawien"]
[null,null,"1958-06-15","BRD","Nordirland",2,2,null,"Malmö",null,null,null,null,null,null,null,null,null,null,null,null,null,null,null,null,null,"Paraguay"]
[null,null,null,null,null,"(1","1)",null,null,null,null,null,null,null,null,null,null,null,null,null,null,null,null,null,null,null,"CSSR"]
[null,null,"1958-06-15","CSSR","Argentinien",6,1,null,"Helsingborg",null,null,null,null,null,null,null,null,null,null,null,null,null,null,null,null,null,"Ungarn"]
[null,null,null,null,null,"(3","0)",null,null,null,null,null,null,null,null,null,null,null,null,null,null,null,null,null,null,null,"England"]
[null,null,null,null,null,null,null,null,null,null,null,null,null,null,null,null,null,null,null,null,null,null,null,null,null,null,"Argentinien"]
[null,null,null,null,null,null,null,null,null,null,null,null,null,null,null,null,null,null,null,null,null,null,null,null,null,null,"Schottland"]
[null,null,null,null,null,"Entscheidungsspiel:",null,null,null,null,null,null,null,null,null,null,null,null,null,null,null,null,null,null,null,null,"Österreich"]
[null,null,null,null,null,null,null,null,null,null,null,null,null,null,null,null,null,null,null,null,null,null,null,null,null,null,"Mexiko"]
[null,null,"1958-06-17","Nordirland","CSSR",2,1,"n.V.","Malmö",null,null,null,null,null,null,null,null,null,"Nordirland","CSSR",2,1,null,{"$f":"(IF(U28>V28,3,IF(U28=V28,1,2)))","v":3},{"$f":"(IF(V28>U28,3,IF(U28=V28,1,2)))","v":2}]
[null,null,null,null,null,1,1]
[null,null,null,null,null,"(1","1)"]
[]
[null,null,"Spiele","gew","unent","verl","Tore+","Tore-","Punkte+","Punkte-"]
[null,"Nordirland",{"$f":"COUNTIF($S$12:$T$28,\"Nordirland\")","v":4},{"$f":"SUMPRODUCT(($S$12:$T$28=B33)*($X$12:$Y$28=3))","v":2},{"$f":"SUMPRODUCT(($S$12:$T$28=B33)*($X$12:$Y$28=1))","v":1},{"$f":"SUMPRODUCT(($S$12:$T$28=B33)*($X$12:$Y$28=2))","v":1},{"$f":"SUMPRODUCT(($S$12:$S$28=B33)*($U$12:$U$28))+SUMPRODUCT(($T$12:$T$28=B33)*($V$12:$V$28))","v":6},{"$f":"SUMPRODUCT(($S$12:$S$28=B33)*($V$12:$V$28))+SUMPRODUCT(($T$12:$T$28=B33)*($U$12:$U$28))","v":6},{"$f":"(D33*2)+E33","v":5},{"$f":"(F33*2)+E33","v":3}]
[null,"BRD",{"$f":"COUNTIF($S$12:$T$28,\"BRD\")","v":3},{"$f":"SUMPRODUCT(($S$12:$T$28=B34)*($X$12:$Y$28=3))","v":1},{"$f":"SUMPRODUCT(($S$12:$T$28=B34)*($X$12:$Y$28=1))","v":2},{"$f":"SUMPRODUCT(($S$12:$T$28=B34)*($X$12:$Y$28=2))","v":0},{"$f":"SUMPRODUCT(($S$12:$S$28=B34)*($U$12:$U$28))+SUMPRODUCT(($T$12:$T$28=B34)*($V$12:$V$28))","v":7},{"$f":"SUMPRODUCT(($S$12:$S$28=B34)*($V$12:$V$28))+SUMPRODUCT(($T$12:$T$28=B34)*($U$12:$U$28))","v":5},{"$f":"(D34*2)+E34","v":4},{"$f":"(F34*2)+E34","v":2}]
[null,"CSSR",{"$f":"COUNTIF($S$12:$T$28,\"CSSR\")","v":4},{"$f":"SUMPRODUCT(($S$12:$T$28=B35)*($X$12:$Y$28=3))","v":1},{"$f":"SUMPRODUCT(($S$12:$T$28=B35)*($X$12:$Y$28=1))","v":1},{"$f":"SUMPRODUCT(($S$12:$T$28=B35)*($X$12:$Y$28=2))","v":2},{"$f":"SUMPRODUCT(($S$12:$S$28=B35)*($U$12:$U$28))+SUMPRODUCT(($T$12:$T$28=B35)*($V$12:$V$28))","v":9},{"$f":"SUMPRODUCT(($S$12:$S$28=B35)*($V$12:$V$28))+SUMPRODUCT(($T$12:$T$28=B35)*($U$12:$U$28))","v":6},{"$f":"(D35*2)+E35","v":3},{"$f":"(F35*2)+E35","v":5}]
[null,"Argentinien",{"$f":"COUNTIF($S$12:$T$28,\"Argentinien\")","v":3},{"$f":"SUMPRODUCT(($S$12:$T$28=B36)*($X$12:$Y$28=3))","v":1},{"$f":"SUMPRODUCT(($S$12:$T$28=B36)*($X$12:$Y$28=1))","v":0},{"$f":"SUMPRODUCT(($S$12:$T$28=B36)*($X$12:$Y$28=2))","v":2},{"$f":"SUMPRODUCT(($S$12:$S$28=B36)*($U$12:$U$28))+SUMPRODUCT(($T$12:$T$28=B36)*($V$12:$V$28))","v":5},{"$f":"SUMPRODUCT(($S$12:$S$28=B36)*($V$12:$V$28))+SUMPRODUCT(($T$12:$T$28=B36)*($U$12:$U$28))","v":10},{"$f":"(D36*2)+E36","v":2},{"$f":"(F36*2)+E36","v":4}]
[]
[]
[null,null,null,null,null,"Gruppe 2"]
[]
[null,null,"1958-06-08","Frankreich","Paraguay",7,3,null,"Norrköping",null,null,null,null,null,null,null,null,null,"Frankreich","Paraguay",7,3,null,{"$f":"(IF(U41>V41,3,IF(U41=V41,1,2)))","v":3},{"$f":"(IF(V41>U41,3,IF(U41=V41,1,2)))","v":2}]
[null,null,null,null,null,"(2","2)",null,null,null,null,null,null,null,null,null,null,null,"Jugoslawien","Schottland",1,1,null,1,1]
[null,null,"1958-06-08","Jugoslawien","Schottland",1,1,null,"Västerås",null,null,null,null,null,null,null,null,null,"Jugoslawien","Frankreich",3,2,null,3,2]
[null,null,null,null,null,"(1","0)",null,null,null,null,null,null,null,null,null,null,null,"Paraguay","Schottland",3,2,null,3,2]
[null,null,"1958-06-11","Jugoslawien","Frankreich",3,2,null,"Västerås",null,null,null,null,null,null,null,null,null,"Frankreich","Schottland",2,1,null,{"$f":"(IF(U45>V45,3,IF(U45=V45,1,2)))","v":3},{"$f":"(IF(V45>U45,3,IF(U45=V45,1,2)))","v":2}]
[null,null,null,null,null,"(1","1)",null,null,null,null,null,null,null,null,null,null,null,"Paraguay","Jugoslawien",3,3,null,{"$f":"(IF(U46>V46,3,IF(U46=V46,1,2)))","v":1},{"$f":"(IF(V46>U46,3,IF(U46=V46,1,2)))","v":1}]
[null,null,"1958-06-11","Paraguay","Schottland",3,2,null,"Norrköping"]
[null,null,null,null,null,"(2","1)"]
[null,null,"1958-06-15","Frankreich","Schottland",2,1,null,"Örebro"]
[null,null,null,null,null,"(2","0)"]
[null,null,"1958-06-15","Paraguay","Jugoslawien",3,3,null,"Eskilstuna"]
[null,null,null,null,null,"(2","1)"]
[]
[null,null,"Spiele","gew","unent","verl","Tore+","Tore-","Punkte+","Punkte-"]
[null,"Frankreich",{"$f":"COUNTIF($S$41:$T$46,\"Frankreich\")","v":3},{"$f":"SUMPRODUCT(($S$41:$T$46=B55)*($X$41:$Y$46=3))","v":2},{"$f":"SUMPRODUCT(($S$41:$T$46=B55)*($X$41:$Y$46=1))","v":0},{"$f":"SUMPRODUCT(($S$41:$T$46=B55)*($X$41:$Y$46=2))","v":1},{"$f":"SUMPRODUCT(($S$41:$S$46=B55)*($U$41:$U$46))+SUMPRODUCT(($T$41:$T$46=B55)*($V$41:$V$46))","v":11},{"$f":"SUMPRODUCT(($S$41:$S$46=B55)*($V$41:$V$46))+SUMPRODUCT(($T$41:$T$46=B55)*($U$41:$U$46))","v":7},{"$f":"(D55*2)+E55","v":4},{"$f":"(F55*2)+E55","v":2}]
[null,"Jugoslawien",{"$f":"COUNTIF($S$41:$T$46,\"Jugoslawien\")","v":3},{"$f":"SUMPRODUCT(($S$41:$T$46=B56)*($X$41:$Y$46=3))","v":1},{"$f":"SUMPRODUCT(($S$41:$T$46=B56)*($X$41:$Y$46=1))","v":2},{"$f":"SUMPRODUCT(($S$41:$T$46=B56)*($X$41:$Y$46=2))","v":0},{"$f":"SUMPRODUCT(($S$41:$S$46=B56)*($U$41:$U$46))+SUMPRODUCT(($T$41:$T$46=B56)*($V$41:$V$46))","v":7},{"$f":"SUMPRODUCT(($S$41:$S$46=B56)*($V$41:$V$46))+SUMPRODUCT(($T$41:$T$46=B56)*($U$41:$U$46))","v":6},{"$f":"(D56*2)+E56","v":4},{"$f":"(F56*2)+E56","v":2}]
[null,"Paraguay",{"$f":"COUNTIF($S$41:$T$46,\"Paraguay\")","v":3},{"$f":"SUMPRODUCT(($S$41:$T$46=B57)*($X$41:$Y$46=3))","v":1},{"$f":"SUMPRODUCT(($S$41:$T$46=B57)*($X$41:$Y$46=1))","v":1},{"$f":"SUMPRODUCT(($S$41:$T$46=B57)*($X$41:$Y$46=2))","v":1},{"$f":"SUMPRODUCT(($S$41:$S$46=B57)*($U$41:$U$46))+SUMPRODUCT(($T$41:$T$46=B57)*($V$41:$V$46))","v":9},{"$f":"SUMPRODUCT(($S$41:$S$46=B57)*($V$41:$V$46))+SUMPRODUCT(($T$41:$T$46=B57)*($U$41:$U$46))","v":12},{"$f":"(D57*2)+E57","v":3},{"$f":"(F57*2)+E57","v":3}]
[null,"Schottland",{"$f":"COUNTIF($S$41:$T$46,\"Schottland\")","v":3},{"$f":"SUMPRODUCT(($S$41:$T$46=B58)*($X$41:$Y$46=3))","v":0},{"$f":"SUMPRODUCT(($S$41:$T$46=B58)*($X$41:$Y$46=1))","v":1},{"$f":"SUMPRODUCT(($S$41:$T$46=B58)*($X$41:$Y$46=2))","v":2},{"$f":"SUMPRODUCT(($S$41:$S$46=B58)*($U$41:$U$46))+SUMPRODUCT(($T$41:$T$46=B58)*($V$41:$V$46))","v":4},{"$f":"SUMPRODUCT(($S$41:$S$46=B58)*($V$41:$V$46))+SUMPRODUCT(($T$41:$T$46=B58)*($U$41:$U$46))","v":6},{"$f":"(D58*2)+E58","v":1},{"$f":"(F58*2)+E58","v":5}]
[]
[]
[null,null,null,null,null,"Gruppe 3"]
[]
[null,null,"1958-06-08","Schweden","Mexiko",3,0,null,"Solna",null,null,null,null,null,null,null,null,null,"Schweden","Mexiko",3,0,null,{"$f":"(IF(U63>V63,3,IF(U63=V63,1,2)))","v":3},{"$f":"(IF(V63>U63,3,IF(U63=V63,1,2)))","v":2}]
[null,null,null,null,null,"(1","0)",null,null,null,null,null,null,null,null,null,null,null,"Ungarn","Wales",1,1,null,1,1]
[null,null,"1958-06-08","Ungarn","Wales",1,1,null,"Sandviken",null,null,null,null,null,null,null,null,null,"Mexiko","Wales",1,1,null,1,1]
[null,null,null,null,null,"(1","1)",null,null,null,null,null,null,null,null,null,null,null,"Schweden","Ungarn",2,1,null,3,2]
[null,null,"1958-06-11","Mexiko","Wales",1,1,null,"Solna",null,null,null,null,null,null,null,null,null,"Schweden","Wales",0,0,null,1,1]
[null,null,null,null,null,"(0","1)",null,null,null,null,null,null,null,null,null,null,null,"Ungarn","Mexiko",4,0,null,3,2]
[null,null,"1958-06-12","Schweden","Ungarn",2,1,null,"Solna"]
[null,null,null,null,null,"(1","0)"]
[null,null,"1958-06-15","Schweden","Wales",0,0,null,"Solna"]
[null,null,"1958-06-15","Ungarn","Mexiko",4,0,null,"Sandviken"]
[null,null,null,null,null,"(1","0)"]
[]
[]
[null,null,null,null,null,"Entscheidungsspiel:"]
[]
[null,null,"1958-06-17","Wales","Ungarn",2,1,null,"Solna",null,null,null,null,null,null,null,null,null,"Wales","Ungarn",2,1,null,{"$f":"(IF(U78>V78,3,IF(U78=V78,1,2)))","v":3},{"$f":"(IF(V78>U78,3,IF(U78=V78,1,2)))","v":2}]
[null,null,null,null,null,"(0","1)"]
[]
[null,null,"Spiele","gew","unent","verl","Tore+","Tore-","Punkte+","Punkte-"]
[null,"Schweden",{"$f":"COUNTIF($S$63:$T$78,\"Schweden\")","v":3},{"$f":"SUMPRODUCT(($S$63:$T$78=B82)*($X$63:$Y$78=3))","v":2},{"$f":"SUMPRODUCT(($S$63:$T$78=B82)*($X$63:$Y$78=1))","v":1},{"$f":"SUMPRODUCT(($S$63:$T$78=B82)*($X$63:$Y$78=2))","v":0},{"$f":"SUMPRODUCT(($S$63:$S$78=B82)*($U$63:$U$78))+SUMPRODUCT(($T$63:$T$78=B82)*($V$63:$V$78))","v":5},{"$f":"SUMPRODUCT(($S$63:$S$78=B82)*($V$63:$V$78))+SUMPRODUCT(($T$63:$T$78=B82)*($U$63:$U$78))","v":1},{"$f":"(D82*2)+E82","v":5},{"$f":"(F82*2)+E82","v":1}]
[null,"Wales",{"$f":"COUNTIF($S$63:$T$78,\"Wales\")","v":4},{"$f":"SUMPRODUCT(($S$63:$T$78=B83)*($X$63:$Y$78=3))","v":1},{"$f":"SUMPRODUCT(($S$63:$T$78=B83)*($X$63:$Y$78=1))","v":3},{"$f":"SUMPRODUCT(($S$63:$T$78=B83)*($X$63:$Y$78=2))","v":0},{"$f":"SUMPRODUCT(($S$63:$S$78=B83)*($U$63:$U$78))+SUMPRODUCT(($T$63:$T$78=B83)*($V$63:$V$78))","v":4},{"$f":"SUMPRODUCT(($S$63:$S$78=B83)*($V$63:$V$78))+SUMPRODUCT(($T$63:$T$78=B83)*($U$63:$U$78))","v":3},{"$f":"(D83*2)+E83","v":5},{"$f":"(F83*2)+E83","v":3}]
[null,"Ungarn",{"$f":"COUNTIF($S$63:$T$78,\"Ungarn\")","v":4},{"$f":"SUMPRODUCT(($S$63:$T$78=B84)*($X$63:$Y$78=3))","v":1},{"$f":"SUMPRODUCT(($S$63:$T$78=B84)*($X$63:$Y$78=1))","v":1},{"$f":"SUMPRODUCT(($S$63:$T$78=B84)*($X$63:$Y$78=2))","v":2},{"$f":"SUMPRODUCT(($S$63:$S$78=B84)*($U$63:$U$78))+SUMPRODUCT(($T$63:$T$78=B84)*($V$63:$V$78))","v":7},{"$f":"SUMPRODUCT(($S$63:$S$78=B84)*($V$63:$V$78))+SUMPRODUCT(($T$63:$T$78=B84)*($U$63:$U$78))","v":5},{"$f":"(D84*2)+E84","v":3},{"$f":"(F84*2)+E84","v":5}]
[null,"Mexiko",{"$f":"COUNTIF($S$63:$T$78,\"Mexiko\")","v":3},{"$f":"SUMPRODUCT(($S$63:$T$78=B85)*($X$63:$Y$78=3))","v":0},{"$f":"SUMPRODUCT(($S$63:$T$78=B85)*($X$63:$Y$78=1))","v":1},{"$f":"SUMPRODUCT(($S$63:$T$78=B85)*($X$63:$Y$78=2))","v":2},{"$f":"SUMPRODUCT(($S$63:$S$78=B85)*($U$63:$U$78))+SUMPRODUCT(($T$63:$T$78=B85)*($V$63:$V$78))","v":1},{"$f":"SUMPRODUCT(($S$63:$S$78=B85)*($V$63:$V$78))+SUMPRODUCT(($T$63:$T$78=B85)*($U$63:$U$78))","v":8},{"$f":"(D85*2)+E85","v":1},{"$f":"(F85*2)+E85","v":5}]
[]
[]
[null,null,null,null,null,"Gruppe 4"]
[]
[null,null,"1958-06-08","Brasilien","Österreich",3,0,null,"Uddevalla",null,null,null,null,null,null,null,null,null,"Brasilien","Österreich",3,0,null,{"$f":"(IF(U90>V90,3,IF(U90=V90,1,2)))","v":3},{"$f":"(IF(V90>U90,3,IF(U90=V90,1,2)))","v":2}]
[null,null,null,null,null,"(1","0)",null,null,null,null,null,null,null,null,null,null,null,"UdSSR","England",2,2,null,1,1]
[null,null,"1958-06-08","UdSSR","England",2,2,null,"Göteborg",null,null,null,null,null,null,null,null,null,"Brasilien","England",0,0,null,1,1]
[null,null,null,null,null,"(1","0)",null,null,null,null,null,null,null,null,null,null,null,"UdSSR","Österreich",2,0,null,3,2]
[null,null,"1958-06-11","Brasilien","England",0,0,null,"Göteborg",null,null,null,null,null,null,null,null,null,"Brasilien","UdSSR",2,0,null,3,2]
[null,null,"1958-06-11","UdSSR","Österreich",2,0,null,"Borås",null,null,null,null,null,null,null,null,null,"England","Österreich",2,2,null,1,1]
[null,null,null,null,null,"(1","0)"]
[null,null,"1958-06-15","Brasilien","UdSSR",2,0,null,"Göteborg"]
[null,null,null,null,null,"(1","0)"]
[null,null,"1958-06-15","England","Österreich",2,2,null,"Borås"]
[null,null,null,null,null,"(0","1)"]
[]
[]
[null,null,null,null,null,"Entscheidungsspiel:"]
[]
[null,null,"1958-06-17","UdSSR","England",1,0,null,"Göteborg",null,null,null,null,null,null,null,null,null,"UdSSR","England",1,0,null,{"$f":"(IF(U105>V105,3,IF(U105=V105,1,2)))","v":3},{"$f":"(IF(V105>U105,3,IF(U105=V105,1,2)))","v":2}]
[null,null,null,null,null,"(0","0)"]
[]
[null,null,"Spiele","gew","unent","verl","Tore+","Tore-","Punkte+","Punkte-"]
[null,"Brasilien",{"$f":"COUNTIF($S$90:$T$105,\"Brasilien\")","v":3},{"$f":"SUMPRODUCT(($S$90:$T$105=B109)*($X$90:$Y$105=3))","v":2},{"$f":"SUMPRODUCT(($S$90:$T$105=B109)*($X$90:$Y$105=1))","v":1},{"$f":"SUMPRODUCT(($S$90:$T$105=B109)*($X$90:$Y$105=2))","v":0},{"$f":"SUMPRODUCT(($S$90:$S$105=B109)*($U$90:$U$105))+SUMPRODUCT(($T$90:$T$105=B109)*($V$90:$V$105))","v":5},{"$f":"SUMPRODUCT(($S$90:$S$105=B109)*($V$90:$V$105))+SUMPRODUCT(($T$90:$T$105=B109)*($U$90:$U$105))","v":0},{"$f":"(D109*2)+E109","v":5},{"$f":"(F109*2)+E109","v":1}]
[null,"UdSSR",{"$f":"COUNTIF($S$90:$T$105,\"UdSSR\")","v":4},{"$f":"SUMPRODUCT(($S$90:$T$105=B110)*($X$90:$Y$105=3))","v":2},{"$f":"SUMPRODUCT(($S$90:$T$105=B110)*($X$90:$Y$105=1))","v":1},{"$f":"SUMPRODUCT(($S$90:$T$105=B110)*($X$90:$Y$105=2))","v":1},{"$f":"SUMPRODUCT(($S$90:$S$105=B110)*($U$90:$U$105))+SUMPRODUCT(($T$90:$T$105=B110)*($V$90:$V$105))","v":5},{"$f":"SUMPRODUCT(($S$90:$S$105=B110)*($V$90:$V$105))+SUMPRODUCT(($T$90:$T$105=B110)*($U$90:$U$105))","v":4},{"$f":"(D110*2)+E110","v":5},{"$f":"(F110*2)+E110","v":3}]
[null,"England",{"$f":"COUNTIF($S$90:$T$105,\"England\")","v":4},{"$f":"SUMPRODUCT(($S$90:$T$105=B111)*($X$90:$Y$105=3))","v":0},{"$f":"SUMPRODUCT(($S$90:$T$105=B111)*($X$90:$Y$105=1))","v":3},{"$f":"SUMPRODUCT(($S$90:$T$105=B111)*($X$90:$Y$105=2))","v":1},{"$f":"SUMPRODUCT(($S$90:$S$105=B111)*($U$90:$U$105))+SUMPRODUCT(($T$90:$T$105=B111)*($V$90:$V$105))","v":4},{"$f":"SUMPRODUCT(($S$90:$S$105=B111)*($V$90:$V$105))+SUMPRODUCT(($T$90:$T$105=B111)*($U$90:$U$105))","v":5},{"$f":"(D111*2)+E111","v":3},{"$f":"(F111*2)+E111","v":5}]
[null,"Österreich",{"$f":"COUNTIF($S$90:$T$105,\"Österreich\")","v":3},{"$f":"SUMPRODUCT(($S$90:$T$105=B112)*($X$90:$Y$105=3))","v":0},{"$f":"SUMPRODUCT(($S$90:$T$105=B112)*($X$90:$Y$105=1))","v":1},{"$f":"SUMPRODUCT(($S$90:$T$105=B112)*($X$90:$Y$105=2))","v":2},{"$f":"SUMPRODUCT(($S$90:$S$105=B112)*($U$90:$U$105))+SUMPRODUCT(($T$90:$T$105=B112)*($V$90:$V$105))","v":2},{"$f":"SUMPRODUCT(($S$90:$S$105=B112)*($V$90:$V$105))+SUMPRODUCT(($T$90:$T$105=B112)*($U$90:$U$105))","v":7},{"$f":"(D112*2)+E112","v":1},{"$f":"(F112*2)+E112","v":5}]
[]
[]
[null,null,null,null,null,"Viertelfinale:"]
[]
[null,null,"1958-06-19","BRD","Jugoslawien",1,0,null,"Malmö",null,null,null,null,null,null,null,null,null,"BRD","Jugoslawien",1,0,null,{"$f":"(IF(U117>V117,3,IF(U117=V117,1,2)))","v":3},{"$f":"(IF(V117>U117,3,IF(U117=V117,1,2)))","v":2}]
[null,null,null,null,null,"(1","0)",null,null,null,null,null,null,null,null,null,null,null,"Schweden","UdSSR",2,0,null,3,2]
[null,null,"1958-06-19","Schweden","UdSSR",2,0,null,"Solna",null,null,null,null,null,null,null,null,null,"Frankreich","Nordirland",4,0,null,3,2]
[null,null,null,null,null,"(0","0)",null,null,null,null,null,null,null,null,null,null,null,"Brasilien","Wales",1,0,null,{"$f":"(IF(U120>V120,3,IF(U120=V120,1,2)))","v":3},{"$f":"(IF(V120>U120,3,IF(U120=V120,1,2)))","v":2}]
[null,null,"1958-06-19","Frankreich","Nordirland",4,0,null,"Norrköping"]
[null,null,null,null,null,"(1","0)"]
[null,null,"1958-06-19","Brasilien","Wales",1,0,null,"Göteborg"]
[null,null,null,null,null,"(0","0)"]
[]
[]
[null,null,null,null,null,"Halbfinale:"]
[]
[null,null,"1958-06-24","BRD","Schweden",1,3,null,"Göteborg",null,null,null,null,null,null,null,null,null,"BRD","Schweden",1,3,null,{"$f":"(IF(U129>V129,3,IF(U129=V129,1,2)))","v":2},{"$f":"(IF(V129>U129,3,IF(U129=V129,1,2)))","v":3}]
[null,null,null,null,null,"(1","1)",null,null,null,null,null,null,null,null,null,null,null,"Frankreich","Brasilien",2,5,null,2,3]
[null,null,"1958-06-24","Frankreich","Brasilien",2,5,null,"Solna"]
[null,null,null,null,null,"(1","2)"]
[]
[]
[null,null,"Spiel um Platz 3 am 28. Juni 1958 in Göteborg"]
[]
[null,null,null,"BRD","Frankreich",3,6,null,null,null,null,null,null,null,null,null,null,null,"BRD","Frankreich",3,6,null,{"$f":"(IF(U137>V137,3,IF(U137=V137,1,2)))","v":2},{"$f":"(IF(V137>U137,3,IF(U137=V137,1,2)))","v":3}]
[null,null,null,null,null,"(1","3)"]
[]
[]
[]
[]
[]
[null,null,"Endspiel am 29. Juni 1958 in Solna"]
[]
[null,null,null,"Schweden","Brasilien",2,5,null,null,null,null,null,null,null,null,null,null,null,"Schweden","Brasilien",2,5,null,2,3]
[null,null,null,null,null,"(1","2)"]
[]
[]
[]
[]
[]
["Auswertung","Nation","Spiele","gew","unent","verl","Tore+","Tore-","Punkte+","Punkte-"]
[null,"Brasilien",{"$f":"COUNTIF($S$12:$T$146,\"Brasilien\")","v":6},{"$f":"SUMPRODUCT(($S$12:$T$146=B154)*($X$12:$Y$146=3))","v":5},{"$f":"SUMPRODUCT(($S$12:$T$146=B154)*($X$12:$Y$146=1))","v":1},{"$f":"SUMPRODUCT(($S$12:$T$146=B154)*($X$12:$Y$146=2))","v":0},{"$f":"SUMPRODUCT(($S$12:$S$146=B154)*($U$12:$U$146))+SUMPRODUCT(($T$12:$T$146=B154)*($V$12:$V$146))","v":16},{"$f":"SUMPRODUCT(($S$12:$S$146=B154)*($V$12:$V$146))+SUMPRODUCT(($T$12:$T$146=B154)*($U$12:$U$146))","v":4},{"$f":"(D154*2)+E154","v":11},{"$f":"(F154*2)+E154","v":1}]
[null,"Schweden",{"$f":"COUNTIF($S$12:$T$146,\"Schweden\")","v":6},4,1,1,12,7,9,3]
[null,"Frankreich",{"$f":"COUNTIF($S$12:$T$146,\"Frankreich\")","v":6},4,0,2,23,15,8,4]
[null,"BRD",{"$f":"COUNTIF($S$12:$T$146,\"BRD\")","v":6},2,2,2,12,14,6,6]
[null,"Nordirland",{"$f":"COUNTIF($S$12:$T$146,\"Nordirland\")","v":5},2,1,2,6,10,5,5]
[null,"UdSSR",{"$f":"COUNTIF($S$12:$T$146,\"UdSSR\")","v":5},2,1,2,5,6,5,5]
[null,"Wales",{"$f":"COUNTIF($S$12:$T$146,\"Wales\")","v":5},1,3,1,4,4,5,5]
[null,"Jugoslawien",{"$f":"COUNTIF($S$12:$T$146,\"Jugoslawien\")","v":4},1,2,1,7,7,4,4]
[null,"Paraguay",{"$f":"COUNTIF($S$12:$T$146,\"Paraguay\")","v":3},1,1,1,9,12,3,3]
[null,"CSSR",{"$f":"COUNTIF($S$12:$T$146,\"CSSR\")","v":4},1,1,2,9,6,3,5]
[null,"Ungarn",{"$f":"COUNTIF($S$12:$T$146,\"Ungarn\")","v":4},1,1,2,7,5,3,5]
[null,"England",{"$f":"COUNTIF($S$12:$T$146,\"England\")","v":4},0,3,1,4,5,3,5]
[null,"Argentinien",{"$f":"COUNTIF($S$12:$T$146,\"Argentinien\")","v":3},1,0,2,5,10,2,4]
[null,"Schottland",{"$f":"COUNTIF($S$12:$T$146,\"Schottland\")","v":3},0,1,2,4,6,1,5]
[null,"Österreich",{"$f":"COUNTIF($S$12:$T$146,\"Österreich\")","v":3},0,1,2,2,7,1,5]
[null,"Mexiko",{"$f":"COUNTIF($S$12:$T$146,\"Mexiko\")","v":3},0,1,2,1,8,1,5]

{"sheet":"1962","index":6,"n_rows":148,"n_cols":27,"rows_kept":148,"cut":false,"hidden":false,"merged":[[1,0,1,10],[3,0,3,10],[4,0,4,10],[113,2,113,8],[122,2,122,8]]}
[null,null,null,null,null,null,null,null,null,null,null,null,null,null,null,null,null,null,1,2,3,4,5,6,7]
["7. WM 1962 in Chile"]
[]
["30. Mai - 17. Juni 1962"]
["Teilnehmende Nationen: 16 --- Bewerbungen: 54"]
[]
[]
[]
[]
[null,null,null,null,null,"Gruppe A"]
[]
[null,null,"1962-05-30","Uruguay","Kolumbien",2,1,null,"Arica",null,null,null,null,null,null,null,null,null,"Uruguay","Kolumbien",2,1,null,{"$f":"(IF(U12>V12,3,IF(U12=V12,1,2)))","v":3},{"$f":"(IF(V12>U12,3,IF(U12=V12,1,2)))","v":2},null,"Brasilien"]
[null,null,null,null,null,"(0","1)",null,null,null,null,null,null,null,null,null,null,null,"UdSSR","Jugoslawien",2,0,null,3,2,null,"Chile"]
[null,null,"1962-05-31","UdSSR","Jugoslawien",2,0,null,"Arica",null,null,null,null,null,null,null,null,null,"Jugoslawien","Uruguay",3,1,null,{"$f":"(IF(U14>V14,3,IF(U14=V14,1,2)))","v":3},{"$f":"(IF(V14>U14,3,IF(U14=V14,1,2)))","v":2},null,"CSSR"]
[null,null,null,null,null,"(0","0)",null,null,null,null,null,null,null,null,null,null,null,"UdSSR","Kolumbien",4,4,null,1,1,null,"Jugoslawien"]
[null,null,"1962-06-02","Jugoslawien","Uruguay",3,1,null,"Arica",null,null,null,null,null,null,null,null,null,"Uruguay","UdSSR",1,2,null,{"$f":"(IF(U16>V16,3,IF(U16=V16,1,2)))","v":2},{"$f":"(IF(V16>U16,3,IF(U16=V16,1,2)))","v":3},null,"UdSSR"]
[null,null,null,null,null,"(2","1)",null,null,null,null,null,null,null,null,null,null,null,"Kolumbien","Jugoslawien",0,5,null,{"$f":"(IF(U17>V17,3,IF(U17=V17,1,2)))","v":2},{"$f":"(IF(V17>U17,3,IF(U17=V17,1,2)))","v":3},null,"Ungarn"]
[null,null,"1962-06-03","UdSSR","Kolumbien",4,4,null,"Arica",null,null,null,null,null,null,null,null,null,null,null,null,null,null,null,null,null,"BRD"]
[null,null,null,null,null,"(3","1)",null,null,null,null,null,null,null,null,null,null,null,null,null,null,null,null,null,null,null,"Italien"]
[null,null,"1962-06-06","Uruguay","UdSSR",1,2,null,"Arica",null,null,null,null,null,null,null,null,null,null,null,null,null,null,null,null,null,"Argentinien"]
[null,null,null,null,null,"(0","1)",null,null,null,null,null,null,null,null,null,null,null,null,null,null,null,null,null,null,null,"England"]
[null,null,"1962-06-07","Kolumbien","Jugoslawien",0,5,null,"Arica",null,null,null,null,null,null,null,null,null,null,null,null,null,null,null,null,null,"Uruguay"]
[null,null,null,null,null,"(0","2)",null,null,null,null,null,null,null,null,null,null,null,null,null,null,null,null,null,null,null,"Mexiko"]
[null,null,null,null,null,null,null,null,null,null,null,null,null,null,null,null,null,null,null,null,null,null,null,null,null,null,"Spanien"]
[null,null,"Spiele","gew","unent","verl","Tore+","Tore-","Punkte+","Punkte-",null,null,null,null,null,null,null,null,null,null,null,null,null,null,null,null,"Kolumbien"]
[null,"UdSSR",{"$f":"COUNTIF($S$12:$T$17,\"UdSSR\")","v":3},{"$f":"SUMPRODUCT(($S$12:$T$17=B26)*($X$12:$Y$17=3))","v":2},{"$f":"SUMPRODUCT(($S$12:$T$17=B26)*($X$12:$Y$17=1))","v":1},{"$f":"SUMPRODUCT(($S$12:$T$17=B26)*($X$12:$Y$17=2))","v":0},{"$f":"SUMPRODUCT(($S$12:$S$17=B26)*($U$12:$U$17))+SUMPRODUCT(($T$12:$T$17=B26)*($V$12:$V$17))","v":8},{"$f":"SUMPRODUCT(($S$12:$S$17=B26)*($V$12:$V$17))+SUMPRODUCT(($T$12:$T$17=B26)*($U$12:$U$17))","v":5},{"$f":"(D26*2)+E26","v":5},{"$f":"(F26*2)+E26","v":1},null,null,null,null,null,null,null,null,null,null,null,null,null,null,null,null,"Bulgarien"]
[null,"Jugoslawien",{"$f":"COUNTIF($S$12:$T$17,\"UdSSR\")","v":3},{"$f":"SUMPRODUCT(($S$12:$T$17=B27)*($X$12:$Y$17=3))","v":2},{"$f":"SUMPRODUCT(($S$12:$T$17=B27)*($X$12:$Y$17=1))","v":0},{"$f":"SUMPRODUCT(($S$12:$T$17=B27)*($X$12:$Y$17=2))","v":1},{"$f":"SUMPRODUCT(($S$12:$S$17=B27)*($U$12:$U$17))+SUMPRODUCT(($T$12:$T$17=B27)*($V$12:$V$17))","v":8},{"$f":"SUMPRODUCT(($S$12:$S$17=B27)*($V$12:$V$17))+SUMPRODUCT(($T$12:$T$17=B27)*($U$12:$U$17))","v":3},{"$f":"(D27*2)+E27","v":4},{"$f":"(F27*2)+E27","v":2},null,null,null,null,null,null,null,null,null,null,null,null,null,null,null,null,"Schweiz"]
[null,"Uruguay",{"$f":"COUNTIF($S$12:$T$17,\"UdSSR\")","v":3},{"$f":"SUMPRODUCT(($S$12:$T$17=B28)*($X$12:$Y$17=3))","v":1},{"$f":"SUMPRODUCT(($S$12:$T$17=B28)*($X$12:$Y$17=1))","v":0},{"$f":"SUMPRODUCT(($S$12:$T$17=B28)*($X$12:$Y$17=2))","v":2},{"$f":"SUMPRODUCT(($S$12:$S$17=B28)*($U$12:$U$17))+SUMPRODUCT(($T$12:$T$17=B28)*($V$12:$V$17))","v":4},{"$f":"SUMPRODUCT(($S$12:$S$17=B28)*($V$12:$V$17))+SUMPRODUCT(($T$12:$T$17=B28)*($U$12:$U$17))","v":6},{"$f":"(D28*2)+E28","v":2},{"$f":"(F28*2)+E28","v":4}]
[null,"Kolumbien",{"$f":"COUNTIF($S$12:$T$17,\"UdSSR\")","v":3},{"$f":"SUMPRODUCT(($S$12:$T$17=B29)*($X$12:$Y$17=3))","v":0},{"$f":"SUMPRODUCT(($S$12:$T$17=B29)*($X$12:$Y$17=1))","v":1},{"$f":"SUMPRODUCT(($S$12:$T$17=B29)*($X$12:$Y$17=2))","v":2},{"$f":"SUMPRODUCT(($S$12:$S$17=B29)*($U$12:$U$17))+SUMPRODUCT(($T$12:$T$17=B29)*($V$12:$V$17))","v":5},{"$f":"SUMPRODUCT(($S$12:$S$17=B29)*($V$12:$V$17))+SUMPRODUCT(($T$12:$T$17=B29)*($U$12:$U$17))","v":11},{"$f":"(D29*2)+E29","v":1},{"$f":"(F29*2)+E29","v":5}]
[]
[]
[null,null,null,null,null,"Gruppe B"]
[]
[null,null,"1962-05-30","Chile","Schweiz",3,1,null,"Santiago dCh",null,null,null,null,null,null,null,null,null,"Chile","Schweiz",3,1,null,{"$f":"(IF(U34>V34,3,IF(U34=V34,1,2)))","v":3},{"$f":"(IF(V34>U34,3,IF(U34=V34,1,2)))","v":2}]
[null,null,null,null,null,"(1","1)",null,null,null,null,null,null,null,null,null,null,null,"BRD","Italien",0,0,null,1,1]
[null,null,"1962-05-31","BRD","Italien",0,0,null,"Santiago dCh",null,null,null,null,null,null,null,null,null,"Chile","Italien",2,0,null,3,2]
[null,null,"1962-06-02","Chile","Italien",2,0,null,"Santiago dCh",null,null,null,null,null,null,null,null,null,"BRD","Schweiz",2,1,null,{"$f":"(IF(U37>V37,3,IF(U37=V37,1,2)))","v":3},{"$f":"(IF(V37>U37,3,IF(U37=V37,1,2)))","v":2}]
[null,null,null,null,null,"(0","0)",null,null,null,null,null,null,null,null,null,null,null,"BRD","Chile",2,0,null,3,2]
[null,null,"1962-06-03","BRD","Schweiz",2,1,null,"Santiago dCh",null,null,null,null,null,null,null,null,null,"Italien","Schweiz",3,0,null,3,2]
[null,null,null,null,null,"(1","0)"]
[null,null,"1962-06-06","BRD","Chile",2,0,null,"Santiago dCh"]
[null,null,null,null,null,"(1","0)"]
[null,null,"1962-06-07","Italien","Schweiz",3,0,null,"Santiago dCh"]
[null,null,null,null,null,"(1","0)"]
[]
[null,null,"Spiele","gew","unent","verl","Tore+","Tore-","Punkte+","Punkte-"]
[null,"Chile",{"$f":"COUNTIF($S$90:$T$105,\"UdSSR\")","v":1},{"$f":"SUMPRODUCT(($S$90:$T$105=B47)*($X$90:$Y$105=3))","v":1},{"$f":"SUMPRODUCT(($S$90:$T$105=B47)*($X$90:$Y$105=1))","v":0},{"$f":"SUMPRODUCT(($S$90:$T$105=B47)*($X$90:$Y$105=2))","v":0},{"$f":"SUMPRODUCT(($S$90:$S$105=B47)*($U$90:$U$105))+SUMPRODUCT(($T$90:$T$105=B47)*($V$90:$V$105))","v":2},{"$f":"SUMPRODUCT(($S$90:$S$105=B47)*($V$90:$V$105))+SUMPRODUCT(($T$90:$T$105=B47)*($U$90:$U$105))","v":1},{"$f":"(D47*2)+E47","v":2},{"$f":"(F47*2)+E47","v":0}]
[null,"Schweiz"]
[null,"BRD"]
[null,"Italien"]
[]
[]
[null,null,null,null,null,"Gruppe C"]
[]
[null,null,"1962-05-30","Brasilien","Mexiko",2,0,null,"Viña del Mar",null,null,null,null,null,null,null,null,null,"Brasilien","Mexiko",2,0,null,{"$f":"(IF(U55>V55,3,IF(U55=V55,1,2)))","v":3},{"$f":"(IF(V55>U55,3,IF(U55=V55,1,2)))","v":2}]
[null,null,null,null,null,"(0","0)",null,null,null,null,null,null,null,null,null,null,null,"Spanien","CSSR",0,1,null,{"$f":"(IF(U56>V56,3,IF(U56=V56,1,2)))","v":2},{"$f":"(IF(V56>U56,3,IF(U56=V56,1,2)))","v":3}]
[null,null,"1962-05-31","Spanien","CSSR",0,1,null,"Viña del Mar",null,null,null,null,null,null,null,null,null,"Brasilien","CSSR",0,0,null,1,1]
[null,null,null,null,null,"(0","0)",null,null,null,null,null,null,null,null,null,null,null,"Mexiko","Spanien",0,1,null,2,3]
[null,null,"1962-06-02","Brasilien","CSSR",0,0,null,"Viña del Mar",null,null,null,null,null,null,null,null,null,"Brasilien","Spanien",2,1,null,3,2]
[null,null,"1962-06-03","Mexiko","Spanien",0,1,null,"Viña del Mar",null,null,null,null,null,null,null,null,null,"Mexiko","CSSR",3,1,null,{"$f":"(IF(U60>V60,3,IF(U60=V60,1,2)))","v":3},{"$f":"(IF(V60>U60,3,IF(U60=V60,1,2)))","v":2}]
[null,null,null,null,null,"(0","0)"]
[null,null,"1962-06-06","Brasilien","Spanien",2,1,null,"Viña del Mar"]
[null,null,null,null,null,"(0","1)"]
[null,null,"1962-06-07","Mexiko","CSSR",3,1,null,"Viña del Mar"]
[null,null,null,null,null,"(2","1)"]
[]
[null,null,"Spiele","gew","unent","verl","Tore+","Tore-","Punkte+","Punkte-"]
[null,"Brasilien",{"$f":"COUNTIF($S$90:$T$105,\"UdSSR\")","v":1},{"$f":"SUMPRODUCT(($S$90:$T$105=B68)*($X$90:$Y$105=3))","v":1},{"$f":"SUMPRODUCT(($S$90:$T$105=B68)*($X$90:$Y$105=1))","v":0},{"$f":"SUMPRODUCT(($S$90:$T$105=B68)*($X$90:$Y$105=2))","v":0},{"$f":"SUMPRODUCT(($S$90:$S$105=B68)*($U$90:$U$105))+SUMPRODUCT(($T$90:$T$105=B68)*($V$90:$V$105))","v":3},{"$f":"SUMPRODUCT(($S$90:$S$105=B68)*($V$90:$V$105))+SUMPRODUCT(($T$90:$T$105=B68)*($U$90:$U$105))","v":1},{"$f":"(D68*2)+E68","v":2},{"$f":"(F68*2)+E68","v":0}]
[null,"Mexiko"]
[null,"Spanien"]
[null,"CSSR"]
[]
[]
[null,null,null,null,null,"Gruppe D"]
[]
[null,null,"1962-05-30","Argentinien","Bulgarien",1,0,null,"Rancagua",null,null,null,null,null,null,null,null,null,"Argentinien","Bulgarien",1,0,null,{"$f":"(IF(U76>V76,3,IF(U76=V76,1,2)))","v":3},{"$f":"(IF(V76>U76,3,IF(U76=V76,1,2)))","v":2}]
[null,null,null,null,null,"(1","0)",null,null,null,null,null,null,null,null,null,null,null,"Ungarn","England",2,1,null,{"$f":"(IF(U77>V77,3,IF(U77=V77,1,2)))","v":3},{"$f":"(IF(V77>U77,3,IF(U77=V77,1,2)))","v":2}]
[null,null,"1962-05-31","Ungarn","England",2,1,null,"Rancagua",null,null,null,null,null,null,null,null,null,"England","Argentinien",3,1,null,3,2]
[null,null,null,null,null,"(1","0)",null,null,null,null,null,null,null,null,null,null,null,"Ungarn","Bulgarien",6,1,null,3,2]
[null,null,"1962-06-02","England","Argentinien",3,1,null,"Rancagua",null,null,null,null,null,null,null,null,null,"Ungarn","Argentinien",0,0,null,1,1]
[null,null,null,null,null,"(2","0)",null,null,null,null,null,null,null,null,null,null,null,"England","Bulgarien",0,0,null,1,1]
[null,null,"1962-06-03","Ungarn","Bulgarien",6,1,null,"Rancagua"]
[null,null,null,null,null,"(4","0)"]
[null,null,"1962-06-06","Ungarn","Argentinien",0,0,null,"Rancagua"]
[null,null,"1962-06-07","England","Bulgarien",0,0,null,"Rancagua"]
[]
[null,null,"Spiele","gew","unent","verl","Tore+","Tore-","Punkte+","Punkte-"]
[null,"Argentinien",{"$f":"COUNTIF($S$90:$T$105,\"UdSSR\")","v":1},{"$f":"SUMPRODUCT(($S$90:$T$105=B88)*($X$90:$Y$105=3))","v":0},{"$f":"SUMPRODUCT(($S$90:$T$105=B88)*($X$90:$Y$105=1))","v":0},{"$f":"SUMPRODUCT(($S$90:$T$105=B88)*($X$90:$Y$105=2))","v":0},{"$f":"SUMPRODUCT(($S$90:$S$105=B88)*($U$90:$U$105))+SUMPRODUCT(($T$90:$T$105=B88)*($V$90:$V$105))","v":0},{"$f":"SUMPRODUCT(($S$90:$S$105=B88)*($V$90:$V$105))+SUMPRODUCT(($T$90:$T$105=B88)*($U$90:$U$105))","v":0},{"$f":"(D88*2)+E88","v":0},{"$f":"(F88*2)+E88","v":0}]
[null,"Bulgarien"]
[null,"Ungarn"]
[null,"England"]
[]
[]
[null,null,null,null,null,"Viertelfinale:"]
[]
[null,null,"1962-06-10","Chile","UdSSR",2,1,null,"Arica",null,null,null,null,null,null,null,null,null,"Chile","UdSSR",2,1,null,{"$f":"(IF(U96>V96,3,IF(U96=V96,1,2)))","v":3},{"$f":"(IF(V96>U96,3,IF(U96=V96,1,2)))","v":2}]
[null,null,null,null,null,"(2","1)",null,null,null,null,null,null,null,null,null,null,null,"Brasilien","England",3,1,null,3,2]
[null,null,"1962-06-10","Brasilien","England",3,1,null,"Viña del Mar",null,null,null,null,null,null,null,null,null,"CSSR","Ungarn",1,0,null,3,2]
[null,null,null,null,null,"(1","1)",null,null,null,null,null,null,null,null,null,null,null,"Jugoslawien","BRD",1,0,null,3,2]
[null,null,"1962-06-10","CSSR","Ungarn",1,0,null,"Rancagua"]
[null,null,null,null,null,"(1","0)"]
[null,null,"1962-06-10","Jugoslawien","BRD",1,0,null,"Santiago dCh"]
[null,null,null,null,null,"(0","0)"]
[]
[]
[null,null,null,null,null,"Halbfinale:"]
[]
[null,null,"1962-06-13","Brasilien","Chile",4,2,null,"Santiago dCh",null,null,null,null,null,null,null,null,null,"Brasilien","Chile",4,2,null,{"$f":"(IF(U108>V108,3,IF(U108=V108,1,2)))","v":3},{"$f":"(IF(V108>U108,3,IF(U108=V108,1,2)))","v":2}]
[null,null,null,null,null,"(2","1)",null,null,null,null,null,null,null,null,null,null,null,"CSSR","Jugoslawien",3,1,null,3,2]
[null,null,"1962-06-13","CSSR","Jugoslawien",3,1,null,"Viña del Mar"]
[null,null,null,null,null,"(0","0)"]
[]
[]
[null,null,"Spiel um Platz 3 am 16. Juni 1962 in Santiago de Chile"]
[]
[null,null,null,"Chile","Jugoslawien",1,0,null,null,null,null,null,null,null,null,null,null,null,"Chile","Jugoslawien",1,0,null,{"$f":"(IF(U116>V116,3,IF(U116=V116,1,2)))","v":3},{"$f":"(IF(V116>U116,3,IF(U116=V116,1,2)))","v":2}]
[null,null,null,null,null,"(0","0)"]
[]
[]
[]
[]
[]
[null,null,"Endspielam 17. Juni 1962 in Santiago de Chile"]
[]
[null,null,null,"Brasilien","CSSR",3,1,null,null,null,null,null,null,null,null,null,null,null,"Brasilien","CSSR",3,1,null,{"$f":"(IF(U125>V125,3,IF(U125=V125,1,2)))","v":3},{"$f":"(IF(V125>U125,3,IF(U125=V125,1,2)))","v":2}]
[null,null,null,null,null,"(1","1)"]
[]
[]
[]
[]
[]
["Auswertung","Nation","Spiele","gew","unent","verl","Tore+","Tore-","Punkte+","Punkte-"]
[null,"Brasilien",{"$f":"COUNTIF($S$12:$T$125,\"Brasilien\")","v":6},{"$f":"SUMPRODUCT(($S$12:$T$125=B133)*($X$12:$Y$125=3))","v":5},{"$f":"SUMPRODUCT(($S$12:$T$125=B133)*($X$12:$Y$125=1))","v":1},{"$f":"SUMPRODUCT(($S$12:$T$125=B133)*($X$12:$Y$125=2))","v":0},{"$f":"SUMPRODUCT(($S$12:$S$125=B133)*($U$12:$U$125))+SUMPRODUCT(($T$12:$T$125=B133)*($V$12:$V$125))","v":14},{"$f":"SUMPRODUCT(($S$12:$S$125=B133)*($V$12:$V$125))+SUMPRODUCT(($T$12:$T$125=B133)*($U$12:$U$125))","v":5},{"$f":"(D133*2)+E133","v":11},{"$f":"(F133*2)+E133","v":1}]
[null,"Chile",{"$f":"COUNTIF($S$12:$T$125,\"Chile\")","v":6},4,0,2,10,8,8,4]
[null,"CSSR",{"$f":"COUNTIF($S$12:$T$125,\"CSSR\")","v":6},3,1,2,7,7,7,5]
[null,"Jugoslawien",{"$f":"COUNTIF($S$12:$T$125,\"Jugoslawien\")","v":6},3,0,3,10,7,6,6]
[null,"UdSSR",{"$f":"COUNTIF($S$12:$T$125,\"UdSSR\")","v":4},2,1,1,9,7,5,3]
[null,"Ungarn",{"$f":"COUNTIF($S$12:$T$125,\"Ungarn\")","v":4},2,1,1,8,3,5,3]
[null,"BRD",{"$f":"COUNTIF($S$12:$T$125,\"BRD\")","v":4},2,1,1,4,2,5,3]
[null,"Italien",{"$f":"COUNTIF($S$12:$T$125,\"Italien\")","v":3},1,1,1,3,2,3,3]
[null,"Argentinien",{"$f":"COUNTIF($S$12:$T$125,\"Argentinien\")","v":3},1,1,1,2,3,3,3]
[null,"England",{"$f":"COUNTIF($S$12:$T$125,\"England\")","v":4},1,1,2,5,6,3,5]
[null,"Uruguay",{"$f":"COUNTIF($S$12:$T$125,\"Uruguay\")","v":3},1,0,2,4,6,2,4]
[null,"Mexiko",{"$f":"COUNTIF($S$12:$T$125,\"Mexiko\")","v":3},1,0,2,3,4,2,4]
[null,"Spanien",{"$f":"COUNTIF($S$12:$T$125,\"Spanien\")","v":3},1,0,2,2,3,2,4]
[null,"Kolumbien",{"$f":"COUNTIF($S$12:$T$125,\"Kolumbien\")","v":3},0,1,2,5,11,1,5]
[null,"Bulgarien",{"$f":"COUNTIF($S$12:$T$125,\"Bulgarien\")","v":3},0,1,2,1,7,1,5]
[null,"Schweiz",{"$f":"COUNTIF($S$12:$T$125,\"Schweiz\")","v":3},0,0,3,2,8,0,6]

{"sheet":"1966","index":7,"n_rows":150,"n_cols":27,"rows_kept":150,"cut":false,"hidden":false,"merged":[[1,0,1,10],[3,0,3,10],[4,0,4,10],[114,2,114,8],[123,2,123,8]]}
[null,null,null,null,null,null,null,null,null,null,null,null,null,null,null,null,null,null,1,2,3,4,5,6,7]
["8. WM 1966 in England"]
[]
["11. - 30. Juli 1966"]
["Teilnehmende Nationen: 16 --- Bewerbungen: 71"]
[]
[]
[]
[]
[null,null,null,null,null,"Gruppe A"]
[]
[null,null,"1966-07-11","England","Uruguay",0,0,null,"London",null,null,null,null,null,null,null,null,null,"England","Uruguay",0,0,null,{"$f":"(IF(U12>V12,3,IF(U12=V12,1,2)))","v":1},{"$f":"(IF(V12>U12,3,IF(U12=V12,1,2)))","v":1},null,"England"]
[null,null,"1966-07-13","Frankreich","Mexiko",1,1,null,"London",null,null,null,null,null,null,null,null,null,"Frankreich","Mexiko",1,1,null,1,1,null,"Portugal"]
[null,null,null,null,null,null,null,null,null,null,null,null,null,null,null,null,null,null,"Uruguay","Frankreich",2,1,null,3,2,null,"BRD"]
[null,null,"1966-07-15","Uruguay","Frankreich",2,1,null,"London",null,null,null,null,null,null,null,null,null,"England","Mexiko",2,0,null,3,2,null,"UdSSR"]
[null,null,null,null,null,null,null,null,null,null,null,null,null,null,null,null,null,null,"Mexiko","Uruguay",0,0,null,1,1,null,"Argentinien"]
[null,null,"1966-07-16","England","Mexiko",2,0,null,"London",null,null,null,null,null,null,null,null,null,"England","Frankreich",2,0,null,{"$f":"(IF(U17>V17,3,IF(U17=V17,1,2)))","v":3},{"$f":"(IF(V17>U17,3,IF(U17=V17,1,2)))","v":2},null,"Ungarn"]
[null,null,null,null,null,null,null,null,null,null,null,null,null,null,null,null,null,null,null,null,null,null,null,null,null,null,"Uruguay"]
[null,null,"1966-07-19","Mexiko","Uruguay",0,0,null,"London",null,null,null,null,null,null,null,null,null,null,null,null,null,null,null,null,null,"Nordkorea"]
[null,null,"1966-07-20","England","Frankreich",2,0,null,"London",null,null,null,null,null,null,null,null,null,null,null,null,null,null,null,null,null,"Spanien"]
[null,null,null,null,null,"(",")",null,null,null,null,null,null,null,null,null,null,null,null,null,null,null,null,null,null,null,"Brasilien"]
[null,null,null,null,null,null,null,null,null,null,null,null,null,null,null,null,null,null,null,null,null,null,null,null,null,null,"Italien"]
[null,null,"Spiele","gew","unent","verl","Tore+","Tore-","Punkte+","Punkte-",null,null,null,null,null,null,null,null,null,null,null,null,null,null,null,null,"Mexiko"]
[null,"England",{"$f":"COUNTIF($S$90:$T$105,\"UdSSR\")","v":1},{"$f":"SUMPRODUCT(($S$90:$T$105=B24)*($X$90:$Y$105=3))","v":1},{"$f":"SUMPRODUCT(($S$90:$T$105=B24)*($X$90:$Y$105=1))","v":0},{"$f":"SUMPRODUCT(($S$90:$T$105=B24)*($X$90:$Y$105=2))","v":0},{"$f":"SUMPRODUCT(($S$90:$S$105=B24)*($U$90:$U$105))+SUMPRODUCT(($T$90:$T$105=B24)*($V$90:$V$105))","v":1},{"$f":"SUMPRODUCT(($S$90:$S$105=B24)*($V$90:$V$105))+SUMPRODUCT(($T$90:$T$105=B24)*($U$90:$U$105))","v":0},{"$f":"(D24*2)+E24","v":2},{"$f":"(F24*2)+E24","v":0},null,null,null,null,null,null,null,null,null,null,null,null,null,null,null,null,"Frankreich"]
[null,"Uruguay",null,null,null,null,null,null,null,null,null,null,null,null,null,null,null,null,null,null,null,null,null,null,null,null,"Chile"]
[null,"Frankreich",null,null,null,null,null,null,null,null,null,null,null,null,null,null,null,null,null,null,null,null,null,null,null,null,"Bulgarien"]
[null,"Mexiko",null,null,null,null,null,null,null,null,null,null,null,null,null,null,null,null,null,null,null,null,null,null,null,null,"Schweiz"]
[]
[]
[null,null,null,null,null,"Gruppe B"]
[]
[null,null,"1966-07-12","BRD","Schweiz",5,0,null,"Sheffield",null,null,null,null,null,null,null,null,null,"BRD","Schweiz",5,0,null,{"$f":"(IF(U32>V32,3,IF(U32=V32,1,2)))","v":3},{"$f":"(IF(V32>U32,3,IF(U32=V32,1,2)))","v":2}]
[null,null,null,null,null,null,null,null,null,null,null,null,null,null,null,null,null,null,"Spanien","Argentinien",1,2,null,2,3]
[null,null,"1966-07-13","Spanien","Argentinien",1,2,null,"Birmingham",null,null,null,null,null,null,null,null,null,"Spanien","Schweiz",2,1,null,3,2]
[null,null,null,null,null,null,null,null,null,null,null,null,null,null,null,null,null,null,"BRD","Argentinien",0,0,null,1,1]
[null,null,"1966-07-15","Spanien","Schweiz",2,1,null,"Sheffield",null,null,null,null,null,null,null,null,null,"Argentinien","Schweiz",2,0,null,3,2]
[null,null,null,null,null,null,null,null,null,null,null,null,null,null,null,null,null,null,"BRD","Spanien",2,1,null,3,2]
[null,null,"1966-07-16","BRD","Argentinien",0,0,null,"Birmingham"]
[null,null,"1966-07-19","Argentinien","Schweiz",2,0,null,"Sheffield"]
[]
[null,null,"1966-07-20","BRD","Spanien",2,1,null,"Birmingham"]
[]
[]
[null,null,"Spiele","gew","unent","verl","Tore+","Tore-","Punkte+","Punkte-"]
[null,"BRD",{"$f":"COUNTIF($S$90:$T$105,\"UdSSR\")","v":1},{"$f":"SUMPRODUCT(($S$90:$T$105=B45)*($X$90:$Y$105=3))","v":1},{"$f":"SUMPRODUCT(($S$90:$T$105=B45)*($X$90:$Y$105=1))","v":0},{"$f":"SUMPRODUCT(($S$90:$T$105=B45)*($X$90:$Y$105=2))","v":0},{"$f":"SUMPRODUCT(($S$90:$S$105=B45)*($U$90:$U$105))+SUMPRODUCT(($T$90:$T$105=B45)*($V$90:$V$105))","v":4},{"$f":"SUMPRODUCT(($S$90:$S$105=B45)*($V$90:$V$105))+SUMPRODUCT(($T$90:$T$105=B45)*($U$90:$U$105))","v":0},{"$f":"(D45*2)+E45","v":2},{"$f":"(F45*2)+E45","v":0}]
[null,"Schweiz"]
[null,"Spanien"]
[null,"Argentinien"]
[]
[]
[null,null,null,null,null,"Gruppe C"]
[]
[null,null,"1966-07-12","Brasilien","Bulgarien",2,0,null,"Liverpool",null,null,null,null,null,null,null,null,null,"Brasilien","Bulgarien",2,0,null,{"$f":"(IF(U53>V53,3,IF(U53=V53,1,2)))","v":3},{"$f":"(IF(V53>U53,3,IF(U53=V53,1,2)))","v":2}]
[null,null,null,null,null,null,null,null,null,null,null,null,null,null,null,null,null,null,"Portugal","Ungarn",3,1,null,3,2]
[null,null,"1966-07-13","Portugal","Ungarn",3,1,null,"Manchester",null,null,null,null,null,null,null,null,null,"Brasilien","Ungarn",1,3,null,2,3]
[null,null,null,null,null,null,null,null,null,null,null,null,null,null,null,null,null,null,"Portugal","Bulgarien",3,0,null,3,2]
[null,null,"1966-07-15","Brasilien","Ungarn",1,3,null,"Liverpool",null,null,null,null,null,null,null,null,null,"Portugal","Brasilien",3,1,null,3,2]
[null,null,null,null,null,null,null,null,null,null,null,null,null,null,null,null,null,null,"Ungarn","Bulgarien",3,1,null,3,2]
[null,null,"1966-07-16","Portugal","Bulgarien",3,0,null,"Manchester"]
[]
[null,null,"1966-07-19","Portugal","Brasilien",3,1,null,"Liverpool"]
[]
[null,null,"1966-07-20","Ungarn","Bulgarien",3,1,null,"Manchester"]
[]
[]
[null,null,"Spiele","gew","unent","verl","Tore+","Tore-","Punkte+","Punkte-"]
[null,"Brasilien",{"$f":"COUNTIF($S$90:$T$105,\"UdSSR\")","v":1},{"$f":"SUMPRODUCT(($S$90:$T$105=B67)*($X$90:$Y$105=3))","v":0},{"$f":"SUMPRODUCT(($S$90:$T$105=B67)*($X$90:$Y$105=1))","v":0},{"$f":"SUMPRODUCT(($S$90:$T$105=B67)*($X$90:$Y$105=2))","v":0},{"$f":"SUMPRODUCT(($S$90:$S$105=B67)*($U$90:$U$105))+SUMPRODUCT(($T$90:$T$105=B67)*($V$90:$V$105))","v":0},{"$f":"SUMPRODUCT(($S$90:$S$105=B67)*($V$90:$V$105))+SUMPRODUCT(($T$90:$T$105=B67)*($U$90:$U$105))","v":0},{"$f":"(D67*2)+E67","v":0},{"$f":"(F67*2)+E67","v":0}]
[null,"Bulgarien"]
[null,"Portugal"]
[null,"Ungarn"]
[]
[]
[null,null,null,null,null,"Gruppe D"]
[]
[null,null,"1966-07-12","UdSSR","Nordkorea",3,0,null,"Middlesbrough",null,null,null,null,null,null,null,null,null,"UdSSR","Nordkorea",3,0,null,{"$f":"(IF(U75>V75,3,IF(U75=V75,1,2)))","v":3},{"$f":"(IF(V75>U75,3,IF(U75=V75,1,2)))","v":2}]
[null,null,null,null,null,null,null,null,null,null,null,null,null,null,null,null,null,null,"Italien","Chile",2,0,null,3,2]
[null,null,"1966-07-13","Italien","Chile",2,0,null,"Sunderland",null,null,null,null,null,null,null,null,null,"Chile","Nordkorea",1,1,null,{"$f":"(IF(U77>V77,3,IF(U77=V77,1,2)))","v":1},{"$f":"(IF(V77>U77,3,IF(U77=V77,1,2)))","v":1}]
[null,null,null,null,null,null,null,null,null,null,null,null,null,null,null,null,null,null,"UdSSR","Italien",1,0,null,{"$f":"(IF(U78>V78,3,IF(U78=V78,1,2)))","v":3},{"$f":"(IF(V78>U78,3,IF(U78=V78,1,2)))","v":2}]
[null,null,"1966-07-15","Chile","Nordkorea",1,1,null,"Middlesbrough",null,null,null,null,null,null,null,null,null,"Italien","Nordkorea",0,1,null,2,3]
[null,null,null,null,null,null,null,null,null,null,null,null,null,null,null,null,null,null,"UdSSR","Chile",2,1,null,3,2]
[null,null,"1966-07-16","UdSSR","Italien",1,0,null,"Sunderland"]
[]
[null,null,"1966-07-19","Italien","Nordkorea",0,1,null,"Middlesbrough"]
[]
[null,null,"1966-07-20","UdSSR","Chile",2,1,null,"Sunderland"]
[]
[]
[null,null,"Spiele","gew","unent","verl","Tore+","Tore-","Punkte+","Punkte-"]
[null,"UdSSR",{"$f":"COUNTIF($S$90:$T$105,\"UdSSR\")","v":1},{"$f":"SUMPRODUCT(($S$90:$T$105=B89)*($X$90:$Y$105=3))","v":1},{"$f":"SUMPRODUCT(($S$90:$T$105=B89)*($X$90:$Y$105=1))","v":0},{"$f":"SUMPRODUCT(($S$90:$T$105=B89)*($X$90:$Y$105=2))","v":0},{"$f":"SUMPRODUCT(($S$90:$S$105=B89)*($U$90:$U$105))+SUMPRODUCT(($T$90:$T$105=B89)*($V$90:$V$105))","v":2},{"$f":"SUMPRODUCT(($S$90:$S$105=B89)*($V$90:$V$105))+SUMPRODUCT(($T$90:$T$105=B89)*($U$90:$U$105))","v":1},{"$f":"(D89*2)+E89","v":2},{"$f":"(F89*2)+E89","v":0}]
[null,"Nordkorea"]
[null,"Italien"]
[null,"Chile"]
[]
[]
[null,null,null,null,null,"Viertelfinale:"]
[]
[null,null,"1966-07-23","England","Argentinien",1,0,null,"London",null,null,null,null,null,null,null,null,null,"England","Argentinien",1,0,null,{"$f":"(IF(U97>V97,3,IF(U97=V97,1,2)))","v":3},{"$f":"(IF(V97>U97,3,IF(U97=V97,1,2)))","v":2}]
[null,null,null,null,null,null,null,null,null,null,null,null,null,null,null,null,null,null,"BRD","Uruguay",4,0,null,3,2]
[null,null,"1966-07-23","BRD","Uruguay",4,0,null,"Sheffield",null,null,null,null,null,null,null,null,null,"Portugal","Nordkorea",5,3,null,3,2]
[null,null,null,null,null,null,null,null,null,null,null,null,null,null,null,null,null,null,"UdSSR","Ungarn",2,1,null,3,2]
[null,null,"1966-07-23","Potugal","Nordkorea",5,3,null,"Liverpool"]
[]
[null,null,"1966-07-23","UdSSR","Ungarn",2,1,null,"Sunderland"]
[null,null,null,null,null,"(",")"]
[]
[]
[null,null,null,null,null,"Halbfinale:"]
[]
[null,null,"1966-07-25","BRD","UdSSR",2,1,null,"Liverpool",null,null,null,null,null,null,null,null,null,"BRD","UdSSR",2,1,null,{"$f":"(IF(U109>V109,3,IF(U109=V109,1,2)))","v":3},{"$f":"(IF(V109>U109,3,IF(U109=V109,1,2)))","v":2}]
[null,null,null,null,null,null,null,null,null,null,null,null,null,null,null,null,null,null,"England","Portugal",2,1,null,3,2]
[null,null,"1966-07-26","England","Portugal",2,1,null,"London"]
[null,null,null,null,null,"(",")"]
[]
[]
[null,null,"Spiel um Platz 3 am 28. Juli 1966 in London"]
[]
[null,null,null,"Portugal","UdSSR",2,1,null,null,null,null,null,null,null,null,null,null,null,"Portugal","UdSSR",2,1,null,{"$f":"(IF(U117>V117,3,IF(U117=V117,1,2)))","v":3},{"$f":"(IF(V117>U117,3,IF(U117=V117,1,2)))","v":2}]
[null,null,null,null,null,"(",")"]
[]
[]
[]
[]
[]
[null,null,"Endspiel am 30. Juli 1966 in London"]
[]
[null,null,null,"England","BRD",4,2,"n.V.",null,null,null,null,null,null,null,null,null,null,"England","BRD",4,2,null,{"$f":"(IF(U126>V126,3,IF(U126=V126,1,2)))","v":3},{"$f":"(IF(V126>U126,3,IF(U126=V126,1,2)))","v":2}]
[]
[null,null,null,null,null,"(",")"]
[]
[]
[]
[]
[]
["Auswertung","Nation","Spiele","gew","unent","verl","Tore+","Tore-","Punkte+","Punkte-"]
[null,"England",{"$f":"COUNTIF($S$12:$T$126,\"England\")","v":6},{"$f":"SUMPRODUCT(($S$12:$T$126=B135)*($X$12:$Y$126=3))","v":5},{"$f":"SUMPRODUCT(($S$12:$T$126=B135)*($X$12:$Y$126=1))","v":1},{"$f":"SUMPRODUCT(($S$12:$T$126=B135)*($X$12:$Y$126=2))","v":0},{"$f":"SUMPRODUCT(($S$12:$S$126=B135)*($U$12:$U$126))+SUMPRODUCT(($T$12:$T$126=B135)*($V$12:$V$126))","v":11},{"$f":"SUMPRODUCT(($S$12:$S$126=B135)*($V$12:$V$126))+SUMPRODUCT(($T$12:$T$126=B135)*($U$12:$U$126))","v":3},{"$f":"(D135*2)+E135","v":11},{"$f":"(F135*2)+E135","v":1}]
[null,"Portugal",{"$f":"COUNTIF($S$12:$T$126,\"Portugal\")","v":6},5,0,1,17,8,10,2]
[null,"BRD",{"$f":"COUNTIF($S$12:$T$126,\"BRD\")","v":6},4,1,1,15,6,9,3]
[null,"UdSSR",{"$f":"COUNTIF($S$12:$T$126,\"UdSSR\")","v":6},4,0,2,10,6,8,4]
[null,"Argentinien",{"$f":"COUNTIF($S$12:$T$126,\"Argentinien\")","v":4},2,1,1,4,2,5,3]
[null,"Ungarn",{"$f":"COUNTIF($S$12:$T$126,\"Ungarn\")","v":4},2,0,2,8,7,4,4]
[null,"Uruguay",{"$f":"COUNTIF($S$12:$T$126,\"Uruguay\")","v":4},1,2,1,2,5,4,4]
[null,"Nordkorea",{"$f":"COUNTIF($S$12:$T$126,\"Nordkorea\")","v":4},1,1,2,5,9,3,5]
[null,"Spanien",{"$f":"COUNTIF($S$12:$T$126,\"Spanien\")","v":3},1,0,2,4,5,2,4]
[null,"Brasilien",{"$f":"COUNTIF($S$12:$T$126,\"Brasilien\")","v":3},1,0,2,4,6,2,4]
[null,"Italien",{"$f":"COUNTIF($S$12:$T$126,\"Italien\")","v":3},1,0,2,2,2,2,4]
[null,"Mexiko",{"$f":"COUNTIF($S$12:$T$126,\"Mexiko\")","v":3},0,2,1,1,3,2,4]
[null,"Frankreich",{"$f":"COUNTIF($S$12:$T$126,\"Frankreich\")","v":3},0,1,2,2,5,1,5]
[null,"Chile",{"$f":"COUNTIF($S$12:$T$126,\"Chile\")","v":3},0,1,2,2,5,1,5]
[null,"Bulgarien",{"$f":"COUNTIF($S$12:$T$126,\"Bulgarien\")","v":3},0,0,3,1,8,0,6]
[null,"Schweiz",{"$f":"COUNTIF($S$12:$T$126,\"Schweiz\")","v":3},0,0,3,1,9,0,6]

{"sheet":"1970","index":8,"n_rows":153,"n_cols":27,"rows_kept":153,"cut":false,"hidden":false,"merged":[[1,0,1,10],[3,0,3,10],[4,0,4,10],[118,2,118,8],[127,2,127,8]]}
[null,null,null,null,null,null,null,null,null,null,null,null,null,null,null,null,null,null,1,2,3,4,5,6,7]
["9. WM 1970 in Mexiko"]
[]
["31. Mai - 21. Juni 1970"]
["Teilnehmende Nationen: 16 --- Bewerbungen: 70"]
[]
[]
[]
[]
[null,null,null,null,null,"Gruppe 1"]
[]
[null,null,"1970-05-31","Mexiko","UdSSR",0,0,null,"Mexiko-City",null,null,null,null,null,null,null,null,null,"Mexiko","UdSSR",0,0,null,{"$f":"(IF(U12>V12,3,IF(U12=V12,1,2)))","v":1},{"$f":"(IF(V12>U12,3,IF(U12=V12,1,2)))","v":1},null,"Brasilien"]
[null,null,"1970-06-03","Belgien","El Salvador",3,0,null,"Mexiko-City",null,null,null,null,null,null,null,null,null,"Belgien","El Salvador",3,0,null,3,2,null,"BRD"]
[null,null,null,null,null,null,null,null,null,null,null,null,null,null,null,null,null,null,"UdSSR","Belgien",4,1,null,3,2,null,"Italien"]
[null,null,"1970-06-06","UdSSR","Belgien",4,1,null,"Mexiko-City",null,null,null,null,null,null,null,null,null,"Mexiko","El Salvador",4,0,null,3,2,null,"UdSSR"]
[null,null,null,null,null,null,null,null,null,null,null,null,null,null,null,null,null,null,"UdSSR","El Salvador",2,0,null,3,2,null,"Mexiko"]
[null,null,"1970-06-07","Mexiko","El Salvador",4,0,null,"Mexiko-City",null,null,null,null,null,null,null,null,null,"Mexiko","Belgien",1,0,null,{"$f":"(IF(U17>V17,3,IF(U17=V17,1,2)))","v":3},{"$f":"(IF(V17>U17,3,IF(U17=V17,1,2)))","v":2},null,"Uruguay"]
[null,null,null,null,null,null,null,null,null,null,null,null,null,null,null,null,null,null,null,null,null,null,null,null,null,null,"Peru"]
[null,null,"1970-06-10","UdSSR","El Salvador",2,0,null,"Mexiko-City",null,null,null,null,null,null,null,null,null,null,null,null,null,null,null,null,null,"England"]
[null,null,null,null,null,null,null,null,null,null,null,null,null,null,null,null,null,null,null,null,null,null,null,null,null,null,"Schweden"]
[null,null,"1970-06-11","Mexiko","Belgien",1,0,null,"Mexiko-City",null,null,null,null,null,null,null,null,null,null,null,null,null,null,null,null,null,"Belgien"]
[null,null,null,null,null,"(",")",null,null,null,null,null,null,null,null,null,null,null,null,null,null,null,null,null,null,null,"Rumänien"]
[null,null,null,null,null,null,null,null,null,null,null,null,null,null,null,null,null,null,null,null,null,null,null,null,null,null,"Israel"]
[null,null,"Spiele","gew","unent","verl","Tore+","Tore-","Punkte+","Punkte-",null,null,null,null,null,null,null,null,null,null,null,null,null,null,null,null,"Bulgarien"]
[null,"Mexiko",{"$f":"COUNTIF($S$90:$T$105,\"UdSSR\")","v":1},{"$f":"SUMPRODUCT(($S$90:$T$105=B25)*($X$90:$Y$105=3))","v":0},{"$f":"SUMPRODUCT(($S$90:$T$105=B25)*($X$90:$Y$105=1))","v":0},{"$f":"SUMPRODUCT(($S$90:$T$105=B25)*($X$90:$Y$105=2))","v":1},{"$f":"SUMPRODUCT(($S$90:$S$105=B25)*($U$90:$U$105))+SUMPRODUCT(($T$90:$T$105=B25)*($V$90:$V$105))","v":1},{"$f":"SUMPRODUCT(($S$90:$S$105=B25)*($V$90:$V$105))+SUMPRODUCT(($T$90:$T$105=B25)*($U$90:$U$105))","v":4},{"$f":"(D25*2)+E25","v":0},{"$f":"(F25*2)+E25","v":2},null,null,null,null,null,null,null,null,null,null,null,null,null,null,null,null,"Marokko"]
[null,"UdSSR",null,null,null,null,null,null,null,null,null,null,null,null,null,null,null,null,null,null,null,null,null,null,null,null,"CSSR"]
[null,"Belgien",null,null,null,null,null,null,null,null,null,null,null,null,null,null,null,null,null,null,null,null,null,null,null,null,"El Salvador"]
[null,"El Salvador"]
[]
[]
[null,null,null,null,null,"Gruppe 2"]
[]
[null,null,"1970-06-02","Uruguay","Israel",2,0,null,"Puebla",null,null,null,null,null,null,null,null,null,"Uruguay","Israel",2,0,null,{"$f":"(IF(U33>V33,3,IF(U33=V33,1,2)))","v":3},{"$f":"(IF(V33>U33,3,IF(U33=V33,1,2)))","v":2}]
[null,null,null,null,null,null,null,null,null,null,null,null,null,null,null,null,null,null,"Italien","Schweden",1,0,null,3,2]
[null,null,"1970-06-03","Italien","Schweden",1,0,null,"Toluca",null,null,null,null,null,null,null,null,null,"Uruguay","Italien",0,0,null,1,1]
[null,null,null,null,null,null,null,null,null,null,null,null,null,null,null,null,null,null,"Schweden","Israel",1,1,null,1,1]
[null,null,"1970-06-06","Uruguay","Italien",0,0,null,"Puebla",null,null,null,null,null,null,null,null,null,"Schweden","Uruguay",1,0,null,3,2]
[null,null,"1970-06-07","Schweden","Israel",1,1,null,"Toluca",null,null,null,null,null,null,null,null,null,"Italien","Israel",0,0,null,1,1]
[]
[null,null,"1970-06-10","Schweden","Uruguay",1,0,null,"Puebla"]
[]
[null,null,"1970-06-11","Italien","Israel",0,0,null,"Toluca"]
[null,null,null,null,null,"(",")"]
[]
[null,null,"Spiele","gew","unent","verl","Tore+","Tore-","Punkte+","Punkte-"]
[null,"Uruguay",{"$f":"COUNTIF($S$90:$T$105,\"UdSSR\")","v":1},{"$f":"SUMPRODUCT(($S$90:$T$105=B46)*($X$90:$Y$105=3))","v":1},{"$f":"SUMPRODUCT(($S$90:$T$105=B46)*($X$90:$Y$105=1))","v":0},{"$f":"SUMPRODUCT(($S$90:$T$105=B46)*($X$90:$Y$105=2))","v":0},{"$f":"SUMPRODUCT(($S$90:$S$105=B46)*($U$90:$U$105))+SUMPRODUCT(($T$90:$T$105=B46)*($V$90:$V$105))","v":1},{"$f":"SUMPRODUCT(($S$90:$S$105=B46)*($V$90:$V$105))+SUMPRODUCT(($T$90:$T$105=B46)*($U$90:$U$105))","v":0},{"$f":"(D46*2)+E46","v":2},{"$f":"(F46*2)+E46","v":0}]
[null,"Israel"]
[null,"Italien"]
[null,"Schweden"]
[]
[]
[null,null,null,null,null,"Gruppe 3"]
[]
[null,null,"1970-06-02","Rumänien","England",0,1,null,"Guadalajara",null,null,null,null,null,null,null,null,null,"Rumänien","England",0,1,null,{"$f":"(IF(U54>V54,3,IF(U54=V54,1,2)))","v":2},{"$f":"(IF(V54>U54,3,IF(U54=V54,1,2)))","v":3}]
[null,null,null,null,null,null,null,null,null,null,null,null,null,null,null,null,null,null,"CSSR","Brasilien",1,4,null,2,3]
[null,null,"1970-06-03","CSSR","Brasilien",1,4,null,"Guadalajara",null,null,null,null,null,null,null,null,null,"Rumänien","CSSR",2,1,null,3,2]
[null,null,null,null,null,null,null,null,null,null,null,null,null,null,null,null,null,null,"England","Brasilien",0,1,null,2,3]
[null,null,"1970-06-06","Rumänien","CSSR",2,1,null,"Guadalajara",null,null,null,null,null,null,null,null,null,"Rumänien","Brasilien",2,3,null,2,3]
[null,null,null,null,null,null,null,null,null,null,null,null,null,null,null,null,null,null,"England","CSSR",1,0,null,3,2]
[null,null,"1970-06-07","England","Brasilien",0,1,null,"Guadalajara"]
[]
[null,null,"1970-06-10","Rumänien","Brasilien",2,3,null,"Guadalajara"]
[]
[null,null,"1970-06-11","England","CSSR",1,0,null,"Guadalajara"]
[null,null,null,null,null,"(",")"]
[]
[null,null,"Spiele","gew","unent","verl","Tore+","Tore-","Punkte+","Punkte-"]
[null,"Rumänien",{"$f":"COUNTIF($S$90:$T$105,\"UdSSR\")","v":1},{"$f":"SUMPRODUCT(($S$90:$T$105=B68)*($X$90:$Y$105=3))","v":0},{"$f":"SUMPRODUCT(($S$90:$T$105=B68)*($X$90:$Y$105=1))","v":0},{"$f":"SUMPRODUCT(($S$90:$T$105=B68)*($X$90:$Y$105=2))","v":0},{"$f":"SUMPRODUCT(($S$90:$S$105=B68)*($U$90:$U$105))+SUMPRODUCT(($T$90:$T$105=B68)*($V$90:$V$105))","v":0},{"$f":"SUMPRODUCT(($S$90:$S$105=B68)*($V$90:$V$105))+SUMPRODUCT(($T$90:$T$105=B68)*($U$90:$U$105))","v":0},{"$f":"(D68*2)+E68","v":0},{"$f":"(F68*2)+E68","v":0}]
[null,"England"]
[null,"CSSR"]
[null,"Brasilien"]
[]
[]
[null,null,null,null,null,"Gruppe 4"]
[]
[null,null,"1970-06-02","Peru","Bulgarien",3,2,null,"León",null,null,null,null,null,null,null,null,null,"Peru","Bulgarien",3,2,null,{"$f":"(IF(U76>V76,3,IF(U76=V76,1,2)))","v":3},{"$f":"(IF(V76>U76,3,IF(U76=V76,1,2)))","v":2}]
[null,null,null,null,null,null,null,null,null,null,null,null,null,null,null,null,null,null,"Marokko","BRD",1,2,null,2,3]
[null,null,"1970-06-03","Marokko","BRD",1,2,null,"León",null,null,null,null,null,null,null,null,null,"Peru","Marokko",3,0,null,3,2]
[null,null,null,null,null,null,null,null,null,null,null,null,null,null,null,null,null,null,"Bulgarien","BRD",2,5,null,2,3]
[null,null,"1970-06-06","Peru","Marokko",3,0,null,"León",null,null,null,null,null,null,null,null,null,"Peru","BRD",1,3,null,2,3]
[null,null,null,null,null,null,null,null,null,null,null,null,null,null,null,null,null,null,"Bulgarien","Marokko",1,1,null,1,1]
[null,null,"1970-06-07","Bulgarien","BRD",2,5,null,"León"]
[]
[null,null,"1970-06-10","Peru","BRD",1,3,null,"León"]
[]
[null,null,"1970-06-11","Bulgarien","Marokko",1,1,null,"León"]
[null,null,null,null,null,"(",")"]
[]
[null,null,"Spiele","gew","unent","verl","Tore+","Tore-","Punkte+","Punkte-"]
[null,"Peru",{"$f":"COUNTIF($S$90:$T$105,\"UdSSR\")","v":1},{"$f":"SUMPRODUCT(($S$90:$T$105=B90)*($X$90:$Y$105=3))","v":0},{"$f":"SUMPRODUCT(($S$90:$T$105=B90)*($X$90:$Y$105=1))","v":0},{"$f":"SUMPRODUCT(($S$90:$T$105=B90)*($X$90:$Y$105=2))","v":1},{"$f":"SUMPRODUCT(($S$90:$S$105=B90)*($U$90:$U$105))+SUMPRODUCT(($T$90:$T$105=B90)*($V$90:$V$105))","v":2},{"$f":"SUMPRODUCT(($S$90:$S$105=B90)*($V$90:$V$105))+SUMPRODUCT(($T$90:$T$105=B90)*($U$90:$U$105))","v":4},{"$f":"(D90*2)+E90","v":0},{"$f":"(F90*2)+E90","v":2}]
[null,"Bulgarien"]
[null,"Marokko"]
[null,"BRD"]
[]
[]
[null,null,null,null,null,"Viertelfinale:"]
[]
[null,null,"1970-06-14","UdSSR","Uruguay",0,1,"n.V.","Mexiko-City",null,null,null,null,null,null,null,null,null,"UdSSR","Uruguay",0,1,null,{"$f":"(IF(U98>V98,3,IF(U98=V98,1,2)))","v":2},{"$f":"(IF(V98>U98,3,IF(U98=V98,1,2)))","v":3}]
[null,null,null,null,null,null,null,null,null,null,null,null,null,null,null,null,null,null,"Italien","Mexiko",4,1,null,3,2]
[null,null,null,null,null,"(",")",null,null,null,null,null,null,null,null,null,null,null,"Brasilien","Peru",4,2,null,3,2]
[null,null,"1970-06-14","Italien","Mexiko",4,1,null,"Toluca",null,null,null,null,null,null,null,null,null,"BRD","England",3,2,null,3,2]
[]
[null,null,"1970-06-14","Brasilien","Peru",4,2,null,"Guadalajara"]
[]
[null,null,"1970-06-14","BRD","England",3,2,"n.V.","León"]
[]
[null,null,null,null,null,"(",")"]
[]
[]
[null,null,null,null,null,"Halbfinale:"]
[]
[null,null,"1970-06-17","Uruguay","Brasilien",1,3,null,"Guadalajara",null,null,null,null,null,null,null,null,null,"Uruguay","Brasilien",1,3,null,{"$f":"(IF(U112>V112,3,IF(U112=V112,1,2)))","v":2},{"$f":"(IF(V112>U112,3,IF(U112=V112,1,2)))","v":3}]
[null,null,null,null,null,null,null,null,null,null,null,null,null,null,null,null,null,null,"Italien","BRD",4,3,null,{"$f":"(IF(U113>V113,3,IF(U113=V113,1,2)))","v":3},{"$f":"(IF(V113>U113,3,IF(U113=V113,1,2)))","v":2}]
[null,null,"1970-06-17","Italien","BRD",4,3,"n.V.","Mexiko-City"]
[]
[null,null,null,null,null,"(",")"]
[]
[]
[null,null,"Spiel um Platz 3 am 20. Juni 1970 in Mexiko-City"]
[]
[null,null,null,"Uruguay","BRD",0,1,null,null,null,null,null,null,null,null,null,null,null,"Uruguay","BRD",0,1,null,{"$f":"(IF(U121>V121,3,IF(U121=V121,1,2)))","v":2},{"$f":"(IF(V121>U121,3,IF(U121=V121,1,2)))","v":3}]
[null,null,null,null,null,"(",")"]
[]
[]
[]
[]
[]
[null,null,"Endspiel am 21. Juni 1970 in Mexiko-City"]
[]
[null,null,null,"Brasilien","Italien",4,1,null,null,null,null,null,null,null,null,null,null,null,"Brasilien","Italien",4,1,null,{"$f":"(IF(U130>V130,3,IF(U130=V130,1,2)))","v":3},{"$f":"(IF(V130>U130,3,IF(U130=V130,1,2)))","v":2}]
[null,null,null,null,null,"(",")"]
[]
[]
[]
[]
[]
["Auswertung","Nation","Spiele","gew","unent","verl","Tore+","Tore-","Punkte+","Punkte-"]
[null,"Brasilien",{"$f":"COUNTIF($S$12:$T$130,\"Brasilien\")","v":6},{"$f":"SUMPRODUCT(($S$12:$T$130=B138)*($X$12:$Y$130=3))","v":6},{"$f":"SUMPRODUCT(($S$12:$T$130=B138)*($X$12:$Y$130=1))","v":0},{"$f":"SUMPRODUCT(($S$12:$T$130=B138)*($X$12:$Y$130=2))","v":0},{"$f":"SUMPRODUCT(($S$12:$S$130=B138)*($U$12:$U$130))+SUMPRODUCT(($T$12:$T$130=B138)*($V$12:$V$130))","v":19},{"$f":"SUMPRODUCT(($S$12:$S$130=B138)*($V$12:$V$130))+SUMPRODUCT(($T$12:$T$130=B138)*($U$12:$U$130))","v":7},{"$f":"(D138*2)+E138","v":12},{"$f":"(F138*2)+E138","v":0}]
[null,"BRD",{"$f":"COUNTIF($S$12:$T$130,\"BRD\")","v":6},5,0,1,17,10,10,2]
[null,"Italien",{"$f":"COUNTIF($S$12:$T$130,\"Italien\")","v":6},3,2,1,10,8,8,4]
[null,"UdSSR",{"$f":"COUNTIF($S$12:$T$130,\"UdSSR\")","v":4},2,1,1,6,2,5,3]
[null,"Mexiko",{"$f":"COUNTIF($S$12:$T$130,\"Mexiko\")","v":4},2,1,1,6,4,5,3]
[null,"Uruguay",{"$f":"COUNTIF($S$12:$T$130,\"Uruguay\")","v":6},2,1,3,4,5,5,7]
[null,"Peru",{"$f":"COUNTIF($S$12:$T$130,\"Peru\")","v":4},2,0,2,9,9,4,4]
[null,"England",{"$f":"COUNTIF($S$12:$T$130,\"England\")","v":4},2,0,2,4,4,4,4]
[null,"Schweden",{"$f":"COUNTIF($S$12:$T$130,\"Schweden\")","v":3},1,1,1,2,2,3,3]
[null,"Belgien",{"$f":"COUNTIF($S$12:$T$130,\"Belgien\")","v":3},1,0,2,4,5,2,4]
[null,"Rumänien",{"$f":"COUNTIF($S$12:$T$130,\"Rumänien\")","v":3},1,0,2,4,5,2,4]
[null,"Israel",{"$f":"COUNTIF($S$12:$T$130,\"Israel\")","v":3},0,2,1,1,3,2,4]
[null,"Bulgarien",{"$f":"COUNTIF($S$12:$T$130,\"Bulgarien\")","v":3},0,1,2,5,9,1,5]
[null,"Marokko",{"$f":"COUNTIF($S$12:$T$130,\"Marokko\")","v":3},0,1,2,2,6,1,5]
[null,"CSSR",{"$f":"COUNTIF($S$12:$T$130,\"CSSR\")","v":3},0,0,3,2,7,0,6]
[null,"El Salvador",{"$f":"COUNTIF($S$12:$T$130,\"El Salvador\")","v":3},0,0,3,0,9,0,6]

{"sheet":"1974","index":9,"n_rows":171,"n_cols":27,"rows_kept":171,"cut":false,"hidden":false,"merged":[[1,0,1,10],[3,0,3,10],[4,0,4,10],[136,2,136,8],[145,2,145,8]]}
[]
["10. WM 1974 in der BRD"]
[]
["13. Juni - 7. Juli 1974"]
["Teilnehmende Nationen: 16 --- Bewerbungen: 99"]
[]
[]
[]
[]
[null,null,null,null,null,"Gruppe 1"]
[]
[null,null,"1974-06-14","BRD","Chile",1,0,null,"Berlin",null,null,null,null,null,null,null,null,null,"BRD","Chile",1,0,null,{"$f":"(IF(U12>V12,3,IF(U12=V12,1,2)))","v":3},{"$f":"(IF(V12>U12,3,IF(U12=V12,1,2)))","v":2},null,"Polen"]
[null,null,null,null,null,null,null,null,null,null,null,null,null,null,null,null,null,null,"DDR","Australien",2,0,null,3,2,null,"BRD"]
[null,null,"1974-06-14","DDR","Australien",2,0,null,"Hamburg",null,null,null,null,null,null,null,null,null,"Australien","BRD",0,3,null,2,3,null,"Niederlande"]
[null,null,null,null,null,null,null,null,null,null,null,null,null,null,null,null,null,null,"Chile","DDR",1,1,null,1,1,null,"Brasilien"]
[null,null,"1974-06-18","Australien","BRD",0,3,null,"Hamburg",null,null,null,null,null,null,null,null,null,"Australien","Chile",0,0,null,1,1,null,"Schweden"]
[null,null,null,null,null,null,null,null,null,null,null,null,null,null,null,null,null,null,"DDR","BRD",1,0,null,3,2,null,"DDR"]
[null,null,"1974-06-18","Chile","DDR",1,1,null,"Berlin",null,null,null,null,null,null,null,null,null,null,null,null,null,null,null,null,null,"Schottland"]
[null,null,null,null,null,null,null,null,null,null,null,null,null,null,null,null,null,null,null,null,null,null,null,null,null,null,"Jugoslawien"]
[null,null,"1974-06-22","Australien","Chile",0,0,null,"Berlin",null,null,null,null,null,null,null,null,null,null,null,null,null,null,null,null,null,"Argentinien"]
[null,null,"1974-06-22","DDR","BRD",1,0,null,"Hamburg",null,null,null,null,null,null,null,null,null,null,null,null,null,null,null,null,null,"Italien"]
[null,null,null,null,null,"(",")",null,null,null,null,null,null,null,null,null,null,null,null,null,null,null,null,null,null,null,"Bulgarien"]
[null,null,null,null,null,null,null,null,null,null,null,null,null,null,null,null,null,null,null,null,null,null,null,null,null,null,"Chile"]
[null,null,"Spiele","gew","unent","verl","Tore+","Tore-","Punkte+","Punkte-",null,null,null,null,null,null,null,null,null,null,null,null,null,null,null,null,"Uruguay"]
[null,"BRD",null,null,null,null,null,null,null,null,null,null,null,null,null,null,null,null,null,null,null,null,null,null,null,null,"Australien"]
[null,"Chile",null,null,null,null,null,null,null,null,null,null,null,null,null,null,null,null,null,null,null,null,null,null,null,null,"Haiti"]
[null,"DDR",null,null,null,null,null,null,null,null,null,null,null,null,null,null,null,null,null,null,null,null,null,null,null,null,"Zaire"]
[null,"Australien"]
[]
[]
[null,null,null,null,null,"Gruppe 2"]
[]
[null,null,"1974-06-13","Brasilien","Jugoslawien",0,0,null,"Frankfurt",null,null,null,null,null,null,null,null,null,"Brasilien","Jugoslawien",0,0,null,{"$f":"(IF(U33>V33,3,IF(U33=V33,1,2)))","v":1},{"$f":"(IF(V33>U33,3,IF(U33=V33,1,2)))","v":1}]
[null,null,"1974-06-14","Zaire","Schottland",0,2,null,"Dortmund",null,null,null,null,null,null,null,null,null,"Zaire","Schottland",0,2,null,2,3]
[null,null,null,null,null,null,null,null,null,null,null,null,null,null,null,null,null,null,"Jugoslawien","Zaire",9,0,null,3,2]
[null,null,"1974-06-18","Jugoslawien","Zaire",9,0,null,"Gelsenkirchen",null,null,null,null,null,null,null,null,null,"Schottland","Brasilien",0,0,null,1,1]
[null,null,null,null,null,null,null,null,null,null,null,null,null,null,null,null,null,null,"Schottland","Jugoslawien",1,1,null,1,1]
[null,null,"1974-06-18","Schottland","Brasilien",0,0,null,"Frankfurt",null,null,null,null,null,null,null,null,null,"Zaire","Brasilien",0,3,null,2,3]
[null,null,"1974-06-22","Schottland","Jugoslawien",1,1,null,"Frankfurt"]
[]
[null,null,"1974-06-22","Zaire","Brasilien",0,3,null,"Gelsenkirchen"]
[null,null,null,null,null,"(",")"]
[]
[null,null,"Spiele","gew","unent","verl","Tore+","Tore-","Punkte+","Punkte-"]
[null,"Brasilien"]
[null,"Jugoslawien"]
[null,"Zaire"]
[null,"Schottland"]
[]
[]
[null,null,null,null,null,"Gruppe 3"]
[]
[null,null,"1974-06-15","Schweden","Bulgarien",0,0,null,"Düsseldorf",null,null,null,null,null,null,null,null,null,"Schweden","Bulgarien",0,0,null,{"$f":"(IF(U53>V53,3,IF(U53=V53,1,2)))","v":1},{"$f":"(IF(V53>U53,3,IF(U53=V53,1,2)))","v":1}]
[null,null,"1974-06-15","Niederlande","Uruguay",2,0,null,"Hannover",null,null,null,null,null,null,null,null,null,"Niederlande","Uruguay",2,0,null,3,2]
[null,null,null,null,null,null,null,null,null,null,null,null,null,null,null,null,null,null,"Niederlande","Schweden",0,0,null,1,1]
[null,null,"1974-06-19","Niederlande","Schweden",0,0,null,"Dortmund",null,null,null,null,null,null,null,null,null,"Bulgarien","Uruguay",1,1,null,1,1]
[null,null,"1974-06-19","Bulgarien","Uruguay",1,1,null,"Hannover",null,null,null,null,null,null,null,null,null,"Schweden","Uruguay",3,0,null,3,2]
[null,null,null,null,null,null,null,null,null,null,null,null,null,null,null,null,null,null,"Niederlande","Bulgarien",4,1,null,3,2]
[null,null,"1974-06-23","Schweden","Uruguay",3,0,null,"Düsseldorf"]
[]
[null,null,"1974-06-23","Niederlande","Bulgarien",4,1,null,"Dortmund"]
[null,null,null,null,null,"(",")"]
[]
[null,null,"Spiele","gew","unent","verl","Tore+","Tore-","Punkte+","Punkte-"]
[null,"Schweden"]
[null,"Bulgarien"]
[null,"Niederlande"]
[null,"Uruguay"]
[]
[]
[null,null,null,null,null,"Gruppe 4"]
[]
[null,null,"1974-06-15","Italien","Haiti",3,1,null,"München",null,null,null,null,null,null,null,null,null,"Italien","Haiti",3,1,null,{"$f":"(IF(U73>V73,3,IF(U73=V73,1,2)))","v":3},{"$f":"(IF(V73>U73,3,IF(U73=V73,1,2)))","v":2}]
[null,null,null,null,null,null,null,null,null,null,null,null,null,null,null,null,null,null,"Polen","Argentinien",3,2,null,3,2]
[null,null,"1974-06-15","Polen","Argentinien",3,2,null,"Stuttgart",null,null,null,null,null,null,null,null,null,"Polen","Haiti",7,0,null,3,2]
[null,null,null,null,null,null,null,null,null,null,null,null,null,null,null,null,null,null,"Argentinien","Italien",1,1,null,1,1]
[null,null,"1974-06-19","Polen","Haiti",7,0,null,"München",null,null,null,null,null,null,null,null,null,"Argentinien","Haiti",4,1,null,3,2]
[null,null,null,null,null,null,null,null,null,null,null,null,null,null,null,null,null,null,"Polen","Italien",2,1,null,3,2]
[null,null,"1974-06-19","Argentinien","Italien",1,1,null,"Stuttgart"]
[]
[null,null,"1974-06-23","Argentinien","Haiti",4,1,null,"München"]
[]
[null,null,"1974-06-23","Polen","Italien",2,1,null,"Stuttgart"]
[null,null,null,null,null,"(",")"]
[]
[null,null,"Spiele","gew","unent","verl","Tore+","Tore-","Punkte+","Punkte-"]
[null,"Italien"]
[null,"Haiti"]
[null,"Polen"]
[null,"Argentinien"]
[]
[]
[null,null,null,null,null,"Gruppe A:"]
[]
[null,null,"1974-06-26","Niederlande","Argentinien",4,0,null,"Gelsenkirchen",null,null,null,null,null,null,null,null,null,"Niederlande","Argentinien",4,0,null,{"$f":"(IF(U95>V95,3,IF(U95=V95,1,2)))","v":3},{"$f":"(IF(V95>U95,3,IF(U95=V95,1,2)))","v":2}]
[null,null,null,null,null,null,null,null,null,null,null,null,null,null,null,null,null,null,"Brasilien","DDR",1,0,null,3,2]
[null,null,"1974-06-26","Brasilien","DDR",1,0,null,"Hannover",null,null,null,null,null,null,null,null,null,"Niederlande","DDR",2,0,null,3,2]
[null,null,null,null,null,null,null,null,null,null,null,null,null,null,null,null,null,null,"Brasilien","Argentinien",2,1,null,3,2]
[null,null,"1974-06-30","Niederlande","DDR",2,0,null,"Gelsenkirchen",null,null,null,null,null,null,null,null,null,"Argentinien","DDR",1,1,null,1,1]
[null,null,null,null,null,null,null,null,null,null,null,null,null,null,null,null,null,null,"Niederlande","Brasilien",2,0,null,3,2]
[null,null,"1974-06-30","Brasilien","Argentinien",2,1,null,"Hannover"]
[]
[null,null,"1974-07-03","Argentinien","DDR",1,1,null,"Gelsenkirchen"]
[]
[null,null,"1974-07-03","Niederlande","Brasilien",2,0,null,"Dortmund"]
[null,null,null,null,null,"(",")"]
[]
[null,null,"Spiele","gew","unent","verl","Tore+","Tore-","Punkte+","Punkte-"]
[null,"Niederlande"]
[null,"Argentinien"]
[null,"Brasilien"]
[null,"DDR"]
[]
[]
[null,null,null,null,null,"Gruppe B:"]
[]
[null,null,"1974-06-26","BRD","Jugoslawien",2,0,null,"Düsseldorf",null,null,null,null,null,null,null,null,null,"BRD","Jugoslawien",2,0,null,{"$f":"(IF(U117>V117,3,IF(U117=V117,1,2)))","v":3},{"$f":"(IF(V117>U117,3,IF(U117=V117,1,2)))","v":2}]
[null,null,null,null,null,null,null,null,null,null,null,null,null,null,null,null,null,null,"Polen","Schweden",1,0,null,3,2]
[null,null,"1974-06-26","Polen","Schweden",1,0,null,"Stuttgart",null,null,null,null,null,null,null,null,null,"Polen","Jugoslawien",2,1,null,3,2]
[null,null,null,null,null,null,null,null,null,null,null,null,null,null,null,null,null,null,"BRD","Schweden",4,2,null,3,2]
[null,null,"1974-06-30","Polen","Jugoslawien",2,1,null,"Frankfurt",null,null,null,null,null,null,null,null,null,"BRD","Polen",1,0,null,{"$f":"(IF(U121>V121,3,IF(U121=V121,1,2)))","v":3},{"$f":"(IF(V121>U121,3,IF(U121=V121,1,2)))","v":2}]
[null,null,null,null,null,null,null,null,null,null,null,null,null,null,null,null,null,null,"Schweden","Jugoslawien",2,1,null,{"$f":"(IF(U122>V122,3,IF(U122=V122,1,2)))","v":3},{"$f":"(IF(V122>U122,3,IF(U122=V122,1,2)))","v":2}]
[null,null,"1974-06-30","BRD","Schweden",4,2,null,"Düsseldorf"]
[]
[null,null,"1974-07-03","BRD","Polen",1,0,null,"Frankfurt"]
[]
[null,null,"1974-07-03","Schweden","Jugoslawien",2,1,null,"Düsseldorf"]
[null,null,null,null,null,"(",")"]
[]
[null,null,"Spiele","gew","unent","verl","Tore+","Tore-","Punkte+","Punkte-"]
[null,"BRD"]
[null,"Jugoslawien"]
[null,"Polen"]
[null,"Schweden"]
[]
[]
[null,null,"Spiel um Platz 3 am 6. Juli 1974 in München"]
[]
[null,null,null,"Brasilien","Polen",0,1,null,null,null,null,null,null,null,null,null,null,null,"Brasilien","Polen",0,1,null,{"$f":"(IF(U139>V139,3,IF(U139=V139,1,2)))","v":2},{"$f":"(IF(V139>U139,3,IF(U139=V139,1,2)))","v":3}]
[null,null,null,null,null,"(0","0)"]
[]
[]
[]
[]
[]
[null,null,"Endspiel am 7. Juli 1974 in München"]
[]
[null,null,null,"Niederlande","BRD",1,2,null,null,null,null,null,null,null,null,null,null,null,"Niederlande","BRD",1,2,null,{"$f":"(IF(U148>V148,3,IF(U148=V148,1,2)))","v":2},{"$f":"(IF(V148>U148,3,IF(U148=V148,1,2)))","v":3}]
[null,null,null,null,null,"(1","2)"]
[]
[]
[]
[]
[]
["Auswertung","Nation","Spiele","gew","unent","verl","Tore+","Tore-","Punkte+","Punkte-"]
[null,"Polen",{"$f":"COUNTIF($S$12:$T$148,\"Polen\")","v":7},{"$f":"SUMPRODUCT(($S$12:$T$148=B156)*($X$12:$Y$148=3))","v":6},{"$f":"SUMPRODUCT(($S$12:$T$148=B156)*($X$12:$Y$148=1))","v":0},{"$f":"SUMPRODUCT(($S$12:$T$148=B156)*($X$12:$Y$148=2))","v":1},{"$f":"SUMPRODUCT(($S$12:$S$148=B156)*($U$12:$U$148))+SUMPRODUCT(($T$12:$T$148=B156)*($V$12:$V$148))","v":16},{"$f":"SUMPRODUCT(($S$12:$S$148=B156)*($V$12:$V$148))+SUMPRODUCT(($T$12:$T$148=B156)*($U$12:$U$148))","v":5},{"$f":"(D156*2)+E156","v":12},{"$f":"(F156*2)+E156","v":2}]
[null,"BRD",{"$f":"COUNTIF($S$12:$T$148,\"BRD\")","v":7},6,0,1,13,4,12,2]
[null,"Niederlande",{"$f":"COUNTIF($S$12:$T$148,\"Niederlande\")","v":7},5,1,1,15,3,11,3]
[null,"Brasilien",{"$f":"COUNTIF($S$12:$T$148,\"Brasilien\")","v":7},3,2,2,6,4,8,6]
[null,"Schweden",{"$f":"COUNTIF($S$12:$T$148,\"Schweden\")","v":6},2,2,2,7,6,6,6]
[null,"DDR",{"$f":"COUNTIF($S$12:$T$148,\"DDR\")","v":6},2,2,2,5,5,6,6]
[null,"Schottland",{"$f":"COUNTIF($S$12:$T$148,\"Schottland\")","v":3},1,2,0,3,1,4,2]
[null,"Jugoslawien",{"$f":"COUNTIF($S$12:$T$148,\"Jugoslawien\")","v":6},1,2,3,12,7,4,8]
[null,"Argentinien",{"$f":"COUNTIF($S$12:$T$148,\"Argentinien\")","v":6},1,2,3,9,12,4,8]
[null,"Italien",{"$f":"COUNTIF($S$12:$T$148,\"Italien\")","v":3},1,1,1,5,4,3,3]
[null,"Bulgarien",{"$f":"COUNTIF($S$12:$T$148,\"Bulgarien\")","v":3},0,2,1,2,5,2,4]
[null,"Chile",{"$f":"COUNTIF($S$12:$T$148,\"Chile\")","v":3},0,2,1,1,2,2,4]
[null,"Uruguay",{"$f":"COUNTIF($S$12:$T$148,\"Uruguay\")","v":3},0,1,2,1,6,1,5]
[null,"Australien",{"$f":"COUNTIF($S$12:$T$148,\"Australien\")","v":3},0,1,2,0,5,1,5]
[null,"Haiti",{"$f":"COUNTIF($S$12:$T$148,\"Haiti\")","v":3},0,0,3,2,14,0,6]
[null,"Zaire",{"$f":"COUNTIF($S$12:$T$148,\"Zaire\")","v":3},0,0,3,0,14,0,6]

{"sheet":"1978","index":10,"n_rows":171,"n_cols":27,"rows_kept":171,"cut":false,"hidden":false,"merged":[[1,0,1,10],[3,0,3,10],[4,0,4,10],[135,2,135,8],[144,2,144,8]]}
[null,null,null,null,null,null,null,null,null,null,null,null,null,null,null,null,null,null,1,2,3,4,5,6,7]
["11. WM 1978 in Argentinien"]
[]
["1. - 25. Juni 1978"]
["Teilnehmende Nationen: 16 --- Bewerbungen: 106"]
[]
[]
[]
[]
[null,null,null,null,null,"Gruppe 1"]
[]
[null,null,"1978-06-02","Frankreich","Italien",1,2,null,"Mar del Plata",null,null,null,null,null,null,null,null,null,"Frankreich","Italien",1,2,null,{"$f":"(IF(U12>V12,3,IF(U12=V12,1,2)))","v":2},{"$f":"(IF(V12>U12,3,IF(U12=V12,1,2)))","v":3},null,"Argentinien"]
[null,null,null,null,null,null,null,null,null,null,null,null,null,null,null,null,null,null,"Ungarn","Argentinien",1,2,null,2,3,null,"Brasilien"]
[null,null,"1978-06-02","Ungarn","Argentinien",1,2,null,"Buenos Aires",null,null,null,null,null,null,null,null,null,"Italien","Ungarn",3,1,null,3,2,null,"Italien"]
[null,null,null,null,null,null,null,null,null,null,null,null,null,null,null,null,null,null,"Argentinien","Frankreich",2,1,null,3,2,null,"Niederlande"]
[null,null,"1978-06-06","Italien","Ungarn",3,1,null,"Mar del Plata",null,null,null,null,null,null,null,null,null,"Frankreich","Ungarn",3,1,null,3,2,null,"Polen"]
[null,null,null,null,null,null,null,null,null,null,null,null,null,null,null,null,null,null,"Italien","Argentinien",1,0,null,3,2,null,"BRD"]
[null,null,"1978-06-06","Argentinien","Frankreich",2,1,null,"Buenos Aires",null,null,null,null,null,null,null,null,null,null,null,null,null,null,null,null,null,"Österreich"]
[null,null,null,null,null,null,null,null,null,null,null,null,null,null,null,null,null,null,null,null,null,null,null,null,null,null,"Peru"]
[null,null,"1978-06-10","Frankreich","Ungarn",3,1,null,"Mar del Plata",null,null,null,null,null,null,null,null,null,null,null,null,null,null,null,null,null,"Schottland"]
[null,null,null,null,null,null,null,null,null,null,null,null,null,null,null,null,null,null,null,null,null,null,null,null,null,null,"Tunesien"]
[null,null,"1978-06-10","Italien","Argentinien",1,0,null,"Buenos Aires",null,null,null,null,null,null,null,null,null,null,null,null,null,null,null,null,null,"Spanien"]
[null,null,null,null,null,"(",")",null,null,null,null,null,null,null,null,null,null,null,null,null,null,null,null,null,null,null,"Frankreich"]
[null,null,null,null,null,null,null,null,null,null,null,null,null,null,null,null,null,null,null,null,null,null,null,null,null,null,"Iran"]
[null,null,"Spiele","gew","unent","verl","Tore+","Tore-","Punkte+","Punkte-",null,null,null,null,null,null,null,null,null,null,null,null,null,null,null,null,"Schweden"]
[null,"Frankreich",null,null,null,null,null,null,null,null,null,null,null,null,null,null,null,null,null,null,null,null,null,null,null,null,"Ungarn"]
[null,"Italien",null,null,null,null,null,null,null,null,null,null,null,null,null,null,null,null,null,null,null,null,null,null,null,null,"Mexiko"]
[null,"Ungarn"]
[null,"Argentinien"]
[]
[]
[null,null,null,null,null,"Gruppe 2"]
[]
[null,null,"1978-06-01","BRD","Polen",0,0,null,"Buenos Aires",null,null,null,null,null,null,null,null,null,"BRD","Polen",0,0,null,{"$f":"(IF(U34>V34,3,IF(U34=V34,1,2)))","v":1},{"$f":"(IF(V34>U34,3,IF(U34=V34,1,2)))","v":1}]
[null,null,"1978-06-02","Tunesien","Mexiko",3,1,null,"Rosario",null,null,null,null,null,null,null,null,null,"Tunesien","Mexiko",3,1,null,3,2]
[null,null,null,null,null,null,null,null,null,null,null,null,null,null,null,null,null,null,"Mexiko","BRD",0,6,null,2,3]
[null,null,"1978-06-06","Mexiko","BRD",0,6,null,"Córdoba",null,null,null,null,null,null,null,null,null,"Polen","Tunesien",1,0,null,3,2]
[null,null,null,null,null,null,null,null,null,null,null,null,null,null,null,null,null,null,"Tunesien","BRD",0,0,null,1,1]
[null,null,"1978-06-06","Polen","Tunesien",1,0,null,"Rosario",null,null,null,null,null,null,null,null,null,"Mexiko","Polen",1,3,null,2,3]
[]
[null,null,"1978-06-10","Tunesien","BRD",0,0,null,"Córdoba"]
[null,null,"1978-06-10","Mexiko","Polen",1,3,null,"Rosario"]
[null,null,null,null,null,"(",")"]
[]
[null,null,"Spiele","gew","unent","verl","Tore+","Tore-","Punkte+","Punkte-"]
[null,"BRD"]
[null,"Polen"]
[null,"Tunesien"]
[null,"Mexiko"]
[]
[]
[null,null,null,null,null,"Gruppe 3"]
[]
[null,null,"1978-06-03","Spanien","Österreich",1,2,null,"Buenos Aires (Vélez)",null,null,null,null,null,null,null,null,null,"Spanien","Österreich",1,2,null,{"$f":"(IF(U54>V54,3,IF(U54=V54,1,2)))","v":2},{"$f":"(IF(V54>U54,3,IF(U54=V54,1,2)))","v":3}]
[null,null,null,null,null,null,null,null,null,null,null,null,null,null,null,null,null,null,"Schweden","Brasilien",1,1,null,1,1]
[null,null,"1978-06-03","Schweden","Brasilien",1,1,null,"Mar del Plata",null,null,null,null,null,null,null,null,null,"Österreich","Schweden",1,0,null,3,2]
[null,null,null,null,null,null,null,null,null,null,null,null,null,null,null,null,null,null,"Brasilien","Spanien",0,0,null,1,1]
[null,null,"1978-06-07","Österreich","Schweden",1,0,null,"Buenos Aires (Vélez)",null,null,null,null,null,null,null,null,null,"Schweden","Spanien",0,1,null,2,3]
[null,null,null,null,null,null,null,null,null,null,null,null,null,null,null,null,null,null,"Brasilien","Österreich",1,0,null,3,2]
[null,null,"1978-06-07","Brasilien","Spanien",0,0,null,"Mar del Plata"]
[null,null,"1978-06-11","Schweden","Spanien",0,1,null,"Buenos Aires (Vélez)"]
[]
[null,null,"1978-06-11","Brasilien","Österreich",1,0,null,"Mar del Plata"]
[null,null,null,null,null,"(",")"]
[]
[null,null,"Spiele","gew","unent","verl","Tore+","Tore-","Punkte+","Punkte-"]
[null,"Spanien"]
[null,"Österreich"]
[null,"Schweden"]
[null,"Brasilien"]
[]
[]
[null,null,null,null,null,"Gruppe 4"]
[]
[null,null,"1978-06-03","Peru","Schottland",3,1,null,"Córdoba",null,null,null,null,null,null,null,null,null,"Peru","Schottland",3,1,null,{"$f":"(IF(U75>V75,3,IF(U75=V75,1,2)))","v":3},{"$f":"(IF(V75>U75,3,IF(U75=V75,1,2)))","v":2}]
[null,null,null,null,null,null,null,null,null,null,null,null,null,null,null,null,null,null,"Iran","Niederlande",0,3,null,{"$f":"(IF(U76>V76,3,IF(U76=V76,1,2)))","v":2},{"$f":"(IF(V76>U76,3,IF(U76=V76,1,2)))","v":3}]
[null,null,"1978-06-03","Iran","Niederlande",0,3,null,"Mendoza",null,null,null,null,null,null,null,null,null,"Schottland","Iran",1,1,null,1,1]
[null,null,null,null,null,null,null,null,null,null,null,null,null,null,null,null,null,null,"Niederlande","Peru",0,0,null,1,1]
[null,null," 7.Juni 1978","Schottland","Iran",1,1,null,"Córdoba",null,null,null,null,null,null,null,null,null,"Peru","Iran",4,1,null,3,2]
[null,null,null,null,null,null,null,null,null,null,null,null,null,null,null,null,null,null,"Schottland","Niederlande",3,2,null,3,2]
[null,null,"1978-06-07","Niederlande","Peru",0,0,null,"Mendoza"]
[null,null,"1978-06-11","Peru","Iran",4,1,null,"Córdoba"]
[]
[null,null,"1978-06-11","Schottland","Niederlande",3,2,null,"Mendoza"]
[null,null,null,null,null,"(",")"]
[]
[null,null,"Spiele","gew","unent","verl","Tore+","Tore-","Punkte+","Punkte-"]
[null,"Peru"]
[null,"Schottland"]
[null,"Iran"]
[null,"Niederlande"]
[]
[]
[null,null,null,null,null,"Gruppe A:"]
[]
[null,null,"1978-06-14","Österreich","Niederlande",1,5,null,"Córdoba",null,null,null,null,null,null,null,null,null,"Österreich","Niederlande",1,5,null,{"$f":"(IF(U96>V96,3,IF(U96=V96,1,2)))","v":2},{"$f":"(IF(V96>U96,3,IF(U96=V96,1,2)))","v":3}]
[null,null,null,null,null,null,null,null,null,null,null,null,null,null,null,null,null,null,"BRD","Italien",0,0,null,1,1]
[null,null,"1978-06-14","BRD","Italien",0,0,null,"Buenos Aires",null,null,null,null,null,null,null,null,null,"Niederlande","BRD",2,2,null,1,1]
[null,null,"1978-06-18","Niederlande","BRD",2,2,null,"Córdoba",null,null,null,null,null,null,null,null,null,"Italien","Österreich",1,0,null,3,2]
[null,null,null,null,null,null,null,null,null,null,null,null,null,null,null,null,null,null,"Österreich","BRD",3,2,null,3,2]
[null,null,"1978-06-18","Italien","Österreich",1,0,null,"Buenos Aires",null,null,null,null,null,null,null,null,null,"Niederlande","Italien",2,1,null,3,2]
[]
[null,null,"1978-06-21","Österreich","BRD",3,2,null,"Córdoba"]
[]
[null,null,"1978-06-21","Niederlande","Italien",2,1,null,"Buenos Aires"]
[null,null,null,null,null,"(",")"]
[]
[null,null,"Spiele","gew","unent","verl","Tore+","Tore-","Punkte+","Punkte-"]
[null,"Österreich"]
[null,"Niederlande"]
[null,"BRD"]
[null,"Italien"]
[]
[]
[null,null,null,null,null,"Gruppe B:"]
[]
[null,null,"1978-06-14","Brasilien","Peru",3,0,null,"Mendoza",null,null,null,null,null,null,null,null,null,"Brasilien","Peru",3,0,null,{"$f":"(IF(U117>V117,3,IF(U117=V117,1,2)))","v":3},{"$f":"(IF(V117>U117,3,IF(U117=V117,1,2)))","v":2}]
[null,null,null,null,null,null,null,null,null,null,null,null,null,null,null,null,null,null,"Polen","Argentinien",0,2,null,2,3]
[null,null,"1978-06-14","Polen","Argentinien",0,2,null,"Rosario",null,null,null,null,null,null,null,null,null,"Peru","Polen",0,1,null,2,3]
[null,null,null,null,null,null,null,null,null,null,null,null,null,null,null,null,null,null,"Argentinien","Brasilien",0,0,null,1,1]
[null,null,"1978-06-18","Peru","Polen",0,1,null,"Mendoza",null,null,null,null,null,null,null,null,null,"Brasilien","Polen",3,1,null,3,2]
[null,null,null,null,null,null,null,null,null,null,null,null,null,null,null,null,null,null,"Peru","Argentinien",0,6,null,2,3]
[null,null,"1978-06-18","Argentinien","Brasilien",0,0,null,"Rosario"]
[null,null,"1978-06-21","Brasilien","Polen",3,1,null,"Mendoza"]
[]
[null,null,"1978-06-21","Peru","Argentinien",0,6,null,"Rosario"]
[null,null,null,null,null,"(",")"]
[]
[null,null,"Spiele","gew","unent","verl","Tore+","Tore-","Punkte+","Punkte-"]
[null,"Brasilien"]
[null,"Peru"]
[null,"Polen"]
[null,"Argentinien"]
[]
[]
[null,null,"Spiel um Platz 3 am 24. Juni 1978 in Buenos Aires"]
[]
[null,null,null,"Italien","Brasilien",1,2,null,null,null,null,null,null,null,null,null,null,null,"Italien","Brasilien",1,2,null,{"$f":"(IF(U138>V138,3,IF(U138=V138,1,2)))","v":2},{"$f":"(IF(V138>U138,3,IF(U138=V138,1,2)))","v":3}]
[null,null,null,null,null,"(1","0)"]
[]
[]
[]
[]
[]
[null,null,"Endspiel am 25. Juni 1978 in Buenos Aires"]
[]
[null,null,null,"Argentinien","Niederlande",3,1,"n.V.",null,null,null,null,null,null,null,null,null,null,"Argentinien","Niederlande",3,1,null,{"$f":"(IF(U147>V147,3,IF(U147=V147,1,2)))","v":3},{"$f":"(IF(V147>U147,3,IF(U147=V147,1,2)))","v":2}]
[null,null,null,null,null,"(1","1)"]
[null,null,null,null,null,"(1","0)"]
[]
[]
[]
[]
[]
["Auswertung","Nation","Spiele","gew","unent","verl","Tore+","Tore-","Punkte+","Punkte-"]
[null,"Argentinien",{"$f":"COUNTIF($S$12:$T$147,\"Argentinien\")","v":7},{"$f":"SUMPRODUCT(($S$12:$T$147=B156)*($X$12:$Y$147=3))","v":5},{"$f":"SUMPRODUCT(($S$12:$T$147=B156)*($X$12:$Y$147=1))","v":1},{"$f":"SUMPRODUCT(($S$12:$T$147=B156)*($X$12:$Y$147=2))","v":1},{"$f":"SUMPRODUCT(($S$12:$S$147=B156)*($U$12:$U$147))+SUMPRODUCT(($T$12:$T$147=B156)*($V$12:$V$147))","v":15},{"$f":"SUMPRODUCT(($S$12:$S$147=B156)*($V$12:$V$147))+SUMPRODUCT(($T$12:$T$147=B156)*($U$12:$U$147))","v":4},{"$f":"(D156*2)+E156","v":11},{"$f":"(F156*2)+E156","v":3}]
[null,"Brasilien",{"$f":"COUNTIF($S$12:$T$147,\"Brasilien\")","v":7},4,3,0,10,3,11,3]
[null,"Italien",{"$f":"COUNTIF($S$12:$T$147,\"Italien\")","v":7},4,1,2,9,6,9,5]
[null,"Niederlande",{"$f":"COUNTIF($S$12:$T$147,\"Niederlande\")","v":7},3,2,2,15,10,8,6]
[null,"Polen",{"$f":"COUNTIF($S$12:$T$147,\"Polen\")","v":6},3,1,2,6,6,7,5]
[null,"BRD",{"$f":"COUNTIF($S$12:$T$147,\"BRD\")","v":6},1,4,1,10,5,6,6]
[null,"Österreich",{"$f":"COUNTIF($S$12:$T$147,\"Österreich\")","v":6},3,0,3,7,10,6,6]
[null,"Peru",{"$f":"COUNTIF($S$12:$T$147,\"Peru\")","v":6},2,1,3,7,12,5,7]
[null,"Schottland",{"$f":"COUNTIF($S$12:$T$147,\"Schottland\")","v":3},1,1,1,5,6,3,3]
[null,"Tunesien",{"$f":"COUNTIF($S$12:$T$147,\"Tunesien\")","v":3},1,1,1,3,2,3,3]
[null,"Spanien",{"$f":"COUNTIF($S$12:$T$147,\"Spanien\")","v":3},1,1,1,2,2,3,3]
[null,"Frankreich",{"$f":"COUNTIF($S$12:$T$147,\"Frankreich\")","v":3},1,0,2,5,5,2,4]
[null,"Iran",{"$f":"COUNTIF($S$12:$T$147,\"Iran\")","v":3},0,1,2,2,8,1,5]
[null,"Schweden",{"$f":"COUNTIF($S$12:$T$147,\"Schweden\")","v":3},0,1,2,1,3,1,5]
[null,"Ungarn",{"$f":"COUNTIF($S$12:$T$147,\"Ungarn\")","v":3},0,0,3,3,8,0,6]
[null,"Mexiko",{"$f":"COUNTIF($S$12:$T$147,\"Mexiko\")","v":3},0,0,3,2,12,0,6]

{"sheet":"1982","index":11,"n_rows":247,"n_cols":27,"rows_kept":247,"cut":false,"hidden":false,"merged":[[1,0,1,10],[3,0,3,10],[4,0,4,10],[206,2,206,8],[214,2,214,8]]}
[null,null,null,null,null,null,null,null,null,null,null,null,null,null,null,null,null,null,1,2,3,4,5,6,7]
["12. WM 1982 in Spanien"]
[]
["13. Juni-11. Juli 1982"]
["Teilnehmende Nationen: 24 --- Bewerbungen: 107"]
[]
[]
[]
[]
[null,null,null,null,null,"Gruppe 1"]
[]
[null,null,"1982-06-14","Italien","Polen",0,0,null,"Vigo",null,null,null,null,null,null,null,null,null,"Italien","Polen",0,0,null,{"$f":"(IF(U12>V12,3,IF(U12=V12,1,2)))","v":1},{"$f":"(IF(V12>U12,3,IF(U12=V12,1,2)))","v":1},null,"Italien"]
[null,null,"1982-06-15","Peru","Kamerun",0,0,null,"La Coruña",null,null,null,null,null,null,null,null,null,"Peru","Kamerun",0,0,null,1,1,null,"BRD"]
[null,null,"1982-06-18","Italien","Peru",1,1,null,"Vigo",null,null,null,null,null,null,null,null,null,"Italien","Peru",1,1,null,1,1,null,"Polen"]
[null,null,null,null,null,"(1","0)",null,null,null,null,null,null,null,null,null,null,null,"Polen","Kamerun",0,0,null,1,1,null,"Brasilien"]
[null,null,"1982-06-19","Polen","Kamerun",0,0,null,"La Coruña",null,null,null,null,null,null,null,null,null,"Polen","Peru",5,1,null,{"$f":"(IF(U16>V16,3,IF(U16=V16,1,2)))","v":3},{"$f":"(IF(V16>U16,3,IF(U16=V16,1,2)))","v":2},null,"England"]
[null,null,"1982-06-22","Polen","Peru",5,1,null,"La Coruña",null,null,null,null,null,null,null,null,null,"Italien","Kamerun",1,1,null,1,1,null,"Frankreich"]
[null,null,null,null,null,"(0","0)",null,null,null,null,null,null,null,null,null,null,null,null,null,null,null,null,null,null,null,"UdSSR"]
[null,null,"1982-06-23","Italien","Kamerun",1,1,null,"Vigo",null,null,null,null,null,null,null,null,null,null,null,null,null,null,null,null,null,"Österreich"]
[null,null,null,null,null,"(0","0)",null,null,null,null,null,null,null,null,null,null,null,null,null,null,null,null,null,null,null,"Nordirland"]
[null,null,null,null,null,null,null,null,null,null,null,null,null,null,null,null,null,null,null,null,null,null,null,null,null,null,"Belgien"]
[null,null,"Spiele","gew","unent","verl","Tore+","Tore-","Punkte+","Punkte-",null,null,null,null,null,null,null,null,null,null,null,null,null,null,null,null,"Algerien"]
[null,"Polen",{"$f":"COUNTIF($S$12:$T$17,\"Polen\")","v":3},{"$f":"SUMPRODUCT(($S$12:$T$17=B23)*($X$12:$Y$17=3))","v":1},{"$f":"SUMPRODUCT(($S$12:$T$17=B23)*($X$12:$Y$17=1))","v":2},{"$f":"SUMPRODUCT(($S$12:$T$17=B23)*($X$12:$Y$17=2))","v":0},{"$f":"SUMPRODUCT(($S$12:$S$17=B23)*($U$12:$U$17))+SUMPRODUCT(($T$12:$T$17=B23)*($V$12:$V$17))","v":5},{"$f":"SUMPRODUCT(($S$12:$S$17=B23)*($V$12:$V$17))+SUMPRODUCT(($T$12:$T$17=B23)*($U$12:$U$17))","v":1},{"$f":"(D23*2)+E23","v":4},{"$f":"(F23*2)+E23","v":2},null,null,null,null,null,null,null,null,null,null,null,null,null,null,null,null,"Argentinien"]
[null,"Italien",{"$f":"COUNTIF($S$12:$T$17,\"Italien\")","v":3},{"$f":"SUMPRODUCT(($S$12:$T$17=B24)*($X$12:$Y$17=3))","v":0},{"$f":"SUMPRODUCT(($S$12:$T$17=B24)*($X$12:$Y$17=1))","v":3},{"$f":"SUMPRODUCT(($S$12:$T$17=B24)*($X$12:$Y$17=2))","v":0},{"$f":"SUMPRODUCT(($S$12:$S$17=B24)*($U$12:$U$17))+SUMPRODUCT(($T$12:$T$17=B24)*($V$12:$V$17))","v":2},{"$f":"SUMPRODUCT(($S$12:$S$17=B24)*($V$12:$V$17))+SUMPRODUCT(($T$12:$T$17=B24)*($U$12:$U$17))","v":2},{"$f":"(D24*2)+E24","v":3},{"$f":"(F24*2)+E24","v":3},null,null,null,null,null,null,null,null,null,null,null,null,null,null,null,null,"Spanien"]
[null,"Kamerun",{"$f":"COUNTIF($S$12:$T$17,\"Kamerun\")","v":3},{"$f":"SUMPRODUCT(($S$12:$T$17=B25)*($X$12:$Y$17=3))","v":0},{"$f":"SUMPRODUCT(($S$12:$T$17=B25)*($X$12:$Y$17=1))","v":3},{"$f":"SUMPRODUCT(($S$12:$T$17=B25)*($X$12:$Y$17=2))","v":0},{"$f":"SUMPRODUCT(($S$12:$S$17=B25)*($U$12:$U$17))+SUMPRODUCT(($T$12:$T$17=B25)*($V$12:$V$17))","v":1},{"$f":"SUMPRODUCT(($S$12:$S$17=B25)*($V$12:$V$17))+SUMPRODUCT(($T$12:$T$17=B25)*($U$12:$U$17))","v":1},{"$f":"(D25*2)+E25","v":3},{"$f":"(F25*2)+E25","v":3},null,null,null,null,null,null,null,null,null,null,null,null,null,null,null,null,"Ungarn"]
[null,"Peru",{"$f":"COUNTIF($S$12:$T$17,\"Peru\")","v":3},{"$f":"SUMPRODUCT(($S$12:$T$17=B26)*($X$12:$Y$17=3))","v":0},{"$f":"SUMPRODUCT(($S$12:$T$17=B26)*($X$12:$Y$17=1))","v":2},{"$f":"SUMPRODUCT(($S$12:$T$17=B26)*($X$12:$Y$17=2))","v":1},{"$f":"SUMPRODUCT(($S$12:$S$17=B26)*($U$12:$U$17))+SUMPRODUCT(($T$12:$T$17=B26)*($V$12:$V$17))","v":2},{"$f":"SUMPRODUCT(($S$12:$S$17=B26)*($V$12:$V$17))+SUMPRODUCT(($T$12:$T$17=B26)*($U$12:$U$17))","v":6},{"$f":"(D26*2)+E26","v":2},{"$f":"(F26*2)+E26","v":4},null,null,null,null,null,null,null,null,null,null,null,null,null,null,null,null,"Schottland"]
[null,null,null,null,null,null,null,null,null,null,null,null,null,null,null,null,null,null,null,null,null,null,null,null,null,null,"Jugoslawien"]
[null,null,null,null,null,null,null,null,null,null,null,null,null,null,null,null,null,null,null,null,null,null,null,null,null,null,"Kamerun"]
[null,null,null,null,null,"Gruppe 2",null,null,null,null,null,null,null,null,null,null,null,null,null,null,null,null,null,null,null,null,"Honduras"]
[null,null,null,null,null,null,null,null,null,null,null,null,null,null,null,null,null,null,null,null,null,null,null,null,null,null,"CSSR"]
[null,null,"1982-06-16","BRD","Algerien",1,2,null,"Gijón",null,null,null,null,null,null,null,null,null,"BRD","Algerien",1,2,null,{"$f":"(IF(U31>V31,3,IF(U31=V31,1,2)))","v":2},{"$f":"(IF(V31>U31,3,IF(U31=V31,1,2)))","v":3},null,"Peru"]
[null,null,null,null,null,"(0","0)",null,null,null,null,null,null,null,null,null,null,null,"Chile","Österreich",0,1,null,2,3,null,"Kuwait"]
[null,null,"1982-06-17","Chile","Österreich",0,1,null,"Oviedo",null,null,null,null,null,null,null,null,null,"BRD","Chile",4,1,null,3,2,null,"Chile"]
[null,null,null,null,null,"(0","1)",null,null,null,null,null,null,null,null,null,null,null,"Algerien","Österreich",0,2,null,2,3,null,"Neuseeland"]
[null,null,"1982-06-20","BRD","Chile",4,1,null,"Gijón",null,null,null,null,null,null,null,null,null,"Algerien","Chile",3,2,null,3,2,null,"El Salvador"]
[null,null,null,null,null,"(1","0)",null,null,null,null,null,null,null,null,null,null,null,"BRD","Österreich",1,0,null,3,2]
[null,null,"1982-06-21","Algerien","Österreich",0,2,null,"Oviedo"]
[null,null,null,null,null,"(0","0)"]
[null,null,"1982-06-24","Algerien","Chile",3,2,null,"Oviedo"]
[null,null,null,null,null,"(3","0)"]
[null,null,"1982-06-25","BRD","Österreich",1,0,null,"Gijón"]
[null,null,null,null,null,"(1","0)"]
[]
[null,null,"Spiele","gew","unent","verl","Tore+","Tore-","Punkte+","Punkte-"]
[null,"BRD",{"$f":"COUNTIF($S$31:$T$36,\"BRD\")","v":3},{"$f":"SUMPRODUCT(($S$31:$T$36=B45)*($X$31:$Y$36=3))","v":2},{"$f":"SUMPRODUCT(($S$31:$T$36=B45)*($X$31:$Y$36=1))","v":0},{"$f":"SUMPRODUCT(($S$31:$T$36=B45)*($X$31:$Y$36=2))","v":1},{"$f":"SUMPRODUCT(($S$31:$S$36=B45)*($U$31:$U$36))+SUMPRODUCT(($T$31:$T$36=B45)*($V$31:$V$36))","v":6},{"$f":"SUMPRODUCT(($S$31:$S$36=B45)*($V$31:$V$36))+SUMPRODUCT(($T$31:$T$36=B45)*($U$31:$U$36))","v":3},{"$f":"(D45*2)+E45","v":4},{"$f":"(F45*2)+E45","v":2}]
[null,"Algerien",{"$f":"COUNTIF($S$31:$T$36,\"Algerien\")","v":3},{"$f":"SUMPRODUCT(($S$31:$T$36=B46)*($X$31:$Y$36=3))","v":2},{"$f":"SUMPRODUCT(($S$31:$T$36=B46)*($X$31:$Y$36=1))","v":0},{"$f":"SUMPRODUCT(($S$31:$T$36=B46)*($X$31:$Y$36=2))","v":1},{"$f":"SUMPRODUCT(($S$31:$S$36=B46)*($U$31:$U$36))+SUMPRODUCT(($T$31:$T$36=B46)*($V$31:$V$36))","v":5},{"$f":"SUMPRODUCT(($S$31:$S$36=B46)*($V$31:$V$36))+SUMPRODUCT(($T$31:$T$36=B46)*($U$31:$U$36))","v":5},{"$f":"(D46*2)+E46","v":4},{"$f":"(F46*2)+E46","v":2}]
[null,"Österreich",{"$f":"COUNTIF($S$31:$T$36,\"Österreich\")","v":3},{"$f":"SUMPRODUCT(($S$31:$T$36=B47)*($X$31:$Y$36=3))","v":2},{"$f":"SUMPRODUCT(($S$31:$T$36=B47)*($X$31:$Y$36=1))","v":0},{"$f":"SUMPRODUCT(($S$31:$T$36=B47)*($X$31:$Y$36=2))","v":1},{"$f":"SUMPRODUCT(($S$31:$S$36=B47)*($U$31:$U$36))+SUMPRODUCT(($T$31:$T$36=B47)*($V$31:$V$36))","v":3},{"$f":"SUMPRODUCT(($S$31:$S$36=B47)*($V$31:$V$36))+SUMPRODUCT(($T$31:$T$36=B47)*($U$31:$U$36))","v":1},{"$f":"(D47*2)+E47","v":4},{"$f":"(F47*2)+E47","v":2}]
[null,"Chile",{"$f":"COUNTIF($S$31:$T$36,\"Chile\")","v":3},{"$f":"SUMPRODUCT(($S$31:$T$36=B48)*($X$31:$Y$36=3))","v":0},{"$f":"SUMPRODUCT(($S$31:$T$36=B48)*($X$31:$Y$36=1))","v":0},{"$f":"SUMPRODUCT(($S$31:$T$36=B48)*($X$31:$Y$36=2))","v":3},{"$f":"SUMPRODUCT(($S$31:$S$36=B48)*($U$31:$U$36))+SUMPRODUCT(($T$31:$T$36=B48)*($V$31:$V$36))","v":3},{"$f":"SUMPRODUCT(($S$31:$S$36=B48)*($V$31:$V$36))+SUMPRODUCT(($T$31:$T$36=B48)*($U$31:$U$36))","v":8},{"$f":"(D48*2)+E48","v":0},{"$f":"(F48*2)+E48","v":6}]
[]
[]
[null,null,null,null,null,"Gruppe 3"]
[]
[null,null,"1982-06-13","Argentinien","Belgien",0,1,null,"Barcelona (Camp Nou)",null,null,null,null,null,null,null,null,null,"Argentinien","Belgien",0,1,null,{"$f":"(IF(U53>V53,3,IF(U53=V53,1,2)))","v":2},{"$f":"(IF(V53>U53,3,IF(U53=V53,1,2)))","v":3}]
[null,null,null,null,null,"(0","0)",null,null,null,null,null,null,null,null,null,null,null,"Ungarn","El Salvador",10,1,null,{"$f":"(IF(U54>V54,3,IF(U54=V54,1,2)))","v":3},{"$f":"(IF(V54>U54,3,IF(U54=V54,1,2)))","v":2}]
[null,null,"1982-06-15","Ungarn","El Salvador",10,1,null,"Elche",null,null,null,null,null,null,null,null,null,"Argentinien","Ungarn",4,1,null,3,2]
[null,null,null,null,null,"(3","0)",null,null,null,null,null,null,null,null,null,null,null,"Belgien","El Salvador",1,0,null,3,2]
[null,null,"1982-06-18","Argentinien","Ungarn",4,1,null,"Alicante",null,null,null,null,null,null,null,null,null,"Belgien","Ungarn",1,1,null,1,1]
[null,null,null,null,null,"(2","0)",null,null,null,null,null,null,null,null,null,null,null,"Argentinien","El Salvador",2,0,null,3,2]
[null,null,"1982-06-19","Belgien","El Salvador",1,0,null,"Elche"]
[null,null,null,null,null,"(1","0)"]
[null,null,"1982-06-22","Belgien","Ungarn",1,1,null,"Elche"]
[null,null,null,null,null,"(0","1)"]
[null,null,"1982-06-23","Argentinien","El Salvador",2,0,null,"Alicante"]
[null,null,null,null,null,"(1","0)"]
[]
[null,null,"Spiele","gew","unent","verl","Tore+","Tore-","Punkte+","Punkte-"]
[null,"Belgien",{"$f":"COUNTIF($S$53:$T$58,\"Belgien\")","v":3},{"$f":"SUMPRODUCT(($S$53:$T$58=B67)*($X$53:$Y$58=3))","v":2},{"$f":"SUMPRODUCT(($S$53:$T$58=B67)*($X$53:$Y$58=1))","v":1},{"$f":"SUMPRODUCT(($S$53:$T$58=B67)*($X$53:$Y$58=2))","v":0},{"$f":"SUMPRODUCT(($S$53:$S$58=B67)*($U$53:$U$58))+SUMPRODUCT(($T$53:$T$58=B67)*($V$53:$V$58))","v":3},{"$f":"SUMPRODUCT(($S$53:$S$58=B67)*($V$53:$V$58))+SUMPRODUCT(($T$53:$T$58=B67)*($U$53:$U$58))","v":1},{"$f":"(D67*2)+E67","v":5},{"$f":"(F67*2)+E67","v":1}]
[null,"Argentinien",{"$f":"COUNTIF($S$53:$T$58,\"Argentinien\")","v":3},{"$f":"SUMPRODUCT(($S$53:$T$58=B68)*($X$53:$Y$58=3))","v":2},{"$f":"SUMPRODUCT(($S$53:$T$58=B68)*($X$53:$Y$58=1))","v":0},{"$f":"SUMPRODUCT(($S$53:$T$58=B68)*($X$53:$Y$58=2))","v":1},{"$f":"SUMPRODUCT(($S$53:$S$58=B68)*($U$53:$U$58))+SUMPRODUCT(($T$53:$T$58=B68)*($V$53:$V$58))","v":6},{"$f":"SUMPRODUCT(($S$53:$S$58=B68)*($V$53:$V$58))+SUMPRODUCT(($T$53:$T$58=B68)*($U$53:$U$58))","v":2},{"$f":"(D68*2)+E68","v":4},{"$f":"(F68*2)+E68","v":2}]
[null,"Ungarn",{"$f":"COUNTIF($S$53:$T$58,\"Ungarn\")","v":3},{"$f":"SUMPRODUCT(($S$53:$T$58=B69)*($X$53:$Y$58=3))","v":1},{"$f":"SUMPRODUCT(($S$53:$T$58=B69)*($X$53:$Y$58=1))","v":1},{"$f":"SUMPRODUCT(($S$53:$T$58=B69)*($X$53:$Y$58=2))","v":1},{"$f":"SUMPRODUCT(($S$53:$S$58=B69)*($U$53:$U$58))+SUMPRODUCT(($T$53:$T$58=B69)*($V$53:$V$58))","v":12},{"$f":"SUMPRODUCT(($S$53:$S$58=B69)*($V$53:$V$58))+SUMPRODUCT(($T$53:$T$58=B69)*($U$53:$U$58))","v":6},{"$f":"(D69*2)+E69","v":3},{"$f":"(F69*2)+E69","v":3}]
[null,"El Salvador",{"$f":"COUNTIF($S$53:$T$58,\"El Salvador\")","v":3},{"$f":"SUMPRODUCT(($S$53:$T$58=B70)*($X$53:$Y$58=3))","v":0},{"$f":"SUMPRODUCT(($S$53:$T$58=B70)*($X$53:$Y$58=1))","v":0},{"$f":"SUMPRODUCT(($S$53:$T$58=B70)*($X$53:$Y$58=2))","v":3},{"$f":"SUMPRODUCT(($S$53:$S$58=B70)*($U$53:$U$58))+SUMPRODUCT(($T$53:$T$58=B70)*($V$53:$V$58))","v":1},{"$f":"SUMPRODUCT(($S$53:$S$58=B70)*($V$53:$V$58))+SUMPRODUCT(($T$53:$T$58=B70)*($U$53:$U$58))","v":13},{"$f":"(D70*2)+E70","v":0},{"$f":"(F70*2)+E70","v":6}]
[]
[]
[null,null,null,null,null,"Gruppe 4"]
[]
[null,null,"1982-06-16","England","Frankreich",3,1,null,"Bilbao",null,null,null,null,null,null,null,null,null,"England","Frankreich",3,1,null,{"$f":"(IF(U75>V75,3,IF(U75=V75,1,2)))","v":3},{"$f":"(IF(V75>U75,3,IF(U75=V75,1,2)))","v":2}]
[null,null,null,null,null,"(1","1)",null,null,null,null,null,null,null,null,null,null,null,"CSSR","Kuwait",1,1,null,{"$f":"(IF(U76>V76,3,IF(U76=V76,1,2)))","v":1},{"$f":"(IF(V76>U76,3,IF(U76=V76,1,2)))","v":1}]
[null,null,"1982-06-17","CSSR","Kuwait",1,1,null,"Valladolid",null,null,null,null,null,null,null,null,null,"England","CSSR",2,0,null,3,2]
[null,null,null,null,null,"(1","0)",null,null,null,null,null,null,null,null,null,null,null,"Frankreich","Kuwait",4,1,null,3,2]
[null,null,"1982-06-20","England","CSSR",2,0,null,"Bilbao",null,null,null,null,null,null,null,null,null,"Frankreich","CSSR",1,1,null,1,1]
[null,null,null,null,null,"(0","0)",null,null,null,null,null,null,null,null,null,null,null,"England","Kuwait",1,0,null,3,2]
[null,null,"1982-06-21","Frankreich","Kuwait",4,1,null,"Valladolid"]
[null,null,null,null,null,"(2","0)"]
[null,null,"1982-06-24","Frankreich","CSSR",1,1,null,"Valladolid"]
[null,null,null,null,null,"(0","0)"]
[null,null,"1982-06-25","England","Kuwait",1,0,null,"Bilbao"]
[null,null,null,null,null,"(1","0)"]
[]
[null,null,"Spiele","gew","unent","verl","Tore+","Tore-","Punkte+","Punkte-"]
[null,"England",{"$f":"COUNTIF($S$12:$T$17,\"Polen\")","v":3},{"$f":"SUMPRODUCT(($S$12:$T$17=B89)*($X$12:$Y$17=3))","v":0},{"$f":"SUMPRODUCT(($S$12:$T$17=B89)*($X$12:$Y$17=1))","v":0},{"$f":"SUMPRODUCT(($S$12:$T$17=B89)*($X$12:$Y$17=2))","v":0},{"$f":"SUMPRODUCT(($S$12:$S$17=B89)*($U$12:$U$17))+SUMPRODUCT(($T$12:$T$17=B89)*($V$12:$V$17))","v":0},{"$f":"SUMPRODUCT(($S$12:$S$17=B89)*($V$12:$V$17))+SUMPRODUCT(($T$12:$T$17=B89)*($U$12:$U$17))","v":0},{"$f":"(D89*2)+E89","v":0},{"$f":"(F89*2)+E89","v":0}]
[null,"Frankreich"]
[null,"CSSR"]
[null,"Kuwait"]
[]
[]
[null,null,null,null,null,"Gruppe 5"]
[]
[null,null,"1982-06-16","Spanien","Honduras",1,1,null,"Valencia",null,null,null,null,null,null,null,null,null,"Spanien","Honduras",1,1,null,{"$f":"(IF(U97>V97,3,IF(U97=V97,1,2)))","v":1},{"$f":"(IF(V97>U97,3,IF(U97=V97,1,2)))","v":1}]
[null,null,null,null,null,"(0","1)",null,null,null,null,null,null,null,null,null,null,null,"Jugoslawien","Nordirland",0,0,null,1,1]
[null,null,"1982-06-17","Jugoslawien","Nordirland",0,0,null,"Saragossa",null,null,null,null,null,null,null,null,null,"Spanien","Jugoslawien",2,1,null,3,2]
[null,null,"1982-06-20","Spanien","Jugoslawien",2,1,null,"Valencia",null,null,null,null,null,null,null,null,null,"Honduras","Nordirland",1,1,null,1,1]
[null,null,null,null,null,"(1","1)",null,null,null,null,null,null,null,null,null,null,null,"Honduras","Jugoslawien",0,1,null,2,3]
[null,null,"1982-06-21","Honduras","Nordirland",1,1,null,"Saragossa",null,null,null,null,null,null,null,null,null,"Spanien","Nordirland",0,1,null,2,3]
[null,null,null,null,null,"(0","1)"]
[null,null,"1982-06-24","Honduras","Jugoslawien",0,1,null,"Saragossa"]
[null,null,null,null,null,"(0","0)"]
[null,null,"1982-06-25","Spanien","Nordirland",0,1,null,"Valencia"]
[null,null,null,null,null,"(0","0)"]
[]
[null,null,"Spiele","gew","unent","verl","Tore+","Tore-","Punkte+","Punkte-"]
[null,"Spanien",{"$f":"COUNTIF($S$12:$T$17,\"Polen\")","v":3},{"$f":"SUMPRODUCT(($S$12:$T$17=B110)*($X$12:$Y$17=3))","v":0},{"$f":"SUMPRODUCT(($S$12:$T$17=B110)*($X$12:$Y$17=1))","v":0},{"$f":"SUMPRODUCT(($S$12:$T$17=B110)*($X$12:$Y$17=2))","v":0},{"$f":"SUMPRODUCT(($S$12:$S$17=B110)*($U$12:$U$17))+SUMPRODUCT(($T$12:$T$17=B110)*($V$12:$V$17))","v":0},{"$f":"SUMPRODUCT(($S$12:$S$17=B110)*($V$12:$V$17))+SUMPRODUCT(($T$12:$T$17=B110)*($U$12:$U$17))","v":0},{"$f":"(D110*2)+E110","v":0},{"$f":"(F110*2)+E110","v":0}]
[null,"Honduras"]
[null,"Jugoslawien"]
[null,"Nordirland"]
[]
[]
[null,null,null,null,null,"Gruppe 6"]
[]
[null,null,"1982-06-14","Brasilien","UdSSR",2,1,null,"Sevilla",null,null,null,null,null,null,null,null,null,"Brasilien","UdSSR",2,1,null,{"$f":"(IF(U118>V118,3,IF(U118=V118,1,2)))","v":3},{"$f":"(IF(V118>U118,3,IF(U118=V118,1,2)))","v":2}]
[null,null,null,null,null,"(0","1)",null,null,null,null,null,null,null,null,null,null,null,"Schottland","Neuseeland",5,2,null,3,2]
[null,null,"1982-06-15","Schottland","Neuseeland",5,2,null,"Málaga",null,null,null,null,null,null,null,null,null,"Brasilien","Schottland",4,1,null,3,2]
[null,null,null,null,null,"(3","0)",null,null,null,null,null,null,null,null,null,null,null,"UdSSR","Neuseeland",3,0,null,3,2]
[null,null,"1982-06-18","Brasilien","Schottland",4,1,null,"Sevilla",null,null,null,null,null,null,null,null,null,"UdSSR","Schottland",2,2,null,1,1]
[null,null,null,null,null,"(1","1)",null,null,null,null,null,null,null,null,null,null,null,"Brasilien","Neuseeland",4,0,null,3,2]
[null,null,"1982-06-19","UdSSR","Neuseeland",3,0,null,"Málaga"]
[null,null,null,null,null,"(1","0)"]
[null,null,"1982-06-22","UdSSR","Schottland",2,2,null,"Málaga"]
[null,null,null,null,null,"(0","1)"]
[null,null,"1982-06-23","Brasilien","Neuseeland",4,0,null,"Sevilla"]
[null,null,null,null,null,"(2","0)"]
[]
[null,null,"Spiele","gew","unent","verl","Tore+","Tore-","Punkte+","Punkte-"]
[null,"Brasilien",{"$f":"COUNTIF($S$12:$T$17,\"Polen\")","v":3},{"$f":"SUMPRODUCT(($S$12:$T$17=B132)*($X$12:$Y$17=3))","v":0},{"$f":"SUMPRODUCT(($S$12:$T$17=B132)*($X$12:$Y$17=1))","v":0},{"$f":"SUMPRODUCT(($S$12:$T$17=B132)*($X$12:$Y$17=2))","v":0},{"$f":"SUMPRODUCT(($S$12:$S$17=B132)*($U$12:$U$17))+SUMPRODUCT(($T$12:$T$17=B132)*($V$12:$V$17))","v":0},{"$f":"SUMPRODUCT(($S$12:$S$17=B132)*($V$12:$V$17))+SUMPRODUCT(($T$12:$T$17=B132)*($U$12:$U$17))","v":0},{"$f":"(D132*2)+E132","v":0},{"$f":"(F132*2)+E132","v":0}]
[null,"UdSSR"]
[null,"Schottland"]
[null,"Neuseeland"]
[]
[]
[null,null,null,null,null,"Gruppe A:"]
[]
[null,null,"1982-06-28","Polen","Belgien",3,0,null,"Barcelona (Camp Nou)",null,null,null,null,null,null,null,null,null,"Polen","Belgien",3,0,null,{"$f":"(IF(U140>V140,3,IF(U140=V140,1,2)))","v":3},{"$f":"(IF(V140>U140,3,IF(U140=V140,1,2)))","v":2}]
[null,null,null,null,null,"(2","0)",null,null,null,null,null,null,null,null,null,null,null,"Belgien","UdSSR",0,1,null,{"$f":"(IF(U141>V141,3,IF(U141=V141,1,2)))","v":2},{"$f":"(IF(V141>U141,3,IF(U141=V141,1,2)))","v":3}]
[null,null,"1982-07-01","Belgien","UdSSR",0,1,null,"Barcelona (Camp Nou)",null,null,null,null,null,null,null,null,null,"Polen","UdSSR",0,0,null,1,1]
[null,null,null,null,null,"(0","0)"]
[null,null,"1982-07-04","Polen","UdSSR",0,0,null,"Barcelona (Camp Nou)"]
[]
[]
[null,null,"Spiele","gew","unent","verl","Tore+","Tore-","Punkte+","Punkte-"]
[null,"Polen",{"$f":"COUNTIF($S$12:$T$17,\"Polen\")","v":3},{"$f":"SUMPRODUCT(($S$12:$T$17=B148)*($X$12:$Y$17=3))","v":1},{"$f":"SUMPRODUCT(($S$12:$T$17=B148)*($X$12:$Y$17=1))","v":2},{"$f":"SUMPRODUCT(($S$12:$T$17=B148)*($X$12:$Y$17=2))","v":0},{"$f":"SUMPRODUCT(($S$12:$S$17=B148)*($U$12:$U$17))+SUMPRODUCT(($T$12:$T$17=B148)*($V$12:$V$17))","v":5},{"$f":"SUMPRODUCT(($S$12:$S$17=B148)*($V$12:$V$17))+SUMPRODUCT(($T$12:$T$17=B148)*($U$12:$U$17))","v":1},{"$f":"(D148*2)+E148","v":4},{"$f":"(F148*2)+E148","v":2}]
[null,"Belgien"]
[null,"UdSSR"]
[]
[]
[null,null,null,null,null,"Gruppe B:"]
[]
[null,null,"1982-06-29","BRD","England",0,0,null,"Madrid (Bernabéu)",null,null,null,null,null,null,null,null,null,"BRD","England",0,0,null,{"$f":"(IF(U155>V155,3,IF(U155=V155,1,2)))","v":1},{"$f":"(IF(V155>U155,3,IF(U155=V155,1,2)))","v":1}]
[null,null,"1982-07-02","BRD","Spanien",2,1,null,"Madrid (Bernabéu)",null,null,null,null,null,null,null,null,null,"BRD","Spanien",2,1,null,3,2]
[null,null,null,null,null,"(0","0)",null,null,null,null,null,null,null,null,null,null,null,"Spanien","England",0,0,null,1,1]
[null,null,"1982-07-05","Spanien","England",0,0,null,"Madrid (Bernabéu)"]
[]
[]
[null,null,"Spiele","gew","unent","verl","Tore+","Tore-","Punkte+","Punkte-"]
[null,"BRD",{"$f":"COUNTIF($S$12:$T$17,\"Polen\")","v":3},{"$f":"SUMPRODUCT(($S$12:$T$17=B162)*($X$12:$Y$17=3))","v":0},{"$f":"SUMPRODUCT(($S$12:$T$17=B162)*($X$12:$Y$17=1))","v":0},{"$f":"SUMPRODUCT(($S$12:$T$17=B162)*($X$12:$Y$17=2))","v":0},{"$f":"SUMPRODUCT(($S$12:$S$17=B162)*($U$12:$U$17))+SUMPRODUCT(($T$12:$T$17=B162)*($V$12:$V$17))","v":0},{"$f":"SUMPRODUCT(($S$12:$S$17=B162)*($V$12:$V$17))+SUMPRODUCT(($T$12:$T$17=B162)*($U$12:$U$17))","v":0},{"$f":"(D162*2)+E162","v":0},{"$f":"(F162*2)+E162","v":0}]
[null,"England"]
[null,"Spanien"]
[]
[]
[null,null,null,null,null,"Gruppe C:"]
[]
[null,null,"1982-06-29","Italien","Argentinien",2,1,null,"Barcelona (Sarrià)",null,null,null,null,null,null,null,null,null,"Italien","Argentinien",2,1,null,{"$f":"(IF(U169>V169,3,IF(U169=V169,1,2)))","v":3},{"$f":"(IF(V169>U169,3,IF(U169=V169,1,2)))","v":2}]
[null,null,null,null,null,"(0","0)",null,null,null,null,null,null,null,null,null,null,null,"Brasilien","Argentinien",3,1,null,{"$f":"(IF(U170>V170,3,IF(U170=V170,1,2)))","v":3},{"$f":"(IF(V170>U170,3,IF(U170=V170,1,2)))","v":2}]
[null,null,"1982-07-02","Brasilien","Argentinien",3,1,null,"Barcelona (Sarrià)",null,null,null,null,null,null,null,null,null,"Brasilien","Italien",2,3,null,2,3]
[null,null,null,null,null,"(1","0)"]
[null,null,"1982-07-05","Brasilien","Italien",2,3,null,"Barcelona (Sarrià)"]
[null,null,null,null,null,"(1","2)"]
[]
[null,null,"Spiele","gew","unent","verl","Tore+","Tore-","Punkte+","Punkte-"]
[null,"Italien",{"$f":"COUNTIF($S$12:$T$17,\"Polen\")","v":3},{"$f":"SUMPRODUCT(($S$12:$T$17=B177)*($X$12:$Y$17=3))","v":0},{"$f":"SUMPRODUCT(($S$12:$T$17=B177)*($X$12:$Y$17=1))","v":3},{"$f":"SUMPRODUCT(($S$12:$T$17=B177)*($X$12:$Y$17=2))","v":0},{"$f":"SUMPRODUCT(($S$12:$S$17=B177)*($U$12:$U$17))+SUMPRODUCT(($T$12:$T$17=B177)*($V$12:$V$17))","v":2},{"$f":"SUMPRODUCT(($S$12:$S$17=B177)*($V$12:$V$17))+SUMPRODUCT(($T$12:$T$17=B177)*($U$12:$U$17))","v":2},{"$f":"(D177*2)+E177","v":3},{"$f":"(F177*2)+E177","v":3}]
[null,"Argentinien"]
[null,"Brasilien"]
[]
[]
[null,null,null,null,null,"Gruppe D:"]
[]
[null,null,"1982-06-28","Österreich","Frankreich",0,1,null,"Madrid (Calderón)",null,null,null,null,null,null,null,null,null,"Österreich","Frankreich",0,1,null,{"$f":"(IF(U184>V184,3,IF(U184=V184,1,2)))","v":2},{"$f":"(IF(V184>U184,3,IF(U184=V184,1,2)))","v":3}]
[null,null,null,null,null,"(0","1)",null,null,null,null,null,null,null,null,null,null,null,"Österreich","Nordirland",2,2,null,1,1]
[null,null,"1982-07-01","Österreich","Nordirland",2,2,null,"Madrid (Calderón)",null,null,null,null,null,null,null,null,null,"Nordirland","Frankreich",1,4,null,2,3]
[null,null,null,null,null,"(0","1)"]
[null,null,"1982-07-04","Nordirland","Frankreich",1,4,null,"Madrid (Calderón)"]
[null,null,null,null,null,"(0","1)"]
[]
[null,null,"Spiele","gew","unent","verl","Tore+","Tore-","Punkte+","Punkte-"]
[null,"Österreich",{"$f":"COUNTIF($S$12:$T$17,\"Polen\")","v":3},{"$f":"SUMPRODUCT(($S$12:$T$17=B192)*($X$12:$Y$17=3))","v":0},{"$f":"SUMPRODUCT(($S$12:$T$17=B192)*($X$12:$Y$17=1))","v":0},{"$f":"SUMPRODUCT(($S$12:$T$17=B192)*($X$12:$Y$17=2))","v":0},{"$f":"SUMPRODUCT(($S$12:$S$17=B192)*($U$12:$U$17))+SUMPRODUCT(($T$12:$T$17=B192)*($V$12:$V$17))","v":0},{"$f":"SUMPRODUCT(($S$12:$S$17=B192)*($V$12:$V$17))+SUMPRODUCT(($T$12:$T$17=B192)*($U$12:$U$17))","v":0},{"$f":"(D192*2)+E192","v":0},{"$f":"(F192*2)+E192","v":0}]
[null,"Frankreich"]
[null,"Nordirland"]
[]
[]
[null,null,null,null,null,"Halbfinale:"]
[]
[null,null,"1970-06-17","Polen","Italien",0,2,null,"Barcelona (Camp Nou)",null,null,null,null,null,null,null,null,null,"Polen","Italien",0,2,null,{"$f":"(IF(U199>V199,3,IF(U199=V199,1,2)))","v":2},{"$f":"(IF(V199>U199,3,IF(U199=V199,1,2)))","v":3}]
[null,null,null,null,null,"(0","1)",null,null,null,null,null,null,null,null,null,null,null,"BRD","Frankreich",8,7,null,3,2]
[null,null,"1970-06-17","BRD","Frankreich",5,4,"n.E.","Sevilla (Pizjuán)"]
[null,null,null,null,null,"(3","3)","n.V."]
[null,null,null,null,null,1,1]
[null,null,null,null,null,"(1","1)"]
[]
[]
[null,null,"Spiel um Platz 3 am 10. Juli 1982 in Alicante"]
[null,null,null,null,"Polen","---","Frankreich",null,null,null,null,null,null,null,null,null,null,null,"Polen","Frankreich",3,2,null,{"$f":"(IF(U208>V208,3,IF(U208=V208,1,2)))","v":3},{"$f":"(IF(V208>U208,3,IF(U208=V208,1,2)))","v":2}]
[null,null,null,null,3,null,2]
[null,null,null,null,"(2",null,"1)"]
[]
[]
[]
[]
[null,null,"Endspiel am 11. Juli 1982 in Madrid (Bernabéu)"]
[null,null,null,null,"Italien","---","BRD",null,null,null,null,null,null,null,null,null,null,null,"Italien","BRD",3,1,null,{"$f":"(IF(U216>V216,3,IF(U216=V216,1,2)))","v":3},{"$f":"(IF(V216>U216,3,IF(U216=V216,1,2)))","v":2}]
[null,null,null,null,3,null,1]
[null,null,null,null,"(0",null,"0)"]
[]
[]
[]
[]
["Auswertung","Nation","Spiele","gew","unent","verl","Tore+","Tore-","Punkte+","Punkte-"]
[null,"Italien",{"$f":"COUNTIF($S$12:$T$216,\"Italien\")","v":7},{"$f":"SUMPRODUCT(($S$12:$T$216=B224)*($X$12:$Y$216=3))","v":4},{"$f":"SUMPRODUCT(($S$12:$T$216=B224)*($X$12:$Y$216=1))","v":3},{"$f":"SUMPRODUCT(($S$12:$T$216=B224)*($X$12:$Y$216=2))","v":0},{"$f":"SUMPRODUCT(($S$12:$S$216=B224)*($U$12:$U$216))+SUMPRODUCT(($T$12:$T$216=B224)*($V$12:$V$216))","v":12},{"$f":"SUMPRODUCT(($S$12:$S$216=B224)*($V$12:$V$216))+SUMPRODUCT(($T$12:$T$216=B224)*($U$12:$U$216))","v":6},{"$f":"(D224*2)+E224","v":11},{"$f":"(F224*2)+E224","v":3}]
[null,"BRD",{"$f":"COUNTIF($S$12:$T$216,\"BRD\")","v":7},4,1,2,17,14,9,5]
[null,"Polen",{"$f":"COUNTIF($S$12:$T$216,\"Polen\")","v":7},3,3,1,11,5,9,5]
[null,"Brasilien",{"$f":"COUNTIF($S$12:$T$216,\"Brasilien\")","v":5},4,0,1,15,6,8,2]
[null,"England",{"$f":"COUNTIF($S$12:$T$216,\"England\")","v":5},3,2,0,6,1,8,2]
[null,"Frankreich",{"$f":"COUNTIF($S$12:$T$216,\"Frankreich\")","v":7},3,1,3,20,17,7,7]
[null,"UdSSR",{"$f":"COUNTIF($S$12:$T$216,\"UdSSR\")","v":5},2,2,1,7,4,6,4]
[null,"Österreich",{"$f":"COUNTIF($S$12:$T$216,\"Österreich\")","v":5},2,1,2,5,4,5,5]
[null,"Nordirland",{"$f":"COUNTIF($S$12:$T$216,\"Nordirland\")","v":5},1,3,1,5,7,5,5]
[null,"Belgien",{"$f":"COUNTIF($S$12:$T$216,\"Belgien\")","v":5},2,1,2,3,5,5,5]
[null,"Algerien",{"$f":"COUNTIF($S$12:$T$216,\"Algerien\")","v":3},2,0,1,5,5,4,2]
[null,"Argentinien",{"$f":"COUNTIF($S$12:$T$216,\"Argentinien\")","v":5},2,0,3,8,7,4,6]
[null,"Spanien",{"$f":"COUNTIF($S$12:$T$216,\"Spanien\")","v":5},1,2,2,4,5,4,6]
[null,"Ungarn",{"$f":"COUNTIF($S$12:$T$216,\"Ungarn\")","v":3},1,1,1,12,6,3,3]
[null,"Schottland",{"$f":"COUNTIF($S$12:$T$216,\"Schottland\")","v":3},1,1,1,8,8,3,3]
[null,"Jugoslawien",{"$f":"COUNTIF($S$12:$T$216,\"Jugoslawien\")","v":3},1,1,1,2,2,3,3]
[null,"Kamerun",{"$f":"COUNTIF($S$12:$T$216,\"Kamerun\")","v":3},0,3,0,1,1,3,3]
[null,"Honduras",{"$f":"COUNTIF($S$12:$T$216,\"Honduras\")","v":3},0,2,1,2,3,2,4]
[null,"CSSR",{"$f":"COUNTIF($S$12:$T$216,\"CSSR\")","v":3},0,2,1,2,4,2,4]
[null,"Peru",{"$f":"COUNTIF($S$12:$T$216,\"Peru\")","v":3},0,2,1,2,6,2,4]
[null,"Kuwait",{"$f":"COUNTIF($S$12:$T$216,\"Kuwait\")","v":3},0,1,2,2,6,1,5]
[null,"Chile",{"$f":"COUNTIF($S$12:$T$216,\"Chile\")","v":3},0,0,3,3,8,0,6]
[null,"Neuseeland",{"$f":"COUNTIF($S$12:$T$216,\"Neuseeland\")","v":3},0,0,3,2,12,0,6]
[null,"El Salvador",{"$f":"COUNTIF($S$12:$T$216,\"El Salvador\")","v":3},0,0,3,1,13,0,6]

{"sheet":"1986","index":12,"n_rows":239,"n_cols":27,"rows_kept":239,"cut":false,"hidden":false,"merged":[[1,0,1,10],[3,0,3,10],[4,0,4,10],[197,2,197,8],[206,2,206,8]]}
[null,null,null,null,null,null,null,null,null,null,null,null,null,null,null,null,null,null,1,2,3,4,5,6,7]
["13. WM 1986 in Mexiko"]
[]
["31. Mai-29. Juni 1986"]
["Teilnehmende Nationen: 24 --- Bewerbungen: 121"]
[]
[]
[]
[]
[null,null,null,null,null,"Gruppe A"]
[]
[null,null,"1986-05-31","Bulgarien","Italien",1,1,null,"Mexiko-Stadt (Aztekenstadion)",null,null,null,null,null,null,null,null,null,"Bulgarien","Italien",1,1,null,{"$f":"(IF(U12>V12,3,IF(U12=V12,1,2)))","v":1},{"$f":"(IF(V12>U12,3,IF(U12=V12,1,2)))","v":1},null,"Argentinien"]
[null,null,null,null,null,"(0","1)",null,null,null,null,null,null,null,null,null,null,null,"Argentinien","Südkorea",3,1,null,3,2,null,"Frankreich"]
[null,null,"1986-06-02","Argentinien","Südkorea",3,1,null,"Mexiko-Stadt (Olympiastadion)",null,null,null,null,null,null,null,null,null,"Italien","Argentinien",1,1,null,{"$f":"(IF(U14>V14,3,IF(U14=V14,1,2)))","v":1},{"$f":"(IF(V14>U14,3,IF(U14=V14,1,2)))","v":1},null,"BRD"]
[null,null,null,null,null,"(2","0)",null,null,null,null,null,null,null,null,null,null,null,"Südkorea","Bulgarien",1,1,null,1,1,null,"Brasilien"]
[null,null,"1986-06-05","Italien","Argentinien",1,1,null,"Puebla",null,null,null,null,null,null,null,null,null,"Südkorea","Italien",2,3,null,2,3,null,"Mexiko"]
[null,null,null,null,null,"(1","1)",null,null,null,null,null,null,null,null,null,null,null,"Argentinien","Bulgarien",2,0,null,3,2,null,"Belgien"]
[null,null,"1986-06-05","Südkorea","Bulgarien",1,1,null,"Mexiko-Stadt (Olympiastadion)",null,null,null,null,null,null,null,null,null,null,null,null,null,null,null,null,null,"Dänemark"]
[null,null,null,null,null,"(0","1)",null,null,null,null,null,null,null,null,null,null,null,null,null,null,null,null,null,null,null,"Spanien"]
[null,null,"1986-06-10","Südkorea","Italien",2,3,null,"Puebla",null,null,null,null,null,null,null,null,null,null,null,null,null,null,null,null,null,"UdSSR"]
[null,null,null,null,null,"(0","1)",null,null,null,null,null,null,null,null,null,null,null,null,null,null,null,null,null,null,null,"England"]
[null,null,"1986-06-10","Argentinien","Bulgarien",2,0,null,"Mexiko-Stadt (Olympiastadion)",null,null,null,null,null,null,null,null,null,null,null,null,null,null,null,null,null,"Italien"]
[null,null,null,null,null,"(1","0)",null,null,null,null,null,null,null,null,null,null,null,null,null,null,null,null,null,null,null,"Paraguay"]
[null,null,null,null,null,null,null,null,null,null,null,null,null,null,null,null,null,null,null,null,null,null,null,null,null,null,"Marokko"]
[null,null,"Spiele","gew","unent","verl","Tore+","Tore-","Punkte+","Punkte-",null,null,null,null,null,null,null,null,null,null,null,null,null,null,null,null,"Polen"]
[null,"Argentinien",{"$f":"COUNTIF($S$12:$T$17,\"Argentinien\")","v":3},{"$f":"SUMPRODUCT(($S$12:$T$17=B26)*($X$12:$Y$17=3))","v":2},{"$f":"SUMPRODUCT(($S$12:$T$17=B26)*($X$12:$Y$17=1))","v":1},{"$f":"SUMPRODUCT(($S$12:$T$17=B26)*($X$12:$Y$17=2))","v":0},{"$f":"SUMPRODUCT(($S$12:$S$17=B26)*($U$12:$U$17))+SUMPRODUCT(($T$12:$T$17=B26)*($V$12:$V$17))","v":6},{"$f":"SUMPRODUCT(($S$12:$S$17=B26)*($V$12:$V$17))+SUMPRODUCT(($T$12:$T$17=B26)*($U$12:$U$17))","v":2},{"$f":"(D26*2)+E26","v":5},{"$f":"(F26*2)+E26","v":1},null,null,null,null,null,null,null,null,null,null,null,null,null,null,null,null,"Portugal"]
[null,"Italien",{"$f":"COUNTIF($S$12:$T$17,\"Italien\")","v":3},{"$f":"SUMPRODUCT(($S$12:$T$17=B27)*($X$12:$Y$17=3))","v":1},{"$f":"SUMPRODUCT(($S$12:$T$17=B27)*($X$12:$Y$17=1))","v":2},{"$f":"SUMPRODUCT(($S$12:$T$17=B27)*($X$12:$Y$17=2))","v":0},{"$f":"SUMPRODUCT(($S$12:$S$17=B27)*($U$12:$U$17))+SUMPRODUCT(($T$12:$T$17=B27)*($V$12:$V$17))","v":5},{"$f":"SUMPRODUCT(($S$12:$S$17=B27)*($V$12:$V$17))+SUMPRODUCT(($T$12:$T$17=B27)*($U$12:$U$17))","v":4},{"$f":"(D27*2)+E27","v":4},{"$f":"(F27*2)+E27","v":2},null,null,null,null,null,null,null,null,null,null,null,null,null,null,null,null,"Ungarn"]
[null,"Bulgarien",{"$f":"COUNTIF($S$12:$T$17,\"Bulgarien\")","v":3},{"$f":"SUMPRODUCT(($S$12:$T$17=B28)*($X$12:$Y$17=3))","v":0},{"$f":"SUMPRODUCT(($S$12:$T$17=B28)*($X$12:$Y$17=1))","v":2},{"$f":"SUMPRODUCT(($S$12:$T$17=B28)*($X$12:$Y$17=2))","v":1},{"$f":"SUMPRODUCT(($S$12:$S$17=B28)*($U$12:$U$17))+SUMPRODUCT(($T$12:$T$17=B28)*($V$12:$V$17))","v":2},{"$f":"SUMPRODUCT(($S$12:$S$17=B28)*($V$12:$V$17))+SUMPRODUCT(($T$12:$T$17=B28)*($U$12:$U$17))","v":4},{"$f":"(D28*2)+E28","v":2},{"$f":"(F28*2)+E28","v":4},null,null,null,null,null,null,null,null,null,null,null,null,null,null,null,null,"Bulgarien"]
[null,"Südkorea",{"$f":"COUNTIF($S$12:$T$17,\"Südkorea\")","v":3},{"$f":"SUMPRODUCT(($S$12:$T$17=B29)*($X$12:$Y$17=3))","v":0},{"$f":"SUMPRODUCT(($S$12:$T$17=B29)*($X$12:$Y$17=1))","v":1},{"$f":"SUMPRODUCT(($S$12:$T$17=B29)*($X$12:$Y$17=2))","v":2},{"$f":"SUMPRODUCT(($S$12:$S$17=B29)*($U$12:$U$17))+SUMPRODUCT(($T$12:$T$17=B29)*($V$12:$V$17))","v":4},{"$f":"SUMPRODUCT(($S$12:$S$17=B29)*($V$12:$V$17))+SUMPRODUCT(($T$12:$T$17=B29)*($U$12:$U$17))","v":7},{"$f":"(D29*2)+E29","v":1},{"$f":"(F29*2)+E29","v":5},null,null,null,null,null,null,null,null,null,null,null,null,null,null,null,null,"Uruguay"]
[null,null,null,null,null,null,null,null,null,null,null,null,null,null,null,null,null,null,null,null,null,null,null,null,null,null,"Südkorea"]
[null,null,null,null,null,null,null,null,null,null,null,null,null,null,null,null,null,null,null,null,null,null,null,null,null,null,"Nordirland"]
[null,null,null,null,null,"Gruppe B",null,null,null,null,null,null,null,null,null,null,null,null,null,null,null,null,null,null,null,null,"Schottland"]
[null,null,null,null,null,null,null,null,null,null,null,null,null,null,null,null,null,null,null,null,null,null,null,null,null,null,"Algerien"]
[null,null,"1986-06-03","Belgien","Mexiko",1,2,null,"Mexiko-Stadt (Aztekenstadion)",null,null,null,null,null,null,null,null,null,"Belgien","Mexiko",1,2,null,{"$f":"(IF(U34>V34,3,IF(U34=V34,1,2)))","v":2},{"$f":"(IF(V34>U34,3,IF(U34=V34,1,2)))","v":3},null,"Irak"]
[null,null,null,null,null,"(1","2)",null,null,null,null,null,null,null,null,null,null,null,"Paraguay","Irak",1,0,null,3,2,null,"Kanada"]
[null,null,"1986-06-04","Paraguay","Irak",1,0,null,"Toluca",null,null,null,null,null,null,null,null,null,"Mexiko","Paraguay",1,1,null,1,1]
[null,null,null,null,null,"(1","0)",null,null,null,null,null,null,null,null,null,null,null,"Irak","Belgien",1,2,null,2,3]
[null,null,"1986-06-07","Mexiko","Paraguay",1,1,null,"Mexiko-Stadt (Aztekenstadion)",null,null,null,null,null,null,null,null,null,"Irak","Mexiko",0,1,null,2,3]
[null,null,null,null,null,"(1","0)",null,null,null,null,null,null,null,null,null,null,null,"Paraguay","Belgien",2,2,null,{"$f":"(IF(U39>V39,3,IF(U39=V39,1,2)))","v":1},{"$f":"(IF(V39>U39,3,IF(U39=V39,1,2)))","v":1}]
[null,null,"1986-06-08","Irak","Belgien",1,2,null,"Toluca"]
[null,null,null,null,null,"(0","2)"]
[null,null,"1986-06-11","Irak","Mexiko",0,1,null,"Mexiko-Stadt (Aztekenstadion)"]
[null,null,null,null,null,"(0","0)"]
[null,null,"1986-06-11","Paraguay","Belgien",2,2,null,"Toluca"]
[null,null,null,null,null,"(0","1)"]
[]
[null,null,"Spiele","gew","unent","verl","Tore+","Tore-","Punkte+","Punkte-"]
[null,"Mexiko",{"$f":"COUNTIF($S$34:$T$39,\"Mexiko\")","v":3},{"$f":"SUMPRODUCT(($S$34:$T$39=B48)*($X$34:$Y$39=3))","v":2},{"$f":"SUMPRODUCT(($S$34:$T$39=B48)*($X$34:$Y$39=1))","v":1},{"$f":"SUMPRODUCT(($S$34:$T$39=B48)*($X$34:$Y$39=2))","v":0},{"$f":"SUMPRODUCT(($S$34:$S$39=B48)*($U$34:$U$39))+SUMPRODUCT(($T$34:$T$39=B48)*($V$34:$V$39))","v":4},{"$f":"SUMPRODUCT(($S$34:$S$39=B48)*($V$34:$V$39))+SUMPRODUCT(($T$34:$T$39=B48)*($U$34:$U$39))","v":2},{"$f":"(D48*2)+E48","v":5},{"$f":"(F48*2)+E48","v":1}]
[null,"Paraguay",{"$f":"COUNTIF($S$34:$T$39,\"Paraguay\")","v":3},{"$f":"SUMPRODUCT(($S$34:$T$39=B49)*($X$34:$Y$39=3))","v":1},{"$f":"SUMPRODUCT(($S$34:$T$39=B49)*($X$34:$Y$39=1))","v":2},{"$f":"SUMPRODUCT(($S$34:$T$39=B49)*($X$34:$Y$39=2))","v":0},{"$f":"SUMPRODUCT(($S$34:$S$39=B49)*($U$34:$U$39))+SUMPRODUCT(($T$34:$T$39=B49)*($V$34:$V$39))","v":4},{"$f":"SUMPRODUCT(($S$34:$S$39=B49)*($V$34:$V$39))+SUMPRODUCT(($T$34:$T$39=B49)*($U$34:$U$39))","v":3},{"$f":"(D49*2)+E49","v":4},{"$f":"(F49*2)+E49","v":2}]
[null,"Belgien",{"$f":"COUNTIF($S$34:$T$39,\"Belgien\")","v":3},{"$f":"SUMPRODUCT(($S$34:$T$39=B50)*($X$34:$Y$39=3))","v":1},{"$f":"SUMPRODUCT(($S$34:$T$39=B50)*($X$34:$Y$39=1))","v":1},{"$f":"SUMPRODUCT(($S$34:$T$39=B50)*($X$34:$Y$39=2))","v":1},{"$f":"SUMPRODUCT(($S$34:$S$39=B50)*($U$34:$U$39))+SUMPRODUCT(($T$34:$T$39=B50)*($V$34:$V$39))","v":5},{"$f":"SUMPRODUCT(($S$34:$S$39=B50)*($V$34:$V$39))+SUMPRODUCT(($T$34:$T$39=B50)*($U$34:$U$39))","v":5},{"$f":"(D50*2)+E50","v":3},{"$f":"(F50*2)+E50","v":3}]
[null,"Irak",{"$f":"COUNTIF($S$34:$T$39,\"Irak\")","v":3},{"$f":"SUMPRODUCT(($S$34:$T$39=B51)*($X$34:$Y$39=3))","v":0},{"$f":"SUMPRODUCT(($S$34:$T$39=B51)*($X$34:$Y$39=1))","v":0},{"$f":"SUMPRODUCT(($S$34:$T$39=B51)*($X$34:$Y$39=2))","v":3},{"$f":"SUMPRODUCT(($S$34:$S$39=B51)*($U$34:$U$39))+SUMPRODUCT(($T$34:$T$39=B51)*($V$34:$V$39))","v":1},{"$f":"SUMPRODUCT(($S$34:$S$39=B51)*($V$34:$V$39))+SUMPRODUCT(($T$34:$T$39=B51)*($U$34:$U$39))","v":4},{"$f":"(D51*2)+E51","v":0},{"$f":"(F51*2)+E51","v":6}]
[]
[]
[null,null,null,null,null,"Gruppe C"]
[]
[null,null,"1986-06-01","Kanada","Frankreich",0,1,null,"León",null,null,null,null,null,null,null,null,null,"Kanada","Frankreich",0,1,null,{"$f":"(IF(U56>V56,3,IF(U56=V56,1,2)))","v":2},{"$f":"(IF(V56>U56,3,IF(U56=V56,1,2)))","v":3}]
[null,null,null,null,null,"(0","0)",null,null,null,null,null,null,null,null,null,null,null,"UdSSR","Ungarn",6,0,null,3,2]
[null,null,"1986-06-02","UdSSR","Ungarn",6,0,null,"Irapuato",null,null,null,null,null,null,null,null,null,"Frankreich","UdSSR",1,1,null,1,1]
[null,null,null,null,null,"(3","0)",null,null,null,null,null,null,null,null,null,null,null,"Ungarn","Kanada",2,0,null,3,2]
[null,null,"1986-06-05","Frankreich","UdSSR",1,1,null,"León",null,null,null,null,null,null,null,null,null,"Frankreich","Ungarn",3,0,null,3,2]
[null,null,null,null,null,"(0","0)",null,null,null,null,null,null,null,null,null,null,null,"UdSSR","Kanada",2,0,null,3,2]
[null,null,"1986-06-06","Ungarn","Kanada",2,0,null,"Irapuato"]
[null,null,null,null,null,"(1","0)"]
[null,null,"1986-06-09","Frankreich","Ungarn",3,0,null,"León"]
[null,null,null,null,null,"(1","0)"]
[null,null,"1986-06-09","UdSSR","Kanada",2,0,null,"Irapuato"]
[null,null,null,null,null,"(0","0)"]
[]
[null,null,"Spiele","gew","unent","verl","Tore+","Tore-","Punkte+","Punkte-"]
[null,"UdSSR",{"$f":"COUNTIF($S$56:$T$61,\"UdSSR\")","v":3},{"$f":"SUMPRODUCT(($S$56:$T$61=B70)*($X$56:$Y$61=3))","v":2},{"$f":"SUMPRODUCT(($S$56:$T$61=B70)*($X$56:$Y$61=1))","v":1},{"$f":"SUMPRODUCT(($S$56:$T$61=B70)*($X$56:$Y$61=2))","v":0},{"$f":"SUMPRODUCT(($S$56:$S$61=B70)*($U$56:$U$61))+SUMPRODUCT(($T$56:$T$61=B70)*($V$56:$V$61))","v":9},{"$f":"SUMPRODUCT(($S$56:$S$61=B70)*($V$56:$V$61))+SUMPRODUCT(($T$56:$T$61=B70)*($U$56:$U$61))","v":1},{"$f":"(D70*2)+E70","v":5},{"$f":"(F70*2)+E70","v":1}]
[null,"Frankreich",{"$f":"COUNTIF($S$56:$T$61,\"Frankreich\")","v":3},{"$f":"SUMPRODUCT(($S$56:$T$61=B71)*($X$56:$Y$61=3))","v":2},{"$f":"SUMPRODUCT(($S$56:$T$61=B71)*($X$56:$Y$61=1))","v":1},{"$f":"SUMPRODUCT(($S$56:$T$61=B71)*($X$56:$Y$61=2))","v":0},{"$f":"SUMPRODUCT(($S$56:$S$61=B71)*($U$56:$U$61))+SUMPRODUCT(($T$56:$T$61=B71)*($V$56:$V$61))","v":5},{"$f":"SUMPRODUCT(($S$56:$S$61=B71)*($V$56:$V$61))+SUMPRODUCT(($T$56:$T$61=B71)*($U$56:$U$61))","v":1},{"$f":"(D71*2)+E71","v":5},{"$f":"(F71*2)+E71","v":1}]
[null,"Ungarn",{"$f":"COUNTIF($S$56:$T$61,\"Ungarn\")","v":3},{"$f":"SUMPRODUCT(($S$56:$T$61=B72)*($X$56:$Y$61=3))","v":1},{"$f":"SUMPRODUCT(($S$56:$T$61=B72)*($X$56:$Y$61=1))","v":0},{"$f":"SUMPRODUCT(($S$56:$T$61=B72)*($X$56:$Y$61=2))","v":2},{"$f":"SUMPRODUCT(($S$56:$S$61=B72)*($U$56:$U$61))+SUMPRODUCT(($T$56:$T$61=B72)*($V$56:$V$61))","v":2},{"$f":"SUMPRODUCT(($S$56:$S$61=B72)*($V$56:$V$61))+SUMPRODUCT(($T$56:$T$61=B72)*($U$56:$U$61))","v":9},{"$f":"(D72*2)+E72","v":2},{"$f":"(F72*2)+E72","v":4}]
[null,"Kanada",{"$f":"COUNTIF($S$56:$T$61,\"Kanada\")","v":3},{"$f":"SUMPRODUCT(($S$56:$T$61=B73)*($X$56:$Y$61=3))","v":0},{"$f":"SUMPRODUCT(($S$56:$T$61=B73)*($X$56:$Y$61=1))","v":0},{"$f":"SUMPRODUCT(($S$56:$T$61=B73)*($X$56:$Y$61=2))","v":3},{"$f":"SUMPRODUCT(($S$56:$S$61=B73)*($U$56:$U$61))+SUMPRODUCT(($T$56:$T$61=B73)*($V$56:$V$61))","v":0},{"$f":"SUMPRODUCT(($S$56:$S$61=B73)*($V$56:$V$61))+SUMPRODUCT(($T$56:$T$61=B73)*($U$56:$U$61))","v":5},{"$f":"(D73*2)+E73","v":0},{"$f":"(F73*2)+E73","v":6}]
[]
[]
[null,null,null,null,null,"Gruppe D"]
[]
[null,null,"1986-06-01","Spanien","Brasilien",0,1,null,"Guadalajara (Estadio Jalisco)",null,null,null,null,null,null,null,null,null,"Spanien","Brasilien",0,1,null,{"$f":"(IF(U78>V78,3,IF(U78=V78,1,2)))","v":2},{"$f":"(IF(V78>U78,3,IF(U78=V78,1,2)))","v":3}]
[null,null,null,null,null,"(0","0)",null,null,null,null,null,null,null,null,null,null,null,"Algerien","Nordirland",1,1,null,1,1]
[null,null,"1986-06-03","Algerien","Nordirland",1,1,null,"Guadalajara (Tres de Marzo)",null,null,null,null,null,null,null,null,null,"Brasilien","Algerien",1,0,null,{"$f":"(IF(U80>V80,3,IF(U80=V80,1,2)))","v":3},{"$f":"(IF(V80>U80,3,IF(U80=V80,1,2)))","v":2}]
[null,null,null,null,null,"(0","1)",null,null,null,null,null,null,null,null,null,null,null,"Nordirland","Spanien",1,2,null,2,3]
[null,null,"1986-06-06","Brasilien","Algerien",1,0,null,"Guadalajara (Estadio Jalisco)",null,null,null,null,null,null,null,null,null,"Nordirland","Brasilien",0,3,null,2,3]
[null,null,null,null,null,"(0","0)",null,null,null,null,null,null,null,null,null,null,null,"Algerien","Spanien",0,3,null,2,3]
[null,null,"1986-06-07","Nordirland","Spanien",1,2,null,"Guadalajara (Tres de Marzo)"]
[null,null,null,null,null,"(0","2)"]
[null,null,"1986-06-12","Nordirland","Brasilien",0,3,null,"Guadalajara (Estadio Jalisco)"]
[null,null,null,null,null,"(0","1)"]
[null,null,"1986-06-12","Algerien","Spanien",0,3,null,"Monterrey (Tecnológico)"]
[null,null,null,null,null,"(0","2)"]
[]
[null,null,"Spiele","gew","unent","verl","Tore+","Tore-","Punkte+","Punkte-"]
[null,"Brasilien",{"$f":"COUNTIF($S$78:$T$83,\"Brasilien\")","v":3},{"$f":"SUMPRODUCT(($S$78:$T$83=B92)*($X$78:$Y$83=3))","v":3},{"$f":"SUMPRODUCT(($S$78:$T$83=B92)*($X$78:$Y$83=1))","v":0},{"$f":"SUMPRODUCT(($S$78:$T$83=B92)*($X$78:$Y$83=2))","v":0},{"$f":"SUMPRODUCT(($S$78:$S$83=B92)*($U$78:$U$83))+SUMPRODUCT(($T$78:$T$83=B92)*($V$78:$V$83))","v":5},{"$f":"SUMPRODUCT(($S$78:$S$83=B92)*($V$78:$V$83))+SUMPRODUCT(($T$78:$T$83=B92)*($U$78:$U$83))","v":0},{"$f":"(D92*2)+E92","v":6},{"$f":"(F92*2)+E92","v":0}]
[null,"Spanien",{"$f":"COUNTIF($S$78:$T$83,\"Spanien\")","v":3},{"$f":"SUMPRODUCT(($S$78:$T$83=B93)*($X$78:$Y$83=3))","v":2},{"$f":"SUMPRODUCT(($S$78:$T$83=B93)*($X$78:$Y$83=1))","v":0},{"$f":"SUMPRODUCT(($S$78:$T$83=B93)*($X$78:$Y$83=2))","v":1},{"$f":"SUMPRODUCT(($S$78:$S$83=B93)*($U$78:$U$83))+SUMPRODUCT(($T$78:$T$83=B93)*($V$78:$V$83))","v":5},{"$f":"SUMPRODUCT(($S$78:$S$83=B93)*($V$78:$V$83))+SUMPRODUCT(($T$78:$T$83=B93)*($U$78:$U$83))","v":2},{"$f":"(D93*2)+E93","v":4},{"$f":"(F93*2)+E93","v":2}]
[null,"Nordirland",{"$f":"COUNTIF($S$78:$T$83,\"Nordirland\")","v":3},{"$f":"SUMPRODUCT(($S$78:$T$83=B94)*($X$78:$Y$83=3))","v":0},{"$f":"SUMPRODUCT(($S$78:$T$83=B94)*($X$78:$Y$83=1))","v":1},{"$f":"SUMPRODUCT(($S$78:$T$83=B94)*($X$78:$Y$83=2))","v":2},{"$f":"SUMPRODUCT(($S$78:$S$83=B94)*($U$78:$U$83))+SUMPRODUCT(($T$78:$T$83=B94)*($V$78:$V$83))","v":2},{"$f":"SUMPRODUCT(($S$78:$S$83=B94)*($V$78:$V$83))+SUMPRODUCT(($T$78:$T$83=B94)*($U$78:$U$83))","v":6},{"$f":"(D94*2)+E94","v":1},{"$f":"(F94*2)+E94","v":5}]
[null,"Algerien",{"$f":"COUNTIF($S$78:$T$83,\"Algerien\")","v":3},{"$f":"SUMPRODUCT(($S$78:$T$83=B95)*($X$78:$Y$83=3))","v":0},{"$f":"SUMPRODUCT(($S$78:$T$83=B95)*($X$78:$Y$83=1))","v":1},{"$f":"SUMPRODUCT(($S$78:$T$83=B95)*($X$78:$Y$83=2))","v":2},{"$f":"SUMPRODUCT(($S$78:$S$83=B95)*($U$78:$U$83))+SUMPRODUCT(($T$78:$T$83=B95)*($V$78:$V$83))","v":1},{"$f":"SUMPRODUCT(($S$78:$S$83=B95)*($V$78:$V$83))+SUMPRODUCT(($T$78:$T$83=B95)*($U$78:$U$83))","v":5},{"$f":"(D95*2)+E95","v":1},{"$f":"(F95*2)+E95","v":5}]
[]
[]
[null,null,null,null,null,"Gruppe E"]
[]
[null,null,"1986-06-04","Uruguay","BRD",1,1,null,"Querétaro",null,null,null,null,null,null,null,null,null,"Uruguay","BRD",1,1,null,{"$f":"(IF(U100>V100,3,IF(U100=V100,1,2)))","v":1},{"$f":"(IF(V100>U100,3,IF(U100=V100,1,2)))","v":1}]
[null,null,null,null,null,"(1","0)",null,null,null,null,null,null,null,null,null,null,null,"Schottland","Dänemark",0,1,null,{"$f":"(IF(U101>V101,3,IF(U101=V101,1,2)))","v":2},{"$f":"(IF(V101>U101,3,IF(U101=V101,1,2)))","v":3}]
[null,null,"1986-06-04","Schottland","Dänemark",0,1,null,"Nezahualcóyotl",null,null,null,null,null,null,null,null,null,"BRD","Schottland",2,1,null,3,2]
[null,null,null,null,null,"(0","0)",null,null,null,null,null,null,null,null,null,null,null,"Dänemark","Uruguay",6,1,null,3,2]
[null,null,"1986-06-08","BRD","Schottland",2,1,null,"Querétaro",null,null,null,null,null,null,null,null,null,"Dänemark","BRD",2,0,null,3,2]
[null,null,null,null,null,"(1","1)",null,null,null,null,null,null,null,null,null,null,null,"Schottland","Uruguay",0,0,null,1,1]
[null,null,"1986-06-08","Dänemark","Uruguay",6,1,null,"Nezahualcóyotl"]
[null,null,null,null,null,"(2","1)"]
[null,null,"1986-06-13","Dänemark","BRD",2,0,null,"Querétaro"]
[null,null,null,null,null,"(1","0)"]
[null,null,"1986-06-13","Schottland","Uruguay",0,0,null,"Nezahualcóyotl"]
[]
[]
[null,null,"Spiele","gew","unent","verl","Tore+","Tore-","Punkte+","Punkte-"]
[null,"Dänemark",{"$f":"COUNTIF($S$100:$T$105,\"Dänemark\")","v":3},{"$f":"SUMPRODUCT(($S$100:$T$105=B114)*($X$100:$Y$105=3))","v":3},{"$f":"SUMPRODUCT(($S$100:$T$105=B114)*($X$100:$Y$105=1))","v":0},{"$f":"SUMPRODUCT(($S$100:$T$105=B114)*($X$100:$Y$105=2))","v":0},{"$f":"SUMPRODUCT(($S$100:$S$105=B114)*($U$100:$U$105))+SUMPRODUCT(($T$100:$T$105=B114)*($V$100:$V$105))","v":9},{"$f":"SUMPRODUCT(($S$100:$S$105=B114)*($V$100:$V$105))+SUMPRODUCT(($T$100:$T$105=B114)*($U$100:$U$105))","v":1},{"$f":"(D114*2)+E114","v":6},{"$f":"(F114*2)+E114","v":0}]
[null,"BRD",{"$f":"COUNTIF($S$100:$T$105,\"BRD\")","v":3},{"$f":"SUMPRODUCT(($S$100:$T$105=B115)*($X$100:$Y$105=3))","v":1},{"$f":"SUMPRODUCT(($S$100:$T$105=B115)*($X$100:$Y$105=1))","v":1},{"$f":"SUMPRODUCT(($S$100:$T$105=B115)*($X$100:$Y$105=2))","v":1},{"$f":"SUMPRODUCT(($S$100:$S$105=B115)*($U$100:$U$105))+SUMPRODUCT(($T$100:$T$105=B115)*($V$100:$V$105))","v":3},{"$f":"SUMPRODUCT(($S$100:$S$105=B115)*($V$100:$V$105))+SUMPRODUCT(($T$100:$T$105=B115)*($U$100:$U$105))","v":4},{"$f":"(D115*2)+E115","v":3},{"$f":"(F115*2)+E115","v":3}]
[null,"Uruguay",{"$f":"COUNTIF($S$100:$T$105,\"Uruguay\")","v":3},{"$f":"SUMPRODUCT(($S$100:$T$105=B116)*($X$100:$Y$105=3))","v":0},{"$f":"SUMPRODUCT(($S$100:$T$105=B116)*($X$100:$Y$105=1))","v":2},{"$f":"SUMPRODUCT(($S$100:$T$105=B116)*($X$100:$Y$105=2))","v":1},{"$f":"SUMPRODUCT(($S$100:$S$105=B116)*($U$100:$U$105))+SUMPRODUCT(($T$100:$T$105=B116)*($V$100:$V$105))","v":2},{"$f":"SUMPRODUCT(($S$100:$S$105=B116)*($V$100:$V$105))+SUMPRODUCT(($T$100:$T$105=B116)*($U$100:$U$105))","v":7},{"$f":"(D116*2)+E116","v":2},{"$f":"(F116*2)+E116","v":4}]
[null,"Schottland",{"$f":"COUNTIF($S$100:$T$105,\"Schottland\")","v":3},{"$f":"SUMPRODUCT(($S$100:$T$105=B117)*($X$100:$Y$105=3))","v":0},{"$f":"SUMPRODUCT(($S$100:$T$105=B117)*($X$100:$Y$105=1))","v":1},{"$f":"SUMPRODUCT(($S$100:$T$105=B117)*($X$100:$Y$105=2))","v":2},{"$f":"SUMPRODUCT(($S$100:$S$105=B117)*($U$100:$U$105))+SUMPRODUCT(($T$100:$T$105=B117)*($V$100:$V$105))","v":1},{"$f":"SUMPRODUCT(($S$100:$S$105=B117)*($V$100:$V$105))+SUMPRODUCT(($T$100:$T$105=B117)*($U$100:$U$105))","v":3},{"$f":"(D117*2)+E117","v":1},{"$f":"(F117*2)+E117","v":5}]
[]
[]
[null,null,null,null,null,"Gruppe F"]
[]
[null,null,"1986-06-02","Marokko","Polen",0,0,null,"Monterrey (Universitario)",null,null,null,null,null,null,null,null,null,"Marokko","Polen",0,0,null,{"$f":"(IF(U122>V122,3,IF(U122=V122,1,2)))","v":1},{"$f":"(IF(V122>U122,3,IF(U122=V122,1,2)))","v":1}]
[null,null,"1986-06-03","Portugal","England",1,0,null,"Monterrey (Tecnológico)",null,null,null,null,null,null,null,null,null,"Portugal","England",1,0,null,3,2]
[null,null,null,null,null,"(0","0)",null,null,null,null,null,null,null,null,null,null,null,"England","Marokko",0,0,null,1,1]
[null,null,"1986-06-06","England","Marokko",0,0,null,"Monterrey (Tecnológico)",null,null,null,null,null,null,null,null,null,"Polen","Portugal",1,0,null,3,2]
[null,null,"1986-06-07","Polen","Portugal",1,0,null,"Monterrey (Universitario)",null,null,null,null,null,null,null,null,null,"Portugal","Marokko",1,3,null,2,3]
[null,null,null,null,null,"(0","0)",null,null,null,null,null,null,null,null,null,null,null,"England","Polen",3,0,null,3,2]
[null,null,"1986-06-11","Portugal","Marokko",1,3,null,"Guadalajara (Estadio Tres de Marzo)"]
[null,null,null,null,null,"(0","2)"]
[null,null,"1986-06-11","England","Polen",3,0,null,"Monterrey (Tecnológico)"]
[null,null,null,null,null,"(3","0)"]
[]
[null,null,"Spiele","gew","unent","verl","Tore+","Tore-","Punkte+","Punkte-"]
[null,"Marokko",{"$f":"COUNTIF($S$122:$T$127,\"Marokko\")","v":3},{"$f":"SUMPRODUCT(($S$122:$T$127=B134)*($X$122:$Y$127=3))","v":1},{"$f":"SUMPRODUCT(($S$122:$T$127=B134)*($X$122:$Y$127=1))","v":2},{"$f":"SUMPRODUCT(($S$122:$T$127=B134)*($X$122:$Y$127=2))","v":0},{"$f":"SUMPRODUCT(($S$122:$S$127=B134)*($U$122:$U$127))+SUMPRODUCT(($T$122:$T$127=B134)*($V$122:$V$127))","v":3},{"$f":"SUMPRODUCT(($S$122:$S$127=B134)*($V$122:$V$127))+SUMPRODUCT(($T$122:$T$127=B134)*($U$122:$U$127))","v":1},{"$f":"(D134*2)+E134","v":4},{"$f":"(F134*2)+E134","v":2}]
[null,"England",{"$f":"COUNTIF($S$122:$T$127,\"England\")","v":3},{"$f":"SUMPRODUCT(($S$122:$T$127=B135)*($X$122:$Y$127=3))","v":1},{"$f":"SUMPRODUCT(($S$122:$T$127=B135)*($X$122:$Y$127=1))","v":1},{"$f":"SUMPRODUCT(($S$122:$T$127=B135)*($X$122:$Y$127=2))","v":1},{"$f":"SUMPRODUCT(($S$122:$S$127=B135)*($U$122:$U$127))+SUMPRODUCT(($T$122:$T$127=B135)*($V$122:$V$127))","v":3},{"$f":"SUMPRODUCT(($S$122:$S$127=B135)*($V$122:$V$127))+SUMPRODUCT(($T$122:$T$127=B135)*($U$122:$U$127))","v":1},{"$f":"(D135*2)+E135","v":3},{"$f":"(F135*2)+E135","v":3}]
[null,"Polen",{"$f":"COUNTIF($S$122:$T$127,\"Polen\")","v":3},{"$f":"SUMPRODUCT(($S$122:$T$127=B136)*($X$122:$Y$127=3))","v":1},{"$f":"SUMPRODUCT(($S$122:$T$127=B136)*($X$122:$Y$127=1))","v":1},{"$f":"SUMPRODUCT(($S$122:$T$127=B136)*($X$122:$Y$127=2))","v":1},{"$f":"SUMPRODUCT(($S$122:$S$127=B136)*($U$122:$U$127))+SUMPRODUCT(($T$122:$T$127=B136)*($V$122:$V$127))","v":1},{"$f":"SUMPRODUCT(($S$122:$S$127=B136)*($V$122:$V$127))+SUMPRODUCT(($T$122:$T$127=B136)*($U$122:$U$127))","v":3},{"$f":"(D136*2)+E136","v":3},{"$f":"(F136*2)+E136","v":3}]
[null,"Portugal",{"$f":"COUNTIF($S$122:$T$127,\"Portugal\")","v":3},{"$f":"SUMPRODUCT(($S$122:$T$127=B137)*($X$122:$Y$127=3))","v":1},{"$f":"SUMPRODUCT(($S$122:$T$127=B137)*($X$122:$Y$127=1))","v":0},{"$f":"SUMPRODUCT(($S$122:$T$127=B137)*($X$122:$Y$127=2))","v":2},{"$f":"SUMPRODUCT(($S$122:$S$127=B137)*($U$122:$U$127))+SUMPRODUCT(($T$122:$T$127=B137)*($V$122:$V$127))","v":2},{"$f":"SUMPRODUCT(($S$122:$S$127=B137)*($V$122:$V$127))+SUMPRODUCT(($T$122:$T$127=B137)*($U$122:$U$127))","v":4},{"$f":"(D137*2)+E137","v":2},{"$f":"(F137*2)+E137","v":4}]
[]
[]
[null,null,null,null,null,"Rangliste der Gruppendritten:"]
[]
[null,"Nation","Spiele","gew","unent","verl","Tore+","Tore-","Punkte+","Punkte-"]
[null,"Belgien",3,1,1,1,5,5,3,3]
[null,"Polen",3,1,1,1,1,3,3,3]
[null,"Bulgarien",3,0,2,1,2,4,2,4]
[null,"Uruguay",3,0,2,1,2,7,2,4]
[null,"Ungarn",3,1,0,2,2,9,2,4]
[null,"Nordirland",3,0,1,2,2,6,1,5]
[]
[]
[null,null,null,null,null,"Achtelfinale:"]
[]
[null,null,"1986-06-15","Mexiko","Bulgarien",2,0,null,"Mexiko-Stadt",null,null,null,null,null,null,null,null,null,"Mexiko","Bulgarien",2,0,null,{"$f":"(IF(U153>V153,3,IF(U153=V153,1,2)))","v":3},{"$f":"(IF(V153>U153,3,IF(U153=V153,1,2)))","v":2}]
[null,null,null,null,null,"(1","0)",null,null,null,null,null,null,null,null,null,null,null,"UdSSR","Belgien",3,4,null,2,3]
[null,null,"1986-06-15","UdSSR","Belgien",3,4,"n.V.","León",null,null,null,null,null,null,null,null,null,"Brasilien","Polen",4,0,null,3,2]
[null,null,null,null,null,2,2,null,null,null,null,null,null,null,null,null,null,null,"Argentinien","Uruguay",1,0,null,3,2]
[null,null,null,null,null,"(1","0)",null,null,null,null,null,null,null,null,null,null,null,"Italien","Frankreich",0,2,null,2,3]
[null,null,"1986-06-16","Brasilien","Polen",4,0,null,"Guadalajara",null,null,null,null,null,null,null,null,null,"Marokko","BRD",0,1,null,2,3]
[null,null,null,null,null,"(1","0)",null,null,null,null,null,null,null,null,null,null,null,"England","Paraguay",3,0,null,3,2]
[null,null,"1986-06-16","Argentinien","Uruguay",1,0,null,"Puebla",null,null,null,null,null,null,null,null,null,"Dänemark","Spanien",1,5,null,2,3]
[null,null,null,null,null,"(1","0)"]
[null,null,"1986-06-17","Italien","Frankreich",0,2,null,"Mexiko-Stadt (Olympiastadion)"]
[null,null,null,null,null,"(0","1)"]
[null,null,"1986-06-17","Marokko","BRD",0,1,null,"Monterrey (Universitario)"]
[null,null,null,null,null,"(0","0)"]
[null,null,"1986-06-18","England","Paraguay",3,0,null,"Mexiko-Stadt"]
[null,null,null,null,null,"(1","0)"]
[null,null,"1986-06-18","Dänemark","Spanien",1,5,null,"Querétaro"]
[null,null,null,null,null,"(1","1)"]
[]
[]
[null,null,null,null,null,"Viertelfinale:"]
[]
[null,null,"1986-06-21","Brasilien","Frankreich",3,4,"n.E.","Guadalajara",null,null,null,null,null,null,null,null,null,"Brasilien","Frankreich",4,5,null,{"$f":"(IF(U174>V174,3,IF(U174=V174,1,2)))","v":2},{"$f":"(IF(V174>U174,3,IF(U174=V174,1,2)))","v":3}]
[null,null,null,null,null,1,1,"n.V.",null,null,null,null,null,null,null,null,null,null,"BRD","Mexiko",4,1,null,3,2]
[null,null,null,null,null,1,1,null,null,null,null,null,null,null,null,null,null,null,"Argentinien","England",2,1,null,3,2]
[null,null,null,null,null,"(1","1)",null,null,null,null,null,null,null,null,null,null,null,"Spanien","Belgien",5,6,null,2,3]
[null,null,"1986-06-21","BRD","Mexiko",4,1,"n.E.","Monterrey (Universitario)"]
[null,null,null,null,null,0,0,"n.V."]
[null,null,null,null,null,0,0]
[null,null,null,null,null,"(0","0)"]
[null,null,"1986-06-22","Argentinien","England",2,1,null,"Mexiko-Stadt"]
[null,null,null,null,null,"(0","0)"]
[null,null,"1986-06-22","Spanien","Belgien",4,5,"n.E.","Puebla"]
[null,null,null,null,null,1,1,"n.V."]
[null,null,null,null,null,1,1]
[null,null,null,null,null,"(0","1)"]
[]
[]
[null,null,null,null,null,"Halbfinale:"]
[]
[null,null,"1986-06-25","Frankreich","BRD",0,2,null,"Guadalajara",null,null,null,null,null,null,null,null,null,"Frankreich","BRD",0,2,null,{"$f":"(IF(U192>V192,3,IF(U192=V192,1,2)))","v":2},{"$f":"(IF(V192>U192,3,IF(U192=V192,1,2)))","v":3}]
[null,null,null,null,null,"(0","1)",null,null,null,null,null,null,null,null,null,null,null,"Argentinien","Belgien",2,0,null,3,2]
[null,null,"1986-06-25","Argentinien","Belgien",2,0,null,"Mexiko-Stadt"]
[null,null,null,null,null,"(0","0)"]
[]
[]
[null,null,"Spiel um Platz 3 am 28. Juli 1986 in Puebla:"]
[null,null,null,null,"Frankreich",null,"Belgien",null,null,null,null,null,null,null,null,null,null,null,"Frankreich","Belgien",4,2,null,{"$f":"(IF(U199>V199,3,IF(U199=V199,1,2)))","v":3},{"$f":"(IF(V199>U199,3,IF(U199=V199,1,2)))","v":2}]
[null,null,null,null,4,null,2,"n.V."]
[null,null,null,null,2,null,2]
[null,null,null,null,"(2",null,"1)"]
[]
[]
[]
[]
[null,null,"Endspiel am 29. Juli 1986 in Mexiko-Stadt"]
[null,null,null,null,"BRD",null,"Argentinien",null,null,null,null,null,null,null,null,null,null,null,"BRD","Argentinien",2,3,null,2,3]
[null,null,null,null,2,null,3]
[null,null,null,null,"(0",null,"1)"]
[]
[]
[]
[]
["Auswertung","Nation","Spiele","gew","unent","verl","Tore+","Tore-","Punkte+","Punkte-"]
[null,"Argentinien",{"$f":"COUNTIF($S$12:$T$208,\"Argentinien\")","v":7},{"$f":"SUMPRODUCT(($S$12:$T$208=B216)*($X$12:$Y$208=3))","v":6},{"$f":"SUMPRODUCT(($S$12:$T$208=B216)*($X$12:$Y$208=1))","v":1},{"$f":"SUMPRODUCT(($S$12:$T$208=B216)*($X$12:$Y$208=2))","v":0},{"$f":"SUMPRODUCT(($S$12:$S$208=B216)*($U$12:$U$208))+SUMPRODUCT(($T$12:$T$208=B216)*($V$12:$V$208))","v":14},{"$f":"SUMPRODUCT(($S$12:$S$208=B216)*($V$12:$V$208))+SUMPRODUCT(($T$12:$T$208=B216)*($U$12:$U$208))","v":5},{"$f":"(D216*2)+E216","v":13},{"$f":"(F216*2)+E216","v":1}]
[null,"Frankreich",{"$f":"COUNTIF($S$12:$T$208,\"Frankreich\")","v":7},5,1,1,16,9,11,3]
[null,"BRD",{"$f":"COUNTIF($S$12:$T$208,\"BRD\")","v":7},4,1,2,12,8,9,5]
[null,"Brasilien",{"$f":"COUNTIF($S$12:$T$208,\"Brasilien\")","v":5},4,0,1,13,5,8,2]
[null,"Mexiko",{"$f":"COUNTIF($S$12:$T$208,\"Mexiko\")","v":5},3,1,1,7,6,7,3]
[null,"Belgien",{"$f":"COUNTIF($S$12:$T$208,\"Belgien\")","v":7},3,1,3,17,19,7,7]
[null,"Dänemark",{"$f":"COUNTIF($S$12:$T$208,\"Dänemark\")","v":4},3,0,1,10,6,6,2]
[null,"Spanien",{"$f":"COUNTIF($S$12:$T$208,\"Spanien\")","v":5},3,0,2,15,9,6,4]
[null,"UdSSR",{"$f":"COUNTIF($S$12:$T$208,\"UdSSR\")","v":4},2,1,1,12,5,5,3]
[null,"England",{"$f":"COUNTIF($S$12:$T$208,\"England\")","v":5},2,1,2,7,3,5,5]
[null,"Italien",{"$f":"COUNTIF($S$12:$T$208,\"Italien\")","v":4},1,2,1,5,6,4,4]
[null,"Paraguay",{"$f":"COUNTIF($S$12:$T$208,\"Paraguay\")","v":4},1,2,1,4,6,4,4]
[null,"Marokko",{"$f":"COUNTIF($S$12:$T$208,\"Marokko\")","v":4},1,2,1,3,2,4,4]
[null,"Polen",{"$f":"COUNTIF($S$12:$T$208,\"Polen\")","v":4},1,1,2,1,7,3,5]
[null,"Portugal",{"$f":"COUNTIF($S$12:$T$208,\"Portugal\")","v":3},1,0,2,2,4,2,4]
[null,"Ungarn",{"$f":"COUNTIF($S$12:$T$208,\"Ungarn\")","v":3},1,0,2,2,9,2,4]
[null,"Bulgarien",{"$f":"COUNTIF($S$12:$T$208,\"Bulgarien\")","v":4},0,2,2,2,6,2,6]
[null,"Uruguay",{"$f":"COUNTIF($S$12:$T$208,\"Uruguay\")","v":4},0,2,2,2,8,2,6]
[null,"Südkorea",{"$f":"COUNTIF($S$12:$T$208,\"Südkorea\")","v":3},0,1,2,4,7,1,5]
[null,"Nordirland",{"$f":"COUNTIF($S$12:$T$208,\"Nordirland\")","v":3},0,1,2,2,6,1,5]
[null,"Schottland",{"$f":"COUNTIF($S$12:$T$208,\"Schottland\")","v":3},0,1,2,1,3,1,5]
[null,"Algerien",{"$f":"COUNTIF($S$12:$T$208,\"Algerien\")","v":3},0,1,2,1,5,1,5]
[null,"Irak",{"$f":"COUNTIF($S$12:$T$208,\"Irak\")","v":3},0,0,3,1,4,0,6]
[null,"Kanada",{"$f":"COUNTIF($S$12:$T$208,\"Kanada\")","v":3},0,0,3,0,5,0,6]

{"sheet":"1990","index":13,"n_rows":251,"n_cols":27,"rows_kept":251,"cut":false,"hidden":false,"merged":[[1,0,1,10],[3,0,3,10],[4,0,4,10],[208,2,208,8],[217,2,217,8]]}
[]
["14. WM 1990 in Italien"]
[]
["8. Juni-8. Juli 1990"]
["Teilnehmende Nationen: 24 --- Bewerbungen: 112"]
[]
[]
[]
[]
[null,null,null,null,null,"Gruppe A"]
[]
[null,null,"1990-06-09","Italien","Österreich",1,0,null,"Rom",null,null,null,null,null,null,null,null,null,"Italien","Österreich",1,0,null,{"$f":"(IF(U12>V12,3,IF(U12=V12,1,2)))","v":3},{"$f":"(IF(V12>U12,3,IF(U12=V12,1,2)))","v":2},null,"BRD"]
[null,null,null,null,null,"(0","0)",null,null,null,null,null,null,null,null,null,null,null,"USA","ČSFR",1,5,null,2,3,null,"Italien"]
[null,null,"1990-06-10","USA","ČSFR",1,5,null,"Florenz",null,null,null,null,null,null,null,null,null,"Italien","USA",1,0,null,{"$f":"(IF(U14>V14,3,IF(U14=V14,1,2)))","v":3},{"$f":"(IF(V14>U14,3,IF(U14=V14,1,2)))","v":2},null,"Argentinien"]
[null,null,null,null,null,"(0","2)",null,null,null,null,null,null,null,null,null,null,null,"Österreich","ČSFR",0,1,null,2,3,null,"England"]
[null,null,"1990-06-14","Italien","USA",1,0,null,"Rom",null,null,null,null,null,null,null,null,null,"Italien","ČSFR",2,0,null,3,2,null,"Brasilien"]
[null,null,null,null,null,"(1","0)",null,null,null,null,null,null,null,null,null,null,null,"Österreich","USA",2,1,null,3,2,null,"ČSFR"]
[null,null,"1990-06-15","Österreich","ČSFR",0,1,null,"Florenz",null,null,null,null,null,null,null,null,null,null,null,null,null,null,null,null,null,"Jugoslawien"]
[null,null,null,null,null,"(0","1)",null,null,null,null,null,null,null,null,null,null,null,null,null,null,null,null,null,null,null,"Kamerun"]
[null,null,"1990-06-19","Italien","ČSFR",2,0,null,"Rom",null,null,null,null,null,null,null,null,null,null,null,null,null,null,null,null,null,"Spanien"]
[null,null,null,null,null,"(1","0)",null,null,null,null,null,null,null,null,null,null,null,null,null,null,null,null,null,null,null,"Irland"]
[null,null,"1990-06-19","Österreich","USA",2,1,null,"Florenz",null,null,null,null,null,null,null,null,null,null,null,null,null,null,null,null,null,"Belgien"]
[null,null,null,null,null,"(0","0)",null,null,null,null,null,null,null,null,null,null,null,null,null,null,null,null,null,null,null,"Costa Rica"]
[null,null,null,null,null,null,null,null,null,null,null,null,null,null,null,null,null,null,null,null,null,null,null,null,null,null,"Rumänien"]
[null,null,null,null,null,null,null,null,null,null,null,null,null,null,null,null,null,null,null,null,null,null,null,null,null,null,"Kolumbien"]
[null,"Nation","Spiele","gew","unent","verl","Tore+","Tore-","Punkte+","Punkte-",null,null,null,null,null,null,null,null,null,null,null,null,null,null,null,null,"Niederlande"]
[null,"Italien",{"$f":"COUNTIF($S$12:$T$17,\"Italien\")","v":3},{"$f":"SUMPRODUCT(($S$12:$T$17=B27)*($X$12:$Y$17=3))","v":3},{"$f":"SUMPRODUCT(($S$12:$T$17=B27)*($X$12:$Y$17=1))","v":0},{"$f":"SUMPRODUCT(($S$12:$T$17=B27)*($X$12:$Y$17=2))","v":0},{"$f":"SUMPRODUCT(($S$12:$S$17=B27)*($U$12:$U$17))+SUMPRODUCT(($T$12:$T$17=B27)*($V$12:$V$17))","v":4},{"$f":"SUMPRODUCT(($S$12:$S$17=B27)*($V$12:$V$17))+SUMPRODUCT(($T$12:$T$17=B27)*($U$12:$U$17))","v":0},{"$f":"(D27*2)+E27","v":6},{"$f":"(F27*2)+E27","v":0},null,null,null,null,null,null,null,null,null,null,null,null,null,null,null,null,"Uruguay"]
[null,"ČSFR",{"$f":"COUNTIF($S$12:$T$17,\"ČSFR\")","v":3},{"$f":"SUMPRODUCT(($S$12:$T$17=B28)*($X$12:$Y$17=3))","v":2},{"$f":"SUMPRODUCT(($S$12:$T$17=B28)*($X$12:$Y$17=1))","v":0},{"$f":"SUMPRODUCT(($S$12:$T$17=B28)*($X$12:$Y$17=2))","v":1},{"$f":"SUMPRODUCT(($S$12:$S$17=B28)*($U$12:$U$17))+SUMPRODUCT(($T$12:$T$17=B28)*($V$12:$V$17))","v":6},{"$f":"SUMPRODUCT(($S$12:$S$17=B28)*($V$12:$V$17))+SUMPRODUCT(($T$12:$T$17=B28)*($U$12:$U$17))","v":3},{"$f":"(D28*2)+E28","v":4},{"$f":"(F28*2)+E28","v":2},null,null,null,null,null,null,null,null,null,null,null,null,null,null,null,null,"UdSSR"]
[null,"Österreich",{"$f":"COUNTIF($S$12:$T$17,\"Österreich\")","v":3},1,0,2,2,3,2,4,null,null,null,null,null,null,null,null,null,null,null,null,null,null,null,null,"Österreich"]
[null,"USA",{"$f":"COUNTIF($S$12:$T$17,\"USA\")","v":3},0,0,3,2,8,0,6,null,null,null,null,null,null,null,null,null,null,null,null,null,null,null,null,"Schottland"]
[null,null,null,null,null,null,null,null,null,null,null,null,null,null,null,null,null,null,null,null,null,null,null,null,null,null,"Ägypten"]
[null,null,null,null,null,null,null,null,null,null,null,null,null,null,null,null,null,null,null,null,null,null,null,null,null,null,"Schweden"]
[null,null,null,null,null,"Gruppe B",null,null,null,null,null,null,null,null,null,null,null,null,null,null,null,null,null,null,null,null,"USA"]
[null,null,null,null,null,null,null,null,null,null,null,null,null,null,null,null,null,null,null,null,null,null,null,null,null,null,"VAE"]
[null,null,"1990-06-08","Argentinien","Kamerun",0,1,null,"Mailand",null,null,null,null,null,null,null,null,null,"Argentinien","Kamerun",0,1,null,{"$f":"(IF(U35>V35,3,IF(U35=V35,1,2)))","v":2},{"$f":"(IF(V35>U35,3,IF(U35=V35,1,2)))","v":3},null,"Südkorea"]
[null,null,null,null,null,"(0","0)",null,null,null,null,null,null,null,null,null,null,null,"UdSSR","Rumänien",0,2,null,{"$f":"(IF(U36>V36,3,IF(U36=V36,1,2)))","v":2},{"$f":"(IF(V36>U36,3,IF(U36=V36,1,2)))","v":3}]
[null,null,"1990-06-09","UdSSR","Rumänien",0,2,null,"Bari",null,null,null,null,null,null,null,null,null,"Argentinien","UdSSR",2,0,null,3,2]
[null,null,null,null,null,"(0","1)",null,null,null,null,null,null,null,null,null,null,null,"Kamerun","Rumänien",2,1,null,3,2]
[null,null,"1990-06-13","Argentinien","UdSSR",2,0,null,"Neapel",null,null,null,null,null,null,null,null,null,"Argentinien","Rumänien",1,1,null,1,1]
[null,null,null,null,null,"(1","0)",null,null,null,null,null,null,null,null,null,null,null,"Kamerun","UdSSR",0,4,null,2,3]
[null,null,"1990-06-14","Kamerun","Rumänien",2,1,null,"Bari"]
[null,null,null,null,null,"(0","0)"]
[null,null,"1990-06-18","Argentinien","Rumänien",1,1,null,"Neapel"]
[null,null,null,null,null,"(0","0)"]
[null,null,"1990-06-18","Kamerun","UdSSR",0,4,null,"Bari"]
[null,null,null,null,null,"(0","2)"]
[]
[]
[null,"Nation","Spiele","gew","unent","verl","Tore+","Tore-","Punkte+","Punkte-"]
[null,"Kamerun",{"$f":"COUNTIF($S$35:$T$40,\"Kamerun\")","v":3},{"$f":"SUMPRODUCT(($S$35:$T$40=B50)*($X$35:$Y$40=3))","v":2},{"$f":"SUMPRODUCT(($S$35:$T$40=B50)*($X$35:$Y$40=1))","v":0},{"$f":"SUMPRODUCT(($S$35:$T$40=B50)*($X$35:$Y$40=2))","v":1},{"$f":"SUMPRODUCT(($S$35:$S$40=B50)*($U$35:$U$40))+SUMPRODUCT(($T$35:$T$40=B50)*($V$35:$V$40))","v":3},{"$f":"SUMPRODUCT(($S$35:$S$40=B50)*($V$35:$V$40))+SUMPRODUCT(($T$35:$T$40=B50)*($U$35:$U$40))","v":5},{"$f":"(D50*2)+E50","v":4},{"$f":"(F50*2)+E50","v":2}]
[null,"Rumänien",{"$f":"COUNTIF($S$35:$T$40,\"Rumänien\")","v":3},{"$f":"SUMPRODUCT(($S$35:$T$40=B51)*($X$35:$Y$40=3))","v":1},{"$f":"SUMPRODUCT(($S$35:$T$40=B51)*($X$35:$Y$40=1))","v":1},{"$f":"SUMPRODUCT(($S$35:$T$40=B51)*($X$35:$Y$40=2))","v":1},{"$f":"SUMPRODUCT(($S$35:$S$40=B51)*($U$35:$U$40))+SUMPRODUCT(($T$35:$T$40=B51)*($V$35:$V$40))","v":4},{"$f":"SUMPRODUCT(($S$35:$S$40=B51)*($V$35:$V$40))+SUMPRODUCT(($T$35:$T$40=B51)*($U$35:$U$40))","v":3},{"$f":"(D51*2)+E51","v":3},{"$f":"(F51*2)+E51","v":3}]
[null,"Argentinien",{"$f":"COUNTIF($S$35:$T$40,\"Argentinien\")","v":3},1,1,1,3,2,3,3]
[null,"UdSSR",{"$f":"COUNTIF($S$35:$T$40,\"UdSSR\")","v":3},1,0,2,4,4,2,4]
[]
[]
[null,null,null,null,null,"Gruppe C"]
[]
[null,null,"1990-06-10","Brasilien","Schweden",2,1,null,"Turin",null,null,null,null,null,null,null,null,null,"Brasilien","Schweden",2,1,null,{"$f":"(IF(U58>V58,3,IF(U58=V58,1,2)))","v":3},{"$f":"(IF(V58>U58,3,IF(U58=V58,1,2)))","v":2}]
[null,null,null,null,null,"(1","0)",null,null,null,null,null,null,null,null,null,null,null,"Costa Rica","Schottland",1,0,null,3,2]
[null,null,"1990-06-11","Costa Rica","Schottland",1,0,null,"Genua",null,null,null,null,null,null,null,null,null,"Brasilien","Costa Rica",1,0,null,3,2]
[null,null,null,null,null,"(0","0)",null,null,null,null,null,null,null,null,null,null,null,"Schweden","Schottland",1,2,null,2,3]
[null,null,"1990-06-16","Brasilien","Costa Rica",1,0,null,"Turin",null,null,null,null,null,null,null,null,null,"Brasilien","Schottland",1,0,null,3,2]
[null,null,null,null,null,"(1","0)",null,null,null,null,null,null,null,null,null,null,null,"Schweden","Costa Rica",1,2,null,2,3]
[null,null,"1990-06-16","Schweden","Schottland",1,2,null,"Genua"]
[null,null,null,null,null,"(0","1)"]
[null,null,"1990-06-20","Brasilien","Schottland",1,0,null,"Turin"]
[null,null,null,null,null,"(0","0)"]
[null,null,"1990-06-20","Schweden","Costa Rica",1,2,null,"Genua"]
[null,null,null,null,null,"(1","0)"]
[]
[]
[null,"Nation","Spiele","gew","unent","verl","Tore+","Tore-","Punkte+","Punkte-"]
[null,"Brasilien",{"$f":"COUNTIF($S$58:$T$63,\"Brasilien\")","v":3},{"$f":"SUMPRODUCT(($S$58:$T$63=B73)*($X$58:$Y$63=3))","v":3},{"$f":"SUMPRODUCT(($S$58:$T$63=B73)*($X$58:$Y$63=1))","v":0},{"$f":"SUMPRODUCT(($S$58:$T$63=B73)*($X$58:$Y$63=2))","v":0},{"$f":"SUMPRODUCT(($S$58:$S$63=B73)*($U$58:$U$63))+SUMPRODUCT(($T$58:$T$63=B73)*($V$58:$V$63))","v":4},{"$f":"SUMPRODUCT(($S$58:$S$63=B73)*($V$58:$V$63))+SUMPRODUCT(($T$58:$T$63=B73)*($U$58:$U$63))","v":1},{"$f":"(D73*2)+E73","v":6},{"$f":"(F73*2)+E73","v":0}]
[null,"Costa Rica",{"$f":"COUNTIF($S$58:$T$63,\"Costa Rica\")","v":3},{"$f":"SUMPRODUCT(($S$58:$T$63=B74)*($X$58:$Y$63=3))","v":2},{"$f":"SUMPRODUCT(($S$58:$T$63=B74)*($X$58:$Y$63=1))","v":0},{"$f":"SUMPRODUCT(($S$58:$T$63=B74)*($X$58:$Y$63=2))","v":1},{"$f":"SUMPRODUCT(($S$58:$S$63=B74)*($U$58:$U$63))+SUMPRODUCT(($T$58:$T$63=B74)*($V$58:$V$63))","v":3},{"$f":"SUMPRODUCT(($S$58:$S$63=B74)*($V$58:$V$63))+SUMPRODUCT(($T$58:$T$63=B74)*($U$58:$U$63))","v":2},{"$f":"(D74*2)+E74","v":4},{"$f":"(F74*2)+E74","v":2}]
[null,"Schottland",{"$f":"COUNTIF($S$58:$T$63,\"Schottland\")","v":3},1,0,2,2,3,2,4]
[null,"Schweden",{"$f":"COUNTIF($S$58:$T$63,\"Schweden\")","v":3},0,0,3,3,6,0,6]
[]
[]
[null,null,null,null,null,"Gruppe D"]
[]
[null,null,"1990-06-09","VAE","Kolumbien",0,2,null,"Bologna",null,null,null,null,null,null,null,null,null,"VAE","Kolumbien",0,2,null,{"$f":"(IF(U81>V81,3,IF(U81=V81,1,2)))","v":2},{"$f":"(IF(V81>U81,3,IF(U81=V81,1,2)))","v":3}]
[null,null,null,null,null,"(0","0)",null,null,null,null,null,null,null,null,null,null,null,"BRD","Jugoslawien",4,1,null,3,2]
[null,null,"1990-06-10","BRD","Jugoslawien",4,1,null,"Mailand",null,null,null,null,null,null,null,null,null,"Jugoslawien","Kolumbien",1,0,null,3,2]
[null,null,null,null,null,"(2","0)",null,null,null,null,null,null,null,null,null,null,null,"BRD","VAE",5,1,null,3,2]
[null,null,"1990-06-14","Jugoslawien","Kolumbien",1,0,null,"Bologna",null,null,null,null,null,null,null,null,null,"BRD","Kolumbien",1,1,null,1,1]
[null,null,null,null,null,"(0","0)",null,null,null,null,null,null,null,null,null,null,null,"Jugoslawien","VAE",4,1,null,3,2]
[null,null,"1990-06-15","BRD","VAE",5,1,null,"Mailand"]
[null,null,null,null,null,"(2","0)"]
[null,null,"1990-06-19","BRD","Kolumbien",1,1,null,"Mailand"]
[null,null,null,null,null,"(0","0)"]
[null,null,"1990-06-19","Jugoslawien","VAE",4,1,null,"Bologna"]
[null,null,null,null,null,"(2","1)"]
[]
[]
[null,"Nation","Spiele","gew","unent","verl","Tore+","Tore-","Punkte+","Punkte-"]
[null,"BRD",{"$f":"COUNTIF($S$81:$T$86,\"BRD\")","v":3},{"$f":"SUMPRODUCT(($S$81:$T$86=B96)*($X$81:$Y$86=3))","v":2},{"$f":"SUMPRODUCT(($S$81:$T$86=B96)*($X$81:$Y$86=1))","v":1},{"$f":"SUMPRODUCT(($S$81:$T$86=B96)*($X$81:$Y$86=2))","v":0},{"$f":"SUMPRODUCT(($S$81:$S$86=B96)*($U$81:$U$86))+SUMPRODUCT(($T$81:$T$86=B96)*($V$81:$V$86))","v":10},{"$f":"SUMPRODUCT(($S$81:$S$86=B96)*($V$81:$V$86))+SUMPRODUCT(($T$81:$T$86=B96)*($U$81:$U$86))","v":3},{"$f":"(D96*2)+E96","v":5},{"$f":"(F96*2)+E96","v":1}]
[null,"Jugoslawien",{"$f":"COUNTIF($S$81:$T$86,\"Jugoslawien\")","v":3},{"$f":"SUMPRODUCT(($S$81:$T$86=B97)*($X$81:$Y$86=3))","v":2},{"$f":"SUMPRODUCT(($S$81:$T$86=B97)*($X$81:$Y$86=1))","v":0},{"$f":"SUMPRODUCT(($S$81:$T$86=B97)*($X$81:$Y$86=2))","v":1},{"$f":"SUMPRODUCT(($S$81:$S$86=B97)*($U$81:$U$86))+SUMPRODUCT(($T$81:$T$86=B97)*($V$81:$V$86))","v":6},{"$f":"SUMPRODUCT(($S$81:$S$86=B97)*($V$81:$V$86))+SUMPRODUCT(($T$81:$T$86=B97)*($U$81:$U$86))","v":5},{"$f":"(D97*2)+E97","v":4},{"$f":"(F97*2)+E97","v":2}]
[null,"Kolumbien",{"$f":"COUNTIF($S$81:$T$86,\"Kolumbien\")","v":3},1,1,1,3,2,3,3]
[null,"VAE",{"$f":"COUNTIF($S$81:$T$86,\"VAE\")","v":3},0,0,3,2,11,0,6]
[]
[]
[null,null,null,null,null,"Gruppe E"]
[]
[null,null,"1990-06-12","Belgien","Südkorea",2,0,null,"Verona",null,null,null,null,null,null,null,null,null,"Belgien","Südkorea",2,0,null,{"$f":"(IF(U104>V104,3,IF(U104=V104,1,2)))","v":3},{"$f":"(IF(V104>U104,3,IF(U104=V104,1,2)))","v":2}]
[null,null,null,null,null,"(0","0)",null,null,null,null,null,null,null,null,null,null,null,"Uruguay","Spanien",0,0,null,1,1]
[null,null,"1990-06-13","Uruguay","Spanien",0,0,null,"Udine",null,null,null,null,null,null,null,null,null,"Belgien","Uruguay",3,1,null,3,2]
[null,null,"1990-06-17","Belgien","Uruguay",3,1,null,"Verona",null,null,null,null,null,null,null,null,null,"Südkorea","Spanien",1,3,null,2,3]
[null,null,null,null,null,"(2","0)",null,null,null,null,null,null,null,null,null,null,null,"Belgien","Spanien",1,2,null,2,3]
[null,null,"1990-06-17","Südkorea","Spanien",1,3,null,"Udine",null,null,null,null,null,null,null,null,null,"Südkorea","Uruguay",0,1,null,2,3]
[null,null,null,null,null,"(1","1)"]
[null,null,"1990-06-21","Belgien","Spanien",1,2,null,"Verona"]
[null,null,null,null,null,"(1","2)"]
[null,null,"1990-06-21","Südkorea","Uruguay",0,1,null,"Udine"]
[null,null,null,null,null,"(0","0)"]
[]
[]
[null,"Nation","Spiele","gew","unent","verl","Tore+","Tore-","Punkte+","Punkte-"]
[null,"Spanien",{"$f":"COUNTIF($S$104:$T$109,\"Spanien\")","v":3},{"$f":"SUMPRODUCT(($S$104:$T$109=B118)*($X$104:$Y$109=3))","v":2},{"$f":"SUMPRODUCT(($S$104:$T$109=B118)*($X$104:$Y$109=1))","v":1},{"$f":"SUMPRODUCT(($S$104:$T$109=B118)*($X$104:$Y$109=2))","v":0},{"$f":"SUMPRODUCT(($S$104:$S$109=B118)*($U$104:$U$109))+SUMPRODUCT(($T$104:$T$109=B118)*($V$104:$V$109))","v":5},{"$f":"SUMPRODUCT(($S$104:$S$109=B118)*($V$104:$V$109))+SUMPRODUCT(($T$104:$T$109=B118)*($U$104:$U$109))","v":2},{"$f":"(D118*2)+E118","v":5},{"$f":"(F118*2)+E118","v":1}]
[null,"Belgien",{"$f":"COUNTIF($S$104:$T$109,\"Belgien\")","v":3},{"$f":"SUMPRODUCT(($S$104:$T$109=B119)*($X$104:$Y$109=3))","v":2},{"$f":"SUMPRODUCT(($S$104:$T$109=B119)*($X$104:$Y$109=1))","v":0},{"$f":"SUMPRODUCT(($S$104:$T$109=B119)*($X$104:$Y$109=2))","v":1},{"$f":"SUMPRODUCT(($S$104:$S$109=B119)*($U$104:$U$109))+SUMPRODUCT(($T$104:$T$109=B119)*($V$104:$V$109))","v":6},{"$f":"SUMPRODUCT(($S$104:$S$109=B119)*($V$104:$V$109))+SUMPRODUCT(($T$104:$T$109=B119)*($U$104:$U$109))","v":3},{"$f":"(D119*2)+E119","v":4},{"$f":"(F119*2)+E119","v":2}]
[null,"Uruguay",{"$f":"COUNTIF($S$104:$T$109,\"Uruguay\")","v":3},1,1,1,2,3,3,3]
[null,"Südkorea",{"$f":"COUNTIF($S$104:$T$109,\"Südkorea\")","v":3},0,0,3,1,6,0,6]
[]
[]
[null,null,null,null,null,"Gruppe F"]
[]
[null,null,"1990-06-11","England","Irland",1,1,null,"Cagliari",null,null,null,null,null,null,null,null,null,"England","Irland",1,1,null,{"$f":"(IF(U126>V126,3,IF(U126=V126,1,2)))","v":1},{"$f":"(IF(V126>U126,3,IF(U126=V126,1,2)))","v":1}]
[null,null,null,null,null,"(1","0)",null,null,null,null,null,null,null,null,null,null,null,"Niederlande","Ägypten",1,1,null,1,1]
[null,null,"1990-06-12","Niederlande","Ägypten",1,1,null,"Palermo",null,null,null,null,null,null,null,null,null,"England","Niederlande",0,0,null,1,1]
[null,null,null,null,null,"(0","0)",null,null,null,null,null,null,null,null,null,null,null,"Irland","Ägypten",0,0,null,1,1]
[null,null,"1990-06-16","England","Niederlande",0,0,null,"Cagliari",null,null,null,null,null,null,null,null,null,"England","Ägypten",1,0,null,3,2]
[null,null,"1990-06-17","Irland","Ägypten",0,0,null,"Palermo",null,null,null,null,null,null,null,null,null,"Irland","Niederlande",1,1,null,1,1]
[null,null,"1990-06-21","England","Ägypten",1,0,null,"Cagliari"]
[null,null,null,null,null,"(0","0)"]
[null,null,"1990-06-21","Irland","Niederlande",1,1,null,"Palermo"]
[null,null,null,null,null,"(0","1)"]
[]
[null,"Nation","Spiele","gew","unent","verl","Tore+","Tore-","Punkte+","Punkte-"]
[null,"England",{"$f":"COUNTIF($S$126:$T$131,\"England\")","v":3},{"$f":"SUMPRODUCT(($S$126:$T$131=B138)*($X$126:$Y$131=3))","v":1},{"$f":"SUMPRODUCT(($S$126:$T$131=B138)*($X$126:$Y$131=1))","v":2},{"$f":"SUMPRODUCT(($S$126:$T$131=B138)*($X$126:$Y$131=2))","v":0},{"$f":"SUMPRODUCT(($S$126:$S$131=B138)*($U$126:$U$131))+SUMPRODUCT(($T$126:$T$131=B138)*($V$126:$V$131))","v":2},{"$f":"SUMPRODUCT(($S$126:$S$131=B138)*($V$126:$V$131))+SUMPRODUCT(($T$126:$T$131=B138)*($U$126:$U$131))","v":1},{"$f":"(D138*2)+E138","v":4},{"$f":"(F138*2)+E138","v":2}]
[null,"Irland",{"$f":"COUNTIF($S$126:$T$131,\"Irland\")","v":3},{"$f":"SUMPRODUCT(($S$126:$T$131=B139)*($X$126:$Y$131=3))","v":0},{"$f":"SUMPRODUCT(($S$126:$T$131=B139)*($X$126:$Y$131=1))","v":3},{"$f":"SUMPRODUCT(($S$126:$T$131=B139)*($X$126:$Y$131=2))","v":0},{"$f":"SUMPRODUCT(($S$126:$S$131=B139)*($U$126:$U$131))+SUMPRODUCT(($T$126:$T$131=B139)*($V$126:$V$131))","v":2},{"$f":"SUMPRODUCT(($S$126:$S$131=B139)*($V$126:$V$131))+SUMPRODUCT(($T$126:$T$131=B139)*($U$126:$U$131))","v":2},{"$f":"(D139*2)+E139","v":3},{"$f":"(F139*2)+E139","v":3}]
[null,"Niederlande",{"$f":"COUNTIF($S$126:$T$131,\"Niederlande\")","v":3},0,3,0,2,2,3,3]
[null,"Ägypten",{"$f":"COUNTIF($S$126:$T$131,\"Ägypten\")","v":3},0,2,1,1,2,2,4]
[]
[null,null,"Irland durch Losentscheid Gruppenzweiter"]
[]
[]
[null,null,null,null,null,"Rangliste der Gruppendritten:"]
[]
[null,"Nation","Spiele","gew","unent","verl","Tore+","Tore-","Punkte+","Punkte-"]
[null,"Argentinien",3,1,1,1,3,2,3,3]
[null,"Kolumbien",3,1,1,1,3,2,3,3]
[null,"Niederlande",3,0,3,0,2,2,3,3]
[null,"Uruguay",3,1,1,1,2,3,3,3]
[null,"Österreich",3,1,0,2,2,3,2,4]
[null,"Schottland",3,1,0,2,2,3,2,4]
[]
[]
[null,null,null,null,null,"Achtelfinale:"]
[]
[null,null,"1990-06-23","Kamerun","Kolumbien",2,1,"n.V.","Neapel",null,null,null,null,null,null,null,null,null,"Kamerun","Kolumbien",2,1,null,{"$f":"(IF(U159>V159,3,IF(U159=V159,1,2)))","v":3},{"$f":"(IF(V159>U159,3,IF(U159=V159,1,2)))","v":2}]
[null,null,null,null,null,0,0,null,null,null,null,null,null,null,null,null,null,null,"ČSFR","Costa Rica",4,1,null,3,2]
[null,null,null,null,null,"(0","0)",null,null,null,null,null,null,null,null,null,null,null,"Brasilien","Argentinien",0,1,null,2,3]
[null,null,"1990-06-23","ČSFR","Costa Rica",4,1,null,"Bari",null,null,null,null,null,null,null,null,null,"BRD","Niederlande",2,1,null,3,2]
[null,null,null,null,null,"(1","0)",null,null,null,null,null,null,null,null,null,null,null,"Rumänien","Irland",4,5,null,2,3]
[null,null,"1990-06-24","Brasilien","Argentinien",0,1,null,"Turin",null,null,null,null,null,null,null,null,null,"Italien","Uruguay",2,0,null,3,2]
[null,null,null,null,null,"(0","0)",null,null,null,null,null,null,null,null,null,null,null,"Spanien","Jugoslawien",1,2,null,2,3]
[null,null,"1990-06-24","BRD","Niederlande",2,1,null,"Mailand",null,null,null,null,null,null,null,null,null,"England","Belgien",1,0,null,3,2]
[null,null,null,null,null,"(0","0)"]
[null,null,"1990-06-25","Rumänien","Irland",4,5,"n.E.","Genua"]
[null,null,null,null,null,0,0,"n.V."]
[null,null,null,null,null,0,0]
[null,null,null,null,null,"(0","0)"]
[null,null,"1990-06-25","Italien","Uruguay",2,0,null,"Rom"]
[null,null,null,null,null,"(0","0)"]
[null,null,"1990-06-26","Spanien","Jugoslawien",1,2,"n.V.","Verona"]
[null,null,null,null,null,1,1]
[null,null,null,null,null,"(0","0)"]
[null,null,"1990-06-26","England","Belgien",1,0,"n.V.","Bologna"]
[null,null,null,null,null,0,0]
[null,null,null,null,null,"(0","0)"]
[]
[]
[null,null,null,null,null,"Viertelfinale:"]
[]
[null,null,"1990-06-30","Jugoslawien","Argentinien",2,3,"n.E.","Florenz",null,null,null,null,null,null,null,null,null,"Jugoslawien","Argentinien",2,3,null,{"$f":"(IF(U184>V184,3,IF(U184=V184,1,2)))","v":2},{"$f":"(IF(V184>U184,3,IF(U184=V184,1,2)))","v":3}]
[null,null,null,null,null,0,0,"n.V.",null,null,null,null,null,null,null,null,null,null,"Italien","Irland",1,0,null,3,2]
[null,null,null,null,null,0,0,null,null,null,null,null,null,null,null,null,null,null,"BRD","ČSFR",1,0,null,3,2]
[null,null,null,null,null,"(0","0)",null,null,null,null,null,null,null,null,null,null,null,"England","Kamerun",3,2,null,3,2]
[null,null,"1990-06-30","Italien","Irland",1,0,null,"Rom"]
[null,null,null,null,null,"(1","0)"]
[null,null,"1990-07-01","BRD","ČSFR",1,0,null,"Mailand"]
[null,null,null,null,null,"(1","0)"]
[null,null,"1990-07-01","England","Kamerun",3,2,"n.V.","Neapel"]
[null,null,null,null,null,2,2]
[null,null,null,null,null,"(1","0)"]
[]
[]
[null,null,null,null,null,"Halbfinale:"]
[]
[null,null,"1990-07-03","Italien","Argentinien",3,4,"n.E.","Neapel",null,null,null,null,null,null,null,null,null,"Italien","Argentinien",4,5,null,{"$f":"(IF(U199>V199,3,IF(U199=V199,1,2)))","v":2},{"$f":"(IF(V199>U199,3,IF(U199=V199,1,2)))","v":3}]
[null,null,null,null,null,1,1,"n.V.",null,null,null,null,null,null,null,null,null,null,"BRD","England",5,4,null,3,2]
[null,null,null,null,null,1,1]
[null,null,null,null,null,"(1","0)"]
[null,null,"1990-07-04","BRD","England",4,3,"n.E.","Turin"]
[null,null,null,null,null,1,1,"n.V."]
[null,null,null,null,null,1,1]
[null,null,null,null,null,"(0","0)"]
[]
[]
[null,null,"Spiel um Platz 3 am 7. Juli 1990 in Bari:"]
[]
[null,null,null,"Italien","England",2,1,null,null,null,null,null,null,null,null,null,null,null,"Italien","England",2,1,null,{"$f":"(IF(U211>V211,3,IF(U211=V211,1,2)))","v":3},{"$f":"(IF(V211>U211,3,IF(U211=V211,1,2)))","v":2}]
[null,null,null,null,null,"(0","0)"]
[]
[]
[]
[]
[]
[null,null,"Endspiel am 8. Juli 1990 in Rom:"]
[]
[null,null,null,"Argentinien","BRD",0,1,null,null,null,null,null,null,null,null,null,null,null,"Argentinien","BRD",0,1,null,{"$f":"(IF(U220>V220,3,IF(U220=V220,1,2)))","v":2},{"$f":"(IF(V220>U220,3,IF(U220=V220,1,2)))","v":3}]
[null,null,null,null,null,"(0","0)"]
[]
[]
[]
[]
[]
["Auswertung","Nation","Spiele","gew","unent","verl","Tore+","Tore-","Punkte+","Punkte-"]
[null,"BRD",{"$f":"COUNTIF($S$12:$T$220,\"BRD\")","v":7},{"$f":"SUMPRODUCT(($S$12:$T$220=B228)*($X$12:$Y$220=3))","v":6},{"$f":"SUMPRODUCT(($S$12:$T$220=B228)*($X$12:$Y$220=1))","v":1},{"$f":"SUMPRODUCT(($S$12:$T$220=B228)*($X$12:$Y$220=2))","v":0},{"$f":"SUMPRODUCT(($S$12:$S$220=B228)*($U$12:$U$220))+SUMPRODUCT(($T$12:$T$220=B228)*($V$12:$V$220))","v":19},{"$f":"SUMPRODUCT(($S$12:$S$220=B228)*($V$12:$V$220))+SUMPRODUCT(($T$12:$T$220=B228)*($U$12:$U$220))","v":8},{"$f":"(D228*2)+E228","v":13},{"$f":"(F228*2)+E228","v":1}]
[null,"Italien",{"$f":"COUNTIF($S$12:$T$220,\"Italien\")","v":7},6,0,1,13,6,12,2]
[null,"Argentinien",{"$f":"COUNTIF($S$12:$T$220,\"Argentinien\")","v":7},4,1,2,12,9,9,5]
[null,"England",{"$f":"COUNTIF($S$12:$T$220,\"England\")","v":7},3,2,2,11,10,8,6]
[null,"Brasilien",{"$f":"COUNTIF($S$12:$T$220,\"Brasilien\")","v":4},3,0,1,4,2,6,2]
[null,"ČSFR",{"$f":"COUNTIF($S$12:$T$220,\"ČSFR\")","v":5},3,0,2,10,5,6,4]
[null,"Jugoslawien",{"$f":"COUNTIF($S$12:$T$220,\"Jugoslawien\")","v":5},3,0,2,10,9,6,4]
[null,"Kamerun",{"$f":"COUNTIF($S$12:$T$220,\"Kamerun\")","v":5},3,0,2,7,9,6,4]
[null,"Spanien",{"$f":"COUNTIF($S$12:$T$220,\"Spanien\")","v":4},2,1,1,6,4,5,3]
[null,"Irland",{"$f":"COUNTIF($S$12:$T$220,\"Irland\")","v":5},1,3,1,7,7,5,5]
[null,"Belgien",{"$f":"COUNTIF($S$12:$T$220,\"Belgien\")","v":4},2,0,2,6,4,4,4]
[null,"Costa Rica",{"$f":"COUNTIF($S$12:$T$220,\"Costa Rica\")","v":4},2,0,2,4,6,4,4]
[null,"Rumänien",{"$f":"COUNTIF($S$12:$T$220,\"Rumänien\")","v":4},1,1,2,8,8,3,5]
[null,"Kolumbien",{"$f":"COUNTIF($S$12:$T$220,\"Kolumbien\")","v":4},1,1,2,4,4,3,5]
[null,"Niederlande",{"$f":"COUNTIF($S$12:$T$220,\"Niederlande\")","v":4},0,3,1,3,4,3,5]
[null,"Uruguay",{"$f":"COUNTIF($S$12:$T$220,\"Uruguay\")","v":4},1,1,2,2,5,3,5]
[null,"UdSSR",{"$f":"COUNTIF($S$12:$T$220,\"UdSSR\")","v":3},1,0,2,4,4,2,4]
[null,"Österreich",{"$f":"COUNTIF($S$12:$T$220,\"Österreich\")","v":3},1,0,2,2,3,2,4]
[null,"Schottland",{"$f":"COUNTIF($S$12:$T$220,\"Schottland\")","v":3},1,0,2,2,3,2,4]
[null,"Ägypten",{"$f":"COUNTIF($S$12:$T$220,\"Ägypten\")","v":3},0,2,1,1,2,2,4]
[null,"Schweden",{"$f":"COUNTIF($S$12:$T$220,\"Schweden\")","v":3},0,0,3,3,6,0,6]
[null,"USA",{"$f":"COUNTIF($S$12:$T$220,\"USA\")","v":3},0,0,3,2,8,0,6]
[null,"VAE",{"$f":"COUNTIF($S$12:$T$220,\"VAE\")","v":3},0,0,3,2,11,0,6]
[null,"Südkorea",{"$f":"COUNTIF($S$12:$T$220,\"Südkorea\")","v":3},0,0,3,1,6,0,6]

{"sheet":"Gesamt","index":14,"n_rows":24,"n_cols":43,"rows_kept":24,"cut":false,"hidden":false,"merged":[[3,10,3,11],[3,4,3,6],[3,13,3,15],[3,7,3,8]]}
[null,null,"Länder existieren nicht mehr"]
[]
["Teilnehmer","Teilnahme","Nation","Spiele","gew","unent","verl","Tore+","Tore-","diff. +/-","Punkte+","Punkte-","Spiele","gew","unent","verl","Punkte","Punkte+",null,1930,1934,1938,1950,1954,1958,1962,1966,1970,1974,1978,1982,1986,1990,1994,1998,2002,2006,2010,2014,2018,2022,2026,2030]
[null,"Gesamt",null,"bis 1990","Ergebnisse bis 1990",null,null,"Gesamt",null,null,"Punkte +/- bis 1990",null,"ab 1994","Ergebnisse ab 1994",null,null,"Punkte ab 1994","Gesamt"]
[1,{"$f":"SUM($T5:$AQ5)","v":22},"Brasilien",{"$f":"SUM(COUNTIF(INDIRECT(\"\"&$T$3:$AG$3&\"!$S$12:$T$400\"),\"Brasilien\"))","v":66},{"$f":"SUM('1930'!D108,'1934'!D92,'1938'!D88,'1950'!D107,'1954'!D141,'1958'!D154,'1962'!D133,'1966'!D144,'1970'!D138,'1974'!D159,'1978'!D157,'1982'!D227,'1986'!D219,'1990'!D232)","v":44},{"$f":"SUM('1930'!E108,'1934'!E92,'1938'!E88,'1950'!E107,'1954'!E141,'1958'!E154,'1962'!E133,'1966'!E144,'1970'!E138,'1974'!E159,'1978'!E157,'1982'!E227,'1986'!E219,'1990'!E232)","v":10},{"$f":"SUM('1930'!F108,'1934'!F92,'1938'!F88,'1950'!F107,'1954'!F141,'1958'!F154,'1962'!F133,'1966'!F144,'1970'!F138,'1974'!F159,'1978'!F157,'1982'!F227,'1986'!F219,'1990'!F232)","v":12},{"$f":"SUM('1930'!G108,'1934'!G92,'1938'!G88,'1950'!G107,'1954'!G141,'1958'!G154,'1962'!G133,'1966'!G144,'1970'!G138,'1974'!G159,'1978'!G157,'1982'!G227,'1986'!G219,'1990'!G232,'1994'!G223,'1998'!G250,'2002'!G250,'2006'!G253,'2010'!G250,'2014'!G255,'2018'!G258,'2022'!G256)","v":252},{"$f":"SUM('1930'!H108,'1934'!H92,'1938'!H88,'1950'!H107,'1954'!H141,'1958'!H154,'1962'!H133,'1966'!H144,'1970'!H138,'1974'!H159,'1978'!H157,'1982'!H227,'1986'!H219,'1990'!H232,'1994'!H223,'1998'!H250,'2002'!H250,'2006'!H253,'2010'!H250,'2014'!H255,'2018'!H258,'2022'!H256)","v":122},{"$f":"SUM(H5-I5)","v":130},{"$f":"(E5*2)+F5","v":98},{"$f":"(G5*2)+F5","v":34},{"$f":"SUM(COUNTIF(INDIRECT(\"\"&$AH$3:$AO$3&\"!$S$12:$T$400\"),\"Brasilien\"))","v":48},{"$f":"SUM('1994'!D223,'1998'!D250,'2002'!D250,'2006'!D253,'2010'!D250,'2014'!D255,'2018'!D258,'2022'!D256)","v":35},{"$f":"SUM('1994'!E223,'1998'!E250,'2002'!E250,'2006'!E253,'2010'!E250,'2014'!E255,'2018'!E258,'2022'!E256)","v":4},{"$f":"SUM('1994'!F223,'1998'!F250,'2002'!F250,'2006'!F253,'2010'!F250,'2014'!F255,'2018'!F258,'2022'!F256)","v":9},{"$f":"(N5*3)+O5","v":109},{"$f":"SUM(K5+Q5)","v":207},null,{"$f":"TeilnahmeImWMJahr(T$3,\"$AA$1:$AA$102\",$C5)","v":1},{"$f":"TeilnahmeImWMJahr(U$3,\"$AA$1:$AA$102\",$C5)","v":1},{"$f":"TeilnahmeImWMJahr(V$3,\"$AA$1:$AA$102\",$C5)","v":1},{"$f":"TeilnahmeImWMJahr(W$3,\"$AA$1:$AA$102\",$C5)","v":1},{"$f":"TeilnahmeImWMJahr(X$3,\"$AA$1:$AA$102\",$C5)","v":1},{"$f":"TeilnahmeImWMJahr(Y$3,\"$AA$1:$AA$102\",$C5)","v":1},{"$f":"TeilnahmeImWMJahr(Z$3,\"$AA$1:$AA$102\",$C5)","v":1},{"$f":"TeilnahmeImWMJahr(AA$3,\"$AA$1:$AA$102\",$C5)","v":1},{"$f":"TeilnahmeImWMJahr(AB$3,\"$AA$1:$AA$102\",$C5)","v":1},{"$f":"TeilnahmeImWMJahr(AC$3,\"$AA$1:$AA$102\",$C5)","v":1},{"$f":"TeilnahmeImWMJahr(AD$3,\"$AA$1:$AA$102\",$C5)","v":1},{"$f":"TeilnahmeImWMJahr(AE$3,\"$AA$1:$AA$102\",$C5)","v":1},{"$f":"TeilnahmeImWMJahr(AF$3,\"$AA$1:$AA$102\",$C5)","v":1},{"$f":"TeilnahmeImWMJahr(AG$3,\"$AA$1:$AA$102\",$C5)","v":1},{"$f":"TeilnahmeImWMJahr(AH$3,\"$AA$1:$AA$102\",$C5)","v":1},{"$f":"TeilnahmeImWMJahr(AI$3,\"$AA$1:$AA$102\",$C5)","v":1},{"$f":"TeilnahmeImWMJahr(AJ$3,\"$AA$1:$AA$102\",$C5)","v":1},{"$f":"TeilnahmeImWMJahr(AK$3,\"$AA$1:$AA$102\",$C5)","v":1},{"$f":"TeilnahmeImWMJahr(AL$3,\"$AA$1:$AA$102\",$C5)","v":1},{"$f":"TeilnahmeImWMJahr(AM$3,\"$AA$1:$AA$102\",$C5)","v":1},{"$f":"TeilnahmeImWMJahr(AN$3,\"$AA$1:$AA$102\",$C5)","v":1},{"$f":"TeilnahmeImWMJahr(AO$3,\"$AA$1:$AA$102\",$C5)","v":1}]
[2,18,"BRD",{"$f":"SUM(COUNTIF(INDIRECT(\"\"&$T$3:$AG$3&\"!$S$12:$T$400\"),\"BRD\"))","v":62},{"$f":"SUM('1954'!D136,'1958'!D157,'1962'!D139,'1966'!D137,'1970'!D139,'1974'!D157,'1978'!D161,'1982'!D225,'1986'!D218,'1990'!D228)","v":39},{"$f":"SUM('1954'!E136,'1958'!E157,'1962'!E139,'1966'!E137,'1970'!E139,'1974'!E157,'1978'!E161,'1982'!E225,'1986'!E218,'1990'!E228)","v":11},{"$f":"SUM('1954'!F136,'1958'!F157,'1962'!F139,'1966'!F137,'1970'!F139,'1974'!F157,'1978'!F161,'1982'!F225,'1986'!F218,'1990'!F228)","v":12},{"$f":"SUM('1954'!G136,'1958'!G157,'1962'!G139,'1966'!G137,'1970'!G139,'1974'!G157,'1978'!G161,'1982'!G225,'1986'!G218,'1990'!G228,'1994'!G227,'1998'!G255,'2002'!G251,'2006'!G250,'2010'!G247,'2014'!G252,'2018'!G276,'2022'!G263)","v":235},{"$f":"SUM('1954'!H136,'1958'!H157,'1962'!H139,'1966'!H137,'1970'!H139,'1974'!H157,'1978'!H161,'1982'!H225,'1986'!H218,'1990'!H228,'1994'!H227,'1998'!H255,'2002'!H251,'2006'!H250,'2010'!H247,'2014'!H252,'2018'!H276,'2022'!H263)","v":127},{"$f":"SUM(H6-I6)","v":108},89,35,{"$f":"SUM(COUNTIF(INDIRECT(\"\"&$AH$3:$AO$3&\"!$S$12:$T$400\"),\"BRD\"))","v":44},{"$f":"SUM('1994'!D227,'1998'!D255,'2002'!D251,'2006'!D250,'2010'!D247,'2014'!D252,'2018'!D276,'2022'!D263)","v":30},{"$f":"SUM('1994'!E227,'1998'!E255,'2002'!E251,'2006'!E250,'2010'!E247,'2014'!E252,'2018'!E276,'2022'!E263)","v":5},{"$f":"SUM('1994'!F227,'1998'!F255,'2002'!F251,'2006'!F250,'2010'!F247,'2014'!F252,'2018'!F276,'2022'!F263)","v":9},{"$f":"(N6*3)+O6","v":95},{"$f":"SUM(K6+Q6)","v":184},null,{"$f":"TeilnahmeImWMJahr(T$3,\"$AA$1:$AA$102\",$C6)","v":0},{"$f":"TeilnahmeImWMJahr(U$3,\"$AA$1:$AA$102\",$C6)","v":0},{"$f":"TeilnahmeImWMJahr(V$3,\"$AA$1:$AA$102\",$C6)","v":0},{"$f":"TeilnahmeImWMJahr(W$3,\"$AA$1:$AA$102\",$C6)","v":0},{"$f":"TeilnahmeImWMJahr(X$3,\"$AA$1:$AA$102\",$C6)","v":1},{"$f":"TeilnahmeImWMJahr(Y$3,\"$AA$1:$AA$102\",$C6)","v":1},{"$f":"TeilnahmeImWMJahr(Z$3,\"$AA$1:$AA$102\",$C6)","v":1},{"$f":"TeilnahmeImWMJahr(AA$3,\"$AA$1:$AA$102\",$C6)","v":1},{"$f":"TeilnahmeImWMJahr(AB$3,\"$AA$1:$AA$102\",$C6)","v":1},{"$f":"TeilnahmeImWMJahr(AC$3,\"$AA$1:$AA$102\",$C6)","v":1},{"$f":"TeilnahmeImWMJahr(AD$3,\"$AA$1:$AA$102\",$C6)","v":1},{"$f":"TeilnahmeImWMJahr(AE$3,\"$AA$1:$AA$102\",$C6)","v":1},{"$f":"TeilnahmeImWMJahr(AF$3,\"$AA$1:$AA$102\",$C6)","v":1},{"$f":"TeilnahmeImWMJahr(AG$3,\"$AA$1:$AA$102\",$C6)","v":1},{"$f":"TeilnahmeImWMJahr(AH$3,\"$AA$1:$AA$102\",$C6)","v":1},{"$f":"TeilnahmeImWMJahr(AI$3,\"$AA$1:$AA$102\",$C6)","v":1},{"$f":"TeilnahmeImWMJahr(AJ$3,\"$AA$1:$AA$102\",$C6)","v":1},{"$f":"TeilnahmeImWMJahr(AK$3,\"$AA$1:$AA$102\",$C6)","v":1},{"$f":"TeilnahmeImWMJahr(AL$3,\"$AA$1:$AA$102\",$C6)","v":1},{"$f":"TeilnahmeImWMJahr(AM$3,\"$AA$1:$AA$102\",$C6)","v":1},{"$f":"TeilnahmeImWMJahr(AN$3,\"$AA$1:$AA$102\",$C6)","v":1},{"$f":"TeilnahmeImWMJahr(AO$3,\"$AA$1:$AA$102\",$C6)","v":1}]
[4,18,"Argentinien",{"$f":"SUM(COUNTIF(INDIRECT(\"\"&$T$3:$AG$3&\"!$S$12:$T$400\"),\"Argentinien\"))","v":48},{"$f":"SUM('1930'!D104,'1934'!D88,'1958'!D166,'1962'!D141,'1966'!D139,'1974'!D164,'1978'!D156,'1982'!D235,'1986'!D216,'1990'!D230)","v":26},{"$f":"SUM('1930'!E104,'1934'!E88,'1958'!E166,'1962'!E141,'1966'!E139,'1974'!E164,'1978'!E156,'1982'!E235,'1986'!E216,'1990'!E230)","v":7},{"$f":"SUM('1930'!F104,'1934'!F88,'1958'!F166,'1962'!F141,'1966'!F139,'1974'!F164,'1978'!F156,'1982'!F235,'1986'!F216,'1990'!F230)","v":15},{"$f":"SUM('1930'!G104,'1934'!G88,'1958'!G166,'1962'!G141,'1966'!G139,'1974'!G164,'1978'!G156,'1982'!G235,'1986'!G216,'1990'!G230,'1994'!G231,'1998'!G252,'2002'!G268,'2006'!G254,'2010'!G249,'2014'!G254,'2018'!G268,'2022'!G249)","v":177},{"$f":"SUM('1930'!H104,'1934'!H88,'1958'!H166,'1962'!H141,'1966'!H139,'1974'!H164,'1978'!H156,'1982'!H235,'1986'!H216,'1990'!H230,'1994'!H231,'1998'!H252,'2002'!H268,'2006'!H254,'2010'!H249,'2014'!H254,'2018'!H268,'2022'!H249)","v":120},57,59,37,{"$f":"SUM(COUNTIF(INDIRECT(\"\"&$AH$3:$AO$3&\"!$S$12:$T$400\"),\"Argentinien\"))","v":40},{"$f":"SUM('1994'!D231,'1998'!D252,'2002'!D268,'2006'!D254,'2010'!D249,'2014'!D254,'2018'!D268,'2022'!D249)","v":27},{"$f":"SUM('1994'!E231,'1998'!E252,'2002'!E268,'2006'!E254,'2010'!E249,'2014'!E254,'2018'!E268,'2022'!E249)","v":3},{"$f":"SUM('1994'!F231,'1998'!F252,'2002'!F268,'2006'!F254,'2010'!F249,'2014'!F254,'2018'!F268,'2022'!F249)","v":10},84,143,null,{"$f":"TeilnahmeImWMJahr(T$3,\"$AA$1:$AA$102\",$C7)","v":1},{"$f":"TeilnahmeImWMJahr(U$3,\"$AA$1:$AA$102\",$C7)","v":1},{"$f":"TeilnahmeImWMJahr(V$3,\"$AA$1:$AA$102\",$C7)","v":0},{"$f":"TeilnahmeImWMJahr(W$3,\"$AA$1:$AA$102\",$C7)","v":0},{"$f":"TeilnahmeImWMJahr(X$3,\"$AA$1:$AA$102\",$C7)","v":0},{"$f":"TeilnahmeImWMJahr(Y$3,\"$AA$1:$AA$102\",$C7)","v":1},{"$f":"TeilnahmeImWMJahr(Z$3,\"$AA$1:$AA$102\",$C7)","v":1},{"$f":"TeilnahmeImWMJahr(AA$3,\"$AA$1:$AA$102\",$C7)","v":1},{"$f":"TeilnahmeImWMJahr(AB$3,\"$AA$1:$AA$102\",$C7)","v":0},{"$f":"TeilnahmeImWMJahr(AC$3,\"$AA$1:$AA$102\",$C7)","v":1},{"$f":"TeilnahmeImWMJahr(AD$3,\"$AA$1:$AA$102\",$C7)","v":1},{"$f":"TeilnahmeImWMJahr(AE$3,\"$AA$1:$AA$102\",$C7)","v":1},{"$f":"TeilnahmeImWMJahr(AF$3,\"$AA$1:$AA$102\",$C7)","v":1},{"$f":"TeilnahmeImWMJahr(AG$3,\"$AA$1:$AA$102\",$C7)","v":1},{"$f":"TeilnahmeImWMJahr(AH$3,\"$AA$1:$AA$102\",$C7)","v":1},{"$f":"TeilnahmeImWMJahr(AI$3,\"$AA$1:$AA$102\",$C7)","v":1},{"$f":"TeilnahmeImWMJahr(AJ$3,\"$AA$1:$AA$102\",$C7)","v":1},{"$f":"TeilnahmeImWMJahr(AK$3,\"$AA$1:$AA$102\",$C7)","v":1},{"$f":"TeilnahmeImWMJahr(AL$3,\"$AA$1:$AA$102\",$C7)","v":1},{"$f":"TeilnahmeImWMJahr(AM$3,\"$AA$1:$AA$102\",$C7)","v":1},{"$f":"TeilnahmeImWMJahr(AN$3,\"$AA$1:$AA$102\",$C7)","v":1},{"$f":"TeilnahmeImWMJahr(AO$3,\"$AA$1:$AA$102\",$C7)","v":1}]
[3,18,"Italien",{"$f":"SUM(COUNTIF(INDIRECT(\"\"&$T$3:$AG$3&\"!$S$12:$T$400\"),\"Italien\"))","v":54},{"$f":"SUM('1934'!D78,'1938'!D87,'1950'!D113,'1954'!D146,'1962'!D140,'1966'!D145,'1970'!D140,'1974'!D165,'1978'!D158,'1982'!D224,'1986'!D226,'1990'!D229)","v":31},{"$f":"SUM('1934'!E78,'1938'!E87,'1950'!E113,'1954'!E146,'1962'!E140,'1966'!E145,'1970'!E140,'1974'!E165,'1978'!E158,'1982'!E224,'1986'!E226,'1990'!E229)","v":11},{"$f":"SUM('1934'!F78,'1938'!F87,'1950'!F113,'1954'!F146,'1962'!F140,'1966'!F145,'1970'!F140,'1974'!F165,'1978'!F158,'1982'!F224,'1986'!F226,'1990'!F229)","v":12},{"$f":"SUM('1934'!G78,'1938'!G87,'1950'!G113,'1954'!G146,'1962'!G140,'1966'!G145,'1970'!G140,'1974'!G165,'1978'!G158,'1982'!G224,'1986'!G226,'1990'!G229,'1994'!G225,'1998'!G254,'2002'!G266,'2006'!G249,'2010'!G270,'2014'!G274)","v":141},{"$f":"SUM('1934'!H78,'1938'!H87,'1950'!H113,'1954'!H146,'1962'!H140,'1966'!H145,'1970'!H140,'1974'!H165,'1978'!H158,'1982'!H224,'1986'!H226,'1990'!H229,'1994'!H225,'1998'!H254,'2002'!H266,'2006'!H249,'2010'!H270,'2014'!H274)","v":91},50,73,35,{"$f":"SUM(COUNTIF(INDIRECT(\"\"&$AH$3:$AO$3&\"!$S$12:$T$400\"),\"Italien\"))","v":29},{"$f":"SUM('1994'!D225,'1998'!D254,'2002'!D266,'2006'!D249,'2010'!D270,'2014'!D274)","v":15},{"$f":"SUM('1994'!E225,'1998'!E254,'2002'!E266,'2006'!E249,'2010'!E270,'2014'!E274)","v":6},{"$f":"SUM('1994'!F225,'1998'!F254,'2002'!F266,'2006'!F249,'2010'!F270,'2014'!F274)","v":8},51,124,null,{"$f":"TeilnahmeImWMJahr(T$3,\"$AA$1:$AA$102\",$C8)","v":0},{"$f":"TeilnahmeImWMJahr(U$3,\"$AA$1:$AA$102\",$C8)","v":1},{"$f":"TeilnahmeImWMJahr(V$3,\"$AA$1:$AA$102\",$C8)","v":1},{"$f":"TeilnahmeImWMJahr(W$3,\"$AA$1:$AA$102\",$C8)","v":1},{"$f":"TeilnahmeImWMJahr(X$3,\"$AA$1:$AA$102\",$C8)","v":1},{"$f":"TeilnahmeImWMJahr(Y$3,\"$AA$1:$AA$102\",$C8)","v":0},{"$f":"TeilnahmeImWMJahr(Z$3,\"$AA$1:$AA$102\",$C8)","v":1},{"$f":"TeilnahmeImWMJahr(AA$3,\"$AA$1:$AA$102\",$C8)","v":1},{"$f":"TeilnahmeImWMJahr(AB$3,\"$AA$1:$AA$102\",$C8)","v":1},{"$f":"TeilnahmeImWMJahr(AC$3,\"$AA$1:$AA$102\",$C8)","v":1},{"$f":"TeilnahmeImWMJahr(AD$3,\"$AA$1:$AA$102\",$C8)","v":1},{"$f":"TeilnahmeImWMJahr(AE$3,\"$AA$1:$AA$102\",$C8)","v":1},{"$f":"TeilnahmeImWMJahr(AF$3,\"$AA$1:$AA$102\",$C8)","v":1},{"$f":"TeilnahmeImWMJahr(AG$3,\"$AA$1:$AA$102\",$C8)","v":1},{"$f":"TeilnahmeImWMJahr(AH$3,\"$AA$1:$AA$102\",$C8)","v":1},{"$f":"TeilnahmeImWMJahr(AI$3,\"$AA$1:$AA$102\",$C8)","v":1},{"$f":"TeilnahmeImWMJahr(AJ$3,\"$AA$1:$AA$102\",$C8)","v":1},{"$f":"TeilnahmeImWMJahr(AK$3,\"$AA$1:$AA$102\",$C8)","v":1},{"$f":"TeilnahmeImWMJahr(AL$3,\"$AA$1:$AA$102\",$C8)","v":1},{"$f":"TeilnahmeImWMJahr(AM$3,\"$AA$1:$AA$102\",$C8)","v":1},{"$f":"TeilnahmeImWMJahr(AN$3,\"$AA$1:$AA$102\",$C8)","v":0},{"$f":"TeilnahmeImWMJahr(AO$3,\"$AA$1:$AA$102\",$C8)","v":0}]
[7,16,"Frankreich",{"$f":"SUM(COUNTIF(INDIRECT(\"\"&$T$3:$AG$3&\"!$S$12:$T$400\"),\"Frankreich\"))","v":34},{"$f":"SUM('1930'!D111,'1934'!D86,'1938'!D93,'1954'!D144,'1958'!D156,'1966'!D147,'1978'!D167,'1982'!D229,'1986'!D217)","v":16},{"$f":"SUM('1930'!E111,'1934'!E86,'1938'!E93,'1954'!E144,'1958'!E156,'1966'!E147,'1978'!E167,'1982'!E229,'1986'!E217)","v":3},{"$f":"SUM('1930'!F111,'1934'!F86,'1938'!F93,'1954'!F144,'1958'!F156,'1966'!F147,'1978'!F167,'1982'!F229,'1986'!F217)","v":15},{"$f":"SUM('1930'!G111,'1934'!G86,'1938'!G93,'1954'!G144,'1958'!G156,'1966'!G147,'1978'!G167,'1982'!G229,'1986'!G217,'1998'!G249,'2002'!G278,'2006'!G252,'2010'!G272,'2014'!G259,'2018'!G253)","v":135},{"$f":"SUM('1930'!H111,'1934'!H86,'1938'!H93,'1954'!H144,'1958'!H156,'1966'!H147,'1978'!H167,'1982'!H229,'1986'!H217,'1998'!H249,'2002'!H278,'2006'!H252,'2010'!H272,'2014'!H259,'2018'!H253)","v":93},42,35,33,{"$f":"SUM(COUNTIF(INDIRECT(\"\"&$AH$3:$AO$3&\"!$S$12:$T$400\"),\"Frankreich\"))","v":39},{"$f":"SUM('1998'!D249,'2002'!D278,'2006'!D252,'2010'!D272,'2014'!D259,'2018'!D253,'2022'!D250)","v":25},{"$f":"SUM('1998'!E249,'2002'!E278,'2006'!E252,'2010'!E272,'2014'!E259,'2018'!E253,'2022'!E250)","v":6},{"$f":"SUM('1998'!F249,'2002'!F278,'2006'!F252,'2010'!F272,'2014'!F259,'2018'!F253,'2022'!F250)","v":8},81,116,null,{"$f":"TeilnahmeImWMJahr(T$3,\"$AA$1:$AA$102\",$C9)","v":1},{"$f":"TeilnahmeImWMJahr(U$3,\"$AA$1:$AA$102\",$C9)","v":1},{"$f":"TeilnahmeImWMJahr(V$3,\"$AA$1:$AA$102\",$C9)","v":1},{"$f":"TeilnahmeImWMJahr(W$3,\"$AA$1:$AA$102\",$C9)","v":0},{"$f":"TeilnahmeImWMJahr(X$3,\"$AA$1:$AA$102\",$C9)","v":1},{"$f":"TeilnahmeImWMJahr(Y$3,\"$AA$1:$AA$102\",$C9)","v":1},{"$f":"TeilnahmeImWMJahr(Z$3,\"$AA$1:$AA$102\",$C9)","v":0},{"$f":"TeilnahmeImWMJahr(AA$3,\"$AA$1:$AA$102\",$C9)","v":1},{"$f":"TeilnahmeImWMJahr(AB$3,\"$AA$1:$AA$102\",$C9)","v":0},{"$f":"TeilnahmeImWMJahr(AC$3,\"$AA$1:$AA$102\",$C9)","v":0},{"$f":"TeilnahmeImWMJahr(AD$3,\"$AA$1:$AA$102\",$C9)","v":1},{"$f":"TeilnahmeImWMJahr(AE$3,\"$AA$1:$AA$102\",$C9)","v":1},{"$f":"TeilnahmeImWMJahr(AF$3,\"$AA$1:$AA$102\",$C9)","v":1},{"$f":"TeilnahmeImWMJahr(AG$3,\"$AA$1:$AA$102\",$C9)","v":0},{"$f":"TeilnahmeImWMJahr(AH$3,\"$AA$1:$AA$102\",$C9)","v":0},{"$f":"TeilnahmeImWMJahr(AI$3,\"$AA$1:$AA$102\",$C9)","v":1},{"$f":"TeilnahmeImWMJahr(AJ$3,\"$AA$1:$AA$102\",$C9)","v":1},{"$f":"TeilnahmeImWMJahr(AK$3,\"$AA$1:$AA$102\",$C9)","v":1},{"$f":"TeilnahmeImWMJahr(AL$3,\"$AA$1:$AA$102\",$C9)","v":1},{"$f":"TeilnahmeImWMJahr(AM$3,\"$AA$1:$AA$102\",$C9)","v":1},{"$f":"TeilnahmeImWMJahr(AN$3,\"$AA$1:$AA$102\",$C9)","v":1},{"$f":"TeilnahmeImWMJahr(AO$3,\"$AA$1:$AA$102\",$C9)","v":1}]
[8,16,"England",{"$f":"SUM(COUNTIF(INDIRECT(\"\"&$T$3:$AG$3&\"!$S$12:$T$400\"),\"England\"))","v":41},{"$f":"SUM('1950'!D116,'1954'!D142,'1958'!D165,'1962'!D142,'1966'!D135,'1970'!D145,'1982'!D228,'1986'!D225,'1990'!D231)","v":18},{"$f":"SUM('1950'!E116,'1954'!E142,'1958'!E165,'1962'!E142,'1966'!E135,'1970'!E145,'1982'!E228,'1986'!E225,'1990'!E231)","v":11},{"$f":"SUM('1950'!F116,'1954'!F142,'1958'!F165,'1962'!F142,'1966'!F135,'1970'!F145,'1982'!F228,'1986'!F225,'1990'!F231)","v":12},{"$f":"SUM('1950'!G116,'1954'!G142,'1958'!G165,'1962'!G142,'1966'!G135,'1970'!G145,'1982'!G228,'1986'!G225,'1990'!G231,'1998'!G259,'2002'!G256,'2006'!G255,'2010'!G257,'2014'!G278,'2018'!G256,'2022'!G253)","v":115},{"$f":"SUM('1950'!H116,'1954'!H142,'1958'!H165,'1962'!H142,'1966'!H135,'1970'!H145,'1982'!H228,'1986'!H225,'1990'!H231,'1998'!H259,'2002'!H256,'2006'!H255,'2010'!H257,'2014'!H278,'2018'!H256,'2022'!H253)","v":82},33,47,35,{"$f":"SUM(COUNTIF(INDIRECT(\"\"&$AH$3:$AO$3&\"!$S$12:$T$400\"),\"England\"))","v":33},{"$f":"SUM('1998'!D259,'2002'!D256,'2006'!D255,'2010'!D257,'2014'!D278,'2018'!D256,'2022'!D253)","v":15},{"$f":"SUM('1998'!E259,'2002'!E256,'2006'!E255,'2010'!E257,'2014'!E278,'2018'!E256,'2022'!E253)","v":7},{"$f":"SUM('1998'!F259,'2002'!F256,'2006'!F255,'2010'!F257,'2014'!F278,'2018'!F256,'2022'!F253)","v":11},52,99,null,{"$f":"TeilnahmeImWMJahr(T$3,\"$AA$1:$AA$102\",$C10)","v":0},{"$f":"TeilnahmeImWMJahr(U$3,\"$AA$1:$AA$102\",$C10)","v":0},{"$f":"TeilnahmeImWMJahr(V$3,\"$AA$1:$AA$102\",$C10)","v":0},{"$f":"TeilnahmeImWMJahr(W$3,\"$AA$1:$AA$102\",$C10)","v":1},{"$f":"TeilnahmeImWMJahr(X$3,\"$AA$1:$AA$102\",$C10)","v":1},{"$f":"TeilnahmeImWMJahr(Y$3,\"$AA$1:$AA$102\",$C10)","v":1},{"$f":"TeilnahmeImWMJahr(Z$3,\"$AA$1:$AA$102\",$C10)","v":1},{"$f":"TeilnahmeImWMJahr(AA$3,\"$AA$1:$AA$102\",$C10)","v":1},{"$f":"TeilnahmeImWMJahr(AB$3,\"$AA$1:$AA$102\",$C10)","v":1},{"$f":"TeilnahmeImWMJahr(AC$3,\"$AA$1:$AA$102\",$C10)","v":0},{"$f":"TeilnahmeImWMJahr(AD$3,\"$AA$1:$AA$102\",$C10)","v":0},{"$f":"TeilnahmeImWMJahr(AE$3,\"$AA$1:$AA$102\",$C10)","v":1},{"$f":"TeilnahmeImWMJahr(AF$3,\"$AA$1:$AA$102\",$C10)","v":1},{"$f":"TeilnahmeImWMJahr(AG$3,\"$AA$1:$AA$102\",$C10)","v":1},{"$f":"TeilnahmeImWMJahr(AH$3,\"$AA$1:$AA$102\",$C10)","v":0},{"$f":"TeilnahmeImWMJahr(AI$3,\"$AA$1:$AA$102\",$C10)","v":1},{"$f":"TeilnahmeImWMJahr(AJ$3,\"$AA$1:$AA$102\",$C10)","v":1},{"$f":"TeilnahmeImWMJahr(AK$3,\"$AA$1:$AA$102\",$C10)","v":1},{"$f":"TeilnahmeImWMJahr(AL$3,\"$AA$1:$AA$102\",$C10)","v":1},{"$f":"TeilnahmeImWMJahr(AM$3,\"$AA$1:$AA$102\",$C10)","v":1},{"$f":"TeilnahmeImWMJahr(AN$3,\"$AA$1:$AA$102\",$C10)","v":1},{"$f":"TeilnahmeImWMJahr(AO$3,\"$AA$1:$AA$102\",$C10)","v":1}]
[5,16,"Spanien",{"$f":"SUM(COUNTIF(INDIRECT(\"\"&$T$3:$AG$3&\"!$S$12:$T$400\"),\"Spanien\"))","v":32},{"$f":"SUM('1934'!D82,'1950'!D109,'1962'!D145,'1966'!D143,'1978'!D166,'1982'!D236,'1986'!D223,'1990'!D236)","v":13},{"$f":"SUM('1934'!E82,'1950'!E109,'1962'!E145,'1966'!E143,'1978'!E166,'1982'!E236,'1986'!E223,'1990'!E236)","v":6},{"$f":"SUM('1934'!F82,'1950'!F109,'1962'!F145,'1966'!F143,'1978'!F166,'1982'!F236,'1986'!F223,'1990'!F236)","v":13},{"$f":"SUM('1934'!G82,'1950'!G109,'1962'!G145,'1966'!G143,'1978'!G166,'1982'!G236,'1986'!G223,'1990'!G236,'1994'!G230,'1998'!G264,'2002'!G254,'2006'!G256,'2010'!G246,'2014'!G273,'2018'!G263,'2022'!G262)","v":121},{"$f":"SUM('1934'!H82,'1950'!H109,'1962'!H145,'1966'!H143,'1978'!H166,'1982'!H236,'1986'!H223,'1990'!H236,'1994'!H230,'1998'!H264,'2002'!H254,'2006'!H256,'2010'!H246,'2014'!H273,'2018'!H263,'2022'!H262)","v":94},27,32,32,{"$f":"SUM(COUNTIF(INDIRECT(\"\"&$AH$3:$AO$3&\"!$S$12:$T$400\"),\"Spanien\"))","v":35},{"$f":"SUM('1994'!D230,'1998'!D264,'2002'!D254,'2006'!D256,'2010'!D246,'2014'!D273,'2018'!D263,'2022'!D262)","v":19},{"$f":"SUM('1994'!E230,'1998'!E264,'2002'!E254,'2006'!E256,'2010'!E246,'2014'!E273,'2018'!E263,'2022'!E262)","v":6},{"$f":"SUM('1994'!F230,'1998'!F264,'2002'!F254,'2006'!F256,'2010'!F246,'2014'!F273,'2018'!F263,'2022'!F262)","v":10},63,95,null,{"$f":"TeilnahmeImWMJahr(T$3,\"$AA$1:$AA$102\",$C11)","v":0},{"$f":"TeilnahmeImWMJahr(U$3,\"$AA$1:$AA$102\",$C11)","v":1},{"$f":"TeilnahmeImWMJahr(V$3,\"$AA$1:$AA$102\",$C11)","v":0},{"$f":"TeilnahmeImWMJahr(W$3,\"$AA$1:$AA$102\",$C11)","v":1},{"$f":"TeilnahmeImWMJahr(X$3,\"$AA$1:$AA$102\",$C11)","v":0},{"$f":"TeilnahmeImWMJahr(Y$3,\"$AA$1:$AA$102\",$C11)","v":0},{"$f":"TeilnahmeImWMJahr(Z$3,\"$AA$1:$AA$102\",$C11)","v":1},{"$f":"TeilnahmeImWMJahr(AA$3,\"$AA$1:$AA$102\",$C11)","v":1},{"$f":"TeilnahmeImWMJahr(AB$3,\"$AA$1:$AA$102\",$C11)","v":0},{"$f":"TeilnahmeImWMJahr(AC$3,\"$AA$1:$AA$102\",$C11)","v":0},{"$f":"TeilnahmeImWMJahr(AD$3,\"$AA$1:$AA$102\",$C11)","v":1},{"$f":"TeilnahmeImWMJahr(AE$3,\"$AA$1:$AA$102\",$C11)","v":1},{"$f":"TeilnahmeImWMJahr(AF$3,\"$AA$1:$AA$102\",$C11)","v":1},{"$f":"TeilnahmeImWMJahr(AG$3,\"$AA$1:$AA$102\",$C11)","v":1},{"$f":"TeilnahmeImWMJahr(AH$3,\"$AA$1:$AA$102\",$C11)","v":1},{"$f":"TeilnahmeImWMJahr(AI$3,\"$AA$1:$AA$102\",$C11)","v":1},{"$f":"TeilnahmeImWMJahr(AJ$3,\"$AA$1:$AA$102\",$C11)","v":1},{"$f":"TeilnahmeImWMJahr(AK$3,\"$AA$1:$AA$102\",$C11)","v":1},{"$f":"TeilnahmeImWMJahr(AL$3,\"$AA$1:$AA$102\",$C11)","v":1},{"$f":"TeilnahmeImWMJahr(AM$3,\"$AA$1:$AA$102\",$C11)","v":1},{"$f":"TeilnahmeImWMJahr(AN$3,\"$AA$1:$AA$102\",$C11)","v":1},{"$f":"TeilnahmeImWMJahr(AO$3,\"$AA$1:$AA$102\",$C11)","v":1}]
[6,11,"Niederlande",{"$f":"SUM(COUNTIF(INDIRECT(\"\"&$T$3:$AG$3&\"!$S$12:$T$400\"),\"Niederlande\"))","v":20},{"$f":"SUM('1934'!D87,'1938'!D100,'1974'!D158,'1978'!D159,'1990'!D242)","v":8},{"$f":"SUM('1934'!E87,'1938'!E100,'1974'!E158,'1978'!E159,'1990'!E242)","v":6},{"$f":"SUM('1934'!F87,'1938'!F100,'1974'!F158,'1978'!F159,'1990'!F242)","v":6},{"$f":"SUM('1934'!G87,'1938'!G100,'1974'!G158,'1978'!G159,'1990'!G242,'1994'!G229,'1998'!G253,'2006'!G259,'2010'!G245,'2014'!G253,'2022'!G254)","v":107},{"$f":"SUM('1934'!H87,'1938'!H100,'1974'!H158,'1978'!H159,'1990'!H242,'1994'!H229,'1998'!H253,'2006'!H259,'2010'!H245,'2014'!H253,'2022'!H254)","v":67},40,22,18,{"$f":"SUM(COUNTIF(INDIRECT(\"\"&$AH$3:$AO$3&\"!$S$12:$T$400\"),\"Niederlande\"))","v":35},{"$f":"SUM('1994'!D229,'1998'!D253,'2006'!D259,'2010'!D245,'2014'!D253,'2022'!D254)","v":23},{"$f":"SUM('1994'!E229,'1998'!E253,'2006'!E259,'2010'!E245,'2014'!E253,'2022'!E254)","v":4},{"$f":"SUM('1994'!F229,'1998'!F253,'2006'!F259,'2010'!F245,'2014'!F253,'2022'!F254)","v":8},73,95,null,{"$f":"TeilnahmeImWMJahr(T$3,\"$AA$1:$AA$102\",$C12)","v":0},{"$f":"TeilnahmeImWMJahr(U$3,\"$AA$1:$AA$102\",$C12)","v":1},{"$f":"TeilnahmeImWMJahr(V$3,\"$AA$1:$AA$102\",$C12)","v":1},{"$f":"TeilnahmeImWMJahr(W$3,\"$AA$1:$AA$102\",$C12)","v":0},{"$f":"TeilnahmeImWMJahr(X$3,\"$AA$1:$AA$102\",$C12)","v":0},{"$f":"TeilnahmeImWMJahr(Y$3,\"$AA$1:$AA$102\",$C12)","v":0},{"$f":"TeilnahmeImWMJahr(Z$3,\"$AA$1:$AA$102\",$C12)","v":0},{"$f":"TeilnahmeImWMJahr(AA$3,\"$AA$1:$AA$102\",$C12)","v":0},{"$f":"TeilnahmeImWMJahr(AB$3,\"$AA$1:$AA$102\",$C12)","v":0},{"$f":"TeilnahmeImWMJahr(AC$3,\"$AA$1:$AA$102\",$C12)","v":1},{"$f":"TeilnahmeImWMJahr(AD$3,\"$AA$1:$AA$102\",$C12)","v":1},{"$f":"TeilnahmeImWMJahr(AE$3,\"$AA$1:$AA$102\",$C12)","v":0},{"$f":"TeilnahmeImWMJahr(AF$3,\"$AA$1:$AA$102\",$C12)","v":0},{"$f":"TeilnahmeImWMJahr(AG$3,\"$AA$1:$AA$102\",$C12)","v":1},{"$f":"TeilnahmeImWMJahr(AH$3,\"$AA$1:$AA$102\",$C12)","v":1},{"$f":"TeilnahmeImWMJahr(AI$3,\"$AA$1:$AA$102\",$C12)","v":1},{"$f":"TeilnahmeImWMJahr(AJ$3,\"$AA$1:$AA$102\",$C12)","v":0},{"$f":"TeilnahmeImWMJahr(AK$3,\"$AA$1:$AA$102\",$C12)","v":1},{"$f":"TeilnahmeImWMJahr(AL$3,\"$AA$1:$AA$102\",$C12)","v":1},{"$f":"TeilnahmeImWMJahr(AM$3,\"$AA$1:$AA$102\",$C12)","v":1},{"$f":"TeilnahmeImWMJahr(AN$3,\"$AA$1:$AA$102\",$C12)","v":0},{"$f":"TeilnahmeImWMJahr(AO$3,\"$AA$1:$AA$102\",$C12)","v":1}]
[9,14,"Uruguay",{"$f":"SUM(COUNTIF(INDIRECT(\"\"&$T$3:$AG$3&\"!$S$12:$T$400\"),\"Uruguay\"))","v":37},{"$f":"SUM('1930'!D103,'1950'!D108,'1954'!D139,'1962'!D143,'1966'!D141,'1970'!D143,'1974'!D168,'1986'!D233,'1990'!D243)","v":15},{"$f":"SUM('1930'!E103,'1950'!E108,'1954'!E139,'1962'!E143,'1966'!E141,'1970'!E143,'1974'!E168,'1986'!E233,'1990'!E243)","v":8},{"$f":"SUM('1930'!F103,'1950'!F108,'1954'!F139,'1962'!F143,'1966'!F141,'1970'!F143,'1974'!F168,'1986'!F233,'1990'!F243)","v":14},{"$f":"SUM('1930'!G103,'1950'!G108,'1954'!G139,'1962'!G143,'1966'!G141,'1970'!G143,'1974'!G168,'1986'!G233,'1990'!G243,'2002'!G275,'2010'!G248,'2014'!G263,'2018'!G257,'2022'!G268)","v":92},{"$f":"SUM('1930'!H103,'1950'!H108,'1954'!H139,'1962'!H143,'1966'!H141,'1970'!H143,'1974'!H168,'1986'!H233,'1990'!H243,'2002'!H275,'2010'!H248,'2014'!H263,'2018'!H257,'2022'!H268)","v":77},15,38,36,{"$f":"SUM(COUNTIF(INDIRECT(\"\"&$AH$3:$AO$3&\"!$S$12:$T$400\"),\"Uruguay\"))","v":22},{"$f":"SUM('2002'!D275,'2010'!D248,'2014'!D263,'2018'!D257,'2022'!D268)","v":11},{"$f":"SUM('2002'!E275,'2010'!E248,'2014'!E263,'2018'!E257,'2022'!E268)","v":4},{"$f":"SUM('2002'!F275,'2010'!F248,'2014'!F263,'2018'!F257,'2022'!F268)","v":7},37,75,null,{"$f":"TeilnahmeImWMJahr(T$3,\"$AA$1:$AA$102\",$C13)","v":1},{"$f":"TeilnahmeImWMJahr(U$3,\"$AA$1:$AA$102\",$C13)","v":0},{"$f":"TeilnahmeImWMJahr(V$3,\"$AA$1:$AA$102\",$C13)","v":0},{"$f":"TeilnahmeImWMJahr(W$3,\"$AA$1:$AA$102\",$C13)","v":1},{"$f":"TeilnahmeImWMJahr(X$3,\"$AA$1:$AA$102\",$C13)","v":1},{"$f":"TeilnahmeImWMJahr(Y$3,\"$AA$1:$AA$102\",$C13)","v":0},{"$f":"TeilnahmeImWMJahr(Z$3,\"$AA$1:$AA$102\",$C13)","v":1},{"$f":"TeilnahmeImWMJahr(AA$3,\"$AA$1:$AA$102\",$C13)","v":1},{"$f":"TeilnahmeImWMJahr(AB$3,\"$AA$1:$AA$102\",$C13)","v":1},{"$f":"TeilnahmeImWMJahr(AC$3,\"$AA$1:$AA$102\",$C13)","v":1},{"$f":"TeilnahmeImWMJahr(AD$3,\"$AA$1:$AA$102\",$C13)","v":0},{"$f":"TeilnahmeImWMJahr(AE$3,\"$AA$1:$AA$102\",$C13)","v":0},{"$f":"TeilnahmeImWMJahr(AF$3,\"$AA$1:$AA$102\",$C13)","v":1},{"$f":"TeilnahmeImWMJahr(AG$3,\"$AA$1:$AA$102\",$C13)","v":1},{"$f":"TeilnahmeImWMJahr(AH$3,\"$AA$1:$AA$102\",$C13)","v":0},{"$f":"TeilnahmeImWMJahr(AI$3,\"$AA$1:$AA$102\",$C13)","v":0},{"$f":"TeilnahmeImWMJahr(AJ$3,\"$AA$1:$AA$102\",$C13)","v":1},{"$f":"TeilnahmeImWMJahr(AK$3,\"$AA$1:$AA$102\",$C13)","v":0},{"$f":"TeilnahmeImWMJahr(AL$3,\"$AA$1:$AA$102\",$C13)","v":1},{"$f":"TeilnahmeImWMJahr(AM$3,\"$AA$1:$AA$102\",$C13)","v":1},{"$f":"TeilnahmeImWMJahr(AN$3,\"$AA$1:$AA$102\",$C13)","v":1},{"$f":"TeilnahmeImWMJahr(AO$3,\"$AA$1:$AA$102\",$C13)","v":1}]
[12,14,"Belgien",{"$f":"SUM(COUNTIF(INDIRECT(\"\"&$T$3:$AG$3&\"!$S$12:$T$400\"),\"Belgien\"))","v":25},{"$f":"SUM('1930'!D113,'1934'!D90,'1938'!D99,'1954'!D147,'1970'!D147,'1982'!D233,'1986'!D221,'1990'!D238)","v":8},{"$f":"SUM('1930'!E113,'1934'!E90,'1938'!E99,'1954'!E147,'1970'!E147,'1982'!E233,'1986'!E221,'1990'!E238)","v":3},{"$f":"SUM('1930'!F113,'1934'!F90,'1938'!F99,'1954'!F147,'1970'!F147,'1982'!F233,'1986'!F221,'1990'!F238)","v":14},{"$f":"SUM('1930'!G113,'1934'!G90,'1938'!G99,'1954'!G147,'1970'!G147,'1982'!G233,'1986'!G221,'1990'!G238,'1994'!G234,'1998'!G267,'2002'!G262,'2014'!G257,'2018'!G255,'2022'!G271)","v":74},{"$f":"SUM('1930'!H113,'1934'!H90,'1938'!H99,'1954'!H147,'1970'!H147,'1982'!H233,'1986'!H221,'1990'!H238,'1994'!H234,'1998'!H267,'2002'!H262,'2014'!H257,'2018'!H255,'2022'!H271)","v":78},-4,19,31,{"$f":"SUM(COUNTIF(INDIRECT(\"\"&$AH$3:$AO$3&\"!$S$12:$T$400\"),\"Belgien\"))","v":26},{"$f":"SUM('1994'!D234,'1998'!D267,'2002'!D262,'2014'!D257,'2018'!D255,'2022'!D271)","v":14},{"$f":"SUM('1994'!E234,'1998'!E267,'2002'!E262,'2014'!E257,'2018'!E255,'2022'!E271)","v":6},{"$f":"SUM('1994'!F234,'1998'!F267,'2002'!F262,'2014'!F257,'2018'!F255,'2022'!F271)","v":6},48,67,null,{"$f":"TeilnahmeImWMJahr(T$3,\"$AA$1:$AA$102\",$C14)","v":1},{"$f":"TeilnahmeImWMJahr(U$3,\"$AA$1:$AA$102\",$C14)","v":1},{"$f":"TeilnahmeImWMJahr(V$3,\"$AA$1:$AA$102\",$C14)","v":1},{"$f":"TeilnahmeImWMJahr(W$3,\"$AA$1:$AA$102\",$C14)","v":0},{"$f":"TeilnahmeImWMJahr(X$3,\"$AA$1:$AA$102\",$C14)","v":1},{"$f":"TeilnahmeImWMJahr(Y$3,\"$AA$1:$AA$102\",$C14)","v":0},{"$f":"TeilnahmeImWMJahr(Z$3,\"$AA$1:$AA$102\",$C14)","v":0},{"$f":"TeilnahmeImWMJahr(AA$3,\"$AA$1:$AA$102\",$C14)","v":0},{"$f":"TeilnahmeImWMJahr(AB$3,\"$AA$1:$AA$102\",$C14)","v":1},{"$f":"TeilnahmeImWMJahr(AC$3,\"$AA$1:$AA$102\",$C14)","v":0},{"$f":"TeilnahmeImWMJahr(AD$3,\"$AA$1:$AA$102\",$C14)","v":0},{"$f":"TeilnahmeImWMJahr(AE$3,\"$AA$1:$AA$102\",$C14)","v":1},{"$f":"TeilnahmeImWMJahr(AF$3,\"$AA$1:$AA$102\",$C14)","v":1},{"$f":"TeilnahmeImWMJahr(AG$3,\"$AA$1:$AA$102\",$C14)","v":1},{"$f":"TeilnahmeImWMJahr(AH$3,\"$AA$1:$AA$102\",$C14)","v":1},{"$f":"TeilnahmeImWMJahr(AI$3,\"$AA$1:$AA$102\",$C14)","v":1},{"$f":"TeilnahmeImWMJahr(AJ$3,\"$AA$1:$AA$102\",$C14)","v":1},{"$f":"TeilnahmeImWMJahr(AK$3,\"$AA$1:$AA$102\",$C14)","v":0},{"$f":"TeilnahmeImWMJahr(AL$3,\"$AA$1:$AA$102\",$C14)","v":0},{"$f":"TeilnahmeImWMJahr(AM$3,\"$AA$1:$AA$102\",$C14)","v":1},{"$f":"TeilnahmeImWMJahr(AN$3,\"$AA$1:$AA$102\",$C14)","v":1},{"$f":"TeilnahmeImWMJahr(AO$3,\"$AA$1:$AA$102\",$C14)","v":1}]
[10,12,"Schweden",{"$f":"SUM(COUNTIF(INDIRECT(\"\"&$T$3:$AG$3&\"!$S$12:$T$400\"),\"Schweden\"))","v":31},{"$f":"SUM('1934'!D85,'1938'!D94,'1950'!D110,'1958'!D155,'1970'!D146,'1974'!D160,'1978'!D169,'1990'!D248)","v":11},{"$f":"SUM('1934'!E85,'1938'!E94,'1950'!E110,'1958'!E155,'1970'!E146,'1974'!E160,'1978'!E169,'1990'!E248)","v":6},{"$f":"SUM('1934'!F85,'1938'!F94,'1950'!F110,'1958'!F155,'1970'!F146,'1974'!F160,'1978'!F169,'1990'!F248)","v":14},{"$f":"SUM('1934'!G85,'1938'!G94,'1950'!G110,'1958'!G155,'1970'!G146,'1974'!G160,'1978'!G169,'1990'!G248,'1994'!G224,'2002'!G263,'2006'!G262,'2018'!G260)","v":85},{"$f":"SUM('1934'!H85,'1938'!H94,'1950'!H110,'1958'!H155,'1970'!H146,'1974'!H160,'1978'!H169,'1990'!H248,'1994'!H224,'2002'!H263,'2006'!H262,'2018'!H260)","v":77},8,28,34,{"$f":"SUM(COUNTIF(INDIRECT(\"\"&$AH$3:$AO$3&\"!$S$12:$T$400\"),\"Schweden\"))","v":20},{"$f":"SUM('1994'!D224,'2002'!D263,'2006'!D262,'2018'!D260)","v":9},{"$f":"SUM('1994'!E224,'2002'!E263,'2006'!E262,'2018'!E260)","v":6},{"$f":"SUM('1994'!F224,'2002'!F263,'2006'!F262,'2018'!F260)","v":5},33,61,null,{"$f":"TeilnahmeImWMJahr(T$3,\"$AA$1:$AA$102\",$C15)","v":0},{"$f":"TeilnahmeImWMJahr(U$3,\"$AA$1:$AA$102\",$C15)","v":1},{"$f":"TeilnahmeImWMJahr(V$3,\"$AA$1:$AA$102\",$C15)","v":1},{"$f":"TeilnahmeImWMJahr(W$3,\"$AA$1:$AA$102\",$C15)","v":1},{"$f":"TeilnahmeImWMJahr(X$3,\"$AA$1:$AA$102\",$C15)","v":0},{"$f":"TeilnahmeImWMJahr(Y$3,\"$AA$1:$AA$102\",$C15)","v":1},{"$f":"TeilnahmeImWMJahr(Z$3,\"$AA$1:$AA$102\",$C15)","v":0},{"$f":"TeilnahmeImWMJahr(AA$3,\"$AA$1:$AA$102\",$C15)","v":0},{"$f":"TeilnahmeImWMJahr(AB$3,\"$AA$1:$AA$102\",$C15)","v":1},{"$f":"TeilnahmeImWMJahr(AC$3,\"$AA$1:$AA$102\",$C15)","v":1},{"$f":"TeilnahmeImWMJahr(AD$3,\"$AA$1:$AA$102\",$C15)","v":1},{"$f":"TeilnahmeImWMJahr(AE$3,\"$AA$1:$AA$102\",$C15)","v":0},{"$f":"TeilnahmeImWMJahr(AF$3,\"$AA$1:$AA$102\",$C15)","v":0},{"$f":"TeilnahmeImWMJahr(AG$3,\"$AA$1:$AA$102\",$C15)","v":1},{"$f":"TeilnahmeImWMJahr(AH$3,\"$AA$1:$AA$102\",$C15)","v":1},{"$f":"TeilnahmeImWMJahr(AI$3,\"$AA$1:$AA$102\",$C15)","v":0},{"$f":"TeilnahmeImWMJahr(AJ$3,\"$AA$1:$AA$102\",$C15)","v":1},{"$f":"TeilnahmeImWMJahr(AK$3,\"$AA$1:$AA$102\",$C15)","v":1},{"$f":"TeilnahmeImWMJahr(AL$3,\"$AA$1:$AA$102\",$C15)","v":0},{"$f":"TeilnahmeImWMJahr(AM$3,\"$AA$1:$AA$102\",$C15)","v":0},{"$f":"TeilnahmeImWMJahr(AN$3,\"$AA$1:$AA$102\",$C15)","v":1},{"$f":"TeilnahmeImWMJahr(AO$3,\"$AA$1:$AA$102\",$C15)","v":0}]
[11,17,"Mexiko",{"$f":"SUM(COUNTIF(INDIRECT(\"\"&$T$3:$AG$3&\"!$S$12:$T$400\"),\"Mexiko\"))","v":29},{"$f":"SUM('1930'!D115,'1950'!D119,'1954'!D148,'1958'!D169,'1962'!D144,'1966'!D146,'1970'!D142,'1978'!D171,'1986'!D220)","v":6},{"$f":"SUM('1930'!E115,'1950'!E119,'1954'!E148,'1958'!E169,'1962'!E144,'1966'!E146,'1970'!E142,'1978'!E171,'1986'!E220)","v":5},{"$f":"SUM('1930'!F115,'1950'!F119,'1954'!F148,'1958'!F169,'1962'!F144,'1966'!F146,'1970'!F142,'1978'!F171,'1986'!F220)","v":18},{"$f":"SUM('1930'!G115,'1950'!G119,'1954'!G148,'1958'!G169,'1962'!G144,'1966'!G146,'1970'!G142,'1978'!G171,'1986'!G220,'1994'!G236,'1998'!G261,'2002'!G260,'2006'!G263,'2010'!G261,'2014'!G260,'2018'!G262,'2022'!G269)","v":64},{"$f":"SUM('1930'!H115,'1950'!H119,'1954'!H148,'1958'!H169,'1962'!H144,'1966'!H146,'1970'!H142,'1978'!H171,'1986'!H220,'1994'!H236,'1998'!H261,'2002'!H260,'2006'!H263,'2010'!H261,'2014'!H260,'2018'!H262,'2022'!H269)","v":108},-44,17,41,{"$f":"SUM(COUNTIF(INDIRECT(\"\"&$AH$3:$AO$3&\"!$S$12:$T$400\"),\"Mexiko\"))","v":31},{"$f":"SUM('1994'!D236,'1998'!D261,'2002'!D260,'2006'!D263,'2010'!D261,'2014'!D260,'2018'!D262,'2022'!D269)","v":11},{"$f":"SUM('1994'!E236,'1998'!E261,'2002'!E260,'2006'!E263,'2010'!E261,'2014'!E260,'2018'!E262,'2022'!E269)","v":8},{"$f":"SUM('1994'!F236,'1998'!F261,'2002'!F260,'2006'!F263,'2010'!F261,'2014'!F260,'2018'!F262,'2022'!F269)","v":12},41,58,null,{"$f":"TeilnahmeImWMJahr(T$3,\"$AA$1:$AA$102\",$C16)","v":1},{"$f":"TeilnahmeImWMJahr(U$3,\"$AA$1:$AA$102\",$C16)","v":0},{"$f":"TeilnahmeImWMJahr(V$3,\"$AA$1:$AA$102\",$C16)","v":0},{"$f":"TeilnahmeImWMJahr(W$3,\"$AA$1:$AA$102\",$C16)","v":1},{"$f":"TeilnahmeImWMJahr(X$3,\"$AA$1:$AA$102\",$C16)","v":1},{"$f":"TeilnahmeImWMJahr(Y$3,\"$AA$1:$AA$102\",$C16)","v":1},{"$f":"TeilnahmeImWMJahr(Z$3,\"$AA$1:$AA$102\",$C16)","v":1},{"$f":"TeilnahmeImWMJahr(AA$3,\"$AA$1:$AA$102\",$C16)","v":1},{"$f":"TeilnahmeImWMJahr(AB$3,\"$AA$1:$AA$102\",$C16)","v":1},{"$f":"TeilnahmeImWMJahr(AC$3,\"$AA$1:$AA$102\",$C16)","v":0},{"$f":"TeilnahmeImWMJahr(AD$3,\"$AA$1:$AA$102\",$C16)","v":1},{"$f":"TeilnahmeImWMJahr(AE$3,\"$AA$1:$AA$102\",$C16)","v":0},{"$f":"TeilnahmeImWMJahr(AF$3,\"$AA$1:$AA$102\",$C16)","v":1},{"$f":"TeilnahmeImWMJahr(AG$3,\"$AA$1:$AA$102\",$C16)","v":0},{"$f":"TeilnahmeImWMJahr(AH$3,\"$AA$1:$AA$102\",$C16)","v":1},{"$f":"TeilnahmeImWMJahr(AI$3,\"$AA$1:$AA$102\",$C16)","v":1},{"$f":"TeilnahmeImWMJahr(AJ$3,\"$AA$1:$AA$102\",$C16)","v":1},{"$f":"TeilnahmeImWMJahr(AK$3,\"$AA$1:$AA$102\",$C16)","v":1},{"$f":"TeilnahmeImWMJahr(AL$3,\"$AA$1:$AA$102\",$C16)","v":1},{"$f":"TeilnahmeImWMJahr(AM$3,\"$AA$1:$AA$102\",$C16)","v":1},{"$f":"TeilnahmeImWMJahr(AN$3,\"$AA$1:$AA$102\",$C16)","v":1},{"$f":"TeilnahmeImWMJahr(AO$3,\"$AA$1:$AA$102\",$C16)","v":1}]
[13,8,"Portugal",{"$f":"SUM(COUNTIF(INDIRECT(\"\"&$T$3:$AG$3&\"!$S$12:$T$400\"),\"Portugal\"))","v":9},{"$f":"SUM('1966'!D136,'1986'!D230)","v":6},{"$f":"SUM('1966'!E136,'1986'!E230)","v":0},{"$f":"SUM('1966'!F136,'1986'!F230)","v":3},{"$f":"SUM('1966'!G136,'1986'!G230,'2002'!G270,'2006'!G251,'2010'!G255,'2014'!G267,'2018'!G264,'2022'!G255)","v":64},{"$f":"SUM('1966'!H136,'1986'!H230,'2002'!H270,'2006'!H251,'2010'!H255,'2014'!H267,'2018'!H264,'2022'!H255)","v":42},22,12,6,{"$f":"SUM(COUNTIF(INDIRECT(\"\"&$AH$3:$AO$3&\"!$S$12:$T$400\"),\"Portugal\"))","v":26},{"$f":"SUM('2002'!D270,'2006'!D251,'2010'!D255,'2014'!D267,'2018'!D264,'2022'!D255)","v":12},{"$f":"SUM('2002'!E270,'2006'!E251,'2010'!E255,'2014'!E267,'2018'!E264,'2022'!E255)","v":5},{"$f":"SUM('2002'!F270,'2006'!F251,'2010'!F255,'2014'!F267,'2018'!F264,'2022'!F255)","v":9},41,53,null,{"$f":"TeilnahmeImWMJahr(T$3,\"$AA$1:$AA$102\",$C17)","v":0},{"$f":"TeilnahmeImWMJahr(U$3,\"$AA$1:$AA$102\",$C17)","v":0},{"$f":"TeilnahmeImWMJahr(V$3,\"$AA$1:$AA$102\",$C17)","v":0},{"$f":"TeilnahmeImWMJahr(W$3,\"$AA$1:$AA$102\",$C17)","v":0},{"$f":"TeilnahmeImWMJahr(X$3,\"$AA$1:$AA$102\",$C17)","v":0},{"$f":"TeilnahmeImWMJahr(Y$3,\"$AA$1:$AA$102\",$C17)","v":0},{"$f":"TeilnahmeImWMJahr(Z$3,\"$AA$1:$AA$102\",$C17)","v":0},{"$f":"TeilnahmeImWMJahr(AA$3,\"$AA$1:$AA$102\",$C17)","v":1},{"$f":"TeilnahmeImWMJahr(AB$3,\"$AA$1:$AA$102\",$C17)","v":0},{"$f":"TeilnahmeImWMJahr(AC$3,\"$AA$1:$AA$102\",$C17)","v":0},{"$f":"TeilnahmeImWMJahr(AD$3,\"$AA$1:$AA$102\",$C17)","v":0},{"$f":"TeilnahmeImWMJahr(AE$3,\"$AA$1:$AA$102\",$C17)","v":0},{"$f":"TeilnahmeImWMJahr(AF$3,\"$AA$1:$AA$102\",$C17)","v":1},{"$f":"TeilnahmeImWMJahr(AG$3,\"$AA$1:$AA$102\",$C17)","v":0},{"$f":"TeilnahmeImWMJahr(AH$3,\"$AA$1:$AA$102\",$C17)","v":0},{"$f":"TeilnahmeImWMJahr(AI$3,\"$AA$1:$AA$102\",$C17)","v":0},{"$f":"TeilnahmeImWMJahr(AJ$3,\"$AA$1:$AA$102\",$C17)","v":1},{"$f":"TeilnahmeImWMJahr(AK$3,\"$AA$1:$AA$102\",$C17)","v":1},{"$f":"TeilnahmeImWMJahr(AL$3,\"$AA$1:$AA$102\",$C17)","v":1},{"$f":"TeilnahmeImWMJahr(AM$3,\"$AA$1:$AA$102\",$C17)","v":1},{"$f":"TeilnahmeImWMJahr(AN$3,\"$AA$1:$AA$102\",$C17)","v":1},{"$f":"TeilnahmeImWMJahr(AO$3,\"$AA$1:$AA$102\",$C17)","v":1}]
[16,12,"Schweiz",{"$f":"SUM(COUNTIF(INDIRECT(\"\"&$T$3:$AG$3&\"!$S$12:$T$400\"),\"Schweiz\"))","v":18},{"$f":"SUM('1934'!D84,'1938'!D91,'1950'!D112,'1954'!D140,'1962'!D148,'1966'!D150)","v":5},{"$f":"SUM('1934'!E84,'1938'!E91,'1950'!E112,'1954'!E140,'1962'!E148,'1966'!E150)","v":2},{"$f":"SUM('1934'!F84,'1938'!F91,'1950'!F112,'1954'!F140,'1962'!F148,'1966'!F150)","v":11},{"$f":"SUM('1934'!G84,'1938'!G91,'1950'!G112,'1954'!G140,'1962'!G148,'1966'!G150,'1994'!G235,'2006'!G258,'2010'!G265,'2014'!G262,'2018'!G266,'2022'!G259)","v":55},{"$f":"SUM('1934'!H84,'1938'!H91,'1950'!H112,'1954'!H140,'1962'!H148,'1966'!H150,'1994'!H235,'2006'!H258,'2010'!H265,'2014'!H262,'2018'!H266,'2022'!H259)","v":76},-21,12,24,{"$f":"SUM(COUNTIF(INDIRECT(\"\"&$AH$3:$AO$3&\"!$S$12:$T$400\"),\"Schweiz\"))","v":23},{"$f":"SUM('1994'!D235,'2006'!D258,'2010'!D265,'2014'!D262,'2018'!D266,'2022'!D259)","v":9},{"$f":"SUM('1994'!E235,'2006'!E258,'2010'!E265,'2014'!E262,'2018'!E266,'2022'!E259)","v":5},{"$f":"SUM('1994'!F235,'2006'!F258,'2010'!F265,'2014'!F262,'2018'!F266,'2022'!F259)","v":9},32,44,null,{"$f":"TeilnahmeImWMJahr(T$3,\"$AA$1:$AA$102\",$C18)","v":0},{"$f":"TeilnahmeImWMJahr(U$3,\"$AA$1:$AA$102\",$C18)","v":1},{"$f":"TeilnahmeImWMJahr(V$3,\"$AA$1:$AA$102\",$C18)","v":1},{"$f":"TeilnahmeImWMJahr(W$3,\"$AA$1:$AA$102\",$C18)","v":1},{"$f":"TeilnahmeImWMJahr(X$3,\"$AA$1:$AA$102\",$C18)","v":1},{"$f":"TeilnahmeImWMJahr(Y$3,\"$AA$1:$AA$102\",$C18)","v":0},{"$f":"TeilnahmeImWMJahr(Z$3,\"$AA$1:$AA$102\",$C18)","v":1},{"$f":"TeilnahmeImWMJahr(AA$3,\"$AA$1:$AA$102\",$C18)","v":1},{"$f":"TeilnahmeImWMJahr(AB$3,\"$AA$1:$AA$102\",$C18)","v":0},{"$f":"TeilnahmeImWMJahr(AC$3,\"$AA$1:$AA$102\",$C18)","v":0},{"$f":"TeilnahmeImWMJahr(AD$3,\"$AA$1:$AA$102\",$C18)","v":0},{"$f":"TeilnahmeImWMJahr(AE$3,\"$AA$1:$AA$102\",$C18)","v":0},{"$f":"TeilnahmeImWMJahr(AF$3,\"$AA$1:$AA$102\",$C18)","v":0},{"$f":"TeilnahmeImWMJahr(AG$3,\"$AA$1:$AA$102\",$C18)","v":0},{"$f":"TeilnahmeImWMJahr(AH$3,\"$AA$1:$AA$102\",$C18)","v":1},{"$f":"TeilnahmeImWMJahr(AI$3,\"$AA$1:$AA$102\",$C18)","v":0},{"$f":"TeilnahmeImWMJahr(AJ$3,\"$AA$1:$AA$102\",$C18)","v":0},{"$f":"TeilnahmeImWMJahr(AK$3,\"$AA$1:$AA$102\",$C18)","v":1},{"$f":"TeilnahmeImWMJahr(AL$3,\"$AA$1:$AA$102\",$C18)","v":1},{"$f":"TeilnahmeImWMJahr(AM$3,\"$AA$1:$AA$102\",$C18)","v":1},{"$f":"TeilnahmeImWMJahr(AN$3,\"$AA$1:$AA$102\",$C18)","v":1},{"$f":"TeilnahmeImWMJahr(AO$3,\"$AA$1:$AA$102\",$C18)","v":1}]
[15,9,"Polen",{"$f":"SUM(COUNTIF(INDIRECT(\"\"&$T$3:$AG$3&\"!$S$12:$T$400\"),\"Polen\"))","v":25},{"$f":"SUM('1938'!D97,'1974'!D156,'1978'!D160,'1982'!D226,'1986'!D229)","v":13},{"$f":"SUM('1938'!E97,'1974'!E156,'1978'!E160,'1982'!E226,'1986'!E229)","v":5},{"$f":"SUM('1938'!F97,'1974'!F156,'1978'!F160,'1982'!F226,'1986'!F229)","v":7},{"$f":"SUM('1938'!G97,'1974'!G156,'1978'!G160,'1982'!G226,'1986'!G229,'2002'!G272,'2006'!G269,'2018'!G277,'2022'!G267)","v":49},{"$f":"SUM('1938'!H97,'1974'!H156,'1978'!H160,'1982'!H226,'1986'!H229,'2002'!H272,'2006'!H269,'2018'!H277,'2022'!H267)","v":50},-1,31,19,{"$f":"SUM(COUNTIF(INDIRECT(\"\"&$AH$3:$AO$3&\"!$S$12:$T$400\"),\"Polen\"))","v":13},{"$f":"SUM('2002'!D272,'2006'!D269,'2018'!D277,'2022'!D267)","v":4},{"$f":"SUM('2002'!E272,'2006'!E269,'2018'!E277,'2022'!E267)","v":1},{"$f":"SUM('2002'!F272,'2006'!F269,'2018'!F277,'2022'!F267)","v":8},13,44,null,{"$f":"TeilnahmeImWMJahr(T$3,\"$AA$1:$AA$102\",$C19)","v":0},{"$f":"TeilnahmeImWMJahr(U$3,\"$AA$1:$AA$102\",$C19)","v":0},{"$f":"TeilnahmeImWMJahr(V$3,\"$AA$1:$AA$102\",$C19)","v":1},{"$f":"TeilnahmeImWMJahr(W$3,\"$AA$1:$AA$102\",$C19)","v":0},{"$f":"TeilnahmeImWMJahr(X$3,\"$AA$1:$AA$102\",$C19)","v":0},{"$f":"TeilnahmeImWMJahr(Y$3,\"$AA$1:$AA$102\",$C19)","v":0},{"$f":"TeilnahmeImWMJahr(Z$3,\"$AA$1:$AA$102\",$C19)","v":0},{"$f":"TeilnahmeImWMJahr(AA$3,\"$AA$1:$AA$102\",$C19)","v":0},{"$f":"TeilnahmeImWMJahr(AB$3,\"$AA$1:$AA$102\",$C19)","v":0},{"$f":"TeilnahmeImWMJahr(AC$3,\"$AA$1:$AA$102\",$C19)","v":1},{"$f":"TeilnahmeImWMJahr(AD$3,\"$AA$1:$AA$102\",$C19)","v":1},{"$f":"TeilnahmeImWMJahr(AE$3,\"$AA$1:$AA$102\",$C19)","v":1},{"$f":"TeilnahmeImWMJahr(AF$3,\"$AA$1:$AA$102\",$C19)","v":1},{"$f":"TeilnahmeImWMJahr(AG$3,\"$AA$1:$AA$102\",$C19)","v":0},{"$f":"TeilnahmeImWMJahr(AH$3,\"$AA$1:$AA$102\",$C19)","v":0},{"$f":"TeilnahmeImWMJahr(AI$3,\"$AA$1:$AA$102\",$C19)","v":0},{"$f":"TeilnahmeImWMJahr(AJ$3,\"$AA$1:$AA$102\",$C19)","v":1},{"$f":"TeilnahmeImWMJahr(AK$3,\"$AA$1:$AA$102\",$C19)","v":1},{"$f":"TeilnahmeImWMJahr(AL$3,\"$AA$1:$AA$102\",$C19)","v":0},{"$f":"TeilnahmeImWMJahr(AM$3,\"$AA$1:$AA$102\",$C19)","v":0},{"$f":"TeilnahmeImWMJahr(AN$3,\"$AA$1:$AA$102\",$C19)","v":1},{"$f":"TeilnahmeImWMJahr(AO$3,\"$AA$1:$AA$102\",$C19)","v":1}]
[14,9,"Jugoslawien",{"$f":"SUM(COUNTIF(INDIRECT(\"\"&$T$3:$AG$3&\"!$S$12:$T$400\"),\"Jugoslawien\"))","v":33},{"$f":"SUM('1930'!D106,'1950'!D111,'1954'!D143,'1958'!D161,'1962'!D136,'1974'!D163,'1982'!D239,'1990'!D234)","v":14},{"$f":"SUM('1930'!E106,'1950'!E111,'1954'!E143,'1958'!E161,'1962'!E136,'1974'!E163,'1982'!E239,'1990'!E234)","v":6},{"$f":"SUM('1930'!F106,'1950'!F111,'1954'!F143,'1958'!F161,'1962'!F136,'1974'!F163,'1982'!F239,'1990'!F234)","v":13},{"$f":"SUM('1930'!G106,'1950'!G111,'1954'!G143,'1958'!G161,'1962'!G136,'1974'!G163,'1982'!G239,'1990'!G234,'1998'!G257)","v":62},{"$f":"SUM('1930'!H106,'1950'!H111,'1954'!H143,'1958'!H161,'1962'!H136,'1974'!H163,'1982'!H239,'1990'!H234,'1998'!H257)","v":49},13,34,32,{"$f":"SUM(COUNTIF(INDIRECT(\"\"&$AH$3:$AO$3&\"!$S$12:$T$400\"),\"Jugoslawien\"))","v":4},{"$f":"SUM('1998'!D257)","v":2},{"$f":"SUM('1998'!E257)","v":1},{"$f":"SUM('1998'!F257)","v":1},7,41,null,{"$f":"TeilnahmeImWMJahr(T$3,\"$AA$1:$AA$102\",$C20)","v":1},{"$f":"TeilnahmeImWMJahr(U$3,\"$AA$1:$AA$102\",$C20)","v":0},{"$f":"TeilnahmeImWMJahr(V$3,\"$AA$1:$AA$102\",$C20)","v":0},{"$f":"TeilnahmeImWMJahr(W$3,\"$AA$1:$AA$102\",$C20)","v":1},{"$f":"TeilnahmeImWMJahr(X$3,\"$AA$1:$AA$102\",$C20)","v":1},{"$f":"TeilnahmeImWMJahr(Y$3,\"$AA$1:$AA$102\",$C20)","v":1},{"$f":"TeilnahmeImWMJahr(Z$3,\"$AA$1:$AA$102\",$C20)","v":1},{"$f":"TeilnahmeImWMJahr(AA$3,\"$AA$1:$AA$102\",$C20)","v":0},{"$f":"TeilnahmeImWMJahr(AB$3,\"$AA$1:$AA$102\",$C20)","v":0},{"$f":"TeilnahmeImWMJahr(AC$3,\"$AA$1:$AA$102\",$C20)","v":1},{"$f":"TeilnahmeImWMJahr(AD$3,\"$AA$1:$AA$102\",$C20)","v":0},{"$f":"TeilnahmeImWMJahr(AE$3,\"$AA$1:$AA$102\",$C20)","v":1},{"$f":"TeilnahmeImWMJahr(AF$3,\"$AA$1:$AA$102\",$C20)","v":0},{"$f":"TeilnahmeImWMJahr(AG$3,\"$AA$1:$AA$102\",$C20)","v":1},{"$f":"TeilnahmeImWMJahr(AH$3,\"$AA$1:$AA$102\",$C20)","v":0},{"$f":"TeilnahmeImWMJahr(AI$3,\"$AA$1:$AA$102\",$C20)","v":1},{"$f":"TeilnahmeImWMJahr(AJ$3,\"$AA$1:$AA$102\",$C20)","v":0},{"$f":"TeilnahmeImWMJahr(AK$3,\"$AA$1:$AA$102\",$C20)","v":0},{"$f":"TeilnahmeImWMJahr(AL$3,\"$AA$1:$AA$102\",$C20)","v":0},{"$f":"TeilnahmeImWMJahr(AM$3,\"$AA$1:$AA$102\",$C20)","v":0},{"$f":"TeilnahmeImWMJahr(AN$3,\"$AA$1:$AA$102\",$C20)","v":0},{"$f":"TeilnahmeImWMJahr(AO$3,\"$AA$1:$AA$102\",$C20)","v":0}]
[17,7,"UdSSR",{"$f":"SUM(COUNTIF(INDIRECT(\"\"&$T$3:$AG$3&\"!$S$12:$T$400\"),\"UdSSR\"))","v":31},{"$f":"SUM('1958'!D159,'1962'!D137,'1966'!D138,'1970'!D141,'1982'!D230,'1986'!D224,'1990'!D244)","v":15},{"$f":"SUM('1958'!E159,'1962'!E137,'1966'!E138,'1970'!E141,'1982'!E230,'1986'!E224,'1990'!E244)","v":6},{"$f":"SUM('1958'!F159,'1962'!F137,'1966'!F138,'1970'!F141,'1982'!F230,'1986'!F224,'1990'!F244)","v":10},{"$f":"SUM('1958'!G159,'1962'!G137,'1966'!G138,'1970'!G141,'1982'!G230,'1986'!G224,'1990'!G244)","v":53},{"$f":"SUM('1958'!H159,'1962'!H137,'1966'!H138,'1970'!H141,'1982'!H230,'1986'!H224,'1990'!H244)","v":34},19,36,26,{"$f":"SUM(COUNTIF(INDIRECT(\"\"&$AH$3:$AO$3&\"!$S$12:$T$400\"),\"UdSSR\"))","v":0},{"$f":"SUM(0)","v":0},0,0,0,36,null,{"$f":"TeilnahmeImWMJahr(T$3,\"$AA$1:$AA$102\",$C21)","v":0},{"$f":"TeilnahmeImWMJahr(U$3,\"$AA$1:$AA$102\",$C21)","v":0},{"$f":"TeilnahmeImWMJahr(V$3,\"$AA$1:$AA$102\",$C21)","v":0},{"$f":"TeilnahmeImWMJahr(W$3,\"$AA$1:$AA$102\",$C21)","v":0},{"$f":"TeilnahmeImWMJahr(X$3,\"$AA$1:$AA$102\",$C21)","v":0},{"$f":"TeilnahmeImWMJahr(Y$3,\"$AA$1:$AA$102\",$C21)","v":1},{"$f":"TeilnahmeImWMJahr(Z$3,\"$AA$1:$AA$102\",$C21)","v":1},{"$f":"TeilnahmeImWMJahr(AA$3,\"$AA$1:$AA$102\",$C21)","v":1},{"$f":"TeilnahmeImWMJahr(AB$3,\"$AA$1:$AA$102\",$C21)","v":1},{"$f":"TeilnahmeImWMJahr(AC$3,\"$AA$1:$AA$102\",$C21)","v":0},{"$f":"TeilnahmeImWMJahr(AD$3,\"$AA$1:$AA$102\",$C21)","v":0},{"$f":"TeilnahmeImWMJahr(AE$3,\"$AA$1:$AA$102\",$C21)","v":1},{"$f":"TeilnahmeImWMJahr(AF$3,\"$AA$1:$AA$102\",$C21)","v":1},{"$f":"TeilnahmeImWMJahr(AG$3,\"$AA$1:$AA$102\",$C21)","v":1},{"$f":"TeilnahmeImWMJahr(AH$3,\"$AA$1:$AA$102\",$C21)","v":0},{"$f":"TeilnahmeImWMJahr(AI$3,\"$AA$1:$AA$102\",$C21)","v":0},{"$f":"TeilnahmeImWMJahr(AJ$3,\"$AA$1:$AA$102\",$C21)","v":0},{"$f":"TeilnahmeImWMJahr(AK$3,\"$AA$1:$AA$102\",$C21)","v":0},{"$f":"TeilnahmeImWMJahr(AL$3,\"$AA$1:$AA$102\",$C21)","v":0},{"$f":"TeilnahmeImWMJahr(AM$3,\"$AA$1:$AA$102\",$C21)","v":0},{"$f":"TeilnahmeImWMJahr(AN$3,\"$AA$1:$AA$102\",$C21)","v":0},{"$f":"TeilnahmeImWMJahr(AO$3,\"$AA$1:$AA$102\",$C21)","v":0}]
[18,9,"Ungarn",{"$f":"SUM(COUNTIF(INDIRECT(\"\"&$T$3:$AG$3&\"!$S$12:$T$400\"),\"Ungarn\"))","v":32},{"$f":"SUM('1934'!D83,'1938'!D89,'1954'!D137,'1958'!D164,'1962'!D138,'1966'!D140,'1978'!D170,'1982'!D237,'1986'!D231)","v":15},{"$f":"SUM('1934'!E83,'1938'!E89,'1954'!E137,'1958'!E164,'1962'!E138,'1966'!E140,'1978'!E170,'1982'!E237,'1986'!E231)","v":3},{"$f":"SUM('1934'!F83,'1938'!F89,'1954'!F137,'1958'!F164,'1962'!F138,'1966'!F140,'1978'!F170,'1982'!F237,'1986'!F231)","v":14},{"$f":"SUM('1934'!G83,'1938'!G89,'1954'!G137,'1958'!G164,'1962'!G138,'1966'!G140,'1978'!G170,'1982'!G237,'1986'!G231)","v":87},{"$f":"SUM('1934'!H83,'1938'!H89,'1954'!H137,'1958'!H164,'1962'!H138,'1966'!H140,'1978'!H170,'1982'!H237,'1986'!H231)","v":57},30,33,31,{"$f":"SUM(COUNTIF(INDIRECT(\"\"&$AH$3:$AO$3&\"!$S$12:$T$400\"),\"Ungarn\"))","v":0},0,0,0,0,33,null,{"$f":"TeilnahmeImWMJahr(T$3,\"$AA$1:$AA$102\",$C22)","v":0},{"$f":"TeilnahmeImWMJahr(U$3,\"$AA$1:$AA$102\",$C22)","v":1},{"$f":"TeilnahmeImWMJahr(V$3,\"$AA$1:$AA$102\",$C22)","v":1},{"$f":"TeilnahmeImWMJahr(W$3,\"$AA$1:$AA$102\",$C22)","v":0},{"$f":"TeilnahmeImWMJahr(X$3,\"$AA$1:$AA$102\",$C22)","v":1},{"$f":"TeilnahmeImWMJahr(Y$3,\"$AA$1:$AA$102\",$C22)","v":1},{"$f":"TeilnahmeImWMJahr(Z$3,\"$AA$1:$AA$102\",$C22)","v":1},{"$f":"TeilnahmeImWMJahr(AA$3,\"$AA$1:$AA$102\",$C22)","v":1},{"$f":"TeilnahmeImWMJahr(AB$3,\"$AA$1:$AA$102\",$C22)","v":0},{"$f":"TeilnahmeImWMJahr(AC$3,\"$AA$1:$AA$102\",$C22)","v":0},{"$f":"TeilnahmeImWMJahr(AD$3,\"$AA$1:$AA$102\",$C22)","v":1},{"$f":"TeilnahmeImWMJahr(AE$3,\"$AA$1:$AA$102\",$C22)","v":1},{"$f":"TeilnahmeImWMJahr(AF$3,\"$AA$1:$AA$102\",$C22)","v":1},{"$f":"TeilnahmeImWMJahr(AG$3,\"$AA$1:$AA$102\",$C22)","v":0},{"$f":"TeilnahmeImWMJahr(AH$3,\"$AA$1:$AA$102\",$C22)","v":0},{"$f":"TeilnahmeImWMJahr(AI$3,\"$AA$1:$AA$102\",$C22)","v":0},{"$f":"TeilnahmeImWMJahr(AJ$3,\"$AA$1:$AA$102\",$C22)","v":0},{"$f":"TeilnahmeImWMJahr(AK$3,\"$AA$1:$AA$102\",$C22)","v":0},{"$f":"TeilnahmeImWMJahr(AL$3,\"$AA$1:$AA$102\",$C22)","v":0},{"$f":"TeilnahmeImWMJahr(AM$3,\"$AA$1:$AA$102\",$C22)","v":0},{"$f":"TeilnahmeImWMJahr(AN$3,\"$AA$1:$AA$102\",$C22)","v":0},{"$f":"TeilnahmeImWMJahr(AO$3,\"$AA$1:$AA$102\",$C22)","v":0}]
[19,9,"Chile",{"$f":"SUM(COUNTIF(INDIRECT(\"\"&$T$3:$AG$3&\"!$S$12:$T$400\"),\"Chile\"))","v":21},{"$f":"SUM('1930'!D107,'1950'!D114,'1962'!D134,'1966'!D148,'1974'!D167,'1982'!D245)","v":7},{"$f":"SUM('1930'!E107,'1950'!E114,'1962'!E134,'1966'!E148,'1974'!E167,'1982'!E245)","v":3},{"$f":"SUM('1930'!F107,'1950'!F114,'1962'!F134,'1966'!F148,'1974'!F167,'1982'!F245)","v":11},{"$f":"SUM('1930'!G107,'1950'!G114,'1962'!G134,'1966'!G148,'1974'!G167,'1982'!G245,'1998'!G266,'2010'!G254,'2014'!G261)","v":42},{"$f":"SUM('1930'!H107,'1950'!H114,'1962'!H134,'1966'!H148,'1974'!H167,'1982'!H245,'1998'!H266,'2010'!H254,'2014'!H261)","v":52},-10,17,25,{"$f":"SUM(COUNTIF(INDIRECT(\"\"&$AH$3:$AO$3&\"!$S$12:$T$400\"),\"Chile\"))","v":12},{"$f":"SUM('1998'!D266,'2010'!D254,'2014'!D261)","v":4},{"$f":"SUM('1998'!E266,'2010'!E254,'2014'!E261)","v":3},{"$f":"SUM('1998'!F266,'2010'!F254,'2014'!F261)","v":5},15,32,null,{"$f":"TeilnahmeImWMJahr(T$3,\"$AA$1:$AA$102\",$C23)","v":1},{"$f":"TeilnahmeImWMJahr(U$3,\"$AA$1:$AA$102\",$C23)","v":0},{"$f":"TeilnahmeImWMJahr(V$3,\"$AA$1:$AA$102\",$C23)","v":0},{"$f":"TeilnahmeImWMJahr(W$3,\"$AA$1:$AA$102\",$C23)","v":1},{"$f":"TeilnahmeImWMJahr(X$3,\"$AA$1:$AA$102\",$C23)","v":0},{"$f":"TeilnahmeImWMJahr(Y$3,\"$AA$1:$AA$102\",$C23)","v":0},{"$f":"TeilnahmeImWMJahr(Z$3,\"$AA$1:$AA$102\",$C23)","v":1},{"$f":"TeilnahmeImWMJahr(AA$3,\"$AA$1:$AA$102\",$C23)","v":1},{"$f":"TeilnahmeImWMJahr(AB$3,\"$AA$1:$AA$102\",$C23)","v":0},{"$f":"TeilnahmeImWMJahr(AC$3,\"$AA$1:$AA$102\",$C23)","v":1},{"$f":"TeilnahmeImWMJahr(AD$3,\"$AA$1:$AA$102\",$C23)","v":0},{"$f":"TeilnahmeImWMJahr(AE$3,\"$AA$1:$AA$102\",$C23)","v":1},{"$f":"TeilnahmeImWMJahr(AF$3,\"$AA$1:$AA$102\",$C23)","v":0},{"$f":"TeilnahmeImWMJahr(AG$3,\"$AA$1:$AA$102\",$C23)","v":0},{"$f":"TeilnahmeImWMJahr(AH$3,\"$AA$1:$AA$102\",$C23)","v":0},{"$f":"TeilnahmeImWMJahr(AI$3,\"$AA$1:$AA$102\",$C23)","v":1},{"$f":"TeilnahmeImWMJahr(AJ$3,\"$AA$1:$AA$102\",$C23)","v":0},{"$f":"TeilnahmeImWMJahr(AK$3,\"$AA$1:$AA$102\",$C23)","v":0},{"$f":"TeilnahmeImWMJahr(AL$3,\"$AA$1:$AA$102\",$C23)","v":1},{"$f":"TeilnahmeImWMJahr(AM$3,\"$AA$1:$AA$102\",$C23)","v":1},{"$f":"TeilnahmeImWMJahr(AN$3,\"$AA$1:$AA$102\",$C23)","v":0},{"$f":"TeilnahmeImWMJahr(AO$3,\"$AA$1:$AA$102\",$C23)","v":0}]
[20,8,"Paraguay",{"$f":"SUM(COUNTIF(INDIRECT(\"\"&$T$3:$AG$3&\"!$S$12:$T$400\"),\"Paraguay\"))","v":11},{"$f":"SUM('1930'!D110,'1950'!D117,'1958'!D162,'1986'!D227)","v":3},{"$f":"SUM('1930'!E110,'1950'!E117,'1958'!E162,'1986'!E227)","v":4},{"$f":"SUM('1930'!F110,'1950'!F117,'1958'!F162,'1986'!F227)","v":4},{"$f":"SUM('1930'!G110,'1950'!G117,'1958'!G162,'1986'!G227,'1998'!G263,'2002'!G264,'2006'!G268,'2010'!G251)","v":35},{"$f":"SUM('1930'!H110,'1950'!H117,'1958'!H162,'1986'!H227,'1998'!H263,'2002'!H264,'2006'!H268,'2010'!H251)","v":41},-6,10,12,{"$f":"SUM(COUNTIF(INDIRECT(\"\"&$AH$3:$AO$3&\"!$S$12:$T$400\"),\"Paraguay\"))","v":16},{"$f":"SUM('1998'!D263,'2002'!D264,'2006'!D268,'2010'!D251)","v":5},{"$f":"SUM('1998'!E263,'2002'!E264,'2006'!E268,'2010'!E251)","v":5},{"$f":"SUM('1998'!F263,'2002'!F264,'2006'!F268,'2010'!F251)","v":6},20,30,null,{"$f":"TeilnahmeImWMJahr(T$3,\"$AA$1:$AA$102\",$C24)","v":1},{"$f":"TeilnahmeImWMJahr(U$3,\"$AA$1:$AA$102\",$C24)","v":0},{"$f":"TeilnahmeImWMJahr(V$3,\"$AA$1:$AA$102\",$C24)","v":0},{"$f":"TeilnahmeImWMJahr(W$3,\"$AA$1:$AA$102\",$C24)","v":1},{"$f":"TeilnahmeImWMJahr(X$3,\"$AA$1:$AA$102\",$C24)","v":0},{"$f":"TeilnahmeImWMJahr(Y$3,\"$AA$1:$AA$102\",$C24)","v":1},{"$f":"TeilnahmeImWMJahr(Z$3,\"$AA$1:$AA$102\",$C24)","v":0},{"$f":"TeilnahmeImWMJahr(AA$3,\"$AA$1:$AA$102\",$C24)","v":0},{"$f":"TeilnahmeImWMJahr(AB$3,\"$AA$1:$AA$102\",$C24)","v":0},{"$f":"TeilnahmeImWMJahr(AC$3,\"$AA$1:$AA$102\",$C24)","v":0},{"$f":"TeilnahmeImWMJahr(AD$3,\"$AA$1:$AA$102\",$C24)","v":0},{"$f":"TeilnahmeImWMJahr(AE$3,\"$AA$1:$AA$102\",$C24)","v":0},{"$f":"TeilnahmeImWMJahr(AF$3,\"$AA$1:$AA$102\",$C24)","v":1},{"$f":"TeilnahmeImWMJahr(AG$3,\"$AA$1:$AA$102\",$C24)","v":0},{"$f":"TeilnahmeImWMJahr(AH$3,\"$AA$1:$AA$102\",$C24)","v":0},{"$f":"TeilnahmeImWMJahr(AI$3,\"$AA$1:$AA$102\",$C24)","v":1},{"$f":"TeilnahmeImWMJahr(AJ$3,\"$AA$1:$AA$102\",$C24)","v":1},{"$f":"TeilnahmeImWMJahr(AK$3,\"$AA$1:$AA$102\",$C24)","v":1},{"$f":"TeilnahmeImWMJahr(AL$3,\"$AA$1:$AA$102\",$C24)","v":1},{"$f":"TeilnahmeImWMJahr(AM$3,\"$AA$1:$AA$102\",$C24)","v":0},{"$f":"TeilnahmeImWMJahr(AN$3,\"$AA$1:$AA$102\",$C24)","v":0},{"$f":"TeilnahmeImWMJahr(AO$3,\"$AA$1:$AA$102\",$C24)","v":0}]

{"sheet":"1994","index":15,"n_rows":246,"n_cols":27,"rows_kept":246,"cut":false,"hidden":false,"merged":[[201,2,201,8],[210,2,210,8],[1,0,1,9],[3,0,3,9],[4,0,4,9]]}
[]
["15. WM 1994 in den USA"]
[]
["17. Juni-17. Juli 1994"]
["Teilnehmende Nationen: 24 --- Bewerbungen: 143"]
[]
[null,null,null,null,null,"Ab dieser WM gibt es für einen Sieg 3 Punkte, für ein Unentschieden 1 Punkt"]
[]
[]
[null,null,null,null,null,"Gruppe A"]
[]
[null,null,"1994-06-18","USA","Schweiz",1,1,null,"Pontiac",null,null,null,null,null,null,null,null,null,"USA","Schweiz",1,1,null,{"$f":"(IF(U12>V12,3,IF(U12=V12,1,2)))","v":1},{"$f":"(IF(V12>U12,3,IF(U12=V12,1,2)))","v":1},null,"Brasilien"]
[null,null,null,null,null,"(1","1)",null,null,null,null,null,null,null,null,null,null,null,"Kolumbien","Rumänien",1,3,null,{"$f":"(IF(U13>V13,3,IF(U13=V13,1,2)))","v":2},{"$f":"(IF(V13>U13,3,IF(U13=V13,1,2)))","v":3},null,"Schweden"]
[null,null,"1994-06-18","Kolumbien","Rumänien",1,3,null,"Pasadena",null,null,null,null,null,null,null,null,null,"Rumänien","Schweiz",1,4,null,2,3,null,"Italien"]
[null,null,null,null,null,"(1","2)",null,null,null,null,null,null,null,null,null,null,null,"USA","Kolumbien",2,1,null,3,2,null,"Bulgarien"]
[null,null,"1994-06-22","Rumänien","Schweiz",1,4,null,"Pontiac",null,null,null,null,null,null,null,null,null,"USA","Rumänien",0,1,null,2,3,null,"BRD"]
[null,null,null,null,null,"(1","1)",null,null,null,null,null,null,null,null,null,null,null,"Schweiz","Kolumbien",0,2,null,2,3,null,"Rumänien"]
[null,null,"1994-06-22","USA","Kolumbien",2,1,null,"Pasadena",null,null,null,null,null,null,null,null,null,null,null,null,null,null,null,null,null,"Niederlande"]
[null,null,null,null,null,"(1","0)",null,null,null,null,null,null,null,null,null,null,null,null,null,null,null,null,null,null,null,"Spanien"]
[null,null,"1994-06-26","USA","Rumänien",0,1,null,"Pasadena",null,null,null,null,null,null,null,null,null,null,null,null,null,null,null,null,null,"Argentinien"]
[null,null,null,null,null,"(0","1)",null,null,null,null,null,null,null,null,null,null,null,null,null,null,null,null,null,null,null,"Nigeria"]
[null,null,"1994-06-26","Schweiz","Kolumbien",0,2,null,"Palo Alto",null,null,null,null,null,null,null,null,null,null,null,null,null,null,null,null,null,"Saudi-Arabien"]
[null,null,null,null,null,"(0","1)",null,null,null,null,null,null,null,null,null,null,null,null,null,null,null,null,null,null,null,"Belgien"]
[null,null,null,null,null,null,null,null,null,null,null,null,null,null,null,null,null,null,null,null,null,null,null,null,null,null,"Schweiz"]
[null,"Nation","Spiele","gew","unent","verl","Tore+","Tore-","Punkte",null,null,null,null,null,null,null,null,null,null,null,null,null,null,null,null,null,"Mexiko"]
["Tabelle:","Rumänien",{"$f":"COUNTIF($S$12:$T$17,\"Rumänien\")","v":3},{"$f":"SUMPRODUCT(($S$12:$T$17=B26)*($X$12:$Y$17=3))","v":2},{"$f":"SUMPRODUCT(($S$12:$T$17=B26)*($X$12:$Y$17=1))","v":0},{"$f":"SUMPRODUCT(($S$12:$T$17=B26)*($X$12:$Y$17=2))","v":1},{"$f":"SUMPRODUCT(($S$12:$S$17=B26)*($U$12:$U$17))+SUMPRODUCT(($T$12:$T$17=B26)*($V$12:$V$17))","v":5},{"$f":"SUMPRODUCT(($S$12:$S$17=B26)*($V$12:$V$17))+SUMPRODUCT(($T$12:$T$17=B26)*($U$12:$U$17))","v":5},{"$f":"(D26*3)+E26","v":6},null,null,null,null,null,null,null,null,null,null,null,null,null,null,null,null,null,"USA"]
[null,"Schweiz",{"$f":"COUNTIF($S$12:$T$17,\"Schweiz\")","v":3},{"$f":"SUMPRODUCT(($S$12:$T$17=B27)*($X$12:$Y$17=3))","v":1},{"$f":"SUMPRODUCT(($S$12:$T$17=B27)*($X$12:$Y$17=1))","v":1},{"$f":"SUMPRODUCT(($S$12:$T$17=B27)*($X$12:$Y$17=2))","v":1},{"$f":"SUMPRODUCT(($S$12:$S$17=B27)*($U$12:$U$17))+SUMPRODUCT(($T$12:$T$17=B27)*($V$12:$V$17))","v":5},{"$f":"SUMPRODUCT(($S$12:$S$17=B27)*($V$12:$V$17))+SUMPRODUCT(($T$12:$T$17=B27)*($U$12:$U$17))","v":4},{"$f":"(D27*3)+E27","v":4},null,null,null,null,null,null,null,null,null,null,null,null,null,null,null,null,null,"Irland"]
[null,"USA",{"$f":"COUNTIF($S$12:$T$17,\"USA\")","v":3},1,1,1,3,3,4,null,null,null,null,null,null,null,null,null,null,null,null,null,null,null,null,null,"Norwegen"]
[null,"Kolumbien",{"$f":"COUNTIF($S$12:$T$17,\"Kolumbien\")","v":3},1,0,2,4,5,3,null,null,null,null,null,null,null,null,null,null,null,null,null,null,null,null,null,"Russland"]
[null,null,null,null,null,null,null,null,null,null,null,null,null,null,null,null,null,null,null,null,null,null,null,null,null,null,"Kolumbien"]
[null,null,null,null,null,null,null,null,null,null,null,null,null,null,null,null,null,null,null,null,null,null,null,null,null,null,"Südkorea"]
[null,null,null,null,null,"Gruppe B",null,null,null,null,null,null,null,null,null,null,null,null,null,null,null,null,null,null,null,null,"Kamerun"]
[null,null,null,null,null,null,null,null,null,null,null,null,null,null,null,null,null,null,null,null,null,null,null,null,null,null,"Bolivien"]
[null,null,"1994-06-19","Kamerun","Schweden",2,2,null,"Pasadena",null,null,null,null,null,null,null,null,null,"Kamerun","Schweden",2,2,null,{"$f":"(IF(U34>V34,3,IF(U34=V34,1,2)))","v":1},{"$f":"(IF(V34>U34,3,IF(U34=V34,1,2)))","v":1},null,"Marokko"]
[null,null,null,null,null,"(1","1)",null,null,null,null,null,null,null,null,null,null,null,"Brasilien","Russland",2,0,null,{"$f":"(IF(U35>V35,3,IF(U35=V35,1,2)))","v":3},{"$f":"(IF(V35>U35,3,IF(U35=V35,1,2)))","v":2},null,"Griechenland"]
[null,null,"1994-06-20","Brasilien","Russland",2,0,null,"Palo Alto",null,null,null,null,null,null,null,null,null,"Brasilien","Kamerun",3,0,null,3,2]
[null,null,null,null,null,"(1","0)",null,null,null,null,null,null,null,null,null,null,null,"Schweden","Russland",3,1,null,3,2]
[null,null,"1994-06-24","Brasilien","Kamerun",3,0,null,"Palo Alto",null,null,null,null,null,null,null,null,null,"Russland","Kamerun",6,1,null,3,2]
[null,null,null,null,null,"(1","0)",null,null,null,null,null,null,null,null,null,null,null,"Brasilien","Schweden",1,1,null,1,1]
[null,null,"1994-06-24","Schweden","Russland",3,1,null,"Pontiac"]
[null,null,null,null,null,"(1","1)"]
[null,null,"1994-06-28","Russland","Kamerun",6,1,null,"Palo Alto"]
[null,null,null,null,null,"(3","0)"]
[null,null,"1994-06-28","Brasilien","Schweden",1,1,null,"Pontiac"]
[null,null,null,null,null,"(0","1)"]
[]
[null,"Nation","Spiele","gew","unent","verl","Tore+","Tore-","Punkte"]
["Tabelle:","Brasilien",3,2,1,0,6,1,7]
[null,"Schweden"]
[null,"Russland"]
[null,"Kamerun"]
[]
[]
[null,null,null,null,null,"Gruppe C"]
[]
[null,null,"1994-06-17","BRD","Bolivien",1,0,null,"Chicago",null,null,null,null,null,null,null,null,null,"BRD","Bolivien",1,0,null,{"$f":"(IF(U56>V56,3,IF(U56=V56,1,2)))","v":3},{"$f":"(IF(V56>U56,3,IF(U56=V56,1,2)))","v":2}]
[null,null,null,null,null,"(0","0)",null,null,null,null,null,null,null,null,null,null,null,"Spanien","Südkorea",2,2,null,{"$f":"(IF(U57>V57,3,IF(U57=V57,1,2)))","v":1},{"$f":"(IF(V57>U57,3,IF(U57=V57,1,2)))","v":1}]
[null,null,"1994-06-17","Spanien","Südkorea",2,2,null,"Dallas",null,null,null,null,null,null,null,null,null,"BRD","Spanien",1,1,null,1,1]
[null,null,null,null,null,"(0","0)",null,null,null,null,null,null,null,null,null,null,null,"Südkorea","Bolivien",0,0,null,1,1]
[null,null,"1994-06-21","BRD","Spanien",1,1,null,"Chicago",null,null,null,null,null,null,null,null,null,"Bolivien","Spanien",1,3,null,2,3]
[null,null,null,null,null,"(0","1)",null,null,null,null,null,null,null,null,null,null,null,"BRD","Südkorea",3,2,null,3,2]
[null,null,"1994-06-23","Südkorea","Bolivien",0,0,null,"Foxborough"]
[null,null,"1994-06-27","Bolivien","Spanien",1,3,null,"Chicago"]
[null,null,null,null,null,"(0","1)"]
[null,null,"1994-06-27","BRD","Südkorea",3,2,null,"Dallas"]
[null,null,null,null,null,"(3","0)"]
[]
[null,"Nation","Spiele","gew","unent","verl","Tore+","Tore-","Punkte"]
[null,"BRD",3,2,1,0,5,3,7]
[null,"Spanien"]
[null,"Südkorea"]
[null,"Bolivien"]
[]
[]
[null,null,null,null,null,"Gruppe D"]
[]
[null,null,"1994-06-21","Argentinien","Griechenland",4,0,null,"Foxborough",null,null,null,null,null,null,null,null,null,"Argentinien","Griechenland",4,0,null,{"$f":"(IF(U77>V77,3,IF(U77=V77,1,2)))","v":3},{"$f":"(IF(V77>U77,3,IF(U77=V77,1,2)))","v":2}]
[null,null,null,null,null,"(2","0)",null,null,null,null,null,null,null,null,null,null,null,"Nigeria","Bulgarien",3,0,null,3,2]
[null,null,"1994-06-21","Nigeria","Bulgarien",3,0,null,"Dallas",null,null,null,null,null,null,null,null,null,"Argentinien","Nigeria",2,1,null,{"$f":"(IF(U79>V79,3,IF(U79=V79,1,2)))","v":3},{"$f":"(IF(V79>U79,3,IF(U79=V79,1,2)))","v":2}]
[null,null,null,null,null,"(2","0)",null,null,null,null,null,null,null,null,null,null,null,"Bulgarien","Griechenland",4,0,null,3,2]
[null,null,"1994-06-25","Argentinien","Nigeria",2,1,null,"Foxborough",null,null,null,null,null,null,null,null,null,"Griechenland","Nigeria",0,2,null,2,3]
[null,null,null,null,null,"(2","1)",null,null,null,null,null,null,null,null,null,null,null,"Argentinien","Bulgarien",0,2,null,2,3]
[null,null,"1994-06-26","Bulgarien","Griechenland",4,0,null,"Chicago"]
[null,null,null,null,null,"(1","0)"]
[null,null,"1994-06-30","Griechenland","Nigeria",0,2,null,"Foxborough"]
[null,null,null,null,null,"(0","1)"]
[null,null,"1994-06-30","Argentinien","Bulgarien",0,2,null,"Dallas"]
[null,null,null,null,null,"(0","0)"]
[]
[null,"Nation","Spiele","gew","unent","verl","Tore+","Tore-","Punkte"]
[null,"Nigeria",3,2,0,1,6,2,6]
[null,"Bulgarien"]
[null,"Argentinien"]
[null,"Griechenland"]
[]
[null,null,"Bulgarien durch direkten Vergleich vor Argentinien Gruppenzweiter"]
[]
[]
[null,null,null,null,null,"Gruppe E"]
[]
[null,null,"1994-06-18","Italien","Irland",0,1,null,"East Rutherford",null,null,null,null,null,null,null,null,null,"Italien","Irland",0,1,null,{"$f":"(IF(U101>V101,3,IF(U101=V101,1,2)))","v":2},{"$f":"(IF(V101>U101,3,IF(U101=V101,1,2)))","v":3}]
[null,null,null,null,null,"(0","1)",null,null,null,null,null,null,null,null,null,null,null,"Norwegen","Mexiko",1,0,null,3,2]
[null,null,"1994-06-19","Norwegen","Mexiko",1,0,null,"Washington, D.C.",null,null,null,null,null,null,null,null,null,"Italien","Norwegen",1,0,null,3,2]
[null,null,null,null,null,"(0","0)",null,null,null,null,null,null,null,null,null,null,null,"Mexiko","Irland",2,1,null,3,2]
[null,null,"1994-06-23","Italien","Norwegen",1,0,null,"East Rutherford",null,null,null,null,null,null,null,null,null,"Irland","Norwegen",0,0,null,1,1]
[null,null,null,null,null,"(0","0)",null,null,null,null,null,null,null,null,null,null,null,"Italien","Mexiko",1,1,null,1,1]
[null,null,"1994-06-24","Mexiko","Irland",2,1,null,"Orlando"]
[null,null,null,null,null,"(1","0)"]
[null,null,"1994-06-28","Irland","Norwegen",0,0,null,"East Rutherford"]
[null,null,"1994-06-28","Italien","Mexiko",1,1,null,"Washington, D.C."]
[null,null,null,null,null,"(0","0)"]
[]
[null,"Nation","Spiele","gew","unent","verl","Tore+","Tore-","Punkte"]
[null,"Mexiko",3,1,1,1,3,3,4]
[null,"Irland"]
[null,"Italien"]
[null,"Norwegen"]
[]
[null,null,"Irland durch direkten Vergleich vor Italien Gruppenzweiter"]
[]
[]
[null,null,null,null,null,"Gruppe F"]
[]
[null,null,"1994-06-19","Belgien","Marokko",1,0,null,"Orlando",null,null,null,null,null,null,null,null,null,"Belgien","Marokko",1,0,null,{"$f":"(IF(U124>V124,3,IF(U124=V124,1,2)))","v":3},{"$f":"(IF(V124>U124,3,IF(U124=V124,1,2)))","v":2}]
[null,null,null,null,null,"(1","0)",null,null,null,null,null,null,null,null,null,null,null,"Niederlande","Saudi-Arabien",2,1,null,3,2]
[null,null,"1994-06-20","Niederlande","Saudi-Arabien",2,1,null,"Washington, D.C.",null,null,null,null,null,null,null,null,null,"Belgien","Niederlande",1,0,null,3,2]
[null,null,null,null,null,"(0","1)",null,null,null,null,null,null,null,null,null,null,null,"Saudi-Arabien","Marokko",2,1,null,3,2]
[null,null,"1994-06-25","Belgien","Niederlande",1,0,null,"Orlando",null,null,null,null,null,null,null,null,null,"Marokko","Niederlande",1,2,null,2,3]
[null,null,null,null,null,"(0","0)",null,null,null,null,null,null,null,null,null,null,null,"Belgien","Saudi-Arabien",0,1,null,2,3]
[null,null,"1994-06-25","Saudi-Arabien","Marokko",2,1,null,"East Rutherford"]
[null,null,null,null,null,"(2","1)"]
[null,null,"1994-06-29","Marokko","Niederlande",1,2,null,"Orlando"]
[null,null,null,null,null,"(0","1)"]
[null,null,"1994-06-29","Belgien","Saudi-Arabien",0,1,null,"Washington, D.C."]
[null,null,null,null,null,"(0","1)"]
[]
[null,"Nation","Spiele","gew","unent","verl","Tore+","Tore-","Punkte"]
[null,"Niederlande",3,2,0,1,4,3,6]
[null,"Saudi-Arabien"]
[null,"Belgien"]
[null,"Marokko"]
[]
[null,null,"Niederlande durch direkten Vergleich vor Saudi-Arabien Gruppensieger"]
[]
[]
[null,null,null,null,null,"Rangliste der Gruppendritten"]
[]
[null,"Nation","Spiele","gew","unent","verl","Tore+","Tore-","Punkte"]
[null,"Argentinien",3,2,0,1,6,3,6]
[null,"Belgien",3,2,0,1,2,1,6]
[null,"USA",3,1,1,1,3,3,4]
[null,"Italien",3,1,1,1,2,2,4]
[null,"Russland",3,1,0,2,7,6,3]
[null,"Südkorea",3,0,2,1,4,5,2]
[]
[]
[null,null,null,null,null,"Achtelfinale"]
[]
[null,null,"1994-07-02","BRD","Belgien",3,2,null,"Chicago",null,null,null,null,null,null,null,null,null,"BRD","Belgien",3,2,null,{"$f":"(IF(U159>V159,3,IF(U159=V159,1,2)))","v":3},{"$f":"(IF(V159>U159,3,IF(U159=V159,1,2)))","v":2}]
[null,null,null,null,null,"(3","1)",null,null,null,null,null,null,null,null,null,null,null,"Schweiz","Spanien",0,3,null,2,3]
[null,null,"1994-07-02","Schweiz","Spanien",0,3,null,"Washington, D.C.",null,null,null,null,null,null,null,null,null,"Saudi-Arabien","Schweden",1,3,null,2,3]
[null,null,null,null,null,"(0","1)",null,null,null,null,null,null,null,null,null,null,null,"Rumänien","Argentinien",3,2,null,3,2]
[null,null,"1994-07-03","Saudi-Arabien","Schweden",1,3,null,"Dallas",null,null,null,null,null,null,null,null,null,"Niederlande","Irland",2,0,null,3,2]
[null,null,null,null,null,"(0","1)",null,null,null,null,null,null,null,null,null,null,null,"Brasilien","USA",1,0,null,3,2]
[null,null,"1994-07-03","Rumänien","Argentinien",3,2,null,"Pasadena",null,null,null,null,null,null,null,null,null,"Nigeria","Italien",1,2,null,2,3]
[null,null,null,null,null,"(2","1)",null,null,null,null,null,null,null,null,null,null,null,"Mexiko","Bulgarien",2,4,null,2,3]
[null,null,"1994-07-04","Niederlande","Irland",2,0,null,"Orlando"]
[null,null,null,null,null,"(2","0)"]
[null,null,"1994-07-04","Brasilien","USA",1,0,null,"Palo Alto"]
[null,null,null,null,null,"(0","0)"]
[null,null,"1994-07-05","Nigeria","Italien",1,2,"n.V.","Foxborough"]
[null,null,null,null,null,1,1]
[null,null,null,null,null,"(1","0)"]
[null,null,"1994-07-05","Mexiko","Bulgarien",1,3,"n.E.","East Rutherford"]
[null,null,null,null,null,1,1,"n.V."]
[null,null,null,null,null,1,1]
[null,null,null,null,null,"(1","1)"]
[]
[]
[null,null,null,null,null,"Viertelfinale"]
[]
[null,null,"1994-07-09","Italien","Spanien",2,1,null,"Foxborough",null,null,null,null,null,null,null,null,null,"Italien","Spanien",2,1,null,{"$f":"(IF(U182>V182,3,IF(U182=V182,1,2)))","v":3},{"$f":"(IF(V182>U182,3,IF(U182=V182,1,2)))","v":2}]
[null,null,null,null,null,"(1","0)",null,null,null,null,null,null,null,null,null,null,null,"Brasilien","Niederlande",3,2,null,3,2]
[null,null,"1994-07-09","Brasilien","Niederlande",3,2,null,"Dallas",null,null,null,null,null,null,null,null,null,"BRD","Bulgarien",1,2,null,2,3]
[null,null,null,null,null,"(1","0)",null,null,null,null,null,null,null,null,null,null,null,"Rumänien","Schweden",6,7,null,2,3]
[null,null,"1994-07-10","BRD","Bulgarien",1,2,null,"East Rutherford"]
[null,null,null,null,null,"(0","0)"]
[null,null,"1994-07-10","Rumänien","Schweden",4,5,"n.E.","Palo Alto"]
[null,null,null,null,null,2,2,"n.V."]
[null,null,null,null,null,1,1]
[null,null,null,null,null,"(0","0)"]
[]
[]
[null,null,null,null,null,"Halbfinale"]
[]
[null,null,"1994-07-13","Bulgarien","Italien",1,2,null,"East Rutherford",null,null,null,null,null,null,null,null,null,"Bulgarien","Italien",1,2,null,{"$f":"(IF(U196>V196,3,IF(U196=V196,1,2)))","v":2},{"$f":"(IF(V196>U196,3,IF(U196=V196,1,2)))","v":3}]
[null,null,null,null,null,"(1","2)",null,null,null,null,null,null,null,null,null,null,null,"Schweden","Brasilien",0,1,null,2,3]
[null,null,"1994-07-13","Schweden","Brasilien",0,1,null,"Pasadena"]
[null,null,null,null,null,"(0","0)"]
[]
[]
[null,null,"Spiel um Platz 3 am 16. Juli 1994 in Pasadena"]
[]
[null,null,null,"Schweden","Bulgarien",4,0,null,null,null,null,null,null,null,null,null,null,null,"Schweden","Bulgarien",4,0,null,{"$f":"(IF(U204>V204,3,IF(U204=V204,1,2)))","v":3},{"$f":"(IF(V204>U204,3,IF(U204=V204,1,2)))","v":2}]
[null,null,null,null,null,"(4","0)"]
[]
[]
[]
[]
[]
[null,null,"Endspiel am 8. Juli 1990 in Rom"]
[]
[null,null,null,"Brasilien","Italien",3,2,"n.E.",null,null,null,null,null,null,null,null,null,null,"Brasilien","Italien",3,2,null,{"$f":"(IF(U213>V213,3,IF(U213=V213,1,2)))","v":3},{"$f":"(IF(V213>U213,3,IF(U213=V213,1,2)))","v":2}]
[null,null,null,null,null,0,0,"n.V."]
[null,null,null,null,null,0,0]
[null,null,null,null,null,"(0","0)"]
[]
[]
[]
[]
[]
["Auswertung","Nation","Spiele","gew","unent","verl","Tore+","Tore-","Punkte"]
[null,"Brasilien",{"$f":"COUNTIF($S$12:$T$213,\"Brasilien\")","v":7},{"$f":"SUMPRODUCT(($S$12:$T$213=B223)*($X$12:$Y$213=3))","v":6},{"$f":"SUMPRODUCT(($S$12:$T$213=B223)*($X$12:$Y$213=1))","v":1},{"$f":"SUMPRODUCT(($S$12:$T$213=B223)*($X$12:$Y$213=2))","v":0},{"$f":"SUMPRODUCT(($S$12:$S$213=B223)*($U$12:$U$213))+SUMPRODUCT(($T$12:$T$213=B223)*($V$12:$V$213))","v":14},{"$f":"SUMPRODUCT(($S$12:$S$213=B223)*($V$12:$V$213))+SUMPRODUCT(($T$12:$T$213=B223)*($U$12:$U$213))","v":5},{"$f":"(D223*3)+E223","v":19}]
[null,"Schweden",{"$f":"COUNTIF($S$12:$T$213,\"Schweden\")","v":7},4,2,1,20,12,14]
[null,"Italien",{"$f":"COUNTIF($S$12:$T$213,\"Italien\")","v":7},4,1,2,10,8,13]
[null,"Bulgarien",{"$f":"COUNTIF($S$12:$T$213,\"Bulgarien\")","v":7},4,0,3,13,12,12]
[null,"BRD",{"$f":"COUNTIF($S$12:$T$213,\"BRD\")","v":5},3,1,1,9,7,10]
[null,"Rumänien",{"$f":"COUNTIF($S$12:$T$213,\"Rumänien\")","v":5},3,0,2,14,14,9]
[null,"Niederlande",{"$f":"COUNTIF($S$12:$T$213,\"Niederlande\")","v":5},3,0,2,8,6,9]
[null,"Spanien",{"$f":"COUNTIF($S$12:$T$213,\"Spanien\")","v":5},2,2,1,10,6,8]
[null,"Argentinien",{"$f":"COUNTIF($S$12:$T$213,\"Argentinien\")","v":4},2,0,2,8,6,6]
[null,"Nigeria",{"$f":"COUNTIF($S$12:$T$213,\"Nigeria\")","v":4},2,0,2,7,4,6]
[null,"Saudi-Arabien",{"$f":"COUNTIF($S$12:$T$213,\"Saudi-Arabien\")","v":4},2,0,2,5,6,6]
[null,"Belgien",{"$f":"COUNTIF($S$12:$T$213,\"Belgien\")","v":4},2,0,2,4,4,6]
[null,"Schweiz",{"$f":"COUNTIF($S$12:$T$213,\"Schweiz\")","v":4},1,1,2,5,7,4]
[null,"Mexiko",{"$f":"COUNTIF($S$12:$T$213,\"Mexiko\")","v":4},1,1,2,5,7,4]
[null,"USA",{"$f":"COUNTIF($S$12:$T$213,\"USA\")","v":4},{"$f":"SUMPRODUCT(($S$12:$T$213=B237)*($X$12:$Y$213=3))","v":1},{"$f":"SUMPRODUCT(($S$12:$T$213=B237)*($X$12:$Y$213=1))","v":1},2,3,4,4]
[null,"Irland",{"$f":"COUNTIF($S$12:$T$213,\"Irland\")","v":4},1,1,2,2,4,4]
[null,"Norwegen",{"$f":"COUNTIF($S$12:$T$213,\"Norwegen\")","v":3},1,1,1,1,1,4]
[null,"Russland",{"$f":"COUNTIF($S$12:$T$213,\"Russland\")","v":3},1,0,2,7,6,3]
[null,"Kolumbien",{"$f":"COUNTIF($S$12:$T$213,\"Kolumbien\")","v":3},{"$f":"SUMPRODUCT(($S$12:$T$213=B241)*($X$12:$Y$213=3))","v":1},{"$f":"SUMPRODUCT(($S$12:$T$213=B241)*($X$12:$Y$213=1))","v":0},{"$f":"SUMPRODUCT(($S$12:$T$213=B241)*($X$12:$Y$213=2))","v":2},4,5,3]
[null,"Südkorea",{"$f":"COUNTIF($S$12:$T$213,\"Südkorea\")","v":3},0,2,1,4,5,2]
[null,"Kamerun",{"$f":"COUNTIF($S$12:$T$213,\"Kamerun\")","v":3},0,1,2,3,11,1]
[null,"Bolivien",{"$f":"COUNTIF($S$12:$T$213,\"Bolivien\")","v":3},0,1,2,1,4,1]
[null,"Marokko",{"$f":"COUNTIF($S$12:$T$213,\"Marokko\")","v":3},0,0,3,2,5,0]
[null,"Griechenland",{"$f":"COUNTIF($S$12:$T$213,\"Griechenland\")","v":3},0,0,3,0,10,0]

{"sheet":"1998","index":16,"n_rows":280,"n_cols":27,"rows_kept":280,"cut":false,"hidden":false,"merged":[[229,2,229,8],[238,2,238,8],[1,0,1,9],[3,0,3,9],[4,0,4,9]]}
[]
["16. WM 1998 in Frankreich"]
[]
["10. Juni-12. Juli 1998"]
["Teilnehmende Nationen: 32 --- Bewerbungen: 166"]
[]
[]
[]
[]
[null,null,null,null,null,"Gruppe A"]
[]
[null,null,"1998-06-10","Brasilien","Schottland",2,1,null,null,null,null,null,null,null,null,null,null,null,"Brasilien","Schottland",2,1,null,{"$f":"(IF(U12>V12,3,IF(U12=V12,1,2)))","v":3},{"$f":"(IF(V12>U12,3,IF(U12=V12,1,2)))","v":2},null,"Frankreich"]
[null,null,null,null,null,"(1","1)",null,null,null,null,null,null,null,null,null,null,null,"Marokko","Norwegen",2,2,null,1,1,null,"Brasilien"]
[null,null,"1998-06-10","Marokko","Norwegen",2,2,null,null,null,null,null,null,null,null,null,null,null,"Schottland","Norwegen",1,1,null,{"$f":"(IF(U14>V14,3,IF(U14=V14,1,2)))","v":1},{"$f":"(IF(V14>U14,3,IF(U14=V14,1,2)))","v":1},null,"Kroatien"]
[null,null,null,null,null,"(1","1)",null,null,null,null,null,null,null,null,null,null,null,"Brasilien","Marokko",3,0,null,3,2,null,"Argentinien"]
[null,null,"1998-06-16","Schottland","Norwegen",1,1,null,null,null,null,null,null,null,null,null,null,null,"Brasilien","Norwegen",1,2,null,2,3,null,"Niederlande"]
[null,null,null,null,null,"(0","0)",null,null,null,null,null,null,null,null,null,null,null,"Schottland","Marokko",0,3,null,2,3,null,"Italien"]
[null,null,"1998-06-16","Brasilien","Marokko",3,0,null,null,null,null,null,null,null,null,null,null,null,null,null,null,null,null,null,null,null,"BRD"]
[null,null,null,null,null,"(2","0)",null,null,null,null,null,null,null,null,null,null,null,null,null,null,null,null,null,null,null,"Dänemark"]
[null,null,"1998-06-23","Brasilien","Norwegen",1,2,null,null,null,null,null,null,null,null,null,null,null,null,null,null,null,null,null,null,null,"Jugoslawien"]
[null,null,null,null,null,"(0","0)",null,null,null,null,null,null,null,null,null,null,null,null,null,null,null,null,null,null,null,"Rumänien"]
[null,null,"1998-06-23","Schottland","Marokko",0,3,null,null,null,null,null,null,null,null,null,null,null,null,null,null,null,null,null,null,null,"England"]
[null,null,null,null,null,"(0","1)",null,null,null,null,null,null,null,null,null,null,null,null,null,null,null,null,null,null,null,"Nigeria"]
[null,null,null,null,null,null,null,null,null,null,null,null,null,null,null,null,null,null,null,null,null,null,null,null,null,null,"Mexiko"]
[null,"Nation","Spiele","gew","unent","verl","Tore+","Tore-","Punkte",null,null,null,null,null,null,null,null,null,null,null,null,null,null,null,null,null,"Norwegen"]
[null,"Brasilien",{"$f":"COUNTIF($S$12:$T$17,\"Brasilien\")","v":3},{"$f":"SUMPRODUCT(($S$12:$T$17=B26)*($X$12:$Y$17=3))","v":2},{"$f":"SUMPRODUCT(($S$12:$T$17=B26)*($X$12:$Y$17=1))","v":0},{"$f":"SUMPRODUCT(($S$12:$T$17=B26)*($X$12:$Y$17=2))","v":1},{"$f":"SUMPRODUCT(($S$12:$S$17=B26)*($U$12:$U$17))+SUMPRODUCT(($T$12:$T$17=B26)*($V$12:$V$17))","v":6},{"$f":"SUMPRODUCT(($S$12:$S$17=B26)*($V$12:$V$17))+SUMPRODUCT(($T$12:$T$17=B26)*($U$12:$U$17))","v":3},{"$f":"(D26*3)+E26","v":6},null,null,null,null,null,null,null,null,null,null,null,null,null,null,null,null,null,"Paraguay"]
[null,"Norwegen",{"$f":"COUNTIF($S$12:$T$17,\"Norwegen\")","v":3},{"$f":"SUMPRODUCT(($S$12:$T$17=B27)*($X$12:$Y$17=3))","v":1},{"$f":"SUMPRODUCT(($S$12:$T$17=B27)*($X$12:$Y$17=1))","v":2},{"$f":"SUMPRODUCT(($S$12:$T$17=B27)*($X$12:$Y$17=2))","v":0},{"$f":"SUMPRODUCT(($S$12:$S$17=B27)*($U$12:$U$17))+SUMPRODUCT(($T$12:$T$17=B27)*($V$12:$V$17))","v":5},{"$f":"SUMPRODUCT(($S$12:$S$17=B27)*($V$12:$V$17))+SUMPRODUCT(($T$12:$T$17=B27)*($U$12:$U$17))","v":4},{"$f":"(D27*3)+E27","v":5},null,null,null,null,null,null,null,null,null,null,null,null,null,null,null,null,null,"Spanien"]
[null,"Marokko",{"$f":"COUNTIF($S$12:$T$17,\"Marokko\")","v":3},{"$f":"SUMPRODUCT(($S$12:$T$17=B28)*($X$12:$Y$17=3))","v":1},{"$f":"SUMPRODUCT(($S$12:$T$17=B28)*($X$12:$Y$17=1))","v":1},{"$f":"SUMPRODUCT(($S$12:$T$17=B28)*($X$12:$Y$17=2))","v":1},{"$f":"SUMPRODUCT(($S$12:$S$17=B28)*($U$12:$U$17))+SUMPRODUCT(($T$12:$T$17=B28)*($V$12:$V$17))","v":5},{"$f":"SUMPRODUCT(($S$12:$S$17=B28)*($V$12:$V$17))+SUMPRODUCT(($T$12:$T$17=B28)*($U$12:$U$17))","v":5},{"$f":"(D28*3)+E28","v":4},null,null,null,null,null,null,null,null,null,null,null,null,null,null,null,null,null,"Marokko"]
[null,"Schottland",{"$f":"COUNTIF($S$12:$T$17,\"Schottland\")","v":3},{"$f":"SUMPRODUCT(($S$12:$T$17=B29)*($X$12:$Y$17=3))","v":0},{"$f":"SUMPRODUCT(($S$12:$T$17=B29)*($X$12:$Y$17=1))","v":1},{"$f":"SUMPRODUCT(($S$12:$T$17=B29)*($X$12:$Y$17=2))","v":2},{"$f":"SUMPRODUCT(($S$12:$S$17=B29)*($U$12:$U$17))+SUMPRODUCT(($T$12:$T$17=B29)*($V$12:$V$17))","v":2},{"$f":"SUMPRODUCT(($S$12:$S$17=B29)*($V$12:$V$17))+SUMPRODUCT(($T$12:$T$17=B29)*($U$12:$U$17))","v":6},{"$f":"(D29*3)+E29","v":1},null,null,null,null,null,null,null,null,null,null,null,null,null,null,null,null,null,"Chile"]
[null,null,null,null,null,null,null,null,null,null,null,null,null,null,null,null,null,null,null,null,null,null,null,null,null,null,"Belgien"]
[null,null,null,null,null,null,null,null,null,null,null,null,null,null,null,null,null,null,null,null,null,null,null,null,null,null,"Jamaika"]
[null,null,null,null,null,"Gruppe B",null,null,null,null,null,null,null,null,null,null,null,null,null,null,null,null,null,null,null,null,"Iran"]
[null,null,null,null,null,null,null,null,null,null,null,null,null,null,null,null,null,null,null,null,null,null,null,null,null,null,"Kolumbien"]
[null,null,"1998-06-11","Italien","Chile",2,2,null,null,null,null,null,null,null,null,null,null,null,"Italien","Chile",2,2,null,{"$f":"(IF(U34>V34,3,IF(U34=V34,1,2)))","v":1},{"$f":"(IF(V34>U34,3,IF(U34=V34,1,2)))","v":1},null,"Österreich"]
[null,null,null,null,null,"(1","1)",null,null,null,null,null,null,null,null,null,null,null,"Kamerun","Österreich",1,1,null,1,1,null,"Südafrika"]
[null,null,"1998-06-11","Kamerun","Österreich",1,1,null,null,null,null,null,null,null,null,null,null,null,"Chile","Österreich",1,1,null,{"$f":"(IF(U36>V36,3,IF(U36=V36,1,2)))","v":1},{"$f":"(IF(V36>U36,3,IF(U36=V36,1,2)))","v":1},null,"Kamerun"]
[null,null,null,null,null,"(0","0)",null,null,null,null,null,null,null,null,null,null,null,"Italien","Kamerun",3,0,null,3,2,null,"Saudi-Arabien"]
[null,null,"1998-06-17","Chile","Österreich",1,1,null,null,null,null,null,null,null,null,null,null,null,"Italien","Österreich",2,1,null,3,2,null,"Südkorea"]
[null,null,null,null,null,"(0","0)",null,null,null,null,null,null,null,null,null,null,null,"Chile","Kamerun",1,1,null,1,1,null,"Schottland"]
[null,null,"1998-06-17","Italien","Kamerun",3,0,null,null,null,null,null,null,null,null,null,null,null,null,null,null,null,null,null,null,null,"Tunesien"]
[null,null,null,null,null,"(1","0)",null,null,null,null,null,null,null,null,null,null,null,null,null,null,null,null,null,null,null,"Bulgarien"]
[null,null,"1998-06-23","Italien","Österreich",2,1,null,null,null,null,null,null,null,null,null,null,null,null,null,null,null,null,null,null,null,"Japan"]
[null,null,null,null,null,"(1","0)",null,null,null,null,null,null,null,null,null,null,null,null,null,null,null,null,null,null,null,"USA"]
[null,null,"1998-06-23","Chile","Kamerun",1,1]
[null,null,null,null,null,"(1","0)"]
[]
[null,"Nation","Spiele","gew","unent","verl","Tore+","Tore-","Punkte"]
[null,"Italien",3,2,1,0,6,1,7]
[null,"Chile"]
[null,"Kamerun"]
[null,"Österreich"]
[]
[]
[null,null,null,null,null,"Gruppe C"]
[]
[null,null,"1998-06-12","Saudi-Arabien","Dänemark",0,1,null,null,null,null,null,null,null,null,null,null,null,"Saudi-Arabien","Dänemark",0,1,null,{"$f":"(IF(U56>V56,3,IF(U56=V56,1,2)))","v":2},{"$f":"(IF(V56>U56,3,IF(U56=V56,1,2)))","v":3}]
[null,null,null,null,null,"(0","0)",null,null,null,null,null,null,null,null,null,null,null,"Frankreich","Südafrika",3,0,null,3,2]
[null,null,"1998-06-12","Frankreich","Südafrika",3,0,null,null,null,null,null,null,null,null,null,null,null,"Südafrika","Dänemark",1,1,null,{"$f":"(IF(U58>V58,3,IF(U58=V58,1,2)))","v":1},{"$f":"(IF(V58>U58,3,IF(U58=V58,1,2)))","v":1}]
[null,null,null,null,null,"(1","0)",null,null,null,null,null,null,null,null,null,null,null,"Frankreich","Saudi-Arabien",4,0,null,3,2]
[null,null,"1998-06-18","Südafrika","Dänemark",1,1,null,null,null,null,null,null,null,null,null,null,null,"Frankreich","Dänemark",2,1,null,3,2]
[null,null,null,null,null,"(0","1)",null,null,null,null,null,null,null,null,null,null,null,"Südafrika","Saudi-Arabien",2,2,null,1,1]
[null,null,"1998-06-18","Frankreich","Saudi-Arabien",4,0]
[null,null,null,null,null,"(1","0)"]
[null,null,"1998-06-24","Frankreich","Dänemark",2,1]
[null,null,null,null,null,"(1","1)"]
[null,null,"1998-06-24","Südafrika","Saudi-Arabien",2,2]
[null,null,null,null,null,"(1","1)"]
[]
[null,"Nation","Spiele","gew","unent","verl","Tore+","Tore-","Punkte"]
[null,"Saudi-Arabien",3,2,1,0,5,3,7]
[null,"Dänemark"]
[null,"Frankreich"]
[null,"Südafrika"]
[]
[]
[null,null,null,null,null,"Gruppe D"]
[]
[null,null,"1998-06-12","Paraguay","Bulgarien",0,0,null,null,null,null,null,null,null,null,null,null,null,"Paraguay","Bulgarien",0,0,null,{"$f":"(IF(U78>V78,3,IF(U78=V78,1,2)))","v":1},{"$f":"(IF(V78>U78,3,IF(U78=V78,1,2)))","v":1}]
[null,null,"1998-06-13","Spanien","Nigeria",2,3,null,null,null,null,null,null,null,null,null,null,null,"Spanien","Nigeria",2,3,null,{"$f":"(IF(U79>V79,3,IF(U79=V79,1,2)))","v":2},{"$f":"(IF(V79>U79,3,IF(U79=V79,1,2)))","v":3}]
[null,null,null,null,null,"(1","1)",null,null,null,null,null,null,null,null,null,null,null,"Nigeria","Bulgarien",1,0,null,3,2]
[null,null,"1998-06-19","Nigeria","Bulgarien",1,0,null,null,null,null,null,null,null,null,null,null,null,"Spanien","Paraguay",0,0,null,1,1]
[null,null,null,null,null,"(1","0)",null,null,null,null,null,null,null,null,null,null,null,"Spanien","Bulgarien",6,1,null,3,2]
[null,null,"1998-06-19","Spanien","Paraguay",0,0,null,null,null,null,null,null,null,null,null,null,null,"Nigeria","Paraguay",1,3,null,2,3]
[null,null,"1998-06-24","Spanien","Bulgarien",6,1]
[null,null,null,null,null,"(2","0)"]
[null,null,"1998-06-24","Nigeria","Paraguay",1,3]
[null,null,null,null,null,"(1","1)"]
[]
[null,"Nation","Spiele","gew","unent","verl","Tore+","Tore-","Punkte"]
[null,"Paraguay",3,2,0,1,6,2,6]
[null,"Bulgarien"]
[null,"Spanien"]
[null,"Nigeria"]
[]
[]
[null,null,null,null,null,"Gruppe E"]
[]
[null,null,"1998-06-13","Südkorea","Mexiko",1,3,null,null,null,null,null,null,null,null,null,null,null,"Südkorea","Mexiko",1,3,null,{"$f":"(IF(U98>V98,3,IF(U98=V98,1,2)))","v":2},{"$f":"(IF(V98>U98,3,IF(U98=V98,1,2)))","v":3}]
[null,null,null,null,null,"(1","0)",null,null,null,null,null,null,null,null,null,null,null,"Niederlande","Belgien",0,0,null,1,1]
[null,null,"1998-06-13","Niederlande","Belgien",0,0,null,null,null,null,null,null,null,null,null,null,null,"Belgien","Mexiko",2,2,null,{"$f":"(IF(U100>V100,3,IF(U100=V100,1,2)))","v":1},{"$f":"(IF(V100>U100,3,IF(U100=V100,1,2)))","v":1}]
[null,null,"1998-06-20","Belgien","Mexiko",2,2,null,null,null,null,null,null,null,null,null,null,null,"Niederlande","Südkorea",5,0,null,3,2]
[null,null,null,null,null,"(1","0)",null,null,null,null,null,null,null,null,null,null,null,"Belgien","Südkorea",1,1,null,1,1]
[null,null,"1998-06-20","Niederlande","Südkorea",5,0,null,null,null,null,null,null,null,null,null,null,null,"Niederlande","Mexiko",2,2,null,1,1]
[null,null,null,null,null,"(2","0)"]
[null,null,"1998-06-25","Belgien","Südkorea",1,1]
[null,null,null,null,null,"(1","0)"]
[null,null,"1998-06-25","Niederlande","Mexiko",2,2]
[null,null,null,null,null,"(2","0)"]
[]
[null,"Nation","Spiele","gew","unent","verl","Tore+","Tore-","Punkte"]
[null,"Südkorea",3,1,1,1,3,3,4]
[null,"Mexiko"]
[null,"Niederlande"]
[null,"Belgien"]
[]
[]
[null,null,null,null,null,"Gruppe F"]
[]
[null,null,"1998-06-14","Jugoslawien","Iran",1,0,null,null,null,null,null,null,null,null,null,null,null,"Jugoslawien","Iran",1,0,null,{"$f":"(IF(U119>V119,3,IF(U119=V119,1,2)))","v":3},{"$f":"(IF(V119>U119,3,IF(U119=V119,1,2)))","v":2}]
[null,null,null,null,null,"(0","0)",null,null,null,null,null,null,null,null,null,null,null,"BRD","USA",2,0,null,3,2]
[null,null,"1998-06-15","BRD","USA",2,0,null,null,null,null,null,null,null,null,null,null,null,"BRD","Jugoslawien",2,2,null,{"$f":"(IF(U121>V121,3,IF(U121=V121,1,2)))","v":1},{"$f":"(IF(V121>U121,3,IF(U121=V121,1,2)))","v":1}]
[null,null,null,null,null,"(1","0)",null,null,null,null,null,null,null,null,null,null,null,"USA","Iran",1,2,null,2,3]
[null,null,"1998-06-21","BRD","Jugoslawien",2,2,null,null,null,null,null,null,null,null,null,null,null,"BRD","Iran",2,0,null,3,2]
[null,null,null,null,null,"(0","1)",null,null,null,null,null,null,null,null,null,null,null,"USA","Jugoslawien",0,1,null,2,3]
[null,null,"1998-06-21","USA","Iran",1,2]
[null,null,null,null,null,"(0","1)"]
[null,null,"1998-06-25","BRD","Iran",2,0]
[null,null,null,null,null,"(0","0)"]
[null,null,"1998-06-25","USA","Jugoslawien",0,1]
[null,null,null,null,null,"(0","1)"]
[]
[null,"Nation","Spiele","gew","unent","verl","Tore+","Tore-","Punkte"]
[null,"Jugoslawien",3,2,0,1,4,3,6]
[null,"Iran"]
[null,"BRD"]
[null,"USA"]
[]
[]
[null,null,null,null,null,"Gruppe G"]
[]
[null,null,"1998-06-15","England","Tunesien",2,0,null,null,null,null,null,null,null,null,null,null,null,"England","Tunesien",2,0,null,{"$f":"(IF(U141>V141,3,IF(U141=V141,1,2)))","v":3},{"$f":"(IF(V141>U141,3,IF(U141=V141,1,2)))","v":2}]
[null,null,null,null,null,"(1","0)",null,null,null,null,null,null,null,null,null,null,null,"Rumänien","Kolumbien",1,0,null,3,2]
[null,null,"1998-06-15","Rumänien","Kolumbien",1,0,null,null,null,null,null,null,null,null,null,null,null,"Kolumbien","Tunesien",1,0,null,3,2]
[null,null,null,null,null,"(1","0)",null,null,null,null,null,null,null,null,null,null,null,"Rumänien","England",2,1,null,3,2]
[null,null,"1998-06-22","Kolumbien","Tunesien",1,0,null,null,null,null,null,null,null,null,null,null,null,"Rumänien","Tunesien",1,1,null,{"$f":"(IF(U145>V145,3,IF(U145=V145,1,2)))","v":1},{"$f":"(IF(V145>U145,3,IF(U145=V145,1,2)))","v":1}]
[null,null,null,null,null,"(0","0)",null,null,null,null,null,null,null,null,null,null,null,"Kolumbien","England",0,2,null,2,3]
[null,null,"1998-06-22","Rumänien","England",2,1]
[null,null,null,null,null,"(0","0)"]
[null,null,"1998-06-26","Rumänien","Tunesien",1,1]
[null,null,null,null,null,"(0","1)"]
[null,null,"1998-06-26","Kolumbien","England",0,2]
[null,null,null,null,null,"(0","2)"]
[]
[null,"Nation","Spiele","gew","unent","verl","Tore+","Tore-","Punkte"]
[null,"England",3,1,1,1,3,3,4]
[null,"Tunesien"]
[null,"Rumänien"]
[null,"Kolumbien"]
[]
[]
[null,null,null,null,null,"Gruppe H"]
[]
[null,null,"1998-06-14","Argentinien","Japan",1,0,null,null,null,null,null,null,null,null,null,null,null,"Argentinien","Japan",1,0,null,{"$f":"(IF(U163>V163,3,IF(U163=V163,1,2)))","v":3},{"$f":"(IF(V163>U163,3,IF(U163=V163,1,2)))","v":2}]
[null,null,null,null,null,"(1","0)",null,null,null,null,null,null,null,null,null,null,null,"Jamaika","Kroatien",1,3,null,2,3]
[null,null,"1998-06-14","Jamaika","Kroatien",1,3,null,null,null,null,null,null,null,null,null,null,null,"Japan","Kroatien",0,1,null,2,3]
[null,null,null,null,null,"(1","1)",null,null,null,null,null,null,null,null,null,null,null,"Argentinien","Jamaika",5,0,null,3,2]
[null,null,"1998-06-20","Japan","Kroatien",0,1,null,null,null,null,null,null,null,null,null,null,null,"Argentinien","Kroatien",1,0,null,{"$f":"(IF(U167>V167,3,IF(U167=V167,1,2)))","v":3},{"$f":"(IF(V167>U167,3,IF(U167=V167,1,2)))","v":2}]
[null,null,null,null,null,"(0","0)",null,null,null,null,null,null,null,null,null,null,null,"Japan","Jamaika",1,2,null,2,3]
[null,null,"1998-06-21","Argentinien","Jamaika",5,0]
[null,null,null,null,null,"(1","0)"]
[null,null,"1998-06-26","Argentinien","Kroatien",1,0]
[null,null,null,null,null,"(1","0)"]
[null,null,"1998-06-26","Japan","Jamaika",1,2]
[null,null,null,null,null,"(0","1)"]
[]
[null,"Nation","Spiele","gew","unent","verl","Tore+","Tore-","Punkte"]
[null,"Argentinien",3,1,1,1,3,3,4]
[null,"Japan"]
[null,"Jamaika"]
[null,"Kroatien"]
[]
[]
[null,null,null,null,null,"Achtelfinale"]
[]
[null,null,"1998-06-27","Italien","Norwegen",1,0,null,null,null,null,null,null,null,null,null,null,null,"Italien","Norwegen",1,0,null,{"$f":"(IF(U185>V185,3,IF(U185=V185,1,2)))","v":3},{"$f":"(IF(V185>U185,3,IF(U185=V185,1,2)))","v":2}]
[null,null,null,null,null,"(1","0)",null,null,null,null,null,null,null,null,null,null,null,"Brasilien","Chile",4,1,null,3,2]
[null,null,"1998-06-27","Brasilien","Chile",4,1,null,null,null,null,null,null,null,null,null,null,null,"Frankreich","Paraguay",1,0,"n.GG.",{"$f":"(IF(U187>V187,3,IF(U187=V187,1,2)))","v":3},{"$f":"(IF(V187>U187,3,IF(U187=V187,1,2)))","v":2}]
[null,null,null,null,null,"(3","0)",null,null,null,null,null,null,null,null,null,null,null,"Nigeria","Dänemark",1,4,null,2,3]
[null,null,"1998-06-28","Frankreich","Paraguay",1,0,"n.GG.",null,null,null,null,null,null,null,null,null,null,"BRD","Mexiko",2,1,null,3,2]
[null,null,null,null,null,0,0,null,null,null,null,null,null,null,null,null,null,null,"Niederlande","Jugoslawien",2,1,null,{"$f":"(IF(U190>V190,3,IF(U190=V190,1,2)))","v":3},{"$f":"(IF(V190>U190,3,IF(U190=V190,1,2)))","v":2}]
[null,null,null,null,null,"(0","0)",null,null,null,null,null,null,null,null,null,null,null,"Rumänien","Kroatien",0,1,null,2,3]
[null,null,"1998-06-28","Nigeria","Dänemark",1,4,null,null,null,null,null,null,null,null,null,null,null,"Argentinien","England",6,5,"n.E.",3,2]
[null,null,null,null,null,"(0","3)"]
[null,null,"1998-06-29","BRD","Mexiko",2,1]
[null,null,null,null,null,"(0","0)"]
[null,null,"1998-06-29","Niederlande","Jugoslawien",2,1]
[null,null,null,null,null,"(1","0)"]
[null,null,"1998-06-30","Rumänien","Kroatien",0,1]
[null,null,null,null,null,"(0","1)"]
[null,null,"1998-06-30","Argentinien","England",4,3,"n.E."]
[null,null,null,null,null,2,2,"n.V."]
[null,null,null,null,null,2,2]
[null,null,null,null,null,"(2","2)"]
[]
[]
[null,null,null,null,null,"Viertelfinale"]
[]
[null,null,"1998-07-03","Italien","Frankreich",3,4,"n.E.",null,null,null,null,null,null,null,null,null,null,"Italien","Frankreich",3,4,"n.E.",{"$f":"(IF(U208>V208,3,IF(U208=V208,1,2)))","v":2},{"$f":"(IF(V208>U208,3,IF(U208=V208,1,2)))","v":3}]
[null,null,null,null,null,0,0,"n.V.",null,null,null,null,null,null,null,null,null,null,"Brasilien","Dänemark",3,2,null,3,2]
[null,null,null,null,null,0,0,null,null,null,null,null,null,null,null,null,null,null,"Niederlande","Argentinien",2,1,null,3,2]
[null,null,null,null,null,"(0","0)",null,null,null,null,null,null,null,null,null,null,null,"BRD","Kroatien",0,3,null,2,3]
[null,null,"1998-07-03","Brasilien","Dänemark",3,2]
[null,null,null,null,null,"(2","1)"]
[null,null,"1998-07-04","Niederlande","Argentinien",2,1]
[null,null,null,null,null,"(1","1)"]
[null,null,"1998-07-04","BRD","Kroatien",0,3]
[null,null,null,null,null,"(0","1)"]
[]
[]
[null,null,null,null,null,"Halbfinale"]
[]
[null,null,"1998-07-07","Brasilien","Niederlande",4,2,"n.E.",null,null,null,null,null,null,null,null,null,null,"Brasilien","Niederlande",5,3,"n.E.",{"$f":"(IF(U222>V222,3,IF(U222=V222,1,2)))","v":3},{"$f":"(IF(V222>U222,3,IF(U222=V222,1,2)))","v":2}]
[null,null,null,null,null,1,1,"n.V.",null,null,null,null,null,null,null,null,null,null,"Frankreich","Kroatien",2,1,null,3,2]
[null,null,null,null,null,1,1]
[null,null,null,null,null,"(0","0)"]
[null,null,"1998-07-08","Frankreich","Kroatien",2,1]
[null,null,null,null,null,"(0","0)"]
[]
[]
[null,null,"Spiel um Platz 3 am 11. Juli 1998 in Paris"]
[]
[null,null,null,"Niederlande","Kroatien",1,2,null,null,null,null,null,null,null,null,null,null,null,"Niederlande","Kroatien",1,2,null,{"$f":"(IF(U232>V232,3,IF(U232=V232,1,2)))","v":2},{"$f":"(IF(V232>U232,3,IF(U232=V232,1,2)))","v":3}]
[null,null,null,null,null,"(1","2)"]
[]
[]
[]
[]
[]
[null,null,"Endspiel am 12. Juli 1998 in Paris"]
[]
[null,null,null,"Brasilien","Frankreich",0,3,null,null,null,null,null,null,null,null,null,null,null,"Brasilien","Frankreich",0,3,null,{"$f":"(IF(U241>V241,3,IF(U241=V241,1,2)))","v":2},{"$f":"(IF(V241>U241,3,IF(U241=V241,1,2)))","v":3}]
[null,null,null,null,null,"(0","2)"]
[]
[]
[]
[]
[]
["Auswertung","Nation","Spiele","gew","unent","verl","Tore+","Tore-","Punkte"]
[null,"Frankreich",{"$f":"COUNTIF($S$12:$T$241,\"Frankreich\")","v":7},{"$f":"SUMPRODUCT(($S$12:$T$241=B249)*($X$12:$Y$241=3))","v":7},{"$f":"SUMPRODUCT(($S$12:$T$241=B249)*($X$12:$Y$241=1))","v":0},{"$f":"SUMPRODUCT(($S$12:$T$241=B249)*($X$12:$Y$241=2))","v":0},{"$f":"SUMPRODUCT(($S$12:$S$241=B249)*($U$12:$U$241))+SUMPRODUCT(($T$12:$T$241=B249)*($V$12:$V$241))","v":19},{"$f":"SUMPRODUCT(($S$12:$S$241=B249)*($V$12:$V$241))+SUMPRODUCT(($T$12:$T$241=B249)*($U$12:$U$241))","v":5},{"$f":"(D249*3)+E249","v":21}]
[null,"Brasilien",{"$f":"COUNTIF($S$12:$T$241,\"Brasilien\")","v":7},5,0,2,18,12,15]
[null,"Kroatien",{"$f":"COUNTIF($S$12:$T$241,\"Kroatien\")","v":7},5,0,2,11,5,15]
[null,"Argentinien",{"$f":"COUNTIF($S$12:$T$241,\"Argentinien\")","v":5},4,0,1,14,7,12]
[null,"Niederlande",{"$f":"COUNTIF($S$12:$T$241,\"Niederlande\")","v":7},3,2,2,15,11,11]
[null,"Italien",{"$f":"COUNTIF($S$12:$T$241,\"Italien\")","v":5},3,1,1,11,7,10]
[null,"BRD",{"$f":"COUNTIF($S$12:$T$241,\"BRD\")","v":5},3,1,1,8,6,10]
[null,"Dänemark",{"$f":"COUNTIF($S$12:$T$241,\"Dänemark\")","v":5},2,1,2,9,7,7]
[null,"Jugoslawien",{"$f":"COUNTIF($S$12:$T$241,\"Jugoslawien\")","v":4},2,1,1,5,4,7]
[null,"Rumänien",{"$f":"COUNTIF($S$12:$T$241,\"Rumänien\")","v":4},2,1,1,4,3,7]
[null,"England",{"$f":"COUNTIF($S$12:$T$241,\"England\")","v":4},2,0,2,10,8,6]
[null,"Nigeria",{"$f":"COUNTIF($S$12:$T$241,\"Nigeria\")","v":4},2,0,2,6,9,6]
[null,"Mexiko",{"$f":"COUNTIF($S$12:$T$241,\"Mexiko\")","v":4},1,2,1,8,7,5]
[null,"Norwegen",{"$f":"COUNTIF($S$12:$T$241,\"Norwegen\")","v":4},1,2,1,5,5,5]
[null,"Paraguay",{"$f":"COUNTIF($S$12:$T$241,\"Paraguay\")","v":4},1,2,1,3,2,5]
[null,"Spanien",{"$f":"COUNTIF($S$12:$T$241,\"Spanien\")","v":3},1,1,1,8,4,4]
[null,"Marokko",{"$f":"COUNTIF($S$12:$T$241,\"Marokko\")","v":3},1,1,1,5,5,4]
[null,"Chile",{"$f":"COUNTIF($S$12:$T$241,\"Chile\")","v":4},0,3,1,5,8,3]
[null,"Belgien",{"$f":"COUNTIF($S$12:$T$241,\"Belgien\")","v":3},0,3,0,3,3,3]
[null,"Jamaika",{"$f":"COUNTIF($S$12:$T$241,\"Jamaika\")","v":3},1,0,2,3,9,3]
[null,"Iran",{"$f":"COUNTIF($S$12:$T$241,\"Iran\")","v":3},1,0,2,2,4,3]
[null,"Kolumbien",{"$f":"COUNTIF($S$12:$T$241,\"Kolumbien\")","v":3},1,0,2,1,3,3]
[null,"Österreich",{"$f":"COUNTIF($S$12:$T$241,\"Österreich\")","v":3},0,2,1,3,4,2]
[null,"Südafrika",{"$f":"COUNTIF($S$12:$T$241,\"Südafrika\")","v":3},0,2,1,3,6,2]
[null,"Kamerun",{"$f":"COUNTIF($S$12:$T$241,\"Kamerun\")","v":3},0,2,1,2,5,2]
[null,"Saudi-Arabien",{"$f":"COUNTIF($S$12:$T$241,\"Saudi-Arabien\")","v":3},0,1,2,2,7,1]
[null,"Südkorea",{"$f":"COUNTIF($S$12:$T$241,\"Südkorea\")","v":3},0,1,2,2,9,1]
[null,"Schottland",{"$f":"COUNTIF($S$12:$T$241,\"Schottland\")","v":3},0,1,2,2,6,1]
[null,"Tunesien",{"$f":"COUNTIF($S$12:$T$241,\"Tunesien\")","v":3},0,1,2,1,4,1]
[null,"Bulgarien",{"$f":"COUNTIF($S$12:$T$241,\"Bulgarien\")","v":3},0,1,2,1,7,1]
[null,"Japan",{"$f":"COUNTIF($S$12:$T$241,\"Japan\")","v":3},0,0,3,1,4,0]
[null,"USA",{"$f":"COUNTIF($S$12:$T$241,\"USA\")","v":3},0,0,3,1,5,0]

{"sheet":"2002","index":17,"n_rows":281,"n_cols":27,"rows_kept":281,"cut":false,"hidden":false,"merged":[[230,2,230,8],[239,2,239,8],[1,0,1,9],[3,0,3,9],[4,0,4,9]]}
[]
["17. WM 2002 in Südkorea und Japan"]
[]
["31. Mai-30. Juni 2002"]
["Teilnehmende Nationen: 32 --- Bewerbungen: 198"]
[]
[]
[]
[]
[null,null,null,null,null,"Gruppe A"]
[]
[null,null,"2002-05-31","Frankreich","Senegal",0,1,null,"Seoul",null,null,null,null,null,null,null,null,null,"Frankreich","Senegal",0,1,null,{"$f":"(IF(U12>V12,3,IF(U12=V12,1,2)))","v":2},{"$f":"(IF(V12>U12,3,IF(U12=V12,1,2)))","v":3},null,"Frankreich"]
[null,null,null,null,null,"(0","1)",null,null,null,null,null,null,null,null,null,null,null,"Uruguay","Dänemark",1,2,null,2,3,null,"Senegal"]
[null,null,"2002-06-01","Uruguay","Dänemark",1,2,null,"Ulsan",null,null,null,null,null,null,null,null,null,"Dänemark","Senegal",1,1,null,1,1,null,"Uruguay"]
[null,null,null,null,null,"(0","1)",null,null,null,null,null,null,null,null,null,null,null,"Frankreich","Uruguay",0,0,null,1,1,null,"Dänemark"]
[null,null,"2002-06-06","Dänemark","Senegal",1,1,null,"Daegu",null,null,null,null,null,null,null,null,null,"Dänemark","Frankreich",2,0,null,3,2,null,"Paraguay"]
[null,null,null,null,null,"(1","0)",null,null,null,null,null,null,null,null,null,null,null,"Senegal","Uruguay",3,3,null,1,1,null,"Südafrika"]
[null,null,"2002-06-06","Frankreich","Uruguay",0,0,null,"Busan",null,null,null,null,null,null,null,null,null,null,null,null,null,null,null,null,null,"Spanien"]
[null,null,"2002-06-11","Dänemark","Frankreich",2,0,null,"Incheon",null,null,null,null,null,null,null,null,null,null,null,null,null,null,null,null,null,"Slowenien"]
[null,null,null,null,null,"(1","0)",null,null,null,null,null,null,null,null,null,null,null,null,null,null,null,null,null,null,null,"Brasilien"]
[null,null,"2002-06-11","Senegal","Uruguay",3,3,null,"Suwon",null,null,null,null,null,null,null,null,null,null,null,null,null,null,null,null,null,"Türkei"]
[null,null,null,null,null,"(3","0)",null,null,null,null,null,null,null,null,null,null,null,null,null,null,null,null,null,null,null,"China"]
[null,null,null,null,null,null,null,null,null,null,null,null,null,null,null,null,null,null,null,null,null,null,null,null,null,null,"Costa Rica"]
[null,"Nation","Spiele","gew","unent","verl","Tore+","Tore-","Punkte",null,null,null,null,null,null,null,null,null,null,null,null,null,null,null,null,null,"Südkorea"]
[null,"Dänemark",{"$f":"COUNTIF($S$12:$T$17,\"Dänemark\")","v":3},{"$f":"SUMPRODUCT(($S$12:$T$17=B25)*($X$12:$Y$17=3))","v":2},{"$f":"SUMPRODUCT(($S$12:$T$17=B25)*($X$12:$Y$17=1))","v":1},{"$f":"SUMPRODUCT(($S$12:$T$17=B25)*($X$12:$Y$17=2))","v":0},{"$f":"SUMPRODUCT(($S$12:$S$17=B25)*($U$12:$U$17))+SUMPRODUCT(($T$12:$T$17=B25)*($V$12:$V$17))","v":5},{"$f":"SUMPRODUCT(($S$12:$S$17=B25)*($V$12:$V$17))+SUMPRODUCT(($T$12:$T$17=B25)*($U$12:$U$17))","v":2},{"$f":"(D25*3)+E25","v":7},null,null,null,null,null,null,null,null,null,null,null,null,null,null,null,null,null,"Polen"]
[null,"Senegal",{"$f":"COUNTIF($S$12:$T$17,\"Senegal\")","v":3},{"$f":"SUMPRODUCT(($S$12:$T$17=B26)*($X$12:$Y$17=3))","v":1},{"$f":"SUMPRODUCT(($S$12:$T$17=B26)*($X$12:$Y$17=1))","v":2},{"$f":"SUMPRODUCT(($S$12:$T$17=B26)*($X$12:$Y$17=2))","v":0},{"$f":"SUMPRODUCT(($S$12:$S$17=B26)*($U$12:$U$17))+SUMPRODUCT(($T$12:$T$17=B26)*($V$12:$V$17))","v":5},{"$f":"SUMPRODUCT(($S$12:$S$17=B26)*($V$12:$V$17))+SUMPRODUCT(($T$12:$T$17=B26)*($U$12:$U$17))","v":4},{"$f":"(D26*3)+E26","v":5},null,null,null,null,null,null,null,null,null,null,null,null,null,null,null,null,null,"USA"]
[null,"Uruguay",{"$f":"COUNTIF($S$12:$T$17,\"Uruguay\")","v":3},{"$f":"SUMPRODUCT(($S$12:$T$17=B27)*($X$12:$Y$17=3))","v":0},{"$f":"SUMPRODUCT(($S$12:$T$17=B27)*($X$12:$Y$17=1))","v":2},{"$f":"SUMPRODUCT(($S$12:$T$17=B27)*($X$12:$Y$17=2))","v":1},{"$f":"SUMPRODUCT(($S$12:$S$17=B27)*($U$12:$U$17))+SUMPRODUCT(($T$12:$T$17=B27)*($V$12:$V$17))","v":4},{"$f":"SUMPRODUCT(($S$12:$S$17=B27)*($V$12:$V$17))+SUMPRODUCT(($T$12:$T$17=B27)*($U$12:$U$17))","v":5},{"$f":"(D27*3)+E27","v":2},null,null,null,null,null,null,null,null,null,null,null,null,null,null,null,null,null,"Portugal"]
[null,"Frankreich",{"$f":"COUNTIF($S$12:$T$17,\"Frankreich\")","v":3},{"$f":"SUMPRODUCT(($S$12:$T$17=B28)*($X$12:$Y$17=3))","v":0},{"$f":"SUMPRODUCT(($S$12:$T$17=B28)*($X$12:$Y$17=1))","v":1},{"$f":"SUMPRODUCT(($S$12:$T$17=B28)*($X$12:$Y$17=2))","v":2},{"$f":"SUMPRODUCT(($S$12:$S$17=B28)*($U$12:$U$17))+SUMPRODUCT(($T$12:$T$17=B28)*($V$12:$V$17))","v":0},{"$f":"SUMPRODUCT(($S$12:$S$17=B28)*($V$12:$V$17))+SUMPRODUCT(($T$12:$T$17=B28)*($U$12:$U$17))","v":3},{"$f":"(D28*3)+E28","v":1},null,null,null,null,null,null,null,null,null,null,null,null,null,null,null,null,null,"Irland"]
[null,null,null,null,null,null,null,null,null,null,null,null,null,null,null,null,null,null,null,null,null,null,null,null,null,null,"Kamerun"]
[null,null,null,null,null,null,null,null,null,null,null,null,null,null,null,null,null,null,null,null,null,null,null,null,null,null,"BRD"]
[null,null,null,null,null,"Gruppe B",null,null,null,null,null,null,null,null,null,null,null,null,null,null,null,null,null,null,null,null,"Saudi-Arabien"]
[null,null,null,null,null,null,null,null,null,null,null,null,null,null,null,null,null,null,null,null,null,null,null,null,null,null,"England"]
[null,null,"2002-06-02","Paraguay","Südafrika",2,2,null,"Busan",null,null,null,null,null,null,null,null,null,"Paraguay","Südafrika",2,2,null,{"$f":"(IF(U33>V33,3,IF(U33=V33,1,2)))","v":1},{"$f":"(IF(V33>U33,3,IF(U33=V33,1,2)))","v":1},null,"Schweden"]
[null,null,null,null,null,"(1","0)",null,null,null,null,null,null,null,null,null,null,null,"Spanien","Slowenien",3,1,null,3,2,null,"Argentinien"]
[null,null,"2002-06-02","Spanien","Slowenien",3,1,null,"Gwangju",null,null,null,null,null,null,null,null,null,"Spanien","Paraguay",3,1,null,3,2,null,"Nigeria"]
[null,null,null,null,null,"(1","0)",null,null,null,null,null,null,null,null,null,null,null,"Südafrika","Slowenien",1,0,null,3,2,null,"Kroatien"]
[null,null,"2002-06-07","Spanien","Paraguay",3,1,null,"Jeonju",null,null,null,null,null,null,null,null,null,"Südafrika","Spanien",2,3,null,2,3,null,"Mexiko"]
[null,null,null,null,null,"(0","1)",null,null,null,null,null,null,null,null,null,null,null,"Slowenien","Paraguay",1,3,null,2,3,null,"Italien"]
[null,null,"2002-06-08","Südafrika","Slowenien",1,0,null,"Daegu",null,null,null,null,null,null,null,null,null,null,null,null,null,null,null,null,null,"Ecuador"]
[null,null,null,null,null,"(1","0)",null,null,null,null,null,null,null,null,null,null,null,null,null,null,null,null,null,null,null,"Japan"]
[null,null,"2002-06-12","Südafrika","Spanien",2,3,null,"Daejeon",null,null,null,null,null,null,null,null,null,null,null,null,null,null,null,null,null,"Belgien"]
[null,null,null,null,null,"(1","2)",null,null,null,null,null,null,null,null,null,null,null,null,null,null,null,null,null,null,null,"Russland"]
[null,null,"2002-06-12","Slowenien","Paraguay",1,3,null,"Seogwipo",null,null,null,null,null,null,null,null,null,null,null,null,null,null,null,null,null,"Tunesien"]
[null,null,null,null,null,"(1","0)"]
[]
[null,"Nation","Spiele","gew","unent","verl","Tore+","Tore-","Punkte"]
[null,"Paraguay",3,2,1,0,6,1,7]
[null,"Südafrika"]
[null,"Spanien"]
[null,"Slowenien"]
[]
[]
[null,null,null,null,null,"Gruppe C"]
[]
[null,null,"2002-06-03","Brasilien","Türkei",2,1,null,"Ulsan",null,null,null,null,null,null,null,null,null,"Brasilien","Türkei",2,1,null,{"$f":"(IF(U55>V55,3,IF(U55=V55,1,2)))","v":3},{"$f":"(IF(V55>U55,3,IF(U55=V55,1,2)))","v":2}]
[null,null,null,null,null,"(0","1)",null,null,null,null,null,null,null,null,null,null,null,"China","Costa Rica",0,2,null,2,3]
[null,null,"2002-06-04","China","Costa Rica",0,2,null,"Gwangju",null,null,null,null,null,null,null,null,null,"Brasilien","China",4,0,null,3,2]
[null,null,null,null,null,"(0","0)",null,null,null,null,null,null,null,null,null,null,null,"Costa Rica","Türkei",1,1,null,1,1]
[null,null,"2002-06-08","Brasilien","China",4,0,null,"Seogwipo",null,null,null,null,null,null,null,null,null,"Costa Rica","Brasilien",2,5,null,2,3]
[null,null,null,null,null,"(3","0)",null,null,null,null,null,null,null,null,null,null,null,"Türkei","China",3,0,null,3,2]
[null,null,"2002-06-09","Costa Rica","Türkei",1,1,null,"Incheon"]
[null,null,null,null,null,"(0","0)"]
[null,null,"2002-06-13","Costa Rica","Brasilien",2,5,null,"Suwon"]
[null,null,null,null,null,"(1","3)"]
[null,null,"2002-06-13","Türkei","China",3,0,null,"Seoul"]
[null,null,null,null,null,"(2","0)"]
[]
[null,"Nation","Spiele","gew","unent","verl","Tore+","Tore-","Punkte"]
[null,"Brasilien",3,2,1,0,5,3,7]
[null,"Türkei"]
[null,"China"]
[null,"Costa Rica"]
[]
[]
[null,null,null,null,null,"Gruppe D"]
[]
[null,null,"2002-06-04","Südkorea","Polen",2,0,null,"Busan",null,null,null,null,null,null,null,null,null,"Südkorea","Polen",2,0,null,{"$f":"(IF(U77>V77,3,IF(U77=V77,1,2)))","v":3},{"$f":"(IF(V77>U77,3,IF(U77=V77,1,2)))","v":2}]
[null,null,null,null,null,"(1","0)",null,null,null,null,null,null,null,null,null,null,null,"USA","Portugal",3,2,null,3,2]
[null,null,"2002-06-05","USA","Portugal",3,2,null,"Suwon",null,null,null,null,null,null,null,null,null,"Südkorea","USA",1,1,null,1,1]
[null,null,null,null,null,"(3","1)",null,null,null,null,null,null,null,null,null,null,null,"Portugal","Polen",4,0,null,3,2]
[null,null,"2002-06-10","Südkorea","USA",1,1,null,"Daegu",null,null,null,null,null,null,null,null,null,"Portugal","Südkorea",0,1,null,2,3]
[null,null,null,null,null,"(0","1)",null,null,null,null,null,null,null,null,null,null,null,"Polen","USA",3,1,null,3,2]
[null,null,"2002-06-10","Portugal","Polen",4,0,null,"Jeonju"]
[null,null,null,null,null,"(1","0)"]
[null,null,"2002-06-14","Portugal","Südkorea",0,1,null,"Incheon"]
[null,null,null,null,null,"(0","0)"]
[null,null,"2002-06-14","Polen","USA",3,1,null,"Daejeon"]
[null,null,null,null,null,"(2","0)"]
[]
[null,"Nation","Spiele","gew","unent","verl","Tore+","Tore-","Punkte"]
[null,"Südkorea",3,2,0,1,6,2,6]
[null,"Polen"]
[null,"USA"]
[null,"Portugal"]
[]
[]
[null,null,null,null,null,"Gruppe E"]
[]
[null,null,"2002-06-01","Irland","Kamerun",1,1,null,"Niigata",null,null,null,null,null,null,null,null,null,"Irland","Kamerun",1,1,null,{"$f":"(IF(U99>V99,3,IF(U99=V99,1,2)))","v":1},{"$f":"(IF(V99>U99,3,IF(U99=V99,1,2)))","v":1}]
[null,null,null,null,null,"(0","1)",null,null,null,null,null,null,null,null,null,null,null,"BRD","Saudi-Arabien",8,0,null,3,2]
[null,null,"2002-06-01","BRD","Saudi-Arabien",8,0,null,"Sapporo",null,null,null,null,null,null,null,null,null,"BRD","Irland",1,1,null,1,1]
[null,null,null,null,null,"(4","0)",null,null,null,null,null,null,null,null,null,null,null,"Kamerun","Saudi-Arabien",1,0,null,3,2]
[null,null,"2002-06-05","BRD","Irland",1,1,null,"Kashima",null,null,null,null,null,null,null,null,null,"Kamerun","BRD",0,2,null,2,3]
[null,null,null,null,null,"(1","0)",null,null,null,null,null,null,null,null,null,null,null,"Saudi-Arabien","Irland",0,3,null,2,3]
[null,null,"2002-06-06","Kamerun","Saudi-Arabien",1,0,null,"Saitama"]
[null,null,null,null,null,"(0","0)"]
[null,null,"2002-06-11","Kamerun","BRD",0,2,null,"Shizuoka"]
[null,null,null,null,null,"(0","0)"]
[null,null,"2002-06-11","Saudi-Arabien","Irland",0,3,null,"Yokohama"]
[null,null,null,null,null,"(0","1)"]
[]
[null,"Nation","Spiele","gew","unent","verl","Tore+","Tore-","Punkte"]
[null,"Irland",3,1,1,1,3,3,4]
[null,"Kamerun"]
[null,"BRD"]
[null,"Saudi-Arabien"]
[]
[]
[null,null,null,null,null,"Gruppe F"]
[]
[null,null,"2002-06-02","England","Schweden",1,1,null,"Saitama",null,null,null,null,null,null,null,null,null,"England","Schweden",1,1,null,{"$f":"(IF(U121>V121,3,IF(U121=V121,1,2)))","v":1},{"$f":"(IF(V121>U121,3,IF(U121=V121,1,2)))","v":1}]
[null,null,null,null,null,"(1","0)",null,null,null,null,null,null,null,null,null,null,null,"Argentinien","Nigeria",1,0,null,3,2]
[null,null,"2002-06-02","Argentinien","Nigeria",1,0,null,"Kashima",null,null,null,null,null,null,null,null,null,"Schweden","Nigeria",2,1,null,3,2]
[null,null,null,null,null,"(0","0)",null,null,null,null,null,null,null,null,null,null,null,"Argentinien","England",0,1,null,2,3]
[null,null,"2002-06-07","Schweden","Nigeria",2,1,null,"Kobe",null,null,null,null,null,null,null,null,null,"Schweden","Argentinien",1,1,null,1,1]
[null,null,null,null,null,"(1","1)",null,null,null,null,null,null,null,null,null,null,null,"Nigeria","England",0,0,null,1,1]
[null,null,"2002-06-07","Argentinien","England",0,1,null,"Sapporo"]
[null,null,null,null,null,"(0","1)"]
[null,null,"2002-06-12","Schweden","Argentinien",1,1,null,"Miyagi"]
[null,null,null,null,null,"(0","0)"]
[null,null,"2002-06-12","Nigeria","England",0,0,null,"Osaka"]
[]
[null,"Nation","Spiele","gew","unent","verl","Tore+","Tore-","Punkte"]
[null,"England",3,2,0,1,4,3,6]
[null,"Schweden"]
[null,"Argentinien"]
[null,"Nigeria"]
[]
[]
[null,null,null,null,null,"Gruppe G"]
[]
[null,null,"2002-06-03","Kroatien","Mexiko",0,1,null,"Niigata",null,null,null,null,null,null,null,null,null,"Kroatien","Mexiko",0,1,null,{"$f":"(IF(U142>V142,3,IF(U142=V142,1,2)))","v":2},{"$f":"(IF(V142>U142,3,IF(U142=V142,1,2)))","v":3}]
[null,null,null,null,null,"(0","0)",null,null,null,null,null,null,null,null,null,null,null,"Italien","Ecuador",2,0,null,3,2]
[null,null,"2002-06-03","Italien","Ecuador",2,0,null,"Sapporo",null,null,null,null,null,null,null,null,null,"Italien","Kroatien",1,2,null,2,3]
[null,null,null,null,null,"(2","0)",null,null,null,null,null,null,null,null,null,null,null,"Mexiko","Ecuador",2,1,null,3,2]
[null,null,"2002-06-08","Italien","Kroatien",1,2,null,"Kashima",null,null,null,null,null,null,null,null,null,"Mexiko","Italien",1,1,null,1,1]
[null,null,null,null,null,"(0","0)",null,null,null,null,null,null,null,null,null,null,null,"Ecuador","Kroatien",1,0,null,3,2]
[null,null,"2002-06-09","Mexiko","Ecuador",2,1,null,"Miyagi"]
[null,null,null,null,null,"(1","1)"]
[null,null,"2002-06-13","Mexiko","Italien",1,1,null,"Oita"]
[null,null,null,null,null,"(1","0)"]
[null,null,"2002-06-13","Ecuador","Kroatien",1,0,null,"Yokohama"]
[null,null,null,null,null,"(0","0)"]
[]
[null,"Nation","Spiele","gew","unent","verl","Tore+","Tore-","Punkte"]
[null,"Kroatien",3,2,0,1,4,3,6]
[null,"Mexiko"]
[null,"Italien"]
[null,"Ecuador"]
[]
[]
[null,null,null,null,null,"Gruppe H"]
[]
[null,null,"2002-06-04","Japan","Belgien",2,2,null,"Saitama",null,null,null,null,null,null,null,null,null,"Japan","Belgien",2,2,null,{"$f":"(IF(U164>V164,3,IF(U164=V164,1,2)))","v":1},{"$f":"(IF(V164>U164,3,IF(U164=V164,1,2)))","v":1}]
[null,null,null,null,null,"(0","0)",null,null,null,null,null,null,null,null,null,null,null,"Russland","Tunesien",2,0,null,3,2]
[null,null,"2002-06-05","Russland","Tunesien",2,0,null,"Kobe",null,null,null,null,null,null,null,null,null,"Japan","Russland",1,0,null,3,2]
[null,null,null,null,null,"(0","0)",null,null,null,null,null,null,null,null,null,null,null,"Tunesien","Belgien",1,1,null,1,1]
[null,null,"2002-06-09","Japan","Russland",1,0,null,"Yokohama",null,null,null,null,null,null,null,null,null,"Tunesien","Japan",0,2,null,2,3]
[null,null,null,null,null,"(0","0)",null,null,null,null,null,null,null,null,null,null,null,"Belgien","Russland",3,2,null,3,2]
[null,null,"2002-06-10","Tunesien","Belgien",1,1,null,"Oita"]
[null,null,null,null,null,"(1","1)"]
[null,null,"2002-06-14","Tunesien","Japan",0,2,null,"Osaka"]
[null,null,null,null,null,"(0","0)"]
[null,null,"2002-06-14","Belgien","Russland",3,2,null,"Shizuoka"]
[null,null,null,null,null,"(1","0)"]
[]
[null,"Nation","Spiele","gew","unent","verl","Tore+","Tore-","Punkte"]
[null,"Japan",3,2,0,1,4,3,6]
[null,"Belgien"]
[null,"Russland"]
[null,"Tunesien"]
[]
[]
[null,null,null,null,null,"Achtelfinale"]
[]
[null,null,"2002-06-15","BRD","Paraguay",1,0,null,"Seogwipo",null,null,null,null,null,null,null,null,null,"BRD","Paraguay",1,0,null,{"$f":"(IF(U186>V186,3,IF(U186=V186,1,2)))","v":3},{"$f":"(IF(V186>U186,3,IF(U186=V186,1,2)))","v":2}]
[null,null,null,null,null,"(0","0)",null,null,null,null,null,null,null,null,null,null,null,"Dänemark","England",0,3,null,2,3]
[null,null,"2002-06-15","Dänemark","England",0,3,null,"Niigata",null,null,null,null,null,null,null,null,null,"Schweden","Senegal",1,2,null,2,3]
[null,null,null,null,null,"(0","3)",null,null,null,null,null,null,null,null,null,null,null,"Spanien","Irland",4,3,"n.E.",3,2]
[null,null,"2002-06-16","Schweden","Senegal",1,2,"n.GG.","Oita",null,null,null,null,null,null,null,null,null,"Mexiko","USA",0,2,null,2,3]
[null,null,null,null,null,1,1,null,null,null,null,null,null,null,null,null,null,null,"Brasilien","Belgien",2,0,null,3,2]
[null,null,null,null,null,"(1","1)",null,null,null,null,null,null,null,null,null,null,null,"Japan","Türkei",0,1,null,2,3]
[null,null,"2002-06-16","Spanien","Irland",3,2,"n.E.","Suwon",null,null,null,null,null,null,null,null,null,"Südkorea","Italien",2,1,"n.GG.",3,2]
[null,null,null,null,null,1,1,"n.V."]
[null,null,null,null,null,1,1]
[null,null,null,null,null,"(1","0)"]
[null,null,"2002-06-17","Mexiko","USA",0,2,null,"Jeonju"]
[null,null,null,null,null,"(0","1)"]
[null,null,"2002-06-17","Brasilien","Belgien",2,0,null,"Kobe"]
[null,null,null,null,null,"(0","0)"]
[null,null,"2002-06-18","Japan","Türkei",0,1,null,"Mivagi"]
[null,null,null,null,null,"(0","1)"]
[null,null,"2002-06-18","Südkorea","Italien",2,1,"n.GG.","Daejeon"]
[null,null,null,null,null,1,1]
[null,null,null,null,null,"(0","1)"]
[]
[]
[null,null,null,null,null,"Viertelfinale"]
[]
[null,null,"2002-06-21","England","Brasilien",1,2,null,"Shizuoka",null,null,null,null,null,null,null,null,null,"England","Brasilien",1,2,null,{"$f":"(IF(U210>V210,3,IF(U210=V210,1,2)))","v":2},{"$f":"(IF(V210>U210,3,IF(U210=V210,1,2)))","v":3}]
[null,null,null,null,null,"(1","1)",null,null,null,null,null,null,null,null,null,null,null,"BRD","USA",1,0,null,3,2]
[null,null,"2002-06-21","BRD","USA",1,0,null,"Ulsan",null,null,null,null,null,null,null,null,null,"Spanien","Südkorea",3,5,"n.E.",2,3]
[null,null,null,null,null,"(1","0)",null,null,null,null,null,null,null,null,null,null,null,"Senegal","Türkei",0,1,"n.GG.",2,3]
[null,null,"2002-06-22","Spanien","Südkorea",3,5,"n.E.","Gwangju"]
[null,null,null,null,null,0,0,"n.V."]
[null,null,null,null,null,0,0]
[null,null,null,null,null,"(0","0)"]
[null,null,"2002-06-22","Senegal","Türkei",0,1,"n.GG.","Osaka"]
[null,null,null,null,null,0,0]
[null,null,null,null,null,"(0","0)"]
[]
[]
[null,null,null,null,null,"Halbfinale"]
[]
[null,null,"2002-06-25","BRD","Südkorea",1,0,null,"Seoul",null,null,null,null,null,null,null,null,null,"BRD","Südkorea",1,0,null,{"$f":"(IF(U225>V225,3,IF(U225=V225,1,2)))","v":3},{"$f":"(IF(V225>U225,3,IF(U225=V225,1,2)))","v":2}]
[null,null,null,null,null,"(0","0)",null,null,null,null,null,null,null,null,null,null,null,"Brasilien","Türkei",1,0,null,3,2]
[null,null,"2002-06-26","Brasilien","Türkei",1,0,null,"Saitama"]
[null,null,null,null,null,"(0","0)"]
[]
[]
[null,null,"Spiel um Platz 3 am 29. Juni 2002 in Daegu"]
[]
[null,null,null,"Südkorea","Türkei",2,3,null,null,null,null,null,null,null,null,null,null,null,"Südkorea","Türkei",2,3,null,{"$f":"(IF(U233>V233,3,IF(U233=V233,1,2)))","v":2},{"$f":"(IF(V233>U233,3,IF(U233=V233,1,2)))","v":3}]
[null,null,null,null,null,"(1","3)"]
[]
[]
[]
[]
[]
[null,null,"Endspiel am 30. Juni in Yokohama:"]
[]
[null,null,null,"BRD","Brasilien",0,2,null,null,null,null,null,null,null,null,null,null,null,"BRD","Brasilien",0,2,null,{"$f":"(IF(U242>V242,3,IF(U242=V242,1,2)))","v":2},{"$f":"(IF(V242>U242,3,IF(U242=V242,1,2)))","v":3}]
[null,null,null,null,null,"(0","0)"]
[]
[]
[]
[]
[]
["Auswertung","Nation","Spiele","gew","unent","verl","Tore+","Tore-","Punkte"]
[null,"Brasilien",{"$f":"COUNTIF($S$12:$T$242,\"Brasilien\")","v":7},{"$f":"SUMPRODUCT(($S$12:$T$242=B250)*($X$12:$Y$242=3))","v":7},{"$f":"SUMPRODUCT(($S$12:$T$242=B250)*($X$12:$Y$242=1))","v":0},{"$f":"SUMPRODUCT(($S$12:$T$242=B250)*($X$12:$Y$242=2))","v":0},{"$f":"SUMPRODUCT(($S$12:$S$242=B250)*($U$12:$U$242))+SUMPRODUCT(($T$12:$T$242=B250)*($V$12:$V$242))","v":18},{"$f":"SUMPRODUCT(($S$12:$S$242=B250)*($V$12:$V$242))+SUMPRODUCT(($T$12:$T$242=B250)*($U$12:$U$242))","v":4},{"$f":"(D250*3)+E250","v":21}]
[null,"BRD",{"$f":"COUNTIF($S$12:$T$242,\"BRD\")","v":7},5,1,1,14,3,16]
[null,"Südkorea",{"$f":"COUNTIF($S$12:$T$242,\"Südkorea\")","v":7},4,1,2,13,9,13]
[null,"Türkei",{"$f":"COUNTIF($S$12:$T$242,\"Türkei\")","v":7},4,1,2,10,6,13]
[null,"Spanien",{"$f":"COUNTIF($S$12:$T$242,\"Spanien\")","v":5},4,0,1,16,12,12]
[null,"Senegal",{"$f":"COUNTIF($S$12:$T$242,\"Senegal\")","v":5},2,2,1,7,6,8]
[null,"England",{"$f":"COUNTIF($S$12:$T$242,\"England\")","v":5},2,2,1,6,3,8]
[null,"USA",{"$f":"COUNTIF($S$12:$T$242,\"USA\")","v":5},2,1,2,7,7,7]
[null,"Japan",{"$f":"COUNTIF($S$12:$T$242,\"Japan\")","v":4},2,1,1,5,3,7]
[null,"Dänemark",{"$f":"COUNTIF($S$12:$T$242,\"Dänemark\")","v":4},2,1,1,5,5,7]
[null,"Mexiko",{"$f":"COUNTIF($S$12:$T$242,\"Mexiko\")","v":4},2,1,1,4,4,7]
[null,"Irland",{"$f":"COUNTIF($S$12:$T$242,\"Irland\")","v":4},1,2,1,8,6,5]
[null,"Belgien",{"$f":"COUNTIF($S$12:$T$242,\"Belgien\")","v":4},1,2,1,6,7,5]
[null,"Schweden",{"$f":"COUNTIF($S$12:$T$242,\"Schweden\")","v":4},1,2,1,5,5,5]
[null,"Paraguay",{"$f":"COUNTIF($S$12:$T$242,\"Paraguay\")","v":4},1,1,2,6,7,4]
[null,"Südafrika",{"$f":"COUNTIF($S$12:$T$242,\"Südafrika\")","v":3},1,1,1,5,5,4]
[null,"Italien",{"$f":"COUNTIF($S$12:$T$242,\"Italien\")","v":4},1,1,2,5,5,4]
[null,"Costa Rica",{"$f":"COUNTIF($S$12:$T$242,\"Costa Rica\")","v":3},1,1,1,5,6,4]
[null,"Argentinien",{"$f":"COUNTIF($S$12:$T$242,\"Argentinien\")","v":3},1,1,1,2,2,4]
[null,"Kamerun",{"$f":"COUNTIF($S$12:$T$242,\"Kamerun\")","v":3},1,1,1,2,3,4]
[null,"Portugal",{"$f":"COUNTIF($S$12:$T$242,\"Portugal\")","v":3},1,0,2,6,4,3]
[null,"Russland",{"$f":"COUNTIF($S$12:$T$242,\"Russland\")","v":3},1,0,2,4,4,3]
[null,"Polen",{"$f":"COUNTIF($S$12:$T$242,\"Polen\")","v":3},1,0,2,3,7,3]
[null,"Kroatien",{"$f":"COUNTIF($S$12:$T$242,\"Kroatien\")","v":3},1,0,2,2,3,3]
[null,"Ecuador",{"$f":"COUNTIF($S$12:$T$242,\"Ecuador\")","v":3},1,0,2,2,4,3]
[null,"Uruguay",{"$f":"COUNTIF($S$12:$T$242,\"Uruguay\")","v":3},0,2,1,4,5,2]
[null,"Nigeria",{"$f":"COUNTIF($S$12:$T$242,\"Nigeria\")","v":3},0,1,2,1,3,1]
[null,"Tunesien",{"$f":"COUNTIF($S$12:$T$242,\"Tunesien\")","v":3},0,1,2,1,5,1]
[null,"Frankreich",{"$f":"COUNTIF($S$12:$T$242,\"Frankreich\")","v":3},0,1,2,0,3,1]
[null,"Slowenien",{"$f":"COUNTIF($S$12:$T$242,\"Slowenien\")","v":3},0,0,3,2,7,0]
[null,"China",{"$f":"COUNTIF($S$12:$T$242,\"China\")","v":3},0,0,3,0,9,0]
[null,"Saudi-Arabien",{"$f":"COUNTIF($S$12:$T$242,\"Saudi-Arabien\")","v":3},0,0,3,0,12,0]

{"sheet":"2006","index":18,"n_rows":280,"n_cols":27,"rows_kept":280,"cut":false,"hidden":false,"merged":[[228,2,228,8],[236,2,236,8],[1,0,1,9],[3,0,3,9],[4,0,4,9]]}
[null,12,null,12,12,null,null,null,12]
["18. WM 2006 in der BRD"]
[]
["9. Juni- 9. Juli 2006"]
["Teilnehmende Nationen: 32 --- Bewerbungen: 198"]
[]
[]
[]
[]
[null,null,null,null,null,"Gruppe A"]
[]
[null,null,"2006-06-09","BRD","Costa Rica",4,2,null,"München",null,null,null,null,null,null,null,null,null,"BRD","Costa Rica",4,2,null,{"$f":"(IF(U12>V12,3,IF(U12=V12,1,2)))","v":3},{"$f":"(IF(V12>U12,3,IF(U12=V12,1,2)))","v":2},null,"Italien"]
[null,null,null,null,null,"(2","1)",null,null,null,null,null,null,null,null,null,null,null,"Polen","Ecuador",0,2,null,{"$f":"(IF(U13>V13,3,IF(U13=V13,1,2)))","v":2},{"$f":"(IF(V13>U13,3,IF(U13=V13,1,2)))","v":3},null,"BRD"]
[null,null,"2006-06-09","Polen","Ecuador",0,2,null,"Gelsenkirchen",null,null,null,null,null,null,null,null,null,"BRD","Polen",1,0,null,{"$f":"(IF(U14>V14,3,IF(U14=V14,1,2)))","v":3},{"$f":"(IF(V14>U14,3,IF(U14=V14,1,2)))","v":2},null,"Portugal"]
[null,null,null,null,null,"(0","1)",null,null,null,null,null,null,null,null,null,null,null,"Ecuador","Costa Rica",3,0,null,3,2,null,"Frankreich"]
[null,null,"2006-06-14","BRD","Polen",1,0,null,"Dortmund",null,null,null,null,null,null,null,null,null,"Ecuador","BRD",0,3,null,2,3,null,"Brasilien"]
[null,null,null,null,null,"(0","0)",null,null,null,null,null,null,null,null,null,null,null,"Costa Rica","Polen",1,2,null,2,3,null,"Argentinien"]
[null,null,"2006-06-15","Ecuador","Costa Rica",3,0,null,"Hamburg",null,null,null,null,null,null,null,null,null,null,null,null,null,null,null,null,null,"England"]
[null,null,null,null,null,"(1","0)",null,null,null,null,null,null,null,null,null,null,null,null,null,null,null,null,null,null,null,"Spanien"]
[null,null,"2006-06-20","Ecuador","BRD",0,3,null,"Berlin",null,null,null,null,null,null,null,null,null,null,null,null,null,null,null,null,null,"Ukraine"]
[null,null,null,null,null,"(0","2)",null,null,null,null,null,null,null,null,null,null,null,null,null,null,null,null,null,null,null,"Schweiz"]
[null,null,"2006-06-20","Costa Rica","Polen",1,2,null,"Hannover",null,null,null,null,null,null,null,null,null,null,null,null,null,null,null,null,null,"Niederlande"]
[null,null,null,null,null,"(1","1)",null,null,null,null,null,null,null,null,null,null,null,null,null,null,null,null,null,null,null,"Ecuador"]
[null,null,null,null,null,null,null,null,null,null,null,null,null,null,null,null,null,null,null,null,null,null,null,null,null,null,"Ghana"]
[null,"Nation","Spiele","gew","unent","verl","Tore+","Tore-","Punkte",null,null,null,null,null,null,null,null,null,null,null,null,null,null,null,null,null,"Schweden"]
["Tabelle:","BRD",{"$f":"COUNTIF($S$12:$T$17,\"Rumänien\")","v":0},{"$f":"SUMPRODUCT(($S$12:$T$17=B26)*($X$12:$Y$17=3))","v":3},{"$f":"SUMPRODUCT(($S$12:$T$17=B26)*($X$12:$Y$17=1))","v":0},{"$f":"SUMPRODUCT(($S$12:$T$17=B26)*($X$12:$Y$17=2))","v":0},{"$f":"SUMPRODUCT(($S$12:$S$17=B26)*($U$12:$U$17))+SUMPRODUCT(($T$12:$T$17=B26)*($V$12:$V$17))","v":8},{"$f":"SUMPRODUCT(($S$12:$S$17=B26)*($V$12:$V$17))+SUMPRODUCT(($T$12:$T$17=B26)*($U$12:$U$17))","v":2},{"$f":"(D26*3)+E26","v":9},null,null,null,null,null,null,null,null,null,null,null,null,null,null,null,null,null,"Mexiko"]
[null,"Costa Rica",null,null,null,null,null,null,null,null,null,null,null,null,null,null,null,null,null,null,null,null,null,null,null,null,"Australien"]
[null,"Polen",null,null,null,null,null,null,null,null,null,null,null,null,null,null,null,null,null,null,null,null,null,null,null,null,"Südkorea"]
[null,"Ecuador",null,null,null,null,null,null,null,null,null,null,null,null,null,null,null,null,null,null,null,null,null,null,null,null,"Elfenbeinküste"]
[null,null,null,null,null,null,null,null,null,null,null,null,null,null,null,null,null,null,null,null,null,null,null,null,null,null,"Tschechien"]
[null,null,null,null,null,null,null,null,null,null,null,null,null,null,null,null,null,null,null,null,null,null,null,null,null,null,"Paraguay"]
[null,null,null,null,null,"Gruppe B",null,null,null,null,null,null,null,null,null,null,null,null,null,null,null,null,null,null,null,null,"Polen"]
[null,null,null,null,null,null,null,null,null,null,null,null,null,null,null,null,null,null,null,null,null,null,null,null,null,null,"Kroatien"]
[null,null,"2006-06-10","England","Paraguay",1,0,null,"Frankfurt",null,null,null,null,null,null,null,null,null,"England","Paraguay",1,0,null,{"$f":"(IF(U34>V34,3,IF(U34=V34,1,2)))","v":3},{"$f":"(IF(V34>U34,3,IF(U34=V34,1,2)))","v":2},null,"Angola"]
[null,null,null,null,null,"(1","0)",null,null,null,null,null,null,null,null,null,null,null,"Trin u. Tobago","Schweden",0,0,null,1,1,null,"Tunesien"]
[null,null,"2006-06-10","Trin u. Tobago","Schweden",0,0,null,"Dortmund",null,null,null,null,null,null,null,null,null,"England","Trin u. Tobago",2,0,null,3,2,null,"Iran"]
[null,null,"2006-06-15","England","Trin u. Tobago",2,0,null,"Nürnberg",null,null,null,null,null,null,null,null,null,"Schweden","Paraguay",1,0,null,3,2,null,"USA"]
[null,null,null,null,null,"(0","0)",null,null,null,null,null,null,null,null,null,null,null,"Schweden","England",2,2,null,{"$f":"(IF(U38>V38,3,IF(U38=V38,1,2)))","v":1},{"$f":"(IF(V38>U38,3,IF(U38=V38,1,2)))","v":1},null,"Japan"]
[null,null,"2006-06-15","Schweden","Paraguay",1,0,null,"Berlin",null,null,null,null,null,null,null,null,null,"Paraguay","Trin u. Tobago",2,0,null,3,2,null,"Saudi-Arabien"]
[null,null,null,null,null,"(0","0)",null,null,null,null,null,null,null,null,null,null,null,null,null,null,null,null,null,null,null,"Trin u. Tobago"]
[null,null,"2006-06-20","Schweden","England",2,2,null,"Köln",null,null,null,null,null,null,null,null,null,null,null,null,null,null,null,null,null,"Costa Rica"]
[null,null,null,null,null,"(0","1)",null,null,null,null,null,null,null,null,null,null,null,null,null,null,null,null,null,null,null,"Serb u. Monte"]
[null,null,"2006-06-20","Paraguay","Trin u. Tobago",2,0,null,"Kaiserslautern",null,null,null,null,null,null,null,null,null,null,null,null,null,null,null,null,null,"Togo"]
[null,null,null,null,null,"(1","0)"]
[]
[null,"Nation","Spiele","gew","unent","verl","Tore+","Tore-","Punkte"]
["Tabelle:","England",3,2,1,0,6,1,7]
[null,"Paraguay"]
[null,"Trin u. Tobago"]
[null,"Schweden"]
[]
[]
[null,null,null,null,null,"Gruppe C"]
[]
[null,null,"2006-06-10","Argentinien","Elfenbeinküste",2,1,null,"Hamburg",null,null,null,null,null,null,null,null,null,"Argentinien","Elfenbeinküste",2,1,null,{"$f":"(IF(U55>V55,3,IF(U55=V55,1,2)))","v":3},{"$f":"(IF(V55>U55,3,IF(U55=V55,1,2)))","v":2}]
[null,null,null,null,null,"(2","0)",null,null,null,null,null,null,null,null,null,null,null,"Serb u. Monte","Niederlande",0,1,null,2,3]
[null,null,"2006-06-11","Serb u. Monte","Niederlande",0,1,null,"Leipzig",null,null,null,null,null,null,null,null,null,"Argentinien","Serb u. Monte",6,0,null,3,2]
[null,null,null,null,null,"(0","1)",null,null,null,null,null,null,null,null,null,null,null,"Niederlande","Elfenbeinküste",2,1,null,3,2]
[null,null,"2006-06-16","Argentinien","Serb u. Monte",6,0,null,"Gelsenkirchen",null,null,null,null,null,null,null,null,null,"Niederlande","Argentinien",0,0,null,1,1]
[null,null,null,null,null,"(3","0)",null,null,null,null,null,null,null,null,null,null,null,"Elfenbeinküste","Serb u. Monte",3,2,null,{"$f":"(IF(U60>V60,3,IF(U60=V60,1,2)))","v":3},{"$f":"(IF(V60>U60,3,IF(U60=V60,1,2)))","v":2}]
[null,null,"2006-06-16","Niederlande","Elfenbeinküste",2,1,null,"Stuttgart"]
[null,null,null,null,null,"(2","1)"]
[null,null,"2006-06-21","Niederlande","Argentinien",0,0,null,"Frankfurt"]
[null,null,"2006-06-21","Elfenbeinküste","Serb u. Monte",3,2,null,"München"]
[null,null,null,null,null,"(1","2)"]
[]
[null,"Nation","Spiele","gew","unent","verl","Tore+","Tore-","Punkte"]
["Tabelle:","Argentinien",3,2,1,0,5,3,7]
[null,"Elfenbeinküste"]
[null,"Serb u. Monte"]
[null,"Niederlande"]
[]
[]
[null,null,null,null,null,"Gruppe D"]
[]
[null,null,"2006-06-11","Mexiko","Iran",3,1,null,"Nürnberg",null,null,null,null,null,null,null,null,null,"Mexiko","Iran",3,1,null,{"$f":"(IF(U76>V76,3,IF(U76=V76,1,2)))","v":3},{"$f":"(IF(V76>U76,3,IF(U76=V76,1,2)))","v":2}]
[null,null,null,null,null,"(1","1)",null,null,null,null,null,null,null,null,null,null,null,"Angola","Portugal",0,1,null,2,3]
[null,null,"2006-06-11","Angola","Portugal",0,1,null,"Köln",null,null,null,null,null,null,null,null,null,"Mexiko","Angola",0,0,null,1,1]
[null,null,null,null,null,"(0","1)",null,null,null,null,null,null,null,null,null,null,null,"Portugal","Iran",2,0,null,3,2]
[null,null,"2006-06-16","Mexiko","Angola",0,0,null,"Hannover",null,null,null,null,null,null,null,null,null,"Portugal","Mexiko",2,1,null,3,2]
[null,null,"2006-06-17","Portugal","Iran",2,0,null,"Frankfurt",null,null,null,null,null,null,null,null,null,"Iran","Angola",1,1,null,{"$f":"(IF(U81>V81,3,IF(U81=V81,1,2)))","v":1},{"$f":"(IF(V81>U81,3,IF(U81=V81,1,2)))","v":1}]
[null,null,null,null,null,"(0","0)"]
[null,null,"2006-06-21","Portugal","Mexiko",2,1,null,"Gelsenkirchen"]
[null,null,null,null,null,"(2","1)"]
[null,null,"2006-06-21","Iran","Angola",1,1,null,"Leipzig"]
[null,null,null,null,null,"(0","0)"]
[]
[null,"Nation","Spiele","gew","unent","verl","Tore+","Tore-","Punkte"]
["Tabelle:","Mexiko",3,2,0,1,6,2,6]
[null,"Iran"]
[null,"Angola"]
[null,"Portugal"]
[]
[]
[null,null,null,null,null,"Gruppe E"]
[]
[null,null,"2006-06-12","USA","Tschechien",0,3,null,"Gelsenkirchen",null,null,null,null,null,null,null,null,null,"USA","Tschechien",0,3,null,{"$f":"(IF(U97>V97,3,IF(U97=V97,1,2)))","v":2},{"$f":"(IF(V97>U97,3,IF(U97=V97,1,2)))","v":3}]
[null,null,null,null,null,"(0","2)",null,null,null,null,null,null,null,null,null,null,null,"Italien","Ghana",2,0,null,3,2]
[null,null,"2006-06-12","Italien","Ghana",2,0,null,"Hannover",null,null,null,null,null,null,null,null,null,"Tschechien","Ghana",0,2,null,2,3]
[null,null,null,null,null,"(1","0)",null,null,null,null,null,null,null,null,null,null,null,"Italien","USA",1,1,null,1,1]
[null,null,"2006-06-17","Tschechien","Ghana",0,2,null,"Köln",null,null,null,null,null,null,null,null,null,"Tschechien","Italien",0,2,null,{"$f":"(IF(U101>V101,3,IF(U101=V101,1,2)))","v":2},{"$f":"(IF(V101>U101,3,IF(U101=V101,1,2)))","v":3}]
[null,null,null,null,null,"(0","1)",null,null,null,null,null,null,null,null,null,null,null,"Ghana","USA",2,1,null,3,2]
[null,null,"2006-06-17","Italien","USA",1,1,null,"Kaiserslautern"]
[null,null,null,null,null,"(1","1)"]
[null,null,"2006-06-22","Tschechien","Italien",0,2,null,"Hamburg"]
[null,null,null,null,null,"(0","1)"]
[null,null,"2006-06-22","Ghana","USA",2,1,null,"Nürnberg"]
[null,null,null,null,null,"(2","1)"]
[]
[null,"Nation","Spiele","gew","unent","verl","Tore+","Tore-","Punkte"]
["Tabelle:","USA",3,1,1,1,3,3,4]
[null,"Tschechien"]
[null,"Italien"]
[null,"Ghana"]
[]
[]
[null,null,null,null,null,"Gruppe F"]
[]
[null,null,"2006-06-12","Australien","Japan",3,1,null,"Kaiserslautern",null,null,null,null,null,null,null,null,null,"Australien","Japan",3,1,null,{"$f":"(IF(U119>V119,3,IF(U119=V119,1,2)))","v":3},{"$f":"(IF(V119>U119,3,IF(U119=V119,1,2)))","v":2}]
[null,null,null,null,null,"(0","1)",null,null,null,null,null,null,null,null,null,null,null,"Brasilien","Kroatien",1,0,null,3,2]
[null,null,"2006-06-13","Brasilien","Kroatien",1,0,null,"Berlin",null,null,null,null,null,null,null,null,null,"Japan","Kroatien",0,0,null,1,1]
[null,null,null,null,null,"(1","0)",null,null,null,null,null,null,null,null,null,null,null,"Brasilien","Australien",2,0,null,{"$f":"(IF(U122>V122,3,IF(U122=V122,1,2)))","v":3},{"$f":"(IF(V122>U122,3,IF(U122=V122,1,2)))","v":2}]
[null,null,"2006-06-18","Japan","Kroatien",0,0,null,"Nürnberg",null,null,null,null,null,null,null,null,null,"Japan","Brasilien",1,4,null,2,3]
[null,null,"2006-06-18","Brasilien","Australien",2,0,null,"München",null,null,null,null,null,null,null,null,null,"Kroatien","Australien",2,2,null,1,1]
[null,null,null,null,null,"(0","1)"]
[null,null,"2006-06-22","Japan","Brasilien",1,4,null,"Dortmund"]
[null,null,null,null,null,"(1","1)"]
[null,null,"2006-06-22","Kroatien","Australien",2,2,null,"Stuttgart"]
[null,null,null,null,null,"(1","1)"]
[]
[null,"Nation","Spiele","gew","unent","verl","Tore+","Tore-","Punkte"]
["Tabelle:","Australien",3,2,0,1,4,3,6]
[null,"Japan"]
[null,"Brasilien"]
[null,"Kroatien"]
[]
[]
[null,null,null,null,null,"Gruppe G"]
[]
[null,null,"2006-06-13","Südkorea","Togo",2,1,null,"Frankfurt",null,null,null,null,null,null,null,null,null,"Südkorea","Togo",2,1,null,{"$f":"(IF(U140>V140,3,IF(U140=V140,1,2)))","v":3},{"$f":"(IF(V140>U140,3,IF(U140=V140,1,2)))","v":2}]
[null,null,null,null,null,"(0","1)",null,null,null,null,null,null,null,null,null,null,null,"Frankreich","Schweiz",0,0,null,1,1]
[null,null,"2006-06-13","Frankreich","Schweiz",0,0,null,"Stuttgart",null,null,null,null,null,null,null,null,null,"Frankreich","Südkorea",1,1,null,{"$f":"(IF(U142>V142,3,IF(U142=V142,1,2)))","v":1},{"$f":"(IF(V142>U142,3,IF(U142=V142,1,2)))","v":1}]
[null,null,"2006-06-18","Frankreich","Südkorea",1,1,null,"Leipzig",null,null,null,null,null,null,null,null,null,"Togo","Schweiz",0,2,null,2,3]
[null,null,null,null,null,"(1","0)",null,null,null,null,null,null,null,null,null,null,null,"Togo","Frankreich",0,2,null,2,3]
[null,null,"2006-06-19","Togo","Schweiz",0,2,null,"Dortmund",null,null,null,null,null,null,null,null,null,"Schweiz","Südkorea",2,0,null,3,2]
[null,null,null,null,null,"(0","1)"]
[null,null,"2006-06-23","Togo","Frankreich",0,2,null,"Köln"]
[null,null,null,null,null,"(0","0)"]
[null,null,"2006-06-23","Schweiz","Südkorea",2,0,null,"Hannover"]
[null,null,null,null,null,"(1","0)"]
[]
[null,"Nation","Spiele","gew","unent","verl","Tore+","Tore-","Punkte"]
["Tabelle:","Südkorea",3,2,0,1,4,3,6]
[null,"Togo"]
[null,"Frankreich"]
[null,"Schweiz"]
[]
[]
[null,null,null,null,null,"Gruppe H"]
[]
[null,null,"2006-06-14","Spanien","Ukraine",4,0,null,"Leipzig",null,null,null,null,null,null,null,null,null,"Spanien","Ukraine",4,0,null,{"$f":"(IF(U161>V161,3,IF(U161=V161,1,2)))","v":3},{"$f":"(IF(V161>U161,3,IF(U161=V161,1,2)))","v":2}]
[null,null,null,null,null,"(2","0)",null,null,null,null,null,null,null,null,null,null,null,"Tunesien","Saudi-Arabien",2,2,null,1,1]
[null,null,"2006-06-14","Tunesien","Saudi-Arabien",2,2,null,"München",null,null,null,null,null,null,null,null,null,"Saudi-Arabien","Ukraine",0,4,null,{"$f":"(IF(U163>V163,3,IF(U163=V163,1,2)))","v":2},{"$f":"(IF(V163>U163,3,IF(U163=V163,1,2)))","v":3}]
[null,null,null,null,null,"(1","0)",null,null,null,null,null,null,null,null,null,null,null,"Spanien","Tunesien",3,1,null,3,2]
[null,null,"2006-06-19","Saudi-Arabien","Ukraine",0,4,null,"Hamburg",null,null,null,null,null,null,null,null,null,"Saudi-Arabien","Spanien",0,1,null,2,3]
[null,null,null,null,null,"(0","2)",null,null,null,null,null,null,null,null,null,null,null,"Ukraine","Tunesien",1,0,null,3,2]
[null,null,"2006-06-19","Spanien","Tunesien",3,1,null,"Stuttgart"]
[null,null,null,null,null,"(0","1)"]
[null,null,"2006-06-23","Saudi-Arabien","Spanien",0,1,null,"Kaiserslautern"]
[null,null,null,null,null,"(0","1)"]
[null,null,"2006-06-23","Ukraine","Tunesien",1,0,null,"Berlin"]
[null,null,null,null,null,"(0","0)"]
[]
[null,"Nation","Spiele","gew","unent","verl","Tore+","Tore-","Punkte"]
["Tabelle:","Spanien",3,2,0,1,4,3,6]
[null,"Ukraine"]
[null,"Tunesien"]
[null,"Saudi-Arabien"]
[]
[]
[null,null,null,null,null,"Achtelfinale:"]
[]
[null,null,"2006-06-24","BRD","Schweden",2,0,null,"München",null,null,null,null,null,null,null,null,null,"BRD","Schweden",2,0,null,{"$f":"(IF(U183>V183,3,IF(U183=V183,1,2)))","v":3},{"$f":"(IF(V183>U183,3,IF(U183=V183,1,2)))","v":2}]
[null,null,null,null,null,"(2","0)",null,null,null,null,null,null,null,null,null,null,null,"Argentinien","Mexiko",2,1,"n.V.",3,2]
[null,null,"2006-06-24","Argentinien","Mexiko",2,1,"n.V.","Leipzig",null,null,null,null,null,null,null,null,null,"England","Ecuador",1,0,null,3,2]
[null,null,null,null,null,1,1,null,null,null,null,null,null,null,null,null,null,null,"Portugal","Niederlande",1,0,null,{"$f":"(IF(U186>V186,3,IF(U186=V186,1,2)))","v":3},{"$f":"(IF(V186>U186,3,IF(U186=V186,1,2)))","v":2}]
[null,null,null,null,null,"(1","1)",null,null,null,null,null,null,null,null,null,null,null,"Italien","Australien",1,0,null,3,2]
[null,null,"2006-06-25","England","Ecuador",1,0,null,"Stuttgart",null,null,null,null,null,null,null,null,null,"Schweiz","Ukraine",0,3,"n.E.",2,3]
[null,null,null,null,null,"(0","0)",null,null,null,null,null,null,null,null,null,null,null,"Brasilien","Ghana",3,0,null,3,2]
[null,null,"2006-06-25","Portugal","Niederlande",1,0,null,"Nürnberg",null,null,null,null,null,null,null,null,null,"Spanien","Frankreich",1,3,null,2,3]
[null,null,null,null,null,"(1","0)"]
[null,null,"2006-06-26","Italien","Australien",1,0,null,"Kaiserslautern"]
[null,null,null,null,null,"(0","0)"]
[null,null,"2006-06-26","Schweiz","Ukraine",0,3,"n.E.","Köln"]
[null,null,null,null,null,0,0,"n.V."]
[null,null,null,null,null,0,0]
[null,null,null,null,null,"(0","0)"]
[null,null,"2006-06-27","Brasilien","Ghana",3,0,null,"Dortmund"]
[null,null,null,null,null,"(2","0)"]
[null,null,"2006-06-27","Spanien","Frankreich",1,3,null,"Hannover"]
[null,null,null,null,null,"(1","1)"]
[]
[]
[null,null,null,null,null,"Viertelfinale:"]
[]
[null,null,"2006-06-30","BRD","Argentinien",4,2,"n.E.","Berlin",null,null,null,null,null,null,null,null,null,"BRD","Argentinien",5,3,"n.E.",{"$f":"(IF(U206>V206,3,IF(U206=V206,1,2)))","v":3},{"$f":"(IF(V206>U206,3,IF(U206=V206,1,2)))","v":2}]
[null,null,null,null,null,1,1,"n.V.",null,null,null,null,null,null,null,null,null,null,"Italien","Ukraine",3,0,null,3,2]
[null,null,null,null,null,1,1,null,null,null,null,null,null,null,null,null,null,null,"England","Portugal",1,3,"n.E.",2,3]
[null,null,null,null,null,"(0","0)",null,null,null,null,null,null,null,null,null,null,null,"Brasilien","Frankreich",0,1,null,{"$f":"(IF(U209>V209,3,IF(U209=V209,1,2)))","v":2},{"$f":"(IF(V209>U209,3,IF(U209=V209,1,2)))","v":3}]
[null,null,"2006-06-30","Italien","Ukraine",3,0,null,"Hamburg"]
[null,null,null,null,null,"(1","0)"]
[null,null,"2006-07-01","England","Portugal",1,3,"n.E.","Gelsenkirchen"]
[null,null,null,null,null,0,0,"n.V."]
[null,null,null,null,null,0,0]
[null,null,null,null,null,"(0","0)"]
[null,null,"2006-07-01","Brasilien","Frankreich",0,1]
[null,null,null,null,null,"(0","0)"]
[]
[]
[null,null,null,null,null,"Halbfinale:"]
[]
[null,null,"2006-07-04","BRD","Italien",0,2,"n.V.","Dortmund",null,null,null,null,null,null,null,null,null,"BRD","Italien",0,2,"n.V.",{"$f":"(IF(U222>V222,3,IF(U222=V222,1,2)))","v":2},{"$f":"(IF(V222>U222,3,IF(U222=V222,1,2)))","v":3}]
[null,null,null,null,null,0,0,null,null,null,null,null,null,null,null,null,null,null,"Portugal","Frankreich",0,1,null,{"$f":"(IF(U223>V223,3,IF(U223=V223,1,2)))","v":2},{"$f":"(IF(V223>U223,3,IF(U223=V223,1,2)))","v":3}]
[null,null,null,null,null,"(0","0)"]
[null,null,"2006-07-05","Portugal","Frankreich",0,1,null,"München"]
[null,null,null,null,null,"(0","1)"]
[]
[]
[null,null,"Spiel um Platz 3 am 6. Juli 2006 in Stuttgart"]
[null,null,null,null,"BRD","---","Portugal",null,null,null,null,null,null,null,null,null,null,null,"BRD","Portugal",3,1,null,{"$f":"(IF(U230>V230,3,IF(U230=V230,1,2)))","v":3},{"$f":"(IF(V230>U230,3,IF(U230=V230,1,2)))","v":2}]
[null,null,null,null,3,null,1]
[null,null,null,null,"(0",null,"0)"]
[]
[]
[]
[]
[null,null,"Endspiel am 9. Juli 2006 in Berlin"]
[]
[null,null,null,"Italien","Frankreich",5,3,"n.E.",null,null,null,null,null,null,null,null,null,null,"Italien","Frankreich",6,4,"n.E.",{"$f":"(IF(U239>V239,3,IF(U239=V239,1,2)))","v":3},{"$f":"(IF(V239>U239,3,IF(U239=V239,1,2)))","v":2}]
[null,null,null,null,null,1,1,"n.V."]
[null,null,null,null,null,1,1]
[null,null,null,null,null,"(1","1)"]
[]
[]
[]
[]
[]
["Auswertung","Nation","Spiele","gew","unent","verl","Tore+","Tore-","Punkte"]
[null,"Italien",{"$f":"COUNTIF($S$12:$T$239,\"Italien\")","v":7},{"$f":"SUMPRODUCT(($S$12:$T$239=B249)*($X$12:$Y$239=3))","v":6},{"$f":"SUMPRODUCT(($S$12:$T$239=B249)*($X$12:$Y$239=1))","v":1},{"$f":"SUMPRODUCT(($S$12:$T$239=B249)*($X$12:$Y$239=2))","v":0},{"$f":"SUMPRODUCT(($S$12:$S$239=B249)*($U$12:$U$239))+SUMPRODUCT(($T$12:$T$239=B249)*($V$12:$V$239))","v":17},{"$f":"SUMPRODUCT(($S$12:$S$239=B249)*($V$12:$V$239))+SUMPRODUCT(($T$12:$T$239=B249)*($U$12:$U$239))","v":5},{"$f":"(D249*3)+E249","v":19}]
[null,"BRD",{"$f":"COUNTIF($S$12:$T$239,\"BRD\")","v":7},6,0,1,18,8,18]
[null,"Portugal",{"$f":"COUNTIF($S$12:$T$239,\"Portugal\")","v":7},5,0,2,10,6,15]
[null,"Frankreich",{"$f":"COUNTIF($S$12:$T$239,\"Frankreich\")","v":7},4,2,1,12,8,14]
[null,"Brasilien",{"$f":"COUNTIF($S$12:$T$239,\"Brasilien\")","v":5},4,0,1,10,2,12]
[null,"Argentinien",{"$f":"COUNTIF($S$12:$T$239,\"Argentinien\")","v":5},3,1,1,13,7,10]
[null,"England",{"$f":"COUNTIF($S$12:$T$239,\"England\")","v":5},3,1,1,7,5,10]
[null,"Spanien",{"$f":"COUNTIF($S$12:$T$239,\"Spanien\")","v":4},3,0,1,9,4,9]
[null,"Ukraine",{"$f":"COUNTIF($S$12:$T$239,\"Ukraine\")","v":5},3,0,2,8,7,9]
[null,"Schweiz",{"$f":"COUNTIF($S$12:$T$239,\"Schweiz\")","v":4},2,1,1,4,3,7]
[null,"Niederlande",{"$f":"COUNTIF($S$12:$T$239,\"Niederlande\")","v":4},2,1,1,3,2,7]
[null,"Ecuador",{"$f":"COUNTIF($S$12:$T$239,\"Ecuador\")","v":4},2,0,2,5,4,6]
[null,"Ghana",{"$f":"COUNTIF($S$12:$T$239,\"Ghana\")","v":4},2,0,2,4,6,6]
[null,"Schweden",{"$f":"COUNTIF($S$12:$T$239,\"Schweden\")","v":4},1,2,1,3,4,5]
[null,"Mexiko",{"$f":"COUNTIF($S$12:$T$239,\"Mexiko\")","v":4},1,1,2,5,5,4]
[null,"Australien",{"$f":"COUNTIF($S$12:$T$239,\"Australien\")","v":4},1,1,2,5,6,4]
[null,"Südkorea",{"$f":"COUNTIF($S$12:$T$239,\"Südkorea\")","v":3},1,1,1,3,4,4]
[null,"Elfenbeinküste",{"$f":"COUNTIF($S$12:$T$239,\"Elfenbeinküste\")","v":3},1,0,2,5,6,3]
[null,"Tschechien",{"$f":"COUNTIF($S$12:$T$239,\"Tschechien\")","v":3},1,0,2,3,4,3]
[null,"Paraguay",{"$f":"COUNTIF($S$12:$T$239,\"Paraguay\")","v":3},1,0,2,2,2,3]
[null,"Polen",{"$f":"COUNTIF($S$12:$T$239,\"Polen\")","v":3},1,0,2,2,4,3]
[null,"Kroatien",{"$f":"COUNTIF($S$12:$T$239,\"Kroatien\")","v":3},0,2,1,2,3,2]
[null,"Angola",{"$f":"COUNTIF($S$12:$T$239,\"Angola\")","v":3},0,2,1,1,2,2]
[null,"Tunesien",{"$f":"COUNTIF($S$12:$T$239,\"Tunesien\")","v":3},0,1,2,3,6,1]
[null,"Iran",{"$f":"COUNTIF($S$12:$T$239,\"Iran\")","v":3},0,1,2,2,6,1]
[null,"USA",{"$f":"COUNTIF($S$12:$T$239,\"USA\")","v":3},0,1,2,2,6,1]
[null,"Japan",{"$f":"COUNTIF($S$12:$T$239,\"Japan\")","v":3},0,1,2,2,7,1]
[null,"Saudi-Arabien",{"$f":"COUNTIF($S$12:$T$239,\"Saudi-Arabien\")","v":3},0,1,2,2,7,1]
[null,"Trin u. Tobago",{"$f":"COUNTIF($S$12:$T$239,\"Trin u. Tobago\")","v":3},0,1,2,0,4,1]
[null,"Costa Rica",{"$f":"COUNTIF($S$12:$T$239,\"Costa Rica\")","v":3},0,0,3,3,9,0]
[null,"Serb u. Monte",{"$f":"COUNTIF($S$12:$T$239,\"Serb u. Monte\")","v":3},0,0,3,2,10,0]
[null,"Togo",{"$f":"COUNTIF($S$12:$T$239,\"Togo\")","v":3},0,0,3,1,6,0]

{"sheet":"2010","index":19,"n_rows":276,"n_cols":27,"rows_kept":276,"cut":false,"hidden":false,"merged":[[224,2,224,8],[233,2,233,8],[1,0,1,9],[3,0,3,9],[4,0,4,9]]}
[]
["19. WM 2010 in Südafrika"]
[]
["11. Juni-11. Juli 2010"]
["Teilnehmende Nationen: 32 --- Bewerbungen: 205"]
[]
[]
[]
[]
[null,null,null,null,null,"Gruppe A"]
[]
[null,null,"2010-06-11","Südafrika","Mexiko",1,1,null,"Johannesburg",null,null,null,null,null,null,null,null,null,"Südafrika","Mexiko",1,1,null,{"$f":"(IF(U12>V12,3,IF(U12=V12,1,2)))","v":1},{"$f":"(IF(V12>U12,3,IF(U12=V12,1,2)))","v":1},null,"Südafrika"]
[null,null,null,null,null,"(0","0)",null,"(Soccer City)",null,null,null,null,null,null,null,null,null,"Uruguay","Frankreich",0,0,null,1,1,null,"Mexiko"]
[null,null,"2010-06-11","Uruguay","Frankreich",0,0,null,"Kapstadt",null,null,null,null,null,null,null,null,null,"Südafrika","Uruguay",0,3,null,2,3,null,"Uruguay"]
[null,null,"2010-06-16","Südafrika","Uruguay",0,3,null,"Pretoria",null,null,null,null,null,null,null,null,null,"Frankreich","Mexiko",0,2,null,2,3,null,"Frankreich"]
[null,null,null,null,null,"(0","1)",null,null,null,null,null,null,null,null,null,null,null,"Mexiko","Uruguay",0,1,null,2,3,null,"Südkorea"]
[null,null,"2010-06-17","Frankreich","Mexiko",0,2,null,"Polokwane",null,null,null,null,null,null,null,null,null,"Frankreich","Südafrika",1,2,null,{"$f":"(IF(U17>V17,3,IF(U17=V17,1,2)))","v":2},{"$f":"(IF(V17>U17,3,IF(U17=V17,1,2)))","v":3},null,"Griechenland"]
[null,null,null,null,null,"(0","0)",null,null,null,null,null,null,null,null,null,null,null,null,null,null,null,null,null,null,null,"Argentinien"]
[null,null,"2010-06-22","Mexiko","Uruguay",0,1,null,"Rustenburg",null,null,null,null,null,null,null,null,null,null,null,null,null,null,null,null,null,"Nigeria"]
[null,null,null,null,null,"(0","1)",null,null,null,null,null,null,null,null,null,null,null,null,null,null,null,null,null,null,null,"England"]
[null,null,"2010-06-22","Frankreich","Südafrika",1,2,null,"Bloemfontein",null,null,null,null,null,null,null,null,null,null,null,null,null,null,null,null,null,"USA"]
[null,null,null,null,null,"(0","2)",null,null,null,null,null,null,null,null,null,null,null,null,null,null,null,null,null,null,null,"Algerien"]
[null,null,null,null,null,null,null,null,null,null,null,null,null,null,null,null,null,null,null,null,null,null,null,null,null,null,"Slowenien"]
[null,"Nation","Spiele","gew","unent","verl","Tore+","Tore-","Punkte",null,null,null,null,null,null,null,null,null,null,null,null,null,null,null,null,null,"Serbien"]
["Tabelle:","Südafrika",{"$f":"COUNTIF($S$12:$T$16,\"Rumänien\")","v":0},{"$f":"SUMPRODUCT(($S$12:$T$16=B25)*($X$12:$Y$16=3))","v":0},{"$f":"SUMPRODUCT(($S$12:$T$16=B25)*($X$12:$Y$16=1))","v":1},{"$f":"SUMPRODUCT(($S$12:$T$16=B25)*($X$12:$Y$16=2))","v":1},{"$f":"SUMPRODUCT(($S$12:$S$16=B25)*($U$12:$U$16))+SUMPRODUCT(($T$12:$T$16=B25)*($V$12:$V$16))","v":1},{"$f":"SUMPRODUCT(($S$12:$S$16=B25)*($V$12:$V$16))+SUMPRODUCT(($T$12:$T$16=B25)*($U$12:$U$16))","v":4},{"$f":"(D25*3)+E25","v":1},null,null,null,null,null,null,null,null,null,null,null,null,null,null,null,null,null,"Ghana"]
[null,"Mexiko",null,null,null,null,null,null,null,null,null,null,null,null,null,null,null,null,null,null,null,null,null,null,null,null,"BRD"]
[null,"Uruguay",null,null,null,null,null,null,null,null,null,null,null,null,null,null,null,null,null,null,null,null,null,null,null,null,"Australien"]
[null,"Frankreich",null,null,null,null,null,null,null,null,null,null,null,null,null,null,null,null,null,null,null,null,null,null,null,null,"Niederlande"]
[null,null,null,null,null,null,null,null,null,null,null,null,null,null,null,null,null,null,null,null,null,null,null,null,null,null,"Dänemark"]
[null,null,null,null,null,null,null,null,null,null,null,null,null,null,null,null,null,null,null,null,null,null,null,null,null,null,"Japan"]
[null,null,null,null,null,"Gruppe B",null,null,null,null,null,null,null,null,null,null,null,null,null,null,null,null,null,null,null,null,"Kamerun"]
[null,null,null,null,null,null,null,null,null,null,null,null,null,null,null,null,null,null,null,null,null,null,null,null,null,null,"Italien"]
[null,null,"2010-06-12","Südkorea","Griechenland",2,0,null,"Port Elizabeth",null,null,null,null,null,null,null,null,null,"Südkorea","Griechenland",2,0,null,{"$f":"(IF(U33>V33,3,IF(U33=V33,1,2)))","v":3},{"$f":"(IF(V33>U33,3,IF(U33=V33,1,2)))","v":2},null,"Paraguay"]
[null,null,null,null,null,"(1","0)",null,null,null,null,null,null,null,null,null,null,null,"Argentinien","Nigeria",1,0,null,3,2,null,"Neuseeland"]
[null,null,"2010-06-12","Argentinien","Nigeria",1,0,null,"Johannesburg",null,null,null,null,null,null,null,null,null,"Argentinien","Südkorea",4,1,null,3,2,null,"Slowakei"]
[null,null,null,null,null,"(1","0)",null,"(Ellis-Park)",null,null,null,null,null,null,null,null,null,"Griechenland","Nigeria",2,1,null,3,2,null,"Elfenbeinküste"]
[null,null,"2010-06-17","Argentinien","Südkorea",4,1,null,"Johannesburg",null,null,null,null,null,null,null,null,null,"Nigeria","Südkorea",2,2,null,1,1,null,"Portugal"]
[null,null,null,null,null,"(2","1)",null,"(Soccer City)",null,null,null,null,null,null,null,null,null,"Griechenland","Argentinien",0,2,null,{"$f":"(IF(U38>V38,3,IF(U38=V38,1,2)))","v":2},{"$f":"(IF(V38>U38,3,IF(U38=V38,1,2)))","v":3},null,"Brasilien"]
[null,null,"2010-06-17","Griechenland","Nigeria",2,1,null,"bloemfontein",null,null,null,null,null,null,null,null,null,null,null,null,null,null,null,null,null,"Nordkorea"]
[null,null,null,null,null,"(1","1)",null,null,null,null,null,null,null,null,null,null,null,null,null,null,null,null,null,null,null,"Honduras"]
[null,null,"2010-06-22","Nigeria","Südkorea",2,2,null,"Durban",null,null,null,null,null,null,null,null,null,null,null,null,null,null,null,null,null,"Chile"]
[null,null,null,null,null,"(1","1)",null,null,null,null,null,null,null,null,null,null,null,null,null,null,null,null,null,null,null,"Spanien"]
[null,null,"2010-06-22","Griechenland","Argentinien",0,2,null,"Polokwane",null,null,null,null,null,null,null,null,null,null,null,null,null,null,null,null,null,"Schweiz"]
[null,null,null,null,null,"(0","0)"]
[]
[null,"Nation","Spiele","gew","unent","verl","Tore+","Tore-","Punkte"]
["Tabelle:","Südkorea",3,2,1,0,6,1,7]
[null,"Griechenland"]
[null,"Argentinien"]
[null,"Nigeria"]
[]
[]
[null,null,null,null,null,"Gruppe C"]
[]
[null,null,"2010-06-12","England","USA",1,1,null,"Rustenberg",null,null,null,null,null,null,null,null,null,"England","USA",1,1,null,{"$f":"(IF(U55>V55,3,IF(U55=V55,1,2)))","v":1},{"$f":"(IF(V55>U55,3,IF(U55=V55,1,2)))","v":1}]
[null,null,null,null,null,"(1","1)",null,null,null,null,null,null,null,null,null,null,null,"Algerien","Slowenien",0,1,null,2,3]
[null,null,"2010-06-13","Algerien","Slowenien",0,1,null,"Polokwane",null,null,null,null,null,null,null,null,null,"Slowenien","USA",2,2,null,1,1]
[null,null,null,null,null,"(0","0)",null,null,null,null,null,null,null,null,null,null,null,"England","Algerien",0,0,null,1,1]
[null,null,"2010-06-18","Slowenien","USA",2,2,null,"Johannesburg",null,null,null,null,null,null,null,null,null,"USA","Algerien",1,0,null,3,2]
[null,null,null,null,null,"(2","0)",null,"(Ellis-Park)",null,null,null,null,null,null,null,null,null,"Slowenien","England",0,1,null,{"$f":"(IF(U60>V60,3,IF(U60=V60,1,2)))","v":2},{"$f":"(IF(V60>U60,3,IF(U60=V60,1,2)))","v":3}]
[null,null,"2010-06-18","England","Algerien",0,0,null,"Kapstadt"]
[null,null,"2010-06-23","USA","Algerien",1,0,null,"Pretoria"]
[null,null,null,null,null,"(0","0)"]
[null,null,"2010-06-23","Slowenien","England",0,1,null,"Port Elizabeth"]
[null,null,null,null,null,"(0","1)"]
[]
[null,"Nation","Spiele","gew","unent","verl","Tore+","Tore-","Punkte"]
["Tabelle:","England",3,2,1,0,5,3,7]
[null,"USA"]
[null,"Algerien"]
[null,"Slowenien"]
[]
[]
[null,null,null,null,null,"Gruppe D"]
[]
[null,null,"2010-06-13","Serbien","Ghana",0,1,null,"Pretoria",null,null,null,null,null,null,null,null,null,"Serbien","Ghana",0,1,null,{"$f":"(IF(U76>V76,3,IF(U76=V76,1,2)))","v":2},{"$f":"(IF(V76>U76,3,IF(U76=V76,1,2)))","v":3}]
[null,null,null,null,null,"(0","0)",null,null,null,null,null,null,null,null,null,null,null,"BRD","Australien",4,0,null,3,2]
[null,null,"2010-06-13","BRD","Australien",4,0,null,"Durban",null,null,null,null,null,null,null,null,null,"BRD","Serbien",0,1,null,2,3]
[null,null,null,null,null,"(2","0)",null,null,null,null,null,null,null,null,null,null,null,"Ghana","Australien",1,1,null,1,1]
[null,null,"2010-06-18","BRD","Serbien",0,1,null,"Port Elizabeth",null,null,null,null,null,null,null,null,null,"Australien","Serbien",2,1,null,3,2]
[null,null,null,null,null,"(0","1)",null,null,null,null,null,null,null,null,null,null,null,"Ghana","BRD",0,1,null,2,3]
[null,null,"2010-06-19","Ghana","Australien",1,1,null,"Rustenburg"]
[null,null,null,null,null,"(1","1)"]
[null,null,"2010-06-23","Australien","Serbien",2,1,null,"Nelspruit"]
[null,null,null,null,null,"(0","0)"]
[null,null,"2010-06-23","Ghana","BRD",0,1,null,"Johannesburg"]
[null,null,null,null,null,"(0","0)",null,"(Soccer City)"]
[]
[null,"Nation","Spiele","gew","unent","verl","Tore+","Tore-","Punkte"]
["Tabelle:","Serbien",3,2,0,1,6,2,6]
[null,"Ghana"]
[null,"BRD"]
[null,"Australien"]
[]
[]
[null,null,null,null,null,"Gruppe E"]
[]
[null,null,"2010-06-14","Niederlande","Dänemark",2,0,null,"Johannesburg",null,null,null,null,null,null,null,null,null,"Niederlande","Dänemark",2,0,null,{"$f":"(IF(U98>V98,3,IF(U98=V98,1,2)))","v":3},{"$f":"(IF(V98>U98,3,IF(U98=V98,1,2)))","v":2}]
[null,null,null,null,null,"(0","0)",null,"(Soccer City)",null,null,null,null,null,null,null,null,null,"Japan","Kamerun",1,0,null,3,2]
[null,null,"2010-06-14","Japan","Kamerun",1,0,null,"Bloemfontein",null,null,null,null,null,null,null,null,null,"Niederlande","Japan",1,0,null,3,2]
[null,null,null,null,null,"(1","0)",null,null,null,null,null,null,null,null,null,null,null,"Kamerun","Dänemark",1,2,null,2,3]
[null,null,"2010-06-19","Niederlande","Japan",1,0,null,"Durban",null,null,null,null,null,null,null,null,null,"Dänemark","Japan",1,3,null,{"$f":"(IF(U102>V102,3,IF(U102=V102,1,2)))","v":2},{"$f":"(IF(V102>U102,3,IF(U102=V102,1,2)))","v":3}]
[null,null,null,null,null,"(0","0)",null,null,null,null,null,null,null,null,null,null,null,"Kamerun","Niederlande",1,2,null,2,3]
[null,null,"2010-06-19","Kamerun","Dänemark",1,2,null,"Pretoria"]
[null,null,null,null,null,"(1","1)"]
[null,null,"2010-06-24","Dänemark","Japan",1,3,null,"Rustenburg"]
[null,null,null,null,null,"(0","2)"]
[null,null,"2010-06-24","Kamerun","Niederlande",1,2,null,"Kapstadt"]
[null,null,null,null,null,"(0","1)"]
[]
[null,"Nation","Spiele","gew","unent","verl","Tore+","Tore-","Punkte"]
["Tabelle:","Niederlande",3,1,1,1,3,3,4]
[null,"Dänemark"]
[null,"Japan"]
[null,"Kamerun"]
[]
[]
[null,null,null,null,null,"Gruppe F"]
[]
[null,null,"2010-06-14","Italien","Paraguay",1,1,null,"Kapstadt",null,null,null,null,null,null,null,null,null,"Italien","Paraguay",1,1,null,{"$f":"(IF(U120>V120,3,IF(U120=V120,1,2)))","v":1},{"$f":"(IF(V120>U120,3,IF(U120=V120,1,2)))","v":1}]
[null,null,null,null,null,"(0","1)",null,null,null,null,null,null,null,null,null,null,null,"Neuseeland","Slowakei",1,1,null,1,1]
[null,null,"2010-06-15","Neuseeland","Slowakei",1,1,null,"Rustenburg",null,null,null,null,null,null,null,null,null,"Slowakei","Paraguay",0,2,null,2,3]
[null,null,null,null,null,"(0","0)",null,null,null,null,null,null,null,null,null,null,null,"Italien","Neuseeland",1,1,null,{"$f":"(IF(U123>V123,3,IF(U123=V123,1,2)))","v":1},{"$f":"(IF(V123>U123,3,IF(U123=V123,1,2)))","v":1}]
[null,null,"2010-06-20","Slowakei","Paraguay",0,2,null,"Bloemfontein",null,null,null,null,null,null,null,null,null,"Slowakei","Italien",3,2,null,3,2]
[null,null,null,null,null,"(0","1)",null,null,null,null,null,null,null,null,null,null,null,"Paraguay","Neuseeland",0,0,null,1,1]
[null,null,"2010-06-20","Italien","Neuseeland",1,1,null,"Nelspruit"]
[null,null,null,null,null,"(1","1)"]
[null,null,"2010-06-24","Slowakei","Italien",3,2,null,"Johannesburg"]
[null,null,null,null,null,"(1","0)",null,"(Ellis-Park)"]
[null,null,"2010-06-24","Paraguay","Neuseeland",0,0,null,"Polokwane"]
[]
[null,"Nation","Spiele","gew","unent","verl","Tore+","Tore-","Punkte"]
["Tabelle:","Italien",3,2,0,1,4,3,6]
[null,"Paraguay"]
[null,"Neuseeland"]
[null,"Slowakei"]
[]
[]
[null,null,null,null,null,"Gruppe G"]
[]
[null,null,"2010-06-15","Elfenbeinküste","Portugal",0,0,null,"Port Elizabeth",null,null,null,null,null,null,null,null,null,"Elfenbeinküste","Portugal",0,0,null,{"$f":"(IF(U141>V141,3,IF(U141=V141,1,2)))","v":1},{"$f":"(IF(V141>U141,3,IF(U141=V141,1,2)))","v":1}]
[null,null,"2010-06-15","Brasilien","Nordkorea",2,1,null,"Johannesburg",null,null,null,null,null,null,null,null,null,"Brasilien","Nordkorea",2,1,null,{"$f":"(IF(U142>V142,3,IF(U142=V142,1,2)))","v":3},{"$f":"(IF(V142>U142,3,IF(U142=V142,1,2)))","v":2}]
[null,null,null,null,null,"(0","0)",null,"(Ellis-Park)",null,null,null,null,null,null,null,null,null,"Brasilien","Elfenbeinküste",3,1,null,3,2]
[null,null,"2010-06-20","Brasilien","Elfenbeinküste",3,1,null,"Johannesburg",null,null,null,null,null,null,null,null,null,"Portugal","Nordkorea",7,0,null,3,2]
[null,null,null,null,null,"(1","0)",null,"(Soccer City)",null,null,null,null,null,null,null,null,null,"Portugal","Brasilien",0,0,null,1,1]
[null,null,"2010-06-21","Portugal","Nordkorea",7,0,null,"Kapstadt",null,null,null,null,null,null,null,null,null,"Nordkorea","Elfenbeinküste",0,3,null,2,3]
[null,null,null,null,null,"(1","0)"]
[null,null,"2010-06-25","Portugal","Brasilien",0,0,null,"Durban"]
[null,null,"2010-06-25","Nordkorea","Elfenbeinküste",0,3,null,"Nelspruit"]
[null,null,null,null,null,"(0","2)"]
[]
[null,"Nation","Spiele","gew","unent","verl","Tore+","Tore-","Punkte"]
["Tabelle:","Elfenbeinküste",3,2,0,1,4,3,6]
[null,"Portugal"]
[null,"Brasilien"]
[null,"Nordkorea"]
[]
[]
[null,null,null,null,null,"Gruppe H"]
[]
[null,null,"2010-06-16","Honduras","Chile",0,1,null,"Nelspruit",null,null,null,null,null,null,null,null,null,"Honduras","Chile",0,1,null,{"$f":"(IF(U161>V161,3,IF(U161=V161,1,2)))","v":2},{"$f":"(IF(V161>U161,3,IF(U161=V161,1,2)))","v":3}]
[null,null,null,null,null,"(0","1)",null,null,null,null,null,null,null,null,null,null,null,"Spanien","Schweiz",0,1,null,2,3]
[null,null,"2010-06-16","Spanien","Schweiz",0,1,null,"Durban",null,null,null,null,null,null,null,null,null,"Chile","Schweiz",1,0,null,{"$f":"(IF(U163>V163,3,IF(U163=V163,1,2)))","v":3},{"$f":"(IF(V163>U163,3,IF(U163=V163,1,2)))","v":2}]
[null,null,null,null,null,"(0","0)",null,null,null,null,null,null,null,null,null,null,null,"Spanien","Honduras",2,0,null,3,2]
[null,null,"2010-06-21","Chile","Schweiz",1,0,null,"Port Elizabeth",null,null,null,null,null,null,null,null,null,"Chile","Spanien",1,2,null,2,3]
[null,null,null,null,null,"(0","0)",null,null,null,null,null,null,null,null,null,null,null,"Schweiz","Honduras",0,0,null,1,1]
[null,null,"2010-06-21","Spanien","Honduras",2,0,null,"Johannesburg"]
[null,null,null,null,null,"(1","0)",null,"(Ellis-Park)"]
[null,null,"2010-06-25","Chile","Spanien",1,2,null,"Pretoria"]
[null,null,null,null,null,"(0","2)"]
[null,null,"2010-06-25","Schweiz","Honduras",0,0,null,"Bloemfontein"]
[]
[null,"Nation","Spiele","gew","unent","verl","Tore+","Tore-","Punkte"]
["Tabelle:","Honduras",3,2,0,1,4,3,6]
[null,"Chile"]
[null,"Spanien"]
[null,"Schweiz"]
[]
[]
[null,null,null,null,null,"Achtelfinale:"]
[]
[null,null,"2010-06-26","Uruguay","Südkorea",2,1,null,"Port Elizabeth",null,null,null,null,null,null,null,null,null,"Uruguay","Südkorea",2,1,null,{"$f":"(IF(U182>V182,3,IF(U182=V182,1,2)))","v":3},{"$f":"(IF(V182>U182,3,IF(U182=V182,1,2)))","v":2}]
[null,null,null,null,null,"(1","0)",null,null,null,null,null,null,null,null,null,null,null,"USA","Ghana",1,2,"n.V.",2,3]
[null,null,"2010-06-26","USA","Ghana",1,2,"n.V.","Rustenburg",null,null,null,null,null,null,null,null,null,"BRD","England",4,1,null,3,2]
[null,null,null,null,null,1,1,null,null,null,null,null,null,null,null,null,null,null,"Argentinien","Mexiko",3,1,null,{"$f":"(IF(U185>V185,3,IF(U185=V185,1,2)))","v":3},{"$f":"(IF(V185>U185,3,IF(U185=V185,1,2)))","v":2}]
[null,null,null,null,null,"(0","1)",null,null,null,null,null,null,null,null,null,null,null,"Niederlande","Slowakei",2,1,null,{"$f":"(IF(U186>V186,3,IF(U186=V186,1,2)))","v":3},{"$f":"(IF(V186>U186,3,IF(U186=V186,1,2)))","v":2}]
[null,null,"2010-06-27","BRD","England",4,1,null,"Bloemfontein",null,null,null,null,null,null,null,null,null,"Brasilien","Chile",3,0,null,3,2]
[null,null,null,null,null,"(2","1)",null,null,null,null,null,null,null,null,null,null,null,"Paraguay","Japan",5,3,"n.E.",3,2]
[null,null,"2010-06-27","Argentinien","Mexiko",3,1,null,"Johannesburg",null,null,null,null,null,null,null,null,null,"Spanien","Portugal",1,0,null,3,2]
[null,null,null,null,null,"(2","0)",null,"(Soccer City)"]
[null,null,"2010-06-28","Niederlande","Slowakei",2,1,null,"Durban"]
[null,null,null,null,null,"(1","0)"]
[null,null,"2010-06-28","Brasilien","Chile",3,0,null,"Johannesburg"]
[null,null,null,null,null,"(2","0)",null,"(Ellis-Park)"]
[null,null,"2010-06-29","Paraguay","Japan",5,3,"n.E.","Pretoria"]
[null,null,null,null,null,0,0,"n.V."]
[null,null,null,null,null,0,0]
[null,null,null,null,null,"(0","0)"]
[null,null,"2010-06-29","Spanien","Portugal",1,0,null,"Kapstadt"]
[null,null,null,null,null,"(1","1)"]
[]
[]
[null,null,null,null,null,"Viertelfinale:"]
[]
[null,null,"2010-07-02","Niederlande","Brasilien",2,1,null,"Port Elizabeth",null,null,null,null,null,null,null,null,null,"Niederlande","Brasilien",2,1,null,{"$f":"(IF(U205>V205,3,IF(U205=V205,1,2)))","v":3},{"$f":"(IF(V205>U205,3,IF(U205=V205,1,2)))","v":2}]
[null,null,null,null,null,"(0","1)",null,null,null,null,null,null,null,null,null,null,null,"Uruguay","Ghana",4,2,null,3,2]
[null,null,"2010-07-02","Uruguay","Ghana",4,2,"n.E.","Johannesburg",null,null,null,null,null,null,null,null,null,"Argentinien","BRD",0,4,null,2,3]
[null,null,null,null,null,1,1,"n.V.","(Soccer City)",null,null,null,null,null,null,null,null,null,"Paraguay","Spanien",0,1,null,2,3]
[null,null,null,null,null,1,1]
[null,null,null,null,null,"(0","1)"]
[null,null,"2010-07-03","Argentinien","BRD",0,4,null,"Kapstadt"]
[null,null,null,null,null,"(0","1)"]
[null,null,"2010-07-03","Paraguay","Spanien",0,1,null,"Johannesburg"]
[null,null,null,null,null,"(0","0)",null,"(Ellis-Park)"]
[]
[]
[null,null,null,null,null,"Halbfinale:"]
[]
[null,null,"2010-07-06","Uruguay","Niederlande",2,3,null,"Kapstadt",null,null,null,null,null,null,null,null,null,"Uruguay","Niederlande",2,3,null,{"$f":"(IF(U219>V219,3,IF(U219=V219,1,2)))","v":2},{"$f":"(IF(V219>U219,3,IF(U219=V219,1,2)))","v":3}]
[null,null,null,null,null,"(1","1)",null,null,null,null,null,null,null,null,null,null,null,"BRD","Spanien",0,1,null,2,3]
[null,null,"2010-07-07","BRD","Spanien",0,1,null,"Durban"]
[null,null,null,null,null,"(0","0)"]
[]
[]
[null,null,"Spiel um Platz 3 am 10. Juli 2010 in Port Elizabeth"]
[]
[null,null,null,"Uruguay","BRD",2,3,null,null,null,null,null,null,null,null,null,null,null,"Uruguay","BRD",2,3,null,{"$f":"(IF(U227>V227,3,IF(U227=V227,1,2)))","v":2},{"$f":"(IF(V227>U227,3,IF(U227=V227,1,2)))","v":3}]
[null,null,null,null,null,"(1","1)"]
[]
[]
[]
[]
[]
[null,null,"Endspiel am 11. Juli 2010 in Johannesburg (Soccer City)"]
[]
[null,null,null,"Niederlande","Spanien",0,1,"n.V.",null,null,null,null,null,null,null,null,null,null,"Niederlande","Spanien",0,1,"n.V.",{"$f":"(IF(U236>V236,3,IF(U236=V236,1,2)))","v":2},{"$f":"(IF(V236>U236,3,IF(U236=V236,1,2)))","v":3}]
[null,null,null,null,null,0,0]
[null,null,null,null,null,"(0","0)"]
[]
[]
[]
[]
[]
["Auswertung","Nation","Spiele","gew","unent","verl","Tore+","Tore-","Punkte"]
[null,"Niederlande",{"$f":"COUNTIF($S$12:$T$236,\"Niederlande\")","v":7},{"$f":"SUMPRODUCT(($S$12:$T$236=B245)*($X$12:$Y$236=3))","v":6},{"$f":"SUMPRODUCT(($S$12:$T$236=B245)*($X$12:$Y$236=1))","v":0},{"$f":"SUMPRODUCT(($S$12:$T$236=B245)*($X$12:$Y$236=2))","v":1},{"$f":"SUMPRODUCT(($S$12:$S$236=B245)*($U$12:$U$236))+SUMPRODUCT(($T$12:$T$236=B245)*($V$12:$V$236))","v":12},{"$f":"SUMPRODUCT(($S$12:$S$236=B245)*($V$12:$V$236))+SUMPRODUCT(($T$12:$T$236=B245)*($U$12:$U$236))","v":6},{"$f":"(D245*3)+E245","v":18}]
[null,"Spanien",{"$f":"COUNTIF($S$12:$T$236,\"Spanien\")","v":7},6,0,1,8,2,18]
[null,"BRD",{"$f":"COUNTIF($S$12:$T$236,\"BRD\")","v":7},5,0,2,16,5,15]
[null,"Uruguay",{"$f":"COUNTIF($S$12:$T$236,\"Uruguay\")","v":7},4,1,2,14,9,13]
[null,"Argentinien",{"$f":"COUNTIF($S$12:$T$236,\"Argentinien\")","v":5},4,0,1,10,6,12]
[null,"Brasilien",{"$f":"COUNTIF($S$12:$T$236,\"Brasilien\")","v":5},3,1,1,9,4,10]
[null,"Paraguay",{"$f":"COUNTIF($S$12:$T$236,\"Paraguay\")","v":5},2,2,1,8,5,8]
[null,"Ghana",{"$f":"COUNTIF($S$12:$T$236,\"Ghana\")","v":5},2,1,2,6,7,7]
[null,"Japan",{"$f":"COUNTIF($S$12:$T$236,\"Japan\")","v":4},2,0,2,7,7,6]
[null,"Chile",{"$f":"COUNTIF($S$12:$T$236,\"Chile\")","v":4},2,0,2,3,5,6]
[null,"Portugal",{"$f":"COUNTIF($S$12:$T$236,\"Portugal\")","v":4},1,2,1,7,1,5]
[null,"USA",{"$f":"COUNTIF($S$12:$T$236,\"USA\")","v":4},1,2,1,5,5,5]
[null,"England",{"$f":"COUNTIF($S$12:$T$236,\"England\")","v":4},1,2,1,3,5,5]
[null,"Südkorea",{"$f":"COUNTIF($S$12:$T$236,\"Südkorea\")","v":4},1,1,2,6,8,4]
[null,"Slowakei",{"$f":"COUNTIF($S$12:$T$236,\"Slowakei\")","v":4},1,1,2,5,7,4]
[null,"Elfenbeinküste",{"$f":"COUNTIF($S$12:$T$236,\"Elfenbeinküste\")","v":3},1,1,1,4,3,4]
[null,"Mexiko",{"$f":"COUNTIF($S$12:$T$236,\"Mexiko\")","v":4},1,1,2,4,5,4]
[null,"Slowenien",{"$f":"COUNTIF($S$12:$T$236,\"Slowenien\")","v":3},1,1,1,3,3,4]
[null,"Südafrika",{"$f":"COUNTIF($S$12:$T$236,\"Südafrika\")","v":3},1,1,1,3,5,4]
[null,"Australien",{"$f":"COUNTIF($S$12:$T$236,\"Australien\")","v":3},1,1,1,3,6,4]
[null,"Schweiz",{"$f":"COUNTIF($S$12:$T$236,\"Schweiz\")","v":3},1,1,1,1,1,4]
[null,"Dänemark",{"$f":"COUNTIF($S$12:$T$236,\"Dänemark\")","v":3},1,0,2,3,6,3]
[null,"Neuseeland",{"$f":"COUNTIF($S$12:$T$236,\"Neuseeland\")","v":3},0,3,0,2,2,3]
[null,"Serbien",{"$f":"COUNTIF($S$12:$T$236,\"Serbien\")","v":3},1,0,2,2,3,3]
[null,"Griechenland",{"$f":"COUNTIF($S$12:$T$236,\"Griechenland\")","v":3},1,0,2,2,5,3]
[null,"Italien",{"$f":"COUNTIF($S$12:$T$236,\"Italien\")","v":3},0,2,1,4,5,2]
[null,"Nigeria",{"$f":"COUNTIF($S$12:$T$236,\"Nigeria\")","v":3},0,1,2,3,5,1]
[null,"Frankreich",{"$f":"COUNTIF($S$12:$T$236,\"Frankreich\")","v":3},0,1,2,1,4,1]
[null,"Algerien",{"$f":"COUNTIF($S$12:$T$236,\"Algerien\")","v":3},0,1,2,0,2,1]
[null,"Honduras",{"$f":"COUNTIF($S$12:$T$236,\"Honduras\")","v":3},0,1,2,0,3,1]
[null,"Kamerun",{"$f":"COUNTIF($S$12:$T$236,\"Kamerun\")","v":3},0,0,3,2,5,0]
[null,"Nordkorea",{"$f":"COUNTIF($S$12:$T$236,\"Nordkorea\")","v":3},0,0,3,1,12,0]

{"sheet":"2014","index":20,"n_rows":283,"n_cols":27,"rows_kept":283,"cut":false,"hidden":false,"merged":[[231,2,231,8],[240,2,240,8],[1,0,1,9],[3,0,3,9],[4,0,4,9]]}
[]
["20. WM 2014 in Brasilien"]
[]
["12. Juni-13. Juli 2014"]
["Teilnehmende Nationen: 32 --- Bewerbungen: 204"]
[]
[]
[]
[]
[null,null,null,null,null,"Gruppe A"]
[]
[null,null,"2014-06-12","Brasilien","Kroatien",3,1,null,"São Paulo",null,null,null,null,null,null,null,null,null,"Brasilien","Kroatien",3,1,null,{"$f":"(IF(U12>V12,3,IF(U12=V12,1,2)))","v":3},{"$f":"(IF(V12>U12,3,IF(U12=V12,1,2)))","v":2},null,"Brasilien"]
[null,null,null,null,null,"(1","1)",null,null,null,null,null,null,null,null,null,null,null,"Mexiko","Kamerun",1,0,null,3,2,null,"Kroatien"]
[null,null,"2014-06-13","Mexiko","Kamerun",1,0,null,"Natal",null,null,null,null,null,null,null,null,null,"Brasilien","Mexiko",0,0,null,1,1,null,"Mexiko"]
[null,null,null,null,null,"(0","0)",null,null,null,null,null,null,null,null,null,null,null,"Kamerun","Kroatien",0,4,null,2,3,null,"Kamerun"]
[null,null,"2014-06-17","Brasilien","Mexiko",0,0,null,"Fortaleza",null,null,null,null,null,null,null,null,null,"Kamerun","Brasilien",1,4,null,2,3,null,"Spanien"]
[null,null,"2014-06-18","Kamerun","Kroatien",0,4,null,"Manaus",null,null,null,null,null,null,null,null,null,"Kroatien","Mexiko",1,3,null,{"$f":"(IF(U17>V17,3,IF(U17=V17,1,2)))","v":2},{"$f":"(IF(V17>U17,3,IF(U17=V17,1,2)))","v":3},null,"Niederlande"]
[null,null,null,null,null,"(0","1)",null,null,null,null,null,null,null,null,null,null,null,null,null,null,null,null,null,null,null,"Chile"]
[null,null,"2014-06-23","Kamerun","Brasilien",1,4,null,"Brasilia",null,null,null,null,null,null,null,null,null,null,null,null,null,null,null,null,null,"Australien"]
[null,null,null,null,null,"(1","2)",null,"(Estàdio Nacional)",null,null,null,null,null,null,null,null,null,null,null,null,null,null,null,null,null,"Kolumbien"]
[null,null,"2014-06-23","Kroatien","Mexiko",1,3,null,"Recife",null,null,null,null,null,null,null,null,null,null,null,null,null,null,null,null,null,"Griechenland"]
[null,null,null,null,null,"(0","0)",null,null,null,null,null,null,null,null,null,null,null,null,null,null,null,null,null,null,null,"Elfenbeinküste"]
[null,null,null,null,null,null,null,null,null,null,null,null,null,null,null,null,null,null,null,null,null,null,null,null,null,null,"Japan"]
[null,"Nation","Spiele","gew","unent","verl","Tore+","Tore-","Punkte",null,null,null,null,null,null,null,null,null,null,null,null,null,null,null,null,null,"Uruguay"]
["Tabelle:","Brasilien",{"$f":"COUNTIF($S$12:$T$16,\"Rumänien\")","v":0},{"$f":"SUMPRODUCT(($S$12:$T$16=B25)*($X$12:$Y$16=3))","v":2},{"$f":"SUMPRODUCT(($S$12:$T$16=B25)*($X$12:$Y$16=1))","v":1},{"$f":"SUMPRODUCT(($S$12:$T$16=B25)*($X$12:$Y$16=2))","v":0},{"$f":"SUMPRODUCT(($S$12:$S$16=B25)*($U$12:$U$16))+SUMPRODUCT(($T$12:$T$16=B25)*($V$12:$V$16))","v":7},{"$f":"SUMPRODUCT(($S$12:$S$16=B25)*($V$12:$V$16))+SUMPRODUCT(($T$12:$T$16=B25)*($U$12:$U$16))","v":2},{"$f":"(D25*3)+E25","v":7},null,null,null,null,null,null,null,null,null,null,null,null,null,null,null,null,null,"Costa Rica"]
[null,"Kroatien",null,null,null,null,null,null,null,null,null,null,null,null,null,null,null,null,null,null,null,null,null,null,null,null,"England"]
[null,"Mexiko",null,null,null,null,null,null,null,null,null,null,null,null,null,null,null,null,null,null,null,null,null,null,null,null,"Italien"]
[null,"Kamerun",null,null,null,null,null,null,null,null,null,null,null,null,null,null,null,null,null,null,null,null,null,null,null,null,"Schweiz"]
[null,null,null,null,null,null,null,null,null,null,null,null,null,null,null,null,null,null,null,null,null,null,null,null,null,null,"Ecuador"]
[null,null,null,null,null,null,null,null,null,null,null,null,null,null,null,null,null,null,null,null,null,null,null,null,null,null,"Frankreich"]
[null,null,null,null,null,"Gruppe B",null,null,null,null,null,null,null,null,null,null,null,null,null,null,null,null,null,null,null,null,"Honduras"]
[null,null,null,null,null,null,null,null,null,null,null,null,null,null,null,null,null,null,null,null,null,null,null,null,null,null,"Argentinien"]
[null,null,"2014-06-13","Spanien","Niederlande",1,5,null,"Salvador",null,null,null,null,null,null,null,null,null,"Spanien","Niederlande",1,5,null,{"$f":"(IF(U33>V33,3,IF(U33=V33,1,2)))","v":2},{"$f":"(IF(V33>U33,3,IF(U33=V33,1,2)))","v":3},null,"Bos u. Herz"]
[null,null,null,null,null,"(1","1)",null,null,null,null,null,null,null,null,null,null,null,"Chile","Australien",3,1,null,3,2,null,"Iran"]
[null,null,"2014-06-13","Chile","Australien",3,1,null,"Cuiabá",null,null,null,null,null,null,null,null,null,"Australien","Niederlande",2,3,null,2,3,null,"Nigeria"]
[null,null,null,null,null,"(2","1)",null,null,null,null,null,null,null,null,null,null,null,"Spanien","Chile",0,2,null,2,3,null,"BRD"]
[null,null,"2014-06-18","Australien","Niederlande",2,3,null,"Porto Alegre",null,null,null,null,null,null,null,null,null,"Australien","Spanien",0,3,null,2,3,null,"Portugal"]
[null,null,null,null,null,"(1","1)",null,null,null,null,null,null,null,null,null,null,null,"Niederlande","Chile",2,0,null,{"$f":"(IF(U38>V38,3,IF(U38=V38,1,2)))","v":3},{"$f":"(IF(V38>U38,3,IF(U38=V38,1,2)))","v":2},null,"Ghana"]
[null,null,"2014-06-18","Spanien","Chile",0,2,null,"Rio de Janeiro",null,null,null,null,null,null,null,null,null,null,null,null,null,null,null,null,null,"USA"]
[null,null,null,null,null,"(0","2)",null,null,null,null,null,null,null,null,null,null,null,null,null,null,null,null,null,null,null,"Belgien"]
[null,null,"2014-06-23","Australien","Spanien",0,3,null,"Curitiba",null,null,null,null,null,null,null,null,null,null,null,null,null,null,null,null,null,"Algerien"]
[null,null,null,null,null,"(0","1)",null,null,null,null,null,null,null,null,null,null,null,null,null,null,null,null,null,null,null,"Russland"]
[null,null,"2014-06-23","Niederlande","Chile",2,0,null,"São Paulo",null,null,null,null,null,null,null,null,null,null,null,null,null,null,null,null,null,"Südkorea"]
[null,null,null,null,null,"(0","0)"]
[]
[null,"Nation","Spiele","gew","unent","verl","Tore+","Tore-","Punkte"]
["Tabelle:","Spanien",3,2,1,0,6,1,7]
[null,"Niederlande"]
[null,"Chile"]
[null,"Australien"]
[]
[]
[null,null,null,null,null,"Gruppe C"]
[]
[null,null,"2014-06-14","Kolumbien","Griechenland",3,0,null,"Belo Horizonte",null,null,null,null,null,null,null,null,null,"Kolumbien","Griechenland",3,0,null,{"$f":"(IF(U55>V55,3,IF(U55=V55,1,2)))","v":3},{"$f":"(IF(V55>U55,3,IF(U55=V55,1,2)))","v":2}]
[null,null,null,null,null,"(1","0)",null,null,null,null,null,null,null,null,null,null,null,"Elfenbeinküste","Japan",2,1,null,3,2]
[null,null,"2014-06-14","Elfenbeinküste","Japan",2,1,null,"Recife",null,null,null,null,null,null,null,null,null,"Kolumbien","Elfenbeinküste",2,1,null,3,2]
[null,null,null,null,null,"(0","1)",null,null,null,null,null,null,null,null,null,null,null,"Japan","Griechenland",0,0,null,1,1]
[null,null,"2014-06-19","Kolumbien","Elfenbeinküste",2,1,null,"Brasilia",null,null,null,null,null,null,null,null,null,"Japan","Kolumbien",1,4,null,2,3]
[null,null,null,null,null,"(0","1)",null,null,null,null,null,null,null,null,null,null,null,"Griechenland","Elfenbeinküste",2,1,null,{"$f":"(IF(U60>V60,3,IF(U60=V60,1,2)))","v":3},{"$f":"(IF(V60>U60,3,IF(U60=V60,1,2)))","v":2}]
[null,null,"2014-06-19","Japan","Griechenland",0,0,null,"Natal"]
[null,null,"2014-06-24","Japan","Kolumbien",1,4,null,"Cuiabá"]
[null,null,null,null,null,"(1","1)"]
[null,null,"2014-06-24","Griechenland","Elfenbeinküste",2,1,null,"Fortaleza"]
[null,null,null,null,null,"(1","0)"]
[]
[null,"Nation","Spiele","gew","unent","verl","Tore+","Tore-","Punkte"]
["Tabelle:","Kolumbien",3,2,1,0,5,3,7]
[null,"Griechenland"]
[null,"Elfenbeinküste"]
[null,"Japan"]
[]
[]
[null,null,null,null,null,"Gruppe D"]
[]
[null,null,"2014-06-14","Uruguay","Costa Rica",1,3,null,"Fortaleza",null,null,null,null,null,null,null,null,null,"Uruguay","Costa Rica",1,3,null,{"$f":"(IF(U76>V76,3,IF(U76=V76,1,2)))","v":2},{"$f":"(IF(V76>U76,3,IF(U76=V76,1,2)))","v":3}]
[null,null,null,null,null,"(1","0)",null,null,null,null,null,null,null,null,null,null,null,"England","Italien",1,2,null,2,3]
[null,null,"2014-06-14","England","Italien",1,2,null,"Manaus",null,null,null,null,null,null,null,null,null,"Uruguay","England",2,1,null,3,2]
[null,null,null,null,null,"(1","1)",null,null,null,null,null,null,null,null,null,null,null,"Italien","Costa Rica",0,1,null,2,3]
[null,null,"2014-06-19","Uruguay","England",2,1,null,"São Paulo",null,null,null,null,null,null,null,null,null,"Italien","Uruguay",0,1,null,2,3]
[null,null,null,null,null,"(1","0)",null,null,null,null,null,null,null,null,null,null,null,"Costa Rica","England",0,0,null,1,1]
[null,null,"2014-06-20","Italien","Costa Rica",0,1,null,"Recife"]
[null,null,null,null,null,"(0","1)"]
[null,null,"2014-06-24","Italien","Uruguay",0,1,null,"Natal"]
[null,null,null,null,null,"(0","0)"]
[null,null,"2014-06-24","Costa Rica","England",0,0,null,"Belo Horizonte"]
[]
[null,"Nation","Spiele","gew","unent","verl","Tore+","Tore-","Punkte"]
["Tabelle:","Uruguay",3,2,0,1,6,2,6]
[null,"Costa Rica"]
[null,"England"]
[null,"Italien"]
[]
[]
[null,null,null,null,null,"Gruppe E"]
[]
[null,null,"2014-06-15","Schweiz","Ecuador",2,1,null,"Brasilia",null,null,null,null,null,null,null,null,null,"Schweiz","Ecuador",2,1,null,{"$f":"(IF(U97>V97,3,IF(U97=V97,1,2)))","v":3},{"$f":"(IF(V97>U97,3,IF(U97=V97,1,2)))","v":2}]
[null,null,null,null,null,"(0","1)",null,null,null,null,null,null,null,null,null,null,null,"Frankreich","Honduras",3,0,null,3,2]
[null,null,"2014-06-15","Frankreich","Honduras",3,0,null,"Porto Alegre",null,null,null,null,null,null,null,null,null,"Schweiz","Frankreich",2,5,null,2,3]
[null,null,null,null,null,"(1","0)",null,null,null,null,null,null,null,null,null,null,null,"Honduras","Ecuador",1,2,null,2,3]
[null,null,"2014-06-20","Schweiz","Frankreich",2,5,null,"Salvador",null,null,null,null,null,null,null,null,null,"Honduras","Schweiz",0,3,null,{"$f":"(IF(U101>V101,3,IF(U101=V101,1,2)))","v":2},{"$f":"(IF(V101>U101,3,IF(U101=V101,1,2)))","v":3}]
[null,null,null,null,null,"(0","3)",null,null,null,null,null,null,null,null,null,null,null,"Ecuador","Frankreich",0,0,null,1,1]
[null,null,"2014-06-20","Honduras","Ecuador",1,2,null,"Curitiba"]
[null,null,null,null,null,"(1","1)"]
[null,null,"2014-06-25","Honduras","Schweiz",0,3,null,"Manaus"]
[null,null,null,null,null,"(0","2)"]
[null,null,"2014-06-25","Ecuador","Frankreich",0,0,null,"Rio de Janeiro"]
[]
[null,"Nation","Spiele","gew","unent","verl","Tore+","Tore-","Punkte"]
["Tabelle:","Schweiz",3,1,1,1,3,3,4]
[null,"Ecuador"]
[null,"Frankreich"]
[null,"Honduras"]
[]
[]
[null,null,null,null,null,"Gruppe F"]
[]
[null,null,"2014-06-15","Argentinien","Bos u. Herz",2,1,null,"Rio de Janeiro",null,null,null,null,null,null,null,null,null,"Argentinien","Bos u. Herz",2,1,null,{"$f":"(IF(U118>V118,3,IF(U118=V118,1,2)))","v":3},{"$f":"(IF(V118>U118,3,IF(U118=V118,1,2)))","v":2}]
[null,null,null,null,null,"(1","0)",null,null,null,null,null,null,null,null,null,null,null,"Iran","Nigeria",0,0,null,1,1]
[null,null,"2014-06-16","Iran","Nigeria",0,0,null,"Curitiba",null,null,null,null,null,null,null,null,null,"Argentinien","Iran",1,0,null,3,2]
[null,null,"2014-06-21","Argentinien","Iran",1,0,null,"Belo Horizonte",null,null,null,null,null,null,null,null,null,"Nigeria","Bos u. Herz",1,0,null,{"$f":"(IF(U121>V121,3,IF(U121=V121,1,2)))","v":3},{"$f":"(IF(V121>U121,3,IF(U121=V121,1,2)))","v":2}]
[null,null,null,null,null,"(0","0)",null,null,null,null,null,null,null,null,null,null,null,"Nigeria","Argentinien",2,3,null,2,3]
[null,null,"2014-06-21","Nigeria","Bos u. Herz",1,0,null,"Cuiabá",null,null,null,null,null,null,null,null,null,"Bos u. Herz","Iran",3,1,null,3,2]
[null,null,null,null,null,"(1","0)"]
[null,null,"2014-06-25","Nigeria","Argentinien",2,3,null,"Porto Alegre"]
[null,null,null,null,null,"(1","2)"]
[null,null,"2014-06-25","Bos u. Herz","Iran",3,1,null,"Salvador"]
[null,null,null,null,null,"(1","0)"]
[]
[null,"Nation","Spiele","gew","unent","verl","Tore+","Tore-","Punkte"]
["Tabelle:","Argentinien",3,2,0,1,4,3,6]
[null,"Bos u. Herz"]
[null,"Iran"]
[null,"Nigeria"]
[]
[]
[null,null,null,null,null,"Gruppe G"]
[]
[null,null,"2014-06-16","BRD","Portugal",4,0,null,"Salvador",null,null,null,null,null,null,null,null,null,"BRD","Portugal",4,0,null,{"$f":"(IF(U139>V139,3,IF(U139=V139,1,2)))","v":3},{"$f":"(IF(V139>U139,3,IF(U139=V139,1,2)))","v":2}]
[null,null,null,null,null,"(3","0)",null,null,null,null,null,null,null,null,null,null,null,"Ghana","USA",1,2,null,2,3]
[null,null,"2014-06-16","Ghana","USA",1,2,null,"Natal",null,null,null,null,null,null,null,null,null,"BRD","Ghana",2,2,null,{"$f":"(IF(U141>V141,3,IF(U141=V141,1,2)))","v":1},{"$f":"(IF(V141>U141,3,IF(U141=V141,1,2)))","v":1}]
[null,null,null,null,null,"(0","1)",null,null,null,null,null,null,null,null,null,null,null,"USA","Portugal",2,2,null,1,1]
[null,null,"2014-06-21","BRD","Ghana",2,2,null,"Fortaleza",null,null,null,null,null,null,null,null,null,"USA","BRD",0,1,null,2,3]
[null,null,null,null,null,"(0","0)",null,null,null,null,null,null,null,null,null,null,null,"Portugal","Ghana",2,1,null,3,2]
[null,null,"2014-06-22","USA","Portugal",2,2,null,"Manaus"]
[null,null,null,null,null,"(0","1)"]
[null,null,"2014-06-26","USA","BRD",0,1,null,"Recife"]
[null,null,null,null,null,"(0","0)"]
[null,null,"2014-06-26","Portugal","Ghana",2,1,null,"Brasilia"]
[null,null,null,null,null,"(1","0)",null,"(Estàdio Nacional)"]
[]
[null,"Nation","Spiele","gew","unent","verl","Tore+","Tore-","Punkte"]
["Tabelle:","BRD",3,2,0,1,4,3,6]
[null,"Portugal"]
[null,"Ghana"]
[null,"USA"]
[]
[]
[null,null,null,null,null,"Gruppe H"]
[]
[null,null,"2014-06-17","Belgien","Algerien",2,1,null,"Belo Horizonte",null,null,null,null,null,null,null,null,null,"Belgien","Algerien",2,1,null,{"$f":"(IF(U161>V161,3,IF(U161=V161,1,2)))","v":3},{"$f":"(IF(V161>U161,3,IF(U161=V161,1,2)))","v":2}]
[null,null,null,null,null,"(0","1)",null,null,null,null,null,null,null,null,null,null,null,"Russland","Südkorea",1,1,null,1,1]
[null,null,"2014-06-17","Russland","Südkorea",1,1,null,"Cuiabá",null,null,null,null,null,null,null,null,null,"Belgien","Russland",1,0,null,{"$f":"(IF(U163>V163,3,IF(U163=V163,1,2)))","v":3},{"$f":"(IF(V163>U163,3,IF(U163=V163,1,2)))","v":2}]
[null,null,null,null,null,"(0","0)",null,null,null,null,null,null,null,null,null,null,null,"Südkorea","Algerien",2,4,null,2,3]
[null,null,"2014-06-22","Belgien","Russland",1,0,null,"Rio de Janeiro",null,null,null,null,null,null,null,null,null,"Südkorea","Belgien",0,1,null,2,3]
[null,null,null,null,null,"(0","0)",null,null,null,null,null,null,null,null,null,null,null,"Algerien","Russland",1,1,null,1,1]
[null,null,"2014-06-22","Südkorea","Algerien",2,4,null,"Porto Alegre"]
[null,null,null,null,null,"(0","3)"]
[null,null,"2014-06-26","Südkorea","Belgien",0,1,null,"São Paulo"]
[null,null,null,null,null,"(0","0)"]
[null,null,"2014-06-26","Algerien","Russland",1,1,null,"Curitiba"]
[null,null,null,null,null,"(0","1)"]
[]
[null,"Nation","Spiele","gew","unent","verl","Tore+","Tore-","Punkte"]
["Tabelle:","Belgien",3,2,0,1,4,3,6]
[null,"Algerien"]
[null,"Russland"]
[null,"Südkorea"]
[]
[]
[null,null,null,null,null,"Achtelfinale"]
[]
[null,null,"2014-06-28","Brasilien","Chile",3,2,"n.E.","Belo Horizonte",null,null,null,null,null,null,null,null,null,"Brasilien","Chile",4,3,"n.E.",{"$f":"(IF(U183>V183,3,IF(U183=V183,1,2)))","v":3},{"$f":"(IF(V183>U183,3,IF(U183=V183,1,2)))","v":2}]
[null,null,null,null,null,1,1,"n.V.",null,null,null,null,null,null,null,null,null,null,"Kolumbien","Uruguay",2,0,null,{"$f":"(IF(U184>V184,3,IF(U184=V184,1,2)))","v":3},{"$f":"(IF(V184>U184,3,IF(U184=V184,1,2)))","v":2}]
[null,null,null,null,null,1,1,null,null,null,null,null,null,null,null,null,null,null,"Niederlande","Mexiko",2,1,null,3,2]
[null,null,null,null,null,"(1","1)",null,null,null,null,null,null,null,null,null,null,null,"Costa Rica","Griechenland",6,4,"n.E.",3,2]
[null,null,"2014-06-28","Kolumbien","Uruguay",2,0,null,"Rio de Janeiro",null,null,null,null,null,null,null,null,null,"Frankreich","Nigeria",2,0,null,3,2]
[null,null,null,null,null,"(1","0)",null,null,null,null,null,null,null,null,null,null,null,"BRD","Algerien",2,1,"n.V.",3,2]
[null,null,"2014-06-29","Niederlande","Mexiko",2,1,null,"Fortaleza",null,null,null,null,null,null,null,null,null,"Argentinien","Schweiz",1,0,"n.V.",3,2]
[null,null,null,null,null,"(0","0)",null,null,null,null,null,null,null,null,null,null,null,"Belgien","USA",2,1,"n.V.",3,2]
[null,null,"2014-06-29","Costa Rica","Griechenland",5,3,"n.E.","Recife"]
[null,null,null,null,null,1,1,"n.V."]
[null,null,null,null,null,1,1]
[null,null,null,null,null,"(0","0)"]
[null,null,"2014-06-30","Frankreich","Nigeria",2,0,null,"Brasilia"]
[null,null,null,null,null,"(0","0)"]
[null,null,"2014-06-30","BRD","Algerien",2,1,"n.V.","Porto Alegre"]
[null,null,null,null,null,0,0]
[null,null,null,null,null,"(0","0)"]
[null,null,"2014-07-01","Argentinien","Schweiz",1,0,"n.V.","São Paulo"]
[null,null,null,null,null,0,0]
[null,null,null,null,null,"(0","0)"]
[null,null,"2014-07-01","Belgien","USA",2,1,"n.V.","Salvador"]
[null,null,null,null,null,0,0]
[null,null,null,null,null,"(0","0)"]
[]
[]
[null,null,null,null,null,"Viertelfinale"]
[]
[null,null,"2014-07-04","Frankreich","BRD",0,1,null,"Rio de Janeiro",null,null,null,null,null,null,null,null,null,"Frankreich","BRD",0,1,null,{"$f":"(IF(U210>V210,3,IF(U210=V210,1,2)))","v":2},{"$f":"(IF(V210>U210,3,IF(U210=V210,1,2)))","v":3}]
[null,null,null,null,null,"(0","1)",null,null,null,null,null,null,null,null,null,null,null,"Brasilien","Kolumbien",2,1,null,3,2]
[null,null,"2014-07-04","Brasilien","Kolumbien",2,1,null,"Fortaleza",null,null,null,null,null,null,null,null,null,"Argentinien","Belgien",1,0,null,3,2]
[null,null,null,null,null,"(1","0)",null,null,null,null,null,null,null,null,null,null,null,"Niederlande","Costa Rica",4,3,"n.E.",3,2]
[null,null,"2014-07-05","Argentinien","Belgien",1,0,null,"Brasilia"]
[null,null,null,null,null,"(1","0)"]
[null,null,"2014-07-05","Niederlande","Costa Rica",4,3,"n.E.","Salvador"]
[null,null,null,null,null,0,0,"n.V."]
[null,null,null,null,null,0,0]
[null,null,null,null,null,"(0","0)"]
[]
[]
[null,null,null,null,null,"Halbfinale"]
[]
[null,null,"2014-07-08","Brasilien","BRD",1,7,null,"Belo Horizonte",null,null,null,null,null,null,null,null,null,"Brasilien","BRD",1,7,null,{"$f":"(IF(U224>V224,3,IF(U224=V224,1,2)))","v":2},{"$f":"(IF(V224>U224,3,IF(U224=V224,1,2)))","v":3}]
[null,null,null,null,null,"(0","5)",null,null,null,null,null,null,null,null,null,null,null,"Niederlande","Argentinien",2,4,"n.E.",2,3]
[null,null,"2014-07-09","Niederlande","Argentinien",2,4,"n.E.","São Paulo"]
[null,null,null,null,null,0,0]
[null,null,null,null,null,0,0]
[null,null,null,null,null,"(0","0)"]
[]
[]
[null,null,"Spiel um Platz 3 am 12. Juli 2014 in Brasilia"]
[]
[null,null,null,"Brasilien","Niederlande",0,3,null,null,null,null,null,null,null,null,null,null,null,"Brasilien","Niederlande",0,3,null,{"$f":"(IF(U234>V234,3,IF(U234=V234,1,2)))","v":2},{"$f":"(IF(V234>U234,3,IF(U234=V234,1,2)))","v":3}]
[null,null,null,null,null,"(0","2)"]
[]
[]
[]
[]
[]
[null,null,"Endspiel am 13. Juli 2014 in Rio de Janeiro"]
[]
[null,null,null,"BRD","Argentinien",1,0,"n.V.",null,null,null,null,null,null,null,null,null,null,"BRD","Argentinien",1,0,"n.V.",{"$f":"(IF(U243>V243,3,IF(U243=V243,1,2)))","v":3},{"$f":"(IF(V243>U243,3,IF(U243=V243,1,2)))","v":2}]
[null,null,null,null,null,0,0]
[null,null,null,null,null,"(0","0)"]
[]
[]
[]
[]
[]
["Auswertung","Nation","Spiele","gew","unent","verl","Tore+","Tore-","Punkte"]
[null,"BRD",{"$f":"COUNTIF($S$12:$T$243,\"BRD\")","v":7},{"$f":"SUMPRODUCT(($S$12:$T$243=B252)*($X$12:$Y$243=3))","v":6},{"$f":"SUMPRODUCT(($S$12:$T$243=B252)*($X$12:$Y$243=1))","v":1},{"$f":"SUMPRODUCT(($S$12:$T$243=B252)*($X$12:$Y$243=2))","v":0},{"$f":"SUMPRODUCT(($S$12:$S$243=B252)*($U$12:$U$243))+SUMPRODUCT(($T$12:$T$243=B252)*($V$12:$V$243))","v":18},{"$f":"SUMPRODUCT(($S$12:$S$243=B252)*($V$12:$V$243))+SUMPRODUCT(($T$12:$T$243=B252)*($U$12:$U$243))","v":4},{"$f":"(D252*3)+E252","v":19}]
[null,"Niederlande",{"$f":"COUNTIF($S$12:$T$243,\"Niederlande\")","v":7},6,0,1,21,11,18]
[null,"Argentinien",{"$f":"COUNTIF($S$12:$T$243,\"Argentinien\")","v":7},6,0,1,12,6,18]
[null,"Brasilien",{"$f":"COUNTIF($S$12:$T$243,\"Brasilien\")","v":7},4,1,2,14,16,13]
[null,"Kolumbien",{"$f":"COUNTIF($S$12:$T$243,\"Kolumbien\")","v":5},4,0,1,12,4,12]
[null,"Belgien",{"$f":"COUNTIF($S$12:$T$243,\"Belgien\")","v":5},4,0,1,6,3,12]
[null,"Costa Rica",{"$f":"COUNTIF($S$12:$T$243,\"Costa Rica\")","v":5},3,1,1,13,9,10]
[null,"Frankreich",{"$f":"COUNTIF($S$12:$T$243,\"Frankreich\")","v":5},3,1,1,10,3,10]
[null,"Mexiko",{"$f":"COUNTIF($S$12:$T$243,\"Mexiko\")","v":4},2,1,1,5,3,7]
[null,"Chile",{"$f":"COUNTIF($S$12:$T$243,\"Chile\")","v":4},2,0,2,8,7,6]
[null,"Schweiz",{"$f":"COUNTIF($S$12:$T$243,\"Schweiz\")","v":4},2,0,2,7,7,6]
[null,"Uruguay",{"$f":"COUNTIF($S$12:$T$243,\"Uruguay\")","v":4},2,0,2,4,6,6]
[null,"Algerien",{"$f":"COUNTIF($S$12:$T$243,\"Algerien\")","v":4},1,1,2,7,7,4]
[null,"Griechenland",{"$f":"COUNTIF($S$12:$T$243,\"Griechenland\")","v":4},1,1,2,6,10,4]
[null,"USA",{"$f":"COUNTIF($S$12:$T$243,\"USA\")","v":4},1,1,2,5,6,4]
[null,"Portugal",{"$f":"COUNTIF($S$12:$T$243,\"Portugal\")","v":3},1,1,1,4,7,4]
[null,"Ecuador",{"$f":"COUNTIF($S$12:$T$243,\"Ecuador\")","v":3},1,1,1,3,3,4]
[null,"Nigeria",{"$f":"COUNTIF($S$12:$T$243,\"Nigeria\")","v":4},1,1,2,3,5,4]
[null,"Kroatien",{"$f":"COUNTIF($S$12:$T$243,\"Kroatien\")","v":3},1,0,2,6,6,3]
[null,"Bos u. Herz",{"$f":"COUNTIF($S$12:$T$243,\"Bos u. Herz\")","v":3},1,0,2,4,4,3]
[null,"Elfenbeinküste",{"$f":"COUNTIF($S$12:$T$243,\"Elfenbeinküste\")","v":3},1,0,2,4,5,3]
[null,"Spanien",{"$f":"COUNTIF($S$12:$T$243,\"Spanien\")","v":3},1,0,2,4,7,3]
[null,"Italien",{"$f":"COUNTIF($S$12:$T$243,\"Italien\")","v":3},1,0,2,2,3,3]
[null,"Russland",{"$f":"COUNTIF($S$12:$T$243,\"Russland\")","v":3},0,2,1,2,3,2]
[null,"Ghana",{"$f":"COUNTIF($S$12:$T$243,\"Ghana\")","v":3},0,1,2,4,6,1]
[null,"Südkorea",{"$f":"COUNTIF($S$12:$T$243,\"Südkorea\")","v":3},0,1,2,3,6,1]
[null,"England",{"$f":"COUNTIF($S$12:$T$243,\"England\")","v":3},0,1,2,2,4,1]
[null,"Japan",{"$f":"COUNTIF($S$12:$T$243,\"Japan\")","v":3},0,1,2,2,6,1]
[null,"Iran",{"$f":"COUNTIF($S$12:$T$243,\"Iran\")","v":3},0,1,2,1,4,1]
[null,"Australien",{"$f":"COUNTIF($S$12:$T$243,\"Australien\")","v":3},0,0,3,3,9,0]
[null,"Honduras",{"$f":"COUNTIF($S$12:$T$243,\"Honduras\")","v":3},0,0,3,1,8,0]
[null,"Kamerun",{"$f":"COUNTIF($S$12:$T$243,\"Kamerun\")","v":3},0,0,3,1,9,0]

{"sheet":"2018","index":21,"n_rows":284,"n_cols":27,"rows_kept":284,"cut":false,"hidden":false,"merged":[[233,2,233,8],[242,2,242,8],[1,0,1,9],[3,0,3,9],[4,0,4,9]]}
[]
["21. WM 2018 in Russland"]
[]
["14. Juni-15. Juli 2018"]
["Teilnehmende Nationen: 32 --- Bewerbungen: 211"]
[]
[]
[]
[]
[null,null,null,null,null,"Gruppe A"]
[]
[null,null,"2018-06-14","Russland","Saudi-Arabien",5,0,null,"Moskau",null,null,null,null,null,null,null,null,null,"Russland","Saudi-Arabien",5,0,null,{"$f":"(IF(U12>V12,3,IF(U12=V12,1,2)))","v":3},{"$f":"(IF(V12>U12,3,IF(U12=V12,1,2)))","v":2},null,"Russland"]
[null,null,null,null,null,"(2","0)",null,null,null,null,null,null,null,null,null,null,null,"Ägypten","Uruguay",0,1,null,2,3,null,"Saudi-Arabien"]
[null,null,"2018-06-15","Ägypten","Uruguay",0,1,null,"Jekaterinburg",null,null,null,null,null,null,null,null,null,"Russland","Ägypten",3,1,null,3,2,null,"Ägypten"]
[null,null,null,null,null,"(0","0)",null,null,null,null,null,null,null,null,null,null,null,"Uruguay","Saudi-Arabien",1,0,null,3,2,null,"Uruguay"]
[null,null,"2018-06-19","Russland","Ägypten",3,1,null,"St. Petersburg",null,null,null,null,null,null,null,null,null,"Uruguay","Russland",3,0,null,3,2,null,"Marokko"]
[null,null,null,null,null,"(0","0)",null,null,null,null,null,null,null,null,null,null,null,"Saudi-Arabien","Ägypten",2,1,null,3,2,null,"Iran"]
[null,null,"2018-06-20","Uruguay","Saudi-Arabien",1,0,null,"Rostow a. Don",null,null,null,null,null,null,null,null,null,null,null,null,null,null,null,null,null,"Portugal"]
[null,null,null,null,null,"(1","0)",null,null,null,null,null,null,null,null,null,null,null,null,null,null,null,null,null,null,null,"Spanien"]
[null,null,"2018-06-25","Uruguay","Russland",3,0,null,"Samara",null,null,null,null,null,null,null,null,null,null,null,null,null,null,null,null,null,"Frankreich"]
[null,null,null,null,null,"(2","0)",null,null,null,null,null,null,null,null,null,null,null,null,null,null,null,null,null,null,null,"Australien"]
[null,null,"2018-06-25","Saudi-Arabien","Ägypten",2,1,null,"Wolgograd",null,null,null,null,null,null,null,null,null,null,null,null,null,null,null,null,null,"Peru"]
[null,null,null,null,null,"(1","1)",null,null,null,null,null,null,null,null,null,null,null,null,null,null,null,null,null,null,null,"Dänemark"]
[null,null,null,null,null,null,null,null,null,null,null,null,null,null,null,null,null,null,null,null,null,null,null,null,null,null,"Argentinien"]
[null,"Nation","Spiele","gew","unent","verl","Tore+","Tore-","Punkte",null,null,null,null,null,null,null,null,null,null,null,null,null,null,null,null,null,"Island"]
["Tabelle:","Russland",{"$f":"COUNTIF($S$12:$T$17,\"Rumänien\")","v":0},{"$f":"SUMPRODUCT(($S$12:$T$17=B26)*($X$12:$Y$17=3))","v":2},{"$f":"SUMPRODUCT(($S$12:$T$17=B26)*($X$12:$Y$17=1))","v":0},{"$f":"SUMPRODUCT(($S$12:$T$17=B26)*($X$12:$Y$17=2))","v":1},{"$f":"SUMPRODUCT(($S$12:$S$17=B26)*($U$12:$U$17))+SUMPRODUCT(($T$12:$T$17=B26)*($V$12:$V$17))","v":8},{"$f":"SUMPRODUCT(($S$12:$S$17=B26)*($V$12:$V$17))+SUMPRODUCT(($T$12:$T$17=B26)*($U$12:$U$17))","v":4},{"$f":"(D26*3)+E26","v":6},null,null,null,null,null,null,null,null,null,null,null,null,null,null,null,null,null,"Kroatien"]
[null,"Saudi-Arabien",null,null,null,null,null,null,null,null,null,null,null,null,null,null,null,null,null,null,null,null,null,null,null,null,"Nigeria"]
[null,"Ägypten",null,null,null,null,null,null,null,null,null,null,null,null,null,null,null,null,null,null,null,null,null,null,null,null,"Costa Rica"]
[null,"Uruguay",null,null,null,null,null,null,null,null,null,null,null,null,null,null,null,null,null,null,null,null,null,null,null,null,"Serbien"]
[null,null,null,null,null,null,null,null,null,null,null,null,null,null,null,null,null,null,null,null,null,null,null,null,null,null,"Brasilien"]
[null,null,null,null,null,null,null,null,null,null,null,null,null,null,null,null,null,null,null,null,null,null,null,null,null,null,"Schweiz"]
[null,null,null,null,null,"Gruppe B",null,null,null,null,null,null,null,null,null,null,null,null,null,null,null,null,null,null,null,null,"BRD"]
[null,null,null,null,null,null,null,null,null,null,null,null,null,null,null,null,null,null,null,null,null,null,null,null,null,null,"Mexiko"]
[null,null,"2018-06-15","Marokko","Iran",0,1,null,"St. Petersburg",null,null,null,null,null,null,null,null,null,"Marokko","Iran",0,1,null,{"$f":"(IF(U34>V34,3,IF(U34=V34,1,2)))","v":2},{"$f":"(IF(V34>U34,3,IF(U34=V34,1,2)))","v":3},null,"Schweden"]
[null,null,null,null,null,"(0","0)",null,null,null,null,null,null,null,null,null,null,null,"Portugal","Spanien",3,3,null,1,1,null,"Südkorea"]
[null,null,"2018-06-15","Portugal","Spanien",3,3,null,"Sotschi",null,null,null,null,null,null,null,null,null,"Portugal","Marokko",1,0,null,3,2,null,"Belgien"]
[null,null,null,null,null,"(2","1)",null,null,null,null,null,null,null,null,null,null,null,"Iran","Spanien",0,1,null,2,3,null,"Panama"]
[null,null,"2018-06-20","Portugal","Marokko",1,0,null,"Moskau",null,null,null,null,null,null,null,null,null,"Iran","Portugal",1,1,null,1,1,null,"Tunesien"]
[null,null,null,null,null,"(1","0)",null,null,null,null,null,null,null,null,null,null,null,"Spanien","Marokko",2,2,null,{"$f":"(IF(U39>V39,3,IF(U39=V39,1,2)))","v":1},{"$f":"(IF(V39>U39,3,IF(U39=V39,1,2)))","v":1},null,"England"]
[null,null,"2018-06-20","Iran","Spanien",0,1,null,"Kasan",null,null,null,null,null,null,null,null,null,null,null,null,null,null,null,null,null,"Kolumbien"]
[null,null,null,null,null,"(0","0)",null,null,null,null,null,null,null,null,null,null,null,null,null,null,null,null,null,null,null,"Japan"]
[null,null,"2018-06-25","Iran","Portugal",1,1,null,"Saransk",null,null,null,null,null,null,null,null,null,null,null,null,null,null,null,null,null,"Polen"]
[null,null,null,null,null,"(0","1)",null,null,null,null,null,null,null,null,null,null,null,null,null,null,null,null,null,null,null,"Senegal"]
[null,null,"2018-06-25","Spanien","Marokko",2,2,null,"Kaliningrad"]
[null,null,null,null,null,"(1","1)"]
[]
[null,"Nation","Spiele","gew","unent","verl","Tore+","Tore-","Punkte"]
["Tabelle:","Marokko",3,2,1,0,6,1,7]
[null,"Iran"]
[null,"Portugal"]
[null,"Spanien"]
[]
[]
[null,null,null,null,null,"Gruppe C"]
[]
[null,null,"2018-06-16","Frankreich","Australien",2,1,null,"Kasan",null,null,null,null,null,null,null,null,null,"Frankreich","Australien",2,1,null,{"$f":"(IF(U56>V56,3,IF(U56=V56,1,2)))","v":3},{"$f":"(IF(V56>U56,3,IF(U56=V56,1,2)))","v":2}]
[null,null,null,null,null,"(0","0)",null,null,null,null,null,null,null,null,null,null,null,"Peru","Dänemark",0,1,null,2,3]
[null,null,"2018-06-16","Peru","Dänemark",0,1,null,"Saransk",null,null,null,null,null,null,null,null,null,"Dänemark","Australien",1,1,null,1,1]
[null,null,null,null,null,"(0","0)",null,null,null,null,null,null,null,null,null,null,null,"Frankreich","Peru",1,0,null,3,2]
[null,null,"2018-06-21","Dänemark","Australien",1,1,null,"Samara",null,null,null,null,null,null,null,null,null,"Dänemark","Frankreich",0,0,null,1,1]
[null,null,null,null,null,"(1","1)",null,null,null,null,null,null,null,null,null,null,null,"Australien","Peru",0,2,null,{"$f":"(IF(U61>V61,3,IF(U61=V61,1,2)))","v":2},{"$f":"(IF(V61>U61,3,IF(U61=V61,1,2)))","v":3}]
[null,null,"2018-06-21","Frankreich","Peru",1,0,null,"Jekaterinburg"]
[null,null,null,null,null,"(1","0)"]
[null,null,"2018-06-26","Dänemark","Frankreich",0,0,null,"Moskau"]
[null,null,"2018-06-26","Australien","Peru",0,2,null,"Sotschi"]
[null,null,null,null,null,"(0","1)"]
[]
[null,"Nation","Spiele","gew","unent","verl","Tore+","Tore-","Punkte"]
["Tabelle:","Frankreich",3,2,1,0,5,3,7]
[null,"Australien"]
[null,"Peru"]
[null,"Dänemark"]
[]
[]
[null,null,null,null,null,"Gruppe D"]
[]
[null,null,"2018-06-16","Argentinien","Island",1,1,null,"Moskau",null,null,null,null,null,null,null,null,null,"Argentinien","Island",1,1,null,{"$f":"(IF(U77>V77,3,IF(U77=V77,1,2)))","v":1},{"$f":"(IF(V77>U77,3,IF(U77=V77,1,2)))","v":1}]
[null,null,null,null,null,"(1","1)",null,null,null,null,null,null,null,null,null,null,null,"Kroatien","Nigeria",2,0,null,3,2]
[null,null,"2018-06-16","Kroatien","Nigeria",2,0,null,"Kaliningrad",null,null,null,null,null,null,null,null,null,"Argentinien","Kroatien",0,3,null,2,3]
[null,null,null,null,null,"(1","0)",null,null,null,null,null,null,null,null,null,null,null,"Nigeria","Island",2,0,null,3,2]
[null,null,"2018-06-21","Argentinien","Kroatien",0,3,null,"Nischni Nowgorod",null,null,null,null,null,null,null,null,null,"Nigeria","Argentinien",1,2,null,2,3]
[null,null,null,null,null,"(0","0)",null,null,null,null,null,null,null,null,null,null,null,"Island","Kroatien",1,2,null,2,3]
[null,null,"2018-06-22","Nigeria","Island",2,0,null,"Wolgograd"]
[null,null,null,null,null,"(0","0)"]
[null,null,"2018-06-26","Nigeria","Argentinien",1,2,null,"St. Petersburg"]
[null,null,null,null,null,"(0","1)"]
[null,null,"2018-06-26","Island","Kroatien",1,2,null,"Rostow am Don"]
[null,null,null,null,null,"(0","0)"]
[]
[null,"Nation","Spiele","gew","unent","verl","Tore+","Tore-","Punkte"]
["Tabelle:","Argentinien",3,2,0,1,6,2,6]
[null,"Island"]
[null,"Kroatien"]
[null,"Nigeria"]
[]
[]
[null,null,null,null,null,"Gruppe E"]
[]
[null,null,"2018-06-17","Costa Rica","Serbien",0,1,null,"Samara",null,null,null,null,null,null,null,null,null,"Costa Rica","Serbien",0,1,null,{"$f":"(IF(U99>V99,3,IF(U99=V99,1,2)))","v":2},{"$f":"(IF(V99>U99,3,IF(U99=V99,1,2)))","v":3}]
[null,null,null,null,null,"(0","0)",null,null,null,null,null,null,null,null,null,null,null,"Brasilien","Schweiz",1,1,null,1,1]
[null,null,"2018-06-17","Brasilien","Schweiz",1,1,null,"Rostow am Don",null,null,null,null,null,null,null,null,null,"Brasilien","Costa Rica",2,0,null,3,2]
[null,null,null,null,null,"(1","0)",null,null,null,null,null,null,null,null,null,null,null,"Serbien","Schweiz",1,2,null,2,3]
[null,null,"2018-06-22","Brasilien","Costa Rica",2,0,null,"St. Petersburg",null,null,null,null,null,null,null,null,null,"Serbien","Brasilien",0,2,null,{"$f":"(IF(U103>V103,3,IF(U103=V103,1,2)))","v":2},{"$f":"(IF(V103>U103,3,IF(U103=V103,1,2)))","v":3}]
[null,null,null,null,null,"(0","0)",null,null,null,null,null,null,null,null,null,null,null,"Schweiz","Costa Rica",2,2,null,1,1]
[null,null,"2018-06-22","Serbien","Schweiz",1,2,null,"Kaliningrad"]
[null,null,null,null,null,"(1","0)"]
[null,null,"2018-06-27","Serbien","Brasilien",0,2,null,"Moskau"]
[null,null,null,null,null,"(0","1)"]
[null,null,"2018-06-27","Schweiz","Costa Rica",2,2,null,"Nischni Nowgorod"]
[null,null,null,null,null,"(1","0)"]
[]
[null,"Nation","Spiele","gew","unent","verl","Tore+","Tore-","Punkte"]
["Tabelle:","Costa Rica",3,1,1,1,3,3,4]
[null,"Serbien"]
[null,"Brasilien"]
[null,"Schweiz"]
[]
[]
[null,null,null,null,null,"Gruppe F"]
[]
[null,null,"2018-06-17","BRD","Mexiko",0,1,null,"Moskau",null,null,null,null,null,null,null,null,null,"BRD","Mexiko",0,1,null,{"$f":"(IF(U121>V121,3,IF(U121=V121,1,2)))","v":2},{"$f":"(IF(V121>U121,3,IF(U121=V121,1,2)))","v":3}]
[null,null,null,null,null,"(0","1)",null,null,null,null,null,null,null,null,null,null,null,"Schweden","Südkorea",1,0,null,3,2]
[null,null,"2018-06-18","Schweden","Südkorea",1,0,null,"Nischni Nowgorod",null,null,null,null,null,null,null,null,null,"Südkorea","Mexiko",1,2,null,2,3]
[null,null,null,null,null,"(0","0)",null,null,null,null,null,null,null,null,null,null,null,"BRD","Schweden",2,1,null,{"$f":"(IF(U124>V124,3,IF(U124=V124,1,2)))","v":3},{"$f":"(IF(V124>U124,3,IF(U124=V124,1,2)))","v":2}]
[null,null,"2018-06-23","Südkorea","Mexiko",1,2,null,"Rostow am Don",null,null,null,null,null,null,null,null,null,"Südkorea","BRD",2,0,null,3,2]
[null,null,null,null,null,"(0","1)",null,null,null,null,null,null,null,null,null,null,null,"Mexiko","Schweden",0,3,null,2,3]
[null,null,"2018-06-23","BRD","Schweden",2,1,null,"Sotschi"]
[null,null,null,null,null,"(0","1)"]
[null,null,"2018-06-27","Südkorea","BRD",2,0,null,"Kasan"]
[null,null,null,null,null,"(0","0)"]
[null,null,"2018-06-27","Mexiko","Schweden",0,3,null,"Jekaterinburg"]
[null,null,null,null,null,"(0","0)"]
[]
[null,"Nation","Spiele","gew","unent","verl","Tore+","Tore-","Punkte"]
["Tabelle:","BRD",3,2,0,1,4,3,6]
[null,"Mexiko"]
[null,"Schweden"]
[null,"Südkorea"]
[]
[]
[null,null,null,null,null,"Gruppe G"]
[]
[null,null,"2018-06-18","Belgien","Panama",3,0,null,"Sotschi",null,null,null,null,null,null,null,null,null,"Belgien","Panama",3,0,null,{"$f":"(IF(U143>V143,3,IF(U143=V143,1,2)))","v":3},{"$f":"(IF(V143>U143,3,IF(U143=V143,1,2)))","v":2}]
[null,null,null,null,null,"(0","0)",null,null,null,null,null,null,null,null,null,null,null,"Tunesien","England",1,2,null,2,3]
[null,null,"2018-06-18","Tunesien","England",1,2,null,"Wolgograd",null,null,null,null,null,null,null,null,null,"Belgien","Tunesien",5,2,null,{"$f":"(IF(U145>V145,3,IF(U145=V145,1,2)))","v":3},{"$f":"(IF(V145>U145,3,IF(U145=V145,1,2)))","v":2}]
[null,null,null,null,null,"(1","1)",null,null,null,null,null,null,null,null,null,null,null,"England","Panama",6,1,null,3,2]
[null,null,"2018-06-23","Belgien","Tunesien",5,2,null,"Moskau",null,null,null,null,null,null,null,null,null,"England","Belgien",0,1,null,2,3]
[null,null,null,null,null,"(3","1)",null,null,null,null,null,null,null,null,null,null,null,"Panama","Tunesien",1,2,null,2,3]
[null,null,"2018-06-24","England","Panama",6,1,null,"Nischni Nowgorod"]
[null,null,null,null,null,"(5","0)"]
[null,null,"2018-06-28","England","Belgien",0,1,null,"Kaliningrad"]
[null,null,null,null,null,"(0","0)"]
[null,null,"2018-06-28","Panama","Tunesien",1,2,null,"Saransk"]
[null,null,null,null,null,"(1","0)"]
[]
[null,"Nation","Spiele","gew","unent","verl","Tore+","Tore-","Punkte"]
["Tabelle:","Belgien",3,2,0,1,4,3,6]
[null,"Panama"]
[null,"Tunesien"]
[null,"England"]
[]
[]
[null,null,null,null,null,"Gruppe H"]
[]
[null,null,"2018-06-19","Kolumbien","Japan",1,2,null,"Saransk",null,null,null,null,null,null,null,null,null,"Kolumbien","Japan",1,2,null,{"$f":"(IF(U165>V165,3,IF(U165=V165,1,2)))","v":2},{"$f":"(IF(V165>U165,3,IF(U165=V165,1,2)))","v":3}]
[null,null,null,null,null,"(1","1)",null,null,null,null,null,null,null,null,null,null,null,"Polen","Senegal",1,2,null,2,3]
[null,null,"2018-06-19","Polen","Senegal",1,2,null,"Moskau",null,null,null,null,null,null,null,null,null,"Japan","Senegal",2,2,null,{"$f":"(IF(U167>V167,3,IF(U167=V167,1,2)))","v":1},{"$f":"(IF(V167>U167,3,IF(U167=V167,1,2)))","v":1}]
[null,null,null,null,null,"(0","1)",null,null,null,null,null,null,null,null,null,null,null,"Polen","Kolumbien",0,3,null,2,3]
[null,null,"2018-06-24","Japan","Senegal",2,2,null,"Jekaterinburg",null,null,null,null,null,null,null,null,null,"Japan","Polen",0,1,null,2,3]
[null,null,null,null,null,"(1","1)",null,null,null,null,null,null,null,null,null,null,null,"Senegal","Kolumbien",0,1,null,2,3]
[null,null,"2018-06-24","Polen","Kolumbien",0,3,null,"Kasan"]
[null,null,null,null,null,"(0","1)"]
[null,null,"2018-06-28","Japan","Polen",0,1,null,"Wolgograd"]
[null,null,null,null,null,"(0","0)"]
[null,null,"2018-06-28","Senegal","Kolumbien",0,1,null,"Samara"]
[null,null,null,null,null,"(0","0)"]
[]
[null,"Nation","Spiele","gew","unent","verl","Tore+","Tore-","Punkte"]
["Tabelle:","Kolumbien",3,2,0,1,4,3,6]
[null,"Japan"]
[null,"Polen"]
[null,"Senegal"]
[]
[]
[null,null,null,null,null,"Achtelfinale"]
[]
[null,null,"2018-06-30","Frankreich","Argentinien",4,3,null,"Kasan",null,null,null,null,null,null,null,null,null,"Frankreich","Argentinien",4,3,null,{"$f":"(IF(U187>V187,3,IF(U187=V187,1,2)))","v":3},{"$f":"(IF(V187>U187,3,IF(U187=V187,1,2)))","v":2}]
[null,null,null,null,null,"(1","1)",null,null,null,null,null,null,null,null,null,null,null,"Uruguay","Portugal",2,1,null,3,2]
[null,null,"2018-06-30","Uruguay","Portugal",2,1,null,"Sotschi",null,null,null,null,null,null,null,null,null,"Spanien","Russland",4,5,"n.E.",2,3]
[null,null,null,null,null,"(1","0)",null,null,null,null,null,null,null,null,null,null,null,"Kroatien","Dänemark",4,3,"n.E.",{"$f":"(IF(U190>V190,3,IF(U190=V190,1,2)))","v":3},{"$f":"(IF(V190>U190,3,IF(U190=V190,1,2)))","v":2}]
[null,null,"2018-07-01","Spanien","Russland",3,4,"n.E.","Moskau",null,null,null,null,null,null,null,null,null,"Brasilien","Mexiko",2,0,null,3,2]
[null,null,null,null,null,1,1,"n.V.",null,null,null,null,null,null,null,null,null,null,"Belgien","Japan",3,2,null,3,2]
[null,null,null,null,null,1,1,null,null,null,null,null,null,null,null,null,null,null,"Schweden","Schweiz",1,0,null,3,2]
[null,null,null,null,null,"(1","1)",null,null,null,null,null,null,null,null,null,null,null,"Kolumbien","England",4,5,"n.E.",2,3]
[null,null,"2018-07-01","Kroatien","Dänemark",3,2,"n.E.","Nischni Nowgorod"]
[null,null,null,null,null,1,1,"n.V."]
[null,null,null,null,null,1,1]
[null,null,null,null,null,"(1","1)"]
[null,null,"2018-07-02","Brasilien","Mexiko",2,0,null,"Samara"]
[null,null,null,null,null,"(0","0)"]
[null,null,"2018-07-02","Belgien","Japan",3,2,null,"Rostow am Don"]
[null,null,null,null,null,"(0","0)"]
[null,null,"2018-07-03","Schweden","Schweiz",1,0,null,"St. Petersburg"]
[null,null,null,null,null,"(0","0)"]
[null,null,"2018-07-03","Kolumbien","England",3,4,"n.E.","Moskau"]
[null,null,null,null,null,1,1,"n.V."]
[null,null,null,null,null,1,1]
[null,null,null,null,null,"(0","0)"]
[]
[]
[null,null,null,null,null,"Viertelfinale"]
[]
[null,null,"2018-07-06","Uruguay","Frankreich",0,2,null,"Nischni Nowgorod",null,null,null,null,null,null,null,null,null,"Uruguay","Frankreich",0,2,null,{"$f":"(IF(U213>V213,3,IF(U213=V213,1,2)))","v":2},{"$f":"(IF(V213>U213,3,IF(U213=V213,1,2)))","v":3}]
[null,null,null,null,null,"(0","1)",null,null,null,null,null,null,null,null,null,null,null,"Brasilien","Belgien",1,2,null,2,3]
[null,null,"2018-07-06","Brasilien","Belgien",1,2,null,"Kasan",null,null,null,null,null,null,null,null,null,"Schweden","England",0,2,null,2,3]
[null,null,null,null,null,"(0","2)",null,null,null,null,null,null,null,null,null,null,null,"Russland","Kroatien",5,6,"n.E.",2,3]
[null,null,"2018-07-07","Schweden","England",0,2,null,"Samara"]
[null,null,null,null,null,"(0","1)"]
[null,null,"2018-07-07","Russland","Kroatien",3,4,"n.E.","Sotschi"]
[null,null,null,null,null,2,2,"n.V."]
[null,null,null,null,null,1,1]
[null,null,null,null,null,"(1","1)"]
[]
[]
[null,null,null,null,null,"Halbfinale"]
[]
[null,null,"2018-07-10","Frankreich","Belgien",1,0,null,"St. Petersburg",null,null,null,null,null,null,null,null,null,"Frankreich","Belgien",1,0,null,{"$f":"(IF(U227>V227,3,IF(U227=V227,1,2)))","v":3},{"$f":"(IF(V227>U227,3,IF(U227=V227,1,2)))","v":2}]
[null,null,null,null,null,"(0","0)",null,null,null,null,null,null,null,null,null,null,null,"Kroatien","England",2,1,"n.V.",3,2]
[null,null,"2018-07-11","Kroatien","England",2,1,"n.V.","Moskau"]
[null,null,null,null,null,1,1]
[null,null,null,null,null,"(0","1)"]
[]
[]
[null,null,"Spiel um Platz 3 am 14. Juli 2018 in St. Petersburg"]
[]
[null,null,null,"Belgien","England",2,0,null,null,null,null,null,null,null,null,null,null,null,"Belgien","England",2,0,null,{"$f":"(IF(U236>V236,3,IF(U236=V236,1,2)))","v":3},{"$f":"(IF(V236>U236,3,IF(U236=V236,1,2)))","v":2}]
[null,null,null,null,null,"(1","0)"]
[]
[]
[]
[]
[]
[null,null,"Endspiel am 15. Juli 2018 in Moskau"]
[]
[null,null,null,"Frankreich","Kroatien",4,2,null,null,null,null,null,null,null,null,null,null,null,"Frankreich","Kroatien",4,2,null,{"$f":"(IF(U245>V245,3,IF(U245=V245,1,2)))","v":3},{"$f":"(IF(V245>U245,3,IF(U245=V245,1,2)))","v":2}]
[null,null,null,null,null,"(2","1)"]
[]
[]
[]
[]
[]
["Auswertung","Nation","Spiele","gew","unent","verl","Tore+","Tore-","Punkte"]
[null,"Frankreich",{"$f":"COUNTIF($S$12:$T$245,\"Frankreich\")","v":7},{"$f":"SUMPRODUCT(($S$12:$T$245=B253)*($X$12:$Y$245=3))","v":6},{"$f":"SUMPRODUCT(($S$12:$T$245=B253)*($X$12:$Y$245=1))","v":1},{"$f":"SUMPRODUCT(($S$12:$T$245=B253)*($X$12:$Y$245=2))","v":0},{"$f":"SUMPRODUCT(($S$12:$S$245=B253)*($U$12:$U$245))+SUMPRODUCT(($T$12:$T$245=B253)*($V$12:$V$245))","v":14},{"$f":"SUMPRODUCT(($S$12:$S$245=B253)*($V$12:$V$245))+SUMPRODUCT(($T$12:$T$245=B253)*($U$12:$U$245))","v":6},{"$f":"(D253*3)+E253","v":19}]
[null,"Kroatien",{"$f":"COUNTIF($S$12:$T$245,\"Kroatien\")","v":7},6,0,1,21,14,18]
[null,"Belgien",{"$f":"COUNTIF($S$12:$T$245,\"Belgien\")","v":7},6,0,1,16,6,18]
[null,"England",{"$f":"COUNTIF($S$12:$T$245,\"England\")","v":7},4,0,3,16,11,12]
[null,"Uruguay",{"$f":"COUNTIF($S$12:$T$245,\"Uruguay\")","v":5},4,0,1,7,3,12]
[null,"Brasilien",{"$f":"COUNTIF($S$12:$T$245,\"Brasilien\")","v":5},3,1,1,8,3,10]
[null,"Russland",{"$f":"COUNTIF($S$12:$T$245,\"Russland\")","v":5},3,0,2,18,14,9]
[null,"Schweden",{"$f":"COUNTIF($S$12:$T$245,\"Schweden\")","v":5},3,0,2,6,4,9]
[null,"Kolumbien",{"$f":"COUNTIF($S$12:$T$245,\"Kolumbien\")","v":4},2,0,2,9,7,6]
[null,"Mexiko",{"$f":"COUNTIF($S$12:$T$245,\"Mexiko\")","v":4},2,0,2,3,6,6]
[null,"Spanien",{"$f":"COUNTIF($S$12:$T$245,\"Spanien\")","v":4},1,2,1,10,10,5]
[null,"Portugal",{"$f":"COUNTIF($S$12:$T$245,\"Portugal\")","v":4},1,2,1,6,6,5]
[null,"Dänemark",{"$f":"COUNTIF($S$12:$T$245,\"Dänemark\")","v":4},1,2,1,5,5,5]
[null,"Schweiz",{"$f":"COUNTIF($S$12:$T$245,\"Schweiz\")","v":4},1,2,1,5,5,5]
[null,"Japan",{"$f":"COUNTIF($S$12:$T$245,\"Japan\")","v":4},1,1,2,6,7,4]
[null,"Argentinien",{"$f":"COUNTIF($S$12:$T$245,\"Argentinien\")","v":4},1,1,2,6,9,4]
[null,"Senegal",{"$f":"COUNTIF($S$12:$T$245,\"Senegal\")","v":3},1,1,1,4,4,4]
[null,"Iran",{"$f":"COUNTIF($S$12:$T$245,\"Iran\")","v":3},1,1,1,2,2,4]
[null,"Tunesien",{"$f":"COUNTIF($S$12:$T$245,\"Tunesien\")","v":3},1,0,2,5,8,3]
[null,"Südkorea",{"$f":"COUNTIF($S$12:$T$245,\"Südkorea\")","v":3},1,0,2,3,3,3]
[null,"Nigeria",{"$f":"COUNTIF($S$12:$T$245,\"Nigeria\")","v":3},1,0,2,3,4,3]
[null,"Peru",{"$f":"COUNTIF($S$12:$T$245,\"Peru\")","v":3},1,0,2,2,2,3]
[null,"Serbien",{"$f":"COUNTIF($S$12:$T$245,\"Serbien\")","v":3},1,0,2,2,4,3]
[null,"BRD",{"$f":"COUNTIF($S$12:$T$245,\"BRD\")","v":3},1,0,2,2,4,3]
[null,"Polen",{"$f":"COUNTIF($S$12:$T$245,\"Polen\")","v":3},1,0,2,2,5,3]
[null,"Saudi-Arabien",{"$f":"COUNTIF($S$12:$T$245,\"Saudi-Arabien\")","v":3},1,0,2,2,7,3]
[null,"Marokko",{"$f":"COUNTIF($S$12:$T$245,\"Marokko\")","v":3},0,1,2,2,4,1]
[null,"Australien",{"$f":"COUNTIF($S$12:$T$245,\"Australien\")","v":3},0,1,2,2,5,1]
[null,"Island",{"$f":"COUNTIF($S$12:$T$245,\"Island\")","v":3},0,1,2,2,5,1]
[null,"Costa Rica",{"$f":"COUNTIF($S$12:$T$245,\"Costa Rica\")","v":3},0,1,2,2,5,1]
[null,"Ägypten",{"$f":"COUNTIF($S$12:$T$245,\"Ägypten\")","v":3},0,0,3,2,6,0]
[null,"Panama",{"$f":"COUNTIF($S$12:$T$245,\"Panama\")","v":3},0,0,3,2,11,0]

{"sheet":"2022","index":22,"n_rows":280,"n_cols":27,"rows_kept":280,"cut":false,"hidden":false,"merged":[[227,2,227,8],[236,2,236,8],[1,0,1,9],[3,0,3,9],[4,0,4,9]]}
[]
["22. WM 2022 in Katar"]
[]
["20. November-18. Dezember 2022"]
["Teilnehmende Nationen: 32 --- Bewerbungen: 209"]
[]
[]
[]
[]
[null,null,null,null,null,"Gruppe A"]
[]
[null,null,"2022-11-20","Katar","Ecuador",0,2,null,"al-Chaur",null,null,null,null,null,null,null,null,null,"Katar","Ecuador",0,2,null,{"$f":"(IF(U12>V12,3,IF(U12=V12,1,2)))","v":2},{"$f":"(IF(V12>U12,3,IF(U12=V12,1,2)))","v":3},null,"Katar"]
[null,null,null,null,null,"(0","2)",null,null,null,null,null,null,null,null,null,null,null,"Senegal","Niederlande",0,2,null,2,3,null,"Ecuador"]
[null,null,"2022-11-21","Senegal","Niederlande",0,2,null,"Doha",null,null,null,null,null,null,null,null,null,"Katar","Senegal",1,3,null,2,3,null,"Senegal"]
[null,null,null,null,null,"(0","0)",null,null,null,null,null,null,null,null,null,null,null,"Niederlande","Ecuador",1,1,null,1,1,null,"Niederlande"]
[null,null,"2022-11-25","Katar","Senegal",1,3,null,"Doha",null,null,null,null,null,null,null,null,null,"Niederlande","Katar",2,0,null,3,2,null,"England"]
[null,null,null,null,null,"(0","1)",null,null,null,null,null,null,null,null,null,null,null,"Ecuador","Senegal",1,2,null,2,3,null,"Iran"]
[null,null,"2022-11-25","Niederlande","Ecuador",1,1,null,"ar-Rayyan",null,null,null,null,null,null,null,null,null,null,null,null,null,null,null,null,null,"USA"]
[null,null,null,null,null,"(1","0)",null,null,null,null,null,null,null,null,null,null,null,null,null,null,null,null,null,null,null,"Wales"]
[null,null,"2022-11-29","Niederlande","Katar",2,0,null,"al-Chaur",null,null,null,null,null,null,null,null,null,null,null,null,null,null,null,null,null,"Argentinien"]
[null,null,null,null,null,"(1","0)",null,null,null,null,null,null,null,null,null,null,null,null,null,null,null,null,null,null,null,"Saudi-Arabien"]
[null,null,"2022-11-29","Ecuador","Senegal",1,2,null,"ar-Rayyan",null,null,null,null,null,null,null,null,null,null,null,null,null,null,null,null,null,"Mexiko"]
[null,null,null,null,null,"(0","1)",null,null,null,null,null,null,null,null,null,null,null,null,null,null,null,null,null,null,null,"Polen"]
[null,null,null,null,null,null,null,null,null,null,null,null,null,null,null,null,null,null,null,null,null,null,null,null,null,null,"Dänemark"]
[null,"Nation","Spiele","gew","unent","verl","Tore+","Tore-","Punkte",null,null,null,null,null,null,null,null,null,null,null,null,null,null,null,null,null,"Tunesien"]
["Tabelle:","Katar",{"$f":"COUNTIF($S$12:$T$17,\"Rumänien\")","v":0},{"$f":"SUMPRODUCT(($S$12:$T$17=B26)*($X$12:$Y$17=3))","v":0},{"$f":"SUMPRODUCT(($S$12:$T$17=B26)*($X$12:$Y$17=1))","v":0},{"$f":"SUMPRODUCT(($S$12:$T$17=B26)*($X$12:$Y$17=2))","v":3},{"$f":"SUMPRODUCT(($S$12:$S$17=B26)*($U$12:$U$17))+SUMPRODUCT(($T$12:$T$17=B26)*($V$12:$V$17))","v":1},{"$f":"SUMPRODUCT(($S$12:$S$17=B26)*($V$12:$V$17))+SUMPRODUCT(($T$12:$T$17=B26)*($U$12:$U$17))","v":7},{"$f":"(D26*3)+E26","v":0},null,null,null,null,null,null,null,null,null,null,null,null,null,null,null,null,null,"Frankreich"]
[null,"Ecuador",null,null,null,null,null,null,null,null,null,null,null,null,null,null,null,null,null,null,null,null,null,null,null,null,"Australien"]
[null,"Senegal",null,null,null,null,null,null,null,null,null,null,null,null,null,null,null,null,null,null,null,null,null,null,null,null,"BRD"]
[null,"Niederlande",null,null,null,null,null,null,null,null,null,null,null,null,null,null,null,null,null,null,null,null,null,null,null,null,"Japan"]
[null,null,null,null,null,null,null,null,null,null,null,null,null,null,null,null,null,null,null,null,null,null,null,null,null,null,"Spanien"]
[null,null,null,null,null,null,null,null,null,null,null,null,null,null,null,null,null,null,null,null,null,null,null,null,null,null,"Costa Rica"]
[null,null,null,null,null,"Gruppe B",null,null,null,null,null,null,null,null,null,null,null,null,null,null,null,null,null,null,null,null,"Marokko"]
[null,null,null,null,null,null,null,null,null,null,null,null,null,null,null,null,null,null,null,null,null,null,null,null,null,null,"Kroatien"]
[null,null,"2022-11-21","England","Iran",6,2,null,"ar-Rayyan",null,null,null,null,null,null,null,null,null,"England","Iran",6,2,null,{"$f":"(IF(U34>V34,3,IF(U34=V34,1,2)))","v":3},{"$f":"(IF(V34>U34,3,IF(U34=V34,1,2)))","v":2},null,"Belgien"]
[null,null,null,null,null,"(3","0)",null,null,null,null,null,null,null,null,null,null,null,"USA","Wales",1,1,null,1,1,null,"Kanada"]
[null,null,"2022-11-21","USA","Wales",1,1,null,"ar-Rayyan",null,null,null,null,null,null,null,null,null,"Wales","Iran",0,2,null,2,3,null,"Schweiz"]
[null,null,null,null,null,"(1","0)",null,null,null,null,null,null,null,null,null,null,null,"England","USA",0,0,null,1,1,null,"Kamerun"]
[null,null,"2022-11-25","Wales","Iran",0,2,null,"ar-Rayyan",null,null,null,null,null,null,null,null,null,"Wales","England",0,3,null,2,3,null,"Brasilien"]
[null,null,null,null,null,"(0","0)",null,null,null,null,null,null,null,null,null,null,null,"Iran","USA",0,1,null,{"$f":"(IF(U39>V39,3,IF(U39=V39,1,2)))","v":2},{"$f":"(IF(V39>U39,3,IF(U39=V39,1,2)))","v":3},null,"Serbien"]
[null,null,"2022-11-25","England","USA",0,0,null,"al-Chaur",null,null,null,null,null,null,null,null,null,null,null,null,null,null,null,null,null,"Uruguay"]
[null,null,"2022-11-29","Wales","England",0,3,null,"ar-Rayyan",null,null,null,null,null,null,null,null,null,null,null,null,null,null,null,null,null,"Südkorea"]
[null,null,null,null,null,"(0","0)",null,null,null,null,null,null,null,null,null,null,null,null,null,null,null,null,null,null,null,"Portugal"]
[null,null,"2022-11-29","Iran","USA",0,1,null,"Doha",null,null,null,null,null,null,null,null,null,null,null,null,null,null,null,null,null,"Ghana"]
[null,null,null,null,null,"(0","1)"]
[]
[null,"Nation","Spiele","gew","unent","verl","Tore+","Tore-","Punkte"]
["Tabelle:","England",3,2,1,0,6,1,7]
[null,"Iran"]
[null,"USA"]
[null,"Wales"]
[]
[]
[null,null,null,null,null,"Gruppe C"]
[]
[null,null,"2022-11-22","Argentinien","Saudi-Arabien",1,2,null,"Lusail",null,null,null,null,null,null,null,null,null,"Argentinien","Saudi-Arabien",1,2,null,{"$f":"(IF(U55>V55,3,IF(U55=V55,1,2)))","v":2},{"$f":"(IF(V55>U55,3,IF(U55=V55,1,2)))","v":3}]
[null,null,null,null,null,"(1","0)",null,null,null,null,null,null,null,null,null,null,null,"Mexiko","Polen",0,0,null,1,1]
[null,null,"2022-11-22","Mexiko","Polen",0,0,null,"Doha",null,null,null,null,null,null,null,null,null,"Polen","Saudi-Arabien",2,0,null,3,2]
[null,null,"2022-11-26","Polen","Saudi-Arabien",2,0,null,"ar-Rayyan",null,null,null,null,null,null,null,null,null,"Argentinien","Mexiko",2,0,null,3,2]
[null,null,null,null,null,"(1","0)",null,null,null,null,null,null,null,null,null,null,null,"Polen","Argentinien",0,2,null,{"$f":"(IF(U59>V59,3,IF(U59=V59,1,2)))","v":2},{"$f":"(IF(V59>U59,3,IF(U59=V59,1,2)))","v":3}]
[null,null,"2022-11-26","Argentinien","Mexiko",2,0,null,"Lusail",null,null,null,null,null,null,null,null,null,"Saudi-Arabien","Mexiko",1,2,null,2,3]
[null,null,null,null,null,"(0","0)"]
[null,null,"2022-11-30","Polen","Argentinien",0,2,null,"Doha"]
[null,null,null,null,null,"(0","0)"]
[null,null,"2022-11-30","Saudi-Arabien","Mexiko",1,2,null,"Lusail"]
[null,null,null,null,null,"(0","0)"]
[]
[null,"Nation","Spiele","gew","unent","verl","Tore+","Tore-","Punkte"]
["Tabelle:","Argentinien",3,2,1,0,5,3,7]
[null,"Saudi-Arabien"]
[null,"Mexiko"]
[null,"Polen"]
[]
[]
[null,null,null,null,null,"Gruppe D"]
[]
[null,null,"2022-11-22","Dänemark","Tunesien",0,0,null,"ar-Rayyan",null,null,null,null,null,null,null,null,null,"Dänemark","Tunesien",0,0,null,{"$f":"(IF(U76>V76,3,IF(U76=V76,1,2)))","v":1},{"$f":"(IF(V76>U76,3,IF(U76=V76,1,2)))","v":1}]
[null,null,"2022-11-22","Frankreich","Australien",4,1,null,"al-Wakra",null,null,null,null,null,null,null,null,null,"Frankreich","Australien",4,1,null,3,2]
[null,null,null,null,null,"(2","1)",null,null,null,null,null,null,null,null,null,null,null,"Tunesien","Australien",0,1,null,2,3]
[null,null,"2022-11-26","Tunesien","Australien",0,1,null,"al-Wakra",null,null,null,null,null,null,null,null,null,"Frankreich","Dänemark",2,1,null,3,2]
[null,null,null,null,null,"(0","1)",null,null,null,null,null,null,null,null,null,null,null,"Tunesien","Frankreich",1,0,null,3,2]
[null,null,"2022-11-26","Frankreich","Dänemark",2,1,null,"Doha",null,null,null,null,null,null,null,null,null,"Australien","Dänemark",1,0,null,{"$f":"(IF(U81>V81,3,IF(U81=V81,1,2)))","v":3},{"$f":"(IF(V81>U81,3,IF(U81=V81,1,2)))","v":2}]
[null,null,null,null,null,"(0","0)"]
[null,null,"2022-11-30","Tunesien","Frankreich",1,0,null,"ar-Rayyan"]
[null,null,null,null,null,"(0","0)"]
[null,null,"2022-11-30","Australien","Dänemark",1,0,null,"al-Wakra"]
[null,null,null,null,null,"(0","0)"]
[]
[null,"Nation","Spiele","gew","unent","verl","Tore+","Tore-","Punkte"]
["Tabelle:","Dänemark",3,2,0,1,6,2,6]
[null,"Tunesien"]
[null,"Frankreich"]
[null,"Australien"]
[]
[]
[null,null,null,null,null,"Gruppe E"]
[]
[null,null,"2022-11-23","BRD","Japan",1,2,null,"ar-Rayyan",null,null,null,null,null,null,null,null,null,"BRD","Japan",1,2,null,{"$f":"(IF(U97>V97,3,IF(U97=V97,1,2)))","v":2},{"$f":"(IF(V97>U97,3,IF(U97=V97,1,2)))","v":3}]
[null,null,null,null,null,"(1","0)",null,null,null,null,null,null,null,null,null,null,null,"Spanien","Costa Rica",7,0,null,3,2]
[null,null,"2022-11-23","Spanien","Costa Rica",7,0,null,"Doha",null,null,null,null,null,null,null,null,null,"Japan","Costa Rica",0,1,null,2,3]
[null,null,null,null,null,"(3","0)",null,null,null,null,null,null,null,null,null,null,null,"Spanien","BRD",1,1,null,1,1]
[null,null,"2022-11-27","Japan","Costa Rica",0,1,null,"ar-Rayyan",null,null,null,null,null,null,null,null,null,"Japan","Spanien",2,1,null,{"$f":"(IF(U101>V101,3,IF(U101=V101,1,2)))","v":3},{"$f":"(IF(V101>U101,3,IF(U101=V101,1,2)))","v":2}]
[null,null,null,null,null,"(0","0)",null,null,null,null,null,null,null,null,null,null,null,"Costa Rica","BRD",2,4,null,2,3]
[null,null,"2022-11-27","Spanien","BRD",1,1,null,"al-Chaur"]
[null,null,null,null,null,"(0","0)"]
[null,null,"2022-12-01","Japan","Spanien",2,1,null,"ar-Rayyan"]
[null,null,null,null,null,"(0","1)"]
[null,null,"2022-12-01","Costa Rica","BRD",2,4,null,"al-Chaur"]
[null,null,null,null,null,"(0","1)"]
[]
[null,"Nation","Spiele","gew","unent","verl","Tore+","Tore-","Punkte"]
["Tabelle:","BRD",3,1,1,1,3,3,4]
[null,"Japan"]
[null,"Spanien"]
[null,"Costa Rica"]
[]
[]
[null,null,null,null,null,"Gruppe F"]
[]
[null,null,"2022-11-23","Marokko","Kroatien",0,0,null,"al-Chaur",null,null,null,null,null,null,null,null,null,"Marokko","Kroatien",0,0,null,{"$f":"(IF(U119>V119,3,IF(U119=V119,1,2)))","v":1},{"$f":"(IF(V119>U119,3,IF(U119=V119,1,2)))","v":1}]
[null,null,"2022-11-23","Belgien","Kanada",1,0,null,"ar-Rayyan",null,null,null,null,null,null,null,null,null,"Belgien","Kanada",1,0,null,3,2]
[null,null,null,null,null,"(1","0)",null,null,null,null,null,null,null,null,null,null,null,"Belgien","Marokko",0,2,null,{"$f":"(IF(U121>V121,3,IF(U121=V121,1,2)))","v":2},{"$f":"(IF(V121>U121,3,IF(U121=V121,1,2)))","v":3}]
[null,null,"2022-11-27","Belgien","Marokko",0,2,null,"Doha",null,null,null,null,null,null,null,null,null,"Kroatien","Kanada",4,1,null,3,2]
[null,null,null,null,null,"(0","0)",null,null,null,null,null,null,null,null,null,null,null,"Kroatien","Belgien",0,0,null,1,1]
[null,null,"2022-11-27","Kroatien","Kanada",4,1,null,"ar-Rayyan",null,null,null,null,null,null,null,null,null,"Kanada","Marokko",1,2,null,2,3]
[null,null,null,null,null,"(2","1)"]
[null,null,"2022-12-01","Kroatien","Belgien",0,0,null,"ar-Rayyan"]
[null,null,"2022-12-01","Kanada","Marokko",1,2,null,"Doha"]
[null,null,null,null,null,"(1","2)"]
[]
[null,"Nation","Spiele","gew","unent","verl","Tore+","Tore-","Punkte"]
["Tabelle:","Marokko",3,2,0,1,4,3,6]
[null,"Kroatien"]
[null,"Belgien"]
[null,"Kanada"]
[]
[]
[null,null,null,null,null,"Gruppe G"]
[]
[null,null,"2022-11-24","Schweiz","Kamerun",1,0,null,"al-Wakra",null,null,null,null,null,null,null,null,null,"Schweiz","Kamerun",1,0,null,{"$f":"(IF(U139>V139,3,IF(U139=V139,1,2)))","v":3},{"$f":"(IF(V139>U139,3,IF(U139=V139,1,2)))","v":2}]
[null,null,null,null,null,"(0","0)",null,null,null,null,null,null,null,null,null,null,null,"Brasilien","Serbien",2,0,null,3,2]
[null,null,"2022-11-24","Brasilien","Serbien",2,0,null,"Lusail",null,null,null,null,null,null,null,null,null,"Kamerun","Serbien",3,3,null,{"$f":"(IF(U141>V141,3,IF(U141=V141,1,2)))","v":1},{"$f":"(IF(V141>U141,3,IF(U141=V141,1,2)))","v":1}]
[null,null,null,null,null,"(0","0)",null,null,null,null,null,null,null,null,null,null,null,"Brasilien","Schweiz",1,0,null,3,2]
[null,null,"2022-11-28","Kamerun","Serbien",3,3,null,"al-Wakra",null,null,null,null,null,null,null,null,null,"Kamerun","Brasilien",1,0,null,3,2]
[null,null,null,null,null,"(1","2)",null,null,null,null,null,null,null,null,null,null,null,"Serbien","Schweiz",2,3,null,2,3]
[null,null,"2022-11-28","Brasilien","Schweiz",1,0,null,"Doha"]
[null,null,null,null,null,"(0","0)"]
[null,null,"2022-12-02","Kamerun","Brasilien",1,0,null,"Lusail"]
[null,null,null,null,null,"(0","0)"]
[null,null,"2022-12-02","Serbien","Schweiz",2,3,null,"Doha"]
[null,null,null,null,null,"(2","2)"]
[]
[null,"Nation","Spiele","gew","unent","verl","Tore+","Tore-","Punkte"]
["Tabelle:","Schweiz",3,2,0,1,4,3,6]
[null,"Kamerun"]
[null,"Brasilien"]
[null,"Serbien"]
[]
[]
[null,null,null,null,null,"Gruppe H"]
[]
[null,null,"2022-11-24","Uruguay","Südkorea",0,0,null,"ar-Rayyan",null,null,null,null,null,null,null,null,null,"Uruguay","Südkorea",0,0,null,{"$f":"(IF(U161>V161,3,IF(U161=V161,1,2)))","v":1},{"$f":"(IF(V161>U161,3,IF(U161=V161,1,2)))","v":1}]
[null,null,"2022-11-24","Portugal","Ghana",3,2,null,"Doha",null,null,null,null,null,null,null,null,null,"Portugal","Ghana",3,2,null,{"$f":"(IF(U162>V162,3,IF(U162=V162,1,2)))","v":3},{"$f":"(IF(V162>U162,3,IF(U162=V162,1,2)))","v":2}]
[null,null,null,null,null,"(0","0)",null,null,null,null,null,null,null,null,null,null,null,"Südkorea","Ghana",2,3,null,2,3]
[null,null,"2022-11-28","Südkorea","Ghana",2,3,null,"ar-Rayyan",null,null,null,null,null,null,null,null,null,"Portugal","Uruguay",2,0,null,3,2]
[null,null,null,null,null,"(0","2)",null,null,null,null,null,null,null,null,null,null,null,"Südkorea","Portugal",2,1,null,3,2]
[null,null,"2022-11-28","Portugal","Uruguay",2,0,null,"Lusail",null,null,null,null,null,null,null,null,null,"Ghana","Uruguay",0,2,null,2,3]
[null,null,null,null,null,"(0","0)"]
[null,null,"2022-12-02","Südkorea","Portugal",2,1,null,"ar-Rayyan"]
[null,null,null,null,null,"(1","1)"]
[null,null,"2022-12-02","Ghana","Uruguay",0,2,null,"al-Wakra"]
[null,null,null,null,null,"(0","2)"]
[]
[null,"Nation","Spiele","gew","unent","verl","Tore+","Tore-","Punkte"]
["Tabelle:","Uruguay",3,2,0,1,4,3,6]
[null,"Südkorea"]
[null,"Portugal"]
[null,"Ghana"]
[]
[]
[null,null,null,null,null,"Achtelfinale"]
[]
[null,null,"2022-12-03","Niederlande","USA",3,1,null,"ar-Rayyan",null,null,null,null,null,null,null,null,null,"Niederlande","USA",3,1,null,{"$f":"(IF(U182>V182,3,IF(U182=V182,1,2)))","v":3},{"$f":"(IF(V182>U182,3,IF(U182=V182,1,2)))","v":2}]
[null,null,null,null,null,"(2","0)",null,null,null,null,null,null,null,null,null,null,null,"Argentinien","Australien",2,1,null,3,2]
[null,null,"2022-12-03","Argentinien","Australien",2,1,null,"ar-Rayyan",null,null,null,null,null,null,null,null,null,"Frankreich","Polen",3,1,null,3,2]
[null,null,null,null,null,"(1","0)",null,null,null,null,null,null,null,null,null,null,null,"England","Senegal",3,0,null,{"$f":"(IF(U185>V185,3,IF(U185=V185,1,2)))","v":3},{"$f":"(IF(V185>U185,3,IF(U185=V185,1,2)))","v":2}]
[null,null,"2022-12-04","Frankreich","Polen",3,1,null,"Doha",null,null,null,null,null,null,null,null,null,"Japan","Kroatien",2,4,"n.E.",2,3]
[null,null,null,null,null,"(1","0)",null,null,null,null,null,null,null,null,null,null,null,"Brasilien","Südkorea",4,1,null,3,2]
[null,null,"2022-12-04","England","Senegal",3,0,null,"al-Chaur",null,null,null,null,null,null,null,null,null,"Marokko","Spanien",3,0,"n.E.",3,2]
[null,null,null,null,null,"(2","0)",null,null,null,null,null,null,null,null,null,null,null,"Portugal","Schweiz",6,1,null,3,2]
[null,null,"2022-12-05","Japan","Kroatien",1,3,"n.E.","al-Wakra"]
[null,null,null,null,null,1,1,"n.V."]
[null,null,null,null,null,1,1]
[null,null,null,null,null,"(1","0)"]
[null,null,"2022-12-05","Brasilien","Südkorea",4,1,null,"Doha"]
[null,null,null,null,null,"(4","0)"]
[null,null,"2022-12-06","Marokko","Spanien",3,0,"n.E.","ar-Rayyan"]
[null,null,null,null,null,0,0,"n.V."]
[null,null,null,null,null,0,0]
[null,null,null,null,null,"(0","0)"]
[null,null,"2022-12-06","Portugal","Schweiz",6,1,null,"Lusail"]
[null,null,null,null,null,"(2","0)"]
[]
[]
[null,null,null,null,null,"Viertelfinale"]
[]
[null,null,"2022-12-09","Kroatien","Brasilien",4,2,"n.E.","ar-Rayyan",null,null,null,null,null,null,null,null,null,"Kroatien","Brasilien",5,3,"n.E.",{"$f":"(IF(U206>V206,3,IF(U206=V206,1,2)))","v":3},{"$f":"(IF(V206>U206,3,IF(U206=V206,1,2)))","v":2}]
[null,null,null,null,null,1,1,"n.V.",null,null,null,null,null,null,null,null,null,null,"Niederlande","Argentinien",5,6,"n.E.",2,3]
[null,null,null,null,null,0,0,null,null,null,null,null,null,null,null,null,null,null,"Marokko","Portugal",1,0,null,3,2]
[null,null,null,null,null,"(0","0)",null,null,null,null,null,null,null,null,null,null,null,"England","Frankreich",1,2,null,2,3]
[null,null,"2022-12-09","Niederlande","Argentinien",3,4,"n.E.","Lusail"]
[null,null,null,null,null,2,2,"n.V."]
[null,null,null,null,null,2,2]
[null,null,null,null,null,"(0","1)"]
[null,null,"2022-12-10","Marokko","Portugal",1,0,null,"Doha"]
[null,null,null,null,null,"(1","0)"]
[null,null,"2022-12-10","England","Frankreich",1,2,null,"al-Chaur"]
[null,null,null,null,null,"(0","1)"]
[]
[]
[null,null,null,null,null,"Halbfinale"]
[]
[null,null,"2022-12-13","Argentinien","Kroatien",3,0,null,"Lusail",null,null,null,null,null,null,null,null,null,"Argentinien","Kroatien",3,0,null,{"$f":"(IF(U222>V222,3,IF(U222=V222,1,2)))","v":3},{"$f":"(IF(V222>U222,3,IF(U222=V222,1,2)))","v":2}]
[null,null,null,null,null,"(2","0)",null,null,null,null,null,null,null,null,null,null,null,"Frankreich","Marokko",2,0,null,3,2]
[null,null,"2022-12-14","Frankreich","Marokko",2,0,null,"al-Chaur"]
[null,null,null,null,null,"(1","0)"]
[]
[]
[null,null,"Spiel um Platz 3 am 17. Dezember 2022 in ar-Rayyan"]
[]
[null,null,null,"Kroatien","Marokko",2,1,null,null,null,null,null,null,null,null,null,null,null,"Kroatien","Marokko",2,1,null,{"$f":"(IF(U230>V230,3,IF(U230=V230,1,2)))","v":3},{"$f":"(IF(V230>U230,3,IF(U230=V230,1,2)))","v":2}]
[null,null,null,null,null,"(2","1)"]
[]
[]
[]
[]
[]
[null,null,"Endspiel am 18. Dezember 2022 in Lusail"]
[]
[null,null,null,"Argentinien","Frankreich",4,2,"n.E.",null,null,null,null,null,null,null,null,null,null,"Argentinien","Frankreich",7,5,"n.E.",{"$f":"(IF(U239>V239,3,IF(U239=V239,1,2)))","v":3},{"$f":"(IF(V239>U239,3,IF(U239=V239,1,2)))","v":2}]
[null,null,null,null,null,3,3,"n.V."]
[null,null,null,null,null,2,2]
[null,null,null,null,null,"(2","0)"]
[]
[]
[]
[]
[]
["Auswertung","Nation","Spiele","gew","unent","verl","Tore+","Tore-","Punkte"]
[null,"Argentinien",{"$f":"COUNTIF($S$12:$T$239,\"Argentinien\")","v":7},{"$f":"SUMPRODUCT(($S$12:$T$239=B249)*($X$12:$Y$239=3))","v":6},{"$f":"SUMPRODUCT(($S$12:$T$239=B249)*($X$12:$Y$239=1))","v":0},{"$f":"SUMPRODUCT(($S$12:$T$239=B249)*($X$12:$Y$239=2))","v":1},{"$f":"SUMPRODUCT(($S$12:$S$239=B249)*($U$12:$U$239))+SUMPRODUCT(($T$12:$T$239=B249)*($V$12:$V$239))","v":23},{"$f":"SUMPRODUCT(($S$12:$S$239=B249)*($V$12:$V$239))+SUMPRODUCT(($T$12:$T$239=B249)*($U$12:$U$239))","v":13},{"$f":"(D249*3)+E249","v":18}]
[null,"Frankreich",{"$f":"COUNTIF($S$12:$T$239,\"Frankreich\")","v":7},5,0,2,18,12,15]
[null,"Kroatien",{"$f":"COUNTIF($S$12:$T$239,\"Kroatien\")","v":7},4,2,1,15,10,14]
[null,"Marokko",{"$f":"COUNTIF($S$12:$T$239,\"Marokko\")","v":7},4,1,2,9,5,13]
[null,"England",{"$f":"COUNTIF($S$12:$T$239,\"England\")","v":5},3,1,1,13,4,10]
[null,"Niederlande",{"$f":"COUNTIF($S$12:$T$239,\"Niederlande\")","v":5},3,1,1,13,8,10]
[null,"Portugal",{"$f":"COUNTIF($S$12:$T$239,\"Portugal\")","v":5},3,0,2,12,6,9]
[null,"Brasilien",{"$f":"COUNTIF($S$12:$T$239,\"Brasilien\")","v":5},3,0,2,10,7,9]
[null,"Japan",{"$f":"COUNTIF($S$12:$T$239,\"Japan\")","v":4},2,0,2,6,7,6]
[null,"Senegal",{"$f":"COUNTIF($S$12:$T$239,\"Senegal\")","v":4},2,0,2,5,7,6]
[null,"Schweiz",{"$f":"COUNTIF($S$12:$T$239,\"Schweiz\")","v":4},2,0,2,5,9,6]
[null,"Australien",{"$f":"COUNTIF($S$12:$T$239,\"Australien\")","v":4},2,0,2,4,6,6]
[null,"USA",{"$f":"COUNTIF($S$12:$T$239,\"USA\")","v":4},1,2,1,3,4,5]
[null,"Spanien",{"$f":"COUNTIF($S$12:$T$239,\"Spanien\")","v":4},1,1,2,9,6,4]
[null,"BRD",{"$f":"COUNTIF($S$12:$T$239,\"BRD\")","v":3},1,1,1,6,5,4]
[null,"Südkorea",{"$f":"COUNTIF($S$12:$T$239,\"Südkorea\")","v":4},1,1,2,5,8,4]
[null,"Ecuador",{"$f":"COUNTIF($S$12:$T$239,\"Ecuador\")","v":3},1,1,1,4,3,4]
[null,"Kamerun",{"$f":"COUNTIF($S$12:$T$239,\"Kamerun\")","v":3},1,1,1,4,4,4]
[null,"Polen",{"$f":"COUNTIF($S$12:$T$239,\"Polen\")","v":4},1,1,2,3,5,4]
[null,"Uruguay",{"$f":"COUNTIF($S$12:$T$239,\"Uruguay\")","v":3},1,1,1,2,2,4]
[null,"Mexiko",{"$f":"COUNTIF($S$12:$T$239,\"Mexiko\")","v":3},1,1,1,2,3,4]
[null,"Tunesien",{"$f":"COUNTIF($S$12:$T$239,\"Tunesien\")","v":3},1,1,1,1,1,4]
[null,"Belgien",{"$f":"COUNTIF($S$12:$T$239,\"Belgien\")","v":3},1,1,1,1,2,4]
[null,"Ghana",{"$f":"COUNTIF($S$12:$T$239,\"Ghana\")","v":3},1,0,2,5,7,3]
[null,"Iran",{"$f":"COUNTIF($S$12:$T$239,\"Iran\")","v":3},1,0,2,4,7,3]
[null,"Saudi-Arabien",{"$f":"COUNTIF($S$12:$T$239,\"Saudi-Arabien\")","v":3},1,0,2,3,5,3]
[null,"Costa Rica",{"$f":"COUNTIF($S$12:$T$239,\"Costa Rica\")","v":3},1,0,2,3,11,3]
[null,"Serbien",{"$f":"COUNTIF($S$12:$T$239,\"Serbien\")","v":3},0,1,2,5,8,1]
[null,"Dänemark",{"$f":"COUNTIF($S$12:$T$239,\"Dänemark\")","v":3},0,1,2,1,3,1]
[null,"Wales",{"$f":"COUNTIF($S$12:$T$239,\"Wales\")","v":3},0,1,2,1,6,1]
[null,"Kanada",{"$f":"COUNTIF($S$12:$T$239,\"Kanada\")","v":3},0,0,3,2,7,0]
[null,"Katar",{"$f":"COUNTIF($S$12:$T$239,\"Katar\")","v":3},0,0,3,1,7,0]