{"text_format":"1","workbook":"xlsx","n_sheets":5,"sheets":["Eingabe","Routen","Touren","Airports","Flotte"],"not_rendered":{"charts":0,"images":1,"macros":1,"external_links":0,"defined_names":8,"comments":3,"pivot_tables":0},"unopened":[],"bounds":{"document_bytes":16777216,"sheet_cells":100000,"rows_first":2000,"rows_last":500,"rows_between":2000,"halvings":0,"cell_chars":16384,"cell_head_chars":4096},"cells_cut":0,"cells_raw":0,"read":"whole","date_system":"1900"}

{"sheet":"Eingabe","index":0,"n_rows":222,"n_cols":15,"rows_kept":222,"cut":false,"hidden":false,"merged":[]}
["Datum","FlugNr","ICAO","Flugzeug","Fluggesellschaft","Airport (Start)","Stadt (Start)","Land (Start)","Airport (Ankunft)","Land (Ankunft)","Airport Ankunft","Distanz ","Flugzeit","Landungen ","Landerate"]
["2025-09-12","IW12010","D-AIBC",{"$f":"VLOOKUP(C2,Flotte!A:B,2,0)","v":"Airbus A320 CFM_SL"},{"$f":"VLOOKUP(C2,Flotte!A:C,3,0)","v":"inter-wings"},{"$f":"VLOOKUP(B2,Routen!A:B, 2, 0)","v":"LJLJ"},{"$f":"VLOOKUP(F2,Airports!$A$2:$G$1256,2,0)","v":"Ljubliana-Jože-Pučnik"},{"$f":"VLOOKUP(F2,Airports!$A$2:$G$1256,4,0)","v":"Slowenien"},{"$f":"VLOOKUP(B2,Routen!A:F, 6, 0)","v":"LATI"},{"$f":"VLOOKUP(I2,Airports!$A$2:$G$1256,4,0)","v":"Albanien"},{"$f":"VLOOKUP(I2,Airports!$A$2:$G$1256,2,0)","v":"Tirana"},405,"01:00:00",{"$f":"VLOOKUP(I2,Airports!$A$2:$F$1256,6,0)","v":1},218]
["2025-09-13","IW12011","D-AIBC",{"$f":"VLOOKUP(C3,Flotte!A:B,2,0)","v":"Airbus A320 CFM_SL"},{"$f":"VLOOKUP(C3,Flotte!A:C,3,0)","v":"inter-wings"},{"$f":"VLOOKUP(B3,Routen!A:B, 2, 0)","v":"LATI"},{"$f":"VLOOKUP(F3,Airports!$A$2:$G$1256,2,0)","v":"Tirana"},{"$f":"VLOOKUP(F3,Airports!$A$2:$G$1256,4,0)","v":"Albanien"},{"$f":"VLOOKUP(B3,Routen!A:F, 6, 0)","v":"LBBG"},{"$f":"VLOOKUP(I3,Airports!$A$2:$G$1256,4,0)","v":"Bulgarien"},{"$f":"VLOOKUP(I3,Airports!$A$2:$G$1256,2,0)","v":"Burgas"},434,"01:06:00",{"$f":"VLOOKUP(I3,Airports!$A$2:$F$1256,6,0)","v":1},216]
["2025-09-13","IW12012","D-AIBC",{"$f":"VLOOKUP(C4,Flotte!A:B,2,0)","v":"Airbus A320 CFM_SL"},{"$f":"VLOOKUP(C4,Flotte!A:C,3,0)","v":"inter-wings"},{"$f":"VLOOKUP(B4,Routen!A:B, 2, 0)","v":"LBBG"},{"$f":"VLOOKUP(F4,Airports!$A$2:$G$1256,2,0)","v":"Burgas"},{"$f":"VLOOKUP(F4,Airports!$A$2:$G$1256,4,0)","v":"Bulgarien"},{"$f":"VLOOKUP(B4,Routen!A:F, 6, 0)","v":"LGAV"},{"$f":"VLOOKUP(I4,Airports!$A$2:$G$1256,4,0)","v":"Griechenland"},{"$f":"VLOOKUP(I4,Airports!$A$2:$G$1256,2,0)","v":"Athen"},431,"01:09:00",{"$f":"VLOOKUP(I4,Airports!$A$2:$F$1256,6,0)","v":1},211.5]
["2025-09-14","IW12013","D-AIBC",{"$f":"VLOOKUP(C5,Flotte!A:B,2,0)","v":"Airbus A320 CFM_SL"},{"$f":"VLOOKUP(C5,Flotte!A:C,3,0)","v":"inter-wings"},{"$f":"VLOOKUP(B5,Routen!A:B, 2, 0)","v":"LGAV"},{"$f":"VLOOKUP(F5,Airports!$A$2:$G$1256,2,0)","v":"Athen"},{"$f":"VLOOKUP(F5,Airports!$A$2:$G$1256,4,0)","v":"Griechenland"},{"$f":"VLOOKUP(B5,Routen!A:F, 6, 0)","v":"LYBE"},{"$f":"VLOOKUP(I5,Airports!$A$2:$G$1256,4,0)","v":"Serbien"},{"$f":"VLOOKUP(I5,Airports!$A$2:$G$1256,2,0)","v":"Nikola Tesla Belgrad"},530,"01:24:00",{"$f":"VLOOKUP(I5,Airports!$A$2:$F$1256,6,0)","v":1},218]
["2025-09-15","IW12014","D-AIBC",{"$f":"VLOOKUP(C6,Flotte!A:B,2,0)","v":"Airbus A320 CFM_SL"},{"$f":"VLOOKUP(C6,Flotte!A:C,3,0)","v":"inter-wings"},{"$f":"VLOOKUP(B6,Routen!A:B, 2, 0)","v":"LYBE"},{"$f":"VLOOKUP(F6,Airports!$A$2:$G$1256,2,0)","v":"Nikola Tesla Belgrad"},{"$f":"VLOOKUP(F6,Airports!$A$2:$G$1256,4,0)","v":"Serbien"},{"$f":"VLOOKUP(B6,Routen!A:F, 6, 0)","v":"LGRP"},{"$f":"VLOOKUP(I6,Airports!$A$2:$G$1256,4,0)","v":"Griechenland"},{"$f":"VLOOKUP(I6,Airports!$A$2:$G$1256,2,0)","v":"Rhodos-Diagoras"},673,"01:34:00",{"$f":"VLOOKUP(I6,Airports!$A$2:$F$1256,6,0)","v":1},212.4]
["2025-09-16","IW12015","D-AIBC",{"$f":"VLOOKUP(C7,Flotte!A:B,2,0)","v":"Airbus A320 CFM_SL"},{"$f":"VLOOKUP(C7,Flotte!A:C,3,0)","v":"inter-wings"},{"$f":"VLOOKUP(B7,Routen!A:B, 2, 0)","v":"LGRP"},{"$f":"VLOOKUP(F7,Airports!$A$2:$G$1256,2,0)","v":"Rhodos-Diagoras"},{"$f":"VLOOKUP(F7,Airports!$A$2:$G$1256,4,0)","v":"Griechenland"},{"$f":"VLOOKUP(B7,Routen!A:F, 6, 0)","v":"LDDU"},{"$f":"VLOOKUP(I7,Airports!$A$2:$G$1256,4,0)","v":"Kroatien"},{"$f":"VLOOKUP(I7,Airports!$A$2:$G$1256,2,0)","v":"Dubrovnik"},669,"01:51:00",{"$f":"VLOOKUP(I7,Airports!$A$2:$F$1256,6,0)","v":2},218]
["2025-09-16","IW12016","D-AIBC",{"$f":"VLOOKUP(C8,Flotte!A:B,2,0)","v":"Airbus A320 CFM_SL"},{"$f":"VLOOKUP(C8,Flotte!A:C,3,0)","v":"inter-wings"},{"$f":"VLOOKUP(B8,Routen!A:B, 2, 0)","v":"LDDU"},{"$f":"VLOOKUP(F8,Airports!$A$2:$G$1256,2,0)","v":"Dubrovnik"},{"$f":"VLOOKUP(F8,Airports!$A$2:$G$1256,4,0)","v":"Kroatien"},{"$f":"VLOOKUP(B8,Routen!A:F, 6, 0)","v":"LBSF"},{"$f":"VLOOKUP(I8,Airports!$A$2:$G$1256,4,0)","v":"Bulgarien"},{"$f":"VLOOKUP(I8,Airports!$A$2:$G$1256,2,0)","v":"Sofia"},296,"00:47:00",{"$f":"VLOOKUP(I8,Airports!$A$2:$F$1256,6,0)","v":1},217]
["2025-09-18","IW12017","D-AIBC",{"$f":"VLOOKUP(C9,Flotte!A:B,2,0)","v":"Airbus A320 CFM_SL"},{"$f":"VLOOKUP(C9,Flotte!A:C,3,0)","v":"inter-wings"},{"$f":"VLOOKUP(B9,Routen!A:B, 2, 0)","v":"LBSF"},{"$f":"VLOOKUP(F9,Airports!$A$2:$G$1256,2,0)","v":"Sofia"},{"$f":"VLOOKUP(F9,Airports!$A$2:$G$1256,4,0)","v":"Bulgarien"},{"$f":"VLOOKUP(B9,Routen!A:F, 6, 0)","v":"LQSA"},{"$f":"VLOOKUP(I9,Airports!$A$2:$G$1256,4,0)","v":"Bosnien & Herzegowina"},{"$f":"VLOOKUP(I9,Airports!$A$2:$G$1256,2,0)","v":"Sarajevo"},269,"00:49:00",{"$f":"VLOOKUP(I9,Airports!$A$2:$F$1256,6,0)","v":1},218]
["2025-09-20","IW12018","D-AIBC",{"$f":"VLOOKUP(C10,Flotte!A:B,2,0)","v":"Airbus A320 CFM_SL"},{"$f":"VLOOKUP(C10,Flotte!A:C,3,0)","v":"inter-wings"},{"$f":"VLOOKUP(B10,Routen!A:B, 2, 0)","v":"LQSA"},{"$f":"VLOOKUP(F10,Airports!$A$2:$G$1256,2,0)","v":"Sarajevo"},{"$f":"VLOOKUP(F10,Airports!$A$2:$G$1256,4,0)","v":"Bosnien & Herzegowina"},{"$f":"VLOOKUP(B10,Routen!A:F, 6, 0)","v":"LBWN"},{"$f":"VLOOKUP(I10,Airports!$A$2:$G$1256,4,0)","v":"Bulgarien"},{"$f":"VLOOKUP(I10,Airports!$A$2:$G$1256,2,0)","v":"Varna"},450,"01:12:00",{"$f":"VLOOKUP(I10,Airports!$A$2:$F$1256,6,0)","v":1},218]
["2025-09-22","IW12019","D-AIBC",{"$f":"VLOOKUP(C11,Flotte!A:B,2,0)","v":"Airbus A320 CFM_SL"},{"$f":"VLOOKUP(C11,Flotte!A:C,3,0)","v":"inter-wings"},{"$f":"VLOOKUP(B11,Routen!A:B, 2, 0)","v":"LBWN"},{"$f":"VLOOKUP(F11,Airports!$A$2:$G$1256,2,0)","v":"Varna"},{"$f":"VLOOKUP(F11,Airports!$A$2:$G$1256,4,0)","v":"Bulgarien"},{"$f":"VLOOKUP(B11,Routen!A:F, 6, 0)","v":"LYTV"},{"$f":"VLOOKUP(I11,Airports!$A$2:$G$1256,4,0)","v":"Montenegro"},{"$f":"VLOOKUP(I11,Airports!$A$2:$G$1256,2,0)","v":"Tivat"},432,"01:07:00",{"$f":"VLOOKUP(I11,Airports!$A$2:$F$1256,6,0)","v":1},212.3]
["2025-09-26","IW12020","D-AIBC",{"$f":"VLOOKUP(C12,Flotte!A:B,2,0)","v":"Airbus A320 CFM_SL"},{"$f":"VLOOKUP(C12,Flotte!A:C,3,0)","v":"inter-wings"},{"$f":"VLOOKUP(B12,Routen!A:B, 2, 0)","v":"LYTV"},{"$f":"VLOOKUP(F12,Airports!$A$2:$G$1256,2,0)","v":"Tivat"},{"$f":"VLOOKUP(F12,Airports!$A$2:$G$1256,4,0)","v":"Montenegro"},{"$f":"VLOOKUP(B12,Routen!A:F, 6, 0)","v":"LDZA"},{"$f":"VLOOKUP(I12,Airports!$A$2:$G$1256,4,0)","v":"Kroatien"},{"$f":"VLOOKUP(I12,Airports!$A$2:$G$1256,2,0)","v":"Zagreb"},274,"00:48:00",{"$f":"VLOOKUP(I12,Airports!$A$2:$F$1256,6,0)","v":3},218]
["2025-09-27","IW12021","D-AIBC",{"$f":"VLOOKUP(C13,Flotte!A:B,2,0)","v":"Airbus A320 CFM_SL"},{"$f":"VLOOKUP(C13,Flotte!A:C,3,0)","v":"inter-wings"},{"$f":"VLOOKUP(B13,Routen!A:B, 2, 0)","v":"LDZA"},{"$f":"VLOOKUP(F13,Airports!$A$2:$G$1256,2,0)","v":"Zagreb"},{"$f":"VLOOKUP(F13,Airports!$A$2:$G$1256,4,0)","v":"Kroatien"},{"$f":"VLOOKUP(B13,Routen!A:F, 6, 0)","v":"LGTS"},{"$f":"VLOOKUP(I13,Airports!$A$2:$G$1256,4,0)","v":"Griechenland"},{"$f":"VLOOKUP(I13,Airports!$A$2:$G$1256,2,0)","v":"Thessaloniki"},447,"01:10:00",{"$f":"VLOOKUP(I13,Airports!$A$2:$F$1256,6,0)","v":1},210.6]
["2025-09-27","IW12022","D-AIBC",{"$f":"VLOOKUP(C14,Flotte!A:B,2,0)","v":"Airbus A320 CFM_SL"},{"$f":"VLOOKUP(C14,Flotte!A:C,3,0)","v":"inter-wings"},{"$f":"VLOOKUP(B14,Routen!A:B, 2, 0)","v":"LGTS"},{"$f":"VLOOKUP(F14,Airports!$A$2:$G$1256,2,0)","v":"Thessaloniki"},{"$f":"VLOOKUP(F14,Airports!$A$2:$G$1256,4,0)","v":"Griechenland"},{"$f":"VLOOKUP(B14,Routen!A:F, 6, 0)","v":"LYPG"},{"$f":"VLOOKUP(I14,Airports!$A$2:$G$1256,4,0)","v":"Montenegro"},{"$f":"VLOOKUP(I14,Airports!$A$2:$G$1256,2,0)","v":"Podgorica"},254,"00:50:00",{"$f":"VLOOKUP(I14,Airports!$A$2:$F$1256,6,0)","v":1},213.4]
["2025-09-28","IW12023","D-AIBC",{"$f":"VLOOKUP(C15,Flotte!A:B,2,0)","v":"Airbus A320 CFM_SL"},{"$f":"VLOOKUP(C15,Flotte!A:C,3,0)","v":"inter-wings"},{"$f":"VLOOKUP(B15,Routen!A:B, 2, 0)","v":"LYPG"},{"$f":"VLOOKUP(F15,Airports!$A$2:$G$1256,2,0)","v":"Podgorica"},{"$f":"VLOOKUP(F15,Airports!$A$2:$G$1256,4,0)","v":"Montenegro"},{"$f":"VLOOKUP(B15,Routen!A:F, 6, 0)","v":"LDSP"},{"$f":"VLOOKUP(I15,Airports!$A$2:$G$1256,4,0)","v":"Kroatien"},{"$f":"VLOOKUP(I15,Airports!$A$2:$G$1256,2,0)","v":"Split"},225,"00:44:00",{"$f":"VLOOKUP(I15,Airports!$A$2:$F$1256,6,0)","v":1},218]
["2025-09-28","IW12024","D-AIBC",{"$f":"VLOOKUP(C16,Flotte!A:B,2,0)","v":"Airbus A320 CFM_SL"},{"$f":"VLOOKUP(C16,Flotte!A:C,3,0)","v":"inter-wings"},{"$f":"VLOOKUP(B16,Routen!A:B, 2, 0)","v":"LDSP"},{"$f":"VLOOKUP(F16,Airports!$A$2:$G$1256,2,0)","v":"Split"},{"$f":"VLOOKUP(F16,Airports!$A$2:$G$1256,4,0)","v":"Kroatien"},{"$f":"VLOOKUP(B16,Routen!A:F, 6, 0)","v":"BKPR"},{"$f":"VLOOKUP(I16,Airports!$A$2:$G$1256,4,0)","v":"Kosovo"},{"$f":"VLOOKUP(I16,Airports!$A$2:$G$1256,2,0)","v":"Adem Jashari/Pristina"},355,"01:15:00",{"$f":"VLOOKUP(I16,Airports!$A$2:$F$1256,6,0)","v":1},218]
["2025-09-29","IW12025","D-AIBC",{"$f":"VLOOKUP(C17,Flotte!A:B,2,0)","v":"Airbus A320 CFM_SL"},{"$f":"VLOOKUP(C17,Flotte!A:C,3,0)","v":"inter-wings"},{"$f":"VLOOKUP(B17,Routen!A:B, 2, 0)","v":"BKPR"},{"$f":"VLOOKUP(F17,Airports!$A$2:$G$1256,2,0)","v":"Adem Jashari/Pristina"},{"$f":"VLOOKUP(F17,Airports!$A$2:$G$1256,4,0)","v":"Kosovo"},{"$f":"VLOOKUP(B17,Routen!A:F, 6, 0)","v":"LJLJ"},{"$f":"VLOOKUP(I17,Airports!$A$2:$G$1256,4,0)","v":"Slowenien"},{"$f":"VLOOKUP(I17,Airports!$A$2:$G$1256,2,0)","v":"Ljubliana-Jože-Pučnik"},491,"01:32:00",{"$f":"VLOOKUP(I17,Airports!$A$2:$F$1256,6,0)","v":1},218]
["2025-09-20","T55001","D-AIBC",{"$f":"VLOOKUP(C18,Flotte!A:B,2,0)","v":"Airbus A320 CFM_SL"},{"$f":"VLOOKUP(C18,Flotte!A:C,3,0)","v":"inter-wings"},{"$f":"VLOOKUP(B18,Routen!A:B, 2, 0)","v":{"$error":"#N/A"}},{"$f":"VLOOKUP(F18,Airports!$A$2:$G$1256,2,0)","v":{"$error":"#N/A"}},{"$f":"VLOOKUP(F18,Airports!$A$2:$G$1256,4,0)","v":{"$error":"#N/A"}},{"$f":"VLOOKUP(B18,Routen!A:F, 6, 0)","v":{"$error":"#N/A"}},{"$f":"VLOOKUP(I18,Airports!$A$2:$G$1256,4,0)","v":{"$error":"#N/A"}},{"$f":"VLOOKUP(I18,Airports!$A$2:$G$1256,2,0)","v":{"$error":"#N/A"}},417,"01:04:00",{"$f":"VLOOKUP(I18,Airports!$A$2:$F$1256,6,0)","v":{"$error":"#N/A"}},218]
["2025-09-20","T55002","D-AIBC",{"$f":"VLOOKUP(C19,Flotte!A:B,2,0)","v":"Airbus A320 CFM_SL"},{"$f":"VLOOKUP(C19,Flotte!A:C,3,0)","v":"inter-wings"},{"$f":"VLOOKUP(B19,Routen!A:B, 2, 0)","v":{"$error":"#N/A"}},{"$f":"VLOOKUP(F19,Airports!$A$2:$G$1256,2,0)","v":{"$error":"#N/A"}},{"$f":"VLOOKUP(F19,Airports!$A$2:$G$1256,4,0)","v":{"$error":"#N/A"}},{"$f":"VLOOKUP(B19,Routen!A:F, 6, 0)","v":{"$error":"#N/A"}},{"$f":"VLOOKUP(I19,Airports!$A$2:$G$1256,4,0)","v":{"$error":"#N/A"}},{"$f":"VLOOKUP(I19,Airports!$A$2:$G$1256,2,0)","v":{"$error":"#N/A"}},596,"01:29:00",{"$f":"VLOOKUP(I19,Airports!$A$2:$F$1256,6,0)","v":{"$error":"#N/A"}},218]
["2025-09-26","T55003","D-AIBC",{"$f":"VLOOKUP(C20,Flotte!A:B,2,0)","v":"Airbus A320 CFM_SL"},{"$f":"VLOOKUP(C20,Flotte!A:C,3,0)","v":"inter-wings"},{"$f":"VLOOKUP(B20,Routen!A:B, 2, 0)","v":{"$error":"#N/A"}},{"$f":"VLOOKUP(F20,Airports!$A$2:$G$1256,2,0)","v":{"$error":"#N/A"}},{"$f":"VLOOKUP(F20,Airports!$A$2:$G$1256,4,0)","v":{"$error":"#N/A"}},{"$f":"VLOOKUP(B20,Routen!A:F, 6, 0)","v":{"$error":"#N/A"}},{"$f":"VLOOKUP(I20,Airports!$A$2:$G$1256,4,0)","v":{"$error":"#N/A"}},{"$f":"VLOOKUP(I20,Airports!$A$2:$G$1256,2,0)","v":{"$error":"#N/A"}},559,"01:27:00",{"$f":"VLOOKUP(I20,Airports!$A$2:$F$1256,6,0)","v":{"$error":"#N/A"}},218]
["2025-09-29","T55004","D-AIBC",{"$f":"VLOOKUP(C21,Flotte!A:B,2,0)","v":"Airbus A320 CFM_SL"},{"$f":"VLOOKUP(C21,Flotte!A:C,3,0)","v":"inter-wings"},{"$f":"VLOOKUP(B21,Routen!A:B, 2, 0)","v":{"$error":"#N/A"}},{"$f":"VLOOKUP(F21,Airports!$A$2:$G$1256,2,0)","v":{"$error":"#N/A"}},{"$f":"VLOOKUP(F21,Airports!$A$2:$G$1256,4,0)","v":{"$error":"#N/A"}},{"$f":"VLOOKUP(B21,Routen!A:F, 6, 0)","v":{"$error":"#N/A"}},{"$f":"VLOOKUP(I21,Airports!$A$2:$G$1256,4,0)","v":{"$error":"#N/A"}},{"$f":"VLOOKUP(I21,Airports!$A$2:$G$1256,2,0)","v":{"$error":"#N/A"}},546,"01:23:00",{"$f":"VLOOKUP(I21,Airports!$A$2:$F$1256,6,0)","v":{"$error":"#N/A"}},218]
["2025-10-10","T55005","D-AIAC",{"$f":"VLOOKUP(C22,Flotte!A:B,2,0)","v":"Airbus A319 CFM_SL"},{"$f":"VLOOKUP(C22,Flotte!A:C,3,0)","v":"inter-wings"},{"$f":"VLOOKUP(B22,Routen!A:B, 2, 0)","v":{"$error":"#N/A"}},{"$f":"VLOOKUP(F22,Airports!$A$2:$G$1256,2,0)","v":{"$error":"#N/A"}},{"$f":"VLOOKUP(F22,Airports!$A$2:$G$1256,4,0)","v":{"$error":"#N/A"}},{"$f":"VLOOKUP(B22,Routen!A:F, 6, 0)","v":{"$error":"#N/A"}},{"$f":"VLOOKUP(I22,Airports!$A$2:$G$1256,4,0)","v":{"$error":"#N/A"}},{"$f":"VLOOKUP(I22,Airports!$A$2:$G$1256,2,0)","v":{"$error":"#N/A"}},530,"01:24:00",{"$f":"VLOOKUP(I22,Airports!$A$2:$F$1256,6,0)","v":{"$error":"#N/A"}},218]
["2025-10-28","T55006","D-AIAC",{"$f":"VLOOKUP(C23,Flotte!A:B,2,0)","v":"Airbus A319 CFM_SL"},{"$f":"VLOOKUP(C23,Flotte!A:C,3,0)","v":"inter-wings"},{"$f":"VLOOKUP(B23,Routen!A:B, 2, 0)","v":{"$error":"#N/A"}},{"$f":"VLOOKUP(F23,Airports!$A$2:$G$1256,2,0)","v":{"$error":"#N/A"}},{"$f":"VLOOKUP(F23,Airports!$A$2:$G$1256,4,0)","v":{"$error":"#N/A"}},{"$f":"VLOOKUP(B23,Routen!A:F, 6, 0)","v":{"$error":"#N/A"}},{"$f":"VLOOKUP(I23,Airports!$A$2:$G$1256,4,0)","v":{"$error":"#N/A"}},{"$f":"VLOOKUP(I23,Airports!$A$2:$G$1256,2,0)","v":{"$error":"#N/A"}},348,"00:56:00",{"$f":"VLOOKUP(I23,Airports!$A$2:$F$1256,6,0)","v":{"$error":"#N/A"}},211.1]
["2025-11-10","T55007","D-AIBC",{"$f":"VLOOKUP(C24,Flotte!A:B,2,0)","v":"Airbus A320 CFM_SL"},{"$f":"VLOOKUP(C24,Flotte!A:C,3,0)","v":"inter-wings"},{"$f":"VLOOKUP(B24,Routen!A:B, 2, 0)","v":{"$error":"#N/A"}},{"$f":"VLOOKUP(F24,Airports!$A$2:$G$1256,2,0)","v":{"$error":"#N/A"}},{"$f":"VLOOKUP(F24,Airports!$A$2:$G$1256,4,0)","v":{"$error":"#N/A"}},{"$f":"VLOOKUP(B24,Routen!A:F, 6, 0)","v":{"$error":"#N/A"}},{"$f":"VLOOKUP(I24,Airports!$A$2:$G$1256,4,0)","v":{"$error":"#N/A"}},{"$f":"VLOOKUP(I24,Airports!$A$2:$G$1256,2,0)","v":{"$error":"#N/A"}},329,"00:55:00",{"$f":"VLOOKUP(I24,Airports!$A$2:$F$1256,6,0)","v":{"$error":"#N/A"}},212.26]
["2025-11-14","T55008","D-AIBC",{"$f":"VLOOKUP(C25,Flotte!A:B,2,0)","v":"Airbus A320 CFM_SL"},{"$f":"VLOOKUP(C25,Flotte!A:C,3,0)","v":"inter-wings"},{"$f":"VLOOKUP(B25,Routen!A:B, 2, 0)","v":{"$error":"#N/A"}},{"$f":"VLOOKUP(F25,Airports!$A$2:$G$1256,2,0)","v":{"$error":"#N/A"}},{"$f":"VLOOKUP(F25,Airports!$A$2:$G$1256,4,0)","v":{"$error":"#N/A"}},{"$f":"VLOOKUP(B25,Routen!A:F, 6, 0)","v":{"$error":"#N/A"}},{"$f":"VLOOKUP(I25,Airports!$A$2:$G$1256,4,0)","v":{"$error":"#N/A"}},{"$f":"VLOOKUP(I25,Airports!$A$2:$G$1256,2,0)","v":{"$error":"#N/A"}},506,"01:22:00",{"$f":"VLOOKUP(I25,Airports!$A$2:$F$1256,6,0)","v":{"$error":"#N/A"}},214]
["2025-11-14","T55009","D-AIBC",{"$f":"VLOOKUP(C26,Flotte!A:B,2,0)","v":"Airbus A320 CFM_SL"},{"$f":"VLOOKUP(C26,Flotte!A:C,3,0)","v":"inter-wings"},{"$f":"VLOOKUP(B26,Routen!A:B, 2, 0)","v":{"$error":"#N/A"}},{"$f":"VLOOKUP(F26,Airports!$A$2:$G$1256,2,0)","v":{"$error":"#N/A"}},{"$f":"VLOOKUP(F26,Airports!$A$2:$G$1256,4,0)","v":{"$error":"#N/A"}},{"$f":"VLOOKUP(B26,Routen!A:F, 6, 0)","v":{"$error":"#N/A"}},{"$f":"VLOOKUP(I26,Airports!$A$2:$G$1256,4,0)","v":{"$error":"#N/A"}},{"$f":"VLOOKUP(I26,Airports!$A$2:$G$1256,2,0)","v":{"$error":"#N/A"}},586,"01:28:00",{"$f":"VLOOKUP(I26,Airports!$A$2:$F$1256,6,0)","v":{"$error":"#N/A"}},215]
["2025-11-16","T55010","D-AIBC",{"$f":"VLOOKUP(C27,Flotte!A:B,2,0)","v":"Airbus A320 CFM_SL"},{"$f":"VLOOKUP(C27,Flotte!A:C,3,0)","v":"inter-wings"},{"$f":"VLOOKUP(B27,Routen!A:B, 2, 0)","v":{"$error":"#N/A"}},{"$f":"VLOOKUP(F27,Airports!$A$2:$G$1256,2,0)","v":{"$error":"#N/A"}},{"$f":"VLOOKUP(F27,Airports!$A$2:$G$1256,4,0)","v":{"$error":"#N/A"}},{"$f":"VLOOKUP(B27,Routen!A:F, 6, 0)","v":{"$error":"#N/A"}},{"$f":"VLOOKUP(I27,Airports!$A$2:$G$1256,4,0)","v":{"$error":"#N/A"}},{"$f":"VLOOKUP(I27,Airports!$A$2:$G$1256,2,0)","v":{"$error":"#N/A"}},397,"01:03:00",{"$f":"VLOOKUP(I27,Airports!$A$2:$F$1256,6,0)","v":{"$error":"#N/A"}},216]
["2025-11-18","T55011","D-AIBC",{"$f":"VLOOKUP(C28,Flotte!A:B,2,0)","v":"Airbus A320 CFM_SL"},{"$f":"VLOOKUP(C28,Flotte!A:C,3,0)","v":"inter-wings"},{"$f":"VLOOKUP(B28,Routen!A:B, 2, 0)","v":{"$error":"#N/A"}},{"$f":"VLOOKUP(F28,Airports!$A$2:$G$1256,2,0)","v":{"$error":"#N/A"}},{"$f":"VLOOKUP(F28,Airports!$A$2:$G$1256,4,0)","v":{"$error":"#N/A"}},{"$f":"VLOOKUP(B28,Routen!A:F, 6, 0)","v":{"$error":"#N/A"}},{"$f":"VLOOKUP(I28,Airports!$A$2:$G$1256,4,0)","v":{"$error":"#N/A"}},{"$f":"VLOOKUP(I28,Airports!$A$2:$G$1256,2,0)","v":{"$error":"#N/A"}},548,"01:29:00",{"$f":"VLOOKUP(I28,Airports!$A$2:$F$1256,6,0)","v":{"$error":"#N/A"}},218]
["2025-11-21","T55012","D-AIBC",{"$f":"VLOOKUP(C29,Flotte!A:B,2,0)","v":"Airbus A320 CFM_SL"},{"$f":"VLOOKUP(C29,Flotte!A:C,3,0)","v":"inter-wings"},{"$f":"VLOOKUP(B29,Routen!A:B, 2, 0)","v":{"$error":"#N/A"}},{"$f":"VLOOKUP(F29,Airports!$A$2:$G$1256,2,0)","v":{"$error":"#N/A"}},{"$f":"VLOOKUP(F29,Airports!$A$2:$G$1256,4,0)","v":{"$error":"#N/A"}},{"$f":"VLOOKUP(B29,Routen!A:F, 6, 0)","v":{"$error":"#N/A"}},{"$f":"VLOOKUP(I29,Airports!$A$2:$G$1256,4,0)","v":{"$error":"#N/A"}},{"$f":"VLOOKUP(I29,Airports!$A$2:$G$1256,2,0)","v":{"$error":"#N/A"}},837,"02:02:00",{"$f":"VLOOKUP(I29,Airports!$A$2:$F$1256,6,0)","v":{"$error":"#N/A"}},218]
["2025-12-02","T55013","D-AIBC",{"$f":"VLOOKUP(C30,Flotte!A:B,2,0)","v":"Airbus A320 CFM_SL"},{"$f":"VLOOKUP(C30,Flotte!A:C,3,0)","v":"inter-wings"},{"$f":"VLOOKUP(B30,Routen!A:B, 2, 0)","v":{"$error":"#N/A"}},{"$f":"VLOOKUP(F30,Airports!$A$2:$G$1256,2,0)","v":{"$error":"#N/A"}},{"$f":"VLOOKUP(F30,Airports!$A$2:$G$1256,4,0)","v":{"$error":"#N/A"}},{"$f":"VLOOKUP(B30,Routen!A:F, 6, 0)","v":{"$error":"#N/A"}},{"$f":"VLOOKUP(I30,Airports!$A$2:$G$1256,4,0)","v":{"$error":"#N/A"}},{"$f":"VLOOKUP(I30,Airports!$A$2:$G$1256,2,0)","v":{"$error":"#N/A"}},439,"01:09:00",{"$f":"VLOOKUP(I30,Airports!$A$2:$F$1256,6,0)","v":{"$error":"#N/A"}},212]
["2025-12-11","T55014","D-AIBC",{"$f":"VLOOKUP(C31,Flotte!A:B,2,0)","v":"Airbus A320 CFM_SL"},{"$f":"VLOOKUP(C31,Flotte!A:C,3,0)","v":"inter-wings"},{"$f":"VLOOKUP(B31,Routen!A:B, 2, 0)","v":{"$error":"#N/A"}},{"$f":"VLOOKUP(F31,Airports!$A$2:$G$1256,2,0)","v":{"$error":"#N/A"}},{"$f":"VLOOKUP(F31,Airports!$A$2:$G$1256,4,0)","v":{"$error":"#N/A"}},{"$f":"VLOOKUP(B31,Routen!A:F, 6, 0)","v":{"$error":"#N/A"}},{"$f":"VLOOKUP(I31,Airports!$A$2:$G$1256,4,0)","v":{"$error":"#N/A"}},{"$f":"VLOOKUP(I31,Airports!$A$2:$G$1256,2,0)","v":{"$error":"#N/A"}},587,"01:29:00",{"$f":"VLOOKUP(I31,Airports!$A$2:$F$1256,6,0)","v":{"$error":"#N/A"}},218]
["2025-12-11","T55015","D-AIBC",{"$f":"VLOOKUP(C32,Flotte!A:B,2,0)","v":"Airbus A320 CFM_SL"},{"$f":"VLOOKUP(C32,Flotte!A:C,3,0)","v":"inter-wings"},{"$f":"VLOOKUP(B32,Routen!A:B, 2, 0)","v":{"$error":"#N/A"}},{"$f":"VLOOKUP(F32,Airports!$A$2:$G$1256,2,0)","v":{"$error":"#N/A"}},{"$f":"VLOOKUP(F32,Airports!$A$2:$G$1256,4,0)","v":{"$error":"#N/A"}},{"$f":"VLOOKUP(B32,Routen!A:F, 6, 0)","v":{"$error":"#N/A"}},{"$f":"VLOOKUP(I32,Airports!$A$2:$G$1256,4,0)","v":{"$error":"#N/A"}},{"$f":"VLOOKUP(I32,Airports!$A$2:$G$1256,2,0)","v":{"$error":"#N/A"}},302,"00:48:00",{"$f":"VLOOKUP(I32,Airports!$A$2:$F$1256,6,0)","v":{"$error":"#N/A"}},213]
["2025-12-17","T55016","D-AIBC",{"$f":"VLOOKUP(C33,Flotte!A:B,2,0)","v":"Airbus A320 CFM_SL"},{"$f":"VLOOKUP(C33,Flotte!A:C,3,0)","v":"inter-wings"},{"$f":"VLOOKUP(B33,Routen!A:B, 2, 0)","v":{"$error":"#N/A"}},{"$f":"VLOOKUP(F33,Airports!$A$2:$G$1256,2,0)","v":{"$error":"#N/A"}},{"$f":"VLOOKUP(F33,Airports!$A$2:$G$1256,4,0)","v":{"$error":"#N/A"}},{"$f":"VLOOKUP(B33,Routen!A:F, 6, 0)","v":{"$error":"#N/A"}},{"$f":"VLOOKUP(I33,Airports!$A$2:$G$1256,4,0)","v":{"$error":"#N/A"}},{"$f":"VLOOKUP(I33,Airports!$A$2:$G$1256,2,0)","v":{"$error":"#N/A"}},321,"00:53:00",{"$f":"VLOOKUP(I33,Airports!$A$2:$F$1256,6,0)","v":{"$error":"#N/A"}},213.24]
["2025-12-22","T55017","D-AIBC",{"$f":"VLOOKUP(C34,Flotte!A:B,2,0)","v":"Airbus A320 CFM_SL"},{"$f":"VLOOKUP(C34,Flotte!A:C,3,0)","v":"inter-wings"},{"$f":"VLOOKUP(B34,Routen!A:B, 2, 0)","v":{"$error":"#N/A"}},{"$f":"VLOOKUP(F34,Airports!$A$2:$G$1256,2,0)","v":{"$error":"#N/A"}},{"$f":"VLOOKUP(F34,Airports!$A$2:$G$1256,4,0)","v":{"$error":"#N/A"}},{"$f":"VLOOKUP(B34,Routen!A:F, 6, 0)","v":{"$error":"#N/A"}},{"$f":"VLOOKUP(I34,Airports!$A$2:$G$1256,4,0)","v":{"$error":"#N/A"}},{"$f":"VLOOKUP(I34,Airports!$A$2:$G$1256,2,0)","v":{"$error":"#N/A"}},550,"01:39:00",{"$f":"VLOOKUP(I34,Airports!$A$2:$F$1256,6,0)","v":{"$error":"#N/A"}},214.37]
["2025-12-22","T55018","D-AIBC",{"$f":"VLOOKUP(C35,Flotte!A:B,2,0)","v":"Airbus A320 CFM_SL"},{"$f":"VLOOKUP(C35,Flotte!A:C,3,0)","v":"inter-wings"},{"$f":"VLOOKUP(B35,Routen!A:B, 2, 0)","v":{"$error":"#N/A"}},{"$f":"VLOOKUP(F35,Airports!$A$2:$G$1256,2,0)","v":{"$error":"#N/A"}},{"$f":"VLOOKUP(F35,Airports!$A$2:$G$1256,4,0)","v":{"$error":"#N/A"}},{"$f":"VLOOKUP(B35,Routen!A:F, 6, 0)","v":{"$error":"#N/A"}},{"$f":"VLOOKUP(I35,Airports!$A$2:$G$1256,4,0)","v":{"$error":"#N/A"}},{"$f":"VLOOKUP(I35,Airports!$A$2:$G$1256,2,0)","v":{"$error":"#N/A"}},448,"01:15:00",{"$f":"VLOOKUP(I35,Airports!$A$2:$F$1256,6,0)","v":{"$error":"#N/A"}},215.5]
["2025-12-23","T55019","D-AIBC",{"$f":"VLOOKUP(C36,Flotte!A:B,2,0)","v":"Airbus A320 CFM_SL"},{"$f":"VLOOKUP(C36,Flotte!A:C,3,0)","v":"inter-wings"},{"$f":"VLOOKUP(B36,Routen!A:B, 2, 0)","v":{"$error":"#N/A"}},{"$f":"VLOOKUP(F36,Airports!$A$2:$G$1256,2,0)","v":{"$error":"#N/A"}},{"$f":"VLOOKUP(F36,Airports!$A$2:$G$1256,4,0)","v":{"$error":"#N/A"}},{"$f":"VLOOKUP(B36,Routen!A:F, 6, 0)","v":{"$error":"#N/A"}},{"$f":"VLOOKUP(I36,Airports!$A$2:$G$1256,4,0)","v":{"$error":"#N/A"}},{"$f":"VLOOKUP(I36,Airports!$A$2:$G$1256,2,0)","v":{"$error":"#N/A"}},804,"02:08:00",{"$f":"VLOOKUP(I36,Airports!$A$2:$F$1256,6,0)","v":{"$error":"#N/A"}},214]
["2025-11-22","T55100","D-AIBC",{"$f":"VLOOKUP(C37,Flotte!A:B,2,0)","v":"Airbus A320 CFM_SL"},{"$f":"VLOOKUP(C37,Flotte!A:C,3,0)","v":"inter-wings"},{"$f":"VLOOKUP(B37,Routen!A:B, 2, 0)","v":{"$error":"#N/A"}},{"$f":"VLOOKUP(F37,Airports!$A$2:$G$1256,2,0)","v":{"$error":"#N/A"}},{"$f":"VLOOKUP(F37,Airports!$A$2:$G$1256,4,0)","v":{"$error":"#N/A"}},{"$f":"VLOOKUP(B37,Routen!A:F, 6, 0)","v":{"$error":"#N/A"}},{"$f":"VLOOKUP(I37,Airports!$A$2:$G$1256,4,0)","v":{"$error":"#N/A"}},{"$f":"VLOOKUP(I37,Airports!$A$2:$G$1256,2,0)","v":{"$error":"#N/A"}},735,"01:51:00",{"$f":"VLOOKUP(I37,Airports!$A$2:$F$1256,6,0)","v":{"$error":"#N/A"}},218]
["2025-11-23","T55101","D-AIBC",{"$f":"VLOOKUP(C38,Flotte!A:B,2,0)","v":"Airbus A320 CFM_SL"},{"$f":"VLOOKUP(C38,Flotte!A:C,3,0)","v":"inter-wings"},{"$f":"VLOOKUP(B38,Routen!A:B, 2, 0)","v":{"$error":"#N/A"}},{"$f":"VLOOKUP(F38,Airports!$A$2:$G$1256,2,0)","v":{"$error":"#N/A"}},{"$f":"VLOOKUP(F38,Airports!$A$2:$G$1256,4,0)","v":{"$error":"#N/A"}},{"$f":"VLOOKUP(B38,Routen!A:F, 6, 0)","v":{"$error":"#N/A"}},{"$f":"VLOOKUP(I38,Airports!$A$2:$G$1256,4,0)","v":{"$error":"#N/A"}},{"$f":"VLOOKUP(I38,Airports!$A$2:$G$1256,2,0)","v":{"$error":"#N/A"}},669,"01:42:00",{"$f":"VLOOKUP(I38,Airports!$A$2:$F$1256,6,0)","v":{"$error":"#N/A"}},217]
["2025-11-23","T55102","D-AIBC",{"$f":"VLOOKUP(C39,Flotte!A:B,2,0)","v":"Airbus A320 CFM_SL"},{"$f":"VLOOKUP(C39,Flotte!A:C,3,0)","v":"inter-wings"},{"$f":"VLOOKUP(B39,Routen!A:B, 2, 0)","v":{"$error":"#N/A"}},{"$f":"VLOOKUP(F39,Airports!$A$2:$G$1256,2,0)","v":{"$error":"#N/A"}},{"$f":"VLOOKUP(F39,Airports!$A$2:$G$1256,4,0)","v":{"$error":"#N/A"}},{"$f":"VLOOKUP(B39,Routen!A:F, 6, 0)","v":{"$error":"#N/A"}},{"$f":"VLOOKUP(I39,Airports!$A$2:$G$1256,4,0)","v":{"$error":"#N/A"}},{"$f":"VLOOKUP(I39,Airports!$A$2:$G$1256,2,0)","v":{"$error":"#N/A"}},577,"01:32:00",{"$f":"VLOOKUP(I39,Airports!$A$2:$F$1256,6,0)","v":{"$error":"#N/A"}},216]
["2025-11-24","T55103","D-AIBC",{"$f":"VLOOKUP(C40,Flotte!A:B,2,0)","v":"Airbus A320 CFM_SL"},{"$f":"VLOOKUP(C40,Flotte!A:C,3,0)","v":"inter-wings"},{"$f":"VLOOKUP(B40,Routen!A:B, 2, 0)","v":{"$error":"#N/A"}},{"$f":"VLOOKUP(F40,Airports!$A$2:$G$1256,2,0)","v":{"$error":"#N/A"}},{"$f":"VLOOKUP(F40,Airports!$A$2:$G$1256,4,0)","v":{"$error":"#N/A"}},{"$f":"VLOOKUP(B40,Routen!A:F, 6, 0)","v":{"$error":"#N/A"}},{"$f":"VLOOKUP(I40,Airports!$A$2:$G$1256,4,0)","v":{"$error":"#N/A"}},{"$f":"VLOOKUP(I40,Airports!$A$2:$G$1256,2,0)","v":{"$error":"#N/A"}},493,"01:19:00",{"$f":"VLOOKUP(I40,Airports!$A$2:$F$1256,6,0)","v":{"$error":"#N/A"}},215]
["2025-11-25","T55104","D-AIBC",{"$f":"VLOOKUP(C41,Flotte!A:B,2,0)","v":"Airbus A320 CFM_SL"},{"$f":"VLOOKUP(C41,Flotte!A:C,3,0)","v":"inter-wings"},{"$f":"VLOOKUP(B41,Routen!A:B, 2, 0)","v":{"$error":"#N/A"}},{"$f":"VLOOKUP(F41,Airports!$A$2:$G$1256,2,0)","v":{"$error":"#N/A"}},{"$f":"VLOOKUP(F41,Airports!$A$2:$G$1256,4,0)","v":{"$error":"#N/A"}},{"$f":"VLOOKUP(B41,Routen!A:F, 6, 0)","v":{"$error":"#N/A"}},{"$f":"VLOOKUP(I41,Airports!$A$2:$G$1256,4,0)","v":{"$error":"#N/A"}},{"$f":"VLOOKUP(I41,Airports!$A$2:$G$1256,2,0)","v":{"$error":"#N/A"}},530,"01:15:00",{"$f":"VLOOKUP(I41,Airports!$A$2:$F$1256,6,0)","v":{"$error":"#N/A"}},214]
["2025-11-25","T55105","D-AIBC",{"$f":"VLOOKUP(C42,Flotte!A:B,2,0)","v":"Airbus A320 CFM_SL"},{"$f":"VLOOKUP(C42,Flotte!A:C,3,0)","v":"inter-wings"},{"$f":"VLOOKUP(B42,Routen!A:B, 2, 0)","v":{"$error":"#N/A"}},{"$f":"VLOOKUP(F42,Airports!$A$2:$G$1256,2,0)","v":{"$error":"#N/A"}},{"$f":"VLOOKUP(F42,Airports!$A$2:$G$1256,4,0)","v":{"$error":"#N/A"}},{"$f":"VLOOKUP(B42,Routen!A:F, 6, 0)","v":{"$error":"#N/A"}},{"$f":"VLOOKUP(I42,Airports!$A$2:$G$1256,4,0)","v":{"$error":"#N/A"}},{"$f":"VLOOKUP(I42,Airports!$A$2:$G$1256,2,0)","v":{"$error":"#N/A"}},850,"02:04:00",{"$f":"VLOOKUP(I42,Airports!$A$2:$F$1256,6,0)","v":{"$error":"#N/A"}},213]
["2025-11-25","T55106","D-AIBC",{"$f":"VLOOKUP(C43,Flotte!A:B,2,0)","v":"Airbus A320 CFM_SL"},{"$f":"VLOOKUP(C43,Flotte!A:C,3,0)","v":"inter-wings"},{"$f":"VLOOKUP(B43,Routen!A:B, 2, 0)","v":{"$error":"#N/A"}},{"$f":"VLOOKUP(F43,Airports!$A$2:$G$1256,2,0)","v":{"$error":"#N/A"}},{"$f":"VLOOKUP(F43,Airports!$A$2:$G$1256,4,0)","v":{"$error":"#N/A"}},{"$f":"VLOOKUP(B43,Routen!A:F, 6, 0)","v":{"$error":"#N/A"}},{"$f":"VLOOKUP(I43,Airports!$A$2:$G$1256,4,0)","v":{"$error":"#N/A"}},{"$f":"VLOOKUP(I43,Airports!$A$2:$G$1256,2,0)","v":{"$error":"#N/A"}},917,"02:14:00",{"$f":"VLOOKUP(I43,Airports!$A$2:$F$1256,6,0)","v":{"$error":"#N/A"}},212]
["2025-11-26","T55107","D-AIBC",{"$f":"VLOOKUP(C44,Flotte!A:B,2,0)","v":"Airbus A320 CFM_SL"},{"$f":"VLOOKUP(C44,Flotte!A:C,3,0)","v":"inter-wings"},{"$f":"VLOOKUP(B44,Routen!A:B, 2, 0)","v":{"$error":"#N/A"}},{"$f":"VLOOKUP(F44,Airports!$A$2:$G$1256,2,0)","v":{"$error":"#N/A"}},{"$f":"VLOOKUP(F44,Airports!$A$2:$G$1256,4,0)","v":{"$error":"#N/A"}},{"$f":"VLOOKUP(B44,Routen!A:F, 6, 0)","v":{"$error":"#N/A"}},{"$f":"VLOOKUP(I44,Airports!$A$2:$G$1256,4,0)","v":{"$error":"#N/A"}},{"$f":"VLOOKUP(I44,Airports!$A$2:$G$1256,2,0)","v":{"$error":"#N/A"}},910,"02:08:00",{"$f":"VLOOKUP(I44,Airports!$A$2:$F$1256,6,0)","v":{"$error":"#N/A"}},211]
["2025-11-26","T55108","D-AIBC",{"$f":"VLOOKUP(C45,Flotte!A:B,2,0)","v":"Airbus A320 CFM_SL"},{"$f":"VLOOKUP(C45,Flotte!A:C,3,0)","v":"inter-wings"},{"$f":"VLOOKUP(B45,Routen!A:B, 2, 0)","v":{"$error":"#N/A"}},{"$f":"VLOOKUP(F45,Airports!$A$2:$G$1256,2,0)","v":{"$error":"#N/A"}},{"$f":"VLOOKUP(F45,Airports!$A$2:$G$1256,4,0)","v":{"$error":"#N/A"}},{"$f":"VLOOKUP(B45,Routen!A:F, 6, 0)","v":{"$error":"#N/A"}},{"$f":"VLOOKUP(I45,Airports!$A$2:$G$1256,4,0)","v":{"$error":"#N/A"}},{"$f":"VLOOKUP(I45,Airports!$A$2:$G$1256,2,0)","v":{"$error":"#N/A"}},1242,"02:37:00",{"$f":"VLOOKUP(I45,Airports!$A$2:$F$1256,6,0)","v":{"$error":"#N/A"}},210]
["2025-11-27","T55109","D-AIBC",{"$f":"VLOOKUP(C46,Flotte!A:B,2,0)","v":"Airbus A320 CFM_SL"},{"$f":"VLOOKUP(C46,Flotte!A:C,3,0)","v":"inter-wings"},{"$f":"VLOOKUP(B46,Routen!A:B, 2, 0)","v":{"$error":"#N/A"}},{"$f":"VLOOKUP(F46,Airports!$A$2:$G$1256,2,0)","v":{"$error":"#N/A"}},{"$f":"VLOOKUP(F46,Airports!$A$2:$G$1256,4,0)","v":{"$error":"#N/A"}},{"$f":"VLOOKUP(B46,Routen!A:F, 6, 0)","v":{"$error":"#N/A"}},{"$f":"VLOOKUP(I46,Airports!$A$2:$G$1256,4,0)","v":{"$error":"#N/A"}},{"$f":"VLOOKUP(I46,Airports!$A$2:$G$1256,2,0)","v":{"$error":"#N/A"}},779,"02:14:00",{"$f":"VLOOKUP(I46,Airports!$A$2:$F$1256,6,0)","v":{"$error":"#N/A"}},209]
["2025-11-27","T55110","D-AIBC",{"$f":"VLOOKUP(C47,Flotte!A:B,2,0)","v":"Airbus A320 CFM_SL"},{"$f":"VLOOKUP(C47,Flotte!A:C,3,0)","v":"inter-wings"},{"$f":"VLOOKUP(B47,Routen!A:B, 2, 0)","v":{"$error":"#N/A"}},{"$f":"VLOOKUP(F47,Airports!$A$2:$G$1256,2,0)","v":{"$error":"#N/A"}},{"$f":"VLOOKUP(F47,Airports!$A$2:$G$1256,4,0)","v":{"$error":"#N/A"}},{"$f":"VLOOKUP(B47,Routen!A:F, 6, 0)","v":{"$error":"#N/A"}},{"$f":"VLOOKUP(I47,Airports!$A$2:$G$1256,4,0)","v":{"$error":"#N/A"}},{"$f":"VLOOKUP(I47,Airports!$A$2:$G$1256,2,0)","v":{"$error":"#N/A"}},1474,"04:15:00",{"$f":"VLOOKUP(I47,Airports!$A$2:$F$1256,6,0)","v":{"$error":"#N/A"}},208]
["2025-11-28","T55111","D-AIBC",{"$f":"VLOOKUP(C48,Flotte!A:B,2,0)","v":"Airbus A320 CFM_SL"},{"$f":"VLOOKUP(C48,Flotte!A:C,3,0)","v":"inter-wings"},{"$f":"VLOOKUP(B48,Routen!A:B, 2, 0)","v":{"$error":"#N/A"}},{"$f":"VLOOKUP(F48,Airports!$A$2:$G$1256,2,0)","v":{"$error":"#N/A"}},{"$f":"VLOOKUP(F48,Airports!$A$2:$G$1256,4,0)","v":{"$error":"#N/A"}},{"$f":"VLOOKUP(B48,Routen!A:F, 6, 0)","v":{"$error":"#N/A"}},{"$f":"VLOOKUP(I48,Airports!$A$2:$G$1256,4,0)","v":{"$error":"#N/A"}},{"$f":"VLOOKUP(I48,Airports!$A$2:$G$1256,2,0)","v":{"$error":"#N/A"}},1111,"02:21:00",{"$f":"VLOOKUP(I48,Airports!$A$2:$F$1256,6,0)","v":{"$error":"#N/A"}},207]
["2026-01-24","T55200","D-AIAC",{"$f":"VLOOKUP(C49,Flotte!A:B,2,0)","v":"Airbus A319 CFM_SL"},{"$f":"VLOOKUP(C49,Flotte!A:C,3,0)","v":"inter-wings"},{"$f":"VLOOKUP(B49,Routen!A:B, 2, 0)","v":{"$error":"#N/A"}},{"$f":"VLOOKUP(F49,Airports!$A$2:$G$1256,2,0)","v":{"$error":"#N/A"}},{"$f":"VLOOKUP(F49,Airports!$A$2:$G$1256,4,0)","v":{"$error":"#N/A"}},{"$f":"VLOOKUP(B49,Routen!A:F, 6, 0)","v":{"$error":"#N/A"}},{"$f":"VLOOKUP(I49,Airports!$A$2:$G$1256,4,0)","v":{"$error":"#N/A"}},{"$f":"VLOOKUP(I49,Airports!$A$2:$G$1256,2,0)","v":{"$error":"#N/A"}},274,"01:05:00",{"$f":"VLOOKUP(I49,Airports!$A$2:$F$1256,6,0)","v":{"$error":"#N/A"}},380.6]
["2026-01-25","IW12050","D-AIAC",{"$f":"VLOOKUP(C50,Flotte!A:B,2,0)","v":"Airbus A319 CFM_SL"},{"$f":"VLOOKUP(C50,Flotte!A:C,3,0)","v":"inter-wings"},{"$f":"VLOOKUP(B50,Routen!A:B, 2, 0)","v":"EDDK"},{"$f":"VLOOKUP(F50,Airports!$A$2:$G$1256,2,0)","v":"Köln"},{"$f":"VLOOKUP(F50,Airports!$A$2:$G$1256,4,0)","v":"Deutschland"},{"$f":"VLOOKUP(B50,Routen!A:F, 6, 0)","v":"LIMC"},{"$f":"VLOOKUP(I50,Airports!$A$2:$G$1256,4,0)","v":"Italien"},{"$f":"VLOOKUP(I50,Airports!$A$2:$G$1256,2,0)","v":"Mailand-Malpensa"},453,"01:29:00",{"$f":"VLOOKUP(I50,Airports!$A$2:$F$1256,6,0)","v":2},182.73]
["2026-01-27","IW12059","D-AIAC",{"$f":"VLOOKUP(C51,Flotte!A:B,2,0)","v":"Airbus A319 CFM_SL"},{"$f":"VLOOKUP(C51,Flotte!A:C,3,0)","v":"inter-wings"},{"$f":"VLOOKUP(B51,Routen!A:B, 2, 0)","v":"LIMC"},{"$f":"VLOOKUP(F51,Airports!$A$2:$G$1256,2,0)","v":"Mailand-Malpensa"},{"$f":"VLOOKUP(F51,Airports!$A$2:$G$1256,4,0)","v":"Italien"},{"$f":"VLOOKUP(B51,Routen!A:F, 6, 0)","v":"EDDM"},{"$f":"VLOOKUP(I51,Airports!$A$2:$G$1256,4,0)","v":"Deutschland"},{"$f":"VLOOKUP(I51,Airports!$A$2:$G$1256,2,0)","v":"München"},263,"01:10:00",{"$f":"VLOOKUP(I51,Airports!$A$2:$F$1256,6,0)","v":3},402.78]
["2026-01-29","IW12052","D-AIBC",{"$f":"VLOOKUP(C52,Flotte!A:B,2,0)","v":"Airbus A320 CFM_SL"},{"$f":"VLOOKUP(C52,Flotte!A:C,3,0)","v":"inter-wings"},{"$f":"VLOOKUP(B52,Routen!A:B, 2, 0)","v":"EDDM"},{"$f":"VLOOKUP(F52,Airports!$A$2:$G$1256,2,0)","v":"München"},{"$f":"VLOOKUP(F52,Airports!$A$2:$G$1256,4,0)","v":"Deutschland"},{"$f":"VLOOKUP(B52,Routen!A:F, 6, 0)","v":"LEPA"},{"$f":"VLOOKUP(I52,Airports!$A$2:$G$1256,4,0)","v":"Spanien"},{"$f":"VLOOKUP(I52,Airports!$A$2:$G$1256,2,0)","v":"Palma de Mallorca"},725,"02:09:00",{"$f":"VLOOKUP(I52,Airports!$A$2:$F$1256,6,0)","v":3},291.38]
["2026-01-31","IW12051","D-AIBC",{"$f":"VLOOKUP(C53,Flotte!A:B,2,0)","v":"Airbus A320 CFM_SL"},{"$f":"VLOOKUP(C53,Flotte!A:C,3,0)","v":"inter-wings"},{"$f":"VLOOKUP(B53,Routen!A:B, 2, 0)","v":"LEPA"},{"$f":"VLOOKUP(F53,Airports!$A$2:$G$1256,2,0)","v":"Palma de Mallorca"},{"$f":"VLOOKUP(F53,Airports!$A$2:$G$1256,4,0)","v":"Spanien"},{"$f":"VLOOKUP(B53,Routen!A:F, 6, 0)","v":"EDDS"},{"$f":"VLOOKUP(I53,Airports!$A$2:$G$1256,4,0)","v":"Deutschland"},{"$f":"VLOOKUP(I53,Airports!$A$2:$G$1256,2,0)","v":"Stuttgart"},679,"02:01:00",{"$f":"VLOOKUP(I53,Airports!$A$2:$F$1256,6,0)","v":1},264.22000000000003]
["2026-02-02","IW12109","D-AIBC",{"$f":"VLOOKUP(C54,Flotte!A:B,2,0)","v":"Airbus A320 CFM_SL"},{"$f":"VLOOKUP(C54,Flotte!A:C,3,0)","v":"inter-wings"},{"$f":"VLOOKUP(B54,Routen!A:B, 2, 0)","v":"EDDS"},{"$f":"VLOOKUP(F54,Airports!$A$2:$G$1256,2,0)","v":"Stuttgart"},{"$f":"VLOOKUP(F54,Airports!$A$2:$G$1256,4,0)","v":"Deutschland"},{"$f":"VLOOKUP(B54,Routen!A:F, 6, 0)","v":"LDZA"},{"$f":"VLOOKUP(I54,Airports!$A$2:$G$1256,4,0)","v":"Kroatien"},{"$f":"VLOOKUP(I54,Airports!$A$2:$G$1256,2,0)","v":"Zagreb"},390,"01:18:00",{"$f":"VLOOKUP(I54,Airports!$A$2:$F$1256,6,0)","v":3},268.99]
["2026-02-04","IW12004","D-AIBC",{"$f":"VLOOKUP(C55,Flotte!A:B,2,0)","v":"Airbus A320 CFM_SL"},{"$f":"VLOOKUP(C55,Flotte!A:C,3,0)","v":"inter-wings"},{"$f":"VLOOKUP(B55,Routen!A:B, 2, 0)","v":"LDZA"},{"$f":"VLOOKUP(F55,Airports!$A$2:$G$1256,2,0)","v":"Zagreb"},{"$f":"VLOOKUP(F55,Airports!$A$2:$G$1256,4,0)","v":"Kroatien"},{"$f":"VLOOKUP(B55,Routen!A:F, 6, 0)","v":"EDDG"},{"$f":"VLOOKUP(I55,Airports!$A$2:$G$1256,4,0)","v":"Deutschland"},{"$f":"VLOOKUP(I55,Airports!$A$2:$G$1256,2,0)","v":"Münster-Osnabrück"},678,"02:06:00",{"$f":"VLOOKUP(I55,Airports!$A$2:$F$1256,6,0)","v":1},251.56]
["2026-02-06","IW12003","D-AIBC",{"$f":"VLOOKUP(C56,Flotte!A:B,2,0)","v":"Airbus A320 CFM_SL"},{"$f":"VLOOKUP(C56,Flotte!A:C,3,0)","v":"inter-wings"},{"$f":"VLOOKUP(B56,Routen!A:B, 2, 0)","v":"EDDG"},{"$f":"VLOOKUP(F56,Airports!$A$2:$G$1256,2,0)","v":"Münster-Osnabrück"},{"$f":"VLOOKUP(F56,Airports!$A$2:$G$1256,4,0)","v":"Deutschland"},{"$f":"VLOOKUP(B56,Routen!A:F, 6, 0)","v":"LEMG"},{"$f":"VLOOKUP(I56,Airports!$A$2:$G$1256,4,0)","v":"Spanien"},{"$f":"VLOOKUP(I56,Airports!$A$2:$G$1256,2,0)","v":"Malaga - Costa del Sol"},1192,"03:24:00",{"$f":"VLOOKUP(I56,Airports!$A$2:$F$1256,6,0)","v":1},222.71]
["2026-02-07","IW12054","D-AIBC",{"$f":"VLOOKUP(C57,Flotte!A:B,2,0)","v":"Airbus A320 CFM_SL"},{"$f":"VLOOKUP(C57,Flotte!A:C,3,0)","v":"inter-wings"},{"$f":"VLOOKUP(B57,Routen!A:B, 2, 0)","v":"LEMG"},{"$f":"VLOOKUP(F57,Airports!$A$2:$G$1256,2,0)","v":"Malaga - Costa del Sol"},{"$f":"VLOOKUP(F57,Airports!$A$2:$G$1256,4,0)","v":"Spanien"},{"$f":"VLOOKUP(B57,Routen!A:F, 6, 0)","v":"EDDM"},{"$f":"VLOOKUP(I57,Airports!$A$2:$G$1256,4,0)","v":"Deutschland"},{"$f":"VLOOKUP(I57,Airports!$A$2:$G$1256,2,0)","v":"München"},1074,"02:41:00",{"$f":"VLOOKUP(I57,Airports!$A$2:$F$1256,6,0)","v":3},495.85]
["2026-02-08","IW12053","D-AIBC",{"$f":"VLOOKUP(C58,Flotte!A:B,2,0)","v":"Airbus A320 CFM_SL"},{"$f":"VLOOKUP(C58,Flotte!A:C,3,0)","v":"inter-wings"},{"$f":"VLOOKUP(B58,Routen!A:B, 2, 0)","v":"EDDM"},{"$f":"VLOOKUP(F58,Airports!$A$2:$G$1256,2,0)","v":"München"},{"$f":"VLOOKUP(F58,Airports!$A$2:$G$1256,4,0)","v":"Deutschland"},{"$f":"VLOOKUP(B58,Routen!A:F, 6, 0)","v":"LFPO"},{"$f":"VLOOKUP(I58,Airports!$A$2:$G$1256,4,0)","v":"Frankreich"},{"$f":"VLOOKUP(I58,Airports!$A$2:$G$1256,2,0)","v":"Paris Orly"},484,"01:42:00",{"$f":"VLOOKUP(I58,Airports!$A$2:$F$1256,6,0)","v":1},212.84]
["2026-02-09","IW12037","D-AIBC",{"$f":"VLOOKUP(C59,Flotte!A:B,2,0)","v":"Airbus A320 CFM_SL"},{"$f":"VLOOKUP(C59,Flotte!A:C,3,0)","v":"inter-wings"},{"$f":"VLOOKUP(B59,Routen!A:B, 2, 0)","v":"LFPO"},{"$f":"VLOOKUP(F59,Airports!$A$2:$G$1256,2,0)","v":"Paris Orly"},{"$f":"VLOOKUP(F59,Airports!$A$2:$G$1256,4,0)","v":"Frankreich"},{"$f":"VLOOKUP(B59,Routen!A:F, 6, 0)","v":"EDDL"},{"$f":"VLOOKUP(I59,Airports!$A$2:$G$1256,4,0)","v":"Deutschland"},{"$f":"VLOOKUP(I59,Airports!$A$2:$G$1256,2,0)","v":"Düsseldorf (Original)"},266,"01:07:00",{"$f":"VLOOKUP(I59,Airports!$A$2:$F$1256,6,0)","v":46},302.02999999999997]
["2026-02-12","IW12036","D-AIBC",{"$f":"VLOOKUP(C60,Flotte!A:B,2,0)","v":"Airbus A320 CFM_SL"},{"$f":"VLOOKUP(C60,Flotte!A:C,3,0)","v":"inter-wings"},{"$f":"VLOOKUP(B60,Routen!A:B, 2, 0)","v":"EDDL"},{"$f":"VLOOKUP(F60,Airports!$A$2:$G$1256,2,0)","v":"Düsseldorf (Original)"},{"$f":"VLOOKUP(F60,Airports!$A$2:$G$1256,4,0)","v":"Deutschland"},{"$f":"VLOOKUP(B60,Routen!A:F, 6, 0)","v":"LDDU"},{"$f":"VLOOKUP(I60,Airports!$A$2:$G$1256,4,0)","v":"Kroatien"},{"$f":"VLOOKUP(I60,Airports!$A$2:$G$1256,2,0)","v":"Dubrovnik"},803,"02:13:00",{"$f":"VLOOKUP(I60,Airports!$A$2:$F$1256,6,0)","v":2},136.66]
["2026-02-13","IW12047","D-AIBC",{"$f":"VLOOKUP(C61,Flotte!A:B,2,0)","v":"Airbus A320 CFM_SL"},{"$f":"VLOOKUP(C61,Flotte!A:C,3,0)","v":"inter-wings"},{"$f":"VLOOKUP(B61,Routen!A:B, 2, 0)","v":"LDDU"},{"$f":"VLOOKUP(F61,Airports!$A$2:$G$1256,2,0)","v":"Dubrovnik"},{"$f":"VLOOKUP(F61,Airports!$A$2:$G$1256,4,0)","v":"Kroatien"},{"$f":"VLOOKUP(B61,Routen!A:F, 6, 0)","v":"EDDM"},{"$f":"VLOOKUP(I61,Airports!$A$2:$G$1256,4,0)","v":"Deutschland"},{"$f":"VLOOKUP(I61,Airports!$A$2:$G$1256,2,0)","v":"München"},470,"01:33:00",{"$f":"VLOOKUP(I61,Airports!$A$2:$F$1256,6,0)","v":3},264.04000000000002]
["2026-02-15","IW12026","D-AIBC",{"$f":"VLOOKUP(C62,Flotte!A:B,2,0)","v":"Airbus A320 CFM_SL"},{"$f":"VLOOKUP(C62,Flotte!A:C,3,0)","v":"inter-wings"},{"$f":"VLOOKUP(B62,Routen!A:B, 2, 0)","v":"EDDM"},{"$f":"VLOOKUP(F62,Airports!$A$2:$G$1256,2,0)","v":"München"},{"$f":"VLOOKUP(F62,Airports!$A$2:$G$1256,4,0)","v":"Deutschland"},{"$f":"VLOOKUP(B62,Routen!A:F, 6, 0)","v":"LEMD"},{"$f":"VLOOKUP(I62,Airports!$A$2:$G$1256,4,0)","v":"Spanien"},{"$f":"VLOOKUP(I62,Airports!$A$2:$G$1256,2,0)","v":"Madrid - Barajas"},889,"02:46:00",{"$f":"VLOOKUP(I62,Airports!$A$2:$F$1256,6,0)","v":1},152.55000000000001]
["2026-02-16","IW12031","D-AIBC",{"$f":"VLOOKUP(C63,Flotte!A:B,2,0)","v":"Airbus A320 CFM_SL"},{"$f":"VLOOKUP(C63,Flotte!A:C,3,0)","v":"inter-wings"},{"$f":"VLOOKUP(B63,Routen!A:B, 2, 0)","v":"LEMD"},{"$f":"VLOOKUP(F63,Airports!$A$2:$G$1256,2,0)","v":"Madrid - Barajas"},{"$f":"VLOOKUP(F63,Airports!$A$2:$G$1256,4,0)","v":"Spanien"},{"$f":"VLOOKUP(B63,Routen!A:F, 6, 0)","v":"EDDL"},{"$f":"VLOOKUP(I63,Airports!$A$2:$G$1256,4,0)","v":"Deutschland"},{"$f":"VLOOKUP(I63,Airports!$A$2:$G$1256,2,0)","v":"Düsseldorf (Original)"},879,"02:30:00",{"$f":"VLOOKUP(I63,Airports!$A$2:$F$1256,6,0)","v":46},354.99]
["2026-02-17","IW12055","D-AIBC",{"$f":"VLOOKUP(C64,Flotte!A:B,2,0)","v":"Airbus A320 CFM_SL"},{"$f":"VLOOKUP(C64,Flotte!A:C,3,0)","v":"inter-wings"},{"$f":"VLOOKUP(B64,Routen!A:B, 2, 0)","v":"EDDL"},{"$f":"VLOOKUP(F64,Airports!$A$2:$G$1256,2,0)","v":"Düsseldorf (Original)"},{"$f":"VLOOKUP(F64,Airports!$A$2:$G$1256,4,0)","v":"Deutschland"},{"$f":"VLOOKUP(B64,Routen!A:F, 6, 0)","v":"EDDB"},{"$f":"VLOOKUP(I64,Airports!$A$2:$G$1256,4,0)","v":"Deutschland"},{"$f":"VLOOKUP(I64,Airports!$A$2:$G$1256,2,0)","v":"Berlin-Brandenburg"},328,"01:15:00",{"$f":"VLOOKUP(I64,Airports!$A$2:$F$1256,6,0)","v":1},416.3]
["2026-02-20","IW12056","D-AIBC",{"$f":"VLOOKUP(C65,Flotte!A:B,2,0)","v":"Airbus A320 CFM_SL"},{"$f":"VLOOKUP(C65,Flotte!A:C,3,0)","v":"inter-wings"},{"$f":"VLOOKUP(B65,Routen!A:B, 2, 0)","v":"EDDB"},{"$f":"VLOOKUP(F65,Airports!$A$2:$G$1256,2,0)","v":"Berlin-Brandenburg"},{"$f":"VLOOKUP(F65,Airports!$A$2:$G$1256,4,0)","v":"Deutschland"},{"$f":"VLOOKUP(B65,Routen!A:F, 6, 0)","v":"ENGM"},{"$f":"VLOOKUP(I65,Airports!$A$2:$G$1256,4,0)","v":"Norwegen"},{"$f":"VLOOKUP(I65,Airports!$A$2:$G$1256,2,0)","v":"Oslo-Gardermoen"},614,"02:04:00",{"$f":"VLOOKUP(I65,Airports!$A$2:$F$1256,6,0)","v":1},445.97]
["2026-02-21","IW12049","D-AIBC",{"$f":"VLOOKUP(C66,Flotte!A:B,2,0)","v":"Airbus A320 CFM_SL"},{"$f":"VLOOKUP(C66,Flotte!A:C,3,0)","v":"inter-wings"},{"$f":"VLOOKUP(B66,Routen!A:B, 2, 0)","v":"ENGM"},{"$f":"VLOOKUP(F66,Airports!$A$2:$G$1256,2,0)","v":"Oslo-Gardermoen"},{"$f":"VLOOKUP(F66,Airports!$A$2:$G$1256,4,0)","v":"Norwegen"},{"$f":"VLOOKUP(B66,Routen!A:F, 6, 0)","v":"EDDK"},{"$f":"VLOOKUP(I66,Airports!$A$2:$G$1256,4,0)","v":"Deutschland"},{"$f":"VLOOKUP(I66,Airports!$A$2:$G$1256,2,0)","v":"Köln"},635,"02:04:00",{"$f":"VLOOKUP(I66,Airports!$A$2:$F$1256,6,0)","v":1},448.42]
["2026-02-23","IW12050","D-AIBC",{"$f":"VLOOKUP(C67,Flotte!A:B,2,0)","v":"Airbus A320 CFM_SL"},{"$f":"VLOOKUP(C67,Flotte!A:C,3,0)","v":"inter-wings"},{"$f":"VLOOKUP(B67,Routen!A:B, 2, 0)","v":"EDDK"},{"$f":"VLOOKUP(F67,Airports!$A$2:$G$1256,2,0)","v":"Köln"},{"$f":"VLOOKUP(F67,Airports!$A$2:$G$1256,4,0)","v":"Deutschland"},{"$f":"VLOOKUP(B67,Routen!A:F, 6, 0)","v":"LIMC"},{"$f":"VLOOKUP(I67,Airports!$A$2:$G$1256,4,0)","v":"Italien"},{"$f":"VLOOKUP(I67,Airports!$A$2:$G$1256,2,0)","v":"Mailand-Malpensa"},421,"01:19:00",{"$f":"VLOOKUP(I67,Airports!$A$2:$F$1256,6,0)","v":2},223.65]
["2026-02-24","IW12104","D-AIBC",{"$f":"VLOOKUP(C68,Flotte!A:B,2,0)","v":"Airbus A320 CFM_SL"},{"$f":"VLOOKUP(C68,Flotte!A:C,3,0)","v":"inter-wings"},{"$f":"VLOOKUP(B68,Routen!A:B, 2, 0)","v":"LIRI"},{"$f":"VLOOKUP(F68,Airports!$A$2:$G$1256,2,0)","v":"Salerno"},{"$f":"VLOOKUP(F68,Airports!$A$2:$G$1256,4,0)","v":"Italien"},{"$f":"VLOOKUP(B68,Routen!A:F, 6, 0)","v":"EDDL"},{"$f":"VLOOKUP(I68,Airports!$A$2:$G$1256,4,0)","v":"Deutschland"},{"$f":"VLOOKUP(I68,Airports!$A$2:$G$1256,2,0)","v":"Düsseldorf (Original)"},491,"01:35:00",{"$f":"VLOOKUP(I68,Airports!$A$2:$F$1256,6,0)","v":46},272.19]
["2026-02-25","IW12111","D-AIBC",{"$f":"VLOOKUP(C69,Flotte!A:B,2,0)","v":"Airbus A320 CFM_SL"},{"$f":"VLOOKUP(C69,Flotte!A:C,3,0)","v":"inter-wings"},{"$f":"VLOOKUP(B69,Routen!A:B, 2, 0)","v":"EDDP"},{"$f":"VLOOKUP(F69,Airports!$A$2:$G$1256,2,0)","v":"Leipzig-Halle"},{"$f":"VLOOKUP(F69,Airports!$A$2:$G$1256,4,0)","v":"Deutschland"},{"$f":"VLOOKUP(B69,Routen!A:F, 6, 0)","v":"LEPA"},{"$f":"VLOOKUP(I69,Airports!$A$2:$G$1256,4,0)","v":"Spanien"},{"$f":"VLOOKUP(I69,Airports!$A$2:$G$1256,2,0)","v":"Palma de Mallorca"},916,"02:31:00",{"$f":"VLOOKUP(I69,Airports!$A$2:$F$1256,6,0)","v":3},87.46]
["2026-02-27","IW12006","D-AIBC",{"$f":"VLOOKUP(C70,Flotte!A:B,2,0)","v":"Airbus A320 CFM_SL"},{"$f":"VLOOKUP(C70,Flotte!A:C,3,0)","v":"inter-wings"},{"$f":"VLOOKUP(B70,Routen!A:B, 2, 0)","v":"LEPA"},{"$f":"VLOOKUP(F70,Airports!$A$2:$G$1256,2,0)","v":"Palma de Mallorca"},{"$f":"VLOOKUP(F70,Airports!$A$2:$G$1256,4,0)","v":"Spanien"},{"$f":"VLOOKUP(B70,Routen!A:F, 6, 0)","v":"EDLP"},{"$f":"VLOOKUP(I70,Airports!$A$2:$G$1256,4,0)","v":"Deutschland"},{"$f":"VLOOKUP(I70,Airports!$A$2:$G$1256,2,0)","v":"Paderborn-Lippstadt"},917,"03:31:00",{"$f":"VLOOKUP(I70,Airports!$A$2:$F$1256,6,0)","v":1},274.8]
["2026-02-28","IW12005","D-AIBC",{"$f":"VLOOKUP(C71,Flotte!A:B,2,0)","v":"Airbus A320 CFM_SL"},{"$f":"VLOOKUP(C71,Flotte!A:C,3,0)","v":"inter-wings"},{"$f":"VLOOKUP(B71,Routen!A:B, 2, 0)","v":"EDLP"},{"$f":"VLOOKUP(F71,Airports!$A$2:$G$1256,2,0)","v":"Paderborn-Lippstadt"},{"$f":"VLOOKUP(F71,Airports!$A$2:$G$1256,4,0)","v":"Deutschland"},{"$f":"VLOOKUP(B71,Routen!A:F, 6, 0)","v":"LIRF"},{"$f":"VLOOKUP(I71,Airports!$A$2:$G$1256,4,0)","v":"Italien"},{"$f":"VLOOKUP(I71,Airports!$A$2:$G$1256,2,0)","v":"Rom-Fiumicino"},659,"01:59:00",{"$f":"VLOOKUP(I71,Airports!$A$2:$F$1256,6,0)","v":2},198.84]
["2026-03-10","IW12002","D-AIBC",{"$f":"VLOOKUP(C72,Flotte!A:B,2,0)","v":"Airbus A320 CFM_SL"},{"$f":"VLOOKUP(C72,Flotte!A:C,3,0)","v":"inter-wings"},{"$f":"VLOOKUP(B72,Routen!A:B, 2, 0)","v":"EDDL"},{"$f":"VLOOKUP(F72,Airports!$A$2:$G$1256,2,0)","v":"Düsseldorf (Original)"},{"$f":"VLOOKUP(F72,Airports!$A$2:$G$1256,4,0)","v":"Deutschland"},{"$f":"VLOOKUP(B72,Routen!A:F, 6, 0)","v":"LTAI"},{"$f":"VLOOKUP(I72,Airports!$A$2:$G$1256,4,0)","v":"Türkei"},{"$f":"VLOOKUP(I72,Airports!$A$2:$G$1256,2,0)","v":"Antalya"},1390,"03:33:00",{"$f":"VLOOKUP(I72,Airports!$A$2:$F$1256,6,0)","v":1},221.35]
["2026-03-11","IW12034","D-AIBC",{"$f":"VLOOKUP(C73,Flotte!A:B,2,0)","v":"Airbus A320 CFM_SL"},{"$f":"VLOOKUP(C73,Flotte!A:C,3,0)","v":"inter-wings"},{"$f":"VLOOKUP(B73,Routen!A:B, 2, 0)","v":"LTAI"},{"$f":"VLOOKUP(F73,Airports!$A$2:$G$1256,2,0)","v":"Antalya"},{"$f":"VLOOKUP(F73,Airports!$A$2:$G$1256,4,0)","v":"Türkei"},{"$f":"VLOOKUP(B73,Routen!A:F, 6, 0)","v":"EDDL"},{"$f":"VLOOKUP(I73,Airports!$A$2:$G$1256,4,0)","v":"Deutschland"},{"$f":"VLOOKUP(I73,Airports!$A$2:$G$1256,2,0)","v":"Düsseldorf (Original)"},1409,"03:48:00",{"$f":"VLOOKUP(I73,Airports!$A$2:$F$1256,6,0)","v":46},276.27]
["2026-03-16","IW12027","D-AIBC",{"$f":"VLOOKUP(C74,Flotte!A:B,2,0)","v":"Airbus A320 CFM_SL"},{"$f":"VLOOKUP(C74,Flotte!A:C,3,0)","v":"inter-wings"},{"$f":"VLOOKUP(B74,Routen!A:B, 2, 0)","v":"EDDM"},{"$f":"VLOOKUP(F74,Airports!$A$2:$G$1256,2,0)","v":"München"},{"$f":"VLOOKUP(F74,Airports!$A$2:$G$1256,4,0)","v":"Deutschland"},{"$f":"VLOOKUP(B74,Routen!A:F, 6, 0)","v":"LEVC"},{"$f":"VLOOKUP(I74,Airports!$A$2:$G$1256,4,0)","v":"Spanien"},{"$f":"VLOOKUP(I74,Airports!$A$2:$G$1256,2,0)","v":"Valencia"},833,"02:17:00",{"$f":"VLOOKUP(I74,Airports!$A$2:$F$1256,6,0)","v":1},131.57]
["2026-03-18","IW12057","D-AIBC",{"$f":"VLOOKUP(C75,Flotte!A:B,2,0)","v":"Airbus A320 CFM_SL"},{"$f":"VLOOKUP(C75,Flotte!A:C,3,0)","v":"inter-wings"},{"$f":"VLOOKUP(B75,Routen!A:B, 2, 0)","v":"LEVC"},{"$f":"VLOOKUP(F75,Airports!$A$2:$G$1256,2,0)","v":"Valencia"},{"$f":"VLOOKUP(F75,Airports!$A$2:$G$1256,4,0)","v":"Spanien"},{"$f":"VLOOKUP(B75,Routen!A:F, 6, 0)","v":"EDDV"},{"$f":"VLOOKUP(I75,Airports!$A$2:$G$1256,4,0)","v":"Deutschland"},{"$f":"VLOOKUP(I75,Airports!$A$2:$G$1256,2,0)","v":"Hannover"},944,"02:42:00",{"$f":"VLOOKUP(I75,Airports!$A$2:$F$1256,6,0)","v":1},303.69]
["2026-03-19","IW12058","D-AIBC",{"$f":"VLOOKUP(C76,Flotte!A:B,2,0)","v":"Airbus A320 CFM_SL"},{"$f":"VLOOKUP(C76,Flotte!A:C,3,0)","v":"inter-wings"},{"$f":"VLOOKUP(B76,Routen!A:B, 2, 0)","v":"EDDV"},{"$f":"VLOOKUP(F76,Airports!$A$2:$G$1256,2,0)","v":"Hannover"},{"$f":"VLOOKUP(F76,Airports!$A$2:$G$1256,4,0)","v":"Deutschland"},{"$f":"VLOOKUP(B76,Routen!A:F, 6, 0)","v":"LDZA"},{"$f":"VLOOKUP(I76,Airports!$A$2:$G$1256,4,0)","v":"Kroatien"},{"$f":"VLOOKUP(I76,Airports!$A$2:$G$1256,2,0)","v":"Zagreb"},567,"01:36:00",{"$f":"VLOOKUP(I76,Airports!$A$2:$F$1256,6,0)","v":3},233.17]
["2026-03-19","IW12032","D-AIBC",{"$f":"VLOOKUP(C77,Flotte!A:B,2,0)","v":"Airbus A320 CFM_SL"},{"$f":"VLOOKUP(C77,Flotte!A:C,3,0)","v":"inter-wings"},{"$f":"VLOOKUP(B77,Routen!A:B, 2, 0)","v":"LDZA"},{"$f":"VLOOKUP(F77,Airports!$A$2:$G$1256,2,0)","v":"Zagreb"},{"$f":"VLOOKUP(F77,Airports!$A$2:$G$1256,4,0)","v":"Kroatien"},{"$f":"VLOOKUP(B77,Routen!A:F, 6, 0)","v":"EDDL"},{"$f":"VLOOKUP(I77,Airports!$A$2:$G$1256,4,0)","v":"Deutschland"},{"$f":"VLOOKUP(I77,Airports!$A$2:$G$1256,2,0)","v":"Düsseldorf (Original)"},559,"01:45:00",{"$f":"VLOOKUP(I77,Airports!$A$2:$F$1256,6,0)","v":46},119.91]
["2026-03-20","IW12001","D-AIBC",{"$f":"VLOOKUP(C78,Flotte!A:B,2,0)","v":"Airbus A320 CFM_SL"},{"$f":"VLOOKUP(C78,Flotte!A:C,3,0)","v":"inter-wings"},{"$f":"VLOOKUP(B78,Routen!A:B, 2, 0)","v":"EDDL"},{"$f":"VLOOKUP(F78,Airports!$A$2:$G$1256,2,0)","v":"Düsseldorf (Original)"},{"$f":"VLOOKUP(F78,Airports!$A$2:$G$1256,4,0)","v":"Deutschland"},{"$f":"VLOOKUP(B78,Routen!A:F, 6, 0)","v":"LICA"},{"$f":"VLOOKUP(I78,Airports!$A$2:$G$1256,4,0)","v":"Italien"},{"$f":"VLOOKUP(I78,Airports!$A$2:$G$1256,2,0)","v":"Lamezia Terme"},923,"02:38:00",{"$f":"VLOOKUP(I78,Airports!$A$2:$F$1256,6,0)","v":1},198.42]
["2026-03-22","IW12044","D-AIAC",{"$f":"VLOOKUP(C79,Flotte!A:B,2,0)","v":"Airbus A319 CFM_SL"},{"$f":"VLOOKUP(C79,Flotte!A:C,3,0)","v":"inter-wings"},{"$f":"VLOOKUP(B79,Routen!A:B, 2, 0)","v":"EDDL"},{"$f":"VLOOKUP(F79,Airports!$A$2:$G$1256,2,0)","v":"Düsseldorf (Original)"},{"$f":"VLOOKUP(F79,Airports!$A$2:$G$1256,4,0)","v":"Deutschland"},{"$f":"VLOOKUP(B79,Routen!A:F, 6, 0)","v":"LIBF"},{"$f":"VLOOKUP(I79,Airports!$A$2:$G$1256,4,0)","v":"Italien"},{"$f":"VLOOKUP(I79,Airports!$A$2:$G$1256,2,0)","v":"Foggia"},746,"02:16:00",{"$f":"VLOOKUP(I79,Airports!$A$2:$F$1256,6,0)","v":1},189.76]
["2026-03-22","IW12045","D-AIAC",{"$f":"VLOOKUP(C80,Flotte!A:B,2,0)","v":"Airbus A319 CFM_SL"},{"$f":"VLOOKUP(C80,Flotte!A:C,3,0)","v":"inter-wings"},{"$f":"VLOOKUP(B80,Routen!A:B, 2, 0)","v":"LIBF"},{"$f":"VLOOKUP(F80,Airports!$A$2:$G$1256,2,0)","v":"Foggia"},{"$f":"VLOOKUP(F80,Airports!$A$2:$G$1256,4,0)","v":"Italien"},{"$f":"VLOOKUP(B80,Routen!A:F, 6, 0)","v":"EDDL"},{"$f":"VLOOKUP(I80,Airports!$A$2:$G$1256,4,0)","v":"Deutschland"},{"$f":"VLOOKUP(I80,Airports!$A$2:$G$1256,2,0)","v":"Düsseldorf (Original)"},716,"02:01:00",{"$f":"VLOOKUP(I80,Airports!$A$2:$F$1256,6,0)","v":46},203.45]
["2026-03-23","IW12048","D-AIAC",{"$f":"VLOOKUP(C81,Flotte!A:B,2,0)","v":"Airbus A319 CFM_SL"},{"$f":"VLOOKUP(C81,Flotte!A:C,3,0)","v":"inter-wings"},{"$f":"VLOOKUP(B81,Routen!A:B, 2, 0)","v":"EDDL"},{"$f":"VLOOKUP(F81,Airports!$A$2:$G$1256,2,0)","v":"Düsseldorf (Original)"},{"$f":"VLOOKUP(F81,Airports!$A$2:$G$1256,4,0)","v":"Deutschland"},{"$f":"VLOOKUP(B81,Routen!A:F, 6, 0)","v":"LIBP"},{"$f":"VLOOKUP(I81,Airports!$A$2:$G$1256,4,0)","v":"Italien"},{"$f":"VLOOKUP(I81,Airports!$A$2:$G$1256,2,0)","v":"Pescara"},656,"01:53:00",{"$f":"VLOOKUP(I81,Airports!$A$2:$F$1256,6,0)","v":1},210.78]
["2026-03-23","IW12112","D-AIAC",{"$f":"VLOOKUP(C82,Flotte!A:B,2,0)","v":"Airbus A319 CFM_SL"},{"$f":"VLOOKUP(C82,Flotte!A:C,3,0)","v":"inter-wings"},{"$f":"VLOOKUP(B82,Routen!A:B, 2, 0)","v":"LIBP"},{"$f":"VLOOKUP(F82,Airports!$A$2:$G$1256,2,0)","v":"Pescara"},{"$f":"VLOOKUP(F82,Airports!$A$2:$G$1256,4,0)","v":"Italien"},{"$f":"VLOOKUP(B82,Routen!A:F, 6, 0)","v":"EDDL"},{"$f":"VLOOKUP(I82,Airports!$A$2:$G$1256,4,0)","v":"Deutschland"},{"$f":"VLOOKUP(I82,Airports!$A$2:$G$1256,2,0)","v":"Düsseldorf (Original)"},661,"02:26:00",{"$f":"VLOOKUP(I82,Airports!$A$2:$F$1256,6,0)","v":46},349.33]
["2026-03-24","IW12113","D-AIAC",{"$f":"VLOOKUP(C83,Flotte!A:B,2,0)","v":"Airbus A319 CFM_SL"},{"$f":"VLOOKUP(C83,Flotte!A:C,3,0)","v":"inter-wings"},{"$f":"VLOOKUP(B83,Routen!A:B, 2, 0)","v":"EDDL"},{"$f":"VLOOKUP(F83,Airports!$A$2:$G$1256,2,0)","v":"Düsseldorf (Original)"},{"$f":"VLOOKUP(F83,Airports!$A$2:$G$1256,4,0)","v":"Deutschland"},{"$f":"VLOOKUP(B83,Routen!A:F, 6, 0)","v":"LIBC"},{"$f":"VLOOKUP(I83,Airports!$A$2:$G$1256,4,0)","v":"Italien"},{"$f":"VLOOKUP(I83,Airports!$A$2:$G$1256,2,0)","v":"Crotone  / Kalabrien"},952,11720,{"$f":"VLOOKUP(I83,Airports!$A$2:$F$1256,6,0)","v":1},77.739999999999995]
["2026-03-24","IW12114","D-AIAC",{"$f":"VLOOKUP(C84,Flotte!A:B,2,0)","v":"Airbus A319 CFM_SL"},{"$f":"VLOOKUP(C84,Flotte!A:C,3,0)","v":"inter-wings"},{"$f":"VLOOKUP(B84,Routen!A:B, 2, 0)","v":"LIBC"},{"$f":"VLOOKUP(F84,Airports!$A$2:$G$1256,2,0)","v":"Crotone  / Kalabrien"},{"$f":"VLOOKUP(F84,Airports!$A$2:$G$1256,4,0)","v":"Italien"},{"$f":"VLOOKUP(B84,Routen!A:F, 6, 0)","v":"EDDL"},{"$f":"VLOOKUP(I84,Airports!$A$2:$G$1256,4,0)","v":"Deutschland"},{"$f":"VLOOKUP(I84,Airports!$A$2:$G$1256,2,0)","v":"Düsseldorf (Original)"},953,11720.041666666701,{"$f":"VLOOKUP(I84,Airports!$A$2:$F$1256,6,0)","v":46},157.25]
["2026-03-24","IW12115","D-AIAC",{"$f":"VLOOKUP(C85,Flotte!A:B,2,0)","v":"Airbus A319 CFM_SL"},{"$f":"VLOOKUP(C85,Flotte!A:C,3,0)","v":"inter-wings"},{"$f":"VLOOKUP(B85,Routen!A:B, 2, 0)","v":"EDDL"},{"$f":"VLOOKUP(F85,Airports!$A$2:$G$1256,2,0)","v":"Düsseldorf (Original)"},{"$f":"VLOOKUP(F85,Airports!$A$2:$G$1256,4,0)","v":"Deutschland"},{"$f":"VLOOKUP(B85,Routen!A:F, 6, 0)","v":"LIPX"},{"$f":"VLOOKUP(I85,Airports!$A$2:$G$1256,4,0)","v":"Italien"},{"$f":"VLOOKUP(I85,Airports!$A$2:$G$1256,2,0)","v":"Verona-Villafranca"},463,"01:19:00",{"$f":"VLOOKUP(I85,Airports!$A$2:$F$1256,6,0)","v":1},301.77]
["2026-03-24","IW12116","D-AIAC",{"$f":"VLOOKUP(C86,Flotte!A:B,2,0)","v":"Airbus A319 CFM_SL"},{"$f":"VLOOKUP(C86,Flotte!A:C,3,0)","v":"inter-wings"},{"$f":"VLOOKUP(B86,Routen!A:B, 2, 0)","v":"LIPX"},{"$f":"VLOOKUP(F86,Airports!$A$2:$G$1256,2,0)","v":"Verona-Villafranca"},{"$f":"VLOOKUP(F86,Airports!$A$2:$G$1256,4,0)","v":"Italien"},{"$f":"VLOOKUP(B86,Routen!A:F, 6, 0)","v":"EDDL"},{"$f":"VLOOKUP(I86,Airports!$A$2:$G$1256,4,0)","v":"Deutschland"},{"$f":"VLOOKUP(I86,Airports!$A$2:$G$1256,2,0)","v":"Düsseldorf (Original)"},463,"01:46:00",{"$f":"VLOOKUP(I86,Airports!$A$2:$F$1256,6,0)","v":46},278.35000000000002]
["2026-03-25","IW12117","D-AIAC",{"$f":"VLOOKUP(C87,Flotte!A:B,2,0)","v":"Airbus A319 CFM_SL"},{"$f":"VLOOKUP(C87,Flotte!A:C,3,0)","v":"inter-wings"},{"$f":"VLOOKUP(B87,Routen!A:B, 2, 0)","v":"EDDL"},{"$f":"VLOOKUP(F87,Airports!$A$2:$G$1256,2,0)","v":"Düsseldorf (Original)"},{"$f":"VLOOKUP(F87,Airports!$A$2:$G$1256,4,0)","v":"Deutschland"},{"$f":"VLOOKUP(B87,Routen!A:F, 6, 0)","v":"LIMF"},{"$f":"VLOOKUP(I87,Airports!$A$2:$G$1256,4,0)","v":"Italien"},{"$f":"VLOOKUP(I87,Airports!$A$2:$G$1256,2,0)","v":"Turin-Caselle"},438,"01:26:00",{"$f":"VLOOKUP(I87,Airports!$A$2:$F$1256,6,0)","v":1},124.56]
["2026-03-25","IW12118","D-AIAC",{"$f":"VLOOKUP(C88,Flotte!A:B,2,0)","v":"Airbus A319 CFM_SL"},{"$f":"VLOOKUP(C88,Flotte!A:C,3,0)","v":"inter-wings"},{"$f":"VLOOKUP(B88,Routen!A:B, 2, 0)","v":"LIMF"},{"$f":"VLOOKUP(F88,Airports!$A$2:$G$1256,2,0)","v":"Turin-Caselle"},{"$f":"VLOOKUP(F88,Airports!$A$2:$G$1256,4,0)","v":"Italien"},{"$f":"VLOOKUP(B88,Routen!A:F, 6, 0)","v":"EDDL"},{"$f":"VLOOKUP(I88,Airports!$A$2:$G$1256,4,0)","v":"Deutschland"},{"$f":"VLOOKUP(I88,Airports!$A$2:$G$1256,2,0)","v":"Düsseldorf (Original)"},468,"01:32:00",{"$f":"VLOOKUP(I88,Airports!$A$2:$F$1256,6,0)","v":46},130.30000000000001]
["2026-03-26","IW12119","D-AIAC",{"$f":"VLOOKUP(C89,Flotte!A:B,2,0)","v":"Airbus A319 CFM_SL"},{"$f":"VLOOKUP(C89,Flotte!A:C,3,0)","v":"inter-wings"},{"$f":"VLOOKUP(B89,Routen!A:B, 2, 0)","v":"EDDL"},{"$f":"VLOOKUP(F89,Airports!$A$2:$G$1256,2,0)","v":"Düsseldorf (Original)"},{"$f":"VLOOKUP(F89,Airports!$A$2:$G$1256,4,0)","v":"Deutschland"},{"$f":"VLOOKUP(B89,Routen!A:F, 6, 0)","v":"LICR"},{"$f":"VLOOKUP(I89,Airports!$A$2:$G$1256,4,0)","v":"Italien"},{"$f":"VLOOKUP(I89,Airports!$A$2:$G$1256,2,0)","v":"Regio Calabria"},988,"02:37:00",{"$f":"VLOOKUP(I89,Airports!$A$2:$F$1256,6,0)","v":1},290.94]
["2026-03-26","IW12120","D-AIAC",{"$f":"VLOOKUP(C90,Flotte!A:B,2,0)","v":"Airbus A319 CFM_SL"},{"$f":"VLOOKUP(C90,Flotte!A:C,3,0)","v":"inter-wings"},{"$f":"VLOOKUP(B90,Routen!A:B, 2, 0)","v":"LICR"},{"$f":"VLOOKUP(F90,Airports!$A$2:$G$1256,2,0)","v":"Regio Calabria"},{"$f":"VLOOKUP(F90,Airports!$A$2:$G$1256,4,0)","v":"Italien"},{"$f":"VLOOKUP(B90,Routen!A:F, 6, 0)","v":"EDDL"},{"$f":"VLOOKUP(I90,Airports!$A$2:$G$1256,4,0)","v":"Deutschland"},{"$f":"VLOOKUP(I90,Airports!$A$2:$G$1256,2,0)","v":"Düsseldorf (Original)"},939,"02:42:00",{"$f":"VLOOKUP(I90,Airports!$A$2:$F$1256,6,0)","v":46},119.44]
["2026-03-27","IW12121","D-AIAC",{"$f":"VLOOKUP(C91,Flotte!A:B,2,0)","v":"Airbus A319 CFM_SL"},{"$f":"VLOOKUP(C91,Flotte!A:C,3,0)","v":"inter-wings"},{"$f":"VLOOKUP(B91,Routen!A:B, 2, 0)","v":"EDDL"},{"$f":"VLOOKUP(F91,Airports!$A$2:$G$1256,2,0)","v":"Düsseldorf (Original)"},{"$f":"VLOOKUP(F91,Airports!$A$2:$G$1256,4,0)","v":"Deutschland"},{"$f":"VLOOKUP(B91,Routen!A:F, 6, 0)","v":"LIEO"},{"$f":"VLOOKUP(I91,Airports!$A$2:$G$1256,4,0)","v":"Italien"},{"$f":"VLOOKUP(I91,Airports!$A$2:$G$1256,2,0)","v":"Olbia / Costa Smeralda"},760,"02:06:00",{"$f":"VLOOKUP(I91,Airports!$A$2:$F$1256,6,0)","v":1},245.51]
["2026-03-27","IW12122","D-AIAC",{"$f":"VLOOKUP(C92,Flotte!A:B,2,0)","v":"Airbus A319 CFM_SL"},{"$f":"VLOOKUP(C92,Flotte!A:C,3,0)","v":"inter-wings"},{"$f":"VLOOKUP(B92,Routen!A:B, 2, 0)","v":"LIEO"},{"$f":"VLOOKUP(F92,Airports!$A$2:$G$1256,2,0)","v":"Olbia / Costa Smeralda"},{"$f":"VLOOKUP(F92,Airports!$A$2:$G$1256,4,0)","v":"Italien"},{"$f":"VLOOKUP(B92,Routen!A:F, 6, 0)","v":"EDDL"},{"$f":"VLOOKUP(I92,Airports!$A$2:$G$1256,4,0)","v":"Deutschland"},{"$f":"VLOOKUP(I92,Airports!$A$2:$G$1256,2,0)","v":"Düsseldorf (Original)"},712,"02:11:00",{"$f":"VLOOKUP(I92,Airports!$A$2:$F$1256,6,0)","v":46},281.95]
["2026-03-28","IW12028","D-AIAC",{"$f":"VLOOKUP(C93,Flotte!A:B,2,0)","v":"Airbus A319 CFM_SL"},{"$f":"VLOOKUP(C93,Flotte!A:C,3,0)","v":"inter-wings"},{"$f":"VLOOKUP(B93,Routen!A:B, 2, 0)","v":"EDDL"},{"$f":"VLOOKUP(F93,Airports!$A$2:$G$1256,2,0)","v":"Düsseldorf (Original)"},{"$f":"VLOOKUP(F93,Airports!$A$2:$G$1256,4,0)","v":"Deutschland"},{"$f":"VLOOKUP(B93,Routen!A:F, 6, 0)","v":"LIMJ"},{"$f":"VLOOKUP(I93,Airports!$A$2:$G$1256,4,0)","v":"Italien"},{"$f":"VLOOKUP(I93,Airports!$A$2:$G$1256,2,0)","v":"Genua-Sestri"},531,"01:35:00",{"$f":"VLOOKUP(I93,Airports!$A$2:$F$1256,6,0)","v":1},231.48]
["2026-03-28","IW12035","D-AIAC",{"$f":"VLOOKUP(C94,Flotte!A:B,2,0)","v":"Airbus A319 CFM_SL"},{"$f":"VLOOKUP(C94,Flotte!A:C,3,0)","v":"inter-wings"},{"$f":"VLOOKUP(B94,Routen!A:B, 2, 0)","v":"LIMJ"},{"$f":"VLOOKUP(F94,Airports!$A$2:$G$1256,2,0)","v":"Genua-Sestri"},{"$f":"VLOOKUP(F94,Airports!$A$2:$G$1256,4,0)","v":"Italien"},{"$f":"VLOOKUP(B94,Routen!A:F, 6, 0)","v":"EDDL"},{"$f":"VLOOKUP(I94,Airports!$A$2:$G$1256,4,0)","v":"Deutschland"},{"$f":"VLOOKUP(I94,Airports!$A$2:$G$1256,2,0)","v":"Düsseldorf (Original)"},500,"01:31:00",{"$f":"VLOOKUP(I94,Airports!$A$2:$F$1256,6,0)","v":46},270.41000000000003]
["2026-03-29","IW12123","D-AIAC",{"$f":"VLOOKUP(C95,Flotte!A:B,2,0)","v":"Airbus A319 CFM_SL"},{"$f":"VLOOKUP(C95,Flotte!A:C,3,0)","v":"inter-wings"},{"$f":"VLOOKUP(B95,Routen!A:B, 2, 0)","v":"EDDL"},{"$f":"VLOOKUP(F95,Airports!$A$2:$G$1256,2,0)","v":"Düsseldorf (Original)"},{"$f":"VLOOKUP(F95,Airports!$A$2:$G$1256,4,0)","v":"Deutschland"},{"$f":"VLOOKUP(B95,Routen!A:F, 6, 0)","v":"LIML"},{"$f":"VLOOKUP(I95,Airports!$A$2:$G$1256,4,0)","v":"Italien"},{"$f":"VLOOKUP(I95,Airports!$A$2:$G$1256,2,0)","v":"Mailand Linate"},410,"01:20:00",{"$f":"VLOOKUP(I95,Airports!$A$2:$F$1256,6,0)","v":1},139.34]
["2026-03-30","IW12124","D-AIAC",{"$f":"VLOOKUP(C96,Flotte!A:B,2,0)","v":"Airbus A319 CFM_SL"},{"$f":"VLOOKUP(C96,Flotte!A:C,3,0)","v":"inter-wings"},{"$f":"VLOOKUP(B96,Routen!A:B, 2, 0)","v":"LIML"},{"$f":"VLOOKUP(F96,Airports!$A$2:$G$1256,2,0)","v":"Mailand Linate"},{"$f":"VLOOKUP(F96,Airports!$A$2:$G$1256,4,0)","v":"Italien"},{"$f":"VLOOKUP(B96,Routen!A:F, 6, 0)","v":"EDDL"},{"$f":"VLOOKUP(I96,Airports!$A$2:$G$1256,4,0)","v":"Deutschland"},{"$f":"VLOOKUP(I96,Airports!$A$2:$G$1256,2,0)","v":"Düsseldorf (Original)"},463,"01:38:00",{"$f":"VLOOKUP(I96,Airports!$A$2:$F$1256,6,0)","v":46},288.52]
["2026-04-01","IW12042","D-AIAC",{"$f":"VLOOKUP(C97,Flotte!A:B,2,0)","v":"Airbus A319 CFM_SL"},{"$f":"VLOOKUP(C97,Flotte!A:C,3,0)","v":"inter-wings"},{"$f":"VLOOKUP(B97,Routen!A:B, 2, 0)","v":"EDDL"},{"$f":"VLOOKUP(F97,Airports!$A$2:$G$1256,2,0)","v":"Düsseldorf (Original)"},{"$f":"VLOOKUP(F97,Airports!$A$2:$G$1256,4,0)","v":"Deutschland"},{"$f":"VLOOKUP(B97,Routen!A:F, 6, 0)","v":"LIBD"},{"$f":"VLOOKUP(I97,Airports!$A$2:$G$1256,4,0)","v":"Italien"},{"$f":"VLOOKUP(I97,Airports!$A$2:$G$1256,2,0)","v":"Bari-Karol Wojtyla"},809,"02:23:00",{"$f":"VLOOKUP(I97,Airports!$A$2:$F$1256,6,0)","v":1},138.16999999999999]
["2026-04-02","IW12043","D-AIAC",{"$f":"VLOOKUP(C98,Flotte!A:B,2,0)","v":"Airbus A319 CFM_SL"},{"$f":"VLOOKUP(C98,Flotte!A:C,3,0)","v":"inter-wings"},{"$f":"VLOOKUP(B98,Routen!A:B, 2, 0)","v":"LIBD"},{"$f":"VLOOKUP(F98,Airports!$A$2:$G$1256,2,0)","v":"Bari-Karol Wojtyla"},{"$f":"VLOOKUP(F98,Airports!$A$2:$G$1256,4,0)","v":"Italien"},{"$f":"VLOOKUP(B98,Routen!A:F, 6, 0)","v":"EDDL"},{"$f":"VLOOKUP(I98,Airports!$A$2:$G$1256,4,0)","v":"Deutschland"},{"$f":"VLOOKUP(I98,Airports!$A$2:$G$1256,2,0)","v":"Düsseldorf (Original)"},792,"02:03:00",{"$f":"VLOOKUP(I98,Airports!$A$2:$F$1256,6,0)","v":46},267.29000000000002]
["2026-04-03","IW12041","D-AIAC",{"$f":"VLOOKUP(C99,Flotte!A:B,2,0)","v":"Airbus A319 CFM_SL"},{"$f":"VLOOKUP(C99,Flotte!A:C,3,0)","v":"inter-wings"},{"$f":"VLOOKUP(B99,Routen!A:B, 2, 0)","v":"EDDL"},{"$f":"VLOOKUP(F99,Airports!$A$2:$G$1256,2,0)","v":"Düsseldorf (Original)"},{"$f":"VLOOKUP(F99,Airports!$A$2:$G$1256,4,0)","v":"Deutschland"},{"$f":"VLOOKUP(B99,Routen!A:F, 6, 0)","v":"LICC"},{"$f":"VLOOKUP(I99,Airports!$A$2:$G$1256,4,0)","v":"Italien"},{"$f":"VLOOKUP(I99,Airports!$A$2:$G$1256,2,0)","v":"Catania-Fontanarossa"},951,"02:35:00",{"$f":"VLOOKUP(I99,Airports!$A$2:$F$1256,6,0)","v":1},104.13]
["2026-04-03","IW12038","D-AIAC",{"$f":"VLOOKUP(C100,Flotte!A:B,2,0)","v":"Airbus A319 CFM_SL"},{"$f":"VLOOKUP(C100,Flotte!A:C,3,0)","v":"inter-wings"},{"$f":"VLOOKUP(B100,Routen!A:B, 2, 0)","v":"LICC"},{"$f":"VLOOKUP(F100,Airports!$A$2:$G$1256,2,0)","v":"Catania-Fontanarossa"},{"$f":"VLOOKUP(F100,Airports!$A$2:$G$1256,4,0)","v":"Italien"},{"$f":"VLOOKUP(B100,Routen!A:F, 6, 0)","v":"EDDL"},{"$f":"VLOOKUP(I100,Airports!$A$2:$G$1256,4,0)","v":"Deutschland"},{"$f":"VLOOKUP(I100,Airports!$A$2:$G$1256,2,0)","v":"Düsseldorf (Original)"},975,"02:34:00",{"$f":"VLOOKUP(I100,Airports!$A$2:$F$1256,6,0)","v":46},142.55000000000001]
["2026-04-04","IW12125","D-AIAC",{"$f":"VLOOKUP(C101,Flotte!A:B,2,0)","v":"Airbus A319 CFM_SL"},{"$f":"VLOOKUP(C101,Flotte!A:C,3,0)","v":"inter-wings"},{"$f":"VLOOKUP(B101,Routen!A:B, 2, 0)","v":"EDDL"},{"$f":"VLOOKUP(F101,Airports!$A$2:$G$1256,2,0)","v":"Düsseldorf (Original)"},{"$f":"VLOOKUP(F101,Airports!$A$2:$G$1256,4,0)","v":"Deutschland"},{"$f":"VLOOKUP(B101,Routen!A:F, 6, 0)","v":"LIPE"},{"$f":"VLOOKUP(I101,Airports!$A$2:$G$1256,4,0)","v":"Italien"},{"$f":"VLOOKUP(I101,Airports!$A$2:$G$1256,2,0)","v":"Bologna"},507,"01:33:00",{"$f":"VLOOKUP(I101,Airports!$A$2:$F$1256,6,0)","v":1},91.35]
["2026-04-05","IW12126","D-AIAC",{"$f":"VLOOKUP(C102,Flotte!A:B,2,0)","v":"Airbus A319 CFM_SL"},{"$f":"VLOOKUP(C102,Flotte!A:C,3,0)","v":"inter-wings"},{"$f":"VLOOKUP(B102,Routen!A:B, 2, 0)","v":"LIPE"},{"$f":"VLOOKUP(F102,Airports!$A$2:$G$1256,2,0)","v":"Bologna"},{"$f":"VLOOKUP(F102,Airports!$A$2:$G$1256,4,0)","v":"Italien"},{"$f":"VLOOKUP(B102,Routen!A:F, 6, 0)","v":"EDDL"},{"$f":"VLOOKUP(I102,Airports!$A$2:$G$1256,4,0)","v":"Deutschland"},{"$f":"VLOOKUP(I102,Airports!$A$2:$G$1256,2,0)","v":"Düsseldorf (Original)"},519,"01:36:00",{"$f":"VLOOKUP(I102,Airports!$A$2:$F$1256,6,0)","v":46},117.86]
["2026-04-11","IW12127","D-AIAC",{"$f":"VLOOKUP(C103,Flotte!A:B,2,0)","v":"Airbus A319 CFM_SL"},{"$f":"VLOOKUP(C103,Flotte!A:C,3,0)","v":"inter-wings"},{"$f":"VLOOKUP(B103,Routen!A:B, 2, 0)","v":"EDDL"},{"$f":"VLOOKUP(F103,Airports!$A$2:$G$1256,2,0)","v":"Düsseldorf (Original)"},{"$f":"VLOOKUP(F103,Airports!$A$2:$G$1256,4,0)","v":"Deutschland"},{"$f":"VLOOKUP(B103,Routen!A:F, 6, 0)","v":"LIMP"},{"$f":"VLOOKUP(I103,Airports!$A$2:$G$1256,4,0)","v":"Italien"},{"$f":"VLOOKUP(I103,Airports!$A$2:$G$1256,2,0)","v":"Parma"},456,"01:28:00",{"$f":"VLOOKUP(I103,Airports!$A$2:$F$1256,6,0)","v":2},116.33]
["2026-04-12","IW12128","D-AIAC",{"$f":"VLOOKUP(C104,Flotte!A:B,2,0)","v":"Airbus A319 CFM_SL"},{"$f":"VLOOKUP(C104,Flotte!A:C,3,0)","v":"inter-wings"},{"$f":"VLOOKUP(B104,Routen!A:B, 2, 0)","v":"LIMP"},{"$f":"VLOOKUP(F104,Airports!$A$2:$G$1256,2,0)","v":"Parma"},{"$f":"VLOOKUP(F104,Airports!$A$2:$G$1256,4,0)","v":"Italien"},{"$f":"VLOOKUP(B104,Routen!A:F, 6, 0)","v":"EDDL"},{"$f":"VLOOKUP(I104,Airports!$A$2:$G$1256,4,0)","v":"Deutschland"},{"$f":"VLOOKUP(I104,Airports!$A$2:$G$1256,2,0)","v":"Düsseldorf (Original)"},488,"01:57:00",{"$f":"VLOOKUP(I104,Airports!$A$2:$F$1256,6,0)","v":46},141.49]
["2026-04-13","IW12129","D-AIAC",{"$f":"VLOOKUP(C105,Flotte!A:B,2,0)","v":"Airbus A319 CFM_SL"},{"$f":"VLOOKUP(C105,Flotte!A:C,3,0)","v":"inter-wings"},{"$f":"VLOOKUP(B105,Routen!A:B, 2, 0)","v":"EDDL"},{"$f":"VLOOKUP(F105,Airports!$A$2:$G$1256,2,0)","v":"Düsseldorf (Original)"},{"$f":"VLOOKUP(F105,Airports!$A$2:$G$1256,4,0)","v":"Deutschland"},{"$f":"VLOOKUP(B105,Routen!A:F, 6, 0)","v":"LIME"},{"$f":"VLOOKUP(I105,Airports!$A$2:$G$1256,4,0)","v":"Italien"},{"$f":"VLOOKUP(I105,Airports!$A$2:$G$1256,2,0)","v":"Bergamo"},470,"01:32:00",{"$f":"VLOOKUP(I105,Airports!$A$2:$F$1256,6,0)","v":1},149.91]
["2026-04-14","IW12130","D-AIAC",{"$f":"VLOOKUP(C106,Flotte!A:B,2,0)","v":"Airbus A319 CFM_SL"},{"$f":"VLOOKUP(C106,Flotte!A:C,3,0)","v":"inter-wings"},{"$f":"VLOOKUP(B106,Routen!A:B, 2, 0)","v":"LIME"},{"$f":"VLOOKUP(F106,Airports!$A$2:$G$1256,2,0)","v":"Bergamo"},{"$f":"VLOOKUP(F106,Airports!$A$2:$G$1256,4,0)","v":"Italien"},{"$f":"VLOOKUP(B106,Routen!A:F, 6, 0)","v":"EDDL"},{"$f":"VLOOKUP(I106,Airports!$A$2:$G$1256,4,0)","v":"Deutschland"},{"$f":"VLOOKUP(I106,Airports!$A$2:$G$1256,2,0)","v":"Düsseldorf (Original)"},472,"01:43:00",{"$f":"VLOOKUP(I106,Airports!$A$2:$F$1256,6,0)","v":46},266.79000000000002]
["2026-04-15","IW12131","D-AIAC",{"$f":"VLOOKUP(C107,Flotte!A:B,2,0)","v":"Airbus A319 CFM_SL"},{"$f":"VLOOKUP(C107,Flotte!A:C,3,0)","v":"inter-wings"},{"$f":"VLOOKUP(B107,Routen!A:B, 2, 0)","v":"EDDL"},{"$f":"VLOOKUP(F107,Airports!$A$2:$G$1256,2,0)","v":"Düsseldorf (Original)"},{"$f":"VLOOKUP(F107,Airports!$A$2:$G$1256,4,0)","v":"Deutschland"},{"$f":"VLOOKUP(B107,Routen!A:F, 6, 0)","v":"LIBR"},{"$f":"VLOOKUP(I107,Airports!$A$2:$G$1256,4,0)","v":"Italien"},{"$f":"VLOOKUP(I107,Airports!$A$2:$G$1256,2,0)","v":"Brindisi"},844,"02:23:00",{"$f":"VLOOKUP(I107,Airports!$A$2:$F$1256,6,0)","v":1},156.21]
["2026-04-16","IW12132","D-AIAC",{"$f":"VLOOKUP(C108,Flotte!A:B,2,0)","v":"Airbus A319 CFM_SL"},{"$f":"VLOOKUP(C108,Flotte!A:C,3,0)","v":"inter-wings"},{"$f":"VLOOKUP(B108,Routen!A:B, 2, 0)","v":"LIBR"},{"$f":"VLOOKUP(F108,Airports!$A$2:$G$1256,2,0)","v":"Brindisi"},{"$f":"VLOOKUP(F108,Airports!$A$2:$G$1256,4,0)","v":"Italien"},{"$f":"VLOOKUP(B108,Routen!A:F, 6, 0)","v":"EDDL"},{"$f":"VLOOKUP(I108,Airports!$A$2:$G$1256,4,0)","v":"Deutschland"},{"$f":"VLOOKUP(I108,Airports!$A$2:$G$1256,2,0)","v":"Düsseldorf (Original)"},837,"02:37:00",{"$f":"VLOOKUP(I108,Airports!$A$2:$F$1256,6,0)","v":46},268.38]
["2026-04-17","IW12133","D-AIAC",{"$f":"VLOOKUP(C109,Flotte!A:B,2,0)","v":"Airbus A319 CFM_SL"},{"$f":"VLOOKUP(C109,Flotte!A:C,3,0)","v":"inter-wings"},{"$f":"VLOOKUP(B109,Routen!A:B, 2, 0)","v":"EDDL"},{"$f":"VLOOKUP(F109,Airports!$A$2:$G$1256,2,0)","v":"Düsseldorf (Original)"},{"$f":"VLOOKUP(F109,Airports!$A$2:$G$1256,4,0)","v":"Deutschland"},{"$f":"VLOOKUP(B109,Routen!A:F, 6, 0)","v":"LIRA"},{"$f":"VLOOKUP(I109,Airports!$A$2:$G$1256,4,0)","v":"Italien"},{"$f":"VLOOKUP(I109,Airports!$A$2:$G$1256,2,0)","v":"Rom-Ciampino"},667,"01:49:00",{"$f":"VLOOKUP(I109,Airports!$A$2:$F$1256,6,0)","v":1},184.49]
["2026-04-18","IW12134","D-AIAC",{"$f":"VLOOKUP(C110,Flotte!A:B,2,0)","v":"Airbus A319 CFM_SL"},{"$f":"VLOOKUP(C110,Flotte!A:C,3,0)","v":"inter-wings"},{"$f":"VLOOKUP(B110,Routen!A:B, 2, 0)","v":"LIRA"},{"$f":"VLOOKUP(F110,Airports!$A$2:$G$1256,2,0)","v":"Rom-Ciampino"},{"$f":"VLOOKUP(F110,Airports!$A$2:$G$1256,4,0)","v":"Italien"},{"$f":"VLOOKUP(B110,Routen!A:F, 6, 0)","v":"EDDL"},{"$f":"VLOOKUP(I110,Airports!$A$2:$G$1256,4,0)","v":"Deutschland"},{"$f":"VLOOKUP(I110,Airports!$A$2:$G$1256,2,0)","v":"Düsseldorf (Original)"},703,"02:01:00",{"$f":"VLOOKUP(I110,Airports!$A$2:$F$1256,6,0)","v":46},214.79]
["2026-04-24","IW12007","D-AIFM",{"$f":"VLOOKUP(C111,Flotte!A:B,2,0)","v":"Airbus A340-600"},{"$f":"VLOOKUP(C111,Flotte!A:C,3,0)","v":"inter-wings"},{"$f":"VLOOKUP(B111,Routen!A:B, 2, 0)","v":"EDDL"},{"$f":"VLOOKUP(F111,Airports!$A$2:$G$1256,2,0)","v":"Düsseldorf (Original)"},{"$f":"VLOOKUP(F111,Airports!$A$2:$G$1256,4,0)","v":"Deutschland"},{"$f":"VLOOKUP(B111,Routen!A:F, 6, 0)","v":"LEPA"},{"$f":"VLOOKUP(I111,Airports!$A$2:$G$1256,4,0)","v":"Spanien"},{"$f":"VLOOKUP(I111,Airports!$A$2:$G$1256,2,0)","v":"Palma de Mallorca"},824,"02:48:00",{"$f":"VLOOKUP(I111,Airports!$A$2:$F$1256,6,0)","v":3},321.27]
["2026-04-25","IW12008","D-AIFM",{"$f":"VLOOKUP(C112,Flotte!A:B,2,0)","v":"Airbus A340-600"},{"$f":"VLOOKUP(C112,Flotte!A:C,3,0)","v":"inter-wings"},{"$f":"VLOOKUP(B112,Routen!A:B, 2, 0)","v":"LEPA"},{"$f":"VLOOKUP(F112,Airports!$A$2:$G$1256,2,0)","v":"Palma de Mallorca"},{"$f":"VLOOKUP(F112,Airports!$A$2:$G$1256,4,0)","v":"Spanien"},{"$f":"VLOOKUP(B112,Routen!A:F, 6, 0)","v":"EDDL"},{"$f":"VLOOKUP(I112,Airports!$A$2:$G$1256,4,0)","v":"Deutschland"},{"$f":"VLOOKUP(I112,Airports!$A$2:$G$1256,2,0)","v":"Düsseldorf (Original)"},873,"02:17:00",{"$f":"VLOOKUP(I112,Airports!$A$2:$F$1256,6,0)","v":46},5.42]
["2026-04-26","IW12110","D-AIAC",{"$f":"VLOOKUP(C113,Flotte!A:B,2,0)","v":"Airbus A319 CFM_SL"},{"$f":"VLOOKUP(C113,Flotte!A:C,3,0)","v":"inter-wings"},{"$f":"VLOOKUP(B113,Routen!A:B, 2, 0)","v":"EDDL"},{"$f":"VLOOKUP(F113,Airports!$A$2:$G$1256,2,0)","v":"Düsseldorf (Original)"},{"$f":"VLOOKUP(F113,Airports!$A$2:$G$1256,4,0)","v":"Deutschland"},{"$f":"VLOOKUP(B113,Routen!A:F, 6, 0)","v":"LICG"},{"$f":"VLOOKUP(I113,Airports!$A$2:$G$1256,4,0)","v":"Italien"},{"$f":"VLOOKUP(I113,Airports!$A$2:$G$1256,2,0)","v":"Pantelleria"},960,"02:40:00",{"$f":"VLOOKUP(I113,Airports!$A$2:$F$1256,6,0)","v":1},107.81]
["2026-04-27","IW12135","D-AIAC",{"$f":"VLOOKUP(C114,Flotte!A:B,2,0)","v":"Airbus A319 CFM_SL"},{"$f":"VLOOKUP(C114,Flotte!A:C,3,0)","v":"inter-wings"},{"$f":"VLOOKUP(B114,Routen!A:B, 2, 0)","v":"LICG"},{"$f":"VLOOKUP(F114,Airports!$A$2:$G$1256,2,0)","v":"Pantelleria"},{"$f":"VLOOKUP(F114,Airports!$A$2:$G$1256,4,0)","v":"Italien"},{"$f":"VLOOKUP(B114,Routen!A:F, 6, 0)","v":"EDDL"},{"$f":"VLOOKUP(I114,Airports!$A$2:$G$1256,4,0)","v":"Deutschland"},{"$f":"VLOOKUP(I114,Airports!$A$2:$G$1256,2,0)","v":"Düsseldorf (Original)"},909,"02:38:00",{"$f":"VLOOKUP(I114,Airports!$A$2:$F$1256,6,0)","v":46},267.51]
["2026-04-28","IW12136","D-AIAC",{"$f":"VLOOKUP(C115,Flotte!A:B,2,0)","v":"Airbus A319 CFM_SL"},{"$f":"VLOOKUP(C115,Flotte!A:C,3,0)","v":"inter-wings"},{"$f":"VLOOKUP(B115,Routen!A:B, 2, 0)","v":"EDDL"},{"$f":"VLOOKUP(F115,Airports!$A$2:$G$1256,2,0)","v":"Düsseldorf (Original)"},{"$f":"VLOOKUP(F115,Airports!$A$2:$G$1256,4,0)","v":"Deutschland"},{"$f":"VLOOKUP(B115,Routen!A:F, 6, 0)","v":"LIRI"},{"$f":"VLOOKUP(I115,Airports!$A$2:$G$1256,4,0)","v":"Italien"},{"$f":"VLOOKUP(I115,Airports!$A$2:$G$1256,2,0)","v":"Salerno"},811,"02:38:00",{"$f":"VLOOKUP(I115,Airports!$A$2:$F$1256,6,0)","v":1},233.18]
["2026-04-28","IW12137","D-AIAC",{"$f":"VLOOKUP(C116,Flotte!A:B,2,0)","v":"Airbus A319 CFM_SL"},{"$f":"VLOOKUP(C116,Flotte!A:C,3,0)","v":"inter-wings"},{"$f":"VLOOKUP(B116,Routen!A:B, 2, 0)","v":"LIRI"},{"$f":"VLOOKUP(F116,Airports!$A$2:$G$1256,2,0)","v":"Salerno"},{"$f":"VLOOKUP(F116,Airports!$A$2:$G$1256,4,0)","v":"Italien"},{"$f":"VLOOKUP(B116,Routen!A:F, 6, 0)","v":"EDDL"},{"$f":"VLOOKUP(I116,Airports!$A$2:$G$1256,4,0)","v":"Deutschland"},{"$f":"VLOOKUP(I116,Airports!$A$2:$G$1256,2,0)","v":"Düsseldorf (Original)"},797,"02:13:00",{"$f":"VLOOKUP(I116,Airports!$A$2:$F$1256,6,0)","v":46},166.57]
["2026-04-29","IW12138","D-AIAC",{"$f":"VLOOKUP(C117,Flotte!A:B,2,0)","v":"Airbus A319 CFM_SL"},{"$f":"VLOOKUP(C117,Flotte!A:C,3,0)","v":"inter-wings"},{"$f":"VLOOKUP(B117,Routen!A:B, 2, 0)","v":"EDDL"},{"$f":"VLOOKUP(F117,Airports!$A$2:$G$1256,2,0)","v":"Düsseldorf (Original)"},{"$f":"VLOOKUP(F117,Airports!$A$2:$G$1256,4,0)","v":"Deutschland"},{"$f":"VLOOKUP(B117,Routen!A:F, 6, 0)","v":"LICJ"},{"$f":"VLOOKUP(I117,Airports!$A$2:$G$1256,4,0)","v":"Italien"},{"$f":"VLOOKUP(I117,Airports!$A$2:$G$1256,2,0)","v":"Palermo Punta Raisi"},888,"02:27:00",{"$f":"VLOOKUP(I117,Airports!$A$2:$F$1256,6,0)","v":1},258.29000000000002]
["2026-04-29","IW12139","D-AIAC",{"$f":"VLOOKUP(C118,Flotte!A:B,2,0)","v":"Airbus A319 CFM_SL"},{"$f":"VLOOKUP(C118,Flotte!A:C,3,0)","v":"inter-wings"},{"$f":"VLOOKUP(B118,Routen!A:B, 2, 0)","v":"LICJ"},{"$f":"VLOOKUP(F118,Airports!$A$2:$G$1256,2,0)","v":"Palermo Punta Raisi"},{"$f":"VLOOKUP(F118,Airports!$A$2:$G$1256,4,0)","v":"Italien"},{"$f":"VLOOKUP(B118,Routen!A:F, 6, 0)","v":"EDDL"},{"$f":"VLOOKUP(I118,Airports!$A$2:$G$1256,4,0)","v":"Deutschland"},{"$f":"VLOOKUP(I118,Airports!$A$2:$G$1256,2,0)","v":"Düsseldorf (Original)"},917,"02:37:00",{"$f":"VLOOKUP(I118,Airports!$A$2:$F$1256,6,0)","v":46},170.92]
["2026-04-30","IW12140","D-AIAC",{"$f":"VLOOKUP(C119,Flotte!A:B,2,0)","v":"Airbus A319 CFM_SL"},{"$f":"VLOOKUP(C119,Flotte!A:C,3,0)","v":"inter-wings"},{"$f":"VLOOKUP(B119,Routen!A:B, 2, 0)","v":"EDDL"},{"$f":"VLOOKUP(F119,Airports!$A$2:$G$1256,2,0)","v":"Düsseldorf (Original)"},{"$f":"VLOOKUP(F119,Airports!$A$2:$G$1256,4,0)","v":"Deutschland"},{"$f":"VLOOKUP(B119,Routen!A:F, 6, 0)","v":"LICT"},{"$f":"VLOOKUP(I119,Airports!$A$2:$G$1256,4,0)","v":"Italien"},{"$f":"VLOOKUP(I119,Airports!$A$2:$G$1256,2,0)","v":"Trapani"},905,"02:23:00",{"$f":"VLOOKUP(I119,Airports!$A$2:$F$1256,6,0)","v":1},197.12]
["2026-05-02","IW12141","D-AIAC",{"$f":"VLOOKUP(C120,Flotte!A:B,2,0)","v":"Airbus A319 CFM_SL"},{"$f":"VLOOKUP(C120,Flotte!A:C,3,0)","v":"inter-wings"},{"$f":"VLOOKUP(B120,Routen!A:B, 2, 0)","v":"LICT"},{"$f":"VLOOKUP(F120,Airports!$A$2:$G$1256,2,0)","v":"Trapani"},{"$f":"VLOOKUP(F120,Airports!$A$2:$G$1256,4,0)","v":"Italien"},{"$f":"VLOOKUP(B120,Routen!A:F, 6, 0)","v":"EDDL"},{"$f":"VLOOKUP(I120,Airports!$A$2:$G$1256,4,0)","v":"Deutschland"},{"$f":"VLOOKUP(I120,Airports!$A$2:$G$1256,2,0)","v":"Düsseldorf (Original)"},919,"02:40:00",{"$f":"VLOOKUP(I120,Airports!$A$2:$F$1256,6,0)","v":46},234.92]
["2026-05-03","IW12142","D-AIAC",{"$f":"VLOOKUP(C121,Flotte!A:B,2,0)","v":"Airbus A319 CFM_SL"},{"$f":"VLOOKUP(C121,Flotte!A:C,3,0)","v":"inter-wings"},{"$f":"VLOOKUP(B121,Routen!A:B, 2, 0)","v":"EDDL"},{"$f":"VLOOKUP(F121,Airports!$A$2:$G$1256,2,0)","v":"Düsseldorf (Original)"},{"$f":"VLOOKUP(F121,Airports!$A$2:$G$1256,4,0)","v":"Deutschland"},{"$f":"VLOOKUP(B121,Routen!A:F, 6, 0)","v":"LIMP"},{"$f":"VLOOKUP(I121,Airports!$A$2:$G$1256,4,0)","v":"Italien"},{"$f":"VLOOKUP(I121,Airports!$A$2:$G$1256,2,0)","v":"Parma"},456,"01:24:00",{"$f":"VLOOKUP(I121,Airports!$A$2:$F$1256,6,0)","v":2},274.91000000000003]
["2026-05-04","IW12143","D-AIAC",{"$f":"VLOOKUP(C122,Flotte!A:B,2,0)","v":"Airbus A319 CFM_SL"},{"$f":"VLOOKUP(C122,Flotte!A:C,3,0)","v":"inter-wings"},{"$f":"VLOOKUP(B122,Routen!A:B, 2, 0)","v":"LIMP"},{"$f":"VLOOKUP(F122,Airports!$A$2:$G$1256,2,0)","v":"Parma"},{"$f":"VLOOKUP(F122,Airports!$A$2:$G$1256,4,0)","v":"Italien"},{"$f":"VLOOKUP(B122,Routen!A:F, 6, 0)","v":"EDDL"},{"$f":"VLOOKUP(I122,Airports!$A$2:$G$1256,4,0)","v":"Deutschland"},{"$f":"VLOOKUP(I122,Airports!$A$2:$G$1256,2,0)","v":"Düsseldorf (Original)"},481,"01:29:00",{"$f":"VLOOKUP(I122,Airports!$A$2:$F$1256,6,0)","v":46},297.97000000000003]
["2026-05-04","IW12144","D-AIAC",{"$f":"VLOOKUP(C123,Flotte!A:B,2,0)","v":"Airbus A319 CFM_SL"},{"$f":"VLOOKUP(C123,Flotte!A:C,3,0)","v":"inter-wings"},{"$f":"VLOOKUP(B123,Routen!A:B, 2, 0)","v":"EDDL"},{"$f":"VLOOKUP(F123,Airports!$A$2:$G$1256,2,0)","v":"Düsseldorf (Original)"},{"$f":"VLOOKUP(F123,Airports!$A$2:$G$1256,4,0)","v":"Deutschland"},{"$f":"VLOOKUP(B123,Routen!A:F, 6, 0)","v":"LIPR"},{"$f":"VLOOKUP(I123,Airports!$A$2:$G$1256,4,0)","v":"Italien"},{"$f":"VLOOKUP(I123,Airports!$A$2:$G$1256,2,0)","v":"Rimini"},550,"01:48:00",{"$f":"VLOOKUP(I123,Airports!$A$2:$F$1256,6,0)","v":1},160.22999999999999]
["2026-05-05","IW12145","D-AIAC",{"$f":"VLOOKUP(C124,Flotte!A:B,2,0)","v":"Airbus A319 CFM_SL"},{"$f":"VLOOKUP(C124,Flotte!A:C,3,0)","v":"inter-wings"},{"$f":"VLOOKUP(B124,Routen!A:B, 2, 0)","v":"LIPR"},{"$f":"VLOOKUP(F124,Airports!$A$2:$G$1256,2,0)","v":"Rimini"},{"$f":"VLOOKUP(F124,Airports!$A$2:$G$1256,4,0)","v":"Italien"},{"$f":"VLOOKUP(B124,Routen!A:F, 6, 0)","v":"EDDL"},{"$f":"VLOOKUP(I124,Airports!$A$2:$G$1256,4,0)","v":"Deutschland"},{"$f":"VLOOKUP(I124,Airports!$A$2:$G$1256,2,0)","v":"Düsseldorf (Original)"},559,"01:41:00",{"$f":"VLOOKUP(I124,Airports!$A$2:$F$1256,6,0)","v":46},218.7]
["2026-05-06","IW12030","D-AIAC",{"$f":"VLOOKUP(C125,Flotte!A:B,2,0)","v":"Airbus A319 CFM_SL"},{"$f":"VLOOKUP(C125,Flotte!A:C,3,0)","v":"inter-wings"},{"$f":"VLOOKUP(B125,Routen!A:B, 2, 0)","v":"EDDL"},{"$f":"VLOOKUP(F125,Airports!$A$2:$G$1256,2,0)","v":"Düsseldorf (Original)"},{"$f":"VLOOKUP(F125,Airports!$A$2:$G$1256,4,0)","v":"Deutschland"},{"$f":"VLOOKUP(B125,Routen!A:F, 6, 0)","v":"LIRN"},{"$f":"VLOOKUP(I125,Airports!$A$2:$G$1256,4,0)","v":"Italien"},{"$f":"VLOOKUP(I125,Airports!$A$2:$G$1256,2,0)","v":"Neapel Capodichino"},776,"02:14:00",{"$f":"VLOOKUP(I125,Airports!$A$2:$F$1256,6,0)","v":1},220.17]
["2026-05-08","IW12029","D-AIAC",{"$f":"VLOOKUP(C126,Flotte!A:B,2,0)","v":"Airbus A319 CFM_SL"},{"$f":"VLOOKUP(C126,Flotte!A:C,3,0)","v":"inter-wings"},{"$f":"VLOOKUP(B126,Routen!A:B, 2, 0)","v":"LIRN"},{"$f":"VLOOKUP(F126,Airports!$A$2:$G$1256,2,0)","v":"Neapel Capodichino"},{"$f":"VLOOKUP(F126,Airports!$A$2:$G$1256,4,0)","v":"Italien"},{"$f":"VLOOKUP(B126,Routen!A:F, 6, 0)","v":"EDDL"},{"$f":"VLOOKUP(I126,Airports!$A$2:$G$1256,4,0)","v":"Deutschland"},{"$f":"VLOOKUP(I126,Airports!$A$2:$G$1256,2,0)","v":"Düsseldorf (Original)"},819,"02:08:00",{"$f":"VLOOKUP(I126,Airports!$A$2:$F$1256,6,0)","v":46},249.64]
["2026-05-09","IW12146","D-AIAC",{"$f":"VLOOKUP(C127,Flotte!A:B,2,0)","v":"Airbus A319 CFM_SL"},{"$f":"VLOOKUP(C127,Flotte!A:C,3,0)","v":"inter-wings"},{"$f":"VLOOKUP(B127,Routen!A:B, 2, 0)","v":"EDDL"},{"$f":"VLOOKUP(F127,Airports!$A$2:$G$1256,2,0)","v":"Düsseldorf (Original)"},{"$f":"VLOOKUP(F127,Airports!$A$2:$G$1256,4,0)","v":"Deutschland"},{"$f":"VLOOKUP(B127,Routen!A:F, 6, 0)","v":"LIRZ"},{"$f":"VLOOKUP(I127,Airports!$A$2:$G$1256,4,0)","v":"Italien"},{"$f":"VLOOKUP(I127,Airports!$A$2:$G$1256,2,0)","v":"Perugia"},592,"01:44:00",{"$f":"VLOOKUP(I127,Airports!$A$2:$F$1256,6,0)","v":1},296.89999999999998]
["2026-05-11","IW12147","D-AIAC",{"$f":"VLOOKUP(C128,Flotte!A:B,2,0)","v":"Airbus A319 CFM_SL"},{"$f":"VLOOKUP(C128,Flotte!A:C,3,0)","v":"inter-wings"},{"$f":"VLOOKUP(B128,Routen!A:B, 2, 0)","v":"LIRZ"},{"$f":"VLOOKUP(F128,Airports!$A$2:$G$1256,2,0)","v":"Perugia"},{"$f":"VLOOKUP(F128,Airports!$A$2:$G$1256,4,0)","v":"Italien"},{"$f":"VLOOKUP(B128,Routen!A:F, 6, 0)","v":"EDDL"},{"$f":"VLOOKUP(I128,Airports!$A$2:$G$1256,4,0)","v":"Deutschland"},{"$f":"VLOOKUP(I128,Airports!$A$2:$G$1256,2,0)","v":"Düsseldorf (Original)"},634,"02:09:00",{"$f":"VLOOKUP(I128,Airports!$A$2:$F$1256,6,0)","v":46},234.05]
["2026-05-11","IW12148","D-AIAC",{"$f":"VLOOKUP(C129,Flotte!A:B,2,0)","v":"Airbus A319 CFM_SL"},{"$f":"VLOOKUP(C129,Flotte!A:C,3,0)","v":"inter-wings"},{"$f":"VLOOKUP(B129,Routen!A:B, 2, 0)","v":"EDDL"},{"$f":"VLOOKUP(F129,Airports!$A$2:$G$1256,2,0)","v":"Düsseldorf (Original)"},{"$f":"VLOOKUP(F129,Airports!$A$2:$G$1256,4,0)","v":"Deutschland"},{"$f":"VLOOKUP(B129,Routen!A:F, 6, 0)","v":"LIRP"},{"$f":"VLOOKUP(I129,Airports!$A$2:$G$1256,4,0)","v":"Italien"},{"$f":"VLOOKUP(I129,Airports!$A$2:$G$1256,2,0)","v":"Pisa"},599,"01:55:00",{"$f":"VLOOKUP(I129,Airports!$A$2:$F$1256,6,0)","v":1},188.01]
["2026-05-12","IW12046","D-AIAC",{"$f":"VLOOKUP(C130,Flotte!A:B,2,0)","v":"Airbus A319 CFM_SL"},{"$f":"VLOOKUP(C130,Flotte!A:C,3,0)","v":"inter-wings"},{"$f":"VLOOKUP(B130,Routen!A:B, 2, 0)","v":"LIRP"},{"$f":"VLOOKUP(F130,Airports!$A$2:$G$1256,2,0)","v":"Pisa"},{"$f":"VLOOKUP(F130,Airports!$A$2:$G$1256,4,0)","v":"Italien"},{"$f":"VLOOKUP(B130,Routen!A:F, 6, 0)","v":"EDDL"},{"$f":"VLOOKUP(I130,Airports!$A$2:$G$1256,4,0)","v":"Deutschland"},{"$f":"VLOOKUP(I130,Airports!$A$2:$G$1256,2,0)","v":"Düsseldorf (Original)"},539,"01:49:00",{"$f":"VLOOKUP(I130,Airports!$A$2:$F$1256,6,0)","v":46},217.71]
["2026-05-17","IW12149","D-AIAC",{"$f":"VLOOKUP(C131,Flotte!A:B,2,0)","v":"Airbus A319 CFM_SL"},{"$f":"VLOOKUP(C131,Flotte!A:C,3,0)","v":"inter-wings"},{"$f":"VLOOKUP(B131,Routen!A:B, 2, 0)","v":"EDDL"},{"$f":"VLOOKUP(F131,Airports!$A$2:$G$1256,2,0)","v":"Düsseldorf (Original)"},{"$f":"VLOOKUP(F131,Airports!$A$2:$G$1256,4,0)","v":"Deutschland"},{"$f":"VLOOKUP(B131,Routen!A:F, 6, 0)","v":"LIPY"},{"$f":"VLOOKUP(I131,Airports!$A$2:$G$1256,4,0)","v":"Italien"},{"$f":"VLOOKUP(I131,Airports!$A$2:$G$1256,2,0)","v":"Falconara-Ancona"},562,"01:39:00",{"$f":"VLOOKUP(I131,Airports!$A$2:$F$1256,6,0)","v":1},230.5]
["2026-05-18","IW12150","D-AIAC",{"$f":"VLOOKUP(C132,Flotte!A:B,2,0)","v":"Airbus A319 CFM_SL"},{"$f":"VLOOKUP(C132,Flotte!A:C,3,0)","v":"inter-wings"},{"$f":"VLOOKUP(B132,Routen!A:B, 2, 0)","v":"LIPY"},{"$f":"VLOOKUP(F132,Airports!$A$2:$G$1256,2,0)","v":"Falconara-Ancona"},{"$f":"VLOOKUP(F132,Airports!$A$2:$G$1256,4,0)","v":"Italien"},{"$f":"VLOOKUP(B132,Routen!A:F, 6, 0)","v":"EDDL"},{"$f":"VLOOKUP(I132,Airports!$A$2:$G$1256,4,0)","v":"Deutschland"},{"$f":"VLOOKUP(I132,Airports!$A$2:$G$1256,2,0)","v":"Düsseldorf (Original)"},577,"01:43:00",{"$f":"VLOOKUP(I132,Airports!$A$2:$F$1256,6,0)","v":46},231.5]
["2026-05-18","IW12040","D-AIAC",{"$f":"VLOOKUP(C133,Flotte!A:B,2,0)","v":"Airbus A319 CFM_SL"},{"$f":"VLOOKUP(C133,Flotte!A:C,3,0)","v":"inter-wings"},{"$f":"VLOOKUP(B133,Routen!A:B, 2, 0)","v":"EDDL"},{"$f":"VLOOKUP(F133,Airports!$A$2:$G$1256,2,0)","v":"Düsseldorf (Original)"},{"$f":"VLOOKUP(F133,Airports!$A$2:$G$1256,4,0)","v":"Deutschland"},{"$f":"VLOOKUP(B133,Routen!A:F, 6, 0)","v":"LIEE"},{"$f":"VLOOKUP(I133,Airports!$A$2:$G$1256,4,0)","v":"Italien"},{"$f":"VLOOKUP(I133,Airports!$A$2:$G$1256,2,0)","v":"Cagliari / Sardinien"},844,"02:21:00",{"$f":"VLOOKUP(I133,Airports!$A$2:$F$1256,6,0)","v":1},328.16]
["2026-05-19","IW12039","D-AIAC",{"$f":"VLOOKUP(C134,Flotte!A:B,2,0)","v":"Airbus A319 CFM_SL"},{"$f":"VLOOKUP(C134,Flotte!A:C,3,0)","v":"inter-wings"},{"$f":"VLOOKUP(B134,Routen!A:B, 2, 0)","v":"LIEE"},{"$f":"VLOOKUP(F134,Airports!$A$2:$G$1256,2,0)","v":"Cagliari / Sardinien"},{"$f":"VLOOKUP(F134,Airports!$A$2:$G$1256,4,0)","v":"Italien"},{"$f":"VLOOKUP(B134,Routen!A:F, 6, 0)","v":"EDDL"},{"$f":"VLOOKUP(I134,Airports!$A$2:$G$1256,4,0)","v":"Deutschland"},{"$f":"VLOOKUP(I134,Airports!$A$2:$G$1256,2,0)","v":"Düsseldorf (Original)"},790,"02:12:00",{"$f":"VLOOKUP(I134,Airports!$A$2:$F$1256,6,0)","v":46},41.92]
["2026-05-20","IW12151","D-AIAC",{"$f":"VLOOKUP(C135,Flotte!A:B,2,0)","v":"Airbus A319 CFM_SL"},{"$f":"VLOOKUP(C135,Flotte!A:C,3,0)","v":"inter-wings"},{"$f":"VLOOKUP(B135,Routen!A:B, 2, 0)","v":"EDDL"},{"$f":"VLOOKUP(F135,Airports!$A$2:$G$1256,2,0)","v":"Düsseldorf (Original)"},{"$f":"VLOOKUP(F135,Airports!$A$2:$G$1256,4,0)","v":"Deutschland"},{"$f":"VLOOKUP(B135,Routen!A:F, 6, 0)","v":"LIPQ"},{"$f":"VLOOKUP(I135,Airports!$A$2:$G$1256,4,0)","v":"Italien"},{"$f":"VLOOKUP(I135,Airports!$A$2:$G$1256,2,0)","v":"Triest / Udine"},475,"01:24:00",{"$f":"VLOOKUP(I135,Airports!$A$2:$F$1256,6,0)","v":1},318.52999999999997]
["2026-05-20","IW12152","D-AIAC",{"$f":"VLOOKUP(C136,Flotte!A:B,2,0)","v":"Airbus A319 CFM_SL"},{"$f":"VLOOKUP(C136,Flotte!A:C,3,0)","v":"inter-wings"},{"$f":"VLOOKUP(B136,Routen!A:B, 2, 0)","v":"LIPQ"},{"$f":"VLOOKUP(F136,Airports!$A$2:$G$1256,2,0)","v":"Triest / Udine"},{"$f":"VLOOKUP(F136,Airports!$A$2:$G$1256,4,0)","v":"Italien"},{"$f":"VLOOKUP(B136,Routen!A:F, 6, 0)","v":"EDDL"},{"$f":"VLOOKUP(I136,Airports!$A$2:$G$1256,4,0)","v":"Deutschland"},{"$f":"VLOOKUP(I136,Airports!$A$2:$G$1256,2,0)","v":"Düsseldorf (Original)"},494,"01:47:00",{"$f":"VLOOKUP(I136,Airports!$A$2:$F$1256,6,0)","v":46},277.04000000000002]
["2026-05-21","IW12153","D-AIAC",{"$f":"VLOOKUP(C137,Flotte!A:B,2,0)","v":"Airbus A319 CFM_SL"},{"$f":"VLOOKUP(C137,Flotte!A:C,3,0)","v":"inter-wings"},{"$f":"VLOOKUP(B137,Routen!A:B, 2, 0)","v":"EDDL"},{"$f":"VLOOKUP(F137,Airports!$A$2:$G$1256,2,0)","v":"Düsseldorf (Original)"},{"$f":"VLOOKUP(F137,Airports!$A$2:$G$1256,4,0)","v":"Deutschland"},{"$f":"VLOOKUP(B137,Routen!A:F, 6, 0)","v":"LIPH"},{"$f":"VLOOKUP(I137,Airports!$A$2:$G$1256,4,0)","v":"Italien"},{"$f":"VLOOKUP(I137,Airports!$A$2:$G$1256,2,0)","v":"Treviso"},438,"01:17:00",{"$f":"VLOOKUP(I137,Airports!$A$2:$F$1256,6,0)","v":1},174.61]
["2026-05-21","IW12154","D-AIAC",{"$f":"VLOOKUP(C138,Flotte!A:B,2,0)","v":"Airbus A319 CFM_SL"},{"$f":"VLOOKUP(C138,Flotte!A:C,3,0)","v":"inter-wings"},{"$f":"VLOOKUP(B138,Routen!A:B, 2, 0)","v":"LIPH"},{"$f":"VLOOKUP(F138,Airports!$A$2:$G$1256,2,0)","v":"Treviso"},{"$f":"VLOOKUP(F138,Airports!$A$2:$G$1256,4,0)","v":"Italien"},{"$f":"VLOOKUP(B138,Routen!A:F, 6, 0)","v":"EDDL"},{"$f":"VLOOKUP(I138,Airports!$A$2:$G$1256,4,0)","v":"Deutschland"},{"$f":"VLOOKUP(I138,Airports!$A$2:$G$1256,2,0)","v":"Düsseldorf (Original)"},446,"01:37:00",{"$f":"VLOOKUP(I138,Airports!$A$2:$F$1256,6,0)","v":46},271.88]
["2026-05-22","IW12155","D-AIAC",{"$f":"VLOOKUP(C139,Flotte!A:B,2,0)","v":"Airbus A319 CFM_SL"},{"$f":"VLOOKUP(C139,Flotte!A:C,3,0)","v":"inter-wings"},{"$f":"VLOOKUP(B139,Routen!A:B, 2, 0)","v":"EDDL"},{"$f":"VLOOKUP(F139,Airports!$A$2:$G$1256,2,0)","v":"Düsseldorf (Original)"},{"$f":"VLOOKUP(F139,Airports!$A$2:$G$1256,4,0)","v":"Deutschland"},{"$f":"VLOOKUP(B139,Routen!A:F, 6, 0)","v":"LIPO"},{"$f":"VLOOKUP(I139,Airports!$A$2:$G$1256,4,0)","v":"Italien"},{"$f":"VLOOKUP(I139,Airports!$A$2:$G$1256,2,0)","v":"Brescia"},485,"01:27:00",{"$f":"VLOOKUP(I139,Airports!$A$2:$F$1256,6,0)","v":1},298.58999999999997]
["2026-05-23","IW12156","D-AIAC",{"$f":"VLOOKUP(C140,Flotte!A:B,2,0)","v":"Airbus A319 CFM_SL"},{"$f":"VLOOKUP(C140,Flotte!A:C,3,0)","v":"inter-wings"},{"$f":"VLOOKUP(B140,Routen!A:B, 2, 0)","v":"LIPO"},{"$f":"VLOOKUP(F140,Airports!$A$2:$G$1256,2,0)","v":"Brescia"},{"$f":"VLOOKUP(F140,Airports!$A$2:$G$1256,4,0)","v":"Italien"},{"$f":"VLOOKUP(B140,Routen!A:F, 6, 0)","v":"EDDL"},{"$f":"VLOOKUP(I140,Airports!$A$2:$G$1256,4,0)","v":"Deutschland"},{"$f":"VLOOKUP(I140,Airports!$A$2:$G$1256,2,0)","v":"Düsseldorf (Original)"},496,"01:39:00",{"$f":"VLOOKUP(I140,Airports!$A$2:$F$1256,6,0)","v":46},299.58999999999997]
["2026-05-23","IW12033","D-AIBC",{"$f":"VLOOKUP(C141,Flotte!A:B,2,0)","v":"Airbus A320 CFM_SL"},{"$f":"VLOOKUP(C141,Flotte!A:C,3,0)","v":"inter-wings"},{"$f":"VLOOKUP(B141,Routen!A:B, 2, 0)","v":"LICA"},{"$f":"VLOOKUP(F141,Airports!$A$2:$G$1256,2,0)","v":"Lamezia Terme"},{"$f":"VLOOKUP(F141,Airports!$A$2:$G$1256,4,0)","v":"Italien"},{"$f":"VLOOKUP(B141,Routen!A:F, 6, 0)","v":"EDDL"},{"$f":"VLOOKUP(I141,Airports!$A$2:$G$1256,4,0)","v":"Deutschland"},{"$f":"VLOOKUP(I141,Airports!$A$2:$G$1256,2,0)","v":"Düsseldorf (Original)"},901,"02:24:00",{"$f":"VLOOKUP(I141,Airports!$A$2:$F$1256,6,0)","v":46},88.14]
["2026-03-25","IW12157","D-AIAC",{"$f":"VLOOKUP(C142,Flotte!A:B,2,0)","v":"Airbus A319 CFM_SL"},{"$f":"VLOOKUP(C142,Flotte!A:C,3,0)","v":"inter-wings"},{"$f":"VLOOKUP(B142,Routen!A:B, 2, 0)","v":"EDDL"},{"$f":"VLOOKUP(F142,Airports!$A$2:$G$1256,2,0)","v":"Düsseldorf (Original)"},{"$f":"VLOOKUP(F142,Airports!$A$2:$G$1256,4,0)","v":"Deutschland"},{"$f":"VLOOKUP(B142,Routen!A:F, 6, 0)","v":"LIPZ"},{"$f":"VLOOKUP(I142,Airports!$A$2:$G$1256,4,0)","v":"Italien"},{"$f":"VLOOKUP(I142,Airports!$A$2:$G$1256,2,0)","v":"Venedig - Marco Polo"},508,"01:40:00",{"$f":"VLOOKUP(I142,Airports!$A$2:$F$1256,6,0)","v":1},220.27]
["2026-03-26","IW12158","D-AIAC",{"$f":"VLOOKUP(C143,Flotte!A:B,2,0)","v":"Airbus A319 CFM_SL"},{"$f":"VLOOKUP(C143,Flotte!A:C,3,0)","v":"inter-wings"},{"$f":"VLOOKUP(B143,Routen!A:B, 2, 0)","v":"LIPZ"},{"$f":"VLOOKUP(F143,Airports!$A$2:$G$1256,2,0)","v":"Venedig - Marco Polo"},{"$f":"VLOOKUP(F143,Airports!$A$2:$G$1256,4,0)","v":"Italien"},{"$f":"VLOOKUP(B143,Routen!A:F, 6, 0)","v":"EDDL"},{"$f":"VLOOKUP(I143,Airports!$A$2:$G$1256,4,0)","v":"Deutschland"},{"$f":"VLOOKUP(I143,Airports!$A$2:$G$1256,2,0)","v":"Düsseldorf (Original)"},469,"01:29:00",{"$f":"VLOOKUP(I143,Airports!$A$2:$F$1256,6,0)","v":46},270.94]
["2026-05-26","T55201","D-AIBC",{"$f":"VLOOKUP(C144,Flotte!A:B,2,0)","v":"Airbus A320 CFM_SL"},{"$f":"VLOOKUP(C144,Flotte!A:C,3,0)","v":"inter-wings"},{"$f":"VLOOKUP(B144,Routen!A:B, 2, 0)","v":{"$error":"#N/A"}},{"$f":"VLOOKUP(F144,Airports!$A$2:$G$1256,2,0)","v":{"$error":"#N/A"}},{"$f":"VLOOKUP(F144,Airports!$A$2:$G$1256,4,0)","v":{"$error":"#N/A"}},{"$f":"VLOOKUP(B144,Routen!A:F, 6, 0)","v":{"$error":"#N/A"}},{"$f":"VLOOKUP(I144,Airports!$A$2:$G$1256,4,0)","v":{"$error":"#N/A"}},{"$f":"VLOOKUP(I144,Airports!$A$2:$G$1256,2,0)","v":{"$error":"#N/A"}},231,"00:58:00",{"$f":"VLOOKUP(I144,Airports!$A$2:$F$1256,6,0)","v":{"$error":"#N/A"}},234.14]
["2026-05-27","T55202","D-AIBC",{"$f":"VLOOKUP(C145,Flotte!A:B,2,0)","v":"Airbus A320 CFM_SL"},{"$f":"VLOOKUP(C145,Flotte!A:C,3,0)","v":"inter-wings"},{"$f":"VLOOKUP(B145,Routen!A:B, 2, 0)","v":{"$error":"#N/A"}},{"$f":"VLOOKUP(F145,Airports!$A$2:$G$1256,2,0)","v":{"$error":"#N/A"}},{"$f":"VLOOKUP(F145,Airports!$A$2:$G$1256,4,0)","v":{"$error":"#N/A"}},{"$f":"VLOOKUP(B145,Routen!A:F, 6, 0)","v":{"$error":"#N/A"}},{"$f":"VLOOKUP(I145,Airports!$A$2:$G$1256,4,0)","v":{"$error":"#N/A"}},{"$f":"VLOOKUP(I145,Airports!$A$2:$G$1256,2,0)","v":{"$error":"#N/A"}},246,"01:13:00",{"$f":"VLOOKUP(I145,Airports!$A$2:$F$1256,6,0)","v":{"$error":"#N/A"}},235.14]
["2026-05-28","T55203","D-AIBC",{"$f":"VLOOKUP(C146,Flotte!A:B,2,0)","v":"Airbus A320 CFM_SL"},{"$f":"VLOOKUP(C146,Flotte!A:C,3,0)","v":"inter-wings"},{"$f":"VLOOKUP(B146,Routen!A:B, 2, 0)","v":{"$error":"#N/A"}},{"$f":"VLOOKUP(F146,Airports!$A$2:$G$1256,2,0)","v":{"$error":"#N/A"}},{"$f":"VLOOKUP(F146,Airports!$A$2:$G$1256,4,0)","v":{"$error":"#N/A"}},{"$f":"VLOOKUP(B146,Routen!A:F, 6, 0)","v":{"$error":"#N/A"}},{"$f":"VLOOKUP(I146,Airports!$A$2:$G$1256,4,0)","v":{"$error":"#N/A"}},{"$f":"VLOOKUP(I146,Airports!$A$2:$G$1256,2,0)","v":{"$error":"#N/A"}},259,"00:58:00",{"$f":"VLOOKUP(I146,Airports!$A$2:$F$1256,6,0)","v":{"$error":"#N/A"}},158.58000000000001]
["2026-05-28","T55204","D-AIBC",{"$f":"VLOOKUP(C147,Flotte!A:B,2,0)","v":"Airbus A320 CFM_SL"},{"$f":"VLOOKUP(C147,Flotte!A:C,3,0)","v":"inter-wings"},{"$f":"VLOOKUP(B147,Routen!A:B, 2, 0)","v":{"$error":"#N/A"}},{"$f":"VLOOKUP(F147,Airports!$A$2:$G$1256,2,0)","v":{"$error":"#N/A"}},{"$f":"VLOOKUP(F147,Airports!$A$2:$G$1256,4,0)","v":{"$error":"#N/A"}},{"$f":"VLOOKUP(B147,Routen!A:F, 6, 0)","v":{"$error":"#N/A"}},{"$f":"VLOOKUP(I147,Airports!$A$2:$G$1256,4,0)","v":{"$error":"#N/A"}},{"$f":"VLOOKUP(I147,Airports!$A$2:$G$1256,2,0)","v":{"$error":"#N/A"}},278,"01:04:00",{"$f":"VLOOKUP(I147,Airports!$A$2:$F$1256,6,0)","v":{"$error":"#N/A"}},154.44999999999999]
["2026-05-29","T55205","D-AIBC",{"$f":"VLOOKUP(C148,Flotte!A:B,2,0)","v":"Airbus A320 CFM_SL"},{"$f":"VLOOKUP(C148,Flotte!A:C,3,0)","v":"inter-wings"},{"$f":"VLOOKUP(B148,Routen!A:B, 2, 0)","v":{"$error":"#N/A"}},{"$f":"VLOOKUP(F148,Airports!$A$2:$G$1256,2,0)","v":{"$error":"#N/A"}},{"$f":"VLOOKUP(F148,Airports!$A$2:$G$1256,4,0)","v":{"$error":"#N/A"}},{"$f":"VLOOKUP(B148,Routen!A:F, 6, 0)","v":{"$error":"#N/A"}},{"$f":"VLOOKUP(I148,Airports!$A$2:$G$1256,4,0)","v":{"$error":"#N/A"}},{"$f":"VLOOKUP(I148,Airports!$A$2:$G$1256,2,0)","v":{"$error":"#N/A"}},354,"01:30:00",{"$f":"VLOOKUP(I148,Airports!$A$2:$F$1256,6,0)","v":{"$error":"#N/A"}},138.36000000000001]
["2026-05-29","T55206","D-AIBC",{"$f":"VLOOKUP(C149,Flotte!A:B,2,0)","v":"Airbus A320 CFM_SL"},{"$f":"VLOOKUP(C149,Flotte!A:C,3,0)","v":"inter-wings"},{"$f":"VLOOKUP(B149,Routen!A:B, 2, 0)","v":{"$error":"#N/A"}},{"$f":"VLOOKUP(F149,Airports!$A$2:$G$1256,2,0)","v":{"$error":"#N/A"}},{"$f":"VLOOKUP(F149,Airports!$A$2:$G$1256,4,0)","v":{"$error":"#N/A"}},{"$f":"VLOOKUP(B149,Routen!A:F, 6, 0)","v":{"$error":"#N/A"}},{"$f":"VLOOKUP(I149,Airports!$A$2:$G$1256,4,0)","v":{"$error":"#N/A"}},{"$f":"VLOOKUP(I149,Airports!$A$2:$G$1256,2,0)","v":{"$error":"#N/A"}},464,"01:37:00",{"$f":"VLOOKUP(I149,Airports!$A$2:$F$1256,6,0)","v":{"$error":"#N/A"}},153.63]
["2026-05-30","T55207","D-AIBC",{"$f":"VLOOKUP(C150,Flotte!A:B,2,0)","v":"Airbus A320 CFM_SL"},{"$f":"VLOOKUP(C150,Flotte!A:C,3,0)","v":"inter-wings"},{"$f":"VLOOKUP(B150,Routen!A:B, 2, 0)","v":{"$error":"#N/A"}},{"$f":"VLOOKUP(F150,Airports!$A$2:$G$1256,2,0)","v":{"$error":"#N/A"}},{"$f":"VLOOKUP(F150,Airports!$A$2:$G$1256,4,0)","v":{"$error":"#N/A"}},{"$f":"VLOOKUP(B150,Routen!A:F, 6, 0)","v":{"$error":"#N/A"}},{"$f":"VLOOKUP(I150,Airports!$A$2:$G$1256,4,0)","v":{"$error":"#N/A"}},{"$f":"VLOOKUP(I150,Airports!$A$2:$G$1256,2,0)","v":{"$error":"#N/A"}},277,"01:09:00",{"$f":"VLOOKUP(I150,Airports!$A$2:$F$1256,6,0)","v":{"$error":"#N/A"}},165.31]
["2026-06-01","T55208","D-AIBC",{"$f":"VLOOKUP(C151,Flotte!A:B,2,0)","v":"Airbus A320 CFM_SL"},{"$f":"VLOOKUP(C151,Flotte!A:C,3,0)","v":"inter-wings"},{"$f":"VLOOKUP(B151,Routen!A:B, 2, 0)","v":{"$error":"#N/A"}},{"$f":"VLOOKUP(F151,Airports!$A$2:$G$1256,2,0)","v":{"$error":"#N/A"}},{"$f":"VLOOKUP(F151,Airports!$A$2:$G$1256,4,0)","v":{"$error":"#N/A"}},{"$f":"VLOOKUP(B151,Routen!A:F, 6, 0)","v":{"$error":"#N/A"}},{"$f":"VLOOKUP(I151,Airports!$A$2:$G$1256,4,0)","v":{"$error":"#N/A"}},{"$f":"VLOOKUP(I151,Airports!$A$2:$G$1256,2,0)","v":{"$error":"#N/A"}},231,"01:07:00",{"$f":"VLOOKUP(I151,Airports!$A$2:$F$1256,6,0)","v":{"$error":"#N/A"}},165.75]
["2026-06-02","T55209","D-AIBC",{"$f":"VLOOKUP(C152,Flotte!A:B,2,0)","v":"Airbus A320 CFM_SL"},{"$f":"VLOOKUP(C152,Flotte!A:C,3,0)","v":"inter-wings"},{"$f":"VLOOKUP(B152,Routen!A:B, 2, 0)","v":{"$error":"#N/A"}},{"$f":"VLOOKUP(F152,Airports!$A$2:$G$1256,2,0)","v":{"$error":"#N/A"}},{"$f":"VLOOKUP(F152,Airports!$A$2:$G$1256,4,0)","v":{"$error":"#N/A"}},{"$f":"VLOOKUP(B152,Routen!A:F, 6, 0)","v":{"$error":"#N/A"}},{"$f":"VLOOKUP(I152,Airports!$A$2:$G$1256,4,0)","v":{"$error":"#N/A"}},{"$f":"VLOOKUP(I152,Airports!$A$2:$G$1256,2,0)","v":{"$error":"#N/A"}},207,"01:03:00",{"$f":"VLOOKUP(I152,Airports!$A$2:$F$1256,6,0)","v":{"$error":"#N/A"}},40.42]
["2026-06-03","T55210","D-AIBC",{"$f":"VLOOKUP(C153,Flotte!A:B,2,0)","v":"Airbus A320 CFM_SL"},{"$f":"VLOOKUP(C153,Flotte!A:C,3,0)","v":"inter-wings"},{"$f":"VLOOKUP(B153,Routen!A:B, 2, 0)","v":{"$error":"#N/A"}},{"$f":"VLOOKUP(F153,Airports!$A$2:$G$1256,2,0)","v":{"$error":"#N/A"}},{"$f":"VLOOKUP(F153,Airports!$A$2:$G$1256,4,0)","v":{"$error":"#N/A"}},{"$f":"VLOOKUP(B153,Routen!A:F, 6, 0)","v":{"$error":"#N/A"}},{"$f":"VLOOKUP(I153,Airports!$A$2:$G$1256,4,0)","v":{"$error":"#N/A"}},{"$f":"VLOOKUP(I153,Airports!$A$2:$G$1256,2,0)","v":{"$error":"#N/A"}},215,"01:02:00",{"$f":"VLOOKUP(I153,Airports!$A$2:$F$1256,6,0)","v":{"$error":"#N/A"}},88.09]
["2026-06-04","T55211","D-AIBC",{"$f":"VLOOKUP(C154,Flotte!A:B,2,0)","v":"Airbus A320 CFM_SL"},{"$f":"VLOOKUP(C154,Flotte!A:C,3,0)","v":"inter-wings"},{"$f":"VLOOKUP(B154,Routen!A:B, 2, 0)","v":{"$error":"#N/A"}},{"$f":"VLOOKUP(F154,Airports!$A$2:$G$1256,2,0)","v":{"$error":"#N/A"}},{"$f":"VLOOKUP(F154,Airports!$A$2:$G$1256,4,0)","v":{"$error":"#N/A"}},{"$f":"VLOOKUP(B154,Routen!A:F, 6, 0)","v":{"$error":"#N/A"}},{"$f":"VLOOKUP(I154,Airports!$A$2:$G$1256,4,0)","v":{"$error":"#N/A"}},{"$f":"VLOOKUP(I154,Airports!$A$2:$G$1256,2,0)","v":{"$error":"#N/A"}},275,"01:19:00",{"$f":"VLOOKUP(I154,Airports!$A$2:$F$1256,6,0)","v":{"$error":"#N/A"}},188.57]
["2026-06-05","T55212","D-AIBC",{"$f":"VLOOKUP(C155,Flotte!A:B,2,0)","v":"Airbus A320 CFM_SL"},{"$f":"VLOOKUP(C155,Flotte!A:C,3,0)","v":"inter-wings"},{"$f":"VLOOKUP(B155,Routen!A:B, 2, 0)","v":{"$error":"#N/A"}},{"$f":"VLOOKUP(F155,Airports!$A$2:$G$1256,2,0)","v":{"$error":"#N/A"}},{"$f":"VLOOKUP(F155,Airports!$A$2:$G$1256,4,0)","v":{"$error":"#N/A"}},{"$f":"VLOOKUP(B155,Routen!A:F, 6, 0)","v":{"$error":"#N/A"}},{"$f":"VLOOKUP(I155,Airports!$A$2:$G$1256,4,0)","v":{"$error":"#N/A"}},{"$f":"VLOOKUP(I155,Airports!$A$2:$G$1256,2,0)","v":{"$error":"#N/A"}},263,"01:02:00",{"$f":"VLOOKUP(I155,Airports!$A$2:$F$1256,6,0)","v":{"$error":"#N/A"}},64.05]
["2026-06-07","T55213","D-AIBC",{"$f":"VLOOKUP(C156,Flotte!A:B,2,0)","v":"Airbus A320 CFM_SL"},{"$f":"VLOOKUP(C156,Flotte!A:C,3,0)","v":"inter-wings"},{"$f":"VLOOKUP(B156,Routen!A:B, 2, 0)","v":{"$error":"#N/A"}},{"$f":"VLOOKUP(F156,Airports!$A$2:$G$1256,2,0)","v":{"$error":"#N/A"}},{"$f":"VLOOKUP(F156,Airports!$A$2:$G$1256,4,0)","v":{"$error":"#N/A"}},{"$f":"VLOOKUP(B156,Routen!A:F, 6, 0)","v":{"$error":"#N/A"}},{"$f":"VLOOKUP(I156,Airports!$A$2:$G$1256,4,0)","v":{"$error":"#N/A"}},{"$f":"VLOOKUP(I156,Airports!$A$2:$G$1256,2,0)","v":{"$error":"#N/A"}},305,"01:17:00",{"$f":"VLOOKUP(I156,Airports!$A$2:$F$1256,6,0)","v":{"$error":"#N/A"}},277.16000000000003]
["2026-06-08","T55214","D-AIBC",{"$f":"VLOOKUP(C157,Flotte!A:B,2,0)","v":"Airbus A320 CFM_SL"},{"$f":"VLOOKUP(C157,Flotte!A:C,3,0)","v":"inter-wings"},{"$f":"VLOOKUP(B157,Routen!A:B, 2, 0)","v":{"$error":"#N/A"}},{"$f":"VLOOKUP(F157,Airports!$A$2:$G$1256,2,0)","v":{"$error":"#N/A"}},{"$f":"VLOOKUP(F157,Airports!$A$2:$G$1256,4,0)","v":{"$error":"#N/A"}},{"$f":"VLOOKUP(B157,Routen!A:F, 6, 0)","v":{"$error":"#N/A"}},{"$f":"VLOOKUP(I157,Airports!$A$2:$G$1256,4,0)","v":{"$error":"#N/A"}},{"$f":"VLOOKUP(I157,Airports!$A$2:$G$1256,2,0)","v":{"$error":"#N/A"}},216,"01:09:00",{"$f":"VLOOKUP(I157,Airports!$A$2:$F$1256,6,0)","v":{"$error":"#N/A"}},284.51]
["2026-06-08","T55215","D-AIBC",{"$f":"VLOOKUP(C158,Flotte!A:B,2,0)","v":"Airbus A320 CFM_SL"},{"$f":"VLOOKUP(C158,Flotte!A:C,3,0)","v":"inter-wings"},{"$f":"VLOOKUP(B158,Routen!A:B, 2, 0)","v":{"$error":"#N/A"}},{"$f":"VLOOKUP(F158,Airports!$A$2:$G$1256,2,0)","v":{"$error":"#N/A"}},{"$f":"VLOOKUP(F158,Airports!$A$2:$G$1256,4,0)","v":{"$error":"#N/A"}},{"$f":"VLOOKUP(B158,Routen!A:F, 6, 0)","v":{"$error":"#N/A"}},{"$f":"VLOOKUP(I158,Airports!$A$2:$G$1256,4,0)","v":{"$error":"#N/A"}},{"$f":"VLOOKUP(I158,Airports!$A$2:$G$1256,2,0)","v":{"$error":"#N/A"}},150,"00:50:00",{"$f":"VLOOKUP(I158,Airports!$A$2:$F$1256,6,0)","v":{"$error":"#N/A"}},133.44]
["2026-06-09","T55216","D-AIBC",{"$f":"VLOOKUP(C159,Flotte!A:B,2,0)","v":"Airbus A320 CFM_SL"},{"$f":"VLOOKUP(C159,Flotte!A:C,3,0)","v":"inter-wings"},{"$f":"VLOOKUP(B159,Routen!A:B, 2, 0)","v":{"$error":"#N/A"}},{"$f":"VLOOKUP(F159,Airports!$A$2:$G$1256,2,0)","v":{"$error":"#N/A"}},{"$f":"VLOOKUP(F159,Airports!$A$2:$G$1256,4,0)","v":{"$error":"#N/A"}},{"$f":"VLOOKUP(B159,Routen!A:F, 6, 0)","v":{"$error":"#N/A"}},{"$f":"VLOOKUP(I159,Airports!$A$2:$G$1256,4,0)","v":{"$error":"#N/A"}},{"$f":"VLOOKUP(I159,Airports!$A$2:$G$1256,2,0)","v":{"$error":"#N/A"}},168,"01:05:00",{"$f":"VLOOKUP(I159,Airports!$A$2:$F$1256,6,0)","v":{"$error":"#N/A"}},251.2]
["2026-06-10","T55217","D-AIBC",{"$f":"VLOOKUP(C160,Flotte!A:B,2,0)","v":"Airbus A320 CFM_SL"},{"$f":"VLOOKUP(C160,Flotte!A:C,3,0)","v":"inter-wings"},{"$f":"VLOOKUP(B160,Routen!A:B, 2, 0)","v":{"$error":"#N/A"}},{"$f":"VLOOKUP(F160,Airports!$A$2:$G$1256,2,0)","v":{"$error":"#N/A"}},{"$f":"VLOOKUP(F160,Airports!$A$2:$G$1256,4,0)","v":{"$error":"#N/A"}},{"$f":"VLOOKUP(B160,Routen!A:F, 6, 0)","v":{"$error":"#N/A"}},{"$f":"VLOOKUP(I160,Airports!$A$2:$G$1256,4,0)","v":{"$error":"#N/A"}},{"$f":"VLOOKUP(I160,Airports!$A$2:$G$1256,2,0)","v":{"$error":"#N/A"}},279,"01:04:00",{"$f":"VLOOKUP(I160,Airports!$A$2:$F$1256,6,0)","v":{"$error":"#N/A"}},153.78]
["2026-06-11","T55218","D-AIBC",{"$f":"VLOOKUP(C161,Flotte!A:B,2,0)","v":"Airbus A320 CFM_SL"},{"$f":"VLOOKUP(C161,Flotte!A:C,3,0)","v":"inter-wings"},{"$f":"VLOOKUP(B161,Routen!A:B, 2, 0)","v":{"$error":"#N/A"}},{"$f":"VLOOKUP(F161,Airports!$A$2:$G$1256,2,0)","v":{"$error":"#N/A"}},{"$f":"VLOOKUP(F161,Airports!$A$2:$G$1256,4,0)","v":{"$error":"#N/A"}},{"$f":"VLOOKUP(B161,Routen!A:F, 6, 0)","v":{"$error":"#N/A"}},{"$f":"VLOOKUP(I161,Airports!$A$2:$G$1256,4,0)","v":{"$error":"#N/A"}},{"$f":"VLOOKUP(I161,Airports!$A$2:$G$1256,2,0)","v":{"$error":"#N/A"}},283,"01:13:00",{"$f":"VLOOKUP(I161,Airports!$A$2:$F$1256,6,0)","v":{"$error":"#N/A"}},252.45]
["2026-06-11","T55219","D-AIBC",{"$f":"VLOOKUP(C162,Flotte!A:B,2,0)","v":"Airbus A320 CFM_SL"},{"$f":"VLOOKUP(C162,Flotte!A:C,3,0)","v":"inter-wings"},{"$f":"VLOOKUP(B162,Routen!A:B, 2, 0)","v":{"$error":"#N/A"}},{"$f":"VLOOKUP(F162,Airports!$A$2:$G$1256,2,0)","v":{"$error":"#N/A"}},{"$f":"VLOOKUP(F162,Airports!$A$2:$G$1256,4,0)","v":{"$error":"#N/A"}},{"$f":"VLOOKUP(B162,Routen!A:F, 6, 0)","v":{"$error":"#N/A"}},{"$f":"VLOOKUP(I162,Airports!$A$2:$G$1256,4,0)","v":{"$error":"#N/A"}},{"$f":"VLOOKUP(I162,Airports!$A$2:$G$1256,2,0)","v":{"$error":"#N/A"}},340,"01:28:00",{"$f":"VLOOKUP(I162,Airports!$A$2:$F$1256,6,0)","v":{"$error":"#N/A"}},174.07]
["2026-06-12","T55220","D-AIBC",{"$f":"VLOOKUP(C163,Flotte!A:B,2,0)","v":"Airbus A320 CFM_SL"},{"$f":"VLOOKUP(C163,Flotte!A:C,3,0)","v":"inter-wings"},{"$f":"VLOOKUP(B163,Routen!A:B, 2, 0)","v":{"$error":"#N/A"}},{"$f":"VLOOKUP(F163,Airports!$A$2:$G$1256,2,0)","v":{"$error":"#N/A"}},{"$f":"VLOOKUP(F163,Airports!$A$2:$G$1256,4,0)","v":{"$error":"#N/A"}},{"$f":"VLOOKUP(B163,Routen!A:F, 6, 0)","v":{"$error":"#N/A"}},{"$f":"VLOOKUP(I163,Airports!$A$2:$G$1256,4,0)","v":{"$error":"#N/A"}},{"$f":"VLOOKUP(I163,Airports!$A$2:$G$1256,2,0)","v":{"$error":"#N/A"}},260,"00:56:00",{"$f":"VLOOKUP(I163,Airports!$A$2:$F$1256,6,0)","v":{"$error":"#N/A"}},171.35]
["2026-06-13","T55221","D-AIBC",{"$f":"VLOOKUP(C164,Flotte!A:B,2,0)","v":"Airbus A320 CFM_SL"},{"$f":"VLOOKUP(C164,Flotte!A:C,3,0)","v":"inter-wings"},{"$f":"VLOOKUP(B164,Routen!A:B, 2, 0)","v":{"$error":"#N/A"}},{"$f":"VLOOKUP(F164,Airports!$A$2:$G$1256,2,0)","v":{"$error":"#N/A"}},{"$f":"VLOOKUP(F164,Airports!$A$2:$G$1256,4,0)","v":{"$error":"#N/A"}},{"$f":"VLOOKUP(B164,Routen!A:F, 6, 0)","v":{"$error":"#N/A"}},{"$f":"VLOOKUP(I164,Airports!$A$2:$G$1256,4,0)","v":{"$error":"#N/A"}},{"$f":"VLOOKUP(I164,Airports!$A$2:$G$1256,2,0)","v":{"$error":"#N/A"}},248,"01:09:00",{"$f":"VLOOKUP(I164,Airports!$A$2:$F$1256,6,0)","v":{"$error":"#N/A"}},205.93]
["2026-06-15","T55222","D-AIBC",{"$f":"VLOOKUP(C165,Flotte!A:B,2,0)","v":"Airbus A320 CFM_SL"},{"$f":"VLOOKUP(C165,Flotte!A:C,3,0)","v":"inter-wings"},{"$f":"VLOOKUP(B165,Routen!A:B, 2, 0)","v":{"$error":"#N/A"}},{"$f":"VLOOKUP(F165,Airports!$A$2:$G$1256,2,0)","v":{"$error":"#N/A"}},{"$f":"VLOOKUP(F165,Airports!$A$2:$G$1256,4,0)","v":{"$error":"#N/A"}},{"$f":"VLOOKUP(B165,Routen!A:F, 6, 0)","v":{"$error":"#N/A"}},{"$f":"VLOOKUP(I165,Airports!$A$2:$G$1256,4,0)","v":{"$error":"#N/A"}},{"$f":"VLOOKUP(I165,Airports!$A$2:$G$1256,2,0)","v":{"$error":"#N/A"}},291,"01:18:00",{"$f":"VLOOKUP(I165,Airports!$A$2:$F$1256,6,0)","v":{"$error":"#N/A"}},130.43]
["2026-06-16","T55223","D-AIBC",{"$f":"VLOOKUP(C166,Flotte!A:B,2,0)","v":"Airbus A320 CFM_SL"},{"$f":"VLOOKUP(C166,Flotte!A:C,3,0)","v":"inter-wings"},{"$f":"VLOOKUP(B166,Routen!A:B, 2, 0)","v":{"$error":"#N/A"}},{"$f":"VLOOKUP(F166,Airports!$A$2:$G$1256,2,0)","v":{"$error":"#N/A"}},{"$f":"VLOOKUP(F166,Airports!$A$2:$G$1256,4,0)","v":{"$error":"#N/A"}},{"$f":"VLOOKUP(B166,Routen!A:F, 6, 0)","v":{"$error":"#N/A"}},{"$f":"VLOOKUP(I166,Airports!$A$2:$G$1256,4,0)","v":{"$error":"#N/A"}},{"$f":"VLOOKUP(I166,Airports!$A$2:$G$1256,2,0)","v":{"$error":"#N/A"}},224,"01:01:00",{"$f":"VLOOKUP(I166,Airports!$A$2:$F$1256,6,0)","v":{"$error":"#N/A"}},239.8]
["2026-06-16","T55224","D-AIBC",{"$f":"VLOOKUP(C167,Flotte!A:B,2,0)","v":"Airbus A320 CFM_SL"},{"$f":"VLOOKUP(C167,Flotte!A:C,3,0)","v":"inter-wings"},{"$f":"VLOOKUP(B167,Routen!A:B, 2, 0)","v":{"$error":"#N/A"}},{"$f":"VLOOKUP(F167,Airports!$A$2:$G$1256,2,0)","v":{"$error":"#N/A"}},{"$f":"VLOOKUP(F167,Airports!$A$2:$G$1256,4,0)","v":{"$error":"#N/A"}},{"$f":"VLOOKUP(B167,Routen!A:F, 6, 0)","v":{"$error":"#N/A"}},{"$f":"VLOOKUP(I167,Airports!$A$2:$G$1256,4,0)","v":{"$error":"#N/A"}},{"$f":"VLOOKUP(I167,Airports!$A$2:$G$1256,2,0)","v":{"$error":"#N/A"}},175,"00:49:00",{"$f":"VLOOKUP(I167,Airports!$A$2:$F$1256,6,0)","v":{"$error":"#N/A"}},202.52]
["2026-06-16","T55225","D-AIBC",{"$f":"VLOOKUP(C168,Flotte!A:B,2,0)","v":"Airbus A320 CFM_SL"},{"$f":"VLOOKUP(C168,Flotte!A:C,3,0)","v":"inter-wings"},{"$f":"VLOOKUP(B168,Routen!A:B, 2, 0)","v":{"$error":"#N/A"}},{"$f":"VLOOKUP(F168,Airports!$A$2:$G$1256,2,0)","v":{"$error":"#N/A"}},{"$f":"VLOOKUP(F168,Airports!$A$2:$G$1256,4,0)","v":{"$error":"#N/A"}},{"$f":"VLOOKUP(B168,Routen!A:F, 6, 0)","v":{"$error":"#N/A"}},{"$f":"VLOOKUP(I168,Airports!$A$2:$G$1256,4,0)","v":{"$error":"#N/A"}},{"$f":"VLOOKUP(I168,Airports!$A$2:$G$1256,2,0)","v":{"$error":"#N/A"}},317,"01:09:00",{"$f":"VLOOKUP(I168,Airports!$A$2:$F$1256,6,0)","v":{"$error":"#N/A"}},105.6]
["2026-06-17","T55226","D-AIBC",{"$f":"VLOOKUP(C169,Flotte!A:B,2,0)","v":"Airbus A320 CFM_SL"},{"$f":"VLOOKUP(C169,Flotte!A:C,3,0)","v":"inter-wings"},{"$f":"VLOOKUP(B169,Routen!A:B, 2, 0)","v":{"$error":"#N/A"}},{"$f":"VLOOKUP(F169,Airports!$A$2:$G$1256,2,0)","v":{"$error":"#N/A"}},{"$f":"VLOOKUP(F169,Airports!$A$2:$G$1256,4,0)","v":{"$error":"#N/A"}},{"$f":"VLOOKUP(B169,Routen!A:F, 6, 0)","v":{"$error":"#N/A"}},{"$f":"VLOOKUP(I169,Airports!$A$2:$G$1256,4,0)","v":{"$error":"#N/A"}},{"$f":"VLOOKUP(I169,Airports!$A$2:$G$1256,2,0)","v":{"$error":"#N/A"}},368,"01:23:00",{"$f":"VLOOKUP(I169,Airports!$A$2:$F$1256,6,0)","v":{"$error":"#N/A"}},159.72]
["2026-06-17","T55300","D-AICE",{"$f":"VLOOKUP(C170,Flotte!A:B,2,0)","v":"Airbus A321 CFM_SL"},{"$f":"VLOOKUP(C170,Flotte!A:C,3,0)","v":"inter-wings"},{"$f":"VLOOKUP(B170,Routen!A:B, 2, 0)","v":{"$error":"#N/A"}},{"$f":"VLOOKUP(F170,Airports!$A$2:$G$1256,2,0)","v":{"$error":"#N/A"}},{"$f":"VLOOKUP(F170,Airports!$A$2:$G$1256,4,0)","v":{"$error":"#N/A"}},{"$f":"VLOOKUP(B170,Routen!A:F, 6, 0)","v":{"$error":"#N/A"}},{"$f":"VLOOKUP(I170,Airports!$A$2:$G$1256,4,0)","v":{"$error":"#N/A"}},{"$f":"VLOOKUP(I170,Airports!$A$2:$G$1256,2,0)","v":{"$error":"#N/A"}},1156,"03:09:00",{"$f":"VLOOKUP(I170,Airports!$A$2:$F$1256,6,0)","v":{"$error":"#N/A"}},97.25]
["2026-06-18","T55301","D-AICE",{"$f":"VLOOKUP(C171,Flotte!A:B,2,0)","v":"Airbus A321 CFM_SL"},{"$f":"VLOOKUP(C171,Flotte!A:C,3,0)","v":"inter-wings"},{"$f":"VLOOKUP(B171,Routen!A:B, 2, 0)","v":{"$error":"#N/A"}},{"$f":"VLOOKUP(F171,Airports!$A$2:$G$1256,2,0)","v":{"$error":"#N/A"}},{"$f":"VLOOKUP(F171,Airports!$A$2:$G$1256,4,0)","v":{"$error":"#N/A"}},{"$f":"VLOOKUP(B171,Routen!A:F, 6, 0)","v":{"$error":"#N/A"}},{"$f":"VLOOKUP(I171,Airports!$A$2:$G$1256,4,0)","v":{"$error":"#N/A"}},{"$f":"VLOOKUP(I171,Airports!$A$2:$G$1256,2,0)","v":{"$error":"#N/A"}},1565,"03:56:00",{"$f":"VLOOKUP(I171,Airports!$A$2:$F$1256,6,0)","v":{"$error":"#N/A"}},186]
["2026-06-18","T55302","D-AICE",{"$f":"VLOOKUP(C172,Flotte!A:B,2,0)","v":"Airbus A321 CFM_SL"},{"$f":"VLOOKUP(C172,Flotte!A:C,3,0)","v":"inter-wings"},{"$f":"VLOOKUP(B172,Routen!A:B, 2, 0)","v":{"$error":"#N/A"}},{"$f":"VLOOKUP(F172,Airports!$A$2:$G$1256,2,0)","v":{"$error":"#N/A"}},{"$f":"VLOOKUP(F172,Airports!$A$2:$G$1256,4,0)","v":{"$error":"#N/A"}},{"$f":"VLOOKUP(B172,Routen!A:F, 6, 0)","v":{"$error":"#N/A"}},{"$f":"VLOOKUP(I172,Airports!$A$2:$G$1256,4,0)","v":{"$error":"#N/A"}},{"$f":"VLOOKUP(I172,Airports!$A$2:$G$1256,2,0)","v":{"$error":"#N/A"}},1623,"03:57:00",{"$f":"VLOOKUP(I172,Airports!$A$2:$F$1256,6,0)","v":{"$error":"#N/A"}},210.81]
["2026-06-19","T55303","D-AICE",{"$f":"VLOOKUP(C173,Flotte!A:B,2,0)","v":"Airbus A321 CFM_SL"},{"$f":"VLOOKUP(C173,Flotte!A:C,3,0)","v":"inter-wings"},{"$f":"VLOOKUP(B173,Routen!A:B, 2, 0)","v":{"$error":"#N/A"}},{"$f":"VLOOKUP(F173,Airports!$A$2:$G$1256,2,0)","v":{"$error":"#N/A"}},{"$f":"VLOOKUP(F173,Airports!$A$2:$G$1256,4,0)","v":{"$error":"#N/A"}},{"$f":"VLOOKUP(B173,Routen!A:F, 6, 0)","v":{"$error":"#N/A"}},{"$f":"VLOOKUP(I173,Airports!$A$2:$G$1256,4,0)","v":{"$error":"#N/A"}},{"$f":"VLOOKUP(I173,Airports!$A$2:$G$1256,2,0)","v":{"$error":"#N/A"}},1439,"03:27:00",{"$f":"VLOOKUP(I173,Airports!$A$2:$F$1256,6,0)","v":{"$error":"#N/A"}},164.25]
["2026-06-20","T55304","D-AICE",{"$f":"VLOOKUP(C174,Flotte!A:B,2,0)","v":"Airbus A321 CFM_SL"},{"$f":"VLOOKUP(C174,Flotte!A:C,3,0)","v":"inter-wings"},{"$f":"VLOOKUP(B174,Routen!A:B, 2, 0)","v":{"$error":"#N/A"}},{"$f":"VLOOKUP(F174,Airports!$A$2:$G$1256,2,0)","v":{"$error":"#N/A"}},{"$f":"VLOOKUP(F174,Airports!$A$2:$G$1256,4,0)","v":{"$error":"#N/A"}},{"$f":"VLOOKUP(B174,Routen!A:F, 6, 0)","v":{"$error":"#N/A"}},{"$f":"VLOOKUP(I174,Airports!$A$2:$G$1256,4,0)","v":{"$error":"#N/A"}},{"$f":"VLOOKUP(I174,Airports!$A$2:$G$1256,2,0)","v":{"$error":"#N/A"}},1214,"03:12:00",{"$f":"VLOOKUP(I174,Airports!$A$2:$F$1256,6,0)","v":{"$error":"#N/A"}},137.09]
["2026-06-22","T55305","D-AICE",{"$f":"VLOOKUP(C175,Flotte!A:B,2,0)","v":"Airbus A321 CFM_SL"},{"$f":"VLOOKUP(C175,Flotte!A:C,3,0)","v":"inter-wings"},{"$f":"VLOOKUP(B175,Routen!A:B, 2, 0)","v":{"$error":"#N/A"}},{"$f":"VLOOKUP(F175,Airports!$A$2:$G$1256,2,0)","v":{"$error":"#N/A"}},{"$f":"VLOOKUP(F175,Airports!$A$2:$G$1256,4,0)","v":{"$error":"#N/A"}},{"$f":"VLOOKUP(B175,Routen!A:F, 6, 0)","v":{"$error":"#N/A"}},{"$f":"VLOOKUP(I175,Airports!$A$2:$G$1256,4,0)","v":{"$error":"#N/A"}},{"$f":"VLOOKUP(I175,Airports!$A$2:$G$1256,2,0)","v":{"$error":"#N/A"}},1373,"03:32:00",{"$f":"VLOOKUP(I175,Airports!$A$2:$F$1256,6,0)","v":{"$error":"#N/A"}},69.11]
["2026-06-24","T55306","D-AICE",{"$f":"VLOOKUP(C176,Flotte!A:B,2,0)","v":"Airbus A321 CFM_SL"},{"$f":"VLOOKUP(C176,Flotte!A:C,3,0)","v":"inter-wings"},{"$f":"VLOOKUP(B176,Routen!A:B, 2, 0)","v":{"$error":"#N/A"}},{"$f":"VLOOKUP(F176,Airports!$A$2:$G$1256,2,0)","v":{"$error":"#N/A"}},{"$f":"VLOOKUP(F176,Airports!$A$2:$G$1256,4,0)","v":{"$error":"#N/A"}},{"$f":"VLOOKUP(B176,Routen!A:F, 6, 0)","v":{"$error":"#N/A"}},{"$f":"VLOOKUP(I176,Airports!$A$2:$G$1256,4,0)","v":{"$error":"#N/A"}},{"$f":"VLOOKUP(I176,Airports!$A$2:$G$1256,2,0)","v":{"$error":"#N/A"}},879,"02:32:00",{"$f":"VLOOKUP(I176,Airports!$A$2:$F$1256,6,0)","v":{"$error":"#N/A"}},288.11]
["2026-06-25","T55307","D-AICE",{"$f":"VLOOKUP(C177,Flotte!A:B,2,0)","v":"Airbus A321 CFM_SL"},{"$f":"VLOOKUP(C177,Flotte!A:C,3,0)","v":"inter-wings"},{"$f":"VLOOKUP(B177,Routen!A:B, 2, 0)","v":{"$error":"#N/A"}},{"$f":"VLOOKUP(F177,Airports!$A$2:$G$1256,2,0)","v":{"$error":"#N/A"}},{"$f":"VLOOKUP(F177,Airports!$A$2:$G$1256,4,0)","v":{"$error":"#N/A"}},{"$f":"VLOOKUP(B177,Routen!A:F, 6, 0)","v":{"$error":"#N/A"}},{"$f":"VLOOKUP(I177,Airports!$A$2:$G$1256,4,0)","v":{"$error":"#N/A"}},{"$f":"VLOOKUP(I177,Airports!$A$2:$G$1256,2,0)","v":{"$error":"#N/A"}},1592,"03:57:00",{"$f":"VLOOKUP(I177,Airports!$A$2:$F$1256,6,0)","v":{"$error":"#N/A"}},262.52999999999997]
["2026-06-26","T55308","D-AICE",{"$f":"VLOOKUP(C178,Flotte!A:B,2,0)","v":"Airbus A321 CFM_SL"},{"$f":"VLOOKUP(C178,Flotte!A:C,3,0)","v":"inter-wings"},{"$f":"VLOOKUP(B178,Routen!A:B, 2, 0)","v":{"$error":"#N/A"}},{"$f":"VLOOKUP(F178,Airports!$A$2:$G$1256,2,0)","v":{"$error":"#N/A"}},{"$f":"VLOOKUP(F178,Airports!$A$2:$G$1256,4,0)","v":{"$error":"#N/A"}},{"$f":"VLOOKUP(B178,Routen!A:F, 6, 0)","v":{"$error":"#N/A"}},{"$f":"VLOOKUP(I178,Airports!$A$2:$G$1256,4,0)","v":{"$error":"#N/A"}},{"$f":"VLOOKUP(I178,Airports!$A$2:$G$1256,2,0)","v":{"$error":"#N/A"}},1396,"03:40:00",{"$f":"VLOOKUP(I178,Airports!$A$2:$F$1256,6,0)","v":{"$error":"#N/A"}},170.94]
["2026-06-27","T55309","D-AICE",{"$f":"VLOOKUP(C179,Flotte!A:B,2,0)","v":"Airbus A321 CFM_SL"},{"$f":"VLOOKUP(C179,Flotte!A:C,3,0)","v":"inter-wings"},{"$f":"VLOOKUP(B179,Routen!A:B, 2, 0)","v":{"$error":"#N/A"}},{"$f":"VLOOKUP(F179,Airports!$A$2:$G$1256,2,0)","v":{"$error":"#N/A"}},{"$f":"VLOOKUP(F179,Airports!$A$2:$G$1256,4,0)","v":{"$error":"#N/A"}},{"$f":"VLOOKUP(B179,Routen!A:F, 6, 0)","v":{"$error":"#N/A"}},{"$f":"VLOOKUP(I179,Airports!$A$2:$G$1256,4,0)","v":{"$error":"#N/A"}},{"$f":"VLOOKUP(I179,Airports!$A$2:$G$1256,2,0)","v":{"$error":"#N/A"}},1231,"03:07:00",{"$f":"VLOOKUP(I179,Airports!$A$2:$F$1256,6,0)","v":{"$error":"#N/A"}},259.81]
["2026-06-29","T55310","D-AICE",{"$f":"VLOOKUP(C180,Flotte!A:B,2,0)","v":"Airbus A321 CFM_SL"},{"$f":"VLOOKUP(C180,Flotte!A:C,3,0)","v":"inter-wings"},{"$f":"VLOOKUP(B180,Routen!A:B, 2, 0)","v":{"$error":"#N/A"}},{"$f":"VLOOKUP(F180,Airports!$A$2:$G$1256,2,0)","v":{"$error":"#N/A"}},{"$f":"VLOOKUP(F180,Airports!$A$2:$G$1256,4,0)","v":{"$error":"#N/A"}},{"$f":"VLOOKUP(B180,Routen!A:F, 6, 0)","v":{"$error":"#N/A"}},{"$f":"VLOOKUP(I180,Airports!$A$2:$G$1256,4,0)","v":{"$error":"#N/A"}},{"$f":"VLOOKUP(I180,Airports!$A$2:$G$1256,2,0)","v":{"$error":"#N/A"}},1269,"03:18:00",{"$f":"VLOOKUP(I180,Airports!$A$2:$F$1256,6,0)","v":{"$error":"#N/A"}},158.02000000000001]
["2026-06-29","T55311","D-AICE",{"$f":"VLOOKUP(C181,Flotte!A:B,2,0)","v":"Airbus A321 CFM_SL"},{"$f":"VLOOKUP(C181,Flotte!A:C,3,0)","v":"inter-wings"},{"$f":"VLOOKUP(B181,Routen!A:B, 2, 0)","v":{"$error":"#N/A"}},{"$f":"VLOOKUP(F181,Airports!$A$2:$G$1256,2,0)","v":{"$error":"#N/A"}},{"$f":"VLOOKUP(F181,Airports!$A$2:$G$1256,4,0)","v":{"$error":"#N/A"}},{"$f":"VLOOKUP(B181,Routen!A:F, 6, 0)","v":{"$error":"#N/A"}},{"$f":"VLOOKUP(I181,Airports!$A$2:$G$1256,4,0)","v":{"$error":"#N/A"}},{"$f":"VLOOKUP(I181,Airports!$A$2:$G$1256,2,0)","v":{"$error":"#N/A"}},759,"02:23:00",{"$f":"VLOOKUP(I181,Airports!$A$2:$F$1256,6,0)","v":{"$error":"#N/A"}},312.17]
["2026-07-02","T55312","D-AICE",{"$f":"VLOOKUP(C182,Flotte!A:B,2,0)","v":"Airbus A321 CFM_SL"},{"$f":"VLOOKUP(C182,Flotte!A:C,3,0)","v":"inter-wings"},{"$f":"VLOOKUP(B182,Routen!A:B, 2, 0)","v":{"$error":"#N/A"}},{"$f":"VLOOKUP(F182,Airports!$A$2:$G$1256,2,0)","v":{"$error":"#N/A"}},{"$f":"VLOOKUP(F182,Airports!$A$2:$G$1256,4,0)","v":{"$error":"#N/A"}},{"$f":"VLOOKUP(B182,Routen!A:F, 6, 0)","v":{"$error":"#N/A"}},{"$f":"VLOOKUP(I182,Airports!$A$2:$G$1256,4,0)","v":{"$error":"#N/A"}},{"$f":"VLOOKUP(I182,Airports!$A$2:$G$1256,2,0)","v":{"$error":"#N/A"}},1182,"03:22:00",{"$f":"VLOOKUP(I182,Airports!$A$2:$F$1256,6,0)","v":{"$error":"#N/A"}},61.18]
["2026-07-03","IW1191","D-AICC",{"$f":"VLOOKUP(C183,Flotte!A:B,2,0)","v":"Airbus A321 CFM_SL"},{"$f":"VLOOKUP(C183,Flotte!A:C,3,0)","v":"inter-wings"},{"$f":"VLOOKUP(B183,Routen!A:B, 2, 0)","v":"EDDL"},{"$f":"VLOOKUP(F183,Airports!$A$2:$G$1256,2,0)","v":"Düsseldorf (Original)"},{"$f":"VLOOKUP(F183,Airports!$A$2:$G$1256,4,0)","v":"Deutschland"},{"$f":"VLOOKUP(B183,Routen!A:F, 6, 0)","v":"EDHI"},{"$f":"VLOOKUP(I183,Airports!$A$2:$G$1256,4,0)","v":"Deutschland"},{"$f":"VLOOKUP(I183,Airports!$A$2:$G$1256,2,0)","v":"Hamburg-Finkenwerder"},240,"01:03:00",{"$f":"VLOOKUP(I183,Airports!$A$2:$F$1256,6,0)","v":1},185.58]
["2026-07-03","IW1192","D-AICC",{"$f":"VLOOKUP(C184,Flotte!A:B,2,0)","v":"Airbus A321 CFM_SL"},{"$f":"VLOOKUP(C184,Flotte!A:C,3,0)","v":"inter-wings"},{"$f":"VLOOKUP(B184,Routen!A:B, 2, 0)","v":"EDHI"},{"$f":"VLOOKUP(F184,Airports!$A$2:$G$1256,2,0)","v":"Hamburg-Finkenwerder"},{"$f":"VLOOKUP(F184,Airports!$A$2:$G$1256,4,0)","v":"Deutschland"},{"$f":"VLOOKUP(B184,Routen!A:F, 6, 0)","v":"EDDL"},{"$f":"VLOOKUP(I184,Airports!$A$2:$G$1256,4,0)","v":"Deutschland"},{"$f":"VLOOKUP(I184,Airports!$A$2:$G$1256,2,0)","v":"Düsseldorf (Original)"},188,"00:53:00",{"$f":"VLOOKUP(I184,Airports!$A$2:$F$1256,6,0)","v":46},315.42]
["2026-07-04","T55313","D-AICE",{"$f":"VLOOKUP(C185,Flotte!A:B,2,0)","v":"Airbus A321 CFM_SL"},{"$f":"VLOOKUP(C185,Flotte!A:C,3,0)","v":"inter-wings"},{"$f":"VLOOKUP(B185,Routen!A:B, 2, 0)","v":{"$error":"#N/A"}},{"$f":"VLOOKUP(F185,Airports!$A$2:$G$1256,2,0)","v":{"$error":"#N/A"}},{"$f":"VLOOKUP(F185,Airports!$A$2:$G$1256,4,0)","v":{"$error":"#N/A"}},{"$f":"VLOOKUP(B185,Routen!A:F, 6, 0)","v":{"$error":"#N/A"}},{"$f":"VLOOKUP(I185,Airports!$A$2:$G$1256,4,0)","v":{"$error":"#N/A"}},{"$f":"VLOOKUP(I185,Airports!$A$2:$G$1256,2,0)","v":{"$error":"#N/A"}},1809,"04:22:00",{"$f":"VLOOKUP(I185,Airports!$A$2:$F$1256,6,0)","v":{"$error":"#N/A"}},313.58999999999997]
["2026-07-05","T55314","D-AICE",{"$f":"VLOOKUP(C186,Flotte!A:B,2,0)","v":"Airbus A321 CFM_SL"},{"$f":"VLOOKUP(C186,Flotte!A:C,3,0)","v":"inter-wings"},{"$f":"VLOOKUP(B186,Routen!A:B, 2, 0)","v":{"$error":"#N/A"}},{"$f":"VLOOKUP(F186,Airports!$A$2:$G$1256,2,0)","v":{"$error":"#N/A"}},{"$f":"VLOOKUP(F186,Airports!$A$2:$G$1256,4,0)","v":{"$error":"#N/A"}},{"$f":"VLOOKUP(B186,Routen!A:F, 6, 0)","v":{"$error":"#N/A"}},{"$f":"VLOOKUP(I186,Airports!$A$2:$G$1256,4,0)","v":{"$error":"#N/A"}},{"$f":"VLOOKUP(I186,Airports!$A$2:$G$1256,2,0)","v":{"$error":"#N/A"}},674,"02:02:00",{"$f":"VLOOKUP(I186,Airports!$A$2:$F$1256,6,0)","v":{"$error":"#N/A"}},132.94999999999999]
["2026-07-05","T55315","D-AICE",{"$f":"VLOOKUP(C187,Flotte!A:B,2,0)","v":"Airbus A321 CFM_SL"},{"$f":"VLOOKUP(C187,Flotte!A:C,3,0)","v":"inter-wings"},{"$f":"VLOOKUP(B187,Routen!A:B, 2, 0)","v":{"$error":"#N/A"}},{"$f":"VLOOKUP(F187,Airports!$A$2:$G$1256,2,0)","v":{"$error":"#N/A"}},{"$f":"VLOOKUP(F187,Airports!$A$2:$G$1256,4,0)","v":{"$error":"#N/A"}},{"$f":"VLOOKUP(B187,Routen!A:F, 6, 0)","v":{"$error":"#N/A"}},{"$f":"VLOOKUP(I187,Airports!$A$2:$G$1256,4,0)","v":{"$error":"#N/A"}},{"$f":"VLOOKUP(I187,Airports!$A$2:$G$1256,2,0)","v":{"$error":"#N/A"}},1490,"03:44:00",{"$f":"VLOOKUP(I187,Airports!$A$2:$F$1256,6,0)","v":{"$error":"#N/A"}},260.67]
["2026-07-05","T55316","D-AICE",{"$f":"VLOOKUP(C188,Flotte!A:B,2,0)","v":"Airbus A321 CFM_SL"},{"$f":"VLOOKUP(C188,Flotte!A:C,3,0)","v":"inter-wings"},{"$f":"VLOOKUP(B188,Routen!A:B, 2, 0)","v":{"$error":"#N/A"}},{"$f":"VLOOKUP(F188,Airports!$A$2:$G$1256,2,0)","v":{"$error":"#N/A"}},{"$f":"VLOOKUP(F188,Airports!$A$2:$G$1256,4,0)","v":{"$error":"#N/A"}},{"$f":"VLOOKUP(B188,Routen!A:F, 6, 0)","v":{"$error":"#N/A"}},{"$f":"VLOOKUP(I188,Airports!$A$2:$G$1256,4,0)","v":{"$error":"#N/A"}},{"$f":"VLOOKUP(I188,Airports!$A$2:$G$1256,2,0)","v":{"$error":"#N/A"}},1764,"04:30:00",{"$f":"VLOOKUP(I188,Airports!$A$2:$F$1256,6,0)","v":{"$error":"#N/A"}},198.22]
["2026-07-06","T55317","D-AICE",{"$f":"VLOOKUP(C189,Flotte!A:B,2,0)","v":"Airbus A321 CFM_SL"},{"$f":"VLOOKUP(C189,Flotte!A:C,3,0)","v":"inter-wings"},{"$f":"VLOOKUP(B189,Routen!A:B, 2, 0)","v":{"$error":"#N/A"}},{"$f":"VLOOKUP(F189,Airports!$A$2:$G$1256,2,0)","v":{"$error":"#N/A"}},{"$f":"VLOOKUP(F189,Airports!$A$2:$G$1256,4,0)","v":{"$error":"#N/A"}},{"$f":"VLOOKUP(B189,Routen!A:F, 6, 0)","v":{"$error":"#N/A"}},{"$f":"VLOOKUP(I189,Airports!$A$2:$G$1256,4,0)","v":{"$error":"#N/A"}},{"$f":"VLOOKUP(I189,Airports!$A$2:$G$1256,2,0)","v":{"$error":"#N/A"}},1189,"03:09:00",{"$f":"VLOOKUP(I189,Airports!$A$2:$F$1256,6,0)","v":{"$error":"#N/A"}},314.05]
["2026-07-06","T55318","D-AICE",{"$f":"VLOOKUP(C190,Flotte!A:B,2,0)","v":"Airbus A321 CFM_SL"},{"$f":"VLOOKUP(C190,Flotte!A:C,3,0)","v":"inter-wings"},{"$f":"VLOOKUP(B190,Routen!A:B, 2, 0)","v":{"$error":"#N/A"}},{"$f":"VLOOKUP(F190,Airports!$A$2:$G$1256,2,0)","v":{"$error":"#N/A"}},{"$f":"VLOOKUP(F190,Airports!$A$2:$G$1256,4,0)","v":{"$error":"#N/A"}},{"$f":"VLOOKUP(B190,Routen!A:F, 6, 0)","v":{"$error":"#N/A"}},{"$f":"VLOOKUP(I190,Airports!$A$2:$G$1256,4,0)","v":{"$error":"#N/A"}},{"$f":"VLOOKUP(I190,Airports!$A$2:$G$1256,2,0)","v":{"$error":"#N/A"}},928,"02:38:00",{"$f":"VLOOKUP(I190,Airports!$A$2:$F$1256,6,0)","v":{"$error":"#N/A"}},198.4]
["2026-07-07","T55319","D-AICE",{"$f":"VLOOKUP(C191,Flotte!A:B,2,0)","v":"Airbus A321 CFM_SL"},{"$f":"VLOOKUP(C191,Flotte!A:C,3,0)","v":"inter-wings"},{"$f":"VLOOKUP(B191,Routen!A:B, 2, 0)","v":{"$error":"#N/A"}},{"$f":"VLOOKUP(F191,Airports!$A$2:$G$1256,2,0)","v":{"$error":"#N/A"}},{"$f":"VLOOKUP(F191,Airports!$A$2:$G$1256,4,0)","v":{"$error":"#N/A"}},{"$f":"VLOOKUP(B191,Routen!A:F, 6, 0)","v":{"$error":"#N/A"}},{"$f":"VLOOKUP(I191,Airports!$A$2:$G$1256,4,0)","v":{"$error":"#N/A"}},{"$f":"VLOOKUP(I191,Airports!$A$2:$G$1256,2,0)","v":{"$error":"#N/A"}},607,"02:02:00",{"$f":"VLOOKUP(I191,Airports!$A$2:$F$1256,6,0)","v":{"$error":"#N/A"}},256.89999999999998]
["2026-07-08","T55320","D-AICE",{"$f":"VLOOKUP(C192,Flotte!A:B,2,0)","v":"Airbus A321 CFM_SL"},{"$f":"VLOOKUP(C192,Flotte!A:C,3,0)","v":"inter-wings"},{"$f":"VLOOKUP(B192,Routen!A:B, 2, 0)","v":{"$error":"#N/A"}},{"$f":"VLOOKUP(F192,Airports!$A$2:$G$1256,2,0)","v":{"$error":"#N/A"}},{"$f":"VLOOKUP(F192,Airports!$A$2:$G$1256,4,0)","v":{"$error":"#N/A"}},{"$f":"VLOOKUP(B192,Routen!A:F, 6, 0)","v":{"$error":"#N/A"}},{"$f":"VLOOKUP(I192,Airports!$A$2:$G$1256,4,0)","v":{"$error":"#N/A"}},{"$f":"VLOOKUP(I192,Airports!$A$2:$G$1256,2,0)","v":{"$error":"#N/A"}},769,"02:15:00",{"$f":"VLOOKUP(I192,Airports!$A$2:$F$1256,6,0)","v":{"$error":"#N/A"}},132.15]
["2026-07-09","T55321","D-AICE",{"$f":"VLOOKUP(C193,Flotte!A:B,2,0)","v":"Airbus A321 CFM_SL"},{"$f":"VLOOKUP(C193,Flotte!A:C,3,0)","v":"inter-wings"},{"$f":"VLOOKUP(B193,Routen!A:B, 2, 0)","v":{"$error":"#N/A"}},{"$f":"VLOOKUP(F193,Airports!$A$2:$G$1256,2,0)","v":{"$error":"#N/A"}},{"$f":"VLOOKUP(F193,Airports!$A$2:$G$1256,4,0)","v":{"$error":"#N/A"}},{"$f":"VLOOKUP(B193,Routen!A:F, 6, 0)","v":{"$error":"#N/A"}},{"$f":"VLOOKUP(I193,Airports!$A$2:$G$1256,4,0)","v":{"$error":"#N/A"}},{"$f":"VLOOKUP(I193,Airports!$A$2:$G$1256,2,0)","v":{"$error":"#N/A"}},1455,"03:40:00",{"$f":"VLOOKUP(I193,Airports!$A$2:$F$1256,6,0)","v":{"$error":"#N/A"}},233.11]
["2026-07-10","T55322","D-AICE",{"$f":"VLOOKUP(C194,Flotte!A:B,2,0)","v":"Airbus A321 CFM_SL"},{"$f":"VLOOKUP(C194,Flotte!A:C,3,0)","v":"inter-wings"},{"$f":"VLOOKUP(B194,Routen!A:B, 2, 0)","v":{"$error":"#N/A"}},{"$f":"VLOOKUP(F194,Airports!$A$2:$G$1256,2,0)","v":{"$error":"#N/A"}},{"$f":"VLOOKUP(F194,Airports!$A$2:$G$1256,4,0)","v":{"$error":"#N/A"}},{"$f":"VLOOKUP(B194,Routen!A:F, 6, 0)","v":{"$error":"#N/A"}},{"$f":"VLOOKUP(I194,Airports!$A$2:$G$1256,4,0)","v":{"$error":"#N/A"}},{"$f":"VLOOKUP(I194,Airports!$A$2:$G$1256,2,0)","v":{"$error":"#N/A"}},1261,"03:10:00",{"$f":"VLOOKUP(I194,Airports!$A$2:$F$1256,6,0)","v":{"$error":"#N/A"}},290.35000000000002]
["2026-07-11","T55323","D-AICE",{"$f":"VLOOKUP(C195,Flotte!A:B,2,0)","v":"Airbus A321 CFM_SL"},{"$f":"VLOOKUP(C195,Flotte!A:C,3,0)","v":"inter-wings"},{"$f":"VLOOKUP(B195,Routen!A:B, 2, 0)","v":{"$error":"#N/A"}},{"$f":"VLOOKUP(F195,Airports!$A$2:$G$1256,2,0)","v":{"$error":"#N/A"}},{"$f":"VLOOKUP(F195,Airports!$A$2:$G$1256,4,0)","v":{"$error":"#N/A"}},{"$f":"VLOOKUP(B195,Routen!A:F, 6, 0)","v":{"$error":"#N/A"}},{"$f":"VLOOKUP(I195,Airports!$A$2:$G$1256,4,0)","v":{"$error":"#N/A"}},{"$f":"VLOOKUP(I195,Airports!$A$2:$G$1256,2,0)","v":{"$error":"#N/A"}},1318,"03:26:00",{"$f":"VLOOKUP(I195,Airports!$A$2:$F$1256,6,0)","v":{"$error":"#N/A"}},270.36]
["2026-07-12","T55324","D-AICE",{"$f":"VLOOKUP(C196,Flotte!A:B,2,0)","v":"Airbus A321 CFM_SL"},{"$f":"VLOOKUP(C196,Flotte!A:C,3,0)","v":"inter-wings"},{"$f":"VLOOKUP(B196,Routen!A:B, 2, 0)","v":{"$error":"#N/A"}},{"$f":"VLOOKUP(F196,Airports!$A$2:$G$1256,2,0)","v":{"$error":"#N/A"}},{"$f":"VLOOKUP(F196,Airports!$A$2:$G$1256,4,0)","v":{"$error":"#N/A"}},{"$f":"VLOOKUP(B196,Routen!A:F, 6, 0)","v":{"$error":"#N/A"}},{"$f":"VLOOKUP(I196,Airports!$A$2:$G$1256,4,0)","v":{"$error":"#N/A"}},{"$f":"VLOOKUP(I196,Airports!$A$2:$G$1256,2,0)","v":{"$error":"#N/A"}},2232,"05:18:00",{"$f":"VLOOKUP(I196,Airports!$A$2:$F$1256,6,0)","v":{"$error":"#N/A"}},227.94]
["2026-07-13","T55325","D-AICE",{"$f":"VLOOKUP(C197,Flotte!A:B,2,0)","v":"Airbus A321 CFM_SL"},{"$f":"VLOOKUP(C197,Flotte!A:C,3,0)","v":"inter-wings"},{"$f":"VLOOKUP(B197,Routen!A:B, 2, 0)","v":{"$error":"#N/A"}},{"$f":"VLOOKUP(F197,Airports!$A$2:$G$1256,2,0)","v":{"$error":"#N/A"}},{"$f":"VLOOKUP(F197,Airports!$A$2:$G$1256,4,0)","v":{"$error":"#N/A"}},{"$f":"VLOOKUP(B197,Routen!A:F, 6, 0)","v":{"$error":"#N/A"}},{"$f":"VLOOKUP(I197,Airports!$A$2:$G$1256,4,0)","v":{"$error":"#N/A"}},{"$f":"VLOOKUP(I197,Airports!$A$2:$G$1256,2,0)","v":{"$error":"#N/A"}},1279,"03:22:00",{"$f":"VLOOKUP(I197,Airports!$A$2:$F$1256,6,0)","v":{"$error":"#N/A"}},272.17]
["2026-07-13","T55326","D-AICE",{"$f":"VLOOKUP(C198,Flotte!A:B,2,0)","v":"Airbus A321 CFM_SL"},{"$f":"VLOOKUP(C198,Flotte!A:C,3,0)","v":"inter-wings"},{"$f":"VLOOKUP(B198,Routen!A:B, 2, 0)","v":{"$error":"#N/A"}},{"$f":"VLOOKUP(F198,Airports!$A$2:$G$1256,2,0)","v":{"$error":"#N/A"}},{"$f":"VLOOKUP(F198,Airports!$A$2:$G$1256,4,0)","v":{"$error":"#N/A"}},{"$f":"VLOOKUP(B198,Routen!A:F, 6, 0)","v":{"$error":"#N/A"}},{"$f":"VLOOKUP(I198,Airports!$A$2:$G$1256,4,0)","v":{"$error":"#N/A"}},{"$f":"VLOOKUP(I198,Airports!$A$2:$G$1256,2,0)","v":{"$error":"#N/A"}},694,"02:04:00",{"$f":"VLOOKUP(I198,Airports!$A$2:$F$1256,6,0)","v":{"$error":"#N/A"}},267.86]
["2026-07-14","T55327","D-AICE",{"$f":"VLOOKUP(C199,Flotte!A:B,2,0)","v":"Airbus A321 CFM_SL"},{"$f":"VLOOKUP(C199,Flotte!A:C,3,0)","v":"inter-wings"},{"$f":"VLOOKUP(B199,Routen!A:B, 2, 0)","v":{"$error":"#N/A"}},{"$f":"VLOOKUP(F199,Airports!$A$2:$G$1256,2,0)","v":{"$error":"#N/A"}},{"$f":"VLOOKUP(F199,Airports!$A$2:$G$1256,4,0)","v":{"$error":"#N/A"}},{"$f":"VLOOKUP(B199,Routen!A:F, 6, 0)","v":{"$error":"#N/A"}},{"$f":"VLOOKUP(I199,Airports!$A$2:$G$1256,4,0)","v":{"$error":"#N/A"}},{"$f":"VLOOKUP(I199,Airports!$A$2:$G$1256,2,0)","v":{"$error":"#N/A"}},853,"02:33:00",{"$f":"VLOOKUP(I199,Airports!$A$2:$F$1256,6,0)","v":{"$error":"#N/A"}},183.89]
["2026-07-16","LH1101","D-AIUM",{"$f":"VLOOKUP(C200,Flotte!A:B,2,0)","v":"Airbus A320 CFM_SL"},{"$f":"VLOOKUP(C200,Flotte!A:C,3,0)","v":"Lufthansa"},{"$f":"VLOOKUP(B200,Routen!A:B, 2, 0)","v":"EDDL"},{"$f":"VLOOKUP(F200,Airports!$A$2:$G$1256,2,0)","v":"Düsseldorf (Original)"},{"$f":"VLOOKUP(F200,Airports!$A$2:$G$1256,4,0)","v":"Deutschland"},{"$f":"VLOOKUP(B200,Routen!A:F, 6, 0)","v":"LJMB"},{"$f":"VLOOKUP(I200,Airports!$A$2:$G$1256,4,0)","v":"Slowenien"},{"$f":"VLOOKUP(I200,Airports!$A$2:$G$1256,2,0)","v":"Maribor-Edvard Rusjan"},500,"01:22:00",{"$f":"VLOOKUP(I200,Airports!$A$2:$F$1256,6,0)","v":1},296]
["2026-07-17","LH1102","D-AIUM",{"$f":"VLOOKUP(C201,Flotte!A:B,2,0)","v":"Airbus A320 CFM_SL"},{"$f":"VLOOKUP(C201,Flotte!A:C,3,0)","v":"Lufthansa"},{"$f":"VLOOKUP(B201,Routen!A:B, 2, 0)","v":"LJMB"},{"$f":"VLOOKUP(F201,Airports!$A$2:$G$1256,2,0)","v":"Maribor-Edvard Rusjan"},{"$f":"VLOOKUP(F201,Airports!$A$2:$G$1256,4,0)","v":"Slowenien"},{"$f":"VLOOKUP(B201,Routen!A:F, 6, 0)","v":"EDDL"},{"$f":"VLOOKUP(I201,Airports!$A$2:$G$1256,4,0)","v":"Deutschland"},{"$f":"VLOOKUP(I201,Airports!$A$2:$G$1256,2,0)","v":"Düsseldorf (Original)"},500,"01:17:00",{"$f":"VLOOKUP(I201,Airports!$A$2:$F$1256,6,0)","v":46},290]
["2026-07-18","DE2101","D-AICA",{"$f":"VLOOKUP(C202,Flotte!A:B,2,0)","v":"Airbus A320 CFM_WT"},{"$f":"VLOOKUP(C202,Flotte!A:C,3,0)","v":"Condor"},{"$f":"VLOOKUP(B202,Routen!A:B, 2, 0)","v":"EDDL"},{"$f":"VLOOKUP(F202,Airports!$A$2:$G$1256,2,0)","v":"Düsseldorf (Original)"},{"$f":"VLOOKUP(F202,Airports!$A$2:$G$1256,4,0)","v":"Deutschland"},{"$f":"VLOOKUP(B202,Routen!A:F, 6, 0)","v":"EDMA"},{"$f":"VLOOKUP(I202,Airports!$A$2:$G$1256,4,0)","v":"Deutschland"},{"$f":"VLOOKUP(I202,Airports!$A$2:$G$1256,2,0)","v":"Augsburg"},267,"00:43:00",{"$f":"VLOOKUP(I202,Airports!$A$2:$F$1256,6,0)","v":1},318]
["2026-07-18","DE2102","D-AICA",{"$f":"VLOOKUP(C203,Flotte!A:B,2,0)","v":"Airbus A320 CFM_WT"},{"$f":"VLOOKUP(C203,Flotte!A:C,3,0)","v":"Condor"},{"$f":"VLOOKUP(B203,Routen!A:B, 2, 0)","v":"EDMA"},{"$f":"VLOOKUP(F203,Airports!$A$2:$G$1256,2,0)","v":"Augsburg"},{"$f":"VLOOKUP(F203,Airports!$A$2:$G$1256,4,0)","v":"Deutschland"},{"$f":"VLOOKUP(B203,Routen!A:F, 6, 0)","v":"EDDL"},{"$f":"VLOOKUP(I203,Airports!$A$2:$G$1256,4,0)","v":"Deutschland"},{"$f":"VLOOKUP(I203,Airports!$A$2:$G$1256,2,0)","v":"Düsseldorf (Original)"},319,"00:51:00",{"$f":"VLOOKUP(I203,Airports!$A$2:$F$1256,6,0)","v":46},148]
["2026-07-19","EW4101","D-AEWK",{"$f":"VLOOKUP(C204,Flotte!A:B,2,0)","v":"Airbus A320 CFM_SL"},{"$f":"VLOOKUP(C204,Flotte!A:C,3,0)","v":"Eurowings"},{"$f":"VLOOKUP(B204,Routen!A:B, 2, 0)","v":"EDDL"},{"$f":"VLOOKUP(F204,Airports!$A$2:$G$1256,2,0)","v":"Düsseldorf (Original)"},{"$f":"VLOOKUP(F204,Airports!$A$2:$G$1256,4,0)","v":"Deutschland"},{"$f":"VLOOKUP(B204,Routen!A:F, 6, 0)","v":"LSZH"},{"$f":"VLOOKUP(I204,Airports!$A$2:$G$1256,4,0)","v":"Schweiz"},{"$f":"VLOOKUP(I204,Airports!$A$2:$G$1256,2,0)","v":"Zürich"},320,"00:50:00",{"$f":"VLOOKUP(I204,Airports!$A$2:$F$1256,6,0)","v":1},302]
["2026-07-19","EW4102","D-AEWK",{"$f":"VLOOKUP(C205,Flotte!A:B,2,0)","v":"Airbus A320 CFM_SL"},{"$f":"VLOOKUP(C205,Flotte!A:C,3,0)","v":"Eurowings"},{"$f":"VLOOKUP(B205,Routen!A:B, 2, 0)","v":"LSZH"},{"$f":"VLOOKUP(F205,Airports!$A$2:$G$1256,2,0)","v":"Zürich"},{"$f":"VLOOKUP(F205,Airports!$A$2:$G$1256,4,0)","v":"Schweiz"},{"$f":"VLOOKUP(B205,Routen!A:F, 6, 0)","v":"EDDL"},{"$f":"VLOOKUP(I205,Airports!$A$2:$G$1256,4,0)","v":"Deutschland"},{"$f":"VLOOKUP(I205,Airports!$A$2:$G$1256,2,0)","v":"Düsseldorf (Original)"},354,"01:03:00",{"$f":"VLOOKUP(I205,Airports!$A$2:$F$1256,6,0)","v":46},330]
["2026-07-20","4Y5101","D-AIWE",{"$f":"VLOOKUP(C206,Flotte!A:B,2,0)","v":"Airbus A320 CFM_SL"},{"$f":"VLOOKUP(C206,Flotte!A:C,3,0)","v":"Discover"},{"$f":"VLOOKUP(B206,Routen!A:B, 2, 0)","v":"EDDL"},{"$f":"VLOOKUP(F206,Airports!$A$2:$G$1256,2,0)","v":"Düsseldorf (Original)"},{"$f":"VLOOKUP(F206,Airports!$A$2:$G$1256,4,0)","v":"Deutschland"},{"$f":"VLOOKUP(B206,Routen!A:F, 6, 0)","v":"LIRF"},{"$f":"VLOOKUP(I206,Airports!$A$2:$G$1256,4,0)","v":"Italien"},{"$f":"VLOOKUP(I206,Airports!$A$2:$G$1256,2,0)","v":"Rom-Fiumicino"},676,"01:45:00",{"$f":"VLOOKUP(I206,Airports!$A$2:$F$1256,6,0)","v":2},316]
["2026-07-20","4Y5102","D-AIWE",{"$f":"VLOOKUP(C207,Flotte!A:B,2,0)","v":"Airbus A320 CFM_SL"},{"$f":"VLOOKUP(C207,Flotte!A:C,3,0)","v":"Discover"},{"$f":"VLOOKUP(B207,Routen!A:B, 2, 0)","v":"LIRF"},{"$f":"VLOOKUP(F207,Airports!$A$2:$G$1256,2,0)","v":"Rom-Fiumicino"},{"$f":"VLOOKUP(F207,Airports!$A$2:$G$1256,4,0)","v":"Italien"},{"$f":"VLOOKUP(B207,Routen!A:F, 6, 0)","v":"EDDL"},{"$f":"VLOOKUP(I207,Airports!$A$2:$G$1256,4,0)","v":"Deutschland"},{"$f":"VLOOKUP(I207,Airports!$A$2:$G$1256,2,0)","v":"Düsseldorf (Original)"},712,"01:56:00",{"$f":"VLOOKUP(I207,Airports!$A$2:$F$1256,6,0)","v":46},216]
["2026-07-21","AB3101","D-ABNX",{"$f":"VLOOKUP(C208,Flotte!A:B,2,0)","v":"Airbus A320 CFM_SL"},{"$f":"VLOOKUP(C208,Flotte!A:C,3,0)","v":"Air Berlin"},{"$f":"VLOOKUP(B208,Routen!A:B, 2, 0)","v":"EDDL"},{"$f":"VLOOKUP(F208,Airports!$A$2:$G$1256,2,0)","v":"Düsseldorf (Original)"},{"$f":"VLOOKUP(F208,Airports!$A$2:$G$1256,4,0)","v":"Deutschland"},{"$f":"VLOOKUP(B208,Routen!A:F, 6, 0)","v":"EGNT"},{"$f":"VLOOKUP(I208,Airports!$A$2:$G$1256,4,0)","v":"Großbritannien"},{"$f":"VLOOKUP(I208,Airports!$A$2:$G$1256,2,0)","v":"Newcastle"},455,"01:10:00",{"$f":"VLOOKUP(I208,Airports!$A$2:$F$1256,6,0)","v":1},310]
["2026-07-21","AB3102","D-ABNX",{"$f":"VLOOKUP(C209,Flotte!A:B,2,0)","v":"Airbus A320 CFM_SL"},{"$f":"VLOOKUP(C209,Flotte!A:C,3,0)","v":"Air Berlin"},{"$f":"VLOOKUP(B209,Routen!A:B, 2, 0)","v":"EGNT"},{"$f":"VLOOKUP(F209,Airports!$A$2:$G$1256,2,0)","v":"Newcastle"},{"$f":"VLOOKUP(F209,Airports!$A$2:$G$1256,4,0)","v":"Großbritannien"},{"$f":"VLOOKUP(B209,Routen!A:F, 6, 0)","v":"EDDL"},{"$f":"VLOOKUP(I209,Airports!$A$2:$G$1256,4,0)","v":"Deutschland"},{"$f":"VLOOKUP(I209,Airports!$A$2:$G$1256,2,0)","v":"Düsseldorf (Original)"},460,"01:13:00",{"$f":"VLOOKUP(I209,Airports!$A$2:$F$1256,6,0)","v":46},343]
["2026-07-22","AB3103","D-ABNX",{"$f":"VLOOKUP(C210,Flotte!A:B,2,0)","v":"Airbus A320 CFM_SL"},{"$f":"VLOOKUP(C210,Flotte!A:C,3,0)","v":"Air Berlin"},{"$f":"VLOOKUP(B210,Routen!A:B, 2, 0)","v":"EDDL"},{"$f":"VLOOKUP(F210,Airports!$A$2:$G$1256,2,0)","v":"Düsseldorf (Original)"},{"$f":"VLOOKUP(F210,Airports!$A$2:$G$1256,4,0)","v":"Deutschland"},{"$f":"VLOOKUP(B210,Routen!A:F, 6, 0)","v":"LEAL"},{"$f":"VLOOKUP(I210,Airports!$A$2:$G$1256,4,0)","v":"Spanien"},{"$f":"VLOOKUP(I210,Airports!$A$2:$G$1256,2,0)","v":"Alicante - Elche"},906,"02:18:00",{"$f":"VLOOKUP(I210,Airports!$A$2:$F$1256,6,0)","v":1},336]
["2026-07-23","AB3104","D-ABNX",{"$f":"VLOOKUP(C211,Flotte!A:B,2,0)","v":"Airbus A320 CFM_SL"},{"$f":"VLOOKUP(C211,Flotte!A:C,3,0)","v":"Air Berlin"},{"$f":"VLOOKUP(B211,Routen!A:B, 2, 0)","v":"LEAL"},{"$f":"VLOOKUP(F211,Airports!$A$2:$G$1256,2,0)","v":"Alicante - Elche"},{"$f":"VLOOKUP(F211,Airports!$A$2:$G$1256,4,0)","v":"Spanien"},{"$f":"VLOOKUP(B211,Routen!A:F, 6, 0)","v":"EDDL"},{"$f":"VLOOKUP(I211,Airports!$A$2:$G$1256,4,0)","v":"Deutschland"},{"$f":"VLOOKUP(I211,Airports!$A$2:$G$1256,2,0)","v":"Düsseldorf (Original)"},946,"02:15:00",{"$f":"VLOOKUP(I211,Airports!$A$2:$F$1256,6,0)","v":46},347]
["2026-07-24","AB3105","D-ABNX",{"$f":"VLOOKUP(C212,Flotte!A:B,2,0)","v":"Airbus A320 CFM_SL"},{"$f":"VLOOKUP(C212,Flotte!A:C,3,0)","v":"Air Berlin"},{"$f":"VLOOKUP(B212,Routen!A:B, 2, 0)","v":"EDDL"},{"$f":"VLOOKUP(F212,Airports!$A$2:$G$1256,2,0)","v":"Düsseldorf (Original)"},{"$f":"VLOOKUP(F212,Airports!$A$2:$G$1256,4,0)","v":"Deutschland"},{"$f":"VLOOKUP(B212,Routen!A:F, 6, 0)","v":"EETN"},{"$f":"VLOOKUP(I212,Airports!$A$2:$G$1256,4,0)","v":"Estland"},{"$f":"VLOOKUP(I212,Airports!$A$2:$G$1256,2,0)","v":"Tallinn"},850,"02:03:00",{"$f":"VLOOKUP(I212,Airports!$A$2:$F$1256,6,0)","v":1},307]
["2026-07-25","AB3106","D-ABNX",{"$f":"VLOOKUP(C213,Flotte!A:B,2,0)","v":"Airbus A320 CFM_SL"},{"$f":"VLOOKUP(C213,Flotte!A:C,3,0)","v":"Air Berlin"},{"$f":"VLOOKUP(B213,Routen!A:B, 2, 0)","v":"EETN"},{"$f":"VLOOKUP(F213,Airports!$A$2:$G$1256,2,0)","v":"Tallinn"},{"$f":"VLOOKUP(F213,Airports!$A$2:$G$1256,4,0)","v":"Estland"},{"$f":"VLOOKUP(B213,Routen!A:F, 6, 0)","v":"EDDL"},{"$f":"VLOOKUP(I213,Airports!$A$2:$G$1256,4,0)","v":"Deutschland"},{"$f":"VLOOKUP(I213,Airports!$A$2:$G$1256,2,0)","v":"Düsseldorf (Original)"},749,"01:59:00",{"$f":"VLOOKUP(I213,Airports!$A$2:$F$1256,6,0)","v":46},202]
["2026-07-26","AB3107","D-ABNX",{"$f":"VLOOKUP(C214,Flotte!A:B,2,0)","v":"Airbus A320 CFM_SL"},{"$f":"VLOOKUP(C214,Flotte!A:C,3,0)","v":"Air Berlin"},{"$f":"VLOOKUP(B214,Routen!A:B, 2, 0)","v":"EDDL"},{"$f":"VLOOKUP(F214,Airports!$A$2:$G$1256,2,0)","v":"Düsseldorf (Original)"},{"$f":"VLOOKUP(F214,Airports!$A$2:$G$1256,4,0)","v":"Deutschland"},{"$f":"VLOOKUP(B214,Routen!A:F, 6, 0)","v":"EDHL"},{"$f":"VLOOKUP(I214,Airports!$A$2:$G$1256,4,0)","v":"Deutschland"},{"$f":"VLOOKUP(I214,Airports!$A$2:$G$1256,2,0)","v":"Lübeck Blankensee"},287,"00:52:00",{"$f":"VLOOKUP(I214,Airports!$A$2:$F$1256,6,0)","v":1},287]
["2026-07-27","AB3109","D-ABNX",{"$f":"VLOOKUP(C215,Flotte!A:B,2,0)","v":"Airbus A320 CFM_SL"},{"$f":"VLOOKUP(C215,Flotte!A:C,3,0)","v":"Air Berlin"},{"$f":"VLOOKUP(B215,Routen!A:B, 2, 0)","v":"EDHL"},{"$f":"VLOOKUP(F215,Airports!$A$2:$G$1256,2,0)","v":"Lübeck Blankensee"},{"$f":"VLOOKUP(F215,Airports!$A$2:$G$1256,4,0)","v":"Deutschland"},{"$f":"VLOOKUP(B215,Routen!A:F, 6, 0)","v":"EVRA"},{"$f":"VLOOKUP(I215,Airports!$A$2:$G$1256,4,0)","v":"Lettland"},{"$f":"VLOOKUP(I215,Airports!$A$2:$G$1256,2,0)","v":"Riga"},525,"01:21:00",{"$f":"VLOOKUP(I215,Airports!$A$2:$F$1256,6,0)","v":1},111]
[]
["Alle Grünen Werte gebe ich manuell ein."]
["Der Rest soll aus Routen oder Touren geholt werden."]
["Die Flugnummern stehen nur in Routen oder in Touren."]
[]
["Wie hier zu sehen ist, werden die Daten aus Touren nicht eingelesen."]
["Alle die Lösungsvorschläge von euch habe ich auch versucht. "]

{"sheet":"Routen","index":1,"n_rows":184,"n_cols":15,"rows_kept":184,"cut":false,"hidden":false,"merged":[]}
["Flug Nr","Departure","Departure-Airport ","Land",null,"Arrival","Arrival-Airport","Land","Entfernung","Route","Kontinent - Start",null,"Kontinent - Landung","Häufigkeit","Strecke"]
["4Y5101","EDDL",{"$f":"VLOOKUP(B2,Airports!$A$2:$D$1133,2,0)","v":"Düsseldorf (Original)"},{"$f":"VLOOKUP(B2,Airports!$A$2:$D$1133,4,0)","v":"Deutschland"},"→","LIRF",{"$f":"VLOOKUP(F2,Airports!$A$2:$D$1133,2,0)","v":"Rom-Fiumicino"},{"$f":"VLOOKUP(F2,Airports!$A$2:$D$1133,4,0)","v":"Italien"},null,"Routen",{"$f":"VLOOKUP(B2,Airports!$A$2:$J$11124,10,0)","v":"Europa"},"→",{"$f":"VLOOKUP(F2,Airports!$A$2:$J$11124,10,0)","v":"Europa"},{"$f":"COUNTIF(Eingabe!B:B,Routen!A:A)","v":1},{"$f":"IF(I2>=1866,\"Langstrecke\",IF(I2>=933,\"Mittelstrecke\",\"Kurzstrecke\"))","v":"Kurzstrecke"}]
["4Y5102","LIRF",{"$f":"VLOOKUP(B3,Airports!$A$2:$D$1133,2,0)","v":"Rom-Fiumicino"},{"$f":"VLOOKUP(B3,Airports!$A$2:$D$1133,4,0)","v":"Italien"},"→","EDDL",{"$f":"VLOOKUP(F3,Airports!$A$2:$D$1133,2,0)","v":"Düsseldorf (Original)"},{"$f":"VLOOKUP(F3,Airports!$A$2:$D$1133,4,0)","v":"Deutschland"},null,"Routen",{"$f":"VLOOKUP(B3,Airports!$A$2:$J$11124,10,0)","v":"Europa"},"→",{"$f":"VLOOKUP(F3,Airports!$A$2:$J$11124,10,0)","v":"Europa"},{"$f":"COUNTIF(Eingabe!B:B,Routen!A:A)","v":1},"Kurzstrecke"]
["AB3101","EDDL",{"$f":"VLOOKUP(B4,Airports!$A$2:$D$1133,2,0)","v":"Düsseldorf (Original)"},{"$f":"VLOOKUP(B4,Airports!$A$2:$D$1133,4,0)","v":"Deutschland"},"→","EGNT",{"$f":"VLOOKUP(F4,Airports!$A$2:$D$1133,2,0)","v":"Newcastle"},{"$f":"VLOOKUP(F4,Airports!$A$2:$D$1133,4,0)","v":"Großbritannien"},null,"Routen",{"$f":"VLOOKUP(B4,Airports!$A$2:$J$11124,10,0)","v":"Europa"},"→",{"$f":"VLOOKUP(F4,Airports!$A$2:$J$11124,10,0)","v":"Europa"},{"$f":"COUNTIF(Eingabe!B:B,Routen!A:A)","v":1},"Kurzstrecke"]
["AB3102","EGNT",{"$f":"VLOOKUP(B5,Airports!$A$2:$D$1133,2,0)","v":"Newcastle"},{"$f":"VLOOKUP(B5,Airports!$A$2:$D$1133,4,0)","v":"Großbritannien"},"→","EDDL",{"$f":"VLOOKUP(F5,Airports!$A$2:$D$1133,2,0)","v":"Düsseldorf (Original)"},{"$f":"VLOOKUP(F5,Airports!$A$2:$D$1133,4,0)","v":"Deutschland"},null,"Routen",{"$f":"VLOOKUP(B5,Airports!$A$2:$J$11124,10,0)","v":"Europa"},"→",{"$f":"VLOOKUP(F5,Airports!$A$2:$J$11124,10,0)","v":"Europa"},{"$f":"COUNTIF(Eingabe!B:B,Routen!A:A)","v":1},"Kurzstrecke"]
["AB3103","EDDL",{"$f":"VLOOKUP(B6,Airports!$A$2:$D$1133,2,0)","v":"Düsseldorf (Original)"},{"$f":"VLOOKUP(B6,Airports!$A$2:$D$1133,4,0)","v":"Deutschland"},"→","LEAL",{"$f":"VLOOKUP(F6,Airports!$A$2:$D$1133,2,0)","v":"Alicante - Elche"},{"$f":"VLOOKUP(F6,Airports!$A$2:$D$1133,4,0)","v":"Spanien"},null,"Routen",{"$f":"VLOOKUP(B6,Airports!$A$2:$J$11124,10,0)","v":"Europa"},"→",{"$f":"VLOOKUP(F6,Airports!$A$2:$J$11124,10,0)","v":"Europa"},{"$f":"COUNTIF(Eingabe!B:B,Routen!A:A)","v":1},"Kurzstrecke"]
["AB3104","LEAL",{"$f":"VLOOKUP(B7,Airports!$A$2:$D$1133,2,0)","v":"Alicante - Elche"},{"$f":"VLOOKUP(B7,Airports!$A$2:$D$1133,4,0)","v":"Spanien"},"→","EDDL",{"$f":"VLOOKUP(F7,Airports!$A$2:$D$1133,2,0)","v":"Düsseldorf (Original)"},{"$f":"VLOOKUP(F7,Airports!$A$2:$D$1133,4,0)","v":"Deutschland"},null,"Routen",{"$f":"VLOOKUP(B7,Airports!$A$2:$J$11124,10,0)","v":"Europa"},"→",{"$f":"VLOOKUP(F7,Airports!$A$2:$J$11124,10,0)","v":"Europa"},{"$f":"COUNTIF(Eingabe!B:B,Routen!A:A)","v":1},"Kurzstrecke"]
["AB3105","EDDL",{"$f":"VLOOKUP(B8,Airports!$A$2:$D$1133,2,0)","v":"Düsseldorf (Original)"},{"$f":"VLOOKUP(B8,Airports!$A$2:$D$1133,4,0)","v":"Deutschland"},"→","EETN",{"$f":"VLOOKUP(F8,Airports!$A$2:$D$1133,2,0)","v":"Tallinn"},{"$f":"VLOOKUP(F8,Airports!$A$2:$D$1133,4,0)","v":"Estland"},null,"Routen",{"$f":"VLOOKUP(B8,Airports!$A$2:$J$11124,10,0)","v":"Europa"},"→",{"$f":"VLOOKUP(F8,Airports!$A$2:$J$11124,10,0)","v":"Europa"},{"$f":"COUNTIF(Eingabe!B:B,Routen!A:A)","v":1},"Kurzstrecke"]
["AB3106","EETN",{"$f":"VLOOKUP(B9,Airports!$A$2:$D$1133,2,0)","v":"Tallinn"},{"$f":"VLOOKUP(B9,Airports!$A$2:$D$1133,4,0)","v":"Estland"},"→","EDDL",{"$f":"VLOOKUP(F9,Airports!$A$2:$D$1133,2,0)","v":"Düsseldorf (Original)"},{"$f":"VLOOKUP(F9,Airports!$A$2:$D$1133,4,0)","v":"Deutschland"},null,"Routen",{"$f":"VLOOKUP(B9,Airports!$A$2:$J$11124,10,0)","v":"Europa"},"→",{"$f":"VLOOKUP(F9,Airports!$A$2:$J$11124,10,0)","v":"Europa"},{"$f":"COUNTIF(Eingabe!B:B,Routen!A:A)","v":1},"Kurzstrecke"]
["AB3107","EDDL",{"$f":"VLOOKUP(B10,Airports!$A$2:$D$1133,2,0)","v":"Düsseldorf (Original)"},{"$f":"VLOOKUP(B10,Airports!$A$2:$D$1133,4,0)","v":"Deutschland"},"→","EDHL",{"$f":"VLOOKUP(F10,Airports!$A$2:$D$1133,2,0)","v":"Lübeck Blankensee"},{"$f":"VLOOKUP(F10,Airports!$A$2:$D$1133,4,0)","v":"Deutschland"},null,"Routen",{"$f":"VLOOKUP(B10,Airports!$A$2:$J$11124,10,0)","v":"Europa"},"→",{"$f":"VLOOKUP(F10,Airports!$A$2:$J$11124,10,0)","v":"Europa"},{"$f":"COUNTIF(Eingabe!B:B,Routen!A:A)","v":1},"Kurzstrecke"]
["AB3108","EDHL",{"$f":"VLOOKUP(B11,Airports!$A$2:$D$1133,2,0)","v":"Lübeck Blankensee"},{"$f":"VLOOKUP(B11,Airports!$A$2:$D$1133,4,0)","v":"Deutschland"},"→","EDDL",{"$f":"VLOOKUP(F11,Airports!$A$2:$D$1133,2,0)","v":"Düsseldorf (Original)"},{"$f":"VLOOKUP(F11,Airports!$A$2:$D$1133,4,0)","v":"Deutschland"},null,"Routen",{"$f":"VLOOKUP(B11,Airports!$A$2:$J$11124,10,0)","v":"Europa"},"→",{"$f":"VLOOKUP(F11,Airports!$A$2:$J$11124,10,0)","v":"Europa"},{"$f":"COUNTIF(Eingabe!B:B,Routen!A:A)","v":0},"Kurzstrecke"]
["AB3109","EDHL",{"$f":"VLOOKUP(B12,Airports!$A$2:$D$1133,2,0)","v":"Lübeck Blankensee"},{"$f":"VLOOKUP(B12,Airports!$A$2:$D$1133,4,0)","v":"Deutschland"},"→","EVRA",{"$f":"VLOOKUP(F12,Airports!$A$2:$D$1133,2,0)","v":"Riga"},{"$f":"VLOOKUP(F12,Airports!$A$2:$D$1133,4,0)","v":"Lettland"},null,"Routen",{"$f":"VLOOKUP(B12,Airports!$A$2:$J$11124,10,0)","v":"Europa"},"→",{"$f":"VLOOKUP(F12,Airports!$A$2:$J$11124,10,0)","v":"Europa"},{"$f":"COUNTIF(Eingabe!B:B,Routen!A:A)","v":1},"Kurzstrecke"]
["AB3110","EVRA",{"$f":"VLOOKUP(B13,Airports!$A$2:$D$1133,2,0)","v":"Riga"},{"$f":"VLOOKUP(B13,Airports!$A$2:$D$1133,4,0)","v":"Lettland"},"→","LKPD",{"$f":"VLOOKUP(F13,Airports!$A$2:$D$1133,2,0)","v":"Pardubice"},{"$f":"VLOOKUP(F13,Airports!$A$2:$D$1133,4,0)","v":"Tschechien"},null,"Routen",{"$f":"VLOOKUP(B13,Airports!$A$2:$J$11124,10,0)","v":"Europa"},"→",{"$f":"VLOOKUP(F13,Airports!$A$2:$J$11124,10,0)","v":"Europa"},{"$f":"COUNTIF(Eingabe!B:B,Routen!A:A)","v":0},"Kurzstrecke"]
["AB3111","LKPD",{"$f":"VLOOKUP(B14,Airports!$A$2:$D$1133,2,0)","v":"Pardubice"},{"$f":"VLOOKUP(B14,Airports!$A$2:$D$1133,4,0)","v":"Tschechien"},"→","EDDK",{"$f":"VLOOKUP(F14,Airports!$A$2:$D$1133,2,0)","v":"Köln"},{"$f":"VLOOKUP(F14,Airports!$A$2:$D$1133,4,0)","v":"Deutschland"},null,"Routen",{"$f":"VLOOKUP(B14,Airports!$A$2:$J$11124,10,0)","v":"Europa"},"→",{"$f":"VLOOKUP(F14,Airports!$A$2:$J$11124,10,0)","v":"Europa"},{"$f":"COUNTIF(Eingabe!B:B,Routen!A:A)","v":0},"Kurzstrecke"]
["AB3112","EDDK",{"$f":"VLOOKUP(B15,Airports!$A$2:$D$1133,2,0)","v":"Köln"},{"$f":"VLOOKUP(B15,Airports!$A$2:$D$1133,4,0)","v":"Deutschland"},"→","ESSA",{"$f":"VLOOKUP(F15,Airports!$A$2:$D$1133,2,0)","v":"Stockholm-Arlanda"},{"$f":"VLOOKUP(F15,Airports!$A$2:$D$1133,4,0)","v":"Schweden"},null,"Routen",{"$f":"VLOOKUP(B15,Airports!$A$2:$J$11124,10,0)","v":"Europa"},"→",{"$f":"VLOOKUP(F15,Airports!$A$2:$J$11124,10,0)","v":"Europa"},{"$f":"COUNTIF(Eingabe!B:B,Routen!A:A)","v":0},"Kurzstrecke"]
["AB3113","ESSA",{"$f":"VLOOKUP(B16,Airports!$A$2:$D$1133,2,0)","v":"Stockholm-Arlanda"},{"$f":"VLOOKUP(B16,Airports!$A$2:$D$1133,4,0)","v":"Schweden"},"→","EDDK",{"$f":"VLOOKUP(F16,Airports!$A$2:$D$1133,2,0)","v":"Köln"},{"$f":"VLOOKUP(F16,Airports!$A$2:$D$1133,4,0)","v":"Deutschland"},null,"Routen",{"$f":"VLOOKUP(B16,Airports!$A$2:$J$11124,10,0)","v":"Europa"},"→",{"$f":"VLOOKUP(F16,Airports!$A$2:$J$11124,10,0)","v":"Europa"},{"$f":"COUNTIF(Eingabe!B:B,Routen!A:A)","v":0},{"$f":"IF(I16>=1866,\"Langstrecke\",IF(I16>=933,\"Mittelstrecke\",\"Kurzstrecke\"))","v":"Kurzstrecke"}]
["AB3114","EDDL",{"$f":"VLOOKUP(B17,Airports!$A$2:$D$1133,2,0)","v":"Düsseldorf (Original)"},{"$f":"VLOOKUP(B17,Airports!$A$2:$D$1133,4,0)","v":"Deutschland"},"→","LJLJ",{"$f":"VLOOKUP(F17,Airports!$A$2:$D$1133,2,0)","v":"Ljubliana-Jože-Pučnik"},{"$f":"VLOOKUP(F17,Airports!$A$2:$D$1133,4,0)","v":"Slowenien"},null,"Routen",{"$f":"VLOOKUP(B17,Airports!$A$2:$J$11124,10,0)","v":"Europa"},"→",{"$f":"VLOOKUP(F17,Airports!$A$2:$J$11124,10,0)","v":"Europa"},{"$f":"COUNTIF(Eingabe!B:B,Routen!A:A)","v":0},"Kurzstrecke"]
["AB3115","LJLJ",{"$f":"VLOOKUP(B18,Airports!$A$2:$D$1133,2,0)","v":"Ljubliana-Jože-Pučnik"},{"$f":"VLOOKUP(B18,Airports!$A$2:$D$1133,4,0)","v":"Slowenien"},"→","EDDL",{"$f":"VLOOKUP(F18,Airports!$A$2:$D$1133,2,0)","v":"Düsseldorf (Original)"},{"$f":"VLOOKUP(F18,Airports!$A$2:$D$1133,4,0)","v":"Deutschland"},null,"Routen",{"$f":"VLOOKUP(B18,Airports!$A$2:$J$11124,10,0)","v":"Europa"},"→",{"$f":"VLOOKUP(F18,Airports!$A$2:$J$11124,10,0)","v":"Europa"},{"$f":"COUNTIF(Eingabe!B:B,Routen!A:A)","v":0},"Kurzstrecke"]
["DE2101","EDDL",{"$f":"VLOOKUP(B19,Airports!$A$2:$D$1133,2,0)","v":"Düsseldorf (Original)"},{"$f":"VLOOKUP(B19,Airports!$A$2:$D$1133,4,0)","v":"Deutschland"},"→","EDMA",{"$f":"VLOOKUP(F19,Airports!$A$2:$D$1133,2,0)","v":"Augsburg"},{"$f":"VLOOKUP(F19,Airports!$A$2:$D$1133,4,0)","v":"Deutschland"},null,"Routen",{"$f":"VLOOKUP(B19,Airports!$A$2:$J$11124,10,0)","v":"Europa"},"→",{"$f":"VLOOKUP(F19,Airports!$A$2:$J$11124,10,0)","v":"Europa"},{"$f":"COUNTIF(Eingabe!B:B,Routen!A:A)","v":1},"Kurzstrecke"]
["DE2102","EDMA",{"$f":"VLOOKUP(B20,Airports!$A$2:$D$1133,2,0)","v":"Augsburg"},{"$f":"VLOOKUP(B20,Airports!$A$2:$D$1133,4,0)","v":"Deutschland"},"→","EDDL",{"$f":"VLOOKUP(F20,Airports!$A$2:$D$1133,2,0)","v":"Düsseldorf (Original)"},{"$f":"VLOOKUP(F20,Airports!$A$2:$D$1133,4,0)","v":"Deutschland"},null,"Routen",{"$f":"VLOOKUP(B20,Airports!$A$2:$J$11124,10,0)","v":"Europa"},"→",{"$f":"VLOOKUP(F20,Airports!$A$2:$J$11124,10,0)","v":"Europa"},{"$f":"COUNTIF(Eingabe!B:B,Routen!A:A)","v":1},"Kurzstrecke"]
["EW4101","EDDL",{"$f":"VLOOKUP(B21,Airports!$A$2:$D$1133,2,0)","v":"Düsseldorf (Original)"},{"$f":"VLOOKUP(B21,Airports!$A$2:$D$1133,4,0)","v":"Deutschland"},"→","LSZH",{"$f":"VLOOKUP(F21,Airports!$A$2:$D$1133,2,0)","v":"Zürich"},{"$f":"VLOOKUP(F21,Airports!$A$2:$D$1133,4,0)","v":"Schweiz"},null,"Routen",{"$f":"VLOOKUP(B21,Airports!$A$2:$J$11124,10,0)","v":"Europa"},"→",{"$f":"VLOOKUP(F21,Airports!$A$2:$J$11124,10,0)","v":"Europa"},{"$f":"COUNTIF(Eingabe!B:B,Routen!A:A)","v":1},"Kurzstrecke"]
["EW4102","LSZH",{"$f":"VLOOKUP(B22,Airports!$A$2:$D$1133,2,0)","v":"Zürich"},{"$f":"VLOOKUP(B22,Airports!$A$2:$D$1133,4,0)","v":"Schweiz"},"→","EDDL",{"$f":"VLOOKUP(F22,Airports!$A$2:$D$1133,2,0)","v":"Düsseldorf (Original)"},{"$f":"VLOOKUP(F22,Airports!$A$2:$D$1133,4,0)","v":"Deutschland"},null,"Routen",{"$f":"VLOOKUP(B22,Airports!$A$2:$J$11124,10,0)","v":"Europa"},"→",{"$f":"VLOOKUP(F22,Airports!$A$2:$J$11124,10,0)","v":"Europa"},{"$f":"COUNTIF(Eingabe!B:B,Routen!A:A)","v":1},"Kurzstrecke"]
["IW1191","EDDL",{"$f":"VLOOKUP(B23,Airports!$A$2:$D$1133,2,0)","v":"Düsseldorf (Original)"},{"$f":"VLOOKUP(B23,Airports!$A$2:$D$1133,4,0)","v":"Deutschland"},"→","EDHI",{"$f":"VLOOKUP(F23,Airports!$A$2:$D$1133,2,0)","v":"Hamburg-Finkenwerder"},{"$f":"VLOOKUP(F23,Airports!$A$2:$D$1133,4,0)","v":"Deutschland"},null,"Routen",{"$f":"VLOOKUP(B23,Airports!$A$2:$J$11124,10,0)","v":"Europa"},"→",{"$f":"VLOOKUP(F23,Airports!$A$2:$J$11124,10,0)","v":"Europa"},{"$f":"COUNTIF(Eingabe!B:B,Routen!A:A)","v":1},{"$f":"IF(I23>=1866,\"Langstrecke\",IF(I23>=933,\"Mittelstrecke\",\"Kurzstrecke\"))","v":"Kurzstrecke"}]
["IW1192","EDHI",{"$f":"VLOOKUP(B24,Airports!$A$2:$D$1133,2,0)","v":"Hamburg-Finkenwerder"},{"$f":"VLOOKUP(B24,Airports!$A$2:$D$1133,4,0)","v":"Deutschland"},"→","EDDL",{"$f":"VLOOKUP(F24,Airports!$A$2:$D$1133,2,0)","v":"Düsseldorf (Original)"},{"$f":"VLOOKUP(F24,Airports!$A$2:$D$1133,4,0)","v":"Deutschland"},null,"Routen",{"$f":"VLOOKUP(B24,Airports!$A$2:$J$11124,10,0)","v":"Europa"},"→",{"$f":"VLOOKUP(F24,Airports!$A$2:$J$11124,10,0)","v":"Europa"},{"$f":"COUNTIF(Eingabe!B:B,Routen!A:A)","v":1},"Kurzstrecke"]
["IW12001","EDDL",{"$f":"VLOOKUP(B25,Airports!$A$2:$D$1133,2,0)","v":"Düsseldorf (Original)"},{"$f":"VLOOKUP(B25,Airports!$A$2:$D$1133,4,0)","v":"Deutschland"},"→","LICA",{"$f":"VLOOKUP(F25,Airports!$A$2:$D$1133,2,0)","v":"Lamezia Terme"},{"$f":"VLOOKUP(F25,Airports!$A$2:$D$1133,4,0)","v":"Italien"},1320,"Routen",{"$f":"VLOOKUP(B25,Airports!$A$2:$J$11124,10,0)","v":"Europa"},"→",{"$f":"VLOOKUP(F25,Airports!$A$2:$J$11124,10,0)","v":"Europa"},{"$f":"COUNTIF(Eingabe!B:B,Routen!A:A)","v":1},"Mittelstrecke"]
["IW12002","EDDL",{"$f":"VLOOKUP(B26,Airports!$A$2:$D$1133,2,0)","v":"Düsseldorf (Original)"},{"$f":"VLOOKUP(B26,Airports!$A$2:$D$1133,4,0)","v":"Deutschland"},"→","LTAI",{"$f":"VLOOKUP(F26,Airports!$A$2:$D$1133,2,0)","v":"Antalya"},{"$f":"VLOOKUP(F26,Airports!$A$2:$D$1133,4,0)","v":"Türkei"},null,"Routen",{"$f":"VLOOKUP(B26,Airports!$A$2:$J$11124,10,0)","v":"Europa"},"→",{"$f":"VLOOKUP(F26,Airports!$A$2:$J$11124,10,0)","v":"Europa"},{"$f":"COUNTIF(Eingabe!B:B,Routen!A:A)","v":1},"Kurzstrecke"]
["IW12003","EDDG",{"$f":"VLOOKUP(B27,Airports!$A$2:$D$1133,2,0)","v":"Münster-Osnabrück"},{"$f":"VLOOKUP(B27,Airports!$A$2:$D$1133,4,0)","v":"Deutschland"},"→","LEMG",{"$f":"VLOOKUP(F27,Airports!$A$2:$D$1133,2,0)","v":"Malaga - Costa del Sol"},{"$f":"VLOOKUP(F27,Airports!$A$2:$D$1133,4,0)","v":"Spanien"},null,"Routen",{"$f":"VLOOKUP(B27,Airports!$A$2:$J$11124,10,0)","v":"Europa"},"→",{"$f":"VLOOKUP(F27,Airports!$A$2:$J$11124,10,0)","v":"Europa"},{"$f":"COUNTIF(Eingabe!B:B,Routen!A:A)","v":1}]
["IW12004","LDZA",{"$f":"VLOOKUP(B28,Airports!$A$2:$D$1133,2,0)","v":"Zagreb"},{"$f":"VLOOKUP(B28,Airports!$A$2:$D$1133,4,0)","v":"Kroatien"},"→","EDDG",{"$f":"VLOOKUP(F28,Airports!$A$2:$D$1133,2,0)","v":"Münster-Osnabrück"},{"$f":"VLOOKUP(F28,Airports!$A$2:$D$1133,4,0)","v":"Deutschland"},null,"Routen",{"$f":"VLOOKUP(B28,Airports!$A$2:$J$11124,10,0)","v":"Europa"},"→",{"$f":"VLOOKUP(F28,Airports!$A$2:$J$11124,10,0)","v":"Europa"},{"$f":"COUNTIF(Eingabe!B:B,Routen!A:A)","v":1}]
["IW12005","EDLP",{"$f":"VLOOKUP(B29,Airports!$A$2:$D$1133,2,0)","v":"Paderborn-Lippstadt"},{"$f":"VLOOKUP(B29,Airports!$A$2:$D$1133,4,0)","v":"Deutschland"},"→","LIRF",{"$f":"VLOOKUP(F29,Airports!$A$2:$D$1133,2,0)","v":"Rom-Fiumicino"},{"$f":"VLOOKUP(F29,Airports!$A$2:$D$1133,4,0)","v":"Italien"},null,"Routen",{"$f":"VLOOKUP(B29,Airports!$A$2:$J$11124,10,0)","v":"Europa"},"→",{"$f":"VLOOKUP(F29,Airports!$A$2:$J$11124,10,0)","v":"Europa"},{"$f":"COUNTIF(Eingabe!B:B,Routen!A:A)","v":1}]
["IW12006","LEPA",{"$f":"VLOOKUP(B30,Airports!$A$2:$D$1133,2,0)","v":"Palma de Mallorca"},{"$f":"VLOOKUP(B30,Airports!$A$2:$D$1133,4,0)","v":"Spanien"},"→","EDLP",{"$f":"VLOOKUP(F30,Airports!$A$2:$D$1133,2,0)","v":"Paderborn-Lippstadt"},{"$f":"VLOOKUP(F30,Airports!$A$2:$D$1133,4,0)","v":"Deutschland"},null,"Routen",{"$f":"VLOOKUP(B30,Airports!$A$2:$J$11124,10,0)","v":"Europa"},"→",{"$f":"VLOOKUP(F30,Airports!$A$2:$J$11124,10,0)","v":"Europa"},{"$f":"COUNTIF(Eingabe!B:B,Routen!A:A)","v":1}]
["IW12007","EDDL",{"$f":"VLOOKUP(B31,Airports!$A$2:$D$1133,2,0)","v":"Düsseldorf (Original)"},{"$f":"VLOOKUP(B31,Airports!$A$2:$D$1133,4,0)","v":"Deutschland"},"→","LEPA",{"$f":"VLOOKUP(F31,Airports!$A$2:$D$1133,2,0)","v":"Palma de Mallorca"},{"$f":"VLOOKUP(F31,Airports!$A$2:$D$1133,4,0)","v":"Spanien"},null,"Routen",{"$f":"VLOOKUP(B31,Airports!$A$2:$J$11124,10,0)","v":"Europa"},"→",{"$f":"VLOOKUP(F31,Airports!$A$2:$J$11124,10,0)","v":"Europa"},{"$f":"COUNTIF(Eingabe!B:B,Routen!A:A)","v":1}]
["IW12008","LEPA",{"$f":"VLOOKUP(B32,Airports!$A$2:$D$1133,2,0)","v":"Palma de Mallorca"},{"$f":"VLOOKUP(B32,Airports!$A$2:$D$1133,4,0)","v":"Spanien"},"→","EDDL",{"$f":"VLOOKUP(F32,Airports!$A$2:$D$1133,2,0)","v":"Düsseldorf (Original)"},{"$f":"VLOOKUP(F32,Airports!$A$2:$D$1133,4,0)","v":"Deutschland"},null,"Routen",{"$f":"VLOOKUP(B32,Airports!$A$2:$J$11124,10,0)","v":"Europa"},"→",{"$f":"VLOOKUP(F32,Airports!$A$2:$J$11124,10,0)","v":"Europa"},{"$f":"COUNTIF(Eingabe!B:B,Routen!A:A)","v":1}]
["IW12009","KMIA",{"$f":"VLOOKUP(B33,Airports!$A$2:$D$1133,2,0)","v":"Miami Intl./ Florida"},{"$f":"VLOOKUP(B33,Airports!$A$2:$D$1133,4,0)","v":"USA"},"→","EDDC",{"$f":"VLOOKUP(F33,Airports!$A$2:$D$1133,2,0)","v":"Dresden"},{"$f":"VLOOKUP(F33,Airports!$A$2:$D$1133,4,0)","v":"Deutschland"},null,"Routen",{"$f":"VLOOKUP(B33,Airports!$A$2:$J$11124,10,0)","v":"Nord-Amerika"},"→",{"$f":"VLOOKUP(F33,Airports!$A$2:$J$11124,10,0)","v":"Europa"},{"$f":"COUNTIF(Eingabe!B:B,Routen!A:A)","v":0}]
["IW12010","LJLJ",{"$f":"VLOOKUP(B34,Airports!$A$2:$D$1133,2,0)","v":"Ljubliana-Jože-Pučnik"},{"$f":"VLOOKUP(B34,Airports!$A$2:$D$1133,4,0)","v":"Slowenien"},"→","LATI",{"$f":"VLOOKUP(F34,Airports!$A$2:$D$1133,2,0)","v":"Tirana"},{"$f":"VLOOKUP(F34,Airports!$A$2:$D$1133,4,0)","v":"Albanien"},null,"Routen",{"$f":"VLOOKUP(B34,Airports!$A$2:$J$11124,10,0)","v":"Europa"},"→",{"$f":"VLOOKUP(F34,Airports!$A$2:$J$11124,10,0)","v":"Europa"},{"$f":"COUNTIF(Eingabe!B:B,Routen!A:A)","v":1}]
["IW12011","LATI",{"$f":"VLOOKUP(B35,Airports!$A$2:$D$1133,2,0)","v":"Tirana"},{"$f":"VLOOKUP(B35,Airports!$A$2:$D$1133,4,0)","v":"Albanien"},"→","LBBG",{"$f":"VLOOKUP(F35,Airports!$A$2:$D$1133,2,0)","v":"Burgas"},{"$f":"VLOOKUP(F35,Airports!$A$2:$D$1133,4,0)","v":"Bulgarien"},null,"Routen",{"$f":"VLOOKUP(B35,Airports!$A$2:$J$11124,10,0)","v":"Europa"},"→",{"$f":"VLOOKUP(F35,Airports!$A$2:$J$11124,10,0)","v":"Europa"},{"$f":"COUNTIF(Eingabe!B:B,Routen!A:A)","v":1}]
["IW12012","LBBG",{"$f":"VLOOKUP(B36,Airports!$A$2:$D$1133,2,0)","v":"Burgas"},{"$f":"VLOOKUP(B36,Airports!$A$2:$D$1133,4,0)","v":"Bulgarien"},"→","LGAV",{"$f":"VLOOKUP(F36,Airports!$A$2:$D$1133,2,0)","v":"Athen"},{"$f":"VLOOKUP(F36,Airports!$A$2:$D$1133,4,0)","v":"Griechenland"},null,"Routen",{"$f":"VLOOKUP(B36,Airports!$A$2:$J$11124,10,0)","v":"Europa"},"→",{"$f":"VLOOKUP(F36,Airports!$A$2:$J$11124,10,0)","v":"Europa"},{"$f":"COUNTIF(Eingabe!B:B,Routen!A:A)","v":1}]
["IW12013","LGAV",{"$f":"VLOOKUP(B37,Airports!$A$2:$D$1133,2,0)","v":"Athen"},{"$f":"VLOOKUP(B37,Airports!$A$2:$D$1133,4,0)","v":"Griechenland"},"→","LYBE",{"$f":"VLOOKUP(F37,Airports!$A$2:$D$1133,2,0)","v":"Nikola Tesla Belgrad"},{"$f":"VLOOKUP(F37,Airports!$A$2:$D$1133,4,0)","v":"Serbien"},null,"Routen",{"$f":"VLOOKUP(B37,Airports!$A$2:$J$11124,10,0)","v":"Europa"},"→",{"$f":"VLOOKUP(F37,Airports!$A$2:$J$11124,10,0)","v":"Europa"},{"$f":"COUNTIF(Eingabe!B:B,Routen!A:A)","v":1}]
["IW12014","LYBE",{"$f":"VLOOKUP(B38,Airports!$A$2:$D$1133,2,0)","v":"Nikola Tesla Belgrad"},{"$f":"VLOOKUP(B38,Airports!$A$2:$D$1133,4,0)","v":"Serbien"},"→","LGRP",{"$f":"VLOOKUP(F38,Airports!$A$2:$D$1133,2,0)","v":"Rhodos-Diagoras"},{"$f":"VLOOKUP(F38,Airports!$A$2:$D$1133,4,0)","v":"Griechenland"},null,"Routen",{"$f":"VLOOKUP(B38,Airports!$A$2:$J$11124,10,0)","v":"Europa"},"→",{"$f":"VLOOKUP(F38,Airports!$A$2:$J$11124,10,0)","v":"Europa"},{"$f":"COUNTIF(Eingabe!B:B,Routen!A:A)","v":1}]
["IW12015","LGRP",{"$f":"VLOOKUP(B39,Airports!$A$2:$D$1133,2,0)","v":"Rhodos-Diagoras"},{"$f":"VLOOKUP(B39,Airports!$A$2:$D$1133,4,0)","v":"Griechenland"},"→","LDDU",{"$f":"VLOOKUP(F39,Airports!$A$2:$D$1133,2,0)","v":"Dubrovnik"},{"$f":"VLOOKUP(F39,Airports!$A$2:$D$1133,4,0)","v":"Kroatien"},null,"Routen",{"$f":"VLOOKUP(B39,Airports!$A$2:$J$11124,10,0)","v":"Europa"},"→",{"$f":"VLOOKUP(F39,Airports!$A$2:$J$11124,10,0)","v":"Europa"},{"$f":"COUNTIF(Eingabe!B:B,Routen!A:A)","v":1}]
["IW12016","LDDU",{"$f":"VLOOKUP(B40,Airports!$A$2:$D$1133,2,0)","v":"Dubrovnik"},{"$f":"VLOOKUP(B40,Airports!$A$2:$D$1133,4,0)","v":"Kroatien"},"→","LBSF",{"$f":"VLOOKUP(F40,Airports!$A$2:$D$1133,2,0)","v":"Sofia"},{"$f":"VLOOKUP(F40,Airports!$A$2:$D$1133,4,0)","v":"Bulgarien"},null,"Routen",{"$f":"VLOOKUP(B40,Airports!$A$2:$J$11124,10,0)","v":"Europa"},"→",{"$f":"VLOOKUP(F40,Airports!$A$2:$J$11124,10,0)","v":"Europa"},{"$f":"COUNTIF(Eingabe!B:B,Routen!A:A)","v":1}]
["IW12017","LBSF",{"$f":"VLOOKUP(B41,Airports!$A$2:$D$1133,2,0)","v":"Sofia"},{"$f":"VLOOKUP(B41,Airports!$A$2:$D$1133,4,0)","v":"Bulgarien"},"→","LQSA",{"$f":"VLOOKUP(F41,Airports!$A$2:$D$1133,2,0)","v":"Sarajevo"},{"$f":"VLOOKUP(F41,Airports!$A$2:$D$1133,4,0)","v":"Bosnien & Herzegowina"},null,"Routen",{"$f":"VLOOKUP(B41,Airports!$A$2:$J$11124,10,0)","v":"Europa"},"→",{"$f":"VLOOKUP(F41,Airports!$A$2:$J$11124,10,0)","v":"Europa"},{"$f":"COUNTIF(Eingabe!B:B,Routen!A:A)","v":1}]
["IW12018","LQSA",{"$f":"VLOOKUP(B42,Airports!$A$2:$D$1133,2,0)","v":"Sarajevo"},{"$f":"VLOOKUP(B42,Airports!$A$2:$D$1133,4,0)","v":"Bosnien & Herzegowina"},"→","LBWN",{"$f":"VLOOKUP(F42,Airports!$A$2:$D$1133,2,0)","v":"Varna"},{"$f":"VLOOKUP(F42,Airports!$A$2:$D$1133,4,0)","v":"Bulgarien"},null,"Routen",{"$f":"VLOOKUP(B42,Airports!$A$2:$J$11124,10,0)","v":"Europa"},"→",{"$f":"VLOOKUP(F42,Airports!$A$2:$J$11124,10,0)","v":"Europa"},{"$f":"COUNTIF(Eingabe!B:B,Routen!A:A)","v":1}]
["IW12019","LBWN",{"$f":"VLOOKUP(B43,Airports!$A$2:$D$1133,2,0)","v":"Varna"},{"$f":"VLOOKUP(B43,Airports!$A$2:$D$1133,4,0)","v":"Bulgarien"},"→","LYTV",{"$f":"VLOOKUP(F43,Airports!$A$2:$D$1133,2,0)","v":"Tivat"},{"$f":"VLOOKUP(F43,Airports!$A$2:$D$1133,4,0)","v":"Montenegro"},null,"Routen",{"$f":"VLOOKUP(B43,Airports!$A$2:$J$11124,10,0)","v":"Europa"},"→",{"$f":"VLOOKUP(F43,Airports!$A$2:$J$11124,10,0)","v":"Europa"},{"$f":"COUNTIF(Eingabe!B:B,Routen!A:A)","v":1}]
["IW12020","LYTV",{"$f":"VLOOKUP(B44,Airports!$A$2:$D$1133,2,0)","v":"Tivat"},{"$f":"VLOOKUP(B44,Airports!$A$2:$D$1133,4,0)","v":"Montenegro"},"→","LDZA",{"$f":"VLOOKUP(F44,Airports!$A$2:$D$1133,2,0)","v":"Zagreb"},{"$f":"VLOOKUP(F44,Airports!$A$2:$D$1133,4,0)","v":"Kroatien"},null,"Routen",{"$f":"VLOOKUP(B44,Airports!$A$2:$J$11124,10,0)","v":"Europa"},"→",{"$f":"VLOOKUP(F44,Airports!$A$2:$J$11124,10,0)","v":"Europa"},{"$f":"COUNTIF(Eingabe!B:B,Routen!A:A)","v":1}]
["IW12021","LDZA",{"$f":"VLOOKUP(B45,Airports!$A$2:$D$1133,2,0)","v":"Zagreb"},{"$f":"VLOOKUP(B45,Airports!$A$2:$D$1133,4,0)","v":"Kroatien"},"→","LGTS",{"$f":"VLOOKUP(F45,Airports!$A$2:$D$1133,2,0)","v":"Thessaloniki"},{"$f":"VLOOKUP(F45,Airports!$A$2:$D$1133,4,0)","v":"Griechenland"},null,"Routen",{"$f":"VLOOKUP(B45,Airports!$A$2:$J$11124,10,0)","v":"Europa"},"→",{"$f":"VLOOKUP(F45,Airports!$A$2:$J$11124,10,0)","v":"Europa"},{"$f":"COUNTIF(Eingabe!B:B,Routen!A:A)","v":1}]
["IW12022","LGTS",{"$f":"VLOOKUP(B46,Airports!$A$2:$D$1133,2,0)","v":"Thessaloniki"},{"$f":"VLOOKUP(B46,Airports!$A$2:$D$1133,4,0)","v":"Griechenland"},"→","LYPG",{"$f":"VLOOKUP(F46,Airports!$A$2:$D$1133,2,0)","v":"Podgorica"},{"$f":"VLOOKUP(F46,Airports!$A$2:$D$1133,4,0)","v":"Montenegro"},null,"Routen",{"$f":"VLOOKUP(B46,Airports!$A$2:$J$11124,10,0)","v":"Europa"},"→",{"$f":"VLOOKUP(F46,Airports!$A$2:$J$11124,10,0)","v":"Europa"},{"$f":"COUNTIF(Eingabe!B:B,Routen!A:A)","v":1}]
["IW12023","LYPG",{"$f":"VLOOKUP(B47,Airports!$A$2:$D$1133,2,0)","v":"Podgorica"},{"$f":"VLOOKUP(B47,Airports!$A$2:$D$1133,4,0)","v":"Montenegro"},"→","LDSP",{"$f":"VLOOKUP(F47,Airports!$A$2:$D$1133,2,0)","v":"Split"},{"$f":"VLOOKUP(F47,Airports!$A$2:$D$1133,4,0)","v":"Kroatien"},null,"Routen",{"$f":"VLOOKUP(B47,Airports!$A$2:$J$11124,10,0)","v":"Europa"},"→",{"$f":"VLOOKUP(F47,Airports!$A$2:$J$11124,10,0)","v":"Europa"},{"$f":"COUNTIF(Eingabe!B:B,Routen!A:A)","v":1}]
["IW12024","LDSP",{"$f":"VLOOKUP(B48,Airports!$A$2:$D$1133,2,0)","v":"Split"},{"$f":"VLOOKUP(B48,Airports!$A$2:$D$1133,4,0)","v":"Kroatien"},"→","BKPR",{"$f":"VLOOKUP(F48,Airports!$A$2:$D$1133,2,0)","v":"Adem Jashari/Pristina"},{"$f":"VLOOKUP(F48,Airports!$A$2:$D$1133,4,0)","v":"Kosovo"},null,"Routen",{"$f":"VLOOKUP(B48,Airports!$A$2:$J$11124,10,0)","v":"Europa"},"→",{"$f":"VLOOKUP(F48,Airports!$A$2:$J$11124,10,0)","v":"Europa"},{"$f":"COUNTIF(Eingabe!B:B,Routen!A:A)","v":1}]
["IW12025","BKPR",{"$f":"VLOOKUP(B49,Airports!$A$2:$D$1133,2,0)","v":"Adem Jashari/Pristina"},{"$f":"VLOOKUP(B49,Airports!$A$2:$D$1133,4,0)","v":"Kosovo"},"→","LJLJ",{"$f":"VLOOKUP(F49,Airports!$A$2:$D$1133,2,0)","v":"Ljubliana-Jože-Pučnik"},{"$f":"VLOOKUP(F49,Airports!$A$2:$D$1133,4,0)","v":"Slowenien"},null,"Routen",{"$f":"VLOOKUP(B49,Airports!$A$2:$J$11124,10,0)","v":"Europa"},"→",{"$f":"VLOOKUP(F49,Airports!$A$2:$J$11124,10,0)","v":"Europa"},{"$f":"COUNTIF(Eingabe!B:B,Routen!A:A)","v":1}]
["IW12026","EDDM",{"$f":"VLOOKUP(B50,Airports!$A$2:$D$1133,2,0)","v":"München"},{"$f":"VLOOKUP(B50,Airports!$A$2:$D$1133,4,0)","v":"Deutschland"},"→","LEMD",{"$f":"VLOOKUP(F50,Airports!$A$2:$D$1133,2,0)","v":"Madrid - Barajas"},{"$f":"VLOOKUP(F50,Airports!$A$2:$D$1133,4,0)","v":"Spanien"},null,"Routen",{"$f":"VLOOKUP(B50,Airports!$A$2:$J$11124,10,0)","v":"Europa"},"→",{"$f":"VLOOKUP(F50,Airports!$A$2:$J$11124,10,0)","v":"Europa"},{"$f":"COUNTIF(Eingabe!B:B,Routen!A:A)","v":1}]
["IW12027","EDDM",{"$f":"VLOOKUP(B51,Airports!$A$2:$D$1133,2,0)","v":"München"},{"$f":"VLOOKUP(B51,Airports!$A$2:$D$1133,4,0)","v":"Deutschland"},"→","LEVC",{"$f":"VLOOKUP(F51,Airports!$A$2:$D$1133,2,0)","v":"Valencia"},{"$f":"VLOOKUP(F51,Airports!$A$2:$D$1133,4,0)","v":"Spanien"},null,"Routen",{"$f":"VLOOKUP(B51,Airports!$A$2:$J$11124,10,0)","v":"Europa"},"→",{"$f":"VLOOKUP(F51,Airports!$A$2:$J$11124,10,0)","v":"Europa"},{"$f":"COUNTIF(Eingabe!B:B,Routen!A:A)","v":1}]
["IW12028","EDDL",{"$f":"VLOOKUP(B52,Airports!$A$2:$D$1133,2,0)","v":"Düsseldorf (Original)"},{"$f":"VLOOKUP(B52,Airports!$A$2:$D$1133,4,0)","v":"Deutschland"},"→","LIMJ",{"$f":"VLOOKUP(F52,Airports!$A$2:$D$1133,2,0)","v":"Genua-Sestri"},{"$f":"VLOOKUP(F52,Airports!$A$2:$D$1133,4,0)","v":"Italien"},null,"Routen",{"$f":"VLOOKUP(B52,Airports!$A$2:$J$11124,10,0)","v":"Europa"},"→",{"$f":"VLOOKUP(F52,Airports!$A$2:$J$11124,10,0)","v":"Europa"},{"$f":"COUNTIF(Eingabe!B:B,Routen!A:A)","v":1}]
["IW12029","LIRN",{"$f":"VLOOKUP(B53,Airports!$A$2:$D$1133,2,0)","v":"Neapel Capodichino"},{"$f":"VLOOKUP(B53,Airports!$A$2:$D$1133,4,0)","v":"Italien"},"→","EDDL",{"$f":"VLOOKUP(F53,Airports!$A$2:$D$1133,2,0)","v":"Düsseldorf (Original)"},{"$f":"VLOOKUP(F53,Airports!$A$2:$D$1133,4,0)","v":"Deutschland"},null,"Routen",{"$f":"VLOOKUP(B53,Airports!$A$2:$J$11124,10,0)","v":"Europa"},"→",{"$f":"VLOOKUP(F53,Airports!$A$2:$J$11124,10,0)","v":"Europa"},{"$f":"COUNTIF(Eingabe!B:B,Routen!A:A)","v":1}]
["IW12030","EDDL",{"$f":"VLOOKUP(B54,Airports!$A$2:$D$1133,2,0)","v":"Düsseldorf (Original)"},{"$f":"VLOOKUP(B54,Airports!$A$2:$D$1133,4,0)","v":"Deutschland"},"→","LIRN",{"$f":"VLOOKUP(F54,Airports!$A$2:$D$1133,2,0)","v":"Neapel Capodichino"},{"$f":"VLOOKUP(F54,Airports!$A$2:$D$1133,4,0)","v":"Italien"},null,"Routen",{"$f":"VLOOKUP(B54,Airports!$A$2:$J$11124,10,0)","v":"Europa"},"→",{"$f":"VLOOKUP(F54,Airports!$A$2:$J$11124,10,0)","v":"Europa"},{"$f":"COUNTIF(Eingabe!B:B,Routen!A:A)","v":1}]
["IW12031","LEMD",{"$f":"VLOOKUP(B55,Airports!$A$2:$D$1133,2,0)","v":"Madrid - Barajas"},{"$f":"VLOOKUP(B55,Airports!$A$2:$D$1133,4,0)","v":"Spanien"},"→","EDDL",{"$f":"VLOOKUP(F55,Airports!$A$2:$D$1133,2,0)","v":"Düsseldorf (Original)"},{"$f":"VLOOKUP(F55,Airports!$A$2:$D$1133,4,0)","v":"Deutschland"},null,"Routen",{"$f":"VLOOKUP(B55,Airports!$A$2:$J$11124,10,0)","v":"Europa"},"→",{"$f":"VLOOKUP(F55,Airports!$A$2:$J$11124,10,0)","v":"Europa"},{"$f":"COUNTIF(Eingabe!B:B,Routen!A:A)","v":1}]
["IW12032","LDZA",{"$f":"VLOOKUP(B56,Airports!$A$2:$D$1133,2,0)","v":"Zagreb"},{"$f":"VLOOKUP(B56,Airports!$A$2:$D$1133,4,0)","v":"Kroatien"},"→","EDDL",{"$f":"VLOOKUP(F56,Airports!$A$2:$D$1133,2,0)","v":"Düsseldorf (Original)"},{"$f":"VLOOKUP(F56,Airports!$A$2:$D$1133,4,0)","v":"Deutschland"},null,"Routen",{"$f":"VLOOKUP(B56,Airports!$A$2:$J$11124,10,0)","v":"Europa"},"→",{"$f":"VLOOKUP(F56,Airports!$A$2:$J$11124,10,0)","v":"Europa"},{"$f":"COUNTIF(Eingabe!B:B,Routen!A:A)","v":1}]
["IW12033","LICA",{"$f":"VLOOKUP(B57,Airports!$A$2:$D$1133,2,0)","v":"Lamezia Terme"},{"$f":"VLOOKUP(B57,Airports!$A$2:$D$1133,4,0)","v":"Italien"},"→","EDDL",{"$f":"VLOOKUP(F57,Airports!$A$2:$D$1133,2,0)","v":"Düsseldorf (Original)"},{"$f":"VLOOKUP(F57,Airports!$A$2:$D$1133,4,0)","v":"Deutschland"},null,"Routen",{"$f":"VLOOKUP(B57,Airports!$A$2:$J$11124,10,0)","v":"Europa"},"→",{"$f":"VLOOKUP(F57,Airports!$A$2:$J$11124,10,0)","v":"Europa"},{"$f":"COUNTIF(Eingabe!B:B,Routen!A:A)","v":1}]
["IW12034","LTAI",{"$f":"VLOOKUP(B58,Airports!$A$2:$D$1133,2,0)","v":"Antalya"},{"$f":"VLOOKUP(B58,Airports!$A$2:$D$1133,4,0)","v":"Türkei"},"→","EDDL",{"$f":"VLOOKUP(F58,Airports!$A$2:$D$1133,2,0)","v":"Düsseldorf (Original)"},{"$f":"VLOOKUP(F58,Airports!$A$2:$D$1133,4,0)","v":"Deutschland"},null,"Routen",{"$f":"VLOOKUP(B58,Airports!$A$2:$J$11124,10,0)","v":"Europa"},"→",{"$f":"VLOOKUP(F58,Airports!$A$2:$J$11124,10,0)","v":"Europa"},{"$f":"COUNTIF(Eingabe!B:B,Routen!A:A)","v":1}]
["IW12035","LIMJ",{"$f":"VLOOKUP(B59,Airports!$A$2:$D$1133,2,0)","v":"Genua-Sestri"},{"$f":"VLOOKUP(B59,Airports!$A$2:$D$1133,4,0)","v":"Italien"},"→","EDDL",{"$f":"VLOOKUP(F59,Airports!$A$2:$D$1133,2,0)","v":"Düsseldorf (Original)"},{"$f":"VLOOKUP(F59,Airports!$A$2:$D$1133,4,0)","v":"Deutschland"},null,"Routen",{"$f":"VLOOKUP(B59,Airports!$A$2:$J$11124,10,0)","v":"Europa"},"→",{"$f":"VLOOKUP(F59,Airports!$A$2:$J$11124,10,0)","v":"Europa"},{"$f":"COUNTIF(Eingabe!B:B,Routen!A:A)","v":1}]
["IW12036","EDDL",{"$f":"VLOOKUP(B60,Airports!$A$2:$D$1133,2,0)","v":"Düsseldorf (Original)"},{"$f":"VLOOKUP(B60,Airports!$A$2:$D$1133,4,0)","v":"Deutschland"},"→","LDDU",{"$f":"VLOOKUP(F60,Airports!$A$2:$D$1133,2,0)","v":"Dubrovnik"},{"$f":"VLOOKUP(F60,Airports!$A$2:$D$1133,4,0)","v":"Kroatien"},null,"Routen",{"$f":"VLOOKUP(B60,Airports!$A$2:$J$11124,10,0)","v":"Europa"},"→",{"$f":"VLOOKUP(F60,Airports!$A$2:$J$11124,10,0)","v":"Europa"},{"$f":"COUNTIF(Eingabe!B:B,Routen!A:A)","v":1}]
["IW12037","LFPO",{"$f":"VLOOKUP(B61,Airports!$A$2:$D$1133,2,0)","v":"Paris Orly"},{"$f":"VLOOKUP(B61,Airports!$A$2:$D$1133,4,0)","v":"Frankreich"},"→","EDDL",{"$f":"VLOOKUP(F61,Airports!$A$2:$D$1133,2,0)","v":"Düsseldorf (Original)"},{"$f":"VLOOKUP(F61,Airports!$A$2:$D$1133,4,0)","v":"Deutschland"},null,"Routen",{"$f":"VLOOKUP(B61,Airports!$A$2:$J$11124,10,0)","v":"Europa"},"→",{"$f":"VLOOKUP(F61,Airports!$A$2:$J$11124,10,0)","v":"Europa"},{"$f":"COUNTIF(Eingabe!B:B,Routen!A:A)","v":1}]
["IW12038","LICC",{"$f":"VLOOKUP(B62,Airports!$A$2:$D$1133,2,0)","v":"Catania-Fontanarossa"},{"$f":"VLOOKUP(B62,Airports!$A$2:$D$1133,4,0)","v":"Italien"},"→","EDDL",{"$f":"VLOOKUP(F62,Airports!$A$2:$D$1133,2,0)","v":"Düsseldorf (Original)"},{"$f":"VLOOKUP(F62,Airports!$A$2:$D$1133,4,0)","v":"Deutschland"},null,"Routen",{"$f":"VLOOKUP(B62,Airports!$A$2:$J$11124,10,0)","v":"Europa"},"→",{"$f":"VLOOKUP(F62,Airports!$A$2:$J$11124,10,0)","v":"Europa"},{"$f":"COUNTIF(Eingabe!B:B,Routen!A:A)","v":1}]
["IW12039","LIEE",{"$f":"VLOOKUP(B63,Airports!$A$2:$D$1133,2,0)","v":"Cagliari / Sardinien"},{"$f":"VLOOKUP(B63,Airports!$A$2:$D$1133,4,0)","v":"Italien"},"→","EDDL",{"$f":"VLOOKUP(F63,Airports!$A$2:$D$1133,2,0)","v":"Düsseldorf (Original)"},{"$f":"VLOOKUP(F63,Airports!$A$2:$D$1133,4,0)","v":"Deutschland"},null,"Routen",{"$f":"VLOOKUP(B63,Airports!$A$2:$J$11124,10,0)","v":"Europa"},"→",{"$f":"VLOOKUP(F63,Airports!$A$2:$J$11124,10,0)","v":"Europa"},{"$f":"COUNTIF(Eingabe!B:B,Routen!A:A)","v":1}]
["IW12040","EDDL",{"$f":"VLOOKUP(B64,Airports!$A$2:$D$1133,2,0)","v":"Düsseldorf (Original)"},{"$f":"VLOOKUP(B64,Airports!$A$2:$D$1133,4,0)","v":"Deutschland"},"→","LIEE",{"$f":"VLOOKUP(F64,Airports!$A$2:$D$1133,2,0)","v":"Cagliari / Sardinien"},{"$f":"VLOOKUP(F64,Airports!$A$2:$D$1133,4,0)","v":"Italien"},null,"Routen",{"$f":"VLOOKUP(B64,Airports!$A$2:$J$11124,10,0)","v":"Europa"},"→",{"$f":"VLOOKUP(F64,Airports!$A$2:$J$11124,10,0)","v":"Europa"},{"$f":"COUNTIF(Eingabe!B:B,Routen!A:A)","v":1}]
["IW12041","EDDL",{"$f":"VLOOKUP(B65,Airports!$A$2:$D$1133,2,0)","v":"Düsseldorf (Original)"},{"$f":"VLOOKUP(B65,Airports!$A$2:$D$1133,4,0)","v":"Deutschland"},"→","LICC",{"$f":"VLOOKUP(F65,Airports!$A$2:$D$1133,2,0)","v":"Catania-Fontanarossa"},{"$f":"VLOOKUP(F65,Airports!$A$2:$D$1133,4,0)","v":"Italien"},null,"Routen",{"$f":"VLOOKUP(B65,Airports!$A$2:$J$11124,10,0)","v":"Europa"},"→",{"$f":"VLOOKUP(F65,Airports!$A$2:$J$11124,10,0)","v":"Europa"},{"$f":"COUNTIF(Eingabe!B:B,Routen!A:A)","v":1}]
["IW12042","EDDL",{"$f":"VLOOKUP(B66,Airports!$A$2:$D$1133,2,0)","v":"Düsseldorf (Original)"},{"$f":"VLOOKUP(B66,Airports!$A$2:$D$1133,4,0)","v":"Deutschland"},"→","LIBD",{"$f":"VLOOKUP(F66,Airports!$A$2:$D$1133,2,0)","v":"Bari-Karol Wojtyla"},{"$f":"VLOOKUP(F66,Airports!$A$2:$D$1133,4,0)","v":"Italien"},null,"Routen",{"$f":"VLOOKUP(B66,Airports!$A$2:$J$11124,10,0)","v":"Europa"},"→",{"$f":"VLOOKUP(F66,Airports!$A$2:$J$11124,10,0)","v":"Europa"},{"$f":"COUNTIF(Eingabe!B:B,Routen!A:A)","v":1}]
["IW12043","LIBD",{"$f":"VLOOKUP(B67,Airports!$A$2:$D$1133,2,0)","v":"Bari-Karol Wojtyla"},{"$f":"VLOOKUP(B67,Airports!$A$2:$D$1133,4,0)","v":"Italien"},"→","EDDL",{"$f":"VLOOKUP(F67,Airports!$A$2:$D$1133,2,0)","v":"Düsseldorf (Original)"},{"$f":"VLOOKUP(F67,Airports!$A$2:$D$1133,4,0)","v":"Deutschland"},null,"Routen",{"$f":"VLOOKUP(B67,Airports!$A$2:$J$11124,10,0)","v":"Europa"},"→",{"$f":"VLOOKUP(F67,Airports!$A$2:$J$11124,10,0)","v":"Europa"},{"$f":"COUNTIF(Eingabe!B:B,Routen!A:A)","v":1}]
["IW12044","EDDL",{"$f":"VLOOKUP(B68,Airports!$A$2:$D$1133,2,0)","v":"Düsseldorf (Original)"},{"$f":"VLOOKUP(B68,Airports!$A$2:$D$1133,4,0)","v":"Deutschland"},"→","LIBF",{"$f":"VLOOKUP(F68,Airports!$A$2:$D$1133,2,0)","v":"Foggia"},{"$f":"VLOOKUP(F68,Airports!$A$2:$D$1133,4,0)","v":"Italien"},null,"Routen",{"$f":"VLOOKUP(B68,Airports!$A$2:$J$11124,10,0)","v":"Europa"},"→",{"$f":"VLOOKUP(F68,Airports!$A$2:$J$11124,10,0)","v":"Europa"},{"$f":"COUNTIF(Eingabe!B:B,Routen!A:A)","v":1}]
["IW12045","LIBF",{"$f":"VLOOKUP(B69,Airports!$A$2:$D$1133,2,0)","v":"Foggia"},{"$f":"VLOOKUP(B69,Airports!$A$2:$D$1133,4,0)","v":"Italien"},"→","EDDL",{"$f":"VLOOKUP(F69,Airports!$A$2:$D$1133,2,0)","v":"Düsseldorf (Original)"},{"$f":"VLOOKUP(F69,Airports!$A$2:$D$1133,4,0)","v":"Deutschland"},null,"Routen",{"$f":"VLOOKUP(B69,Airports!$A$2:$J$11124,10,0)","v":"Europa"},"→",{"$f":"VLOOKUP(F69,Airports!$A$2:$J$11124,10,0)","v":"Europa"},{"$f":"COUNTIF(Eingabe!B:B,Routen!A:A)","v":1}]
["IW12046","LIRP",{"$f":"VLOOKUP(B70,Airports!$A$2:$D$1133,2,0)","v":"Pisa"},{"$f":"VLOOKUP(B70,Airports!$A$2:$D$1133,4,0)","v":"Italien"},"→","EDDL",{"$f":"VLOOKUP(F70,Airports!$A$2:$D$1133,2,0)","v":"Düsseldorf (Original)"},{"$f":"VLOOKUP(F70,Airports!$A$2:$D$1133,4,0)","v":"Deutschland"},null,"Routen",{"$f":"VLOOKUP(B70,Airports!$A$2:$J$11124,10,0)","v":"Europa"},"→",{"$f":"VLOOKUP(F70,Airports!$A$2:$J$11124,10,0)","v":"Europa"},{"$f":"COUNTIF(Eingabe!B:B,Routen!A:A)","v":1}]
["IW12047","LDDU",{"$f":"VLOOKUP(B71,Airports!$A$2:$D$1133,2,0)","v":"Dubrovnik"},{"$f":"VLOOKUP(B71,Airports!$A$2:$D$1133,4,0)","v":"Kroatien"},"→","EDDM",{"$f":"VLOOKUP(F71,Airports!$A$2:$D$1133,2,0)","v":"München"},{"$f":"VLOOKUP(F71,Airports!$A$2:$D$1133,4,0)","v":"Deutschland"},null,"Routen",{"$f":"VLOOKUP(B71,Airports!$A$2:$J$11124,10,0)","v":"Europa"},"→",{"$f":"VLOOKUP(F71,Airports!$A$2:$J$11124,10,0)","v":"Europa"},{"$f":"COUNTIF(Eingabe!B:B,Routen!A:A)","v":1}]
["IW12048","EDDL",{"$f":"VLOOKUP(B72,Airports!$A$2:$D$1133,2,0)","v":"Düsseldorf (Original)"},{"$f":"VLOOKUP(B72,Airports!$A$2:$D$1133,4,0)","v":"Deutschland"},"→","LIBP",{"$f":"VLOOKUP(F72,Airports!$A$2:$D$1133,2,0)","v":"Pescara"},{"$f":"VLOOKUP(F72,Airports!$A$2:$D$1133,4,0)","v":"Italien"},null,"Routen",{"$f":"VLOOKUP(B72,Airports!$A$2:$J$11124,10,0)","v":"Europa"},"→",{"$f":"VLOOKUP(F72,Airports!$A$2:$J$11124,10,0)","v":"Europa"},{"$f":"COUNTIF(Eingabe!B:B,Routen!A:A)","v":1}]
["IW12049","ENGM",{"$f":"VLOOKUP(B73,Airports!$A$2:$D$1133,2,0)","v":"Oslo-Gardermoen"},{"$f":"VLOOKUP(B73,Airports!$A$2:$D$1133,4,0)","v":"Norwegen"},"→","EDDK",{"$f":"VLOOKUP(F73,Airports!$A$2:$D$1133,2,0)","v":"Köln"},{"$f":"VLOOKUP(F73,Airports!$A$2:$D$1133,4,0)","v":"Deutschland"},null,"Routen",{"$f":"VLOOKUP(B73,Airports!$A$2:$J$11124,10,0)","v":"Europa"},"→",{"$f":"VLOOKUP(F73,Airports!$A$2:$J$11124,10,0)","v":"Europa"},{"$f":"COUNTIF(Eingabe!B:B,Routen!A:A)","v":1}]
["IW12050","EDDK",{"$f":"VLOOKUP(B74,Airports!$A$2:$D$1133,2,0)","v":"Köln"},{"$f":"VLOOKUP(B74,Airports!$A$2:$D$1133,4,0)","v":"Deutschland"},"→","LIMC",{"$f":"VLOOKUP(F74,Airports!$A$2:$D$1133,2,0)","v":"Mailand-Malpensa"},{"$f":"VLOOKUP(F74,Airports!$A$2:$D$1133,4,0)","v":"Italien"},null,"Routen",{"$f":"VLOOKUP(B74,Airports!$A$2:$J$11124,10,0)","v":"Europa"},"→",{"$f":"VLOOKUP(F74,Airports!$A$2:$J$11124,10,0)","v":"Europa"},{"$f":"COUNTIF(Eingabe!B:B,Routen!A:A)","v":2}]
["IW12051","LEPA",{"$f":"VLOOKUP(B75,Airports!$A$2:$D$1133,2,0)","v":"Palma de Mallorca"},{"$f":"VLOOKUP(B75,Airports!$A$2:$D$1133,4,0)","v":"Spanien"},"→","EDDS",{"$f":"VLOOKUP(F75,Airports!$A$2:$D$1133,2,0)","v":"Stuttgart"},{"$f":"VLOOKUP(F75,Airports!$A$2:$D$1133,4,0)","v":"Deutschland"},null,"Routen",{"$f":"VLOOKUP(B75,Airports!$A$2:$J$11124,10,0)","v":"Europa"},"→",{"$f":"VLOOKUP(F75,Airports!$A$2:$J$11124,10,0)","v":"Europa"},{"$f":"COUNTIF(Eingabe!B:B,Routen!A:A)","v":1},{"$f":"IF(I75>=1866,\"Langstrecke\",IF(I75>=933,\"Mittelstrecke\",\"Kurzstrecke\"))","v":"Kurzstrecke"}]
["IW12052","EDDM",{"$f":"VLOOKUP(B76,Airports!$A$2:$D$1133,2,0)","v":"München"},{"$f":"VLOOKUP(B76,Airports!$A$2:$D$1133,4,0)","v":"Deutschland"},"→","LEPA",{"$f":"VLOOKUP(F76,Airports!$A$2:$D$1133,2,0)","v":"Palma de Mallorca"},{"$f":"VLOOKUP(F76,Airports!$A$2:$D$1133,4,0)","v":"Spanien"},null,"Routen",{"$f":"VLOOKUP(B76,Airports!$A$2:$J$11124,10,0)","v":"Europa"},"→",{"$f":"VLOOKUP(F76,Airports!$A$2:$J$11124,10,0)","v":"Europa"},{"$f":"COUNTIF(Eingabe!B:B,Routen!A:A)","v":1},"Kurzstrecke"]
["IW12053","EDDM",{"$f":"VLOOKUP(B77,Airports!$A$2:$D$1133,2,0)","v":"München"},{"$f":"VLOOKUP(B77,Airports!$A$2:$D$1133,4,0)","v":"Deutschland"},"→","LFPO",{"$f":"VLOOKUP(F77,Airports!$A$2:$D$1133,2,0)","v":"Paris Orly"},{"$f":"VLOOKUP(F77,Airports!$A$2:$D$1133,4,0)","v":"Frankreich"},null,"Routen",{"$f":"VLOOKUP(B77,Airports!$A$2:$J$11124,10,0)","v":"Europa"},"→",{"$f":"VLOOKUP(F77,Airports!$A$2:$J$11124,10,0)","v":"Europa"},{"$f":"COUNTIF(Eingabe!B:B,Routen!A:A)","v":1},"Kurzstrecke"]
["IW12054","LEMG",{"$f":"VLOOKUP(B78,Airports!$A$2:$D$1133,2,0)","v":"Malaga - Costa del Sol"},{"$f":"VLOOKUP(B78,Airports!$A$2:$D$1133,4,0)","v":"Spanien"},"→","EDDM",{"$f":"VLOOKUP(F78,Airports!$A$2:$D$1133,2,0)","v":"München"},{"$f":"VLOOKUP(F78,Airports!$A$2:$D$1133,4,0)","v":"Deutschland"},null,"Routen",{"$f":"VLOOKUP(B78,Airports!$A$2:$J$11124,10,0)","v":"Europa"},"→",{"$f":"VLOOKUP(F78,Airports!$A$2:$J$11124,10,0)","v":"Europa"},{"$f":"COUNTIF(Eingabe!B:B,Routen!A:A)","v":1},"Kurzstrecke"]
["IW12055","EDDL",{"$f":"VLOOKUP(B79,Airports!$A$2:$D$1133,2,0)","v":"Düsseldorf (Original)"},{"$f":"VLOOKUP(B79,Airports!$A$2:$D$1133,4,0)","v":"Deutschland"},"→","EDDB",{"$f":"VLOOKUP(F79,Airports!$A$2:$D$1133,2,0)","v":"Berlin-Brandenburg"},{"$f":"VLOOKUP(F79,Airports!$A$2:$D$1133,4,0)","v":"Deutschland"},null,"Routen",{"$f":"VLOOKUP(B79,Airports!$A$2:$J$11124,10,0)","v":"Europa"},"→",{"$f":"VLOOKUP(F79,Airports!$A$2:$J$11124,10,0)","v":"Europa"},{"$f":"COUNTIF(Eingabe!B:B,Routen!A:A)","v":1},"Kurzstrecke"]
["IW12056","EDDB",{"$f":"VLOOKUP(B80,Airports!$A$2:$D$1133,2,0)","v":"Berlin-Brandenburg"},{"$f":"VLOOKUP(B80,Airports!$A$2:$D$1133,4,0)","v":"Deutschland"},"→","ENGM",{"$f":"VLOOKUP(F80,Airports!$A$2:$D$1133,2,0)","v":"Oslo-Gardermoen"},{"$f":"VLOOKUP(F80,Airports!$A$2:$D$1133,4,0)","v":"Norwegen"},null,"Routen",{"$f":"VLOOKUP(B80,Airports!$A$2:$J$11124,10,0)","v":"Europa"},"→",{"$f":"VLOOKUP(F80,Airports!$A$2:$J$11124,10,0)","v":"Europa"},{"$f":"COUNTIF(Eingabe!B:B,Routen!A:A)","v":1},"Kurzstrecke"]
["IW12057","LEVC",{"$f":"VLOOKUP(B81,Airports!$A$2:$D$1133,2,0)","v":"Valencia"},{"$f":"VLOOKUP(B81,Airports!$A$2:$D$1133,4,0)","v":"Spanien"},"→","EDDV",{"$f":"VLOOKUP(F81,Airports!$A$2:$D$1133,2,0)","v":"Hannover"},{"$f":"VLOOKUP(F81,Airports!$A$2:$D$1133,4,0)","v":"Deutschland"},null,"Routen",{"$f":"VLOOKUP(B81,Airports!$A$2:$J$11124,10,0)","v":"Europa"},"→",{"$f":"VLOOKUP(F81,Airports!$A$2:$J$11124,10,0)","v":"Europa"},{"$f":"COUNTIF(Eingabe!B:B,Routen!A:A)","v":1},"Kurzstrecke"]
["IW12058","EDDV",{"$f":"VLOOKUP(B82,Airports!$A$2:$D$1133,2,0)","v":"Hannover"},{"$f":"VLOOKUP(B82,Airports!$A$2:$D$1133,4,0)","v":"Deutschland"},"→","LDZA",{"$f":"VLOOKUP(F82,Airports!$A$2:$D$1133,2,0)","v":"Zagreb"},{"$f":"VLOOKUP(F82,Airports!$A$2:$D$1133,4,0)","v":"Kroatien"},null,"Routen",{"$f":"VLOOKUP(B82,Airports!$A$2:$J$11124,10,0)","v":"Europa"},"→",{"$f":"VLOOKUP(F82,Airports!$A$2:$J$11124,10,0)","v":"Europa"},{"$f":"COUNTIF(Eingabe!B:B,Routen!A:A)","v":1},"Kurzstrecke"]
["IW12059","LIMC",{"$f":"VLOOKUP(B83,Airports!$A$2:$D$1133,2,0)","v":"Mailand-Malpensa"},{"$f":"VLOOKUP(B83,Airports!$A$2:$D$1133,4,0)","v":"Italien"},"→","EDDM",{"$f":"VLOOKUP(F83,Airports!$A$2:$D$1133,2,0)","v":"München"},{"$f":"VLOOKUP(F83,Airports!$A$2:$D$1133,4,0)","v":"Deutschland"},null,"Routen",{"$f":"VLOOKUP(B83,Airports!$A$2:$J$11124,10,0)","v":"Europa"},"→",{"$f":"VLOOKUP(F83,Airports!$A$2:$J$11124,10,0)","v":"Europa"},{"$f":"COUNTIF(Eingabe!B:B,Routen!A:A)","v":1},"Kurzstrecke"]
["IW12060","LIBP",{"$f":"VLOOKUP(B84,Airports!$A$2:$D$1133,2,0)","v":"Pescara"},{"$f":"VLOOKUP(B84,Airports!$A$2:$D$1133,4,0)","v":"Italien"},"→","EDDL",{"$f":"VLOOKUP(F84,Airports!$A$2:$D$1133,2,0)","v":"Düsseldorf (Original)"},{"$f":"VLOOKUP(F84,Airports!$A$2:$D$1133,4,0)","v":"Deutschland"},null,"Routen",{"$f":"VLOOKUP(B84,Airports!$A$2:$J$11124,10,0)","v":"Europa"},"→",{"$f":"VLOOKUP(F84,Airports!$A$2:$J$11124,10,0)","v":"Europa"},{"$f":"COUNTIF(Eingabe!B:B,Routen!A:A)","v":0},"Kurzstrecke"]
["IW12061","EDDL",{"$f":"VLOOKUP(B85,Airports!$A$2:$D$1133,2,0)","v":"Düsseldorf (Original)"},{"$f":"VLOOKUP(B85,Airports!$A$2:$D$1133,4,0)","v":"Deutschland"},"→","LIBR",{"$f":"VLOOKUP(F85,Airports!$A$2:$D$1133,2,0)","v":"Brindisi"},{"$f":"VLOOKUP(F85,Airports!$A$2:$D$1133,4,0)","v":"Italien"},null,"Routen",{"$f":"VLOOKUP(B85,Airports!$A$2:$J$11124,10,0)","v":"Europa"},"→",{"$f":"VLOOKUP(F85,Airports!$A$2:$J$11124,10,0)","v":"Europa"},{"$f":"COUNTIF(Eingabe!B:B,Routen!A:A)","v":0},"Kurzstrecke"]
["IW12062","LIBR",{"$f":"VLOOKUP(B86,Airports!$A$2:$D$1133,2,0)","v":"Brindisi"},{"$f":"VLOOKUP(B86,Airports!$A$2:$D$1133,4,0)","v":"Italien"},"→","EDDL",{"$f":"VLOOKUP(F86,Airports!$A$2:$D$1133,2,0)","v":"Düsseldorf (Original)"},{"$f":"VLOOKUP(F86,Airports!$A$2:$D$1133,4,0)","v":"Deutschland"},null,"Routen",{"$f":"VLOOKUP(B86,Airports!$A$2:$J$11124,10,0)","v":"Europa"},"→",{"$f":"VLOOKUP(F86,Airports!$A$2:$J$11124,10,0)","v":"Europa"},{"$f":"COUNTIF(Eingabe!B:B,Routen!A:A)","v":0},"Kurzstrecke"]
["IW12063","EDDL",{"$f":"VLOOKUP(B87,Airports!$A$2:$D$1133,2,0)","v":"Düsseldorf (Original)"},{"$f":"VLOOKUP(B87,Airports!$A$2:$D$1133,4,0)","v":"Deutschland"},"→","LICG",{"$f":"VLOOKUP(F87,Airports!$A$2:$D$1133,2,0)","v":"Pantelleria"},{"$f":"VLOOKUP(F87,Airports!$A$2:$D$1133,4,0)","v":"Italien"},null,"Routen",{"$f":"VLOOKUP(B87,Airports!$A$2:$J$11124,10,0)","v":"Europa"},"→",{"$f":"VLOOKUP(F87,Airports!$A$2:$J$11124,10,0)","v":"Europa"},{"$f":"COUNTIF(Eingabe!B:B,Routen!A:A)","v":0},"Kurzstrecke"]
["IW12064","LICG",{"$f":"VLOOKUP(B88,Airports!$A$2:$D$1133,2,0)","v":"Pantelleria"},{"$f":"VLOOKUP(B88,Airports!$A$2:$D$1133,4,0)","v":"Italien"},"→","EDDL",{"$f":"VLOOKUP(F88,Airports!$A$2:$D$1133,2,0)","v":"Düsseldorf (Original)"},{"$f":"VLOOKUP(F88,Airports!$A$2:$D$1133,4,0)","v":"Deutschland"},null,"Routen",{"$f":"VLOOKUP(B88,Airports!$A$2:$J$11124,10,0)","v":"Europa"},"→",{"$f":"VLOOKUP(F88,Airports!$A$2:$J$11124,10,0)","v":"Europa"},{"$f":"COUNTIF(Eingabe!B:B,Routen!A:A)","v":0},"Kurzstrecke"]
["IW12065","EDDL",{"$f":"VLOOKUP(B89,Airports!$A$2:$D$1133,2,0)","v":"Düsseldorf (Original)"},{"$f":"VLOOKUP(B89,Airports!$A$2:$D$1133,4,0)","v":"Deutschland"},"→","LICR",{"$f":"VLOOKUP(F89,Airports!$A$2:$D$1133,2,0)","v":"Regio Calabria"},{"$f":"VLOOKUP(F89,Airports!$A$2:$D$1133,4,0)","v":"Italien"},null,"Routen",{"$f":"VLOOKUP(B89,Airports!$A$2:$J$11124,10,0)","v":"Europa"},"→",{"$f":"VLOOKUP(F89,Airports!$A$2:$J$11124,10,0)","v":"Europa"},{"$f":"COUNTIF(Eingabe!B:B,Routen!A:A)","v":0},"Kurzstrecke"]
["IW12066","LICR",{"$f":"VLOOKUP(B90,Airports!$A$2:$D$1133,2,0)","v":"Regio Calabria"},{"$f":"VLOOKUP(B90,Airports!$A$2:$D$1133,4,0)","v":"Italien"},"→","EDDL",{"$f":"VLOOKUP(F90,Airports!$A$2:$D$1133,2,0)","v":"Düsseldorf (Original)"},{"$f":"VLOOKUP(F90,Airports!$A$2:$D$1133,4,0)","v":"Deutschland"},null,"Routen",{"$f":"VLOOKUP(B90,Airports!$A$2:$J$11124,10,0)","v":"Europa"},"→",{"$f":"VLOOKUP(F90,Airports!$A$2:$J$11124,10,0)","v":"Europa"},{"$f":"COUNTIF(Eingabe!B:B,Routen!A:A)","v":0},"Kurzstrecke"]
["IW12067","EDDL",{"$f":"VLOOKUP(B91,Airports!$A$2:$D$1133,2,0)","v":"Düsseldorf (Original)"},{"$f":"VLOOKUP(B91,Airports!$A$2:$D$1133,4,0)","v":"Deutschland"},"→","LICT",{"$f":"VLOOKUP(F91,Airports!$A$2:$D$1133,2,0)","v":"Trapani"},{"$f":"VLOOKUP(F91,Airports!$A$2:$D$1133,4,0)","v":"Italien"},null,"Routen",{"$f":"VLOOKUP(B91,Airports!$A$2:$J$11124,10,0)","v":"Europa"},"→",{"$f":"VLOOKUP(F91,Airports!$A$2:$J$11124,10,0)","v":"Europa"},{"$f":"COUNTIF(Eingabe!B:B,Routen!A:A)","v":0},"Kurzstrecke"]
["IW12068","LICT",{"$f":"VLOOKUP(B92,Airports!$A$2:$D$1133,2,0)","v":"Trapani"},{"$f":"VLOOKUP(B92,Airports!$A$2:$D$1133,4,0)","v":"Italien"},"→","EDDL",{"$f":"VLOOKUP(F92,Airports!$A$2:$D$1133,2,0)","v":"Düsseldorf (Original)"},{"$f":"VLOOKUP(F92,Airports!$A$2:$D$1133,4,0)","v":"Deutschland"},null,"Routen",{"$f":"VLOOKUP(B92,Airports!$A$2:$J$11124,10,0)","v":"Europa"},"→",{"$f":"VLOOKUP(F92,Airports!$A$2:$J$11124,10,0)","v":"Europa"},{"$f":"COUNTIF(Eingabe!B:B,Routen!A:A)","v":0},"Kurzstrecke"]
["IW12069","EDDL",{"$f":"VLOOKUP(B93,Airports!$A$2:$D$1133,2,0)","v":"Düsseldorf (Original)"},{"$f":"VLOOKUP(B93,Airports!$A$2:$D$1133,4,0)","v":"Deutschland"},"→","LIME",{"$f":"VLOOKUP(F93,Airports!$A$2:$D$1133,2,0)","v":"Bergamo"},{"$f":"VLOOKUP(F93,Airports!$A$2:$D$1133,4,0)","v":"Italien"},null,"Routen",{"$f":"VLOOKUP(B93,Airports!$A$2:$J$11124,10,0)","v":"Europa"},"→",{"$f":"VLOOKUP(F93,Airports!$A$2:$J$11124,10,0)","v":"Europa"},{"$f":"COUNTIF(Eingabe!B:B,Routen!A:A)","v":0},"Kurzstrecke"]
["IW12070","LIME",{"$f":"VLOOKUP(B94,Airports!$A$2:$D$1133,2,0)","v":"Bergamo"},{"$f":"VLOOKUP(B94,Airports!$A$2:$D$1133,4,0)","v":"Italien"},"→","EDDL",{"$f":"VLOOKUP(F94,Airports!$A$2:$D$1133,2,0)","v":"Düsseldorf (Original)"},{"$f":"VLOOKUP(F94,Airports!$A$2:$D$1133,4,0)","v":"Deutschland"},null,"Routen",{"$f":"VLOOKUP(B94,Airports!$A$2:$J$11124,10,0)","v":"Europa"},"→",{"$f":"VLOOKUP(F94,Airports!$A$2:$J$11124,10,0)","v":"Europa"},{"$f":"COUNTIF(Eingabe!B:B,Routen!A:A)","v":0},"Kurzstrecke"]
["IW12071","EDDL",{"$f":"VLOOKUP(B95,Airports!$A$2:$D$1133,2,0)","v":"Düsseldorf (Original)"},{"$f":"VLOOKUP(B95,Airports!$A$2:$D$1133,4,0)","v":"Deutschland"},"→","LIMF",{"$f":"VLOOKUP(F95,Airports!$A$2:$D$1133,2,0)","v":"Turin-Caselle"},{"$f":"VLOOKUP(F95,Airports!$A$2:$D$1133,4,0)","v":"Italien"},null,"Routen",{"$f":"VLOOKUP(B95,Airports!$A$2:$J$11124,10,0)","v":"Europa"},"→",{"$f":"VLOOKUP(F95,Airports!$A$2:$J$11124,10,0)","v":"Europa"},{"$f":"COUNTIF(Eingabe!B:B,Routen!A:A)","v":0},"Kurzstrecke"]
["IW12072","LIMF",{"$f":"VLOOKUP(B96,Airports!$A$2:$D$1133,2,0)","v":"Turin-Caselle"},{"$f":"VLOOKUP(B96,Airports!$A$2:$D$1133,4,0)","v":"Italien"},"→","EDDL",{"$f":"VLOOKUP(F96,Airports!$A$2:$D$1133,2,0)","v":"Düsseldorf (Original)"},{"$f":"VLOOKUP(F96,Airports!$A$2:$D$1133,4,0)","v":"Deutschland"},null,"Routen",{"$f":"VLOOKUP(B96,Airports!$A$2:$J$11124,10,0)","v":"Europa"},"→",{"$f":"VLOOKUP(F96,Airports!$A$2:$J$11124,10,0)","v":"Europa"},{"$f":"COUNTIF(Eingabe!B:B,Routen!A:A)","v":0},"Kurzstrecke"]
["IW12073","EDDL",{"$f":"VLOOKUP(B97,Airports!$A$2:$D$1133,2,0)","v":"Düsseldorf (Original)"},{"$f":"VLOOKUP(B97,Airports!$A$2:$D$1133,4,0)","v":"Deutschland"},"→","LIML",{"$f":"VLOOKUP(F97,Airports!$A$2:$D$1133,2,0)","v":"Mailand Linate"},{"$f":"VLOOKUP(F97,Airports!$A$2:$D$1133,4,0)","v":"Italien"},null,"Routen",{"$f":"VLOOKUP(B97,Airports!$A$2:$J$11124,10,0)","v":"Europa"},"→",{"$f":"VLOOKUP(F97,Airports!$A$2:$J$11124,10,0)","v":"Europa"},{"$f":"COUNTIF(Eingabe!B:B,Routen!A:A)","v":0},"Kurzstrecke"]
["IW12074","LIML",{"$f":"VLOOKUP(B98,Airports!$A$2:$D$1133,2,0)","v":"Mailand Linate"},{"$f":"VLOOKUP(B98,Airports!$A$2:$D$1133,4,0)","v":"Italien"},"→","EDDL",{"$f":"VLOOKUP(F98,Airports!$A$2:$D$1133,2,0)","v":"Düsseldorf (Original)"},{"$f":"VLOOKUP(F98,Airports!$A$2:$D$1133,4,0)","v":"Deutschland"},null,"Routen",{"$f":"VLOOKUP(B98,Airports!$A$2:$J$11124,10,0)","v":"Europa"},"→",{"$f":"VLOOKUP(F98,Airports!$A$2:$J$11124,10,0)","v":"Europa"},{"$f":"COUNTIF(Eingabe!B:B,Routen!A:A)","v":0},"Kurzstrecke"]
["IW12075","EDDL",{"$f":"VLOOKUP(B99,Airports!$A$2:$D$1133,2,0)","v":"Düsseldorf (Original)"},{"$f":"VLOOKUP(B99,Airports!$A$2:$D$1133,4,0)","v":"Deutschland"},"→","LIMP",{"$f":"VLOOKUP(F99,Airports!$A$2:$D$1133,2,0)","v":"Parma"},{"$f":"VLOOKUP(F99,Airports!$A$2:$D$1133,4,0)","v":"Italien"},null,"Routen",{"$f":"VLOOKUP(B99,Airports!$A$2:$J$11124,10,0)","v":"Europa"},"→",{"$f":"VLOOKUP(F99,Airports!$A$2:$J$11124,10,0)","v":"Europa"},{"$f":"COUNTIF(Eingabe!B:B,Routen!A:A)","v":0},"Kurzstrecke"]
["IW12076","LIMP",{"$f":"VLOOKUP(B100,Airports!$A$2:$D$1133,2,0)","v":"Parma"},{"$f":"VLOOKUP(B100,Airports!$A$2:$D$1133,4,0)","v":"Italien"},"→","EDDL",{"$f":"VLOOKUP(F100,Airports!$A$2:$D$1133,2,0)","v":"Düsseldorf (Original)"},{"$f":"VLOOKUP(F100,Airports!$A$2:$D$1133,4,0)","v":"Deutschland"},null,"Routen",{"$f":"VLOOKUP(B100,Airports!$A$2:$J$11124,10,0)","v":"Europa"},"→",{"$f":"VLOOKUP(F100,Airports!$A$2:$J$11124,10,0)","v":"Europa"},{"$f":"COUNTIF(Eingabe!B:B,Routen!A:A)","v":0},"Kurzstrecke"]
["IW12077","EDDL",{"$f":"VLOOKUP(B101,Airports!$A$2:$D$1133,2,0)","v":"Düsseldorf (Original)"},{"$f":"VLOOKUP(B101,Airports!$A$2:$D$1133,4,0)","v":"Deutschland"},"→","LIEO",{"$f":"VLOOKUP(F101,Airports!$A$2:$D$1133,2,0)","v":"Olbia / Costa Smeralda"},{"$f":"VLOOKUP(F101,Airports!$A$2:$D$1133,4,0)","v":"Italien"},null,"Routen",{"$f":"VLOOKUP(B101,Airports!$A$2:$J$11124,10,0)","v":"Europa"},"→",{"$f":"VLOOKUP(F101,Airports!$A$2:$J$11124,10,0)","v":"Europa"},{"$f":"COUNTIF(Eingabe!B:B,Routen!A:A)","v":0},"Kurzstrecke"]
["IW12078","LIEO",{"$f":"VLOOKUP(B102,Airports!$A$2:$D$1133,2,0)","v":"Olbia / Costa Smeralda"},{"$f":"VLOOKUP(B102,Airports!$A$2:$D$1133,4,0)","v":"Italien"},"→","EDDL",{"$f":"VLOOKUP(F102,Airports!$A$2:$D$1133,2,0)","v":"Düsseldorf (Original)"},{"$f":"VLOOKUP(F102,Airports!$A$2:$D$1133,4,0)","v":"Deutschland"},null,"Routen",{"$f":"VLOOKUP(B102,Airports!$A$2:$J$11124,10,0)","v":"Europa"},"→",{"$f":"VLOOKUP(F102,Airports!$A$2:$J$11124,10,0)","v":"Europa"},{"$f":"COUNTIF(Eingabe!B:B,Routen!A:A)","v":0},"Kurzstrecke"]
["IW12079","EDDL",{"$f":"VLOOKUP(B103,Airports!$A$2:$D$1133,2,0)","v":"Düsseldorf (Original)"},{"$f":"VLOOKUP(B103,Airports!$A$2:$D$1133,4,0)","v":"Deutschland"},"→","LIPQ",{"$f":"VLOOKUP(F103,Airports!$A$2:$D$1133,2,0)","v":"Triest / Udine"},{"$f":"VLOOKUP(F103,Airports!$A$2:$D$1133,4,0)","v":"Italien"},null,"Routen",{"$f":"VLOOKUP(B103,Airports!$A$2:$J$11124,10,0)","v":"Europa"},"→",{"$f":"VLOOKUP(F103,Airports!$A$2:$J$11124,10,0)","v":"Europa"},{"$f":"COUNTIF(Eingabe!B:B,Routen!A:A)","v":0},"Kurzstrecke"]
["IW12080","LIPQ",{"$f":"VLOOKUP(B104,Airports!$A$2:$D$1133,2,0)","v":"Triest / Udine"},{"$f":"VLOOKUP(B104,Airports!$A$2:$D$1133,4,0)","v":"Italien"},"→","EDDL",{"$f":"VLOOKUP(F104,Airports!$A$2:$D$1133,2,0)","v":"Düsseldorf (Original)"},{"$f":"VLOOKUP(F104,Airports!$A$2:$D$1133,4,0)","v":"Deutschland"},null,"Routen",{"$f":"VLOOKUP(B104,Airports!$A$2:$J$11124,10,0)","v":"Europa"},"→",{"$f":"VLOOKUP(F104,Airports!$A$2:$J$11124,10,0)","v":"Europa"},{"$f":"COUNTIF(Eingabe!B:B,Routen!A:A)","v":0},"Kurzstrecke"]
["IW12081","EDDL",{"$f":"VLOOKUP(B105,Airports!$A$2:$D$1133,2,0)","v":"Düsseldorf (Original)"},{"$f":"VLOOKUP(B105,Airports!$A$2:$D$1133,4,0)","v":"Deutschland"},"→","LIRA",{"$f":"VLOOKUP(F105,Airports!$A$2:$D$1133,2,0)","v":"Rom-Ciampino"},{"$f":"VLOOKUP(F105,Airports!$A$2:$D$1133,4,0)","v":"Italien"},null,"Routen",{"$f":"VLOOKUP(B105,Airports!$A$2:$J$11124,10,0)","v":"Europa"},"→",{"$f":"VLOOKUP(F105,Airports!$A$2:$J$11124,10,0)","v":"Europa"},{"$f":"COUNTIF(Eingabe!B:B,Routen!A:A)","v":0},"Kurzstrecke"]
["IW12082","LIRA",{"$f":"VLOOKUP(B106,Airports!$A$2:$D$1133,2,0)","v":"Rom-Ciampino"},{"$f":"VLOOKUP(B106,Airports!$A$2:$D$1133,4,0)","v":"Italien"},"→","EDDL",{"$f":"VLOOKUP(F106,Airports!$A$2:$D$1133,2,0)","v":"Düsseldorf (Original)"},{"$f":"VLOOKUP(F106,Airports!$A$2:$D$1133,4,0)","v":"Deutschland"},null,"Routen",{"$f":"VLOOKUP(B106,Airports!$A$2:$J$11124,10,0)","v":"Europa"},"→",{"$f":"VLOOKUP(F106,Airports!$A$2:$J$11124,10,0)","v":"Europa"},{"$f":"COUNTIF(Eingabe!B:B,Routen!A:A)","v":0},"Kurzstrecke"]
["IW12083","EDDL",{"$f":"VLOOKUP(B107,Airports!$A$2:$D$1133,2,0)","v":"Düsseldorf (Original)"},{"$f":"VLOOKUP(B107,Airports!$A$2:$D$1133,4,0)","v":"Deutschland"},"→","LIBC",{"$f":"VLOOKUP(F107,Airports!$A$2:$D$1133,2,0)","v":"Crotone  / Kalabrien"},{"$f":"VLOOKUP(F107,Airports!$A$2:$D$1133,4,0)","v":"Italien"},null,"Routen",{"$f":"VLOOKUP(B107,Airports!$A$2:$J$11124,10,0)","v":"Europa"},"→",{"$f":"VLOOKUP(F107,Airports!$A$2:$J$11124,10,0)","v":"Europa"},{"$f":"COUNTIF(Eingabe!B:B,Routen!A:A)","v":0},"Kurzstrecke"]
["IW12084","LIBC",{"$f":"VLOOKUP(B108,Airports!$A$2:$D$1133,2,0)","v":"Crotone  / Kalabrien"},{"$f":"VLOOKUP(B108,Airports!$A$2:$D$1133,4,0)","v":"Italien"},"→","EDDL",{"$f":"VLOOKUP(F108,Airports!$A$2:$D$1133,2,0)","v":"Düsseldorf (Original)"},{"$f":"VLOOKUP(F108,Airports!$A$2:$D$1133,4,0)","v":"Deutschland"},null,"Routen",{"$f":"VLOOKUP(B108,Airports!$A$2:$J$11124,10,0)","v":"Europa"},"→",{"$f":"VLOOKUP(F108,Airports!$A$2:$J$11124,10,0)","v":"Europa"},{"$f":"COUNTIF(Eingabe!B:B,Routen!A:A)","v":0},"Kurzstrecke"]
["IW12085","EDDL",{"$f":"VLOOKUP(B109,Airports!$A$2:$D$1133,2,0)","v":"Düsseldorf (Original)"},{"$f":"VLOOKUP(B109,Airports!$A$2:$D$1133,4,0)","v":"Deutschland"},"→","LICJ",{"$f":"VLOOKUP(F109,Airports!$A$2:$D$1133,2,0)","v":"Palermo Punta Raisi"},{"$f":"VLOOKUP(F109,Airports!$A$2:$D$1133,4,0)","v":"Italien"},null,"Routen",{"$f":"VLOOKUP(B109,Airports!$A$2:$J$11124,10,0)","v":"Europa"},"→",{"$f":"VLOOKUP(F109,Airports!$A$2:$J$11124,10,0)","v":"Europa"},{"$f":"COUNTIF(Eingabe!B:B,Routen!A:A)","v":0},"Kurzstrecke"]
["IW12086","LICJ",{"$f":"VLOOKUP(B110,Airports!$A$2:$D$1133,2,0)","v":"Palermo Punta Raisi"},{"$f":"VLOOKUP(B110,Airports!$A$2:$D$1133,4,0)","v":"Italien"},"→","EDDL",{"$f":"VLOOKUP(F110,Airports!$A$2:$D$1133,2,0)","v":"Düsseldorf (Original)"},{"$f":"VLOOKUP(F110,Airports!$A$2:$D$1133,4,0)","v":"Deutschland"},null,"Routen",{"$f":"VLOOKUP(B110,Airports!$A$2:$J$11124,10,0)","v":"Europa"},"→",{"$f":"VLOOKUP(F110,Airports!$A$2:$J$11124,10,0)","v":"Europa"},{"$f":"COUNTIF(Eingabe!B:B,Routen!A:A)","v":0},"Kurzstrecke"]
["IW12087","EDDL",{"$f":"VLOOKUP(B111,Airports!$A$2:$D$1133,2,0)","v":"Düsseldorf (Original)"},{"$f":"VLOOKUP(B111,Airports!$A$2:$D$1133,4,0)","v":"Deutschland"},"→","LIPE",{"$f":"VLOOKUP(F111,Airports!$A$2:$D$1133,2,0)","v":"Bologna"},{"$f":"VLOOKUP(F111,Airports!$A$2:$D$1133,4,0)","v":"Italien"},null,"Routen",{"$f":"VLOOKUP(B111,Airports!$A$2:$J$11124,10,0)","v":"Europa"},"→",{"$f":"VLOOKUP(F111,Airports!$A$2:$J$11124,10,0)","v":"Europa"},{"$f":"COUNTIF(Eingabe!B:B,Routen!A:A)","v":0},"Kurzstrecke"]
["IW12088","LIPE",{"$f":"VLOOKUP(B112,Airports!$A$2:$D$1133,2,0)","v":"Bologna"},{"$f":"VLOOKUP(B112,Airports!$A$2:$D$1133,4,0)","v":"Italien"},"→","EDDL",{"$f":"VLOOKUP(F112,Airports!$A$2:$D$1133,2,0)","v":"Düsseldorf (Original)"},{"$f":"VLOOKUP(F112,Airports!$A$2:$D$1133,4,0)","v":"Deutschland"},null,"Routen",{"$f":"VLOOKUP(B112,Airports!$A$2:$J$11124,10,0)","v":"Europa"},"→",{"$f":"VLOOKUP(F112,Airports!$A$2:$J$11124,10,0)","v":"Europa"},{"$f":"COUNTIF(Eingabe!B:B,Routen!A:A)","v":0},"Kurzstrecke"]
["IW12089","EDDL",{"$f":"VLOOKUP(B113,Airports!$A$2:$D$1133,2,0)","v":"Düsseldorf (Original)"},{"$f":"VLOOKUP(B113,Airports!$A$2:$D$1133,4,0)","v":"Deutschland"},"→","LIPH",{"$f":"VLOOKUP(F113,Airports!$A$2:$D$1133,2,0)","v":"Treviso"},{"$f":"VLOOKUP(F113,Airports!$A$2:$D$1133,4,0)","v":"Italien"},null,"Routen",{"$f":"VLOOKUP(B113,Airports!$A$2:$J$11124,10,0)","v":"Europa"},"→",{"$f":"VLOOKUP(F113,Airports!$A$2:$J$11124,10,0)","v":"Europa"},{"$f":"COUNTIF(Eingabe!B:B,Routen!A:A)","v":0},"Kurzstrecke"]
["IW12090","LIPH",{"$f":"VLOOKUP(B114,Airports!$A$2:$D$1133,2,0)","v":"Treviso"},{"$f":"VLOOKUP(B114,Airports!$A$2:$D$1133,4,0)","v":"Italien"},"→","EDDL",{"$f":"VLOOKUP(F114,Airports!$A$2:$D$1133,2,0)","v":"Düsseldorf (Original)"},{"$f":"VLOOKUP(F114,Airports!$A$2:$D$1133,4,0)","v":"Deutschland"},null,"Routen",{"$f":"VLOOKUP(B114,Airports!$A$2:$J$11124,10,0)","v":"Europa"},"→",{"$f":"VLOOKUP(F114,Airports!$A$2:$J$11124,10,0)","v":"Europa"},{"$f":"COUNTIF(Eingabe!B:B,Routen!A:A)","v":0},"Kurzstrecke"]
["IW12091","EDDL",{"$f":"VLOOKUP(B115,Airports!$A$2:$D$1133,2,0)","v":"Düsseldorf (Original)"},{"$f":"VLOOKUP(B115,Airports!$A$2:$D$1133,4,0)","v":"Deutschland"},"→","LIPO",{"$f":"VLOOKUP(F115,Airports!$A$2:$D$1133,2,0)","v":"Brescia"},{"$f":"VLOOKUP(F115,Airports!$A$2:$D$1133,4,0)","v":"Italien"},null,"Routen",{"$f":"VLOOKUP(B115,Airports!$A$2:$J$11124,10,0)","v":"Europa"},"→",{"$f":"VLOOKUP(F115,Airports!$A$2:$J$11124,10,0)","v":"Europa"},{"$f":"COUNTIF(Eingabe!B:B,Routen!A:A)","v":0},"Kurzstrecke"]
["IW12092","LIPO",{"$f":"VLOOKUP(B116,Airports!$A$2:$D$1133,2,0)","v":"Brescia"},{"$f":"VLOOKUP(B116,Airports!$A$2:$D$1133,4,0)","v":"Italien"},"→","EDDL",{"$f":"VLOOKUP(F116,Airports!$A$2:$D$1133,2,0)","v":"Düsseldorf (Original)"},{"$f":"VLOOKUP(F116,Airports!$A$2:$D$1133,4,0)","v":"Deutschland"},null,"Routen",{"$f":"VLOOKUP(B116,Airports!$A$2:$J$11124,10,0)","v":"Europa"},"→",{"$f":"VLOOKUP(F116,Airports!$A$2:$J$11124,10,0)","v":"Europa"},{"$f":"COUNTIF(Eingabe!B:B,Routen!A:A)","v":0},"Kurzstrecke"]
["IW12093","EDDL",{"$f":"VLOOKUP(B117,Airports!$A$2:$D$1133,2,0)","v":"Düsseldorf (Original)"},{"$f":"VLOOKUP(B117,Airports!$A$2:$D$1133,4,0)","v":"Deutschland"},"→","LIPR",{"$f":"VLOOKUP(F117,Airports!$A$2:$D$1133,2,0)","v":"Rimini"},{"$f":"VLOOKUP(F117,Airports!$A$2:$D$1133,4,0)","v":"Italien"},null,"Routen",{"$f":"VLOOKUP(B117,Airports!$A$2:$J$11124,10,0)","v":"Europa"},"→",{"$f":"VLOOKUP(F117,Airports!$A$2:$J$11124,10,0)","v":"Europa"},{"$f":"COUNTIF(Eingabe!B:B,Routen!A:A)","v":0},"Kurzstrecke"]
["IW12094","LIPR",{"$f":"VLOOKUP(B118,Airports!$A$2:$D$1133,2,0)","v":"Rimini"},{"$f":"VLOOKUP(B118,Airports!$A$2:$D$1133,4,0)","v":"Italien"},"→","EDDL",{"$f":"VLOOKUP(F118,Airports!$A$2:$D$1133,2,0)","v":"Düsseldorf (Original)"},{"$f":"VLOOKUP(F118,Airports!$A$2:$D$1133,4,0)","v":"Deutschland"},null,"Routen",{"$f":"VLOOKUP(B118,Airports!$A$2:$J$11124,10,0)","v":"Europa"},"→",{"$f":"VLOOKUP(F118,Airports!$A$2:$J$11124,10,0)","v":"Europa"},{"$f":"COUNTIF(Eingabe!B:B,Routen!A:A)","v":0},"Kurzstrecke"]
["IW12095","EDDL",{"$f":"VLOOKUP(B119,Airports!$A$2:$D$1133,2,0)","v":"Düsseldorf (Original)"},{"$f":"VLOOKUP(B119,Airports!$A$2:$D$1133,4,0)","v":"Deutschland"},"→","LIPX",{"$f":"VLOOKUP(F119,Airports!$A$2:$D$1133,2,0)","v":"Verona-Villafranca"},{"$f":"VLOOKUP(F119,Airports!$A$2:$D$1133,4,0)","v":"Italien"},null,"Routen",{"$f":"VLOOKUP(B119,Airports!$A$2:$J$11124,10,0)","v":"Europa"},"→",{"$f":"VLOOKUP(F119,Airports!$A$2:$J$11124,10,0)","v":"Europa"},{"$f":"COUNTIF(Eingabe!B:B,Routen!A:A)","v":0},"Kurzstrecke"]
["IW12096","LIPX",{"$f":"VLOOKUP(B120,Airports!$A$2:$D$1133,2,0)","v":"Verona-Villafranca"},{"$f":"VLOOKUP(B120,Airports!$A$2:$D$1133,4,0)","v":"Italien"},"→","EDDL",{"$f":"VLOOKUP(F120,Airports!$A$2:$D$1133,2,0)","v":"Düsseldorf (Original)"},{"$f":"VLOOKUP(F120,Airports!$A$2:$D$1133,4,0)","v":"Deutschland"},null,"Routen",{"$f":"VLOOKUP(B120,Airports!$A$2:$J$11124,10,0)","v":"Europa"},"→",{"$f":"VLOOKUP(F120,Airports!$A$2:$J$11124,10,0)","v":"Europa"},{"$f":"COUNTIF(Eingabe!B:B,Routen!A:A)","v":0},"Kurzstrecke"]
["IW12097","EDDL",{"$f":"VLOOKUP(B121,Airports!$A$2:$D$1133,2,0)","v":"Düsseldorf (Original)"},{"$f":"VLOOKUP(B121,Airports!$A$2:$D$1133,4,0)","v":"Deutschland"},"→","LIPY",{"$f":"VLOOKUP(F121,Airports!$A$2:$D$1133,2,0)","v":"Falconara-Ancona"},{"$f":"VLOOKUP(F121,Airports!$A$2:$D$1133,4,0)","v":"Italien"},null,"Routen",{"$f":"VLOOKUP(B121,Airports!$A$2:$J$11124,10,0)","v":"Europa"},"→",{"$f":"VLOOKUP(F121,Airports!$A$2:$J$11124,10,0)","v":"Europa"},{"$f":"COUNTIF(Eingabe!B:B,Routen!A:A)","v":0},"Kurzstrecke"]
["IW12098","LIPY",{"$f":"VLOOKUP(B122,Airports!$A$2:$D$1133,2,0)","v":"Falconara-Ancona"},{"$f":"VLOOKUP(B122,Airports!$A$2:$D$1133,4,0)","v":"Italien"},"→","EDDL",{"$f":"VLOOKUP(F122,Airports!$A$2:$D$1133,2,0)","v":"Düsseldorf (Original)"},{"$f":"VLOOKUP(F122,Airports!$A$2:$D$1133,4,0)","v":"Deutschland"},null,"Routen",{"$f":"VLOOKUP(B122,Airports!$A$2:$J$11124,10,0)","v":"Europa"},"→",{"$f":"VLOOKUP(F122,Airports!$A$2:$J$11124,10,0)","v":"Europa"},{"$f":"COUNTIF(Eingabe!B:B,Routen!A:A)","v":0},"Kurzstrecke"]
["IW12099","EDDL",{"$f":"VLOOKUP(B123,Airports!$A$2:$D$1133,2,0)","v":"Düsseldorf (Original)"},{"$f":"VLOOKUP(B123,Airports!$A$2:$D$1133,4,0)","v":"Deutschland"},"→","LIPZ",{"$f":"VLOOKUP(F123,Airports!$A$2:$D$1133,2,0)","v":"Venedig - Marco Polo"},{"$f":"VLOOKUP(F123,Airports!$A$2:$D$1133,4,0)","v":"Italien"},null,"Routen",{"$f":"VLOOKUP(B123,Airports!$A$2:$J$11124,10,0)","v":"Europa"},"→",{"$f":"VLOOKUP(F123,Airports!$A$2:$J$11124,10,0)","v":"Europa"},{"$f":"COUNTIF(Eingabe!B:B,Routen!A:A)","v":0},"Kurzstrecke"]
["IW12100","LIPZ",{"$f":"VLOOKUP(B124,Airports!$A$2:$D$1133,2,0)","v":"Venedig - Marco Polo"},{"$f":"VLOOKUP(B124,Airports!$A$2:$D$1133,4,0)","v":"Italien"},"→","EDDL",{"$f":"VLOOKUP(F124,Airports!$A$2:$D$1133,2,0)","v":"Düsseldorf (Original)"},{"$f":"VLOOKUP(F124,Airports!$A$2:$D$1133,4,0)","v":"Deutschland"},null,"Routen",{"$f":"VLOOKUP(B124,Airports!$A$2:$J$11124,10,0)","v":"Europa"},"→",{"$f":"VLOOKUP(F124,Airports!$A$2:$J$11124,10,0)","v":"Europa"},{"$f":"COUNTIF(Eingabe!B:B,Routen!A:A)","v":0},"Kurzstrecke"]
["IW12101","EDDL",{"$f":"VLOOKUP(B125,Airports!$A$2:$D$1133,2,0)","v":"Düsseldorf (Original)"},{"$f":"VLOOKUP(B125,Airports!$A$2:$D$1133,4,0)","v":"Deutschland"},"→","LIRZ",{"$f":"VLOOKUP(F125,Airports!$A$2:$D$1133,2,0)","v":"Perugia"},{"$f":"VLOOKUP(F125,Airports!$A$2:$D$1133,4,0)","v":"Italien"},null,"Routen",{"$f":"VLOOKUP(B125,Airports!$A$2:$J$11124,10,0)","v":"Europa"},"→",{"$f":"VLOOKUP(F125,Airports!$A$2:$J$11124,10,0)","v":"Europa"},{"$f":"COUNTIF(Eingabe!B:B,Routen!A:A)","v":0},"Kurzstrecke"]
["IW12102","LIRZ",{"$f":"VLOOKUP(B126,Airports!$A$2:$D$1133,2,0)","v":"Perugia"},{"$f":"VLOOKUP(B126,Airports!$A$2:$D$1133,4,0)","v":"Italien"},"→","EDDL",{"$f":"VLOOKUP(F126,Airports!$A$2:$D$1133,2,0)","v":"Düsseldorf (Original)"},{"$f":"VLOOKUP(F126,Airports!$A$2:$D$1133,4,0)","v":"Deutschland"},null,"Routen",{"$f":"VLOOKUP(B126,Airports!$A$2:$J$11124,10,0)","v":"Europa"},"→",{"$f":"VLOOKUP(F126,Airports!$A$2:$J$11124,10,0)","v":"Europa"},{"$f":"COUNTIF(Eingabe!B:B,Routen!A:A)","v":0},"Kurzstrecke"]
["IW12103","EDDL",{"$f":"VLOOKUP(B127,Airports!$A$2:$D$1133,2,0)","v":"Düsseldorf (Original)"},{"$f":"VLOOKUP(B127,Airports!$A$2:$D$1133,4,0)","v":"Deutschland"},"→","LIRI",{"$f":"VLOOKUP(F127,Airports!$A$2:$D$1133,2,0)","v":"Salerno"},{"$f":"VLOOKUP(F127,Airports!$A$2:$D$1133,4,0)","v":"Italien"},null,"Routen",{"$f":"VLOOKUP(B127,Airports!$A$2:$J$11124,10,0)","v":"Europa"},"→",{"$f":"VLOOKUP(F127,Airports!$A$2:$J$11124,10,0)","v":"Europa"},{"$f":"COUNTIF(Eingabe!B:B,Routen!A:A)","v":0},"Kurzstrecke"]
["IW12104","LIRI",{"$f":"VLOOKUP(B128,Airports!$A$2:$D$1133,2,0)","v":"Salerno"},{"$f":"VLOOKUP(B128,Airports!$A$2:$D$1133,4,0)","v":"Italien"},"→","EDDL",{"$f":"VLOOKUP(F128,Airports!$A$2:$D$1133,2,0)","v":"Düsseldorf (Original)"},{"$f":"VLOOKUP(F128,Airports!$A$2:$D$1133,4,0)","v":"Deutschland"},null,"Routen",{"$f":"VLOOKUP(B128,Airports!$A$2:$J$11124,10,0)","v":"Europa"},"→",{"$f":"VLOOKUP(F128,Airports!$A$2:$J$11124,10,0)","v":"Europa"},{"$f":"COUNTIF(Eingabe!B:B,Routen!A:A)","v":1},"Kurzstrecke"]
["IW12105","EDDL",{"$f":"VLOOKUP(B129,Airports!$A$2:$D$1133,2,0)","v":"Düsseldorf (Original)"},{"$f":"VLOOKUP(B129,Airports!$A$2:$D$1133,4,0)","v":"Deutschland"},"→","LIRP",{"$f":"VLOOKUP(F129,Airports!$A$2:$D$1133,2,0)","v":"Pisa"},{"$f":"VLOOKUP(F129,Airports!$A$2:$D$1133,4,0)","v":"Italien"},null,"Routen",{"$f":"VLOOKUP(B129,Airports!$A$2:$J$11124,10,0)","v":"Europa"},"→",{"$f":"VLOOKUP(F129,Airports!$A$2:$J$11124,10,0)","v":"Europa"},{"$f":"COUNTIF(Eingabe!B:B,Routen!A:A)","v":0},"Kurzstrecke"]
["IW12106","EDDM",{"$f":"VLOOKUP(B130,Airports!$A$2:$D$1133,2,0)","v":"München"},{"$f":"VLOOKUP(B130,Airports!$A$2:$D$1133,4,0)","v":"Deutschland"},"→","LFPO",{"$f":"VLOOKUP(F130,Airports!$A$2:$D$1133,2,0)","v":"Paris Orly"},{"$f":"VLOOKUP(F130,Airports!$A$2:$D$1133,4,0)","v":"Frankreich"},null,"Routen",{"$f":"VLOOKUP(B130,Airports!$A$2:$J$11124,10,0)","v":"Europa"},"→",{"$f":"VLOOKUP(F130,Airports!$A$2:$J$11124,10,0)","v":"Europa"},{"$f":"COUNTIF(Eingabe!B:B,Routen!A:A)","v":0},"Kurzstrecke"]
["IW12107","EDDP",{"$f":"VLOOKUP(B131,Airports!$A$2:$D$1133,2,0)","v":"Leipzig-Halle"},{"$f":"VLOOKUP(B131,Airports!$A$2:$D$1133,4,0)","v":"Deutschland"},"→","LEPA",{"$f":"VLOOKUP(F131,Airports!$A$2:$D$1133,2,0)","v":"Palma de Mallorca"},{"$f":"VLOOKUP(F131,Airports!$A$2:$D$1133,4,0)","v":"Spanien"},null,"Routen",{"$f":"VLOOKUP(B131,Airports!$A$2:$J$11124,10,0)","v":"Europa"},"→",{"$f":"VLOOKUP(F131,Airports!$A$2:$J$11124,10,0)","v":"Europa"},{"$f":"COUNTIF(Eingabe!B:B,Routen!A:A)","v":0},"Kurzstrecke"]
["IW12108","LIMC",{"$f":"VLOOKUP(B132,Airports!$A$2:$D$1133,2,0)","v":"Mailand-Malpensa"},{"$f":"VLOOKUP(B132,Airports!$A$2:$D$1133,4,0)","v":"Italien"},"→","EDDP",{"$f":"VLOOKUP(F132,Airports!$A$2:$D$1133,2,0)","v":"Leipzig-Halle"},{"$f":"VLOOKUP(F132,Airports!$A$2:$D$1133,4,0)","v":"Deutschland"},null,"Routen",{"$f":"VLOOKUP(B132,Airports!$A$2:$J$11124,10,0)","v":"Europa"},"→",{"$f":"VLOOKUP(F132,Airports!$A$2:$J$11124,10,0)","v":"Europa"},{"$f":"COUNTIF(Eingabe!B:B,Routen!A:A)","v":0},"Kurzstrecke"]
["IW12109","EDDS",{"$f":"VLOOKUP(B133,Airports!$A$2:$D$1133,2,0)","v":"Stuttgart"},{"$f":"VLOOKUP(B133,Airports!$A$2:$D$1133,4,0)","v":"Deutschland"},"→","LDZA",{"$f":"VLOOKUP(F133,Airports!$A$2:$D$1133,2,0)","v":"Zagreb"},{"$f":"VLOOKUP(F133,Airports!$A$2:$D$1133,4,0)","v":"Kroatien"},null,"Routen",{"$f":"VLOOKUP(B133,Airports!$A$2:$J$11124,10,0)","v":"Europa"},"→",{"$f":"VLOOKUP(F133,Airports!$A$2:$J$11124,10,0)","v":"Europa"},{"$f":"COUNTIF(Eingabe!B:B,Routen!A:A)","v":1},"Kurzstrecke"]
["IW12110","EDDL",{"$f":"VLOOKUP(B134,Airports!$A$2:$D$1133,2,0)","v":"Düsseldorf (Original)"},{"$f":"VLOOKUP(B134,Airports!$A$2:$D$1133,4,0)","v":"Deutschland"},"→","LICG",{"$f":"VLOOKUP(F134,Airports!$A$2:$D$1133,2,0)","v":"Pantelleria"},{"$f":"VLOOKUP(F134,Airports!$A$2:$D$1133,4,0)","v":"Italien"},null,"Routen",{"$f":"VLOOKUP(B134,Airports!$A$2:$J$11124,10,0)","v":"Europa"},"→",{"$f":"VLOOKUP(F134,Airports!$A$2:$J$11124,10,0)","v":"Europa"},{"$f":"COUNTIF(Eingabe!B:B,Routen!A:A)","v":1},"Kurzstrecke"]
["IW12111","EDDP",{"$f":"VLOOKUP(B135,Airports!$A$2:$D$1133,2,0)","v":"Leipzig-Halle"},{"$f":"VLOOKUP(B135,Airports!$A$2:$D$1133,4,0)","v":"Deutschland"},"→","LEPA",{"$f":"VLOOKUP(F135,Airports!$A$2:$D$1133,2,0)","v":"Palma de Mallorca"},{"$f":"VLOOKUP(F135,Airports!$A$2:$D$1133,4,0)","v":"Spanien"},null,"Routen",{"$f":"VLOOKUP(B135,Airports!$A$2:$J$11124,10,0)","v":"Europa"},"→",{"$f":"VLOOKUP(F135,Airports!$A$2:$J$11124,10,0)","v":"Europa"},{"$f":"COUNTIF(Eingabe!B:B,Routen!A:A)","v":1},"Kurzstrecke"]
["IW12112","LIBP",{"$f":"VLOOKUP(B136,Airports!$A$2:$D$1133,2,0)","v":"Pescara"},{"$f":"VLOOKUP(B136,Airports!$A$2:$D$1133,4,0)","v":"Italien"},"→","EDDL",{"$f":"VLOOKUP(F136,Airports!$A$2:$D$1133,2,0)","v":"Düsseldorf (Original)"},{"$f":"VLOOKUP(F136,Airports!$A$2:$D$1133,4,0)","v":"Deutschland"},null,"Routen",{"$f":"VLOOKUP(B136,Airports!$A$2:$J$11124,10,0)","v":"Europa"},"→",{"$f":"VLOOKUP(F136,Airports!$A$2:$J$11124,10,0)","v":"Europa"},{"$f":"COUNTIF(Eingabe!B:B,Routen!A:A)","v":1},"Kurzstrecke"]
["IW12113","EDDL",{"$f":"VLOOKUP(B137,Airports!$A$2:$D$1133,2,0)","v":"Düsseldorf (Original)"},{"$f":"VLOOKUP(B137,Airports!$A$2:$D$1133,4,0)","v":"Deutschland"},"→","LIBC",{"$f":"VLOOKUP(F137,Airports!$A$2:$D$1133,2,0)","v":"Crotone  / Kalabrien"},{"$f":"VLOOKUP(F137,Airports!$A$2:$D$1133,4,0)","v":"Italien"},null,"Routen",{"$f":"VLOOKUP(B137,Airports!$A$2:$J$11124,10,0)","v":"Europa"},"→",{"$f":"VLOOKUP(F137,Airports!$A$2:$J$11124,10,0)","v":"Europa"},{"$f":"COUNTIF(Eingabe!B:B,Routen!A:A)","v":1},"Kurzstrecke"]
["IW12114","LIBC",{"$f":"VLOOKUP(B138,Airports!$A$2:$D$1133,2,0)","v":"Crotone  / Kalabrien"},{"$f":"VLOOKUP(B138,Airports!$A$2:$D$1133,4,0)","v":"Italien"},"→","EDDL",{"$f":"VLOOKUP(F138,Airports!$A$2:$D$1133,2,0)","v":"Düsseldorf (Original)"},{"$f":"VLOOKUP(F138,Airports!$A$2:$D$1133,4,0)","v":"Deutschland"},null,"Routen",{"$f":"VLOOKUP(B138,Airports!$A$2:$J$11124,10,0)","v":"Europa"},"→",{"$f":"VLOOKUP(F138,Airports!$A$2:$J$11124,10,0)","v":"Europa"},{"$f":"COUNTIF(Eingabe!B:B,Routen!A:A)","v":1},"Kurzstrecke"]
["IW12115","EDDL",{"$f":"VLOOKUP(B139,Airports!$A$2:$D$1133,2,0)","v":"Düsseldorf (Original)"},{"$f":"VLOOKUP(B139,Airports!$A$2:$D$1133,4,0)","v":"Deutschland"},"→","LIPX",{"$f":"VLOOKUP(F139,Airports!$A$2:$D$1133,2,0)","v":"Verona-Villafranca"},{"$f":"VLOOKUP(F139,Airports!$A$2:$D$1133,4,0)","v":"Italien"},null,"Routen",{"$f":"VLOOKUP(B139,Airports!$A$2:$J$11124,10,0)","v":"Europa"},"→",{"$f":"VLOOKUP(F139,Airports!$A$2:$J$11124,10,0)","v":"Europa"},{"$f":"COUNTIF(Eingabe!B:B,Routen!A:A)","v":1},{"$f":"IF(I139>=1866,\"Langstrecke\",IF(I139>=933,\"Mittelstrecke\",\"Kurzstrecke\"))","v":"Kurzstrecke"}]
["IW12116","LIPX",{"$f":"VLOOKUP(B140,Airports!$A$2:$D$1133,2,0)","v":"Verona-Villafranca"},{"$f":"VLOOKUP(B140,Airports!$A$2:$D$1133,4,0)","v":"Italien"},"→","EDDL",{"$f":"VLOOKUP(F140,Airports!$A$2:$D$1133,2,0)","v":"Düsseldorf (Original)"},{"$f":"VLOOKUP(F140,Airports!$A$2:$D$1133,4,0)","v":"Deutschland"},null,"Routen",{"$f":"VLOOKUP(B140,Airports!$A$2:$J$11124,10,0)","v":"Europa"},"→",{"$f":"VLOOKUP(F140,Airports!$A$2:$J$11124,10,0)","v":"Europa"},{"$f":"COUNTIF(Eingabe!B:B,Routen!A:A)","v":1},"Kurzstrecke"]
["IW12117","EDDL",{"$f":"VLOOKUP(B141,Airports!$A$2:$D$1133,2,0)","v":"Düsseldorf (Original)"},{"$f":"VLOOKUP(B141,Airports!$A$2:$D$1133,4,0)","v":"Deutschland"},"→","LIMF",{"$f":"VLOOKUP(F141,Airports!$A$2:$D$1133,2,0)","v":"Turin-Caselle"},{"$f":"VLOOKUP(F141,Airports!$A$2:$D$1133,4,0)","v":"Italien"},null,"Routen",{"$f":"VLOOKUP(B141,Airports!$A$2:$J$11124,10,0)","v":"Europa"},"→",{"$f":"VLOOKUP(F141,Airports!$A$2:$J$11124,10,0)","v":"Europa"},{"$f":"COUNTIF(Eingabe!B:B,Routen!A:A)","v":1},"Kurzstrecke"]
["IW12118","LIMF",{"$f":"VLOOKUP(B142,Airports!$A$2:$D$1133,2,0)","v":"Turin-Caselle"},{"$f":"VLOOKUP(B142,Airports!$A$2:$D$1133,4,0)","v":"Italien"},"→","EDDL",{"$f":"VLOOKUP(F142,Airports!$A$2:$D$1133,2,0)","v":"Düsseldorf (Original)"},{"$f":"VLOOKUP(F142,Airports!$A$2:$D$1133,4,0)","v":"Deutschland"},null,"Routen",{"$f":"VLOOKUP(B142,Airports!$A$2:$J$11124,10,0)","v":"Europa"},"→",{"$f":"VLOOKUP(F142,Airports!$A$2:$J$11124,10,0)","v":"Europa"},{"$f":"COUNTIF(Eingabe!B:B,Routen!A:A)","v":1},"Kurzstrecke"]
["IW12119","EDDL",{"$f":"VLOOKUP(B143,Airports!$A$2:$D$1133,2,0)","v":"Düsseldorf (Original)"},{"$f":"VLOOKUP(B143,Airports!$A$2:$D$1133,4,0)","v":"Deutschland"},"→","LICR",{"$f":"VLOOKUP(F143,Airports!$A$2:$D$1133,2,0)","v":"Regio Calabria"},{"$f":"VLOOKUP(F143,Airports!$A$2:$D$1133,4,0)","v":"Italien"},null,"Routen",{"$f":"VLOOKUP(B143,Airports!$A$2:$J$11124,10,0)","v":"Europa"},"→",{"$f":"VLOOKUP(F143,Airports!$A$2:$J$11124,10,0)","v":"Europa"},{"$f":"COUNTIF(Eingabe!B:B,Routen!A:A)","v":1},"Kurzstrecke"]
["IW12120","LICR",{"$f":"VLOOKUP(B144,Airports!$A$2:$D$1133,2,0)","v":"Regio Calabria"},{"$f":"VLOOKUP(B144,Airports!$A$2:$D$1133,4,0)","v":"Italien"},"→","EDDL",{"$f":"VLOOKUP(F144,Airports!$A$2:$D$1133,2,0)","v":"Düsseldorf (Original)"},{"$f":"VLOOKUP(F144,Airports!$A$2:$D$1133,4,0)","v":"Deutschland"},null,"Routen",{"$f":"VLOOKUP(B144,Airports!$A$2:$J$11124,10,0)","v":"Europa"},"→",{"$f":"VLOOKUP(F144,Airports!$A$2:$J$11124,10,0)","v":"Europa"},{"$f":"COUNTIF(Eingabe!B:B,Routen!A:A)","v":1},"Kurzstrecke"]
["IW12121","EDDL",{"$f":"VLOOKUP(B145,Airports!$A$2:$D$1133,2,0)","v":"Düsseldorf (Original)"},{"$f":"VLOOKUP(B145,Airports!$A$2:$D$1133,4,0)","v":"Deutschland"},"→","LIEO",{"$f":"VLOOKUP(F145,Airports!$A$2:$D$1133,2,0)","v":"Olbia / Costa Smeralda"},{"$f":"VLOOKUP(F145,Airports!$A$2:$D$1133,4,0)","v":"Italien"},null,"Routen",{"$f":"VLOOKUP(B145,Airports!$A$2:$J$11124,10,0)","v":"Europa"},"→",{"$f":"VLOOKUP(F145,Airports!$A$2:$J$11124,10,0)","v":"Europa"},{"$f":"COUNTIF(Eingabe!B:B,Routen!A:A)","v":1},"Kurzstrecke"]
["IW12122","LIEO",{"$f":"VLOOKUP(B146,Airports!$A$2:$D$1133,2,0)","v":"Olbia / Costa Smeralda"},{"$f":"VLOOKUP(B146,Airports!$A$2:$D$1133,4,0)","v":"Italien"},"→","EDDL",{"$f":"VLOOKUP(F146,Airports!$A$2:$D$1133,2,0)","v":"Düsseldorf (Original)"},{"$f":"VLOOKUP(F146,Airports!$A$2:$D$1133,4,0)","v":"Deutschland"},null,"Routen",{"$f":"VLOOKUP(B146,Airports!$A$2:$J$11124,10,0)","v":"Europa"},"→",{"$f":"VLOOKUP(F146,Airports!$A$2:$J$11124,10,0)","v":"Europa"},{"$f":"COUNTIF(Eingabe!B:B,Routen!A:A)","v":1},"Kurzstrecke"]
["IW12123","EDDL",{"$f":"VLOOKUP(B147,Airports!$A$2:$D$1133,2,0)","v":"Düsseldorf (Original)"},{"$f":"VLOOKUP(B147,Airports!$A$2:$D$1133,4,0)","v":"Deutschland"},"→","LIML",{"$f":"VLOOKUP(F147,Airports!$A$2:$D$1133,2,0)","v":"Mailand Linate"},{"$f":"VLOOKUP(F147,Airports!$A$2:$D$1133,4,0)","v":"Italien"},null,"Routen",{"$f":"VLOOKUP(B147,Airports!$A$2:$J$11124,10,0)","v":"Europa"},"→",{"$f":"VLOOKUP(F147,Airports!$A$2:$J$11124,10,0)","v":"Europa"},{"$f":"COUNTIF(Eingabe!B:B,Routen!A:A)","v":1},"Kurzstrecke"]
["IW12124","LIML",{"$f":"VLOOKUP(B148,Airports!$A$2:$D$1133,2,0)","v":"Mailand Linate"},{"$f":"VLOOKUP(B148,Airports!$A$2:$D$1133,4,0)","v":"Italien"},"→","EDDL",{"$f":"VLOOKUP(F148,Airports!$A$2:$D$1133,2,0)","v":"Düsseldorf (Original)"},{"$f":"VLOOKUP(F148,Airports!$A$2:$D$1133,4,0)","v":"Deutschland"},null,"Routen",{"$f":"VLOOKUP(B148,Airports!$A$2:$J$11124,10,0)","v":"Europa"},"→",{"$f":"VLOOKUP(F148,Airports!$A$2:$J$11124,10,0)","v":"Europa"},{"$f":"COUNTIF(Eingabe!B:B,Routen!A:A)","v":1},"Kurzstrecke"]
["IW12125","EDDL",{"$f":"VLOOKUP(B149,Airports!$A$2:$D$1133,2,0)","v":"Düsseldorf (Original)"},{"$f":"VLOOKUP(B149,Airports!$A$2:$D$1133,4,0)","v":"Deutschland"},"→","LIPE",{"$f":"VLOOKUP(F149,Airports!$A$2:$D$1133,2,0)","v":"Bologna"},{"$f":"VLOOKUP(F149,Airports!$A$2:$D$1133,4,0)","v":"Italien"},null,"Routen",{"$f":"VLOOKUP(B149,Airports!$A$2:$J$11124,10,0)","v":"Europa"},"→",{"$f":"VLOOKUP(F149,Airports!$A$2:$J$11124,10,0)","v":"Europa"},{"$f":"COUNTIF(Eingabe!B:B,Routen!A:A)","v":1},"Kurzstrecke"]
["IW12126","LIPE",{"$f":"VLOOKUP(B150,Airports!$A$2:$D$1133,2,0)","v":"Bologna"},{"$f":"VLOOKUP(B150,Airports!$A$2:$D$1133,4,0)","v":"Italien"},"→","EDDL",{"$f":"VLOOKUP(F150,Airports!$A$2:$D$1133,2,0)","v":"Düsseldorf (Original)"},{"$f":"VLOOKUP(F150,Airports!$A$2:$D$1133,4,0)","v":"Deutschland"},null,"Routen",{"$f":"VLOOKUP(B150,Airports!$A$2:$J$11124,10,0)","v":"Europa"},"→",{"$f":"VLOOKUP(F150,Airports!$A$2:$J$11124,10,0)","v":"Europa"},{"$f":"COUNTIF(Eingabe!B:B,Routen!A:A)","v":1},"Kurzstrecke"]
["IW12127","EDDL",{"$f":"VLOOKUP(B151,Airports!$A$2:$D$1133,2,0)","v":"Düsseldorf (Original)"},{"$f":"VLOOKUP(B151,Airports!$A$2:$D$1133,4,0)","v":"Deutschland"},"→","LIMP",{"$f":"VLOOKUP(F151,Airports!$A$2:$D$1133,2,0)","v":"Parma"},{"$f":"VLOOKUP(F151,Airports!$A$2:$D$1133,4,0)","v":"Italien"},null,"Routen",{"$f":"VLOOKUP(B151,Airports!$A$2:$J$11124,10,0)","v":"Europa"},"→",{"$f":"VLOOKUP(F151,Airports!$A$2:$J$11124,10,0)","v":"Europa"},{"$f":"COUNTIF(Eingabe!B:B,Routen!A:A)","v":1},"Kurzstrecke"]
["IW12128","LIMP",{"$f":"VLOOKUP(B152,Airports!$A$2:$D$1133,2,0)","v":"Parma"},{"$f":"VLOOKUP(B152,Airports!$A$2:$D$1133,4,0)","v":"Italien"},"→","EDDL",{"$f":"VLOOKUP(F152,Airports!$A$2:$D$1133,2,0)","v":"Düsseldorf (Original)"},{"$f":"VLOOKUP(F152,Airports!$A$2:$D$1133,4,0)","v":"Deutschland"},null,"Routen",{"$f":"VLOOKUP(B152,Airports!$A$2:$J$11124,10,0)","v":"Europa"},"→",{"$f":"VLOOKUP(F152,Airports!$A$2:$J$11124,10,0)","v":"Europa"},{"$f":"COUNTIF(Eingabe!B:B,Routen!A:A)","v":1},"Kurzstrecke"]
["IW12129","EDDL",{"$f":"VLOOKUP(B153,Airports!$A$2:$D$1133,2,0)","v":"Düsseldorf (Original)"},{"$f":"VLOOKUP(B153,Airports!$A$2:$D$1133,4,0)","v":"Deutschland"},"→","LIME",{"$f":"VLOOKUP(F153,Airports!$A$2:$D$1133,2,0)","v":"Bergamo"},{"$f":"VLOOKUP(F153,Airports!$A$2:$D$1133,4,0)","v":"Italien"},null,"Routen",{"$f":"VLOOKUP(B153,Airports!$A$2:$J$11124,10,0)","v":"Europa"},"→",{"$f":"VLOOKUP(F153,Airports!$A$2:$J$11124,10,0)","v":"Europa"},{"$f":"COUNTIF(Eingabe!B:B,Routen!A:A)","v":1},"Kurzstrecke"]
["IW12130","LIME",{"$f":"VLOOKUP(B154,Airports!$A$2:$D$1133,2,0)","v":"Bergamo"},{"$f":"VLOOKUP(B154,Airports!$A$2:$D$1133,4,0)","v":"Italien"},"→","EDDL",{"$f":"VLOOKUP(F154,Airports!$A$2:$D$1133,2,0)","v":"Düsseldorf (Original)"},{"$f":"VLOOKUP(F154,Airports!$A$2:$D$1133,4,0)","v":"Deutschland"},null,"Routen",{"$f":"VLOOKUP(B154,Airports!$A$2:$J$11124,10,0)","v":"Europa"},"→",{"$f":"VLOOKUP(F154,Airports!$A$2:$J$11124,10,0)","v":"Europa"},{"$f":"COUNTIF(Eingabe!B:B,Routen!A:A)","v":1},"Kurzstrecke"]
["IW12131","EDDL",{"$f":"VLOOKUP(B155,Airports!$A$2:$D$1133,2,0)","v":"Düsseldorf (Original)"},{"$f":"VLOOKUP(B155,Airports!$A$2:$D$1133,4,0)","v":"Deutschland"},"→","LIBR",{"$f":"VLOOKUP(F155,Airports!$A$2:$D$1133,2,0)","v":"Brindisi"},{"$f":"VLOOKUP(F155,Airports!$A$2:$D$1133,4,0)","v":"Italien"},null,"Routen",{"$f":"VLOOKUP(B155,Airports!$A$2:$J$11124,10,0)","v":"Europa"},"→",{"$f":"VLOOKUP(F155,Airports!$A$2:$J$11124,10,0)","v":"Europa"},{"$f":"COUNTIF(Eingabe!B:B,Routen!A:A)","v":1},"Kurzstrecke"]
["IW12132","LIBR",{"$f":"VLOOKUP(B156,Airports!$A$2:$D$1133,2,0)","v":"Brindisi"},{"$f":"VLOOKUP(B156,Airports!$A$2:$D$1133,4,0)","v":"Italien"},"→","EDDL",{"$f":"VLOOKUP(F156,Airports!$A$2:$D$1133,2,0)","v":"Düsseldorf (Original)"},{"$f":"VLOOKUP(F156,Airports!$A$2:$D$1133,4,0)","v":"Deutschland"},null,"Routen",{"$f":"VLOOKUP(B156,Airports!$A$2:$J$11124,10,0)","v":"Europa"},"→",{"$f":"VLOOKUP(F156,Airports!$A$2:$J$11124,10,0)","v":"Europa"},{"$f":"COUNTIF(Eingabe!B:B,Routen!A:A)","v":1},"Kurzstrecke"]
["IW12133","EDDL",{"$f":"VLOOKUP(B157,Airports!$A$2:$D$1133,2,0)","v":"Düsseldorf (Original)"},{"$f":"VLOOKUP(B157,Airports!$A$2:$D$1133,4,0)","v":"Deutschland"},"→","LIRA",{"$f":"VLOOKUP(F157,Airports!$A$2:$D$1133,2,0)","v":"Rom-Ciampino"},{"$f":"VLOOKUP(F157,Airports!$A$2:$D$1133,4,0)","v":"Italien"},null,"Routen",{"$f":"VLOOKUP(B157,Airports!$A$2:$J$11124,10,0)","v":"Europa"},"→",{"$f":"VLOOKUP(F157,Airports!$A$2:$J$11124,10,0)","v":"Europa"},{"$f":"COUNTIF(Eingabe!B:B,Routen!A:A)","v":1},"Kurzstrecke"]
["IW12134","LIRA",{"$f":"VLOOKUP(B158,Airports!$A$2:$D$1133,2,0)","v":"Rom-Ciampino"},{"$f":"VLOOKUP(B158,Airports!$A$2:$D$1133,4,0)","v":"Italien"},"→","EDDL",{"$f":"VLOOKUP(F158,Airports!$A$2:$D$1133,2,0)","v":"Düsseldorf (Original)"},{"$f":"VLOOKUP(F158,Airports!$A$2:$D$1133,4,0)","v":"Deutschland"},null,"Routen",{"$f":"VLOOKUP(B158,Airports!$A$2:$J$11124,10,0)","v":"Europa"},"→",{"$f":"VLOOKUP(F158,Airports!$A$2:$J$11124,10,0)","v":"Europa"},{"$f":"COUNTIF(Eingabe!B:B,Routen!A:A)","v":1},"Kurzstrecke"]
["IW12135","LICG",{"$f":"VLOOKUP(B159,Airports!$A$2:$D$1133,2,0)","v":"Pantelleria"},{"$f":"VLOOKUP(B159,Airports!$A$2:$D$1133,4,0)","v":"Italien"},"→","EDDL",{"$f":"VLOOKUP(F159,Airports!$A$2:$D$1133,2,0)","v":"Düsseldorf (Original)"},{"$f":"VLOOKUP(F159,Airports!$A$2:$D$1133,4,0)","v":"Deutschland"},null,"Routen",{"$f":"VLOOKUP(B159,Airports!$A$2:$J$11124,10,0)","v":"Europa"},"→",{"$f":"VLOOKUP(F159,Airports!$A$2:$J$11124,10,0)","v":"Europa"},{"$f":"COUNTIF(Eingabe!B:B,Routen!A:A)","v":1},"Kurzstrecke"]
["IW12136","EDDL",{"$f":"VLOOKUP(B160,Airports!$A$2:$D$1133,2,0)","v":"Düsseldorf (Original)"},{"$f":"VLOOKUP(B160,Airports!$A$2:$D$1133,4,0)","v":"Deutschland"},"→","LIRI",{"$f":"VLOOKUP(F160,Airports!$A$2:$D$1133,2,0)","v":"Salerno"},{"$f":"VLOOKUP(F160,Airports!$A$2:$D$1133,4,0)","v":"Italien"},null,"Routen",{"$f":"VLOOKUP(B160,Airports!$A$2:$J$11124,10,0)","v":"Europa"},"→",{"$f":"VLOOKUP(F160,Airports!$A$2:$J$11124,10,0)","v":"Europa"},{"$f":"COUNTIF(Eingabe!B:B,Routen!A:A)","v":1},"Kurzstrecke"]
["IW12137","LIRI",{"$f":"VLOOKUP(B161,Airports!$A$2:$D$1133,2,0)","v":"Salerno"},{"$f":"VLOOKUP(B161,Airports!$A$2:$D$1133,4,0)","v":"Italien"},"→","EDDL",{"$f":"VLOOKUP(F161,Airports!$A$2:$D$1133,2,0)","v":"Düsseldorf (Original)"},{"$f":"VLOOKUP(F161,Airports!$A$2:$D$1133,4,0)","v":"Deutschland"},null,"Routen",{"$f":"VLOOKUP(B161,Airports!$A$2:$J$11124,10,0)","v":"Europa"},"→",{"$f":"VLOOKUP(F161,Airports!$A$2:$J$11124,10,0)","v":"Europa"},{"$f":"COUNTIF(Eingabe!B:B,Routen!A:A)","v":1},"Kurzstrecke"]
["IW12138","EDDL",{"$f":"VLOOKUP(B162,Airports!$A$2:$D$1133,2,0)","v":"Düsseldorf (Original)"},{"$f":"VLOOKUP(B162,Airports!$A$2:$D$1133,4,0)","v":"Deutschland"},"→","LICJ",{"$f":"VLOOKUP(F162,Airports!$A$2:$D$1133,2,0)","v":"Palermo Punta Raisi"},{"$f":"VLOOKUP(F162,Airports!$A$2:$D$1133,4,0)","v":"Italien"},null,"Routen",{"$f":"VLOOKUP(B162,Airports!$A$2:$J$11124,10,0)","v":"Europa"},"→",{"$f":"VLOOKUP(F162,Airports!$A$2:$J$11124,10,0)","v":"Europa"},{"$f":"COUNTIF(Eingabe!B:B,Routen!A:A)","v":1},"Kurzstrecke"]
["IW12139","LICJ",{"$f":"VLOOKUP(B163,Airports!$A$2:$D$1133,2,0)","v":"Palermo Punta Raisi"},{"$f":"VLOOKUP(B163,Airports!$A$2:$D$1133,4,0)","v":"Italien"},"→","EDDL",{"$f":"VLOOKUP(F163,Airports!$A$2:$D$1133,2,0)","v":"Düsseldorf (Original)"},{"$f":"VLOOKUP(F163,Airports!$A$2:$D$1133,4,0)","v":"Deutschland"},null,"Routen",{"$f":"VLOOKUP(B163,Airports!$A$2:$J$11124,10,0)","v":"Europa"},"→",{"$f":"VLOOKUP(F163,Airports!$A$2:$J$11124,10,0)","v":"Europa"},{"$f":"COUNTIF(Eingabe!B:B,Routen!A:A)","v":1},"Kurzstrecke"]
["IW12140","EDDL",{"$f":"VLOOKUP(B164,Airports!$A$2:$D$1133,2,0)","v":"Düsseldorf (Original)"},{"$f":"VLOOKUP(B164,Airports!$A$2:$D$1133,4,0)","v":"Deutschland"},"→","LICT",{"$f":"VLOOKUP(F164,Airports!$A$2:$D$1133,2,0)","v":"Trapani"},{"$f":"VLOOKUP(F164,Airports!$A$2:$D$1133,4,0)","v":"Italien"},null,"Routen",{"$f":"VLOOKUP(B164,Airports!$A$2:$J$11124,10,0)","v":"Europa"},"→",{"$f":"VLOOKUP(F164,Airports!$A$2:$J$11124,10,0)","v":"Europa"},{"$f":"COUNTIF(Eingabe!B:B,Routen!A:A)","v":1},"Kurzstrecke"]
["IW12141","LICT",{"$f":"VLOOKUP(B165,Airports!$A$2:$D$1133,2,0)","v":"Trapani"},{"$f":"VLOOKUP(B165,Airports!$A$2:$D$1133,4,0)","v":"Italien"},"→","EDDL",{"$f":"VLOOKUP(F165,Airports!$A$2:$D$1133,2,0)","v":"Düsseldorf (Original)"},{"$f":"VLOOKUP(F165,Airports!$A$2:$D$1133,4,0)","v":"Deutschland"},null,"Routen",{"$f":"VLOOKUP(B165,Airports!$A$2:$J$11124,10,0)","v":"Europa"},"→",{"$f":"VLOOKUP(F165,Airports!$A$2:$J$11124,10,0)","v":"Europa"},{"$f":"COUNTIF(Eingabe!B:B,Routen!A:A)","v":1},"Kurzstrecke"]
["IW12142","EDDL",{"$f":"VLOOKUP(B166,Airports!$A$2:$D$1133,2,0)","v":"Düsseldorf (Original)"},{"$f":"VLOOKUP(B166,Airports!$A$2:$D$1133,4,0)","v":"Deutschland"},"→","LIMP",{"$f":"VLOOKUP(F166,Airports!$A$2:$D$1133,2,0)","v":"Parma"},{"$f":"VLOOKUP(F166,Airports!$A$2:$D$1133,4,0)","v":"Italien"},null,"Routen",{"$f":"VLOOKUP(B166,Airports!$A$2:$J$11124,10,0)","v":"Europa"},"→",{"$f":"VLOOKUP(F166,Airports!$A$2:$J$11124,10,0)","v":"Europa"},{"$f":"COUNTIF(Eingabe!B:B,Routen!A:A)","v":1},"Kurzstrecke"]
["IW12143","LIMP",{"$f":"VLOOKUP(B167,Airports!$A$2:$D$1133,2,0)","v":"Parma"},{"$f":"VLOOKUP(B167,Airports!$A$2:$D$1133,4,0)","v":"Italien"},"→","EDDL",{"$f":"VLOOKUP(F167,Airports!$A$2:$D$1133,2,0)","v":"Düsseldorf (Original)"},{"$f":"VLOOKUP(F167,Airports!$A$2:$D$1133,4,0)","v":"Deutschland"},null,"Routen",{"$f":"VLOOKUP(B167,Airports!$A$2:$J$11124,10,0)","v":"Europa"},"→",{"$f":"VLOOKUP(F167,Airports!$A$2:$J$11124,10,0)","v":"Europa"},{"$f":"COUNTIF(Eingabe!B:B,Routen!A:A)","v":1},"Kurzstrecke"]
["IW12144","EDDL",{"$f":"VLOOKUP(B168,Airports!$A$2:$D$1133,2,0)","v":"Düsseldorf (Original)"},{"$f":"VLOOKUP(B168,Airports!$A$2:$D$1133,4,0)","v":"Deutschland"},"→","LIPR",{"$f":"VLOOKUP(F168,Airports!$A$2:$D$1133,2,0)","v":"Rimini"},{"$f":"VLOOKUP(F168,Airports!$A$2:$D$1133,4,0)","v":"Italien"},null,"Routen",{"$f":"VLOOKUP(B168,Airports!$A$2:$J$11124,10,0)","v":"Europa"},"→",{"$f":"VLOOKUP(F168,Airports!$A$2:$J$11124,10,0)","v":"Europa"},{"$f":"COUNTIF(Eingabe!B:B,Routen!A:A)","v":1},"Kurzstrecke"]
["IW12145","LIPR",{"$f":"VLOOKUP(B169,Airports!$A$2:$D$1133,2,0)","v":"Rimini"},{"$f":"VLOOKUP(B169,Airports!$A$2:$D$1133,4,0)","v":"Italien"},"→","EDDL",{"$f":"VLOOKUP(F169,Airports!$A$2:$D$1133,2,0)","v":"Düsseldorf (Original)"},{"$f":"VLOOKUP(F169,Airports!$A$2:$D$1133,4,0)","v":"Deutschland"},null,"Routen",{"$f":"VLOOKUP(B169,Airports!$A$2:$J$11124,10,0)","v":"Europa"},"→",{"$f":"VLOOKUP(F169,Airports!$A$2:$J$11124,10,0)","v":"Europa"},{"$f":"COUNTIF(Eingabe!B:B,Routen!A:A)","v":1},"Kurzstrecke"]
["IW12146","EDDL",{"$f":"VLOOKUP(B170,Airports!$A$2:$D$1133,2,0)","v":"Düsseldorf (Original)"},{"$f":"VLOOKUP(B170,Airports!$A$2:$D$1133,4,0)","v":"Deutschland"},"→","LIRZ",{"$f":"VLOOKUP(F170,Airports!$A$2:$D$1133,2,0)","v":"Perugia"},{"$f":"VLOOKUP(F170,Airports!$A$2:$D$1133,4,0)","v":"Italien"},null,"Routen",{"$f":"VLOOKUP(B170,Airports!$A$2:$J$11124,10,0)","v":"Europa"},"→",{"$f":"VLOOKUP(F170,Airports!$A$2:$J$11124,10,0)","v":"Europa"},{"$f":"COUNTIF(Eingabe!B:B,Routen!A:A)","v":1},"Kurzstrecke"]
["IW12147","LIRZ",{"$f":"VLOOKUP(B171,Airports!$A$2:$D$1133,2,0)","v":"Perugia"},{"$f":"VLOOKUP(B171,Airports!$A$2:$D$1133,4,0)","v":"Italien"},"→","EDDL",{"$f":"VLOOKUP(F171,Airports!$A$2:$D$1133,2,0)","v":"Düsseldorf (Original)"},{"$f":"VLOOKUP(F171,Airports!$A$2:$D$1133,4,0)","v":"Deutschland"},null,"Routen",{"$f":"VLOOKUP(B171,Airports!$A$2:$J$11124,10,0)","v":"Europa"},"→",{"$f":"VLOOKUP(F171,Airports!$A$2:$J$11124,10,0)","v":"Europa"},{"$f":"COUNTIF(Eingabe!B:B,Routen!A:A)","v":1},"Kurzstrecke"]
["IW12148","EDDL",{"$f":"VLOOKUP(B172,Airports!$A$2:$D$1133,2,0)","v":"Düsseldorf (Original)"},{"$f":"VLOOKUP(B172,Airports!$A$2:$D$1133,4,0)","v":"Deutschland"},"→","LIRP",{"$f":"VLOOKUP(F172,Airports!$A$2:$D$1133,2,0)","v":"Pisa"},{"$f":"VLOOKUP(F172,Airports!$A$2:$D$1133,4,0)","v":"Italien"},null,"Routen",{"$f":"VLOOKUP(B172,Airports!$A$2:$J$11124,10,0)","v":"Europa"},"→",{"$f":"VLOOKUP(F172,Airports!$A$2:$J$11124,10,0)","v":"Europa"},{"$f":"COUNTIF(Eingabe!B:B,Routen!A:A)","v":1},"Kurzstrecke"]
["IW12149","EDDL",{"$f":"VLOOKUP(B173,Airports!$A$2:$D$1133,2,0)","v":"Düsseldorf (Original)"},{"$f":"VLOOKUP(B173,Airports!$A$2:$D$1133,4,0)","v":"Deutschland"},"→","LIPY",{"$f":"VLOOKUP(F173,Airports!$A$2:$D$1133,2,0)","v":"Falconara-Ancona"},{"$f":"VLOOKUP(F173,Airports!$A$2:$D$1133,4,0)","v":"Italien"},null,"Routen",{"$f":"VLOOKUP(B173,Airports!$A$2:$J$11124,10,0)","v":"Europa"},"→",{"$f":"VLOOKUP(F173,Airports!$A$2:$J$11124,10,0)","v":"Europa"},{"$f":"COUNTIF(Eingabe!B:B,Routen!A:A)","v":1},"Kurzstrecke"]
["IW12150","LIPY",{"$f":"VLOOKUP(B174,Airports!$A$2:$D$1133,2,0)","v":"Falconara-Ancona"},{"$f":"VLOOKUP(B174,Airports!$A$2:$D$1133,4,0)","v":"Italien"},"→","EDDL",{"$f":"VLOOKUP(F174,Airports!$A$2:$D$1133,2,0)","v":"Düsseldorf (Original)"},{"$f":"VLOOKUP(F174,Airports!$A$2:$D$1133,4,0)","v":"Deutschland"},null,"Routen",{"$f":"VLOOKUP(B174,Airports!$A$2:$J$11124,10,0)","v":"Europa"},"→",{"$f":"VLOOKUP(F174,Airports!$A$2:$J$11124,10,0)","v":"Europa"},{"$f":"COUNTIF(Eingabe!B:B,Routen!A:A)","v":1},"Kurzstrecke"]
["IW12151","EDDL",{"$f":"VLOOKUP(B175,Airports!$A$2:$D$1133,2,0)","v":"Düsseldorf (Original)"},{"$f":"VLOOKUP(B175,Airports!$A$2:$D$1133,4,0)","v":"Deutschland"},"→","LIPQ",{"$f":"VLOOKUP(F175,Airports!$A$2:$D$1133,2,0)","v":"Triest / Udine"},{"$f":"VLOOKUP(F175,Airports!$A$2:$D$1133,4,0)","v":"Italien"},null,"Routen",{"$f":"VLOOKUP(B175,Airports!$A$2:$J$11124,10,0)","v":"Europa"},"→",{"$f":"VLOOKUP(F175,Airports!$A$2:$J$11124,10,0)","v":"Europa"},{"$f":"COUNTIF(Eingabe!B:B,Routen!A:A)","v":1},"Kurzstrecke"]
["IW12152","LIPQ",{"$f":"VLOOKUP(B176,Airports!$A$2:$D$1133,2,0)","v":"Triest / Udine"},{"$f":"VLOOKUP(B176,Airports!$A$2:$D$1133,4,0)","v":"Italien"},"→","EDDL",{"$f":"VLOOKUP(F176,Airports!$A$2:$D$1133,2,0)","v":"Düsseldorf (Original)"},{"$f":"VLOOKUP(F176,Airports!$A$2:$D$1133,4,0)","v":"Deutschland"},null,"Routen",{"$f":"VLOOKUP(B176,Airports!$A$2:$J$11124,10,0)","v":"Europa"},"→",{"$f":"VLOOKUP(F176,Airports!$A$2:$J$11124,10,0)","v":"Europa"},{"$f":"COUNTIF(Eingabe!B:B,Routen!A:A)","v":1},"Kurzstrecke"]
["IW12153","EDDL",{"$f":"VLOOKUP(B177,Airports!$A$2:$D$1133,2,0)","v":"Düsseldorf (Original)"},{"$f":"VLOOKUP(B177,Airports!$A$2:$D$1133,4,0)","v":"Deutschland"},"→","LIPH",{"$f":"VLOOKUP(F177,Airports!$A$2:$D$1133,2,0)","v":"Treviso"},{"$f":"VLOOKUP(F177,Airports!$A$2:$D$1133,4,0)","v":"Italien"},null,"Routen",{"$f":"VLOOKUP(B177,Airports!$A$2:$J$11124,10,0)","v":"Europa"},"→",{"$f":"VLOOKUP(F177,Airports!$A$2:$J$11124,10,0)","v":"Europa"},{"$f":"COUNTIF(Eingabe!B:B,Routen!A:A)","v":1},"Kurzstrecke"]
["IW12154","LIPH",{"$f":"VLOOKUP(B178,Airports!$A$2:$D$1133,2,0)","v":"Treviso"},{"$f":"VLOOKUP(B178,Airports!$A$2:$D$1133,4,0)","v":"Italien"},"→","EDDL",{"$f":"VLOOKUP(F178,Airports!$A$2:$D$1133,2,0)","v":"Düsseldorf (Original)"},{"$f":"VLOOKUP(F178,Airports!$A$2:$D$1133,4,0)","v":"Deutschland"},null,"Routen",{"$f":"VLOOKUP(B178,Airports!$A$2:$J$11124,10,0)","v":"Europa"},"→",{"$f":"VLOOKUP(F178,Airports!$A$2:$J$11124,10,0)","v":"Europa"},{"$f":"COUNTIF(Eingabe!B:B,Routen!A:A)","v":1},"Kurzstrecke"]
["IW12155","EDDL",{"$f":"VLOOKUP(B179,Airports!$A$2:$D$1133,2,0)","v":"Düsseldorf (Original)"},{"$f":"VLOOKUP(B179,Airports!$A$2:$D$1133,4,0)","v":"Deutschland"},"→","LIPO",{"$f":"VLOOKUP(F179,Airports!$A$2:$D$1133,2,0)","v":"Brescia"},{"$f":"VLOOKUP(F179,Airports!$A$2:$D$1133,4,0)","v":"Italien"},null,"Routen",{"$f":"VLOOKUP(B179,Airports!$A$2:$J$11124,10,0)","v":"Europa"},"→",{"$f":"VLOOKUP(F179,Airports!$A$2:$J$11124,10,0)","v":"Europa"},{"$f":"COUNTIF(Eingabe!B:B,Routen!A:A)","v":1},"Kurzstrecke"]
["IW12156","LIPO",{"$f":"VLOOKUP(B180,Airports!$A$2:$D$1133,2,0)","v":"Brescia"},{"$f":"VLOOKUP(B180,Airports!$A$2:$D$1133,4,0)","v":"Italien"},"→","EDDL",{"$f":"VLOOKUP(F180,Airports!$A$2:$D$1133,2,0)","v":"Düsseldorf (Original)"},{"$f":"VLOOKUP(F180,Airports!$A$2:$D$1133,4,0)","v":"Deutschland"},null,"Routen",{"$f":"VLOOKUP(B180,Airports!$A$2:$J$11124,10,0)","v":"Europa"},"→",{"$f":"VLOOKUP(F180,Airports!$A$2:$J$11124,10,0)","v":"Europa"},{"$f":"COUNTIF(Eingabe!B:B,Routen!A:A)","v":1},"Kurzstrecke"]
["IW12157","EDDL",{"$f":"VLOOKUP(B181,Airports!$A$2:$D$1133,2,0)","v":"Düsseldorf (Original)"},{"$f":"VLOOKUP(B181,Airports!$A$2:$D$1133,4,0)","v":"Deutschland"},"→","LIPZ",{"$f":"VLOOKUP(F181,Airports!$A$2:$D$1133,2,0)","v":"Venedig - Marco Polo"},{"$f":"VLOOKUP(F181,Airports!$A$2:$D$1133,4,0)","v":"Italien"},null,"Routen",{"$f":"VLOOKUP(B181,Airports!$A$2:$J$11124,10,0)","v":"Europa"},"→",{"$f":"VLOOKUP(F181,Airports!$A$2:$J$11124,10,0)","v":"Europa"},{"$f":"COUNTIF(Eingabe!B:B,Routen!A:A)","v":1},"Kurzstrecke"]
["IW12158","LIPZ",{"$f":"VLOOKUP(B182,Airports!$A$2:$D$1133,2,0)","v":"Venedig - Marco Polo"},{"$f":"VLOOKUP(B182,Airports!$A$2:$D$1133,4,0)","v":"Italien"},"→","EDDL",{"$f":"VLOOKUP(F182,Airports!$A$2:$D$1133,2,0)","v":"Düsseldorf (Original)"},{"$f":"VLOOKUP(F182,Airports!$A$2:$D$1133,4,0)","v":"Deutschland"},null,"Routen",{"$f":"VLOOKUP(B182,Airports!$A$2:$J$11124,10,0)","v":"Europa"},"→",{"$f":"VLOOKUP(F182,Airports!$A$2:$J$11124,10,0)","v":"Europa"},{"$f":"COUNTIF(Eingabe!B:B,Routen!A:A)","v":1},"Kurzstrecke"]
["LH1101","EDDL",{"$f":"VLOOKUP(B183,Airports!$A$2:$D$1133,2,0)","v":"Düsseldorf (Original)"},{"$f":"VLOOKUP(B183,Airports!$A$2:$D$1133,4,0)","v":"Deutschland"},"→","LJMB",{"$f":"VLOOKUP(F183,Airports!$A$2:$D$1133,2,0)","v":"Maribor-Edvard Rusjan"},{"$f":"VLOOKUP(F183,Airports!$A$2:$D$1133,4,0)","v":"Slowenien"},500,"Routen",{"$f":"VLOOKUP(B183,Airports!$A$2:$J$11124,10,0)","v":"Europa"},"→",{"$f":"VLOOKUP(F183,Airports!$A$2:$J$11124,10,0)","v":"Europa"},{"$f":"COUNTIF(Eingabe!B:B,Routen!A:A)","v":1},"Kurzstrecke"]
["LH1102","LJMB",{"$f":"VLOOKUP(B184,Airports!$A$2:$D$1133,2,0)","v":"Maribor-Edvard Rusjan"},{"$f":"VLOOKUP(B184,Airports!$A$2:$D$1133,4,0)","v":"Slowenien"},"→","EDDL",{"$f":"VLOOKUP(F184,Airports!$A$2:$D$1133,2,0)","v":"Düsseldorf (Original)"},{"$f":"VLOOKUP(F184,Airports!$A$2:$D$1133,4,0)","v":"Deutschland"},null,"Routen",{"$f":"VLOOKUP(B184,Airports!$A$2:$J$11124,10,0)","v":"Europa"},"→",{"$f":"VLOOKUP(F184,Airports!$A$2:$J$11124,10,0)","v":"Europa"},{"$f":"COUNTIF(Eingabe!B:B,Routen!A:A)","v":1},"Kurzstrecke"]

{"sheet":"Touren","index":2,"n_rows":69,"n_cols":7,"rows_kept":69,"cut":false,"hidden":false,"merged":[]}
[]
["T52000","EDDS",{"$f":"VLOOKUP(B2,Airports!$A$2:$D$1076,2,0)","v":"Stuttgart"},{"$f":"VLOOKUP(B2,Airports!$A$2:$D$1076,4,0)","v":"Deutschland"},"LXGB",{"$f":"VLOOKUP(E2,Airports!$A$2:$D$1076,2,0)","v":"Gibraltar"},{"$f":"VLOOKUP(E2,Airports!$A$2:$D$1076,4,0)","v":"Großbritannien"}]
["T52001","LXGB",{"$f":"VLOOKUP(B3,Airports!$A$2:$D$1076,2,0)","v":"Gibraltar"},{"$f":"VLOOKUP(B4,Airports!$A$2:$D$1076,4,0)","v":"Deutschland"},"EDDF",{"$f":"VLOOKUP(E3,Airports!$A$2:$D$1076,2,0)","v":"Frankfurt Main Intl."},{"$f":"VLOOKUP(E4,Airports!$A$2:$D$1076,4,0)","v":"Portugal"}]
["T52002","EDDF",{"$f":"VLOOKUP(B4,Airports!$A$2:$D$1076,2,0)","v":"Frankfurt Main Intl."},{"$f":"VLOOKUP(B4,Airports!$A$2:$D$1076,4,0)","v":"Deutschland"},"LPMA",{"$f":"VLOOKUP(E4,Airports!$A$2:$D$1076,2,0)","v":"Funchal-Madeira"},{"$f":"VLOOKUP(E4,Airports!$A$2:$D$1076,4,0)","v":"Portugal"}]
["T52003","LPMA",{"$f":"VLOOKUP(B5,Airports!$A$2:$D$1076,2,0)","v":"Funchal-Madeira"},{"$f":"VLOOKUP(B5,Airports!$A$2:$D$1076,4,0)","v":"Portugal"},"EDDL",{"$f":"VLOOKUP(E5,Airports!$A$2:$D$1076,2,0)","v":"Düsseldorf (Original)"},{"$f":"VLOOKUP(E5,Airports!$A$2:$D$1076,4,0)","v":"Deutschland"}]
["T52004","EDDL",{"$f":"VLOOKUP(B6,Airports!$A$2:$D$1076,2,0)","v":"Düsseldorf (Original)"},{"$f":"VLOOKUP(B6,Airports!$A$2:$D$1076,4,0)","v":"Deutschland"},"LFKJ",{"$f":"VLOOKUP(E6,Airports!$A$2:$D$1076,2,0)","v":"Ajaccio Napoléon Bonaparte/Korsika"},{"$f":"VLOOKUP(E6,Airports!$A$2:$D$1076,4,0)","v":"Frankreich"}]
["T52005","LFKJ",{"$f":"VLOOKUP(B7,Airports!$A$2:$D$1076,2,0)","v":"Ajaccio Napoléon Bonaparte/Korsika"},{"$f":"VLOOKUP(B7,Airports!$A$2:$D$1076,4,0)","v":"Frankreich"},"EDDB",{"$f":"VLOOKUP(E7,Airports!$A$2:$D$1076,2,0)","v":"Berlin-Brandenburg"},{"$f":"VLOOKUP(E7,Airports!$A$2:$D$1076,4,0)","v":"Deutschland"}]
["T52006","EDDB",{"$f":"VLOOKUP(B8,Airports!$A$2:$D$1076,2,0)","v":"Berlin-Brandenburg"},{"$f":"VLOOKUP(B8,Airports!$A$2:$D$1076,4,0)","v":"Deutschland"},"LGSK",{"$f":"VLOOKUP(E8,Airports!$A$2:$D$1076,2,0)","v":"Skiathos Intl."},{"$f":"VLOOKUP(E8,Airports!$A$2:$D$1076,4,0)","v":"Griechenland"}]
["T52007","LGSK",{"$f":"VLOOKUP(B9,Airports!$A$2:$D$1076,2,0)","v":"Skiathos Intl."},{"$f":"VLOOKUP(B9,Airports!$A$2:$D$1076,4,0)","v":"Griechenland"},"EDDH",{"$f":"VLOOKUP(E9,Airports!$A$2:$D$1076,2,0)","v":"Hamburg"},{"$f":"VLOOKUP(E9,Airports!$A$2:$D$1076,4,0)","v":"Deutschland"}]
["T52008","EDDH",{"$f":"VLOOKUP(B10,Airports!$A$2:$D$1076,2,0)","v":"Hamburg"},{"$f":"VLOOKUP(B10,Airports!$A$2:$D$1076,4,0)","v":"Deutschland"},"LOWI",{"$f":"VLOOKUP(E10,Airports!$A$2:$D$1076,2,0)","v":"Innsbruck"},{"$f":"VLOOKUP(E10,Airports!$A$2:$D$1076,4,0)","v":"Österreich"}]
["T52009","LOWI",{"$f":"VLOOKUP(B11,Airports!$A$2:$D$1076,2,0)","v":"Innsbruck"},{"$f":"VLOOKUP(B11,Airports!$A$2:$D$1076,4,0)","v":"Österreich"},"EDDK",{"$f":"VLOOKUP(E11,Airports!$A$2:$D$1076,2,0)","v":"Köln"},{"$f":"VLOOKUP(E11,Airports!$A$2:$D$1076,4,0)","v":"Deutschland"}]
["T52010","EDDK",{"$f":"VLOOKUP(B12,Airports!$A$2:$D$1076,2,0)","v":"Köln"},{"$f":"VLOOKUP(B12,Airports!$A$2:$D$1076,4,0)","v":"Deutschland"},"LYTV",{"$f":"VLOOKUP(E12,Airports!$A$2:$D$1076,2,0)","v":"Tivat"},{"$f":"VLOOKUP(E12,Airports!$A$2:$D$1076,4,0)","v":"Montenegro"}]
["T52011","LYTV",{"$f":"VLOOKUP(B13,Airports!$A$2:$D$1076,2,0)","v":"Tivat"},{"$f":"VLOOKUP(B14,Airports!$A$2:$D$1076,4,0)","v":"Deutschland"},"EDDM",{"$f":"VLOOKUP(E13,Airports!$A$2:$D$1076,2,0)","v":"München"},{"$f":"VLOOKUP(E14,Airports!$A$2:$D$1076,4,0)","v":"Großbritannien"}]
["T52012","EDDM",{"$f":"VLOOKUP(B14,Airports!$A$2:$D$1076,2,0)","v":"München"},{"$f":"VLOOKUP(B14,Airports!$A$2:$D$1076,4,0)","v":"Deutschland"},"EGJJ",{"$f":"VLOOKUP(E14,Airports!$A$2:$D$1076,2,0)","v":"Jersey"},{"$f":"VLOOKUP(E14,Airports!$A$2:$D$1076,4,0)","v":"Großbritannien"}]
["T52013","EGJJ",{"$f":"VLOOKUP(B15,Airports!$A$2:$D$1076,2,0)","v":"Jersey"},{"$f":"VLOOKUP(B15,Airports!$A$2:$D$1076,4,0)","v":"Großbritannien"},"EDLP",{"$f":"VLOOKUP(E15,Airports!$A$2:$D$1076,2,0)","v":"Paderborn-Lippstadt"},{"$f":"VLOOKUP(E15,Airports!$A$2:$D$1076,4,0)","v":"Deutschland"}]
["T52014","EDLP",{"$f":"VLOOKUP(B16,Airports!$A$2:$D$1076,2,0)","v":"Paderborn-Lippstadt"},{"$f":"VLOOKUP(B16,Airports!$A$2:$D$1076,4,0)","v":"Deutschland"},"EGNS",{"$f":"VLOOKUP(E16,Airports!$A$2:$D$1076,2,0)","v":"Isle of Men"},{"$f":"VLOOKUP(E16,Airports!$A$2:$D$1076,4,0)","v":"Großbritannien"}]
["T52015","EGNS",{"$f":"VLOOKUP(B17,Airports!$A$2:$D$1076,2,0)","v":"Isle of Men"},{"$f":"VLOOKUP(B17,Airports!$A$2:$D$1076,4,0)","v":"Großbritannien"},"EDDP",{"$f":"VLOOKUP(E17,Airports!$A$2:$D$1076,2,0)","v":"Leipzig-Halle"},{"$f":"VLOOKUP(E17,Airports!$A$2:$D$1076,4,0)","v":"Deutschland"}]
["T52016","EDDP",{"$f":"VLOOKUP(B18,Airports!$A$2:$D$1076,2,0)","v":"Leipzig-Halle"},{"$f":"VLOOKUP(B18,Airports!$A$2:$D$1076,4,0)","v":"Deutschland"},"EKVG",{"$f":"VLOOKUP(E18,Airports!$A$2:$D$1076,2,0)","v":"Vagar/Farör Inseln"},{"$f":"VLOOKUP(E18,Airports!$A$2:$D$1076,4,0)","v":"Dänemark"}]
["T52017","EKVG",{"$f":"VLOOKUP(B19,Airports!$A$2:$D$1076,2,0)","v":"Vagar/Farör Inseln"},{"$f":"VLOOKUP(B19,Airports!$A$2:$D$1076,4,0)","v":"Dänemark"},"EDDN",{"$f":"VLOOKUP(E19,Airports!$A$2:$D$1076,2,0)","v":"Nürnberg"},{"$f":"VLOOKUP(E19,Airports!$A$2:$D$1076,4,0)","v":"Deutschland"}]
["T52018","EDDN",{"$f":"VLOOKUP(B20,Airports!$A$2:$D$1076,2,0)","v":"Nürnberg"},{"$f":"VLOOKUP(B30,Airports!$A$2:$D$1076,4,0)","v":"USA"},"LFKC",{"$f":"VLOOKUP(E20,Airports!$A$2:$D$1076,2,0)","v":"Calvi"},{"$f":"VLOOKUP(E30,Airports!$A$2:$D$1076,4,0)","v":"Kanada"}]
["T52019","LFKC",{"$f":"VLOOKUP(B21,Airports!$A$2:$D$1076,2,0)","v":"Calvi"},{"$f":"VLOOKUP(B31,Airports!$A$2:$D$1076,4,0)","v":"Kanada"},"EDDW",{"$f":"VLOOKUP(E21,Airports!$A$2:$D$1076,2,0)","v":"Bremen"},{"$f":"VLOOKUP(E31,Airports!$A$2:$D$1076,4,0)","v":"USA"}]
["T52020","EDDW",{"$f":"VLOOKUP(B22,Airports!$A$2:$D$1076,2,0)","v":"Bremen"},{"$f":"VLOOKUP(B32,Airports!$A$2:$D$1076,4,0)","v":"USA"},"EDDS",{"$f":"VLOOKUP(E22,Airports!$A$2:$D$1076,2,0)","v":"Stuttgart"},{"$f":"VLOOKUP(E32,Airports!$A$2:$D$1076,4,0)","v":"USA"}]
["T55300","EDDF",{"$f":"VLOOKUP(B23,Airports!$A$2:$D$1076,2,0)","v":"Frankfurt Main Intl."},{"$f":"VLOOKUP(B23,Airports!$A$2:$D$1076,4,0)","v":"Deutschland"},"LPPT",{"$f":"VLOOKUP(E23,Airports!$A$2:$D$1076,2,0)","v":"Lissabon-Humberto Delgado"},{"$f":"VLOOKUP(E23,Airports!$A$2:$D$1076,4,0)","v":"Portugal"}]
["T55301","LPPT",{"$f":"VLOOKUP(B24,Airports!$A$2:$D$1076,2,0)","v":"Lissabon-Humberto Delgado"},{"$f":"VLOOKUP(B24,Airports!$A$2:$D$1076,4,0)","v":"Portugal"},"GVAC",{"$f":"VLOOKUP(E24,Airports!$A$2:$D$1076,2,0)","v":"Espargos - Kap Verde"},{"$f":"VLOOKUP(E24,Airports!$A$2:$D$1076,4,0)","v":"Kap Verde"}]
["T55302","GVAC",{"$f":"VLOOKUP(B25,Airports!$A$2:$D$1076,2,0)","v":"Espargos - Kap Verde"},{"$f":"VLOOKUP(B25,Airports!$A$2:$D$1076,4,0)","v":"Kap Verde"},"SBFZ",{"$f":"VLOOKUP(E25,Airports!$A$2:$D$1076,2,0)","v":"Pinto Martins – Fortaleza"},{"$f":"VLOOKUP(E25,Airports!$A$2:$D$1076,4,0)","v":"Brasilien"}]
["T55303","SBFZ",{"$f":"VLOOKUP(B26,Airports!$A$2:$D$1076,2,0)","v":"Pinto Martins – Fortaleza"},{"$f":"VLOOKUP(B26,Airports!$A$2:$D$1076,4,0)","v":"Brasilien"},"SBBV",{"$f":"VLOOKUP(E26,Airports!$A$2:$D$1076,2,0)","v":"Boa Vista Intl."},{"$f":"VLOOKUP(E26,Airports!$A$2:$D$1076,4,0)","v":"Brasilien"}]
["T55304","SBBV",{"$f":"VLOOKUP(B27,Airports!$A$2:$D$1076,2,0)","v":"Boa Vista Intl."},{"$f":"VLOOKUP(B27,Airports!$A$2:$D$1076,4,0)","v":"Brasilien"},"MPTO",{"$f":"VLOOKUP(E27,Airports!$A$2:$D$1076,2,0)","v":"Tocumen / Panama"},{"$f":"VLOOKUP(E27,Airports!$A$2:$D$1076,4,0)","v":"Panama"}]
["T55305","MPTO",{"$f":"VLOOKUP(B28,Airports!$A$2:$D$1076,2,0)","v":"Tocumen / Panama"},{"$f":"VLOOKUP(B28,Airports!$A$2:$D$1076,4,0)","v":"Panama"},"MMMX",{"$f":"VLOOKUP(E28,Airports!$A$2:$D$1076,2,0)","v":"Mexiko City"},{"$f":"VLOOKUP(E28,Airports!$A$2:$D$1076,4,0)","v":"Mexiko"}]
["T55306","MMMX",{"$f":"VLOOKUP(B29,Airports!$A$2:$D$1076,2,0)","v":"Mexiko City"},{"$f":"VLOOKUP(B29,Airports!$A$2:$D$1076,4,0)","v":"Mexiko"},"KDFW",{"$f":"VLOOKUP(E29,Airports!$A$2:$D$1076,2,0)","v":"Dallas Fort Worth/Texas"},{"$f":"VLOOKUP(E29,Airports!$A$2:$D$1076,4,0)","v":"USA"}]
["T55307","KDFW",{"$f":"VLOOKUP(B30,Airports!$A$2:$D$1076,2,0)","v":"Dallas Fort Worth/Texas"},{"$f":"VLOOKUP(B30,Airports!$A$2:$D$1076,4,0)","v":"USA"},"CYVR",{"$f":"VLOOKUP(E30,Airports!$A$2:$D$1076,2,0)","v":"Vancouver"},{"$f":"VLOOKUP(E30,Airports!$A$2:$D$1076,4,0)","v":"Kanada"}]
["T55308","CYVR",{"$f":"VLOOKUP(B31,Airports!$A$2:$D$1076,2,0)","v":"Vancouver"},{"$f":"VLOOKUP(B31,Airports!$A$2:$D$1076,4,0)","v":"Kanada"},"KMCI",{"$f":"VLOOKUP(E31,Airports!$A$2:$D$1076,2,0)","v":"Kansas City, Missouri"},{"$f":"VLOOKUP(E31,Airports!$A$2:$D$1076,4,0)","v":"USA"}]
["T55309","KMCI",{"$f":"VLOOKUP(B32,Airports!$A$2:$D$1076,2,0)","v":"Kansas City, Missouri"},{"$f":"VLOOKUP(B32,Airports!$A$2:$D$1076,4,0)","v":"USA"},"KLAX",{"$f":"VLOOKUP(E32,Airports!$A$2:$D$1076,2,0)","v":"Los Angeles, Kalifornien"},{"$f":"VLOOKUP(E32,Airports!$A$2:$D$1076,4,0)","v":"USA"}]
["T55310","KLAX",{"$f":"VLOOKUP(B33,Airports!$A$2:$D$1076,2,0)","v":"Los Angeles, Kalifornien"},{"$f":"VLOOKUP(B33,Airports!$A$2:$D$1076,4,0)","v":"USA"},"MMGL",{"$f":"VLOOKUP(E33,Airports!$A$2:$D$1076,2,0)","v":"Guadalajara"},{"$f":"VLOOKUP(E33,Airports!$A$2:$D$1076,4,0)","v":"Mexiko"}]
["T55311","MMGL",{"$f":"VLOOKUP(B34,Airports!$A$2:$D$1076,2,0)","v":"Guadalajara"},{"$f":"VLOOKUP(B34,Airports!$A$2:$D$1076,4,0)","v":"Mexiko"},"KIAH",{"$f":"VLOOKUP(E34,Airports!$A$2:$D$1076,2,0)","v":"Housten-George Bush Intl. / Texas"},{"$f":"VLOOKUP(E34,Airports!$A$2:$D$1076,4,0)","v":"USA"}]
["T55312","KIAH",{"$f":"VLOOKUP(B35,Airports!$A$2:$D$1076,2,0)","v":"Housten-George Bush Intl. / Texas"},{"$f":"VLOOKUP(B35,Airports!$A$2:$D$1076,4,0)","v":"USA"},"CYYZ",{"$f":"VLOOKUP(E35,Airports!$A$2:$D$1076,2,0)","v":"Toronto-Pearson Intl."},{"$f":"VLOOKUP(E35,Airports!$A$2:$D$1076,4,0)","v":"Kanada"}]
["T55313","CYYZ",{"$f":"VLOOKUP(B36,Airports!$A$2:$D$1076,2,0)","v":"Toronto-Pearson Intl."},{"$f":"VLOOKUP(B36,Airports!$A$2:$D$1076,4,0)","v":"Kanada"},"KSEA",{"$f":"VLOOKUP(E36,Airports!$A$2:$D$1076,2,0)","v":"Seattle-Tacoma/Washington"},{"$f":"VLOOKUP(E36,Airports!$A$2:$D$1076,4,0)","v":"USA"}]
["T55314","KSEA",{"$f":"VLOOKUP(B37,Airports!$A$2:$D$1076,2,0)","v":"Seattle-Tacoma/Washington"},{"$f":"VLOOKUP(B37,Airports!$A$2:$D$1076,4,0)","v":"USA"},"KSFO",{"$f":"VLOOKUP(E37,Airports!$A$2:$D$1076,2,0)","v":"SanFrancisco/Kalifornien"},{"$f":"VLOOKUP(E37,Airports!$A$2:$D$1076,4,0)","v":"USA"}]
["T55315","KSFO",{"$f":"VLOOKUP(B38,Airports!$A$2:$D$1076,2,0)","v":"SanFrancisco/Kalifornien"},{"$f":"VLOOKUP(B38,Airports!$A$2:$D$1076,4,0)","v":"USA"},"MMMY",{"$f":"VLOOKUP(E38,Airports!$A$2:$D$1076,2,0)","v":"Monterrey"},{"$f":"VLOOKUP(E38,Airports!$A$2:$D$1076,4,0)","v":"Mexiko"}]
["T55316","MMMY",{"$f":"VLOOKUP(B39,Airports!$A$2:$D$1076,2,0)","v":"Monterrey"},{"$f":"VLOOKUP(B39,Airports!$A$2:$D$1076,4,0)","v":"Mexiko"},"KBOS",{"$f":"VLOOKUP(E39,Airports!$A$2:$D$1076,2,0)","v":"Boston / Massachusetts"},{"$f":"VLOOKUP(E39,Airports!$A$2:$D$1076,4,0)","v":"USA"}]
["T55317","KBOS",{"$f":"VLOOKUP(B40,Airports!$A$2:$D$1076,2,0)","v":"Boston / Massachusetts"},{"$f":"VLOOKUP(B40,Airports!$A$2:$D$1076,4,0)","v":"USA"},"KMIA",{"$f":"VLOOKUP(E40,Airports!$A$2:$D$1076,2,0)","v":"Miami Intl./ Florida"},{"$f":"VLOOKUP(E40,Airports!$A$2:$D$1076,4,0)","v":"USA"}]
["T55318","KMIA",{"$f":"VLOOKUP(B41,Airports!$A$2:$D$1076,2,0)","v":"Miami Intl./ Florida"},{"$f":"VLOOKUP(B41,Airports!$A$2:$D$1076,4,0)","v":"USA"},"KPHL",{"$f":"VLOOKUP(E41,Airports!$A$2:$D$1076,2,0)","v":"Philadelphia Intl. / Pennsylvania"},{"$f":"VLOOKUP(E41,Airports!$A$2:$D$1076,4,0)","v":"USA"}]
["T55319","KPHL",{"$f":"VLOOKUP(B42,Airports!$A$2:$D$1076,2,0)","v":"Philadelphia Intl. / Pennsylvania"},{"$f":"VLOOKUP(B42,Airports!$A$2:$D$1076,4,0)","v":"USA"},"KATL",{"$f":"VLOOKUP(E42,Airports!$A$2:$D$1076,2,0)","v":"Atlanta Intl./Georgia"},{"$f":"VLOOKUP(E42,Airports!$A$2:$D$1076,4,0)","v":"USA"}]
["T55320","KATL",{"$f":"VLOOKUP(B43,Airports!$A$2:$D$1076,2,0)","v":"Atlanta Intl./Georgia"},{"$f":"VLOOKUP(B43,Airports!$A$2:$D$1076,4,0)","v":"USA"},"KJFK",{"$f":"VLOOKUP(E43,Airports!$A$2:$D$1076,2,0)","v":"John F Kennedy / New York"},{"$f":"VLOOKUP(E43,Airports!$A$2:$D$1076,4,0)","v":"USA"}]
["T55321","KJFK",{"$f":"VLOOKUP(B44,Airports!$A$2:$D$1076,2,0)","v":"John F Kennedy / New York"},{"$f":"VLOOKUP(B44,Airports!$A$2:$D$1076,4,0)","v":"USA"},"MMUN",{"$f":"VLOOKUP(E44,Airports!$A$2:$D$1076,2,0)","v":"Cancun"},{"$f":"VLOOKUP(E44,Airports!$A$2:$D$1076,4,0)","v":"Mexiko"}]
["T55322","MMUN",{"$f":"VLOOKUP(B45,Airports!$A$2:$D$1076,2,0)","v":"Cancun"},{"$f":"VLOOKUP(B45,Airports!$A$2:$D$1076,4,0)","v":"Mexiko"},"SKBO",{"$f":"VLOOKUP(E45,Airports!$A$2:$D$1076,2,0)","v":"Bogota / El Dorado"},{"$f":"VLOOKUP(E45,Airports!$A$2:$D$1076,4,0)","v":"Kolumbien"}]
["T55323","SKBO",{"$f":"VLOOKUP(B46,Airports!$A$2:$D$1076,2,0)","v":"Bogota / El Dorado"},{"$f":"VLOOKUP(B46,Airports!$A$2:$D$1076,4,0)","v":"Kolumbien"},"SOCA",{"$f":"VLOOKUP(E46,Airports!$A$2:$D$1076,2,0)","v":"Cayenne – Felix Eboue Airport"},{"$f":"VLOOKUP(E46,Airports!$A$2:$D$1076,4,0)","v":"Frankreich"}]
["T55324","SOCA",{"$f":"VLOOKUP(B47,Airports!$A$2:$D$1076,2,0)","v":"Cayenne – Felix Eboue Airport"},{"$f":"VLOOKUP(B47,Airports!$A$2:$D$1076,4,0)","v":"Frankreich"},"GOOY",{"$f":"VLOOKUP(E47,Airports!$A$2:$D$1076,2,0)","v":"Dakar"},{"$f":"VLOOKUP(E47,Airports!$A$2:$D$1076,4,0)","v":"Senegal"}]
["T55325","GOOY",{"$f":"VLOOKUP(B48,Airports!$A$2:$D$1076,2,0)","v":"Dakar"},{"$f":"VLOOKUP(B48,Airports!$A$2:$D$1076,4,0)","v":"Senegal"},"GMMN",{"$f":"VLOOKUP(E48,Airports!$A$2:$D$1076,2,0)","v":"Casablanca"},{"$f":"VLOOKUP(E48,Airports!$A$2:$D$1076,4,0)","v":"Marokko"}]
["T55326","GMMN",{"$f":"VLOOKUP(B49,Airports!$A$2:$D$1076,2,0)","v":"Casablanca"},{"$f":"VLOOKUP(B49,Airports!$A$2:$D$1076,4,0)","v":"Marokko"},"LEPA",{"$f":"VLOOKUP(E49,Airports!$A$2:$D$1076,2,0)","v":"Palma de Mallorca"},{"$f":"VLOOKUP(E49,Airports!$A$2:$D$1076,4,0)","v":"Spanien"}]
["T55327","LEPA",{"$f":"VLOOKUP(B50,Airports!$A$2:$D$1076,2,0)","v":"Palma de Mallorca"},{"$f":"VLOOKUP(B50,Airports!$A$2:$D$1076,4,0)","v":"Spanien"},"EDDF",{"$f":"VLOOKUP(E50,Airports!$A$2:$D$1076,2,0)","v":"Frankfurt Main Intl."},{"$f":"VLOOKUP(E50,Airports!$A$2:$D$1076,4,0)","v":"Deutschland"}]
["T55001","EKAH",{"$f":"VLOOKUP(B51,Airports!$A$2:$D$1076,2,0)","v":"Aarhus"},{"$f":"VLOOKUP(B51,Airports!$A$2:$D$1076,4,0)","v":"Dänemark"},"ENAL",{"$f":"VLOOKUP(E51,Airports!$A$2:$D$1076,2,0)","v":"Alesund-Vigra"},{"$f":"VLOOKUP(E51,Airports!$A$2:$D$1076,4,0)","v":"Norwegen"}]
["T55002","ENAL",{"$f":"VLOOKUP(B52,Airports!$A$2:$D$1076,2,0)","v":"Alesund-Vigra"},{"$f":"VLOOKUP(B52,Airports!$A$2:$D$1076,4,0)","v":"Norwegen"},"ENTC",{"$f":"VLOOKUP(E52,Airports!$A$2:$D$1076,2,0)","v":"Tromsoe"},{"$f":"VLOOKUP(E52,Airports!$A$2:$D$1076,4,0)","v":"Norwegen"}]
["T55003","ENTC",{"$f":"VLOOKUP(B53,Airports!$A$2:$D$1076,2,0)","v":"Tromsoe"},{"$f":"VLOOKUP(B53,Airports!$A$2:$D$1076,4,0)","v":"Norwegen"},"ENSB",{"$f":"VLOOKUP(E53,Airports!$A$2:$D$1076,2,0)","v":"Spitzbergen-Longyear"},{"$f":"VLOOKUP(E53,Airports!$A$2:$D$1076,4,0)","v":"Norwegen"}]
["T55004","ENSB",{"$f":"VLOOKUP(B54,Airports!$A$2:$D$1076,2,0)","v":"Spitzbergen-Longyear"},{"$f":"VLOOKUP(B55,Airports!$A$2:$D$1076,4,0)","v":"Norwegen"},"ENAT",{"$f":"VLOOKUP(E54,Airports!$A$2:$D$1076,2,0)","v":"Alta"},{"$f":"VLOOKUP(E54,Airports!$A$2:$D$1076,4,0)","v":"Norwegen"}]
["T55005","ENAT",{"$f":"VLOOKUP(B55,Airports!$A$2:$D$1076,2,0)","v":"Alta"},{"$f":"VLOOKUP(B55,Airports!$A$2:$D$1076,4,0)","v":"Norwegen"},"ENVA",{"$f":"VLOOKUP(E55,Airports!$A$2:$D$1076,2,0)","v":"Trondheim-Vaernes"},{"$f":"VLOOKUP(E55,Airports!$A$2:$D$1076,4,0)","v":"Norwegen"}]
["T55006","ENVA",{"$f":"VLOOKUP(B56,Airports!$A$2:$D$1076,2,0)","v":"Trondheim-Vaernes"},{"$f":"VLOOKUP(B56,Airports!$A$2:$D$1076,4,0)","v":"Norwegen"},"ESSA",{"$f":"VLOOKUP(E56,Airports!$A$2:$D$1076,2,0)","v":"Stockholm-Arlanda"},{"$f":"VLOOKUP(E56,Airports!$A$2:$D$1076,4,0)","v":"Schweden"}]
["T55007","ESSA",{"$f":"VLOOKUP(B57,Airports!$A$2:$D$1076,2,0)","v":"Stockholm-Arlanda"},{"$f":"VLOOKUP(B57,Airports!$A$2:$D$1076,4,0)","v":"Schweden"},"ESMS",{"$f":"VLOOKUP(E57,Airports!$A$2:$D$1076,2,0)","v":"Malmö-Sturup"},{"$f":"VLOOKUP(E57,Airports!$A$2:$D$1076,4,0)","v":"Schweden"}]
["T55008","ESMS",{"$f":"VLOOKUP(B58,Airports!$A$2:$D$1076,2,0)","v":"Malmö-Sturup"},{"$f":"VLOOKUP(B58,Airports!$A$2:$D$1076,4,0)","v":"Schweden"},"EFHK",{"$f":"VLOOKUP(E58,Airports!$A$2:$D$1076,2,0)","v":"Helsinki-Vantaa"},{"$f":"VLOOKUP(E58,Airports!$A$2:$D$1076,4,0)","v":"Finnland"}]
["T55009","EFHK",{"$f":"VLOOKUP(B59,Airports!$A$2:$D$1076,2,0)","v":"Helsinki-Vantaa"},{"$f":"VLOOKUP(B59,Airports!$A$2:$D$1076,4,0)","v":"Finnland"},"EFIV",{"$f":"VLOOKUP(E59,Airports!$A$2:$D$1076,2,0)","v":"Ivalo"},{"$f":"VLOOKUP(E59,Airports!$A$2:$D$1076,4,0)","v":"Finnland"}]
["T55010","EFIV",{"$f":"VLOOKUP(B60,Airports!$A$2:$D$1076,2,0)","v":"Ivalo"},{"$f":"VLOOKUP(B60,Airports!$A$2:$D$1076,4,0)","v":"Finnland"},"EFVA",{"$f":"VLOOKUP(E60,Airports!$A$2:$D$1076,2,0)","v":"Vaasa"},{"$f":"VLOOKUP(E60,Airports!$A$2:$D$1076,4,0)","v":"Finnland"}]
["T55011","EFVA",{"$f":"VLOOKUP(B61,Airports!$A$2:$D$1076,2,0)","v":"Vaasa"},{"$f":"VLOOKUP(B61,Airports!$A$2:$D$1076,4,0)","v":"Finnland"},"ENBR",{"$f":"VLOOKUP(E61,Airports!$A$2:$D$1076,2,0)","v":"Bergen"},{"$f":"VLOOKUP(E61,Airports!$A$2:$D$1076,4,0)","v":"Norwegen"}]
["T55012","ENBR",{"$f":"VLOOKUP(B62,Airports!$A$2:$D$1076,2,0)","v":"Bergen"},{"$f":"VLOOKUP(B62,Airports!$A$2:$D$1076,4,0)","v":"Norwegen"},"BIKF",{"$f":"VLOOKUP(E62,Airports!$A$2:$D$1076,2,0)","v":"Keflavik"},{"$f":"VLOOKUP(E62,Airports!$A$2:$D$1076,4,0)","v":"Island"}]
["T55013","BIKF",{"$f":"VLOOKUP(B63,Airports!$A$2:$D$1076,2,0)","v":"Keflavik"},{"$f":"VLOOKUP(B63,Airports!$A$2:$D$1076,4,0)","v":"Island"},"EKVG",{"$f":"VLOOKUP(E63,Airports!$A$2:$D$1076,2,0)","v":"Vagar/Farör Inseln"},{"$f":"VLOOKUP(E63,Airports!$A$2:$D$1076,4,0)","v":"Dänemark"}]
["T55014","EKVG",{"$f":"VLOOKUP(B64,Airports!$A$2:$D$1076,2,0)","v":"Vagar/Farör Inseln"},{"$f":"VLOOKUP(B64,Airports!$A$2:$D$1076,4,0)","v":"Dänemark"},"ENGM",{"$f":"VLOOKUP(E64,Airports!$A$2:$D$1076,2,0)","v":"Oslo-Gardermoen"},{"$f":"VLOOKUP(E64,Airports!$A$2:$D$1076,4,0)","v":"Norwegen"}]
["T55015","ENGM",{"$f":"VLOOKUP(B65,Airports!$A$2:$D$1076,2,0)","v":"Oslo-Gardermoen"},{"$f":"VLOOKUP(B65,Airports!$A$2:$D$1076,4,0)","v":"Norwegen"},"EKCH",{"$f":"VLOOKUP(E65,Airports!$A$2:$D$1076,2,0)","v":"Kopenhagen-Kastrup"},{"$f":"VLOOKUP(E65,Airports!$A$2:$D$1076,4,0)","v":"Dänemark"}]
["T55016","EKCH",{"$f":"VLOOKUP(B66,Airports!$A$2:$D$1076,2,0)","v":"Kopenhagen-Kastrup"},{"$f":"VLOOKUP(B66,Airports!$A$2:$D$1076,4,0)","v":"Dänemark"},"ESSB",{"$f":"VLOOKUP(E66,Airports!$A$2:$D$1076,2,0)","v":"Bromma-Stockholm"},{"$f":"VLOOKUP(E66,Airports!$A$2:$D$1076,4,0)","v":"Schweden"}]
["T55017","ESSB",{"$f":"VLOOKUP(B67,Airports!$A$2:$D$1076,2,0)","v":"Bromma-Stockholm"},{"$f":"VLOOKUP(B67,Airports!$A$2:$D$1076,4,0)","v":"Schweden"},"ESNQ",{"$f":"VLOOKUP(E67,Airports!$A$2:$D$1076,2,0)","v":"Kiruna"},{"$f":"VLOOKUP(E67,Airports!$A$2:$D$1076,4,0)","v":"Schweden"}]
["T55018","ESNQ",{"$f":"VLOOKUP(B68,Airports!$A$2:$D$1076,2,0)","v":"Kiruna"},{"$f":"VLOOKUP(B68,Airports!$A$2:$D$1076,4,0)","v":"Schweden"},"EFTP",{"$f":"VLOOKUP(E68,Airports!$A$2:$D$1076,2,0)","v":"Tampere-Pirkkala"},{"$f":"VLOOKUP(E68,Airports!$A$2:$D$1076,4,0)","v":"Finnland"}]
["T55019","EFTP",{"$f":"VLOOKUP(B69,Airports!$A$2:$D$1076,2,0)","v":"Tampere-Pirkkala"},{"$f":"VLOOKUP(B69,Airports!$A$2:$D$1076,4,0)","v":"Finnland"},"EKAH",{"$f":"VLOOKUP(E69,Airports!$A$2:$D$1076,2,0)","v":"Aarhus"},{"$f":"VLOOKUP(E69,Airports!$A$2:$D$1076,4,0)","v":"Dänemark"}]

{"sheet":"Airports","index":3,"n_rows":983,"n_cols":19,"rows_kept":983,"cut":false,"hidden":false,"merged":[]}
["ICAO ","Stadt /Airport","ASOBO / Standard deaktivieren","Land","Starts","Landungen","Entwickler","Version","IATA","Kontinent","Ersch.-Datum","Kompatibel","Runway","Bewertung ","Gate","Gestartet","Gelandet","längste RWY","Landerate"]
["17FL","Greystone-J.Travolta / Florida","Basis","USA",{"$f":"COUNTIF(Eingabe!$F$2:$H$1276,\"17FL\")","v":0},{"$f":"COUNTIF(Eingabe!$I$2:$K$1276,\"17FL\")","v":0},"spinoza","2.4.0","***","Nord-Amerika","2024-11-27","20/24",null,null,null,{"$f":"IF(E2=0,\" \",\"✔️\")","v":" "},{"$f":"IF(F2=0,\" \",\"✔️\")","v":" "},null,{"$f":"IFERROR(AVERAGEIF(Eingabe!$I$2:$I$1276, \"17FL\", Eingabe!$O$2:$O$1276), 0)","v":0}]
["1g4","Grand-Canyon-West / Arizona","Basis","USA",{"$f":"COUNTIF(Eingabe!$F$2:$H$1276,\"1g4\")","v":0},{"$f":"COUNTIF(Eingabe!$I$2:$K$1276,\"1g4\")","v":0},"xcodr","1.2.0","GCW","Nord-Amerika","2025-09-16",24,null,null,null," "," ",null,{"$f":"IFERROR(AVERAGEIF(Eingabe!$I$2:$I$1276, \"1g4\", Eingabe!$O$2:$O$1276), 0)","v":0}]
["74S","Anacortes","Basis","USA",{"$f":"COUNTIF(Eingabe!$F$2:$H$1276,\"74S\")","v":0},{"$f":"COUNTIF(Eingabe!$I$2:$K$1276,\"74S\")","v":0},"ORBX","1.1.0","OTS","Nord-Amerika","2025-01-30",24,null,null,null," "," ",null,{"$f":"IFERROR(AVERAGEIF(Eingabe!$I$2:$I$1276, \"74S\", Eingabe!$O$2:$O$1276), 0)","v":0}]
["BGGH","Nuuk","Basis","Grönland",{"$f":"COUNTIF(Eingabe!$F$2:$H$1276,\"BGGH\")","v":0},{"$f":"COUNTIF(Eingabe!$I$2:$K$1276,\"BGGH\")","v":0},"fsimstudios","1.1.0","GOH","Nord-Amerika","2025-03-09",24,null,null,"B13"," "," ",null,{"$f":"IFERROR(AVERAGEIF(Eingabe!$I$2:$I$1276, \"BGGH\", Eingabe!$O$2:$O$1276), 0)","v":0}]
["BGSF","Kangerlussuaq","Basis","Grönland",{"$f":"COUNTIF(Eingabe!$F$2:$H$1276,\"BGSF\")","v":0},{"$f":"COUNTIF(Eingabe!$I$2:$K$1276,\"BGSF\")","v":0},"mkstudios","1.1.0","SFJ","Nord-Amerika","2024-04-05","20/24",null,null,null," "," ",null,{"$f":"IFERROR(AVERAGEIF(Eingabe!$I$2:$I$1276, \"BGSF\", Eingabe!$O$2:$O$1276), 0)","v":0}]
["BIAR","Akureyri","World Update 15","Island",{"$f":"COUNTIF(Eingabe!$F$2:$H$1276,\"BIAR\")","v":0},{"$f":"COUNTIF(Eingabe!$I$2:$K$1276,\"BIAR\")","v":0},"stsimulations","1.0.4","AEY","Europa","2023-12-13","20/24",null,null,null," "," ",null,{"$f":"IFERROR(AVERAGEIF(Eingabe!$I$2:$I$1276, \"BIAR\", Eingabe!$O$2:$O$1276), 0)","v":0}]
["BIEG","Egilsstadir","Basis","Island",{"$f":"COUNTIF(Eingabe!$F$2:$H$1276,\"BIEG\")","v":0},{"$f":"COUNTIF(Eingabe!$I$2:$K$1276,\"BIEG\")","v":0},"stsimulations","1.0.0","EGS","Europa","2023-01-17","20/24",null,null,null," "," ",null,{"$f":"IFERROR(AVERAGEIF(Eingabe!$I$2:$I$1276, \"BIEG\", Eingabe!$O$2:$O$1276), 0)","v":0}]
["BIIS","Ísafjörður","World Update 5","Island",{"$f":"COUNTIF(Eingabe!$F$2:$H$1276,\"BIIS\")","v":0},{"$f":"COUNTIF(Eingabe!$I$2:$K$1276,\"BIIS\")","v":0},"pilotexperiencesim","1.1.3","IFJ","Europa","2022-05-03","20/24",null,null,null," "," ",null,{"$f":"IFERROR(AVERAGEIF(Eingabe!$I$2:$I$1276, \"BIIS\", Eingabe!$O$2:$O$1276), 0)","v":0}]
["BIKF","Keflavik","Basis","Island",{"$f":"COUNTIF(Eingabe!$F$2:$H$1276,\"BIKF\")","v":0},{"$f":"COUNTIF(Eingabe!$I$2:$K$1276,\"BIKF\")","v":0},"mkstudios","2.0.5","KEF","Europa","2026-03-29","20/24",null,null,null," "," ",null,{"$f":"IFERROR(AVERAGEIF(Eingabe!$I$2:$I$1276, \"BIKF\", Eingabe!$O$2:$O$1276), 0)","v":0}]
["BIRK","Reykjavik","Basis","Island",{"$f":"COUNTIF(Eingabe!$F$2:$H$1276,\"BIRK\")","v":0},{"$f":"COUNTIF(Eingabe!$I$2:$K$1276,\"BIRK\")","v":0},"mkstudios","2.0.2","RKV","Europa","2024-11-06","20/24",null,null,null," "," ",null,{"$f":"IFERROR(AVERAGEIF(Eingabe!$I$2:$I$1276, \"BIRK\", Eingabe!$O$2:$O$1276), 0)","v":0}]
["BKPR","Adem Jashari/Pristina","Basis","Kosovo",{"$f":"COUNTIF(Eingabe!$F$2:$H$1276,\"BKPR\")","v":1},{"$f":"COUNTIF(Eingabe!$I$2:$K$1276,\"BKPR\")","v":1},"mmsimulations","1.0.4","PRN","Europa","2025-06-10","20/24",null,null,null,"✔️","✔️",null,{"$f":"IFERROR(AVERAGEIF(Eingabe!$I$2:$I$1276, \"BKPR\", Eingabe!$O$2:$O$1276), 0)","v":218}]
["CYCG","Castlegar","World Update 11","Kanada",{"$f":"COUNTIF(Eingabe!$F$2:$H$1276,\"CYCG\")","v":0},{"$f":"COUNTIF(Eingabe!$I$2:$K$1276,\"CYCG\")","v":0},"simaddons","1.0.1","YCG","Nord-Amerika","2026-02-28",24,null,null,null," "," ",null,{"$f":"IFERROR(AVERAGEIF(Eingabe!$I$2:$I$1276, \"CYCG\", Eingabe!$O$2:$O$1276), 0)","v":0}]
["CYDF","Deer Lake Reginal / Neufundland","World Update 11","Kanada",{"$f":"COUNTIF(Eingabe!$F$2:$H$1276,\"CYDF\")","v":0},{"$f":"COUNTIF(Eingabe!$I$2:$K$1276,\"CYDF\")","v":0},"simaddons","1.0.1","YDF","Nord-Amerika","2024-12-23",24,null,null,"B8"," "," ",null,{"$f":"IFERROR(AVERAGEIF(Eingabe!$I$2:$I$1276, \"CYDF\", Eingabe!$O$2:$O$1276), 0)","v":0}]
["CYEG","Edmonton","Basis","Kanada",{"$f":"COUNTIF(Eingabe!$F$2:$H$1276,\"CYEG\")","v":0},{"$f":"COUNTIF(Eingabe!$I$2:$K$1276,\"CYEG\")","v":0},"simaddons","1.0.1","YEG","Nord-Amerika","2026-02-28",24,null,null,null," "," ",null,{"$f":"IFERROR(AVERAGEIF(Eingabe!$I$2:$I$1276, \"CYEG\", Eingabe!$O$2:$O$1276), 0)","v":0}]
["CYFB","Iqaluit","World Update 11","Kanada",{"$f":"COUNTIF(Eingabe!$F$2:$H$1276,\"CYFB\")","v":0},{"$f":"COUNTIF(Eingabe!$I$2:$K$1276,\"CYFB\")","v":0},"simaddons","1.0.1","YFB","Nord-Amerika","2025-02-14",24,null,null,null," "," ",null,{"$f":"IFERROR(AVERAGEIF(Eingabe!$I$2:$I$1276, \"CYFB\", Eingabe!$O$2:$O$1276), 0)","v":0}]
["CYFC","Fredericton","Basis","Kanada",{"$f":"COUNTIF(Eingabe!$F$2:$H$1276,\"CYFC\")","v":0},{"$f":"COUNTIF(Eingabe!$I$2:$K$1276,\"CYFC\")","v":0},"simaddons","1.0.1","YFC","Nord-Amerika","2025-01-14",24,null,null,130," "," ",null,{"$f":"IFERROR(AVERAGEIF(Eingabe!$I$2:$I$1276, \"CYFC\", Eingabe!$O$2:$O$1276), 0)","v":0}]
["CYGK","Kingston","Basis","Kanada",{"$f":"COUNTIF(Eingabe!$F$2:$H$1276,\"CYGK\")","v":0},{"$f":"COUNTIF(Eingabe!$I$2:$K$1276,\"CYGK\")","v":0},"simaddons","1.0.1","YGK","Nord-Amerika","2025-01-14",24,null,null,null," "," ",null,{"$f":"IFERROR(AVERAGEIF(Eingabe!$I$2:$I$1276, \"CYGK\", Eingabe!$O$2:$O$1276), 0)","v":0}]
["CYHM","Hamilton","Basis","Kanada",{"$f":"COUNTIF(Eingabe!$F$2:$H$1276,\"CYHM\")","v":0},{"$f":"COUNTIF(Eingabe!$I$2:$K$1276,\"CYHM\")","v":0},"simaddons","1.0.1","YHM","Nord-Amerika","2026-02-28",24,null,null,null," "," ",null,{"$f":"IFERROR(AVERAGEIF(Eingabe!$I$2:$I$1276, \"CYHM\", Eingabe!$O$2:$O$1276), 0)","v":0}]
["CYHZ","Halifax","Basis","Kanada",{"$f":"COUNTIF(Eingabe!$F$2:$H$1276,\"CYHZ\")","v":0},{"$f":"COUNTIF(Eingabe!$I$2:$K$1276,\"CYHZ\")","v":0},"fsimstudios","2.2.0","YHZ","Nord-Amerika","2025-03-01",24,null,null,null," "," ",null,{"$f":"IFERROR(AVERAGEIF(Eingabe!$I$2:$I$1276, \"CYHZ\", Eingabe!$O$2:$O$1276), 0)","v":0}]
["CYKA","Kamloops","Basis","Kanada",{"$f":"COUNTIF(Eingabe!$F$2:$H$1276,\"CYKA\")","v":0},{"$f":"COUNTIF(Eingabe!$I$2:$K$1276,\"CYKA\")","v":0},"simaddons","1.0.1","YKA","Nord-Amerika","2025-01-14",24,null,null,null," "," ",null,{"$f":"IFERROR(AVERAGEIF(Eingabe!$I$2:$I$1276, \"CYKA\", Eingabe!$O$2:$O$1276), 0)","v":0}]
["CYKF","Region of Waterloo","Basis","Kanada",{"$f":"COUNTIF(Eingabe!$F$2:$H$1276,\"CYKF\")","v":0},{"$f":"COUNTIF(Eingabe!$I$2:$K$1276,\"CYKF\")","v":0},"regdesigns","1.3.0","YKF","Nordamerika","2022-03-06","20/24",null,null,null," "," ",null,{"$f":"IFERROR(AVERAGEIF(Eingabe!$I$2:$I$1276, \"CYKF\", Eingabe!$O$2:$O$1276), 0)","v":0}]
["CYKZ","Toronto - Buttonville","Basis","Kanada",{"$f":"COUNTIF(Eingabe!$F$2:$H$1276,\"CYKZ\")","v":0},{"$f":"COUNTIF(Eingabe!$I$2:$K$1276,\"CYKZ\")","v":0},"romandesign","1.3.0","YKZ","Nord-Amerika","2023-03-19","20/24",null,null,null," "," ",null,{"$f":"IFERROR(AVERAGEIF(Eingabe!$I$2:$I$1276, \"CYKZ\", Eingabe!$O$2:$O$1276), 0)","v":0}]
["CYLW","Kelowna Intl./ British Columbia","Basis","Kanada",{"$f":"COUNTIF(Eingabe!$F$2:$H$1276,\"CYLW\")","v":0},{"$f":"COUNTIF(Eingabe!$I$2:$K$1276,\"CYLW\")","v":0},"fsimstudios","1.2.0","YLW","Nord-Amerika","2022-02-05","20/24",null,null,null," "," ",null,{"$f":"IFERROR(AVERAGEIF(Eingabe!$I$2:$I$1276, \"CYLW\", Eingabe!$O$2:$O$1276), 0)","v":0}]
["CYMM","Fort-McMurray / Alberta","Basis","Kanada",{"$f":"COUNTIF(Eingabe!$F$2:$H$1276,\"CYMM\")","v":0},{"$f":"COUNTIF(Eingabe!$I$2:$K$1276,\"CYMM\")","v":0},"simaddons","1.0.1","YMM","Nord-Amerika","2025-01-14",24,null,null,null," "," ",null,{"$f":"IFERROR(AVERAGEIF(Eingabe!$I$2:$I$1276, \"CYMM\", Eingabe!$O$2:$O$1276), 0)","v":0}]
["CYOW","Ottawa Macdonald-Cartier","Basis","Kanada",{"$f":"COUNTIF(Eingabe!$F$2:$H$1276,\"CYOW\")","v":0},{"$f":"COUNTIF(Eingabe!$I$2:$K$1276,\"CYOW\")","v":0},"simaddons"," 1.0.1\n","YOW","Nord-Amerika","2026-02-28",24,null,null,"Gate 4"," "," ",null,{"$f":"IFERROR(AVERAGEIF(Eingabe!$I$2:$I$1276, \"CYOW\", Eingabe!$O$2:$O$1276), 0)","v":0}]
["CYQB","Quebec","Basis","Kanada",{"$f":"COUNTIF(Eingabe!$F$2:$H$1276,\"CYQB\")","v":0},{"$f":"COUNTIF(Eingabe!$I$2:$K$1276,\"CYQB\")","v":0},"tms","1.3.0","YQB","Nord-Amerika","2025-08-19","20/24",null,null,null," "," ",null,{"$f":"IFERROR(AVERAGEIF(Eingabe!$I$2:$I$1276, \"CYQB\", Eingabe!$O$2:$O$1276), 0)","v":0}]
["CYQM","Greater Moncton LeBlanc","Basis","Kanada",{"$f":"COUNTIF(Eingabe!$F$2:$H$1276,\"CYQM\")","v":0},{"$f":"COUNTIF(Eingabe!$I$2:$K$1276,\"CYQM\")","v":0},"simaddons","1.0.1","YQM","Nordamerika","2025-03-01",24,null,null,null," "," ",null,{"$f":"IFERROR(AVERAGEIF(Eingabe!$I$2:$I$1276, \"CYQM\", Eingabe!$O$2:$O$1276), 0)","v":0}]
["CYQQ","Comox","Basis","Kanada",{"$f":"COUNTIF(Eingabe!$F$2:$H$1276,\"CYQQ\")","v":0},{"$f":"COUNTIF(Eingabe!$I$2:$K$1276,\"CYQQ\")","v":0},"simaddons","1.0.1","YQQ","Nord-Amerika","2026-02-28",24,null,null,null," "," ",null,{"$f":"IFERROR(AVERAGEIF(Eingabe!$I$2:$I$1276, \"CYQQ\", Eingabe!$O$2:$O$1276), 0)","v":0}]
["CYQR","Regina Intl.","Basis","Kanada",{"$f":"COUNTIF(Eingabe!$F$2:$H$1276,\"CYQR\")","v":0},{"$f":"COUNTIF(Eingabe!$I$2:$K$1276,\"CYQR\")","v":0},"simaddons","1.0.1","YQR","Nord-Amerika","2024-12-23",24,null,null,null," "," ",null,{"$f":"IFERROR(AVERAGEIF(Eingabe!$I$2:$I$1276, \"CYQR\", Eingabe!$O$2:$O$1276), 0)","v":0}]
["CYQT","Thunderbay","Basis","Kanada",{"$f":"COUNTIF(Eingabe!$F$2:$H$1276,\"CYQT\")","v":0},{"$f":"COUNTIF(Eingabe!$I$2:$K$1276,\"CYQT\")","v":0},"simaddons","1.0.1","YQT","Nord-Amerika","2024-12-23",24,null,null,null," "," ",null,{"$f":"IFERROR(AVERAGEIF(Eingabe!$I$2:$I$1276, \"CYQT\", Eingabe!$O$2:$O$1276), 0)","v":0}]
["CYQU","Grande Prairie","Basis","Kanada",{"$f":"COUNTIF(Eingabe!$F$2:$H$1276,\"CYQU\")","v":0},{"$f":"COUNTIF(Eingabe!$I$2:$K$1276,\"CYQU\")","v":0},"simaddons","1.0.1","YQU","Nord-Amerika","2025-02-14",24,null,null,null," "," ",null,{"$f":"IFERROR(AVERAGEIF(Eingabe!$I$2:$I$1276, \"CYQU\", Eingabe!$O$2:$O$1276), 0)","v":0}]
["CYQX","Gander Intl. / Neufundland","Basis","Kanada",{"$f":"COUNTIF(Eingabe!$F$2:$H$1276,\"CYQX\")","v":0},{"$f":"COUNTIF(Eingabe!$I$2:$K$1276,\"CYQX\")","v":0},"simaddons","1.0.1","YQX","Nord-Amerika","2024-12-23",24,null,null,null," "," ","3000 m",{"$f":"IFERROR(AVERAGEIF(Eingabe!$I$2:$I$1276, \"CYQX\", Eingabe!$O$2:$O$1276), 0)","v":0}]
["CYSJ","St.John","Basis","Kanada",{"$f":"COUNTIF(Eingabe!$F$2:$H$1276,\"CYSJ\")","v":0},{"$f":"COUNTIF(Eingabe!$I$2:$K$1276,\"CYSJ\")","v":0},"simaddons","1.0.1","YSJ","Nord-Amerika","2024-12-23",24,null,null,null," "," ",null,{"$f":"IFERROR(AVERAGEIF(Eingabe!$I$2:$I$1276, \"CYSJ\", Eingabe!$O$2:$O$1276), 0)","v":0}]
["CYSN","Niagara District","Basis","Kanada",{"$f":"COUNTIF(Eingabe!$F$2:$H$1276,\"CYSN\")","v":0},{"$f":"COUNTIF(Eingabe!$I$2:$K$1276,\"CYSN\")","v":0},"CFSS","1.1.0","YCM","Nord-Amerika","2024-12-08","20/24",null,null,null," "," ",null,{"$f":"IFERROR(AVERAGEIF(Eingabe!$I$2:$I$1276, \"CYSN\", Eingabe!$O$2:$O$1276), 0)","v":0}]
["CYTZ","Toronto Billy Bishop","Basis","Kanada",{"$f":"COUNTIF(Eingabe!$F$2:$H$1276,\"CYTZ\")","v":0},{"$f":"COUNTIF(Eingabe!$I$2:$K$1276,\"CYTZ\")","v":0},"fsimstudios","1.2.1","YTZ","Nord-Amerika","2023-02-19","20/24",null,null,null," "," ",null,{"$f":"IFERROR(AVERAGEIF(Eingabe!$I$2:$I$1276, \"CYTZ\", Eingabe!$O$2:$O$1276), 0)","v":0}]
["CYUL","Montreal","Basis","Kanada",{"$f":"COUNTIF(Eingabe!$F$2:$H$1276,\"CYUL\")","v":0},{"$f":"COUNTIF(Eingabe!$I$2:$K$1276,\"CYUL\")","v":0},"mkstudios","1.3.2","YUL","Nord-Amerika","2025-12-13","20/24",null,null,null," "," ",null,{"$f":"IFERROR(AVERAGEIF(Eingabe!$I$2:$I$1276, \"CYUL\", Eingabe!$O$2:$O$1276), 0)","v":0}]
["CYVR","Vancouver","Basis","Kanada",{"$f":"COUNTIF(Eingabe!$F$2:$H$1276,\"CYVR\")","v":0},{"$f":"COUNTIF(Eingabe!$I$2:$K$1276,\"CYVR\")","v":0},"fsdreamteam","1.3.1","YVR","Nord-Amerika","2024-11-21","20/24",null,38,"Gate 72"," "," ",null,{"$f":"IFERROR(AVERAGEIF(Eingabe!$I$2:$I$1276, \"CYVR\", Eingabe!$O$2:$O$1276), 0)","v":0}]
["CYWG","Winnipeg","Basis","Kanada",{"$f":"COUNTIF(Eingabe!$F$2:$H$1276,\"CYWG\")","v":0},{"$f":"COUNTIF(Eingabe!$I$2:$K$1276,\"CYWG\")","v":0},"fsimstudios","1.3.0","YWG","Nord-Amerika","2025-11-23",24,null,null,null," "," ",null,{"$f":"IFERROR(AVERAGEIF(Eingabe!$I$2:$I$1276, \"CYWG\", Eingabe!$O$2:$O$1276), 0)","v":0}]
["CYXC","Cranbrook / Canadian Rockies","Basis","Kanada",{"$f":"COUNTIF(Eingabe!$F$2:$H$1276,\"CYXC\")","v":0},{"$f":"COUNTIF(Eingabe!$I$2:$K$1276,\"CYXC\")","v":0},"simaddons","1.0.1","YXC","Nord-Amerika","2025-01-30",24,null,null,null," "," ",null,{"$f":"IFERROR(AVERAGEIF(Eingabe!$I$2:$I$1276, \"CYXC\", Eingabe!$O$2:$O$1276), 0)","v":0}]
["CYXE","Saskatoon","Basis","Kanada",{"$f":"COUNTIF(Eingabe!$F$2:$H$1276,\"CYXE\")","v":0},{"$f":"COUNTIF(Eingabe!$I$2:$K$1276,\"CYXE\")","v":0},"simaddons","1.0.1","YXE","Nord-Amerika","2024-12-23",24,null,null,null," "," ",null,{"$f":"IFERROR(AVERAGEIF(Eingabe!$I$2:$I$1276, \"CYXE\", Eingabe!$O$2:$O$1276), 0)","v":0}]
["CYXJ","North-Peace","Basis","Kanada",{"$f":"COUNTIF(Eingabe!$F$2:$H$1276,\"CYXC\")","v":0},{"$f":"COUNTIF(Eingabe!$I$2:$K$1276,\"CYXC\")","v":0},"simaddons","1.0.1","YXJ","Nord-Amerika","2025-01-30",24,null,null,null," "," ",null,{"$f":"IFERROR(AVERAGEIF(Eingabe!$I$2:$I$1276, \"CYXJ\", Eingabe!$O$2:$O$1276), 0)","v":0}]
["CYXS","Prince George","Basis","Kanada",{"$f":"COUNTIF(Eingabe!$F$2:$H$1276,\"CYXS\")","v":0},{"$f":"COUNTIF(Eingabe!$I$2:$K$1276,\"CYXS\")","v":0},"simaddons","1.0.1","YXS","Nord-Amerika","2025-02-14",24,null,null,null," "," ",null,{"$f":"IFERROR(AVERAGEIF(Eingabe!$I$2:$I$1276, \"CYXS\", Eingabe!$O$2:$O$1276), 0)","v":0}]
["CYXT","Terrace-Kitimat","Basis","Kanada",{"$f":"COUNTIF(Eingabe!$F$2:$H$1276,\"CYXT\")","v":0},{"$f":"COUNTIF(Eingabe!$I$2:$K$1276,\"CYXT\")","v":0},"simaddons","1.0.1","YXT","Nord-Amerika","2025-02-21",24,null,null,null," "," ",null,{"$f":"IFERROR(AVERAGEIF(Eingabe!$I$2:$I$1276, \"CYXT\", Eingabe!$O$2:$O$1276), 0)","v":0}]
["CYXU","London Intl. / Ontario","Basis","Kanada",{"$f":"COUNTIF(Eingabe!$F$2:$H$1276,\"CYXU\")","v":0},{"$f":"COUNTIF(Eingabe!$I$2:$K$1276,\"CYXU\")","v":0},"fsimstudios","1.2.0","YXU","Nord-Amerika","2022-02-03","20/24",null,null,null," "," ",null,{"$f":"IFERROR(AVERAGEIF(Eingabe!$I$2:$I$1276, \"CYXU\", Eingabe!$O$2:$O$1276), 0)","v":0}]
["CYXY","Whitehorse","Basis","Kanada",{"$f":"COUNTIF(Eingabe!$F$2:$H$1276,\"CYXY\")","v":0},{"$f":"COUNTIF(Eingabe!$I$2:$K$1276,\"CYXY\")","v":0},"simaddons","1.0.1","YXY","Nord-Amerika","2026-02-28",24,null,null,null," "," ",null,{"$f":"IFERROR(AVERAGEIF(Eingabe!$I$2:$I$1276, \"CYXY\", Eingabe!$O$2:$O$1276), 0)","v":0}]
["CYYC","Calgary","Basis","Kanada",{"$f":"COUNTIF(Eingabe!$F$2:$H$1276,\"CYYC\")","v":0},{"$f":"COUNTIF(Eingabe!$I$2:$K$1276,\"CYYC\")","v":0},"fsimstudios","1.1.0","YYC","Nord-Amerika","2023-11-24","20/24",null,null,null," "," ",null,{"$f":"IFERROR(AVERAGEIF(Eingabe!$I$2:$I$1276, \"CYYC\", Eingabe!$O$2:$O$1276), 0)","v":0}]
["CYYG","Charlottetown","Basis","Kanada",{"$f":"COUNTIF(Eingabe!$F$2:$H$1276,\"CYYG\")","v":0},{"$f":"COUNTIF(Eingabe!$I$2:$K$1276,\"CYYG\")","v":0},"simaddons","1.0.2","YYG","Nord-Amerika","2026-02-28",24,null,null,null," "," ",null,{"$f":"IFERROR(AVERAGEIF(Eingabe!$I$2:$I$1276, \"CYYG\", Eingabe!$O$2:$O$1276), 0)","v":0}]
["CYYJ","Sidney / Victoria Intl.","Basis","Kanada",{"$f":"COUNTIF(Eingabe!$F$2:$H$1276,\"CYYJ\")","v":0},{"$f":"COUNTIF(Eingabe!$I$2:$K$1276,\"CYYJ\")","v":0},"romandesign","1.31","YYJ","Nord-Amerika","2023-12-23","20/24",null,null,null," "," ",null,{"$f":"IFERROR(AVERAGEIF(Eingabe!$I$2:$I$1276, \"CYYJ\", Eingabe!$O$2:$O$1276), 0)","v":0}]
["CYYR","Goose Bay Militär","Basis","Kanada",{"$f":"COUNTIF(Eingabe!$F$2:$H$1276,\"CYYR\")","v":0},{"$f":"COUNTIF(Eingabe!$I$2:$K$1276,\"CYYR\")","v":0},"propairflight","1.0.0","YYR","Nord-Amerika","2025-08-15",24,null,null,null," "," ",null,{"$f":"IFERROR(AVERAGEIF(Eingabe!$I$2:$I$1276, \"CYYR\", Eingabe!$O$2:$O$1276), 0)","v":0}]
["CYYT","St.John/Neufundland","Basis","Kanada",{"$f":"COUNTIF(Eingabe!$F$2:$H$1276,\"CYYT\")","v":0},{"$f":"COUNTIF(Eingabe!$I$2:$K$1276,\"CYYT\")","v":0},"simaddons","1.0.1\n","YYT","Nord-Amerika","2026-02-28",24,null,null,null," "," ",null,{"$f":"IFERROR(AVERAGEIF(Eingabe!$I$2:$I$1276, \"CYYT\", Eingabe!$O$2:$O$1276), 0)","v":0}]
["CYYZ","Toronto-Pearson Intl.","Basis","Kanada",{"$f":"COUNTIF(Eingabe!$F$2:$H$1276,\"CYYZ\")","v":0},{"$f":"COUNTIF(Eingabe!$I$2:$K$1276,\"CYYZ\")","v":0},"FlyTampa","1.5.0","YYZ","Nord-Amerika","2025-01-02",24,null,null,null," "," ",null,{"$f":"IFERROR(AVERAGEIF(Eingabe!$I$2:$I$1276, \"CYYZ\", Eingabe!$O$2:$O$1276), 0)","v":0}]
["CYZF","Yellowknife","Basis","Kanada",{"$f":"COUNTIF(Eingabe!$F$2:$H$1276,\"CYZF\")","v":0},{"$f":"COUNTIF(Eingabe!$I$2:$K$1276,\"CYZF\")","v":0},"projectmax","2.0.1","YZF","Nord-Amerika","2026-06-22","20/24",null,null,null," "," ",null,{"$f":"IFERROR(AVERAGEIF(Eingabe!$I$2:$I$1276, \"CYZF\", Eingabe!$O$2:$O$1276), 0)","v":0}]
["DAAG","Algier","Basis","Algerien",{"$f":"COUNTIF(Eingabe!$F$2:$H$1276,\"DAAG\")","v":0},{"$f":"COUNTIF(Eingabe!$I$2:$K$1276,\"DAAG\")","v":0},"NetDesign","2.4.0","ALG","Afrika","2026-02-12","20/24",null,null,null," "," ",null,{"$f":"IFERROR(AVERAGEIF(Eingabe!$I$2:$I$1276, \"DAAG\", Eingabe!$O$2:$O$1276), 0)","v":0}]
["DAAT","Tamanrasset / Aguenar","Basis","Algerien",{"$f":"COUNTIF(Eingabe!$F$2:$H$1276,\"DAAT\")","v":0},{"$f":"COUNTIF(Eingabe!$I$2:$K$1276,\"DAAT\")","v":0},"NetDesign","2.2.0","TMR","Afrika","2025-09-26","20/24",null,null,null," "," ",null,{"$f":"IFERROR(AVERAGEIF(Eingabe!$I$2:$I$1276, \"DAAT\", Eingabe!$O$2:$O$1276), 0)","v":0}]
["DABC","Constantine-Mohamed-Boudiaf","Basis","Algerien",{"$f":"COUNTIF(Eingabe!$F$2:$H$1276,\"DABC\")","v":0},{"$f":"COUNTIF(Eingabe!$I$2:$K$1276,\"DABC\")","v":0},"simsoft","1.0.0","CZL","Afrika","2022-06-15","20/24",null,null,null," "," ",null,{"$f":"IFERROR(AVERAGEIF(Eingabe!$I$2:$I$1276, \"DABC\", Eingabe!$O$2:$O$1276), 0)","v":0}]
["DGAA","Accra","Basis","Ghana",{"$f":"COUNTIF(Eingabe!$F$2:$H$1276,\"DGAA\")","v":0},{"$f":"COUNTIF(Eingabe!$I$2:$K$1276,\"DGAA\")","v":0},"fsdg","1.4.0","ACC","Afrika","2025-04-17","20/24",null,null,null," "," ",null,{"$f":"IFERROR(AVERAGEIF(Eingabe!$I$2:$I$1276, \"DGAA\", Eingabe!$O$2:$O$1276), 0)","v":0}]
["DNBE","Benin","Basis","Nigeria",{"$f":"COUNTIF(Eingabe!$F$2:$H$1276,\"DNBE\")","v":0},{"$f":"COUNTIF(Eingabe!$I$2:$K$1276,\"DNBE\")","v":0},"africa4fs","1.0.0","BNI","Afrika","2026-06-21","20/24",null,null,null," "," ",null,{"$f":"IFERROR(AVERAGEIF(Eingabe!$I$2:$I$1276, \"DNBE\", Eingabe!$O$2:$O$1276), 0)","v":0}]
["DNKN","Mallam Aminu Kano","Basis","Nigeria",{"$f":"COUNTIF(Eingabe!$F$2:$H$1276,\"DNKN\")","v":0},{"$f":"COUNTIF(Eingabe!$I$2:$K$1276,\"DNKN\")","v":0},"fsxcenery","2.2.0","KAN","Afrika","2026-04-10","20/24",null,null,null," "," ",null,{"$f":"IFERROR(AVERAGEIF(Eingabe!$I$2:$I$1276, \"DNKN\", Eingabe!$O$2:$O$1276), 0)","v":0}]
["DNMM","Lagos","Basis","Nigeria",{"$f":"COUNTIF(Eingabe!$F$2:$H$1276,\"DNMM\")","v":0},{"$f":"COUNTIF(Eingabe!$I$2:$K$1276,\"DNMM\")","v":0},"Standard","1.0.0","LOS","Afrika",null,24,null,null,null," "," ",null,{"$f":"IFERROR(AVERAGEIF(Eingabe!$I$2:$I$1276, \"DNMM\", Eingabe!$O$2:$O$1276), 0)","v":0}]
["DTKA","Tabarka Intl.","Basis","Tunesien",{"$f":"COUNTIF(Eingabe!$F$2:$H$1276,\"DTKA\")","v":0},{"$f":"COUNTIF(Eingabe!$I$2:$K$1276,\"DTKA\")","v":0},"Cat3DualStudios","2.2.0","TBJ","Afrika","2025-08-28",24,null,null,null," "," ",null,{"$f":"IFERROR(AVERAGEIF(Eingabe!$I$2:$I$1276, \"DTKA\", Eingabe!$O$2:$O$1276), 0)","v":0}]
["DTMB","Monastir","Basis","Tunesien",{"$f":"COUNTIF(Eingabe!$F$2:$H$1276,\"DTMB\")","v":0},{"$f":"COUNTIF(Eingabe!$I$2:$K$1276,\"DTMB\")","v":0},"fsdg","1.4.0","MIR","Afrika","2026-04-26",24,null,null,null," "," ",null,{"$f":"IFERROR(AVERAGEIF(Eingabe!$I$2:$I$1276, \"DTMB\", Eingabe!$O$2:$O$1276), 0)","v":0}]
["DTNH","Enfidha-Hammamet","Basis","Tunesien",{"$f":"COUNTIF(Eingabe!$F$2:$H$1276,\"DTNH\")","v":0},{"$f":"COUNTIF(Eingabe!$I$2:$K$1276,\"DTNH\")","v":0},"fsdg","1.1.0","NBE","Afrika","2024-01-20","20/24",null,null,null," "," ",null,{"$f":"IFERROR(AVERAGEIF(Eingabe!$I$2:$I$1276, \"DTNH\", Eingabe!$O$2:$O$1276), 0)","v":0}]
["DTTA","Tunis","Basis","Tunesien",{"$f":"COUNTIF(Eingabe!$F$2:$H$1276,\"DTTA\")","v":0},{"$f":"COUNTIF(Eingabe!$I$2:$K$1276,\"DTTA\")","v":0},"prealsoft","1.0.1","TUN","Afrika","2023-08-21","20/24",null,null,null," "," ",null,{"$f":"IFERROR(AVERAGEIF(Eingabe!$I$2:$I$1276, \"DTTA\", Eingabe!$O$2:$O$1276), 0)","v":0}]
["DTTJ","Djerba - Zarzis","Basis","Tunesien",{"$f":"COUNTIF(Eingabe!$F$2:$H$1276,\"DTTJ\")","v":0},{"$f":"COUNTIF(Eingabe!$I$2:$K$1276,\"DTTJ\")","v":0},"fsdg","1.1.2","DJE","Afrika","2026-01-22",24,null,null,null," "," ",null,{"$f":"IFERROR(AVERAGEIF(Eingabe!$I$2:$I$1276, \"DTTJ\", Eingabe!$O$2:$O$1276), 0)","v":0}]
["DTTX","Sfax–Thyna","Basis","Tunesien",{"$f":"COUNTIF(Eingabe!$F$2:$H$1276,\"DTTX\")","v":0},{"$f":"COUNTIF(Eingabe!$I$2:$K$1276,\"DTTX\")","v":0},"Cat3DualStudios","2.0.0","SFA","Afrika","2026-01-03",24,null,null,null,{"$f":"IF(E66=0,\" \",\"✔️\")","v":" "},{"$f":"IF(F66=0,\" \",\"✔️\")","v":" "},null,{"$f":"IFERROR(AVERAGEIF(Eingabe!$I$2:$I$1276, \"DTTX\", Eingabe!$O$2:$O$1276), 0)","v":0}]
["DTTZ","Tozeur-Nefta","Basis","Tunesien",{"$f":"COUNTIF(Eingabe!$F$2:$H$1276,\"DTTZ\")","v":0},{"$f":"COUNTIF(Eingabe!$I$2:$K$1276,\"DTTZ\")","v":0},"Cat3DualStudios","2.0.0","TUN","Afrika","2025-12-13",24,null,null,null," "," ",null,{"$f":"IFERROR(AVERAGEIF(Eingabe!$I$2:$I$1276, \"DTTZ\", Eingabe!$O$2:$O$1276), 0)","v":0}]
["DXXX","Lome-Tokoin","Basis","Togo",{"$f":"COUNTIF(Eingabe!$F$2:$H$1276,\"DXXX\")","v":0},{"$f":"COUNTIF(Eingabe!$I$2:$K$1276,\"DXXX\")","v":0},"fsxcenery","1.0.0","LFW","Afrika","2022-06-16","20/24",null,null,null," "," ",null,{"$f":"IFERROR(AVERAGEIF(Eingabe!$I$2:$I$1276, \"DXXX\", Eingabe!$O$2:$O$1276), 0)","v":0}]
["EBAW","Antwerpen/Deurne","Basis","Belgien",{"$f":"COUNTIF(Eingabe!$F$2:$H$1276,\"EBAW\")","v":0},{"$f":"COUNTIF(Eingabe!$I$2:$K$1276,\"EBAW\")","v":0},"Aerosoft","1.0.2","ANR","Europa","2023-04-06","20/24",null,null,null," "," ",null,{"$f":"IFERROR(AVERAGEIF(Eingabe!$I$2:$I$1276, \"EBAW\", Eingabe!$O$2:$O$1276), 0)","v":0}]
["EBBR","Brüssel","Basis","Belgien",{"$f":"COUNTIF(Eingabe!$F$2:$H$1276,\"EBBR\")","v":0},{"$f":"COUNTIF(Eingabe!$I$2:$K$1276,\"EBBR\")","v":0},"Aerosoft","1.0.5","BRU","Europa","2024-11-22","20/24",null,null,null," "," ",null,{"$f":"IFERROR(AVERAGEIF(Eingabe!$I$2:$I$1276, \"EBBR\", Eingabe!$O$2:$O$1276), 0)","v":0}]
["EBCI","Brüssel Süd Charleroi","Basis","Belgien",{"$f":"COUNTIF(Eingabe!$F$2:$H$1276,\"EBCI\")","v":0},{"$f":"COUNTIF(Eingabe!$I$2:$K$1276,\"EBCI\")","v":0},"propairflight","1.2.0","CRL","Europa","2026-06-05",24,null,null,null," "," ",null,{"$f":"IFERROR(AVERAGEIF(Eingabe!$I$2:$I$1276, \"EBCI\", Eingabe!$O$2:$O$1276), 0)","v":0}]
["EBLG","Lüttich","Basis","Belgien",{"$f":"COUNTIF(Eingabe!$F$2:$H$1276,\"EBLG\")","v":0},{"$f":"COUNTIF(Eingabe!$I$2:$K$1276,\"EBLG\")","v":0},"mmsimulations","1.4.2","LGG","Europa","2023-11-15","20/24",null,null,null," "," ",null,{"$f":"IFERROR(AVERAGEIF(Eingabe!$I$2:$I$1276, \"EBLG\", Eingabe!$O$2:$O$1276), 0)","v":0}]
["EDDB","Berlin-Brandenburg","Basis","Deutschland",{"$f":"COUNTIF(Eingabe!$F$2:$H$1276,\"EDDB\")","v":1},{"$f":"COUNTIF(Eingabe!$I$2:$K$1276,\"EDDB\")","v":1},"Aerosoft","3.3.0","BER","Europa","2025-09-16",24,null,null,null,"✔️","✔️",null,{"$f":"IFERROR(AVERAGEIF(Eingabe!$I$2:$I$1276, \"EDDB\", Eingabe!$O$2:$O$1276), 0)","v":416.3}]
["EDDC","Dresden","Basis","Deutschland",{"$f":"COUNTIF(Eingabe!$F$2:$H$1276,\"EDDC\")","v":0},{"$f":"COUNTIF(Eingabe!$I$2:$K$1276,\"EDDC\")","v":0},"atelic"," 1.0.0","DRS","Europa","2026-03-30",24,null,null,31," "," ",null,{"$f":"IFERROR(AVERAGEIF(Eingabe!$I$2:$I$1276, \"EDDC\", Eingabe!$O$2:$O$1276), 0)","v":0}]
["EDDE","Erfurt Weimar","Basis","Deutschland",{"$f":"COUNTIF(Eingabe!$F$2:$H$1276,\"EDDE\")","v":0},{"$f":"COUNTIF(Eingabe!$I$2:$K$1276,\"EDDE\")","v":0},"arima","1.0.1","ERF","Europa","2024-06-18","20/24",null,null,null," "," ",null,{"$f":"IFERROR(AVERAGEIF(Eingabe!$I$2:$I$1276, \"EDDE\", Eingabe!$O$2:$O$1276), 0)","v":0}]
["EDDF","Frankfurt Main Intl.","Basis","Deutschland",{"$f":"COUNTIF(Eingabe!$F$2:$H$1276,\"EDDF\")","v":0},{"$f":"COUNTIF(Eingabe!$I$2:$K$1276,\"EDDF\")","v":0},"Aerosoft","1.1.2","FRA","Europa","2026-04-26","20/24",null,null,"B24"," "," ",null,{"$f":"IFERROR(AVERAGEIF(Eingabe!$I$2:$I$1276, \"EDDF\", Eingabe!$O$2:$O$1276), 0)","v":0}]
["EDDG","Münster-Osnabrück","Basis","Deutschland",{"$f":"COUNTIF(Eingabe!$F$2:$H$1276,\"EDDG\")","v":1},{"$f":"COUNTIF(Eingabe!$I$2:$K$1276,\"EDDG\")","v":1},"mmsimulations","1.0.5","FMO","Europa","2024-10-11","20/24",null,null,12,"✔️","✔️",null,{"$f":"IFERROR(AVERAGEIF(Eingabe!$I$2:$I$1276, \"EDDG\", Eingabe!$O$2:$O$1276), 0)","v":251.56}]
["EDDH","Hamburg","Basis","Deutschland",{"$f":"COUNTIF(Eingabe!$F$2:$H$1276,\"EDDH\")","v":0},{"$f":"COUNTIF(Eingabe!$I$2:$K$1276,\"EDDH\")","v":0},"simwings","1.0.4","HAM","Europa","2025-11-15","20/24",null,null,"02A"," "," ",null,{"$f":"IFERROR(AVERAGEIF(Eingabe!$I$2:$I$1276, \"EDDH\", Eingabe!$O$2:$O$1276), 0)","v":0}]
["EDDK","Köln","City Update 4","Deutschland",{"$f":"COUNTIF(Eingabe!$F$2:$H$1276,\"EDDK\")","v":2},{"$f":"COUNTIF(Eingabe!$I$2:$K$1276,\"EDDK\")","v":1},"Aerosoft","1.1.1","CGN","Europa","2024-04-28","20/24",null,null,"D14","✔️","✔️",null,{"$f":"IFERROR(AVERAGEIF(Eingabe!$I$2:$I$1276, \"EDDK\", Eingabe!$O$2:$O$1276), 0)","v":448.42}]
["EDDL","Düsseldorf (Original)","Basis","Deutschland",{"$f":"COUNTIF(Eingabe!$F$2:$H$1276,\"EDDL\")","v":45},{"$f":"COUNTIF(Eingabe!$I$2:$I$934,\"EDDL\")","v":46},"mkstudios","1.1.1","DUS","Europa","2026-03-30","20/24",null,null,null,"✔️","✔️",null,{"$f":"IFERROR(AVERAGEIF(Eingabe!$I$2:$I$1276, \"EDDL\", Eingabe!$O$2:$O$1276), 0)","v":229.55173913043481}]
["EDDM","München","World Update 18","Deutschland",{"$f":"COUNTIF(Eingabe!$F$2:$H$1276,\"EDDM\")","v":4},{"$f":"COUNTIF(Eingabe!$I$2:$K$1276,\"EDDM\")","v":3},"simwings","2.4.0","MUC","Europa","2025-11-23","20/24",null,null,252,"✔️","✔️",null,{"$f":"IFERROR(AVERAGEIF(Eingabe!$I$2:$I$1276, \"EDDM\", Eingabe!$O$2:$O$1276), 0)","v":387.55666666666667}]
["EDDN","Nürnberg","Basis","Deutschland",{"$f":"COUNTIF(Eingabe!$F$2:$H$1276,\"EDDN\")","v":0},{"$f":"COUNTIF(Eingabe!$I$2:$K$1276,\"EDDN\")","v":0},"Aerosoft","1.1.0","NUE","Europa","2025-02-07","20/24",null,null,12," "," ",null,{"$f":"IFERROR(AVERAGEIF(Eingabe!$I$2:$I$1276, \"EDDN\", Eingabe!$O$2:$O$1276), 0)","v":0}]
["EDDP","Leipzig-Halle","Basis","Deutschland",{"$f":"COUNTIF(Eingabe!$F$2:$H$1276,\"EDDP\")","v":1},{"$f":"COUNTIF(Eingabe!$I$2:$K$1276,\"EDDP\")","v":0},"DigitalDesign"," 1.3.7","LEJ","Europa","2025-10-14","20/24",null,null,130,"✔️"," ",null,{"$f":"IFERROR(AVERAGEIF(Eingabe!$I$2:$I$1276, \"EDDP\", Eingabe!$O$2:$O$1276), 0)","v":0}]
["EDDR","Saarbrücken","Basis","Deutschland",{"$f":"COUNTIF(Eingabe!$F$2:$H$1276,\"EDDR\")","v":0},{"$f":"COUNTIF(Eingabe!$I$2:$K$1276,\"EDDR\")","v":0},"FREDS AIRPORTS"," 1.5.0","SCN","Europa","2025-09-26","20/24",null,null,"S5"," "," ",null,{"$f":"IFERROR(AVERAGEIF(Eingabe!$I$2:$I$1276, \"EDDR\", Eingabe!$O$2:$O$1276), 0)","v":0}]
["EDDS","Stuttgart","World Update 6","Deutschland",{"$f":"COUNTIF(Eingabe!$F$2:$H$1276,\"EDDS\")","v":1},{"$f":"COUNTIF(Eingabe!$I$2:$K$1276,\"EDDS\")","v":1},"Aerosoft"," 1.0.1","STR","Europa","2026-05-06",24,null,null,15,"✔️","✔️",null,{"$f":"IFERROR(AVERAGEIF(Eingabe!$I$2:$I$1276, \"EDDS\", Eingabe!$O$2:$O$1276), 0)","v":264.22000000000003}]
["EDDV","Hannover","Basis","Deutschland",{"$f":"COUNTIF(Eingabe!$F$2:$H$1276,\"EDDV\")","v":1},{"$f":"COUNTIF(Eingabe!$I$2:$K$1276,\"EDDV\")","v":1},"sofly"," 1.2.1","HAJ","Europa","2026-02-02",24,null,null,null,"✔️","✔️",null,{"$f":"IFERROR(AVERAGEIF(Eingabe!$I$2:$I$1276, \"EDDV\", Eingabe!$O$2:$O$1276), 0)","v":303.69}]
["EDDW","Bremen","Basis","Deutschland",{"$f":"COUNTIF(Eingabe!$F$2:$H$1276,\"EDDW\")","v":0},{"$f":"COUNTIF(Eingabe!$I$2:$K$1276,\"EDDW\")","v":0},"fsdg"," 1.4.0","BRE","Europa","2026-02-12",24,null,null,7," "," ",null,{"$f":"IFERROR(AVERAGEIF(Eingabe!$I$2:$I$1276, \"EDDW\", Eingabe!$O$2:$O$1276), 0)","v":0}]
["EDFH","Frankfurt-Hahn","Basis","Deutschland",{"$f":"COUNTIF(Eingabe!$F$2:$H$1276,\"EDFH\")","v":0},{"$f":"COUNTIF(Eingabe!$I$2:$K$1276,\"EDFH\")","v":0},"mmsimulations","1.0.2","HHN","Europa","2025-10-28","20/24",null,null,324," "," ",null,{"$f":"IFERROR(AVERAGEIF(Eingabe!$I$2:$I$1276, \"EDFH\", Eingabe!$O$2:$O$1276), 0)","v":0}]
["EDHI","Hamburg-Finkenwerder","Basis","Deutschland",{"$f":"COUNTIF(Eingabe!$F$2:$H$1276,\"EDHI\")","v":1},{"$f":"COUNTIF(Eingabe!$I$2:$K$1276,\"EDHI\")","v":1},"Freeware","0.1.0","XFW","Europa","2022-12-28","20/24",null,null,null,"✔️","✔️",null,{"$f":"IFERROR(AVERAGEIF(Eingabe!$I$2:$I$1276, \"EDHI\", Eingabe!$O$2:$O$1276), 0)","v":185.58}]
["EDHL","Lübeck Blankensee","World Update 6","Deutschland",{"$f":"COUNTIF(Eingabe!$F$2:$H$1276,\"EDHL\")","v":1},{"$f":"COUNTIF(Eingabe!$I$2:$K$1276,\"EDHL\")","v":1},"Asobo",null,"LBC","Europa","2021-09-07",24,null,null,null,"✔️","✔️",null,{"$f":"IFERROR(AVERAGEIF(Eingabe!$I$2:$I$1276, \"EDHL\", Eingabe!$O$2:$O$1276), 0)","v":287}]
["EDJA","Memmingen-Allgäu Airport","Basis","Deutschland",{"$f":"COUNTIF(Eingabe!$F$2:$H$1276,\"EDJA\")","v":0},{"$f":"COUNTIF(Eingabe!$I$2:$K$1276,\"EDJA\")","v":0},"FREDS AIRPORTS","1.5.0","FMM","Europa","2023-04-03","20/24",null,null,9," "," ",null,{"$f":"IFERROR(AVERAGEIF(Eingabe!$I$2:$I$1276, \"EDJA\", Eingabe!$O$2:$O$1276), 0)","v":0}]
["EDLP","Paderborn-Lippstadt","Basis","Deutschland",{"$f":"COUNTIF(Eingabe!$F$2:$H$1276,\"EDLP\")","v":1},{"$f":"COUNTIF(Eingabe!$I$2:$K$1276,\"EDLP\")","v":1},"Aerosoft","1.0.9","PAD","Europa","2022-12-01","20/24",null,null,null,"✔️","✔️",null,{"$f":"IFERROR(AVERAGEIF(Eingabe!$I$2:$I$1276, \"EDLP\", Eingabe!$O$2:$O$1276), 0)","v":274.8}]
["EDLV","Niederrhein-Weeze","Basis","Deutschland",{"$f":"COUNTIF(Eingabe!$F$2:$H$1276,\"EDLV\")","v":0},{"$f":"COUNTIF(Eingabe!$I$2:$K$1276,\"EDLV\")","v":0},"simpixel","1.0.2","NRN","Europa","2025-04-26","20/24",null,null,"RAMP5"," "," ",null,{"$f":"IFERROR(AVERAGEIF(Eingabe!$I$2:$I$1276, \"EDLV\", Eingabe!$O$2:$O$1276), 0)","v":0}]
["EDLW","Dortmund","Basis","Deutschland",{"$f":"COUNTIF(Eingabe!$F$2:$H$1276,\"EDLW\")","v":0},{"$f":"COUNTIF(Eingabe!$I$2:$K$1276,\"EDLW\")","v":0},"Aerosoft","1.0.0","DTM","Europa","2025-10-07",24,null,null,8," "," ",null,{"$f":"IFERROR(AVERAGEIF(Eingabe!$I$2:$I$1276, \"EDLW\", Eingabe!$O$2:$O$1276), 0)","v":0}]
["EDMA","Augsburg","Basis","Deutschland",{"$f":"COUNTIF(Eingabe!$F$2:$H$1276,\"EDMA\")","v":1},{"$f":"COUNTIF(Eingabe!$I$2:$K$1276,\"EDMA\")","v":1},"Aerosoft","1.0.0.0","AGB","Europa","2021-03-16","20/24",null,null,null,"✔️","✔️",null,{"$f":"IFERROR(AVERAGEIF(Eingabe!$I$2:$I$1276, \"EDMA\", Eingabe!$O$2:$O$1276), 0)","v":318}]
["EDNY","Friedrichshafen Bodenseeairport","City Update 6","Deutschland",{"$f":"COUNTIF(Eingabe!$F$2:$H$1276,\"EDNY\")","v":0},{"$f":"COUNTIF(Eingabe!$I$2:$K$1276,\"EDNY\")","v":0},"PHI","1.0.7.0","FDH","Europa","2021-09-22","20/24",null,null,205," "," ",null,{"$f":"IFERROR(AVERAGEIF(Eingabe!$I$2:$I$1276, \"EDNY\", Eingabe!$O$2:$O$1276), 0)","v":0}]
["EDQM","Hof-Plauen","Basis","Deutschland",{"$f":"COUNTIF(Eingabe!$F$2:$H$1276,\"EDQM\")","v":0},{"$f":"COUNTIF(Eingabe!$I$2:$K$1276,\"EDQM\")","v":0},"FREDS AIRPORTS","1.2.0","HOQ","Europa","2024-12-15","20/24",null,null,null," "," ",null,{"$f":"IFERROR(AVERAGEIF(Eingabe!$I$2:$I$1276, \"EDQM\", Eingabe!$O$2:$O$1276), 0)","v":0}]
["EDSB","Karlsruhe / Baden-Baden","Basis","Deutschland",{"$f":"COUNTIF(Eingabe!$F$2:$H$1276,\"EDSB\")","v":0},{"$f":"COUNTIF(Eingabe!$I$2:$K$1276,\"EDSB\")","v":0},"Aerosoft","1.0.0.0","FKB","Europa","2022-11-12","20/24",null,null,26," "," ",null,{"$f":"IFERROR(AVERAGEIF(Eingabe!$I$2:$I$1276, \"EDSB\", Eingabe!$O$2:$O$1276), 0)","v":0}]
["EDTL","Lahr","Basis","Deutschland",{"$f":"COUNTIF(Eingabe!$F$2:$H$1276,\"EDTL\")","v":0},{"$f":"COUNTIF(Eingabe!$I$2:$K$1276,\"EDTL\")","v":0},"Standard",null,"LHA","Europa",null,24,null,null,null," "," ",null,{"$f":"IFERROR(AVERAGEIF(Eingabe!$I$2:$I$1276, \"EDTL\", Eingabe!$O$2:$O$1276), 0)","v":0}]
["EDVK","Kassel-Calden","Basis","Deutschland",{"$f":"COUNTIF(Eingabe!$F$2:$H$1276,\"EDVK\")","v":0},{"$f":"COUNTIF(Eingabe!$I$2:$K$1276,\"EDVK\")","v":0},"ASOBO",null,"KSF","Europa",null,24,null,null,"A2"," "," ",null,{"$f":"IFERROR(AVERAGEIF(Eingabe!$I$2:$I$1276, \"EDVK\", Eingabe!$O$2:$O$1276), 0)","v":0}]
["EDWE","Emden","Basis","Deutschland",{"$f":"COUNTIF(Eingabe!$F$2:$H$1276,\"EDWE\")","v":0},{"$f":"COUNTIF(Eingabe!$I$2:$K$1276,\"EDWE\")","v":0},"aviatonsimdesign","1.2.0","EME","Europa","2022-07-01","20/24",null,null,null," "," ",null,{"$f":"IFERROR(AVERAGEIF(Eingabe!$I$2:$I$1276, \"EDWE\", Eingabe!$O$2:$O$1276), 0)","v":0}]
["EDXW","Sylt-Westerland","Basis","Deutschland",{"$f":"COUNTIF(Eingabe!$F$2:$H$1276,\"EDXW\")","v":0},{"$f":"COUNTIF(Eingabe!$I$2:$K$1276,\"EDXW\")","v":0},"fsdg"," 1.6.0","GWT","Europa","2026-07-12",24,null,null,1," "," ",null,{"$f":"IFERROR(AVERAGEIF(Eingabe!$I$2:$I$1276, \"EDXW\", Eingabe!$O$2:$O$1276), 0)","v":0}]
["EETN","Tallinn","Basis","Estland",{"$f":"COUNTIF(Eingabe!$F$2:$H$1276,\"EETN\")","v":1},{"$f":"COUNTIF(Eingabe!$I$2:$K$1276,\"EETN\")","v":1},"drzewieckidesign","1.2.0","TLL","Europa","2023-07-10","20/24",null,null,"M6","✔️","✔️",null,{"$f":"IFERROR(AVERAGEIF(Eingabe!$I$2:$I$1276, \"EETN\", Eingabe!$O$2:$O$1276), 0)","v":307}]
["EFHK","Helsinki-Vantaa","Basis","Finnland",{"$f":"COUNTIF(Eingabe!$F$2:$H$1276,\"EFHK\")","v":0},{"$f":"COUNTIF(Eingabe!$I$2:$K$1276,\"EFHK\")","v":0},"mkstudios","2.0.2","HEL","Europa","2026-03-29","20/24",null,null,null," "," ",null,{"$f":"IFERROR(AVERAGEIF(Eingabe!$I$2:$I$1276, \"EFHK\", Eingabe!$O$2:$O$1276), 0)","v":0}]
["EFIV","Ivalo","World Update 15","Finnland",{"$f":"COUNTIF(Eingabe!$F$2:$H$1276,\"EFIV\")","v":0},{"$f":"COUNTIF(Eingabe!$I$2:$K$1276,\"EFIV\")","v":0},"mmsimulations"," 1.3.0","IVL","Europa","2023-09-29","20/24",null,null,null," "," ",null,{"$f":"IFERROR(AVERAGEIF(Eingabe!$I$2:$I$1276, \"EFIV\", Eingabe!$O$2:$O$1276), 0)","v":0}]
["EFKI","Kajaani","Basis","Finnland",{"$f":"COUNTIF(Eingabe!$F$2:$H$1276,\"EFKI\")","v":0},{"$f":"COUNTIF(Eingabe!$I$2:$K$1276,\"EFKI\")","v":0},"attben","1.0.5","KAJ","Europa","2023-12-10","20/24",null,null,null," "," ",null,{"$f":"IFERROR(AVERAGEIF(Eingabe!$I$2:$I$1276, \"EFKI\", Eingabe!$O$2:$O$1276), 0)","v":0}]
["EFKK","Kokkola-Pietarsaari","Basis","Finnland",{"$f":"COUNTIF(Eingabe!$F$2:$H$1276,\"EFOU\")","v":0},{"$f":"COUNTIF(Eingabe!$I$2:$K$1276,\"EFOU\")","v":0},"Freeware",null,"KOK","Europa","2023-01-26","20/24",null,null,null," "," ",null,{"$f":"IFERROR(AVERAGEIF(Eingabe!$I$2:$I$1276, \"EFKK\", Eingabe!$O$2:$O$1276), 0)","v":0}]
["EFKS","Kuusamo","Basis","Finnland",{"$f":"COUNTIF(Eingabe!$F$2:$H$1276,\"EFKS\")","v":0},{"$f":"COUNTIF(Eingabe!$I$2:$K$1276,\"EFKS\")","v":0},"flyxsim","1.0.2","KAO","Europa","2024-10-03","20/24",null,null,null," "," ",null,{"$f":"IFERROR(AVERAGEIF(Eingabe!$I$2:$I$1276, \"EFKS\", Eingabe!$O$2:$O$1276), 0)","v":0}]
["EFKT","Kittilä","Basis","Finnland",{"$f":"COUNTIF(Eingabe!$F$2:$H$1276,\"EFKT\")","v":0},{"$f":"COUNTIF(Eingabe!$I$2:$K$1276,\"EFKT\")","v":0},"inibuilds","1.0.0","KAO","Europa","2026-02-28",24,null,null,null," "," ",null,{"$f":"IFERROR(AVERAGEIF(Eingabe!$I$2:$I$1276, \"EFKT\", Eingabe!$O$2:$O$1276), 0)","v":0}]
["EFOU","Oulu","Basis","Finnland",{"$f":"COUNTIF(Eingabe!$F$2:$H$1276,\"EFOU\")","v":0},{"$f":"COUNTIF(Eingabe!$I$2:$K$1276,\"EFOU\")","v":0},"mmsimulations","1.2.0","OUL","Europa","2025-01-23","20/24",null,null,null," "," ",null,{"$f":"IFERROR(AVERAGEIF(Eingabe!$I$2:$I$1276, \"EFOU\", Eingabe!$O$2:$O$1276), 0)","v":0}]
["EFRO","Rovaniemi","Basis","Finnland",{"$f":"COUNTIF(Eingabe!$F$2:$H$1276,\"EFRO\")","v":0},{"$f":"COUNTIF(Eingabe!$I$2:$K$1276,\"EFRO\")","v":0},"mkstudios","2.0.3","RVN","Europa","2026-02-28",24,null,null,null," "," ",null,{"$f":"IFERROR(AVERAGEIF(Eingabe!$I$2:$I$1276, \"EFRO\", Eingabe!$O$2:$O$1276), 0)","v":0}]
["EFTP","Tampere-Pirkkala","Basis","Finnland",{"$f":"COUNTIF(Eingabe!$F$2:$H$1276,\"EFTP\")","v":0},{"$f":"COUNTIF(Eingabe!$I$2:$K$1276,\"EFTP\")","v":0},"therudolf","1.0.0","TMP","Europa","2024-08-14","20/24",null,null,null," "," ",null,{"$f":"IFERROR(AVERAGEIF(Eingabe!$I$2:$I$1276, \"EFTP\", Eingabe!$O$2:$O$1276), 0)","v":0}]
["EFTU","Turku","Basis","Finnland",{"$f":"COUNTIF(Eingabe!$F$2:$H$1276,\"EFTU\")","v":0},{"$f":"COUNTIF(Eingabe!$I$2:$K$1276,\"EFTU\")","v":0},"mmsimulations","1.0.0","TKU","Europa","2023-04-18","20/24",null,null,null," "," ",null,{"$f":"IFERROR(AVERAGEIF(Eingabe!$I$2:$I$1276, \"EFTU\", Eingabe!$O$2:$O$1276), 0)","v":0}]
["EFVA","Vaasa","Basis","Finnland",{"$f":"COUNTIF(Eingabe!$F$2:$H$1276,\"EFVA\")","v":0},{"$f":"COUNTIF(Eingabe!$I$2:$K$1276,\"EFVA\")","v":0},"Asobo ","WU5","VAA","Europa","2021-06-17","20/24",null,null,null," "," ",null,{"$f":"IFERROR(AVERAGEIF(Eingabe!$I$2:$I$1276, \"EFVA\", Eingabe!$O$2:$O$1276), 0)","v":0}]
["EGAA","Belfast Aldergrove Intl.","Basis","Großbritannien",{"$f":"COUNTIF(Eingabe!$F$2:$H$1276,\"EGAA\")","v":0},{"$f":"COUNTIF(Eingabe!$I$2:$K$1276,\"EGAA\")","v":0},"pyreegue","1.1.6","BFS","Europa","2024-08-21","20/24",null,null,null," "," ",null,{"$f":"IFERROR(AVERAGEIF(Eingabe!$I$2:$I$1276, \"EGAA\", Eingabe!$O$2:$O$1276), 0)","v":0}]
["EGAC","Belfast City","Basis","Großbritannien",{"$f":"COUNTIF(Eingabe!$F$2:$H$1276,\"EGAC\")","v":0},{"$f":"COUNTIF(Eingabe!$I$2:$K$1276,\"EGAC\")","v":0},"flyxsim","1.0.0","BFS","Europa","2026-04-26","20/24",null,null,null," "," ",null,{"$f":"IFERROR(AVERAGEIF(Eingabe!$I$2:$I$1276, \"EGAC\", Eingabe!$O$2:$O$1276), 0)","v":0}]
["EGAE","City od Derry","Basis","Großbritannien",{"$f":"COUNTIF(Eingabe!$F$2:$H$1276,\"EGAE\")","v":0},{"$f":"COUNTIF(Eingabe!$I$2:$K$1276,\"EGAE\")","v":0},"UK2000","1.0.3","LDY","Europa","2025-06-10","20/24",null,null,null," "," ",null,{"$f":"IFERROR(AVERAGEIF(Eingabe!$I$2:$I$1276, \"EGAE\", Eingabe!$O$2:$O$1276), 0)","v":0}]
["EGBB","Birmingham","Basis","Großbritannien",{"$f":"COUNTIF(Eingabe!$F$2:$H$1276,\"EGBB\")","v":0},{"$f":"COUNTIF(Eingabe!$I$2:$K$1276,\"EGBB\")","v":0},"pyreegue","1.0.6","BHX","Europa","2025-11-29","20/24",null,null,null," "," ",null,{"$f":"IFERROR(AVERAGEIF(Eingabe!$I$2:$I$1276, \"EGBB\", Eingabe!$O$2:$O$1276), 0)","v":0}]
["EGCC","Manchester","Basis","Großbritannien",{"$f":"COUNTIF(Eingabe!$F$2:$H$1276,\"EGCC\")","v":0},{"$f":"COUNTIF(Eingabe!$I$2:$K$1276,\"EGCC\")","v":0},"inibuilds","1.1.1","MAN","Europa","2026-04-10",24,null,null,null," "," ",null,{"$f":"IFERROR(AVERAGEIF(Eingabe!$I$2:$I$1276, \"EGCC\", Eingabe!$O$2:$O$1276), 0)","v":0}]
["EGCN","Doncaster","Basis","Großbritannien",{"$f":"COUNTIF(Eingabe!$F$2:$H$1276,\"EGCN\")","v":0},{"$f":"COUNTIF(Eingabe!$I$2:$K$1276,\"EGCN\")","v":0},"dominicdesignteam","1.0.0","DAS","Europa","2025-11-23","20/24",null,null,null," "," ",null,{"$f":"IFERROR(AVERAGEIF(Eingabe!$I$2:$I$1276, \"EGCN\", Eingabe!$O$2:$O$1276), 0)","v":0}]
["EGFF","Cardiff","World Update 17","Großbritannien",{"$f":"COUNTIF(Eingabe!$F$2:$H$1276,\"EGFF\")","v":0},{"$f":"COUNTIF(Eingabe!$I$2:$K$1276,\"EGFF\")","v":0},"sofly","1.2.0","CWL","Europa","2026-04-19","20/24",null,null,null," "," ",null,{"$f":"IFERROR(AVERAGEIF(Eingabe!$I$2:$I$1276, \"EGFF\", Eingabe!$O$2:$O$1276), 0)","v":0}]
["EGGD","Bristol","Basis","Großbritannien",{"$f":"COUNTIF(Eingabe!$F$2:$H$1276,\"EGGD\")","v":0},{"$f":"COUNTIF(Eingabe!$I$2:$K$1276,\"EGGD\")","v":0},"sofly","1.1.0","BRS","Europa","2026-02-12",24,null,null,null," "," ",null,{"$f":"IFERROR(AVERAGEIF(Eingabe!$I$2:$I$1276, \"EGGD\", Eingabe!$O$2:$O$1276), 0)","v":0}]
["EGGP","Liverpool","World Update 3","Großbritannien",{"$f":"COUNTIF(Eingabe!$F$2:$H$1276,\"EGGP\")","v":0},{"$f":"COUNTIF(Eingabe!$I$2:$K$1276,\"EGGP\")","v":0},"inibuilds","1.0.3","LPL","Europa","2026-04-26",24,null,null,null," "," ",null,{"$f":"IFERROR(AVERAGEIF(Eingabe!$I$2:$I$1276, \"EGGP\", Eingabe!$O$2:$O$1276), 0)","v":0}]
["EGGW","Luton","Basis","Großbritannien",{"$f":"COUNTIF(Eingabe!$F$2:$H$1276,\"EGGW\")","v":0},{"$f":"COUNTIF(Eingabe!$I$2:$K$1276,\"EGGW\")","v":0},"inibuilds","1.1.0","LTN","Europa","2026-07-12",24,null,null,null," "," ",null,{"$f":"IFERROR(AVERAGEIF(Eingabe!$I$2:$I$1276, \"EGGW\", Eingabe!$O$2:$O$1276), 0)","v":0}]
["EGHH","Bournemouth","Basis","Großbritannien",{"$f":"COUNTIF(Eingabe!$F$2:$H$1276,\"EGHH\")","v":0},{"$f":"COUNTIF(Eingabe!$I$2:$K$1276,\"EGHH\")","v":0},"UK2000","2.0.0","BOH","Europa","2026-04-19","20/24",null,null,null," "," ",null,{"$f":"IFERROR(AVERAGEIF(Eingabe!$I$2:$I$1276, \"EGHH\", Eingabe!$O$2:$O$1276), 0)","v":0}]
["EGHI","Southampton","Basis","Großbritannien",{"$f":"COUNTIF(Eingabe!$F$2:$H$1276,\"EGHI\")","v":0},{"$f":"COUNTIF(Eingabe!$I$2:$K$1276,\"EGHI\")","v":0},"inibuilds","1.0.5","SOU","Europa","2026-05-06","20/24",null,null,null," "," ",null,{"$f":"IFERROR(AVERAGEIF(Eingabe!$I$2:$I$1276, \"EGHI\", Eingabe!$O$2:$O$1276), 0)","v":0}]
["EGJB","Guernsey","Basis","Großbritannien",{"$f":"COUNTIF(Eingabe!$F$2:$H$1276,\"EGJB\")","v":0},{"$f":"COUNTIF(Eingabe!$I$2:$K$1276,\"EGJB\")","v":0},"realvfr","1.0.3","GCI","Europa","2026-05-25",24,null,null,56," "," ",null,{"$f":"IFERROR(AVERAGEIF(Eingabe!$I$2:$I$1276, \"EGJB\", Eingabe!$O$2:$O$1276), 0)","v":0}]
["EGJJ","Jersey","Basis","Großbritannien",{"$f":"COUNTIF(Eingabe!$F$2:$H$1276,\"EGJJ\")","v":0},{"$f":"COUNTIF(Eingabe!$I$2:$K$1276,\"EGJJ\")","v":0},"flyxsim","1.0.3","JER","Europa","2026-04-26","20/24",null,null,null," "," ",null,{"$f":"IFERROR(AVERAGEIF(Eingabe!$I$2:$I$1276, \"EGJJ\", Eingabe!$O$2:$O$1276), 0)","v":0}]
["EGKA","Shoreham","Basis","Großbritannien",{"$f":"COUNTIF(Eingabe!$F$2:$H$1276,\"EGKA\")","v":0},{"$f":"COUNTIF(Eingabe!$I$2:$K$1276,\"EGKA\")","v":0},"ORBX","1.2.2","ESH","Europa","2026-06-21","20/24",null,null,null," "," ",null,{"$f":"IFERROR(AVERAGEIF(Eingabe!$I$2:$I$1276, \"EGKA\", Eingabe!$O$2:$O$1276), 0)","v":0}]
["EGKK","London Gatwick","Basis","Großbritannien",{"$f":"COUNTIF(Eingabe!$F$2:$H$1276,\"EGKK\")","v":0},{"$f":"COUNTIF(Eingabe!$I$2:$K$1276,\"EGKK\")","v":0},"inibuilds","1.0.3","LGW","Europa","2026-02-12",24,null,null,null,{"$f":"IF(E130=0,\" \",\"✔️\")","v":" "},{"$f":"IF(F130=0,\" \",\"✔️\")","v":" "},null,{"$f":"IFERROR(AVERAGEIF(Eingabe!$I$2:$I$1276, \"EGKK\", Eingabe!$O$2:$O$1276), 0)","v":0}]
["EGLC","London-City","Basis","Großbritannien",{"$f":"COUNTIF(Eingabe!$F$2:$H$1276,\"EGLC\")","v":0},{"$f":"COUNTIF(Eingabe!$I$2:$K$1276,\"EGLC\")","v":0},"inibuilds","1.0.1","LCY","Europa","2026-06-21",24,null,null,null," "," ",null,{"$f":"IFERROR(AVERAGEIF(Eingabe!$I$2:$I$1276, \"EGLC\", Eingabe!$O$2:$O$1276), 0)","v":0}]
["EGLF","Farnborough","World Update 17","Großbritannien",{"$f":"COUNTIF(Eingabe!$F$2:$H$1276,\"EGLF\")","v":0},{"$f":"COUNTIF(Eingabe!$I$2:$K$1276,\"EGLF\")","v":0},"burningbluedesign","1.5.0","FAB","Europa","2024-12-15",24,null,null,null," "," ",null,{"$f":"IFERROR(AVERAGEIF(Eingabe!$I$2:$I$1276, \"EGLF\", Eingabe!$O$2:$O$1276), 0)","v":0}]
["EGLL","London-Heathrow","Basis","Großbritannien",{"$f":"COUNTIF(Eingabe!$F$2:$H$1276,\"EGLL\")","v":0},{"$f":"COUNTIF(Eingabe!$I$2:$K$1276,\"EGLL\")","v":0},"inibuilds","1.0.8","LHR","Europa","2026-01-22",24,null,null,null," "," ",null,{"$f":"IFERROR(AVERAGEIF(Eingabe!$I$2:$I$1276, \"EGLL\", Eingabe!$O$2:$O$1276), 0)","v":0}]
["EGMC","London-Southend","Basis","Großbritannien",{"$f":"COUNTIF(Eingabe!$F$2:$H$1276,\"EGMC\")","v":0},{"$f":"COUNTIF(Eingabe!$I$2:$K$1276,\"EGMC\")","v":0},"pilotplus","1.0.5","SEN","Europa","2021-07-01","20/24",null,null,null," "," ",null,{"$f":"IFERROR(AVERAGEIF(Eingabe!$I$2:$I$1276, \"EGMC\", Eingabe!$O$2:$O$1276), 0)","v":0}]
["EGMD","London-Bredford","Basis","Großbritannien",{"$f":"COUNTIF(Eingabe!$F$2:$H$1276,\"EGMD\")","v":0},{"$f":"COUNTIF(Eingabe!$I$2:$K$1276,\"EGMD\")","v":0},"burningbluedesign","1.5.0","LYX","Europa","2024-12-08",24,null,null,null," "," ",null,{"$f":"IFERROR(AVERAGEIF(Eingabe!$I$2:$I$1276, \"EGMD\", Eingabe!$O$2:$O$1276), 0)","v":0}]
["EGNC","Carlile","Basis","Großbritannien",{"$f":"COUNTIF(Eingabe!$F$2:$H$1276,\"EGNC\")","v":0},{"$f":"COUNTIF(Eingabe!$I$2:$K$1276,\"EGNC\")","v":0},"UK2000","1.4.2","CAX","Europa","2025-06-10","20/24",null,null,null," "," ",null,{"$f":"IFERROR(AVERAGEIF(Eingabe!$I$2:$I$1276, \"EGNC\", Eingabe!$O$2:$O$1276), 0)","v":0}]
["EGNJ","Humberside","Basis","Großbritannien",{"$f":"COUNTIF(Eingabe!$F$2:$H$1276,\"EGNJ\")","v":0},{"$f":"COUNTIF(Eingabe!$I$2:$K$1276,\"EGNJ\")","v":0},"FlyTampa","1.2.0","HUY","Europa","2026-02-19","20/24",null,null,null," "," ",null,{"$f":"IFERROR(AVERAGEIF(Eingabe!$I$2:$I$1276, \"EGNJ\", Eingabe!$O$2:$O$1276), 0)","v":0}]
["EGNM","Leeds-Bradford","Basis","Großbritannien",{"$f":"COUNTIF(Eingabe!$F$2:$H$1276,\"EGNM\")","v":0},{"$f":"COUNTIF(Eingabe!$I$2:$K$1276,\"EGNM\")","v":0},"ORBX","2.2.5","LBA","Europa","2026-05-25","20/24",null,null,null," "," ",null,{"$f":"IFERROR(AVERAGEIF(Eingabe!$I$2:$I$1276, \"EGNM\", Eingabe!$O$2:$O$1276), 0)","v":0}]
["EGNS","Isle of Men","Basis","Großbritannien",{"$f":"COUNTIF(Eingabe!$F$2:$H$1276,\"EGNS\")","v":0},{"$f":"COUNTIF(Eingabe!$I$2:$K$1276,\"EGNS\")","v":0},"UK2000","1.4.2","IOM","Europa","2026-03-10","20/24",null,null,null," "," ",null,{"$f":"IFERROR(AVERAGEIF(Eingabe!$I$2:$I$1276, \"EGNS\", Eingabe!$O$2:$O$1276), 0)","v":0}]
["EGNT","Newcastle","Basis","Großbritannien",{"$f":"COUNTIF(Eingabe!$F$2:$H$1276,\"EGNT\")","v":1},{"$f":"COUNTIF(Eingabe!$I$2:$K$1276,\"EGNT\")","v":1},"ORBX"," 1.6.4","NCL","Europa","2026-05-06",24,null,null,10,"✔️","✔️",null,{"$f":"IFERROR(AVERAGEIF(Eingabe!$I$2:$I$1276, \"EGNT\", Eingabe!$O$2:$O$1276), 0)","v":310}]
["EGNV","Durham-Teesside","Basis","Großbritannien",{"$f":"COUNTIF(Eingabe!$F$2:$H$1276,\"EGNV\")","v":0},{"$f":"COUNTIF(Eingabe!$I$2:$K$1276,\"EGNV\")","v":0},"flyxsim","1.2.0","MME","Europa","2025-02-25","20/24",null,null,null," "," ",null,{"$f":"IFERROR(AVERAGEIF(Eingabe!$I$2:$I$1276, \"EGNV\", Eingabe!$O$2:$O$1276), 0)","v":0}]
["EGNX","East Midland/Nottingham","Basis","Großbritannien",{"$f":"COUNTIF(Eingabe!$F$2:$H$1276,\"EGNX\")","v":0},{"$f":"COUNTIF(Eingabe!$I$2:$K$1276,\"EGNX\")","v":0},"pyreegue","1.0.31","EMA","Europa","2024-07-27","20/24",null,null,null," "," ",null,{"$f":"IFERROR(AVERAGEIF(Eingabe!$I$2:$I$1276, \"EGNX\", Eingabe!$O$2:$O$1276), 0)","v":0}]
["EGPB","Sumburgh","World Update 17","Großbritannien",{"$f":"COUNTIF(Eingabe!$F$2:$H$1276,\"EGPB\")","v":0},{"$f":"COUNTIF(Eingabe!$I$2:$K$1276,\"EGPB\")","v":0},"ORBX","1.2.0","LSI","Europa","2023-05-23","20/24",null,null,null," "," ",null,{"$f":"IFERROR(AVERAGEIF(Eingabe!$I$2:$I$1276, \"EGPB\", Eingabe!$O$2:$O$1276), 0)","v":0}]
["EGPD","Dyce-Aberdeen","Basis","Großbritannien",{"$f":"COUNTIF(Eingabe!$F$2:$H$1276,\"EGPD\")","v":0},{"$f":"COUNTIF(Eingabe!$I$2:$K$1276,\"EGPD\")","v":0},"aurascenery","1.0.1","ABZ","Europa","2025-03-19","20/24",null,null,null," "," ",null,{"$f":"IFERROR(AVERAGEIF(Eingabe!$I$2:$I$1276, \"EGPD\", Eingabe!$O$2:$O$1276), 0)","v":0}]
["EGPE","Inverness","Basis","Großbritannien",{"$f":"COUNTIF(Eingabe!$F$2:$H$1276,\"EGPE\")","v":0},{"$f":"COUNTIF(Eingabe!$I$2:$K$1276,\"EGPE\")","v":0},"UK2000","1.4.1","INV","Europa","2025-02-21","20/24",null,null,null," "," ",null,{"$f":"IFERROR(AVERAGEIF(Eingabe!$I$2:$I$1276, \"EGPE\", Eingabe!$O$2:$O$1276), 0)","v":0}]
["EGPF","Glasgow","Basis","Großbritannien",{"$f":"COUNTIF(Eingabe!$F$2:$H$1276,\"EGPF\")","v":0},{"$f":"COUNTIF(Eingabe!$I$2:$K$1276,\"EGPF\")","v":0},"UK2000","1.4.1","GLA","Europa","2025-04-27","20/24",null,null,null," "," ",null,{"$f":"IFERROR(AVERAGEIF(Eingabe!$I$2:$I$1276, \"EGPF\", Eingabe!$O$2:$O$1276), 0)","v":0}]
["EGPH","Edinburgh","Basis","Großbritannien",{"$f":"COUNTIF(Eingabe!$F$2:$H$1276,\"EGPH\")","v":0},{"$f":"COUNTIF(Eingabe!$I$2:$K$1276,\"EGPH\")","v":0},"pyreegue","2.1.0","EDI","Europa","2026-05-25","20/24",null,null,null," "," ",null,{"$f":"IFERROR(AVERAGEIF(Eingabe!$I$2:$I$1276, \"EGPH\", Eingabe!$O$2:$O$1276), 0)","v":0}]
["EGPK","Glasgow-Prestwick Intl.","Basis","Großbritannien",{"$f":"COUNTIF(Eingabe!$F$2:$H$1276,\"EGPK\")","v":0},{"$f":"COUNTIF(Eingabe!$I$2:$K$1276,\"EGPK\")","v":0},"UK2000","1.4.0","PIK","Europa","2024-11-14","20/24",null,null,null," "," ",null,{"$f":"IFERROR(AVERAGEIF(Eingabe!$I$2:$I$1276, \"EGPK\", Eingabe!$O$2:$O$1276), 0)","v":0}]
["EGPN","Dundee","Basis","Großbritannien",{"$f":"COUNTIF(Eingabe!$F$2:$H$1276,\"EGPN\")","v":0},{"$f":"COUNTIF(Eingabe!$I$2:$K$1276,\"EGPN\")","v":0},"ORBX","1.1.0","DND","Europa","2021-07-26","20/24",null,null,null," "," ",null,{"$f":"IFERROR(AVERAGEIF(Eingabe!$I$2:$I$1276, \"EGPN\", Eingabe!$O$2:$O$1276), 0)","v":0}]
["EGPO","Stornoway","Basis","Großbritannien",{"$f":"COUNTIF(Eingabe!$F$2:$H$1276,\"EGPO\")","v":0},{"$f":"COUNTIF(Eingabe!$I$2:$K$1276,\"EGPO\")","v":0},"fsdg","1.0.1","SYY","Europa","2026-04-10",24,null,null,null," "," ",null,{"$f":"IFERROR(AVERAGEIF(Eingabe!$I$2:$I$1276, \"EGPO\", Eingabe!$O$2:$O$1276), 0)","v":0}]
["EGSH","Norwich","Basis","Großbritannien",{"$f":"COUNTIF(Eingabe!$F$2:$H$1276,\"EGSH\")","v":0},{"$f":"COUNTIF(Eingabe!$I$2:$K$1276,\"EGSH\")","v":0},"UK2000","1.1.0",null,"Europa","2025-05-26","20/24",null,null,null," "," ",null,{"$f":"IFERROR(AVERAGEIF(Eingabe!$I$2:$I$1276, \"EGSH\", Eingabe!$O$2:$O$1276), 0)","v":0}]
["EGSS","London Stansted","World Update 17","Großbritannien",{"$f":"COUNTIF(Eingabe!$F$2:$H$1276,\"EGSS\")","v":0},{"$f":"COUNTIF(Eingabe!$I$2:$K$1276,\"EGSS\")","v":0},"inibuilds","1.1.1","STN","Europa","2026-02-19",24,null,null,null," "," ",null,{"$f":"IFERROR(AVERAGEIF(Eingabe!$I$2:$I$1276, \"EGSS\", Eingabe!$O$2:$O$1276), 0)","v":0}]
["EHAM","Amsterdam","Basis","Holland",{"$f":"COUNTIF(Eingabe!$F$2:$H$1276,\"EHAM\")","v":0},{"$f":"COUNTIF(Eingabe!$I$2:$K$1276,\"EHAM\")","v":0},"FlyTampa","1.3.2","AMS","Europa","2026-05-25","20/24",null,null,null," "," ",null,{"$f":"IFERROR(AVERAGEIF(Eingabe!$I$2:$I$1276, \"EHAM\", Eingabe!$O$2:$O$1276), 0)","v":0}]
["EHBK","Maastricht-Aachen","Basis","Holland",{"$f":"COUNTIF(Eingabe!$F$2:$H$1276,\"EHBK\")","v":0},{"$f":"COUNTIF(Eingabe!$I$2:$K$1276,\"EHBK\")","v":0},"stsimulations","1.0.8","MST","Europa","2024-11-14","20/24",null,null,null," "," ",null,{"$f":"IFERROR(AVERAGEIF(Eingabe!$I$2:$I$1276, \"EHBK\", Eingabe!$O$2:$O$1276), 0)","v":0}]
["EHLE","Lelystad","Basis","Holland",{"$f":"COUNTIF(Eingabe!$F$2:$H$1276,\"EHLE\")","v":0},{"$f":"COUNTIF(Eingabe!$I$2:$K$1276,\"EHLE\")","v":0},"papahotel","1.2.1","LEY","Europa","2024-12-23","20/24",null,null,null," "," ",null,{"$f":"IFERROR(AVERAGEIF(Eingabe!$I$2:$I$1276, \"EHLE\", Eingabe!$O$2:$O$1276), 0)","v":0}]
["EHRD","Rotterdam","World Update 4","Holland",{"$f":"COUNTIF(Eingabe!$F$2:$H$1276,\"EHRD\")","v":0},{"$f":"COUNTIF(Eingabe!$I$2:$K$1276,\"EHRD\")","v":0},"rdpresets","2.2.0","RTM","Europa","2024-02-10","20/24",null,null,null," "," ",null,{"$f":"IFERROR(AVERAGEIF(Eingabe!$I$2:$I$1276, \"EHRD\", Eingabe!$O$2:$O$1276), 0)","v":0}]
["EICK","Cork","World Update 17","Irland",{"$f":"COUNTIF(Eingabe!$F$2:$H$1276,\"EICK\")","v":0},{"$f":"COUNTIF(Eingabe!$I$2:$K$1276,\"EICK\")","v":0},"mkstudios","1.4.0","ORK","Europa","2025-11-05","20/24",null,null,null," "," ",null,{"$f":"IFERROR(AVERAGEIF(Eingabe!$I$2:$I$1276, \"EICK\", Eingabe!$O$2:$O$1276), 0)","v":0}]
["EIDW","Dublin","Basis","Irland",{"$f":"COUNTIF(Eingabe!$F$2:$H$1276,\"EIDW\")","v":0},{"$f":"COUNTIF(Eingabe!$I$2:$K$1276,\"EIDW\")","v":0},"mkstudios","2.3.3","DUB","Europa","2025-10-29","20/24",null,null,null," "," ",null,{"$f":"IFERROR(AVERAGEIF(Eingabe!$I$2:$I$1276, \"EIDW\", Eingabe!$O$2:$O$1276), 0)","v":0}]
["EIKN","Ireland West","Basis","Irland",{"$f":"COUNTIF(Eingabe!$F$2:$H$1276,\"EIKN\")","v":0},{"$f":"COUNTIF(Eingabe!$I$2:$K$1276,\"EIKN\")","v":0},"flyxsim","1.0.2",null,"Europa","2026-04-26","20/24",null,null,null," "," ",null,{"$f":"IFERROR(AVERAGEIF(Eingabe!$I$2:$I$1276, \"EIKN\", Eingabe!$O$2:$O$1276), 0)","v":0}]
["EIKY","Kerry","Basis","Irland",{"$f":"COUNTIF(Eingabe!$F$2:$H$1276,\"EIKY\")","v":0},{"$f":"COUNTIF(Eingabe!$I$2:$K$1276,\"EIKY\")","v":0},"inibuilds","1.1.0","KIR","Europa","2022-02-09","20/24",null,null,null," "," ",null,{"$f":"IFERROR(AVERAGEIF(Eingabe!$I$2:$I$1276, \"EIKY\", Eingabe!$O$2:$O$1276), 0)","v":0}]
["EINN","Shannon","Basis","Irland",{"$f":"COUNTIF(Eingabe!$F$2:$H$1276,\"EINN\")","v":0},{"$f":"COUNTIF(Eingabe!$I$2:$K$1276,\"EINN\")","v":0},"mkstudios","1.3.0","SNN","Europa","2025-10-28","20/24",null,null,null," "," ",null,{"$f":"IFERROR(AVERAGEIF(Eingabe!$I$2:$I$1276, \"EINN\", Eingabe!$O$2:$O$1276), 0)","v":0}]
["EKAH","Aarhus","Basis","Dänemark",{"$f":"COUNTIF(Eingabe!$F$2:$H$1276,\"EKAH\")","v":0},{"$f":"COUNTIF(Eingabe!$I$2:$K$1276,\"EKAH\")","v":0},"simnord","1.1.1","AAR","Europa","2026-01-03",24,null,null,null," "," ",null,{"$f":"IFERROR(AVERAGEIF(Eingabe!$I$2:$I$1276, \"EKAH\", Eingabe!$O$2:$O$1276), 0)","v":0}]
["EKBI","Billund","Basis","Dänemark",{"$f":"COUNTIF(Eingabe!$F$2:$H$1276,\"EKBI\")","v":0},{"$f":"COUNTIF(Eingabe!$I$2:$K$1276,\"EKBI\")","v":0},"simnord","1.7.1","BLL","Europa","2025-11-15",24,null,null,null," "," ",null,{"$f":"IFERROR(AVERAGEIF(Eingabe!$I$2:$I$1276, \"EKBI\", Eingabe!$O$2:$O$1276), 0)","v":0}]
["EKCH","Kopenhagen-Kastrup","Basis","Dänemark",{"$f":"COUNTIF(Eingabe!$F$2:$H$1276,\"EKCH\")","v":0},{"$f":"COUNTIF(Eingabe!$I$2:$K$1276,\"EKCH\")","v":0},"SimNord","1.0.6","AES","Europa","2026-02-28",24,null,null,null," "," ",null,{"$f":"IFERROR(AVERAGEIF(Eingabe!$I$2:$I$1276, \"EKCH\", Eingabe!$O$2:$O$1276), 0)","v":0}]
["EKEB","Esbjerg","Basis","Dänemark",{"$f":"COUNTIF(Eingabe!$F$2:$H$1276,\"EKEB\")","v":0},{"$f":"COUNTIF(Eingabe!$I$2:$K$1276,\"EKEB\")","v":0},"onfinalstudio","2.0.0","EBJ","Europa","2023-05-22","20/24",null,null,null," "," ",null,{"$f":"IFERROR(AVERAGEIF(Eingabe!$I$2:$I$1276, \"EKEB\", Eingabe!$O$2:$O$1276), 0)","v":0}]
["EKRK","Roskilde/Kopenhagen","Basis","Dänemark",{"$f":"COUNTIF(Eingabe!$F$2:$H$1276,\"EKRK\")","v":0},{"$f":"COUNTIF(Eingabe!$I$2:$K$1276,\"EKRK\")","v":0},"Freeware",null,"RKE","Europa","2025-02-14","20/24",null,null,null," "," ",null,{"$f":"IFERROR(AVERAGEIF(Eingabe!$I$2:$I$1276, \"EKRK\", Eingabe!$O$2:$O$1276), 0)","v":0}]
["EKRN","Ronne-Bornholm","World Update 5","Dänemark",{"$f":"COUNTIF(Eingabe!$F$2:$H$1276,\"EKRN\")","v":0},{"$f":"COUNTIF(Eingabe!$I$2:$K$1276,\"EKRN\")","v":0},"simnord","1.5.3","RNN","Europa","2026-01-11",24,null,null,null," "," ",null,{"$f":"IFERROR(AVERAGEIF(Eingabe!$I$2:$I$1276, \"EKRN\", Eingabe!$O$2:$O$1276), 0)","v":0}]
["EKSB","Sønderborg","Basis","Dänemark",{"$f":"COUNTIF(Eingabe!$F$2:$H$1276,\"EKSB\")","v":0},{"$f":"COUNTIF(Eingabe!$I$2:$K$1276,\"EKSB\")","v":0},"simnord","1.1.1","SGD","Europa","2026-01-22",24,null,null,null," "," ",null,{"$f":"IFERROR(AVERAGEIF(Eingabe!$I$2:$I$1276, \"EKSB\", Eingabe!$O$2:$O$1276), 0)","v":0}]
["EKVG","Vagar/Farör Inseln","Basis","Dänemark",{"$f":"COUNTIF(Eingabe!$F$2:$H$1276,\"EKVG\")","v":0},{"$f":"COUNTIF(Eingabe!$I$2:$K$1276,\"EKVG\")","v":0},"mkstudios","1.1.0","FAE","Europa","2023-10-16","20/24",null,null,null," "," ",null,{"$f":"IFERROR(AVERAGEIF(Eingabe!$I$2:$I$1276, \"EKVG\", Eingabe!$O$2:$O$1276), 0)","v":0}]
["EKYT","Aalborg","Basis","Dänemark",{"$f":"COUNTIF(Eingabe!$F$2:$H$1276,\"EKYT\")","v":0},{"$f":"COUNTIF(Eingabe!$I$2:$K$1276,\"EKYT\")","v":0},"simnord","1.7.1","AAL","Europa","2026-01-03",24,null,null,null," "," ",null,{"$f":"IFERROR(AVERAGEIF(Eingabe!$I$2:$I$1276, \"EKYT\", Eingabe!$O$2:$O$1276), 0)","v":0}]
["ELLX","Luxembourg- Findel","Basis","Luxembourg",{"$f":"COUNTIF(Eingabe!$F$2:$H$1276,\"ELLX\")","v":0},{"$f":"COUNTIF(Eingabe!$I$2:$K$1276,\"ELLX\")","v":0},"JustSim","1.4.3","LUX","Europa","2025-07-30",24,null,null,null," "," ",null,{"$f":"IFERROR(AVERAGEIF(Eingabe!$I$2:$I$1276, \"ELLX\", Eingabe!$O$2:$O$1276), 0)","v":0}]
["ENAL","Alesund-Vigra","Basis","Norwegen",{"$f":"COUNTIF(Eingabe!$F$2:$H$1276,\"ENAL\")","v":0},{"$f":"COUNTIF(Eingabe!$I$2:$K$1276,\"ENAL\")","v":0},"ORBX","1.0.0","AES","Europa","2025-11-23",24,null,null,null," "," ",null,{"$f":"IFERROR(AVERAGEIF(Eingabe!$I$2:$I$1276, \"ENAL\", Eingabe!$O$2:$O$1276), 0)","v":0}]
["ENAT","Alta","Basis","Norwegen",{"$f":"COUNTIF(Eingabe!$F$2:$H$1276,\"ENAT\")","v":0},{"$f":"COUNTIF(Eingabe!$I$2:$K$1276,\"ENAT\")","v":0},"Aerosoft","1.2.1","ALF","Europa","2023-01-05","20/24",null,null,null," "," ",null,{"$f":"IFERROR(AVERAGEIF(Eingabe!$I$2:$I$1276, \"ENAT\", Eingabe!$O$2:$O$1276), 0)","v":0}]
["ENBR","Bergen","Basis","Norwegen",{"$f":"COUNTIF(Eingabe!$F$2:$H$1276,\"ENBR\")","v":0},{"$f":"COUNTIF(Eingabe!$I$2:$K$1276,\"ENBR\")","v":0},"slv","2.0.3","BGO","Europa","2025-12-13",24,null,null,null," "," ",null,{"$f":"IFERROR(AVERAGEIF(Eingabe!$I$2:$I$1276, \"ENBR\", Eingabe!$O$2:$O$1276), 0)","v":0}]
["ENCN","Kristiansand","Basis","Norwegen",{"$f":"COUNTIF(Eingabe!$F$2:$H$1276,\"ENCN\")","v":0},{"$f":"COUNTIF(Eingabe!$I$2:$K$1276,\"ENCN\")","v":0},"Gaya Simulations","1.0.0","KRS","Europa","2021-05-10","20/24",null,null,null," "," ",null,{"$f":"IFERROR(AVERAGEIF(Eingabe!$I$2:$I$1276, \"ENCN\", Eingabe!$O$2:$O$1276), 0)","v":0}]
["ENEV","Narvik","Basis","Norwegen",{"$f":"COUNTIF(Eingabe!$F$2:$H$1276,\"ENEV\")","v":0},{"$f":"COUNTIF(Eingabe!$I$2:$K$1276,\"ENEV\")","v":0},"mmsimulations","1.2.1","EVE","Europa","2026-05-25","20/24",null,null,null," "," ",null,{"$f":"IFERROR(AVERAGEIF(Eingabe!$I$2:$I$1276, \"ENEV\", Eingabe!$O$2:$O$1276), 0)","v":0}]
["ENGM","Oslo-Gardermoen","Basis","Norwegen",{"$f":"COUNTIF(Eingabe!$F$2:$H$1276,\"ENGM\")","v":1},{"$f":"COUNTIF(Eingabe!$I$2:$K$1276,\"ENGM\")","v":1},"ORBX","1.0.0","OSL","Europa","2026-03-20",24,null,null,null,"✔️","✔️",null,{"$f":"IFERROR(AVERAGEIF(Eingabe!$I$2:$I$1276, \"ENGM\", Eingabe!$O$2:$O$1276), 0)","v":445.97}]
["ENHD","Haugesund","Basis","Norwegen",{"$f":"COUNTIF(Eingabe!$F$2:$H$1276,\"ENHF\")","v":0},{"$f":"COUNTIF(Eingabe!$I$2:$K$1276,\"ENHF\")","v":0},"inibuilds","1.0.1","HAU","Europa","2026-02-28","20/24",null,null,null," "," ",null,{"$f":"IFERROR(AVERAGEIF(Eingabe!$I$2:$I$1276, \"ENHD\", Eingabe!$O$2:$O$1276), 0)","v":0}]
["ENHF","Hammerfest","Basis","Norwegen",{"$f":"COUNTIF(Eingabe!$F$2:$H$1276,\"ENHF\")","v":0},{"$f":"COUNTIF(Eingabe!$I$2:$K$1276,\"ENHF\")","v":0},"ORBX","1.0.0","KSU","Europa","2026-02-19",24,null,null,null," "," ",null,{"$f":"IFERROR(AVERAGEIF(Eingabe!$I$2:$I$1276, \"ENHF\", Eingabe!$O$2:$O$1276), 0)","v":0}]
["ENKB","Kristiansund","Basis","Norwegen",{"$f":"COUNTIF(Eingabe!$F$2:$H$1276,\"ENKB\")","v":0},{"$f":"COUNTIF(Eingabe!$I$2:$K$1276,\"ENKB\")","v":0},"xwingstudios","1.0.1","KSU","Europa","2024-05-30","20/24",null,null,null," "," ",null,{"$f":"IFERROR(AVERAGEIF(Eingabe!$I$2:$I$1276, \"ENKB\", Eingabe!$O$2:$O$1276), 0)","v":0}]
["ENKR","Kirkenes","Basis","Norwegen",{"$f":"COUNTIF(Eingabe!$F$2:$H$1276,\"ENKR\")","v":0},{"$f":"COUNTIF(Eingabe!$I$2:$K$1276,\"ENKR\")","v":0},"onfinalstudio","1.1.0","KKN","Europa","2023-06-08","20/24",null,null,null," "," ",null,{"$f":"IFERROR(AVERAGEIF(Eingabe!$I$2:$I$1276, \"ENKR\", Eingabe!$O$2:$O$1276), 0)","v":0}]
["ENML","Aro-Molde","Basis","Norwegen",{"$f":"COUNTIF(Eingabe!$F$2:$H$1276,\"ENML\")","v":0},{"$f":"COUNTIF(Eingabe!$I$2:$K$1276,\"ENML\")","v":0},"ORBX","1.0.0","MOL","Europa","2025-12-04",24,null,null,null," "," ",null,{"$f":"IFERROR(AVERAGEIF(Eingabe!$I$2:$I$1276, \"ENML\", Eingabe!$O$2:$O$1276), 0)","v":0}]
["ENNO","Notodden","Basis","Norwegen",{"$f":"COUNTIF(Eingabe!$F$2:$H$1276,\"ENNO\")","v":0},{"$f":"COUNTIF(Eingabe!$I$2:$K$1276,\"ENNO\")","v":0},"ORBX","1.0.0","NTB","Europa","2025-12-04",24,null,null,null," "," ",null,{"$f":"IFERROR(AVERAGEIF(Eingabe!$I$2:$I$1276, \"ENNO\", Eingabe!$O$2:$O$1276), 0)","v":0}]
["ENOL","Ørland","Basis","Norwegen",{"$f":"COUNTIF(Eingabe!$F$2:$H$1276,\"ENOL\")","v":0},{"$f":"COUNTIF(Eingabe!$I$2:$K$1276,\"ENOL\")","v":0},"Standard","***","OLA","Europa","***",24,null,null,null," "," ",null,{"$f":"IFERROR(AVERAGEIF(Eingabe!$I$2:$I$1276, \"ENOL\", Eingabe!$O$2:$O$1276), 0)","v":0}]
["ENSB","Spitzbergen-Longyear","World Update 5","Norwegen",{"$f":"COUNTIF(Eingabe!$F$2:$H$1276,\"ENSB\")","v":0},{"$f":"COUNTIF(Eingabe!$I$2:$K$1276,\"ENSB\")","v":0},"inibuilds","1.0.1","LYR","Europa","2026-02-12",24,null,null,null," "," ",null,{"$f":"IFERROR(AVERAGEIF(Eingabe!$I$2:$I$1276, \"ENSB\", Eingabe!$O$2:$O$1276), 0)","v":0}]
["ENSG","Sogndal","Basis","Norwegen",{"$f":"COUNTIF(Eingabe!$F$2:$H$1276,\"ENSG\")","v":0},{"$f":"COUNTIF(Eingabe!$I$2:$K$1276,\"ENSG\")","v":0},"ORBX","1.0.0","SOG","Europa","2025-07-12",24,null,null,null," "," ",null,{"$f":"IFERROR(AVERAGEIF(Eingabe!$I$2:$I$1276, \"ENSG\", Eingabe!$O$2:$O$1276), 0)","v":0}]
["ENTC","Tromsoe","Basis","Norwegen",{"$f":"COUNTIF(Eingabe!$F$2:$H$1276,\"ENTC\")","v":0},{"$f":"COUNTIF(Eingabe!$I$2:$K$1276,\"ENTC\")","v":0},"mmsimulations","1.4.2","TOS","Europa","2025-12-13","20/24",null,null,null," "," ",null,{"$f":"IFERROR(AVERAGEIF(Eingabe!$I$2:$I$1276, \"ENTC\", Eingabe!$O$2:$O$1276), 0)","v":0}]
["ENTO","Sandefjord","Basis","Norwegen",{"$f":"COUNTIF(Eingabe!$F$2:$H$1276,\"ENTO\")","v":0},{"$f":"COUNTIF(Eingabe!$I$2:$K$1276,\"ENTO\")","v":0},"ORBX","1.0.0","TRF","Europa","2025-11-23",24,null,null,null," "," ",null,{"$f":"IFERROR(AVERAGEIF(Eingabe!$I$2:$I$1276, \"ENTO\", Eingabe!$O$2:$O$1276), 0)","v":0}]
["ENVA","Trondheim-Vaernes","Basis","Norwegen",{"$f":"COUNTIF(Eingabe!$F$2:$H$1276,\"ENVA\")","v":0},{"$f":"COUNTIF(Eingabe!$I$2:$K$1276,\"ENVA\")","v":0},"Aerosoft","1.1.1","TRD","Europa","2022-12-07","20/24",null,null,null," "," ",null,{"$f":"IFERROR(AVERAGEIF(Eingabe!$I$2:$I$1276, \"ENVA\", Eingabe!$O$2:$O$1276), 0)","v":0}]
["EPBY","Bydgoszcz","Basis","Polen",{"$f":"COUNTIF(Eingabe!$F$2:$H$1276,\"EPBY\")","v":0},{"$f":"COUNTIF(Eingabe!$I$2:$K$1276,\"EPBY\")","v":0},"drzewieckidesign","1.3.0","GDN","Europa","2026-03-20","20/24",null,null,null," "," ",null,{"$f":"IFERROR(AVERAGEIF(Eingabe!$I$2:$I$1276, \"EPBY\", Eingabe!$O$2:$O$1276), 0)","v":0}]
["EPGD","Lech Walesa-Danzig","Basis","Polen",{"$f":"COUNTIF(Eingabe!$F$2:$H$1276,\"EPGD\")","v":0},{"$f":"COUNTIF(Eingabe!$I$2:$K$1276,\"EPGD\")","v":0},"drzewieckidesign","1.6.0","GDN","Europa","2026-02-19","20/24",null,null,null," "," ",null,{"$f":"IFERROR(AVERAGEIF(Eingabe!$I$2:$I$1276, \"EPGD\", Eingabe!$O$2:$O$1276), 0)","v":0}]
["EPKK","Krakau-Balice","Basis","Polen",{"$f":"COUNTIF(Eingabe!$F$2:$H$1276,\"EPKK\")","v":0},{"$f":"COUNTIF(Eingabe!$I$2:$K$1276,\"EPKK\")","v":0},"drzewieckidesign","1.4.0","KRK","Europa","2023-11-03","20/24",null,null,null," "," ",null,{"$f":"IFERROR(AVERAGEIF(Eingabe!$I$2:$I$1276, \"EPKK\", Eingabe!$O$2:$O$1276), 0)","v":0}]
["EPKT","Kattowitz","Basis","Polen",{"$f":"COUNTIF(Eingabe!$F$2:$H$1276,\"EPKT\")","v":0},{"$f":"COUNTIF(Eingabe!$I$2:$K$1276,\"EPKT\")","v":0},"drzewieckidesign","1.1.0","KTW","Europa","2026-02-12","20/24",null,null,null," "," ",null,{"$f":"IFERROR(AVERAGEIF(Eingabe!$I$2:$I$1276, \"EPKT\", Eingabe!$O$2:$O$1276), 0)","v":0}]
["EPLB","Lublin","Basis","Polen",{"$f":"COUNTIF(Eingabe!$F$2:$H$1276,\"EPLB\")","v":0},{"$f":"COUNTIF(Eingabe!$I$2:$K$1276,\"EPLB\")","v":0},"drzewieckidesign","1.3.0","LUZ","Europa","2026-03-20","20/24",null,null,null,{"$f":"IF(E194=0,\" \",\"✔️\")","v":" "},{"$f":"IF(F194=0,\" \",\"✔️\")","v":" "},null,{"$f":"IFERROR(AVERAGEIF(Eingabe!$I$2:$I$1276, \"EPLB\", Eingabe!$O$2:$O$1276), 0)","v":0}]
["EPLL","Lodz","Basis","Polen",{"$f":"COUNTIF(Eingabe!$F$2:$H$1276,\"EPLL\")","v":0},{"$f":"COUNTIF(Eingabe!$I$2:$K$1276,\"EPLL\")","v":0},"flydesign","1.1.0","LCJ","Europa","2024-03-08","20/24",null,null,null," "," ",null,{"$f":"IFERROR(AVERAGEIF(Eingabe!$I$2:$I$1276, \"EPLL\", Eingabe!$O$2:$O$1276), 0)","v":0}]
["EPMO","Warschau-Modlin","Basis","Polen",{"$f":"COUNTIF(Eingabe!$F$2:$H$1276,\"EPMO\")","v":0},{"$f":"COUNTIF(Eingabe!$I$2:$K$1276,\"EPMO\")","v":0},"drzewieckidesign","1.2.0","WMI","Europa","2022-05-14","20/24",null,null,null," "," ",null,{"$f":"IFERROR(AVERAGEIF(Eingabe!$I$2:$I$1276, \"EPMO\", Eingabe!$O$2:$O$1276), 0)","v":0}]
["EPPO","Posen","Basis","Polen",{"$f":"COUNTIF(Eingabe!$F$2:$H$1276,\"EPPO\")","v":0},{"$f":"COUNTIF(Eingabe!$I$2:$K$1276,\"EPPO\")","v":0},"Fly 2 High","1.5.0","POZ","Europa","2024-03-11","20/24",null,null,null," "," ",null,{"$f":"IFERROR(AVERAGEIF(Eingabe!$I$2:$I$1276, \"EPPO\", Eingabe!$O$2:$O$1276), 0)","v":0}]
["EPRZ","Rzeszów-Jasionka","Basis","Polen",{"$f":"COUNTIF(Eingabe!$F$2:$H$1276,\"EPRZ\")","v":0},{"$f":"COUNTIF(Eingabe!$I$2:$K$1276,\"EPRZ\")","v":0},"drzewieckidesign","1.0.0","RZE","Europa","2022-06-13","20/24",null,null,null," "," ",null,{"$f":"IFERROR(AVERAGEIF(Eingabe!$I$2:$I$1276, \"EPRZ\", Eingabe!$O$2:$O$1276), 0)","v":0}]
["EPSC","Stettin","Basis","Polen",{"$f":"COUNTIF(Eingabe!$F$2:$H$1276,\"EPSC\")","v":0},{"$f":"COUNTIF(Eingabe!$I$2:$K$1276,\"EPSC\")","v":0},"drzewieckidesign","1.0.0","SZZ","Europa","2026-04-10","20/24",null,null,null," "," ",null,{"$f":"IFERROR(AVERAGEIF(Eingabe!$I$2:$I$1276, \"EPSC\", Eingabe!$O$2:$O$1276), 0)","v":0}]
["EPWA","Warschau Chopin","Basis","Polen",{"$f":"COUNTIF(Eingabe!$F$2:$H$1276,\"EPWA\")","v":0},{"$f":"COUNTIF(Eingabe!$I$2:$K$1276,\"EPWA\")","v":0},"drzewieckidesign","1.2.0","WAW","Europa","2025-01-14","20/24",null,null,null," "," ",null,{"$f":"IFERROR(AVERAGEIF(Eingabe!$I$2:$I$1276, \"EPWA\", Eingabe!$O$2:$O$1276), 0)","v":0}]
["EPWR","Nikolaus Kopernikus Breslau","Basis","Polen",{"$f":"COUNTIF(Eingabe!$F$2:$H$1276,\"EPWR\")","v":0},{"$f":"COUNTIF(Eingabe!$I$2:$K$1276,\"EPWR\")","v":0},"drzewieckidesign","1.3.0","WRO","Europa","2025-01-14","20/24",null,null,null," "," ",null,{"$f":"IFERROR(AVERAGEIF(Eingabe!$I$2:$I$1276, \"EPWR\", Eingabe!$O$2:$O$1276), 0)","v":0}]
["ESGG","Göteborg-Landvetter","Basis","Schweden",{"$f":"COUNTIF(Eingabe!$F$2:$H$1276,\"ESGG\")","v":0},{"$f":"COUNTIF(Eingabe!$I$2:$K$1276,\"ESGG\")","v":0},"ORBX","1.4.2","GOT","Europa","2025-12-04","20/24",null,null,null," "," ",null,{"$f":"IFERROR(AVERAGEIF(Eingabe!$I$2:$I$1276, \"ESGG\", Eingabe!$O$2:$O$1276), 0)","v":0}]
["ESKS","Scandinavian Mountains-Sälen","Basis","Schweden",{"$f":"COUNTIF(Eingabe!$F$2:$H$1276,\"ESKS\")","v":0},{"$f":"COUNTIF(Eingabe!$I$2:$K$1276,\"ESKS\")","v":0},"ORBX","1.0.2","SCR","Europa","2025-01-30","20/24",null,null,null," "," ",null,{"$f":"IFERROR(AVERAGEIF(Eingabe!$I$2:$I$1276, \"ESKS\", Eingabe!$O$2:$O$1276), 0)","v":0}]
["ESMS","Malmö-Sturup","Basis","Schweden",{"$f":"COUNTIF(Eingabe!$F$2:$H$1276,\"ESMS\")","v":0},{"$f":"COUNTIF(Eingabe!$I$2:$K$1276,\"ESMS\")","v":0},"ORBX","1.5.2","MMX","Europa","2025-12-04","20/24",null,null,null," "," ",null,{"$f":"IFERROR(AVERAGEIF(Eingabe!$I$2:$I$1276, \"ESMS\", Eingabe!$O$2:$O$1276), 0)","v":0}]
["ESMX","Vaxjo","Basis","Schweden",{"$f":"COUNTIF(Eingabe!$F$2:$H$1276,\"ESMX\")","v":0},{"$f":"COUNTIF(Eingabe!$I$2:$K$1276,\"ESMX\")","v":0},"skyhigh","1.0.0","VXO","Europa","2024-06-11","20/24",null,null,null," "," ",null,{"$f":"IFERROR(AVERAGEIF(Eingabe!$I$2:$I$1276, \"ESMX\", Eingabe!$O$2:$O$1276), 0)","v":0}]
["ESNQ","Kiruna","World Update 15","Schweden",{"$f":"COUNTIF(Eingabe!$F$2:$H$1276,\"ESNQ\")","v":0},{"$f":"COUNTIF(Eingabe!$I$2:$K$1276,\"ESNQ\")","v":0},"ORBX","1.0.2","KRN","Europa","2025-01-30","20/24",null,null,null," "," ",null,{"$f":"IFERROR(AVERAGEIF(Eingabe!$I$2:$I$1276, \"ESNQ\", Eingabe!$O$2:$O$1276), 0)","v":0}]
["ESNU","Umeå","Basis","Schweden",{"$f":"COUNTIF(Eingabe!$F$2:$H$1276,\"ESNU\")","v":0},{"$f":"COUNTIF(Eingabe!$I$2:$K$1276,\"ESNU\")","v":0},"ORBX","1.0.2","UME","Europa","2025-01-30","20/24",null,null,null," "," ",null,{"$f":"IFERROR(AVERAGEIF(Eingabe!$I$2:$I$1276, \"ESNU\", Eingabe!$O$2:$O$1276), 0)","v":0}]
["ESOE","Orebro","Basis","Schweden",{"$f":"COUNTIF(Eingabe!$F$2:$H$1276,\"ESOE\")","v":0},{"$f":"COUNTIF(Eingabe!$I$2:$K$1276,\"ESOE\")","v":0},"mxidesign","2.0.0","ORB","Europa","2024-08-01","20/24",null,null,null," "," ",null,{"$f":"IFERROR(AVERAGEIF(Eingabe!$I$2:$I$1276, \"ESOE\", Eingabe!$O$2:$O$1276), 0)","v":0}]
["ESOK","Karlstad","Basis","Schweden",{"$f":"COUNTIF(Eingabe!$F$2:$H$1276,\"ESOK\")","v":0},{"$f":"COUNTIF(Eingabe!$I$2:$K$1276,\"ESOK\")","v":0},"Borgillios Scenery","1.5.0","KSD","Europa","2025-12-13","20/24",null,null,null," "," ",null,{"$f":"IFERROR(AVERAGEIF(Eingabe!$I$2:$I$1276, \"ESOK\", Eingabe!$O$2:$O$1276), 0)","v":0}]
["ESOW","Stockholm-Västerås","Basis","Schweden",{"$f":"COUNTIF(Eingabe!$F$2:$H$1276,\"ESOW\")","v":0},{"$f":"COUNTIF(Eingabe!$I$2:$K$1276,\"ESOW\")","v":0},"mxidesign","1.1.0","VST","Europa","2026-04-19","20/24",null,null,null," "," ",null,{"$f":"IFERROR(AVERAGEIF(Eingabe!$I$2:$I$1276, \"ESOW\", Eingabe!$O$2:$O$1276), 0)","v":0}]
["ESSA","Stockholm-Arlanda","World Update 5","Schweden",{"$f":"COUNTIF(Eingabe!$F$2:$H$1276,\"ESSA\")","v":0},{"$f":"COUNTIF(Eingabe!$I$2:$K$1276,\"ESSA\")","v":0},"ORBX","1.5.0","ARN","Europa","2026-01-11",24,null,null,null," "," ",null,{"$f":"IFERROR(AVERAGEIF(Eingabe!$I$2:$I$1276, \"ESSA\", Eingabe!$O$2:$O$1276), 0)","v":0}]
["ESSB","Bromma-Stockholm","Basis","Schweden",{"$f":"COUNTIF(Eingabe!$F$2:$H$1276,\"ESSB\")","v":0},{"$f":"COUNTIF(Eingabe!$I$2:$K$1276,\"ESSB\")","v":0},"ORBX","1.4.0","BMA","Europa","2024-06-06","20/24",null,null,null," "," ",null,{"$f":"IFERROR(AVERAGEIF(Eingabe!$I$2:$I$1276, \"ESSB\", Eingabe!$O$2:$O$1276), 0)","v":0}]
["ETNL","Rostock-Laage","Basis","Deutschland",{"$f":"COUNTIF(Eingabe!$F$2:$H$1276,\"ETNL\")","v":0},{"$f":"COUNTIF(Eingabe!$I$2:$K$1276,\"ETNL\")","v":0},"Asobo",null,"RLG","Europa",null,24,null,null,14," "," ",null,{"$f":"IFERROR(AVERAGEIF(Eingabe!$I$2:$I$1276, \"ETNL\", Eingabe!$O$2:$O$1276), 0)","v":0}]
["EVLA","Liepāja","Basis","Lettland",{"$f":"COUNTIF(Eingabe!$F$2:$H$1276,\"EVLA\")","v":0},{"$f":"COUNTIF(Eingabe!$I$2:$K$1276,\"EVLA\")","v":0},"nksim","1.0.0","LPX","Europa","2022-05-05","20/24",null,null,null," "," ",null,{"$f":"IFERROR(AVERAGEIF(Eingabe!$I$2:$I$1276, \"EVLA\", Eingabe!$O$2:$O$1276), 0)","v":0}]
["EVRA","Riga","Basis","Lettland",{"$f":"COUNTIF(Eingabe!$F$2:$H$1276,\"EVRA\")","v":0},{"$f":"COUNTIF(Eingabe!$I$2:$K$1276,\"EVRA\")","v":1},"lisium","1.5.0","RIX","Europa","2026-02-02","20/24",null,null,null," ","✔️",null,{"$f":"IFERROR(AVERAGEIF(Eingabe!$I$2:$I$1276, \"ERA\", Eingabe!$O$2:$O$1276), 0)","v":0}]
["EYKA","Kaunas Intl.","Basis","Litauen",{"$f":"COUNTIF(Eingabe!$F$2:$H$1276,\"EYKA\")","v":0},{"$f":"COUNTIF(Eingabe!$I$2:$K$1276,\"EYKA\")","v":0},"propairflieght","1.1.0","KUN","Europa","2026-04-26",24,null,null,null," "," ",null,{"$f":"IFERROR(AVERAGEIF(Eingabe!$I$2:$I$1276, \"EYKA\", Eingabe!$O$2:$O$1276), 0)","v":0}]
["EYPA","Palanga","Basis","Litauen",{"$f":"COUNTIF(Eingabe!$F$2:$H$1276,\"EYPA\")","v":0},{"$f":"COUNTIF(Eingabe!$I$2:$K$1276,\"EYPA\")","v":0},"lisium","1.1.0","PLQ","Europa","2023-06-05","20/24",null,null,null," "," ",null,{"$f":"IFERROR(AVERAGEIF(Eingabe!$I$2:$I$1276, \"EYPA\", Eingabe!$O$2:$O$1276), 0)","v":0}]
["EYVI","Vilnius","Basis","Litauen",{"$f":"COUNTIF(Eingabe!$F$2:$H$1276,\"EYVI\")","v":0},{"$f":"COUNTIF(Eingabe!$I$2:$K$1276,\"EYVI\")","v":0},"lisium","1.1.0","VNO","Europa","2026-01-11","20/24",null,null,null," "," ",null,{"$f":"IFERROR(AVERAGEIF(Eingabe!$I$2:$I$1276, \"EYVI\", Eingabe!$O$2:$O$1276), 0)","v":0}]
["FACT","Kapstadt","Basis","Südafrika",{"$f":"COUNTIF(Eingabe!$F$2:$H$1276,\"FACT\")","v":0},{"$f":"COUNTIF(Eingabe!$I$2:$K$1276,\"FACT\")","v":0},"inibuilds","1.0.0","CPT","Afrika","2025-09-26",24,null,null,null," "," ",null,{"$f":"IFERROR(AVERAGEIF(Eingabe!$I$2:$I$1276, \"FACT\", Eingabe!$O$2:$O$1276), 0)","v":0}]
["FAEL","King Phalo","Basis","Südafrika",{"$f":"COUNTIF(Eingabe!$F$2:$H$1276,\"FAEL\")","v":0},{"$f":"COUNTIF(Eingabe!$I$2:$K$1276,\"FAEL\")","v":0},"nmgsimulation","3.0.4","ELS","Afrika","2025-02-07","20/24",null,null,null," "," ",null,{"$f":"IFERROR(AVERAGEIF(Eingabe!$I$2:$I$1276, \"FAEL\", Eingabe!$O$2:$O$1276), 0)","v":0}]
["FAGG","George","Basis","Südafrika",{"$f":"COUNTIF(Eingabe!$F$2:$H$1276,\"FAGG\")","v":0},{"$f":"COUNTIF(Eingabe!$I$2:$K$1276,\"FAGG\")","v":0},"nmgsimulation","3.3.8","GRJ","Afrika","2024-09-29","20/24",null,null,null," "," ",null,{"$f":"IFERROR(AVERAGEIF(Eingabe!$I$2:$I$1276, \"FAGG\", Eingabe!$O$2:$O$1276), 0)","v":0}]
["FAGM","Rand","Basis","Südafrika",{"$f":"COUNTIF(Eingabe!$F$2:$H$1276,\"FAGM\")","v":0},{"$f":"COUNTIF(Eingabe!$I$2:$K$1276,\"FAGM\")","v":0},"nmgsimulation","1.0.9","QRA","Afrika","2025-01-30","20/24",null,null,null," "," ",null,{"$f":"IFERROR(AVERAGEIF(Eingabe!$I$2:$I$1276, \"FAGM\", Eingabe!$O$2:$O$1276), 0)","v":0}]
["FALA","Lanseria Intl.","Basis","Südafrika",{"$f":"COUNTIF(Eingabe!$F$2:$H$1276,\"FALA\")","v":0},{"$f":"COUNTIF(Eingabe!$I$2:$K$1276,\"FALA\")","v":0},"CaelusAerial","2.1.0","HLA","Afrika","2021-07-01","20/24",null,null,null," "," ",null,{"$f":"IFERROR(AVERAGEIF(Eingabe!$I$2:$I$1276, \"FALA\", Eingabe!$O$2:$O$1276), 0)","v":0}]
["FALE","Durban/King Shaka Intl.","Basis","Südafrika",{"$f":"COUNTIF(Eingabe!$F$2:$H$1276,\"FALE\")","v":0},{"$f":"COUNTIF(Eingabe!$I$2:$K$1276,\"FALE\")","v":0},"gaffersimulation","1.2.2","DUR","Afrika","2022-12-03","20/24",null,null,null," "," ",null,{"$f":"IFERROR(AVERAGEIF(Eingabe!$I$2:$I$1276, \"FALE\", Eingabe!$O$2:$O$1276), 0)","v":0}]
["FAOR","Johannesburg Intl.","Basis","Südafrika",{"$f":"COUNTIF(Eingabe!$F$2:$H$1276,\"FAOR\")","v":0},{"$f":"COUNTIF(Eingabe!$I$2:$K$1276,\"FAOR\")","v":0},"inibuilds","1.0.2","JNB","Afrika","2025-04-17",24,null,null,null," "," ",null,{"$f":"IFERROR(AVERAGEIF(Eingabe!$I$2:$I$1276, \"FAOR\", Eingabe!$O$2:$O$1276), 0)","v":0}]
["FAPE","Port Elizabeth","Basis","Südafrika",{"$f":"COUNTIF(Eingabe!$F$2:$H$1276,\"FAPE\")","v":0},{"$f":"COUNTIF(Eingabe!$I$2:$K$1276,\"FAPE\")","v":0},"gaffersimulation","1.0.1","PLZ","Afrika","2024-04-11","20/24",null,null,null," "," ",null,{"$f":"IFERROR(AVERAGEIF(Eingabe!$I$2:$I$1276, \"FAPE\", Eingabe!$O$2:$O$1276), 0)","v":0}]
["FAWB","Wonderboom","Basis","Südafrika",{"$f":"COUNTIF(Eingabe!$F$2:$H$1276,\"FAWB\")","v":0},{"$f":"COUNTIF(Eingabe!$I$2:$K$1276,\"FAWB\")","v":0},"nmgsimulation","1.5.7","PRY","Afrika","2024-12-15","20/24",null,null,null," "," ",null,{"$f":"IFERROR(AVERAGEIF(Eingabe!$I$2:$I$1276, \"FAWB\", Eingabe!$O$2:$O$1276), 0)","v":0}]
["FAYP","Ysterplaat-Kapstadt AFB","Basis","Südafrika",{"$f":"COUNTIF(Eingabe!$F$2:$H$1276,\"FAYP\")","v":0},{"$f":"COUNTIF(Eingabe!$I$2:$K$1276,\"FAYP\")","v":0},"nmgsimulation","1.0.1","***","Afrika","2024-11-22","20/24",null,null,null," "," ",null,{"$f":"IFERROR(AVERAGEIF(Eingabe!$I$2:$I$1276, \"FAYP\", Eingabe!$O$2:$O$1276), 0)","v":0}]
["FBSK","Gaborone","Basis","Südafrika",{"$f":"COUNTIF(Eingabe!$F$2:$H$1276,\"FBSK\")","v":0},{"$f":"COUNTIF(Eingabe!$I$2:$K$1276,\"FBSK\")","v":0},"barellimsfsaddon","1.0.0","GBE","Afrika","2024-04-16","20/24",null,null,null," "," ",null,{"$f":"IFERROR(AVERAGEIF(Eingabe!$I$2:$I$1276, \"FBSK\", Eingabe!$O$2:$O$1276), 0)","v":0}]
["FCBB","Brazzaville/Maya Maya","Basis","Kongo",{"$f":"COUNTIF(Eingabe!$F$2:$H$1276,\"FCBB\")","v":0},{"$f":"COUNTIF(Eingabe!$I$2:$K$1276,\"FCBB\")","v":0},"fsxscenery","2.0.0","BZV","Afrika","2023-10-25","20/24",null,null,null," "," ",null,{"$f":"IFERROR(AVERAGEIF(Eingabe!$I$2:$I$1276, \"FCBB\", Eingabe!$O$2:$O$1276), 0)","v":0}]
["FCPP","Pointe-Noire","Basis","Kongo",{"$f":"COUNTIF(Eingabe!$F$2:$H$1276,\"FCPP\")","v":0},{"$f":"COUNTIF(Eingabe!$I$2:$K$1276,\"FCPP\")","v":0},"fsxscenery","1.0.0","PNR","Afrika","2023-08-03","20/24",null,null,null," "," ",null,{"$f":"IFERROR(AVERAGEIF(Eingabe!$I$2:$I$1276, \"FCPP\", Eingabe!$O$2:$O$1276), 0)","v":0}]
["FGSL","Malabo","Basis","Äquatorialguinea",{"$f":"COUNTIF(Eingabe!$F$2:$H$1276,\"FGSL\")","v":0},{"$f":"COUNTIF(Eingabe!$I$2:$K$1276,\"FGSL\")","v":0},"fsxscenery","1.0.0","SSG","Afrika","2025-08-19","20/24",null,null,null," "," ",null,{"$f":"IFERROR(AVERAGEIF(Eingabe!$I$2:$I$1276, \"FGSL\", Eingabe!$O$2:$O$1276), 0)","v":0}]
["FIMP","Port Louis /Mauritius Intl.","Basis","Mauritius",{"$f":"COUNTIF(Eingabe!$F$2:$H$1276,\"FIMP\")","v":0},{"$f":"COUNTIF(Eingabe!$I$2:$K$1276,\"FIMP\")","v":0},"fsdg","1.6.0","MRU","Afrika","2025-06-26","20/24",null,null,null," "," ",null,{"$f":"IFERROR(AVERAGEIF(Eingabe!$I$2:$I$1276, \"FIMP\", Eingabe!$O$2:$O$1276), 0)","v":0}]
["FKKD","Douala","Basis","Kamerun",{"$f":"COUNTIF(Eingabe!$F$2:$H$1276,\"FKKD\")","v":0},{"$f":"COUNTIF(Eingabe!$I$2:$K$1276,\"FKKD\")","v":0},"fsxcenery","2.2.0",null,"Afrika","2026-05-25","20/24",null,null,null,null,null,null,{"$f":"IFERROR(AVERAGEIF(Eingabe!$I$2:$I$1276, \"FKKD\", Eingabe!$O$2:$O$1276), 0)","v":0}]
["FKYS","Yaounde","Basis","Kamerun",{"$f":"COUNTIF(Eingabe!$F$2:$H$1276,\"FKYS\")","v":0},{"$f":"COUNTIF(Eingabe!$I$2:$K$1276,\"FKYS\")","v":0},"fsxcenery","2.0.0","NSI","Afrika","2024-05-11","20/24",null,null,null,{"$f":"IF(E235=0,\" \",\"✔️\")","v":" "}," ",null,{"$f":"IFERROR(AVERAGEIF(Eingabe!$I$2:$I$1276, \"FKYS\", Eingabe!$O$2:$O$1276), 0)","v":0}]
["FLHN","Livingstone","Basis","Sambia",{"$f":"COUNTIF(Eingabe!$F$2:$H$1276,\"FLHN\")","v":0},{"$f":"COUNTIF(Eingabe!$I$2:$K$1276,\"FLHN\")","v":0},"61treestudio","1.8.8","LVI","Afrika","2024-04-05","20/24",null,null,null," "," ",null,{"$f":"IFERROR(AVERAGEIF(Eingabe!$I$2:$I$1276, \"FLHN\", Eingabe!$O$2:$O$1276), 0)","v":0}]
["FMCZ","Dzaoudzi-Pamandzi ","Basis","Mayotte",{"$f":"COUNTIF(Eingabe!$F$2:$H$1276,\"FMCZ\")","v":0},{"$f":"COUNTIF(Eingabe!$I$2:$K$1276,\"FMCZ\")","v":0},"fsdg","1.4.1","DZA","Afrika","2026-01-03",24,null,null,null," "," ",null,{"$f":"IFERROR(AVERAGEIF(Eingabe!$I$2:$I$1276, \"FMCZ\", Eingabe!$O$2:$O$1276), 0)","v":0}]
["FMEE","Roland Garos-Réunion","Basis","Frankreich",{"$f":"COUNTIF(Eingabe!$F$2:$H$1276,\"FMEE\")","v":0},{"$f":"COUNTIF(Eingabe!$I$2:$K$1276,\"FMEE\")","v":0},"fsdg","1.2.1","RUN","Europa","2026-04-10",24,null,null,null," "," ",null,{"$f":"IFERROR(AVERAGEIF(Eingabe!$I$2:$I$1276, \"FMEE\", Eingabe!$O$2:$O$1276), 0)","v":0}]
["FMMI","Ivato, Antananarivo","Basis","Madagaskar",{"$f":"COUNTIF(Eingabe!$F$2:$H$1276,\"FMMI\")","v":0},{"$f":"COUNTIF(Eingabe!$I$2:$K$1276,\"FMMI\")","v":0},"vuelosimple","1.0.2","TNR","Afrika","2024-07-16","20/24",null,null,null," "," ",null,{"$f":"IFERROR(AVERAGEIF(Eingabe!$I$2:$I$1276, \"FMMI\", Eingabe!$O$2:$O$1276), 0)","v":0}]
["FNBJ","Luanda Intl.","Basis","Angola",{"$f":"COUNTIF(Eingabe!$F$2:$H$1276,\"FNBJ\")","v":0},{"$f":"COUNTIF(Eingabe!$I$2:$K$1276,\"FNBJ\")","v":0},"barellimsfsaddon","2.1.0","NBJ","Afrika","2026-06-05",24,null,null,null,null,null,null,{"$f":"IFERROR(AVERAGEIF(Eingabe!$I$2:$I$1276, \"FNBJ\", Eingabe!$O$2:$O$1276), 0)","v":0}]
["FNLU","Luanda-Quatro De Fevereiro","Basis","Angola",{"$f":"COUNTIF(Eingabe!$F$2:$H$1276,\"FNLU\")","v":0},{"$f":"COUNTIF(Eingabe!$I$2:$K$1276,\"FNLU\")","v":0},"fsxcenery","2.1.0","LAD","Afrika","2026-03-20","20/24",null,null,null,{"$f":"IF(E241=0,\" \",\"✔️\")","v":" "},{"$f":"IF(F241=0,\" \",\"✔️\")","v":" "},null,{"$f":"IFERROR(AVERAGEIF(Eingabe!$I$2:$I$1276, \"FNLU\", Eingabe!$O$2:$O$1276), 0)","v":0}]
["FSIA","Mahe-Victoria","Basis","Seychellen",{"$f":"COUNTIF(Eingabe!$F$2:$H$1276,\"FSIA\")","v":0},{"$f":"COUNTIF(Eingabe!$I$2:$K$1276,\"FSIA\")","v":0},"catchstar","1.6.0","SEZ","Asien","2025-01-23","20/24",null,null,null," "," ",null,{"$f":"IFERROR(AVERAGEIF(Eingabe!$I$2:$I$1276, \"FSIA\", Eingabe!$O$2:$O$1276), 0)","v":0}]
["FTTJ","N'Djaména","Basis","Tschad",{"$f":"COUNTIF(Eingabe!$F$2:$H$1276,\"FTTJ\")","v":0},{"$f":"COUNTIF(Eingabe!$I$2:$K$1276,\"FTTJ\")","v":0},"fsxcenery","1.0.0","NDJ","Afrika","2026-02-12","20/24",null,null,null," "," ",null,{"$f":"IFERROR(AVERAGEIF(Eingabe!$I$2:$I$1276, \"FTTJ\", Eingabe!$O$2:$O$1276), 0)","v":0}]
["FVFA","Victoria Falls","Basis","Simbabwe",{"$f":"COUNTIF(Eingabe!$F$2:$H$1276,\"FVFA\")","v":0},{"$f":"COUNTIF(Eingabe!$I$2:$K$1276,\"FVFA\")","v":0},"FSDG","1.2.2","VFA","Afrika","2026-01-22",24,null,null,null," "," ",null,{"$f":"IFERROR(AVERAGEIF(Eingabe!$I$2:$I$1276, \"FVFA\", Eingabe!$O$2:$O$1276), 0)","v":0}]
["FXMM","Moshoeshoe","Basis","Lesotho",{"$f":"COUNTIF(Eingabe!$F$2:$H$1276,\"FXMM\")","v":0},{"$f":"COUNTIF(Eingabe!$I$2:$K$1276,\"FXMM\")","v":0},"fsxcenery","2.0.0","MSU","Afrika","2024-05-11","20/24",null,null,null," "," ",null,{"$f":"IFERROR(AVERAGEIF(Eingabe!$I$2:$I$1276, \"FXMM\", Eingabe!$O$2:$O$1276), 0)","v":0}]
["FYWH","Windhoek","Basis","Namibia",{"$f":"COUNTIF(Eingabe!$F$2:$H$1276,\"FYWH\")","v":0},{"$f":"COUNTIF(Eingabe!$I$2:$K$1276,\"FYWH\")","v":0},"fsdg","1.0.0","WDH","Afrika","2021-01-13","20/24",null,null,null," "," ",null,{"$f":"IFERROR(AVERAGEIF(Eingabe!$I$2:$I$1276, \"FYWH\", Eingabe!$O$2:$O$1276), 0)","v":0}]
["FZAA","Kinshasa","Basis","Kongo",{"$f":"COUNTIF(Eingabe!$F$2:$H$1276,\"FZAA\")","v":0},{"$f":"COUNTIF(Eingabe!$I$2:$K$1276,\"FZAA\")","v":0},"fsdg","1.0.0","FIH","Afrika","2026-02-02",24,null,null,null," "," ",null,{"$f":"IFERROR(AVERAGEIF(Eingabe!$I$2:$I$1276, \"FZAA\", Eingabe!$O$2:$O$1276), 0)","v":0}]
["GCFV","Fuerteventura","Basis","Spanien",{"$f":"COUNTIF(Eingabe!$F$2:$H$1276,\"GCFV\")","v":0},{"$f":"COUNTIF(Eingabe!$I$2:$K$1276,\"GCFV\")","v":0},"mkstudios","1.3.0","FUE","Europa","2023-10-16","20/24",null,null,null," "," ",null,{"$f":"IFERROR(AVERAGEIF(Eingabe!$I$2:$I$1276, \"GCFV\", Eingabe!$O$2:$O$1276), 0)","v":0}]
["GCHI","Hierro","Basis","Spanien",{"$f":"COUNTIF(Eingabe!$F$2:$H$1276,\"GCHI\")","v":0},{"$f":"COUNTIF(Eingabe!$I$2:$K$1276,\"GCHI\")","v":0},"agsim","1.1.1","VDE","Europa","2025-12-22","20/24",null,null,null," "," ",null,{"$f":"IFERROR(AVERAGEIF(Eingabe!$I$2:$I$1276, \"GCHI\", Eingabe!$O$2:$O$1276), 0)","v":0}]
["GCLA","La Palma","Basis","Spanien",{"$f":"COUNTIF(Eingabe!$F$2:$H$1276,\"GCLA\")","v":0},{"$f":"COUNTIF(Eingabe!$I$2:$K$1276,\"GCLA\")","v":0},"simwings","1.1.1.0","SPC","Europa","2022-06-24","20/24",null,null,null," "," ",null,{"$f":"IFERROR(AVERAGEIF(Eingabe!$I$2:$I$1276, \"GCLA\", Eingabe!$O$2:$O$1276), 0)","v":0}]
["GCLP","Gran Canaria-Las Palmas","Basis","Spanien",{"$f":"COUNTIF(Eingabe!$F$2:$H$1276,\"GCLP\")","v":0},{"$f":"COUNTIF(Eingabe!$I$2:$K$1276,\"GCLP\")","v":0},"simwings","1.0.3.0","LPA","Europa","2022-06-28","20/24",null,null,null," "," ",null,{"$f":"IFERROR(AVERAGEIF(Eingabe!$I$2:$I$1276, \"GCLP\", Eingabe!$O$2:$O$1276), 0)","v":0}]
["GCRR","Lanzarote","Basis","Spanien",{"$f":"COUNTIF(Eingabe!$F$2:$H$1276,\"GCRR\")","v":0},{"$f":"COUNTIF(Eingabe!$I$2:$K$1276,\"GCRR\")","v":0},"justflight","1.1.0","ACE","Europa","2026-05-16",24,null,null,null," "," ",null,{"$f":"IFERROR(AVERAGEIF(Eingabe!$I$2:$I$1276, \"GCRR\", Eingabe!$O$2:$O$1276), 0)","v":0}]
["GCTS","Teneriffa Süd","Basis","Spanien",{"$f":"COUNTIF(Eingabe!$F$2:$H$1276,\"GCTS\")","v":0},{"$f":"COUNTIF(Eingabe!$I$2:$K$1276,\"GCTS\")","v":0},"simwings","1.4.0","TFS","Europa","2025-09-16","20/24",null,null,null," "," ",null,{"$f":"IFERROR(AVERAGEIF(Eingabe!$I$2:$I$1276, \"GCTS\", Eingabe!$O$2:$O$1276), 0)","v":0}]
["GCXO","Teneriffa Nord","Basis","Spanien",{"$f":"COUNTIF(Eingabe!$F$2:$H$1276,\"GCXO\")","v":0},{"$f":"COUNTIF(Eingabe!$I$2:$K$1276,\"GCXO\")","v":0},"wolkenblau","1.2.0","TFN","Europa","2023-02-13","20/24",null,null,null," "," ",null,{"$f":"IFERROR(AVERAGEIF(Eingabe!$I$2:$I$1276, \"GCXO\", Eingabe!$O$2:$O$1276), 0)","v":0}]
["GLRB","Monrovia","Basis","Liberia",{"$f":"COUNTIF(Eingabe!$F$2:$H$1276,\"GLRB\")","v":0},{"$f":"COUNTIF(Eingabe!$I$2:$K$1276,\"GLRB\")","v":0},"africa4fs","1.3.0","ROB","Afrika","2025-03-01","20/24",null,null,null," "," ",null,{"$f":"IFERROR(AVERAGEIF(Eingabe!$I$2:$I$1276, \"GLRB\", Eingabe!$O$2:$O$1276), 0)","v":0}]
["GMAD","Agadir","Basis","Marokko",{"$f":"COUNTIF(Eingabe!$F$2:$H$1276,\"GMAD\")","v":0},{"$f":"COUNTIF(Eingabe!$I$2:$K$1276,\"GMAD\")","v":0},"fsdg","1.2.0","AGA","Afrika","2026-01-03",24,null,null,null," "," ",null,{"$f":"IFERROR(AVERAGEIF(Eingabe!$I$2:$I$1276, \"GMAD\", Eingabe!$O$2:$O$1276), 0)","v":0}]
["GMFF","Fes Saiss","Basis","Marokko",{"$f":"COUNTIF(Eingabe!$F$2:$H$1276,\"GMFF\")","v":0},{"$f":"COUNTIF(Eingabe!$I$2:$K$1276,\"GMFF\")","v":0},"perfectsoft","1.0.0","FEZ","Afrika","2025-01-30",24,null,null,null," "," ",null,{"$f":"IFERROR(AVERAGEIF(Eingabe!$I$2:$I$1276, \"GMFF\", Eingabe!$O$2:$O$1276), 0)","v":0}]
["GMFO","Oujda-Angads","Basis","Marokko",{"$f":"COUNTIF(Eingabe!$F$2:$H$1276,\"GMFO\")","v":0},{"$f":"COUNTIF(Eingabe!$I$2:$K$1276,\"GMF=\")","v":0},"ismaberk","1.1.0","OUD","Afrika","2024-04-28","20/24",null,null,null," "," ",null,{"$f":"IFERROR(AVERAGEIF(Eingabe!$I$2:$I$1276, \"GMFO\", Eingabe!$O$2:$O$1276), 0)","v":0}]
["GMMN","Casablanca","Basis","Marokko",{"$f":"COUNTIF(Eingabe!$F$2:$H$1276,\"GMMN\")","v":0},{"$f":"COUNTIF(Eingabe!$I$2:$K$1276,\"GMMN\")","v":0},"prealsoft","1.2.1","CMN","Afrika","2023-08-14","20/24",null,null,null," "," ",null,{"$f":"IFERROR(AVERAGEIF(Eingabe!$I$2:$I$1276, \"GMMN\", Eingabe!$O$2:$O$1276), 0)","v":0}]
["GMMX","Marrakesch-Menara","Basis","Marokko",{"$f":"COUNTIF(Eingabe!$F$2:$H$1276,\"GMMX\")","v":0},{"$f":"COUNTIF(Eingabe!$I$2:$K$1276,\"GMMX\")","v":0},"perfectsoft","1.2.0","RAK","Afrika","2023-06-08","20/24",null,null,null," "," ",null,{"$f":"IFERROR(AVERAGEIF(Eingabe!$I$2:$I$1276, \"GMMX\", Eingabe!$O$2:$O$1276), 0)","v":0}]
["GMTT","Tangier","Basis","Marokko",{"$f":"COUNTIF(Eingabe!$F$2:$H$1276,\"GMTT\")","v":0},{"$f":"COUNTIF(Eingabe!$I$2:$K$1276,\"GMTT\")","v":0},"simpixel","1.0.3","TNG","Afrika","2025-12-13","20/24",null,null,null," "," ",null,{"$f":"IFERROR(AVERAGEIF(Eingabe!$I$2:$I$1276, \"GMTT\", Eingabe!$O$2:$O$1276), 0)","v":0}]
["GOBD","Blaise Diagne-Dakar","Basis","Senegal",{"$f":"COUNTIF(Eingabe!$F$2:$H$1276,\"GOBD\")","v":0},{"$f":"COUNTIF(Eingabe!$I$2:$K$1276,\"GOBD\")","v":0},"devinci","1.0.3","DSS","Afrika","2026-02-02",24,null,null,null," "," ",null,{"$f":"IFERROR(AVERAGEIF(Eingabe!$I$2:$I$1276, \"GOBD\", Eingabe!$O$2:$O$1276), 0)","v":0}]
["GOOY","Dakar","Basis","Senegal",{"$f":"COUNTIF(Eingabe!$F$2:$H$1276,\"GOOY\")","v":0},{"$f":"COUNTIF(Eingabe!$I$2:$K$1276,\"GOOY\")","v":0},"Standard",null,"DKR","Afrika",null,24,null,null,null," "," ",null,{"$f":"IFERROR(AVERAGEIF(Eingabe!$I$2:$I$1276, \"GOOY\", Eingabe!$O$2:$O$1276), 0)","v":0}]
["GVAC","Espargos - Kap Verde","Basis","Kap Verde",{"$f":"COUNTIF(Eingabe!$F$2:$H$1276,\"GVAC\")","v":0},{"$f":"COUNTIF(Eingabe!$I$2:$K$1276,\"GVAC\")","v":0},"fsdg","1.0.0","SID","Afrika","2026-02-19",24,null,null,null," "," ",null,{"$f":"IFERROR(AVERAGEIF(Eingabe!$I$2:$I$1276, \"GVAC\", Eingabe!$O$2:$O$1276), 0)","v":0}]
["GVBA","Boa Vista Rabil","Basis","Kap Verde",{"$f":"COUNTIF(Eingabe!$F$2:$H$1276,\"DXXX\")","v":0},{"$f":"COUNTIF(Eingabe!$I$2:$K$1276,\"DXXX\")","v":0},"dsky","1.2.0","BVC","Afrika","2022-02-02","20/24",null,null,null," "," ",null,{"$f":"IFERROR(AVERAGEIF(Eingabe!$I$2:$I$1276, \"GVBA\", Eingabe!$O$2:$O$1276), 0)","v":0}]
["HAAB","Addis Abeba","Basis","Äthiopien",{"$f":"COUNTIF(Eingabe!$F$2:$H$1276,\"HAAB\")","v":0},{"$f":"COUNTIF(Eingabe!$I$2:$K$1276,\"HAAB\")","v":0},"barellimsfsaddon","1.0.0","ADD","Afrika","2025-03-29","20/24",null,null,null," "," ",null,{"$f":"IFERROR(AVERAGEIF(Eingabe!$I$2:$I$1276, \"HAAB\", Eingabe!$O$2:$O$1276), 0)","v":0}]
["HECA","Kairo","Basis","Ägypten",{"$f":"COUNTIF(Eingabe!$F$2:$H$1276,\"HECA\")","v":0},{"$f":"COUNTIF(Eingabe!$I$2:$K$1276,\"HECA\")","v":0},"SimDesigngroup","1.0.3","CAI","Afrika","2026-07-19",24,null,null,null," "," ",null,{"$f":"IFERROR(AVERAGEIF(Eingabe!$I$2:$I$1276, \"HECA\", Eingabe!$O$2:$O$1276), 0)","v":0}]
["HEGN","Hurghada","Basis","Ägypten",{"$f":"COUNTIF(Eingabe!$F$2:$H$1276,\"HEGN\")","v":0},{"$f":"COUNTIF(Eingabe!$I$2:$K$1276,\"HEGN\")","v":0},"fsdg","1.3.0","HRG","Afrika","2026-05-16",24,null,null,null," "," ",null,{"$f":"IFERROR(AVERAGEIF(Eingabe!$I$2:$I$1276, \"HEGN\", Eingabe!$O$2:$O$1276), 0)","v":0}]
["HEMA","Marsa Alam","Basis","Ägypten",{"$f":"COUNTIF(Eingabe!$F$2:$H$1276,\"HEMA\")","v":0},{"$f":"COUNTIF(Eingabe!$I$2:$K$1276,\"HEMA\")","v":0},"fsdg","1.1.1","RMF","Afrika","2026-02-12",24,null,null,null," "," ",null,{"$f":"IFERROR(AVERAGEIF(Eingabe!$I$2:$I$1276, \"HEMA\", Eingabe!$O$2:$O$1276), 0)","v":0}]
["HESH","Sharm El Sheikh","Basis","Ägypten",{"$f":"COUNTIF(Eingabe!$F$2:$H$1276,\"HESH\")","v":0},{"$f":"COUNTIF(Eingabe!$I$2:$K$1276,\"HESH\")","v":0},"fsdg","1.4.0","SSH","Afrika","2025-01-30","20/24",null,null,null," "," ",null,{"$f":"IFERROR(AVERAGEIF(Eingabe!$I$2:$I$1276, \"HESH\", Eingabe!$O$2:$O$1276), 0)","v":0}]
["HKJK","Nairobi","Basis","Kenia",{"$f":"COUNTIF(Eingabe!$F$2:$H$1276,\"HKJK\")","v":0},{"$f":"COUNTIF(Eingabe!$I$2:$K$1276,\"HKJK\")","v":0},"fsdg","1.4.0","NBO","Afrika","2026-03-10","20/24",null,null,null," "," ",null,{"$f":"IFERROR(AVERAGEIF(Eingabe!$I$2:$I$1276, \"HKJK\", Eingabe!$O$2:$O$1276), 0)","v":0}]
["HKMO","Mombasa","Basis","Kenia",{"$f":"COUNTIF(Eingabe!$F$2:$H$1276,\"HKMO\")","v":0},{"$f":"COUNTIF(Eingabe!$I$2:$K$1276,\"HKMO\")","v":0},"askies","1.2.0","MBA","Afrika","2026-05-25",24,null,null,null," "," ",null,{"$f":"IFERROR(AVERAGEIF(Eingabe!$I$2:$I$1276, \"HKMO\", Eingabe!$O$2:$O$1276), 0)","v":0}]
["HLLB","Bengasi","Basis","Liberia",{"$f":"COUNTIF(Eingabe!$F$2:$H$1276,\"HLLB\")","v":0},{"$f":"COUNTIF(Eingabe!$I$2:$K$1276,\"HLLB\")","v":0},"azrsim","1.3.0","BEN","Afrika","2026-02-19",24,null,null,null," "," ",null,{"$f":"IFERROR(AVERAGEIF(Eingabe!$I$2:$I$1276, \"HHLLB\", Eingabe!$O$2:$O$1276), 0)","v":0}]
["HLLT","Tripoli","Basis","Liberia",{"$f":"COUNTIF(Eingabe!$F$2:$H$1276,\"HLLT\")","v":0},{"$f":"COUNTIF(Eingabe!$I$2:$K$1276,\"HLLT\")","v":0},"azrsim","3.0.0","TIP","Afrika","2026-01-11",24,null,null,null," "," ",null,{"$f":"IFERROR(AVERAGEIF(Eingabe!$I$2:$I$1276, \"HLLT\", Eingabe!$O$2:$O$1276), 0)","v":0}]
["HTKJ","Kilimanjaro","Basis","Tansania",{"$f":"COUNTIF(Eingabe!$F$2:$H$1276,\"HTKJ\")","v":0},{"$f":"COUNTIF(Eingabe!$I$2:$K$1276,\"HTKJ\")","v":0},"vuelosimple","1.0.0","JRO","Afrika","2023-04-01","20/24",null,null,null," "," ",null,{"$f":"IFERROR(AVERAGEIF(Eingabe!$I$2:$I$1276, \"HTKJ\", Eingabe!$O$2:$O$1276), 0)","v":0}]
["HTZA","Sansibar","Basis","Tansania",{"$f":"COUNTIF(Eingabe!$F$2:$H$1276,\"HTZA\")","v":0},{"$f":"COUNTIF(Eingabe!$I$2:$K$1276,\"HTZA\")","v":0},"barellimsfsaddon","1.0.0","ZNZ","Afrika","2024-06-06","20/24",null,null,null," "," ",null,{"$f":"IFERROR(AVERAGEIF(Eingabe!$I$2:$I$1276, \"HTZA\", Eingabe!$O$2:$O$1276), 0)","v":0}]
["KABQ","Albuquerque New Mexico","Basis","USA",{"$f":"COUNTIF(Eingabe!$F$2:$H$1276,\"KABQ\")","v":0},{"$f":"COUNTIF(Eingabe!$I$2:$K$1276,\"KABQ\")","v":0},"dominicdesignteam","1.1.0","ABQ","Nord-Amerika","2026-01-22","20/24",null,null,null," "," ",null,{"$f":"IFERROR(AVERAGEIF(Eingabe!$I$2:$I$1276, \"KABQ\", Eingabe!$O$2:$O$1276), 0)","v":0}]
["KAMA","Amarillo / Texas","Basis","USA",{"$f":"COUNTIF(Eingabe!$F$2:$H$1276,\"KAMA\")","v":0},{"$f":"COUNTIF(Eingabe!$I$2:$K$1276,\"KAMA\")","v":0},"dominicdesignteam","1.1.0","AMA","Nord-Amerika","2024-06-24","20/24",null,null,null," "," ",null,{"$f":"IFERROR(AVERAGEIF(Eingabe!$I$2:$I$1276, \"KAMA\", Eingabe!$O$2:$O$1276), 0)","v":0}]
["KASE","Aspen/Colorado","Basis","USA",{"$f":"COUNTIF(Eingabe!$F$2:$H$1276,\"KASE\")","v":0},{"$f":"COUNTIF(Eingabe!$I$2:$K$1276,\"KASE\")","v":0},"flyhigh","1.2.1","ASE","Nord-Amerika","2024-09-11","20/24",null,null,null," "," ",null,{"$f":"IFERROR(AVERAGEIF(Eingabe!$I$2:$I$1276, \"KASE\", Eingabe!$O$2:$O$1276), 0)","v":0}]
["KATL","Atlanta Intl./Georgia","World Update 2","USA",{"$f":"COUNTIF(Eingabe!$F$2:$H$1276,\"KATL\")","v":0},{"$f":"COUNTIF(Eingabe!$I$2:$K$1276,\"KATL\")","v":0},"orbx","1.0.4","ATL","Nord-Amerika","2026-06-21",24,null,null,null," "," ",null,{"$f":"IFERROR(AVERAGEIF(Eingabe!$I$2:$I$1276, \"KATL\", Eingabe!$O$2:$O$1276), 0)","v":0}]
["KATW","Appleton / Wisconsin","Basis","USA",{"$f":"COUNTIF(Eingabe!$F$2:$H$1276,\"KATW\")","v":0},{"$f":"COUNTIF(Eingabe!$I$2:$K$1276,\"KATW\")","v":0},"mmsimulations","1.1.0","ATW","Nord-Amerika","2026-05-06","20/24",null,null,null,null,null,null,{"$f":"IFERROR(AVERAGEIF(Eingabe!$I$2:$I$1276, \"KATW\", Eingabe!$O$2:$O$1276), 0)","v":0}]
["KAUS","Austin Bergstrom Intl. / Texas","Basis","USA",{"$f":"COUNTIF(Eingabe!$F$2:$H$1276,\"KAUS\")","v":0},{"$f":"COUNTIF(Eingabe!$I$2:$K$1276,\"KAUS\")","v":0},"feelthere","1.4.2","AUS","Nord-Amerika","2026-01-11","20/24",null,null,null,{"$f":"IF(E282=0,\" \",\"✔️\")","v":" "},{"$f":"IF(F282=0,\" \",\"✔️\")","v":" "},null,{"$f":"IFERROR(AVERAGEIF(Eingabe!$I$2:$I$1276, \"KAUS\", Eingabe!$O$2:$O$1276), 0)","v":0}]
["KBCT","Boca Raton / Florida","Basis","USA",{"$f":"COUNTIF(Eingabe!$F$2:$H$1276,\"KBCT\")","v":0},{"$f":"COUNTIF(Eingabe!$I$2:$K$1276,\"KBCT\")","v":0},"Astralis Studio","0.1.1","BCT","Nord-Amerika","2025-04-11","20/24",null,null,null," "," ",null,{"$f":"IFERROR(AVERAGEIF(Eingabe!$I$2:$I$1276, \"KBCT\", Eingabe!$O$2:$O$1276), 0)","v":0}]
["KBFI","Seattle Boeing Field / Washington","Basis","USA",{"$f":"COUNTIF(Eingabe!$F$2:$H$1276,\"KBFI\")","v":0},{"$f":"COUNTIF(Eingabe!$I$2:$K$1276,\"KBFI\")","v":0},"drzewieckidesign","1.2.0","BFI","Nord-Amerika","2026-02-12","20/24",null,null,null," "," ",null,{"$f":"IFERROR(AVERAGEIF(Eingabe!$I$2:$I$1276, \"KBFI\", Eingabe!$O$2:$O$1276), 0)","v":0}]
["KBGR","Bangor Intl. / Maine","Basis","USA",{"$f":"COUNTIF(Eingabe!$F$2:$H$1276,\"KBGR\")","v":0},{"$f":"COUNTIF(Eingabe!$I$2:$K$1276,\"KBGR\")","v":0},"fsxcenery","2.0.0","BGR","Nord-Amerika","2024-05-17","20/24",null,null,null," "," ",null,{"$f":"IFERROR(AVERAGEIF(Eingabe!$I$2:$I$1276, \"KBGR\", Eingabe!$O$2:$O$1276), 0)","v":0}]
["KBHM","Birmingham-Shuttesworth / Alabama","Basis","USA",{"$f":"COUNTIF(Eingabe!$F$2:$H$1276,\"KBCT\")","v":0},{"$f":"COUNTIF(Eingabe!$I$2:$K$1276,\"KBCT\")","v":0},"flyhigh","1.2.1","BHM","Nord-Amerika","2026-03-29",24,null,null,null," "," ",null,{"$f":"IFERROR(AVERAGEIF(Eingabe!$I$2:$I$1276, \"KBHM\", Eingabe!$O$2:$O$1276), 0)","v":0}]
["KBLI","Bellingham / Washington","Basis","USA",{"$f":"COUNTIF(Eingabe!$F$2:$H$1276,\"KBLI\")","v":0},{"$f":"COUNTIF(Eingabe!$I$2:$K$1276,\"KBLI\")","v":0},"flyhigh","3.0.0","BLI","Nord-Amerika","2025-09-16","20/24",null,null,null," "," ",null,{"$f":"IFERROR(AVERAGEIF(Eingabe!$I$2:$I$1276, \"KBLI\", Eingabe!$O$2:$O$1276), 0)","v":0}]
["KBNA","Nashville / Tennessee","Basis","USA",{"$f":"COUNTIF(Eingabe!$F$2:$H$1276,\"KBNA\")","v":0},{"$f":"COUNTIF(Eingabe!$I$2:$K$1276,\"KBNA\")","v":0},"feelthere","1.4.0","BNA","Nord-Amerika","2026-05-25",24,null,null,null," "," ",null,{"$f":"IFERROR(AVERAGEIF(Eingabe!$I$2:$I$1276, \"KBNA\", Eingabe!$O$2:$O$1276), 0)","v":0}]
["KBOI","Boise / Idaho","Basis","USA",{"$f":"COUNTIF(Eingabe!$F$2:$H$1276,\"KBOI\")","v":0},{"$f":"COUNTIF(Eingabe!$I$2:$K$1276,\"KBOI\")","v":0},"verticalsim","1.1.0","BOI","Nord-Amerika","2023-04-11","20/24",null,null,null," "," ",null,{"$f":"IFERROR(AVERAGEIF(Eingabe!$I$2:$I$1276, \"KBOI\", Eingabe!$O$2:$O$1276), 0)","v":0}]
["KBOS","Boston / Massachusetts","Basis","USA",{"$f":"COUNTIF(Eingabe!$F$2:$H$1276,\"KBOS\")","v":0},{"$f":"COUNTIF(Eingabe!$I$2:$K$1276,\"KBOS\")","v":0},"FlyTampa","1.9.0","BOS","Nord-Amerika","2025-01-03","20/24",null,null,"B38"," "," ",null,{"$f":"IFERROR(AVERAGEIF(Eingabe!$I$2:$I$1276, \"KBOS\", Eingabe!$O$2:$O$1276), 0)","v":0}]
["KBRO","Brownsville / Texas","Basis","USA",{"$f":"COUNTIF(Eingabe!$F$2:$H$1276,\"KBRO\")","v":0},{"$f":"COUNTIF(Eingabe!$I$2:$K$1276,\"KBRO\")","v":0},"flyhigh","1.7.0","BRO","Nord-Amerika","2026-04-26","20/24",null,null,null," "," ",null,{"$f":"IFERROR(AVERAGEIF(Eingabe!$I$2:$I$1276, \"KBRO\", Eingabe!$O$2:$O$1276), 0)","v":0}]
["KBUF","Buffalo Niagara / New York","Basis","USA",{"$f":"COUNTIF(Eingabe!$F$2:$H$1276,\"KBUF\")","v":0},{"$f":"COUNTIF(Eingabe!$I$2:$K$1276,\"KBUF\")","v":0},"inibuilds","1.1.1","OGG","Nord-Amerika","2024-07-27","20/24",null,null,null," "," ",null,{"$f":"IFERROR(AVERAGEIF(Eingabe!$I$2:$I$1276, \"KBUF\", Eingabe!$O$2:$O$1276), 0)","v":0}]
["KBUR","Hollywood-Burbank / Kalifornien","Basis","USA",{"$f":"COUNTIF(Eingabe!$F$2:$H$1276,\"KBUR\")","v":0},{"$f":"COUNTIF(Eingabe!$I$2:$K$1276,\"KBUR\")","v":0},"ORBX","2.1.0","BUR","Nord-Amerika","2023-05-10","20/24",null,null,null," "," ",null,{"$f":"IFERROR(AVERAGEIF(Eingabe!$I$2:$I$1276, \"KBUR\", Eingabe!$O$2:$O$1276), 0)","v":0}]
["KBWI","Baltimore / Washington","Basis","USA",{"$f":"COUNTIF(Eingabe!$F$2:$H$1276,\"KBWI\")","v":0},{"$f":"COUNTIF(Eingabe!$I$2:$K$1276,\"KBWI\")","v":0},"lvfr","1.0.3","BWI","Nord-Amerika","2025-03-09","20/24",null,null,null," "," ",null,{"$f":"IFERROR(AVERAGEIF(Eingabe!$I$2:$I$1276, \"KBWI\", Eingabe!$O$2:$O$1276), 0)","v":0}]
["KBZN","Bozeman Yellowstone Itl. / Montana","Basis","USA",{"$f":"COUNTIF(Eingabe!$F$2:$H$1276,\"KBZN\")","v":0},{"$f":"COUNTIF(Eingabe!$I$2:$K$1276,\"KBZN\")","v":0},"tms","1.1.0","BZN","Nord-Amerika","2026-03-20","20/24",null,null,null," "," ",null,{"$f":"IFERROR(AVERAGEIF(Eingabe!$I$2:$I$1276, \"KBZN\", Eingabe!$O$2:$O$1276), 0)","v":0}]
["KCAE","Columbia / Columbia-South Carolina","Basis","USA",{"$f":"COUNTIF(Eingabe!$F$2:$H$1276,\"KCAE\")","v":0},{"$f":"COUNTIF(Eingabe!$I$2:$K$1276,\"KCAE\")","v":0},"glideslope","1.1.0","CAE","Nord-Amerika","2025-09-16",24,null,null,null," "," ",null,{"$f":"IFERROR(AVERAGEIF(Eingabe!$I$2:$I$1276, \"KCAE\", Eingabe!$O$2:$O$1276), 0)","v":0}]
["KCAK","Akron-Canton Regional / Ohio","Basis","USA",{"$f":"COUNTIF(Eingabe!$F$2:$H$1276,\"KCAK\")","v":0},{"$f":"COUNTIF(Eingabe!$I$2:$K$1276,\"KCAK\")","v":0},"flyhigh","1.5.0","CAK","Nord-Amerika","2026-07-03",24,null,null,null," "," ",null,{"$f":"IFERROR(AVERAGEIF(Eingabe!$I$2:$I$1276, \"KCAK\", Eingabe!$O$2:$O$1276), 0)","v":0}]
["KCHO","Charlottesville","Basis","USA",{"$f":"COUNTIF(Eingabe!$F$2:$H$1276,\"KCHO\")","v":0},{"$f":"COUNTIF(Eingabe!$I$2:$K$1276,\"KCHO\")","v":0},"fsxcenery","1.1.0",null,"Nord-Amerika","2026-04-26","20/24",null,null,null,null,null,null,{"$f":"IFERROR(AVERAGEIF(Eingabe!$I$2:$I$1276, \"KCHO\", Eingabe!$O$2:$O$1276), 0)","v":0}]
["KCHS","Charleston / South Carolina","Basis","USA",{"$f":"COUNTIF(Eingabe!$F$2:$H$1276,\"KCHS\")","v":0},{"$f":"COUNTIF(Eingabe!$I$2:$K$1276,\"KCHS\")","v":0},"dominicdesignteam","1.4.0","CHS","Nord-Amerika","2026-02-02","20/24",null,null,null,{"$f":"IF(E299=0,\" \",\"✔️\")","v":" "},{"$f":"IF(F299=0,\" \",\"✔️\")","v":" "},null,{"$f":"IFERROR(AVERAGEIF(Eingabe!$I$2:$I$1276, \"KCHS\", Eingabe!$O$2:$O$1276), 0)","v":0}]
["KCLE","Cleveland-Hopkins Intl. / Ohio","Basis","USA",{"$f":"COUNTIF(Eingabe!$F$2:$H$1276,\"KCLE\")","v":0},{"$f":"COUNTIF(Eingabe!$I$2:$K$1276,\"KCLE\")","v":0},"pacsim","1.0.0","CLE","Nord-Amerika","2021-10-16","20/24",null,null,null," "," ",null,{"$f":"IFERROR(AVERAGEIF(Eingabe!$I$2:$I$1276, \"KCLE\", Eingabe!$O$2:$O$1276), 0)","v":0}]
["KCLT","Charlotte / North Carolina","Basis","USA",{"$f":"COUNTIF(Eingabe!$F$2:$H$1276,\"KCLT\")","v":0},{"$f":"COUNTIF(Eingabe!$I$2:$K$1276,\"KCLT\")","v":0},"fsdreamteam","1.0.7","CLT","Nord-Amerika","2024-11-22","20/24",null,null,null," "," ",null,{"$f":"IFERROR(AVERAGEIF(Eingabe!$I$2:$I$1276, \"KCLT\", Eingabe!$O$2:$O$1276), 0)","v":0}]
["KCMH","Columbus Intl. / Ohio","Basis","USA",{"$f":"COUNTIF(Eingabe!$F$2:$H$1276,\"KCMH\")","v":0},{"$f":"COUNTIF(Eingabe!$I$2:$K$1276,\"KCMH\")","v":0},"pacsim","1.0.0","CMH","Nord-Amerika","2024-12-03","20/24",null,null,null," "," ",null,{"$f":"IFERROR(AVERAGEIF(Eingabe!$I$2:$I$1276, \"KCMH\", Eingabe!$O$2:$O$1276), 0)","v":0}]
["KCMI","Willard / Illinois","Basis","USA",{"$f":"COUNTIF(Eingabe!$F$2:$H$1276,\"KCMI\")","v":0},{"$f":"COUNTIF(Eingabe!$I$2:$K$1276,\"KCMI\")","v":0},"UK2000","1.0.2","CMI","Nord-Amerika","2025-06-10","20/24",null,null,null," "," ",null,{"$f":"IFERROR(AVERAGEIF(Eingabe!$I$2:$I$1276, \"KCMI\", Eingabe!$O$2:$O$1276), 0)","v":0}]
["KCOS","Colorado-Springs / Colorado","Basis","USA",{"$f":"COUNTIF(Eingabe!$F$2:$H$1276,\"KCOS\")","v":0},{"$f":"COUNTIF(Eingabe!$I$2:$K$1276,\"KCOS\")","v":0},"glideslope","1.2.0","COS","Nord-Amerika","2025-08-28","20/24",null,null,null," "," ",null,{"$f":"IFERROR(AVERAGEIF(Eingabe!$I$2:$I$1276, \"KCOS\", Eingabe!$O$2:$O$1276), 0)","v":0}]
["KCRP","Corpus Christi Intl. / Texas","Basis","USA",{"$f":"COUNTIF(Eingabe!$F$2:$H$1276,\"KCRP\")","v":0},{"$f":"COUNTIF(Eingabe!$I$2:$K$1276,\"KCRP\")","v":0},"flyhigh","1.1.0","CRP","Nord-Amerika","2023-08-29","20/24",null,null,null," "," ",null,{"$f":"IFERROR(AVERAGEIF(Eingabe!$I$2:$I$1276, \"KCRP\", Eingabe!$O$2:$O$1276), 0)","v":0}]
["KCRW","Yeger / West Virginia","Basis","USA",{"$f":"COUNTIF(Eingabe!$F$2:$H$1276,\"KCRW\")","v":0},{"$f":"COUNTIF(Eingabe!$I$2:$K$1276,\"KCRW\")","v":0},"ORBX","1.1.1","CRW","Nord-Amerika","2022-08-03","20/24",null,null,null," "," ",null,{"$f":"IFERROR(AVERAGEIF(Eingabe!$I$2:$I$1276, \"KCRW\", Eingabe!$O$2:$O$1276), 0)","v":0}]
["KCVG","Cincinetti / Kentucky","Basis","USA",{"$f":"COUNTIF(Eingabe!$F$2:$H$1276,\"KCVG\")","v":0},{"$f":"COUNTIF(Eingabe!$I$2:$K$1276,\"KCVG\")","v":0},"feelthere","1.2.0","CVG","Nord-Amerika","2026-01-03","20/24",null,null,null," "," ",null,{"$f":"IFERROR(AVERAGEIF(Eingabe!$I$2:$I$1276, \"KCVG\", Eingabe!$O$2:$O$1276), 0)","v":0}]
["KDAB","Daytona Beach / Florida","Basis","USA",{"$f":"COUNTIF(Eingabe!$F$2:$H$1276,\"KDAB\")","v":0},{"$f":"COUNTIF(Eingabe!$I$2:$K$1276,\"KDAB\")","v":0},"bmworldamsim","1.0.0","DAB","Nord-Amerika","2023-06-10","20/24",null,null,null," "," ",null,{"$f":"IFERROR(AVERAGEIF(Eingabe!$I$2:$I$1276, \"KDAB\", Eingabe!$O$2:$O$1276), 0)","v":0}]
["KDAL","Dallas Love Field/Texas","Basis","USA",{"$f":"COUNTIF(Eingabe!$F$2:$H$1276,\"KDAL\")","v":0},{"$f":"COUNTIF(Eingabe!$I$2:$K$1276,\"KDAL\")","v":0},"iblueyonder","1.2.0","DAL","Nord-Amerika","2023-11-15","20/24",null,null,null," "," ",null,{"$f":"IFERROR(AVERAGEIF(Eingabe!$I$2:$I$1276, \"KDAL\", Eingabe!$O$2:$O$1276), 0)","v":0}]
["KDAY","Dayton / Ohio","Basis","USA",{"$f":"COUNTIF(Eingabe!$F$2:$H$1276,\"KDAY\")","v":0},{"$f":"COUNTIF(Eingabe!$I$2:$K$1276,\"KDAY\")","v":0},"realworldscenery","1.0.0","DAY","Nord-Amerika","2024-06-06","20/24",null,null,null," "," ",null,{"$f":"IFERROR(AVERAGEIF(Eingabe!$I$2:$I$1276, \"KDAY\", Eingabe!$O$2:$O$1276), 0)","v":0}]
["KDCA","Ronald Reagen / Washington","Basis","USA",{"$f":"COUNTIF(Eingabe!$F$2:$H$1276,\"KDCA\")","v":0},{"$f":"COUNTIF(Eingabe!$I$2:$K$1276,\"KDCA\")","v":0},"drzewieckidesign","1.4.0","DCA","Nord-Amerika","2023-01-26","20/24",null,null,null," "," ",null,{"$f":"IFERROR(AVERAGEIF(Eingabe!$I$2:$I$1276, \"KDCA\", Eingabe!$O$2:$O$1276), 0)","v":0}]
["KDEN","Denver / Colorado","Basis","USA",{"$f":"COUNTIF(Eingabe!$F$2:$H$1276,\"KDEN\")","v":0},{"$f":"COUNTIF(Eingabe!$I$2:$K$1276,\"KDEN\")","v":0},"xcodr","1.2.2","DEN","Nord-Amerika","2026-02-02",24,null,null,null," "," ",null,{"$f":"IFERROR(AVERAGEIF(Eingabe!$I$2:$I$1276, \"KDEN\", Eingabe!$O$2:$O$1276), 0)","v":0}]
["KDFW","Dallas Fort Worth/Texas","World Update 2","USA",{"$f":"COUNTIF(Eingabe!$F$2:$H$1276,\"KDFW\")","v":0},{"$f":"COUNTIF(Eingabe!$I$2:$K$1276,\"KDFW\")","v":0},"inibuilds","1.0.3","DFW","Nord-Amerika","2026-03-20",24,null,null,null," "," ",null,{"$f":"IFERROR(AVERAGEIF(Eingabe!$I$2:$I$1276, \"KDFW\", Eingabe!$O$2:$O$1276), 0)","v":0}]
["KDLH","Duluth / St Louis","Basis","USA",{"$f":"COUNTIF(Eingabe!$F$2:$H$1276,\"KDLH\")","v":0},{"$f":"COUNTIF(Eingabe!$I$2:$K$1276,\"KDLH\")","v":0},"fsxcenery","2.0.0","DLH","Nord-Amerika","2024-05-17","20/24",null,null,null," "," ",null,{"$f":"IFERROR(AVERAGEIF(Eingabe!$I$2:$I$1276, \"KDLH\", Eingabe!$O$2:$O$1276), 0)","v":0}]
["KDTW","Detroid / Michigan","Basis","USA",{"$f":"COUNTIF(Eingabe!$F$2:$H$1276,\"KDTW\")","v":0},{"$f":"COUNTIF(Eingabe!$I$2:$K$1276,\"KDTW\")","v":0},"inibuilds","1.0.5","DTW","Nord-Amerika","2024-07-22","20/24",null,null,null," "," ",null,{"$f":"IFERROR(AVERAGEIF(Eingabe!$I$2:$I$1276, \"KDTW\", Eingabe!$O$2:$O$1276), 0)","v":0}]
["KELP","El Paso / Texas","Basis","USA",{"$f":"COUNTIF(Eingabe!$F$2:$H$1276,\"KELP\")","v":0},{"$f":"COUNTIF(Eingabe!$I$2:$K$1276,\"KELP\")","v":0},"dominicdesignteam","1.2.0","ELP","Nord-Amerika","2023-08-31","20/24",null,null,null," "," ",null,{"$f":"IFERROR(AVERAGEIF(Eingabe!$I$2:$I$1276, \"KELP\", Eingabe!$O$2:$O$1276), 0)","v":0}]
["KEWR","Newark / New York","Basis","USA",{"$f":"COUNTIF(Eingabe!$F$2:$H$1276,\"KEWR\")","v":0},{"$f":"COUNTIF(Eingabe!$I$2:$K$1276,\"KEWR\")","v":0},"drzewieckidesign","1.1.0","EWR","Nord-Amerika","2023-01-19","20/24",null,null,null," "," ",null,{"$f":"IFERROR(AVERAGEIF(Eingabe!$I$2:$I$1276, \"KEWR\", Eingabe!$O$2:$O$1276), 0)","v":0}]
["KEYW","Key West / Florida","Basis","USA",{"$f":"COUNTIF(Eingabe!$F$2:$H$1276,\"KEYW\")","v":0},{"$f":"COUNTIF(Eingabe!$I$2:$K$1276,\"KEYW\")","v":0},"mkstudios","1.0.3","EYW","Nord-Amerika","2026-06-05",24,null,null,null," "," ",null,{"$f":"IFERROR(AVERAGEIF(Eingabe!$I$2:$I$1276, \"KEYW\", Eingabe!$O$2:$O$1276), 0)","v":0}]
["KFAT","Fresno Yosemite Intl. / Kalifornien","Basis","USA",{"$f":"COUNTIF(Eingabe!$F$2:$H$1276,\"KFAT\")","v":0},{"$f":"COUNTIF(Eingabe!$I$2:$K$1276,\"KFAT\")","v":0},"flyhigh","2.0.0","FAT","Nord-Amerika","2025-04-17","20/24",null,null,null," "," ",null,{"$f":"IFERROR(AVERAGEIF(Eingabe!$I$2:$I$1276, \"KFAT\", Eingabe!$O$2:$O$1276), 0)","v":0}]
["KFLG","Flagstaff Pulliam / Arizona","Basis","USA",{"$f":"COUNTIF(Eingabe!$F$2:$H$1276,\"KFLG\")","v":0},{"$f":"COUNTIF(Eingabe!$I$2:$K$1276,\"KFLG\")","v":0},"UK2000","1.4.0","FLG","Nord-Amerika","2024-11-22","20/24",null,null,null," "," ",null,{"$f":"IFERROR(AVERAGEIF(Eingabe!$I$2:$I$1276, \"KFLG\", Eingabe!$O$2:$O$1276), 0)","v":0}]
["KFLL","Fort Lauderdale / Florida","Basis","USA",{"$f":"COUNTIF(Eingabe!$F$2:$H$1276,\"KFLL\")","v":0},{"$f":"COUNTIF(Eingabe!$I$2:$K$1276,\"KFLL\")","v":0},"mkstudios","1.0.1","FLL","Nord-Amerika","2026-06-05",24,null,null,null," "," ",null,{"$f":"IFERROR(AVERAGEIF(Eingabe!$I$2:$I$1276, \"KFLL\", Eingabe!$O$2:$O$1276), 0)","v":0}]
["KFNT","Bishop Intl.","Basis","USA",{"$f":"COUNTIF(Eingabe!$F$2:$H$1276,\"KFNT\")","v":0},{"$f":"COUNTIF(Eingabe!$I$2:$K$1276,\"KFNT\")","v":0},"flyhigh","1.0.0","FNT","Nord-Amerika","2025-05-04","20/24",null,null,null," "," ",null,{"$f":"IFERROR(AVERAGEIF(Eingabe!$I$2:$I$1276, \"KFNT\", Eingabe!$O$2:$O$1276), 0)","v":0}]
["KGPI","Glacier-Park / Montana","Basis","USA",{"$f":"COUNTIF(Eingabe!$F$2:$H$1276,\"KGPI\")","v":0},{"$f":"COUNTIF(Eingabe!$I$2:$K$1276,\"KGPI\")","v":0},"Vref Simulations","1.5.0","FCA","Nord-Amerika","2025-07-21","20/24",null,null,null," "," ",null,{"$f":"IFERROR(AVERAGEIF(Eingabe!$I$2:$I$1276, \"KGPI\", Eingabe!$O$2:$O$1276), 0)","v":0}]
["KGPT","Gulfport / Missisipi","Basis","USA",{"$f":"COUNTIF(Eingabe!$F$2:$H$1276,\"KGPT\")","v":0},{"$f":"COUNTIF(Eingabe!$I$2:$K$1276,\"KGPT\")","v":0},"flyhigh","1.5.0","GBT","Nord-Amerika","2024-10-08","20/24",null,null,null," "," ",null,{"$f":"IFERROR(AVERAGEIF(Eingabe!$I$2:$I$1276, \"KGPT\", Eingabe!$O$2:$O$1276), 0)","v":0}]
["KGRB","Green Bay- Austin / Wisconsin","Basis","USA",{"$f":"COUNTIF(Eingabe!$F$2:$H$1276,\"KGRB\")","v":0},{"$f":"COUNTIF(Eingabe!$I$2:$K$1276,\"KGRB\")","v":0},"xwingstudios","1.0.0","GRB","Nord-Amerika","2024-08-21","20/24",null,null,null," "," ",null,{"$f":"IFERROR(AVERAGEIF(Eingabe!$I$2:$I$1276, \"KGRB\", Eingabe!$O$2:$O$1276), 0)","v":0}]
["KGSO","Piedmont Triad Intl./North Carolina","Basis","USA",{"$f":"COUNTIF(Eingabe!$F$2:$H$1276,\"KGSO\")","v":0},{"$f":"COUNTIF(Eingabe!$I$2:$K$1276,\"KGSO\")","v":0},"fsxcenery","2.0.0","GSO","Nord-Amerika","2024-05-17","20/24",null,null,null," "," ",null,{"$f":"IFERROR(AVERAGEIF(Eingabe!$I$2:$I$1276, \"KGSO\", Eingabe!$O$2:$O$1276), 0)","v":0}]
["KGSP","Greenville / SouthCarolina","Basis","USA",{"$f":"COUNTIF(Eingabe!$F$2:$H$1276,\"KGSP\")","v":0},{"$f":"COUNTIF(Eingabe!$I$2:$K$1276,\"KGSP\")","v":0},"pacsim","1.0.0","GSP","Nord-Amerika","2024-07-16","20/24",null,null,null," "," ",null,{"$f":"IFERROR(AVERAGEIF(Eingabe!$I$2:$I$1276, \"KGSP\", Eingabe!$O$2:$O$1276), 0)","v":0}]
["KGTF","Great Falls Intl. / Montana","Basis","USA",{"$f":"COUNTIF(Eingabe!$F$2:$H$1276,\"KGTF\")","v":0},{"$f":"COUNTIF(Eingabe!$I$2:$K$1276,\"KGTF\")","v":0},"fsxscenery","2.0.0","GTF","Nord-Amerika","2023-10-28","20/24",null,null,null," "," ",null,{"$f":"IFERROR(AVERAGEIF(Eingabe!$I$2:$I$1276, \"KGTF\", Eingabe!$O$2:$O$1276), 0)","v":0}]
["KGYY","Gary Airport-Chicago / Illinois","Basis","USA",{"$f":"COUNTIF(Eingabe!$F$2:$H$1276,\"KGYY\")","v":0},{"$f":"COUNTIF(Eingabe!$I$2:$K$1276,\"KGYY\")","v":0},"UK2000","1.4.0","GYY","Nord-Amerika","2024-11-21","20/24",null,null,null," "," ",null,{"$f":"IFERROR(AVERAGEIF(Eingabe!$I$2:$I$1276, \"KGYY\", Eingabe!$O$2:$O$1276), 0)","v":0}]
["KHDN","Yampa Valley","Basis","USA",{"$f":"COUNTIF(Eingabe!$F$2:$H$1276,\"KHDN\")","v":0},{"$f":"COUNTIF(Eingabe!$I$2:$K$1276,\"KHDN\")","v":0},"vpilotdesigns","1.0.0","HDN","Nord-Amerika","2024-04-11","20/24",null,null,null," "," ",null,{"$f":"IFERROR(AVERAGEIF(Eingabe!$I$2:$I$1276, \"KHPN\", Eingabe!$O$2:$O$1276), 0)","v":0}]
["KHPN","White Plains / New York","Basis","USA",{"$f":"COUNTIF(Eingabe!$F$2:$H$1276,\"KHPN\")","v":0},{"$f":"COUNTIF(Eingabe!$I$2:$K$1276,\"KHPN\")","v":0},"flyhigh","1.0.0","HPN","Nord-Amerika","2026-07-12",24,null,null,null,{"$f":"IF(E331=0,\" \",\"✔️\")","v":" "},{"$f":"IF(F331=0,\" \",\"✔️\")","v":" "},null,{"$f":"IFERROR(AVERAGEIF(Eingabe!$I$2:$I$1276, \"KHDN\", Eingabe!$O$2:$O$1276), 0)","v":0}]
["KHRL","Harlingen-Valley Intl. / Texas","Basis","USA",{"$f":"COUNTIF(Eingabe!$F$2:$H$1276,\"KHRL\")","v":0},{"$f":"COUNTIF(Eingabe!$I$2:$K$1276,\"KHRL\")","v":0},"flyhigh","1.1.0","HRL","Nord-Amerika","2024-11-06","20/24",null,null,null," "," ",null,{"$f":"IFERROR(AVERAGEIF(Eingabe!$I$2:$I$1276, \"KHRL\", Eingabe!$O$2:$O$1276), 0)","v":0}]
["KHTS","Huntington / Virginia","Basis","USA",{"$f":"COUNTIF(Eingabe!$F$2:$H$1276,\"KHTS\")","v":0},{"$f":"COUNTIF(Eingabe!$I$2:$K$1276,\"KHTS\")","v":0},"verticalsim","2.0.0","HTS","Nord-Amerika","2024-12-08","20/24",null,null,null," "," ",null,{"$f":"IFERROR(AVERAGEIF(Eingabe!$I$2:$I$1276, \"KHTS\", Eingabe!$O$2:$O$1276), 0)","v":0}]
["KHVN","Tweed New Heaven / Colorado","Basis","USA",{"$f":"COUNTIF(Eingabe!$F$2:$H$1276,\"KHVN\")","v":0},{"$f":"COUNTIF(Eingabe!$I$2:$K$1276,\"KHVN\")","v":0},"flyhigh","1.5.1","HVN","Nordamerika","2026-03-08",24,null,null,null," "," ",null,{"$f":"IFERROR(AVERAGEIF(Eingabe!$I$2:$I$1276, \"KHVN\", Eingabe!$O$2:$O$1276), 0)","v":0}]
["KIAD","Dulles / WashingtonDC","Basis","USA",{"$f":"COUNTIF(Eingabe!$F$2:$H$1276,\"KIAD\")","v":0},{"$f":"COUNTIF(Eingabe!$I$2:$K$1276,\"KIAD\")","v":0},"glideslope","1.2.7","IAD","Nord-Amerika","2026-04-10",24,null,null,null," "," ",null,{"$f":"IFERROR(AVERAGEIF(Eingabe!$I$2:$I$1276, \"KIAD\", Eingabe!$O$2:$O$1276), 0)","v":0}]
["KIAH","Housten-George Bush Intl. / Texas","Basis","USA",{"$f":"COUNTIF(Eingabe!$F$2:$H$1276,\"KIAH\")","v":0},{"$f":"COUNTIF(Eingabe!$I$2:$K$1276,\"KIAH\")","v":0},"fsdreamteam","1.0.7","IAH","Nord-Amerika","2024-11-22","20/24",null,null,"Gate D7"," "," ",null,{"$f":"IFERROR(AVERAGEIF(Eingabe!$I$2:$I$1276, \"KIAH\", Eingabe!$O$2:$O$1276), 0)","v":0}]
["KICT","Wichita-Eisenhower / Wichita","Basis","USA",{"$f":"COUNTIF(Eingabe!$F$2:$H$1276,\"KICT\")","v":0},{"$f":"COUNTIF(Eingabe!$I$2:$K$1276,\"KICT\")","v":0},"fsxcenery","2.2.0","ICT","Nord-Amerika","2025-12-23","20/24",null,null,null," "," ",null,{"$f":"IFERROR(AVERAGEIF(Eingabe!$I$2:$I$1276, \"KICT\", Eingabe!$O$2:$O$1276), 0)","v":0}]
["KIND","Indianapolis / Indiana","Basis","USA",{"$f":"COUNTIF(Eingabe!$F$2:$H$1276,\"KIND\")","v":0},{"$f":"COUNTIF(Eingabe!$I$2:$K$1276,\"KIND\")","v":0},"dominicdesignteam","2.4.0","IND","Nord-Amerika","2026-07-12","20/24",null,null,null," "," ",null,{"$f":"IFERROR(AVERAGEIF(Eingabe!$I$2:$I$1276, \"KIND\", Eingabe!$O$2:$O$1276), 0)","v":0}]
["KISP","Long-Island / New York","Basis","USA",{"$f":"COUNTIF(Eingabe!$F$2:$H$1276,\"KISP\")","v":0},{"$f":"COUNTIF(Eingabe!$I$2:$K$1276,\"KISP\")","v":0},"flyhigh","1.1.0","ISP","Nord-Amerika","2023-11-02","20/24",null,null,null," "," ",null,{"$f":"IFERROR(AVERAGEIF(Eingabe!$I$2:$I$1276, \"KISP\", Eingabe!$O$2:$O$1276), 0)","v":0}]
["KIWA","Phoenix-Mesa / Arizona","Basis","USA",{"$f":"COUNTIF(Eingabe!$F$2:$H$1276,\"KIWA\")","v":0},{"$f":"COUNTIF(Eingabe!$I$2:$K$1276,\"KIWA\")","v":0},"fsxcenery","2.1..0","AZA","Nordamerika","2025-04-27","20/24",null,null,null," "," ",null,{"$f":"IFERROR(AVERAGEIF(Eingabe!$I$2:$I$1276, \"KIWA\", Eingabe!$O$2:$O$1276), 0)","v":0}]
["KJAC","Jackson Hole / Wyoming","Basis","USA",{"$f":"COUNTIF(Eingabe!$F$2:$H$1276,\"KJAC\")","v":0},{"$f":"COUNTIF(Eingabe!$I$2:$K$1276,\"KJAC\")","v":0},"dreamflightstudios","1.0.0","JAC","Nord-Amerika","2024-11-14","20/24",null,null,null," "," ",null,{"$f":"IFERROR(AVERAGEIF(Eingabe!$I$2:$I$1276, \"KJAC\", Eingabe!$O$2:$O$1276), 0)","v":0}]
["KJAN","Jackson / Mississippi","Basis","USA",{"$f":"COUNTIF(Eingabe!$F$2:$H$1276,\"KJAN\")","v":0},{"$f":"COUNTIF(Eingabe!$I$2:$K$1276,\"KJAN\")","v":0},"flyhigh","1.5.0","JAN","Nord-Amerika","2024-03-24","20/24",null,null,null," "," ",null,{"$f":"IFERROR(AVERAGEIF(Eingabe!$I$2:$I$1276, \"KJAN\", Eingabe!$O$2:$O$1276), 0)","v":0}]
["KJAX","Jacksonville / Florida","Basis","USA",{"$f":"COUNTIF(Eingabe!$F$2:$H$1276,\"KJAX\")","v":0},{"$f":"COUNTIF(Eingabe!$I$2:$K$1276,\"KJAX\")","v":0},"flyhigh","1.1.0","JAX","Nord-Amerika","2023-11-15","20/24",null,null,null," "," ",null,{"$f":"IFERROR(AVERAGEIF(Eingabe!$I$2:$I$1276, \"KJAX\", Eingabe!$O$2:$O$1276), 0)","v":0}]
["KJFK","John F Kennedy / New York","Basis","USA",{"$f":"COUNTIF(Eingabe!$F$2:$H$1276,\"KJFK\")","v":0},{"$f":"COUNTIF(Eingabe!$I$2:$K$1276,\"KJFK\")","v":0},"inibuilds","1.0.5","JFK","Nord-Amerika","2026-07-19",24,null,null,"B8"," "," ",null,{"$f":"IFERROR(AVERAGEIF(Eingabe!$I$2:$I$1276, \"KJFK\", Eingabe!$O$2:$O$1276), 0)","v":0}]
["KLAL","Lakeland-Lindner / Florida","Basis","USA",{"$f":"COUNTIF(Eingabe!$F$2:$H$1276,\"KLAL\")","v":0},{"$f":"COUNTIF(Eingabe!$I$2:$K$1276,\"KLAL\")","v":0},"fsxcenery","2.3.0","LAL","Nord-Amerika","2025-08-19","20/24",null,null,null," "," ",null,{"$f":"IFERROR(AVERAGEIF(Eingabe!$I$2:$I$1276, \"KLAL\", Eingabe!$O$2:$O$1276), 0)","v":0}]
["KLAS","Las Vegas, Nevada","Basis","USA",{"$f":"COUNTIF(Eingabe!$F$2:$H$1276,\"KLAS\")","v":0},{"$f":"COUNTIF(Eingabe!$I$2:$K$1276,\"KLAS\")","v":0},"FlyTampa","3.2.0","LAS","Nord-Amerika","2026-02-02",24,null,null,null," "," ",null,{"$f":"IFERROR(AVERAGEIF(Eingabe!$I$2:$I$1276, \"KLAS\", Eingabe!$O$2:$O$1276), 0)","v":0}]
["KLAX","Los Angeles, Kalifornien","Basis","USA",{"$f":"COUNTIF(Eingabe!$F$2:$H$1276,\"KLAX\")","v":0},{"$f":"COUNTIF(Eingabe!$I$2:$K$1276,\"KLAX\")","v":0},"inibuilds","1.0.2","LAX","Nord-Amerika","2026-03-20",24,null,null,"Gate 23A"," "," ",null,{"$f":"IFERROR(AVERAGEIF(Eingabe!$I$2:$I$1276, \"KLAX\", Eingabe!$O$2:$O$1276), 0)","v":0}]
["KLBB","Lubbock / Texas","Basis","USA",{"$f":"COUNTIF(Eingabe!$F$2:$H$1276,\"KLBB\")","v":0},{"$f":"COUNTIF(Eingabe!$I$2:$K$1276,\"KLBB\")","v":0},"flyhigh","1.7.0","LBB","Nord-Amerika","2025-09-26","20/24",null,null,null," "," ",null,{"$f":"IFERROR(AVERAGEIF(Eingabe!$I$2:$I$1276, \"KLBB\", Eingabe!$O$2:$O$1276), 0)","v":0}]
["KLGA","La Guardia, New York ","Basis","USA",{"$f":"COUNTIF(Eingabe!$F$2:$H$1276,\"KLGA\")","v":0},{"$f":"COUNTIF(Eingabe!$I$2:$K$1276,\"KLGA\")","v":0},"mkstudios","1.1.0","LGA","Nord-Amerika","2025-07-03","20/24",null,null,null," "," ",null,{"$f":"IFERROR(AVERAGEIF(Eingabe!$I$2:$I$1276, \"KLGA\", Eingabe!$O$2:$O$1276), 0)","v":0}]
["KLGB","Long Beach / Kalifornien","Basis","USA",{"$f":"COUNTIF(Eingabe!$F$2:$H$1276,\"KLGB\")","v":0},{"$f":"COUNTIF(Eingabe!$I$2:$K$1276,\"KLGB\")","v":0},"xwingstudios","1.0.2","LGB","Nord-Amerika","2026-06-05",24,null,null,null,null,null,null,{"$f":"IFERROR(AVERAGEIF(Eingabe!$I$2:$I$1276, \"KLGB\", Eingabe!$O$2:$O$1276), 0)","v":0}]
["KLIT","Little Rock / Arkansas","Basis","USA",{"$f":"COUNTIF(Eingabe!$F$2:$H$1276,\"KLIT\")","v":0},{"$f":"COUNTIF(Eingabe!$I$2:$K$1276,\"KLIT\")","v":0},"propairflieght","1.1.0","LIT","Nord-Amerika","2026-01-03","20/24",null,null,null,{"$f":"IF(E351=0,\" \",\"✔️\")","v":" "},{"$f":"IF(F351=0,\" \",\"✔️\")","v":" "},null,{"$f":"IFERROR(AVERAGEIF(Eingabe!$I$2:$I$1276, \"KLIT\", Eingabe!$O$2:$O$1276), 0)","v":0}]
["KMAF","Midland Intl. Air and Space Port, Texas","Basis","USA",{"$f":"COUNTIF(Eingabe!$F$2:$H$1276,\"KMAF\")","v":0},{"$f":"COUNTIF(Eingabe!$I$2:$K$1276,\"KMAF\")","v":0},"vpilotdesigns","1.0.1","MAF","Nord-Amerika","2023-10-05","20/24",null,null,null," "," ",null,{"$f":"IFERROR(AVERAGEIF(Eingabe!$I$2:$I$1276, \"KMAF\", Eingabe!$O$2:$O$1276), 0)","v":0}]
["KMCI","Kansas City, Missouri","Basis","USA",{"$f":"COUNTIF(Eingabe!$F$2:$H$1276,\"KMCI\")","v":0},{"$f":"COUNTIF(Eingabe!$I$2:$K$1276,\"KMCI\")","v":0},"tms","1.0.0","MCI","Nord-Amerika","2026-07-03",24,null,57,"B 42"," "," ",null,{"$f":"IFERROR(AVERAGEIF(Eingabe!$I$2:$I$1276, \"KMCI\", Eingabe!$O$2:$O$1276), 0)","v":0}]
["KMDT","Harrisburg Intl.","Basis","USA",{"$f":"COUNTIF(Eingabe!$F$2:$H$1276,\"KMDT\")","v":0},{"$f":"COUNTIF(Eingabe!$I$2:$K$1276,\"KMDT\")","v":0},"xometry","1.1.0","MDT","Nord-Amerika","2024-03-23","20/24",null,null,null," "," ",null,{"$f":"IFERROR(AVERAGEIF(Eingabe!$I$2:$I$1276, \"KMDT\", Eingabe!$O$2:$O$1276), 0)","v":0}]
["KMDW","Midway Intl., Chicago","Basis","USA",{"$f":"COUNTIF(Eingabe!$F$2:$H$1276,\"KMDW\")","v":0},{"$f":"COUNTIF(Eingabe!$I$2:$K$1276,\"KMDW\")","v":0},"drzewieckidesign","1.3.0","MDW","Nord-Amerika","2026-02-28","20/24",null,null,null," "," ",null,{"$f":"IFERROR(AVERAGEIF(Eingabe!$I$2:$I$1276, \"KMDW\", Eingabe!$O$2:$O$1276), 0)","v":0}]
["KMEM","Memphis, Tennessee","Basis","USA",{"$f":"COUNTIF(Eingabe!$F$2:$H$1276,\"KMEM\")","v":0},{"$f":"COUNTIF(Eingabe!$I$2:$K$1276,\"KMEM\")","v":0},"glideslope","2.1.0","MEM","Nord-Amerika","2025-11-23",24,null,null,null," "," ",null,{"$f":"IFERROR(AVERAGEIF(Eingabe!$I$2:$I$1276, \"KMEM\", Eingabe!$O$2:$O$1276), 0)","v":0}]
["KMFE","McAllen Miller Intl. / Texas","Basis","USA",{"$f":"COUNTIF(Eingabe!$F$2:$H$1276,\"KMFE\")","v":0},{"$f":"COUNTIF(Eingabe!$I$2:$K$1276,\"KMFE\")","v":0},"flyhigh","1.5.0","MFE","Nord-Amerika","2024-07-16","20/24",null,null,null," "," ",null,{"$f":"IFERROR(AVERAGEIF(Eingabe!$I$2:$I$1276, \"KMFE\", Eingabe!$O$2:$O$1276), 0)","v":0}]
["KMGW","Morgantown / West Virginia","Basis","USA",{"$f":"COUNTIF(Eingabe!$F$2:$H$1276,\"KMGW\")","v":0},{"$f":"COUNTIF(Eingabe!$I$2:$K$1276,\"KMGW\")","v":0},"scenicutopias","1.0.0","MGW","Nord-Amerika","2025-02-14","20/24",null,null,null," "," ",null,{"$f":"IFERROR(AVERAGEIF(Eingabe!$I$2:$I$1276, \"KMGW\", Eingabe!$O$2:$O$1276), 0)","v":0}]
["KMHT","Boston Regional","Basis","USA",{"$f":"COUNTIF(Eingabe!$F$2:$H$1276,\"KMHT\")","v":0},{"$f":"COUNTIF(Eingabe!$I$2:$K$1276,\"KMHT\")","v":0},"Aerodesign","1.0.1","MHT","Nord-Amerika","2025-11-23","20/24",null,null,null," "," ",null,{"$f":"IFERROR(AVERAGEIF(Eingabe!$I$2:$I$1276, \"KMHT\", Eingabe!$O$2:$O$1276), 0)","v":0}]
["KMIA","Miami Intl./ Florida","Basis","USA",{"$f":"COUNTIF(Eingabe!$F$2:$H$1276,\"KMIA\")","v":0},{"$f":"COUNTIF(Eingabe!$I$2:$K$1276,\"KMIA\")","v":0},"glideslope","2.2.0","MIA","Nord-Amerika","2026-04-19",24,null,null,"G10"," "," ",null,{"$f":"IFERROR(AVERAGEIF(Eingabe!$I$2:$I$1276, \"KMIA\", Eingabe!$O$2:$O$1276), 0)","v":0}]
["KMSP","Minneapolis / Minnesota","Basis","USA",{"$f":"COUNTIF(Eingabe!$F$2:$H$1276,\"KMSP\")","v":0},{"$f":"COUNTIF(Eingabe!$I$2:$K$1276,\"KMSP\")","v":0},"Flightbeam","1.0.5","MSP","Nord-Amerika","2026-04-26","20/24",null,null,null," "," ",null,{"$f":"IFERROR(AVERAGEIF(Eingabe!$I$2:$I$1276, \"KMSP\", Eingabe!$O$2:$O$1276), 0)","v":0}]
["KMSY","Louis Armstrong / New Orleans","Basis","USA",{"$f":"COUNTIF(Eingabe!$F$2:$H$1276,\"KMSY\")","v":0},{"$f":"COUNTIF(Eingabe!$I$2:$K$1276,\"KMSY\")","v":0},"lvfr","1.0.7","MSY","Nord-Amerika","2025-11-23","20/24",null,null,null," "," ",null,{"$f":"IFERROR(AVERAGEIF(Eingabe!$I$2:$I$1276, \"KMSY\", Eingabe!$O$2:$O$1276), 0)","v":0}]
["KMTH","Florida Keys / Florida","Basis","USA",{"$f":"COUNTIF(Eingabe!$F$2:$H$1276,\"KMth\")","v":0},{"$f":"COUNTIF(Eingabe!$I$2:$K$1276,\"KMth\")","v":0},"spinoza","2.4.1","MTH","Nord-Amerika","2024-12-08","20/24",null,null,null," "," ",null,{"$f":"IFERROR(AVERAGEIF(Eingabe!$I$2:$I$1276, \"KMTH\", Eingabe!$O$2:$O$1276), 0)","v":0}]
["KMVY","Marthas Vineyard","Basis","USA",{"$f":"COUNTIF(Eingabe!$F$2:$H$1276,\"KMVY\")","v":0},{"$f":"COUNTIF(Eingabe!$I$2:$K$1276,\"KMVY\")","v":0},"burningbluedesign","1.5.0","MVY","Nord-Amerika","2024-12-15",24,null,null,null," "," ",null,{"$f":"IFERROR(AVERAGEIF(Eingabe!$I$2:$I$1276, \"KMVY\", Eingabe!$O$2:$O$1276), 0)","v":0}]
["KMYR","Myrtle Beach Intl. / South Carolina","Basis","USA",{"$f":"COUNTIF(Eingabe!$F$2:$H$1276,\"KMYR\")","v":0},{"$f":"COUNTIF(Eingabe!$I$2:$K$1276,\"KMYR\")","v":0},"verticalsim","1.1.0","MYR","Nord-Amerika","2023-11-24","20/24",null,null,null," "," ",null,{"$f":"IFERROR(AVERAGEIF(Eingabe!$I$2:$I$1276, \"KMYR\", Eingabe!$O$2:$O$1276), 0)","v":0}]
["KOAK","Oakland / Kalifornien","Basis","USA",{"$f":"COUNTIF(Eingabe!$F$2:$H$1276,\"KOAK\")","v":0},{"$f":"COUNTIF(Eingabe!$I$2:$K$1276,\"KOAK\")","v":0},"glideslope","1.2.1","OAK","Nord-Amerika","2025-09-26","20/24",null,null,null," "," ",null,{"$f":"IFERROR(AVERAGEIF(Eingabe!$I$2:$I$1276, \"KOAK\", Eingabe!$O$2:$O$1276), 0)","v":0}]
["KOKC","Oklahoma City / Oklahoma","Basis","USA",{"$f":"COUNTIF(Eingabe!$F$2:$H$1276,\"KOKC\")","v":0},{"$f":"COUNTIF(Eingabe!$I$2:$K$1276,\"KOKC\")","v":0},"inibuilds","1.0.4","OKC","Nord-Amerika","2024-03-30","20/24",null,null,null," "," ",null,{"$f":"IFERROR(AVERAGEIF(Eingabe!$I$2:$I$1276, \"KOKC\", Eingabe!$O$2:$O$1276), 0)","v":0}]
["KOMA","Omaha / Nebraska","Basis","USA",{"$f":"COUNTIF(Eingabe!$F$2:$H$1276,\"KOMA\")","v":0},{"$f":"COUNTIF(Eingabe!$I$2:$K$1276,\"KOMA\")","v":0},"verticalsim","2.0.0","OMA","Nord-Amerika","2023-06-18","20/24",null,null,null," "," ",null,{"$f":"IFERROR(AVERAGEIF(Eingabe!$I$2:$I$1276, \"KOMA\", Eingabe!$O$2:$O$1276), 0)","v":0}]
["KONT","Ontario Intl. / Kalifornien","Basis","USA",{"$f":"COUNTIF(Eingabe!$F$2:$H$1276,\"KONT\")","v":0},{"$f":"COUNTIF(Eingabe!$I$2:$K$1276,\"KONT\")","v":0},"verticalsim","1.1.0","ONT","Nord-Amerika","2023-10-13","20/24",null,null,null," "," ",null,{"$f":"IFERROR(AVERAGEIF(Eingabe!$I$2:$I$1276, \"KONT\", Eingabe!$O$2:$O$1276), 0)","v":0}]
["KOPF","Miami-Opa Locka Executive / Miami","Basis","USA",{"$f":"COUNTIF(Eingabe!$F$2:$H$1276,\"KOPF\")","v":0},{"$f":"COUNTIF(Eingabe!$I$2:$K$1276,\"KOPF\")","v":0},"CAT3DualStudios","1.1.0","OPF","Nord-Amerika","2026-05-25","20/24",null,null,null,null,null,null,{"$f":"IFERROR(AVERAGEIF(Eingabe!$I$2:$I$1276, \"KOPF\", Eingabe!$O$2:$O$1276), 0)","v":0}]
["KORD","Chicago O'Hare/Illinois","Basis","USA",{"$f":"COUNTIF(Eingabe!$F$2:$H$1276,\"KORD\")","v":0},{"$f":"COUNTIF(Eingabe!$I$2:$K$1276,\"KORD\")","v":0},"inibuilds","1.0.0","ORD","Nord-Amerika","2026-07-19",24,null,null,null,{"$f":"IF(E371=0,\" \",\"✔️\")","v":" "},{"$f":"IF(F371=0,\" \",\"✔️\")","v":" "},null,{"$f":"IFERROR(AVERAGEIF(Eingabe!$I$2:$I$1276, \"KORD\", Eingabe!$O$2:$O$1276), 0)","v":0}]
["KOSU","Ohio State University / Ohio","Basis","USA",{"$f":"COUNTIF(Eingabe!$F$2:$H$1276,\"KOSU\")","v":0},{"$f":"COUNTIF(Eingabe!$I$2:$K$1276,\"KOSU\")","v":0},"fsxcenery","1.0.0","OSU","Nord-Amerika","2024-12-08","20/24",null,null,null," "," ",null,{"$f":"IFERROR(AVERAGEIF(Eingabe!$I$2:$I$1276, \"KOSU\", Eingabe!$O$2:$O$1276), 0)","v":0}]
["KPAE","Paine Field-Everett / Washington","Basis","USA",{"$f":"COUNTIF(Eingabe!$F$2:$H$1276,\"KPAE\")","v":0},{"$f":"COUNTIF(Eingabe!$I$2:$K$1276,\"KPAE\")","v":0},"drzewieckidesign","1.2.0","PAE","Nord-Amerika","2025-06-10","20/24",null,null,null," "," ",null,{"$f":"IFERROR(AVERAGEIF(Eingabe!$I$2:$I$1276, \"KPAE\", Eingabe!$O$2:$O$1276), 0)","v":0}]
["KPBI","Palm Beach / Florida","Basis","USA",{"$f":"COUNTIF(Eingabe!$F$2:$H$1276,\"KPBI\")","v":0},{"$f":"COUNTIF(Eingabe!$I$2:$K$1276,\"KPBI\")","v":0},"verticalsim","1.0.2","PBI","Nord-Amerika","2026-03-08","20/24",null,null,null," "," ",null,{"$f":"IFERROR(AVERAGEIF(Eingabe!$I$2:$I$1276, \"KPBI\", Eingabe!$O$2:$O$1276), 0)","v":0}]
["KPDX","Portland  Intl. / Oregon","Basis","USA",{"$f":"COUNTIF(Eingabe!$F$2:$H$1276,\"KPDX\")","v":0},{"$f":"COUNTIF(Eingabe!$I$2:$K$1276,\"KPDX\")","v":0},"Flightbeam","2.3.0","PDX","Nordamerika","2025-08-14",24,null,null,null," "," ",null,{"$f":"IFERROR(AVERAGEIF(Eingabe!$I$2:$I$1276, \"KPDX\", Eingabe!$O$2:$O$1276), 0)","v":0}]
["KPHF","Newport News/Williamsburg / Virginia","Basis","USA",{"$f":"COUNTIF(Eingabe!$F$2:$H$1276,\"KPHF\")","v":0},{"$f":"COUNTIF(Eingabe!$I$2:$K$1276,\"KPHF\")","v":0},"Double T","1.0.0","PHF","Nord-Amerika","2023-09-08","20/24",null,null,null," "," ",null,{"$f":"IFERROR(AVERAGEIF(Eingabe!$I$2:$I$1276, \"KPHF\", Eingabe!$O$2:$O$1276), 0)","v":0}]
["KPHL","Philadelphia Intl. / Pennsylvania","Basis","USA",{"$f":"COUNTIF(Eingabe!$F$2:$H$1276,\"KPHL\")","v":0},{"$f":"COUNTIF(Eingabe!$I$2:$K$1276,\"KPHL\")","v":0},"\nmkstudios","1.4.0","PHL","Nord-Amerika","2025-11-05","20/24",null,null,"A9"," "," ",null,{"$f":"IFERROR(AVERAGEIF(Eingabe!$I$2:$I$1276, \"KPHL\", Eingabe!$O$2:$O$1276), 0)","v":0}]
["KPHX","Phönix / Arizona","Basis","USA",{"$f":"COUNTIF(Eingabe!$F$2:$H$1276,\"KPHX\")","v":0},{"$f":"COUNTIF(Eingabe!$I$2:$K$1276,\"KPHX\")","v":0},"glideslope","3.1.0","PHX","Nord-Amerika","2026-01-03",24,null,null,null," "," ",null,{"$f":"IFERROR(AVERAGEIF(Eingabe!$I$2:$I$1276, \"KPHX\", Eingabe!$O$2:$O$1276), 0)","v":0}]
["KPIE","St.Petersburg /Florida","Basis","USA",{"$f":"COUNTIF(Eingabe!$F$2:$H$1276,\"KPIE\")","v":0},{"$f":"COUNTIF(Eingabe!$I$2:$K$1276,\"KPIE\")","v":0},"verticalsim","1.0.3","PIE","Nord-Amerika","2025-07-12","20/24",null,null,null," "," ",null,{"$f":"IFERROR(AVERAGEIF(Eingabe!$I$2:$I$1276, \"KPIE\", Eingabe!$O$2:$O$1276), 0)","v":0}]
["KPMP","Pompano Beach Airpark, Florida","Basis","USA",{"$f":"COUNTIF(Eingabe!$F$2:$H$1276,\"KPMP\")","v":0},{"$f":"COUNTIF(Eingabe!$I$2:$K$1276,\"KPMP\")","v":0},"fsxscenery","2.0.0","PPM","Nord-Amerika","2024-08-21","20/24",null,null,null," "," ",null,{"$f":"IFERROR(AVERAGEIF(Eingabe!$I$2:$I$1276, \"KPMP\", Eingabe!$O$2:$O$1276), 0)","v":0}]
["KPNS","Pensacola, Florida","Basis","USA",{"$f":"COUNTIF(Eingabe!$F$2:$H$1276,\"KPNS\")","v":0},{"$f":"COUNTIF(Eingabe!$I$2:$K$1276,\"KPNS\")","v":0},"dominicdesignteam","1.1.0","PNS","Nord-Amerika","2022-09-13","20/24",null,null,null," "," ",null,{"$f":"IFERROR(AVERAGEIF(Eingabe!$I$2:$I$1276, \"KPNS\", Eingabe!$O$2:$O$1276), 0)","v":0}]
["KPSP","Palm Springs, Kalifornien","Basis","USA",{"$f":"COUNTIF(Eingabe!$F$2:$H$1276,\"KPSP\")","v":0},{"$f":"COUNTIF(Eingabe!$I$2:$K$1276,\"KPSP\")","v":0},"inibuilds","1.0.1","PSP","Nord-Amerika","2026-05-16",24,null,null,null," "," ",null,{"$f":"IFERROR(AVERAGEIF(Eingabe!$I$2:$I$1276, \"KPSP\", Eingabe!$O$2:$O$1276), 0)","v":0}]
["KPVD","Rhode Island, Rhode Island","Basis","USA",{"$f":"COUNTIF(Eingabe!$F$2:$H$1276,\"KPVD\")","v":0},{"$f":"COUNTIF(Eingabe!$I$2:$K$1276,\"KPVD\")","v":0},"inibuilds","1.0.2","PVD","Nord-Amerika","2025-07-03",24,null,null,null," "," ",null,{"$f":"IFERROR(AVERAGEIF(Eingabe!$I$2:$I$1276, \"KPVD\", Eingabe!$O$2:$O$1276), 0)","v":0}]
["KPVU","Provo / Utah","Basis","USA",{"$f":"COUNTIF(Eingabe!$F$2:$H$1276,\"KPVU\")","v":0},{"$f":"COUNTIF(Eingabe!$I$2:$K$1276,\"KPVU\")","v":0},"verticalsim","1.0.1","PVU","Nord-Amerika","2024-01-06","20/24",null,null,null," "," ",null,{"$f":"IFERROR(AVERAGEIF(Eingabe!$I$2:$I$1276, \"KPVU\", Eingabe!$O$2:$O$1276), 0)","v":0}]
["KPWK","Chicago Executive, Illinois","Basis","USA",{"$f":"COUNTIF(Eingabe!$F$2:$H$1276,\"KPWK\")","v":0},{"$f":"COUNTIF(Eingabe!$I$2:$K$1276,\"KPWK\")","v":0},"flightfx","2.1.0","PWK","Nord-Amerika","2024-08-21","20/24",null,null,null," "," ",null,{"$f":"IFERROR(AVERAGEIF(Eingabe!$I$2:$I$1276, \"KPWK\", Eingabe!$O$2:$O$1276), 0)","v":0}]
["KPWM","Portland / Maine","Basis","USA",{"$f":"COUNTIF(Eingabe!$F$2:$H$1276,\"KPWM\")","v":0},{"$f":"COUNTIF(Eingabe!$I$2:$K$1276,\"KPWM\")","v":0},"Aerodesign","1.1.0","PWM","Nord-Amerika","2025-11-05","20/24",null,null,null," "," ",null,{"$f":"IFERROR(AVERAGEIF(Eingabe!$I$2:$I$1276, \"KPWM\", Eingabe!$O$2:$O$1276), 0)","v":0}]
["KRDD","Redding / Kalifornien","Basis","USA",{"$f":"COUNTIF(Eingabe!$F$2:$H$1276,\"KRDD\")","v":0},{"$f":"COUNTIF(Eingabe!$I$2:$K$1276,\"KRDD\")","v":0},"spinoza","2.4.1","RDD","Nord-Amerika","2024-12-08","20/24",null,null,null," "," ",null,{"$f":"IFERROR(AVERAGEIF(Eingabe!$I$2:$I$1276, \"KRDD\", Eingabe!$O$2:$O$1276), 0)","v":0}]
["KRDU","Raleigh-Durham / North Carolina","Basis","USA",{"$f":"COUNTIF(Eingabe!$F$2:$H$1276,\"KRDU\")","v":0},{"$f":"COUNTIF(Eingabe!$I$2:$K$1276,\"KRDU\")","v":0},"pacsim","1.0.0","RDU","Nord-Amerika","2025-09-16",24,null,null,null," "," ",null,{"$f":"IFERROR(AVERAGEIF(Eingabe!$I$2:$I$1276, \"KRDU\", Eingabe!$O$2:$O$1276), 0)","v":0}]
["KRFD","Chicago-Rockford","Basis","USA",{"$f":"COUNTIF(Eingabe!$F$2:$H$1276,\"KRFD\")","v":0},{"$f":"COUNTIF(Eingabe!$I$2:$K$1276,\"KRFD\")","v":0},"xwingstudios","1.0.5","RFD","Nord-Amerika","2026-01-11",24,null,null,null," "," ",null,{"$f":"IFERROR(AVERAGEIF(Eingabe!$I$2:$I$1276, \"KRFD\", Eingabe!$O$2:$O$1276), 0)","v":0}]
["KRIC","Richmond / Virginia","Basis","USA",{"$f":"COUNTIF(Eingabe!$F$2:$H$1276,\"KRIC\")","v":0},{"$f":"COUNTIF(Eingabe!$I$2:$K$1276,\"KRIC\")","v":0},"axonos","1.0.1","RIC","Nord-Amerika","2024-04-28","20/24",null,null,null," "," ",null,{"$f":"IFERROR(AVERAGEIF(Eingabe!$I$2:$I$1276, \"KRIC\", Eingabe!$O$2:$O$1276), 0)","v":0}]
["KRNO","Reno, Nevada","Basis","USA",{"$f":"COUNTIF(Eingabe!$F$2:$H$1276,\"KRNO\")","v":0},{"$f":"COUNTIF(Eingabe!$I$2:$K$1276,\"KRNO\")","v":0},"pacsim","2.0.0","RNO","Nord-Amerika","2024-04-11","20/24",null,null,null," "," ",null,{"$f":"IFERROR(AVERAGEIF(Eingabe!$I$2:$I$1276, \"KRNO\", Eingabe!$O$2:$O$1276), 0)","v":0}]
["KRNT","Renton Municipal","Basis","USA",{"$f":"COUNTIF(Eingabe!$F$2:$H$1276,\"KRNT\")","v":0},{"$f":"COUNTIF(Eingabe!$I$2:$K$1276,\"KRNT\")","v":0},"drzewieckidesign","1.3.0","RNT","Nord-Amerika","2026-02-28","20/24",null,null,null," "," ",null,{"$f":"IFERROR(AVERAGEIF(Eingabe!$I$2:$I$1276, \"KRNT\", Eingabe!$O$2:$O$1276), 0)","v":0}]
["KROC","Rochester Intl. / New York","Basis","USA",{"$f":"COUNTIF(Eingabe!$F$2:$H$1276,\"KROC\")","v":0},{"$f":"COUNTIF(Eingabe!$I$2:$K$1276,\"KROC\")","v":0},"devinci","1.0.1","ROC","Nord-Amerika","2026-06-05",24,null,null,null," "," ",null,{"$f":"IFERROR(AVERAGEIF(Eingabe!$I$2:$I$1276, \"KROC\", Eingabe!$O$2:$O$1276), 0)","v":0}]
["KRSW","Fort Myers / Florida","Basis","USA",{"$f":"COUNTIF(Eingabe!$F$2:$H$1276,\"KRSW\")","v":0},{"$f":"COUNTIF(Eingabe!$I$2:$K$1276,\"KRSW\")","v":0},"verticalsim","1.0.1","RSW","Nord-Amerika","2025-09-05","20/24",null,null,11," "," ",null,{"$f":"IFERROR(AVERAGEIF(Eingabe!$I$2:$I$1276, \"KRSW\", Eingabe!$O$2:$O$1276), 0)","v":0}]
["KSAN","San Diego Intl. / Kalifornien","Basis","USA",{"$f":"COUNTIF(Eingabe!$F$2:$H$1276,\"KSNA\")","v":0},{"$f":"COUNTIF(Eingabe!$I$2:$K$1276,\"KSNA\")","v":0},"glideslope","1.2.0","SAN","Nord-Amerika","2025-09-05","20/24",null,null,null," "," ",null,{"$f":"IFERROR(AVERAGEIF(Eingabe!$I$2:$I$1276, \"KSAN\", Eingabe!$O$2:$O$1276), 0)","v":0}]
["KSAT","San Antonio Intl.","Basis","USA",{"$f":"COUNTIF(Eingabe!$F$2:$H$1276,\"KSAT\")","v":0},{"$f":"COUNTIF(Eingabe!$I$2:$K$1276,\"KSAT\")","v":0},"inibuilds","1.1.0","SAT","Nord-Amerika","2026-05-06","20/24",null,null,null," "," ",null,{"$f":"IFERROR(AVERAGEIF(Eingabe!$I$2:$I$1276, \"KSAT\", Eingabe!$O$2:$O$1276), 0)","v":0}]
["KSAV","Savanah / Georgia","Basis","USA",{"$f":"COUNTIF(Eingabe!$F$2:$H$1276,\"KSAV\")","v":0},{"$f":"COUNTIF(Eingabe!$I$2:$K$1276,\"KSAV\")","v":0},"flyhigh","1.8.0","SAV","Nord-Amerika","2024-06-17","20/24",null,null,null," "," ",null,{"$f":"IFERROR(AVERAGEIF(Eingabe!$I$2:$I$1276, \"KSAV\", Eingabe!$O$2:$O$1276), 0)","v":0}]
["KSDF","Louisville-Muhamad Ali / Kentucky","Basis","USA",{"$f":"COUNTIF(Eingabe!$F$2:$H$1276,\"KSDF\")","v":0},{"$f":"COUNTIF(Eingabe!$I$2:$K$1276,\"KSDF\")","v":0},"fsdreamteam","1.4.0","SDF","Nord-Amerika","2024-11-21","20/24",null,null,null," "," ",null,{"$f":"IFERROR(AVERAGEIF(Eingabe!$I$2:$I$1276, \"KSDF\", Eingabe!$O$2:$O$1276), 0)","v":0}]
["KSEA","Seattle-Tacoma/Washington","Basis","USA",{"$f":"COUNTIF(Eingabe!$F$2:$H$1276,\"KSEA\")","v":0},{"$f":"COUNTIF(Eingabe!$I$2:$K$1276,\"KSEA\")","v":0},"mkstudios","1.0.2","SEA","Nord-Amerika","2025-07-03","20/24",null,null,"N10"," "," ",null,{"$f":"IFERROR(AVERAGEIF(Eingabe!$I$2:$I$1276, \"KSEA\", Eingabe!$O$2:$O$1276), 0)","v":0}]
["KSFB","Orlando, Florida","Basis","USA",{"$f":"COUNTIF(Eingabe!$F$2:$H$1276,\"KSFB\")","v":0},{"$f":"COUNTIF(Eingabe!$I$2:$K$1276,\"KSFB\")","v":0},"tms","1.0.0","SFB","Nord-Amerika","2025-01-14","20/24",null,null,null," "," ",null,{"$f":"IFERROR(AVERAGEIF(Eingabe!$I$2:$I$1276, \"KSFB\", Eingabe!$O$2:$O$1276), 0)","v":0}]
["KSFO","SanFrancisco/Kalifornien","Basis","USA",{"$f":"COUNTIF(Eingabe!$F$2:$H$1276,\"KSFO\")","v":0},{"$f":"COUNTIF(Eingabe!$I$2:$K$1276,\"KSFO\")","v":0},"glideslope","2.6.0","SFO","Nord-Amerika","2026-05-06",24,null,null,null," "," ",null,{"$f":"IFERROR(AVERAGEIF(Eingabe!$I$2:$I$1276, \"KSFO\", Eingabe!$O$2:$O$1276), 0)","v":0}]
["KSGF","Springfield–Branson / Missouri","Basis","USA",{"$f":"COUNTIF(Eingabe!$F$2:$H$1276,\"KSGF\")","v":0},{"$f":"COUNTIF(Eingabe!$I$2:$K$1276,\"KSGF\")","v":0},"rwprofiles","1.0.4","SGF","Nord-Amerika","2025-05-26","20/24",null,null,null," "," ",null,{"$f":"IFERROR(AVERAGEIF(Eingabe!$I$2:$I$1276, \"KSGF\", Eingabe!$O$2:$O$1276), 0)","v":0}]
["KSGU","St.George / Washington","Basis","USA",{"$f":"COUNTIF(Eingabe!$F$2:$H$1276,\"KSGU\")","v":0},{"$f":"COUNTIF(Eingabe!$I$2:$K$1276,\"KSGU\")","v":0},"propairflieght","1.6.0","SGU","Nord-Amerika","2025-05-27","20/24",null,null,null,null,null,null,{"$f":"IFERROR(AVERAGEIF(Eingabe!$I$2:$I$1276, \"KSGU\", Eingabe!$O$2:$O$1276), 0)","v":0}]
["KSHD","Shenendoah Valley / Virginia","Basis","USA",{"$f":"COUNTIF(Eingabe!$F$2:$H$1276,\"KSHD\")","v":0},{"$f":"COUNTIF(Eingabe!$I$2:$K$1276,\"KSHD\")","v":0},"fsxcenery","2.0.0","SHD","Nord-Amerika","2024-05-23","20/24",null,null,null,{"$f":"IF(E404=0,\" \",\"✔️\")","v":" "},{"$f":"IF(F404=0,\" \",\"✔️\")","v":" "},null,{"$f":"IFERROR(AVERAGEIF(Eingabe!$I$2:$I$1276, \"KSHD\", Eingabe!$O$2:$O$1276), 0)","v":0}]
["KSJC","San-Jose Intl.","Basis","USA",{"$f":"COUNTIF(Eingabe!$F$2:$H$1276,\"KSJC\")","v":0},{"$f":"COUNTIF(Eingabe!$I$2:$K$1276,\"KSJC\")","v":0},"ORBX","1.1.0","SJC","Nord-Amerika","2024-12-08",24,null,null,null," "," ",null,{"$f":"IFERROR(AVERAGEIF(Eingabe!$I$2:$I$1276, \"KSJC\", Eingabe!$O$2:$O$1276), 0)","v":0}]
["KSLC","Salt Lake City/ Utah","Basis","USA",{"$f":"COUNTIF(Eingabe!$F$2:$H$1276,\"KSLC\")","v":0},{"$f":"COUNTIF(Eingabe!$I$2:$K$1276,\"KSLC\")","v":0},"pacsim","2.0.0","SLC","Nord-Amerika","2026-03-20","20/24",null,null,null," "," ",null,{"$f":"IFERROR(AVERAGEIF(Eingabe!$I$2:$I$1276, \"KSLC\", Eingabe!$O$2:$O$1276), 0)","v":0}]
["KSMF","Sacramento / Kalifornien","Basis","USA",{"$f":"COUNTIF(Eingabe!$F$2:$H$1276,\"KSMF\")","v":0},{"$f":"COUNTIF(Eingabe!$I$2:$K$1276,\"KSMF\")","v":0},"ORBX","1.0.0","SMF","Nord-Amerika","2023-07-25","20/24",null,null,null," "," ",null,{"$f":"IFERROR(AVERAGEIF(Eingabe!$I$2:$I$1276, \"KSMF\", Eingabe!$O$2:$O$1276), 0)","v":0}]
["KSNA","John Wayne-Orange County","Basis","USA",{"$f":"COUNTIF(Eingabe!$F$2:$H$1276,\"KSNA\")","v":0},{"$f":"COUNTIF(Eingabe!$I$2:$K$1276,\"KSNA\")","v":0},"UK2000","1.4.3","SNA","Nord-Amerika","2026-03-08","20/24",null,null,null," "," ",null,{"$f":"IFERROR(AVERAGEIF(Eingabe!$I$2:$I$1276, \"KSNA\", Eingabe!$O$2:$O$1276), 0)","v":0}]
["KSPI","Abraham Lincoln Capital / Illinois","Basis","USA",{"$f":"COUNTIF(Eingabe!$F$2:$H$1276,\"KSPI\")","v":0},{"$f":"COUNTIF(Eingabe!$I$2:$K$1276,\"KSPI\")","v":0},"flyhigh","1.2.0","SPI","Nord-Amerika","2023-10-16","20/24",null,null,null," "," ",null,{"$f":"IFERROR(AVERAGEIF(Eingabe!$I$2:$I$1276, \"KSPI\", Eingabe!$O$2:$O$1276), 0)","v":0}]
["KSQL","San Carlos / Californien","Basis","USA",{"$f":"COUNTIF(Eingabe!$F$2:$H$1276,\"KSQL\")","v":0},{"$f":"COUNTIF(Eingabe!$I$2:$K$1276,\"KSQL\")","v":0},"spinoza","2.4.1","SQL","Nord-Amerika","2024-11-27","20/24",null,null,null," "," ",null,{"$f":"IFERROR(AVERAGEIF(Eingabe!$I$2:$I$1276, \"KSQL\", Eingabe!$O$2:$O$1276), 0)","v":0}]
["KSRQ","Sarasota–Bradenton Intl. / Florida","Basis","USA",{"$f":"COUNTIF(Eingabe!$F$2:$H$1276,\"KSRQ\")","v":0},{"$f":"COUNTIF(Eingabe!$I$2:$K$1276,\"KSRQ\")","v":0},"verticalsim","1.0.1","SRQ","Nord-Amerika","2023-11-24","20/24",null,null,null," "," ",null,{"$f":"IFERROR(AVERAGEIF(Eingabe!$I$2:$I$1276, \"KSRQ\", Eingabe!$O$2:$O$1276), 0)","v":0}]
["KSTL","St Louis / Missouri","Basis","USA",{"$f":"COUNTIF(Eingabe!$F$2:$H$1276,\"KSTL\")","v":0},{"$f":"COUNTIF(Eingabe!$I$2:$K$1276,\"KSTL\")","v":0},"realworldscenery","2.2.1","STL","Nord-Amerika","2024-11-22","20/24",null,null,null," "," ",null,{"$f":"IFERROR(AVERAGEIF(Eingabe!$I$2:$I$1276, \"KSTL\", Eingabe!$O$2:$O$1276), 0)","v":0}]
["KSYR","Syracuse-Hancock","Basis","USA",{"$f":"COUNTIF(Eingabe!$F$2:$H$1276,\"KSYR\")","v":0},{"$f":"COUNTIF(Eingabe!$I$2:$K$1276,\"KSYR\")","v":0},"verticalsim","1.0.0","SYR","Nord-Amerika","2022-10-18","20/24",null,null,null," "," ",null,{"$f":"IFERROR(AVERAGEIF(Eingabe!$I$2:$I$1276, \"KSYR\", Eingabe!$O$2:$O$1276), 0)","v":0}]
["KTLH","Tallahassee / Florida","Basis","USA",{"$f":"COUNTIF(Eingabe!$F$2:$H$1276,\"KTLH\")","v":0},{"$f":"COUNTIF(Eingabe!$I$2:$K$1276,\"KTLH\")","v":0},"stealthyduck","1.5.1","TLH","Nord-Amerika","2024-01-20","20/24",null,null,null," "," ",null,{"$f":"IFERROR(AVERAGEIF(Eingabe!$I$2:$I$1276, \"KTLH\", Eingabe!$O$2:$O$1276), 0)","v":0}]
["KTPA","Tampa / Florida","Basis","USA",{"$f":"COUNTIF(Eingabe!$F$2:$H$1276,\"KTPA\")","v":0},{"$f":"COUNTIF(Eingabe!$I$2:$K$1276,\"KTPA\")","v":0},"verticalsim","1.5.0","TPA","Nord-Amerika","2024-01-27","20/24",null,null,null," "," ",null,{"$f":"IFERROR(AVERAGEIF(Eingabe!$I$2:$I$1276, \"KTPA\", Eingabe!$O$2:$O$1276), 0)","v":0}]
["KTTN","Trenton-Mercer / Ney Jersey","Basis","USA",{"$f":"COUNTIF(Eingabe!$F$2:$H$1276,\"KTTN\")","v":0},{"$f":"COUNTIF(Eingabe!$I$2:$K$1276,\"KTTN\")","v":0},"xwingstudios","1.0.0","TTN","Nord-Amerika","2025-12-04","20/24",null,null,null," "," ",null,{"$f":"IFERROR(AVERAGEIF(Eingabe!$I$2:$I$1276, \"KTTN\", Eingabe!$O$2:$O$1276), 0)","v":0}]
["KTUL","Tulsa Intl. / Oklahoma","Basis","USA",{"$f":"COUNTIF(Eingabe!$F$2:$H$1276,\"KTUS\")","v":0},{"$f":"COUNTIF(Eingabe!$I$2:$K$1276,\"KTUS\")","v":0},"flyhigh","3.0.0","TUL","Nord-Amerika","2026-04-26",24,null,null,null," "," ",null,{"$f":"IFERROR(AVERAGEIF(Eingabe!$I$2:$I$1276, \"KTUL\", Eingabe!$O$2:$O$1276), 0)","v":0}]
["KTUS","Tucson Intl. / Arizona","Basis","USA",{"$f":"COUNTIF(Eingabe!$F$2:$H$1276,\"KTUS\")","v":0},{"$f":"COUNTIF(Eingabe!$I$2:$K$1276,\"KTUS\")","v":0},"feelthere","1.1.0","TUS","Nord-Amerika","2024-08-21","20/24",null,null,null," "," ",null,{"$f":"IFERROR(AVERAGEIF(Eingabe!$I$2:$I$1276, \"KTUS\", Eingabe!$O$2:$O$1276), 0)","v":0}]
["KTVC","Cherry Capital","Basis","USA",{"$f":"COUNTIF(Eingabe!$F$2:$H$1276,\"KTVC\")","v":0},{"$f":"COUNTIF(Eingabe!$I$2:$K$1276,\"KTVC\")","v":0},"foxtwomodels","1.5.1","TVC","Nord-Amerika","2026-01-11","20/24",null,null,null," "," ",null,{"$f":"IFERROR(AVERAGEIF(Eingabe!$I$2:$I$1276, \"KTVC\", Eingabe!$O$2:$O$1276), 0)","v":0}]
["KTYQ","Indianapolis Executive / Indiana","Basis","USA",{"$f":"COUNTIF(Eingabe!$F$2:$H$1276,\"KTYQ\")","v":0},{"$f":"COUNTIF(Eingabe!$I$2:$K$1276,\"KTYQ\")","v":0},"UK2000","1.4.0","TYQ","Nord-Amerika","2024-11-21","20/24",null,null,null," "," ",null,{"$f":"IFERROR(AVERAGEIF(Eingabe!$I$2:$I$1276, \"KTYQ\", Eingabe!$O$2:$O$1276), 0)","v":0}]
["KVPS","Destin–Fort Walton Beach / Florida","Basis","USA",{"$f":"COUNTIF(Eingabe!$F$2:$H$1276,\"KVPS\")","v":0},{"$f":"COUNTIF(Eingabe!$I$2:$K$1276,\"KVPS\")","v":0},"flyhigh","3.5.0","VPS","Nord-Amerika","2023-05-04","20/24",null,null,null," "," ",null,{"$f":"IFERROR(AVERAGEIF(Eingabe!$I$2:$I$1276, \"KVPS\", Eingabe!$O$2:$O$1276), 0)","v":0}]
["LAKU","Kukës","Basis","Albanien",{"$f":"COUNTIF(Eingabe!$F$2:$H$1276,\"LAKU\")","v":0},{"$f":"COUNTIF(Eingabe!$I$2:$K$1276,\"LAKU\")","v":0},"mxidesign","1.0.0","KFZ","Europa","2024-02-29","20/24",null,null,null," "," ",null,{"$f":"IFERROR(AVERAGEIF(Eingabe!$I$2:$I$1276, \"LAKU\", Eingabe!$O$2:$O$1276), 0)","v":0}]
["LATI","Tirana","Basis","Albanien",{"$f":"COUNTIF(Eingabe!$F$2:$H$1276,\"LATI\")","v":1},{"$f":"COUNTIF(Eingabe!$I$2:$K$1276,\"LATI\")","v":1},"salvuz","1.2.0","TIA","Europa","2025-08-06","20/24",null,null,null,"✔️","✔️",null,{"$f":"IFERROR(AVERAGEIF(Eingabe!$I$2:$I$1276, \"LATI\", Eingabe!$O$2:$O$1276), 0)","v":218}]
["LBBG","Burgas","Basis","Bulgarien",{"$f":"COUNTIF(Eingabe!$F$2:$H$1276,\"LBBG\")","v":1},{"$f":"COUNTIF(Eingabe!$I$2:$K$1276,\"LBBG\")","v":1},"agsim","1.6.0","BOJ","Europa","2025-06-19","20/24",null,null,null,"✔️","✔️",null,{"$f":"IFERROR(AVERAGEIF(Eingabe!$I$2:$I$1276, \"LBBG\", Eingabe!$O$2:$O$1276), 0)","v":216}]
["LBPD","Plowdiw","Basis","Bulgarien",{"$f":"COUNTIF(Eingabe!$F$2:$H$1276,\"LBPD\")","v":0},{"$f":"COUNTIF(Eingabe!$I$2:$K$1276,\"LBPD\")","v":0},"bgsim","1.1.0","PDV","Europa","2024-06-06","20/24",null,null,null," "," ",null,{"$f":"IFERROR(AVERAGEIF(Eingabe!$I$2:$I$1276, \"LBPD\", Eingabe!$O$2:$O$1276), 0)","v":0}]
["LBSF","Sofia","Basis","Bulgarien",{"$f":"COUNTIF(Eingabe!$F$2:$H$1276,\"LBSF\")","v":1},{"$f":"COUNTIF(Eingabe!$I$2:$K$1276,\"LBSF\")","v":1},"flyhigh","1.0.0","SOF","Europa","2024-02-10","20/24",null,null,null,"✔️","✔️",null,{"$f":"IFERROR(AVERAGEIF(Eingabe!$I$2:$I$1276, \"LBSF\", Eingabe!$O$2:$O$1276), 0)","v":217}]
["LBWN","Varna","Basis","Bulgarien",{"$f":"COUNTIF(Eingabe!$F$2:$H$1276,\"LBWN\")","v":1},{"$f":"COUNTIF(Eingabe!$I$2:$K$1276,\"LBWN\")","v":1},"agsim","1.2.o","VAR","Europa","2024-03-08","20/24",null,null,null,"✔️","✔️",null,{"$f":"IFERROR(AVERAGEIF(Eingabe!$I$2:$I$1276, \"LBWN\", Eingabe!$O$2:$O$1276), 0)","v":218}]
["LCLK","Larnaka","Basis","Zypern",{"$f":"COUNTIF(Eingabe!$F$2:$H$1276,\"LCLK\")","v":0},{"$f":"COUNTIF(Eingabe!$I$2:$K$1276,\"LCLK\")","v":0},"inibuilds","1.0.3","LCA","Europa","2026-06-05",24,null,null,3," "," ",null,{"$f":"IFERROR(AVERAGEIF(Eingabe!$I$2:$I$1276, \"LCLK\", Eingabe!$O$2:$O$1276), 0)","v":0}]
["LCPH","Paphos","Basis","Zypern",{"$f":"COUNTIF(Eingabe!$F$2:$H$1276,\"LCPH\")","v":0},{"$f":"COUNTIF(Eingabe!$I$2:$K$1276,\"LCPH\")","v":0},"mxidesign","1.0.0","PFO","Europa","2022-08-23","20/24",null,null,null," "," ",null,{"$f":"IFERROR(AVERAGEIF(Eingabe!$I$2:$I$1276, \"LCPH\", Eingabe!$O$2:$O$1276), 0)","v":0}]
["LDDU","Dubrovnik","Basis","Kroatien",{"$f":"COUNTIF(Eingabe!$F$2:$H$1276,\"LDDU\")","v":2},{"$f":"COUNTIF(Eingabe!$I$2:$K$1276,\"LDDU\")","v":2},"inibuilds","1.0.2","DBV","Europa","2026-06-05","20/24",null,null,null,"✔️","✔️",null,{"$f":"IFERROR(AVERAGEIF(Eingabe!$I$2:$I$1276, \"LDDU\", Eingabe!$O$2:$O$1276), 0)","v":177.32999999999998}]
["LDPL","Pula","Basis","Kroatien",{"$f":"COUNTIF(Eingabe!$F$2:$H$1276,\"LDPL\")","v":0},{"$f":"COUNTIF(Eingabe!$I$2:$K$1276,\"LDPL\")","v":0},"davorpuljevic","1.0.0","PUY","Europa","2021-11-03","20/24",null,null,null," "," ",null,{"$f":"IFERROR(AVERAGEIF(Eingabe!$I$2:$I$1276, \"LDPL\", Eingabe!$O$2:$O$1276), 0)","v":0}]
["LDRI","Rijeka / Krk","World Update 14","Kroatien",{"$f":"COUNTIF(Eingabe!$F$2:$H$1276,\"LDRI\")","v":0},{"$f":"COUNTIF(Eingabe!$I$2:$K$1276,\"LDRI\")","v":0},"pilotexperiencesim","1.0.2","RJK","Europa","2026-03-20",24,null,null,null," "," ",null,{"$f":"IFERROR(AVERAGEIF(Eingabe!$I$2:$I$1276, \"LDRI\", Eingabe!$O$2:$O$1276), 0)","v":0}]
["LDSP","Split","Basis","Kroatien",{"$f":"COUNTIF(Eingabe!$F$2:$H$1276,\"LDSP\")","v":1},{"$f":"COUNTIF(Eingabe!$I$2:$K$1276,\"LDSP\")","v":1},"davorpuljevic","1.0.0","SPU","Europa","2025-11-23",24,null,null,null,"✔️","✔️",null,{"$f":"IFERROR(AVERAGEIF(Eingabe!$I$2:$I$1276, \"LDSP\", Eingabe!$O$2:$O$1276), 0)","v":218}]
["LDZA","Zagreb","Basis","Kroatien",{"$f":"COUNTIF(Eingabe!$F$2:$H$1276,\"LDZA\")","v":3},{"$f":"COUNTIF(Eingabe!$I$2:$K$1276,\"LDZA\")","v":3},"Aerosoft","2.5.4","ZAG","Europa","2025-12-23","20/24",null,null,null,"✔️","✔️",null,{"$f":"IFERROR(AVERAGEIF(Eingabe!$I$2:$I$1276, \"LDZA\", Eingabe!$O$2:$O$1276), 0)","v":240.05333333333331}]
["LDZD","Zadar","Basis","Kroatien",{"$f":"COUNTIF(Eingabe!$F$2:$H$1276,\"LDZD\")","v":0},{"$f":"COUNTIF(Eingabe!$I$2:$K$1276,\"LDZD\")","v":0},"ORBX","1.0.0","ZAD","Europa","2021-11-06","20/24",null,null,null," "," ",null,{"$f":"IFERROR(AVERAGEIF(Eingabe!$I$2:$I$1276, \"LDZD\", Eingabe!$O$2:$O$1276), 0)","v":0}]
["LEAL","Alicante - Elche","Basis","Spanien",{"$f":"COUNTIF(Eingabe!$F$2:$H$1276,\"LEAL\")","v":1},{"$f":"COUNTIF(Eingabe!$I$2:$K$1276,\"LEAL\")","v":1},"Pilots","1.5.2","ALC","Europa","2022-07-20","20/24",null,null,19,{"$f":"IF(E436=0,\" \",\"✔️\")","v":"✔️"},{"$f":"IF(F436=0,\" \",\"✔️\")","v":"✔️"},null,{"$f":"IFERROR(AVERAGEIF(Eingabe!$I$2:$I$1276, \"LEAL\", Eingabe!$O$2:$O$1276), 0)","v":336}]
["LEAM","Almeria","Basis","Spanien",{"$f":"COUNTIF(Eingabe!$F$2:$H$1276,\"LEAM\")","v":0},{"$f":"COUNTIF(Eingabe!$I$2:$K$1276,\"LEAM\")","v":0},"TDM Scenery Design","1.0.1","LEI","Europa","2023-03-19","20/24",null,null,null," "," ",null,{"$f":"IFERROR(AVERAGEIF(Eingabe!$I$2:$I$1276, \"LEAM\", Eingabe!$O$2:$O$1276), 0)","v":0}]
["LEAS","Asturias","Basis","Spanien",{"$f":"COUNTIF(Eingabe!$F$2:$H$1276,\"LEAS\")","v":0},{"$f":"COUNTIF(Eingabe!$I$2:$K$1276,\"LEAS\")","v":0},"ORBX","1.0.0","OVD","Europa","2022-10-16","20/24",null,null,null," "," ",null,{"$f":"IFERROR(AVERAGEIF(Eingabe!$I$2:$I$1276, \"LEAS\", Eingabe!$O$2:$O$1276), 0)","v":0}]
["LEBB","Bilbao","Basis","Spanien",{"$f":"COUNTIF(Eingabe!$F$2:$H$1276,\"LEBB\")","v":0},{"$f":"COUNTIF(Eingabe!$I$2:$K$1276,\"LEBB\")","v":0},"bmw","5.0.1","BIO","Europa","2024-03-08","20/24",null,null,null," "," ",null,{"$f":"IFERROR(AVERAGEIF(Eingabe!$I$2:$I$1276, \"LEBB\", Eingabe!$O$2:$O$1276), 0)","v":0}]
["LEBG","Burgos","Basis","Spanien",{"$f":"COUNTIF(Eingabe!$F$2:$H$1276,\"LEBG\")","v":0},{"$f":"COUNTIF(Eingabe!$I$2:$K$1276,\"LEBG\")","v":0},"bmw","3.0.0","RGS","Europa","2024-09-03","20/24",null,null,null," "," ",null,{"$f":"IFERROR(AVERAGEIF(Eingabe!$I$2:$I$1276, \"LEBG\", Eingabe!$O$2:$O$1276), 0)","v":0}]
["LEBL","Barcelona","Basis","Spanien",{"$f":"COUNTIF(Eingabe!$F$2:$H$1276,\"LEBL\")","v":0},{"$f":"COUNTIF(Eingabe!$I$2:$K$1276,\"LEBL\")","v":0},"mkstudios"," 1.4.0","BCN","Europa","2025-08-19","20/24",null,null,null," "," ",null,{"$f":"IFERROR(AVERAGEIF(Eingabe!$I$2:$I$1276, \"LEBL\", Eingabe!$O$2:$O$1276), 0)","v":0}]
["LECO","Aeropuerto de La Coruña","World Update 8","Spanien",{"$f":"COUNTIF(Eingabe!$F$2:$H$1276,\"LECO\")","v":0},{"$f":"COUNTIF(Eingabe!$I$2:$K$1276,\"LECO\")","v":0},"tdmscenerydesign","1.7.0","LCG","Europa","2022-12-23","20/24",null,null,null," "," ",null,{"$f":"IFERROR(AVERAGEIF(Eingabe!$I$2:$I$1276, \"LECO\", Eingabe!$O$2:$O$1276), 0)","v":0}]
["LEDA","Lleida-Alguaire","Basis","Spanien",{"$f":"COUNTIF(Eingabe!$F$2:$H$1276,\"LEDA\")","v":0},{"$f":"COUNTIF(Eingabe!$I$2:$K$1276,\"LEDA\")","v":0},"unair","1.0.0","ILD","Europa","2024-03-30","20/24",null,null,null," "," ",null,{"$f":"IFERROR(AVERAGEIF(Eingabe!$I$2:$I$1276, \"LEDA\", Eingabe!$O$2:$O$1276), 0)","v":0}]
["LEGE","Girona","Basis","Spanien",{"$f":"COUNTIF(Eingabe!$F$2:$H$1276,\"LEGE\")","v":0},{"$f":"COUNTIF(Eingabe!$I$2:$K$1276,\"LEGE\")","v":0},"mkstudios","1.2.2","GRO","Europa","2026-03-29","20/24",null,null,null," "," ",null,{"$f":"IFERROR(AVERAGEIF(Eingabe!$I$2:$I$1276, \"LEGE\", Eingabe!$O$2:$O$1276), 0)","v":0}]
["LEGR","Granada","Basis","Spanien",{"$f":"COUNTIF(Eingabe!$F$2:$H$1276,\"LEGR\")","v":0},{"$f":"COUNTIF(Eingabe!$I$2:$K$1276,\"LEGR\")","v":0},"pksim","1.1.0","GRX","Europa","2023-12-13","20/24",null,null,null," "," ",null,{"$f":"IFERROR(AVERAGEIF(Eingabe!$I$2:$I$1276, \"LEGR\", Eingabe!$O$2:$O$1276), 0)","v":0}]
["LEIB","Ibiza","Basis","Spanien",{"$f":"COUNTIF(Eingabe!$F$2:$H$1276,\"LEIB\")","v":0},{"$f":"COUNTIF(Eingabe!$I$2:$K$1276,\"LEIB\")","v":0},"inibuilds","1.0.2","IBZ","Europa","2026-01-11",24,null,null,null," "," ",null,{"$f":"IFERROR(AVERAGEIF(Eingabe!$I$2:$I$1276, \"LEIB\", Eingabe!$O$2:$O$1276), 0)","v":0}]
["LEJR","Jerez","Basis","Spanien",{"$f":"COUNTIF(Eingabe!$F$2:$H$1276,\"LEJR\")","v":0},{"$f":"COUNTIF(Eingabe!$I$2:$K$1276,\"LEJR\")","v":0},"vpilotdesigns","1.2.2","XRY","Europa","2024-09-29","20/24",null,null,null," "," ",null,{"$f":"IFERROR(AVERAGEIF(Eingabe!$I$2:$I$1276, \"LEJR\", Eingabe!$O$2:$O$1276), 0)","v":0}]
["LELN","León","Basis","Spanien",{"$f":"COUNTIF(Eingabe!$F$2:$H$1276,\"LELN\")","v":0},{"$f":"COUNTIF(Eingabe!$I$2:$K$1276,\"LELN\")","v":0},"bmw","1.6.0","LEN","Europa","2023-08-11","20/24",null,null,null," "," ",null,{"$f":"IFERROR(AVERAGEIF(Eingabe!$I$2:$I$1276, \"LELN\", Eingabe!$O$2:$O$1276), 0)","v":0}]
["LEMD","Madrid - Barajas","Basis","Spanien",{"$f":"COUNTIF(Eingabe!$F$2:$H$1276,\"LEMD\")","v":1},{"$f":"COUNTIF(Eingabe!$I$2:$K$1276,\"LEMD\")","v":1},"latinvfr","1.0.9","MAD","Europa","2025-09-05","20/24",null,null,null,"✔️","✔️",null,{"$f":"IFERROR(AVERAGEIF(Eingabe!$I$2:$I$1276, \"LEMD\", Eingabe!$O$2:$O$1276), 0)","v":152.55000000000001}]
["LEMG","Malaga - Costa del Sol","Basis","Spanien",{"$f":"COUNTIF(Eingabe!$F$2:$H$1276,\"LEMG\")","v":1},{"$f":"COUNTIF(Eingabe!$I$2:$K$1276,\"LEMG\")","v":1},"mkstudios","1.2.2","AGP","Europa","2026-03-20","20/24",null,null,null,"✔️","✔️",null,{"$f":"IFERROR(AVERAGEIF(Eingabe!$I$2:$I$1276, \"LEMG\", Eingabe!$O$2:$O$1276), 0)","v":222.71}]
["LEMH","Menorca","Basis","Spanien",{"$f":"COUNTIF(Eingabe!$F$2:$H$1276,\"LEMH\")","v":0},{"$f":"COUNTIF(Eingabe!$I$2:$K$1276,\"LEMH\")","v":0},"simwings"," 1.1.0","MAH","Europa","2024-12-15","20/24",null,null,null," "," ",null,{"$f":"IFERROR(AVERAGEIF(Eingabe!$I$2:$I$1276, \"LEMH\", Eingabe!$O$2:$O$1276), 0)","v":0}]
["LEMI","Murcia","Basis","Spanien",{"$f":"COUNTIF(Eingabe!$F$2:$H$1276,\"LEMI\")","v":0},{"$f":"COUNTIF(Eingabe!$I$2:$K$1276,\"LEMI\")","v":0},"flyxsim","1.0.0","RMU","Europa","2025-07-12","20/24",null,null,null," "," ",null,{"$f":"IFERROR(AVERAGEIF(Eingabe!$I$2:$I$1276, \"LEMI\", Eingabe!$O$2:$O$1276), 0)","v":0}]
["LEPA","Palma de Mallorca","Basis","Spanien",{"$f":"COUNTIF(Eingabe!$F$2:$H$1276,\"LEPA\")","v":3},{"$f":"COUNTIF(Eingabe!$I$49:$I$934,\"LEPA\")","v":3},"JustSim","1.1.0","PMI","Europa","2022-08-14","20/24",null,null,8,"✔️","✔️",null,{"$f":"IFERROR(AVERAGEIF(Eingabe!$I$2:$I$1276, \"LEPA\", Eingabe!$O$2:$O$1276), 0)","v":233.36999999999998}]
["LEPP","Pamplona","Basis","Spanien",{"$f":"COUNTIF(Eingabe!$F$2:$H$1276,\"LEPP\")","v":0},{"$f":"COUNTIF(Eingabe!$I$2:$K$1276,\"LEPP\")","v":0},"bmw","1.4.0","PNA","Europa","2024-09-03","20/24",null,null,null," "," ",null,{"$f":"IFERROR(AVERAGEIF(Eingabe!$I$2:$I$1276, \"LEPP\", Eingabe!$O$2:$O$1276), 0)","v":0}]
["LERS","Reus","Basis","Spanien",{"$f":"COUNTIF(Eingabe!$F$2:$H$1276,\"LERS\")","v":0},{"$f":"COUNTIF(Eingabe!$I$2:$K$1276,\"LERS\")","v":0},"bmw","2.1.0","REU","Europa","2024-08-21","20/24",null,null,null," "," ",null,{"$f":"IFERROR(AVERAGEIF(Eingabe!$I$2:$I$1276, \"LERS\", Eingabe!$O$2:$O$1276), 0)","v":0}]
["LESO","San Sebastian","Basis","Spanien",{"$f":"COUNTIF(Eingabe!$F$2:$H$1276,\"LESO\")","v":0},{"$f":"COUNTIF(Eingabe!$I$2:$K$1276,\"LESO\")","v":0},"mkstudios","1.2.0","EAS","Europa","2025-08-14","20/24",null,null,null," "," ",null,{"$f":"IFERROR(AVERAGEIF(Eingabe!$I$2:$I$1276, \"LESO\", Eingabe!$O$2:$O$1276), 0)","v":0}]
["LEST","Santiago de Compostella","Basis","Spanien",{"$f":"COUNTIF(Eingabe!$F$2:$H$1276,\"LEST\")","v":0},{"$f":"COUNTIF(Eingabe!$I$2:$K$1276,\"LEST\")","v":0},"tdmscenerydesign","1.1.0","SCQ","Europa","2022-02-19","20/24",null,null,null," "," ",null,{"$f":"IFERROR(AVERAGEIF(Eingabe!$I$2:$I$1276, \"LEST\", Eingabe!$O$2:$O$1276), 0)","v":0}]
["LETL","Teruel","Basis","Spanien",{"$f":"COUNTIF(Eingabe!$F$2:$H$1276,\"LETL\")","v":0},{"$f":"COUNTIF(Eingabe!$I$2:$K$1276,\"LETL\")","v":0},"fsdg","1.1.0","TEV","Europa","2025-01-23","20/24",null,null,null," "," ",null,{"$f":"IFERROR(AVERAGEIF(Eingabe!$I$2:$I$1276, \"LETL\", Eingabe!$O$2:$O$1276), 0)","v":0}]
["LEVC","Valencia","Basis","Spanien",{"$f":"COUNTIF(Eingabe!$F$2:$H$1276,\"LEVC\")","v":1},{"$f":"COUNTIF(Eingabe!$I$2:$K$1276,\"LEVC\")","v":1},"bmw","2.5.0","VLC","Europa","2024-01-06","20/24",null,null,null,"✔️","✔️",null,{"$f":"IFERROR(AVERAGEIF(Eingabe!$I$2:$I$1276, \"LEVC\", Eingabe!$O$2:$O$1276), 0)","v":131.57}]
["LEXJ","Santander","Basis","Spanien",{"$f":"COUNTIF(Eingabe!$F$2:$H$1276,\"LEXJ\")","v":0},{"$f":"COUNTIF(Eingabe!$I$2:$K$1276,\"LEXJ\")","v":0},"bmw","2.0.0","SDR","Europa","2023-11-02","20/24",null,null,null," "," ",null,{"$f":"IFERROR(AVERAGEIF(Eingabe!$I$2:$I$1276, \"LEXJ\", Eingabe!$O$2:$O$1276), 0)","v":0}]
["LEZL","Sevilla","Basis","Spanien",{"$f":"COUNTIF(Eingabe!$F$2:$H$1276,\"LEZL\")","v":0},{"$f":"COUNTIF(Eingabe!$I$2:$K$1276,\"LEZL\")","v":0},"mkstudios","1.3.0","SVQ","Europa","2025-09-05","20/24",null,null,null," "," ",null,{"$f":"IFERROR(AVERAGEIF(Eingabe!$I$2:$I$1276, \"LEZL\", Eingabe!$O$2:$O$1276), 0)","v":0}]
["LFBD","Bordeaux","Basis","Frankreich",{"$f":"COUNTIF(Eingabe!$F$2:$H$1276,\"LFBD\")","v":0},{"$f":"COUNTIF(Eingabe!$I$2:$K$1276,\"LFBD\")","v":0},"pilotexperiencesim","2.1.1","BOD","Europa","2025-07-03",24,null,null,"A31"," "," ",null,{"$f":"IFERROR(AVERAGEIF(Eingabe!$I$2:$I$1276, \"LFBD\", Eingabe!$O$2:$O$1276), 0)","v":0}]
["LFBH","La Rochelle","Basis","Frankreich",{"$f":"COUNTIF(Eingabe!$F$2:$H$1276,\"LFBH\")","v":0},{"$f":"COUNTIF(Eingabe!$I$2:$K$1276,\"LFBH\")","v":0},"bmw","1.7.0","LRH","Europa","2024-02-17","20/24",null,null,null," "," ",null,{"$f":"IFERROR(AVERAGEIF(Eingabe!$I$2:$I$1276, \"LFBH\", Eingabe!$O$2:$O$1276), 0)","v":0}]
["LFBO","Toulouse-Blagnac","Basis","Frankreich",{"$f":"COUNTIF(Eingabe!$F$2:$H$1276,\"LFBO\")","v":0},{"$f":"COUNTIF(Eingabe!$I$2:$K$1276,\"LFBO\")","v":0},"Flightbeam","1.1.0","TLS","Europa","2025-01-23","20/24",null,null,null," "," ",null,{"$f":"IFERROR(AVERAGEIF(Eingabe!$I$2:$I$1276, \"LFBO\", Eingabe!$O$2:$O$1276), 0)","v":0}]
["LFBP","Pau-Pyrénées","Basis","Frankreich",{"$f":"COUNTIF(Eingabe!$F$2:$H$1276,\"LFBP\")","v":0},{"$f":"COUNTIF(Eingabe!$I$2:$K$1276,\"LFBP\")","v":0},"indesign","2.1.2","PUF","Europa","2025-11-05","20/24",null,null,null," "," ",null,{"$f":"IFERROR(AVERAGEIF(Eingabe!$I$2:$I$1276, \"LFBP\", Eingabe!$O$2:$O$1276), 0)","v":0}]
["LFBT","Lourdes-Pyrénées","Basis","Frankreich",{"$f":"COUNTIF(Eingabe!$F$2:$H$1276,\"LFBT\")","v":0},{"$f":"COUNTIF(Eingabe!$I$2:$K$1276,\"LFBT\")","v":0},"francevfr","1.0.0","LDE","Europa","2023-04-29","20/24",null,null,null," "," ",null,{"$f":"IFERROR(AVERAGEIF(Eingabe!$I$2:$I$1276, \"LFBT\", Eingabe!$O$2:$O$1276), 0)","v":0}]
["LFBZ","Biarritz","Basis","Frankreich",{"$f":"COUNTIF(Eingabe!$F$2:$H$1276,\"LFBZ\")","v":0},{"$f":"COUNTIF(Eingabe!$I$2:$K$1276,\"LFBZ\")","v":0},"pilotexperiencesim","2.1.2","BIQ","Europa","2025-06-26",24,null,null,null," "," ",null,{"$f":"IFERROR(AVERAGEIF(Eingabe!$I$2:$I$1276, \"LFBZ\", Eingabe!$O$2:$O$1276), 0)","v":0}]
["LFCR","Rodez-Aveyron","Basis","Frankreich",{"$f":"COUNTIF(Eingabe!$F$2:$H$1276,\"LFCR\")","v":0},{"$f":"COUNTIF(Eingabe!$I$2:$K$1276,\"LFCR\")","v":0},"lmtsim","1.0.1","RDZ","Europa","2023-05-29","20/24",null,null,null,{"$f":"IF(E468=0,\" \",\"✔️\")","v":" "},{"$f":"IF(F468=0,\" \",\"✔️\")","v":" "},null,{"$f":"IFERROR(AVERAGEIF(Eingabe!$I$2:$I$1276, \"LFCR\", Eingabe!$O$2:$O$1276), 0)","v":0}]
["LFJL","Metz-Nancy-Lothringen","Basis","Frankreich",{"$f":"COUNTIF(Eingabe!$F$2:$H$1276,\"LFJL\")","v":0},{"$f":"COUNTIF(Eingabe!$I$2:$K$1276,\"LFJL\")","v":0},"francevfr","1.0.0","ETZ","Europa","2023-05-13","20/24",null,null,null," "," ",null,{"$f":"IFERROR(AVERAGEIF(Eingabe!$I$2:$I$1276, \"LFJL\", Eingabe!$O$2:$O$1276), 0)","v":0}]
["LFKB","Bastia-Poretta / Korsika","Basis","Frankreich",{"$f":"COUNTIF(Eingabe!$F$2:$H$1276,\"LFKB\")","v":0},{"$f":"COUNTIF(Eingabe!$I$2:$K$1276,\"LFKB\")","v":0},"francevfr","1.1.0","BIA","Europa","2026-02-12","20/24",null,null,null," "," ",null,{"$f":"IFERROR(AVERAGEIF(Eingabe!$I$2:$I$1276, \"LFKB\", Eingabe!$O$2:$O$1276), 0)","v":0}]
["LFKC","Calvi","Basis","Frankreich",{"$f":"COUNTIF(Eingabe!$F$2:$H$1276,\"LFKC\")","v":0},{"$f":"COUNTIF(Eingabe!$I$2:$K$1276,\"LFKC\")","v":0},"fsx3d","1.6.0","CLY","Europa","2025-07-30","20/24",null,null,null," "," ",null,{"$f":"IFERROR(AVERAGEIF(Eingabe!$I$2:$I$1276, \"LFKC\", Eingabe!$O$2:$O$1276), 0)","v":0}]
["LFKF","Figari Sud Corse / Korsika","Basis","Frankreich",{"$f":"COUNTIF(Eingabe!$F$2:$H$1276,\"LFKF\")","v":0},{"$f":"COUNTIF(Eingabe!$I$2:$K$1276,\"LFKF\")","v":0},"fsx3d","1.5.0","FSC","Europa","2024-02-02","20/24",null,null,null," "," ",null,{"$f":"IFERROR(AVERAGEIF(Eingabe!$I$2:$I$1276, \"LFKF\", Eingabe!$O$2:$O$1276), 0)","v":0}]
["LFKJ","Ajaccio Napoléon Bonaparte/Korsika","Basis","Frankreich",{"$f":"COUNTIF(Eingabe!$F$2:$H$1276,\"LFKJ\")","v":0},{"$f":"COUNTIF(Eingabe!$I$2:$K$1276,\"LFKJ\")","v":0},"pilotexperiencesim","1.3.2","AJA","Europa","2025-05-17",24,null,null,null," "," ",null,{"$f":"IFERROR(AVERAGEIF(Eingabe!$I$2:$I$1276, \"LFKJ\", Eingabe!$O$2:$O$1276), 0)","v":0}]
["LFLB","Chambéry-Savoie-Mont Blanc","Basis","Frankreich",{"$f":"COUNTIF(Eingabe!$F$2:$H$1276,\"LFLB\")","v":0},{"$f":"COUNTIF(Eingabe!$I$2:$K$1276,\"LFLB\")","v":0},"francevfr","1.3.0","CMF","Europa","2025-05-04","20/24",null,null,null," "," ",null,{"$f":"IFERROR(AVERAGEIF(Eingabe!$I$2:$I$1276, \"LFLB\", Eingabe!$O$2:$O$1276), 0)","v":0}]
["LFLC","Clermont-Ferrand","Basis","Frankreich",{"$f":"COUNTIF(Eingabe!$F$2:$H$1276,\"LFLC\")","v":0},{"$f":"COUNTIF(Eingabe!$I$2:$K$1276,\"LFLC\")","v":0},"francevfr","1.4.1","CLY","Europa","2025-09-16","20/24",null,null,null," "," ",null,{"$f":"IFERROR(AVERAGEIF(Eingabe!$I$2:$I$1276, \"LFLC\", Eingabe!$O$2:$O$1276), 0)","v":0}]
["LFLL","Lyon Saint-Exupéry","Basis","Frankreich",{"$f":"COUNTIF(Eingabe!$F$2:$H$1276,\"LFLL\")","v":0},{"$f":"COUNTIF(Eingabe!$I$2:$K$1276,\"LFLL\")","v":0},"DigitalDesign","1.2.1","LYS","Europa","2025-07-30","20/24",null,null,null," "," ",null,{"$f":"IFERROR(AVERAGEIF(Eingabe!$I$2:$I$1276, \"LFLL\", Eingabe!$O$2:$O$1276), 0)","v":0}]
["LFMD","Cannes","Basis","Frankreich",{"$f":"COUNTIF(Eingabe!$F$2:$H$1276,\"LFMD\")","v":0},{"$f":"COUNTIF(Eingabe!$I$2:$K$1276,\"LFMD\")","v":0},"flydesign","1.3.0","CEQ","Europa","2025-07-03","20/24",null,null,null," "," ",null,{"$f":"IFERROR(AVERAGEIF(Eingabe!$I$2:$I$1276, \"LFMD\", Eingabe!$O$2:$O$1276), 0)","v":0}]
["LFMK","Carcassonne","Basis","Frankreich",{"$f":"COUNTIF(Eingabe!$F$2:$H$1276,\"LFMK\")","v":0},{"$f":"COUNTIF(Eingabe!$I$2:$K$1276,\"LFMK\")","v":0},"supersonic","1.3.0","CCF","Europa","2024-05-23","20/24",null,null,null," "," ",null,{"$f":"IFERROR(AVERAGEIF(Eingabe!$I$2:$I$1276, \"LFMK\", Eingabe!$O$2:$O$1276), 0)","v":0}]
["LFML","Marseille","Basis","Frankreich",{"$f":"COUNTIF(Eingabe!$F$2:$H$1276,\"LFML\")","v":0},{"$f":"COUNTIF(Eingabe!$I$2:$K$1276,\"LFML\")","v":0},"bmw","1.2.0","MRS","Europa","2025-03-19","20/24",null,null,null," "," ",null,{"$f":"IFERROR(AVERAGEIF(Eingabe!$I$2:$I$1276, \"LFML\", Eingabe!$O$2:$O$1276), 0)","v":0}]
["LFMN","Nizza - Côte d’Azur","World Update 4","Frankreich",{"$f":"COUNTIF(Eingabe!$F$2:$H$1276,\"LFMN\")","v":0},{"$f":"COUNTIF(Eingabe!$I$2:$K$1276,\"LFMN\")","v":0},"JustSim","2.3.2","NCE","Europa","2025-06-26",24,null,null,null," "," ",null,{"$f":"IFERROR(AVERAGEIF(Eingabe!$I$2:$I$1276, \"LFMN\", Eingabe!$O$2:$O$1276), 0)","v":0}]
["LFMP","Perpignan","Basis","Frankreich",{"$f":"COUNTIF(Eingabe!$F$2:$H$1276,\"LFMP\")","v":0},{"$f":"COUNTIF(Eingabe!$I$2:$K$1276,\"LFMP\")","v":0},"francevfr","1.3.0","PGF","Europa","2023-01-03","20/24",null,null,null," "," ",null,{"$f":"IFERROR(AVERAGEIF(Eingabe!$I$2:$I$1276, \"LFMP\", Eingabe!$O$2:$O$1276), 0)","v":0}]
["LFMT","Montpellier","Basis","Frankreich",{"$f":"COUNTIF(Eingabe!$F$2:$H$1276,\"LFMT\")","v":0},{"$f":"COUNTIF(Eingabe!$I$2:$K$1276,\"LFMT\")","v":0},"pilotexperiencesim","2.1.1","MPL","Europa","2025-06-10",24,null,null,null," "," ",null,{"$f":"IFERROR(AVERAGEIF(Eingabe!$I$2:$I$1276, \"LFMT\", Eingabe!$O$2:$O$1276), 0)","v":0}]
["LFMV","Avignon-Provence","Basis","Frankreich",{"$f":"COUNTIF(Eingabe!$F$2:$H$1276,\"LFMV\")","v":0},{"$f":"COUNTIF(Eingabe!$I$2:$K$1276,\"LFMV\")","v":0},"lmtsim","1.0.10","AVN","Europa","2025-02-21","20/24",null,null,null," "," ",null,{"$f":"IFERROR(AVERAGEIF(Eingabe!$I$2:$I$1276, \"LFMV\", Eingabe!$O$2:$O$1276), 0)","v":0}]
["LFOB","Beauvais","Basis","Frankreich",{"$f":"COUNTIF(Eingabe!$F$2:$H$1276,\"LFOB\")","v":0},{"$f":"COUNTIF(Eingabe!$I$2:$K$1276,\"LFOB\")","v":0},"francevfr","1.1.0","BVA","Europa","2025-09-26","20/24",null,null,null," "," ",null,{"$f":"IFERROR(AVERAGEIF(Eingabe!$I$2:$I$1276, \"LFOB\", Eingabe!$O$2:$O$1276), 0)","v":0}]
["LFPB","Le Bourget","Basis","Frankreich",{"$f":"COUNTIF(Eingabe!$F$2:$H$1276,\"LFPB\")","v":0},{"$f":"COUNTIF(Eingabe!$I$2:$K$1276,\"LFPB\")","v":0},"Asobo","Standard","LBG","Europa",null,24,null,null,null,null,null,null,{"$f":"IFERROR(AVERAGEIF(Eingabe!$I$2:$I$1276, \"LFPB\", Eingabe!$O$2:$O$1276), 0)","v":0}]
["LFPG","Paris Charles de Gaulle","Basis","Frankreich",{"$f":"COUNTIF(Eingabe!$F$2:$H$1276,\"LFPG\")","v":0},{"$f":"COUNTIF(Eingabe!$I$2:$K$1276,\"LFPG\")","v":0},"Asobo","Standard","CDG","Europa","2020-08-13","20/24",null,null,null,{"$f":"IF(E486=0,\" \",\"✔️\")","v":" "},{"$f":"IF(F486=0,\" \",\"✔️\")","v":" "},null,{"$f":"IFERROR(AVERAGEIF(Eingabe!$I$2:$I$1276, \"LFPG\", Eingabe!$O$2:$O$1276), 0)","v":0}]
["LFPO","Paris Orly","Basis","Frankreich",{"$f":"COUNTIF(Eingabe!$F$2:$H$1276,\"LFPO\")","v":1},{"$f":"COUNTIF(Eingabe!$I$2:$K$1276,\"LFPO\")","v":1},"jetstreamdesigns","1.5.0","ORY","Europa","2025-06-03","20/24",null,null,null,"✔️","✔️",null,{"$f":"IFERROR(AVERAGEIF(Eingabe!$I$2:$I$1276, \"LFPO\", Eingabe!$O$2:$O$1276), 0)","v":212.84}]
["LFQQ","Lille","Basis","Frankreich",{"$f":"COUNTIF(Eingabe!$F$2:$H$1276,\"LFQQ\")","v":0},{"$f":"COUNTIF(Eingabe!$I$2:$K$1276,\"LFQQ\")","v":0},"francevfr","1.6.0","LIL","Europa","2026-07-03","20/24",null,null,null," "," ",null,{"$f":"IFERROR(AVERAGEIF(Eingabe!$I$2:$I$1276, \"LFQQ\", Eingabe!$O$2:$O$1276), 0)","v":0}]
["LFRB","Brest-Bretagne","Basis","Frankreich",{"$f":"COUNTIF(Eingabe!$F$2:$H$1276,\"LFRB\")","v":0},{"$f":"COUNTIF(Eingabe!$I$2:$K$1276,\"LFRB\")","v":0},"pilotexperiencesim","1.1.1","BES","Europa","2025-06-19",24,null,null,null," "," ",null,{"$f":"IFERROR(AVERAGEIF(Eingabe!$I$2:$I$1276, \"LFRB\", Eingabe!$O$2:$O$1276), 0)","v":0}]
["LFRK","Caen-Carpiquet","Basis","Frankreich",{"$f":"COUNTIF(Eingabe!$F$2:$H$1276,\"LFRK\")","v":0},{"$f":"COUNTIF(Eingabe!$I$2:$K$1276,\"LFRK\")","v":0},"supersonic","2.0.3","CFR","Europa","2025-11-23","20/24",null,null,null," "," ",null,{"$f":"IFERROR(AVERAGEIF(Eingabe!$I$2:$I$1276, \"LFRK\", Eingabe!$O$2:$O$1276), 0)","v":0}]
["LFRN","Rennes","Basis","Frankreich",{"$f":"COUNTIF(Eingabe!$F$2:$H$1276,\"LFRN\")","v":0},{"$f":"COUNTIF(Eingabe!$I$2:$K$1276,\"LFRN\")","v":0},"francevfr","1.3.1","RNS","Europa","2024-03-24","20/24",null,null,null," "," ",null,{"$f":"IFERROR(AVERAGEIF(Eingabe!$I$2:$I$1276, \"LFRN\", Eingabe!$O$2:$O$1276), 0)","v":0}]
["LFRS","Nantes-Atlantique","Basis","Frankreich",{"$f":"COUNTIF(Eingabe!$F$2:$H$1276,\"LFRS\")","v":0},{"$f":"COUNTIF(Eingabe!$I$2:$K$1276,\"LFRS\")","v":0},"jetstreamdesigns","2.1.0","NTE","Europa","2025-05-04","20/24",null,null,null," "," ",null,{"$f":"IFERROR(AVERAGEIF(Eingabe!$I$2:$I$1276, \"LFRS\", Eingabe!$O$2:$O$1276), 0)","v":0}]
["LFSB","Basel-Mulhaus-Freiburg","Basis","Frankreich",{"$f":"COUNTIF(Eingabe!$F$2:$H$1276,\"LFSB\")","v":0},{"$f":"COUNTIF(Eingabe!$I$2:$K$1276,\"LFSB\")","v":0},"fsdreamteam","1.4.0","BSL","Europa","2024-11-27","20/24",null,null,null," "," ",null,{"$f":"IFERROR(AVERAGEIF(Eingabe!$I$2:$I$1276, \"LFSB\", Eingabe!$O$2:$O$1276), 0)","v":0}]
["LFST","Strasbourg","Basis","Frankreich",{"$f":"COUNTIF(Eingabe!$F$2:$H$1276,\"LFST\")","v":0},{"$f":"COUNTIF(Eingabe!$I$2:$K$1276,\"LFST\")","v":0},"francevfr","1.3.3","SXB","Europa","2025-09-16","20/24",null,null,null," "," ",null,{"$f":"IFERROR(AVERAGEIF(Eingabe!$I$2:$I$1276, \"LFST\", Eingabe!$O$2:$O$1276), 0)","v":0}]
["LFTZ","St.Tropez","Basis","Frankreich",{"$f":"COUNTIF(Eingabe!$F$2:$H$1276,\"LFTZ\")","v":0},{"$f":"COUNTIF(Eingabe!$I$2:$K$1276,\"LFTZ\")","v":0},"pilotexperiencesim","1.4.1","LTT","Europa","2025-07-03",24,null,null,null," "," ",null,{"$f":"IFERROR(AVERAGEIF(Eingabe!$I$2:$I$1276, \"LFTZ\", Eingabe!$O$2:$O$1276), 0)","v":0}]
["LFVP","Saint-Pierre","Basis","Frankreich",{"$f":"COUNTIF(Eingabe!$F$2:$H$1276,\"LFVP\")","v":0},{"$f":"COUNTIF(Eingabe!$I$2:$K$1276,\"LFVP\")","v":0},"simaddons","1.0.1","FSP","Europa","2026-02-28",24,null,null,null," "," ",null,{"$f":"IFERROR(AVERAGEIF(Eingabe!$I$2:$I$1276, \"LFVP\", Eingabe!$O$2:$O$1276), 0)","v":0}]
["LGAV","Athen","Basis","Griechenland",{"$f":"COUNTIF(Eingabe!$F$2:$H$1276,\"LGAV\")","v":1},{"$f":"COUNTIF(Eingabe!$I$2:$K$1276,\"LGAV\")","v":1},"FlyTampa","1.9.0","ATH","Europa","2026-07-19","20/24",null,null,null,"✔️","✔️",null,{"$f":"IFERROR(AVERAGEIF(Eingabe!$I$2:$I$1276, \"LGAV\", Eingabe!$O$2:$O$1276), 0)","v":211.5}]
["LGHI","Chios","Basis","Griechenland",{"$f":"COUNTIF(Eingabe!$F$2:$H$1276,\"LGHI\")","v":0},{"$f":"COUNTIF(Eingabe!$I$2:$K$1276,\"LGHI\")","v":0},"inibuilds","1.0.4","JKH","Europa","2024-08-29","20/24",null,null,null," "," ",null,{"$f":"IFERROR(AVERAGEIF(Eingabe!$I$2:$I$1276, \"LGHI\", Eingabe!$O$2:$O$1276), 0)","v":0}]
["LGIR","Heraklion","Basis","Griechenland",{"$f":"COUNTIF(Eingabe!$F$2:$H$1276,\"LGIR\")","v":0},{"$f":"COUNTIF(Eingabe!$I$2:$K$1276,\"LGIR\")","v":0},"lisium","1.0.2","HER","Europa","2026-05-25","20/24",null,null,null," "," ",null,{"$f":"IFERROR(AVERAGEIF(Eingabe!$I$2:$I$1276, \"LGIR\", Eingabe!$O$2:$O$1276), 0)","v":0}]
["LGKC","Kithira","Basis","Griechenland",{"$f":"COUNTIF(Eingabe!$F$2:$H$1276,\"LGKC\")","v":0},{"$f":"COUNTIF(Eingabe!$I$2:$K$1276,\"LGKC\")","v":0},"ironsim","1.0.0","KIT","Europa","2026-03-20","20/24",null,null,null," "," ","1450 m",{"$f":"IFERROR(AVERAGEIF(Eingabe!$I$2:$I$1276, \"LGKC\", Eingabe!$O$2:$O$1276), 0)","v":0}]
["LGKF","Kefalonia","Basis","Griechenland",{"$f":"COUNTIF(Eingabe!$F$2:$H$1276,\"LGKF\")","v":0},{"$f":"COUNTIF(Eingabe!$I$2:$K$1276,\"LGKF\")","v":0},"fsdg","1.1.0","EFL","Europa","2024-05-30","20/24",null,null,null," "," ",null,{"$f":"IFERROR(AVERAGEIF(Eingabe!$I$2:$I$1276, \"LGKF\", Eingabe!$O$2:$O$1276), 0)","v":0}]
["LGKL","Kalamata","Basis","Griechenland",{"$f":"COUNTIF(Eingabe!$F$2:$H$1276,\"LGKL\")","v":0},{"$f":"COUNTIF(Eingabe!$I$2:$K$1276,\"LGKL\")","v":0},"mxidesign","1.0.0","KLX","Europa","2023-08-24","20/24",null,null,null," "," ",null,{"$f":"IFERROR(AVERAGEIF(Eingabe!$I$2:$I$1276, \"LGKL\", Eingabe!$O$2:$O$1276), 0)","v":0}]
["LGKO","Kos","Basis","Griechenland",{"$f":"COUNTIF(Eingabe!$F$2:$H$1276,\"LGKO\")","v":0},{"$f":"COUNTIF(Eingabe!$I$2:$K$1276,\"LGKO\")","v":0},"Gaya Simulations","1.1.0","KGS","Europa","2021-02-07",24,null,null,null," "," ",null,{"$f":"IFERROR(AVERAGEIF(Eingabe!$I$2:$I$1276, \"LGKO\", Eingabe!$O$2:$O$1276), 0)","v":0}]
["LGKP","Karpathos","Basis","Griechenland",{"$f":"COUNTIF(Eingabe!$F$2:$H$1276,\"LGKP\")","v":0},{"$f":"COUNTIF(Eingabe!$I$2:$K$1276,\"LGKP\")","v":0},"mxidesign","1.0.0","AOK","Europa","2025-10-22","20/24",null,null,null," "," ",null,{"$f":"IFERROR(AVERAGEIF(Eingabe!$I$2:$I$1276, \"LGKP\", Eingabe!$O$2:$O$1276), 0)","v":0}]
["LGKR","Korfu ","Basis","Griechenland",{"$f":"COUNTIF(Eingabe!$F$2:$H$1276,\"LGKR\")","v":0},{"$f":"COUNTIF(Eingabe!$I$2:$K$1276,\"LGKR\")","v":0},"Gaya Simulations","1.0.2","CFU","Europa","2026-07-08",24,null,null,null," "," ",null,{"$f":"IFERROR(AVERAGEIF(Eingabe!$I$2:$I$1276, \"LGKR\", Eingabe!$O$2:$O$1276), 0)","v":0}]
["LGKV","Kavala","Basis","Griechenland",{"$f":"COUNTIF(Eingabe!$F$2:$H$1276,\"LGKV\")","v":0},{"$f":"COUNTIF(Eingabe!$I$2:$K$1276,\"LGKV\")","v":0},"mmsimulations","1.0.0","KVA","Europa","2025-08-28","20/24",null,null,null," "," ",null,{"$f":"IFERROR(AVERAGEIF(Eingabe!$I$2:$I$1276, \"LGKV\", Eingabe!$O$2:$O$1276), 0)","v":0}]
["LGMK","Mykonos","Basis","Griechenland",{"$f":"COUNTIF(Eingabe!$F$2:$H$1276,\"LGMK\")","v":0},{"$f":"COUNTIF(Eingabe!$I$2:$K$1276,\"LGMK\")","v":0},"29Palms","1.0.0","JMK","Europa","2026-07-03",24,null,null,null," "," ",null,{"$f":"IFERROR(AVERAGEIF(Eingabe!$I$2:$I$1276, \"LGMK\", Eingabe!$O$2:$O$1276), 0)","v":0}]
["LGMT","Mytilene / Lesbos","Basis","Griechenland",{"$f":"COUNTIF(Eingabe!$F$2:$H$1276,\"LGMT\")","v":0},{"$f":"COUNTIF(Eingabe!$I$2:$K$1276,\"LGMT\")","v":0},"mxidesign","2.0.0","MJT","Europa","2023-10-20","20/24",null,null,null," "," ",null,{"$f":"IFERROR(AVERAGEIF(Eingabe!$I$2:$I$1276, \"LGMT\", Eingabe!$O$2:$O$1276), 0)","v":0}]
["LGPZ","Aktio","Basis","Griechenland",{"$f":"COUNTIF(Eingabe!$F$2:$H$1276,\"LGPZ\")","v":0},{"$f":"COUNTIF(Eingabe!$I$2:$K$1276,\"LGPZ\")","v":0},"mxidesign","1.0.0","PVK","Europa","2025-04-17","20/24",null,null,"A610"," "," ",null,{"$f":"IFERROR(AVERAGEIF(Eingabe!$I$2:$I$1276, \"LGPZ\", Eingabe!$O$2:$O$1276), 0)","v":0}]
["LGRP","Rhodos-Diagoras","Basis","Griechenland",{"$f":"COUNTIF(Eingabe!$F$2:$H$1276,\"LGRP\")","v":1},{"$f":"COUNTIF(Eingabe!$I$2:$K$1276,\"LGRP\")","v":1},"JustSim","3.0.0","RHO","Europa","2025-02-07",24,null,null,null,"✔️","✔️",null,{"$f":"IFERROR(AVERAGEIF(Eingabe!$I$2:$I$1276, \"LGRP\", Eingabe!$O$2:$O$1276), 0)","v":212.4}]
["LGSA","Chania / Kreta","Basis","Griechenland",{"$f":"COUNTIF(Eingabe!$F$2:$H$1276,\"LGSA\")","v":0},{"$f":"COUNTIF(Eingabe!$I$2:$K$1276,\"LGSA\")","v":0},"29Palms","1.0.1","CHQ","Europa","2026-03-29",24,null,null,null," "," ",null,{"$f":"IFERROR(AVERAGEIF(Eingabe!$I$2:$I$1276, \"LGSA\", Eingabe!$O$2:$O$1276), 0)","v":0}]
["LGSK","Skiathos Intl.","Basis","Griechenland",{"$f":"COUNTIF(Eingabe!$F$2:$H$1276,\"LGSK\")","v":0},{"$f":"COUNTIF(Eingabe!$I$2:$K$1276,\"LGSK\")","v":0},"ORBX","1.1.0","JSI","Europa","2021-12-04","20/24",null,null,null," "," ",null,{"$f":"IFERROR(AVERAGEIF(Eingabe!$I$2:$I$1276, \"LGSK\", Eingabe!$O$2:$O$1276), 0)","v":0}]
["LGSM","Samos","Basis","Griechenland",{"$f":"COUNTIF(Eingabe!$F$2:$H$1276,\"LGSM\")","v":0},{"$f":"COUNTIF(Eingabe!$I$2:$K$1276,\"LGSM\")","v":0},"mmsimulations","1.0.1","SMI","Europa","2025-07-03","20/24",null,null,null," "," ",null,{"$f":"IFERROR(AVERAGEIF(Eingabe!$I$2:$I$1276, \"LGSM\", Eingabe!$O$2:$O$1276), 0)","v":0}]
["LGSR","Santorini","Basis","Griechenland",{"$f":"COUNTIF(Eingabe!$F$2:$H$1276,\"LGSR\")","v":0},{"$f":"COUNTIF(Eingabe!$I$2:$K$1276,\"LGSR\")","v":0},"29Palms","1.0.2","JTR","Europa","2025-06-19",24,null,null,null," "," ",null,{"$f":"IFERROR(AVERAGEIF(Eingabe!$I$2:$I$1276, \"LGSR\", Eingabe!$O$2:$O$1276), 0)","v":0}]
["LGST","Sitia / Kreta","Basis","Griechenland",{"$f":"COUNTIF(Eingabe!$F$2:$H$1276,\"LGST\")","v":0},{"$f":"COUNTIF(Eingabe!$I$2:$K$1276,\"LGST\")","v":0},"mmsimulations","1.1.0","JSH","Europa","2026-06-21","20/24",null,null,null," "," ",null,{"$f":"IFERROR(AVERAGEIF(Eingabe!$I$2:$I$1276, \"LGST\", Eingabe!$O$2:$O$1276), 0)","v":0}]
["LGTS","Thessaloniki","Basis","Griechenland",{"$f":"COUNTIF(Eingabe!$F$2:$H$1276,\"LGTS\")","v":1},{"$f":"COUNTIF(Eingabe!$I$2:$K$1276,\"LGTS\")","v":1},"mxidesign","1.0.0","SGK","Europa","2022-06-22","20/24",null,null,null,"✔️","✔️",null,{"$f":"IFERROR(AVERAGEIF(Eingabe!$I$2:$I$1276, \"LGTS\", Eingabe!$O$2:$O$1276), 0)","v":210.6}]
["LGZA","Zakynthos","Basis","Griechenland",{"$f":"COUNTIF(Eingabe!$F$2:$H$1276,\"LGZA\")","v":0},{"$f":"COUNTIF(Eingabe!$I$2:$K$1276,\"LGZA\")","v":0},"inibuilds","1.0.0","ZTH","Europa","2026-05-25",24,null,null,null," "," ",null,{"$f":"IFERROR(AVERAGEIF(Eingabe!$I$2:$I$1276, \"LGZA\", Eingabe!$O$2:$O$1276), 0)","v":0}]
["LHBP","Budapest","Basis","Ungarn",{"$f":"COUNTIF(Eingabe!$F$2:$H$1276,\"LHBP\")","v":0},{"$f":"COUNTIF(Eingabe!$I$2:$K$1276,\"LHBP\")","v":0},"sofly","1.0.0","BUD","Europa","2026-06-21",24,null,null,null,{"$f":"IF(E518=0,\" \",\"✔️\")","v":" "},{"$f":"IF(F518=0,\" \",\"✔️\")","v":" "},null,{"$f":"IFERROR(AVERAGEIF(Eingabe!$I$2:$I$1276, \"LHBP\", Eingabe!$O$2:$O$1276), 0)","v":0}]
["LIBC","Crotone  / Kalabrien","Basis","Italien",{"$f":"COUNTIF(Eingabe!$F$2:$H$1276,\"LIBC\")","v":1},{"$f":"COUNTIF(Eingabe!$I$2:$K$1276,\"LIBC\")","v":1},"barellimsfsaddon","1.0.0","CRV","Europa","2023-10-10","20/24",null,null,null,"✔️","✔️","2000 m",{"$f":"IFERROR(AVERAGEIF(Eingabe!$I$2:$I$1276, \"LIBC\", Eingabe!$O$2:$O$1276), 0)","v":77.739999999999995}]
["LIBD","Bari-Karol Wojtyla","Basis","Italien",{"$f":"COUNTIF(Eingabe!$F$2:$H$1276,\"LIBD\")","v":1},{"$f":"COUNTIF(Eingabe!$I$2:$K$1276,\"LIBD\")","v":1},"simpixel"," '1.2.2","BRI","Europa","2025-05-17","20/24",null,null,null,"✔️","✔️","3007 m",{"$f":"IFERROR(AVERAGEIF(Eingabe!$I$2:$I$1276, \"LIBD\", Eingabe!$O$2:$O$1276), 0)","v":138.16999999999999}]
["LIBF","Foggia","Basis","Italien",{"$f":"COUNTIF(Eingabe!$F$2:$H$1276,\"LIBF\")","v":1},{"$f":"COUNTIF(Eingabe!$I$2:$K$1276,\"LIBF\")","v":1},"barellimsfsaddon","1.1.0","CRV","Europa","2025-08-19","20/24",null,null,"Ramp 2","✔️","✔️","1450 m",{"$f":"IFERROR(AVERAGEIF(Eingabe!$I$2:$I$1276, \"LIBF\", Eingabe!$O$2:$O$1276), 0)","v":189.76}]
["LIBP","Pescara","Basis","Italien",{"$f":"COUNTIF(Eingabe!$F$2:$H$1276,\"LIBP\")","v":1},{"$f":"COUNTIF(Eingabe!$I$2:$K$1276,\"LIBP\")","v":1},"RFScenerybuilding","1.0.0","PSR","Europa","2023-07-29","20/24",null,null,null,"✔️","✔️","2421 m",{"$f":"IFERROR(AVERAGEIF(Eingabe!$I$2:$I$1276, \"LIBP\", Eingabe!$O$2:$O$1276), 0)","v":210.78}]
["LIBR","Brindisi","Basis","Italien",{"$f":"COUNTIF(Eingabe!$F$2:$H$1276,\"LIBR\")","v":1},{"$f":"COUNTIF(Eingabe!$I$2:$K$1276,\"LIBR\")","v":1},"supersonic","1.4.0","BDS","Europa","2025-08-06","20/24",null,null,null,"✔️","✔️","3062 m",{"$f":"IFERROR(AVERAGEIF(Eingabe!$I$2:$I$1276, \"LIBR\", Eingabe!$O$2:$O$1276), 0)","v":156.21}]
["LICA","Lamezia Terme","Basis","Italien",{"$f":"COUNTIF(Eingabe!$F$2:$H$1276,\"LICA\")","v":1},{"$f":"COUNTIF(Eingabe!$I$2:$K$1276,\"LICA\")","v":1},"ORBX","1.0.0","SUF","Europa","2022-12-06","20/24",null,null,"Ramp 8","✔️","✔️","3015 m",{"$f":"IFERROR(AVERAGEIF(Eingabe!$I$2:$I$1276, \"LICA\", Eingabe!$O$2:$O$1276), 0)","v":198.42}]
["LICC","Catania-Fontanarossa","Basis","Italien",{"$f":"COUNTIF(Eingabe!$F$2:$H$1276,\"LICC\")","v":1},{"$f":"COUNTIF(Eingabe!$I$2:$K$1276,\"LICC\")","v":1},"barellimsfsaddon","3.0.0","CTA","Europa","2023-12-23","20/24",null,null,null,"✔️","✔️","2345 m",{"$f":"IFERROR(AVERAGEIF(Eingabe!$I$2:$I$1276, \"LICC\", Eingabe!$O$2:$O$1276), 0)","v":104.13}]
["LICG","Pantelleria","Basis","Italien",{"$f":"COUNTIF(Eingabe!$F$2:$H$1276,\"LICG\")","v":1},{"$f":"COUNTIF(Eingabe!$I$2:$K$1276,\"LICG\")","v":1},"jetstreamdesigns","1.0.4","PNL","Europa","2025-06-26","20/24",null,null,null,"✔️","✔️","1743 m",{"$f":"IFERROR(AVERAGEIF(Eingabe!$I$2:$I$1276, \"LICG\", Eingabe!$O$2:$O$1276), 0)","v":107.81}]
["LICJ","Palermo Punta Raisi","World Update 9","Italien",{"$f":"COUNTIF(Eingabe!$F$2:$H$1276,\"LICJ\")","v":1},{"$f":"COUNTIF(Eingabe!$I$2:$K$1276,\"LICJ\")","v":1},"jetstreamdesigns","1.0.3","PMO","Europa","2025-06-26","20/24",null,null,211,"✔️","✔️","2994 m",{"$f":"IFERROR(AVERAGEIF(Eingabe!$I$2:$I$1276, \"LICJ\", Eingabe!$O$2:$O$1276), 0)","v":258.29000000000002}]
["LICR","Regio Calabria","Basis","Italien",{"$f":"COUNTIF(Eingabe!$F$2:$H$1276,\"LICR\")","v":1},{"$f":"COUNTIF(Eingabe!$I$2:$K$1276,\"LICR\")","v":1},"tailstrikedesign","1.0.4.0","REG","Europa","2021-12-08","20/24",null,null,null,"✔️","✔️","1803 m",{"$f":"IFERROR(AVERAGEIF(Eingabe!$I$2:$I$1276, \"LICR\", Eingabe!$O$2:$O$1276), 0)","v":290.94}]
["LICT","Trapani","Basis","Italien",{"$f":"COUNTIF(Eingabe!$F$2:$H$1276,\"LICT\")","v":1},{"$f":"COUNTIF(Eingabe!$I$2:$K$1276,\"LICT\")","v":1},"barellimsfsaddon","1.0.0","TPS","Europa","2024-01-14","20/24",null,null,308,"✔️","✔️","2699 m",{"$f":"IFERROR(AVERAGEIF(Eingabe!$I$2:$I$1276, \"LICT\", Eingabe!$O$2:$O$1276), 0)","v":197.12}]
["LIEE","Cagliari / Sardinien","Basis","Italien",{"$f":"COUNTIF(Eingabe!$F$2:$H$1276,\"LIEE\")","v":1},{"$f":"COUNTIF(Eingabe!$I$2:$K$1276,\"LIEE\")","v":1},"amsim","1.1.0","CAG","Europa","2022-09-14","20/24",null,null,7,"✔️","✔️","2806 m",{"$f":"IFERROR(AVERAGEIF(Eingabe!$I$2:$I$1276, \"LIEE\", Eingabe!$O$2:$O$1276), 0)","v":328.16}]
["LIEO","Olbia / Costa Smeralda","Basis","Italien",{"$f":"COUNTIF(Eingabe!$F$2:$H$1276,\"LIEO\")","v":1},{"$f":"COUNTIF(Eingabe!$I$2:$K$1276,\"LIEO\")","v":1},"ORBX","2.0.0","OLB","Europa","2023-12-23","20/24",null,null,null,"✔️","✔️","2828 m",{"$f":"IFERROR(AVERAGEIF(Eingabe!$I$2:$I$1276, \"LIEO\", Eingabe!$O$2:$O$1276), 0)","v":245.51}]
["LIMC","Mailand-Malpensa","Basis","Italien",{"$f":"COUNTIF(Eingabe!$F$2:$H$1276,\"LIMC\")","v":1},{"$f":"COUNTIF(Eingabe!$I$2:$K$1276,\"LIMC\")","v":2},"Aerosoft","1.6.1","MXP","Europa","2026-07-19",24,null,null,null,"✔️","✔️","3922 m",{"$f":"IFERROR(AVERAGEIF(Eingabe!$I$2:$I$1276, \"LIMC\", Eingabe!$O$2:$O$1276), 0)","v":203.19}]
["LIME","Bergamo","Basis","Italien",{"$f":"COUNTIF(Eingabe!$F$2:$H$1276,\"LIME\")","v":1},{"$f":"COUNTIF(Eingabe!$I$2:$K$1276,\"LIME\")","v":1},"tailstrikedesign","1.0.2.0","BGY","Europa","2021-12-08","20/24",null,null,null,"✔️","✔️","2529 m",{"$f":"IFERROR(AVERAGEIF(Eingabe!$I$2:$I$1276, \"LIME\", Eingabe!$O$2:$O$1276), 0)","v":149.91}]
["LIMF","Turin-Caselle","Basis","Italien",{"$f":"COUNTIF(Eingabe!$F$2:$H$1276,\"LIMF\")","v":1},{"$f":"COUNTIF(Eingabe!$I$2:$K$1276,\"LIMF\")","v":1},"barellimsfsaddon","1.3.2","TRN","Europa","2025-06-26","20/24",null,null,111,"✔️","✔️","3300 m",{"$f":"IFERROR(AVERAGEIF(Eingabe!$I$2:$I$1276, \"LIMF\", Eingabe!$O$2:$O$1276), 0)","v":124.56}]
["LIMJ","Genua-Sestri","Basis","Italien",{"$f":"COUNTIF(Eingabe!$F$2:$H$1276,\"LIMJ\")","v":1},{"$f":"COUNTIF(Eingabe!$I$2:$K$1276,\"LIMJ\")","v":1},"BMW","2.4.0","GOA","Europa","2024-11-06","20/24",null,null,302,"✔️","✔️","3033 m",{"$f":"IFERROR(AVERAGEIF(Eingabe!$I$2:$I$1276, \"LIMJ\", Eingabe!$O$2:$O$1276), 0)","v":231.48}]
["LIML","Mailand Linate","Basis","Italien",{"$f":"COUNTIF(Eingabe!$F$2:$H$1276,\"LIML\")","v":1},{"$f":"COUNTIF(Eingabe!$I$2:$K$1276,\"LIML\")","v":1},"jetstreamdesigns","1.3.0","LIN","Europa","2025-06-03","20/24",null,null,"Gate 2","✔️","✔️","2444 m",{"$f":"IFERROR(AVERAGEIF(Eingabe!$I$2:$I$1276, \"LIML\", Eingabe!$O$2:$O$1276), 0)","v":139.34}]
["LIMP","Parma","Basis","Italien",{"$f":"COUNTIF(Eingabe!$F$2:$H$1276,\"LIMP\")","v":2},{"$f":"COUNTIF(Eingabe!$I$2:$K$1276,\"LIMP\")","v":2},"mmsimulations","1.1.0","PMF","Europa","2024-11-21","20/24",null,null,101,"✔️","✔️","1729 m",{"$f":"IFERROR(AVERAGEIF(Eingabe!$I$2:$I$1276, \"LIMP\", Eingabe!$O$2:$O$1276), 0)","v":195.62}]
["LIPE","Bologna","Basis","Italien",{"$f":"COUNTIF(Eingabe!$F$2:$H$1276,\"LIPE\")","v":1},{"$f":"COUNTIF(Eingabe!$I$2:$K$1276,\"LIPE\")","v":1},"mkstudios","1.0.2","BLQ","Europa","2023-10-13","20/24",null,null,null,"✔️","✔️","2805 m",{"$f":"IFERROR(AVERAGEIF(Eingabe!$I$2:$I$1276, \"LIPE\", Eingabe!$O$2:$O$1276), 0)","v":91.35}]
["LIPH","Treviso","Basis","Italien",{"$f":"COUNTIF(Eingabe!$F$2:$H$1276,\"LIPH\")","v":1},{"$f":"COUNTIF(Eingabe!$I$2:$K$1276,\"LIPH\")","v":1},"barellimsfsaddon","1.0.2","TSF","Europa","2024-03-12","20/24",null,null,103,"✔️","✔️","2445 m",{"$f":"IFERROR(AVERAGEIF(Eingabe!$I$2:$I$1276, \"LIPH\", Eingabe!$O$2:$O$1276), 0)","v":174.61}]
["LIPO","Brescia","Basis","Italien",{"$f":"COUNTIF(Eingabe!$F$2:$H$1276,\"LIPO\")","v":1},{"$f":"COUNTIF(Eingabe!$I$2:$K$1276,\"LIPO\")","v":1},"tega","1.5.0","VBS","Europa","2022-09-18","20/24",null,null,108,"✔️","✔️","2988 m",{"$f":"IFERROR(AVERAGEIF(Eingabe!$I$2:$I$1276, \"LIPO\", Eingabe!$O$2:$O$1276), 0)","v":298.58999999999997}]
["LIPQ","Triest / Udine","Basis","Italien",{"$f":"COUNTIF(Eingabe!$F$2:$H$1276,\"LIPQ\")","v":1},{"$f":"COUNTIF(Eingabe!$I$2:$K$1276,\"LIPQ\")","v":1},"tropicalsim","1.0.0","TRS","Europa","2024-01-06","20/24",null,null,null,"✔️","✔️","3000 m",{"$f":"IFERROR(AVERAGEIF(Eingabe!$I$2:$I$1276, \"LIPQ\", Eingabe!$O$2:$O$1276), 0)","v":318.52999999999997}]
["LIPR","Rimini","Basis","Italien",{"$f":"COUNTIF(Eingabe!$F$2:$H$1276,\"LIPR\")","v":1},{"$f":"COUNTIF(Eingabe!$I$2:$K$1276,\"LIPR\")","v":1},"RFScenerybuilding","1.1.0","RMI","Europa","2024-04-22","20/24",null,null,305,"✔️","✔️","2538 m",{"$f":"IFERROR(AVERAGEIF(Eingabe!$I$2:$I$1276, \"LIPR\", Eingabe!$O$2:$O$1276), 0)","v":160.22999999999999}]
["LIPX","Verona-Villafranca","Basis","Italien",{"$f":"COUNTIF(Eingabe!$F$2:$H$1276,\"LIPX\")","v":1},{"$f":"COUNTIF(Eingabe!$I$2:$K$1276,\"LIPX\")","v":1},"salvuz","1.4.0","VRN","Europa","2023-04-01","20/24",null,null,null,"✔️","✔️","3075 m",{"$f":"IFERROR(AVERAGEIF(Eingabe!$I$2:$I$1276, \"LIPX\", Eingabe!$O$2:$O$1276), 0)","v":301.77}]
["LIPY","Falconara-Ancona","Basis","Italien",{"$f":"COUNTIF(Eingabe!$F$2:$H$1276,\"LIPY\")","v":1},{"$f":"COUNTIF(Eingabe!$I$2:$K$1276,\"LIPY\")","v":1},"RFScenerybuilding","1.0.0","AOI","Europa","2023-06-22","20/24",null,null,13,"✔️","✔️","2960 m",{"$f":"IFERROR(AVERAGEIF(Eingabe!$I$2:$I$1276, \"LIPY\", Eingabe!$O$2:$O$1276), 0)","v":230.5}]
["LIPZ","Venedig - Marco Polo","Basis","Italien",{"$f":"COUNTIF(Eingabe!$F$2:$H$1276,\"LIPZ\")","v":1},{"$f":"COUNTIF(Eingabe!$I$2:$K$1276,\"LIPZ\")","v":1},"BMW","3.2.5","VCE","Europa","2025-06-10","20/24",null,null,325,"✔️","✔️","3330 m",{"$f":"IFERROR(AVERAGEIF(Eingabe!$I$2:$I$1276, \"LIPZ\", Eingabe!$O$2:$O$1276), 0)","v":220.27}]
["LIRA","Rom-Ciampino","Basis","Italien",{"$f":"COUNTIF(Eingabe!$F$2:$H$1276,\"LIRA\")","v":1},{"$f":"COUNTIF(Eingabe!$I$2:$K$1276,\"LIRA\")","v":1},"simpixel","1.0.2","CIA","Europa","2026-06-10","20/24",null,null,414,"✔️","✔️","2210 m",{"$f":"IFERROR(AVERAGEIF(Eingabe!$I$2:$I$1276, \"LIRA\", Eingabe!$O$2:$O$1276), 0)","v":184.49}]
["LIRF","Rom-Fiumicino","Basis","Italien",{"$f":"COUNTIF(Eingabe!$F$2:$H$1276,\"LIRF\")","v":1},{"$f":"COUNTIF(Eingabe!$I$2:$K$1276,\"LIRF\")","v":2},"mkstudios","2.0.2","FCO","Europa","2026-07-19",24,null,"Note 1",510,"✔️","✔️","3903 m",{"$f":"IFERROR(AVERAGEIF(Eingabe!$I$2:$I$1276, \"LIRF\", Eingabe!$O$2:$O$1276), 0)","v":257.42}]
["LIRI","Salerno","Basis","Italien",{"$f":"COUNTIF(Eingabe!$F$2:$H$1276,\"LIRI\")","v":2},{"$f":"COUNTIF(Eingabe!$I$2:$K$1276,\"LIRI\")","v":1},"barellimsfsaddon","1.0.0","QSR","Europa","2025-07-21","20/24",null,null,null,"✔️","✔️","1647 m",{"$f":"IFERROR(AVERAGEIF(Eingabe!$I$2:$I$1276, \"LIRI\", Eingabe!$O$2:$O$1276), 0)","v":233.18}]
["LIRN","Neapel Capodichino","Basis","Italien",{"$f":"COUNTIF(Eingabe!$F$2:$H$1276,\"LIRN\")","v":1},{"$f":"COUNTIF(Eingabe!$I$2:$K$1276,\"LIRN\")","v":1},"simpixel","1.0.1","NAP","Europa","2026-05-16","20/24",null,null,null,"✔️","✔️","2627 m",{"$f":"IFERROR(AVERAGEIF(Eingabe!$I$2:$I$1276, \"LIRN\", Eingabe!$O$2:$O$1276), 0)","v":220.17}]
["LIRP","Pisa","Basis","Italien",{"$f":"COUNTIF(Eingabe!$F$2:$H$1276,\"LIRP\")","v":1},{"$f":"COUNTIF(Eingabe!$I$2:$K$1276,\"LIRP\")","v":1},"salvuz","1.1.2","PSA","Europa","2026-04-26","20/24",null,null,24,{"$f":"IF(E550=0,\" \",\"✔️\")","v":"✔️"},{"$f":"IF(F550=0,\" \",\"✔️\")","v":"✔️"},"2585 m",{"$f":"IFERROR(AVERAGEIF(Eingabe!$I$2:$I$1276, \"LIRP\", Eingabe!$O$2:$O$1276), 0)","v":188.01}]
["LIRQ","Florenz","Basis","Italien",{"$f":"COUNTIF(Eingabe!$F$2:$H$1276,\"LIRQ\")","v":0},{"$f":"COUNTIF(Eingabe!$I$2:$K$1276,\"LIRQ\")","v":0},"barellimsfsaddon","1.0.0","FLR","Europa","2026-07-03",24,null,null,25," "," ","2586 m",{"$f":"IFERROR(AVERAGEIF(Eingabe!$I$2:$I$1276, \"LIRQ\", Eingabe!$O$2:$O$1276), 0)","v":0}]
["LIRZ","Perugia","Basis","Italien",{"$f":"COUNTIF(Eingabe!$F$2:$H$1276,\"LIRZ\")","v":1},{"$f":"COUNTIF(Eingabe!$I$2:$K$1276,\"LIRZ\")","v":1},"tega","1.0.0","PEG","Europa","2022-08-26","20/24",null,null,303,"✔️","✔️","2197 m",{"$f":"IFERROR(AVERAGEIF(Eingabe!$I$2:$I$1276, \"LIRZ\", Eingabe!$O$2:$O$1276), 0)","v":296.89999999999998}]
["LJLJ","Ljubliana-Jože-Pučnik","Basis","Slowenien",{"$f":"COUNTIF(Eingabe!$F$2:$H$1276,\"LJLJ\")","v":1},{"$f":"COUNTIF(Eingabe!$I$2:$K$1276,\"LJLJ\")","v":1},"Scenicroutes"," 1.3.1","LJU","Europa","2023-08-14","20/24",null,null,null,"✔️","✔️",null,{"$f":"IFERROR(AVERAGEIF(Eingabe!$I$2:$I$1276, \"LJLJ\", Eingabe!$O$2:$O$1276), 0)","v":218}]
["LJMB","Maribor-Edvard Rusjan","Basis","Slowenien",{"$f":"COUNTIF(Eingabe!$F$2:$H$1276,\"LJMB\")","v":1},{"$f":"COUNTIF(Eingabe!$I$2:$K$1276,\"LJMB\")","v":1},"mxidesign","1.0.0","MBX","Europa","2022-02-08","20/24",null,null,2,"✔️","✔️","2514 m",{"$f":"IFERROR(AVERAGEIF(Eingabe!$I$2:$I$1276, \"LJMB\", Eingabe!$O$2:$O$1276), 0)","v":296}]
["LKMT","Ostrava","Basis","Tschechien",{"$f":"COUNTIF(Eingabe!$F$2:$H$1276,\"LKMT\")","v":0},{"$f":"COUNTIF(Eingabe!$I$2:$K$1276,\"LKMT\")","v":0},"fps","1.2.0","OSR","Europa","2024-12-15","20/24",null,null,null," "," ",null,{"$f":"IFERROR(AVERAGEIF(Eingabe!$I$2:$I$1276, \"LKMT\", Eingabe!$O$2:$O$1276), 0)","v":0}]
["LKPD","Pardubice","Basis","Tschechien",{"$f":"COUNTIF(Eingabe!$F$2:$H$1276,\"LKPD\")","v":0},{"$f":"COUNTIF(Eingabe!$I$2:$K$1276,\"LKPD\")","v":0},"fps","1.3.0","PED","Europa","2025-01-02","20/24",null,null,null," "," ",null,{"$f":"IFERROR(AVERAGEIF(Eingabe!$I$2:$I$1276, \"LKPD\", Eingabe!$O$2:$O$1276), 0)","v":0}]
["LKPR","Prag-Václav Havel","Basis","Tschechien",{"$f":"COUNTIF(Eingabe!$F$2:$H$1276,\"LKPR\")","v":0},{"$f":"COUNTIF(Eingabe!$I$2:$K$1276,\"LKPR\")","v":0},"tailstrikedesign","1.0.4","PRG","Europa","2023-08-25","20/24",null,null,null," "," ",null,{"$f":"IFERROR(AVERAGEIF(Eingabe!$I$2:$I$1276, \"LKPR\", Eingabe!$O$2:$O$1276), 0)","v":0}]
["LKTB","Brünn ( Brno)","Basis","Tschechien",{"$f":"COUNTIF(Eingabe!$F$2:$H$1276,\"LKTP\")","v":0},{"$f":"COUNTIF(Eingabe!$I$2:$K$1276,\"LKTP\")","v":0},"Aerosoft","1.6.0","BRQ","Europa","2025-11-15",24,null,null,null," "," ",null,{"$f":"IFERROR(AVERAGEIF(Eingabe!$I$2:$I$1276, \"LKTB\", Eingabe!$O$2:$O$1276), 0)","v":0}]
["LLBG","Ben Gurion / Tel Aviv","Basis","Israel",{"$f":"COUNTIF(Eingabe!$F$2:$H$1276,\"LLBG\")","v":0},{"$f":"COUNTIF(Eingabe!$I$2:$K$1276,\"LLBG\")","v":0},"Aerosoft","1.2.6","TLV","Asien","2023-03-14","20/24",null,null,null," "," ",null,{"$f":"IFERROR(AVERAGEIF(Eingabe!$I$2:$I$1276, \"LLBG\", Eingabe!$O$2:$O$1276), 0)","v":0}]
["LMML","Malta Intl.","Basis","Malta",{"$f":"COUNTIF(Eingabe!$F$2:$H$1276,\"LMML\")","v":0},{"$f":"COUNTIF(Eingabe!$I$2:$K$1276,\"LMML\")","v":0},"JustSim","1.3.0","MLA","Europa","2024-11-28","20/24",null,null,null," "," ",null,{"$f":"IFERROR(AVERAGEIF(Eingabe!$I$2:$I$1276, \"LMML\", Eingabe!$O$2:$O$1276), 0)","v":0}]
["LOWG","Graz","Basis","Österreich",{"$f":"COUNTIF(Eingabe!$F$2:$H$1276,\"LOWG\")","v":0},{"$f":"COUNTIF(Eingabe!$I$2:$K$1276,\"LOWG\")","v":0},"ORBX","1.2.0","GRZ","Europa","2021-04-29","20/24",null,null,null," "," ",null,{"$f":"IFERROR(AVERAGEIF(Eingabe!$I$2:$I$1276, \"LOWG\", Eingabe!$O$2:$O$1276), 0)","v":0}]
["LOWI","Innsbruck","Basis","Österreich",{"$f":"COUNTIF(Eingabe!$F$2:$H$1276,\"LOWI\")","v":0},{"$f":"COUNTIF(Eingabe!$I$2:$K$1276,\"LOWI\")","v":0},"inibuilds","1.0.3","INN","Europa","2026-05-16",24,null,null,null," "," ",null,{"$f":"IFERROR(AVERAGEIF(Eingabe!$I$2:$I$1276, \"LOWI\", Eingabe!$O$2:$O$1276), 0)","v":0}]
["LOWL","Linz","Basis","Österreich",{"$f":"COUNTIF(Eingabe!$F$2:$H$1276,\"LOWL\")","v":0},{"$f":"COUNTIF(Eingabe!$I$2:$K$1276,\"LOWL\")","v":0},"JustSim","1.0.0","LNZ","Europa","2021-11-03","20/24",null,null,null," "," ",null,{"$f":"IFERROR(AVERAGEIF(Eingabe!$I$2:$I$1276, \"LOWL\", Eingabe!$O$2:$O$1276), 0)","v":0}]
["LOWS","Salzburg","World Update 18","Österreich",{"$f":"COUNTIF(Eingabe!$F$2:$H$1276,\"LOWS\")","v":0},{"$f":"COUNTIF(Eingabe!$I$2:$K$1276,\"LOWS\")","v":0},"DigitalDesign","1.2.1","SZG","Europa","2025-07-12","20/24",null,null,null," "," ",null,{"$f":"IFERROR(AVERAGEIF(Eingabe!$I$2:$I$1276, \"LOWS\", Eingabe!$O$2:$O$1276), 0)","v":0}]
["LOWW","Wien-Schwechat","Basis","Österreich",{"$f":"COUNTIF(Eingabe!$F$2:$H$1276,\"LOWW\")","v":0},{"$f":"COUNTIF(Eingabe!$I$2:$K$1276,\"LOWW\")","v":0},"Gaya Simulations","2.0.1","VIE","Europa","2023-02-24","20/24",null,null,null," "," ",null,{"$f":"IFERROR(AVERAGEIF(Eingabe!$I$2:$I$1276, \"LOWW\", Eingabe!$O$2:$O$1276), 0)","v":0}]
["LPFR","Faro","World Update 8","Portugal",{"$f":"COUNTIF(Eingabe!$F$2:$H$1276,\"LPFR\")","v":0},{"$f":"COUNTIF(Eingabe!$I$2:$K$1276,\"LPFR\")","v":0},"rdpresets","1.3.0","FAO","Europa","2024-05-23","20/24",null,null,null," "," ",null,{"$f":"IFERROR(AVERAGEIF(Eingabe!$I$2:$I$1276, \"LPFR\", Eingabe!$O$2:$O$1276), 0)","v":0}]
["LPHR","Aeroporto da Horta","Basis","Portugal",{"$f":"COUNTIF(Eingabe!$F$2:$H$1276,\"LPHR\")","v":0},{"$f":"COUNTIF(Eingabe!$I$2:$K$1276,\"LPHR\")","v":0},"mmsimulations","1.1.0","HOR","Europa","2025-04-11","20/24",null,null,null," "," ",null,{"$f":"IFERROR(AVERAGEIF(Eingabe!$I$2:$I$1276, \"LPHR\", Eingabe!$O$2:$O$1276), 0)","v":0}]
["LPLA","Lajes","Basis","Portugal",{"$f":"COUNTIF(Eingabe!$F$2:$H$1276,\"LPLA\")","v":0},{"$f":"COUNTIF(Eingabe!$I$2:$K$1276,\"LPLA\")","v":0},"tropicalsim","2.0.0","TER","Europa","2025-09-26","20/24",null,null,null," "," ",null,{"$f":"IFERROR(AVERAGEIF(Eingabe!$I$2:$I$1276, \"LPLA\", Eingabe!$O$2:$O$1276), 0)","v":0}]
["LPMA","Funchal-Madeira","Basis","Portugal",{"$f":"COUNTIF(Eingabe!$F$2:$H$1276,\"LPMA\")","v":0},{"$f":"COUNTIF(Eingabe!$I$2:$K$1276,\"LPMA\")","v":0},"amsim"," 1.4.1","FNC","Europa","2023-08-29","20/24",null,null,null," "," ",null,{"$f":"IFERROR(AVERAGEIF(Eingabe!$I$2:$I$1276, \"LPMA\", Eingabe!$O$2:$O$1276), 0)","v":0}]
["LPPD","Ponta Delgada","Basis","Portugal",{"$f":"COUNTIF(Eingabe!$F$2:$H$1276,\"LPPD\")","v":0},{"$f":"COUNTIF(Eingabe!$I$2:$K$1276,\"LPPD\")","v":0},"inibuilds","1.0.2","PDL","Europa","2026-03-29",24,null,null,null," "," ",null,{"$f":"IFERROR(AVERAGEIF(Eingabe!$I$2:$I$1276, \"LPPD\", Eingabe!$O$2:$O$1276), 0)","v":0}]
["LPPR","Porto","Basis","Portugal",{"$f":"COUNTIF(Eingabe!$F$2:$H$1276,\"LPPR\")","v":0},{"$f":"COUNTIF(Eingabe!$I$2:$K$1276,\"LPPR\")","v":0},"mkstudios"," 2.0.2","OPO","Europa","2026-06-05",24,null,null,null," "," ",null,{"$f":"IFERROR(AVERAGEIF(Eingabe!$I$2:$I$1276, \"LPPR\", Eingabe!$O$2:$O$1276), 0)","v":0}]
["LPPS","Porto Santo","Basis","Portugal",{"$f":"COUNTIF(Eingabe!$F$2:$H$1276,\"LPPS\")","v":0},{"$f":"COUNTIF(Eingabe!$I$2:$K$1276,\"LPPS\")","v":0},"Simportteam","1.0.0","PXO","Europa","2023-02-14","20/24",null,null,null," "," ",null,{"$f":"IFERROR(AVERAGEIF(Eingabe!$I$2:$I$1276, \"LPPS\", Eingabe!$O$2:$O$1276), 0)","v":0}]
["LPPT","Lissabon-Humberto Delgado","Basis","Portugal",{"$f":"COUNTIF(Eingabe!$F$2:$H$1276,\"LPPT\")","v":0},{"$f":"COUNTIF(Eingabe!$I$2:$K$1276,\"LPPT\")","v":0},"mkstudios","1.1.2","LIS","Europa","2026-06-10","20/24",null,null,123," "," ",null,{"$f":"IFERROR(AVERAGEIF(Eingabe!$I$2:$I$1276, \"LPPT\", Eingabe!$O$2:$O$1276), 0)","v":0}]
["LQBK","Banja Luka","Basis","Bosnien & Herzegowina",{"$f":"COUNTIF(Eingabe!$F$2:$H$1276,\"LQBK\")","v":0},{"$f":"COUNTIF(Eingabe!$I$2:$K$1276,\"LQBK\")","v":0},"ORBX","1.0.0","BNX","Europa","2024-03-08","20/24",null,null,null," "," ",null,{"$f":"IFERROR(AVERAGEIF(Eingabe!$I$2:$I$1276, \"LQBK\", Eingabe!$O$2:$O$1276), 0)","v":0}]
["LQSA","Sarajevo","Basis","Bosnien & Herzegowina",{"$f":"COUNTIF(Eingabe!$F$2:$H$1276,\"LQSA\")","v":1},{"$f":"COUNTIF(Eingabe!$I$2:$K$1276,\"LQSA\")","v":1},"kissim","2.0.2","SJJ","Europa","2026-03-10",24,null,null,null,"✔️","✔️",null,{"$f":"IFERROR(AVERAGEIF(Eingabe!$I$2:$I$1276, \"LQSA\", Eingabe!$O$2:$O$1276), 0)","v":218}]
["LRBC","Bacau","Basis","Rumänien",{"$f":"COUNTIF(Eingabe!$F$2:$H$1276,\"LRBC\")","v":0},{"$f":"COUNTIF(Eingabe!$I$2:$K$1276,\"LRBC\")","v":0},"Freeware","3.0.0","BCM","Europa","2022-10-04","20/24",null,null,null," "," ",null,{"$f":"IFERROR(AVERAGEIF(Eingabe!$I$2:$I$1276, \"LRBC\", Eingabe!$O$2:$O$1276), 0)","v":0}]
["LRIA","Iași","Basis","Rumänien",{"$f":"COUNTIF(Eingabe!$F$2:$H$1276,\"LRIA\")","v":0},{"$f":"COUNTIF(Eingabe!$I$2:$K$1276,\"LRIA\")","v":0},"mldscenery","1.0.1","IAS","Europa","2023-02-09","20/24",null,null,null," "," ",null,{"$f":"IFERROR(AVERAGEIF(Eingabe!$I$2:$I$1276, \"LRIA\", Eingabe!$O$2:$O$1276), 0)","v":0}]
["LROP","Bukarest Henry Coanda","Basis","Rumänien",{"$f":"COUNTIF(Eingabe!$F$2:$H$1276,\"LROP\")","v":0},{"$f":"COUNTIF(Eingabe!$I$2:$K$1276,\"LROP\")","v":0},"barellimsfsaddon","2.6.0","OTP","Europa","2026-04-26",24,null,null,null," "," ",null,{"$f":"IFERROR(AVERAGEIF(Eingabe!$I$2:$I$1276, \"LROP\", Eingabe!$O$2:$O$1276), 0)","v":0}]
["LRTM","Transilvanien / Târgu Mureș","Basis","Rumänien",{"$f":"COUNTIF(Eingabe!$F$2:$H$1276,\"LRTM\")","v":0},{"$f":"COUNTIF(Eingabe!$I$2:$K$1276,\"LRTM\")","v":0},"Freeware","2.0","TGM","Europa","2025-04-01","20/24",null,null,null," "," ",null,{"$f":"IFERROR(AVERAGEIF(Eingabe!$I$2:$I$1276, \"LRTM\", Eingabe!$O$2:$O$1276), 0)","v":0}]
["LRTR","Temeswar","Basis","Rumänien",{"$f":"COUNTIF(Eingabe!$F$2:$H$1276,\"LRTR\")","v":0},{"$f":"COUNTIF(Eingabe!$I$2:$K$1276,\"LRTR\")","v":0},"mldscenery","1.0.3","TSR","Europa","2024-02-29","20/24",null,null,null," "," ",null,{"$f":"IFERROR(AVERAGEIF(Eingabe!$I$2:$I$1276, \"LRTR\", Eingabe!$O$2:$O$1276), 0)","v":0}]
["LSGG","Genf","Basis","Schweiz",{"$f":"COUNTIF(Eingabe!$F$2:$H$1276,\"LSGG\")","v":0},{"$f":"COUNTIF(Eingabe!$I$2:$K$1276,\"LSGG\")","v":0},"jetstreamdesigns","1.1.5","GVA","Europa","2026-01-03","20/24",null,null,null," "," ",null,{"$f":"IFERROR(AVERAGEIF(Eingabe!$I$2:$I$1276, \"LSGG\", Eingabe!$O$2:$O$1276), 0)","v":0}]
["LSGL","Lausanne","Basis","Schweiz",{"$f":"COUNTIF(Eingabe!$F$2:$H$1276,\"LSGL\")","v":0},{"$f":"COUNTIF(Eingabe!$I$2:$K$1276,\"LSGL\")","v":0},"spinoza","2.4.1","QLS","Europa","2024-12-03","20/24",null,null,null,{"$f":"IF(E582=0,\" \",\"✔️\")","v":" "},{"$f":"IF(F582=0,\" \",\"✔️\")","v":" "},null,{"$f":"IFERROR(AVERAGEIF(Eingabe!$I$2:$I$1276, \"LSGL\", Eingabe!$O$2:$O$1276), 0)","v":0}]
["LSGS","Sion","Basis","Schweiz",{"$f":"COUNTIF(Eingabe!$F$2:$H$1276,\"LSGE\")","v":0},{"$f":"COUNTIF(Eingabe!$I$2:$K$1276,\"LSGE\")","v":0},"simaddons","1.0.1","SIR","Europa","2025-02-07",24,null,null,null," "," ",null,{"$f":"IFERROR(AVERAGEIF(Eingabe!$I$2:$I$1276, \"LSGS\", Eingabe!$O$2:$O$1276), 0)","v":0}]
["LSZB","Bern","World Update 18","Schweiz",{"$f":"COUNTIF(Eingabe!$F$2:$H$1276,\"LSZB\")","v":0},{"$f":"COUNTIF(Eingabe!$I$2:$K$1276,\"LSZB\")","v":0},"ORBX","1.4.3","BRN","Europa","2024-11-21","20/24",null,null,null," "," ",null,{"$f":"IFERROR(AVERAGEIF(Eingabe!$I$2:$I$1276, \"LSZB\", Eingabe!$O$2:$O$1276), 0)","v":0}]
["LSZC","Buochs","Basis","Schweiz",{"$f":"COUNTIF(Eingabe!$F$2:$H$1276,\"LSZC\")","v":0},{"$f":"COUNTIF(Eingabe!$I$2:$K$1276,\"LSZC\")","v":0},"flylogic","1.3.0","BXO","Europa","2026-01-11",24,null,null,null," "," ",null,{"$f":"IFERROR(AVERAGEIF(Eingabe!$I$2:$I$1276, \"LSZC\", Eingabe!$O$2:$O$1276), 0)","v":0}]
["LSZH","Zürich","Basis","Schweiz",{"$f":"COUNTIF(Eingabe!$F$2:$H$1276,\"LSZH\")","v":1},{"$f":"COUNTIF(Eingabe!$I$2:$K$1276,\"LSZH\")","v":1},"mkstudios","1.1.2","ZRH","Europa","2026-02-28","20/24",null,null,null,"✔️","✔️",null,{"$f":"IFERROR(AVERAGEIF(Eingabe!$I$2:$I$1276, \"LSZH\", Eingabe!$O$2:$O$1276), 0)","v":302}]
["LSZR","Altenrhein-St.Gallen","World Update 18","Schweiz",{"$f":"COUNTIF(Eingabe!$F$2:$H$1276,\"LSZR\")","v":0},{"$f":"COUNTIF(Eingabe!$I$2:$K$1276,\"LSZR\")","v":0},"flylogic","1.0.1","ACH","Europa","2024-05-30","20/24",null,null,null," "," ",null,{"$f":"IFERROR(AVERAGEIF(Eingabe!$I$2:$I$1276, \"LSZR\", Eingabe!$O$2:$O$1276), 0)","v":0}]
["LTAC","Ankara Esenboga","Basis","Türkei",{"$f":"COUNTIF(Eingabe!$F$2:$H$1276,\"LTAC\")","v":0},{"$f":"COUNTIF(Eingabe!$I$2:$K$1276,\"LTAC\")","v":0},"scenerytr","1.5.1","ESB","Europa","2026-02-28","20/24",null,null,null," "," ",null,{"$f":"IFERROR(AVERAGEIF(Eingabe!$I$2:$I$1276, \"LTAC\", Eingabe!$O$2:$O$1276), 0)","v":0}]
["LTAI","Antalya","Basis","Türkei",{"$f":"COUNTIF(Eingabe!$F$2:$H$1276,\"LTAI\")","v":1},{"$f":"COUNTIF(Eingabe!$I$2:$K$1276,\"LTAI\")","v":1},"JustSim","1.1.0","AYT","Europa","2024-09-11","20/24",null,null,null,"✔️","✔️",null,{"$f":"IFERROR(AVERAGEIF(Eingabe!$I$2:$I$1276, \"LTAI\", Eingabe!$O$2:$O$1276), 0)","v":221.35}]
["LTAL","Kastamonu","Basis","Türkei",{"$f":"COUNTIF(Eingabe!$F$2:$H$1276,\"LTAL\")","v":0},{"$f":"COUNTIF(Eingabe!$I$2:$K$1276,\"LTAL\")","v":0},"acscenery","2.1.0","KFS","Europa","2026-07-12","20/24",null,null,null," "," ",null,{"$f":"IFERROR(AVERAGEIF(Eingabe!$I$2:$I$1276, \"LTAL\", Eingabe!$O$2:$O$1276), 0)","v":0}]
["LTBA","Atatürk Istanbul","Basis","Türkei",{"$f":"COUNTIF(Eingabe!$F$2:$H$1276,\"LTBA\")","v":0},{"$f":"COUNTIF(Eingabe!$I$2:$K$1276,\"LTBA\")","v":0},"Standard","***","ISL","Europa","***","20/24",null,null,null," "," ",null,{"$f":"IFERROR(AVERAGEIF(Eingabe!$I$2:$I$1276, \"LTBA\", Eingabe!$O$2:$O$1276), 0)","v":0}]
["LTBJ","Izmir","Basis","Türkei",{"$f":"COUNTIF(Eingabe!$F$2:$H$1276,\"LTBJ\")","v":0},{"$f":"COUNTIF(Eingabe!$I$2:$K$1276,\"LTBJ\")","v":0},"mmsimulations","2.2.0","ADB","Europa","2026-05-16","20/24",null,null,null," "," ",null,{"$f":"IFERROR(AVERAGEIF(Eingabe!$I$2:$I$1276, \"LTBJ\", Eingabe!$O$2:$O$1276), 0)","v":0}]
["LTBS","Dalaman","Basis","Türkei",{"$f":"COUNTIF(Eingabe!$F$2:$H$1276,\"LTBS\")","v":0},{"$f":"COUNTIF(Eingabe!$I$2:$K$1276,\"LTBS\")","v":0},"mmsimulations"," 1.7.0","DLM","Europa","2026-02-02","20/24",null,null,null," "," ",null,{"$f":"IFERROR(AVERAGEIF(Eingabe!$I$2:$I$1276, \"LTBS\", Eingabe!$O$2:$O$1276), 0)","v":0}]
["LTCG","Trabzon","Basis","Türkei",{"$f":"COUNTIF(Eingabe!$F$2:$H$1276,\"LTCG\")","v":0},{"$f":"COUNTIF(Eingabe!$I$2:$K$1276,\"LTCG\")","v":0},"scenerytr","1.0.2","TZX","Europa","2024-02-24","20/24",null,null,null," "," ",null,{"$f":"IFERROR(AVERAGEIF(Eingabe!$I$2:$I$1276, \"LTCG\", Eingabe!$O$2:$O$1276), 0)","v":0}]
["LTFE","Bodrum, Milas","Basis","Türkei",{"$f":"COUNTIF(Eingabe!$F$2:$H$1276,\"LTFE\")","v":0},{"$f":"COUNTIF(Eingabe!$I$2:$K$1276,\"LTFE\")","v":0},"JustSim","1.0.0","BJV","Europa","2022-05-10","20/24",null,null,null," "," ",null,{"$f":"IFERROR(AVERAGEIF(Eingabe!$I$2:$I$1276, \"LTFE\", Eingabe!$O$2:$O$1276), 0)","v":0}]
["LTFG","Alanya","Basis","Türkei",{"$f":"COUNTIF(Eingabe!$F$2:$H$1276,\"LTFG\")","v":0},{"$f":"COUNTIF(Eingabe!$I$2:$K$1276,\"LTFG\")","v":0},"stsimulations","1.0.0","GZP","Europa","2023-04-01","20/24",null,null,null," "," ",null,{"$f":"IFERROR(AVERAGEIF(Eingabe!$I$2:$I$1276, \"LTFG\", Eingabe!$O$2:$O$1276), 0)","v":0}]
["LTFJ","Istanbul-Sabiha-Gokcen","Basis","Türkei",{"$f":"COUNTIF(Eingabe!$F$2:$H$1276,\"LTFJ\")","v":0},{"$f":"COUNTIF(Eingabe!$I$2:$K$1276,\"LTFJ\")","v":0},"scenerytr","1.0.5","SAW","Europa","2026-05-06",24,null,null,null," "," ",null,{"$f":"IFERROR(AVERAGEIF(Eingabe!$I$2:$I$1276, \"LTFJ\", Eingabe!$O$2:$O$1276), 0)","v":0}]
["LTFM","Istanbul","Basis","Türkei",{"$f":"COUNTIF(Eingabe!$F$2:$H$1276,\"LTFM\")","v":0},{"$f":"COUNTIF(Eingabe!$I$2:$K$1276,\"LTFM\")","v":0},"scenerytr","1.0.8","IST","Europa","2024-12-03","20/24",null,null,null," "," ",null,{"$f":"IFERROR(AVERAGEIF(Eingabe!$I$2:$I$1276, \"LTFM\", Eingabe!$O$2:$O$1276), 0)","v":0}]
["LUKK","Chișinău Intl.","Basis","Moldawien",{"$f":"COUNTIF(Eingabe!$F$2:$H$1276,\"LUKK\")","v":0},{"$f":"COUNTIF(Eingabe!$I$2:$K$1276,\"LUKK\")","v":0},"mxidesign","1.0.0","KIV","Europa","2024-02-24","20/24",null,null,null," "," ",null,{"$f":"IFERROR(AVERAGEIF(Eingabe!$I$2:$I$1276, \"LUKK\", Eingabe!$O$2:$O$1276), 0)","v":0}]
["LWOH","Ohrid St. Paul the Apostle Airport","Basis","Nordmazedonien",{"$f":"COUNTIF(Eingabe!$F$2:$H$1276,\"LWOH\")","v":0},{"$f":"COUNTIF(Eingabe!$I$2:$K$1276,\"LWOH\")","v":0},"sofly","1.0.1","SKP","Europa","2026-02-02","20/24",null,null,null," "," ",null,{"$f":"IFERROR(AVERAGEIF(Eingabe!$I$2:$I$1276, \"LWOH\", Eingabe!$O$2:$O$1276), 0)","v":0}]
["LWSK","Skopje","Basis","Nordmazedonien",{"$f":"COUNTIF(Eingabe!$F$2:$H$1276,\"LWSK\")","v":0},{"$f":"COUNTIF(Eingabe!$I$2:$K$1276,\"LWSK\")","v":0},"Aerosoft","1.0.0","SKP","Europa","2023-03-30","20/24",null,null,null," "," ",null,{"$f":"IFERROR(AVERAGEIF(Eingabe!$I$2:$I$1276, \"LWSK\", Eingabe!$O$2:$O$1276), 0)","v":0}]
["LXGB","Gibraltar","Basis","Großbritannien",{"$f":"COUNTIF(Eingabe!$F$2:$H$1276,\"LXGB\")","v":0},{"$f":"COUNTIF(Eingabe!$I$2:$K$1276,\"LXGB\")","v":0},"rdpresets","1.1.0","GIB","Europa","2023-03-12","20/24",null,null,3," "," ",null,{"$f":"IFERROR(AVERAGEIF(Eingabe!$I$2:$I$1276, \"LXGB\", Eingabe!$O$2:$O$1276), 0)","v":0}]
["LYBE","Nikola Tesla Belgrad","Basis","Serbien",{"$f":"COUNTIF(Eingabe!$F$2:$H$1276,\"LYBE\")","v":1},{"$f":"COUNTIF(Eingabe!$I$2:$K$1276,\"LYBE\")","v":1},"flyhigh","3.5.0","BEG","Europa","2025-12-23","20/24",null,null,null,"✔️","✔️",null,{"$f":"IFERROR(AVERAGEIF(Eingabe!$I$2:$I$1276, \"LYBE\", Eingabe!$O$2:$O$1276), 0)","v":218}]
["LYNI","Niš - Konstantin der Große","Basis","Serbien",{"$f":"COUNTIF(Eingabe!$F$2:$H$1276,\"LYNI\")","v":0},{"$f":"COUNTIF(Eingabe!$I$2:$K$1276,\"LYNI\")","v":0},"ORBX","1.1.2","INI","Europa","2022-03-23","20/24",null,null,null," "," ",null,{"$f":"IFERROR(AVERAGEIF(Eingabe!$I$2:$I$1276, \"LYNI\", Eingabe!$O$2:$O$1276), 0)","v":0}]
["LYPG","Podgorica","Basis","Montenegro",{"$f":"COUNTIF(Eingabe!$F$2:$H$1276,\"LYPG\")","v":1},{"$f":"COUNTIF(Eingabe!$I$2:$K$1276,\"LYPG\")","v":1},"ORBX","1.1.0","TGD","Europa","2023-04-18","20/24",null,null,null,"✔️","✔️",null,{"$f":"IFERROR(AVERAGEIF(Eingabe!$I$2:$I$1276, \"LYPG\", Eingabe!$O$2:$O$1276), 0)","v":213.4}]
["LYTV","Tivat","Basis","Montenegro",{"$f":"COUNTIF(Eingabe!$F$2:$H$1276,\"LYTV\")","v":1},{"$f":"COUNTIF(Eingabe!$I$2:$K$1276,\"LYTV\")","v":1},"pyreegue","1.1.2","TIV","Europa","2022-08-26","20/24",null,null,null,"✔️","✔️",null,{"$f":"IFERROR(AVERAGEIF(Eingabe!$I$2:$I$1276, \"LYTV\", Eingabe!$O$2:$O$1276), 0)","v":212.3}]
["LZIB","Bratislava","Basis","Slowakei",{"$f":"COUNTIF(Eingabe!$F$2:$H$1276,\"LZIB\")","v":0},{"$f":"COUNTIF(Eingabe!$I$2:$K$1276,\"LZIB\")","v":0},"Aerosoft","1.1.0","BTS","Europa","2025-10-22",24,null,null,null," "," ",null,{"$f":"IFERROR(AVERAGEIF(Eingabe!$I$2:$I$1276, \"LZIB\", Eingabe!$O$2:$O$1276), 0)","v":0}]
["LZKZ","Kosice","Basis","Slowakei",{"$f":"COUNTIF(Eingabe!$F$2:$H$1276,\"LZKZ\")","v":0},{"$f":"COUNTIF(Eingabe!$I$2:$K$1276,\"LZKZ\")","v":0},"fps","1.4.0","KSC","Europa","2024-12-15","20/24",null,null,null," "," ",null,{"$f":"IFERROR(AVERAGEIF(Eingabe!$I$2:$I$1276, \"LZKZ\", Eingabe!$O$2:$O$1276), 0)","v":0}]
["LZTT","Poprad-Tatry","World Update 14","Slowakei",{"$f":"COUNTIF(Eingabe!$F$2:$H$1276,\"LZTT\")","v":0},{"$f":"COUNTIF(Eingabe!$I$2:$K$1276,\"LZTT\")","v":0},"bmw","2.0.0","TAT","Europa","2023-07-06","20/24",null,null,null," "," ",null,{"$f":"IFERROR(AVERAGEIF(Eingabe!$I$2:$I$1276, \"LZTT\", Eingabe!$O$2:$O$1276), 0)","v":0}]
["MDLR","La Romana","Basis","Dom.Rep",{"$f":"COUNTIF(Eingabe!$F$2:$H$1276,\"MDLR\")","v":0},{"$f":"COUNTIF(Eingabe!$I$2:$K$1276,\"MDLR\")","v":0},"fsdg","1.0.0","LRM","Nord-Amerika","2025-03-01",24,null,null,null," "," ",null,{"$f":"IFERROR(AVERAGEIF(Eingabe!$I$2:$I$1276, \"MDLR\", Eingabe!$O$2:$O$1276), 0)","v":0}]
["MDPC","Punta Cana /","Basis","Dom.Rep",{"$f":"COUNTIF(Eingabe!$F$2:$H$1276,\"MDPC\")","v":0},{"$f":"COUNTIF(Eingabe!$I$2:$K$1276,\"MDPC\")","v":0},"tropicalsim","2.2.0","PUJ","Nord-Amerika","2025-09-26","20/24",null,null,null," "," ",null,{"$f":"IFERROR(AVERAGEIF(Eingabe!$I$2:$I$1276, \"MDPC\", Eingabe!$O$2:$O$1276), 0)","v":0}]
["MDPP","Puerto Plata","World Update 16","Dom.Rep",{"$f":"COUNTIF(Eingabe!$F$2:$H$1276,\"MDPP\")","v":0},{"$f":"COUNTIF(Eingabe!$I$2:$K$1276,\"MDPP\")","v":0},"dreamflightstudios","1.0.0","POP","Nord-Amerika","2024-01-31","20/24",null,null,4," "," ",null,{"$f":"IFERROR(AVERAGEIF(Eingabe!$I$2:$I$1276, \"MDPP\", Eingabe!$O$2:$O$1276), 0)","v":0}]
["MDSD","Las Américas- Santo Domingo","Basis","Dom.Rep",{"$f":"COUNTIF(Eingabe!$F$2:$H$1276,\"MDSD\")","v":0},{"$f":"COUNTIF(Eingabe!$I$2:$K$1276,\"MDSD\")","v":0},"bravoairspace","1.6.5","SDQ","Nord-Amerika","2026-03-10","20/24",null,null,null," "," ",null,{"$f":"IFERROR(AVERAGEIF(Eingabe!$I$2:$I$1276, \"MDSD\", Eingabe!$O$2:$O$1276), 0)","v":0}]
["MGGT","Guatemala-Stadt „La Aurora“","Basis","Guatemala",{"$f":"COUNTIF(Eingabe!$F$2:$H$1276,\"MGGT\")","v":0},{"$f":"COUNTIF(Eingabe!$I$2:$K$1276,\"MGGT\")","v":0},"sierrasim","2.1.1","GUA","Nord-Amerika","2026-01-11",24,null,null,null,{"$f":"IF(E614=0,\" \",\"✔️\")","v":" "},{"$f":"IF(F614=0,\" \",\"✔️\")","v":" "},null,{"$f":"IFERROR(AVERAGEIF(Eingabe!$I$2:$I$1276, \"MGGT\", Eingabe!$O$2:$O$1276), 0)","v":0}]
["MGMM","Mundo Maya","Basis","Guatemala",{"$f":"COUNTIF(Eingabe!$F$2:$H$1276,\"MGMM\")","v":0},{"$f":"COUNTIF(Eingabe!$I$2:$K$1276,\"MGMM\")","v":0},"fsxcenery","1.0.0","FRS","Nord-Amerika","2024-10-25","20/24",null,null,null," "," ",null,{"$f":"IFERROR(AVERAGEIF(Eingabe!$I$2:$I$1276, \"MGMM\", Eingabe!$O$2:$O$1276), 0)","v":0}]
["MHPR","Palmerola-Tegucigalpa","Basis","Honduras",{"$f":"COUNTIF(Eingabe!$F$2:$H$1276,\"MHPR\")","v":0},{"$f":"COUNTIF(Eingabe!$I$2:$K$1276,\"MHPR\")","v":0},"sierrasim","1.0.0","TGU","Nord-Amerika","2022-06-02","20/24",null,null,null," "," ",null,{"$f":"IFERROR(AVERAGEIF(Eingabe!$I$2:$I$1276, \"MHPR\", Eingabe!$O$2:$O$1276), 0)","v":0}]
["MKJS","Sangster - Montego Bay","World Update 16","Jamaica",{"$f":"COUNTIF(Eingabe!$F$2:$H$1276,\"MKJS\")","v":0},{"$f":"COUNTIF(Eingabe!$I$2:$K$1276,\"MKJS\")","v":0},"Asobo",null,"MBJ","Nord-Amerika","2024-01-31","20/24",null,null,null," "," ",null,{"$f":"IFERROR(AVERAGEIF(Eingabe!$I$2:$I$1276, \"MKJS\", Eingabe!$O$2:$O$1276), 0)","v":0}]
["MMAA","Acapulco","Basis","Mexiko",{"$f":"COUNTIF(Eingabe!$F$2:$H$1276,\"MMMA\")","v":0},{"$f":"COUNTIF(Eingabe!$I$2:$K$1276,\"MMMA\")","v":0},"DXR","1.0.7","ACA","Nord-Amerika","2024-04-28","20/24",null,null,null," "," ",null,{"$f":"IFERROR(AVERAGEIF(Eingabe!$I$2:$I$1276, \"MMAA\", Eingabe!$O$2:$O$1276), 0)","v":0}]
["MMCB","Cuernavaca","Basis","Mexiko",{"$f":"COUNTIF(Eingabe!$F$2:$H$1276,\"MMCB\")","v":0},{"$f":"COUNTIF(Eingabe!$I$2:$K$1276,\"MMCB\")","v":0},"DXR","1.0.1","CVJ","Nord-Amerika","2024-04-28","20/24",null,null,null," "," ",null,{"$f":"IFERROR(AVERAGEIF(Eingabe!$I$2:$I$1276, \"MMCB\", Eingabe!$O$2:$O$1276), 0)","v":0}]
["MMCZ","Cozumel","Basis","Mexiko",{"$f":"COUNTIF(Eingabe!$F$2:$H$1276,\"MMCZ\")","v":0},{"$f":"COUNTIF(Eingabe!$I$2:$K$1276,\"MMCZ\")","v":0},"flymex","1.1.5","CVJ","Nord-Amerika","2025-08-14",24,null,null,null," "," ",null,{"$f":"IFERROR(AVERAGEIF(Eingabe!$I$2:$I$1276, \"MMCZ\", Eingabe!$O$2:$O$1276), 0)","v":0}]
["MMGL","Guadalajara","Basis","Mexiko",{"$f":"COUNTIF(Eingabe!$F$2:$H$1276,\"MMGL\")","v":0},{"$f":"COUNTIF(Eingabe!$I$2:$K$1276,\"MMGL\")","v":0},"magsoftstudios","3.1.0","MEX","Nord-Amerika","2022-05-21","20/24",null,null,"Gate 9"," "," ",null,{"$f":"IFERROR(AVERAGEIF(Eingabe!$I$2:$I$1276, \"MMGL\", Eingabe!$O$2:$O$1276), 0)","v":0}]
["MMMD","Merida","Basis","Mexiko",{"$f":"COUNTIF(Eingabe!$F$2:$H$1276,\"MMMD\")","v":0},{"$f":"COUNTIF(Eingabe!$I$2:$K$1276,\"MMMD\")","v":0},"simulacionextrema","1.5.0","MID","Nord-Amerika","2025-04-17","20/24",null,null,null," "," ",null,{"$f":"IFERROR(AVERAGEIF(Eingabe!$I$2:$I$1276, \"MMMD\", Eingabe!$O$2:$O$1276), 0)","v":0}]
["MMMX","Mexiko City","Basis","Mexiko",{"$f":"COUNTIF(Eingabe!$F$2:$H$1276,\"MMMX\")","v":0},{"$f":"COUNTIF(Eingabe!$I$2:$K$1276,\"MMMX\")","v":0},"flymex","1.0.5","MEX","Nord-Amerika","2025-07-21",24,null,null,17," "," ",null,{"$f":"IFERROR(AVERAGEIF(Eingabe!$I$2:$I$1276, \"MMMX\", Eingabe!$O$2:$O$1276), 0)","v":0}]
["MMMY","Monterrey","Basis","Mexiko",{"$f":"COUNTIF(Eingabe!$F$2:$H$1276,\"MMMY\")","v":0},{"$f":"COUNTIF(Eingabe!$I$2:$K$1276,\"MMMY\")","v":0},"magsoftstudios","1.0.5","MTY","Nord-Amerika","2021-10-24","20/24",null,null,null," "," ",null,{"$f":"IFERROR(AVERAGEIF(Eingabe!$I$2:$I$1276, \"MMMY\", Eingabe!$O$2:$O$1276), 0)","v":0}]
["MMMZ","Mazatlan","Basis","Mexiko",{"$f":"COUNTIF(Eingabe!$F$2:$H$1276,\"MMMZ\")","v":0},{"$f":"COUNTIF(Eingabe!$I$2:$K$1276,\"MMMZ\")","v":0},"DXR","1.0.5","MZT","Nord-Amerika","2024-04-28","20/24",null,null,null," "," ",null,{"$f":"IFERROR(AVERAGEIF(Eingabe!$I$2:$I$1276, \"MMMZ\", Eingabe!$O$2:$O$1276), 0)","v":0}]
["MMOX","Oaxaca-Xoxocotlán","Basis","Mexiko",{"$f":"COUNTIF(Eingabe!$F$2:$H$1276,\"MMGL\")","v":0},{"$f":"COUNTIF(Eingabe!$I$2:$K$1276,\"MMGL\")","v":0},"dreamflightstudios","1.0.0","OAX","Nord-Amerika","2024-03-30","20/24",null,null,null," "," ",null,{"$f":"IFERROR(AVERAGEIF(Eingabe!$I$2:$I$1276, \"MMOX\", Eingabe!$O$2:$O$1276), 0)","v":0}]
["MMPB","Puebla Intl.","Basis","Mexiko",{"$f":"COUNTIF(Eingabe!$F$2:$H$1276,\"MMPB\")","v":0},{"$f":"COUNTIF(Eingabe!$I$2:$K$1276,\"MMPB\")","v":0},"DXR","1.0.5","PBC","Nord-Amerika","2024-04-28","20/24",null,null,null," "," ",null,{"$f":"IFERROR(AVERAGEIF(Eingabe!$I$2:$I$1276, \"MMPB\", Eingabe!$O$2:$O$1276), 0)","v":0}]
["MMSM","Santa Lucia AB","Basis","Mexiko",{"$f":"COUNTIF(Eingabe!$F$2:$H$1276,\"MMSM\")","v":0},{"$f":"COUNTIF(Eingabe!$I$2:$K$1276,\"MMSM\")","v":0},"DXR","1.2.0","NLU","Nord-Amerika","2024-04-28","20/24",null,null,null," "," ",null,{"$f":"IFERROR(AVERAGEIF(Eingabe!$I$2:$I$1276, \"MMSM\", Eingabe!$O$2:$O$1276), 0)","v":0}]
["MMTJ","Tijuana","Basis","Mexiko",{"$f":"COUNTIF(Eingabe!$F$2:$H$1276,\"MMTJ\")","v":0},{"$f":"COUNTIF(Eingabe!$I$2:$K$1276,\"MMTJ\")","v":0},"magsoftstudios","1.0.0","TIJ","Nord-Amerika","2023-09-25","20/24",null,null,null," "," ",null,{"$f":"IFERROR(AVERAGEIF(Eingabe!$I$2:$I$1276, \"MMTJ\", Eingabe!$O$2:$O$1276), 0)","v":0}]
["MMTL","Tulum","Basis","Mexiko",{"$f":"COUNTIF(Eingabe!$F$2:$H$1276,\"MMTL\")","v":0},{"$f":"COUNTIF(Eingabe!$I$2:$K$1276,\"MMTL\")","v":0},"fsdg","1.0.0","TQO","Nord-Amerika","2026-05-16",24,null,null,null,null,null,null,{"$f":"IFERROR(AVERAGEIF(Eingabe!$I$2:$I$1276, \"MMTL\", Eingabe!$O$2:$O$1276), 0)","v":0}]
["MMTO","Toluca","Basis","Mexiko",{"$f":"COUNTIF(Eingabe!$F$2:$H$1276,\"MMTO\")","v":0},{"$f":"COUNTIF(Eingabe!$I$2:$K$1276,\"MMTO\")","v":0},"DXR","1.0.1","TLC","Nord-Amerika","2024-04-28","20/24",null,null,null,{"$f":"IF(E631=0,\" \",\"✔️\")","v":" "},{"$f":"IF(F631=0,\" \",\"✔️\")","v":" "},null,{"$f":"IFERROR(AVERAGEIF(Eingabe!$I$2:$I$1276, \"MMTO\", Eingabe!$O$2:$O$1276), 0)","v":0}]
["MMTU","Tulum","Basis","Mexiko",{"$f":"COUNTIF(Eingabe!$F$2:$H$1276,\"MMtu\")","v":0},{"$f":"COUNTIF(Eingabe!$I$2:$K$1276,\"MMtu\")","v":0},"DXR","1.1.1","TQO","Nord-Amerika","2024-04-28","20/24",null,null,null," "," ",null,{"$f":"IFERROR(AVERAGEIF(Eingabe!$I$2:$I$1276, \"MMTU\", Eingabe!$O$2:$O$1276), 0)","v":0}]
["MMUN","Cancun","Basis","Mexiko",{"$f":"COUNTIF(Eingabe!$F$2:$H$1276,\"MMUN\")","v":0},{"$f":"COUNTIF(Eingabe!$I$2:$K$1276,\"MMUN\")","v":0},"DXR","1.7.0","CUN","Nord-Amerika","2024-08-14","20/24",null,null,43," "," ",null,{"$f":"IFERROR(AVERAGEIF(Eingabe!$I$2:$I$1276, \"MMUN\", Eingabe!$O$2:$O$1276), 0)","v":0}]
["MPSM","Scarlett Martínez","Basis","Panama",{"$f":"COUNTIF(Eingabe!$F$2:$H$1276,\"MPSM\")","v":0},{"$f":"COUNTIF(Eingabe!$I$2:$K$1276,\"MPSM\")","v":0},"teikofstudio","1.0.3","RIH","Nord-Amerika","2025-06-26","20/24",null,null,null," "," ",null,{"$f":"IFERROR(AVERAGEIF(Eingabe!$I$2:$I$1276, \"MPSM\", Eingabe!$O$2:$O$1276), 0)","v":0}]
["MPTO","Tocumen / Panama","Basis","Panama",{"$f":"COUNTIF(Eingabe!$F$2:$H$1276,\"MPTO\")","v":0},{"$f":"COUNTIF(Eingabe!$I$2:$K$1276,\"MPTO\")","v":0},"vpilotdesigns","1.1.0","PTY","Nord-Amerika","2026-07-12",24,null,null,125," "," ",null,{"$f":"IFERROR(AVERAGEIF(Eingabe!$I$2:$I$1276, \"MPTO\", Eingabe!$O$2:$O$1276), 0)","v":0}]
["MRLB","Rica Liberia","Basis","Costa Rica",{"$f":"COUNTIF(Eingabe!$F$2:$H$1276,\"MRLB\")","v":0},{"$f":"COUNTIF(Eingabe!$I$2:$K$1276,\"MRLB\")","v":0},"dreamflightstudios","1.0.0","LIR","Mittel-Amerika","2021-06-11","20/24",null,null,null," "," ",null,{"$f":"IFERROR(AVERAGEIF(Eingabe!$I$2:$I$1276, \"MRLB\", Eingabe!$O$2:$O$1276), 0)","v":0}]
["MROC","San Jose / Costa Rica","Basis","Costa Rica",{"$f":"COUNTIF(Eingabe!$F$2:$H$1276,\"MROC\")","v":0},{"$f":"COUNTIF(Eingabe!$I$2:$K$1276,\"MROC\")","v":0},"vpilotdesigns","1.3.0","SJO","Mittel-Amerika","2026-07-12","20/24",null,null,null," "," ",null,{"$f":"IFERROR(AVERAGEIF(Eingabe!$I$2:$I$1276, \"MROC\", Eingabe!$O$2:$O$1276), 0)","v":0}]
["MSLP","El Salvador Intl.","Basis","El Salvador",{"$f":"COUNTIF(Eingabe!$F$2:$H$1276,\"MSLP\")","v":0},{"$f":"COUNTIF(Eingabe!$I$2:$K$1276,\"MSLP\")","v":0},"PortalFrame","0.3.3","SAL","Nord-Amerika","2024-01-06","20/24",null,null,null," "," ",null,{"$f":"IFERROR(AVERAGEIF(Eingabe!$I$2:$I$1276, \"MSLP\", Eingabe!$O$2:$O$1276), 0)","v":0}]
["MUCC","Jardines del Ray","Basis","Kuba",{"$f":"COUNTIF(Eingabe!$F$2:$H$1276,\"MUCU\")","v":0},{"$f":"COUNTIF(Eingabe!$I$2:$K$1276,\"MUCU\")","v":0},null,"2.0.0","CCC","Nord-Amerika","2025-02-07","20/24",null,null,null," "," ",null,{"$f":"IFERROR(AVERAGEIF(Eingabe!$I$2:$I$1276, \"MUCC\", Eingabe!$O$2:$O$1276), 0)","v":0}]
["MUHA","Havanna","Basis","Kuba",{"$f":"COUNTIF(Eingabe!$F$2:$H$1276,\"MUHA\")","v":0},{"$f":"COUNTIF(Eingabe!$I$2:$K$1276,\"MUHA\")","v":0},"mexhighflight","2.0.0","HAV","Nord-Amerika","2022-09-04","20/24",null,null,null," "," ",null,{"$f":"IFERROR(AVERAGEIF(Eingabe!$I$2:$I$1276, \"MUHA\", Eingabe!$O$2:$O$1276), 0)","v":0}]
["MUHG","Frank Pais / Holguin","Basis","Kuba",{"$f":"COUNTIF(Eingabe!$F$2:$H$1276,\"MUHG\")","v":0},{"$f":"COUNTIF(Eingabe!$I$2:$K$1276,\"MUHG\")","v":0},"sgscenerys","1.0.0","HOG","Nord-Amerika","2024-05-04","20/24",null,null,null," "," ",null,{"$f":"IFERROR(AVERAGEIF(Eingabe!$I$2:$I$1276, \"MUHG\", Eingabe!$O$2:$O$1276), 0)","v":0}]
["MYAM","Marsh Harbour","Basis","Bahamas",{"$f":"COUNTIF(Eingabe!$F$2:$H$1276,\"MYAM\")","v":0},{"$f":"COUNTIF(Eingabe!$I$2:$K$1276,\"MYAM\")","v":0},"Astralis Studio","1.0.0","FPO","Nord-Amerika","2026-07-12","20/24",null,null,null," "," ",null,{"$f":"IFERROR(AVERAGEIF(Eingabe!$I$2:$I$1276, \"MYAM\", Eingabe!$O$2:$O$1276), 0)","v":0}]
["MYGF","Grand Bahama Intl.","Basis","Bahamas",{"$f":"COUNTIF(Eingabe!$F$2:$H$1276,\"MYGF\")","v":0},{"$f":"COUNTIF(Eingabe!$I$2:$K$1276,\"MYGF\")","v":0},"wingsim","1.1.0","FPO","Nord-Amerika","2024-02-29","20/24",null,null,null," "," ",null,{"$f":"IFERROR(AVERAGEIF(Eingabe!$I$2:$I$1276, \"MYGF\", Eingabe!$O$2:$O$1276), 0)","v":0}]
["MYNN","Nassau - Lynden Pindling","Basis","Bahamas",{"$f":"COUNTIF(Eingabe!$F$2:$H$1276,\"MYNN\")","v":0},{"$f":"COUNTIF(Eingabe!$I$2:$K$1276,\"MYnn\")","v":0},"sierrasim","2.1.1","NAS","Nord-Amerika","2026-01-22",24,null,null,null," "," ",null,{"$f":"IFERROR(AVERAGEIF(Eingabe!$I$2:$I$1276, \"MYNN\", Eingabe!$O$2:$O$1276), 0)","v":0}]
["MZBZ","Philip S. W. Goldson / Belize","Basis","Belize",{"$f":"COUNTIF(Eingabe!$F$2:$H$1276,\"MZBZ\")","v":0},{"$f":"COUNTIF(Eingabe!$I$2:$K$1276,\"MZBZ\")","v":0},"fsxcenery","2.3.0","BZE","Nord-Amerika","2025-10-22","20/24",null,null,null," "," ",null,{"$f":"IFERROR(AVERAGEIF(Eingabe!$I$2:$I$1276, \"MZBZ\", Eingabe!$O$2:$O$1276), 0)","v":0}]
["NCRG","Rarotonga","Basis","Cook Islands",{"$f":"COUNTIF(Eingabe!$F$2:$H$1276,\"NFFN\")","v":0},{"$f":"COUNTIF(Eingabe!$I$2:$K$1276,\"NFFN\")","v":0},"kiwiflightsim","1.1.0","RAR","Ozeanien","2026-03-10","20/24",null,null,null," "," ",null,{"$f":"IFERROR(AVERAGEIF(Eingabe!$I$2:$I$1276, \"NCRG\", Eingabe!$O$2:$O$1276), 0)","v":0}]
["NFFN","Nadi Fiji","Basis","Fidschi",{"$f":"COUNTIF(Eingabe!$F$2:$H$1276,\"NFFN\")","v":0},{"$f":"COUNTIF(Eingabe!$I$2:$K$1276,\"NFFN\")","v":0},"inibuilds","1.0.3","NAN","Ozeanien","2025-11-15","20/24",null,null,null," "," ",null,{"$f":"IFERROR(AVERAGEIF(Eingabe!$I$2:$I$1276, \"NFFN\", Eingabe!$O$2:$O$1276), 0)","v":0}]
["NSFA","Faleolo","Basis","Samoa",{"$f":"COUNTIF(Eingabe!$F$2:$H$1276,\"NSFA\")","v":0},{"$f":"COUNTIF(Eingabe!$I$2:$K$1276,\"NSFA\")","v":0},"kiwiflightsim","1.0.0","APW","Ozeanien","2025-07-03","20/24",null,null,null," "," ",null,{"$f":"IFERROR(AVERAGEIF(Eingabe!$I$2:$I$1276, \"NSFA\", Eingabe!$O$2:$O$1276), 0)","v":0}]
["NTAA","franz. Poliniesien","Basis","Tahiti Faa’a",{"$f":"COUNTIF(Eingabe!$F$2:$H$1276,\"NTAA\")","v":0},{"$f":"COUNTIF(Eingabe!$I$2:$K$1276,\"NTAA\")","v":0},"mexhighflight","1.5.0","PPT","Ozeanien","2023-11-02","20/24",null,null,null," "," ",null,{"$f":"IFERROR(AVERAGEIF(Eingabe!$I$2:$I$1276, \"NTAA\", Eingabe!$O$2:$O$1276), 0)","v":0}]
["NWWW","La Tontouta","Basis","Neukaledonien",{"$f":"COUNTIF(Eingabe!$F$2:$H$1276,\"NWWW\")","v":0},{"$f":"COUNTIF(Eingabe!$I$2:$K$1276,\"NWWW\")","v":0},"sierrasim","2.1.1","NOU","Ozeanien","2026-02-02",24,null,null,null," "," ",null,{"$f":"IFERROR(AVERAGEIF(Eingabe!$I$2:$I$1276, \"NWWW\", Eingabe!$O$2:$O$1276), 0)","v":0}]
["NZAA","Auckland","Basis","Neuseeland",{"$f":"COUNTIF(Eingabe!$F$2:$H$1276,\"NZAA\")","v":0},{"$f":"COUNTIF(Eingabe!$I$2:$K$1276,\"NZAA\")","v":0},"flightbeam","1.2.0","OOL","Ozeanien","2023-03-04","20/24",null,null,null," "," ",null,{"$f":"IFERROR(AVERAGEIF(Eingabe!$I$2:$I$1276, \"NZAA\", Eingabe!$O$2:$O$1276), 0)","v":0}]
["NZCH","Christchurch","Basis","Neuseeland",{"$f":"COUNTIF(Eingabe!$F$2:$H$1276,\"NZCH\")","v":0},{"$f":"COUNTIF(Eingabe!$I$2:$K$1276,\"NZCH\")","v":0},"nzasimulations","1.0.0","CHC","Ozeanien","2024-11-27",24,null,null,null," "," ",null,{"$f":"IFERROR(AVERAGEIF(Eingabe!$I$2:$I$1276, \"NZCH\", Eingabe!$O$2:$O$1276), 0)","v":0}]
["NZDN","Dunedin","Basis","Neuseeland",{"$f":"COUNTIF(Eingabe!$F$2:$H$1276,\"NZDN\")","v":0},{"$f":"COUNTIF(Eingabe!$I$2:$K$1276,\"NZDN\")","v":0},"xwindstudios","1.1.0","DUD","Ozeanien","2024-04-16","20/24",null,null,null," "," ",null,{"$f":"IFERROR(AVERAGEIF(Eingabe!$I$2:$I$1276, \"NZDN\", Eingabe!$O$2:$O$1276), 0)","v":0}]
["NZHK","Hokitika","Basis","Neuseeland",{"$f":"COUNTIF(Eingabe!$F$2:$H$1276,\"NZHK\")","v":0},{"$f":"COUNTIF(Eingabe!$I$2:$K$1276,\"NZHK\")","v":0},"kiwiflightsim","1.0.2","HKK","Ozeanien","2026-03-20","20/24",null,null,null," "," ",null,{"$f":"IFERROR(AVERAGEIF(Eingabe!$I$2:$I$1276, \"NZHK\", Eingabe!$O$2:$O$1276), 0)","v":0}]
["NZNS","Nelson","Basis","Neuseeland",{"$f":"COUNTIF(Eingabe!$F$2:$H$1276,\"NZNS\")","v":0},{"$f":"COUNTIF(Eingabe!$I$2:$K$1276,\"NZNS\")","v":0},"nzasimulations","1.0.0","NSN","Ozeanien","2024-12-02",24,null,null,null," "," ",null,{"$f":"IFERROR(AVERAGEIF(Eingabe!$I$2:$I$1276, \"NZNS\", Eingabe!$O$2:$O$1276), 0)","v":0}]
["NZNV","Invercargill","Basis","Neuseeland",{"$f":"COUNTIF(Eingabe!$F$2:$H$1276,\"NZNV\")","v":0},{"$f":"COUNTIF(Eingabe!$I$2:$K$1276,\"NZNV\")","v":0},"Astralis Studio","1.0.0","IVC","Ozeanien","2025-10-07","20/24",null,null,null," "," ",null,{"$f":"IFERROR(AVERAGEIF(Eingabe!$I$2:$I$1276, \"NZNV\", Eingabe!$O$2:$O$1276), 0)","v":0}]
["NZPM","Palmerston North","Basis","Neuseeland",{"$f":"COUNTIF(Eingabe!$F$2:$H$1276,\"NZPM\")","v":0},{"$f":"COUNTIF(Eingabe!$I$2:$K$1276,\"NZPM\")","v":0},"xwindstudios","1.1.1","PMR","Ozeanien","2025-08-14","20/24",null,null,null," "," ",null,{"$f":"IFERROR(AVERAGEIF(Eingabe!$I$2:$I$1276, \"NZPM\", Eingabe!$O$2:$O$1276), 0)","v":0}]
["NZQN","Queenstown","Basis","Neuseeland",{"$f":"COUNTIF(Eingabe!$F$2:$H$1276,\"NZQN\")","v":0},{"$f":"COUNTIF(Eingabe!$I$2:$K$1276,\"NZQN\")","v":0},"inibuilds","1.0.3","ZQN","Ozeanien","2023-05-04","20/24",null,null,null," "," ",null,{"$f":"IFERROR(AVERAGEIF(Eingabe!$I$2:$I$1276, \"NZQN\", Eingabe!$O$2:$O$1276), 0)","v":0}]
["NZTG","Tauranga","Basis","Neuseeland",{"$f":"COUNTIF(Eingabe!$F$2:$H$1276,\"NZTG\")","v":0},{"$f":"COUNTIF(Eingabe!$I$2:$K$1276,\"NZTG\")","v":0},"nzasimulations","1.0.0","TRG","Ozeanien","2024-11-27",24,null,null,null," "," ",null,{"$f":"IFERROR(AVERAGEIF(Eingabe!$I$2:$I$1276, \"NZTG\", Eingabe!$O$2:$O$1276), 0)","v":0}]
["NZWF","Wanaka","Basis","Neuseeland",{"$f":"COUNTIF(Eingabe!$F$2:$H$1276,\"NZWF\")","v":0},{"$f":"COUNTIF(Eingabe!$I$2:$K$1276,\"NZWF\")","v":0},"nzasimulations","2.0.0","WKA","Ozeanien","2025-12-13",24,null,null,null," "," ",null,{"$f":"IFERROR(AVERAGEIF(Eingabe!$I$2:$I$1276, \"NZWF\", Eingabe!$O$2:$O$1276), 0)","v":0}]
["NZWN","Wellington","Basis","Neuseeland",{"$f":"COUNTIF(Eingabe!$F$2:$H$1276,\"NZWN\")","v":0},{"$f":"COUNTIF(Eingabe!$I$2:$K$1276,\"NZWN\")","v":0},"flightbeam","1.1.1","WLG","Ozeanien","2025-11-05","20/24",null,null,null," "," ",null,{"$f":"IFERROR(AVERAGEIF(Eingabe!$I$2:$I$1276, \"NZWN\", Eingabe!$O$2:$O$1276), 0)","v":0}]
["OBBI","Bahrain Intl.","Basis","Bahrain",{"$f":"COUNTIF(Eingabe!$F$2:$H$1276,\"OBBI\")","v":0},{"$f":"COUNTIF(Eingabe!$I$2:$K$1276,\"OBBI\")","v":0},"mfsg","2.4.1","BAH","Asien","2025-12-13","20/24",null,null,null," "," ",null,{"$f":"IFERROR(AVERAGEIF(Eingabe!$I$2:$I$1276, \"OBBI\", Eingabe!$O$2:$O$1276), 0)","v":0}]
["OEAB","Abha","Basis","Saudi Arabien",{"$f":"COUNTIF(Eingabe!$F$2:$H$1276,\"OEAB\")","v":0},{"$f":"COUNTIF(Eingabe!$I$2:$K$1276,\"OEAB\")","v":0},"tuwaiqdesigns","1.0.1","AHB","Asien","2024-11-22","20/24",null,null,null,{"$f":"IF(E663=0,\" \",\"✔️\")","v":" "},{"$f":"IF(F663=0,\" \",\"✔️\")","v":" "},null,{"$f":"IFERROR(AVERAGEIF(Eingabe!$I$2:$I$1276, \"OEAB\", Eingabe!$O$2:$O$1276), 0)","v":0}]
["OEAO","Prince Abdul-Majeed","Basis","Saudi Arabien",{"$f":"COUNTIF(Eingabe!$F$2:$H$1276,\"OEAO\")","v":0},{"$f":"COUNTIF(Eingabe!$I$2:$K$1276,\"OEAO\")","v":0},"tuwaiqdesigns","1.0.0","ULH","Asien","2024-08-01","20/24",null,null,null," "," ",null,{"$f":"IFERROR(AVERAGEIF(Eingabe!$I$2:$I$1276, \"OEAO\", Eingabe!$O$2:$O$1276), 0)","v":0}]
["OEDF","Dammam King Fhad","Basis","Saudi Arabien",{"$f":"COUNTIF(Eingabe!$F$2:$H$1276,\"OEDF\")","v":0},{"$f":"COUNTIF(Eingabe!$I$2:$K$1276,\"OEDF\")","v":0},"vertex","1.0.0","DMM","Asien","2025-06-19","20/24",null,null,null," "," ",null,{"$f":"IFERROR(AVERAGEIF(Eingabe!$I$2:$I$1276, \"OEDF\", Eingabe!$O$2:$O$1276), 0)","v":0}]
["OEJN","Jeddah","Basis","Saudi Arabien",{"$f":"COUNTIF(Eingabe!$F$2:$H$1276,\"OEJN\")","v":0},{"$f":"COUNTIF(Eingabe!$I$2:$K$1276,\"OEJN\")","v":0},"azrsim","1.0.3","JED","Asien","2026-07-12",24,null,null,null," "," ",null,{"$f":"IFERROR(AVERAGEIF(Eingabe!$I$2:$I$1276, \"OEJN\", Eingabe!$O$2:$O$1276), 0)","v":0}]
["OEMA","Medina Intl.","Basis","Saudi Arabien",{"$f":"COUNTIF(Eingabe!$F$2:$H$1276,\"OEMA\")","v":0},{"$f":"COUNTIF(Eingabe!$I$2:$K$1276,\"OEMA\")","v":0},"HawkSkullz","1.1.1","MED","Asien","2024-09-21","20/24",null,null,null," "," ",null,{"$f":"IFERROR(AVERAGEIF(Eingabe!$I$2:$I$1276, \"OEMA\", Eingabe!$O$2:$O$1276), 0)","v":0}]
["OENN","Neom Bay","Basis","Saudi Arabien",{"$f":"COUNTIF(Eingabe!$F$2:$H$1276,\"OENN\")","v":0},{"$f":"COUNTIF(Eingabe!$I$2:$K$1276,\"OENN\")","v":0},"tuwaiqdesigns","2.0.0","NUM","Asien","2026-02-12","20/24",null,null,null," "," ",null,{"$f":"IFERROR(AVERAGEIF(Eingabe!$I$2:$I$1276, \"OENN\", Eingabe!$O$2:$O$1276), 0)","v":0}]
["OERK","Riad - King Kalid","Basis","Saudi Arabien",{"$f":"COUNTIF(Eingabe!$F$2:$H$1276,\"OERK\")","v":0},{"$f":"COUNTIF(Eingabe!$I$2:$K$1276,\"OERK\")","v":0},"azrsim","3.7.0","RUH","Asien","2025-08-14","20/24",null,null,null," "," ",null,{"$f":"IFERROR(AVERAGEIF(Eingabe!$I$2:$I$1276, \"OERK\", Eingabe!$O$2:$O$1276), 0)","v":0}]
["OIBK","Kish","Basis","Iran",{"$f":"COUNTIF(Eingabe!$F$2:$H$1276,\"OIBK\")","v":0},{"$f":"COUNTIF(Eingabe!$I$2:$K$1276,\"OIBK\")","v":0},"funofflying","1.0.0","KIH","Asien","2026-02-19","20/24",null,null,null," "," ",null,{"$f":"IFERROR(AVERAGEIF(Eingabe!$I$2:$I$1276, \"OIBK\", Eingabe!$O$2:$O$1276), 0)","v":0}]
["OIIE","Teheran","Basis","Iran",{"$f":"COUNTIF(Eingabe!$F$2:$H$1276,\"OIIE\")","v":0},{"$f":"COUNTIF(Eingabe!$I$2:$K$1276,\"OIIE\")","v":0},"homasim","1.1.4","IKA","Asien","2021-10-14","20/24",null,null,null," "," ",null,{"$f":"IFERROR(AVERAGEIF(Eingabe!$I$2:$I$1276, \"OIIE\", Eingabe!$O$2:$O$1276), 0)","v":0}]
["OINR","Ramsar","Basis","Iran",{"$f":"COUNTIF(Eingabe!$F$2:$H$1276,\"OINR\")","v":0},{"$f":"COUNTIF(Eingabe!$I$2:$K$1276,\"OINR\")","v":0},"funofflying","1.1.0","RZR","Asien","2024-05-11","20/24",null,null,null," "," ",null,{"$f":"IFERROR(AVERAGEIF(Eingabe!$I$2:$I$1276, \"OINR\", Eingabe!$O$2:$O$1276), 0)","v":0}]
["OISL","Larestan","Basis","Iran",{"$f":"COUNTIF(Eingabe!$F$2:$H$1276,\"OISL\")","v":0},{"$f":"COUNTIF(Eingabe!$I$2:$K$1276,\"OISL\")","v":0},"alkee","1.0.0","LRR","Asien","2024-02-02","20/24",null,null,null," "," ",null,{"$f":"IFERROR(AVERAGEIF(Eingabe!$I$2:$I$1276, \"OISL\", Eingabe!$O$2:$O$1276), 0)","v":0}]
["OJAI","Amman-Queen Alia Intl.","Basis","Jordanien",{"$f":"COUNTIF(Eingabe!$F$2:$H$1276,\"OJAI\")","v":0},{"$f":"COUNTIF(Eingabe!$I$2:$K$1276,\"OJAI\")","v":0},"Double T","1.0.0","AMM","Asien","2022-12-16","20/24",null,null,null," "," ",null,{"$f":"IFERROR(AVERAGEIF(Eingabe!$I$2:$I$1276, \"OJAI\", Eingabe!$O$2:$O$1276), 0)","v":0}]
["OJAQ","Akaba - King Hussein","Basis","Jordanien",{"$f":"COUNTIF(Eingabe!$F$2:$H$1276,\"OJAQ\")","v":0},{"$f":"COUNTIF(Eingabe!$I$2:$K$1276,\"OJAQ\")","v":0},"mfsg","1.3.1","AQJ","Asien","2025-12-13","20/24",null,null,null," "," ",null,{"$f":"IFERROR(AVERAGEIF(Eingabe!$I$2:$I$1276, \"OJAQ\", Eingabe!$O$2:$O$1276), 0)","v":0}]
["OLBA","Beirut Intl.","Basis","Libanon",{"$f":"COUNTIF(Eingabe!$F$2:$H$1276,\"OLBA\")","v":0},{"$f":"COUNTIF(Eingabe!$I$2:$K$1276,\"OLBA\")","v":0},"mfsg","1.1.0","BEY","Asien","2025-07-21","20/24",null,null,null," "," ",null,{"$f":"IFERROR(AVERAGEIF(Eingabe!$I$2:$I$1276, \"OLBA\", Eingabe!$O$2:$O$1276), 0)","v":0}]
["OMAA","Abu Dhabi","Basis","VAE",{"$f":"COUNTIF(Eingabe!$F$2:$H$1276,\"OMAA\")","v":0},{"$f":"COUNTIF(Eingabe!$I$2:$K$1276,\"OMAA\")","v":0},"inibuilds","1.0.3","AUH","Asien","2025-07-30","20/24",null,null,null," "," ",null,{"$f":"IFERROR(AVERAGEIF(Eingabe!$I$2:$I$1276, \"OMAA\", Eingabe!$O$2:$O$1276), 0)","v":0}]
["OMDB","Dubai","Basis","VAE",{"$f":"COUNTIF(Eingabe!$F$2:$H$1276,\"OMDB\")","v":0},{"$f":"COUNTIF(Eingabe!$I$2:$K$1276,\"OMDB\")","v":0},"inibuilds","1.0.0","DXB","Asien","2025-02-14",24,null,null,null," "," ",null,{"$f":"IFERROR(AVERAGEIF(Eingabe!$I$2:$I$1276, \"OMDB\", Eingabe!$O$2:$O$1276), 0)","v":0}]
["OMRK","Ras-al-Khaimah","Basis","VAE",{"$f":"COUNTIF(Eingabe!$F$2:$H$1276,\"OMRK\")","v":0},{"$f":"COUNTIF(Eingabe!$I$2:$K$1276,\"OMRK\")","v":0},"HawkSkullz","1.0.0","RKT","Asien","2024-06-18","20/24",null,null,null," "," ",null,{"$f":"IFERROR(AVERAGEIF(Eingabe!$I$2:$I$1276, \"OMRK\", Eingabe!$O$2:$O$1276), 0)","v":0}]
["OMSJ","Schardscha","Basis","VAE",{"$f":"COUNTIF(Eingabe!$F$2:$H$1276,\"OMSJ\")","v":0},{"$f":"COUNTIF(Eingabe!$I$2:$K$1276,\"OMSJ\")","v":0},"mskproductions","2.0.1","SHJ","Asien","2023-12-23","20/24",null,null,null," "," ",null,{"$f":"IFERROR(AVERAGEIF(Eingabe!$I$2:$I$1276, \"OMSJ\", Eingabe!$O$2:$O$1276), 0)","v":0}]
["OOMS","Muskat","Basis","Oman",{"$f":"COUNTIF(Eingabe!$F$2:$H$1276,\"OOMS\")","v":0},{"$f":"COUNTIF(Eingabe!$I$2:$K$1276,\"OOMS\")","v":0},"Double T","1.0.0","MCT","Asien","2022-10-11","20/24",null,null,null," "," ",null,{"$f":"IFERROR(AVERAGEIF(Eingabe!$I$2:$I$1276, \"OOMS\", Eingabe!$O$2:$O$1276), 0)","v":0}]
["OOSA","Salalah Intl.","Basis","Oman",{"$f":"COUNTIF(Eingabe!$F$2:$H$1276,\"OOSA\")","v":0},{"$f":"COUNTIF(Eingabe!$I$2:$K$1276,\"OOSA\")","v":0},"simsoft","1.0.0","SLL","Asien","2024-11-14","20/24",null,null,null," "," ",null,{"$f":"IFERROR(AVERAGEIF(Eingabe!$I$2:$I$1276, \"OOSA\", Eingabe!$O$2:$O$1276), 0)","v":0}]
["OPIS","Islamabad Intl.","Basis","Pakistan",{"$f":"COUNTIF(Eingabe!$F$2:$H$1276,\"OPIS\")","v":0},{"$f":"COUNTIF(Eingabe!$I$2:$K$1276,\"OPIS\")","v":0},"simarc","1.2.0","ISB","Asien","2022-04-12","20/24",null,null,null," "," ",null,{"$f":"IFERROR(AVERAGEIF(Eingabe!$I$2:$I$1276, \"OPIS\", Eingabe!$O$2:$O$1276), 0)","v":0}]
["OPKC","Karachi/Jinnah Intl.","Basis","Pakistan",{"$f":"COUNTIF(Eingabe!$F$2:$H$1276,\"OPKC\")","v":0},{"$f":"COUNTIF(Eingabe!$I$2:$K$1276,\"OPKC\")","v":0},"mskproductions","1.1.1","KHI","Asien","2024-02-23","20/24",null,null,null," "," ",null,{"$f":"IFERROR(AVERAGEIF(Eingabe!$I$2:$I$1276, \"OPKC\", Eingabe!$O$2:$O$1276), 0)","v":0}]
["ORBI","Baghdad","Basis","Irak",{"$f":"COUNTIF(Eingabe!$F$2:$H$1276,\"ORBI\")","v":0},{"$f":"COUNTIF(Eingabe!$I$2:$K$1276,\"ORBI\")","v":0},"azrsim","1.1.1","BGW","Asien","2025-08-14","20/24",null,null,null," "," ",null,{"$f":"IFERROR(AVERAGEIF(Eingabe!$I$2:$I$1276, \"ORBI\", Eingabe!$O$2:$O$1276), 0)","v":0}]
["ORMM","Basrah","Basis","Irak",{"$f":"COUNTIF(Eingabe!$F$2:$H$1276,\"ORMM\")","v":0},{"$f":"COUNTIF(Eingabe!$I$2:$K$1276,\"ORMM\")","v":0},"azrsim","3.0.0","BSR","Asien","2026-05-25",24,null,null,null," "," ",null,{"$f":"IFERROR(AVERAGEIF(Eingabe!$I$2:$I$1276, \"ORMM\", Eingabe!$O$2:$O$1276), 0)","v":0}]
["OTHH","Doha - Hamad Intl.","Basis","Katar",{"$f":"COUNTIF(Eingabe!$F$2:$H$1276,\"OTHH\")","v":0},{"$f":"COUNTIF(Eingabe!$I$2:$K$1276,\"OTHH\")","v":0},"inibuilds","1.0.4","DOH","Asien","2025-08-06",24,null,null,null," "," ",null,{"$f":"IFERROR(AVERAGEIF(Eingabe!$I$2:$I$1276, \"OTHH\", Eingabe!$O$2:$O$1276), 0)","v":0}]
["OYAA","Aden","Basis","Jemen",{"$f":"COUNTIF(Eingabe!$F$2:$H$1276,\"OYAA\")","v":0},{"$f":"COUNTIF(Eingabe!$I$2:$K$1276,\"OYAA\")","v":0},"fsxcenery","2.0.0","ADE","Asien","2024-01-06","20/24",null,null,null," "," ",null,{"$f":"IFERROR(AVERAGEIF(Eingabe!$I$2:$I$1276, \"OYAA\", Eingabe!$O$2:$O$1276), 0)","v":0}]
["PAEN","Kenai Municipal / Alaska","Basis","USA",{"$f":"COUNTIF(Eingabe!$F$2:$H$1276,\"PAEN\")","v":0},{"$f":"COUNTIF(Eingabe!$I$2:$K$1276,\"PAEN\")","v":0},"Northern Sky Studio","1.3.0","ENA","Nord-Amerika","2025-10-14","20/24",null,null,null," "," ",null,{"$f":"IFERROR(AVERAGEIF(Eingabe!$I$2:$I$1276, \"PAEN\", Eingabe!$O$2:$O$1276), 0)","v":0}]
["PAJN","Juneau Intl./Alaska","Basis","USA",{"$f":"COUNTIF(Eingabe!$F$2:$H$1276,\"PAJN\")","v":0},{"$f":"COUNTIF(Eingabe!$I$2:$K$1276,\"PAJN\")","v":0},"Northern Sky Studio","1.3.0","JNU","Nord-Amerika","2025-07-03","20/24",null,null,null," "," ",null,{"$f":"IFERROR(AVERAGEIF(Eingabe!$I$2:$I$1276, \"PAJN\", Eingabe!$O$2:$O$1276), 0)","v":0}]
["PAKT","Ketchikan / Alaska","Basis","USA",{"$f":"COUNTIF(Eingabe!$F$2:$H$1276,\"PAKT\")","v":0},{"$f":"COUNTIF(Eingabe!$I$2:$K$1276,\"PAKT\")","v":0},"Northern Sky Studio","1.6.0","KTN","Nord-Amerika","2025-07-03","20/24",null,null,null," "," ",null,{"$f":"IFERROR(AVERAGEIF(Eingabe!$I$2:$I$1276, \"PAKT\", Eingabe!$O$2:$O$1276), 0)","v":0}]
["PANC","Anchorage/Alaska","Basis","USA",{"$f":"COUNTIF(Eingabe!$F$2:$H$1276,\"PANC\")","v":0},{"$f":"COUNTIF(Eingabe!$I$2:$K$1276,\"PANC\")","v":0},"simwings","1.1.0","ANC","Nord-Amerika","2025-01-14","20/24",null,null,null," "," ",null,{"$f":"IFERROR(AVERAGEIF(Eingabe!$I$2:$I$1276, \"PANC\", Eingabe!$O$2:$O$1276), 0)","v":0}]
["PAPG","Petersburg James A. Johnson","Basis","USA",{"$f":"COUNTIF(Eingabe!$F$2:$H$1276,\"PAPG\")","v":0},{"$f":"COUNTIF(Eingabe!$I$2:$K$1276,\"PAPG\")","v":0},"Northern Sky Studio","1.2.1","PSG","Nord-Amerika","2026-06-05","20/24",null,null,null," "," ",null,{"$f":"IFERROR(AVERAGEIF(Eingabe!$I$2:$I$1276, \"PAPG\", Eingabe!$O$2:$O$1276), 0)","v":0}]
["PASI","Sitka Rocky Gutierrez / Alaska","Basis","USA",{"$f":"COUNTIF(Eingabe!$F$2:$H$1276,\"PASI\")","v":0},{"$f":"COUNTIF(Eingabe!$I$2:$K$1276,\"PASI\")","v":0},"Northern Sky Studio","1.1.0","SIT","Nord-Amerika","2025-09-11","20/24",null,null,null," "," ",null,{"$f":"IFERROR(AVERAGEIF(Eingabe!$I$2:$I$1276, \"PASI\", Eingabe!$O$2:$O$1276), 0)","v":0}]
["PAWG","Wrangell/Alaska","Basis","USA",{"$f":"COUNTIF(Eingabe!$F$2:$H$1276,\"PAWG\")","v":0},{"$f":"COUNTIF(Eingabe!$I$2:$K$1276,\"PAWG\")","v":0},"Northern Sky Studio","1.3.1","WRG","Nord-Amerika","2025-10-14","20/24",null,null,null,{"$f":"IF(E695=0,\" \",\"✔️\")","v":" "},{"$f":"IF(F695=0,\" \",\"✔️\")","v":" "},null,{"$f":"IFERROR(AVERAGEIF(Eingabe!$I$2:$I$1276, \"PAWG\", Eingabe!$O$2:$O$1276), 0)","v":0}]
["PAYA","Yakutat/Alaska","Basis","USA",{"$f":"COUNTIF(Eingabe!$F$2:$H$1276,\"PAYA\")","v":0},{"$f":"COUNTIF(Eingabe!$I$2:$K$1276,\"PAYA\")","v":0},"Northern Sky Studio","1.3.0","YAK","Nord-Amerika","2026-06-05","20/24",null,null,null," "," ",null,{"$f":"IFERROR(AVERAGEIF(Eingabe!$I$2:$I$1276, \"PAYA\", Eingabe!$O$2:$O$1276), 0)","v":0}]
["PHLI","Lihue / Hawaii","Basis","USA",{"$f":"COUNTIF(Eingabe!$F$2:$H$1276,\"PHLI\")","v":0},{"$f":"COUNTIF(Eingabe!$I$2:$K$1276,\"PHLI\")","v":0},"NorthernSkyStudio","1.2.0","LIA","Nord-Amerika","2025-05-04","20/24",null,null,null," "," ",null,{"$f":"IFERROR(AVERAGEIF(Eingabe!$I$2:$I$1276, \"PHLI\", Eingabe!$O$2:$O$1276), 0)","v":0}]
["PHNL","Honolulu","Basis","USA",{"$f":"COUNTIF(Eingabe!$F$2:$H$1276,\"PHNL\")","v":0},{"$f":"COUNTIF(Eingabe!$I$2:$K$1276,\"PHNL\")","v":0},"inibuilds","1.2.3","HNL","Nord-Amerika","2026-05-25","20/24",null,null,null," "," ",null,{"$f":"IFERROR(AVERAGEIF(Eingabe!$I$2:$I$1276, \"PHNL\", Eingabe!$O$2:$O$1276), 0)","v":0}]
["PHOG","Kahului / Hawaii","Basis","USA",{"$f":"COUNTIF(Eingabe!$F$2:$H$1276,\"PHOG\")","v":0},{"$f":"COUNTIF(Eingabe!$I$2:$K$1276,\"PHOG\")","v":0},"Northern Sky Studio","1.4.0","OGG","Nord-Amerika","2025-05-04","20/24",null,null,null," "," ",null,{"$f":"IFERROR(AVERAGEIF(Eingabe!$I$2:$I$1276, \"PHOG\", Eingabe!$O$2:$O$1276), 0)","v":0}]
["RCKH","Kaohsiung","Basis","Japan",{"$f":"COUNTIF(Eingabe!$F$2:$H$1276,\"RCKH\")","v":0},{"$f":"COUNTIF(Eingabe!$I$2:$K$1276,\"RCKH\")","v":0},"ACO Design Studio","1.0.0",null,"Asien","2026-03-20",24,null,null,null," "," ",null,{"$f":"IFERROR(AVERAGEIF(Eingabe!$I$2:$I$1276, \"RCKH\", Eingabe!$O$2:$O$1276), 0)","v":0}]
["RCKW","Hengchun","Basis","Taiwan",{"$f":"COUNTIF(Eingabe!$F$2:$H$1276,\"RCKW\")","v":0},{"$f":"COUNTIF(Eingabe!$I$2:$K$1276,\"RCKW\")","v":0},"fsformosa","2.0.0","HCN","Asien","2025-10-22","20/24",null,null,null," "," ",null,{"$f":"IFERROR(AVERAGEIF(Eingabe!$I$2:$I$1276, \"RCKW\", Eingabe!$O$2:$O$1276), 0)","v":0}]
["RCQC","Penghu","Basis","Taiwan",{"$f":"COUNTIF(Eingabe!$F$2:$H$1276,\"RCQC\")","v":0},{"$f":"COUNTIF(Eingabe!$I$2:$K$1276,\"RCQC\")","v":0},"fsformosa","2.5.7","MZG","Asien","2024-12-02","20/24",null,null,null," "," ",null,{"$f":"IFERROR(AVERAGEIF(Eingabe!$I$2:$I$1276, \"RCQC\", Eingabe!$O$2:$O$1276), 0)","v":0}]
["RCSS","Teipei City","Basis","Taiwan",{"$f":"COUNTIF(Eingabe!$F$2:$H$1276,\"RCSS\")","v":0},{"$f":"COUNTIF(Eingabe!$I$2:$K$1276,\"RCSS\")","v":0},"ACO Design Studio","1.0.0","TSA","Asien","2025-07-30",24,null,null,null," "," ",null,{"$f":"IFERROR(AVERAGEIF(Eingabe!$I$2:$I$1276, \"RCSS\", Eingabe!$O$2:$O$1276), 0)","v":0}]
["RCTP","Taiwan Taoyuan","Basis","Taiwan",{"$f":"COUNTIF(Eingabe!$F$2:$H$1276,\"RCTP\")","v":0},{"$f":"COUNTIF(Eingabe!$I$2:$K$1276,\"RCTP\")","v":0},"ACO Design Studio","1.3.1","TPE","Asien","2026-07-12",24,null,null,null," "," ",null,{"$f":"IFERROR(AVERAGEIF(Eingabe!$I$2:$I$1276, \"RCTP\", Eingabe!$O$2:$O$1276), 0)","v":0}]
["RJAA","Tokio - Narita Intl.","Basis","Japan",{"$f":"COUNTIF(Eingabe!$F$2:$H$1276,\"RJAA\")","v":0},{"$f":"COUNTIF(Eingabe!$I$2:$K$1276,\"RJAA\")","v":0},"drzewieckidesign","1.3.0","NRT","Asien","2023-04-26","20/24",null,null,null," "," ",null,{"$f":"IFERROR(AVERAGEIF(Eingabe!$I$2:$I$1276, \"RJAA\", Eingabe!$O$2:$O$1276), 0)","v":0}]
["RJBB","Kansai /Osaka","Basis","Japan",{"$f":"COUNTIF(Eingabe!$F$2:$H$1276,\"RJBB\")","v":0},{"$f":"COUNTIF(Eingabe!$I$2:$K$1276,\"RJBB\")","v":0},"technobrain","1.1.1","KIX","Asien","2026-02-02","20/24",null,null,null," "," ",null,{"$f":"IFERROR(AVERAGEIF(Eingabe!$I$2:$I$1276, \"RJBB\", Eingabe!$O$2:$O$1276), 0)","v":0}]
["RJBD","Nanki-Shirahama","Basis","Japan",{"$f":"COUNTIF(Eingabe!$F$2:$H$1276,\"RJBD\")","v":0},{"$f":"COUNTIF(Eingabe!$I$2:$K$1276,\"RJBD\")","v":0},"gate15scenery","0.3.0","SHM","Asien","2024-02-04","20/24",null,null,null," "," ",null,{"$f":"IFERROR(AVERAGEIF(Eingabe!$I$2:$I$1276, \"RJBD\", Eingabe!$O$2:$O$1276), 0)","v":0}]
["RJBE","Kobe","Basis","Japan",{"$f":"COUNTIF(Eingabe!$F$2:$H$1276,\"RJEB\")","v":0},{"$f":"COUNTIF(Eingabe!$I$2:$K$1276,\"RJEB\")","v":0},"devinci","1.1.0","UKB","Asien","2025-09-11","20/24",null,null,null," "," ",null,{"$f":"IFERROR(AVERAGEIF(Eingabe!$I$2:$I$1276, \"RJBE\", Eingabe!$O$2:$O$1276), 0)","v":0}]
["RJCC","Sapporo - Neu-Chitose","Basis","Japan",{"$f":"COUNTIF(Eingabe!$F$2:$H$1276,\"RJCC\")","v":0},{"$f":"COUNTIF(Eingabe!$I$2:$K$1276,\"RJCC\")","v":0},"dominicdesignteam","1.1.0","CTS","Asien","2022-05-25","20/24",null,null,null," "," ",null,{"$f":"IFERROR(AVERAGEIF(Eingabe!$I$2:$I$1276, \"RJCC\", Eingabe!$O$2:$O$1276), 0)","v":0}]
["RJCN","Nakashibetsu","Basis","Japan",{"$f":"COUNTIF(Eingabe!$F$2:$H$1276,\"RJCN\")","v":0},{"$f":"COUNTIF(Eingabe!$I$2:$K$1276,\"RJCN\")","v":0},"gate15scenery","0.2.0","SHB","Asien","2026-05-16","20/24",null,null,null," "," ",null,{"$f":"IFERROR(AVERAGEIF(Eingabe!$I$2:$I$1276, \"RJCN\", Eingabe!$O$2:$O$1276), 0)","v":0}]
["RJCW","Wakkanai","Basis","Japan",{"$f":"COUNTIF(Eingabe!$F$2:$H$1276,\"RJCW\")","v":0},{"$f":"COUNTIF(Eingabe!$I$2:$K$1276,\"RJCW\")","v":0},"simulacionextrema","1.5.0","WKJ","Asien","2025-04-17","20/24",null,null,null," "," ",null,{"$f":"IFERROR(AVERAGEIF(Eingabe!$I$2:$I$1276, \"RJCW\", Eingabe!$O$2:$O$1276), 0)","v":0}]
["RJFF","Fukuoka","Basis","Japan",{"$f":"COUNTIF(Eingabe!$F$2:$H$1276,\"RJFF\")","v":0},{"$f":"COUNTIF(Eingabe!$I$2:$K$1276,\"RJFF\")","v":0},"SNJ Sim","1.2.0","FUK","Asien","2025-06-26","20/24",null,null,null," "," ",null,{"$f":"IFERROR(AVERAGEIF(Eingabe!$I$2:$I$1276, \"RJFF\", Eingabe!$O$2:$O$1276), 0)","v":0}]
["RJFK","Kagoshima","Basis","Japan",{"$f":"COUNTIF(Eingabe!$F$2:$H$1276,\"RJFK\")","v":0},{"$f":"COUNTIF(Eingabe!$I$2:$K$1276,\"RJFK\")","v":0},"flyhigh","2.0.0","KOJ","Asien","2023-01-23","20/24",null,null,null," "," ",null,{"$f":"IFERROR(AVERAGEIF(Eingabe!$I$2:$I$1276, \"RJFK\", Eingabe!$O$2:$O$1276), 0)","v":0}]
["RJFM","Miyazaki","Basis","Japan",{"$f":"COUNTIF(Eingabe!$F$2:$H$1276,\"RJFM\")","v":0},{"$f":"COUNTIF(Eingabe!$I$2:$K$1276,\"RJFM\")","v":0},"flyhigh","3.0.0","KMI","Asien","2025-03-09","20/24",null,null,null," "," ",null,{"$f":"IFERROR(AVERAGEIF(Eingabe!$I$2:$I$1276, \"RJFM\", Eingabe!$O$2:$O$1276), 0)","v":0}]
["RJFR","Kitakyushu","Basis","Japan",{"$f":"COUNTIF(Eingabe!$F$2:$H$1276,\"RJFR\")","v":0},{"$f":"COUNTIF(Eingabe!$I$2:$K$1276,\"RJFR\")","v":0},"mfsg","1.3.0","KKJ","Asien","2025-05-19","20/24",null,null,null," "," ",null,{"$f":"IFERROR(AVERAGEIF(Eingabe!$I$2:$I$1276, \"RJFR\", Eingabe!$O$2:$O$1276), 0)","v":0}]
["RJFS","Saga","Basis","Japan",{"$f":"COUNTIF(Eingabe!$F$2:$H$1276,\"RJFs\")","v":0},{"$f":"COUNTIF(Eingabe!$I$2:$K$1276,\"RJFS\")","v":0},"SNJ Sim","1.0.1","HSG","Asien","2024-11-27","20/24",null,null,null," "," ",null,{"$f":"IFERROR(AVERAGEIF(Eingabe!$I$2:$I$1276, \"RJFS\", Eingabe!$O$2:$O$1276), 0)","v":0}]
["RJFT","Kumamoto","Basis","Japan",{"$f":"COUNTIF(Eingabe!$F$2:$H$1276,\"RJFT\")","v":0},{"$f":"COUNTIF(Eingabe!$I$2:$K$1276,\"RJFT\")","v":0},"SNJ Sim","1.0.0","ASO","Asien","2026-01-22","20/24",null,null,null," "," ",null,{"$f":"IFERROR(AVERAGEIF(Eingabe!$I$2:$I$1276, \"RJFT\", Eingabe!$O$2:$O$1276), 0)","v":0}]
["RJKA","Amami-Ōshima","Basis","Japan",{"$f":"COUNTIF(Eingabe!$F$2:$H$1276,\"RJKA\")","v":0},{"$f":"COUNTIF(Eingabe!$I$2:$K$1276,\"RJKA\")","v":0},"simulacionextrema","2.0.0","ASJ","Asien","2023-08-11","20/24",null,null,null," "," ",null,{"$f":"IFERROR(AVERAGEIF(Eingabe!$I$2:$I$1276, \"RJKA\", Eingabe!$O$2:$O$1276), 0)","v":0}]
["RJNS","Shizuoka","Basis","Japan",{"$f":"COUNTIF(Eingabe!$F$2:$H$1276,\"RJNS\")","v":0},{"$f":"COUNTIF(Eingabe!$I$2:$K$1276,\"RJNS\")","v":0},"mfsg","1.0.1","FSZ","Asien","2026-07-12",24,null,null,null,null,null,null,{"$f":"IFERROR(AVERAGEIF(Eingabe!$I$2:$I$1276, \"RJNS\", Eingabe!$O$2:$O$1276), 0)","v":0}]
["RJNT","Toyama","Basis","Japan",{"$f":"COUNTIF(Eingabe!$F$2:$H$1276,\"RJNT\")","v":0},{"$f":"COUNTIF(Eingabe!$I$2:$K$1276,\"RJNT\")","v":0},"mfsg","1.0.0","TOY","Asien","2022-07-05","20/24",null,null,null,{"$f":"IF(E720=0,\" \",\"✔️\")","v":" "},{"$f":"IF(F720=0,\" \",\"✔️\")","v":" "},null,{"$f":"IFERROR(AVERAGEIF(Eingabe!$I$2:$I$1276, \"RJNT\", Eingabe!$O$2:$O$1276), 0)","v":0}]
["RJOA","Hiroshima","Basis","Japan",{"$f":"COUNTIF(Eingabe!$F$2:$H$1276,\"RJOA\")","v":0},{"$f":"COUNTIF(Eingabe!$I$2:$K$1276,\"RJOA\")","v":0},"SNJ Sim","1.0.2","HIJ","Asien","2026-07-03","20/24",null,null,null,null,null,null,{"$f":"IFERROR(AVERAGEIF(Eingabe!$I$2:$I$1276, \"RJOA\", Eingabe!$O$2:$O$1276), 0)","v":0}]
["RJOK","Kochi-Ryoma","Basis","Japan",{"$f":"COUNTIF(Eingabe!$F$2:$H$1276,\"RJOK\")","v":0},{"$f":"COUNTIF(Eingabe!$I$2:$K$1276,\"RJOK\")","v":0},"mfsg","1.1.0","KCZ","Asien","2024-03-08","20/24",null,null,null,{"$f":"IF(E722=0,\" \",\"✔️\")","v":" "},{"$f":"IF(F722=0,\" \",\"✔️\")","v":" "},null,{"$f":"IFERROR(AVERAGEIF(Eingabe!$I$2:$I$1276, \"RJOK\", Eingabe!$O$2:$O$1276), 0)","v":0}]
["RJOR","Tottori","Basis","Japan",{"$f":"COUNTIF(Eingabe!$F$2:$H$1276,\"RJOR\")","v":0},{"$f":"COUNTIF(Eingabe!$I$2:$K$1276,\"RJOR\")","v":0},"gate15scenery","1.2.0","TTJ","Asien","2023-06-24","20/24",null,null,null," "," ",null,{"$f":"IFERROR(AVERAGEIF(Eingabe!$I$2:$I$1276, \"RJOR\", Eingabe!$O$2:$O$1276), 0)","v":0}]
["RJSA","Aomori","Basis","Japan",{"$f":"COUNTIF(Eingabe!$F$2:$H$1276,\"RJSA\")","v":0},{"$f":"COUNTIF(Eingabe!$I$2:$K$1276,\"RJSA\")","v":0},"mfsg","1.1.1","AOJ","Asien","2026-01-03","20/24",null,null,null," "," ",null,{"$f":"IFERROR(AVERAGEIF(Eingabe!$I$2:$I$1276, \"RJSA\", Eingabe!$O$2:$O$1276), 0)","v":0}]
["RJTT","Tokio-Haneda","Basis","Japan",{"$f":"COUNTIF(Eingabe!$F$2:$H$1276,\"RJTT\")","v":0},{"$f":"COUNTIF(Eingabe!$I$2:$K$1276,\"RJTT\")","v":0},"ASOBO","000","HND","Asien",null,24,null,null,null," "," ",null,{"$f":"IFERROR(AVERAGEIF(Eingabe!$I$2:$I$1276, \"RJTT\", Eingabe!$O$2:$O$1276), 0)","v":0}]
["RKJB","MUAN","Basis","Südkorea",{"$f":"COUNTIF(Eingabe!$F$2:$H$1276,\"RKJB\")","v":0},{"$f":"COUNTIF(Eingabe!$I$2:$K$1276,\"RKJB\")","v":0},"flyhigh","2.1.0","MWX","Asien","2025-11-23","20/24",null,null,null," "," ",null,{"$f":"IFERROR(AVERAGEIF(Eingabe!$I$2:$I$1276, \"RKJB\", Eingabe!$O$2:$O$1276), 0)","v":0}]
["RKJY","Yeosu","Basis","Südkorea",{"$f":"COUNTIF(Eingabe!$F$2:$H$1276,\"RKJY\")","v":0},{"$f":"COUNTIF(Eingabe!$I$2:$K$1276,\"RKJY\")","v":0},"flyhigh","1.6.0","RSU","Asien","2024-11-06","20/24",null,null,null," "," ",null,{"$f":"IFERROR(AVERAGEIF(Eingabe!$I$2:$I$1276, \"RKJY\", Eingabe!$O$2:$O$1276), 0)","v":0}]
["RKPC","Jeju Intl.","Basis","Südkorea",{"$f":"COUNTIF(Eingabe!$F$2:$H$1276,\"RKPC\")","v":0},{"$f":"COUNTIF(Eingabe!$I$2:$K$1276,\"RKPC\")","v":0},"Fly2High","3.0.0","CJU","Asien","2025-04-17","20/24",null,null,null," "," ",null,{"$f":"IFERROR(AVERAGEIF(Eingabe!$I$2:$I$1276, \"RKPC\", Eingabe!$O$2:$O$1276), 0)","v":0}]
["RKPK","Gimhae-Busan","Basis","Südkorea",{"$f":"COUNTIF(Eingabe!$F$2:$H$1276,\"RKPK\")","v":0},{"$f":"COUNTIF(Eingabe!$I$2:$K$1276,\"RKPK\")","v":0},"samscene","1.5.0","PUS","Asien","2025-11-05","20/24",null,null,null," "," ",null,{"$f":"IFERROR(AVERAGEIF(Eingabe!$I$2:$I$1276, \"RKPK\", Eingabe!$O$2:$O$1276), 0)","v":0}]
["RKSI","Incheon/Seoul","Basis","Südkorea",{"$f":"COUNTIF(Eingabe!$F$2:$H$1276,\"RKSI\")","v":0},{"$f":"COUNTIF(Eingabe!$I$2:$K$1276,\"RKSI\")","v":0},"siamflight","0.9.8","ICN","Asien","2026-06-21","20/24",null,null,null," "," ",null,{"$f":"IFERROR(AVERAGEIF(Eingabe!$I$2:$I$1276, \"RKSI\", Eingabe!$O$2:$O$1276), 0)","v":0}]
["RKSS","Gimpo / Seoul","Basis","Südkorea",{"$f":"COUNTIF(Eingabe!$F$2:$H$1276,\"RKSS\")","v":0},{"$f":"COUNTIF(Eingabe!$I$2:$K$1276,\"RKSS\")","v":0},"asienairports","5.3.0","GMP","Asien","2026-03-08","20/24",null,null,null," "," ",null,{"$f":"IFERROR(AVERAGEIF(Eingabe!$I$2:$I$1276, \"RKSS\", Eingabe!$O$2:$O$1276), 0)","v":0}]
["RKTN","Daegu Intl.","Basis","Südkorea",{"$f":"COUNTIF(Eingabe!$F$2:$H$1276,\"RKTN\")","v":0},{"$f":"COUNTIF(Eingabe!$I$2:$K$1276,\"RKTN\")","v":0},"flyhigh","1.2.1","TAE","Asien","2025-07-12","20/24",null,null,null," "," ",null,{"$f":"IFERROR(AVERAGEIF(Eingabe!$I$2:$I$1276, \"RKTN\", Eingabe!$O$2:$O$1276), 0)","v":0}]
["RKTU","Cheongju","Basis","Südkorea",{"$f":"COUNTIF(Eingabe!$F$2:$H$1276,\"RKTU\")","v":0},{"$f":"COUNTIF(Eingabe!$I$2:$K$1276,\"RKTU\")","v":0},"flyhigh","1.5.1","CJJ","Asien","2025-07-30","20/24",null,null,null," "," ",null,{"$f":"IFERROR(AVERAGEIF(Eingabe!$I$2:$I$1276, \"RKTU\", Eingabe!$O$2:$O$1276), 0)","v":0}]
["ROAH","Naha","Basis","Japan",{"$f":"COUNTIF(Eingabe!$F$2:$H$1276,\"ROAH\")","v":0},{"$f":"COUNTIF(Eingabe!$I$2:$K$1276,\"ROAH\")","v":0},"mkstudios","1.0.2","OKA","Asien","2024-11-27","20/24",null,null,null," "," ",null,{"$f":"IFERROR(AVERAGEIF(Eingabe!$I$2:$I$1276, \"ROAH\", Eingabe!$O$2:$O$1276), 0)","v":0}]
["ROKJ","Kumejima","Basis","Japan",{"$f":"COUNTIF(Eingabe!$F$2:$H$1276,\"ROKJ\")","v":0},{"$f":"COUNTIF(Eingabe!$I$2:$K$1276,\"ROKJ\")","v":0},"mfsg","1.0.2","UEO","Asien","2025-12-23","20/24",null,null,null," "," ",null,{"$f":"IFERROR(AVERAGEIF(Eingabe!$I$2:$I$1276, \"ROKJ\", Eingabe!$O$2:$O$1276), 0)","v":0}]
["RPLC","Clark","Basis","Philippinen",{"$f":"COUNTIF(Eingabe!$F$2:$H$1276,\"RPLC\")","v":0},{"$f":"COUNTIF(Eingabe!$I$2:$K$1276,\"RPLC\")","v":0},"cloudsurfasiasimulations","1.0.0","CRK","Asien","2024-06-30","20/24",null,null,null," "," ",null,{"$f":"IFERROR(AVERAGEIF(Eingabe!$I$2:$I$1276, \"RPLC\", Eingabe!$O$2:$O$1276), 0)","v":0}]
["RPLL","Manila","Basis","Philippinen",{"$f":"COUNTIF(Eingabe!$F$2:$H$1276,\"RPLL\")","v":0},{"$f":"COUNTIF(Eingabe!$I$2:$K$1276,\"RPLL\")","v":0},"cloudsurfasiasimulations","1.2.1","MNL","Asien","2023-10-05","20/24",null,null,null," "," ",null,{"$f":"IFERROR(AVERAGEIF(Eingabe!$I$2:$I$1276, \"RPLL\", Eingabe!$O$2:$O$1276), 0)","v":0}]
["RPMD","Davao City","Basis","Philippinen",{"$f":"COUNTIF(Eingabe!$F$2:$H$1276,\"RPMD\")","v":0},{"$f":"COUNTIF(Eingabe!$I$2:$K$1276,\"RPMD\")","v":0},"airwil","1.2.0","DVO","Asien","2023-04-09","20/24",null,null,null," "," ",null,{"$f":"IFERROR(AVERAGEIF(Eingabe!$I$2:$I$1276, \"RPMD\", Eingabe!$O$2:$O$1276), 0)","v":0}]
["RPMR","General Santos City","Basis","Philippinen",{"$f":"COUNTIF(Eingabe!$F$2:$H$1276,\"RPMR\")","v":0},{"$f":"COUNTIF(Eingabe!$I$2:$K$1276,\"RPMR\")","v":0},"airwil","1.0.0","GES","Asien","2023-04-23","20/24",null,null,null," "," ",null,{"$f":"IFERROR(AVERAGEIF(Eingabe!$I$2:$I$1276, \"RPMR\", Eingabe!$O$2:$O$1276), 0)","v":0}]
["RPMY","Laguindingan","Basis","Philippinen",{"$f":"COUNTIF(Eingabe!$F$2:$H$1276,\"RPMY\")","v":0},{"$f":"COUNTIF(Eingabe!$I$2:$K$1276,\"RPMY\")","v":0},"airwil","2.1.0","CGY","Asien","2023-04-27","20/24",null,null,null," "," ",null,{"$f":"IFERROR(AVERAGEIF(Eingabe!$I$2:$I$1276, \"RPMY\", Eingabe!$O$2:$O$1276), 0)","v":0}]
["RPMZ","Zamboanga Intl.","Basis","Philippinen",{"$f":"COUNTIF(Eingabe!$F$2:$H$1276,\"RPMZ\")","v":0},{"$f":"COUNTIF(Eingabe!$I$2:$K$1276,\"RPMZ\")","v":0},"airwil","1.3.0","ZAM","Asien","2023-04-18","20/24",null,null,null," "," ",null,{"$f":"IFERROR(AVERAGEIF(Eingabe!$I$2:$I$1276, \"RPMZ\", Eingabe!$O$2:$O$1276), 0)","v":0}]
["RPVB","Bacolod","Basis","Philippinen",{"$f":"COUNTIF(Eingabe!$F$2:$H$1276,\"RPVB\")","v":0},{"$f":"COUNTIF(Eingabe!$I$2:$K$1276,\"RPVB\")","v":0},"stellarsimulation","1.1.0","BCD","Asien","2024-08-29","20/24",null,null,null," "," ",null,{"$f":"IFERROR(AVERAGEIF(Eingabe!$I$2:$I$1276, \"RPVB\", Eingabe!$O$2:$O$1276), 0)","v":0}]
["RPVM","Mactan-Cebu","Basis","Philippinen",{"$f":"COUNTIF(Eingabe!$F$2:$H$1276,\"RPVM\")","v":0},{"$f":"COUNTIF(Eingabe!$I$2:$K$1276,\"RPVM\")","v":0},"cloudsurfasiasimulations","1.0.0","CEB","Asien","2023-06-28","20/24",null,null,null," "," ",null,{"$f":"IFERROR(AVERAGEIF(Eingabe!$I$2:$I$1276, \"RPVM\", Eingabe!$O$2:$O$1276), 0)","v":0}]
["RPVP","Puerto Princesa","Basis","Philippinen",{"$f":"COUNTIF(Eingabe!$F$2:$H$1276,\"RPVP\")","v":0},{"$f":"COUNTIF(Eingabe!$I$2:$K$1276,\"RPVP\")","v":0},"cloudsurfasiasimulations","1.0..0","PPS","Asien","2024-08-08","20/24",null,null,null," "," ",null,{"$f":"IFERROR(AVERAGEIF(Eingabe!$I$2:$I$1276, \"RPVP\", Eingabe!$O$2:$O$1276), 0)","v":0}]
["SAAR","Rosario","Basis","Argentinien",{"$f":"COUNTIF(Eingabe!$F$2:$H$1276,\"SAAR\")","v":0},{"$f":"COUNTIF(Eingabe!$I$2:$K$1276,\"SAAR\")","v":0},"vuelosimple","1.3.1","ROS","Süd-Amerika","2023-05-19","20/24",null,null,null," "," ",null,{"$f":"IFERROR(AVERAGEIF(Eingabe!$I$2:$I$1276, \"SAAR\", Eingabe!$O$2:$O$1276), 0)","v":0}]
["SABE","Buenos Aires J.Newbery","Basis","Argentinien",{"$f":"COUNTIF(Eingabe!$F$2:$H$1276,\"SABE\")","v":0},{"$f":"COUNTIF(Eingabe!$I$2:$K$1276,\"SABE\")","v":0},"sierrasim","1.0.0","AEP","Süd-Amerika","2026-05-25",24,null,null,null," "," ",null,{"$f":"IFERROR(AVERAGEIF(Eingabe!$I$2:$I$1276, \"SABE\", Eingabe!$O$2:$O$1276), 0)","v":0}]
["SACO","Cordoba","Basis","Argentinien",{"$f":"COUNTIF(Eingabe!$F$2:$H$1276,\"SACO\")","v":0},{"$f":"COUNTIF(Eingabe!$I$2:$K$1276,\"SACO\")","v":0},"simulacionextrema","1.5.0","COR","Süd-Amerika","2023-07-10","20/24",null,null,null," "," ",null,{"$f":"IFERROR(AVERAGEIF(Eingabe!$I$2:$I$1276, \"SACO\", Eingabe!$O$2:$O$1276), 0)","v":0}]
["SAEZ","Buenos Aires","Basis","Argentinien",{"$f":"COUNTIF(Eingabe!$F$2:$H$1276,\"SAEZ\")","v":0},{"$f":"COUNTIF(Eingabe!$I$2:$K$1276,\"SAEZ\")","v":0},"tropicalsim","1.0.1","EZE","Süd-Amerika","2022-10-17","20/24",null,null,null," "," ",null,{"$f":"IFERROR(AVERAGEIF(Eingabe!$I$2:$I$1276, \"SAEZ\", Eingabe!$O$2:$O$1276), 0)","v":0}]
["SAME","El Plumerillo-Mendoza","Basis","Argentinien",{"$f":"COUNTIF(Eingabe!$F$2:$H$1276,\"SAME\")","v":0},{"$f":"COUNTIF(Eingabe!$I$2:$K$1276,\"SAME\")","v":0},"vuelosimple","1.3.0","MDZ","Süd-Amerika","2023-08-14","20/24",null,null,null," "," ",null,{"$f":"IFERROR(AVERAGEIF(Eingabe!$I$2:$I$1276, \"SAME\", Eingabe!$O$2:$O$1276), 0)","v":0}]
["SARC","Corrientes","Basis","Argentinien",{"$f":"COUNTIF(Eingabe!$F$2:$H$1276,\"SARC\")","v":0},{"$f":"COUNTIF(Eingabe!$I$2:$K$1276,\"SARC\")","v":0},"towersoft","3.0.0","CNQ","Süd-Amerika","2025-09-05","20/24",null,null,null," "," ",null,{"$f":"IFERROR(AVERAGEIF(Eingabe!$I$2:$I$1276, \"SARC\", Eingabe!$O$2:$O$1276), 0)","v":0}]
["SAVC","Rivadavia","Basis","Argentinien",{"$f":"COUNTIF(Eingabe!$F$2:$H$1276,\"SAVE\")","v":0},{"$f":"COUNTIF(Eingabe!$I$2:$K$1276,\"SAVE\")","v":0},"simulacionextrema","1.5.0","CRD","Süd-Amerika","2025-04-17","20/24",null,null,null," "," ",null,{"$f":"IFERROR(AVERAGEIF(Eingabe!$I$2:$I$1276, \"SAVV\", Eingabe!$O$2:$O$1276), 0)","v":0}]
["SAVV","Viedma","Basis","Argentinien",{"$f":"COUNTIF(Eingabe!$F$2:$H$1276,\"SAVV\")","v":0},{"$f":"COUNTIF(Eingabe!$I$2:$K$1276,\"SAVV\")","v":0},"Andessimulation","1.0.0","VDM","Süd-Amerika","2026-07-12",24,null,null,null," "," ",null,{"$f":"IFERROR(AVERAGEIF(Eingabe!$I$2:$I$1276, \"SAVC\", Eingabe!$O$2:$O$1276), 0)","v":0}]
["SAWC","Armando Tola","Basis","Argentinien",{"$f":"COUNTIF(Eingabe!$F$2:$H$1276,\"SAWC\")","v":0},{"$f":"COUNTIF(Eingabe!$I$2:$K$1276,\"SAWC\")","v":0},"simulacionextrema","1.2.0","FTE","Süd-Amerika","2023-12-23","20/24",null,null,null," "," ",null,{"$f":"IFERROR(AVERAGEIF(Eingabe!$I$2:$I$1276, \"SAWC\", Eingabe!$O$2:$O$1276), 0)","v":0}]
["SAWE","Rio Grande","Basis","Argentinien",{"$f":"COUNTIF(Eingabe!$F$2:$H$1276,\"SAWE\")","v":0},{"$f":"COUNTIF(Eingabe!$I$2:$K$1276,\"SAWE\")","v":0},"simulacionextrema","2.0.0","RGA","Süd-Amerika","2024-11-27","20/24",null,null,null,{"$f":"IF(E754=0,\" \",\"✔️\")","v":" "},{"$f":"IF(F754=0,\" \",\"✔️\")","v":" "},null,{"$f":"IFERROR(AVERAGEIF(Eingabe!$I$2:$I$1276, \"SAWE\", Eingabe!$O$2:$O$1276), 0)","v":0}]
["SAWG","Río Gallegos","Basis","Argentinien",{"$f":"COUNTIF(Eingabe!$F$2:$H$1276,\"SAWG\")","v":0},{"$f":"COUNTIF(Eingabe!$I$2:$K$1276,\"SAWG\")","v":0},"simulacionextrema","2.0.0","RGL","Süd-Amerika","2026-03-20","20/24",null,null,null," "," ",null,{"$f":"IFERROR(AVERAGEIF(Eingabe!$I$2:$I$1276, \"SAWH\", Eingabe!$O$2:$O$1276), 0)","v":0}]
["SAWH","Ushuaia","Basis","Argentinien",{"$f":"COUNTIF(Eingabe!$F$2:$H$1276,\"SAWH\")","v":0},{"$f":"COUNTIF(Eingabe!$I$2:$K$1276,\"SAWH\")","v":0},"simulacionextrema","2.5.1","RGA","Süd-Amerika","2026-07-12","20/24",null,null,null," "," ",null,{"$f":"IFERROR(AVERAGEIF(Eingabe!$I$2:$I$1276, \"SAWG\", Eingabe!$O$2:$O$1276), 0)","v":0}]
["SAZB","Comandante Espora / Bahia Blanca","Basis","Argentinien",{"$f":"COUNTIF(Eingabe!$F$2:$H$1276,\"SAZB\")","v":0},{"$f":"COUNTIF(Eingabe!$I$2:$K$1276,\"SAZB\")","v":0},"simulacionextrema","1.0.0","BHI","Süd-Amerika","2024-04-11","20/24",null,null,null," "," ",null,{"$f":"IFERROR(AVERAGEIF(Eingabe!$I$2:$I$1276, \"SAZB\", Eingabe!$O$2:$O$1276), 0)","v":0}]
["SAZM","Mar del Plata Astor Piazzolla","Basis","Argentinien",{"$f":"COUNTIF(Eingabe!$F$2:$H$1276,\"SAZM\")","v":0},{"$f":"COUNTIF(Eingabe!$I$2:$K$1276,\"SAZM\")","v":0},"simulacionextrema","1.2.1","MDQ","Süd-Amerika","2023-07-13","20/24",null,null,null," "," ",null,{"$f":"IFERROR(AVERAGEIF(Eingabe!$I$2:$I$1276, \"SAZM\", Eingabe!$O$2:$O$1276), 0)","v":0}]
["SAZN","Presidente-Peron","Basis","Argentinien",{"$f":"COUNTIF(Eingabe!$F$2:$H$1276,\"SAZN\")","v":0},{"$f":"COUNTIF(Eingabe!$I$2:$K$1276,\"SAZN\")","v":0},"simulacionextrema","1.5.0","NQN","Süd-Amerika","2023-07-22","20/24",null,null,null," "," ",null,{"$f":"IFERROR(AVERAGEIF(Eingabe!$I$2:$I$1276, \"SAZN\", Eingabe!$O$2:$O$1276), 0)","v":0}]
["SBAR","Aracaju Santa-Maria","Basis","Brasilien",{"$f":"COUNTIF(Eingabe!$F$2:$H$1276,\"SBAR\")","v":0},{"$f":"COUNTIF(Eingabe!$I$2:$K$1276,\"SBAR\")","v":0},"rafaeltango","3.0.0","AJU","Süd-Amerika","2025-02-14","20/24",null,null,null," "," ",null,{"$f":"IFERROR(AVERAGEIF(Eingabe!$I$2:$I$1276, \"SBAR\", Eingabe!$O$2:$O$1276), 0)","v":0}]
["SBBP","Arthur Siqueira","Basis","Brasilien",{"$f":"COUNTIF(Eingabe!$F$2:$H$1276,\"SBBP\")","v":0},{"$f":"COUNTIF(Eingabe!$I$2:$K$1276,\"SBBP\")","v":0},"rmstudios","1.1.2","BJP","Süd-Amerika","2025-09-05","20/24",null,null,null," "," ",null,{"$f":"IFERROR(AVERAGEIF(Eingabe!$I$2:$I$1276, \"SBBP\", Eingabe!$O$2:$O$1276), 0)","v":0}]
["SBBR","Brasilia (Freeware)","Basis","Brasilien",{"$f":"COUNTIF(Eingabe!$F$2:$H$1276,\"SBBR\")","v":0},{"$f":"COUNTIF(Eingabe!$I$2:$K$1276,\"SBBR\")","v":0},"Freeware","***","BSB","Süd-Amerika",null,24,null,null,null," "," ",null,{"$f":"IFERROR(AVERAGEIF(Eingabe!$I$2:$I$1276, \"SBBR\", Eingabe!$O$2:$O$1276), 0)","v":0}]
["SBBV","Boa Vista Intl.","Basis","Brasilien",{"$f":"COUNTIF(Eingabe!$F$2:$H$1276,\"SBBV\")","v":0},{"$f":"COUNTIF(Eingabe!$I$2:$K$1276,\"SBBV\")","v":0},"brazillandgames","1.0.1","BVB","Süd-Amerika","2023-05-02","20/24",null,null,null," "," ",null,{"$f":"IFERROR(AVERAGEIF(Eingabe!$I$2:$I$1276, \"SBBV\", Eingabe!$O$2:$O$1276), 0)","v":0}]
["SBCF","Belo Horizonte","Basis","Brasilien",{"$f":"COUNTIF(Eingabe!$F$2:$H$1276,\"SBCF\")","v":0},{"$f":"COUNTIF(Eingabe!$I$2:$K$1276,\"SBCF\")","v":0},"brazillandgames","2.0.1","CNF","Süd-Amerika","2023-05-02","20/24",null,null,null," "," ",null,{"$f":"IFERROR(AVERAGEIF(Eingabe!$I$2:$I$1276, \"SBCF\", Eingabe!$O$2:$O$1276), 0)","v":0}]
["SBCG","Campo Grande","Basis","Brasilien",{"$f":"COUNTIF(Eingabe!$F$2:$H$1276,\"SBCG\")","v":0},{"$f":"COUNTIF(Eingabe!$I$2:$K$1276,\"SBCG\")","v":0},"geardownsimulations","1.0.0","CGR","Süd-Amerika","2024-10-25","20/24",null,null,null," "," ",null,{"$f":"IFERROR(AVERAGEIF(Eingabe!$I$2:$I$1276, \"SBCG\", Eingabe!$O$2:$O$1276), 0)","v":0}]
["SBCJ","Carajás","Basis","Brasilien",{"$f":"COUNTIF(Eingabe!$F$2:$H$1276,\"SBCJ\")","v":0},{"$f":"COUNTIF(Eingabe!$I$2:$K$1276,\"SBCJ\")","v":0},"brazillandgames","1.0.31","CKS","Süd-Amerika","2023-05-02","20/24",null,null,null," "," ",null,{"$f":"IFERROR(AVERAGEIF(Eingabe!$I$2:$I$1276, \"SBCJ\", Eingabe!$O$2:$O$1276), 0)","v":0}]
["SBCT","Curitiba - Alfonso Pena Intl.","Basis","Brasilien",{"$f":"COUNTIF(Eingabe!$F$2:$H$1276,\"SBCT\")","v":0},{"$f":"COUNTIF(Eingabe!$I$2:$K$1276,\"SBCT\")","v":0},"brazillandgames","1.0.1","CWB","Süd-Amerika","2023-05-02","20/24",null,null,null," "," ",null,{"$f":"IFERROR(AVERAGEIF(Eingabe!$I$2:$I$1276, \"SBCT\", Eingabe!$O$2:$O$1276), 0)","v":0}]
["SBCY","Marechal Rondon","Basis","Brasilien",{"$f":"COUNTIF(Eingabe!$F$2:$H$1276,\"SBCY\")","v":0},{"$f":"COUNTIF(Eingabe!$I$2:$K$1276,\"SBCY\")","v":0},"geardownsimulations","1.1.1","CGB","Süd-Amerika","2024-05-17","20/24",null,null,null," "," ",null,{"$f":"IFERROR(AVERAGEIF(Eingabe!$I$2:$I$1276, \"SBCY\", Eingabe!$O$2:$O$1276), 0)","v":0}]
["SBEG","Manaus (ASOBO)","Basis","Brasilien",{"$f":"COUNTIF(Eingabe!$F$2:$H$1276,\"SBEG\")","v":0},{"$f":"COUNTIF(Eingabe!$I$2:$K$1276,\"SBEG\")","v":0},"ASOBO",null,"MAO",null,null,24,null,null,null," "," ",null,{"$f":"IFERROR(AVERAGEIF(Eingabe!$I$2:$I$1276, \"SBEG\", Eingabe!$O$2:$O$1276), 0)","v":0}]
["SBFL","Florianópolis","Basis","Brasilien",{"$f":"COUNTIF(Eingabe!$F$2:$H$1276,\"SBFL\")","v":0},{"$f":"COUNTIF(Eingabe!$I$2:$K$1276,\"SBFL\")","v":0},"brazillandgames","1.0.6","FLN","Süd-Amerika","2023-05-02","20/24",null,null,null," "," ",null,{"$f":"IFERROR(AVERAGEIF(Eingabe!$I$2:$I$1276, \"SBFL\", Eingabe!$O$2:$O$1276), 0)","v":0}]
["SBFN","Fernando","Basis","Brasilien",{"$f":"COUNTIF(Eingabe!$F$2:$H$1276,\"SBFN\")","v":0},{"$f":"COUNTIF(Eingabe!$I$2:$K$1276,\"SBFN\")","v":0},"heavendesigns","3.1.4","FEN","Süd-Amerika","2025-09-11","20/24",null,null,null," "," ",null,{"$f":"IFERROR(AVERAGEIF(Eingabe!$I$2:$I$1276, \"SBFN\", Eingabe!$O$2:$O$1276), 0)","v":0}]
["SBFZ","Pinto Martins – Fortaleza","Basis","Brasilien",{"$f":"COUNTIF(Eingabe!$F$2:$H$1276,\"SBFZ\")","v":0},{"$f":"COUNTIF(Eingabe!$I$2:$K$1276,\"SBFZ\")","v":0},"brazillandgames","1.0.1","FOR","Süd-Amerika","2023-05-02","20/24",null,null,208," "," ",null,{"$f":"IFERROR(AVERAGEIF(Eingabe!$I$2:$I$1276, \"SBFZ\", Eingabe!$O$2:$O$1276), 0)","v":0}]
["SBGL","Rio De Janeiro (ASOBO)","Basis","Brasilien",{"$f":"COUNTIF(Eingabe!$F$2:$H$1276,\"SBGL\")","v":0},{"$f":"COUNTIF(Eingabe!$I$2:$K$1276,\"SBGL\")","v":0},"ASOBO","***","GIG","Süd-Amerika","2020-08-18",24,null,null,null," "," ",null,{"$f":"IFERROR(AVERAGEIF(Eingabe!$I$2:$I$1276, \"SBGL\", Eingabe!$O$2:$O$1276), 0)","v":0}]
["SBGO","Goiânia Santa Genoveva(Freeware)","Basis","Brasilien",{"$f":"COUNTIF(Eingabe!$F$2:$H$1276,\"SBGO\")","v":0},{"$f":"COUNTIF(Eingabe!$I$2:$K$1276,\"SBGO\")","v":0},"Freeware",null,"GYN","Süd-Amerika",null,"20/24",null,null,null," "," ",null,{"$f":"IFERROR(AVERAGEIF(Eingabe!$I$2:$I$1276, \"SBGO\", Eingabe!$O$2:$O$1276), 0)","v":0}]
["SBGR","Sao Paulo","Basis","Brasilien",{"$f":"COUNTIF(Eingabe!$F$2:$H$1276,\"SBGR\")","v":0},{"$f":"COUNTIF(Eingabe!$I$2:$K$1276,\"SBGR\")","v":0},"Vref Simulations","2.0.0","GRU","Süd-Amerika","2025-06-10",24,null,null,null," "," ",null,{"$f":"IFERROR(AVERAGEIF(Eingabe!$I$2:$I$1276, \"SBGR\", Eingabe!$O$2:$O$1276), 0)","v":0}]
["SBKP","Viracopos – Campinas Intl.","Basis","Brasilien",{"$f":"COUNTIF(Eingabe!$F$2:$H$1276,\"SBKP\")","v":0},{"$f":"COUNTIF(Eingabe!$I$2:$K$1276,\"SBKP\")","v":0},"pauloricardo","1.0.4","VCP","Süd-Amerika","2024-08-29","20/24",null,null,null," "," ",null,{"$f":"IFERROR(AVERAGEIF(Eingabe!$I$2:$I$1276, \"SBKP\", Eingabe!$O$2:$O$1276), 0)","v":0}]
["SBLO","Londrina (ASOBO)","Basis","Brasilien",{"$f":"COUNTIF(Eingabe!$F$2:$H$1276,\"SBLO\")","v":0},{"$f":"COUNTIF(Eingabe!$I$2:$K$1276,\"SBLO\")","v":0},"ASOBO","***","LDB","Süd-Amerika",null,24,null,null,null," "," ",null,{"$f":"IFERROR(AVERAGEIF(Eingabe!$I$2:$I$1276, \"SBLO\", Eingabe!$O$2:$O$1276), 0)","v":0}]
["SBMT","Campo de Marte-Sao Paulo","Basis","Brasilien",{"$f":"COUNTIF(Eingabe!$F$2:$H$1276,\"SBMT\")","v":0},{"$f":"COUNTIF(Eingabe!$I$2:$K$1276,\"SBMT\")","v":0},"latavoadora","1.2.0","RTE","Süd-Amerika","2026-07-03",24,null,null,null," "," ",null,{"$f":"IFERROR(AVERAGEIF(Eingabe!$I$2:$I$1276, \"SBMT\", Eingabe!$O$2:$O$1276), 0)","v":0}]
["SBPA","Porto Alegre","Basis","Brasilien",{"$f":"COUNTIF(Eingabe!$F$2:$H$1276,\"SBPA\")","v":0},{"$f":"COUNTIF(Eingabe!$I$2:$K$1276,\"SBPA\")","v":0},"brazillandgames","1.0.0","POA","Süd-Amerika","2023-05-02","20/24",null,null,null," "," ",null,{"$f":"IFERROR(AVERAGEIF(Eingabe!$I$2:$I$1276, \"SBPA\", Eingabe!$O$2:$O$1276), 0)","v":0}]
["SBPJ","Pelotas","Basis","Brasilien",{"$f":"COUNTIF(Eingabe!$F$2:$H$1276,\"SBPK\")","v":0},{"$f":"COUNTIF(Eingabe!$I$2:$K$1276,\"SBPK\")","v":0},"latavoadora","1.0.0","PMW","Süd-Amerika","2026-05-06",24,null,null,null," "," ",null,{"$f":"IFERROR(AVERAGEIF(Eingabe!$I$2:$I$1276, \"SBPJ\", Eingabe!$O$2:$O$1276), 0)","v":0}]
["SBPK","Porto Alegre","Basis","Brasilien",{"$f":"COUNTIF(Eingabe!$F$2:$H$1276,\"SBPA\")","v":0},{"$f":"COUNTIF(Eingabe!$I$2:$K$1276,\"SBPA\")","v":0},"brazillandgames","1.0.1","POA","Süd-Amerika","2023-05-03","20/24",null,null,null,null,null,null,{"$f":"IFERROR(AVERAGEIF(Eingabe!$I$2:$I$1276, \"SBPK\", Eingabe!$O$2:$O$1276), 0)","v":0}]
["SBPV","Porto Velho","Basis","Brasilien",{"$f":"COUNTIF(Eingabe!$F$2:$H$1276,\"SBPV\")","v":0},{"$f":"COUNTIF(Eingabe!$I$2:$K$1276,\"SBPV\")","v":0},"brazillandgames","1.0.0","PVH","Süd-Amerika","2023-05-02","20/24",null,null,null,{"$f":"IF(E782=0,\" \",\"✔️\")","v":" "},{"$f":"IF(F782=0,\" \",\"✔️\")","v":" "},null,{"$f":"IFERROR(AVERAGEIF(Eingabe!$I$2:$I$1276, \"SBPV\", Eingabe!$O$2:$O$1276), 0)","v":0}]
["SBRB","Rio Branco","Basis","Brasilien",{"$f":"COUNTIF(Eingabe!$F$2:$H$1276,\"SBRB\")","v":0},{"$f":"COUNTIF(Eingabe!$I$2:$K$1276,\"SBRB\")","v":0},"heavendesigns","2.0.1","RBR","Süd-Amerika","2026-03-20","20/24",null,null,null," "," ",null,{"$f":"IFERROR(AVERAGEIF(Eingabe!$I$2:$I$1276, \"SBRB\", Eingabe!$O$2:$O$1276), 0)","v":0}]
["SBRF","Recife","Basis","Brasilien",{"$f":"COUNTIF(Eingabe!$F$2:$H$1276,\"SBRF\")","v":0},{"$f":"COUNTIF(Eingabe!$I$2:$K$1276,\"SBRF\")","v":0},"rafaeltango","2.0.0","REC","Süd-Amerika","2025-01-14","20/24",null,null,null," "," ",null,{"$f":"IFERROR(AVERAGEIF(Eingabe!$I$2:$I$1276, \"SBRF\", Eingabe!$O$2:$O$1276), 0)","v":0}]
["SBSG","São Gonçalo-Natal","Basis","Brasilien",{"$f":"COUNTIF(Eingabe!$F$2:$H$1276,\"SBSG\")","v":0},{"$f":"COUNTIF(Eingabe!$I$2:$K$1276,\"SBSG\")","v":0},"brazillandgames","1.0.0","NAT","Süd-Amerika","2023-05-02","20/24",null,null,null," "," ",null,{"$f":"IFERROR(AVERAGEIF(Eingabe!$I$2:$I$1276, \"SBSG\", Eingabe!$O$2:$O$1276), 0)","v":0}]
["SBSL","São Luís","Basis","Brasilien",{"$f":"COUNTIF(Eingabe!$F$2:$H$1276,\"SBSL\")","v":0},{"$f":"COUNTIF(Eingabe!$I$2:$K$1276,\"SBSL\")","v":0},"brazillandgames","2.2.0","SLZ","Süd-Amerika","2023-05-02","20/24",null,null,null," "," ",null,{"$f":"IFERROR(AVERAGEIF(Eingabe!$I$2:$I$1276, \"SBSL\", Eingabe!$O$2:$O$1276), 0)","v":0}]
["SBSN","Santarém-Maestro Wilson Fonseca","Basis","Brasilien",{"$f":"COUNTIF(Eingabe!$F$2:$H$1276,\"SBSN\")","v":0},{"$f":"COUNTIF(Eingabe!$I$2:$K$1276,\"SBSN\")","v":0},"fsoares","1.1.6","STM","Süd-Amerika","2023-06-28","20/24",null,null,null," "," ",null,{"$f":"IFERROR(AVERAGEIF(Eingabe!$I$2:$I$1276, \"SBSN\", Eingabe!$O$2:$O$1276), 0)","v":0}]
["SBSP","São Paulo-Congonhas","Basis","Brasilien",{"$f":"COUNTIF(Eingabe!$F$2:$H$1276,\"SBSP\")","v":0},{"$f":"COUNTIF(Eingabe!$I$2:$K$1276,\"SBSP\")","v":0},"pauloricardo","1.9.8","CGH","Süd-Amerika","2026-02-12",24,null,null,null," "," ",null,{"$f":"IFERROR(AVERAGEIF(Eingabe!$I$2:$I$1276, \"SBSP\", Eingabe!$O$2:$O$1276), 0)","v":0}]
["SBSV","Salvador","Basis","Brasilien",{"$f":"COUNTIF(Eingabe!$F$2:$H$1276,\"SBSV\")","v":0},{"$f":"COUNTIF(Eingabe!$I$2:$K$1276,\"SBSV\")","v":0},"exabit","4.1.3","SSA","Süd-Amerika","2026-05-25","20/24",null,null,null," "," ",null,{"$f":"IFERROR(AVERAGEIF(Eingabe!$I$2:$I$1276, \"SBSV\", Eingabe!$O$2:$O$1276), 0)","v":0}]
["SBUL","Uberlândia","Basis","Brasilien",{"$f":"COUNTIF(Eingabe!$F$2:$H$1276,\"SBUL\")","v":0},{"$f":"COUNTIF(Eingabe!$I$2:$K$1276,\"SBUL\")","v":0},"brazillandgames","2.0.0","UDI","Süd-Amerika","2023-05-02","20/24",null,null,null," "," ",null,{"$f":"IFERROR(AVERAGEIF(Eingabe!$I$2:$I$1276, \"SBUL\", Eingabe!$O$2:$O$1276), 0)","v":0}]
["SBUR","Uberaba","Basis","Brasilien",{"$f":"COUNTIF(Eingabe!$F$2:$H$1276,\"SBUR\")","v":0},{"$f":"COUNTIF(Eingabe!$I$2:$K$1276,\"SBUR\")","v":0},"heavendesigns","1.0.1","UBA","Süd-Amerika","2024-04-22","20/24",null,null,null," "," ",null,{"$f":"IFERROR(AVERAGEIF(Eingabe!$I$2:$I$1276, \"SBUR\", Eingabe!$O$2:$O$1276), 0)","v":0}]
["SBVT","Vitoria","Basis","Brasilien",{"$f":"COUNTIF(Eingabe!$F$2:$H$1276,\"SBVT\")","v":0},{"$f":"COUNTIF(Eingabe!$I$2:$K$1276,\"SBVT\")","v":0},"brazillandgames","2.0.0","VIX","Süd-Amerika","2023-05-02","20/24",null,null,null," "," ",null,{"$f":"IFERROR(AVERAGEIF(Eingabe!$I$2:$I$1276, \"SBVT\", Eingabe!$O$2:$O$1276), 0)","v":0}]
["SCAR","Chacalluta","Basis","Chile",{"$f":"COUNTIF(Eingabe!$F$2:$H$1276,\"SCAR\")","v":0},{"$f":"COUNTIF(Eingabe!$I$2:$K$1276,\"SCAR\")","v":0},"lushodev","3.0.2",null,"Süd-Amerika","2026-03-20","20/24",null,null,null," "," ",null,{"$f":"IFERROR(AVERAGEIF(Eingabe!$I$2:$I$1276, \"SCAR\", Eingabe!$O$2:$O$1276), 0)","v":0}]
["SCAT","Atacama-Desierto","Basis","Chile",{"$f":"COUNTIF(Eingabe!$F$2:$H$1276,\"SCAT\")","v":0},{"$f":"COUNTIF(Eingabe!$I$2:$K$1276,\"SCAT\")","v":0},"flightsimchile","1.0.0","CPO","Süd-Amerika","2022-07-01","20/24",null,null,null," "," ",null,{"$f":"IFERROR(AVERAGEIF(Eingabe!$I$2:$I$1276, \"SCAT\", Eingabe!$O$2:$O$1276), 0)","v":0}]
["SCDA","Diego Aracena Intl.","Basis","Chile",{"$f":"COUNTIF(Eingabe!$F$2:$H$1276,\"SCDA\")","v":0},{"$f":"COUNTIF(Eingabe!$I$2:$K$1276,\"SCDA\")","v":0},"simulacionextrema","2.0.0","IQQ","Süd-Amerika","2025-03-29","20/24",null,null,null," "," ",null,{"$f":"IFERROR(AVERAGEIF(Eingabe!$I$2:$I$1276, \"SCDA\", Eingabe!$O$2:$O$1276), 0)","v":0}]
["SCEL","Santiago","Basis","Chile",{"$f":"COUNTIF(Eingabe!$F$2:$H$1276,\"SCEL\")","v":0},{"$f":"COUNTIF(Eingabe!$I$2:$K$1276,\"SCEL\")","v":0},"latinvfr","1.0.3","SCL","Süd-Amerika","2021-08-23","20/24",null,null,null," "," ",null,{"$f":"IFERROR(AVERAGEIF(Eingabe!$I$2:$I$1276, \"SCEL\", Eingabe!$O$2:$O$1276), 0)","v":0}]
["SCIE","Concepción Carriel Sur","Basis","Chile",{"$f":"COUNTIF(Eingabe!$F$2:$H$1276,\"SCIE\")","v":0},{"$f":"COUNTIF(Eingabe!$I$2:$K$1276,\"SCIE\")","v":0},"simulacionextrema","2.0.1","CCP","Süd-Amerika","2023-07-13","20/24",null,null,null," "," ",null,{"$f":"IFERROR(AVERAGEIF(Eingabe!$I$2:$I$1276, \"SCIE\", Eingabe!$O$2:$O$1276), 0)","v":0}]
["SCPQ","Mocopulli","Basis","Chile",{"$f":"COUNTIF(Eingabe!$F$2:$H$1276,\"SCPQ\")","v":0},{"$f":"COUNTIF(Eingabe!$I$2:$K$1276,\"SCPQ\")","v":0},"lushodev","1.0.1","MHC","Süd-Amerika","2024-12-23","20/24",null,null,null," "," ",null,{"$f":"IFERROR(AVERAGEIF(Eingabe!$I$2:$I$1276, \"SCPQ\", Eingabe!$O$2:$O$1276), 0)","v":0}]
["SCQP","La-Araucania","Basis","Chile",{"$f":"COUNTIF(Eingabe!$F$2:$H$1276,\"SCQP\")","v":0},{"$f":"COUNTIF(Eingabe!$I$2:$K$1276,\"SCQP\")","v":0},"simulacionextrema","2.0.0","ZCO","Süd-Amerika","2023-07-13","20/24",null,null,null," "," ",null,{"$f":"IFERROR(AVERAGEIF(Eingabe!$I$2:$I$1276, \"SCQP\", Eingabe!$O$2:$O$1276), 0)","v":0}]
["SCTE","El-Tepual","Basis","Chile",{"$f":"COUNTIF(Eingabe!$F$2:$H$1276,\"SCTE\")","v":0},{"$f":"COUNTIF(Eingabe!$I$2:$K$1276,\"SCTE\")","v":0},"simulacionextrema","2.0.0","PMC","Süd-Amerika","2022-02-19","20/24",null,null,null," "," ",null,{"$f":"IFERROR(AVERAGEIF(Eingabe!$I$2:$I$1276, \"SCTE\", Eingabe!$O$2:$O$1276), 0)","v":0}]
["SEGU","Guayaquil","Basis","Ecuador",{"$f":"COUNTIF(Eingabe!$F$2:$H$1276,\"SEGU\")","v":0},{"$f":"COUNTIF(Eingabe!$I$2:$K$1276,\"SEGU\")","v":0},"sierrasim","2.1.0","GYE","Süd-Amerika","2023-08-03","20/24",null,null,null," "," ",null,{"$f":"IFERROR(AVERAGEIF(Eingabe!$I$2:$I$1276, \"SEGU\", Eingabe!$O$2:$O$1276), 0)","v":0}]
["SGAS","Asunción","Basis","Paraguay",{"$f":"COUNTIF(Eingabe!$F$2:$H$1276,\"SGAS\")","v":0},{"$f":"COUNTIF(Eingabe!$I$2:$K$1276,\"SGAS\")","v":0},"tropicalsim","1.0.0","ASU","Süd-Amerika","2024-04-28","20/24",null,null,null," "," ",null,{"$f":"IFERROR(AVERAGEIF(Eingabe!$I$2:$I$1276, \"SGAS\", Eingabe!$O$2:$O$1276), 0)","v":0}]
["SKBO","Bogota / El Dorado","Basis","Kolumbien",{"$f":"COUNTIF(Eingabe!$F$2:$H$1276,\"SKBO\")","v":0},{"$f":"COUNTIF(Eingabe!$I$2:$K$1276,\"SKBO\")","v":0},"wingsim","2.1.0","BOG","Süd-Amerika","2026-04-10",24,null,null,"G49"," "," ",null,{"$f":"IFERROR(AVERAGEIF(Eingabe!$I$2:$I$1276, \"SKBO\", Eingabe!$O$2:$O$1276), 0)","v":0}]
["SKBQ","Ernesto Cortissoz Intl.","Basis","Kolumbien",{"$f":"COUNTIF(Eingabe!$F$2:$H$1276,\"SKBQ\")","v":0},{"$f":"COUNTIF(Eingabe!$I$2:$K$1276,\"SKBQ\")","v":0},"pksim","1.0.4","BAQ","Süd-Amerika","2023-05-25","20/24",null,null,null," "," ",null,{"$f":"IFERROR(AVERAGEIF(Eingabe!$I$2:$I$1276, \"SKBQ\", Eingabe!$O$2:$O$1276), 0)","v":0}]
["SKCC","Camilo-Daza","Basis","Kolumbien",{"$f":"COUNTIF(Eingabe!$F$2:$H$1276,\"SKCC\")","v":0},{"$f":"COUNTIF(Eingabe!$I$2:$K$1276,\"SKBQ\")","v":0},"sierrasim","2.1.0","CUC","Süd-Amerika","2024-12-03","20/24",null,null,null," "," ",null,{"$f":"IFERROR(AVERAGEIF(Eingabe!$I$2:$I$1276, \"SKCC\", Eingabe!$O$2:$O$1276), 0)","v":0}]
["SKCG","Cartagena","Basis","Kolumbien",{"$f":"COUNTIF(Eingabe!$F$2:$H$1276,\"SKCG\")","v":0},{"$f":"COUNTIF(Eingabe!$I$2:$K$1276,\"SKCG\")","v":0},"flyhigh","1.1.0","CTG","Süd-Amerika","2024-05-23","20/24",null,null,null," "," ",null,{"$f":"IFERROR(AVERAGEIF(Eingabe!$I$2:$I$1276, \"SKCG\", Eingabe!$O$2:$O$1276), 0)","v":0}]
["SKCL","Cali","Basis","Kolumbien",{"$f":"COUNTIF(Eingabe!$F$2:$H$1276,\"SKCL\")","v":0},{"$f":"COUNTIF(Eingabe!$I$2:$K$1276,\"SKCL\")","v":0},"teikofstudio","2.2.6","CLO","Süd-Amerika","2025-09-05","20/24",null,null,null," "," ",null,{"$f":"IFERROR(AVERAGEIF(Eingabe!$I$2:$I$1276, \"SKCL\", Eingabe!$O$2:$O$1276), 0)","v":0}]
["SKLD","Olaya Herrera","Basis","Kolumbien",{"$f":"COUNTIF(Eingabe!$F$2:$H$1276,\"SKLD\")","v":0},{"$f":"COUNTIF(Eingabe!$I$2:$K$1276,\"SKLD\")","v":0},"sierrasim","2.5.2","MCJ","Süd-Amerika","2026-07-12",24,null,null,null," "," ",null,{"$f":"IFERROR(AVERAGEIF(Eingabe!$I$2:$I$1276, \"SKLM\", Eingabe!$O$2:$O$1276), 0)","v":0}]
["SKLM","La-Mina","Basis","Kolumbien",{"$f":"COUNTIF(Eingabe!$F$2:$H$1276,\"SKLM\")","v":0},{"$f":"COUNTIF(Eingabe!$I$2:$K$1276,\"SKLM\")","v":0},"sierrasim","1.0.0","MCJ","Süd-Amerika","2024-09-11","20/24",null,null,null," "," ",null,{"$f":"IFERROR(AVERAGEIF(Eingabe!$I$2:$I$1276, \"SKLD\", Eingabe!$O$2:$O$1276), 0)","v":0}]
["SKMR","Los Garzones","Basis","Kolumbien",{"$f":"COUNTIF(Eingabe!$F$2:$H$1276,\"SKMR\")","v":0},{"$f":"COUNTIF(Eingabe!$I$2:$K$1276,\"SKMR\")","v":0},"wingsim","2.2.0","MTR","Süd-Amerika","2024-03-03","20/24",null,null,null," "," ",null,{"$f":"IFERROR(AVERAGEIF(Eingabe!$I$2:$I$1276, \"SKMR\", Eingabe!$O$2:$O$1276), 0)","v":0}]
["SKMZ","La Nubia","Basis","Kolumbien",{"$f":"COUNTIF(Eingabe!$F$2:$H$1276,\"SKMZ\")","v":0},{"$f":"COUNTIF(Eingabe!$I$2:$K$1276,\"SKMZ\")","v":0},"teikofstudio","1.0.4","MZL","Süd-Amerika","2025-09-05","20/24",null,null,null," "," ",null,{"$f":"IFERROR(AVERAGEIF(Eingabe!$I$2:$I$1276, \"SKMZ\", Eingabe!$O$2:$O$1276), 0)","v":0}]
["SKPE","Matecana","Basis","Kolumbien",{"$f":"COUNTIF(Eingabe!$F$2:$H$1276,\"SKPE\")","v":0},{"$f":"COUNTIF(Eingabe!$I$2:$K$1276,\"SKPE\")","v":0},"teikofstudio","2.0.5","PEI","Süd-Amerika","2025-09-05","20/24",null,null,null," "," ",null,{"$f":"IFERROR(AVERAGEIF(Eingabe!$I$2:$I$1276, \"SKPE\", Eingabe!$O$2:$O$1276), 0)","v":0}]
["SKPV","El Embrujo Intl.","Basis","Kolumbien",{"$f":"COUNTIF(Eingabe!$F$2:$H$1276,\"SKPV\")","v":0},{"$f":"COUNTIF(Eingabe!$I$2:$K$1276,\"SKPV\")","v":0},"pksim","1.1.0","PVA","Süd-Amerika","2024-02-02","20/24",null,null,null," "," ",null,{"$f":"IFERROR(AVERAGEIF(Eingabe!$I$2:$I$1276, \"SKPV\", Eingabe!$O$2:$O$1276), 0)","v":0}]
["SKRG","Jose Maria","Basis","Kolumbien",{"$f":"COUNTIF(Eingabe!$F$2:$H$1276,\"SKRG\")","v":0},{"$f":"COUNTIF(Eingabe!$I$2:$K$1276,\"SKRG\")","v":0},"vpilotdesigns","1.3.2","MDE","Süd-Amerika","2023-11-15","20/24",null,null,null,{"$f":"IF(E814=0,\" \",\"✔️\")","v":" "},{"$f":"IF(F814=0,\" \",\"✔️\")","v":" "},null,{"$f":"IFERROR(AVERAGEIF(Eingabe!$I$2:$I$1276, \"SKRG\", Eingabe!$O$2:$O$1276), 0)","v":0}]
["SKRH","Almirante Padilla","Basis","Kolumbien",{"$f":"COUNTIF(Eingabe!$F$2:$H$1276,\"SKRH\")","v":0},{"$f":"COUNTIF(Eingabe!$I$2:$K$1276,\"SKRH\")","v":0},"wingsim","2.0.0","RCH","Süd-Amerika","2023-11-28","20/24",null,null,null," "," ",null,{"$f":"IFERROR(AVERAGEIF(Eingabe!$I$2:$I$1276, \"SKRH\", Eingabe!$O$2:$O$1276), 0)","v":0}]
["SKSM","Simón Bolívar Intl.","Basis","Kolumbien",{"$f":"COUNTIF(Eingabe!$F$2:$H$1276,\"SKSM\")","v":0},{"$f":"COUNTIF(Eingabe!$I$2:$K$1276,\"SKSM\")","v":0},"wingsim","1.5.1","SMR","Süd-Amerika","2024-04-05","20/24",null,null,null," "," ",null,{"$f":"IFERROR(AVERAGEIF(Eingabe!$I$2:$I$1276, \"SKSM\", Eingabe!$O$2:$O$1276), 0)","v":0}]
["SLLP","LaPaz","Basis","Bolivien",{"$f":"COUNTIF(Eingabe!$F$2:$H$1276,\"SLLP\")","v":0},{"$f":"COUNTIF(Eingabe!$I$2:$K$1276,\"SLLP\")","v":0},"sierrasim","1.0.2","LPB","Süd-Amerika","2025-07-03",24,null,null,null," "," ",null,{"$f":"IFERROR(AVERAGEIF(Eingabe!$I$2:$I$1276, \"SLLP\", Eingabe!$O$2:$O$1276), 0)","v":0}]
["SLSU","Sucre","Basis","Bolivien",{"$f":"COUNTIF(Eingabe!$F$2:$H$1276,\"SLSU\")","v":0},{"$f":"COUNTIF(Eingabe!$I$2:$K$1276,\"SLSU\")","v":0},"oldpc","1.1.0","***","Süd-Amerika","2025-03-29","20/24",null,null,null," "," ",null,{"$f":"IFERROR(AVERAGEIF(Eingabe!$I$2:$I$1276, \"SLSU\", Eingabe!$O$2:$O$1276), 0)","v":0}]
["SLVR","Santa Cruz","Basis","Bolivien",{"$f":"COUNTIF(Eingabe!$F$2:$H$1276,\"SLVR\")","v":0},{"$f":"COUNTIF(Eingabe!$I$2:$K$1276,\"SLVR\")","v":0},"tropicalsim","1.0.0","VVI","Süd-Amerika","2023-02-13","20/24",null,null,null," "," ",null,{"$f":"IFERROR(AVERAGEIF(Eingabe!$I$2:$I$1276, \"SLVR\", Eingabe!$O$2:$O$1276), 0)","v":0}]
["SOCA","Cayenne – Felix Eboue Airport","Basis","Frankreich",{"$f":"COUNTIF(Eingabe!$F$2:$H$1276,\"SOCA\")","v":0},{"$f":"COUNTIF(Eingabe!$I$2:$K$1276,\"SOCA\")","v":0},"slhsimdesigns","1.0.0","CAY","Süd-Amerika","2024-12-23",24,null,null,"G1"," "," ",null,{"$f":"IFERROR(AVERAGEIF(Eingabe!$I$2:$I$1276, \"SOCA\", Eingabe!$O$2:$O$1276), 0)","v":0}]
["SPJC","Lima / Jorge Chávez","Basis","Peru",{"$f":"COUNTIF(Eingabe!$F$2:$H$1276,\"SPJC\")","v":0},{"$f":"COUNTIF(Eingabe!$I$2:$K$1276,\"SPJC\")","v":0},"Low-End PC Studio","1.8.3","LIM","Süd-Amerika","2025-01-14",24,null,null,null," "," ",null,{"$f":"IFERROR(AVERAGEIF(Eingabe!$I$2:$I$1276, \"SPJC\", Eingabe!$O$2:$O$1276), 0)","v":0}]
["SPJL","Inca Manco","Basis","Peru",{"$f":"COUNTIF(Eingabe!$F$2:$H$1276,\"SPJL\")","v":0},{"$f":"COUNTIF(Eingabe!$I$2:$K$1276,\"SPJL\")","v":0},"Low-End PC Studio","2.0.0","JUL","Süd-Amerika","2025-01-02",24,null,null,null," "," ",null,{"$f":"IFERROR(AVERAGEIF(Eingabe!$I$2:$I$1276, \"SPJL\", Eingabe!$O$2:$O$1276), 0)","v":0}]
["SPQU","Rodríguez Ballón Int/Arequipa","Basis","Peru",{"$f":"COUNTIF(Eingabe!$F$2:$H$1276,\"SPQU\")","v":0},{"$f":"COUNTIF(Eingabe!$I$2:$K$1276,\"SPQU\")","v":0},"oldpc","2.0.0","AQP","Süd-Amerika","2023-01-08",24,null,null,null," "," ",null,{"$f":"IFERROR(AVERAGEIF(Eingabe!$I$2:$I$1276, \"SPQU\", Eingabe!$O$2:$O$1276), 0)","v":0}]
["SPRU","Trujillo","Basis","Peru",{"$f":"COUNTIF(Eingabe!$F$2:$H$1276,\"SPRU\")","v":0},{"$f":"COUNTIF(Eingabe!$I$2:$K$1276,\"SPRU\")","v":0},"oldpc","1.1.0","TRU","Süd-Amerika","2025-07-12",24,null,null,null," "," ",null,{"$f":"IFERROR(AVERAGEIF(Eingabe!$I$2:$I$1276, \"SPRU\", Eingabe!$O$2:$O$1276), 0)","v":0}]
["SPTN","Col-Carlos-Ciriani","Basis","Peru",{"$f":"COUNTIF(Eingabe!$F$2:$H$1276,\"SPTN\")","v":0},{"$f":"COUNTIF(Eingabe!$I$2:$K$1276,\"SPTN\")","v":0},"bvfr","1.0.0","TCQ","Süd-Amerika","2024-06-18","20/24",null,null,null," "," ",null,{"$f":"IFERROR(AVERAGEIF(Eingabe!$I$2:$I$1276, \"SPTN\", Eingabe!$O$2:$O$1276), 0)","v":0}]
["SPZO","Alejandro-Velasco-Astete","Basis","Peru",{"$f":"COUNTIF(Eingabe!$F$2:$H$1276,\"SPZO\")","v":0},{"$f":"COUNTIF(Eingabe!$I$2:$K$1276,\"SPZO\")","v":0},"fsdg","1.6.1","CUZ","Süd-Amerika","2026-02-12",24,null,null,null," "," ",null,{"$f":"IFERROR(AVERAGEIF(Eingabe!$I$2:$I$1276, \"SPZO\", Eingabe!$O$2:$O$1276), 0)","v":0}]
["SULS","Laguna del Sauce","Basis","Uruguay",{"$f":"COUNTIF(Eingabe!$F$2:$H$1276,\"SULS\")","v":0},{"$f":"COUNTIF(Eingabe!$I$2:$K$1276,\"SULS\")","v":0},"vuelosimple","1.1.0","PDP","Süd-Amerika","2023-07-06","20/24",null,null,null," "," ",null,{"$f":"IFERROR(AVERAGEIF(Eingabe!$I$2:$I$1276, \"SULS\", Eingabe!$O$2:$O$1276), 0)","v":0}]
["SVMI","Caracas","Basis","Venezuela",{"$f":"COUNTIF(Eingabe!$F$2:$H$1276,\"SVMI\")","v":0},{"$f":"COUNTIF(Eingabe!$I$2:$K$1276,\"SVMI\")","v":0},"pksim","1.0.2","CCS","Süd-Amerika","2023-05-16","20/24",null,null,null," "," ",null,{"$f":"IFERROR(AVERAGEIF(Eingabe!$I$2:$I$1276, \"SVMI\", Eingabe!$O$2:$O$1276), 0)","v":0}]
["TAPA","V.C Bird Intl.","Basis","Antigua",{"$f":"COUNTIF(Eingabe!$F$2:$H$1276,\"TAPA\")","v":0},{"$f":"COUNTIF(Eingabe!$I$2:$K$1276,\"TAPA\")","v":0},"tropicalsim","2.1.0","ANU","Nord-Amerika","2024-02-17","20/24",null,null,null," "," ",null,{"$f":"IFERROR(AVERAGEIF(Eingabe!$I$2:$I$1276, \"TAPA\", Eingabe!$O$2:$O$1276), 0)","v":0}]
["TBPB","Grantley Adams Intl.-Barbados","Basis","Barbados",{"$f":"COUNTIF(Eingabe!$F$2:$H$1276,\"TBPB\")","v":0},{"$f":"COUNTIF(Eingabe!$I$2:$K$1276,\"TBPB\")","v":0},"imaginesim","1.0.0","BGI","Nord-Amerika","2026-03-08",24,null,null,null," "," ",null,{"$f":"IFERROR(AVERAGEIF(Eingabe!$I$2:$I$1276, \"TBPB\", Eingabe!$O$2:$O$1276), 0)","v":0}]
["TFFF","Aime Cesare Intl.","Basis","Martinique",{"$f":"COUNTIF(Eingabe!$F$2:$H$1276,\"TFFF\")","v":0},{"$f":"COUNTIF(Eingabe!$I$2:$K$1276,\"TFFF\")","v":0},"tropicalsim","2.0.0","FDF","Nord-Amerika","2024-07-12","20/24",null,null,null," "," ",null,{"$f":"IFERROR(AVERAGEIF(Eingabe!$I$2:$I$1276, \"TFFF\", Eingabe!$O$2:$O$1276), 0)","v":0}]
["TFFR","Pointe-à-Pitre","Basis","Guadeloupe",{"$f":"COUNTIF(Eingabe!$F$2:$H$1276,\"TFFR\")","v":0},{"$f":"COUNTIF(Eingabe!$I$2:$K$1276,\"TFFR\")","v":0},"slhsimdesigns","1.5.1","PTP","Nord-Amerika","2022-10-21","20/24",null,null,null," "," ",null,{"$f":"IFERROR(AVERAGEIF(Eingabe!$I$2:$I$1276, \"TFFR\", Eingabe!$O$2:$O$1276), 0)","v":0}]
["TGPY","Maurice Bishop ","Basis","Grenada",{"$f":"COUNTIF(Eingabe!$F$2:$H$1276,\"TGPY\")","v":0},{"$f":"COUNTIF(Eingabe!$I$2:$K$1276,\"TGPY\")","v":0},"slhsimdesigns","1.1.0","GND","Nord-Amerika","2024-02-23","20/24",null,null,null," "," ",null,{"$f":"IFERROR(AVERAGEIF(Eingabe!$I$2:$I$1276, \"TGPY\", Eingabe!$O$2:$O$1276), 0)","v":0}]
["TJBQ","Rafael Hernández","Basis","Puerto Rico",{"$f":"COUNTIF(Eingabe!$F$2:$H$1276,\"TJBQ\")","v":0},{"$f":"COUNTIF(Eingabe!$I$2:$K$1276,\"TJBQ\")","v":0},"centralsim","1.1.0","BQN","Nord-Amerika","2022-04-02","20/24",null,null,null," "," ",null,{"$f":"IFERROR(AVERAGEIF(Eingabe!$I$2:$I$1276, \"TJBQ\", Eingabe!$O$2:$O$1276), 0)","v":0}]
["TJPS","Mercedita Intl.","Basis","Puerto Rico",{"$f":"COUNTIF(Eingabe!$F$2:$H$1276,\"TJPS\")","v":0},{"$f":"COUNTIF(Eingabe!$I$2:$K$1276,\"TJPS\")","v":0},"photorico","2.0.1","PSE","Nord-Amerika","2026-01-22",24,null,null,null," "," ",null,{"$f":"IFERROR(AVERAGEIF(Eingabe!$I$2:$I$1276, \"TJPS\", Eingabe!$O$2:$O$1276), 0)","v":0}]
["TJSJ","San Juan","Basis","Puerto Rico",{"$f":"COUNTIF(Eingabe!$F$2:$H$1276,\"TJSJ\")","v":0},{"$f":"COUNTIF(Eingabe!$I$2:$K$1276,\"TJSJ\")","v":0},"photorico","2.0.0","SJU","Nord-Amerika","2026-04-10",24,null,null,null," "," ",null,{"$f":"IFERROR(AVERAGEIF(Eingabe!$I$2:$I$1276, \"TJSJ\", Eingabe!$O$2:$O$1276), 0)","v":0}]
["TKPK","Robert L. Bradshaw Intl.","Basis","St. Kitts und Nevis",{"$f":"COUNTIF(Eingabe!$F$2:$H$1276,\"TKPK\")","v":0},{"$f":"COUNTIF(Eingabe!$I$2:$K$1276,\"TKPK\")","v":0},"tropicalsim","1.0.0","SKB","Nord-Amerika","2023-04-14","20/24",null,null,null," "," ",null,{"$f":"IFERROR(AVERAGEIF(Eingabe!$I$2:$I$1276, \"TKPK\", Eingabe!$O$2:$O$1276), 0)","v":0}]
["TNCA","Aruba","Basis","Niederl.Antillen",{"$f":"COUNTIF(Eingabe!$F$2:$H$1276,\"TNCA\")","v":0},{"$f":"COUNTIF(Eingabe!$I$2:$K$1276,\"TNCA\")","v":0},"tropicalsim","2.0.0","AUA","Nord-Amerika","2025-07-03","20/24",null,null,null," "," ",null,{"$f":"IFERROR(AVERAGEIF(Eingabe!$I$2:$I$1276, \"TNCA\", Eingabe!$O$2:$O$1276), 0)","v":0}]
["TNCB","Bonaire","Basis","Niederl.Antillen",{"$f":"COUNTIF(Eingabe!$F$2:$H$1276,\"TNCB\")","v":0},{"$f":"COUNTIF(Eingabe!$I$2:$K$1276,\"TNCB\")","v":0},"Aerosoft","1.0.2.0","BON","Nord-Amerika","2021-05-27","20/24",null,null,null," "," ",null,{"$f":"IFERROR(AVERAGEIF(Eingabe!$I$2:$I$1276, \"TNCB\", Eingabe!$O$2:$O$1276), 0)","v":0}]
["TNCC","Curacau","Basis","Niederl.Antillen",{"$f":"COUNTIF(Eingabe!$F$2:$H$1276,\"TNCC\")","v":0},{"$f":"COUNTIF(Eingabe!$I$2:$K$1276,\"TNCC\")","v":0},"tropicalsim","2.0.0","CUR","Nord-Amerika","2025-08-28","20/24",null,null,null," "," ",null,{"$f":"IFERROR(AVERAGEIF(Eingabe!$I$2:$I$1276, \"TNCC\", Eingabe!$O$2:$O$1276), 0)","v":0}]
["TNCM","Saint Maarten","Basis","Niederl.Antillen",{"$f":"COUNTIF(Eingabe!$F$2:$H$1276,\"TNCM\")","v":0},{"$f":"COUNTIF(Eingabe!$I$2:$K$1276,\"TNCM\")","v":0},"airworthydesigns","1.5.0","SXM","Nord-Amerika","2022-04-02","20/24",null,null,null," "," ",null,{"$f":"IFERROR(AVERAGEIF(Eingabe!$I$2:$I$1276, \"TNCM\", Eingabe!$O$2:$O$1276), 0)","v":0}]
["TVSA","Argyle-St. Vincent","Basis","St. Vincent und die Grenadinen",{"$f":"COUNTIF(Eingabe!$F$2:$H$1276,\"TVSA\")","v":0},{"$f":"COUNTIF(Eingabe!$I$2:$K$1276,\"TVSA\")","v":0},"richersimulations","1.0.7","SVD","Karibik","2024-03-24","20/24",null,null,null," "," ",null,{"$f":"IFERROR(AVERAGEIF(Eingabe!$I$2:$I$1276, \"TVSA\", Eingabe!$O$2:$O$1276), 0)","v":0}]
["TXKF","Bermuda Intl","Basis","Bermuda",{"$f":"COUNTIF(Eingabe!$F$2:$H$1276,\"TXKF\")","v":0},{"$f":"COUNTIF(Eingabe!$I$2:$K$1276,\"TXKF\")","v":0},"feelthere","1.0.1","BDA","Karibik","2025-12-23","20/24",null,null,null," "," ",null,{"$f":"IFERROR(AVERAGEIF(Eingabe!$I$2:$I$1276, \"TXKF\", Eingabe!$O$2:$O$1276), 0)","v":0}]
["UAAA","Almaty","Basis","Kasachstan",{"$f":"COUNTIF(Eingabe!$F$2:$H$1276,\"UAAA\")","v":0},{"$f":"COUNTIF(Eingabe!$I$2:$K$1276,\"UAAA\")","v":0},"dtsh","2.0.1","ALA","Europa","2025-10-29","20/24",null,null,null," "," ",null,{"$f":"IFERROR(AVERAGEIF(Eingabe!$I$2:$I$1276, \"UAAA\", Eingabe!$O$2:$O$1276), 0)","v":0}]
["UACC","Nursultan","Basis","Kasachstan",{"$f":"COUNTIF(Eingabe!$F$2:$H$1276,\"UACC\")","v":0},{"$f":"COUNTIF(Eingabe!$I$2:$K$1276,\"UACC\")","v":0},"MiddleAsiaDevelopers","2.0.0","NQZ","Europa","2025-11-05","20/24",null,null,null," "," ",null,{"$f":"IFERROR(AVERAGEIF(Eingabe!$I$2:$I$1276, \"UACC\", Eingabe!$O$2:$O$1276), 0)","v":0}]
["UAIT","Turkistan","Basis","Kasachstan",{"$f":"COUNTIF(Eingabe!$F$2:$H$1276,\"UAIT\")","v":0},{"$f":"COUNTIF(Eingabe!$I$2:$K$1276,\"UAIT\")","v":0},"dtsh","1.0.1","HSA","Europa","2025-11-23","20/24",null,null,null,{"$f":"IF(E846=0,\" \",\"✔️\")","v":" "},{"$f":"IF(F846=0,\" \",\"✔️\")","v":" "},null,{"$f":"IFERROR(AVERAGEIF(Eingabe!$I$2:$I$1276, \"UAIT\", Eingabe!$O$2:$O$1276), 0)","v":0}]
["UASK","Oskemen","Basis","Kasachstan",{"$f":"COUNTIF(Eingabe!$F$2:$H$1276,\"UASK\")","v":0},{"$f":"COUNTIF(Eingabe!$I$2:$K$1276,\"UASK\")","v":0},"MiddleAsiaDevelopers","1.0.0","UKK","Europa","2025-11-23","20/24",null,null,null," "," ",null,{"$f":"IFERROR(AVERAGEIF(Eingabe!$I$2:$I$1276, \"UASK\", Eingabe!$O$2:$O$1276), 0)","v":0}]
["UATE","Aktau","Basis","Kasachstan",{"$f":"COUNTIF(Eingabe!$F$2:$H$1276,\"UATE\")","v":0},{"$f":"COUNTIF(Eingabe!$I$2:$K$1276,\"UATE\")","v":0},"dtsh","1.0.0","SCO","Europa","2025-11-15","20/24",null,null,null," "," ",null,{"$f":"IFERROR(AVERAGEIF(Eingabe!$I$2:$I$1276, \"UATE\", Eingabe!$O$2:$O$1276), 0)","v":0}]
["UBBB","Baku","Basis","Aserbaidschan",{"$f":"COUNTIF(Eingabe!$F$2:$H$1276,\"UBBB\")","v":0},{"$f":"COUNTIF(Eingabe!$I$2:$K$1276,\"UBBB\")","v":0},"azrsim","1.3.0","GYD","Asien","2025-10-07","20/24",null,null,null," "," ",null,{"$f":"IFERROR(AVERAGEIF(Eingabe!$I$2:$I$1276, \"UBBB\", Eingabe!$O$2:$O$1276), 0)","v":0}]
["UDYZ","Jerewan","Basis","Armenien",{"$f":"COUNTIF(Eingabe!$F$2:$H$1276,\"UDYZ\")","v":0},{"$f":"COUNTIF(Eingabe!$I$2:$K$1276,\"UDYZ\")","v":0},"amsim","2.1.0","EVN","Asien","2026-06-21",24,null,null,null," "," ",null,{"$f":"IFERROR(AVERAGEIF(Eingabe!$I$2:$I$1276, \"UDYZ\", Eingabe!$O$2:$O$1276), 0)","v":0}]
["UGTB","Tiflis","Basis","Georgien",{"$f":"COUNTIF(Eingabe!$F$2:$H$1276,\"UGTB\")","v":0},{"$f":"COUNTIF(Eingabe!$I$2:$K$1276,\"UGTB\")","v":0},"amsim","1.2.0","TBS","Europa","2023-08-11","20/24",null,null,null," "," ",null,{"$f":"IFERROR(AVERAGEIF(Eingabe!$I$2:$I$1276, \"UGTB\", Eingabe!$O$2:$O$1276), 0)","v":0}]
["UKBB","Boryspil Kiew","Basis","Ukraine",{"$f":"COUNTIF(Eingabe!$F$2:$H$1276,\"UKBB\")","v":0},{"$f":"COUNTIF(Eingabe!$I$2:$K$1276,\"UKBB\")","v":0},"pyreegue","1.1.0","KBP","Europa","2022-02-21","20/24",null,null,null," "," ",null,{"$f":"IFERROR(AVERAGEIF(Eingabe!$I$2:$I$1276, \"UKBB\", Eingabe!$O$2:$O$1276), 0)","v":0}]
["UKKK","Kiew-Schuljany „Igor Sikorski“","Basis","Ukraine",{"$f":"COUNTIF(Eingabe!$F$2:$H$1276,\"UKKK\")","v":0},{"$f":"COUNTIF(Eingabe!$I$2:$K$1276,\"UKKK\")","v":0},"Freeware","1.0","IEV","Europa","2025-04-05","20/24",null,null,null," "," ",null,{"$f":"IFERROR(AVERAGEIF(Eingabe!$I$2:$I$1276, \"UKKK\", Eingabe!$O$2:$O$1276), 0)","v":0}]
["UKLL","LWIW-Lemberg","Basis","Ukraine",{"$f":"COUNTIF(Eingabe!$F$2:$H$1276,\"UKLL\")","v":0},{"$f":"COUNTIF(Eingabe!$I$2:$K$1276,\"UKLL\")","v":0},"pyreegue","1.0.0","LWO","Europa","2021-04-05","20/24",null,null,null," "," ",null,{"$f":"IFERROR(AVERAGEIF(Eingabe!$I$2:$I$1276, \"UKLL\", Eingabe!$O$2:$O$1276), 0)","v":0}]
["UKOO","Odessa","Basis","Ukraine",{"$f":"COUNTIF(Eingabe!$F$2:$H$1276,\"UKOO\")","v":0},{"$f":"COUNTIF(Eingabe!$I$2:$K$1276,\"UKOO\")","v":0},"pyreegue","1.1.0","ODS","Europa","2021-08-26","20/24",null,null,null," "," ",null,{"$f":"IFERROR(AVERAGEIF(Eingabe!$I$2:$I$1276, \"UKOO\", Eingabe!$O$2:$O$1276), 0)","v":0}]
["UTAA","Ashgabat","Basis","Turkmenistan",{"$f":"COUNTIF(Eingabe!$F$2:$H$1276,\"UTDD\")","v":0},{"$f":"COUNTIF(Eingabe!$I$2:$K$1276,\"UTDD\")","v":0},"Vizcaine","1.1.0","ASB","Asien","2026-02-12","20/24",null,null,null," "," ",null,{"$f":"IFERROR(AVERAGEIF(Eingabe!$I$2:$I$1276, \"UTAA\", Eingabe!$O$2:$O$1276), 0)","v":0}]
["UTDD","Ushanbe","Basis","Tajikistan",{"$f":"COUNTIF(Eingabe!$F$2:$H$1276,\"UTDD\")","v":0},{"$f":"COUNTIF(Eingabe!$I$2:$K$1276,\"UTDD\")","v":0},"MiddleAsiaDevelopers","2.0.0","DYU","Asien","2025-11-15","20/24",null,null,null," "," ",null,{"$f":"IFERROR(AVERAGEIF(Eingabe!$I$2:$I$1276, \"UTDD\", Eingabe!$O$2:$O$1276), 0)","v":0}]
["VABB","Mumbai","Basis","Indien",{"$f":"COUNTIF(Eingabe!$F$2:$H$1276,\"VABB\")","v":0},{"$f":"COUNTIF(Eingabe!$I$2:$K$1276,\"VABB\")","v":0},"mskproductions","1.0.0","BOM","Asien","2023-08-07","20/24",null,null,null," "," ",null,{"$f":"IFERROR(AVERAGEIF(Eingabe!$I$2:$I$1276, \"VABB\", Eingabe!$O$2:$O$1276), 0)","v":0}]
["VCBI","Katunayake - Colombo","Basis","Sri Lanka",{"$f":"COUNTIF(Eingabe!$F$2:$H$1276,\"VCBI\")","v":0},{"$f":"COUNTIF(Eingabe!$I$2:$K$1276,\"VCBI\")","v":0},"mfsg","1.3.0","CMB","Asien","2025-03-29","20/24",null,null,null," "," ",null,{"$f":"IFERROR(AVERAGEIF(Eingabe!$I$2:$I$1276, \"VCBI\", Eingabe!$O$2:$O$1276), 0)","v":0}]
["VDPP","Phnom Penn","Basis","Kambodscha",{"$f":"COUNTIF(Eingabe!$F$2:$H$1276,\"VDPP\")","v":0},{"$f":"COUNTIF(Eingabe!$I$2:$K$1276,\"VDPP\")","v":0},"mfsg","1.0.0","PNH","Asien","2025-05-17","20/24",null,null,null," "," ",null,{"$f":"IFERROR(AVERAGEIF(Eingabe!$I$2:$I$1276, \"VDPP\", Eingabe!$O$2:$O$1276), 0)","v":0}]
["VDSA","Siem Reap-Angkor","Basis","Kambodscha",{"$f":"COUNTIF(Eingabe!$F$2:$H$1276,\"VDSA\")","v":0},{"$f":"COUNTIF(Eingabe!$I$2:$K$1276,\"VDSA\")","v":0},"fsxcenery","2.0.0","SAI","Asien","2024-06-30","20/24",null,null,null," "," ",null,{"$f":"IFERROR(AVERAGEIF(Eingabe!$I$2:$I$1276, \"VDSA\", Eingabe!$O$2:$O$1276), 0)","v":0}]
["VEBD","Bagdogra","Basis","Indien",{"$f":"COUNTIF(Eingabe!$F$2:$H$1276,\"VEBD\")","v":0},{"$f":"COUNTIF(Eingabe!$I$2:$K$1276,\"VEBD\")","v":0},"designindia","1.0.0","IXB","Asien","2024-09-11","20/24",null,null,null," "," ",null,{"$f":"IFERROR(AVERAGEIF(Eingabe!$I$2:$I$1276, \"VEBD\", Eingabe!$O$2:$O$1276), 0)","v":0}]
["VGHS","Dhaka Intl.","Basis","Bangladesch",{"$f":"COUNTIF(Eingabe!$F$2:$H$1276,\"VGHS\")","v":0},{"$f":"COUNTIF(Eingabe!$I$2:$K$1276,\"VGHS\")","v":0},"finalapproachdesignsimulations","1.5.2","DAC","Asien","2025-04-17","20/24",null,null,null," "," ",null,{"$f":"IFERROR(AVERAGEIF(Eingabe!$I$2:$I$1276, \"VGHS\", Eingabe!$O$2:$O$1276), 0)","v":0}]
["VGSY","Sylhet","Basis","Bangladesch",{"$f":"COUNTIF(Eingabe!$F$2:$H$1276,\"VGSY\")","v":0},{"$f":"COUNTIF(Eingabe!$I$2:$K$1276,\"VGSY\")","v":0},"finalapproachdesignsimulations","1.0.0","ZYL","Asien","2024-06-18","20/24",null,null,null," "," ",null,{"$f":"IFERROR(AVERAGEIF(Eingabe!$I$2:$I$1276, \"VGSY\", Eingabe!$O$2:$O$1276), 0)","v":0}]
["VHHH","HongKong","Basis","Hong Kong",{"$f":"COUNTIF(Eingabe!$F$2:$H$1276,\"VHHH\")","v":0},{"$f":"COUNTIF(Eingabe!$I$2:$K$1276,\"VHHH\")","v":0},"inibuilds","1.0.2","HGK","Asien","2026-05-16",24,null,null,null," "," ",null,{"$f":"IFERROR(AVERAGEIF(Eingabe!$I$2:$I$1276, \"VHHH\", Eingabe!$O$2:$O$1276), 0)","v":0}]
["VIDP","Indira Ghandi / Delhi","Basis","Indien",{"$f":"COUNTIF(Eingabe!$F$2:$H$1276,\"VIDP\")","v":0},{"$f":"COUNTIF(Eingabe!$I$2:$K$1276,\"VIDP\")","v":0},"feelthere","1.0.0","DEL","Asien","2023-10-13","20/24",null,null,null," "," ",null,{"$f":"IFERROR(AVERAGEIF(Eingabe!$I$2:$I$1276, \"VIDP\", Eingabe!$O$2:$O$1276), 0)","v":0}]
["VIJP","Jaipur Intl.","Basis","Indien",{"$f":"COUNTIF(Eingabe!$F$2:$H$1276,\"VIJP\")","v":0},{"$f":"COUNTIF(Eingabe!$I$2:$K$1276,\"VIJP\")","v":0},"skymatrix","1.0.2","JAI","Asien","2026-04-10","20/24",null,null,null," "," ",null,{"$f":"IFERROR(AVERAGEIF(Eingabe!$I$2:$I$1276, \"VIJP\", Eingabe!$O$2:$O$1276), 0)","v":0}]
["VLLB","Luang-Phabang","Basis","Laos",{"$f":"COUNTIF(Eingabe!$F$2:$H$1276,\"VLLB\")","v":0},{"$f":"COUNTIF(Eingabe!$I$2:$K$1276,\"VLLB\")","v":0},"fsdg","1.0.0","LPQ","Asien","2026-06-21",24,null,null,null," "," ",null,{"$f":"IFERROR(AVERAGEIF(Eingabe!$I$2:$I$1276, \"VLLB\", Eingabe!$O$2:$O$1276), 0)","v":0}]
["VMMC","Macau","Basis","China",{"$f":"COUNTIF(Eingabe!$F$2:$H$1276,\"VMMC\")","v":0},{"$f":"COUNTIF(Eingabe!$I$2:$K$1276,\"VMMC\")","v":0},"samscene","2.5.2","MFM","Asien","2026-01-03",24,null,null,null," "," ",null,{"$f":"IFERROR(AVERAGEIF(Eingabe!$I$2:$I$1276, \"VMMC\", Eingabe!$O$2:$O$1276), 0)","v":0}]
["VNLK","Lukla","Basis","Nepal",{"$f":"COUNTIF(Eingabe!$F$2:$H$1276,\"VNLK\")","v":0},{"$f":"COUNTIF(Eingabe!$I$2:$K$1276,\"VNLK\")","v":0},"Aerosoft","1.5.1","LUA","Asien","2025-08-28",24,null,null,null," "," ",null,{"$f":"IFERROR(AVERAGEIF(Eingabe!$I$2:$I$1276, \"VNLK\", Eingabe!$O$2:$O$1276), 0)","v":0}]
["VOBL","Bangalore","Basis","Indien",{"$f":"COUNTIF(Eingabe!$F$2:$H$1276,\"VOBL\")","v":0},{"$f":"COUNTIF(Eingabe!$I$2:$K$1276,\"VOBL\")","v":0},"fsdg","1.3.1","BLR","Asien","2026-01-03",24,null,null,null," "," ",null,{"$f":"IFERROR(AVERAGEIF(Eingabe!$I$2:$I$1276, \"VOBL\", Eingabe!$O$2:$O$1276), 0)","v":0}]
["VOBZ","Vijayawada","Basis","Indien",{"$f":"COUNTIF(Eingabe!$F$2:$H$1276,\"VOBZ\")","v":0},{"$f":"COUNTIF(Eingabe!$I$2:$K$1276,\"VOBZ\")","v":0},"velocitystudios","3.0.0","VGA","Asien","2024-09-11","20/24",null,null,null," "," ",null,{"$f":"IFERROR(AVERAGEIF(Eingabe!$I$2:$I$1276, \"VOBZ\", Eingabe!$O$2:$O$1276), 0)","v":0}]
["VOCI","Cochin Intl.","Basis","Indien",{"$f":"COUNTIF(Eingabe!$F$2:$H$1276,\"VOCI\")","v":0},{"$f":"COUNTIF(Eingabe!$I$2:$K$1276,\"VOCI\")","v":0},"cascadiaapproach","1.1.0","COK","Asien","2023-11-15","20/24",null,null,null," "," ",null,{"$f":"IFERROR(AVERAGEIF(Eingabe!$I$2:$I$1276, \"VOCI\", Eingabe!$O$2:$O$1276), 0)","v":0}]
["VOCL","Kozhikode","Basis","Indien",{"$f":"COUNTIF(Eingabe!$F$2:$H$1276,\"VOCL\")","v":0},{"$f":"COUNTIF(Eingabe!$I$2:$K$1276,\"VOCL\")","v":0},"velocitystudios","1.1.0","CCJ","Asien","2024-04-11","20/24",null,null,null," "," ",null,{"$f":"IFERROR(AVERAGEIF(Eingabe!$I$2:$I$1276, \"VOCL\", Eingabe!$O$2:$O$1276), 0)","v":0}]
["VQPR","Paro","Basis","Bhutan",{"$f":"COUNTIF(Eingabe!$F$2:$H$1276,\"VQPR\")","v":0},{"$f":"COUNTIF(Eingabe!$I$2:$K$1276,\"VQPR\")","v":0},"ironsim","1.0.2","PBH","Asien","2025-08-14","20/24",null,null,null," "," ",null,{"$f":"IFERROR(AVERAGEIF(Eingabe!$I$2:$I$1276, \"VQPR\", Eingabe!$O$2:$O$1276), 0)","v":0}]
["VRMM","Male","Basis","Malediven",{"$f":"COUNTIF(Eingabe!$F$2:$H$1276,\"VRMM\")","v":0},{"$f":"COUNTIF(Eingabe!$I$2:$K$1276,\"VRMM\")","v":0},"FSDG","1.1.0","MLE","Asien","2025-01-23",24,null,null,null," "," ",null,{"$f":"IFERROR(AVERAGEIF(Eingabe!$I$2:$I$1276, \"VRMM\", Eingabe!$O$2:$O$1276), 0)","v":0}]
["VTBD","Bangkok Intl. Don Mueang","Basis","Thailand",{"$f":"COUNTIF(Eingabe!$F$2:$H$1276,\"VTBD\")","v":0},{"$f":"COUNTIF(Eingabe!$I$2:$K$1276,\"VTBD\")","v":0},"siamflight","1.1.0","DMK","Asien","2026-04-26","20/24",null,null,null," "," ",null,{"$f":"IFERROR(AVERAGEIF(Eingabe!$I$2:$I$1276, \"VTBD\", Eingabe!$O$2:$O$1276), 0)","v":0}]
["VTBS","Bangkok-Suvarnabhumi","Basis","Thailand",{"$f":"COUNTIF(Eingabe!$F$2:$H$1276,\"VTBS\")","v":0},{"$f":"COUNTIF(Eingabe!$I$2:$K$1276,\"VTBS\")","v":0},"siamflight","1.0.11","BKK","Asien","2025-03-09","20/24",null,null,null,{"$f":"IF(E878=0,\" \",\"✔️\")","v":" "},{"$f":"IF(F878=0,\" \",\"✔️\")","v":" "},null,{"$f":"IFERROR(AVERAGEIF(Eingabe!$I$2:$I$1276, \"VTBS\", Eingabe!$O$2:$O$1276), 0)","v":0}]
["VTBU","Pattaya","Basis","Thailand",{"$f":"COUNTIF(Eingabe!$F$2:$H$1276,\"VTBU\")","v":0},{"$f":"COUNTIF(Eingabe!$I$2:$K$1276,\"VTBU\")","v":0},"siamflight","1.0.0","UTP","Asien","2024-09-29","20/24",null,null,null," "," ",null,{"$f":"IFERROR(AVERAGEIF(Eingabe!$I$2:$I$1276, \"VTBU\", Eingabe!$O$2:$O$1276), 0)","v":0}]
["VTCC","Chiang-Mai","Basis","Thailand",{"$f":"COUNTIF(Eingabe!$F$2:$H$1276,\"VTCC\")","v":0},{"$f":"COUNTIF(Eingabe!$I$2:$K$1276,\"VTCC\")","v":0},"siamflight","1.0.3","CNX","Asien","2023-09-22","20/24",null,null,null," "," ",null,{"$f":"IFERROR(AVERAGEIF(Eingabe!$I$2:$I$1276, \"VTCC\", Eingabe!$O$2:$O$1276), 0)","v":0}]
["VTCL","Lampang","Basis","Thailand",{"$f":"COUNTIF(Eingabe!$F$2:$H$1276,\"VTCL\")","v":0},{"$f":"COUNTIF(Eingabe!$I$2:$K$1276,\"VTCL\")","v":0},"siamflight","1.2.4","LPT","Asien","2026-02-28","20/24",null,null,null," "," ",null,{"$f":"IFERROR(AVERAGEIF(Eingabe!$I$2:$I$1276, \"VTCL\", Eingabe!$O$2:$O$1276), 0)","v":0}]
["VTCT","MAE-Fah-Luang","Basis","Thailand",{"$f":"COUNTIF(Eingabe!$F$2:$H$1276,\"VTCT\")","v":0},{"$f":"COUNTIF(Eingabe!$I$2:$K$1276,\"VTCT\")","v":0},"siamflight","1.1.0","CEI","Asien","2026-05-25","20/24",null,null,null," "," ",null,{"$f":"IFERROR(AVERAGEIF(Eingabe!$I$2:$I$1276, \"VTCT\", Eingabe!$O$2:$O$1276), 0)","v":0}]
["VTSG","Krabi","Basis","Thailand",{"$f":"COUNTIF(Eingabe!$F$2:$H$1276,\"VTSG\")","v":0},{"$f":"COUNTIF(Eingabe!$I$2:$K$1276,\"VTSG\")","v":0},"simman","1.1.0","KBV","Asien","2025-09-11","20/24",null,null,null," "," ",null,{"$f":"IFERROR(AVERAGEIF(Eingabe!$I$2:$I$1276, \"VTSG\", Eingabe!$O$2:$O$1276), 0)","v":0}]
["VTSM","Samui","Basis","Thailand",{"$f":"COUNTIF(Eingabe!$F$2:$H$1276,\"VTSM\")","v":0},{"$f":"COUNTIF(Eingabe!$I$2:$K$1276,\"VTSM\")","v":0},"siamflight","1.0.4","USM","Asien","2026-02-28","20/24",null,null,null," "," ",null,{"$f":"IFERROR(AVERAGEIF(Eingabe!$I$2:$I$1276, \"VTSM\", Eingabe!$O$2:$O$1276), 0)","v":0}]
["VTSP","Phuket","Basis","Thailand",{"$f":"COUNTIF(Eingabe!$F$2:$H$1276,\"VTSP\")","v":0},{"$f":"COUNTIF(Eingabe!$I$2:$K$1276,\"VTSP\")","v":0},"siamflight","1.0.4","HKT","Asien","2026-07-12","20/24",null,null,null," "," ",null,{"$f":"IFERROR(AVERAGEIF(Eingabe!$I$2:$I$1276, \"VTSP\", Eingabe!$O$2:$O$1276), 0)","v":0}]
["VTST","Trang","Basis","Thailand",{"$f":"COUNTIF(Eingabe!$F$2:$H$1276,\"VTSG\")","v":0},{"$f":"COUNTIF(Eingabe!$I$2:$K$1276,\"VTSG\")","v":0},"siamflight","1.0.0","KBV","Asien","2026-03-08","20/24",null,null,null," "," ",null,{"$f":"IFERROR(AVERAGEIF(Eingabe!$I$2:$I$1276, \"VTST\", Eingabe!$O$2:$O$1276), 0)","v":0}]
["VTSY","Betong","Basis","Thailand",{"$f":"COUNTIF(Eingabe!$F$2:$H$1276,\"VTSP\")","v":0},{"$f":"COUNTIF(Eingabe!$I$2:$K$1276,\"VTSP\")","v":0},"simman","1.1.0","HKT","Asien","2026-04-19","20/24",null,null,null,null,null,null,{"$f":"IFERROR(AVERAGEIF(Eingabe!$I$2:$I$1276, \"VTSY\", Eingabe!$O$2:$O$1276), 0)","v":0}]
["VTUL","Loei","Basis","Thailand",{"$f":"COUNTIF(Eingabe!$F$2:$H$1276,\"VTUL\")","v":0},{"$f":"COUNTIF(Eingabe!$I$2:$K$1276,\"VTUL\")","v":0},"simman","1.1.0","LOE","Asien",null,"20/24",null,null,null,{"$f":"IF(E888=0,\" \",\"✔️\")","v":" "},{"$f":"IF(F888=0,\" \",\"✔️\")","v":" "},null,{"$f":"IFERROR(AVERAGEIF(Eingabe!$I$2:$I$1276, \"VTUL\", Eingabe!$O$2:$O$1276), 0)","v":0}]
["VTUU","Ubon Ratchathani","Basis","Thailand",{"$f":"COUNTIF(Eingabe!$F$2:$H$1276,\"VTUU\")","v":0},{"$f":"COUNTIF(Eingabe!$I$2:$K$1276,\"VTUU\")","v":0},"simman","1.5.0","UBP","Asien","2025-03-01","20/24",null,null,null," "," ",null,{"$f":"IFERROR(AVERAGEIF(Eingabe!$I$2:$I$1276, \"VTUU\", Eingabe!$O$2:$O$1276), 0)","v":0}]
["VVDN","Da Nang","Basis","Vietnam",{"$f":"COUNTIF(Eingabe!$F$2:$H$1276,\"VVDN\")","v":0},{"$f":"COUNTIF(Eingabe!$I$2:$K$1276,\"VVDN\")","v":0},"dominicdesignteam","1.0.0","DAD","Asien","2021-12-01","20/24",null,null,null," "," ",null,{"$f":"IFERROR(AVERAGEIF(Eingabe!$I$2:$I$1276, \"VVDN\", Eingabe!$O$2:$O$1276), 0)","v":0}]
["VVNB","Hanoi","Basis","Vietnam",{"$f":"COUNTIF(Eingabe!$F$2:$H$1276,\"VVNB\")","v":0},{"$f":"COUNTIF(Eingabe!$I$2:$K$1276,\"VVNB\")","v":0},"dominicdesignteam","1.0.0","HAN","Asien","2021-12-12","20/24",null,null,null," "," ",null,{"$f":"IFERROR(AVERAGEIF(Eingabe!$I$2:$I$1276, \"VVNB\", Eingabe!$O$2:$O$1276), 0)","v":0}]
["VVTS","Ho Chi Minh Stadt","Basis","Vietnam",{"$f":"COUNTIF(Eingabe!$F$2:$H$1276,\"VVTS\")","v":0},{"$f":"COUNTIF(Eingabe!$I$2:$K$1276,\"VVTS\")","v":0},"dominicdesignteam","2.0.4","SGN","Asien","2026-01-22","20/24",null,null,null," "," ",null,{"$f":"IFERROR(AVERAGEIF(Eingabe!$I$2:$I$1276, \"VVTS\", Eingabe!$O$2:$O$1276), 0)","v":0}]
["VYMD","Mandalay","Basis","Myanmar",{"$f":"COUNTIF(Eingabe!$F$2:$H$1276,\"VYMD\")","v":0},{"$f":"COUNTIF(Eingabe!$I$2:$K$1276,\"VYMD\")","v":0},"siamflight","1.0.0","MDL","Asien","2024-10-03","20/24",null,null,null," "," ",null,{"$f":"IFERROR(AVERAGEIF(Eingabe!$I$2:$I$1276, \"VYMD\", Eingabe!$O$2:$O$1276), 0)","v":0}]
["VYYY","Rangun Intl.","Basis","Myanmar",{"$f":"COUNTIF(Eingabe!$F$2:$H$1276,\"VYYY\")","v":0},{"$f":"COUNTIF(Eingabe!$I$2:$K$1276,\"VYYY\")","v":0},"mfsg","1.0.0","RGN","Asien","2023-03-19","20/24",null,null,null," "," ",null,{"$f":"IFERROR(AVERAGEIF(Eingabe!$I$2:$I$1276, \"VYYY\", Eingabe!$O$2:$O$1276), 0)","v":0}]
["WADD","Ngurah-Rai- Bali ","Basis","Indonesien",{"$f":"COUNTIF(Eingabe!$F$2:$H$1276,\"WADD\")","v":0},{"$f":"COUNTIF(Eingabe!$I$2:$K$1276,\"WADD\")","v":0},"Aerosoft","1.2.1","DPS","Asien","2023-06-13","20/24",null,null,null," "," ",null,{"$f":"IFERROR(AVERAGEIF(Eingabe!$I$2:$I$1276, \"WADD\", Eingabe!$O$2:$O$1276), 0)","v":0}]
["WADL","Lombok Intl.","Basis","Indonesien",{"$f":"COUNTIF(Eingabe!$F$2:$H$1276,\"WADL\")","v":0},{"$f":"COUNTIF(Eingabe!$I$2:$K$1276,\"WADL\")","v":0},"worldsky","1.0.1","LOP","Asien","2023-06-05","20/24",null,null,null," "," ",null,{"$f":"IFERROR(AVERAGEIF(Eingabe!$I$2:$I$1276, \"WADL\", Eingabe!$O$2:$O$1276), 0)","v":0}]
["WAHI","Yogyakarta / Java","Basis","Indonesien",{"$f":"COUNTIF(Eingabe!$F$2:$H$1276,\"WAHI\")","v":0},{"$f":"COUNTIF(Eingabe!$I$2:$K$1276,\"WAHI\")","v":0},"mujagoaviation","1.0.0","YIA","Asien","2023-04-26","20/24",null,null,null," "," ",null,{"$f":"IFERROR(AVERAGEIF(Eingabe!$I$2:$I$1276, \"WAHI\", Eingabe!$O$2:$O$1276), 0)","v":0}]
["WAHS","Jenderal Ahmad Yani Int","Basis","Indonesien",{"$f":"COUNTIF(Eingabe!$F$2:$H$1276,\"WAHS\")","v":0},{"$f":"COUNTIF(Eingabe!$I$2:$K$1276,\"WAHS\")","v":0},"aeronoms","1.0.1","SRG","Asien","2023-05-16","20/24",null,null,null," "," ",null,{"$f":"IFERROR(AVERAGEIF(Eingabe!$I$2:$I$1276, \"WAHS\", Eingabe!$O$2:$O$1276), 0)","v":0}]
["WAOO","Banjarmasin-Syamsudin Noor","Basis","Indonesien",{"$f":"COUNTIF(Eingabe!$F$2:$H$1276,\"WAOO\")","v":0},{"$f":"COUNTIF(Eingabe!$I$2:$K$1276,\"WAOO\")","v":0},"binersim","1.0.0","BDJ","Asien","2023-12-16","20/24",null,null,null," "," ",null,{"$f":"IFERROR(AVERAGEIF(Eingabe!$I$2:$I$1276, \"WAOO\", Eingabe!$O$2:$O$1276), 0)","v":0}]
["WARR","Surabaya-Juanda","Basis","Indonesien",{"$f":"COUNTIF(Eingabe!$F$2:$H$1276,\"WARR\")","v":0},{"$f":"COUNTIF(Eingabe!$I$2:$K$1276,\"WARR\")","v":0},"suroboyosim","1.1.0","SUB","Asien","2025-03-19","20/24",null,null,null," "," ",null,{"$f":"IFERROR(AVERAGEIF(Eingabe!$I$2:$I$1276, \"WARR\", Eingabe!$O$2:$O$1276), 0)","v":0}]
["WAWW","Haluoleo","Basis","Indonesien",{"$f":"COUNTIF(Eingabe!$F$2:$H$1276,\"WAWW\")","v":0},{"$f":"COUNTIF(Eingabe!$I$2:$K$1276,\"WAWW\")","v":0},"Gudisim","1.3.0","KDI","Asien","2024-01-27","20/24",null,null,null," "," ",null,{"$f":"IFERROR(AVERAGEIF(Eingabe!$I$2:$I$1276, \"WAWW\", Eingabe!$O$2:$O$1276), 0)","v":0}]
["WBGB","Bintulu","Basis","Malaysia",{"$f":"COUNTIF(Eingabe!$F$2:$H$1276,\"WBGB\")","v":0},{"$f":"COUNTIF(Eingabe!$I$2:$K$1276,\"WBGB\")","v":0},"secretstudio","1.1.0","BTU","Asien","2025-10-29","20/24",null,null,null," "," ",null,{"$f":"IFERROR(AVERAGEIF(Eingabe!$I$2:$I$1276, \"WBGB\", Eingabe!$O$2:$O$1276), 0)","v":0}]
["WBGG","Kuching","Basis","Malaysia",{"$f":"COUNTIF(Eingabe!$F$2:$H$1276,\"WBGG\")","v":0},{"$f":"COUNTIF(Eingabe!$I$2:$K$1276,\"WBGG\")","v":0},"secretstudio","1.3.1","KCH","Asien","2025-10-22","20/24",null,null,null," "," ",null,{"$f":"IFERROR(AVERAGEIF(Eingabe!$I$2:$I$1276, \"WBGG\", Eingabe!$O$2:$O$1276), 0)","v":0}]
["WBGR","Miri / Borneo","Basis","Malaysia",{"$f":"COUNTIF(Eingabe!$F$2:$H$1276,\"WBGR\")","v":0},{"$f":"COUNTIF(Eingabe!$I$2:$K$1276,\"WBGR\")","v":0},"secretstudio","2.2.0","MYY","Asien","2025-04-27","20/24",null,null,null," "," ",null,{"$f":"IFERROR(AVERAGEIF(Eingabe!$I$2:$I$1276, \"WBGR\", Eingabe!$O$2:$O$1276), 0)","v":0}]
["WBKK","Kota Kinabalu Intl.","Basis","Malaysia",{"$f":"COUNTIF(Eingabe!$F$2:$H$1276,\"WBKK\")","v":0},{"$f":"COUNTIF(Eingabe!$I$2:$K$1276,\"WBKK\")","v":0},"secretstudio","2.4.0","SHA","Asien","2025-10-14","20/24",null,null,null," "," ",null,{"$f":"IFERROR(AVERAGEIF(Eingabe!$I$2:$I$1276, \"WBKK\", Eingabe!$O$2:$O$1276), 0)","v":0}]
["WBKL","Labuan","Basis","Malaysia",{"$f":"COUNTIF(Eingabe!$F$2:$H$1276,\"WBKL\")","v":0},{"$f":"COUNTIF(Eingabe!$I$2:$K$1276,\"WBKL\")","v":0},"shadiscene","1.1.0","LBU","Asien","2023-05-02","20/24",null,null,null," "," ",null,{"$f":"IFERROR(AVERAGEIF(Eingabe!$I$2:$I$1276, \"WBKL\", Eingabe!$O$2:$O$1276), 0)","v":0}]
["WBKW","Tawau","Basis","Malaysia",{"$f":"COUNTIF(Eingabe!$F$2:$H$1276,\"WBKW\")","v":0},{"$f":"COUNTIF(Eingabe!$I$2:$K$1276,\"WBKW\")","v":0},"shadiscene","1.1.0","TWU","Asien","2025-08-28","20/24",null,null,null," "," ",null,{"$f":"IFERROR(AVERAGEIF(Eingabe!$I$2:$I$1276, \"WBKW\", Eingabe!$O$2:$O$1276), 0)","v":0}]
["WBSB","Brunei Intl.","Basis","Brunei",{"$f":"COUNTIF(Eingabe!$F$2:$H$1276,\"WBSB\")","v":0},{"$f":"COUNTIF(Eingabe!$I$2:$K$1276,\"WBSB\")","v":0},"mfsg","1.2.1","BWN","Asien","2026-06-10","20/24",null,null,null," "," ",null,{"$f":"IFERROR(AVERAGEIF(Eingabe!$I$2:$I$1276, \"WBSB\", Eingabe!$O$2:$O$1276), 0)","v":0}]
["WICA","Kertajati Intl.","Basis","Indonesien",{"$f":"COUNTIF(Eingabe!$F$2:$H$1276,\"WICA\")","v":0},{"$f":"COUNTIF(Eingabe!$I$2:$K$1276,\"WICA\")","v":0},"nusim","1.0.0","KJT","Asien","2023-12-31","20/24",null,null,null," "," ",null,{"$f":"IFERROR(AVERAGEIF(Eingabe!$I$2:$I$1276, \"WICA\", Eingabe!$O$2:$O$1276), 0)","v":0}]
["WIDD","Batam/Hang Nadim-Riau","Basis","Indonesien",{"$f":"COUNTIF(Eingabe!$F$2:$H$1276,\"WIDD\")","v":0},{"$f":"COUNTIF(Eingabe!$I$2:$K$1276,\"WIDD\")","v":0},"squawkid","1.0.1","BTH","Asien","2023-07-28","20/24",null,null,null," "," ",null,{"$f":"IFERROR(AVERAGEIF(Eingabe!$I$2:$I$1276, \"WIDD\", Eingabe!$O$2:$O$1276), 0)","v":0}]
["WIII","Soekarno-Hatta","Basis","Indonesien",{"$f":"COUNTIF(Eingabe!$F$2:$H$1276,\"WIII\")","v":0},{"$f":"COUNTIF(Eingabe!$I$2:$K$1276,\"WIII\")","v":0},"binersim","1.0.0","CGK","Asien","2023-06-24","20/24",null,null,null," "," ",null,{"$f":"IFERROR(AVERAGEIF(Eingabe!$I$2:$I$1276, \"WIII\", Eingabe!$O$2:$O$1276), 0)","v":0}]
["WIMM","Kuala Namu / Sumatra","Basis","Indonesien",{"$f":"COUNTIF(Eingabe!$F$2:$H$1276,\"WIMM\")","v":0},{"$f":"COUNTIF(Eingabe!$I$2:$K$1276,\"WIMM\")","v":0},"worldsky","1.0.1","KNO","Asien","2023-04-26","20/24",null,null,null," "," ",null,{"$f":"IFERROR(AVERAGEIF(Eingabe!$I$2:$I$1276, \"WIMM\", Eingabe!$O$2:$O$1276), 0)","v":0}]
["WIPP","Sultan-Mahmud","Basis","Indonesien",{"$f":"COUNTIF(Eingabe!$F$2:$H$1276,\"WIPP\")","v":0},{"$f":"COUNTIF(Eingabe!$I$2:$K$1276,\"WIPP\")","v":0},"mujagoaviation","1.0.0","PLM","Asien","2023-04-11","20/24",null,null,null," "," ",null,{"$f":"IFERROR(AVERAGEIF(Eingabe!$I$2:$I$1276, \"WIPP\", Eingabe!$O$2:$O$1276), 0)","v":0}]
["WITT","Sultan Iskandar Muda","Basis","Indonesien",{"$f":"COUNTIF(Eingabe!$F$2:$H$1276,\"WITT\")","v":0},{"$f":"COUNTIF(Eingabe!$I$2:$K$1276,\"WITT\")","v":0},"binersim","1.0.0","BTJ","Asien","2022-05-18","20/24",null,null,null," "," ",null,{"$f":"IFERROR(AVERAGEIF(Eingabe!$I$2:$I$1276, \"WITT\", Eingabe!$O$2:$O$1276), 0)","v":0}]
["WMKA","Sultan Abdul Halim","Basis","Indonesien",{"$f":"COUNTIF(Eingabe!$F$2:$H$1276,\"WMKA\")","v":0},{"$f":"COUNTIF(Eingabe!$I$2:$K$1276,\"WMKA\")","v":0},"shadescene","1.1.0","AOR","Asien","2026-07-03","20/24",null,null,null," "," ",null,{"$f":"IFERROR(AVERAGEIF(Eingabe!$I$2:$I$1276, \"WMKA\", Eingabe!$O$2:$O$1276), 0)","v":0}]
["WMKC","Kota Bharu","Basis","Malaysia",{"$f":"COUNTIF(Eingabe!$F$2:$H$1276,\"WMKC\")","v":0},{"$f":"COUNTIF(Eingabe!$I$2:$K$1276,\"WMKC\")","v":0},"shadescene","1.2.0","KBR","Asien","2025-10-07","20/24",null,null,null," "," ",null,{"$f":"IFERROR(AVERAGEIF(Eingabe!$I$2:$I$1276, \"WMKC\", Eingabe!$O$2:$O$1276), 0)","v":0}]
["WMKI","Ipoh","Basis","Malaysia",{"$f":"COUNTIF(Eingabe!$F$2:$H$1276,\"W^MKI\")","v":0},{"$f":"COUNTIF(Eingabe!$I$2:$K$1276,\"WMKI\")","v":0},"shadescene","1.0.0","IPH","Asien","2025-09-26","20/24",null,null,null," "," ",null,{"$f":"IFERROR(AVERAGEIF(Eingabe!$I$2:$I$1276, \"WMKI\", Eingabe!$O$2:$O$1276), 0)","v":0}]
["WMKJ","Sultan Ismael - Senai","Basis","Malaysia",{"$f":"COUNTIF(Eingabe!$F$2:$H$1276,WMKJ)","v":0},{"$f":"COUNTIF(Eingabe!$I$2:$K$1276,\"WMKJ\")","v":0},"shadescene","1.1.0","JHB","Asien","2025-07-21","20/24",null,null,null," "," ",null,{"$f":"IFERROR(AVERAGEIF(Eingabe!$I$2:$I$1276, \"WMKJ\", Eingabe!$O$2:$O$1276), 0)","v":0}]
["WMKK","Kuala Lumpur Intl.","Basis","Malaysia",{"$f":"COUNTIF(Eingabe!$F$2:$H$1276,\"WMKK\")","v":0},{"$f":"COUNTIF(Eingabe!$I$2:$K$1276,\"WMKK\")","v":0},"secretstudio","3.6.0","KUL","Asien","2025-04-17","20/24",null,null,null," "," ",null,{"$f":"IFERROR(AVERAGEIF(Eingabe!$I$2:$I$1276, \"WMKK\", Eingabe!$O$2:$O$1276), 0)","v":0}]
["WMKL","Langkawi Intl.","Basis","Malaysia",{"$f":"COUNTIF(Eingabe!$F$2:$H$1276,\"WMKL\")","v":0},{"$f":"COUNTIF(Eingabe!$I$2:$K$1276,\"WMKL\")","v":0},"shadescene","1.1.0","LGK","Asien","2025-03-29","20/24",null,null,null," "," ",null,{"$f":"IFERROR(AVERAGEIF(Eingabe!$I$2:$I$1276, \"WMKL\", Eingabe!$O$2:$O$1276), 0)","v":0}]
["WMKN","Kuala Terengganu","Basis","Malaysia",{"$f":"COUNTIF(Eingabe!$F$2:$H$1276,\"WMKN\")","v":0},{"$f":"COUNTIF(Eingabe!$I$2:$K$1276,\"WMKN\")","v":0},"secretstudio","1.2.1","TGG","Asien",null,"20/24",null,null,null," "," ",null,{"$f":"IFERROR(AVERAGEIF(Eingabe!$I$2:$I$1276, \"WMKN\", Eingabe!$O$2:$O$1276), 0)","v":0}]
["WMKP","Penang Intl.","Basis","Malaysia",{"$f":"COUNTIF(Eingabe!$F$2:$H$1276,\"WMKP\")","v":0},{"$f":"COUNTIF(Eingabe!$I$2:$K$1276,\"WMKP\")","v":0},"shadescene","1.1.2","PEN","Asien","2025-10-07","20/24",null,null,null," "," ",null,{"$f":"IFERROR(AVERAGEIF(Eingabe!$I$2:$I$1276, \"WMKP\", Eingabe!$O$2:$O$1276), 0)","v":0}]
["WMSA","Sultan Abdul-Kuala Lumpur","Basis","Malaysia",{"$f":"COUNTIF(Eingabe!$F$2:$H$1276,\"WMSA\")","v":0},{"$f":"COUNTIF(Eingabe!$I$2:$K$1276,\"WMSA\")","v":0},"shadescene","2.0.0","SZB","Asien","2023-09-25","20/24",null,null,null," "," ",null,{"$f":"IFERROR(AVERAGEIF(Eingabe!$I$2:$I$1276, \"WMSA\", Eingabe!$O$2:$O$1276), 0)","v":0}]
["WSSL","Singapure - Seletar","Basis","Singapur",{"$f":"COUNTIF(Eingabe!$F$2:$H$1276,\"WSSL\")","v":0},{"$f":"COUNTIF(Eingabe!$I$2:$K$1276,\"WSSL\")","v":0},"siamflight","1.0.0","XSP","Asien","2025-08-19","20/24",null,null,null," "," ",null,{"$f":"IFERROR(AVERAGEIF(Eingabe!$I$2:$I$1276, \"WSSL\", Eingabe!$O$2:$O$1276), 0)","v":0}]
["WSSS","Singapure - Changi","Basis","Singapur",{"$f":"COUNTIF(Eingabe!$F$2:$H$1276,\"WSSS\")","v":0},{"$f":"COUNTIF(Eingabe!$I$2:$K$1276,\"WSSS\")","v":0},"imaginesim","3.1.0","SIN","Asien","2026-03-08",24,null,null,null," "," ",null,{"$f":"IFERROR(AVERAGEIF(Eingabe!$I$2:$I$1276, \"WSSS\", Eingabe!$O$2:$O$1276), 0)","v":0}]
["YAYE","Ayers Rock","Basis","Australien",{"$f":"COUNTIF(Eingabe!$F$2:$H$1276,\"YAYE\")","v":0},{"$f":"COUNTIF(Eingabe!$I$2:$K$1276,\"YAYE\")","v":0},"auscene","1.3.2","AYQ","Australien","2025-10-14","20/24",null,null,null," "," ",null,{"$f":"IFERROR(AVERAGEIF(Eingabe!$I$2:$I$1276, \"YAYE\", Eingabe!$O$2:$O$1276), 0)","v":0}]
["YBAS","Alice Springs","Basis","Australien",{"$f":"COUNTIF(Eingabe!$F$2:$H$1276,\"YBAS\")","v":0},{"$f":"COUNTIF(Eingabe!$I$2:$K$1276,\"YBAS\")","v":0},"impulsesimulations","1.0.1","ASP","Australien","2026-06-21","20/24",null,null,null," "," ",null,{"$f":"IFERROR(AVERAGEIF(Eingabe!$I$2:$I$1276, \"YBAS\", Eingabe!$O$2:$O$1276), 0)","v":0}]
["YBBN","Brisbane","Basis","Australien",{"$f":"COUNTIF(Eingabe!$F$2:$H$1276,\"YBBN\")","v":0},{"$f":"COUNTIF(Eingabe!$I$2:$K$1276,\"YBBN\")","v":0},"ORBX","1.1.1","BNE","Australien","2025-06-19",24,null,null,null," "," ",null,{"$f":"IFERROR(AVERAGEIF(Eingabe!$I$2:$I$1276, \"YBBN\", Eingabe!$O$2:$O$1276), 0)","v":0}]
["YBCG","Gold Coast","Basis","Australien",{"$f":"COUNTIF(Eingabe!$F$2:$H$1276,\"YBCG\")","v":0},{"$f":"COUNTIF(Eingabe!$I$2:$K$1276,\"YBCG\")","v":0},"ORBX","1.0.0","OOL","Australien","2024-02-02","20/24",null,null,null," "," ",null,{"$f":"IFERROR(AVERAGEIF(Eingabe!$I$2:$I$1276, \"YBCG\", Eingabe!$O$2:$O$1276), 0)","v":0}]
["YBCS","Cairns","Basis","Australien",{"$f":"COUNTIF(Eingabe!$F$2:$H$1276,\"YBCS\")","v":0},{"$f":"COUNTIF(Eingabe!$I$2:$K$1276,\"YBCS\")","v":0},"TAIMODELS","1.2.0","CNS","Australien","2024-09-21","20/24",null,null,null," "," ",null,{"$f":"IFERROR(AVERAGEIF(Eingabe!$I$2:$I$1276, \"YBCS\", Eingabe!$O$2:$O$1276), 0)","v":0}]
["YBHM","Hamilton-Island","Basis","Australien",{"$f":"COUNTIF(Eingabe!$F$2:$H$1276,\"YBHM\")","v":0},{"$f":"COUNTIF(Eingabe!$I$2:$K$1276,\"YBHM\")","v":0},"auscene","1.0.2","HTI","Australien","2025-10-22","20/24",null,null,null," "," ",null,{"$f":"IFERROR(AVERAGEIF(Eingabe!$I$2:$I$1276, \"YBHM\", Eingabe!$O$2:$O$1276), 0)","v":0}]
["YBMA","Mount Isa","Basis","Australien",{"$f":"COUNTIF(Eingabe!$F$2:$H$1276,\"YBMA\")","v":0},{"$f":"COUNTIF(Eingabe!$I$2:$K$1276,\"YBMA\")","v":0},"ORBX","1.1.0","ISA","Australien","2026-02-28","20/24",null,null,null," "," ",null,{"$f":"IFERROR(AVERAGEIF(Eingabe!$I$2:$I$1276, \"YBMA\", Eingabe!$O$2:$O$1276), 0)","v":0}]
["YBMK","Mackay","Basis","Australien",{"$f":"COUNTIF(Eingabe!$F$2:$H$1276,\"YBMK\")","v":0},{"$f":"COUNTIF(Eingabe!$I$2:$K$1276,\"YBMK\")","v":0},"ORBX","1.8.2","MKY","Australien","2025-04-11","20/24",null,null,null," "," ",null,{"$f":"IFERROR(AVERAGEIF(Eingabe!$I$2:$I$1276, \"YBMK\", Eingabe!$O$2:$O$1276), 0)","v":0}]
["YBRK","Rockhampton","Basis","Australien",{"$f":"COUNTIF(Eingabe!$F$2:$H$1276,\"YBRK\")","v":0},{"$f":"COUNTIF(Eingabe!$I$2:$K$1276,\"YBRK\")","v":0},"ORBX","1.8.3","ROK","Australien","2025-10-22","20/24",null,null,null," "," ",null,{"$f":"IFERROR(AVERAGEIF(Eingabe!$I$2:$I$1276, \"YBRK\", Eingabe!$O$2:$O$1276), 0)","v":0}]
["YBSU","Sunshine Coast","Basis","Australien",{"$f":"COUNTIF(Eingabe!$F$2:$H$1276,\"YBTL\")","v":0},{"$f":"COUNTIF(Eingabe!$I$2:$K$1276,\"YBTL\")","v":0},"shunts","2.0.0",null,"Australien","2026-04-26","20/24",null,null,null,null,null,null,{"$f":"IFERROR(AVERAGEIF(Eingabe!$I$2:$I$1276, \"YBSU\", Eingabe!$O$2:$O$1276), 0)","v":0}]
["YBTL","Townsville International","Basis","Australien",{"$f":"COUNTIF(Eingabe!$F$2:$H$1276,\"YBTL\")","v":0},{"$f":"COUNTIF(Eingabe!$I$2:$K$1276,\"YBTL\")","v":0},"mfsg","1.2.1","TSV","Australien","2025-09-26","20/24",null,null,null,{"$f":"IF(E936=0,\" \",\"✔️\")","v":" "}," ",null,{"$f":"IFERROR(AVERAGEIF(Eingabe!$I$2:$I$1276, \"YBTL\", Eingabe!$O$2:$O$1276), 0)","v":0}]
["YBUD","Bundaberg","Basis","Australien",{"$f":"COUNTIF(Eingabe!$F$2:$H$1276,\"YBUD\")","v":0},{"$f":"COUNTIF(Eingabe!$I$2:$K$1276,\"YBMK\")","v":0},"impulsesimulations","1.0.0","BDB","Australien","2024-04-05","20/24",null,null,null," "," ",null,{"$f":"IFERROR(AVERAGEIF(Eingabe!$I$2:$I$1276, \"YBUD\", Eingabe!$O$2:$O$1276), 0)","v":0}]
["YBWW","Brisbane-West","Basis","Australien",{"$f":"COUNTIF(Eingabe!$F$2:$H$1276,\"YBWW\")","v":0},{"$f":"COUNTIF(Eingabe!$I$2:$K$1276,\"YBWW\")","v":0},"auscene","1.0.0","WTB","Australien","2025-10-28","20/24",null,null,null," "," ",null,{"$f":"IFERROR(AVERAGEIF(Eingabe!$I$2:$I$1276, \"YBWW\", Eingabe!$O$2:$O$1276), 0)","v":0}]
["YCBG","Cambridge","Basis","Australien",{"$f":"COUNTIF(Eingabe!$F$2:$H$1276,\"YCBG\")","v":0},{"$f":"COUNTIF(Eingabe!$I$2:$K$1276,\"YCBG\")","v":0},"NZA Simulations","1.0.0","***","Australien","2024-12-08",24,null,null,null," "," ",null,{"$f":"IFERROR(AVERAGEIF(Eingabe!$I$2:$I$1276, \"YCBG\", Eingabe!$O$2:$O$1276), 0)","v":0}]
["YCFS","Coffs Harbor","Basis","Australien",{"$f":"COUNTIF(Eingabe!$F$2:$H$1276,\"YCBG\")","v":0},{"$f":"COUNTIF(Eingabe!$I$2:$K$1276,\"YCBG\")","v":0},"impulsesimulations","1.1.0","CFS","Australien","2026-05-25","20/24",null,null,null,null,null,null,{"$f":"IFERROR(AVERAGEIF(Eingabe!$I$2:$I$1276, \"YCFS\", Eingabe!$O$2:$O$1276), 0)","v":0}]
["YEML","Emerald Airport","Basis","Australien",{"$f":"COUNTIF(Eingabe!$F$2:$H$1276,\"YEML\")","v":0},{"$f":"COUNTIF(Eingabe!$I$2:$K$1276,\"YEML\")","v":0},"ORBX","1.0.0","EMD","Australien","2025-04-11","20/24",null,null,null,{"$f":"IF(E941=0,\" \",\"✔️\")","v":" "},{"$f":"IF(F941=0,\" \",\"✔️\")","v":" "},null,{"$f":"IFERROR(AVERAGEIF(Eingabe!$I$2:$I$1276, \"YEML\", Eingabe!$O$2:$O$1276), 0)","v":0}]
["YGLA","Gladstone","Basis","Australien",{"$f":"COUNTIF(Eingabe!$F$2:$H$1276,\"YGLA\")","v":0},{"$f":"COUNTIF(Eingabe!$I$2:$K$1276,\"YGLA\")","v":0},"ORBX","1.3.1","GLT","Australien","2025-04-17","20/24",null,null,null," "," ",null,{"$f":"IFERROR(AVERAGEIF(Eingabe!$I$2:$I$1276, \"YGLA\", Eingabe!$O$2:$O$1276), 0)","v":0}]
["YMAV","Avalon","Basis","Australien",{"$f":"COUNTIF(Eingabe!$F$2:$H$1276,\"YMAV\")","v":0},{"$f":"COUNTIF(Eingabe!$I$2:$K$1276,\"YMAV\")","v":0},"prestigesim","1.0.1","AVV","Australien","2026-02-28","20/24",null,null,null," "," ",null,{"$f":"IFERROR(AVERAGEIF(Eingabe!$I$2:$I$1276, \"YMAV\", Eingabe!$O$2:$O$1276), 0)","v":0}]
["YMEN","Melbourne-Essendon","Basis","Australien",{"$f":"COUNTIF(Eingabe!$F$2:$H$1276,\"YMEN\")","v":0},{"$f":"COUNTIF(Eingabe!$I$2:$K$1276,\"YMEN\")","v":0},"ORBX","1.6.1","MEB","Australien","2025-01-30","20/24",null,null,null," "," ",null,{"$f":"IFERROR(AVERAGEIF(Eingabe!$I$2:$I$1276, \"YMEN\", Eingabe!$O$2:$O$1276), 0)","v":0}]
["YMHB","Hobart Intl.","Basis","Australien",{"$f":"COUNTIF(Eingabe!$F$2:$H$1276,\"YMHB\")","v":0},{"$f":"COUNTIF(Eingabe!$I$2:$K$1276,\"YMHB\")","v":0},"NZA Simulations","1.0.0","HBA","Australien","2025-01-30",24,null,null,null," "," ",null,{"$f":"IFERROR(AVERAGEIF(Eingabe!$I$2:$I$1276, \"YMHB\", Eingabe!$O$2:$O$1276), 0)","v":0}]
["YMML","Melbourne","Basis","Australien",{"$f":"COUNTIF(Eingabe!$F$2:$H$1276,\"YMML\")","v":0},{"$f":"COUNTIF(Eingabe!$I$2:$K$1276,\"YMML\")","v":0},"ORBX","1.2.0","MEL","Australien","2026-04-26",24,null,null,null," "," ",null,{"$f":"IFERROR(AVERAGEIF(Eingabe!$I$2:$I$1276, \"YMML\", Eingabe!$O$2:$O$1276), 0)","v":0}]
["YPAD","Adelaide","Basis","Australien",{"$f":"COUNTIF(Eingabe!$F$2:$H$1276,\"YPAD\")","v":0},{"$f":"COUNTIF(Eingabe!$I$2:$K$1276,\"YPAD\")","v":0},"mkstudios","1.0.4","ADL","Australien","2026-04-19",24,null,null,null," "," ",null,{"$f":"IFERROR(AVERAGEIF(Eingabe!$I$2:$I$1276, \"YPAD\", Eingabe!$O$2:$O$1276), 0)","v":0}]
["YPDN","Darwin","Basis","Australien",{"$f":"COUNTIF(Eingabe!$F$2:$H$1276,\"YPDN\")","v":0},{"$f":"COUNTIF(Eingabe!$I$2:$K$1276,\"YPDN\")","v":0},"mfsg","1.2.1","DRW","Australien","2025-09-26","20/24",null,null,null," "," ",null,{"$f":"IFERROR(AVERAGEIF(Eingabe!$I$2:$I$1276, \"YPDN\", Eingabe!$O$2:$O$1276), 0)","v":0}]
["YPKA","Karratha","Basis","Australien",{"$f":"COUNTIF(Eingabe!$F$2:$H$1276,\"YPKA\")","v":0},{"$f":"COUNTIF(Eingabe!$I$2:$K$1276,\"YPKA\")","v":0},"mfsg","1.3.0","KTA","Australien","2026-01-11","20/24",null,null,null," "," ",null,{"$f":"IFERROR(AVERAGEIF(Eingabe!$I$2:$I$1276, \"YPKA\", Eingabe!$O$2:$O$1276), 0)","v":0}]
["YPPH","Perth","Basis","Australien",{"$f":"COUNTIF(Eingabe!$F$2:$H$1276,\"YPPH\")","v":0},{"$f":"COUNTIF(Eingabe!$I$2:$K$1276,\"YPPH\")","v":0},"ORBX","1.1.0","PER","Australien","2026-01-03",24,null,null,null," "," ",null,{"$f":"IFERROR(AVERAGEIF(Eingabe!$I$2:$I$1276, \"YPPH\", Eingabe!$O$2:$O$1276), 0)","v":0}]
["YSCB","Canberra","Basis","Australien",{"$f":"COUNTIF(Eingabe!$F$2:$H$1276,\"YSCB\")","v":0},{"$f":"COUNTIF(Eingabe!$I$2:$K$1276,\"YSCB\")","v":0},"impulsesimulations","1.0.2","CBR","Australien","2023-08-11","20/24",null,null,null," "," ",null,{"$f":"IFERROR(AVERAGEIF(Eingabe!$I$2:$I$1276, \"YSCB\", Eingabe!$O$2:$O$1276), 0)","v":0}]
["YSSY","Sydney - Kingsford-Smith","Basis","Australien",{"$f":"COUNTIF(Eingabe!$F$2:$H$1276,\"YSSY\")","v":0},{"$f":"COUNTIF(Eingabe!$I$2:$K$1276,\"YSSY\")","v":0},"flytampa","2.6.0","SYD","Australien","2025-05-26","20/24",null,null,null," "," ",null,{"$f":"IFERROR(AVERAGEIF(Eingabe!$I$2:$I$1276, \"YSSY\", Eingabe!$O$2:$O$1276), 0)","v":0}]
["YSWS","Western Sydney","Basis","Australien",{"$f":"COUNTIF(Eingabe!$F$2:$H$1276,\"YSWS\")","v":0},{"$f":"COUNTIF(Eingabe!$I$2:$K$1276,\"YSWS\")","v":0},"drzewieckidesign","1.1.0","WSI","Australien","2026-03-08","20/24",null,null,null," "," ",null,{"$f":"IFERROR(AVERAGEIF(Eingabe!$I$2:$I$1276, \"YSWS\", Eingabe!$O$2:$O$1276), 0)","v":0}]
["ZBAA","Beijing Peking","Basis","China",{"$f":"COUNTIF(Eingabe!$F$2:$H$1276,\"ZBAA\")","v":0},{"$f":"COUNTIF(Eingabe!$I$2:$K$1276,\"ZBAA\")","v":0},"wfscenerystudio","1.2.2","PEK","Asien","2025-09-05","20/24",null,null,null," "," ",null,{"$f":"IFERROR(AVERAGEIF(Eingabe!$I$2:$I$1276, \"ZBAA\", Eingabe!$O$2:$O$1276), 0)","v":0}]
["ZBAD","Beijing Daxing","Basis","China",{"$f":"COUNTIF(Eingabe!$F$2:$H$1276,\"ZBAD\")","v":0},{"$f":"COUNTIF(Eingabe!$I$2:$K$1276,\"ZBAD\")","v":0},"tms","1.4.0","PKX","Asien","2025-10-29","20/24",null,null,null," "," ",null,{"$f":"IFERROR(AVERAGEIF(Eingabe!$I$2:$I$1276, \"ZBAD\", Eingabe!$O$2:$O$1276), 0)","v":0}]
["ZBTJ","Tianjin","Basis","China",{"$f":"COUNTIF(Eingabe!$F$2:$H$1276,\"ZBTJ\")","v":0},{"$f":"COUNTIF(Eingabe!$I$2:$K$1276,\"ZBTJ\")","v":0},"samscene","1.2.0","TSN","Asien","2025-04-27","20/24",null,null,null," "," ",null,{"$f":"IFERROR(AVERAGEIF(Eingabe!$I$2:$I$1276, \"ZBTJ\", Eingabe!$O$2:$O$1276), 0)","v":0}]
["ZGGG","Guangzhou","Basis","China",{"$f":"COUNTIF(Eingabe!$F$2:$H$1276,\"ZGGG\")","v":0},{"$f":"COUNTIF(Eingabe!$I$2:$K$1276,\"ZGGG\")","v":0},"wfscenerystudio","1.0.2","CAN","Asien","2025-08-19","20/24",null,null,null," "," ",null,{"$f":"IFERROR(AVERAGEIF(Eingabe!$I$2:$I$1276, \"ZGGG\", Eingabe!$O$2:$O$1276), 0)","v":0}]
["ZGHA","Changsha Huanghua Intl.","Basis","China",{"$f":"COUNTIF(Eingabe!$F$2:$H$1276,\"ZGHA\")","v":0},{"$f":"COUNTIF(Eingabe!$I$2:$K$1276,\"ZGHA\")","v":0},"Zhouke Scenery Studio","3.4.0","CSX","Asien","2023-02-19","20/24",null,null,null," "," ",null,{"$f":"IFERROR(AVERAGEIF(Eingabe!$I$2:$I$1276, \"ZGHA\", Eingabe!$O$2:$O$1276), 0)","v":0}]
["ZGSD","Zhuhai-Jinwan","Basis","China",{"$f":"COUNTIF(Eingabe!$F$2:$H$1276,\"ZGSD\")","v":0},{"$f":"COUNTIF(Eingabe!$I$2:$K$1276,\"ZGSD\")","v":0},"halua6683","1.0.6","SZX","Asien","2026-04-10","20/24",null,null,null," "," ",null,{"$f":"IFERROR(AVERAGEIF(Eingabe!$I$2:$I$1276, \"ZGSD\", Eingabe!$O$2:$O$1276), 0)","v":0}]
["ZGSZ","Shenzen","Basis","China",{"$f":"COUNTIF(Eingabe!$F$2:$H$1276,\"ZGSZ\")","v":0},{"$f":"COUNTIF(Eingabe!$I$2:$K$1276,\"ZGSZ\")","v":0},"Double T","1.0.0","SZX","Asien","2021-07-20","20/24",null,null,null," "," ",null,{"$f":"IFERROR(AVERAGEIF(Eingabe!$I$2:$I$1276, \"ZGSZ\", Eingabe!$O$2:$O$1276), 0)","v":0}]
["ZHCC","Xinuheng","Basis","China",{"$f":"COUNTIF(Eingabe!$F$2:$H$1276,\"ZHCC\")","v":0},{"$f":"COUNTIF(Eingabe!$I$2:$K$1276,\"ZHCC\")","v":0},"wfscenerystudio","1.0.5","CGO","Asien","2025-10-07",24,null,null,null," "," ",null,{"$f":"IFERROR(AVERAGEIF(Eingabe!$I$2:$I$1276, \"ZHCC\", Eingabe!$O$2:$O$1276), 0)","v":0}]
["ZHHH","Wuhan-Tianhe","Basis","China",{"$f":"COUNTIF(Eingabe!$F$2:$H$1276,\"ZHHH\")","v":0},{"$f":"COUNTIF(Eingabe!$I$2:$K$1276,\"ZHHH\")","v":0},"samscene","2.0.2","WUH","Asien","2026-02-12","20/24",null,null,null," "," ",null,{"$f":"IFERROR(AVERAGEIF(Eingabe!$I$2:$I$1276, \"ZHHH\", Eingabe!$O$2:$O$1276), 0)","v":0}]
["ZJHK","Haikou-Meilan","Basis","China",{"$f":"COUNTIF(Eingabe!$F$2:$H$1276,\"ZJHK\")","v":0},{"$f":"COUNTIF(Eingabe!$I$2:$K$1276,\"ZJHK\")","v":0},"samscene","1.2.2","HAK","Asien","2026-03-20","20/24",null,null,null," "," ",null,{"$f":"IFERROR(AVERAGEIF(Eingabe!$I$2:$I$1276, \"ZJHK\", Eingabe!$O$2:$O$1276), 0)","v":0}]
["ZJSY","Sanya","Basis","China",{"$f":"COUNTIF(Eingabe!$F$2:$H$1276,\"ZJSY\")","v":0},{"$f":"COUNTIF(Eingabe!$I$2:$K$1276,\"ZJSY\")","v":0},"samscene","1.2.0","SYX","Asien","2025-04-11","20/24",null,null,null," "," ",null,{"$f":"IFERROR(AVERAGEIF(Eingabe!$I$2:$I$1276, \"ZJSY\", Eingabe!$O$2:$O$1276), 0)","v":0}]
["ZKPY","Pyongyang","Basis","Nordkorea",{"$f":"COUNTIF(Eingabe!$F$2:$H$1276,\"ZKPY\")","v":0},{"$f":"COUNTIF(Eingabe!$I$2:$K$1276,\"ZKPY\")","v":0},"samscene","1.1.0","FNJ","Asien","2025-09-05","20/24",null,null,null," "," ",null,{"$f":"IFERROR(AVERAGEIF(Eingabe!$I$2:$I$1276, \"ZKPY\", Eingabe!$O$2:$O$1276), 0)","v":0}]
["ZPPP","Kunming","Basis","China",{"$f":"COUNTIF(Eingabe!$F$2:$H$1276,\"ZPPP\")","v":0},{"$f":"COUNTIF(Eingabe!$I$2:$K$1276,\"ZPPP\")","v":0},"samscene","1.5.2","KMG","Asien","2026-07-12","20/24",null,null,null," "," ",null,{"$f":"IFERROR(AVERAGEIF(Eingabe!$I$2:$I$1276, \"ZPPP\", Eingabe!$O$2:$O$1276), 0)","v":0}]
["ZSAM","Xiamen","Basis","China",{"$f":"COUNTIF(Eingabe!$F$2:$H$1276,\"ZSAM\")","v":0},{"$f":"COUNTIF(Eingabe!$I$2:$K$1276,\"ZSAM\")","v":0},"samscene","1.4.3","XMN","Asien","2025-04-17","20/24",null,null,null," "," ",null,{"$f":"IFERROR(AVERAGEIF(Eingabe!$I$2:$I$1276, \"ZSAM\", Eingabe!$O$2:$O$1276), 0)","v":0}]
["ZSFZ","Fuzhou-changle","Basis","China",{"$f":"COUNTIF(Eingabe!$F$2:$H$1276,\"ZSFZ\")","v":0},{"$f":"COUNTIF(Eingabe!$I$2:$K$1276,\"ZSFZ\")","v":0},"ryanye","1.8.0","FOC","Asien","2026-05-25","20/24",null,null,null,null,null,null,{"$f":"IFERROR(AVERAGEIF(Eingabe!$I$2:$I$1276, \"ZSFZ\", Eingabe!$O$2:$O$1276), 0)","v":0}]
["ZSHC","Hangzhou Xiaoshan International ","Basis","China",{"$f":"COUNTIF(Eingabe!$F$2:$H$1276,\"ZYYJ\")","v":0},{"$f":"COUNTIF(Eingabe!$I$2:$K$1276,\"ZYYJ\")","v":0},"samscene","1.0.5","HGH","Asien","2026-04-26","20/24",null,null,null,{"$f":"IF(E969=0,\" \",\"✔️\")","v":" "},{"$f":"IF(F969=0,\" \",\"✔️\")","v":" "},null,{"$f":"IFERROR(AVERAGEIF(Eingabe!$I$2:$I$1276, \"ZSHC\", Eingabe!$O$2:$O$1276), 0)","v":0}]
["ZSNJ","Nanjing-Lukou","Basis","China",{"$f":"COUNTIF(Eingabe!$F$2:$H$1276,\"ZSNJ\")","v":0},{"$f":"COUNTIF(Eingabe!$I$2:$K$1276,\"ZSNJ\")","v":0},"wfscenerystudio","1.0.1","NKG","Asien","2025-09-05","20/24",null,null,null," "," ",null,{"$f":"IFERROR(AVERAGEIF(Eingabe!$I$2:$I$1276, \"ZSNJ\", Eingabe!$O$2:$O$1276), 0)","v":0}]
["ZSOF","Hefei-Xinqiao","Basis","China",{"$f":"COUNTIF(Eingabe!$F$2:$H$1276,\"ZSOF\")","v":0},{"$f":"COUNTIF(Eingabe!$I$2:$K$1276,\"ZSOF\")","v":0},"routeannstudio","1.3.0","HFE","Asien","2023-07-19","20/24",null,null,null," "," ",null,{"$f":"IFERROR(AVERAGEIF(Eingabe!$I$2:$I$1276, \"ZSOF\", Eingabe!$O$2:$O$1276), 0)","v":0}]
["ZSPD","Pudong/Shanghai","Basis","China",{"$f":"COUNTIF(Eingabe!$F$2:$H$1276,\"ZSPD\")","v":0},{"$f":"COUNTIF(Eingabe!$I$2:$K$1276,\"ZSPD\")","v":0},"wfscenerystudio","1.2.5","PVG","Asien","2025-09-05","20/24",null,null,null," "," ",null,{"$f":"IFERROR(AVERAGEIF(Eingabe!$I$2:$I$1276, \"ZSPD\", Eingabe!$O$2:$O$1276), 0)","v":0}]
["ZSQD","Qingdao Liuting Int","Basis","China",{"$f":"COUNTIF(Eingabe!$F$2:$H$1276,\"ZSQD\")","v":0},{"$f":"COUNTIF(Eingabe!$I$2:$K$1276,\"ZSQD\")","v":0},"samscene","1.1.2","TAO","Asien","2025-06-10","20/24",null,null,null," "," ",null,{"$f":"IFERROR(AVERAGEIF(Eingabe!$I$2:$I$1276, \"ZSQD\", Eingabe!$O$2:$O$1276), 0)","v":0}]
["ZSSS","Hongqiao / Shanghai","Basis","China",{"$f":"COUNTIF(Eingabe!$F$2:$H$1276,\"ZSSS\")","v":0},{"$f":"COUNTIF(Eingabe!$I$2:$K$1276,\"ZSSS\")","v":0},"wfscenerystudio","1.0.5","SHA","Asien","2025-08-14","20/24",null,null,null," "," ",null,{"$f":"IFERROR(AVERAGEIF(Eingabe!$I$2:$I$1276, \"ZSSS\", Eingabe!$O$2:$O$1276), 0)","v":0}]
["ZSWX","Wuxi","Basis","China",{"$f":"COUNTIF(Eingabe!$F$2:$H$1276,\"ZSWX\")","v":0},{"$f":"COUNTIF(Eingabe!$I$2:$K$1276,\"ZSWX\")","v":0},"halua6683","1.0.3","WUX","Asien","2026-06-21","20/24",null,null,null," "," ",null,{"$f":"IFERROR(AVERAGEIF(Eingabe!$I$2:$I$1276, \"ZSWX\", Eingabe!$O$2:$O$1276), 0)","v":0}]
["ZSWZ","Wenzhou Yongqiang","Basis","China",{"$f":"COUNTIF(Eingabe!$F$2:$H$1276,\"ZSWZ\")","v":0},{"$f":"COUNTIF(Eingabe!$I$2:$K$1276,\"ZSWZ\")","v":0},"ryanye","1.1.0","WNZ","Asien","2026-03-20","20/24",null,null,null," "," ",null,{"$f":"IFERROR(AVERAGEIF(Eingabe!$I$2:$I$1276, \"ZSWZ\", Eingabe!$O$2:$O$1276), 0)","v":0}]
["ZUCK","Chongqing","Basis","China",{"$f":"COUNTIF(Eingabe!$F$2:$H$1276,\"ZUCK\")","v":0},{"$f":"COUNTIF(Eingabe!$I$2:$K$1276,\"ZUCK\")","v":0},"samscene","2.0.0","CKG","Asien","2025-10-22","20/24",null,null,null," "," ",null,{"$f":"IFERROR(AVERAGEIF(Eingabe!$I$2:$I$1276, \"ZUCK\", Eingabe!$O$2:$O$1276), 0)","v":0}]
["ZUGY","Guiyang","Basis","China",{"$f":"COUNTIF(Eingabe!$F$2:$H$1276,\"ZUGY\")","v":0},{"$f":"COUNTIF(Eingabe!$I$2:$K$1276,\"ZUGY\")","v":0},"samscene","1.0.2","KWE","Asien","2026-06-05","20/24",null,null,null,null,null,null,{"$f":"IFERROR(AVERAGEIF(Eingabe!$I$2:$I$1276, \"ZUGY\", Eingabe!$O$2:$O$1276), 0)","v":0}]
["ZULS","Lhasa-Gonggar","Basis","China",{"$f":"COUNTIF(Eingabe!$F$2:$H$1276,\"ZULS\")","v":0},{"$f":"COUNTIF(Eingabe!$I$2:$K$1276,\"ZULS\")","v":0},"samscene","1.2.2","LXA","Asien","2025-04-17","20/24",null,null,null,{"$f":"IF(E979=0,\" \",\"✔️\")","v":" "},{"$f":"IF(F979=0,\" \",\"✔️\")","v":" "},null,{"$f":"IFERROR(AVERAGEIF(Eingabe!$I$2:$I$1276, \"ZULS\", Eingabe!$O$2:$O$1276), 0)","v":0}]
["ZUTF","Chengdu Tianfu Intl.","Basis","China",{"$f":"COUNTIF(Eingabe!$F$2:$H$1276,\"ZUTF\")","v":0},{"$f":"COUNTIF(Eingabe!$I$2:$K$1276,\"ZUTF\")","v":0},"celestialteam","1.0.2","TFU","Asien","2026-05-25","20/24",null,null,null,null,null,null,{"$f":"IFERROR(AVERAGEIF(Eingabe!$I$2:$I$1276, \"ZUTF\", Eingabe!$O$2:$O$1276), 0)","v":0}]
["ZUUU","Chengdu-Shuangliu","Basis","China",{"$f":"COUNTIF(Eingabe!$F$2:$H$1276,\"ZUUU\")","v":0},{"$f":"COUNTIF(Eingabe!$I$2:$K$1276,\"ZUUU\")","v":0},"dominicdesignteam","1.1.0","CTU","Asien","2022-05-26","20/24",null,null,null,{"$f":"IF(E981=0,\" \",\"✔️\")","v":" "}," ",null,{"$f":"IFERROR(AVERAGEIF(Eingabe!$I$2:$I$1276, \"ZUUU\", Eingabe!$O$2:$O$1276), 0)","v":0}]
["ZYHB","Harbin","Basis","China",{"$f":"COUNTIF(Eingabe!$F$2:$H$1276,\"ZYHB\")","v":0},{"$f":"COUNTIF(Eingabe!$I$2:$K$1276,\"ZYHB\")","v":0},"samscene","1.0.5","HRB","Asien","2025-10-14","20/24",null,null,null," "," ",null,{"$f":"IFERROR(AVERAGEIF(Eingabe!$I$2:$I$1276, \"ZYHB\", Eingabe!$O$2:$O$1276), 0)","v":0}]
["ZYYJ","Yanji Chaoyangchuan Intl.","Basis","China",{"$f":"COUNTIF(Eingabe!$F$2:$H$1276,\"ZYYJ\")","v":0},{"$f":"COUNTIF(Eingabe!$I$2:$K$1276,\"ZYYJ\")","v":0},"catchstar","1.2.0","YNJ","Asien","2023-11-02","20/24",null,null,null," "," ",null,{"$f":"IFERROR(AVERAGEIF(Eingabe!$I$2:$I$1276, \"ZYYJ\", Eingabe!$O$2:$O$1276), 0)","v":0}]

{"sheet":"Flotte","index":4,"n_rows":94,"n_cols":25,"rows_kept":94,"cut":false,"hidden":false,"merged":[]}
["Registrierung","Typ","Name","Hub","Leergewicht","Startgewicht MTOW (KG)","ZFW (KG)","Landegewicht MLW","Reichweite NM","Reichweite KM","Flüge","Gesamt Meilen","Höchstgeschw. Km/h","Höchchstgeschw  kt","Länge m.","Länge ft","Höhe m","Spannweite ","Dienstgipfelhöhe m/ft","Nutzlast","Kraftstoffkapazität","Pax","Erstflug","Listenpreis","ICAO Code"]
["D-AILM","Airbus A319 CFM_WT","Lufthansa","EDDB",39725,75500,58500,62500,3699,6850,{"$f":"COUNTIF(Eingabe!$C$2:$C$1133,\"D-AIAA\")","v":0},{"$f":"SUMIF(Eingabe!$C$2:$C$1133,\"D-AIAA\",Eingabe!$L$2:$L$1133)","v":0},870,"470",33.840000000000003,111,11.76,34.1,"11887 / 39000","13200 kg","18729 kg","124 -153","1995-08-25","92,3 Mio.","A319"]
["D-ABGJ","Airbus A319 CFM_WT","Air Berlin","EDDB",39725,75500,58500,62500,3699,6850,{"$f":"COUNTIF(Eingabe!$C$2:$C$1133,\"D-ABGJ\")","v":0},{"$f":"SUMIF(Eingabe!$C$2:$C$1133,\"D-ABGJ\",Eingabe!$L$2:$L$1133)","v":0},870,"470",33.840000000000003,111,11.76,34.1,"11888 / 39000","13200 kg","18729 kg","125 -153","1995-08-26","92,3 Mio.","A319"]
["D-AIAC","Airbus A319 CFM_SL","inter-wings","EDDL",39725,75500,58500,62500,3699,6850,{"$f":"COUNTIF(Eingabe!$C$2:$C$1133,\"D-AIAC\")","v":67},{"$f":"SUMIF(Eingabe!$C$2:$C$1133,\"D-AIAC\",Eingabe!$L$2:$L$1133)","v":42872},870,"470",33.840000000000003,111,11.76,34.1,"11889 / 39000","13200 kg","18729 kg","126 -153","1995-08-27","92,3 Mio.","A319"]
["D-AKNT","Airbus A319 CFM_WT","Eurowings","EDDN",39725,75500,58500,62500,3699,6850,{"$f":"COUNTIF(Eingabe!$C$2:$C$1133,\"D-AKNT\")","v":0},{"$f":"SUMIF(Eingabe!$C$2:$C$1133,\"D-AKNT\",Eingabe!$L$2:$L$1133)","v":0},870,"470",33.840000000000003,111,11.76,34.1,"11890 / 39000","13200 kg","18729 kg","127 -153","1995-08-28","92,3 Mio.","A319"]
[null,"Airbus A319 IAE_WT",null,"EDDN",39725,75500,58500,62500,3699,6850,{"$f":"COUNTIF(Eingabe!$C$2:$C$1133,\"D-AIAF\")","v":0},{"$f":"SUMIF(Eingabe!$C$2:$C$1133,\"D-AIAF\",Eingabe!$L$2:$L$1133)","v":0},870,"470",33.840000000000003,111,11.76,34.1,"11891 / 39000","13200 kg","18729 kg","128 -153","1995-08-29","92,3 Mio.","A319"]
[null,"Airbus A319 IAE_WT",null,"EDDB",39725,75500,58500,62500,3699,6850,{"$f":"COUNTIF(Eingabe!$C$2:$C$1133,\"D-AIAG\")","v":0},{"$f":"SUMIF(Eingabe!$C$2:$C$1133,\"D-AIAG\",Eingabe!$L$2:$L$1133)","v":0},870,"470",33.840000000000003,111,11.76,34.1,"11892 / 39000","13200 kg","18729 kg","129 -153","1995-08-30","92,3 Mio.","A319"]
[null,"Airbus A319 IAE_WT",null,"EDDB",39725,75500,58500,62500,3699,6850,{"$f":"COUNTIF(Eingabe!$C$2:$C$1133,\"D-AIAH\")","v":0},{"$f":"SUMIF(Eingabe!$C$2:$C$1133,\"D-AIAH\",Eingabe!$L$2:$L$1133)","v":0},870,"470",33.840000000000003,111,11.76,34.1,"11893 / 39000","13200 kg","18729 kg","130 -153","1995-08-31","92,3 Mio.","A319"]
[null,"Airbus A319 IAE_SL",null,"EDDL",39725,75500,58500,62500,3699,6850,{"$f":"COUNTIF(Eingabe!$C$2:$C$1133,\"D-AIAI\")","v":0},{"$f":"SUMIF(Eingabe!$C$2:$C$1133,\"D-AIAI\",Eingabe!$L$2:$L$1133)","v":0},870,"470",33.840000000000003,111,11.76,34.1,"11894 / 39000","13200 kg","18729 kg","131 -153","1995-09-01","92,3 Mio.","A319"]
["D-AIZG","Airbus A320 CFM_WT","Lufthansa","EDDL",42244,78000,62500,66000,3294,6100,{"$f":"COUNTIF(Eingabe!$C$2:$C$1133,\"D-AIZG\")","v":0},{"$f":"SUMIF(Eingabe!$C$2:$C$1133,\"D-AIZG\",Eingabe!$L$2:$L$1133)","v":0},870,"470",37.57,123.27,11.76,34.1,"12131 / 39800","16600kg","19004kg","150 - 180","1987-02-22","101 Mio.","A320"]
["D-ANNE","Airbus A320 IAE_WT","LEAV","EDDB",42244,78000,62500,66000,3294,6100,{"$f":"COUNTIF(Eingabe!$C$2:$C$1133,\"D-ANNE\")","v":0},{"$f":"SUMIF(Eingabe!$C$2:$C$1133,\"D-ANNE\",Eingabe!$L$2:$L$1133)","v":0},870,"470",37.57,123.27,11.76,34.1,"12132 / 39800","16600kg","19004kg","151 - 180","1987-02-23","102 Mio.","A320"]
["D-AIBC","Airbus A320 CFM_SL","inter-wings","EDDB",42244,78000,62500,66000,3294,6100,{"$f":"COUNTIF(Eingabe!$C$2:$C$1133,\"D-AIBC\")","v":99},{"$f":"SUMIF(Eingabe!$C$2:$C$1133,\"D-AIBC\",Eingabe!$L$2:$L$1133)","v":53654},870,"470",37.57,123.27,11.76,34.1,"12133 / 39800","16600kg","19004kg","152 - 180","1987-02-24","103 Mio.","A320"]
["D-AEWK","Airbus A320 CFM_SL","Eurowings","EDDB",42244,78000,62500,66000,3294,6100,{"$f":"COUNTIF(Eingabe!$C$2:$C$1133,\"D-AIBE\")","v":0},{"$f":"SUMIF(Eingabe!$C$2:$C$1133,\"D-AIBE\",Eingabe!$L$2:$L$1133)","v":0},870,"470",37.57,123.27,11.76,34.1,"12134 / 39800","16600kg","19004kg","153 - 180","1987-02-25","104 Mio.","A320"]
["D-AIUM","Airbus A320 CFM_SL","Lufthansa","EDDB",42244,78000,62500,66000,3294,6100,{"$f":"COUNTIF(Eingabe!$C$2:$C$1133,\"D-AIUM\")","v":2},{"$f":"SUMIF(Eingabe!$C$2:$C$1133,\"D-AIUM\",Eingabe!$L$2:$L$1133)","v":1000},870,"470",37.57,123.27,11.76,34.1,"12135 / 39800","16600kg","19004kg","154 - 180","1987-02-26","105 Mio.","A320"]
["D-AICA","Airbus A320 CFM_WT","Condor","EDDL",42244,78000,62500,66000,3294,6100,{"$f":"COUNTIF(Eingabe!$C$2:$C$1133,\"D-AICA\")","v":2},{"$f":"SUMIF(Eingabe!$C$2:$C$1133,\"D-AICA\",Eingabe!$L$2:$L$1133)","v":586},870,"470",37.57,123.27,11.76,34.1,"12136 / 39800","16600kg","19004kg","155 - 180","1987-02-27","106 Mio.","A320"]
["D-ALTA","Airbus A320 CFM_WT","LTU","EDDL",42244,78000,62500,66000,3294,6100,{"$f":"COUNTIF(Eingabe!$C$2:$C$1133,\"D-AIBH\")","v":0},{"$f":"SUMIF(Eingabe!$C$2:$C$1133,\"D-AIBH\",Eingabe!$L$2:$L$1133)","v":0},870,"470",37.57,123.27,11.76,34.1,"12137 / 39800","16600kg","19004kg","156 - 180","1987-02-28","107 Mio.","A320"]
["D-AIWE","Airbus A320 CFM_SL","Discover","EDDF",42244,78000,62500,66000,3294,6100,{"$f":"COUNTIF(Eingabe!$C$2:$C$1133,\"D-AIBI\")","v":0},{"$f":"SUMIF(Eingabe!$C$2:$C$1133,\"D-AIBI\",Eingabe!$L$2:$L$1133)","v":0},870,"470",37.57,123.27,11.76,34.1,"12138 / 39800","16600kg","19004kg","157 - 180","1987-03-01","108 Mio.","A320"]
["D-ASMR","Airbus A320 CFM_SL","Sundair","EDDF",42244,78000,62500,66000,3294,6100,{"$f":"COUNTIF(Eingabe!$C$2:$C$1133,\"D-ASMR\")","v":0},{"$f":"SUMIF(Eingabe!$C$2:$C$1133,\"D-ASMR\",Eingabe!$L$2:$L$1133)","v":0},870,"470",37.57,123.27,11.76,34.1,"12139 / 39800","16600kg","19004kg","158 - 180","1987-03-02","109 Mio.","A321"]
["D-ABNX","Airbus A320 CFM_SL","Air Berlin","EDDF",42244,78000,62500,66000,3294,6100,{"$f":"COUNTIF(Eingabe!$C$2:$C$1133,\"D-ABNX\")","v":8},{"$f":"SUMIF(Eingabe!$C$2:$C$1133,\"D-ABNX\",Eingabe!$L$2:$L$1133)","v":5178},870,"470",37.57,123.27,11.76,34.1,"12139 / 39800","16600kg","19004kg","158 - 180","1987-03-02","109 Mio.","A321"]
[null,"Airbus A320 NEO",null,"EDDB",44029,79000,65300,68400,3456,6300,{"$f":"COUNTIF(Eingabe!$C$2:$C$1133,\"D-AIBM\")","v":0},{"$f":"SUMIF(Eingabe!$C$2:$C$1133,\"D-AIBM\",Eingabe!$L$2:$L$1133)","v":0},870,"470",37.57,123.27,11.76,34.1,"11900 / 39042",21200,"26730kg","165 - 194","2014-09-25","101 Mio.","A20N"]
[null,"Airbus A320 NEO",null,"EDDM",44029,79000,65300,68400,3456,6300,{"$f":"COUNTIF(Eingabe!$C$2:$C$1133,\"D-AIBN\")","v":0},{"$f":"SUMIF(Eingabe!$C$2:$C$1133,\"D-AIBN\",Eingabe!$L$2:$L$1133)","v":0},870,"470",37.57,123.27,11.76,34.1,"11901 / 39042",21200,"26730kg","166 - 194","2014-09-25","102 Mio.","A20N"]
[null,"Airbus A320 NEO",null,"EDDB",44029,79000,65300,68400,3456,6300,{"$f":"COUNTIF(Eingabe!$C$2:$C$1133,\"D-AIBO\")","v":0},{"$f":"SUMIF(Eingabe!$C$2:$C$1133,\"D-AIBO\",Eingabe!$L$2:$L$1133)","v":0},870,"470",37.57,123.27,11.76,34.1,"11902 / 39042",21200,"26730kg","167 - 194","2014-09-25","103 Mio.","A20N"]
[null,"Airbus A320 NEO",null,"EDDN",44029,79000,65300,68400,3456,6300,{"$f":"COUNTIF(Eingabe!$C$2:$C$1133,\"D-AIBP\")","v":0},{"$f":"SUMIF(Eingabe!$C$2:$C$1133,\"D-AIBP\",Eingabe!$L$2:$L$1133)","v":0},870,"470",37.57,123.27,11.76,34.1,"11903 / 39042",21200,"26730kg","168 - 194","2014-09-25","104 Mio.","A20N"]
[null,"Airbus A320 NEO",null,"EDDL",44029,79000,65300,68400,3456,6300,{"$f":"COUNTIF(Eingabe!$C$2:$C$1133,\"D-AIBQ\")","v":0},{"$f":"SUMIF(Eingabe!$C$2:$C$1133,\"D-AIBQ\",Eingabe!$L$2:$L$1133)","v":0},870,"470",37.57,123.27,11.76,34.1,"11904 / 39042",21200,"26730kg","169 - 194","2014-09-25","105 Mio.","A20N"]
[null,"Airbus A320 NEO",null,"EDDL",49202,79000,65300,68400,3456,6300,{"$f":"COUNTIF(Eingabe!$C$2:$C$1133,\"D-AIBR\")","v":0},{"$f":"SUMIF(Eingabe!$C$2:$C$1133,\"D-AIBR\",Eingabe!$L$2:$L$1133)","v":0},870,"470",37.57,123.27,11.76,34.1,"11905 / 39042",21200,"26730kg","170 - 194","2014-09-25","106 Mio.","A20N"]
[null,"Airbus A320 NEO",null,"EDDL",49202,79000,65300,68400,3456,6300,{"$f":"COUNTIF(Eingabe!$C$2:$C$1133,\"D-AIBS\")","v":0},{"$f":"SUMIF(Eingabe!$C$2:$C$1133,\"D-AIBS\",Eingabe!$L$2:$L$1133)","v":0},870,"470",37.57,123.27,11.76,34.1,"11906 / 39042",21200,"26730kg","171 - 194","2014-09-25","107 Mio.","A20N"]
[null,"Airbus A320 NEO",null,"EDDL",49202,79000,65300,68400,3456,6300,{"$f":"COUNTIF(Eingabe!$C$2:$C$1133,\"D-AIBT\")","v":0},{"$f":"SUMIF(Eingabe!$C$2:$C$1133,\"D-AIBT\",Eingabe!$L$2:$L$1133)","v":0},870,"470",37.57,123.27,11.76,34.1,"11907 / 39042",21200,"26730kg","172 - 194","2014-09-25","108 Mio.","A20N"]
["D-AICA","Airbus A321 CFM_SL","inter-wings","EDDL",47500,93000,69500,77800,3699,6850,{"$f":"COUNTIF(Eingabe!$C$2:$C$1133,\"D-AICA\")","v":2},{"$f":"SUMIF(Eingabe!$C$2:$C$1133,\"D-AICA\",Eingabe!$L$2:$L$1133)","v":586},904,"488",44.51,146.01,11.76,34.1,"12124 / 39800",21200,"18879kg","185 - 220","1993-03-11","118,3 Mio","A321"]
["D-AICB","Airbus A321 CFM_SL","inter-wings","EDDL",47500,93000,69500,77800,3699,6850,{"$f":"COUNTIF(Eingabe!$C$2:$C$1133,\"D-AICB\")","v":0},{"$f":"SUMIF(Eingabe!$C$2:$C$1133,\"D-AICB\",Eingabe!$L$2:$L$1133)","v":0},908,"488",44.51,146.01,11.76,34.1,"12125 / 39800",21200,"18879kg","186 - 220","1993-03-11","118,3 Mio","A321"]
["D-AICC","Airbus A321 CFM_SL","inter-wings","EDDL",47500,93000,69500,77800,3699,6850,{"$f":"COUNTIF(Eingabe!$C$2:$C$1133,\"D-AICC\")","v":2},{"$f":"SUMIF(Eingabe!$C$2:$C$1133,\"D-AICC\",Eingabe!$L$2:$L$1133)","v":428},908,"488",44.51,146.01,11.76,34.1,"12126 / 39800",21200,"18879kg","187 - 220","1993-03-11","118,3 Mio","A321"]
["D-AICE","Airbus A321 CFM_SL","inter-wings","EDDB",47500,93000,69500,77800,3699,6850,{"$f":"COUNTIF(Eingabe!$C$2:$C$1133,\"D-AICE\")","v":28},{"$f":"SUMIF(Eingabe!$C$2:$C$1133,\"D-AICE\",Eingabe!$L$2:$L$1133)","v":35000},908,"488",44.51,146.01,11.76,34.1,"12127 / 39800",21200,"18879kg","188 - 220","1993-03-11","118,3 Mio","A321"]
["D-AICF","Airbus A321 IAE_SL","inter-wings","EDDB",47500,93000,69500,77800,3699,6850,{"$f":"COUNTIF(Eingabe!$C$2:$C$1133,\"D-AICF\")","v":0},{"$f":"SUMIF(Eingabe!$C$2:$C$1133,\"D-AICF\",Eingabe!$L$2:$L$1133)","v":0},908,"488",44.51,146.01,11.76,34.1,"12128 / 39800",21200,"18879kg","189 - 220","1993-03-11","118,3 Mio","A321"]
["D-AICG","Airbus A321 IAE_SL","inter-wings","EDDL",47500,93000,69500,77800,3699,6850,{"$f":"COUNTIF(Eingabe!$C$2:$C$1133,\"D-AICG\")","v":0},{"$f":"SUMIF(Eingabe!$C$2:$C$1133,\"D-AICG\",Eingabe!$L$2:$L$1133)","v":0},908,"488",44.51,146.01,11.76,34.1,"12129 / 39800",21200,"18879kg","190 - 220","1993-03-11","118,3 Mio","A321"]
["D-AICH","Airbus A321 IAE_SL","inter-wings","EDDL",47500,93000,69500,77800,3699,6850,{"$f":"COUNTIF(Eingabe!$C$2:$C$1133,\"D-AICH\")","v":0},{"$f":"SUMIF(Eingabe!$C$2:$C$1133,\"D-AICH\",Eingabe!$L$2:$L$1133)","v":0},908,"488",44.51,146.01,11.76,34.1,"12130 / 39800",21200,"18879kg","191 - 220","1993-03-11","118,3 Mio","A321"]
["D-AICI","Airbus A321 IAE_SL","inter-wings","EDDN",47500,93000,69500,77800,3699,6850,{"$f":"COUNTIF(Eingabe!$C$2:$C$1133,\"D-AICI\")","v":0},{"$f":"SUMIF(Eingabe!$C$2:$C$1133,\"D-AICI\",Eingabe!$L$2:$L$1133)","v":0},908,"488",44.51,146.01,11.76,34.1,"12131 / 39800",21200,"18879kg","192 - 220","1993-03-11","118,3 Mio","A321"]
["D-AICM","Airbus A321 NEO","inter-wings","EDDN",49202,89000,75600,79200,4000,6850,{"$f":"COUNTIF(Eingabe!$C$2:$C$1133,\"D-AICM\")","v":0},{"$f":"SUMIF(Eingabe!$C$2:$C$1133,\"D-AHAZ\",Eingabe!$L$2:$L$1133)","v":0},871,"472",44.51,146.01,11.76,35.799999999999997,"12508 / 41000",21500,"18879kg",227,"2016-02-09","129,5 Mio","A21N"]
["D-AICN","Airbus A321 NEO","inter-wings","EDDN",49202,89000,75600,79200,4000,6850,{"$f":"COUNTIF(Eingabe!$C$2:$C$1133,\"D-AICN\")","v":0},{"$f":"SUMIF(Eingabe!$C$2:$C$1133,\"D-AHAZ\",Eingabe!$L$2:$L$1133)","v":0},871,"472",44.51,146.01,11.76,35.799999999999997,"12509 / 41000",21500,"18879kg",227,"2016-02-10","129,5 Mio","A21N"]
["D-AICO","Airbus A321 NEO","inter-wings","EDDN",49202,89000,75600,79200,4000,6850,{"$f":"COUNTIF(Eingabe!$C$2:$C$1133,\"D-AICO\")","v":0},{"$f":"SUMIF(Eingabe!$C$2:$C$1133,\"D-AHAZ\",Eingabe!$L$2:$L$1133)","v":0},871,"472",44.51,146.01,11.76,35.799999999999997,"12510 / 41000",21500,"18879kg",227,"2016-02-11","129,5 Mio","A21N"]
["D-AICP","Airbus A321 NEO","inter-wings","EDDN",49202,89000,75600,79200,4000,6850,{"$f":"COUNTIF(Eingabe!$C$2:$C$1133,\"D-AICP\")","v":0},{"$f":"SUMIF(Eingabe!$C$2:$C$1133,\"D-AHAZ\",Eingabe!$L$2:$L$1133)","v":0},871,"472",44.51,146.01,11.76,35.799999999999997,"12511 / 41000",21500,"18879kg",227,"2016-02-12","129,5 Mio","A21N"]
["D-AICQ","Airbus A321 NEO","inter-wings","EDDN",49202,89000,75600,79200,4000,6850,{"$f":"COUNTIF(Eingabe!$C$2:$C$1133,\"D-AICQ\")","v":0},{"$f":"SUMIF(Eingabe!$C$2:$C$1133,\"D-AHAZ\",Eingabe!$L$2:$L$1133)","v":0},871,"472",44.51,146.01,11.76,35.799999999999997,"12512 / 41000",21500,"18879kg",227,"2016-02-13","129,5 Mio","A21N"]
["D-AICR","Airbus A321 NEO","inter-wings","EDDN",49202,89000,75600,79200,4000,6850,{"$f":"COUNTIF(Eingabe!$C$2:$C$1133,\"D-AICR\")","v":0},{"$f":"SUMIF(Eingabe!$C$2:$C$1133,\"D-AHAZ\",Eingabe!$L$2:$L$1133)","v":0},871,"472",44.51,146.01,11.76,35.799999999999997,"12513 / 41000",21500,"18879kg",227,"2016-02-14","129,5 Mio","A21N"]
["D-AICS","Airbus A321 NEO","inter-wings","EDDN",49202,89000,75600,79200,4000,6850,{"$f":"COUNTIF(Eingabe!$C$2:$C$1133,\"D-AICS\")","v":0},{"$f":"SUMIF(Eingabe!$C$2:$C$1133,\"D-AHAZ\",Eingabe!$L$2:$L$1133)","v":0},871,"472",44.51,146.01,11.76,35.799999999999997,"12514 / 41000",21500,"18879kg",227,"2016-02-15","129,5 Mio","A21N"]
["D-AICT","Airbus A321 NEO","inter-wings","EDDN",49202,89000,75600,79200,4000,6850,{"$f":"COUNTIF(Eingabe!$C$2:$C$1133,\"D-AHCT\")","v":0},{"$f":"SUMIF(Eingabe!$C$2:$C$1133,\"D-AHAZ\",Eingabe!$L$2:$L$1133)","v":0},871,"472",44.51,146.01,11.76,35.799999999999997,"12515 / 41000",21500,"18879kg",227,"2016-02-16","129,5 Mio","A21N"]
["D-AIDA","Airbus A330-200","inter-wings","EDDL",120000,238000,176000,182000,7559,14000,{"$f":"COUNTIF(Eingabe!$C$2:$C$1133,\"D-AIDA\")","v":0},{"$f":"SUMIF(Eingabe!$C$2:$C$1133,\"D-AIAK\",Eingabe!$L$2:$L$1133)","v":0},913,"493",58.37,192,17.39,60.3,"12497 / 41000",36378,"109185kg",253,"1992-11-02","229Mio.","A332"]
["D-AIDB","Airbus A330-200","inter-wings","EDDL",120000,238000,176000,182000,7559,14000,{"$f":"COUNTIF(Eingabe!$C$2:$C$1133,\"D-AIDB\")","v":0},{"$f":"SUMIF(Eingabe!$C$2:$C$1133,\"D-AIAK\",Eingabe!$L$2:$L$1133)","v":0},913,"494",58.37,192,17.39,60.3,"12498 / 41000",36378,"109185kg",253,"1992-11-02","229Mio.","A333"]
["D-AIDC","Airbus A330-200F","inter-wings","EDDL",120000,238000,176000,182000,7559,14000,{"$f":"COUNTIF(Eingabe!$C$2:$C$1133,\"D-AIDC\")","v":0},{"$f":"SUMIF(Eingabe!$C$2:$C$1133,\"D-AIAG\",Eingabe!$L$2:$L$1133)","v":0},913,"495",58.37,192,17.39,60.3,"12499 / 41000",36378,"109185kg",253,"1992-11-02","229Mio.","A334"]
["D-AIDE","Airbus A330-200F","inter-wings","EDDL",120000,238000,176000,182000,7559,14000,{"$f":"COUNTIF(Eingabe!$C$2:$C$1133,\"D-AIDE\")","v":0},{"$f":"SUMIF(Eingabe!$C$2:$C$1133,\"D-AIAG\",Eingabe!$L$2:$L$1133)","v":0},913,"496",58.37,192,17.39,60.3,"12500 / 41000",36378,"109185kg",253,"1992-11-02","229Mio.","A335"]
["D-AIDF","Airbus A330-300 ","inter-wings","EDDL",120000,238000,176000,182000,7559,14000,{"$f":"COUNTIF(Eingabe!$C$2:$C$1133,\"D-AIDF\")","v":0},{"$f":"SUMIF(Eingabe!$C$2:$C$1133,\"D-AIKB\",Eingabe!$L$2:$L$1133)","v":0},913,"497",58.37,192,17.39,60.3,"12501 / 41000",36378,"109185kg",253,"1992-11-02","229Mio.","A336"]
["D-AIDG","Airbus A330-300 ","inter-wings","EDDL",120000,238000,176000,182000,7559,14000,{"$f":"COUNTIF(Eingabe!$C$2:$C$1133,\"D-AIDG\")","v":0},{"$f":"SUMIF(Eingabe!$C$2:$C$1133,\"D-AIKB\",Eingabe!$L$2:$L$1133)","v":0},913,"498",58.37,192,17.39,60.3,"12502 / 41000",36378,"109185kg",253,"1992-11-02","229Mio.","A337"]
["D-AIFA","Airbus A340-300","inter-wings",null,132200,275000,251000,259000,7019,13000,{"$f":"COUNTIF(Eingabe!$C$2:$C$1133,\"D-AIFA\")","v":0},{"$f":"SUMIF(Eingabe!$C$2:$C$1133,\"D-AIFA\",Eingabe!$L$2:$L$1133)","v":0},875,472,63.69,208.96,16.91,60.3,"12497 / 41000",43500,"110400kg",300,"1991-10-25","228 Mio.","A343"]
["D-AIFB","Airbus A340-300","inter-wings",null,132200,275000,251000,259000,7019,13000,{"$f":"COUNTIF(Eingabe!$C$2:$C$1133,\"D-AIFB\")","v":0},{"$f":"SUMIF(Eingabe!$C$2:$C$1133,\"D-AIKB\",Eingabe!$L$2:$L$1133)","v":0},875,472,63.69,208.96,16.91,60.3,"12498 / 41000",43500,"110400kg",300,"1991-10-25","229 Mio.","A343"]
["D-AIFC","Airbus A340-300","inter-wings",null,132200,275000,251000,259000,7019,13000,{"$f":"COUNTIF(Eingabe!$C$2:$C$1133,\"D-AIFC\")","v":0},{"$f":"SUMIF(Eingabe!$C$2:$C$1133,\"D-AIKB\",Eingabe!$L$2:$L$1133)","v":0},875,472,63.69,208.96,16.91,60.3,"12499 / 41000",43500,"110400kg",300,"1991-10-25","230 Mio.","A343"]
["D-AIFE","Airbus A340-300","inter-wings",null,132200,275000,251000,259000,7019,13000,{"$f":"COUNTIF(Eingabe!$C$2:$C$1133,\"D-AIFE\")","v":0},{"$f":"SUMIF(Eingabe!$C$2:$C$1133,\"D-AIKB\",Eingabe!$L$2:$L$1133)","v":0},875,472,63.69,208.96,16.91,60.3,"12500 / 41000",43500,"110400kg",300,"1991-10-25","231 Mio.","A343"]
["D-AIFF","Airbus A340-300","inter-wings",null,132200,275000,251000,259000,7019,13000,{"$f":"COUNTIF(Eingabe!$C$2:$C$1133,\"D-AIFF\")","v":0},{"$f":"SUMIF(Eingabe!$C$2:$C$1133,\"D-AIKB\",Eingabe!$L$2:$L$1133)","v":0},875,472,63.69,208.96,16.91,60.3,"12501 / 41000",43500,"110400kg",300,"1991-10-25","232 Mio.","A343"]
["D-AIFG","Airbus A340-300","inter-wings",null,132200,275000,251000,259000,7019,13000,{"$f":"COUNTIF(Eingabe!$C$2:$C$1133,\"D-AIFG\")","v":0},{"$f":"SUMIF(Eingabe!$C$2:$C$1133,\"D-AIKB\",Eingabe!$L$2:$L$1133)","v":0},875,472,63.69,208.96,16.91,60.3,"12502 / 41000",43500,"110400kg",300,"1991-10-25","233 Mio.","A343"]
["D-AIFH","Airbus A340-300","inter-wings",null,132200,275000,251000,259000,7019,13000,{"$f":"COUNTIF(Eingabe!$C$2:$C$1133,\"D-AIFH\")","v":0},{"$f":"SUMIF(Eingabe!$C$2:$C$1133,\"D-AIKB\",Eingabe!$L$2:$L$1133)","v":0},875,472,63.69,208.96,16.91,60.3,"12503 / 41000",43500,"110400kg",300,"1991-10-25","234 Mio.","A343"]
["D-AIFI","Airbus A340-300","inter-wings",null,132200,275000,251000,259000,7019,13000,{"$f":"COUNTIF(Eingabe!$C$2:$C$1133,\"D-AIFI\")","v":0},{"$f":"SUMIF(Eingabe!$C$2:$C$1133,\"D-AIKB\",Eingabe!$L$2:$L$1133)","v":0},875,472,63.69,208.96,16.91,60.3,"12504 / 41000",43500,"110400kg",300,"1991-10-25","235 Mio.","A343"]
["D-AIFM","Airbus A340-600","inter-wings",null,177000,380000,251000,256000,7883,14600,{"$f":"COUNTIF(Eingabe!$C$2:$C$1133,\"D-AIFM\")","v":2},{"$f":"SUMIF(Eingabe!$C$2:$C$1133,\"D-AIFM\",Eingabe!$L$2:$L$1133)","v":1697},913,493,75.63,247.24,"17,22 / 56,50",63.45,"12527m / 41100ft",55600,153483,400,"2001-04-23","330 Mio","A346"]
["D-AIFN","Airbus A340-600","inter-wings",null,177000,380000,251000,256000,7883,14600,{"$f":"COUNTIF(Eingabe!$C$2:$C$1133,\"D-AIFN\")","v":0},{"$f":"SUMIF(Eingabe!$C$2:$C$1133,\"D-AIKB\",Eingabe!$L$2:$L$1133)","v":0},913,493,75.63,247.24,"17,22 / 56,51",63.45,"12527m / 41100ft",55600,153483,400,"2001-04-23","331 Mio","A346"]
["D-AIFO","Airbus A340-600","inter-wings",null,177000,380000,251000,256000,7883,14600,{"$f":"COUNTIF(Eingabe!$C$2:$C$1133,\"D-AIFO\")","v":0},{"$f":"SUMIF(Eingabe!$C$2:$C$1133,\"D-AIKB\",Eingabe!$L$2:$L$1133)","v":0},913,493,75.63,247.24,"17,22 / 56,52",63.45,"12527m / 41100ft",55600,153483,400,"2001-04-23","332 Mio","A346"]
["D-AIFP","Airbus A340-600","inter-wings",null,177000,380000,251000,256000,7883,14600,{"$f":"COUNTIF(Eingabe!$C$2:$C$1133,\"D-AIFP\")","v":0},{"$f":"SUMIF(Eingabe!$C$2:$C$1133,\"D-AIKB\",Eingabe!$L$2:$L$1133)","v":0},913,493,75.63,247.24,"17,22 / 56,53",63.45,"12527m / 41100ft",55600,153483,400,"2001-04-23","333 Mio","A346"]
["D-AIFQ","Airbus A340-600","inter-wings",null,177000,380000,251000,256000,7883,14600,{"$f":"COUNTIF(Eingabe!$C$2:$C$1133,\"D-AIFQ\")","v":0},{"$f":"SUMIF(Eingabe!$C$2:$C$1133,\"D-AIKB\",Eingabe!$L$2:$L$1133)","v":0},913,493,75.63,247.24,"17,22 / 56,54",63.45,"12527m / 41100ft",55600,153483,400,"2001-04-23","334 Mio","A346"]
["D-AIFR","Airbus A340-600","inter-wings",null,177000,380000,251000,256000,7883,14600,{"$f":"COUNTIF(Eingabe!$C$2:$C$1133,\"D-AIFR\")","v":0},{"$f":"SUMIF(Eingabe!$C$2:$C$1133,\"D-AIKB\",Eingabe!$L$2:$L$1133)","v":0},913,493,75.63,247.24,"17,22 / 56,55",63.45,"12527m / 41100ft",55600,153483,400,"2001-04-23","335 Mio","A346"]
["D-AIFS","Airbus A340-600","inter-wings",null,177000,380000,251000,256000,7883,14600,{"$f":"COUNTIF(Eingabe!$C$2:$C$1133,\"D-AIFS\")","v":0},{"$f":"SUMIF(Eingabe!$C$2:$C$1133,\"D-AIKB\",Eingabe!$L$2:$L$1133)","v":0},913,493,75.63,247.24,"17,22 / 56,56",63.45,"12527m / 41100ft",55600,153483,400,"2001-04-23","336 Mio","A346"]
["D-AIFT","Airbus A340-600","inter-wings",null,177000,380000,251000,256000,7883,14600,{"$f":"COUNTIF(Eingabe!$C$2:$C$1133,\"D-AIFT\")","v":0},{"$f":"SUMIF(Eingabe!$C$2:$C$1133,\"D-AIKB\",Eingabe!$L$2:$L$1133)","v":0},913,493,75.63,247.24,"17,22 / 56,57",63.45,"12527m / 41100ft",55600,153483,400,"2001-04-23","337 Mio","A346"]
["D-AIKA","Airbus A350-900","inter-wings",null,115700,280000,195700,207000,8099,15000,{"$f":"COUNTIF(Eingabe!$C$2:$C$1133,\"D-AIKA\")","v":0},{"$f":"SUMIF(Eingabe!$C$2:$C$1133,\"D-AIKA\",Eingabe!$L$2:$L$1133)","v":0},960,518,66.8,216.8,"17,05 / 57,4",64.75,"13100m / 43000ft",52500,"113000kg",350,"2013-06-14","317 Mio.","A359"]
["D-AIKB","Airbus A350-900","inter-wings",null,115700,280000,195700,207000,8099,15000,{"$f":"COUNTIF(Eingabe!$C$2:$C$1133,\"D-AIKB\")","v":0},{"$f":"SUMIF(Eingabe!$C$2:$C$1133,\"D-AIKB\",Eingabe!$L$2:$L$1133)","v":0},960,518,66.8,216.8,"17,05 / 57,4",64.75,"13100m / 43000ft",52500,"113000kg",350,"2013-06-14","318 Mio.","A359"]
["D-AIKC","Airbus A350-900","inter-wings",null,115700,280000,195700,207000,8099,15000,{"$f":"COUNTIF(Eingabe!$C$2:$C$1133,\"D-AIKC\")","v":0},{"$f":"SUMIF(Eingabe!$C$2:$C$1133,\"D-AIKC\",Eingabe!$L$2:$L$1133)","v":0},960,518,66.8,216.8,"17,05 / 57,4",64.75,"13100m / 43000ft",52500,"113000kg",350,"2013-06-14","319 Mio.","A359"]
["D-AIKE","Airbus A350-900","inter-wings",null,115700,280000,195700,207000,8099,15000,{"$f":"COUNTIF(Eingabe!$C$2:$C$1133,\"D-AIKE\")","v":0},{"$f":"SUMIF(Eingabe!$C$2:$C$1133,\"D-AIKE\",Eingabe!$L$2:$L$1133)","v":0},960,518,66.8,216.8,"17,05 / 57,4",64.75,"13100m / 43000ft",52500,"113000kg",350,"2013-06-14","320 Mio.","A359"]
["D-AIKF","Airbus A350-900","inter-wings",null,115700,280000,195700,207000,8099,15000,{"$f":"COUNTIF(Eingabe!$C$2:$C$1133,\"D-AIKF\")","v":0},{"$f":"SUMIF(Eingabe!$C$2:$C$1133,\"D-AIKF\",Eingabe!$L$2:$L$1133)","v":0},960,518,66.8,216.8,"17,05 / 57,4",64.75,"13100m / 43000ft",52500,"113000kg",350,"2013-06-14","321 Mio.","A359"]
["D-AIKG","Airbus A350-900","inter-wings",null,115700,280000,195700,207000,8099,15000,{"$f":"COUNTIF(Eingabe!$C$2:$C$1133,\"D-AIKG\")","v":0},{"$f":"SUMIF(Eingabe!$C$2:$C$1133,\"D-AIKG\",Eingabe!$L$2:$L$1133)","v":0},960,518,66.8,216.8,"17,05 / 57,4",64.75,"13100m / 43000ft",52500,"113000kg",350,"2013-06-14","322 Mio.","A359"]
["D-AIKH","Airbus A350-900","inter-wings",null,115700,280000,195700,207000,8099,15000,{"$f":"COUNTIF(Eingabe!$C$2:$C$1133,\"D-AIKH\")","v":0},{"$f":"SUMIF(Eingabe!$C$2:$C$1133,\"D-AIKH\",Eingabe!$L$2:$L$1133)","v":0},960,518,66.8,216.8,"17,05 / 57,4",64.75,"13100m / 43000ft",52500,"113000kg",350,"2013-06-14","323 Mio.","A359"]
["D-AIKI","Airbus A350-900","inter-wings",null,115700,280000,195700,207000,8099,15000,{"$f":"COUNTIF(Eingabe!$C$2:$C$1133,\"D-AIKI\")","v":0},{"$f":"SUMIF(Eingabe!$C$2:$C$1133,\"D-AIKI\",Eingabe!$L$2:$L$1133)","v":0},960,518,66.8,216.8,"17,05 / 57,4",64.75,"13100m / 43000ft",52500,"113000kg",350,"2013-06-14","324 Mio.","A359"]
["D-AIKM","Airbus A350-1000","inter-wings",null,156000,316000,223000,236000,8400,15557,{"$f":"COUNTIF(Eingabe!$C$2:$C$1133,\"D-AIKM\")","v":0},{"$f":"SUMIF(Eingabe!$C$2:$C$1133,\"D-AIKM\",Eingabe!$L$2:$L$1133)","v":0},960,518,73.8,242.1,"17,08 / 56,03",64.75,"13100m / 43000ft",52500,"125000kg",429,"2016-11-24","366 Mio","A35K"]
["D-AIKN","Airbus A350-1000","inter-wings",null,156000,316000,223000,236000,8400,15557,{"$f":"COUNTIF(Eingabe!$C$2:$C$1133,\"D-AIKN\")","v":0},{"$f":"SUMIF(Eingabe!$C$2:$C$1133,\"D-AIKN\",Eingabe!$L$2:$L$1133)","v":0},960,518,73.8,242.1,"17,08 / 56,03",64.75,"13100m / 43000ft",52500,"125000kg",429,"2016-11-24","367 Mio","A35K"]
["D-AIKO","Airbus A350-1000","inter-wings",null,156000,316000,223000,236000,8400,15557,{"$f":"COUNTIF(Eingabe!$C$2:$C$1133,\"D-AIKO\")","v":0},{"$f":"SUMIF(Eingabe!$C$2:$C$1133,\"D-AIKO\",Eingabe!$L$2:$L$1133)","v":0},960,518,73.8,242.1,"17,08 / 56,03",64.75,"13100m / 43000ft",52500,"125000kg",429,"2016-11-24","368 Mio","A35K"]
["D-AIKP","Airbus A350-1000","inter-wings",null,156000,316000,223000,236000,8400,15557,{"$f":"COUNTIF(Eingabe!$C$2:$C$1133,\"D-AIKP\")","v":0},{"$f":"SUMIF(Eingabe!$C$2:$C$1133,\"D-AIKP\",Eingabe!$L$2:$L$1133)","v":0},960,518,73.8,242.1,"17,08 / 56,03",64.75,"13100m / 43000ft",52500,"125000kg",429,"2016-11-24","369 Mio","A35K"]
["D-AIKQ","Airbus A350-1000","inter-wings",null,156000,316000,223000,236000,8400,15557,{"$f":"COUNTIF(Eingabe!$C$2:$C$1133,\"D-AIKQ\")","v":0},{"$f":"SUMIF(Eingabe!$C$2:$C$1133,\"D-AIKQ\",Eingabe!$L$2:$L$1133)","v":0},960,518,73.8,242.1,"17,08 / 56,03",64.75,"13100m / 43000ft",52500,"125000kg",429,"2016-11-24","370 Mio","A35K"]
["D-AIKR","Airbus A350-1000","inter-wings",null,156000,316000,223000,236000,8400,15557,{"$f":"COUNTIF(Eingabe!$C$2:$C$1133,\"D-AIKR\")","v":0},{"$f":"SUMIF(Eingabe!$C$2:$C$1133,\"D-AIKR\",Eingabe!$L$2:$L$1133)","v":0},960,518,73.8,242.1,"17,08 / 56,03",64.75,"13100m / 43000ft",52500,"125000kg",429,"2016-11-24","371 Mio","A35K"]
["D-AIKS","Airbus A350-1000","inter-wings",null,156000,316000,223000,236000,8400,15557,{"$f":"COUNTIF(Eingabe!$C$2:$C$1133,\"D-AIKS\")","v":0},{"$f":"SUMIF(Eingabe!$C$2:$C$1133,\"D-AIKS\",Eingabe!$L$2:$L$1133)","v":0},960,518,73.8,242.1,"17,08 / 56,03",64.75,"13100m / 43000ft",52500,"125000kg",429,"2016-11-24","372 Mio","A35K"]
["D-AIKT","Airbus A350-1000","inter-wings",null,156000,316000,223000,236000,8400,15557,{"$f":"COUNTIF(Eingabe!$C$2:$C$1133,\"D-AIKT\")","v":0},{"$f":"SUMIF(Eingabe!$C$2:$C$1133,\"D-AIKT\",Eingabe!$L$2:$L$1133)","v":0},960,518,73.8,242.1,"17,08 / 56,03",64.75,"13100m / 43000ft",52500,"125000kg",429,"2016-11-24","373 Mio","A35K"]
["D-AILA","Airbus A380","inter-wings",null,300000,575000,369000,394000,8207,15200,{"$f":"COUNTIF(Eingabe!$C$2:$C$1133,\"D-AILA\")","v":0},{"$f":"SUMIF(Eingabe!$C$2:$C$1133,\"D-AILA\",Eingabe!$L$2:$L$1133)","v":0},940,508,73.010000000000005,240,"24,10 / 79,06",79.8,"13100m / 43000ft",66400,254760,853,"2005-04-27","445 Mio","A388"]
["D-ABAA","Boeing B737-8","inter-wings",null,41500,79016,62732,66360,3115,5765,{"$f":"COUNTIF(Eingabe!$C$2:$C$1133,\"D-ABAA\")","v":0},{"$f":"SUMIF(Eingabe!$C$2:$C$1133,\"D-ABAA\",Eingabe!$L$2:$L$1133)","v":0},850,459,39.5,129.5,12.6,35.79,"12497m  / 41000ft",21300,"62732 kg",189,"1997-07-31","106 Mio.","B738"]
["D-ABAB","Boeing B737-8","inter-wings",null,41500,79016,62732,66360,3115,5765,{"$f":"COUNTIF(Eingabe!$C$2:$C$1133,\"D-ABAB\")","v":0},{"$f":"SUMIF(Eingabe!$C$2:$C$1133,\"D-ABAB\",Eingabe!$L$2:$L$1133)","v":0},850,459,39.5,129.5,12.6,35.79,"12497m  / 41000ft",21300,"62733 kg",189,"1997-07-31","106 Mio.","B738"]
["D-ABAC","Boeing B737-8","inter-wings",null,41500,79016,62732,66360,3115,5765,{"$f":"COUNTIF(Eingabe!$C$2:$C$1133,\"D-ABAC\")","v":0},{"$f":"SUMIF(Eingabe!$C$2:$C$1133,\"D-ABAC\",Eingabe!$L$2:$L$1133)","v":0},850,459,39.5,129.5,12.6,35.79,"12497m  / 41000ft",21300,"62734 kg",189,"1997-07-31","106 Mio.","B738"]
["D-ABAE","Boeing B737-8","inter-wings",null,41500,79016,62732,66360,3115,5765,{"$f":"COUNTIF(Eingabe!$C$2:$C$1133,\"D-ABAE\")","v":0},{"$f":"SUMIF(Eingabe!$C$2:$C$1133,\"D-ABAE\",Eingabe!$L$2:$L$1133)","v":0},850,459,39.5,129.5,12.6,35.79,"12497m  / 41000ft",21300,"62735 kg",189,"1997-07-31","106 Mio.","B738"]
["D-ABCA","Boeing B747-400","inter-wings",null,180983,396893,256280,285763,7262,13450,{"$f":"COUNTIF(Eingabe!$C$2:$C$1133,\"D-ABCA\")","v":0},{"$f":"SUMIF(Eingabe!$C$2:$C$1133,\"D-ABCA\",Eingabe!$L$2:$L$1133)","v":0},982,530,70.599999999999994,231.6,19.399999999999999,64.44,"13746m  /45100ft",113000,170227,660,"1988-04-29","234Mio.","B747"]
["D-ABCB","Boeing B747-400","inter-wings",null,180983,396893,256280,285763,7262,13450,{"$f":"COUNTIF(Eingabe!$C$2:$C$1133,\"D-ABCB\")","v":0},{"$f":"SUMIF(Eingabe!$C$2:$C$1133,\"D-ABCB\",Eingabe!$L$2:$L$1133)","v":0},982,530,70.599999999999994,231.6,19.399999999999999,64.44,"13746m  /45100ft",113000,170227,660,"1988-04-29","234Mio.","B747"]
["D-ABCC","Boeing B747-8","inter-wings",null,213188,447696,295000,312072,7999,14815,{"$f":"COUNTIF(Eingabe!$C$2:$C$1133,\"D-ABAE\")","v":0},{"$f":"SUMIF(Eingabe!$C$2:$C$1133,\"D-ABAE\",Eingabe!$L$2:$L$1133)","v":0},920,497,76.3,250.3,19.399999999999999,68.400000000000006,"13137m / 43100ft",135000,181400,605,"2011-03-20","400Mio.","B748"]
["D-ABCE","Boeing B747-8","inter-wings",null,213188,447696,295000,312072,7999,14815,{"$f":"COUNTIF(Eingabe!$C$2:$C$1133,\"D-ABAE\")","v":0},{"$f":"SUMIF(Eingabe!$C$2:$C$1133,\"D-ABAE\",Eingabe!$L$2:$L$1133)","v":0},920,497,76.3,250.3,19.399999999999999,68.400000000000006,"13137m / 43100ft",135000,181400,605,"2011-03-20","400Mio.","B748"]
["D-ABCF","Boeing B747-8F","inter-wings",null,213188,447700,346090,346091,4390,8130,{"$f":"COUNTIF(Eingabe!$C$2:$C$1133,\"D-ABAE\")","v":0},{"$f":"SUMIF(Eingabe!$C$2:$C$1133,\"D-ABAE\",Eingabe!$L$2:$L$1133)","v":0},901,487,76.3,250.3,19.399999999999999,68.5,"13137m / 43100ft",134000,181400,0,"2010-02-08","419Mio.","B748"]
["D-ABEA","Boeing B777-200","inter-wings",null,null,null,null,null,null,null,null,null,null,null,63.7,null,null,60.9]
["D-ABEC","Boeing B777-300","inter-wings",null,null,null,null,null,null,null,null,null,null,null,73.900000000000006,null,null,60.9]
["D-ABEF","Boeing B777-300F","inter-wings",null,null,null,null,null,null,null,null,null,null,null,73.900000000000006,null,null,60.9]